{"text_format":"1","workbook":"xlsx","n_sheets":3,"sheets":["Hoja1","REGISTRO_PQRS","Control de cambios "],"not_rendered":{"charts":0,"images":1,"macros":1,"external_links":5,"defined_names":19,"comments":1,"pivot_tables":0},"unopened":[],"bounds":{"document_bytes":16777216,"sheet_cells":100000,"rows_first":2000,"rows_last":500,"rows_between":2000,"halvings":0,"cell_chars":16384,"cell_head_chars":4096},"cells_cut":0,"cells_raw":0,"read":"whole","date_system":"1900"}

{"sheet":"Hoja1","index":0,"n_rows":119,"n_cols":6,"rows_kept":119,"cut":false,"hidden":true,"merged":[]}
[]
["TIPO DE ENTIDAD O USUARIO",null,null,null,null,"DÍAS NO  LABORABLES "]
["CIUDADANO",null,null,null,null,"2022-01-01"]
["ACADEMIA ",null,null,null,null,"2022-01-02"]
["EMPRESA PRIVADA",null,null,null,null,"2022-01-08"]
["ENTIDAD PÚBLICA",null,null,null,null,"2022-01-09"]
["EXTRANJERO",null,null,null,null,"2022-01-10"]
["FUNCIONARIO IDEAM",null,null,null,null,"2022-01-15"]
["ONG/ORG",null,null,null,null,"2022-01-16"]
[null,null,null,null,null,"2022-01-22"]
["GÉNERO",null,null,null,null,"2022-01-23"]
["FEMENINO",null,null,null,null,"2022-01-29"]
["MASCULINO",null,null,null,null,"2022-01-30"]
["PERSONA JURÍDICA",null,null,null,null,"2022-02-05"]
[null,null,null,null,null,"2022-02-06"]
["DEPENDENCIA QUE DA RESPUESTA O LA QUE SE DIRECCIONA",null,null,null,null,"2022-02-12"]
["AREA OPERATIVA No. 1",null,null,null,null,"2022-02-13"]
["AREA OPERATIVA No. 2",null,null,null,null,"2022-02-19"]
["AREA OPERATIVA No. 3",null,null,null,null,"2022-01-20"]
["AREA OPERATIVA No. 4",null,null,null,null,"2022-02-26"]
["AREA OPERATIVA No. 5",null,null,null,null,"2022-02-27"]
["AREA OPERATIVA No. 6",null,null,null,null,"2022-03-05"]
["AREA OPERATIVA No. 7",null,null,null,null,"2022-03-06"]
["AREA OPERATIVA No. 8",null,null,null,null,"2022-03-12"]
["AREA OPERATIVA No. 9",null,null,null,null,"2022-03-13"]
["AREA OPERATIVA No. 10",null,null,null,null,"2022-03-19"]
["AREA OPERATIVA No. 11",null,null,null,null,"2022-03-20"]
["DIRECCIÓN GENERAL",null,null,null,null,"2022-03-21"]
["GRUPO DE ADMINISTRACIÓN Y DESARROLLO DEL TALENTO HUMANO",null,null,null,null,"2022-03-26"]
["GRUPO DE COMUNICACIONES",null,null,null,null,"2022-03-27"]
["GRUPO DE CONTABILIDAD",null,null,null,null,"2022-04-02"]
["GRUPO DE CONTROL DISCIPLINARIO INTERNO",null,null,null,null,"2022-04-09"]
["GRUPO DE GESTIÓN DOCUMENTAL Y CENTRO DE DOCUMENTACIÓN",null,null,null,null,"2022-04-10"]
["GRUPO DE PRESUPUESTO",null,null,null,null,"2022-04-14"]
["GRUPO DE SERVICIO AL CIUDADANO",null,null,null,null,"2022-04-15"]
["GRUPO DE SERVICIOS ADMINISTRATIVOS",null,null,null,null,"2022-04-16"]
["GRUPO DE TESORERÍA",null,null,null,null,"2022-04-17"]
["OFICINA ASESORA DE PLANEACIÓN",null,null,null,null,"2022-04-23"]
["OFICINA ASESORA JURÍDICA",null,null,null,null,"2022-04-24"]
["OFICINA DE CONTROL INTERNO",null,null,null,null,"2022-04-30"]
["OFICINA DE INFORMÁTICA",null,null,null,null,"2022-05-01"]
["OFICINA DEL SERVICIO DE PRONÓSTICOS Y ALERTAS",null,null,null,null,"2021-05-01"]
["SECRETARÍA GENERAL",null,null,null,null,"2022-05-07"]
["SUBDIRECCIÓN DE ECOSISTEMAS E INFORMACIÓN AMBIENTAL",null,null,null,null,"2022-05-08"]
["SUBDIRECCIÓN DE ESTUDIOS AMBIENTALES",null,null,null,null,"2022-05-14"]
["SUBDIRECCIÓN DE HIDROLOGÍA",null,null,null,null,"2022-05-15"]
["SUBDIRECCIÓN DE METEOROLOGÍA",null,null,null,null,"2022-05-21"]
[null,null,null,null,null,"2022-05-22"]
["TIPO DE REQUERIMIENTO","Término ","Prorroga",null,null,"2022-05-28"]
["AGRADECIMIENTO/FELICITACION",15,15,null,null,"2022-05-29"]
["CERTIFICACIONES DE TIEMPO, CLIMA Y EVENTOS HIDROLÓGICOS",30,30,null,null,"2022-05-30"]
["CONSULTA",30,30,null,null,"2022-06-04"]
["DENUNCIA",15,15,null,null,"2022-06-05"]
["PETICIÓN",15,15,null,null,"2022-06-11"]
["PETICIÓN ENTRE AUTORIDADES",10,10,null,null,"2022-06-12"]
["PETICION VERBAL",15,15,null,null,"2022-06-18"]
["QUEJA",15,15,null,null,"2022-06-19"]
["RECLAMO",15,15,null,null,"2022-06-20"]
["REMISIÓN POR COMPETENCIA",5,null,null,null,"2022-06-25"]
["SOLICITUD CONGRESITAS",5,5,null,null,"2022-06-26"]
["SOLICITUD DE INFORMACIÓN Y DOCUMENTOS",10,10,null,null,"2022-06-27"]
["SOLICITUD JUDICIAL",5,5,null,null,"2022-07-02"]
["SUGERENCIA",15,15,null,null,"2022-07-03"]
[null,null,null,null,null,"2022-07-09"]
["PRODUCTO O SERVICIO",null,null,null,null,"2022-07-10"]
["ACREDITACIÓN DE LABORATORIOS",null,null,null,null,"2022-07-16"]
["ADMINISTRATIVA",null,null,null,null,"2022-07-17"]
["AGUAS SUBTERRANEAS",null,null,null,null,"2022-07-20"]
["ASESORÍAS Y CHARLAS",null,null,null,null,"2022-07-23"]
["BOSQUES",null,null,null,null,"2022-07-24"]
["CAMBIO CLIMÁTICO",null,null,null,null,"2022-07-30"]
["CERTIFICACIONES DE TIEMPO Y CLIMA",null,null,null,null,"2022-07-31"]
["CERTIFICACIONES HIDROLOGICAS",null,null,null,null,"2022-08-06"]
["CLIMATOLOGÍA",null,null,null,null,"2022-08-07"]
["ERA","EVALUACIÓN REGIONAL DEL AGUA",null,null,null,"2022-08-13"]
["ESTUDIO NACIONAL DEL AGUA",null,null,null,null,"2024-08-14"]
["INFORMES AMBIENTALES",null,null,null,null,"2022-08-15"]
["JURIDICO",null,null,null,null,"2022-08-20"]
["LABORATORIO DE CALIDAD AMBIENTAL",null,null,null,null,"2022-08-21"]
["MEDIOS DE COMUNICACIÓN",null,null,null,null,"2022-08-27"]
["METEOROLOGÍA AERONAÚTICA",null,null,null,null,"2022-08-28"]
["MODELACIÓN HIDROLÓGICA",null,null,null,null,"2022-09-03"]
["MODELAMIENTO METEOROLÓGICO",null,null,null,null,"2022-09-04"]
["OPERACIÓN DE REDES",null,null,null,null,"2022-09-10"]
["PRONÓSTICOS Y ALERTAS",null,null,null,null,"2022-09-11"]
["REGISTROS AMBIENTALES",null,null,null,null,"2022-09-17"]
["SEDIMENTOS",null,null,null,null,"2022-09-18"]
["SIA","SISTEMA DE INFORMACIÓN AMBIENTAL",null,null,null,"2022-09-24"]
["SIRH","SISTEMA DE INFORMACIÓN DEL RECURDO HÍDRICO",null,null,null,"2022-09-25"]
["SOLICITUD DE INFORMACIÓN HIDROMETEOROLÓGICA",null,null,null,null,"2022-10-01"]
["SUELOS Y TIERRAS",null,null,null,null,"2022-10-02"]
["VISITAS ACADÉMICAS",null,null,null,null,"2022-10-08"]
["WEB Y CORREO",null,null,null,null,"2022-10-09"]
["ZONIFICACIÓN HIDROGRÁFICA",null,null,null,null,"2022-10-15"]
[null,null,null,null,null,"2022-10-16"]
["MEDIO DE RECEPCIÓN",null,null,null,null,"2022-10-17"]
["ATENCIÓN PRESENCIAL",null,null,null,null,"2022-10-22"]
["ATENCIÓN TELEFÓNICA",null,null,null,null,"2022-10-23"]
["BUZÓN DE SUGERENCIAS",null,null,null,null,"2022-10-29"]
["CHAT",null,null,null,null,"2022-10-30"]
["CORREO CERTIFICADO",null,null,null,null,"2022-11-05"]
["CORREO ELECTRÓNICO",null,null,null,null,"2022-11-06"]
["FAX",null,null,null,null,"2022-11-07"]
["INTERNO",null,null,null,null,"2022-11-12"]
["MODULO CONTACTENOS",null,null,null,null,"2022-11-13"]
["WEB (MÓDULO DE SOLICITUD DE INFORMACIÓN HIDROMETEOROLÓGICA)",null,null,null,null,"2022-11-14"]
[null,null,null,null,null,"2022-11-19"]
["¿REQUERIMIENTO FUE ESCALADO?",null,null,null,null,"2022-11-20"]
["SI",null,null,null,null,"2022-11-26"]
["NO",null,null,null,null,"2022-11-27"]
[null,null,null,null,null,"2022-12-03"]
["CANAL POR EL CUAL FUE RESUELTO EL REQUERIMIENTO",null,null,null,null,"2022-12-04"]
["CORREO ELECTRÓNICO",null,null,null,null,"2022-12-08"]
["CORREO CERTIFICADO",null,null,null,null,"2022-12-10"]
[null,null,null,null,null,"2022-12-11"]
[null,null,null,null,null,"2022-12-17"]
[null,null,null,null,null,"2022-12-24"]
[null,null,null,null,null,"2022-12-25"]
[null,null,null,null,null,"2022-12-31"]

{"sheet":"REGISTRO_PQRS","index":1,"n_rows":5680,"n_cols":31,"rows_kept":2250,"cut":true,"hidden":false,"merged":[[8,17,8,26],[8,10,8,12],[8,13,8,16],[4,1,4,3],[4,4,4,7],[6,1,6,3],[6,4,6,7],[8,0,8,2],[8,3,8,9],[0,0,2,2],[0,3,2,24],[0,25,0,26],[1,25,1,26],[2,25,2,26]],"bounds":{"rows_first":1000,"rows_last":250,"rows_between":1000,"halvings":1}}
[null,null,null,"Proceso: Gestión del Servicio al Ciudadano\n\nSeguimiento y control PQRSDF",null,null,null,null,null,null,null,null,null,null,null,null,null,null,null,null,null,null,null,null,null,"Código: GSC-F012"]
[null,null,null,null,null,null,null,null,null,null,null,null,null,null,null,null,null,null,null,null,null,null,null,null,null,"Versión: 04"]
[null,null,null,null,null,null,null,null,null,null,null,null,null,null,null,null,null,null,null,null,null,null,null,null,null,"Fecha: 12/09/2024"]
[null,null,null,null,null,null,null,null,null,null,null,null,null,null,null,null,null,null,null,"2024-09-11"]
[null,"Dependencia:"]
[]
[null,"Período de Reporte"]
[]
["DATOS DEL REQUERIMIENTO",null,null,"DATOS DE CONTACTO USUARIO",null,null,null,null,null,null,"POSTURA DE REQUERIMIENTO",null,null,"RESOLUCION DEL REQUERIMIENTO",null,null,null,"ANÁLISIS DE RESPUESTAS"]
["No.","No.  DE REQUERIMIENTO","FECHA DE REQUERIMIENTO\n(dd/mm/aaaa)","DOCUMENTO DE IDENTIFICACIÓN","NOMBRE Y APELLIDO","NOMBRE DE LA ENTIDAD QUE REPRESENTA","TIPO DE ENTIDAD O USUARIO","DIRECCIÓN O CORREO ELECTRÓNICO","NÚMERO TELEFÓNICO DE CONTACTO","GÉNERO","MEDIO RECEPCIÓN","TIPO DE REQUERIMIENTO","PRODUCTO O SERVICIO AL CUAL SE REFIERE EL REQUERIMIENTO","¿ EL REQUERIMIENTO FUE ESCALADO?","DEPENDENCIA QUE DA RESPUESTA O A LA QUE SE DIRECCIONA","FECHA DE RESOLUCIÓN DEL REQUERIMIENTO\n(dd/mm/aaaa)","CANAL POR EL CUAL FUE RESUELTO EL REQUERIMIENTO","FECHA OPORTUNA DE RESPUESTA","PRORROGA","FECHA INICIO DE PRORROGA","FECHA RESOLUCIÓN PRORROGA","FECHA RESPUESTA DE PRORROGA","ESTADO DE RESPUESTA DE LA PRORROGA","OBSERVACIONES","ESTADO (A TIEMPO, FUERA DE TIEMPO, SIN RESPUESTA)","TIEMPO QUE TARDÓ EN  DAR RESPUESTA","DÍAS VENCIDOS CON RESPECTO A FECHA OPORTUNA DE RESPUESTA"]
[{"$f":"IF(B11<>\"\",1,\"\")","v":""},null,null,null,null,null,null,null,null,null,null,null,null,null,null,null,null,null,null,null,null,{"$f":"IFERROR(WORKDAY(T11,AE11,Hoja1!F3:F119),\"\")","v":""},{"$f":"+IF(T11=\"\",\"\",IF(U11=\"\",\"SIN RESPUESTA\",(IF(U11<=V11,\"A TIEMPO\",\"FUERA DE TIEMPO\"))))","v":""},null,{"$f":"+IF(C11=\"\",\"\",IF(P11=\"\",\"SIN RESPUESTA\",(IF(P11<=R11,\"A TIEMPO\",\"FUERA DE TIEMPO\"))))","v":""},{"$f":"IF(P11=\"\",\"\",NETWORKDAYS(C11+1,P11,Hoja1!F3:F119))","v":""},{"$f":"IFERROR(IF(NETWORKDAYS(R11+1,P11,Hoja1!F3:F119)<=0,\"\",NETWORKDAYS(R11+1,P11,Hoja1!F3:F119)),0)","v":""},null,null,{"$f":"IFERROR(VLOOKUP(L11,Hoja1!$A$50:$C$63,2),\"\")","v":""},{"$f":"IFERROR(VLOOKUP(L11,Hoja1!$A$50:$C$63,3),\"\")","v":""}]
[{"$f":"IF(B12<>\"\",A11+1,\"\")","v":""},null,null,null,null,null,null,null,null,null,null,null,null,null,null,null,null,null,null,null,null,{"$f":"IFERROR(WORKDAY(T12,AE12,Hoja1!F4:F120),\"\")","v":""},{"$f":"+IF(T12=\"\",\"\",IF(U12=\"\",\"SIN RESPUESTA\",(IF(U12<=V12,\"A TIEMPO\",\"FUERA DE TIEMPO\"))))","v":""},null,"",{"$f":"IF(P12=\"\",\"\",NETWORKDAYS(C12+1,P12,Hoja1!F4:F120))","v":""},{"$f":"IFERROR(IF(NETWORKDAYS(R12+1,P12,Hoja1!F4:F120)<=0,\"\",NETWORKDAYS(R12+1,P12,Hoja1!F4:F120)),0)","v":""},null,null,{"$f":"IFERROR(VLOOKUP(L12,Hoja1!$A$50:$C$63,2),\"\")","v":""},{"$f":"IFERROR(VLOOKUP(L12,Hoja1!$A$50:$C$63,3),\"\")","v":""}]
[{"$f":"IF(B13<>\"\",A12+1,\"\")","v":""},null,null,null,null,null,null,null,null,null,null,null,null,null,null,null,null,null,null,null,null,{"$f":"IFERROR(WORKDAY(T13,AE13,Hoja1!F5:F121),\"\")","v":""},"",null,"",{"$f":"IF(P13=\"\",\"\",NETWORKDAYS(C13+1,P13,Hoja1!F5:F121))","v":""},{"$f":"IFERROR(IF(NETWORKDAYS(R13+1,P13,Hoja1!F5:F121)<=0,\"\",NETWORKDAYS(R13+1,P13,Hoja1!F5:F121)),0)","v":""},null,null,{"$f":"IFERROR(VLOOKUP(L13,Hoja1!$A$50:$C$63,2),\"\")","v":""},{"$f":"IFERROR(VLOOKUP(L13,Hoja1!$A$50:$C$63,3),\"\")","v":""}]
["",null,null,null,null,null,null,null,null,null,null,null,null,null,null,null,null,null,null,null,null,{"$f":"IFERROR(WORKDAY(T14,AE14,Hoja1!F6:F122),\"\")","v":""},"",null,"",{"$f":"IF(P14=\"\",\"\",NETWORKDAYS(C14+1,P14,Hoja1!F6:F122))","v":""},{"$f":"IFERROR(IF(NETWORKDAYS(R14+1,P14,Hoja1!F6:F122)<=0,\"\",NETWORKDAYS(R14+1,P14,Hoja1!F6:F122)),0)","v":""},null,null,{"$f":"IFERROR(VLOOKUP(L14,Hoja1!$A$50:$C$63,2),\"\")","v":""},{"$f":"IFERROR(VLOOKUP(L14,Hoja1!$A$50:$C$63,3),\"\")","v":""}]
["",null,null,null,null,null,null,null,null,null,null,null,null,null,null,null,null,null,null,null,null,{"$f":"IFERROR(WORKDAY(T15,AE15,Hoja1!F7:F123),\"\")","v":""},"",null,"",{"$f":"IF(P15=\"\",\"\",NETWORKDAYS(C15+1,P15,Hoja1!F7:F123))","v":""},{"$f":"IFERROR(IF(NETWORKDAYS(R15+1,P15,Hoja1!F7:F123)<=0,\"\",NETWORKDAYS(R15+1,P15,Hoja1!F7:F123)),0)","v":""},null,null,{"$f":"IFERROR(VLOOKUP(L15,Hoja1!$A$50:$C$63,2),\"\")","v":""},{"$f":"IFERROR(VLOOKUP(L15,Hoja1!$A$50:$C$63,3),\"\")","v":""}]
["",null,null,null,null,null,null,null,null,null,null,null,null,null,null,null,null,null,null,null,null,{"$f":"IFERROR(WORKDAY(T16,AE16,Hoja1!F8:F124),\"\")","v":""},"",null,"",{"$f":"IF(P16=\"\",\"\",NETWORKDAYS(C16+1,P16,Hoja1!F8:F124))","v":""},{"$f":"IFERROR(IF(NETWORKDAYS(R16+1,P16,Hoja1!F8:F124)<=0,\"\",NETWORKDAYS(R16+1,P16,Hoja1!F8:F124)),0)","v":""},null,null,{"$f":"IFERROR(VLOOKUP(L16,Hoja1!$A$50:$C$63,2),\"\")","v":""},{"$f":"IFERROR(VLOOKUP(L16,Hoja1!$A$50:$C$63,3),\"\")","v":""}]
["",null,null,null,null,null,null,null,null,null,null,null,null,null,null,null,null,null,null,null,null,{"$f":"IFERROR(WORKDAY(T17,AE17,Hoja1!F9:F125),\"\")","v":""},"",null,"",{"$f":"IF(P17=\"\",\"\",NETWORKDAYS(C17+1,P17,Hoja1!F9:F125))","v":""},{"$f":"IFERROR(IF(NETWORKDAYS(R17+1,P17,Hoja1!F9:F125)<=0,\"\",NETWORKDAYS(R17+1,P17,Hoja1!F9:F125)),0)","v":""},null,null,{"$f":"IFERROR(VLOOKUP(L17,Hoja1!$A$50:$C$63,2),\"\")","v":""},{"$f":"IFERROR(VLOOKUP(L17,Hoja1!$A$50:$C$63,3),\"\")","v":""}]
["",null,null,null,null,null,null,null,null,null,null,null,null,null,null,null,null,null,null,null,null,{"$f":"IFERROR(WORKDAY(T18,AE18,Hoja1!F10:F126),\"\")","v":""},"",null,"",{"$f":"IF(P18=\"\",\"\",NETWORKDAYS(C18+1,P18,Hoja1!F10:F126))","v":""},{"$f":"IFERROR(IF(NETWORKDAYS(R18+1,P18,Hoja1!F10:F126)<=0,\"\",NETWORKDAYS(R18+1,P18,Hoja1!F10:F126)),0)","v":""},null,null,{"$f":"IFERROR(VLOOKUP(L18,Hoja1!$A$50:$C$63,2),\"\")","v":""},{"$f":"IFERROR(VLOOKUP(L18,Hoja1!$A$50:$C$63,3),\"\")","v":""}]
["",null,null,null,null,null,null,null,null,null,null,null,null,null,null,null,null,null,null,null,null,{"$f":"IFERROR(WORKDAY(T19,AE19,Hoja1!F11:F127),\"\")","v":""},"",null,"",{"$f":"IF(P19=\"\",\"\",NETWORKDAYS(C19+1,P19,Hoja1!F11:F127))","v":""},{"$f":"IFERROR(IF(NETWORKDAYS(R19+1,P19,Hoja1!F11:F127)<=0,\"\",NETWORKDAYS(R19+1,P19,Hoja1!F11:F127)),0)","v":""},null,null,{"$f":"IFERROR(VLOOKUP(L19,Hoja1!$A$50:$C$63,2),\"\")","v":""},{"$f":"IFERROR(VLOOKUP(L19,Hoja1!$A$50:$C$63,3),\"\")","v":""}]
["",null,null,null,null,null,null,null,null,null,null,null,null,null,null,null,null,null,null,null,null,{"$f":"IFERROR(WORKDAY(T20,AE20,Hoja1!F12:F128),\"\")","v":""},"",null,"",{"$f":"IF(P20=\"\",\"\",NETWORKDAYS(C20+1,P20,Hoja1!F12:F128))","v":""},{"$f":"IFERROR(IF(NETWORKDAYS(R20+1,P20,Hoja1!F12:F128)<=0,\"\",NETWORKDAYS(R20+1,P20,Hoja1!F12:F128)),0)","v":""},null,null,{"$f":"IFERROR(VLOOKUP(L20,Hoja1!$A$50:$C$63,2),\"\")","v":""},{"$f":"IFERROR(VLOOKUP(L20,Hoja1!$A$50:$C$63,3),\"\")","v":""}]
["",null,null,null,null,null,null,null,null,null,null,null,null,null,null,null,null,null,null,null,null,{"$f":"IFERROR(WORKDAY(T21,AE21,Hoja1!F13:F129),\"\")","v":""},"",null,"",{"$f":"IF(P21=\"\",\"\",NETWORKDAYS(C21+1,P21,Hoja1!F13:F129))","v":""},{"$f":"IFERROR(IF(NETWORKDAYS(R21+1,P21,Hoja1!F13:F129)<=0,\"\",NETWORKDAYS(R21+1,P21,Hoja1!F13:F129)),0)","v":""},null,null,{"$f":"IFERROR(VLOOKUP(L21,Hoja1!$A$50:$C$63,2),\"\")","v":""},{"$f":"IFERROR(VLOOKUP(L21,Hoja1!$A$50:$C$63,3),\"\")","v":""}]
["",null,null,null,null,null,null,null,null,null,null,null,null,null,null,null,null,null,null,null,null,{"$f":"IFERROR(WORKDAY(T22,AE22,Hoja1!F14:F130),\"\")","v":""},"",null,"",{"$f":"IF(P22=\"\",\"\",NETWORKDAYS(C22+1,P22,Hoja1!F14:F130))","v":""},{"$f":"IFERROR(IF(NETWORKDAYS(R22+1,P22,Hoja1!F14:F130)<=0,\"\",NETWORKDAYS(R22+1,P22,Hoja1!F14:F130)),0)","v":""},null,null,{"$f":"IFERROR(VLOOKUP(L22,Hoja1!$A$50:$C$63,2),\"\")","v":""},{"$f":"IFERROR(VLOOKUP(L22,Hoja1!$A$50:$C$63,3),\"\")","v":""}]
["",null,null,null,null,null,null,null,null,null,null,null,null,null,null,null,null,null,null,null,null,{"$f":"IFERROR(WORKDAY(T23,AE23,Hoja1!F15:F131),\"\")","v":""},"",null,"",{"$f":"IF(P23=\"\",\"\",NETWORKDAYS(C23+1,P23,Hoja1!F15:F131))","v":""},{"$f":"IFERROR(IF(NETWORKDAYS(R23+1,P23,Hoja1!F15:F131)<=0,\"\",NETWORKDAYS(R23+1,P23,Hoja1!F15:F131)),0)","v":""},null,null,{"$f":"IFERROR(VLOOKUP(L23,Hoja1!$A$50:$C$63,2),\"\")","v":""},{"$f":"IFERROR(VLOOKUP(L23,Hoja1!$A$50:$C$63,3),\"\")","v":""}]
["",null,null,null,null,null,null,null,null,null,null,null,null,null,null,null,null,null,null,null,null,{"$f":"IFERROR(WORKDAY(T24,AE24,Hoja1!F16:F132),\"\")","v":""},"",null,"",{"$f":"IF(P24=\"\",\"\",NETWORKDAYS(C24+1,P24,Hoja1!F16:F132))","v":""},{"$f":"IFERROR(IF(NETWORKDAYS(R24+1,P24,Hoja1!F16:F132)<=0,\"\",NETWORKDAYS(R24+1,P24,Hoja1!F16:F132)),0)","v":""},null,null,{"$f":"IFERROR(VLOOKUP(L24,Hoja1!$A$50:$C$63,2),\"\")","v":""},{"$f":"IFERROR(VLOOKUP(L24,Hoja1!$A$50:$C$63,3),\"\")","v":""}]
["",null,null,null,null,null,null,null,null,null,null,null,null,null,null,null,null,null,null,null,null,{"$f":"IFERROR(WORKDAY(T25,AE25,Hoja1!F17:F133),\"\")","v":""},"",null,"",{"$f":"IF(P25=\"\",\"\",NETWORKDAYS(C25+1,P25,Hoja1!F17:F133))","v":""},{"$f":"IFERROR(IF(NETWORKDAYS(R25+1,P25,Hoja1!F17:F133)<=0,\"\",NETWORKDAYS(R25+1,P25,Hoja1!F17:F133)),0)","v":""},null,null,{"$f":"IFERROR(VLOOKUP(L25,Hoja1!$A$50:$C$63,2),\"\")","v":""},{"$f":"IFERROR(VLOOKUP(L25,Hoja1!$A$50:$C$63,3),\"\")","v":""}]
["",null,null,null,null,null,null,null,null,null,null,null,null,null,null,null,null,null,null,null,null,{"$f":"IFERROR(WORKDAY(T26,AE26,Hoja1!F18:F134),\"\")","v":""},"",null,"",{"$f":"IF(P26=\"\",\"\",NETWORKDAYS(C26+1,P26,Hoja1!F18:F134))","v":""},{"$f":"IFERROR(IF(NETWORKDAYS(R26+1,P26,Hoja1!F18:F134)<=0,\"\",NETWORKDAYS(R26+1,P26,Hoja1!F18:F134)),0)","v":""},null,null,{"$f":"IFERROR(VLOOKUP(L26,Hoja1!$A$50:$C$63,2),\"\")","v":""},{"$f":"IFERROR(VLOOKUP(L26,Hoja1!$A$50:$C$63,3),\"\")","v":""}]
["",null,null,null,null,null,null,null,null,null,null,null,null,null,null,null,null,null,null,null,null,{"$f":"IFERROR(WORKDAY(T27,AE27,Hoja1!F19:F135),\"\")","v":""},"",null,"",{"$f":"IF(P27=\"\",\"\",NETWORKDAYS(C27+1,P27,Hoja1!F19:F135))","v":""},{"$f":"IFERROR(IF(NETWORKDAYS(R27+1,P27,Hoja1!F19:F135)<=0,\"\",NETWORKDAYS(R27+1,P27,Hoja1!F19:F135)),0)","v":""},null,null,{"$f":"IFERROR(VLOOKUP(L27,Hoja1!$A$50:$C$63,2),\"\")","v":""},{"$f":"IFERROR(VLOOKUP(L27,Hoja1!$A$50:$C$63,3),\"\")","v":""}]
["",null,null,null,null,null,null,null,null,null,null,null,null,null,null,null,null,null,null,null,null,{"$f":"IFERROR(WORKDAY(T28,AE28,Hoja1!F20:F136),\"\")","v":""},"",null,"",{"$f":"IF(P28=\"\",\"\",NETWORKDAYS(C28+1,P28,Hoja1!F20:F136))","v":""},{"$f":"IFERROR(IF(NETWORKDAYS(R28+1,P28,Hoja1!F20:F136)<=0,\"\",NETWORKDAYS(R28+1,P28,Hoja1!F20:F136)),0)","v":""},null,null,{"$f":"IFERROR(VLOOKUP(L28,Hoja1!$A$50:$C$63,2),\"\")","v":""},{"$f":"IFERROR(VLOOKUP(L28,Hoja1!$A$50:$C$63,3),\"\")","v":""}]
["",null,null,null,null,null,null,null,null,null,null,null,null,null,null,null,null,null,null,null,null,{"$f":"IFERROR(WORKDAY(T29,AE29,Hoja1!F21:F137),\"\")","v":""},"",null,"",{"$f":"IF(P29=\"\",\"\",NETWORKDAYS(C29+1,P29,Hoja1!F21:F137))","v":""},{"$f":"IFERROR(IF(NETWORKDAYS(R29+1,P29,Hoja1!F21:F137)<=0,\"\",NETWORKDAYS(R29+1,P29,Hoja1!F21:F137)),0)","v":""},null,null,{"$f":"IFERROR(VLOOKUP(L29,Hoja1!$A$50:$C$63,2),\"\")","v":""},{"$f":"IFERROR(VLOOKUP(L29,Hoja1!$A$50:$C$63,3),\"\")","v":""}]
["",null,null,null,null,null,null,null,null,null,null,null,null,null,null,null,null,null,null,null,null,{"$f":"IFERROR(WORKDAY(T30,AE30,Hoja1!F22:F138),\"\")","v":""},"",null,"",{"$f":"IF(P30=\"\",\"\",NETWORKDAYS(C30+1,P30,Hoja1!F22:F138))","v":""},{"$f":"IFERROR(IF(NETWORKDAYS(R30+1,P30,Hoja1!F22:F138)<=0,\"\",NETWORKDAYS(R30+1,P30,Hoja1!F22:F138)),0)","v":""},null,null,{"$f":"IFERROR(VLOOKUP(L30,Hoja1!$A$50:$C$63,2),\"\")","v":""},{"$f":"IFERROR(VLOOKUP(L30,Hoja1!$A$50:$C$63,3),\"\")","v":""}]
["",null,null,null,null,null,null,null,null,null,null,null,null,null,null,null,null,null,null,null,null,{"$f":"IFERROR(WORKDAY(T31,AE31,Hoja1!F23:F139),\"\")","v":""},"",null,"",{"$f":"IF(P31=\"\",\"\",NETWORKDAYS(C31+1,P31,Hoja1!F23:F139))","v":""},{"$f":"IFERROR(IF(NETWORKDAYS(R31+1,P31,Hoja1!F23:F139)<=0,\"\",NETWORKDAYS(R31+1,P31,Hoja1!F23:F139)),0)","v":""},null,null,{"$f":"IFERROR(VLOOKUP(L31,Hoja1!$A$50:$C$63,2),\"\")","v":""},{"$f":"IFERROR(VLOOKUP(L31,Hoja1!$A$50:$C$63,3),\"\")","v":""}]
["",null,null,null,null,null,null,null,null,null,null,null,null,null,null,null,null,null,null,null,null,{"$f":"IFERROR(WORKDAY(T32,AE32,Hoja1!F24:F140),\"\")","v":""},"",null,"",{"$f":"IF(P32=\"\",\"\",NETWORKDAYS(C32+1,P32,Hoja1!F24:F140))","v":""},{"$f":"IFERROR(IF(NETWORKDAYS(R32+1,P32,Hoja1!F24:F140)<=0,\"\",NETWORKDAYS(R32+1,P32,Hoja1!F24:F140)),0)","v":""},null,null,{"$f":"IFERROR(VLOOKUP(L32,Hoja1!$A$50:$C$63,2),\"\")","v":""},{"$f":"IFERROR(VLOOKUP(L32,Hoja1!$A$50:$C$63,3),\"\")","v":""}]
["",null,null,null,null,null,null,null,null,null,null,null,null,null,null,null,null,null,null,null,null,{"$f":"IFERROR(WORKDAY(T33,AE33,Hoja1!F25:F141),\"\")","v":""},"",null,"",{"$f":"IF(P33=\"\",\"\",NETWORKDAYS(C33+1,P33,Hoja1!F25:F141))","v":""},{"$f":"IFERROR(IF(NETWORKDAYS(R33+1,P33,Hoja1!F25:F141)<=0,\"\",NETWORKDAYS(R33+1,P33,Hoja1!F25:F141)),0)","v":""},null,null,{"$f":"IFERROR(VLOOKUP(L33,Hoja1!$A$50:$C$63,2),\"\")","v":""},{"$f":"IFERROR(VLOOKUP(L33,Hoja1!$A$50:$C$63,3),\"\")","v":""}]
["",null,null,null,null,null,null,null,null,null,null,null,null,null,null,null,null,null,null,null,null,{"$f":"IFERROR(WORKDAY(T34,AE34,Hoja1!F26:F142),\"\")","v":""},"",null,"",{"$f":"IF(P34=\"\",\"\",NETWORKDAYS(C34+1,P34,Hoja1!F26:F142))","v":""},{"$f":"IFERROR(IF(NETWORKDAYS(R34+1,P34,Hoja1!F26:F142)<=0,\"\",NETWORKDAYS(R34+1,P34,Hoja1!F26:F142)),0)","v":""},null,null,{"$f":"IFERROR(VLOOKUP(L34,Hoja1!$A$50:$C$63,2),\"\")","v":""},{"$f":"IFERROR(VLOOKUP(L34,Hoja1!$A$50:$C$63,3),\"\")","v":""}]
["",null,null,null,null,null,null,null,null,null,null,null,null,null,null,null,null,null,null,null,null,{"$f":"IFERROR(WORKDAY(T35,AE35,Hoja1!F27:F143),\"\")","v":""},"",null,"",{"$f":"IF(P35=\"\",\"\",NETWORKDAYS(C35+1,P35,Hoja1!F27:F143))","v":""},{"$f":"IFERROR(IF(NETWORKDAYS(R35+1,P35,Hoja1!F27:F143)<=0,\"\",NETWORKDAYS(R35+1,P35,Hoja1!F27:F143)),0)","v":""},null,null,{"$f":"IFERROR(VLOOKUP(L35,Hoja1!$A$50:$C$63,2),\"\")","v":""},{"$f":"IFERROR(VLOOKUP(L35,Hoja1!$A$50:$C$63,3),\"\")","v":""}]
["",null,null,null,null,null,null,null,null,null,null,null,null,null,null,null,null,null,null,null,null,{"$f":"IFERROR(WORKDAY(T36,AE36,Hoja1!F28:F144),\"\")","v":""},"",null,"",{"$f":"IF(P36=\"\",\"\",NETWORKDAYS(C36+1,P36,Hoja1!F28:F144))","v":""},{"$f":"IFERROR(IF(NETWORKDAYS(R36+1,P36,Hoja1!F28:F144)<=0,\"\",NETWORKDAYS(R36+1,P36,Hoja1!F28:F144)),0)","v":""},null,null,{"$f":"IFERROR(VLOOKUP(L36,Hoja1!$A$50:$C$63,2),\"\")","v":""},{"$f":"IFERROR(VLOOKUP(L36,Hoja1!$A$50:$C$63,3),\"\")","v":""}]
["",null,null,null,null,null,null,null,null,null,null,null,null,null,null,null,null,null,null,null,null,{"$f":"IFERROR(WORKDAY(T37,AE37,Hoja1!F29:F145),\"\")","v":""},"",null,"",{"$f":"IF(P37=\"\",\"\",NETWORKDAYS(C37+1,P37,Hoja1!F29:F145))","v":""},{"$f":"IFERROR(IF(NETWORKDAYS(R37+1,P37,Hoja1!F29:F145)<=0,\"\",NETWORKDAYS(R37+1,P37,Hoja1!F29:F145)),0)","v":""},null,null,{"$f":"IFERROR(VLOOKUP(L37,Hoja1!$A$50:$C$63,2),\"\")","v":""},{"$f":"IFERROR(VLOOKUP(L37,Hoja1!$A$50:$C$63,3),\"\")","v":""}]
["",null,null,null,null,null,null,null,null,null,null,null,null,null,null,null,null,null,null,null,null,{"$f":"IFERROR(WORKDAY(T38,AE38,Hoja1!F30:F146),\"\")","v":""},"",null,"",{"$f":"IF(P38=\"\",\"\",NETWORKDAYS(C38+1,P38,Hoja1!F30:F146))","v":""},{"$f":"IFERROR(IF(NETWORKDAYS(R38+1,P38,Hoja1!F30:F146)<=0,\"\",NETWORKDAYS(R38+1,P38,Hoja1!F30:F146)),0)","v":""},null,null,{"$f":"IFERROR(VLOOKUP(L38,Hoja1!$A$50:$C$63,2),\"\")","v":""},{"$f":"IFERROR(VLOOKUP(L38,Hoja1!$A$50:$C$63,3),\"\")","v":""}]
["",null,null,null,null,null,null,null,null,null,null,null,null,null,null,null,null,null,null,null,null,{"$f":"IFERROR(WORKDAY(T39,AE39,Hoja1!F31:F147),\"\")","v":""},"",null,"",{"$f":"IF(P39=\"\",\"\",NETWORKDAYS(C39+1,P39,Hoja1!F31:F147))","v":""},{"$f":"IFERROR(IF(NETWORKDAYS(R39+1,P39,Hoja1!F31:F147)<=0,\"\",NETWORKDAYS(R39+1,P39,Hoja1!F31:F147)),0)","v":""},null,null,{"$f":"IFERROR(VLOOKUP(L39,Hoja1!$A$50:$C$63,2),\"\")","v":""},{"$f":"IFERROR(VLOOKUP(L39,Hoja1!$A$50:$C$63,3),\"\")","v":""}]
["",null,null,null,null,null,null,null,null,null,null,null,null,null,null,null,null,null,null,null,null,{"$f":"IFERROR(WORKDAY(T40,AE40,Hoja1!F32:F148),\"\")","v":""},"",null,"",{"$f":"IF(P40=\"\",\"\",NETWORKDAYS(C40+1,P40,Hoja1!F32:F148))","v":""},{"$f":"IFERROR(IF(NETWORKDAYS(R40+1,P40,Hoja1!F32:F148)<=0,\"\",NETWORKDAYS(R40+1,P40,Hoja1!F32:F148)),0)","v":""},null,null,{"$f":"IFERROR(VLOOKUP(L40,Hoja1!$A$50:$C$63,2),\"\")","v":""},{"$f":"IFERROR(VLOOKUP(L40,Hoja1!$A$50:$C$63,3),\"\")","v":""}]
["",null,null,null,null,null,null,null,null,null,null,null,null,null,null,null,null,null,null,null,null,{"$f":"IFERROR(WORKDAY(T41,AE41,Hoja1!F33:F149),\"\")","v":""},"",null,"",{"$f":"IF(P41=\"\",\"\",NETWORKDAYS(C41+1,P41,Hoja1!F33:F149))","v":""},{"$f":"IFERROR(IF(NETWORKDAYS(R41+1,P41,Hoja1!F33:F149)<=0,\"\",NETWORKDAYS(R41+1,P41,Hoja1!F33:F149)),0)","v":""},null,null,{"$f":"IFERROR(VLOOKUP(L41,Hoja1!$A$50:$C$63,2),\"\")","v":""},{"$f":"IFERROR(VLOOKUP(L41,Hoja1!$A$50:$C$63,3),\"\")","v":""}]
["",null,null,null,null,null,null,null,null,null,null,null,null,null,null,null,null,null,null,null,null,{"$f":"IFERROR(WORKDAY(T42,AE42,Hoja1!F34:F150),\"\")","v":""},"",null,"",{"$f":"IF(P42=\"\",\"\",NETWORKDAYS(C42+1,P42,Hoja1!F34:F150))","v":""},{"$f":"IFERROR(IF(NETWORKDAYS(R42+1,P42,Hoja1!F34:F150)<=0,\"\",NETWORKDAYS(R42+1,P42,Hoja1!F34:F150)),0)","v":""},null,null,{"$f":"IFERROR(VLOOKUP(L42,Hoja1!$A$50:$C$63,2),\"\")","v":""},{"$f":"IFERROR(VLOOKUP(L42,Hoja1!$A$50:$C$63,3),\"\")","v":""}]
["",null,null,null,null,null,null,null,null,null,null,null,null,null,null,null,null,null,null,null,null,{"$f":"IFERROR(WORKDAY(T43,AE43,Hoja1!F35:F151),\"\")","v":""},"",null,"",{"$f":"IF(P43=\"\",\"\",NETWORKDAYS(C43+1,P43,Hoja1!F35:F151))","v":""},{"$f":"IFERROR(IF(NETWORKDAYS(R43+1,P43,Hoja1!F35:F151)<=0,\"\",NETWORKDAYS(R43+1,P43,Hoja1!F35:F151)),0)","v":""},null,null,{"$f":"IFERROR(VLOOKUP(L43,Hoja1!$A$50:$C$63,2),\"\")","v":""},{"$f":"IFERROR(VLOOKUP(L43,Hoja1!$A$50:$C$63,3),\"\")","v":""}]
["",null,null,null,null,null,null,null,null,null,null,null,null,null,null,null,null,null,null,null,null,{"$f":"IFERROR(WORKDAY(T44,AE44,Hoja1!F36:F152),\"\")","v":""},"",null,"",{"$f":"IF(P44=\"\",\"\",NETWORKDAYS(C44+1,P44,Hoja1!F36:F152))","v":""},{"$f":"IFERROR(IF(NETWORKDAYS(R44+1,P44,Hoja1!F36:F152)<=0,\"\",NETWORKDAYS(R44+1,P44,Hoja1!F36:F152)),0)","v":""},null,null,{"$f":"IFERROR(VLOOKUP(L44,Hoja1!$A$50:$C$63,2),\"\")","v":""},{"$f":"IFERROR(VLOOKUP(L44,Hoja1!$A$50:$C$63,3),\"\")","v":""}]
["",null,null,null,null,null,null,null,null,null,null,null,null,null,null,null,null,null,null,null,null,{"$f":"IFERROR(WORKDAY(T45,AE45,Hoja1!F37:F153),\"\")","v":""},"",null,"",{"$f":"IF(P45=\"\",\"\",NETWORKDAYS(C45+1,P45,Hoja1!F37:F153))","v":""},{"$f":"IFERROR(IF(NETWORKDAYS(R45+1,P45,Hoja1!F37:F153)<=0,\"\",NETWORKDAYS(R45+1,P45,Hoja1!F37:F153)),0)","v":""},null,null,{"$f":"IFERROR(VLOOKUP(L45,Hoja1!$A$50:$C$63,2),\"\")","v":""},{"$f":"IFERROR(VLOOKUP(L45,Hoja1!$A$50:$C$63,3),\"\")","v":""}]
["",null,null,null,null,null,null,null,null,null,null,null,null,null,null,null,null,null,null,null,null,{"$f":"IFERROR(WORKDAY(T46,AE46,Hoja1!F38:F154),\"\")","v":""},"",null,"",{"$f":"IF(P46=\"\",\"\",NETWORKDAYS(C46+1,P46,Hoja1!F38:F154))","v":""},{"$f":"IFERROR(IF(NETWORKDAYS(R46+1,P46,Hoja1!F38:F154)<=0,\"\",NETWORKDAYS(R46+1,P46,Hoja1!F38:F154)),0)","v":""},null,null,{"$f":"IFERROR(VLOOKUP(L46,Hoja1!$A$50:$C$63,2),\"\")","v":""},{"$f":"IFERROR(VLOOKUP(L46,Hoja1!$A$50:$C$63,3),\"\")","v":""}]
["",null,null,null,null,null,null,null,null,null,null,null,null,null,null,null,null,null,null,null,null,{"$f":"IFERROR(WORKDAY(T47,AE47,Hoja1!F39:F155),\"\")","v":""},"",null,"",{"$f":"IF(P47=\"\",\"\",NETWORKDAYS(C47+1,P47,Hoja1!F39:F155))","v":""},{"$f":"IFERROR(IF(NETWORKDAYS(R47+1,P47,Hoja1!F39:F155)<=0,\"\",NETWORKDAYS(R47+1,P47,Hoja1!F39:F155)),0)","v":""},null,null,{"$f":"IFERROR(VLOOKUP(L47,Hoja1!$A$50:$C$63,2),\"\")","v":""},{"$f":"IFERROR(VLOOKUP(L47,Hoja1!$A$50:$C$63,3),\"\")","v":""}]
["",null,null,null,null,null,null,null,null,null,null,null,null,null,null,null,null,null,null,null,null,{"$f":"IFERROR(WORKDAY(T48,AE48,Hoja1!F40:F156),\"\")","v":""},"",null,"",{"$f":"IF(P48=\"\",\"\",NETWORKDAYS(C48+1,P48,Hoja1!F40:F156))","v":""},{"$f":"IFERROR(IF(NETWORKDAYS(R48+1,P48,Hoja1!F40:F156)<=0,\"\",NETWORKDAYS(R48+1,P48,Hoja1!F40:F156)),0)","v":""},null,null,{"$f":"IFERROR(VLOOKUP(L48,Hoja1!$A$50:$C$63,2),\"\")","v":""},{"$f":"IFERROR(VLOOKUP(L48,Hoja1!$A$50:$C$63,3),\"\")","v":""}]
[{"$f":"IF(B49<>\"\",A48+1,\"\")","v":""},null,null,null,null,null,null,null,null,null,null,null,null,null,null,null,null,null,null,null,null,{"$f":"IFERROR(WORKDAY(T49,AE49,Hoja1!F41:F157),\"\")","v":""},"",null,"",{"$f":"IF(P49=\"\",\"\",NETWORKDAYS(C49+1,P49,Hoja1!F41:F157))","v":""},{"$f":"IFERROR(IF(NETWORKDAYS(R49+1,P49,Hoja1!F41:F157)<=0,\"\",NETWORKDAYS(R49+1,P49,Hoja1!F41:F157)),0)","v":""},null,null,{"$f":"IFERROR(VLOOKUP(L49,Hoja1!$A$50:$C$63,2),\"\")","v":""},{"$f":"IFERROR(VLOOKUP(L49,Hoja1!$A$50:$C$63,3),\"\")","v":""}]
["",null,null,null,null,null,null,null,null,null,null,null,null,null,null,null,null,null,null,null,null,{"$f":"IFERROR(WORKDAY(T50,AE50,Hoja1!F42:F158),\"\")","v":""},"",null,"",{"$f":"IF(P50=\"\",\"\",NETWORKDAYS(C50+1,P50,Hoja1!F42:F158))","v":""},{"$f":"IFERROR(IF(NETWORKDAYS(R50+1,P50,Hoja1!F42:F158)<=0,\"\",NETWORKDAYS(R50+1,P50,Hoja1!F42:F158)),0)","v":""},null,null,{"$f":"IFERROR(VLOOKUP(L50,Hoja1!$A$50:$C$63,2),\"\")","v":""},{"$f":"IFERROR(VLOOKUP(L50,Hoja1!$A$50:$C$63,3),\"\")","v":""}]
["",null,null,null,null,null,null,null,null,null,null,null,null,null,null,null,null,null,null,null,null,{"$f":"IFERROR(WORKDAY(T51,AE51,Hoja1!F43:F159),\"\")","v":""},"",null,"",{"$f":"IF(P51=\"\",\"\",NETWORKDAYS(C51+1,P51,Hoja1!F43:F159))","v":""},{"$f":"IFERROR(IF(NETWORKDAYS(R51+1,P51,Hoja1!F43:F159)<=0,\"\",NETWORKDAYS(R51+1,P51,Hoja1!F43:F159)),0)","v":""},null,null,{"$f":"IFERROR(VLOOKUP(L51,Hoja1!$A$50:$C$63,2),\"\")","v":""},{"$f":"IFERROR(VLOOKUP(L51,Hoja1!$A$50:$C$63,3),\"\")","v":""}]
["",null,null,null,null,null,null,null,null,null,null,null,null,null,null,null,null,null,null,null,null,{"$f":"IFERROR(WORKDAY(T52,AE52,Hoja1!F44:F160),\"\")","v":""},"",null,"",{"$f":"IF(P52=\"\",\"\",NETWORKDAYS(C52+1,P52,Hoja1!F44:F160))","v":""},{"$f":"IFERROR(IF(NETWORKDAYS(R52+1,P52,Hoja1!F44:F160)<=0,\"\",NETWORKDAYS(R52+1,P52,Hoja1!F44:F160)),0)","v":""},null,null,{"$f":"IFERROR(VLOOKUP(L52,Hoja1!$A$50:$C$63,2),\"\")","v":""},{"$f":"IFERROR(VLOOKUP(L52,Hoja1!$A$50:$C$63,3),\"\")","v":""}]
["",null,null,null,null,null,null,null,null,null,null,null,null,null,null,null,null,null,null,null,null,{"$f":"IFERROR(WORKDAY(T53,AE53,Hoja1!F45:F161),\"\")","v":""},"",null,"",{"$f":"IF(P53=\"\",\"\",NETWORKDAYS(C53+1,P53,Hoja1!F45:F161))","v":""},{"$f":"IFERROR(IF(NETWORKDAYS(R53+1,P53,Hoja1!F45:F161)<=0,\"\",NETWORKDAYS(R53+1,P53,Hoja1!F45:F161)),0)","v":""},null,null,{"$f":"IFERROR(VLOOKUP(L53,Hoja1!$A$50:$C$63,2),\"\")","v":""},{"$f":"IFERROR(VLOOKUP(L53,Hoja1!$A$50:$C$63,3),\"\")","v":""}]
["",null,null,null,null,null,null,null,null,null,null,null,null,null,null,null,null,null,null,null,null,{"$f":"IFERROR(WORKDAY(T54,AE54,Hoja1!F46:F162),\"\")","v":""},"",null,"",{"$f":"IF(P54=\"\",\"\",NETWORKDAYS(C54+1,P54,Hoja1!F46:F162))","v":""},{"$f":"IFERROR(IF(NETWORKDAYS(R54+1,P54,Hoja1!F46:F162)<=0,\"\",NETWORKDAYS(R54+1,P54,Hoja1!F46:F162)),0)","v":""},null,null,{"$f":"IFERROR(VLOOKUP(L54,Hoja1!$A$50:$C$63,2),\"\")","v":""},{"$f":"IFERROR(VLOOKUP(L54,Hoja1!$A$50:$C$63,3),\"\")","v":""}]
["",null,null,null,null,null,null,null,null,null,null,null,null,null,null,null,null,null,null,null,null,{"$f":"IFERROR(WORKDAY(T55,AE55,Hoja1!F47:F163),\"\")","v":""},"",null,"",{"$f":"IF(P55=\"\",\"\",NETWORKDAYS(C55+1,P55,Hoja1!F47:F163))","v":""},{"$f":"IFERROR(IF(NETWORKDAYS(R55+1,P55,Hoja1!F47:F163)<=0,\"\",NETWORKDAYS(R55+1,P55,Hoja1!F47:F163)),0)","v":""},null,null,{"$f":"IFERROR(VLOOKUP(L55,Hoja1!$A$50:$C$63,2),\"\")","v":""},{"$f":"IFERROR(VLOOKUP(L55,Hoja1!$A$50:$C$63,3),\"\")","v":""}]
["",null,null,null,null,null,null,null,null,null,null,null,null,null,null,null,null,null,null,null,null,{"$f":"IFERROR(WORKDAY(T56,AE56,Hoja1!F48:F164),\"\")","v":""},"",null,"",{"$f":"IF(P56=\"\",\"\",NETWORKDAYS(C56+1,P56,Hoja1!F48:F164))","v":""},{"$f":"IFERROR(IF(NETWORKDAYS(R56+1,P56,Hoja1!F48:F164)<=0,\"\",NETWORKDAYS(R56+1,P56,Hoja1!F48:F164)),0)","v":""},null,null,{"$f":"IFERROR(VLOOKUP(L56,Hoja1!$A$50:$C$63,2),\"\")","v":""},{"$f":"IFERROR(VLOOKUP(L56,Hoja1!$A$50:$C$63,3),\"\")","v":""}]
["",null,null,null,null,null,null,null,null,null,null,null,null,null,null,null,null,null,null,null,null,{"$f":"IFERROR(WORKDAY(T57,AE57,Hoja1!F49:F165),\"\")","v":""},"",null,"",{"$f":"IF(P57=\"\",\"\",NETWORKDAYS(C57+1,P57,Hoja1!F49:F165))","v":""},{"$f":"IFERROR(IF(NETWORKDAYS(R57+1,P57,Hoja1!F49:F165)<=0,\"\",NETWORKDAYS(R57+1,P57,Hoja1!F49:F165)),0)","v":""},null,null,{"$f":"IFERROR(VLOOKUP(L57,Hoja1!$A$50:$C$63,2),\"\")","v":""},{"$f":"IFERROR(VLOOKUP(L57,Hoja1!$A$50:$C$63,3),\"\")","v":""}]
["",null,null,null,null,null,null,null,null,null,null,null,null,null,null,null,null,null,null,null,null,{"$f":"IFERROR(WORKDAY(T58,AE58,Hoja1!F50:F166),\"\")","v":""},"",null,"",{"$f":"IF(P58=\"\",\"\",NETWORKDAYS(C58+1,P58,Hoja1!F50:F166))","v":""},{"$f":"IFERROR(IF(NETWORKDAYS(R58+1,P58,Hoja1!F50:F166)<=0,\"\",NETWORKDAYS(R58+1,P58,Hoja1!F50:F166)),0)","v":""},null,null,{"$f":"IFERROR(VLOOKUP(L58,Hoja1!$A$50:$C$63,2),\"\")","v":""},{"$f":"IFERROR(VLOOKUP(L58,Hoja1!$A$50:$C$63,3),\"\")","v":""}]
["",null,null,null,null,null,null,null,null,null,null,null,null,null,null,null,null,null,null,null,null,{"$f":"IFERROR(WORKDAY(T59,AE59,Hoja1!F51:F167),\"\")","v":""},"",null,"",{"$f":"IF(P59=\"\",\"\",NETWORKDAYS(C59+1,P59,Hoja1!F51:F167))","v":""},{"$f":"IFERROR(IF(NETWORKDAYS(R59+1,P59,Hoja1!F51:F167)<=0,\"\",NETWORKDAYS(R59+1,P59,Hoja1!F51:F167)),0)","v":""},null,null,{"$f":"IFERROR(VLOOKUP(L59,Hoja1!$A$50:$C$63,2),\"\")","v":""},{"$f":"IFERROR(VLOOKUP(L59,Hoja1!$A$50:$C$63,3),\"\")","v":""}]
["",null,null,null,null,null,null,null,null,null,null,null,null,null,null,null,null,null,null,null,null,{"$f":"IFERROR(WORKDAY(T60,AE60,Hoja1!F52:F168),\"\")","v":""},"",null,"",{"$f":"IF(P60=\"\",\"\",NETWORKDAYS(C60+1,P60,Hoja1!F52:F168))","v":""},{"$f":"IFERROR(IF(NETWORKDAYS(R60+1,P60,Hoja1!F52:F168)<=0,\"\",NETWORKDAYS(R60+1,P60,Hoja1!F52:F168)),0)","v":""},null,null,{"$f":"IFERROR(VLOOKUP(L60,Hoja1!$A$50:$C$63,2),\"\")","v":""},{"$f":"IFERROR(VLOOKUP(L60,Hoja1!$A$50:$C$63,3),\"\")","v":""}]
["",null,null,null,null,null,null,null,null,null,null,null,null,null,null,null,null,null,null,null,null,{"$f":"IFERROR(WORKDAY(T61,AE61,Hoja1!F53:F169),\"\")","v":""},"",null,"",{"$f":"IF(P61=\"\",\"\",NETWORKDAYS(C61+1,P61,Hoja1!F53:F169))","v":""},{"$f":"IFERROR(IF(NETWORKDAYS(R61+1,P61,Hoja1!F53:F169)<=0,\"\",NETWORKDAYS(R61+1,P61,Hoja1!F53:F169)),0)","v":""},null,null,{"$f":"IFERROR(VLOOKUP(L61,Hoja1!$A$50:$C$63,2),\"\")","v":""},{"$f":"IFERROR(VLOOKUP(L61,Hoja1!$A$50:$C$63,3),\"\")","v":""}]
["",null,null,null,null,null,null,null,null,null,null,null,null,null,null,null,null,null,null,null,null,{"$f":"IFERROR(WORKDAY(T62,AE62,Hoja1!F54:F170),\"\")","v":""},"",null,"",{"$f":"IF(P62=\"\",\"\",NETWORKDAYS(C62+1,P62,Hoja1!F54:F170))","v":""},{"$f":"IFERROR(IF(NETWORKDAYS(R62+1,P62,Hoja1!F54:F170)<=0,\"\",NETWORKDAYS(R62+1,P62,Hoja1!F54:F170)),0)","v":""},null,null,{"$f":"IFERROR(VLOOKUP(L62,Hoja1!$A$50:$C$63,2),\"\")","v":""},{"$f":"IFERROR(VLOOKUP(L62,Hoja1!$A$50:$C$63,3),\"\")","v":""}]
["",null,null,null,null,null,null,null,null,null,null,null,null,null,null,null,null,null,null,null,null,{"$f":"IFERROR(WORKDAY(T63,AE63,Hoja1!F55:F171),\"\")","v":""},"",null,"",{"$f":"IF(P63=\"\",\"\",NETWORKDAYS(C63+1,P63,Hoja1!F55:F171))","v":""},{"$f":"IFERROR(IF(NETWORKDAYS(R63+1,P63,Hoja1!F55:F171)<=0,\"\",NETWORKDAYS(R63+1,P63,Hoja1!F55:F171)),0)","v":""},null,null,{"$f":"IFERROR(VLOOKUP(L63,Hoja1!$A$50:$C$63,2),\"\")","v":""},{"$f":"IFERROR(VLOOKUP(L63,Hoja1!$A$50:$C$63,3),\"\")","v":""}]
["",null,null,null,null,null,null,null,null,null,null,null,null,null,null,null,null,null,null,null,null,{"$f":"IFERROR(WORKDAY(T64,AE64,Hoja1!F56:F172),\"\")","v":""},"",null,"",{"$f":"IF(P64=\"\",\"\",NETWORKDAYS(C64+1,P64,Hoja1!F56:F172))","v":""},{"$f":"IFERROR(IF(NETWORKDAYS(R64+1,P64,Hoja1!F56:F172)<=0,\"\",NETWORKDAYS(R64+1,P64,Hoja1!F56:F172)),0)","v":""},null,null,{"$f":"IFERROR(VLOOKUP(L64,Hoja1!$A$50:$C$63,2),\"\")","v":""},{"$f":"IFERROR(VLOOKUP(L64,Hoja1!$A$50:$C$63,3),\"\")","v":""}]
["",null,null,null,null,null,null,null,null,null,null,null,null,null,null,null,null,null,null,null,null,{"$f":"IFERROR(WORKDAY(T65,AE65,Hoja1!F57:F173),\"\")","v":""},"",null,"",{"$f":"IF(P65=\"\",\"\",NETWORKDAYS(C65+1,P65,Hoja1!F57:F173))","v":""},{"$f":"IFERROR(IF(NETWORKDAYS(R65+1,P65,Hoja1!F57:F173)<=0,\"\",NETWORKDAYS(R65+1,P65,Hoja1!F57:F173)),0)","v":""},null,null,{"$f":"IFERROR(VLOOKUP(L65,Hoja1!$A$50:$C$63,2),\"\")","v":""},{"$f":"IFERROR(VLOOKUP(L65,Hoja1!$A$50:$C$63,3),\"\")","v":""}]
["",null,null,null,null,null,null,null,null,null,null,null,null,null,null,null,null,null,null,null,null,{"$f":"IFERROR(WORKDAY(T66,AE66,Hoja1!F58:F174),\"\")","v":""},"",null,"",{"$f":"IF(P66=\"\",\"\",NETWORKDAYS(C66+1,P66,Hoja1!F58:F174))","v":""},{"$f":"IFERROR(IF(NETWORKDAYS(R66+1,P66,Hoja1!F58:F174)<=0,\"\",NETWORKDAYS(R66+1,P66,Hoja1!F58:F174)),0)","v":""},null,null,{"$f":"IFERROR(VLOOKUP(L66,Hoja1!$A$50:$C$63,2),\"\")","v":""},{"$f":"IFERROR(VLOOKUP(L66,Hoja1!$A$50:$C$63,3),\"\")","v":""}]
["",null,null,null,null,null,null,null,null,null,null,null,null,null,null,null,null,null,null,null,null,{"$f":"IFERROR(WORKDAY(T67,AE67,Hoja1!F59:F175),\"\")","v":""},"",null,"",{"$f":"IF(P67=\"\",\"\",NETWORKDAYS(C67+1,P67,Hoja1!F59:F175))","v":""},{"$f":"IFERROR(IF(NETWORKDAYS(R67+1,P67,Hoja1!F59:F175)<=0,\"\",NETWORKDAYS(R67+1,P67,Hoja1!F59:F175)),0)","v":""},null,null,{"$f":"IFERROR(VLOOKUP(L67,Hoja1!$A$50:$C$63,2),\"\")","v":""},{"$f":"IFERROR(VLOOKUP(L67,Hoja1!$A$50:$C$63,3),\"\")","v":""}]
["",null,null,null,null,null,null,null,null,null,null,null,null,null,null,null,null,null,null,null,null,{"$f":"IFERROR(WORKDAY(T68,AE68,Hoja1!F60:F176),\"\")","v":""},"",null,"",{"$f":"IF(P68=\"\",\"\",NETWORKDAYS(C68+1,P68,Hoja1!F60:F176))","v":""},{"$f":"IFERROR(IF(NETWORKDAYS(R68+1,P68,Hoja1!F60:F176)<=0,\"\",NETWORKDAYS(R68+1,P68,Hoja1!F60:F176)),0)","v":""},null,null,{"$f":"IFERROR(VLOOKUP(L68,Hoja1!$A$50:$C$63,2),\"\")","v":""},{"$f":"IFERROR(VLOOKUP(L68,Hoja1!$A$50:$C$63,3),\"\")","v":""}]
["",null,null,null,null,null,null,null,null,null,null,null,null,null,null,null,null,null,null,null,null,{"$f":"IFERROR(WORKDAY(T69,AE69,Hoja1!F61:F177),\"\")","v":""},"",null,"",{"$f":"IF(P69=\"\",\"\",NETWORKDAYS(C69+1,P69,Hoja1!F61:F177))","v":""},{"$f":"IFERROR(IF(NETWORKDAYS(R69+1,P69,Hoja1!F61:F177)<=0,\"\",NETWORKDAYS(R69+1,P69,Hoja1!F61:F177)),0)","v":""},null,null,{"$f":"IFERROR(VLOOKUP(L69,Hoja1!$A$50:$C$63,2),\"\")","v":""},{"$f":"IFERROR(VLOOKUP(L69,Hoja1!$A$50:$C$63,3),\"\")","v":""}]
["",null,null,null,null,null,null,null,null,null,null,null,null,null,null,null,null,null,null,null,null,{"$f":"IFERROR(WORKDAY(T70,AE70,Hoja1!F62:F178),\"\")","v":""},"",null,"",{"$f":"IF(P70=\"\",\"\",NETWORKDAYS(C70+1,P70,Hoja1!F62:F178))","v":""},{"$f":"IFERROR(IF(NETWORKDAYS(R70+1,P70,Hoja1!F62:F178)<=0,\"\",NETWORKDAYS(R70+1,P70,Hoja1!F62:F178)),0)","v":""},null,null,{"$f":"IFERROR(VLOOKUP(L70,Hoja1!$A$50:$C$63,2),\"\")","v":""},{"$f":"IFERROR(VLOOKUP(L70,Hoja1!$A$50:$C$63,3),\"\")","v":""}]
["",null,null,null,null,null,null,null,null,null,null,null,null,null,null,null,null,null,null,null,null,{"$f":"IFERROR(WORKDAY(T71,AE71,Hoja1!F63:F179),\"\")","v":""},"",null,"",{"$f":"IF(P71=\"\",\"\",NETWORKDAYS(C71+1,P71,Hoja1!F63:F179))","v":""},{"$f":"IFERROR(IF(NETWORKDAYS(R71+1,P71,Hoja1!F63:F179)<=0,\"\",NETWORKDAYS(R71+1,P71,Hoja1!F63:F179)),0)","v":""},null,null,{"$f":"IFERROR(VLOOKUP(L71,Hoja1!$A$50:$C$63,2),\"\")","v":""},{"$f":"IFERROR(VLOOKUP(L71,Hoja1!$A$50:$C$63,3),\"\")","v":""}]
["",null,null,null,null,null,null,null,null,null,null,null,null,null,null,null,null,null,null,null,null,{"$f":"IFERROR(WORKDAY(T72,AE72,Hoja1!F64:F180),\"\")","v":""},"",null,"",{"$f":"IF(P72=\"\",\"\",NETWORKDAYS(C72+1,P72,Hoja1!F64:F180))","v":""},{"$f":"IFERROR(IF(NETWORKDAYS(R72+1,P72,Hoja1!F64:F180)<=0,\"\",NETWORKDAYS(R72+1,P72,Hoja1!F64:F180)),0)","v":""},null,null,{"$f":"IFERROR(VLOOKUP(L72,Hoja1!$A$50:$C$63,2),\"\")","v":""},{"$f":"IFERROR(VLOOKUP(L72,Hoja1!$A$50:$C$63,3),\"\")","v":""}]
["",null,null,null,null,null,null,null,null,null,null,null,null,null,null,null,null,null,null,null,null,{"$f":"IFERROR(WORKDAY(T73,AE73,Hoja1!F65:F181),\"\")","v":""},"",null,"",{"$f":"IF(P73=\"\",\"\",NETWORKDAYS(C73+1,P73,Hoja1!F65:F181))","v":""},{"$f":"IFERROR(IF(NETWORKDAYS(R73+1,P73,Hoja1!F65:F181)<=0,\"\",NETWORKDAYS(R73+1,P73,Hoja1!F65:F181)),0)","v":""},null,null,{"$f":"IFERROR(VLOOKUP(L73,Hoja1!$A$50:$C$63,2),\"\")","v":""},{"$f":"IFERROR(VLOOKUP(L73,Hoja1!$A$50:$C$63,3),\"\")","v":""}]
["",null,null,null,null,null,null,null,null,null,null,null,null,null,null,null,null,null,null,null,null,{"$f":"IFERROR(WORKDAY(T74,AE74,Hoja1!F66:F182),\"\")","v":""},"",null,"",{"$f":"IF(P74=\"\",\"\",NETWORKDAYS(C74+1,P74,Hoja1!F66:F182))","v":""},{"$f":"IFERROR(IF(NETWORKDAYS(R74+1,P74,Hoja1!F66:F182)<=0,\"\",NETWORKDAYS(R74+1,P74,Hoja1!F66:F182)),0)","v":""},null,null,{"$f":"IFERROR(VLOOKUP(L74,Hoja1!$A$50:$C$63,2),\"\")","v":""},{"$f":"IFERROR(VLOOKUP(L74,Hoja1!$A$50:$C$63,3),\"\")","v":""}]
["",null,null,null,null,null,null,null,null,null,null,null,null,null,null,null,null,null,null,null,null,{"$f":"IFERROR(WORKDAY(T75,AE75,Hoja1!F67:F183),\"\")","v":""},"",null,{"$f":"+IF(C75=\"\",\"\",IF(P75=\"\",\"SIN RESPUESTA\",(IF(P75<=R75,\"A TIEMPO\",\"FUERA DE TIEMPO\"))))","v":""},{"$f":"IF(P75=\"\",\"\",NETWORKDAYS(C75+1,P75,Hoja1!F67:F183))","v":""},{"$f":"IFERROR(IF(NETWORKDAYS(R75+1,P75,Hoja1!F67:F183)<=0,\"\",NETWORKDAYS(R75+1,P75,Hoja1!F67:F183)),0)","v":""},null,null,{"$f":"IFERROR(VLOOKUP(L75,Hoja1!$A$50:$C$63,2),\"\")","v":""},{"$f":"IFERROR(VLOOKUP(L75,Hoja1!$A$50:$C$63,3),\"\")","v":""}]
["",null,null,null,null,null,null,null,null,null,null,null,null,null,null,null,null,null,null,null,null,{"$f":"IFERROR(WORKDAY(T76,AE76,Hoja1!F68:F184),\"\")","v":""},{"$f":"+IF(T76=\"\",\"\",IF(U76=\"\",\"SIN RESPUESTA\",(IF(U76<=V76,\"A TIEMPO\",\"FUERA DE TIEMPO\"))))","v":""},null,"",{"$f":"IF(P76=\"\",\"\",NETWORKDAYS(C76+1,P76,Hoja1!F68:F184))","v":""},{"$f":"IFERROR(IF(NETWORKDAYS(R76+1,P76,Hoja1!F68:F184)<=0,\"\",NETWORKDAYS(R76+1,P76,Hoja1!F68:F184)),0)","v":""},null,null,{"$f":"IFERROR(VLOOKUP(L76,Hoja1!$A$50:$C$63,2),\"\")","v":""},{"$f":"IFERROR(VLOOKUP(L76,Hoja1!$A$50:$C$63,3),\"\")","v":""}]
["",null,null,null,null,null,null,null,null,null,null,null,null,null,null,null,null,null,null,null,null,{"$f":"IFERROR(WORKDAY(T77,AE77,Hoja1!F69:F185),\"\")","v":""},"",null,"",{"$f":"IF(P77=\"\",\"\",NETWORKDAYS(C77+1,P77,Hoja1!F69:F185))","v":""},{"$f":"IFERROR(IF(NETWORKDAYS(R77+1,P77,Hoja1!F69:F185)<=0,\"\",NETWORKDAYS(R77+1,P77,Hoja1!F69:F185)),0)","v":""},null,null,{"$f":"IFERROR(VLOOKUP(L77,Hoja1!$A$50:$C$63,2),\"\")","v":""},{"$f":"IFERROR(VLOOKUP(L77,Hoja1!$A$50:$C$63,3),\"\")","v":""}]
["",null,null,null,null,null,null,null,null,null,null,null,null,null,null,null,null,null,null,null,null,{"$f":"IFERROR(WORKDAY(T78,AE78,Hoja1!F70:F186),\"\")","v":""},"",null,"",{"$f":"IF(P78=\"\",\"\",NETWORKDAYS(C78+1,P78,Hoja1!F70:F186))","v":""},{"$f":"IFERROR(IF(NETWORKDAYS(R78+1,P78,Hoja1!F70:F186)<=0,\"\",NETWORKDAYS(R78+1,P78,Hoja1!F70:F186)),0)","v":""},null,null,{"$f":"IFERROR(VLOOKUP(L78,Hoja1!$A$50:$C$63,2),\"\")","v":""},{"$f":"IFERROR(VLOOKUP(L78,Hoja1!$A$50:$C$63,3),\"\")","v":""}]
["",null,null,null,null,null,null,null,null,null,null,null,null,null,null,null,null,null,null,null,null,{"$f":"IFERROR(WORKDAY(T79,AE79,Hoja1!F71:F187),\"\")","v":""},"",null,"",{"$f":"IF(P79=\"\",\"\",NETWORKDAYS(C79+1,P79,Hoja1!F71:F187))","v":""},{"$f":"IFERROR(IF(NETWORKDAYS(R79+1,P79,Hoja1!F71:F187)<=0,\"\",NETWORKDAYS(R79+1,P79,Hoja1!F71:F187)),0)","v":""},null,null,{"$f":"IFERROR(VLOOKUP(L79,Hoja1!$A$50:$C$63,2),\"\")","v":""},{"$f":"IFERROR(VLOOKUP(L79,Hoja1!$A$50:$C$63,3),\"\")","v":""}]
["",null,null,null,null,null,null,null,null,null,null,null,null,null,null,null,null,null,null,null,null,{"$f":"IFERROR(WORKDAY(T80,AE80,Hoja1!F72:F188),\"\")","v":""},"",null,"",{"$f":"IF(P80=\"\",\"\",NETWORKDAYS(C80+1,P80,Hoja1!F72:F188))","v":""},{"$f":"IFERROR(IF(NETWORKDAYS(R80+1,P80,Hoja1!F72:F188)<=0,\"\",NETWORKDAYS(R80+1,P80,Hoja1!F72:F188)),0)","v":""},null,null,{"$f":"IFERROR(VLOOKUP(L80,Hoja1!$A$50:$C$63,2),\"\")","v":""},{"$f":"IFERROR(VLOOKUP(L80,Hoja1!$A$50:$C$63,3),\"\")","v":""}]
[{"$f":"IF(B81<>\"\",A80+1,\"\")","v":""},null,null,null,null,null,null,null,null,null,null,null,null,null,null,null,null,null,null,null,null,{"$f":"IFERROR(WORKDAY(T81,AE81,Hoja1!F73:F189),\"\")","v":""},"",null,"",{"$f":"IF(P81=\"\",\"\",NETWORKDAYS(C81+1,P81,Hoja1!F73:F189))","v":""},{"$f":"IFERROR(IF(NETWORKDAYS(R81+1,P81,Hoja1!F73:F189)<=0,\"\",NETWORKDAYS(R81+1,P81,Hoja1!F73:F189)),0)","v":""},null,null,{"$f":"IFERROR(VLOOKUP(L81,Hoja1!$A$50:$C$63,2),\"\")","v":""},{"$f":"IFERROR(VLOOKUP(L81,Hoja1!$A$50:$C$63,3),\"\")","v":""}]
["",null,null,null,null,null,null,null,null,null,null,null,null,null,null,null,null,null,null,null,null,{"$f":"IFERROR(WORKDAY(T82,AE82,Hoja1!F74:F190),\"\")","v":""},"",null,"",{"$f":"IF(P82=\"\",\"\",NETWORKDAYS(C82+1,P82,Hoja1!F74:F190))","v":""},{"$f":"IFERROR(IF(NETWORKDAYS(R82+1,P82,Hoja1!F74:F190)<=0,\"\",NETWORKDAYS(R82+1,P82,Hoja1!F74:F190)),0)","v":""},null,null,{"$f":"IFERROR(VLOOKUP(L82,Hoja1!$A$50:$C$63,2),\"\")","v":""},{"$f":"IFERROR(VLOOKUP(L82,Hoja1!$A$50:$C$63,3),\"\")","v":""}]
["",null,null,null,null,null,null,null,null,null,null,null,null,null,null,null,null,null,null,null,null,{"$f":"IFERROR(WORKDAY(T83,AE83,Hoja1!F75:F191),\"\")","v":""},"",null,"",{"$f":"IF(P83=\"\",\"\",NETWORKDAYS(C83+1,P83,Hoja1!F75:F191))","v":""},{"$f":"IFERROR(IF(NETWORKDAYS(R83+1,P83,Hoja1!F75:F191)<=0,\"\",NETWORKDAYS(R83+1,P83,Hoja1!F75:F191)),0)","v":""},null,null,{"$f":"IFERROR(VLOOKUP(L83,Hoja1!$A$50:$C$63,2),\"\")","v":""},{"$f":"IFERROR(VLOOKUP(L83,Hoja1!$A$50:$C$63,3),\"\")","v":""}]
["",null,null,null,null,null,null,null,null,null,null,null,null,null,null,null,null,null,null,null,null,{"$f":"IFERROR(WORKDAY(T84,AE84,Hoja1!F76:F192),\"\")","v":""},"",null,"",{"$f":"IF(P84=\"\",\"\",NETWORKDAYS(C84+1,P84,Hoja1!F76:F192))","v":""},{"$f":"IFERROR(IF(NETWORKDAYS(R84+1,P84,Hoja1!F76:F192)<=0,\"\",NETWORKDAYS(R84+1,P84,Hoja1!F76:F192)),0)","v":""},null,null,{"$f":"IFERROR(VLOOKUP(L84,Hoja1!$A$50:$C$63,2),\"\")","v":""},{"$f":"IFERROR(VLOOKUP(L84,Hoja1!$A$50:$C$63,3),\"\")","v":""}]
["",null,null,null,null,null,null,null,null,null,null,null,null,null,null,null,null,null,null,null,null,{"$f":"IFERROR(WORKDAY(T85,AE85,Hoja1!F77:F193),\"\")","v":""},"",null,"",{"$f":"IF(P85=\"\",\"\",NETWORKDAYS(C85+1,P85,Hoja1!F77:F193))","v":""},{"$f":"IFERROR(IF(NETWORKDAYS(R85+1,P85,Hoja1!F77:F193)<=0,\"\",NETWORKDAYS(R85+1,P85,Hoja1!F77:F193)),0)","v":""},null,null,{"$f":"IFERROR(VLOOKUP(L85,Hoja1!$A$50:$C$63,2),\"\")","v":""},{"$f":"IFERROR(VLOOKUP(L85,Hoja1!$A$50:$C$63,3),\"\")","v":""}]
["",null,null,null,null,null,null,null,null,null,null,null,null,null,null,null,null,null,null,null,null,{"$f":"IFERROR(WORKDAY(T86,AE86,Hoja1!F78:F194),\"\")","v":""},"",null,"",{"$f":"IF(P86=\"\",\"\",NETWORKDAYS(C86+1,P86,Hoja1!F78:F194))","v":""},{"$f":"IFERROR(IF(NETWORKDAYS(R86+1,P86,Hoja1!F78:F194)<=0,\"\",NETWORKDAYS(R86+1,P86,Hoja1!F78:F194)),0)","v":""},null,null,{"$f":"IFERROR(VLOOKUP(L86,Hoja1!$A$50:$C$63,2),\"\")","v":""},{"$f":"IFERROR(VLOOKUP(L86,Hoja1!$A$50:$C$63,3),\"\")","v":""}]
["",null,null,null,null,null,null,null,null,null,null,null,null,null,null,null,null,null,null,null,null,{"$f":"IFERROR(WORKDAY(T87,AE87,Hoja1!F79:F195),\"\")","v":""},"",null,"",{"$f":"IF(P87=\"\",\"\",NETWORKDAYS(C87+1,P87,Hoja1!F79:F195))","v":""},{"$f":"IFERROR(IF(NETWORKDAYS(R87+1,P87,Hoja1!F79:F195)<=0,\"\",NETWORKDAYS(R87+1,P87,Hoja1!F79:F195)),0)","v":""},null,null,{"$f":"IFERROR(VLOOKUP(L87,Hoja1!$A$50:$C$63,2),\"\")","v":""},{"$f":"IFERROR(VLOOKUP(L87,Hoja1!$A$50:$C$63,3),\"\")","v":""}]
["",null,null,null,null,null,null,null,null,null,null,null,null,null,null,null,null,null,null,null,null,{"$f":"IFERROR(WORKDAY(T88,AE88,Hoja1!F80:F196),\"\")","v":""},"",null,"",{"$f":"IF(P88=\"\",\"\",NETWORKDAYS(C88+1,P88,Hoja1!F80:F196))","v":""},{"$f":"IFERROR(IF(NETWORKDAYS(R88+1,P88,Hoja1!F80:F196)<=0,\"\",NETWORKDAYS(R88+1,P88,Hoja1!F80:F196)),0)","v":""},null,null,{"$f":"IFERROR(VLOOKUP(L88,Hoja1!$A$50:$C$63,2),\"\")","v":""},{"$f":"IFERROR(VLOOKUP(L88,Hoja1!$A$50:$C$63,3),\"\")","v":""}]
["",null,null,null,null,null,null,null,null,null,null,null,null,null,null,null,null,null,null,null,null,{"$f":"IFERROR(WORKDAY(T89,AE89,Hoja1!F81:F197),\"\")","v":""},"",null,"",{"$f":"IF(P89=\"\",\"\",NETWORKDAYS(C89+1,P89,Hoja1!F81:F197))","v":""},{"$f":"IFERROR(IF(NETWORKDAYS(R89+1,P89,Hoja1!F81:F197)<=0,\"\",NETWORKDAYS(R89+1,P89,Hoja1!F81:F197)),0)","v":""},null,null,{"$f":"IFERROR(VLOOKUP(L89,Hoja1!$A$50:$C$63,2),\"\")","v":""},{"$f":"IFERROR(VLOOKUP(L89,Hoja1!$A$50:$C$63,3),\"\")","v":""}]
["",null,null,null,null,null,null,null,null,null,null,null,null,null,null,null,null,null,null,null,null,{"$f":"IFERROR(WORKDAY(T90,AE90,Hoja1!F82:F198),\"\")","v":""},"",null,"",{"$f":"IF(P90=\"\",\"\",NETWORKDAYS(C90+1,P90,Hoja1!F82:F198))","v":""},{"$f":"IFERROR(IF(NETWORKDAYS(R90+1,P90,Hoja1!F82:F198)<=0,\"\",NETWORKDAYS(R90+1,P90,Hoja1!F82:F198)),0)","v":""},null,null,{"$f":"IFERROR(VLOOKUP(L90,Hoja1!$A$50:$C$63,2),\"\")","v":""},{"$f":"IFERROR(VLOOKUP(L90,Hoja1!$A$50:$C$63,3),\"\")","v":""}]
["",null,null,null,null,null,null,null,null,null,null,null,null,null,null,null,null,null,null,null,null,{"$f":"IFERROR(WORKDAY(T91,AE91,Hoja1!F83:F199),\"\")","v":""},"",null,"",{"$f":"IF(P91=\"\",\"\",NETWORKDAYS(C91+1,P91,Hoja1!F83:F199))","v":""},{"$f":"IFERROR(IF(NETWORKDAYS(R91+1,P91,Hoja1!F83:F199)<=0,\"\",NETWORKDAYS(R91+1,P91,Hoja1!F83:F199)),0)","v":""},null,null,{"$f":"IFERROR(VLOOKUP(L91,Hoja1!$A$50:$C$63,2),\"\")","v":""},{"$f":"IFERROR(VLOOKUP(L91,Hoja1!$A$50:$C$63,3),\"\")","v":""}]
["",null,null,null,null,null,null,null,null,null,null,null,null,null,null,null,null,null,null,null,null,{"$f":"IFERROR(WORKDAY(T92,AE92,Hoja1!F84:F200),\"\")","v":""},"",null,"",{"$f":"IF(P92=\"\",\"\",NETWORKDAYS(C92+1,P92,Hoja1!F84:F200))","v":""},{"$f":"IFERROR(IF(NETWORKDAYS(R92+1,P92,Hoja1!F84:F200)<=0,\"\",NETWORKDAYS(R92+1,P92,Hoja1!F84:F200)),0)","v":""},null,null,{"$f":"IFERROR(VLOOKUP(L92,Hoja1!$A$50:$C$63,2),\"\")","v":""},{"$f":"IFERROR(VLOOKUP(L92,Hoja1!$A$50:$C$63,3),\"\")","v":""}]
["",null,null,null,null,null,null,null,null,null,null,null,null,null,null,null,null,null,null,null,null,{"$f":"IFERROR(WORKDAY(T93,AE93,Hoja1!F85:F201),\"\")","v":""},"",null,"",{"$f":"IF(P93=\"\",\"\",NETWORKDAYS(C93+1,P93,Hoja1!F85:F201))","v":""},{"$f":"IFERROR(IF(NETWORKDAYS(R93+1,P93,Hoja1!F85:F201)<=0,\"\",NETWORKDAYS(R93+1,P93,Hoja1!F85:F201)),0)","v":""},null,null,{"$f":"IFERROR(VLOOKUP(L93,Hoja1!$A$50:$C$63,2),\"\")","v":""},{"$f":"IFERROR(VLOOKUP(L93,Hoja1!$A$50:$C$63,3),\"\")","v":""}]
["",null,null,null,null,null,null,null,null,null,null,null,null,null,null,null,null,null,null,null,null,{"$f":"IFERROR(WORKDAY(T94,AE94,Hoja1!F86:F202),\"\")","v":""},"",null,"",{"$f":"IF(P94=\"\",\"\",NETWORKDAYS(C94+1,P94,Hoja1!F86:F202))","v":""},{"$f":"IFERROR(IF(NETWORKDAYS(R94+1,P94,Hoja1!F86:F202)<=0,\"\",NETWORKDAYS(R94+1,P94,Hoja1!F86:F202)),0)","v":""},null,null,{"$f":"IFERROR(VLOOKUP(L94,Hoja1!$A$50:$C$63,2),\"\")","v":""},{"$f":"IFERROR(VLOOKUP(L94,Hoja1!$A$50:$C$63,3),\"\")","v":""}]
["",null,null,null,null,null,null,null,null,null,null,null,null,null,null,null,null,null,null,null,null,{"$f":"IFERROR(WORKDAY(T95,AE95,Hoja1!F87:F203),\"\")","v":""},"",null,"",{"$f":"IF(P95=\"\",\"\",NETWORKDAYS(C95+1,P95,Hoja1!F87:F203))","v":""},{"$f":"IFERROR(IF(NETWORKDAYS(R95+1,P95,Hoja1!F87:F203)<=0,\"\",NETWORKDAYS(R95+1,P95,Hoja1!F87:F203)),0)","v":""},null,null,{"$f":"IFERROR(VLOOKUP(L95,Hoja1!$A$50:$C$63,2),\"\")","v":""},{"$f":"IFERROR(VLOOKUP(L95,Hoja1!$A$50:$C$63,3),\"\")","v":""}]
["",null,null,null,null,null,null,null,null,null,null,null,null,null,null,null,null,null,null,null,null,{"$f":"IFERROR(WORKDAY(T96,AE96,Hoja1!F88:F204),\"\")","v":""},"",null,"",{"$f":"IF(P96=\"\",\"\",NETWORKDAYS(C96+1,P96,Hoja1!F88:F204))","v":""},{"$f":"IFERROR(IF(NETWORKDAYS(R96+1,P96,Hoja1!F88:F204)<=0,\"\",NETWORKDAYS(R96+1,P96,Hoja1!F88:F204)),0)","v":""},null,null,{"$f":"IFERROR(VLOOKUP(L96,Hoja1!$A$50:$C$63,2),\"\")","v":""},{"$f":"IFERROR(VLOOKUP(L96,Hoja1!$A$50:$C$63,3),\"\")","v":""}]
["",null,null,null,null,null,null,null,null,null,null,null,null,null,null,null,null,null,null,null,null,{"$f":"IFERROR(WORKDAY(T97,AE97,Hoja1!F89:F205),\"\")","v":""},"",null,"",{"$f":"IF(P97=\"\",\"\",NETWORKDAYS(C97+1,P97,Hoja1!F89:F205))","v":""},{"$f":"IFERROR(IF(NETWORKDAYS(R97+1,P97,Hoja1!F89:F205)<=0,\"\",NETWORKDAYS(R97+1,P97,Hoja1!F89:F205)),0)","v":""},null,null,{"$f":"IFERROR(VLOOKUP(L97,Hoja1!$A$50:$C$63,2),\"\")","v":""},{"$f":"IFERROR(VLOOKUP(L97,Hoja1!$A$50:$C$63,3),\"\")","v":""}]
["",null,null,null,null,null,null,null,null,null,null,null,null,null,null,null,null,null,null,null,null,{"$f":"IFERROR(WORKDAY(T98,AE98,Hoja1!F90:F206),\"\")","v":""},"",null,"",{"$f":"IF(P98=\"\",\"\",NETWORKDAYS(C98+1,P98,Hoja1!F90:F206))","v":""},{"$f":"IFERROR(IF(NETWORKDAYS(R98+1,P98,Hoja1!F90:F206)<=0,\"\",NETWORKDAYS(R98+1,P98,Hoja1!F90:F206)),0)","v":""},null,null,{"$f":"IFERROR(VLOOKUP(L98,Hoja1!$A$50:$C$63,2),\"\")","v":""},{"$f":"IFERROR(VLOOKUP(L98,Hoja1!$A$50:$C$63,3),\"\")","v":""}]
["",null,null,null,null,null,null,null,null,null,null,null,null,null,null,null,null,null,null,null,null,{"$f":"IFERROR(WORKDAY(T99,AE99,Hoja1!F91:F207),\"\")","v":""},"",null,"",{"$f":"IF(P99=\"\",\"\",NETWORKDAYS(C99+1,P99,Hoja1!F91:F207))","v":""},{"$f":"IFERROR(IF(NETWORKDAYS(R99+1,P99,Hoja1!F91:F207)<=0,\"\",NETWORKDAYS(R99+1,P99,Hoja1!F91:F207)),0)","v":""},null,null,{"$f":"IFERROR(VLOOKUP(L99,Hoja1!$A$50:$C$63,2),\"\")","v":""},{"$f":"IFERROR(VLOOKUP(L99,Hoja1!$A$50:$C$63,3),\"\")","v":""}]
["",null,null,null,null,null,null,null,null,null,null,null,null,null,null,null,null,null,null,null,null,{"$f":"IFERROR(WORKDAY(T100,AE100,Hoja1!F92:F208),\"\")","v":""},"",null,"",{"$f":"IF(P100=\"\",\"\",NETWORKDAYS(C100+1,P100,Hoja1!F92:F208))","v":""},{"$f":"IFERROR(IF(NETWORKDAYS(R100+1,P100,Hoja1!F92:F208)<=0,\"\",NETWORKDAYS(R100+1,P100,Hoja1!F92:F208)),0)","v":""},null,null,{"$f":"IFERROR(VLOOKUP(L100,Hoja1!$A$50:$C$63,2),\"\")","v":""},{"$f":"IFERROR(VLOOKUP(L100,Hoja1!$A$50:$C$63,3),\"\")","v":""}]
["",null,null,null,null,null,null,null,null,null,null,null,null,null,null,null,null,null,null,null,null,{"$f":"IFERROR(WORKDAY(T101,AE101,Hoja1!F93:F209),\"\")","v":""},"",null,"",{"$f":"IF(P101=\"\",\"\",NETWORKDAYS(C101+1,P101,Hoja1!F93:F209))","v":""},{"$f":"IFERROR(IF(NETWORKDAYS(R101+1,P101,Hoja1!F93:F209)<=0,\"\",NETWORKDAYS(R101+1,P101,Hoja1!F93:F209)),0)","v":""},null,null,{"$f":"IFERROR(VLOOKUP(L101,Hoja1!$A$50:$C$63,2),\"\")","v":""},{"$f":"IFERROR(VLOOKUP(L101,Hoja1!$A$50:$C$63,3),\"\")","v":""}]
["",null,null,null,null,null,null,null,null,null,null,null,null,null,null,null,null,null,null,null,null,{"$f":"IFERROR(WORKDAY(T102,AE102,Hoja1!F94:F210),\"\")","v":""},"",null,"",{"$f":"IF(P102=\"\",\"\",NETWORKDAYS(C102+1,P102,Hoja1!F94:F210))","v":""},{"$f":"IFERROR(IF(NETWORKDAYS(R102+1,P102,Hoja1!F94:F210)<=0,\"\",NETWORKDAYS(R102+1,P102,Hoja1!F94:F210)),0)","v":""},null,null,{"$f":"IFERROR(VLOOKUP(L102,Hoja1!$A$50:$C$63,2),\"\")","v":""},{"$f":"IFERROR(VLOOKUP(L102,Hoja1!$A$50:$C$63,3),\"\")","v":""}]
["",null,null,null,null,null,null,null,null,null,null,null,null,null,null,null,null,null,null,null,null,{"$f":"IFERROR(WORKDAY(T103,AE103,Hoja1!F95:F211),\"\")","v":""},"",null,"",{"$f":"IF(P103=\"\",\"\",NETWORKDAYS(C103+1,P103,Hoja1!F95:F211))","v":""},{"$f":"IFERROR(IF(NETWORKDAYS(R103+1,P103,Hoja1!F95:F211)<=0,\"\",NETWORKDAYS(R103+1,P103,Hoja1!F95:F211)),0)","v":""},null,null,{"$f":"IFERROR(VLOOKUP(L103,Hoja1!$A$50:$C$63,2),\"\")","v":""},{"$f":"IFERROR(VLOOKUP(L103,Hoja1!$A$50:$C$63,3),\"\")","v":""}]
["",null,null,null,null,null,null,null,null,null,null,null,null,null,null,null,null,null,null,null,null,{"$f":"IFERROR(WORKDAY(T104,AE104,Hoja1!F96:F212),\"\")","v":""},"",null,"",{"$f":"IF(P104=\"\",\"\",NETWORKDAYS(C104+1,P104,Hoja1!F96:F212))","v":""},{"$f":"IFERROR(IF(NETWORKDAYS(R104+1,P104,Hoja1!F96:F212)<=0,\"\",NETWORKDAYS(R104+1,P104,Hoja1!F96:F212)),0)","v":""},null,null,{"$f":"IFERROR(VLOOKUP(L104,Hoja1!$A$50:$C$63,2),\"\")","v":""},{"$f":"IFERROR(VLOOKUP(L104,Hoja1!$A$50:$C$63,3),\"\")","v":""}]
["",null,null,null,null,null,null,null,null,null,null,null,null,null,null,null,null,null,null,null,null,{"$f":"IFERROR(WORKDAY(T105,AE105,Hoja1!F97:F213),\"\")","v":""},"",null,"",{"$f":"IF(P105=\"\",\"\",NETWORKDAYS(C105+1,P105,Hoja1!F97:F213))","v":""},{"$f":"IFERROR(IF(NETWORKDAYS(R105+1,P105,Hoja1!F97:F213)<=0,\"\",NETWORKDAYS(R105+1,P105,Hoja1!F97:F213)),0)","v":""},null,null,{"$f":"IFERROR(VLOOKUP(L105,Hoja1!$A$50:$C$63,2),\"\")","v":""},{"$f":"IFERROR(VLOOKUP(L105,Hoja1!$A$50:$C$63,3),\"\")","v":""}]
["",null,null,null,null,null,null,null,null,null,null,null,null,null,null,null,null,null,null,null,null,{"$f":"IFERROR(WORKDAY(T106,AE106,Hoja1!F98:F214),\"\")","v":""},"",null,"",{"$f":"IF(P106=\"\",\"\",NETWORKDAYS(C106+1,P106,Hoja1!F98:F214))","v":""},{"$f":"IFERROR(IF(NETWORKDAYS(R106+1,P106,Hoja1!F98:F214)<=0,\"\",NETWORKDAYS(R106+1,P106,Hoja1!F98:F214)),0)","v":""},null,null,{"$f":"IFERROR(VLOOKUP(L106,Hoja1!$A$50:$C$63,2),\"\")","v":""},{"$f":"IFERROR(VLOOKUP(L106,Hoja1!$A$50:$C$63,3),\"\")","v":""}]
["",null,null,null,null,null,null,null,null,null,null,null,null,null,null,null,null,null,null,null,null,{"$f":"IFERROR(WORKDAY(T107,AE107,Hoja1!F99:F215),\"\")","v":""},"",null,"",{"$f":"IF(P107=\"\",\"\",NETWORKDAYS(C107+1,P107,Hoja1!F99:F215))","v":""},{"$f":"IFERROR(IF(NETWORKDAYS(R107+1,P107,Hoja1!F99:F215)<=0,\"\",NETWORKDAYS(R107+1,P107,Hoja1!F99:F215)),0)","v":""},null,null,{"$f":"IFERROR(VLOOKUP(L107,Hoja1!$A$50:$C$63,2),\"\")","v":""},{"$f":"IFERROR(VLOOKUP(L107,Hoja1!$A$50:$C$63,3),\"\")","v":""}]
["",null,null,null,null,null,null,null,null,null,null,null,null,null,null,null,null,null,null,null,null,{"$f":"IFERROR(WORKDAY(T108,AE108,Hoja1!F100:F216),\"\")","v":""},"",null,"",{"$f":"IF(P108=\"\",\"\",NETWORKDAYS(C108+1,P108,Hoja1!F100:F216))","v":""},{"$f":"IFERROR(IF(NETWORKDAYS(R108+1,P108,Hoja1!F100:F216)<=0,\"\",NETWORKDAYS(R108+1,P108,Hoja1!F100:F216)),0)","v":""},null,null,{"$f":"IFERROR(VLOOKUP(L108,Hoja1!$A$50:$C$63,2),\"\")","v":""},{"$f":"IFERROR(VLOOKUP(L108,Hoja1!$A$50:$C$63,3),\"\")","v":""}]
["",null,null,null,null,null,null,null,null,null,null,null,null,null,null,null,null,null,null,null,null,{"$f":"IFERROR(WORKDAY(T109,AE109,Hoja1!F101:F217),\"\")","v":""},"",null,"",{"$f":"IF(P109=\"\",\"\",NETWORKDAYS(C109+1,P109,Hoja1!F101:F217))","v":""},{"$f":"IFERROR(IF(NETWORKDAYS(R109+1,P109,Hoja1!F101:F217)<=0,\"\",NETWORKDAYS(R109+1,P109,Hoja1!F101:F217)),0)","v":""},null,null,{"$f":"IFERROR(VLOOKUP(L109,Hoja1!$A$50:$C$63,2),\"\")","v":""},{"$f":"IFERROR(VLOOKUP(L109,Hoja1!$A$50:$C$63,3),\"\")","v":""}]
["",null,null,null,null,null,null,null,null,null,null,null,null,null,null,null,null,null,null,null,null,{"$f":"IFERROR(WORKDAY(T110,AE110,Hoja1!F102:F218),\"\")","v":""},"",null,"",{"$f":"IF(P110=\"\",\"\",NETWORKDAYS(C110+1,P110,Hoja1!F102:F218))","v":""},{"$f":"IFERROR(IF(NETWORKDAYS(R110+1,P110,Hoja1!F102:F218)<=0,\"\",NETWORKDAYS(R110+1,P110,Hoja1!F102:F218)),0)","v":""},null,null,{"$f":"IFERROR(VLOOKUP(L110,Hoja1!$A$50:$C$63,2),\"\")","v":""},{"$f":"IFERROR(VLOOKUP(L110,Hoja1!$A$50:$C$63,3),\"\")","v":""}]
["",null,null,null,null,null,null,null,null,null,null,null,null,null,null,null,null,null,null,null,null,{"$f":"IFERROR(WORKDAY(T111,AE111,Hoja1!F103:F219),\"\")","v":""},"",null,"",{"$f":"IF(P111=\"\",\"\",NETWORKDAYS(C111+1,P111,Hoja1!F103:F219))","v":""},{"$f":"IFERROR(IF(NETWORKDAYS(R111+1,P111,Hoja1!F103:F219)<=0,\"\",NETWORKDAYS(R111+1,P111,Hoja1!F103:F219)),0)","v":""},null,null,{"$f":"IFERROR(VLOOKUP(L111,Hoja1!$A$50:$C$63,2),\"\")","v":""},{"$f":"IFERROR(VLOOKUP(L111,Hoja1!$A$50:$C$63,3),\"\")","v":""}]
["",null,null,null,null,null,null,null,null,null,null,null,null,null,null,null,null,null,null,null,null,{"$f":"IFERROR(WORKDAY(T112,AE112,Hoja1!F104:F220),\"\")","v":""},"",null,"",{"$f":"IF(P112=\"\",\"\",NETWORKDAYS(C112+1,P112,Hoja1!F104:F220))","v":""},{"$f":"IFERROR(IF(NETWORKDAYS(R112+1,P112,Hoja1!F104:F220)<=0,\"\",NETWORKDAYS(R112+1,P112,Hoja1!F104:F220)),0)","v":""},null,null,{"$f":"IFERROR(VLOOKUP(L112,Hoja1!$A$50:$C$63,2),\"\")","v":""},{"$f":"IFERROR(VLOOKUP(L112,Hoja1!$A$50:$C$63,3),\"\")","v":""}]
["",null,null,null,null,null,null,null,null,null,null,null,null,null,null,null,null,null,null,null,null,{"$f":"IFERROR(WORKDAY(T113,AE113,Hoja1!F105:F221),\"\")","v":""},"",null,"",{"$f":"IF(P113=\"\",\"\",NETWORKDAYS(C113+1,P113,Hoja1!F105:F221))","v":""},{"$f":"IFERROR(IF(NETWORKDAYS(R113+1,P113,Hoja1!F105:F221)<=0,\"\",NETWORKDAYS(R113+1,P113,Hoja1!F105:F221)),0)","v":""},null,null,{"$f":"IFERROR(VLOOKUP(L113,Hoja1!$A$50:$C$63,2),\"\")","v":""},{"$f":"IFERROR(VLOOKUP(L113,Hoja1!$A$50:$C$63,3),\"\")","v":""}]
["",null,null,null,null,null,null,null,null,null,null,null,null,null,null,null,null,null,null,null,null,{"$f":"IFERROR(WORKDAY(T114,AE114,Hoja1!F106:F222),\"\")","v":""},"",null,"",{"$f":"IF(P114=\"\",\"\",NETWORKDAYS(C114+1,P114,Hoja1!F106:F222))","v":""},{"$f":"IFERROR(IF(NETWORKDAYS(R114+1,P114,Hoja1!F106:F222)<=0,\"\",NETWORKDAYS(R114+1,P114,Hoja1!F106:F222)),0)","v":""},null,null,{"$f":"IFERROR(VLOOKUP(L114,Hoja1!$A$50:$C$63,2),\"\")","v":""},{"$f":"IFERROR(VLOOKUP(L114,Hoja1!$A$50:$C$63,3),\"\")","v":""}]
["",null,null,null,null,null,null,null,null,null,null,null,null,null,null,null,null,null,null,null,null,{"$f":"IFERROR(WORKDAY(T115,AE115,Hoja1!F107:F223),\"\")","v":""},"",null,"",{"$f":"IF(P115=\"\",\"\",NETWORKDAYS(C115+1,P115,Hoja1!F107:F223))","v":""},{"$f":"IFERROR(IF(NETWORKDAYS(R115+1,P115,Hoja1!F107:F223)<=0,\"\",NETWORKDAYS(R115+1,P115,Hoja1!F107:F223)),0)","v":""},null,null,{"$f":"IFERROR(VLOOKUP(L115,Hoja1!$A$50:$C$63,2),\"\")","v":""},{"$f":"IFERROR(VLOOKUP(L115,Hoja1!$A$50:$C$63,3),\"\")","v":""}]
["",null,null,null,null,null,null,null,null,null,null,null,null,null,null,null,null,null,null,null,null,{"$f":"IFERROR(WORKDAY(T116,AE116,Hoja1!F108:F224),\"\")","v":""},"",null,"",{"$f":"IF(P116=\"\",\"\",NETWORKDAYS(C116+1,P116,Hoja1!F108:F224))","v":""},{"$f":"IFERROR(IF(NETWORKDAYS(R116+1,P116,Hoja1!F108:F224)<=0,\"\",NETWORKDAYS(R116+1,P116,Hoja1!F108:F224)),0)","v":""},null,null,{"$f":"IFERROR(VLOOKUP(L116,Hoja1!$A$50:$C$63,2),\"\")","v":""},{"$f":"IFERROR(VLOOKUP(L116,Hoja1!$A$50:$C$63,3),\"\")","v":""}]
["",null,null,null,null,null,null,null,null,null,null,null,null,null,null,null,null,null,null,null,null,{"$f":"IFERROR(WORKDAY(T117,AE117,Hoja1!F109:F225),\"\")","v":""},"",null,"",{"$f":"IF(P117=\"\",\"\",NETWORKDAYS(C117+1,P117,Hoja1!F109:F225))","v":""},{"$f":"IFERROR(IF(NETWORKDAYS(R117+1,P117,Hoja1!F109:F225)<=0,\"\",NETWORKDAYS(R117+1,P117,Hoja1!F109:F225)),0)","v":""},null,null,{"$f":"IFERROR(VLOOKUP(L117,Hoja1!$A$50:$C$63,2),\"\")","v":""},{"$f":"IFERROR(VLOOKUP(L117,Hoja1!$A$50:$C$63,3),\"\")","v":""}]
["",null,null,null,null,null,null,null,null,null,null,null,null,null,null,null,null,null,null,null,null,{"$f":"IFERROR(WORKDAY(T118,AE118,Hoja1!F110:F226),\"\")","v":""},"",null,"",{"$f":"IF(P118=\"\",\"\",NETWORKDAYS(C118+1,P118,Hoja1!F110:F226))","v":""},{"$f":"IFERROR(IF(NETWORKDAYS(R118+1,P118,Hoja1!F110:F226)<=0,\"\",NETWORKDAYS(R118+1,P118,Hoja1!F110:F226)),0)","v":""},null,null,{"$f":"IFERROR(VLOOKUP(L118,Hoja1!$A$50:$C$63,2),\"\")","v":""},{"$f":"IFERROR(VLOOKUP(L118,Hoja1!$A$50:$C$63,3),\"\")","v":""}]
["",null,null,null,null,null,null,null,null,null,null,null,null,null,null,null,null,null,null,null,null,{"$f":"IFERROR(WORKDAY(T119,AE119,Hoja1!F111:F227),\"\")","v":""},"",null,"",{"$f":"IF(P119=\"\",\"\",NETWORKDAYS(C119+1,P119,Hoja1!F111:F227))","v":""},{"$f":"IFERROR(IF(NETWORKDAYS(R119+1,P119,Hoja1!F111:F227)<=0,\"\",NETWORKDAYS(R119+1,P119,Hoja1!F111:F227)),0)","v":""},null,null,{"$f":"IFERROR(VLOOKUP(L119,Hoja1!$A$50:$C$63,2),\"\")","v":""},{"$f":"IFERROR(VLOOKUP(L119,Hoja1!$A$50:$C$63,3),\"\")","v":""}]
["",null,null,null,null,null,null,null,null,null,null,null,null,null,null,null,null,null,null,null,null,{"$f":"IFERROR(WORKDAY(T120,AE120,Hoja1!F112:F228),\"\")","v":""},"",null,"",{"$f":"IF(P120=\"\",\"\",NETWORKDAYS(C120+1,P120,Hoja1!F112:F228))","v":""},{"$f":"IFERROR(IF(NETWORKDAYS(R120+1,P120,Hoja1!F112:F228)<=0,\"\",NETWORKDAYS(R120+1,P120,Hoja1!F112:F228)),0)","v":""},null,null,{"$f":"IFERROR(VLOOKUP(L120,Hoja1!$A$50:$C$63,2),\"\")","v":""},{"$f":"IFERROR(VLOOKUP(L120,Hoja1!$A$50:$C$63,3),\"\")","v":""}]
["",null,null,null,null,null,null,null,null,null,null,null,null,null,null,null,null,null,null,null,null,{"$f":"IFERROR(WORKDAY(T121,AE121,Hoja1!F113:F229),\"\")","v":""},"",null,"",{"$f":"IF(P121=\"\",\"\",NETWORKDAYS(C121+1,P121,Hoja1!F113:F229))","v":""},{"$f":"IFERROR(IF(NETWORKDAYS(R121+1,P121,Hoja1!F113:F229)<=0,\"\",NETWORKDAYS(R121+1,P121,Hoja1!F113:F229)),0)","v":""},null,null,{"$f":"IFERROR(VLOOKUP(L121,Hoja1!$A$50:$C$63,2),\"\")","v":""},{"$f":"IFERROR(VLOOKUP(L121,Hoja1!$A$50:$C$63,3),\"\")","v":""}]
["",null,null,null,null,null,null,null,null,null,null,null,null,null,null,null,null,null,null,null,null,{"$f":"IFERROR(WORKDAY(T122,AE122,Hoja1!F114:F230),\"\")","v":""},"",null,"",{"$f":"IF(P122=\"\",\"\",NETWORKDAYS(C122+1,P122,Hoja1!F114:F230))","v":""},{"$f":"IFERROR(IF(NETWORKDAYS(R122+1,P122,Hoja1!F114:F230)<=0,\"\",NETWORKDAYS(R122+1,P122,Hoja1!F114:F230)),0)","v":""},null,null,{"$f":"IFERROR(VLOOKUP(L122,Hoja1!$A$50:$C$63,2),\"\")","v":""},{"$f":"IFERROR(VLOOKUP(L122,Hoja1!$A$50:$C$63,3),\"\")","v":""}]
["",null,null,null,null,null,null,null,null,null,null,null,null,null,null,null,null,null,null,null,null,{"$f":"IFERROR(WORKDAY(T123,AE123,Hoja1!F115:F231),\"\")","v":""},"",null,"",{"$f":"IF(P123=\"\",\"\",NETWORKDAYS(C123+1,P123,Hoja1!F115:F231))","v":""},{"$f":"IFERROR(IF(NETWORKDAYS(R123+1,P123,Hoja1!F115:F231)<=0,\"\",NETWORKDAYS(R123+1,P123,Hoja1!F115:F231)),0)","v":""},null,null,{"$f":"IFERROR(VLOOKUP(L123,Hoja1!$A$50:$C$63,2),\"\")","v":""},{"$f":"IFERROR(VLOOKUP(L123,Hoja1!$A$50:$C$63,3),\"\")","v":""}]
["",null,null,null,null,null,null,null,null,null,null,null,null,null,null,null,null,null,null,null,null,{"$f":"IFERROR(WORKDAY(T124,AE124,Hoja1!F116:F232),\"\")","v":""},"",null,"",{"$f":"IF(P124=\"\",\"\",NETWORKDAYS(C124+1,P124,Hoja1!F116:F232))","v":""},{"$f":"IFERROR(IF(NETWORKDAYS(R124+1,P124,Hoja1!F116:F232)<=0,\"\",NETWORKDAYS(R124+1,P124,Hoja1!F116:F232)),0)","v":""},null,null,{"$f":"IFERROR(VLOOKUP(L124,Hoja1!$A$50:$C$63,2),\"\")","v":""},{"$f":"IFERROR(VLOOKUP(L124,Hoja1!$A$50:$C$63,3),\"\")","v":""}]
["",null,null,null,null,null,null,null,null,null,null,null,null,null,null,null,null,null,null,null,null,{"$f":"IFERROR(WORKDAY(T125,AE125,Hoja1!F117:F233),\"\")","v":""},"",null,"",{"$f":"IF(P125=\"\",\"\",NETWORKDAYS(C125+1,P125,Hoja1!F117:F233))","v":""},{"$f":"IFERROR(IF(NETWORKDAYS(R125+1,P125,Hoja1!F117:F233)<=0,\"\",NETWORKDAYS(R125+1,P125,Hoja1!F117:F233)),0)","v":""},null,null,{"$f":"IFERROR(VLOOKUP(L125,Hoja1!$A$50:$C$63,2),\"\")","v":""},{"$f":"IFERROR(VLOOKUP(L125,Hoja1!$A$50:$C$63,3),\"\")","v":""}]
["",null,null,null,null,null,null,null,null,null,null,null,null,null,null,null,null,null,null,null,null,{"$f":"IFERROR(WORKDAY(T126,AE126,Hoja1!F118:F234),\"\")","v":""},"",null,"",{"$f":"IF(P126=\"\",\"\",NETWORKDAYS(C126+1,P126,Hoja1!F118:F234))","v":""},{"$f":"IFERROR(IF(NETWORKDAYS(R126+1,P126,Hoja1!F118:F234)<=0,\"\",NETWORKDAYS(R126+1,P126,Hoja1!F118:F234)),0)","v":""},null,null,{"$f":"IFERROR(VLOOKUP(L126,Hoja1!$A$50:$C$63,2),\"\")","v":""},{"$f":"IFERROR(VLOOKUP(L126,Hoja1!$A$50:$C$63,3),\"\")","v":""}]
["",null,null,null,null,null,null,null,null,null,null,null,null,null,null,null,null,null,null,null,null,{"$f":"IFERROR(WORKDAY(T127,AE127,Hoja1!F119:F235),\"\")","v":""},"",null,"",{"$f":"IF(P127=\"\",\"\",NETWORKDAYS(C127+1,P127,Hoja1!F119:F235))","v":""},{"$f":"IFERROR(IF(NETWORKDAYS(R127+1,P127,Hoja1!F119:F235)<=0,\"\",NETWORKDAYS(R127+1,P127,Hoja1!F119:F235)),0)","v":""},null,null,{"$f":"IFERROR(VLOOKUP(L127,Hoja1!$A$50:$C$63,2),\"\")","v":""},{"$f":"IFERROR(VLOOKUP(L127,Hoja1!$A$50:$C$63,3),\"\")","v":""}]
["",null,null,null,null,null,null,null,null,null,null,null,null,null,null,null,null,null,null,null,null,{"$f":"IFERROR(WORKDAY(T128,AE128,Hoja1!F120:F236),\"\")","v":""},"",null,"",{"$f":"IF(P128=\"\",\"\",NETWORKDAYS(C128+1,P128,Hoja1!F120:F236))","v":""},{"$f":"IFERROR(IF(NETWORKDAYS(R128+1,P128,Hoja1!F120:F236)<=0,\"\",NETWORKDAYS(R128+1,P128,Hoja1!F120:F236)),0)","v":""},null,null,{"$f":"IFERROR(VLOOKUP(L128,Hoja1!$A$50:$C$63,2),\"\")","v":""},{"$f":"IFERROR(VLOOKUP(L128,Hoja1!$A$50:$C$63,3),\"\")","v":""}]
["",null,null,null,null,null,null,null,null,null,null,null,null,null,null,null,null,null,null,null,null,{"$f":"IFERROR(WORKDAY(T129,AE129,Hoja1!F121:F237),\"\")","v":""},"",null,"",{"$f":"IF(P129=\"\",\"\",NETWORKDAYS(C129+1,P129,Hoja1!F121:F237))","v":""},{"$f":"IFERROR(IF(NETWORKDAYS(R129+1,P129,Hoja1!F121:F237)<=0,\"\",NETWORKDAYS(R129+1,P129,Hoja1!F121:F237)),0)","v":""},null,null,{"$f":"IFERROR(VLOOKUP(L129,Hoja1!$A$50:$C$63,2),\"\")","v":""},{"$f":"IFERROR(VLOOKUP(L129,Hoja1!$A$50:$C$63,3),\"\")","v":""}]
["",null,null,null,null,null,null,null,null,null,null,null,null,null,null,null,null,null,null,null,null,{"$f":"IFERROR(WORKDAY(T130,AE130,Hoja1!F122:F238),\"\")","v":""},"",null,"",{"$f":"IF(P130=\"\",\"\",NETWORKDAYS(C130+1,P130,Hoja1!F122:F238))","v":""},{"$f":"IFERROR(IF(NETWORKDAYS(R130+1,P130,Hoja1!F122:F238)<=0,\"\",NETWORKDAYS(R130+1,P130,Hoja1!F122:F238)),0)","v":""},null,null,{"$f":"IFERROR(VLOOKUP(L130,Hoja1!$A$50:$C$63,2),\"\")","v":""},{"$f":"IFERROR(VLOOKUP(L130,Hoja1!$A$50:$C$63,3),\"\")","v":""}]
["",null,null,null,null,null,null,null,null,null,null,null,null,null,null,null,null,null,null,null,null,{"$f":"IFERROR(WORKDAY(T131,AE131,Hoja1!F123:F239),\"\")","v":""},"",null,"",{"$f":"IF(P131=\"\",\"\",NETWORKDAYS(C131+1,P131,Hoja1!F123:F239))","v":""},{"$f":"IFERROR(IF(NETWORKDAYS(R131+1,P131,Hoja1!F123:F239)<=0,\"\",NETWORKDAYS(R131+1,P131,Hoja1!F123:F239)),0)","v":""},null,null,{"$f":"IFERROR(VLOOKUP(L131,Hoja1!$A$50:$C$63,2),\"\")","v":""},{"$f":"IFERROR(VLOOKUP(L131,Hoja1!$A$50:$C$63,3),\"\")","v":""}]
["",null,null,null,null,null,null,null,null,null,null,null,null,null,null,null,null,null,null,null,null,{"$f":"IFERROR(WORKDAY(T132,AE132,Hoja1!F124:F240),\"\")","v":""},"",null,"",{"$f":"IF(P132=\"\",\"\",NETWORKDAYS(C132+1,P132,Hoja1!F124:F240))","v":""},{"$f":"IFERROR(IF(NETWORKDAYS(R132+1,P132,Hoja1!F124:F240)<=0,\"\",NETWORKDAYS(R132+1,P132,Hoja1!F124:F240)),0)","v":""},null,null,{"$f":"IFERROR(VLOOKUP(L132,Hoja1!$A$50:$C$63,2),\"\")","v":""},{"$f":"IFERROR(VLOOKUP(L132,Hoja1!$A$50:$C$63,3),\"\")","v":""}]
["",null,null,null,null,null,null,null,null,null,null,null,null,null,null,null,null,null,null,null,null,{"$f":"IFERROR(WORKDAY(T133,AE133,Hoja1!F125:F241),\"\")","v":""},"",null,"",{"$f":"IF(P133=\"\",\"\",NETWORKDAYS(C133+1,P133,Hoja1!F125:F241))","v":""},{"$f":"IFERROR(IF(NETWORKDAYS(R133+1,P133,Hoja1!F125:F241)<=0,\"\",NETWORKDAYS(R133+1,P133,Hoja1!F125:F241)),0)","v":""},null,null,{"$f":"IFERROR(VLOOKUP(L133,Hoja1!$A$50:$C$63,2),\"\")","v":""},{"$f":"IFERROR(VLOOKUP(L133,Hoja1!$A$50:$C$63,3),\"\")","v":""}]
["",null,null,null,null,null,null,null,null,null,null,null,null,null,null,null,null,null,null,null,null,{"$f":"IFERROR(WORKDAY(T134,AE134,Hoja1!F126:F242),\"\")","v":""},"",null,"",{"$f":"IF(P134=\"\",\"\",NETWORKDAYS(C134+1,P134,Hoja1!F126:F242))","v":""},{"$f":"IFERROR(IF(NETWORKDAYS(R134+1,P134,Hoja1!F126:F242)<=0,\"\",NETWORKDAYS(R134+1,P134,Hoja1!F126:F242)),0)","v":""},null,null,{"$f":"IFERROR(VLOOKUP(L134,Hoja1!$A$50:$C$63,2),\"\")","v":""},{"$f":"IFERROR(VLOOKUP(L134,Hoja1!$A$50:$C$63,3),\"\")","v":""}]
["",null,null,null,null,null,null,null,null,null,null,null,null,null,null,null,null,null,null,null,null,{"$f":"IFERROR(WORKDAY(T135,AE135,Hoja1!F127:F243),\"\")","v":""},"",null,"",{"$f":"IF(P135=\"\",\"\",NETWORKDAYS(C135+1,P135,Hoja1!F127:F243))","v":""},{"$f":"IFERROR(IF(NETWORKDAYS(R135+1,P135,Hoja1!F127:F243)<=0,\"\",NETWORKDAYS(R135+1,P135,Hoja1!F127:F243)),0)","v":""},null,null,{"$f":"IFERROR(VLOOKUP(L135,Hoja1!$A$50:$C$63,2),\"\")","v":""},{"$f":"IFERROR(VLOOKUP(L135,Hoja1!$A$50:$C$63,3),\"\")","v":""}]
["",null,null,null,null,null,null,null,null,null,null,null,null,null,null,null,null,null,null,null,null,{"$f":"IFERROR(WORKDAY(T136,AE136,Hoja1!F128:F244),\"\")","v":""},"",null,"",{"$f":"IF(P136=\"\",\"\",NETWORKDAYS(C136+1,P136,Hoja1!F128:F244))","v":""},{"$f":"IFERROR(IF(NETWORKDAYS(R136+1,P136,Hoja1!F128:F244)<=0,\"\",NETWORKDAYS(R136+1,P136,Hoja1!F128:F244)),0)","v":""},null,null,{"$f":"IFERROR(VLOOKUP(L136,Hoja1!$A$50:$C$63,2),\"\")","v":""},{"$f":"IFERROR(VLOOKUP(L136,Hoja1!$A$50:$C$63,3),\"\")","v":""}]
["",null,null,null,null,null,null,null,null,null,null,null,null,null,null,null,null,null,null,null,null,{"$f":"IFERROR(WORKDAY(T137,AE137,Hoja1!F129:F245),\"\")","v":""},"",null,"",{"$f":"IF(P137=\"\",\"\",NETWORKDAYS(C137+1,P137,Hoja1!F129:F245))","v":""},{"$f":"IFERROR(IF(NETWORKDAYS(R137+1,P137,Hoja1!F129:F245)<=0,\"\",NETWORKDAYS(R137+1,P137,Hoja1!F129:F245)),0)","v":""},null,null,{"$f":"IFERROR(VLOOKUP(L137,Hoja1!$A$50:$C$63,2),\"\")","v":""},{"$f":"IFERROR(VLOOKUP(L137,Hoja1!$A$50:$C$63,3),\"\")","v":""}]
["",null,null,null,null,null,null,null,null,null,null,null,null,null,null,null,null,null,null,null,null,{"$f":"IFERROR(WORKDAY(T138,AE138,Hoja1!F130:F246),\"\")","v":""},"",null,"",{"$f":"IF(P138=\"\",\"\",NETWORKDAYS(C138+1,P138,Hoja1!F130:F246))","v":""},{"$f":"IFERROR(IF(NETWORKDAYS(R138+1,P138,Hoja1!F130:F246)<=0,\"\",NETWORKDAYS(R138+1,P138,Hoja1!F130:F246)),0)","v":""},null,null,{"$f":"IFERROR(VLOOKUP(L138,Hoja1!$A$50:$C$63,2),\"\")","v":""},{"$f":"IFERROR(VLOOKUP(L138,Hoja1!$A$50:$C$63,3),\"\")","v":""}]
["",null,null,null,null,null,null,null,null,null,null,null,null,null,null,null,null,null,null,null,null,{"$f":"IFERROR(WORKDAY(T139,AE139,Hoja1!F131:F247),\"\")","v":""},"",null,{"$f":"+IF(C139=\"\",\"\",IF(P139=\"\",\"SIN RESPUESTA\",(IF(P139<=R139,\"A TIEMPO\",\"FUERA DE TIEMPO\"))))","v":""},{"$f":"IF(P139=\"\",\"\",NETWORKDAYS(C139+1,P139,Hoja1!F131:F247))","v":""},{"$f":"IFERROR(IF(NETWORKDAYS(R139+1,P139,Hoja1!F131:F247)<=0,\"\",NETWORKDAYS(R139+1,P139,Hoja1!F131:F247)),0)","v":""},null,null,{"$f":"IFERROR(VLOOKUP(L139,Hoja1!$A$50:$C$63,2),\"\")","v":""},{"$f":"IFERROR(VLOOKUP(L139,Hoja1!$A$50:$C$63,3),\"\")","v":""}]
["",null,null,null,null,null,null,null,null,null,null,null,null,null,null,null,null,null,null,null,null,{"$f":"IFERROR(WORKDAY(T140,AE140,Hoja1!F132:F248),\"\")","v":""},{"$f":"+IF(T140=\"\",\"\",IF(U140=\"\",\"SIN RESPUESTA\",(IF(U140<=V140,\"A TIEMPO\",\"FUERA DE TIEMPO\"))))","v":""},null,"",{"$f":"IF(P140=\"\",\"\",NETWORKDAYS(C140+1,P140,Hoja1!F132:F248))","v":""},{"$f":"IFERROR(IF(NETWORKDAYS(R140+1,P140,Hoja1!F132:F248)<=0,\"\",NETWORKDAYS(R140+1,P140,Hoja1!F132:F248)),0)","v":""},null,null,{"$f":"IFERROR(VLOOKUP(L140,Hoja1!$A$50:$C$63,2),\"\")","v":""},{"$f":"IFERROR(VLOOKUP(L140,Hoja1!$A$50:$C$63,3),\"\")","v":""}]
["",null,null,null,null,null,null,null,null,null,null,null,null,null,null,null,null,null,null,null,null,{"$f":"IFERROR(WORKDAY(T141,AE141,Hoja1!F133:F249),\"\")","v":""},"",null,"",{"$f":"IF(P141=\"\",\"\",NETWORKDAYS(C141+1,P141,Hoja1!F133:F249))","v":""},{"$f":"IFERROR(IF(NETWORKDAYS(R141+1,P141,Hoja1!F133:F249)<=0,\"\",NETWORKDAYS(R141+1,P141,Hoja1!F133:F249)),0)","v":""},null,null,{"$f":"IFERROR(VLOOKUP(L141,Hoja1!$A$50:$C$63,2),\"\")","v":""},{"$f":"IFERROR(VLOOKUP(L141,Hoja1!$A$50:$C$63,3),\"\")","v":""}]
["",null,null,null,null,null,null,null,null,null,null,null,null,null,null,null,null,null,null,null,null,{"$f":"IFERROR(WORKDAY(T142,AE142,Hoja1!F134:F250),\"\")","v":""},"",null,"",{"$f":"IF(P142=\"\",\"\",NETWORKDAYS(C142+1,P142,Hoja1!F134:F250))","v":""},{"$f":"IFERROR(IF(NETWORKDAYS(R142+1,P142,Hoja1!F134:F250)<=0,\"\",NETWORKDAYS(R142+1,P142,Hoja1!F134:F250)),0)","v":""},null,null,{"$f":"IFERROR(VLOOKUP(L142,Hoja1!$A$50:$C$63,2),\"\")","v":""},{"$f":"IFERROR(VLOOKUP(L142,Hoja1!$A$50:$C$63,3),\"\")","v":""}]
["",null,null,null,null,null,null,null,null,null,null,null,null,null,null,null,null,null,null,null,null,{"$f":"IFERROR(WORKDAY(T143,AE143,Hoja1!F135:F251),\"\")","v":""},"",null,"",{"$f":"IF(P143=\"\",\"\",NETWORKDAYS(C143+1,P143,Hoja1!F135:F251))","v":""},{"$f":"IFERROR(IF(NETWORKDAYS(R143+1,P143,Hoja1!F135:F251)<=0,\"\",NETWORKDAYS(R143+1,P143,Hoja1!F135:F251)),0)","v":""},null,null,{"$f":"IFERROR(VLOOKUP(L143,Hoja1!$A$50:$C$63,2),\"\")","v":""},{"$f":"IFERROR(VLOOKUP(L143,Hoja1!$A$50:$C$63,3),\"\")","v":""}]
["",null,null,null,null,null,null,null,null,null,null,null,null,null,null,null,null,null,null,null,null,{"$f":"IFERROR(WORKDAY(T144,AE144,Hoja1!F136:F252),\"\")","v":""},"",null,"",{"$f":"IF(P144=\"\",\"\",NETWORKDAYS(C144+1,P144,Hoja1!F136:F252))","v":""},{"$f":"IFERROR(IF(NETWORKDAYS(R144+1,P144,Hoja1!F136:F252)<=0,\"\",NETWORKDAYS(R144+1,P144,Hoja1!F136:F252)),0)","v":""},null,null,{"$f":"IFERROR(VLOOKUP(L144,Hoja1!$A$50:$C$63,2),\"\")","v":""},{"$f":"IFERROR(VLOOKUP(L144,Hoja1!$A$50:$C$63,3),\"\")","v":""}]
[{"$f":"IF(B145<>\"\",A144+1,\"\")","v":""},null,null,null,null,null,null,null,null,null,null,null,null,null,null,null,null,null,null,null,null,{"$f":"IFERROR(WORKDAY(T145,AE145,Hoja1!F137:F253),\"\")","v":""},"",null,"",{"$f":"IF(P145=\"\",\"\",NETWORKDAYS(C145+1,P145,Hoja1!F137:F253))","v":""},{"$f":"IFERROR(IF(NETWORKDAYS(R145+1,P145,Hoja1!F137:F253)<=0,\"\",NETWORKDAYS(R145+1,P145,Hoja1!F137:F253)),0)","v":""},null,null,{"$f":"IFERROR(VLOOKUP(L145,Hoja1!$A$50:$C$63,2),\"\")","v":""},{"$f":"IFERROR(VLOOKUP(L145,Hoja1!$A$50:$C$63,3),\"\")","v":""}]
["",null,null,null,null,null,null,null,null,null,null,null,null,null,null,null,null,null,null,null,null,{"$f":"IFERROR(WORKDAY(T146,AE146,Hoja1!F138:F254),\"\")","v":""},"",null,"",{"$f":"IF(P146=\"\",\"\",NETWORKDAYS(C146+1,P146,Hoja1!F138:F254))","v":""},{"$f":"IFERROR(IF(NETWORKDAYS(R146+1,P146,Hoja1!F138:F254)<=0,\"\",NETWORKDAYS(R146+1,P146,Hoja1!F138:F254)),0)","v":""},null,null,{"$f":"IFERROR(VLOOKUP(L146,Hoja1!$A$50:$C$63,2),\"\")","v":""},{"$f":"IFERROR(VLOOKUP(L146,Hoja1!$A$50:$C$63,3),\"\")","v":""}]
["",null,null,null,null,null,null,null,null,null,null,null,null,null,null,null,null,null,null,null,null,{"$f":"IFERROR(WORKDAY(T147,AE147,Hoja1!F139:F255),\"\")","v":""},"",null,"",{"$f":"IF(P147=\"\",\"\",NETWORKDAYS(C147+1,P147,Hoja1!F139:F255))","v":""},{"$f":"IFERROR(IF(NETWORKDAYS(R147+1,P147,Hoja1!F139:F255)<=0,\"\",NETWORKDAYS(R147+1,P147,Hoja1!F139:F255)),0)","v":""},null,null,{"$f":"IFERROR(VLOOKUP(L147,Hoja1!$A$50:$C$63,2),\"\")","v":""},{"$f":"IFERROR(VLOOKUP(L147,Hoja1!$A$50:$C$63,3),\"\")","v":""}]
["",null,null,null,null,null,null,null,null,null,null,null,null,null,null,null,null,null,null,null,null,{"$f":"IFERROR(WORKDAY(T148,AE148,Hoja1!F140:F256),\"\")","v":""},"",null,"",{"$f":"IF(P148=\"\",\"\",NETWORKDAYS(C148+1,P148,Hoja1!F140:F256))","v":""},{"$f":"IFERROR(IF(NETWORKDAYS(R148+1,P148,Hoja1!F140:F256)<=0,\"\",NETWORKDAYS(R148+1,P148,Hoja1!F140:F256)),0)","v":""},null,null,{"$f":"IFERROR(VLOOKUP(L148,Hoja1!$A$50:$C$63,2),\"\")","v":""},{"$f":"IFERROR(VLOOKUP(L148,Hoja1!$A$50:$C$63,3),\"\")","v":""}]
["",null,null,null,null,null,null,null,null,null,null,null,null,null,null,null,null,null,null,null,null,{"$f":"IFERROR(WORKDAY(T149,AE149,Hoja1!F141:F257),\"\")","v":""},"",null,"",{"$f":"IF(P149=\"\",\"\",NETWORKDAYS(C149+1,P149,Hoja1!F141:F257))","v":""},{"$f":"IFERROR(IF(NETWORKDAYS(R149+1,P149,Hoja1!F141:F257)<=0,\"\",NETWORKDAYS(R149+1,P149,Hoja1!F141:F257)),0)","v":""},null,null,{"$f":"IFERROR(VLOOKUP(L149,Hoja1!$A$50:$C$63,2),\"\")","v":""},{"$f":"IFERROR(VLOOKUP(L149,Hoja1!$A$50:$C$63,3),\"\")","v":""}]
["",null,null,null,null,null,null,null,null,null,null,null,null,null,null,null,null,null,null,null,null,{"$f":"IFERROR(WORKDAY(T150,AE150,Hoja1!F142:F258),\"\")","v":""},"",null,"",{"$f":"IF(P150=\"\",\"\",NETWORKDAYS(C150+1,P150,Hoja1!F142:F258))","v":""},{"$f":"IFERROR(IF(NETWORKDAYS(R150+1,P150,Hoja1!F142:F258)<=0,\"\",NETWORKDAYS(R150+1,P150,Hoja1!F142:F258)),0)","v":""},null,null,{"$f":"IFERROR(VLOOKUP(L150,Hoja1!$A$50:$C$63,2),\"\")","v":""},{"$f":"IFERROR(VLOOKUP(L150,Hoja1!$A$50:$C$63,3),\"\")","v":""}]
["",null,null,null,null,null,null,null,null,null,null,null,null,null,null,null,null,null,null,null,null,{"$f":"IFERROR(WORKDAY(T151,AE151,Hoja1!F143:F259),\"\")","v":""},"",null,"",{"$f":"IF(P151=\"\",\"\",NETWORKDAYS(C151+1,P151,Hoja1!F143:F259))","v":""},{"$f":"IFERROR(IF(NETWORKDAYS(R151+1,P151,Hoja1!F143:F259)<=0,\"\",NETWORKDAYS(R151+1,P151,Hoja1!F143:F259)),0)","v":""},null,null,{"$f":"IFERROR(VLOOKUP(L151,Hoja1!$A$50:$C$63,2),\"\")","v":""},{"$f":"IFERROR(VLOOKUP(L151,Hoja1!$A$50:$C$63,3),\"\")","v":""}]
["",null,null,null,null,null,null,null,null,null,null,null,null,null,null,null,null,null,null,null,null,{"$f":"IFERROR(WORKDAY(T152,AE152,Hoja1!F144:F260),\"\")","v":""},"",null,"",{"$f":"IF(P152=\"\",\"\",NETWORKDAYS(C152+1,P152,Hoja1!F144:F260))","v":""},{"$f":"IFERROR(IF(NETWORKDAYS(R152+1,P152,Hoja1!F144:F260)<=0,\"\",NETWORKDAYS(R152+1,P152,Hoja1!F144:F260)),0)","v":""},null,null,{"$f":"IFERROR(VLOOKUP(L152,Hoja1!$A$50:$C$63,2),\"\")","v":""},{"$f":"IFERROR(VLOOKUP(L152,Hoja1!$A$50:$C$63,3),\"\")","v":""}]
["",null,null,null,null,null,null,null,null,null,null,null,null,null,null,null,null,null,null,null,null,{"$f":"IFERROR(WORKDAY(T153,AE153,Hoja1!F145:F261),\"\")","v":""},"",null,"",{"$f":"IF(P153=\"\",\"\",NETWORKDAYS(C153+1,P153,Hoja1!F145:F261))","v":""},{"$f":"IFERROR(IF(NETWORKDAYS(R153+1,P153,Hoja1!F145:F261)<=0,\"\",NETWORKDAYS(R153+1,P153,Hoja1!F145:F261)),0)","v":""},null,null,{"$f":"IFERROR(VLOOKUP(L153,Hoja1!$A$50:$C$63,2),\"\")","v":""},{"$f":"IFERROR(VLOOKUP(L153,Hoja1!$A$50:$C$63,3),\"\")","v":""}]
["",null,null,null,null,null,null,null,null,null,null,null,null,null,null,null,null,null,null,null,null,{"$f":"IFERROR(WORKDAY(T154,AE154,Hoja1!F146:F262),\"\")","v":""},"",null,"",{"$f":"IF(P154=\"\",\"\",NETWORKDAYS(C154+1,P154,Hoja1!F146:F262))","v":""},{"$f":"IFERROR(IF(NETWORKDAYS(R154+1,P154,Hoja1!F146:F262)<=0,\"\",NETWORKDAYS(R154+1,P154,Hoja1!F146:F262)),0)","v":""},null,null,{"$f":"IFERROR(VLOOKUP(L154,Hoja1!$A$50:$C$63,2),\"\")","v":""},{"$f":"IFERROR(VLOOKUP(L154,Hoja1!$A$50:$C$63,3),\"\")","v":""}]
["",null,null,null,null,null,null,null,null,null,null,null,null,null,null,null,null,null,null,null,null,{"$f":"IFERROR(WORKDAY(T155,AE155,Hoja1!F147:F263),\"\")","v":""},"",null,"",{"$f":"IF(P155=\"\",\"\",NETWORKDAYS(C155+1,P155,Hoja1!F147:F263))","v":""},{"$f":"IFERROR(IF(NETWORKDAYS(R155+1,P155,Hoja1!F147:F263)<=0,\"\",NETWORKDAYS(R155+1,P155,Hoja1!F147:F263)),0)","v":""},null,null,{"$f":"IFERROR(VLOOKUP(L155,Hoja1!$A$50:$C$63,2),\"\")","v":""},{"$f":"IFERROR(VLOOKUP(L155,Hoja1!$A$50:$C$63,3),\"\")","v":""}]
["",null,null,null,null,null,null,null,null,null,null,null,null,null,null,null,null,null,null,null,null,{"$f":"IFERROR(WORKDAY(T156,AE156,Hoja1!F148:F264),\"\")","v":""},"",null,"",{"$f":"IF(P156=\"\",\"\",NETWORKDAYS(C156+1,P156,Hoja1!F148:F264))","v":""},{"$f":"IFERROR(IF(NETWORKDAYS(R156+1,P156,Hoja1!F148:F264)<=0,\"\",NETWORKDAYS(R156+1,P156,Hoja1!F148:F264)),0)","v":""},null,null,{"$f":"IFERROR(VLOOKUP(L156,Hoja1!$A$50:$C$63,2),\"\")","v":""},{"$f":"IFERROR(VLOOKUP(L156,Hoja1!$A$50:$C$63,3),\"\")","v":""}]
["",null,null,null,null,null,null,null,null,null,null,null,null,null,null,null,null,null,null,null,null,{"$f":"IFERROR(WORKDAY(T157,AE157,Hoja1!F149:F265),\"\")","v":""},"",null,"",{"$f":"IF(P157=\"\",\"\",NETWORKDAYS(C157+1,P157,Hoja1!F149:F265))","v":""},{"$f":"IFERROR(IF(NETWORKDAYS(R157+1,P157,Hoja1!F149:F265)<=0,\"\",NETWORKDAYS(R157+1,P157,Hoja1!F149:F265)),0)","v":""},null,null,{"$f":"IFERROR(VLOOKUP(L157,Hoja1!$A$50:$C$63,2),\"\")","v":""},{"$f":"IFERROR(VLOOKUP(L157,Hoja1!$A$50:$C$63,3),\"\")","v":""}]
["",null,null,null,null,null,null,null,null,null,null,null,null,null,null,null,null,null,null,null,null,{"$f":"IFERROR(WORKDAY(T158,AE158,Hoja1!F150:F266),\"\")","v":""},"",null,"",{"$f":"IF(P158=\"\",\"\",NETWORKDAYS(C158+1,P158,Hoja1!F150:F266))","v":""},{"$f":"IFERROR(IF(NETWORKDAYS(R158+1,P158,Hoja1!F150:F266)<=0,\"\",NETWORKDAYS(R158+1,P158,Hoja1!F150:F266)),0)","v":""},null,null,{"$f":"IFERROR(VLOOKUP(L158,Hoja1!$A$50:$C$63,2),\"\")","v":""},{"$f":"IFERROR(VLOOKUP(L158,Hoja1!$A$50:$C$63,3),\"\")","v":""}]
["",null,null,null,null,null,null,null,null,null,null,null,null,null,null,null,null,null,null,null,null,{"$f":"IFERROR(WORKDAY(T159,AE159,Hoja1!F151:F267),\"\")","v":""},"",null,"",{"$f":"IF(P159=\"\",\"\",NETWORKDAYS(C159+1,P159,Hoja1!F151:F267))","v":""},{"$f":"IFERROR(IF(NETWORKDAYS(R159+1,P159,Hoja1!F151:F267)<=0,\"\",NETWORKDAYS(R159+1,P159,Hoja1!F151:F267)),0)","v":""},null,null,{"$f":"IFERROR(VLOOKUP(L159,Hoja1!$A$50:$C$63,2),\"\")","v":""},{"$f":"IFERROR(VLOOKUP(L159,Hoja1!$A$50:$C$63,3),\"\")","v":""}]
["",null,null,null,null,null,null,null,null,null,null,null,null,null,null,null,null,null,null,null,null,{"$f":"IFERROR(WORKDAY(T160,AE160,Hoja1!F152:F268),\"\")","v":""},"",null,"",{"$f":"IF(P160=\"\",\"\",NETWORKDAYS(C160+1,P160,Hoja1!F152:F268))","v":""},{"$f":"IFERROR(IF(NETWORKDAYS(R160+1,P160,Hoja1!F152:F268)<=0,\"\",NETWORKDAYS(R160+1,P160,Hoja1!F152:F268)),0)","v":""},null,null,{"$f":"IFERROR(VLOOKUP(L160,Hoja1!$A$50:$C$63,2),\"\")","v":""},{"$f":"IFERROR(VLOOKUP(L160,Hoja1!$A$50:$C$63,3),\"\")","v":""}]
["",null,null,null,null,null,null,null,null,null,null,null,null,null,null,null,null,null,null,null,null,{"$f":"IFERROR(WORKDAY(T161,AE161,Hoja1!F153:F269),\"\")","v":""},"",null,"",{"$f":"IF(P161=\"\",\"\",NETWORKDAYS(C161+1,P161,Hoja1!F153:F269))","v":""},{"$f":"IFERROR(IF(NETWORKDAYS(R161+1,P161,Hoja1!F153:F269)<=0,\"\",NETWORKDAYS(R161+1,P161,Hoja1!F153:F269)),0)","v":""},null,null,{"$f":"IFERROR(VLOOKUP(L161,Hoja1!$A$50:$C$63,2),\"\")","v":""},{"$f":"IFERROR(VLOOKUP(L161,Hoja1!$A$50:$C$63,3),\"\")","v":""}]
["",null,null,null,null,null,null,null,null,null,null,null,null,null,null,null,null,null,null,null,null,{"$f":"IFERROR(WORKDAY(T162,AE162,Hoja1!F154:F270),\"\")","v":""},"",null,"",{"$f":"IF(P162=\"\",\"\",NETWORKDAYS(C162+1,P162,Hoja1!F154:F270))","v":""},{"$f":"IFERROR(IF(NETWORKDAYS(R162+1,P162,Hoja1!F154:F270)<=0,\"\",NETWORKDAYS(R162+1,P162,Hoja1!F154:F270)),0)","v":""},null,null,{"$f":"IFERROR(VLOOKUP(L162,Hoja1!$A$50:$C$63,2),\"\")","v":""},{"$f":"IFERROR(VLOOKUP(L162,Hoja1!$A$50:$C$63,3),\"\")","v":""}]
["",null,null,null,null,null,null,null,null,null,null,null,null,null,null,null,null,null,null,null,null,{"$f":"IFERROR(WORKDAY(T163,AE163,Hoja1!F155:F271),\"\")","v":""},"",null,"",{"$f":"IF(P163=\"\",\"\",NETWORKDAYS(C163+1,P163,Hoja1!F155:F271))","v":""},{"$f":"IFERROR(IF(NETWORKDAYS(R163+1,P163,Hoja1!F155:F271)<=0,\"\",NETWORKDAYS(R163+1,P163,Hoja1!F155:F271)),0)","v":""},null,null,{"$f":"IFERROR(VLOOKUP(L163,Hoja1!$A$50:$C$63,2),\"\")","v":""},{"$f":"IFERROR(VLOOKUP(L163,Hoja1!$A$50:$C$63,3),\"\")","v":""}]
["",null,null,null,null,null,null,null,null,null,null,null,null,null,null,null,null,null,null,null,null,{"$f":"IFERROR(WORKDAY(T164,AE164,Hoja1!F156:F272),\"\")","v":""},"",null,"",{"$f":"IF(P164=\"\",\"\",NETWORKDAYS(C164+1,P164,Hoja1!F156:F272))","v":""},{"$f":"IFERROR(IF(NETWORKDAYS(R164+1,P164,Hoja1!F156:F272)<=0,\"\",NETWORKDAYS(R164+1,P164,Hoja1!F156:F272)),0)","v":""},null,null,{"$f":"IFERROR(VLOOKUP(L164,Hoja1!$A$50:$C$63,2),\"\")","v":""},{"$f":"IFERROR(VLOOKUP(L164,Hoja1!$A$50:$C$63,3),\"\")","v":""}]
["",null,null,null,null,null,null,null,null,null,null,null,null,null,null,null,null,null,null,null,null,{"$f":"IFERROR(WORKDAY(T165,AE165,Hoja1!F157:F273),\"\")","v":""},"",null,"",{"$f":"IF(P165=\"\",\"\",NETWORKDAYS(C165+1,P165,Hoja1!F157:F273))","v":""},{"$f":"IFERROR(IF(NETWORKDAYS(R165+1,P165,Hoja1!F157:F273)<=0,\"\",NETWORKDAYS(R165+1,P165,Hoja1!F157:F273)),0)","v":""},null,null,{"$f":"IFERROR(VLOOKUP(L165,Hoja1!$A$50:$C$63,2),\"\")","v":""},{"$f":"IFERROR(VLOOKUP(L165,Hoja1!$A$50:$C$63,3),\"\")","v":""}]
["",null,null,null,null,null,null,null,null,null,null,null,null,null,null,null,null,null,null,null,null,{"$f":"IFERROR(WORKDAY(T166,AE166,Hoja1!F158:F274),\"\")","v":""},"",null,"",{"$f":"IF(P166=\"\",\"\",NETWORKDAYS(C166+1,P166,Hoja1!F158:F274))","v":""},{"$f":"IFERROR(IF(NETWORKDAYS(R166+1,P166,Hoja1!F158:F274)<=0,\"\",NETWORKDAYS(R166+1,P166,Hoja1!F158:F274)),0)","v":""},null,null,{"$f":"IFERROR(VLOOKUP(L166,Hoja1!$A$50:$C$63,2),\"\")","v":""},{"$f":"IFERROR(VLOOKUP(L166,Hoja1!$A$50:$C$63,3),\"\")","v":""}]
["",null,null,null,null,null,null,null,null,null,null,null,null,null,null,null,null,null,null,null,null,{"$f":"IFERROR(WORKDAY(T167,AE167,Hoja1!F159:F275),\"\")","v":""},"",null,"",{"$f":"IF(P167=\"\",\"\",NETWORKDAYS(C167+1,P167,Hoja1!F159:F275))","v":""},{"$f":"IFERROR(IF(NETWORKDAYS(R167+1,P167,Hoja1!F159:F275)<=0,\"\",NETWORKDAYS(R167+1,P167,Hoja1!F159:F275)),0)","v":""},null,null,{"$f":"IFERROR(VLOOKUP(L167,Hoja1!$A$50:$C$63,2),\"\")","v":""},{"$f":"IFERROR(VLOOKUP(L167,Hoja1!$A$50:$C$63,3),\"\")","v":""}]
["",null,null,null,null,null,null,null,null,null,null,null,null,null,null,null,null,null,null,null,null,{"$f":"IFERROR(WORKDAY(T168,AE168,Hoja1!F160:F276),\"\")","v":""},"",null,"",{"$f":"IF(P168=\"\",\"\",NETWORKDAYS(C168+1,P168,Hoja1!F160:F276))","v":""},{"$f":"IFERROR(IF(NETWORKDAYS(R168+1,P168,Hoja1!F160:F276)<=0,\"\",NETWORKDAYS(R168+1,P168,Hoja1!F160:F276)),0)","v":""},null,null,{"$f":"IFERROR(VLOOKUP(L168,Hoja1!$A$50:$C$63,2),\"\")","v":""},{"$f":"IFERROR(VLOOKUP(L168,Hoja1!$A$50:$C$63,3),\"\")","v":""}]
["",null,null,null,null,null,null,null,null,null,null,null,null,null,null,null,null,null,null,null,null,{"$f":"IFERROR(WORKDAY(T169,AE169,Hoja1!F161:F277),\"\")","v":""},"",null,"",{"$f":"IF(P169=\"\",\"\",NETWORKDAYS(C169+1,P169,Hoja1!F161:F277))","v":""},{"$f":"IFERROR(IF(NETWORKDAYS(R169+1,P169,Hoja1!F161:F277)<=0,\"\",NETWORKDAYS(R169+1,P169,Hoja1!F161:F277)),0)","v":""},null,null,{"$f":"IFERROR(VLOOKUP(L169,Hoja1!$A$50:$C$63,2),\"\")","v":""},{"$f":"IFERROR(VLOOKUP(L169,Hoja1!$A$50:$C$63,3),\"\")","v":""}]
["",null,null,null,null,null,null,null,null,null,null,null,null,null,null,null,null,null,null,null,null,{"$f":"IFERROR(WORKDAY(T170,AE170,Hoja1!F162:F278),\"\")","v":""},"",null,"",{"$f":"IF(P170=\"\",\"\",NETWORKDAYS(C170+1,P170,Hoja1!F162:F278))","v":""},{"$f":"IFERROR(IF(NETWORKDAYS(R170+1,P170,Hoja1!F162:F278)<=0,\"\",NETWORKDAYS(R170+1,P170,Hoja1!F162:F278)),0)","v":""},null,null,{"$f":"IFERROR(VLOOKUP(L170,Hoja1!$A$50:$C$63,2),\"\")","v":""},{"$f":"IFERROR(VLOOKUP(L170,Hoja1!$A$50:$C$63,3),\"\")","v":""}]
["",null,null,null,null,null,null,null,null,null,null,null,null,null,null,null,null,null,null,null,null,{"$f":"IFERROR(WORKDAY(T171,AE171,Hoja1!F163:F279),\"\")","v":""},"",null,"",{"$f":"IF(P171=\"\",\"\",NETWORKDAYS(C171+1,P171,Hoja1!F163:F279))","v":""},{"$f":"IFERROR(IF(NETWORKDAYS(R171+1,P171,Hoja1!F163:F279)<=0,\"\",NETWORKDAYS(R171+1,P171,Hoja1!F163:F279)),0)","v":""},null,null,{"$f":"IFERROR(VLOOKUP(L171,Hoja1!$A$50:$C$63,2),\"\")","v":""},{"$f":"IFERROR(VLOOKUP(L171,Hoja1!$A$50:$C$63,3),\"\")","v":""}]
["",null,null,null,null,null,null,null,null,null,null,null,null,null,null,null,null,null,null,null,null,{"$f":"IFERROR(WORKDAY(T172,AE172,Hoja1!F164:F280),\"\")","v":""},"",null,"",{"$f":"IF(P172=\"\",\"\",NETWORKDAYS(C172+1,P172,Hoja1!F164:F280))","v":""},{"$f":"IFERROR(IF(NETWORKDAYS(R172+1,P172,Hoja1!F164:F280)<=0,\"\",NETWORKDAYS(R172+1,P172,Hoja1!F164:F280)),0)","v":""},null,null,{"$f":"IFERROR(VLOOKUP(L172,Hoja1!$A$50:$C$63,2),\"\")","v":""},{"$f":"IFERROR(VLOOKUP(L172,Hoja1!$A$50:$C$63,3),\"\")","v":""}]
["",null,null,null,null,null,null,null,null,null,null,null,null,null,null,null,null,null,null,null,null,{"$f":"IFERROR(WORKDAY(T173,AE173,Hoja1!F165:F281),\"\")","v":""},"",null,"",{"$f":"IF(P173=\"\",\"\",NETWORKDAYS(C173+1,P173,Hoja1!F165:F281))","v":""},{"$f":"IFERROR(IF(NETWORKDAYS(R173+1,P173,Hoja1!F165:F281)<=0,\"\",NETWORKDAYS(R173+1,P173,Hoja1!F165:F281)),0)","v":""},null,null,{"$f":"IFERROR(VLOOKUP(L173,Hoja1!$A$50:$C$63,2),\"\")","v":""},{"$f":"IFERROR(VLOOKUP(L173,Hoja1!$A$50:$C$63,3),\"\")","v":""}]
["",null,null,null,null,null,null,null,null,null,null,null,null,null,null,null,null,null,null,null,null,{"$f":"IFERROR(WORKDAY(T174,AE174,Hoja1!F166:F282),\"\")","v":""},"",null,"",{"$f":"IF(P174=\"\",\"\",NETWORKDAYS(C174+1,P174,Hoja1!F166:F282))","v":""},{"$f":"IFERROR(IF(NETWORKDAYS(R174+1,P174,Hoja1!F166:F282)<=0,\"\",NETWORKDAYS(R174+1,P174,Hoja1!F166:F282)),0)","v":""},null,null,{"$f":"IFERROR(VLOOKUP(L174,Hoja1!$A$50:$C$63,2),\"\")","v":""},{"$f":"IFERROR(VLOOKUP(L174,Hoja1!$A$50:$C$63,3),\"\")","v":""}]
["",null,null,null,null,null,null,null,null,null,null,null,null,null,null,null,null,null,null,null,null,{"$f":"IFERROR(WORKDAY(T175,AE175,Hoja1!F167:F283),\"\")","v":""},"",null,"",{"$f":"IF(P175=\"\",\"\",NETWORKDAYS(C175+1,P175,Hoja1!F167:F283))","v":""},{"$f":"IFERROR(IF(NETWORKDAYS(R175+1,P175,Hoja1!F167:F283)<=0,\"\",NETWORKDAYS(R175+1,P175,Hoja1!F167:F283)),0)","v":""},null,null,{"$f":"IFERROR(VLOOKUP(L175,Hoja1!$A$50:$C$63,2),\"\")","v":""},{"$f":"IFERROR(VLOOKUP(L175,Hoja1!$A$50:$C$63,3),\"\")","v":""}]
["",null,null,null,null,null,null,null,null,null,null,null,null,null,null,null,null,null,null,null,null,{"$f":"IFERROR(WORKDAY(T176,AE176,Hoja1!F168:F284),\"\")","v":""},"",null,"",{"$f":"IF(P176=\"\",\"\",NETWORKDAYS(C176+1,P176,Hoja1!F168:F284))","v":""},{"$f":"IFERROR(IF(NETWORKDAYS(R176+1,P176,Hoja1!F168:F284)<=0,\"\",NETWORKDAYS(R176+1,P176,Hoja1!F168:F284)),0)","v":""},null,null,{"$f":"IFERROR(VLOOKUP(L176,Hoja1!$A$50:$C$63,2),\"\")","v":""},{"$f":"IFERROR(VLOOKUP(L176,Hoja1!$A$50:$C$63,3),\"\")","v":""}]
["",null,null,null,null,null,null,null,null,null,null,null,null,null,null,null,null,null,null,null,null,{"$f":"IFERROR(WORKDAY(T177,AE177,Hoja1!F169:F285),\"\")","v":""},"",null,"",{"$f":"IF(P177=\"\",\"\",NETWORKDAYS(C177+1,P177,Hoja1!F169:F285))","v":""},{"$f":"IFERROR(IF(NETWORKDAYS(R177+1,P177,Hoja1!F169:F285)<=0,\"\",NETWORKDAYS(R177+1,P177,Hoja1!F169:F285)),0)","v":""},null,null,{"$f":"IFERROR(VLOOKUP(L177,Hoja1!$A$50:$C$63,2),\"\")","v":""},{"$f":"IFERROR(VLOOKUP(L177,Hoja1!$A$50:$C$63,3),\"\")","v":""}]
["",null,null,null,null,null,null,null,null,null,null,null,null,null,null,null,null,null,null,null,null,{"$f":"IFERROR(WORKDAY(T178,AE178,Hoja1!F170:F286),\"\")","v":""},"",null,"",{"$f":"IF(P178=\"\",\"\",NETWORKDAYS(C178+1,P178,Hoja1!F170:F286))","v":""},{"$f":"IFERROR(IF(NETWORKDAYS(R178+1,P178,Hoja1!F170:F286)<=0,\"\",NETWORKDAYS(R178+1,P178,Hoja1!F170:F286)),0)","v":""},null,null,{"$f":"IFERROR(VLOOKUP(L178,Hoja1!$A$50:$C$63,2),\"\")","v":""},{"$f":"IFERROR(VLOOKUP(L178,Hoja1!$A$50:$C$63,3),\"\")","v":""}]
["",null,null,null,null,null,null,null,null,null,null,null,null,null,null,null,null,null,null,null,null,{"$f":"IFERROR(WORKDAY(T179,AE179,Hoja1!F171:F287),\"\")","v":""},"",null,"",{"$f":"IF(P179=\"\",\"\",NETWORKDAYS(C179+1,P179,Hoja1!F171:F287))","v":""},{"$f":"IFERROR(IF(NETWORKDAYS(R179+1,P179,Hoja1!F171:F287)<=0,\"\",NETWORKDAYS(R179+1,P179,Hoja1!F171:F287)),0)","v":""},null,null,{"$f":"IFERROR(VLOOKUP(L179,Hoja1!$A$50:$C$63,2),\"\")","v":""},{"$f":"IFERROR(VLOOKUP(L179,Hoja1!$A$50:$C$63,3),\"\")","v":""}]
["",null,null,null,null,null,null,null,null,null,null,null,null,null,null,null,null,null,null,null,null,{"$f":"IFERROR(WORKDAY(T180,AE180,Hoja1!F172:F288),\"\")","v":""},"",null,"",{"$f":"IF(P180=\"\",\"\",NETWORKDAYS(C180+1,P180,Hoja1!F172:F288))","v":""},{"$f":"IFERROR(IF(NETWORKDAYS(R180+1,P180,Hoja1!F172:F288)<=0,\"\",NETWORKDAYS(R180+1,P180,Hoja1!F172:F288)),0)","v":""},null,null,{"$f":"IFERROR(VLOOKUP(L180,Hoja1!$A$50:$C$63,2),\"\")","v":""},{"$f":"IFERROR(VLOOKUP(L180,Hoja1!$A$50:$C$63,3),\"\")","v":""}]
["",null,null,null,null,null,null,null,null,null,null,null,null,null,null,null,null,null,null,null,null,{"$f":"IFERROR(WORKDAY(T181,AE181,Hoja1!F173:F289),\"\")","v":""},"",null,"",{"$f":"IF(P181=\"\",\"\",NETWORKDAYS(C181+1,P181,Hoja1!F173:F289))","v":""},{"$f":"IFERROR(IF(NETWORKDAYS(R181+1,P181,Hoja1!F173:F289)<=0,\"\",NETWORKDAYS(R181+1,P181,Hoja1!F173:F289)),0)","v":""},null,null,{"$f":"IFERROR(VLOOKUP(L181,Hoja1!$A$50:$C$63,2),\"\")","v":""},{"$f":"IFERROR(VLOOKUP(L181,Hoja1!$A$50:$C$63,3),\"\")","v":""}]
["",null,null,null,null,null,null,null,null,null,null,null,null,null,null,null,null,null,null,null,null,{"$f":"IFERROR(WORKDAY(T182,AE182,Hoja1!F174:F290),\"\")","v":""},"",null,"",{"$f":"IF(P182=\"\",\"\",NETWORKDAYS(C182+1,P182,Hoja1!F174:F290))","v":""},{"$f":"IFERROR(IF(NETWORKDAYS(R182+1,P182,Hoja1!F174:F290)<=0,\"\",NETWORKDAYS(R182+1,P182,Hoja1!F174:F290)),0)","v":""},null,null,{"$f":"IFERROR(VLOOKUP(L182,Hoja1!$A$50:$C$63,2),\"\")","v":""},{"$f":"IFERROR(VLOOKUP(L182,Hoja1!$A$50:$C$63,3),\"\")","v":""}]
["",null,null,null,null,null,null,null,null,null,null,null,null,null,null,null,null,null,null,null,null,{"$f":"IFERROR(WORKDAY(T183,AE183,Hoja1!F175:F291),\"\")","v":""},"",null,"",{"$f":"IF(P183=\"\",\"\",NETWORKDAYS(C183+1,P183,Hoja1!F175:F291))","v":""},{"$f":"IFERROR(IF(NETWORKDAYS(R183+1,P183,Hoja1!F175:F291)<=0,\"\",NETWORKDAYS(R183+1,P183,Hoja1!F175:F291)),0)","v":""},null,null,{"$f":"IFERROR(VLOOKUP(L183,Hoja1!$A$50:$C$63,2),\"\")","v":""},{"$f":"IFERROR(VLOOKUP(L183,Hoja1!$A$50:$C$63,3),\"\")","v":""}]
["",null,null,null,null,null,null,null,null,null,null,null,null,null,null,null,null,null,null,null,null,{"$f":"IFERROR(WORKDAY(T184,AE184,Hoja1!F176:F292),\"\")","v":""},"",null,"",{"$f":"IF(P184=\"\",\"\",NETWORKDAYS(C184+1,P184,Hoja1!F176:F292))","v":""},{"$f":"IFERROR(IF(NETWORKDAYS(R184+1,P184,Hoja1!F176:F292)<=0,\"\",NETWORKDAYS(R184+1,P184,Hoja1!F176:F292)),0)","v":""},null,null,{"$f":"IFERROR(VLOOKUP(L184,Hoja1!$A$50:$C$63,2),\"\")","v":""},{"$f":"IFERROR(VLOOKUP(L184,Hoja1!$A$50:$C$63,3),\"\")","v":""}]
["",null,null,null,null,null,null,null,null,null,null,null,null,null,null,null,null,null,null,null,null,{"$f":"IFERROR(WORKDAY(T185,AE185,Hoja1!F177:F293),\"\")","v":""},"",null,"",{"$f":"IF(P185=\"\",\"\",NETWORKDAYS(C185+1,P185,Hoja1!F177:F293))","v":""},{"$f":"IFERROR(IF(NETWORKDAYS(R185+1,P185,Hoja1!F177:F293)<=0,\"\",NETWORKDAYS(R185+1,P185,Hoja1!F177:F293)),0)","v":""},null,null,{"$f":"IFERROR(VLOOKUP(L185,Hoja1!$A$50:$C$63,2),\"\")","v":""},{"$f":"IFERROR(VLOOKUP(L185,Hoja1!$A$50:$C$63,3),\"\")","v":""}]
["",null,null,null,null,null,null,null,null,null,null,null,null,null,null,null,null,null,null,null,null,{"$f":"IFERROR(WORKDAY(T186,AE186,Hoja1!F178:F294),\"\")","v":""},"",null,"",{"$f":"IF(P186=\"\",\"\",NETWORKDAYS(C186+1,P186,Hoja1!F178:F294))","v":""},{"$f":"IFERROR(IF(NETWORKDAYS(R186+1,P186,Hoja1!F178:F294)<=0,\"\",NETWORKDAYS(R186+1,P186,Hoja1!F178:F294)),0)","v":""},null,null,{"$f":"IFERROR(VLOOKUP(L186,Hoja1!$A$50:$C$63,2),\"\")","v":""},{"$f":"IFERROR(VLOOKUP(L186,Hoja1!$A$50:$C$63,3),\"\")","v":""}]
["",null,null,null,null,null,null,null,null,null,null,null,null,null,null,null,null,null,null,null,null,{"$f":"IFERROR(WORKDAY(T187,AE187,Hoja1!F179:F295),\"\")","v":""},"",null,"",{"$f":"IF(P187=\"\",\"\",NETWORKDAYS(C187+1,P187,Hoja1!F179:F295))","v":""},{"$f":"IFERROR(IF(NETWORKDAYS(R187+1,P187,Hoja1!F179:F295)<=0,\"\",NETWORKDAYS(R187+1,P187,Hoja1!F179:F295)),0)","v":""},null,null,{"$f":"IFERROR(VLOOKUP(L187,Hoja1!$A$50:$C$63,2),\"\")","v":""},{"$f":"IFERROR(VLOOKUP(L187,Hoja1!$A$50:$C$63,3),\"\")","v":""}]
["",null,null,null,null,null,null,null,null,null,null,null,null,null,null,null,null,null,null,null,null,{"$f":"IFERROR(WORKDAY(T188,AE188,Hoja1!F180:F296),\"\")","v":""},"",null,"",{"$f":"IF(P188=\"\",\"\",NETWORKDAYS(C188+1,P188,Hoja1!F180:F296))","v":""},{"$f":"IFERROR(IF(NETWORKDAYS(R188+1,P188,Hoja1!F180:F296)<=0,\"\",NETWORKDAYS(R188+1,P188,Hoja1!F180:F296)),0)","v":""},null,null,{"$f":"IFERROR(VLOOKUP(L188,Hoja1!$A$50:$C$63,2),\"\")","v":""},{"$f":"IFERROR(VLOOKUP(L188,Hoja1!$A$50:$C$63,3),\"\")","v":""}]
["",null,null,null,null,null,null,null,null,null,null,null,null,null,null,null,null,null,null,null,null,{"$f":"IFERROR(WORKDAY(T189,AE189,Hoja1!F181:F297),\"\")","v":""},"",null,"",{"$f":"IF(P189=\"\",\"\",NETWORKDAYS(C189+1,P189,Hoja1!F181:F297))","v":""},{"$f":"IFERROR(IF(NETWORKDAYS(R189+1,P189,Hoja1!F181:F297)<=0,\"\",NETWORKDAYS(R189+1,P189,Hoja1!F181:F297)),0)","v":""},null,null,{"$f":"IFERROR(VLOOKUP(L189,Hoja1!$A$50:$C$63,2),\"\")","v":""},{"$f":"IFERROR(VLOOKUP(L189,Hoja1!$A$50:$C$63,3),\"\")","v":""}]
["",null,null,null,null,null,null,null,null,null,null,null,null,null,null,null,null,null,null,null,null,{"$f":"IFERROR(WORKDAY(T190,AE190,Hoja1!F182:F298),\"\")","v":""},"",null,"",{"$f":"IF(P190=\"\",\"\",NETWORKDAYS(C190+1,P190,Hoja1!F182:F298))","v":""},{"$f":"IFERROR(IF(NETWORKDAYS(R190+1,P190,Hoja1!F182:F298)<=0,\"\",NETWORKDAYS(R190+1,P190,Hoja1!F182:F298)),0)","v":""},null,null,{"$f":"IFERROR(VLOOKUP(L190,Hoja1!$A$50:$C$63,2),\"\")","v":""},{"$f":"IFERROR(VLOOKUP(L190,Hoja1!$A$50:$C$63,3),\"\")","v":""}]
["",null,null,null,null,null,null,null,null,null,null,null,null,null,null,null,null,null,null,null,null,{"$f":"IFERROR(WORKDAY(T191,AE191,Hoja1!F183:F299),\"\")","v":""},"",null,"",{"$f":"IF(P191=\"\",\"\",NETWORKDAYS(C191+1,P191,Hoja1!F183:F299))","v":""},{"$f":"IFERROR(IF(NETWORKDAYS(R191+1,P191,Hoja1!F183:F299)<=0,\"\",NETWORKDAYS(R191+1,P191,Hoja1!F183:F299)),0)","v":""},null,null,{"$f":"IFERROR(VLOOKUP(L191,Hoja1!$A$50:$C$63,2),\"\")","v":""},{"$f":"IFERROR(VLOOKUP(L191,Hoja1!$A$50:$C$63,3),\"\")","v":""}]
["",null,null,null,null,null,null,null,null,null,null,null,null,null,null,null,null,null,null,null,null,{"$f":"IFERROR(WORKDAY(T192,AE192,Hoja1!F184:F300),\"\")","v":""},"",null,"",{"$f":"IF(P192=\"\",\"\",NETWORKDAYS(C192+1,P192,Hoja1!F184:F300))","v":""},{"$f":"IFERROR(IF(NETWORKDAYS(R192+1,P192,Hoja1!F184:F300)<=0,\"\",NETWORKDAYS(R192+1,P192,Hoja1!F184:F300)),0)","v":""},null,null,{"$f":"IFERROR(VLOOKUP(L192,Hoja1!$A$50:$C$63,2),\"\")","v":""},{"$f":"IFERROR(VLOOKUP(L192,Hoja1!$A$50:$C$63,3),\"\")","v":""}]
["",null,null,null,null,null,null,null,null,null,null,null,null,null,null,null,null,null,null,null,null,{"$f":"IFERROR(WORKDAY(T193,AE193,Hoja1!F185:F301),\"\")","v":""},"",null,"",{"$f":"IF(P193=\"\",\"\",NETWORKDAYS(C193+1,P193,Hoja1!F185:F301))","v":""},{"$f":"IFERROR(IF(NETWORKDAYS(R193+1,P193,Hoja1!F185:F301)<=0,\"\",NETWORKDAYS(R193+1,P193,Hoja1!F185:F301)),0)","v":""},null,null,{"$f":"IFERROR(VLOOKUP(L193,Hoja1!$A$50:$C$63,2),\"\")","v":""},{"$f":"IFERROR(VLOOKUP(L193,Hoja1!$A$50:$C$63,3),\"\")","v":""}]
["",null,null,null,null,null,null,null,null,null,null,null,null,null,null,null,null,null,null,null,null,{"$f":"IFERROR(WORKDAY(T194,AE194,Hoja1!F186:F302),\"\")","v":""},"",null,"",{"$f":"IF(P194=\"\",\"\",NETWORKDAYS(C194+1,P194,Hoja1!F186:F302))","v":""},{"$f":"IFERROR(IF(NETWORKDAYS(R194+1,P194,Hoja1!F186:F302)<=0,\"\",NETWORKDAYS(R194+1,P194,Hoja1!F186:F302)),0)","v":""},null,null,{"$f":"IFERROR(VLOOKUP(L194,Hoja1!$A$50:$C$63,2),\"\")","v":""},{"$f":"IFERROR(VLOOKUP(L194,Hoja1!$A$50:$C$63,3),\"\")","v":""}]
["",null,null,null,null,null,null,null,null,null,null,null,null,null,null,null,null,null,null,null,null,{"$f":"IFERROR(WORKDAY(T195,AE195,Hoja1!F187:F303),\"\")","v":""},"",null,"",{"$f":"IF(P195=\"\",\"\",NETWORKDAYS(C195+1,P195,Hoja1!F187:F303))","v":""},{"$f":"IFERROR(IF(NETWORKDAYS(R195+1,P195,Hoja1!F187:F303)<=0,\"\",NETWORKDAYS(R195+1,P195,Hoja1!F187:F303)),0)","v":""},null,null,{"$f":"IFERROR(VLOOKUP(L195,Hoja1!$A$50:$C$63,2),\"\")","v":""},{"$f":"IFERROR(VLOOKUP(L195,Hoja1!$A$50:$C$63,3),\"\")","v":""}]
["",null,null,null,null,null,null,null,null,null,null,null,null,null,null,null,null,null,null,null,null,{"$f":"IFERROR(WORKDAY(T196,AE196,Hoja1!F188:F304),\"\")","v":""},"",null,"",{"$f":"IF(P196=\"\",\"\",NETWORKDAYS(C196+1,P196,Hoja1!F188:F304))","v":""},{"$f":"IFERROR(IF(NETWORKDAYS(R196+1,P196,Hoja1!F188:F304)<=0,\"\",NETWORKDAYS(R196+1,P196,Hoja1!F188:F304)),0)","v":""},null,null,{"$f":"IFERROR(VLOOKUP(L196,Hoja1!$A$50:$C$63,2),\"\")","v":""},{"$f":"IFERROR(VLOOKUP(L196,Hoja1!$A$50:$C$63,3),\"\")","v":""}]
["",null,null,null,null,null,null,null,null,null,null,null,null,null,null,null,null,null,null,null,null,{"$f":"IFERROR(WORKDAY(T197,AE197,Hoja1!F189:F305),\"\")","v":""},"",null,"",{"$f":"IF(P197=\"\",\"\",NETWORKDAYS(C197+1,P197,Hoja1!F189:F305))","v":""},{"$f":"IFERROR(IF(NETWORKDAYS(R197+1,P197,Hoja1!F189:F305)<=0,\"\",NETWORKDAYS(R197+1,P197,Hoja1!F189:F305)),0)","v":""},null,null,{"$f":"IFERROR(VLOOKUP(L197,Hoja1!$A$50:$C$63,2),\"\")","v":""},{"$f":"IFERROR(VLOOKUP(L197,Hoja1!$A$50:$C$63,3),\"\")","v":""}]
["",null,null,null,null,null,null,null,null,null,null,null,null,null,null,null,null,null,null,null,null,{"$f":"IFERROR(WORKDAY(T198,AE198,Hoja1!F190:F306),\"\")","v":""},"",null,"",{"$f":"IF(P198=\"\",\"\",NETWORKDAYS(C198+1,P198,Hoja1!F190:F306))","v":""},{"$f":"IFERROR(IF(NETWORKDAYS(R198+1,P198,Hoja1!F190:F306)<=0,\"\",NETWORKDAYS(R198+1,P198,Hoja1!F190:F306)),0)","v":""},null,null,{"$f":"IFERROR(VLOOKUP(L198,Hoja1!$A$50:$C$63,2),\"\")","v":""},{"$f":"IFERROR(VLOOKUP(L198,Hoja1!$A$50:$C$63,3),\"\")","v":""}]
["",null,null,null,null,null,null,null,null,null,null,null,null,null,null,null,null,null,null,null,null,{"$f":"IFERROR(WORKDAY(T199,AE199,Hoja1!F191:F307),\"\")","v":""},"",null,"",{"$f":"IF(P199=\"\",\"\",NETWORKDAYS(C199+1,P199,Hoja1!F191:F307))","v":""},{"$f":"IFERROR(IF(NETWORKDAYS(R199+1,P199,Hoja1!F191:F307)<=0,\"\",NETWORKDAYS(R199+1,P199,Hoja1!F191:F307)),0)","v":""},null,null,{"$f":"IFERROR(VLOOKUP(L199,Hoja1!$A$50:$C$63,2),\"\")","v":""},{"$f":"IFERROR(VLOOKUP(L199,Hoja1!$A$50:$C$63,3),\"\")","v":""}]
["",null,null,null,null,null,null,null,null,null,null,null,null,null,null,null,null,null,null,null,null,{"$f":"IFERROR(WORKDAY(T200,AE200,Hoja1!F192:F308),\"\")","v":""},"",null,"",{"$f":"IF(P200=\"\",\"\",NETWORKDAYS(C200+1,P200,Hoja1!F192:F308))","v":""},{"$f":"IFERROR(IF(NETWORKDAYS(R200+1,P200,Hoja1!F192:F308)<=0,\"\",NETWORKDAYS(R200+1,P200,Hoja1!F192:F308)),0)","v":""},null,null,{"$f":"IFERROR(VLOOKUP(L200,Hoja1!$A$50:$C$63,2),\"\")","v":""},{"$f":"IFERROR(VLOOKUP(L200,Hoja1!$A$50:$C$63,3),\"\")","v":""}]
["",null,null,null,null,null,null,null,null,null,null,null,null,null,null,null,null,null,null,null,null,{"$f":"IFERROR(WORKDAY(T201,AE201,Hoja1!F193:F309),\"\")","v":""},"",null,"",{"$f":"IF(P201=\"\",\"\",NETWORKDAYS(C201+1,P201,Hoja1!F193:F309))","v":""},{"$f":"IFERROR(IF(NETWORKDAYS(R201+1,P201,Hoja1!F193:F309)<=0,\"\",NETWORKDAYS(R201+1,P201,Hoja1!F193:F309)),0)","v":""},null,null,{"$f":"IFERROR(VLOOKUP(L201,Hoja1!$A$50:$C$63,2),\"\")","v":""},{"$f":"IFERROR(VLOOKUP(L201,Hoja1!$A$50:$C$63,3),\"\")","v":""}]
["",null,null,null,null,null,null,null,null,null,null,null,null,null,null,null,null,null,null,null,null,{"$f":"IFERROR(WORKDAY(T202,AE202,Hoja1!F194:F310),\"\")","v":""},"",null,"",{"$f":"IF(P202=\"\",\"\",NETWORKDAYS(C202+1,P202,Hoja1!F194:F310))","v":""},{"$f":"IFERROR(IF(NETWORKDAYS(R202+1,P202,Hoja1!F194:F310)<=0,\"\",NETWORKDAYS(R202+1,P202,Hoja1!F194:F310)),0)","v":""},null,null,{"$f":"IFERROR(VLOOKUP(L202,Hoja1!$A$50:$C$63,2),\"\")","v":""},{"$f":"IFERROR(VLOOKUP(L202,Hoja1!$A$50:$C$63,3),\"\")","v":""}]
["",null,null,null,null,null,null,null,null,null,null,null,null,null,null,null,null,null,null,null,null,{"$f":"IFERROR(WORKDAY(T203,AE203,Hoja1!F195:F311),\"\")","v":""},"",null,{"$f":"+IF(C203=\"\",\"\",IF(P203=\"\",\"SIN RESPUESTA\",(IF(P203<=R203,\"A TIEMPO\",\"FUERA DE TIEMPO\"))))","v":""},{"$f":"IF(P203=\"\",\"\",NETWORKDAYS(C203+1,P203,Hoja1!F195:F311))","v":""},{"$f":"IFERROR(IF(NETWORKDAYS(R203+1,P203,Hoja1!F195:F311)<=0,\"\",NETWORKDAYS(R203+1,P203,Hoja1!F195:F311)),0)","v":""},null,null,{"$f":"IFERROR(VLOOKUP(L203,Hoja1!$A$50:$C$63,2),\"\")","v":""},{"$f":"IFERROR(VLOOKUP(L203,Hoja1!$A$50:$C$63,3),\"\")","v":""}]
["",null,null,null,null,null,null,null,null,null,null,null,null,null,null,null,null,null,null,null,null,{"$f":"IFERROR(WORKDAY(T204,AE204,Hoja1!F196:F312),\"\")","v":""},{"$f":"+IF(T204=\"\",\"\",IF(U204=\"\",\"SIN RESPUESTA\",(IF(U204<=V204,\"A TIEMPO\",\"FUERA DE TIEMPO\"))))","v":""},null,"",{"$f":"IF(P204=\"\",\"\",NETWORKDAYS(C204+1,P204,Hoja1!F196:F312))","v":""},{"$f":"IFERROR(IF(NETWORKDAYS(R204+1,P204,Hoja1!F196:F312)<=0,\"\",NETWORKDAYS(R204+1,P204,Hoja1!F196:F312)),0)","v":""},null,null,{"$f":"IFERROR(VLOOKUP(L204,Hoja1!$A$50:$C$63,2),\"\")","v":""},{"$f":"IFERROR(VLOOKUP(L204,Hoja1!$A$50:$C$63,3),\"\")","v":""}]
["",null,null,null,null,null,null,null,null,null,null,null,null,null,null,null,null,null,null,null,null,{"$f":"IFERROR(WORKDAY(T205,AE205,Hoja1!F197:F313),\"\")","v":""},"",null,"",{"$f":"IF(P205=\"\",\"\",NETWORKDAYS(C205+1,P205,Hoja1!F197:F313))","v":""},{"$f":"IFERROR(IF(NETWORKDAYS(R205+1,P205,Hoja1!F197:F313)<=0,\"\",NETWORKDAYS(R205+1,P205,Hoja1!F197:F313)),0)","v":""},null,null,{"$f":"IFERROR(VLOOKUP(L205,Hoja1!$A$50:$C$63,2),\"\")","v":""},{"$f":"IFERROR(VLOOKUP(L205,Hoja1!$A$50:$C$63,3),\"\")","v":""}]
["",null,null,null,null,null,null,null,null,null,null,null,null,null,null,null,null,null,null,null,null,{"$f":"IFERROR(WORKDAY(T206,AE206,Hoja1!F198:F314),\"\")","v":""},"",null,"",{"$f":"IF(P206=\"\",\"\",NETWORKDAYS(C206+1,P206,Hoja1!F198:F314))","v":""},{"$f":"IFERROR(IF(NETWORKDAYS(R206+1,P206,Hoja1!F198:F314)<=0,\"\",NETWORKDAYS(R206+1,P206,Hoja1!F198:F314)),0)","v":""},null,null,{"$f":"IFERROR(VLOOKUP(L206,Hoja1!$A$50:$C$63,2),\"\")","v":""},{"$f":"IFERROR(VLOOKUP(L206,Hoja1!$A$50:$C$63,3),\"\")","v":""}]
["",null,null,null,null,null,null,null,null,null,null,null,null,null,null,null,null,null,null,null,null,{"$f":"IFERROR(WORKDAY(T207,AE207,Hoja1!F199:F315),\"\")","v":""},"",null,"",{"$f":"IF(P207=\"\",\"\",NETWORKDAYS(C207+1,P207,Hoja1!F199:F315))","v":""},{"$f":"IFERROR(IF(NETWORKDAYS(R207+1,P207,Hoja1!F199:F315)<=0,\"\",NETWORKDAYS(R207+1,P207,Hoja1!F199:F315)),0)","v":""},null,null,{"$f":"IFERROR(VLOOKUP(L207,Hoja1!$A$50:$C$63,2),\"\")","v":""},{"$f":"IFERROR(VLOOKUP(L207,Hoja1!$A$50:$C$63,3),\"\")","v":""}]
["",null,null,null,null,null,null,null,null,null,null,null,null,null,null,null,null,null,null,null,null,{"$f":"IFERROR(WORKDAY(T208,AE208,Hoja1!F200:F316),\"\")","v":""},"",null,"",{"$f":"IF(P208=\"\",\"\",NETWORKDAYS(C208+1,P208,Hoja1!F200:F316))","v":""},{"$f":"IFERROR(IF(NETWORKDAYS(R208+1,P208,Hoja1!F200:F316)<=0,\"\",NETWORKDAYS(R208+1,P208,Hoja1!F200:F316)),0)","v":""},null,null,{"$f":"IFERROR(VLOOKUP(L208,Hoja1!$A$50:$C$63,2),\"\")","v":""},{"$f":"IFERROR(VLOOKUP(L208,Hoja1!$A$50:$C$63,3),\"\")","v":""}]
[{"$f":"IF(B209<>\"\",A208+1,\"\")","v":""},null,null,null,null,null,null,null,null,null,null,null,null,null,null,null,null,null,null,null,null,{"$f":"IFERROR(WORKDAY(T209,AE209,Hoja1!F201:F317),\"\")","v":""},"",null,"",{"$f":"IF(P209=\"\",\"\",NETWORKDAYS(C209+1,P209,Hoja1!F201:F317))","v":""},{"$f":"IFERROR(IF(NETWORKDAYS(R209+1,P209,Hoja1!F201:F317)<=0,\"\",NETWORKDAYS(R209+1,P209,Hoja1!F201:F317)),0)","v":""},null,null,{"$f":"IFERROR(VLOOKUP(L209,Hoja1!$A$50:$C$63,2),\"\")","v":""},{"$f":"IFERROR(VLOOKUP(L209,Hoja1!$A$50:$C$63,3),\"\")","v":""}]
["",null,null,null,null,null,null,null,null,null,null,null,null,null,null,null,null,null,null,null,null,{"$f":"IFERROR(WORKDAY(T210,AE210,Hoja1!F202:F318),\"\")","v":""},"",null,"",{"$f":"IF(P210=\"\",\"\",NETWORKDAYS(C210+1,P210,Hoja1!F202:F318))","v":""},{"$f":"IFERROR(IF(NETWORKDAYS(R210+1,P210,Hoja1!F202:F318)<=0,\"\",NETWORKDAYS(R210+1,P210,Hoja1!F202:F318)),0)","v":""},null,null,{"$f":"IFERROR(VLOOKUP(L210,Hoja1!$A$50:$C$63,2),\"\")","v":""},{"$f":"IFERROR(VLOOKUP(L210,Hoja1!$A$50:$C$63,3),\"\")","v":""}]
["",null,null,null,null,null,null,null,null,null,null,null,null,null,null,null,null,null,null,null,null,{"$f":"IFERROR(WORKDAY(T211,AE211,Hoja1!F203:F319),\"\")","v":""},"",null,"",{"$f":"IF(P211=\"\",\"\",NETWORKDAYS(C211+1,P211,Hoja1!F203:F319))","v":""},{"$f":"IFERROR(IF(NETWORKDAYS(R211+1,P211,Hoja1!F203:F319)<=0,\"\",NETWORKDAYS(R211+1,P211,Hoja1!F203:F319)),0)","v":""},null,null,{"$f":"IFERROR(VLOOKUP(L211,Hoja1!$A$50:$C$63,2),\"\")","v":""},{"$f":"IFERROR(VLOOKUP(L211,Hoja1!$A$50:$C$63,3),\"\")","v":""}]
["",null,null,null,null,null,null,null,null,null,null,null,null,null,null,null,null,null,null,null,null,{"$f":"IFERROR(WORKDAY(T212,AE212,Hoja1!F204:F320),\"\")","v":""},"",null,"",{"$f":"IF(P212=\"\",\"\",NETWORKDAYS(C212+1,P212,Hoja1!F204:F320))","v":""},{"$f":"IFERROR(IF(NETWORKDAYS(R212+1,P212,Hoja1!F204:F320)<=0,\"\",NETWORKDAYS(R212+1,P212,Hoja1!F204:F320)),0)","v":""},null,null,{"$f":"IFERROR(VLOOKUP(L212,Hoja1!$A$50:$C$63,2),\"\")","v":""},{"$f":"IFERROR(VLOOKUP(L212,Hoja1!$A$50:$C$63,3),\"\")","v":""}]
["",null,null,null,null,null,null,null,null,null,null,null,null,null,null,null,null,null,null,null,null,{"$f":"IFERROR(WORKDAY(T213,AE213,Hoja1!F205:F321),\"\")","v":""},"",null,"",{"$f":"IF(P213=\"\",\"\",NETWORKDAYS(C213+1,P213,Hoja1!F205:F321))","v":""},{"$f":"IFERROR(IF(NETWORKDAYS(R213+1,P213,Hoja1!F205:F321)<=0,\"\",NETWORKDAYS(R213+1,P213,Hoja1!F205:F321)),0)","v":""},null,null,{"$f":"IFERROR(VLOOKUP(L213,Hoja1!$A$50:$C$63,2),\"\")","v":""},{"$f":"IFERROR(VLOOKUP(L213,Hoja1!$A$50:$C$63,3),\"\")","v":""}]
["",null,null,null,null,null,null,null,null,null,null,null,null,null,null,null,null,null,null,null,null,{"$f":"IFERROR(WORKDAY(T214,AE214,Hoja1!F206:F322),\"\")","v":""},"",null,"",{"$f":"IF(P214=\"\",\"\",NETWORKDAYS(C214+1,P214,Hoja1!F206:F322))","v":""},{"$f":"IFERROR(IF(NETWORKDAYS(R214+1,P214,Hoja1!F206:F322)<=0,\"\",NETWORKDAYS(R214+1,P214,Hoja1!F206:F322)),0)","v":""},null,null,{"$f":"IFERROR(VLOOKUP(L214,Hoja1!$A$50:$C$63,2),\"\")","v":""},{"$f":"IFERROR(VLOOKUP(L214,Hoja1!$A$50:$C$63,3),\"\")","v":""}]
["",null,null,null,null,null,null,null,null,null,null,null,null,null,null,null,null,null,null,null,null,{"$f":"IFERROR(WORKDAY(T215,AE215,Hoja1!F207:F323),\"\")","v":""},"",null,"",{"$f":"IF(P215=\"\",\"\",NETWORKDAYS(C215+1,P215,Hoja1!F207:F323))","v":""},{"$f":"IFERROR(IF(NETWORKDAYS(R215+1,P215,Hoja1!F207:F323)<=0,\"\",NETWORKDAYS(R215+1,P215,Hoja1!F207:F323)),0)","v":""},null,null,{"$f":"IFERROR(VLOOKUP(L215,Hoja1!$A$50:$C$63,2),\"\")","v":""},{"$f":"IFERROR(VLOOKUP(L215,Hoja1!$A$50:$C$63,3),\"\")","v":""}]
["",null,null,null,null,null,null,null,null,null,null,null,null,null,null,null,null,null,null,null,null,{"$f":"IFERROR(WORKDAY(T216,AE216,Hoja1!F208:F324),\"\")","v":""},"",null,"",{"$f":"IF(P216=\"\",\"\",NETWORKDAYS(C216+1,P216,Hoja1!F208:F324))","v":""},{"$f":"IFERROR(IF(NETWORKDAYS(R216+1,P216,Hoja1!F208:F324)<=0,\"\",NETWORKDAYS(R216+1,P216,Hoja1!F208:F324)),0)","v":""},null,null,{"$f":"IFERROR(VLOOKUP(L216,Hoja1!$A$50:$C$63,2),\"\")","v":""},{"$f":"IFERROR(VLOOKUP(L216,Hoja1!$A$50:$C$63,3),\"\")","v":""}]
["",null,null,null,null,null,null,null,null,null,null,null,null,null,null,null,null,null,null,null,null,{"$f":"IFERROR(WORKDAY(T217,AE217,Hoja1!F209:F325),\"\")","v":""},"",null,"",{"$f":"IF(P217=\"\",\"\",NETWORKDAYS(C217+1,P217,Hoja1!F209:F325))","v":""},{"$f":"IFERROR(IF(NETWORKDAYS(R217+1,P217,Hoja1!F209:F325)<=0,\"\",NETWORKDAYS(R217+1,P217,Hoja1!F209:F325)),0)","v":""},null,null,{"$f":"IFERROR(VLOOKUP(L217,Hoja1!$A$50:$C$63,2),\"\")","v":""},{"$f":"IFERROR(VLOOKUP(L217,Hoja1!$A$50:$C$63,3),\"\")","v":""}]
["",null,null,null,null,null,null,null,null,null,null,null,null,null,null,null,null,null,null,null,null,{"$f":"IFERROR(WORKDAY(T218,AE218,Hoja1!F210:F326),\"\")","v":""},"",null,"",{"$f":"IF(P218=\"\",\"\",NETWORKDAYS(C218+1,P218,Hoja1!F210:F326))","v":""},{"$f":"IFERROR(IF(NETWORKDAYS(R218+1,P218,Hoja1!F210:F326)<=0,\"\",NETWORKDAYS(R218+1,P218,Hoja1!F210:F326)),0)","v":""},null,null,{"$f":"IFERROR(VLOOKUP(L218,Hoja1!$A$50:$C$63,2),\"\")","v":""},{"$f":"IFERROR(VLOOKUP(L218,Hoja1!$A$50:$C$63,3),\"\")","v":""}]
["",null,null,null,null,null,null,null,null,null,null,null,null,null,null,null,null,null,null,null,null,{"$f":"IFERROR(WORKDAY(T219,AE219,Hoja1!F211:F327),\"\")","v":""},"",null,"",{"$f":"IF(P219=\"\",\"\",NETWORKDAYS(C219+1,P219,Hoja1!F211:F327))","v":""},{"$f":"IFERROR(IF(NETWORKDAYS(R219+1,P219,Hoja1!F211:F327)<=0,\"\",NETWORKDAYS(R219+1,P219,Hoja1!F211:F327)),0)","v":""},null,null,{"$f":"IFERROR(VLOOKUP(L219,Hoja1!$A$50:$C$63,2),\"\")","v":""},{"$f":"IFERROR(VLOOKUP(L219,Hoja1!$A$50:$C$63,3),\"\")","v":""}]
["",null,null,null,null,null,null,null,null,null,null,null,null,null,null,null,null,null,null,null,null,{"$f":"IFERROR(WORKDAY(T220,AE220,Hoja1!F212:F328),\"\")","v":""},"",null,"",{"$f":"IF(P220=\"\",\"\",NETWORKDAYS(C220+1,P220,Hoja1!F212:F328))","v":""},{"$f":"IFERROR(IF(NETWORKDAYS(R220+1,P220,Hoja1!F212:F328)<=0,\"\",NETWORKDAYS(R220+1,P220,Hoja1!F212:F328)),0)","v":""},null,null,{"$f":"IFERROR(VLOOKUP(L220,Hoja1!$A$50:$C$63,2),\"\")","v":""},{"$f":"IFERROR(VLOOKUP(L220,Hoja1!$A$50:$C$63,3),\"\")","v":""}]
["",null,null,null,null,null,null,null,null,null,null,null,null,null,null,null,null,null,null,null,null,{"$f":"IFERROR(WORKDAY(T221,AE221,Hoja1!F213:F329),\"\")","v":""},"",null,"",{"$f":"IF(P221=\"\",\"\",NETWORKDAYS(C221+1,P221,Hoja1!F213:F329))","v":""},{"$f":"IFERROR(IF(NETWORKDAYS(R221+1,P221,Hoja1!F213:F329)<=0,\"\",NETWORKDAYS(R221+1,P221,Hoja1!F213:F329)),0)","v":""},null,null,{"$f":"IFERROR(VLOOKUP(L221,Hoja1!$A$50:$C$63,2),\"\")","v":""},{"$f":"IFERROR(VLOOKUP(L221,Hoja1!$A$50:$C$63,3),\"\")","v":""}]
["",null,null,null,null,null,null,null,null,null,null,null,null,null,null,null,null,null,null,null,null,{"$f":"IFERROR(WORKDAY(T222,AE222,Hoja1!F214:F330),\"\")","v":""},"",null,"",{"$f":"IF(P222=\"\",\"\",NETWORKDAYS(C222+1,P222,Hoja1!F214:F330))","v":""},{"$f":"IFERROR(IF(NETWORKDAYS(R222+1,P222,Hoja1!F214:F330)<=0,\"\",NETWORKDAYS(R222+1,P222,Hoja1!F214:F330)),0)","v":""},null,null,{"$f":"IFERROR(VLOOKUP(L222,Hoja1!$A$50:$C$63,2),\"\")","v":""},{"$f":"IFERROR(VLOOKUP(L222,Hoja1!$A$50:$C$63,3),\"\")","v":""}]
["",null,null,null,null,null,null,null,null,null,null,null,null,null,null,null,null,null,null,null,null,{"$f":"IFERROR(WORKDAY(T223,AE223,Hoja1!F215:F331),\"\")","v":""},"",null,"",{"$f":"IF(P223=\"\",\"\",NETWORKDAYS(C223+1,P223,Hoja1!F215:F331))","v":""},{"$f":"IFERROR(IF(NETWORKDAYS(R223+1,P223,Hoja1!F215:F331)<=0,\"\",NETWORKDAYS(R223+1,P223,Hoja1!F215:F331)),0)","v":""},null,null,{"$f":"IFERROR(VLOOKUP(L223,Hoja1!$A$50:$C$63,2),\"\")","v":""},{"$f":"IFERROR(VLOOKUP(L223,Hoja1!$A$50:$C$63,3),\"\")","v":""}]
["",null,null,null,null,null,null,null,null,null,null,null,null,null,null,null,null,null,null,null,null,{"$f":"IFERROR(WORKDAY(T224,AE224,Hoja1!F216:F332),\"\")","v":""},"",null,"",{"$f":"IF(P224=\"\",\"\",NETWORKDAYS(C224+1,P224,Hoja1!F216:F332))","v":""},{"$f":"IFERROR(IF(NETWORKDAYS(R224+1,P224,Hoja1!F216:F332)<=0,\"\",NETWORKDAYS(R224+1,P224,Hoja1!F216:F332)),0)","v":""},null,null,{"$f":"IFERROR(VLOOKUP(L224,Hoja1!$A$50:$C$63,2),\"\")","v":""},{"$f":"IFERROR(VLOOKUP(L224,Hoja1!$A$50:$C$63,3),\"\")","v":""}]
["",null,null,null,null,null,null,null,null,null,null,null,null,null,null,null,null,null,null,null,null,{"$f":"IFERROR(WORKDAY(T225,AE225,Hoja1!F217:F333),\"\")","v":""},"",null,"",{"$f":"IF(P225=\"\",\"\",NETWORKDAYS(C225+1,P225,Hoja1!F217:F333))","v":""},{"$f":"IFERROR(IF(NETWORKDAYS(R225+1,P225,Hoja1!F217:F333)<=0,\"\",NETWORKDAYS(R225+1,P225,Hoja1!F217:F333)),0)","v":""},null,null,{"$f":"IFERROR(VLOOKUP(L225,Hoja1!$A$50:$C$63,2),\"\")","v":""},{"$f":"IFERROR(VLOOKUP(L225,Hoja1!$A$50:$C$63,3),\"\")","v":""}]
["",null,null,null,null,null,null,null,null,null,null,null,null,null,null,null,null,null,null,null,null,{"$f":"IFERROR(WORKDAY(T226,AE226,Hoja1!F218:F334),\"\")","v":""},"",null,"",{"$f":"IF(P226=\"\",\"\",NETWORKDAYS(C226+1,P226,Hoja1!F218:F334))","v":""},{"$f":"IFERROR(IF(NETWORKDAYS(R226+1,P226,Hoja1!F218:F334)<=0,\"\",NETWORKDAYS(R226+1,P226,Hoja1!F218:F334)),0)","v":""},null,null,{"$f":"IFERROR(VLOOKUP(L226,Hoja1!$A$50:$C$63,2),\"\")","v":""},{"$f":"IFERROR(VLOOKUP(L226,Hoja1!$A$50:$C$63,3),\"\")","v":""}]
["",null,null,null,null,null,null,null,null,null,null,null,null,null,null,null,null,null,null,null,null,{"$f":"IFERROR(WORKDAY(T227,AE227,Hoja1!F219:F335),\"\")","v":""},"",null,"",{"$f":"IF(P227=\"\",\"\",NETWORKDAYS(C227+1,P227,Hoja1!F219:F335))","v":""},{"$f":"IFERROR(IF(NETWORKDAYS(R227+1,P227,Hoja1!F219:F335)<=0,\"\",NETWORKDAYS(R227+1,P227,Hoja1!F219:F335)),0)","v":""},null,null,{"$f":"IFERROR(VLOOKUP(L227,Hoja1!$A$50:$C$63,2),\"\")","v":""},{"$f":"IFERROR(VLOOKUP(L227,Hoja1!$A$50:$C$63,3),\"\")","v":""}]
["",null,null,null,null,null,null,null,null,null,null,null,null,null,null,null,null,null,null,null,null,{"$f":"IFERROR(WORKDAY(T228,AE228,Hoja1!F220:F336),\"\")","v":""},"",null,"",{"$f":"IF(P228=\"\",\"\",NETWORKDAYS(C228+1,P228,Hoja1!F220:F336))","v":""},{"$f":"IFERROR(IF(NETWORKDAYS(R228+1,P228,Hoja1!F220:F336)<=0,\"\",NETWORKDAYS(R228+1,P228,Hoja1!F220:F336)),0)","v":""},null,null,{"$f":"IFERROR(VLOOKUP(L228,Hoja1!$A$50:$C$63,2),\"\")","v":""},{"$f":"IFERROR(VLOOKUP(L228,Hoja1!$A$50:$C$63,3),\"\")","v":""}]
["",null,null,null,null,null,null,null,null,null,null,null,null,null,null,null,null,null,null,null,null,{"$f":"IFERROR(WORKDAY(T229,AE229,Hoja1!F221:F337),\"\")","v":""},"",null,"",{"$f":"IF(P229=\"\",\"\",NETWORKDAYS(C229+1,P229,Hoja1!F221:F337))","v":""},{"$f":"IFERROR(IF(NETWORKDAYS(R229+1,P229,Hoja1!F221:F337)<=0,\"\",NETWORKDAYS(R229+1,P229,Hoja1!F221:F337)),0)","v":""},null,null,{"$f":"IFERROR(VLOOKUP(L229,Hoja1!$A$50:$C$63,2),\"\")","v":""},{"$f":"IFERROR(VLOOKUP(L229,Hoja1!$A$50:$C$63,3),\"\")","v":""}]
["",null,null,null,null,null,null,null,null,null,null,null,null,null,null,null,null,null,null,null,null,{"$f":"IFERROR(WORKDAY(T230,AE230,Hoja1!F222:F338),\"\")","v":""},"",null,"",{"$f":"IF(P230=\"\",\"\",NETWORKDAYS(C230+1,P230,Hoja1!F222:F338))","v":""},{"$f":"IFERROR(IF(NETWORKDAYS(R230+1,P230,Hoja1!F222:F338)<=0,\"\",NETWORKDAYS(R230+1,P230,Hoja1!F222:F338)),0)","v":""},null,null,{"$f":"IFERROR(VLOOKUP(L230,Hoja1!$A$50:$C$63,2),\"\")","v":""},{"$f":"IFERROR(VLOOKUP(L230,Hoja1!$A$50:$C$63,3),\"\")","v":""}]
["",null,null,null,null,null,null,null,null,null,null,null,null,null,null,null,null,null,null,null,null,{"$f":"IFERROR(WORKDAY(T231,AE231,Hoja1!F223:F339),\"\")","v":""},"",null,"",{"$f":"IF(P231=\"\",\"\",NETWORKDAYS(C231+1,P231,Hoja1!F223:F339))","v":""},{"$f":"IFERROR(IF(NETWORKDAYS(R231+1,P231,Hoja1!F223:F339)<=0,\"\",NETWORKDAYS(R231+1,P231,Hoja1!F223:F339)),0)","v":""},null,null,{"$f":"IFERROR(VLOOKUP(L231,Hoja1!$A$50:$C$63,2),\"\")","v":""},{"$f":"IFERROR(VLOOKUP(L231,Hoja1!$A$50:$C$63,3),\"\")","v":""}]
["",null,null,null,null,null,null,null,null,null,null,null,null,null,null,null,null,null,null,null,null,{"$f":"IFERROR(WORKDAY(T232,AE232,Hoja1!F224:F340),\"\")","v":""},"",null,"",{"$f":"IF(P232=\"\",\"\",NETWORKDAYS(C232+1,P232,Hoja1!F224:F340))","v":""},{"$f":"IFERROR(IF(NETWORKDAYS(R232+1,P232,Hoja1!F224:F340)<=0,\"\",NETWORKDAYS(R232+1,P232,Hoja1!F224:F340)),0)","v":""},null,null,{"$f":"IFERROR(VLOOKUP(L232,Hoja1!$A$50:$C$63,2),\"\")","v":""},{"$f":"IFERROR(VLOOKUP(L232,Hoja1!$A$50:$C$63,3),\"\")","v":""}]
["",null,null,null,null,null,null,null,null,null,null,null,null,null,null,null,null,null,null,null,null,{"$f":"IFERROR(WORKDAY(T233,AE233,Hoja1!F225:F341),\"\")","v":""},"",null,"",{"$f":"IF(P233=\"\",\"\",NETWORKDAYS(C233+1,P233,Hoja1!F225:F341))","v":""},{"$f":"IFERROR(IF(NETWORKDAYS(R233+1,P233,Hoja1!F225:F341)<=0,\"\",NETWORKDAYS(R233+1,P233,Hoja1!F225:F341)),0)","v":""},null,null,{"$f":"IFERROR(VLOOKUP(L233,Hoja1!$A$50:$C$63,2),\"\")","v":""},{"$f":"IFERROR(VLOOKUP(L233,Hoja1!$A$50:$C$63,3),\"\")","v":""}]
["",null,null,null,null,null,null,null,null,null,null,null,null,null,null,null,null,null,null,null,null,{"$f":"IFERROR(WORKDAY(T234,AE234,Hoja1!F226:F342),\"\")","v":""},"",null,"",{"$f":"IF(P234=\"\",\"\",NETWORKDAYS(C234+1,P234,Hoja1!F226:F342))","v":""},{"$f":"IFERROR(IF(NETWORKDAYS(R234+1,P234,Hoja1!F226:F342)<=0,\"\",NETWORKDAYS(R234+1,P234,Hoja1!F226:F342)),0)","v":""},null,null,{"$f":"IFERROR(VLOOKUP(L234,Hoja1!$A$50:$C$63,2),\"\")","v":""},{"$f":"IFERROR(VLOOKUP(L234,Hoja1!$A$50:$C$63,3),\"\")","v":""}]
["",null,null,null,null,null,null,null,null,null,null,null,null,null,null,null,null,null,null,null,null,{"$f":"IFERROR(WORKDAY(T235,AE235,Hoja1!F227:F343),\"\")","v":""},"",null,"",{"$f":"IF(P235=\"\",\"\",NETWORKDAYS(C235+1,P235,Hoja1!F227:F343))","v":""},{"$f":"IFERROR(IF(NETWORKDAYS(R235+1,P235,Hoja1!F227:F343)<=0,\"\",NETWORKDAYS(R235+1,P235,Hoja1!F227:F343)),0)","v":""},null,null,{"$f":"IFERROR(VLOOKUP(L235,Hoja1!$A$50:$C$63,2),\"\")","v":""},{"$f":"IFERROR(VLOOKUP(L235,Hoja1!$A$50:$C$63,3),\"\")","v":""}]
["",null,null,null,null,null,null,null,null,null,null,null,null,null,null,null,null,null,null,null,null,{"$f":"IFERROR(WORKDAY(T236,AE236,Hoja1!F228:F344),\"\")","v":""},"",null,"",{"$f":"IF(P236=\"\",\"\",NETWORKDAYS(C236+1,P236,Hoja1!F228:F344))","v":""},{"$f":"IFERROR(IF(NETWORKDAYS(R236+1,P236,Hoja1!F228:F344)<=0,\"\",NETWORKDAYS(R236+1,P236,Hoja1!F228:F344)),0)","v":""},null,null,{"$f":"IFERROR(VLOOKUP(L236,Hoja1!$A$50:$C$63,2),\"\")","v":""},{"$f":"IFERROR(VLOOKUP(L236,Hoja1!$A$50:$C$63,3),\"\")","v":""}]
["",null,null,null,null,null,null,null,null,null,null,null,null,null,null,null,null,null,null,null,null,{"$f":"IFERROR(WORKDAY(T237,AE237,Hoja1!F229:F345),\"\")","v":""},"",null,"",{"$f":"IF(P237=\"\",\"\",NETWORKDAYS(C237+1,P237,Hoja1!F229:F345))","v":""},{"$f":"IFERROR(IF(NETWORKDAYS(R237+1,P237,Hoja1!F229:F345)<=0,\"\",NETWORKDAYS(R237+1,P237,Hoja1!F229:F345)),0)","v":""},null,null,{"$f":"IFERROR(VLOOKUP(L237,Hoja1!$A$50:$C$63,2),\"\")","v":""},{"$f":"IFERROR(VLOOKUP(L237,Hoja1!$A$50:$C$63,3),\"\")","v":""}]
["",null,null,null,null,null,null,null,null,null,null,null,null,null,null,null,null,null,null,null,null,{"$f":"IFERROR(WORKDAY(T238,AE238,Hoja1!F230:F346),\"\")","v":""},"",null,"",{"$f":"IF(P238=\"\",\"\",NETWORKDAYS(C238+1,P238,Hoja1!F230:F346))","v":""},{"$f":"IFERROR(IF(NETWORKDAYS(R238+1,P238,Hoja1!F230:F346)<=0,\"\",NETWORKDAYS(R238+1,P238,Hoja1!F230:F346)),0)","v":""},null,null,{"$f":"IFERROR(VLOOKUP(L238,Hoja1!$A$50:$C$63,2),\"\")","v":""},{"$f":"IFERROR(VLOOKUP(L238,Hoja1!$A$50:$C$63,3),\"\")","v":""}]
["",null,null,null,null,null,null,null,null,null,null,null,null,null,null,null,null,null,null,null,null,{"$f":"IFERROR(WORKDAY(T239,AE239,Hoja1!F231:F347),\"\")","v":""},"",null,"",{"$f":"IF(P239=\"\",\"\",NETWORKDAYS(C239+1,P239,Hoja1!F231:F347))","v":""},{"$f":"IFERROR(IF(NETWORKDAYS(R239+1,P239,Hoja1!F231:F347)<=0,\"\",NETWORKDAYS(R239+1,P239,Hoja1!F231:F347)),0)","v":""},null,null,{"$f":"IFERROR(VLOOKUP(L239,Hoja1!$A$50:$C$63,2),\"\")","v":""},{"$f":"IFERROR(VLOOKUP(L239,Hoja1!$A$50:$C$63,3),\"\")","v":""}]
["",null,null,null,null,null,null,null,null,null,null,null,null,null,null,null,null,null,null,null,null,{"$f":"IFERROR(WORKDAY(T240,AE240,Hoja1!F232:F348),\"\")","v":""},"",null,"",{"$f":"IF(P240=\"\",\"\",NETWORKDAYS(C240+1,P240,Hoja1!F232:F348))","v":""},{"$f":"IFERROR(IF(NETWORKDAYS(R240+1,P240,Hoja1!F232:F348)<=0,\"\",NETWORKDAYS(R240+1,P240,Hoja1!F232:F348)),0)","v":""},null,null,{"$f":"IFERROR(VLOOKUP(L240,Hoja1!$A$50:$C$63,2),\"\")","v":""},{"$f":"IFERROR(VLOOKUP(L240,Hoja1!$A$50:$C$63,3),\"\")","v":""}]
["",null,null,null,null,null,null,null,null,null,null,null,null,null,null,null,null,null,null,null,null,{"$f":"IFERROR(WORKDAY(T241,AE241,Hoja1!F233:F349),\"\")","v":""},"",null,"",{"$f":"IF(P241=\"\",\"\",NETWORKDAYS(C241+1,P241,Hoja1!F233:F349))","v":""},{"$f":"IFERROR(IF(NETWORKDAYS(R241+1,P241,Hoja1!F233:F349)<=0,\"\",NETWORKDAYS(R241+1,P241,Hoja1!F233:F349)),0)","v":""},null,null,{"$f":"IFERROR(VLOOKUP(L241,Hoja1!$A$50:$C$63,2),\"\")","v":""},{"$f":"IFERROR(VLOOKUP(L241,Hoja1!$A$50:$C$63,3),\"\")","v":""}]
["",null,null,null,null,null,null,null,null,null,null,null,null,null,null,null,null,null,null,null,null,{"$f":"IFERROR(WORKDAY(T242,AE242,Hoja1!F234:F350),\"\")","v":""},"",null,"",{"$f":"IF(P242=\"\",\"\",NETWORKDAYS(C242+1,P242,Hoja1!F234:F350))","v":""},{"$f":"IFERROR(IF(NETWORKDAYS(R242+1,P242,Hoja1!F234:F350)<=0,\"\",NETWORKDAYS(R242+1,P242,Hoja1!F234:F350)),0)","v":""},null,null,{"$f":"IFERROR(VLOOKUP(L242,Hoja1!$A$50:$C$63,2),\"\")","v":""},{"$f":"IFERROR(VLOOKUP(L242,Hoja1!$A$50:$C$63,3),\"\")","v":""}]
["",null,null,null,null,null,null,null,null,null,null,null,null,null,null,null,null,null,null,null,null,{"$f":"IFERROR(WORKDAY(T243,AE243,Hoja1!F235:F351),\"\")","v":""},"",null,"",{"$f":"IF(P243=\"\",\"\",NETWORKDAYS(C243+1,P243,Hoja1!F235:F351))","v":""},{"$f":"IFERROR(IF(NETWORKDAYS(R243+1,P243,Hoja1!F235:F351)<=0,\"\",NETWORKDAYS(R243+1,P243,Hoja1!F235:F351)),0)","v":""},null,null,{"$f":"IFERROR(VLOOKUP(L243,Hoja1!$A$50:$C$63,2),\"\")","v":""},{"$f":"IFERROR(VLOOKUP(L243,Hoja1!$A$50:$C$63,3),\"\")","v":""}]
["",null,null,null,null,null,null,null,null,null,null,null,null,null,null,null,null,null,null,null,null,{"$f":"IFERROR(WORKDAY(T244,AE244,Hoja1!F236:F352),\"\")","v":""},"",null,"",{"$f":"IF(P244=\"\",\"\",NETWORKDAYS(C244+1,P244,Hoja1!F236:F352))","v":""},{"$f":"IFERROR(IF(NETWORKDAYS(R244+1,P244,Hoja1!F236:F352)<=0,\"\",NETWORKDAYS(R244+1,P244,Hoja1!F236:F352)),0)","v":""},null,null,{"$f":"IFERROR(VLOOKUP(L244,Hoja1!$A$50:$C$63,2),\"\")","v":""},{"$f":"IFERROR(VLOOKUP(L244,Hoja1!$A$50:$C$63,3),\"\")","v":""}]
["",null,null,null,null,null,null,null,null,null,null,null,null,null,null,null,null,null,null,null,null,{"$f":"IFERROR(WORKDAY(T245,AE245,Hoja1!F237:F353),\"\")","v":""},"",null,"",{"$f":"IF(P245=\"\",\"\",NETWORKDAYS(C245+1,P245,Hoja1!F237:F353))","v":""},{"$f":"IFERROR(IF(NETWORKDAYS(R245+1,P245,Hoja1!F237:F353)<=0,\"\",NETWORKDAYS(R245+1,P245,Hoja1!F237:F353)),0)","v":""},null,null,{"$f":"IFERROR(VLOOKUP(L245,Hoja1!$A$50:$C$63,2),\"\")","v":""},{"$f":"IFERROR(VLOOKUP(L245,Hoja1!$A$50:$C$63,3),\"\")","v":""}]
["",null,null,null,null,null,null,null,null,null,null,null,null,null,null,null,null,null,null,null,null,{"$f":"IFERROR(WORKDAY(T246,AE246,Hoja1!F238:F354),\"\")","v":""},"",null,"",{"$f":"IF(P246=\"\",\"\",NETWORKDAYS(C246+1,P246,Hoja1!F238:F354))","v":""},{"$f":"IFERROR(IF(NETWORKDAYS(R246+1,P246,Hoja1!F238:F354)<=0,\"\",NETWORKDAYS(R246+1,P246,Hoja1!F238:F354)),0)","v":""},null,null,{"$f":"IFERROR(VLOOKUP(L246,Hoja1!$A$50:$C$63,2),\"\")","v":""},{"$f":"IFERROR(VLOOKUP(L246,Hoja1!$A$50:$C$63,3),\"\")","v":""}]
["",null,null,null,null,null,null,null,null,null,null,null,null,null,null,null,null,null,null,null,null,{"$f":"IFERROR(WORKDAY(T247,AE247,Hoja1!F239:F355),\"\")","v":""},"",null,"",{"$f":"IF(P247=\"\",\"\",NETWORKDAYS(C247+1,P247,Hoja1!F239:F355))","v":""},{"$f":"IFERROR(IF(NETWORKDAYS(R247+1,P247,Hoja1!F239:F355)<=0,\"\",NETWORKDAYS(R247+1,P247,Hoja1!F239:F355)),0)","v":""},null,null,{"$f":"IFERROR(VLOOKUP(L247,Hoja1!$A$50:$C$63,2),\"\")","v":""},{"$f":"IFERROR(VLOOKUP(L247,Hoja1!$A$50:$C$63,3),\"\")","v":""}]
["",null,null,null,null,null,null,null,null,null,null,null,null,null,null,null,null,null,null,null,null,{"$f":"IFERROR(WORKDAY(T248,AE248,Hoja1!F240:F356),\"\")","v":""},"",null,"",{"$f":"IF(P248=\"\",\"\",NETWORKDAYS(C248+1,P248,Hoja1!F240:F356))","v":""},{"$f":"IFERROR(IF(NETWORKDAYS(R248+1,P248,Hoja1!F240:F356)<=0,\"\",NETWORKDAYS(R248+1,P248,Hoja1!F240:F356)),0)","v":""},null,null,{"$f":"IFERROR(VLOOKUP(L248,Hoja1!$A$50:$C$63,2),\"\")","v":""},{"$f":"IFERROR(VLOOKUP(L248,Hoja1!$A$50:$C$63,3),\"\")","v":""}]
["",null,null,null,null,null,null,null,null,null,null,null,null,null,null,null,null,null,null,null,null,{"$f":"IFERROR(WORKDAY(T249,AE249,Hoja1!F241:F357),\"\")","v":""},"",null,"",{"$f":"IF(P249=\"\",\"\",NETWORKDAYS(C249+1,P249,Hoja1!F241:F357))","v":""},{"$f":"IFERROR(IF(NETWORKDAYS(R249+1,P249,Hoja1!F241:F357)<=0,\"\",NETWORKDAYS(R249+1,P249,Hoja1!F241:F357)),0)","v":""},null,null,{"$f":"IFERROR(VLOOKUP(L249,Hoja1!$A$50:$C$63,2),\"\")","v":""},{"$f":"IFERROR(VLOOKUP(L249,Hoja1!$A$50:$C$63,3),\"\")","v":""}]
["",null,null,null,null,null,null,null,null,null,null,null,null,null,null,null,null,null,null,null,null,{"$f":"IFERROR(WORKDAY(T250,AE250,Hoja1!F242:F358),\"\")","v":""},"",null,"",{"$f":"IF(P250=\"\",\"\",NETWORKDAYS(C250+1,P250,Hoja1!F242:F358))","v":""},{"$f":"IFERROR(IF(NETWORKDAYS(R250+1,P250,Hoja1!F242:F358)<=0,\"\",NETWORKDAYS(R250+1,P250,Hoja1!F242:F358)),0)","v":""},null,null,{"$f":"IFERROR(VLOOKUP(L250,Hoja1!$A$50:$C$63,2),\"\")","v":""},{"$f":"IFERROR(VLOOKUP(L250,Hoja1!$A$50:$C$63,3),\"\")","v":""}]
["",null,null,null,null,null,null,null,null,null,null,null,null,null,null,null,null,null,null,null,null,{"$f":"IFERROR(WORKDAY(T251,AE251,Hoja1!F243:F359),\"\")","v":""},"",null,"",{"$f":"IF(P251=\"\",\"\",NETWORKDAYS(C251+1,P251,Hoja1!F243:F359))","v":""},{"$f":"IFERROR(IF(NETWORKDAYS(R251+1,P251,Hoja1!F243:F359)<=0,\"\",NETWORKDAYS(R251+1,P251,Hoja1!F243:F359)),0)","v":""},null,null,{"$f":"IFERROR(VLOOKUP(L251,Hoja1!$A$50:$C$63,2),\"\")","v":""},{"$f":"IFERROR(VLOOKUP(L251,Hoja1!$A$50:$C$63,3),\"\")","v":""}]
["",null,null,null,null,null,null,null,null,null,null,null,null,null,null,null,null,null,null,null,null,{"$f":"IFERROR(WORKDAY(T252,AE252,Hoja1!F244:F360),\"\")","v":""},"",null,"",{"$f":"IF(P252=\"\",\"\",NETWORKDAYS(C252+1,P252,Hoja1!F244:F360))","v":""},{"$f":"IFERROR(IF(NETWORKDAYS(R252+1,P252,Hoja1!F244:F360)<=0,\"\",NETWORKDAYS(R252+1,P252,Hoja1!F244:F360)),0)","v":""},null,null,{"$f":"IFERROR(VLOOKUP(L252,Hoja1!$A$50:$C$63,2),\"\")","v":""},{"$f":"IFERROR(VLOOKUP(L252,Hoja1!$A$50:$C$63,3),\"\")","v":""}]
["",null,null,null,null,null,null,null,null,null,null,null,null,null,null,null,null,null,null,null,null,{"$f":"IFERROR(WORKDAY(T253,AE253,Hoja1!F245:F361),\"\")","v":""},"",null,"",{"$f":"IF(P253=\"\",\"\",NETWORKDAYS(C253+1,P253,Hoja1!F245:F361))","v":""},{"$f":"IFERROR(IF(NETWORKDAYS(R253+1,P253,Hoja1!F245:F361)<=0,\"\",NETWORKDAYS(R253+1,P253,Hoja1!F245:F361)),0)","v":""},null,null,{"$f":"IFERROR(VLOOKUP(L253,Hoja1!$A$50:$C$63,2),\"\")","v":""},{"$f":"IFERROR(VLOOKUP(L253,Hoja1!$A$50:$C$63,3),\"\")","v":""}]
["",null,null,null,null,null,null,null,null,null,null,null,null,null,null,null,null,null,null,null,null,{"$f":"IFERROR(WORKDAY(T254,AE254,Hoja1!F246:F362),\"\")","v":""},"",null,"",{"$f":"IF(P254=\"\",\"\",NETWORKDAYS(C254+1,P254,Hoja1!F246:F362))","v":""},{"$f":"IFERROR(IF(NETWORKDAYS(R254+1,P254,Hoja1!F246:F362)<=0,\"\",NETWORKDAYS(R254+1,P254,Hoja1!F246:F362)),0)","v":""},null,null,{"$f":"IFERROR(VLOOKUP(L254,Hoja1!$A$50:$C$63,2),\"\")","v":""},{"$f":"IFERROR(VLOOKUP(L254,Hoja1!$A$50:$C$63,3),\"\")","v":""}]
["",null,null,null,null,null,null,null,null,null,null,null,null,null,null,null,null,null,null,null,null,{"$f":"IFERROR(WORKDAY(T255,AE255,Hoja1!F247:F363),\"\")","v":""},"",null,"",{"$f":"IF(P255=\"\",\"\",NETWORKDAYS(C255+1,P255,Hoja1!F247:F363))","v":""},{"$f":"IFERROR(IF(NETWORKDAYS(R255+1,P255,Hoja1!F247:F363)<=0,\"\",NETWORKDAYS(R255+1,P255,Hoja1!F247:F363)),0)","v":""},null,null,{"$f":"IFERROR(VLOOKUP(L255,Hoja1!$A$50:$C$63,2),\"\")","v":""},{"$f":"IFERROR(VLOOKUP(L255,Hoja1!$A$50:$C$63,3),\"\")","v":""}]
["",null,null,null,null,null,null,null,null,null,null,null,null,null,null,null,null,null,null,null,null,{"$f":"IFERROR(WORKDAY(T256,AE256,Hoja1!F248:F364),\"\")","v":""},"",null,"",{"$f":"IF(P256=\"\",\"\",NETWORKDAYS(C256+1,P256,Hoja1!F248:F364))","v":""},{"$f":"IFERROR(IF(NETWORKDAYS(R256+1,P256,Hoja1!F248:F364)<=0,\"\",NETWORKDAYS(R256+1,P256,Hoja1!F248:F364)),0)","v":""},null,null,{"$f":"IFERROR(VLOOKUP(L256,Hoja1!$A$50:$C$63,2),\"\")","v":""},{"$f":"IFERROR(VLOOKUP(L256,Hoja1!$A$50:$C$63,3),\"\")","v":""}]
["",null,null,null,null,null,null,null,null,null,null,null,null,null,null,null,null,null,null,null,null,{"$f":"IFERROR(WORKDAY(T257,AE257,Hoja1!F249:F365),\"\")","v":""},"",null,"",{"$f":"IF(P257=\"\",\"\",NETWORKDAYS(C257+1,P257,Hoja1!F249:F365))","v":""},{"$f":"IFERROR(IF(NETWORKDAYS(R257+1,P257,Hoja1!F249:F365)<=0,\"\",NETWORKDAYS(R257+1,P257,Hoja1!F249:F365)),0)","v":""},null,null,{"$f":"IFERROR(VLOOKUP(L257,Hoja1!$A$50:$C$63,2),\"\")","v":""},{"$f":"IFERROR(VLOOKUP(L257,Hoja1!$A$50:$C$63,3),\"\")","v":""}]
["",null,null,null,null,null,null,null,null,null,null,null,null,null,null,null,null,null,null,null,null,{"$f":"IFERROR(WORKDAY(T258,AE258,Hoja1!F250:F366),\"\")","v":""},"",null,"",{"$f":"IF(P258=\"\",\"\",NETWORKDAYS(C258+1,P258,Hoja1!F250:F366))","v":""},{"$f":"IFERROR(IF(NETWORKDAYS(R258+1,P258,Hoja1!F250:F366)<=0,\"\",NETWORKDAYS(R258+1,P258,Hoja1!F250:F366)),0)","v":""},null,null,{"$f":"IFERROR(VLOOKUP(L258,Hoja1!$A$50:$C$63,2),\"\")","v":""},{"$f":"IFERROR(VLOOKUP(L258,Hoja1!$A$50:$C$63,3),\"\")","v":""}]
["",null,null,null,null,null,null,null,null,null,null,null,null,null,null,null,null,null,null,null,null,{"$f":"IFERROR(WORKDAY(T259,AE259,Hoja1!F251:F367),\"\")","v":""},"",null,"",{"$f":"IF(P259=\"\",\"\",NETWORKDAYS(C259+1,P259,Hoja1!F251:F367))","v":""},{"$f":"IFERROR(IF(NETWORKDAYS(R259+1,P259,Hoja1!F251:F367)<=0,\"\",NETWORKDAYS(R259+1,P259,Hoja1!F251:F367)),0)","v":""},null,null,{"$f":"IFERROR(VLOOKUP(L259,Hoja1!$A$50:$C$63,2),\"\")","v":""},{"$f":"IFERROR(VLOOKUP(L259,Hoja1!$A$50:$C$63,3),\"\")","v":""}]
["",null,null,null,null,null,null,null,null,null,null,null,null,null,null,null,null,null,null,null,null,{"$f":"IFERROR(WORKDAY(T260,AE260,Hoja1!F252:F368),\"\")","v":""},"",null,"",{"$f":"IF(P260=\"\",\"\",NETWORKDAYS(C260+1,P260,Hoja1!F252:F368))","v":""},{"$f":"IFERROR(IF(NETWORKDAYS(R260+1,P260,Hoja1!F252:F368)<=0,\"\",NETWORKDAYS(R260+1,P260,Hoja1!F252:F368)),0)","v":""},null,null,{"$f":"IFERROR(VLOOKUP(L260,Hoja1!$A$50:$C$63,2),\"\")","v":""},{"$f":"IFERROR(VLOOKUP(L260,Hoja1!$A$50:$C$63,3),\"\")","v":""}]
["",null,null,null,null,null,null,null,null,null,null,null,null,null,null,null,null,null,null,null,null,{"$f":"IFERROR(WORKDAY(T261,AE261,Hoja1!F253:F369),\"\")","v":""},"",null,"",{"$f":"IF(P261=\"\",\"\",NETWORKDAYS(C261+1,P261,Hoja1!F253:F369))","v":""},{"$f":"IFERROR(IF(NETWORKDAYS(R261+1,P261,Hoja1!F253:F369)<=0,\"\",NETWORKDAYS(R261+1,P261,Hoja1!F253:F369)),0)","v":""},null,null,{"$f":"IFERROR(VLOOKUP(L261,Hoja1!$A$50:$C$63,2),\"\")","v":""},{"$f":"IFERROR(VLOOKUP(L261,Hoja1!$A$50:$C$63,3),\"\")","v":""}]
["",null,null,null,null,null,null,null,null,null,null,null,null,null,null,null,null,null,null,null,null,{"$f":"IFERROR(WORKDAY(T262,AE262,Hoja1!F254:F370),\"\")","v":""},"",null,"",{"$f":"IF(P262=\"\",\"\",NETWORKDAYS(C262+1,P262,Hoja1!F254:F370))","v":""},{"$f":"IFERROR(IF(NETWORKDAYS(R262+1,P262,Hoja1!F254:F370)<=0,\"\",NETWORKDAYS(R262+1,P262,Hoja1!F254:F370)),0)","v":""},null,null,{"$f":"IFERROR(VLOOKUP(L262,Hoja1!$A$50:$C$63,2),\"\")","v":""},{"$f":"IFERROR(VLOOKUP(L262,Hoja1!$A$50:$C$63,3),\"\")","v":""}]
["",null,null,null,null,null,null,null,null,null,null,null,null,null,null,null,null,null,null,null,null,{"$f":"IFERROR(WORKDAY(T263,AE263,Hoja1!F255:F371),\"\")","v":""},"",null,"",{"$f":"IF(P263=\"\",\"\",NETWORKDAYS(C263+1,P263,Hoja1!F255:F371))","v":""},{"$f":"IFERROR(IF(NETWORKDAYS(R263+1,P263,Hoja1!F255:F371)<=0,\"\",NETWORKDAYS(R263+1,P263,Hoja1!F255:F371)),0)","v":""},null,null,{"$f":"IFERROR(VLOOKUP(L263,Hoja1!$A$50:$C$63,2),\"\")","v":""},{"$f":"IFERROR(VLOOKUP(L263,Hoja1!$A$50:$C$63,3),\"\")","v":""}]
["",null,null,null,null,null,null,null,null,null,null,null,null,null,null,null,null,null,null,null,null,{"$f":"IFERROR(WORKDAY(T264,AE264,Hoja1!F256:F372),\"\")","v":""},"",null,"",{"$f":"IF(P264=\"\",\"\",NETWORKDAYS(C264+1,P264,Hoja1!F256:F372))","v":""},{"$f":"IFERROR(IF(NETWORKDAYS(R264+1,P264,Hoja1!F256:F372)<=0,\"\",NETWORKDAYS(R264+1,P264,Hoja1!F256:F372)),0)","v":""},null,null,{"$f":"IFERROR(VLOOKUP(L264,Hoja1!$A$50:$C$63,2),\"\")","v":""},{"$f":"IFERROR(VLOOKUP(L264,Hoja1!$A$50:$C$63,3),\"\")","v":""}]
["",null,null,null,null,null,null,null,null,null,null,null,null,null,null,null,null,null,null,null,null,{"$f":"IFERROR(WORKDAY(T265,AE265,Hoja1!F257:F373),\"\")","v":""},"",null,"",{"$f":"IF(P265=\"\",\"\",NETWORKDAYS(C265+1,P265,Hoja1!F257:F373))","v":""},{"$f":"IFERROR(IF(NETWORKDAYS(R265+1,P265,Hoja1!F257:F373)<=0,\"\",NETWORKDAYS(R265+1,P265,Hoja1!F257:F373)),0)","v":""},null,null,{"$f":"IFERROR(VLOOKUP(L265,Hoja1!$A$50:$C$63,2),\"\")","v":""},{"$f":"IFERROR(VLOOKUP(L265,Hoja1!$A$50:$C$63,3),\"\")","v":""}]
["",null,null,null,null,null,null,null,null,null,null,null,null,null,null,null,null,null,null,null,null,{"$f":"IFERROR(WORKDAY(T266,AE266,Hoja1!F258:F374),\"\")","v":""},"",null,"",{"$f":"IF(P266=\"\",\"\",NETWORKDAYS(C266+1,P266,Hoja1!F258:F374))","v":""},{"$f":"IFERROR(IF(NETWORKDAYS(R266+1,P266,Hoja1!F258:F374)<=0,\"\",NETWORKDAYS(R266+1,P266,Hoja1!F258:F374)),0)","v":""},null,null,{"$f":"IFERROR(VLOOKUP(L266,Hoja1!$A$50:$C$63,2),\"\")","v":""},{"$f":"IFERROR(VLOOKUP(L266,Hoja1!$A$50:$C$63,3),\"\")","v":""}]
["",null,null,null,null,null,null,null,null,null,null,null,null,null,null,null,null,null,null,null,null,{"$f":"IFERROR(WORKDAY(T267,AE267,Hoja1!F259:F375),\"\")","v":""},"",null,{"$f":"+IF(C267=\"\",\"\",IF(P267=\"\",\"SIN RESPUESTA\",(IF(P267<=R267,\"A TIEMPO\",\"FUERA DE TIEMPO\"))))","v":""},{"$f":"IF(P267=\"\",\"\",NETWORKDAYS(C267+1,P267,Hoja1!F259:F375))","v":""},{"$f":"IFERROR(IF(NETWORKDAYS(R267+1,P267,Hoja1!F259:F375)<=0,\"\",NETWORKDAYS(R267+1,P267,Hoja1!F259:F375)),0)","v":""},null,null,{"$f":"IFERROR(VLOOKUP(L267,Hoja1!$A$50:$C$63,2),\"\")","v":""},{"$f":"IFERROR(VLOOKUP(L267,Hoja1!$A$50:$C$63,3),\"\")","v":""}]
["",null,null,null,null,null,null,null,null,null,null,null,null,null,null,null,null,null,null,null,null,{"$f":"IFERROR(WORKDAY(T268,AE268,Hoja1!F260:F376),\"\")","v":""},{"$f":"+IF(T268=\"\",\"\",IF(U268=\"\",\"SIN RESPUESTA\",(IF(U268<=V268,\"A TIEMPO\",\"FUERA DE TIEMPO\"))))","v":""},null,"",{"$f":"IF(P268=\"\",\"\",NETWORKDAYS(C268+1,P268,Hoja1!F260:F376))","v":""},{"$f":"IFERROR(IF(NETWORKDAYS(R268+1,P268,Hoja1!F260:F376)<=0,\"\",NETWORKDAYS(R268+1,P268,Hoja1!F260:F376)),0)","v":""},null,null,{"$f":"IFERROR(VLOOKUP(L268,Hoja1!$A$50:$C$63,2),\"\")","v":""},{"$f":"IFERROR(VLOOKUP(L268,Hoja1!$A$50:$C$63,3),\"\")","v":""}]
["",null,null,null,null,null,null,null,null,null,null,null,null,null,null,null,null,null,null,null,null,{"$f":"IFERROR(WORKDAY(T269,AE269,Hoja1!F261:F377),\"\")","v":""},"",null,"",{"$f":"IF(P269=\"\",\"\",NETWORKDAYS(C269+1,P269,Hoja1!F261:F377))","v":""},{"$f":"IFERROR(IF(NETWORKDAYS(R269+1,P269,Hoja1!F261:F377)<=0,\"\",NETWORKDAYS(R269+1,P269,Hoja1!F261:F377)),0)","v":""},null,null,{"$f":"IFERROR(VLOOKUP(L269,Hoja1!$A$50:$C$63,2),\"\")","v":""},{"$f":"IFERROR(VLOOKUP(L269,Hoja1!$A$50:$C$63,3),\"\")","v":""}]
["",null,null,null,null,null,null,null,null,null,null,null,null,null,null,null,null,null,null,null,null,{"$f":"IFERROR(WORKDAY(T270,AE270,Hoja1!F262:F378),\"\")","v":""},"",null,"",{"$f":"IF(P270=\"\",\"\",NETWORKDAYS(C270+1,P270,Hoja1!F262:F378))","v":""},{"$f":"IFERROR(IF(NETWORKDAYS(R270+1,P270,Hoja1!F262:F378)<=0,\"\",NETWORKDAYS(R270+1,P270,Hoja1!F262:F378)),0)","v":""},null,null,{"$f":"IFERROR(VLOOKUP(L270,Hoja1!$A$50:$C$63,2),\"\")","v":""},{"$f":"IFERROR(VLOOKUP(L270,Hoja1!$A$50:$C$63,3),\"\")","v":""}]
["",null,null,null,null,null,null,null,null,null,null,null,null,null,null,null,null,null,null,null,null,{"$f":"IFERROR(WORKDAY(T271,AE271,Hoja1!F263:F379),\"\")","v":""},"",null,"",{"$f":"IF(P271=\"\",\"\",NETWORKDAYS(C271+1,P271,Hoja1!F263:F379))","v":""},{"$f":"IFERROR(IF(NETWORKDAYS(R271+1,P271,Hoja1!F263:F379)<=0,\"\",NETWORKDAYS(R271+1,P271,Hoja1!F263:F379)),0)","v":""},null,null,{"$f":"IFERROR(VLOOKUP(L271,Hoja1!$A$50:$C$63,2),\"\")","v":""},{"$f":"IFERROR(VLOOKUP(L271,Hoja1!$A$50:$C$63,3),\"\")","v":""}]
["",null,null,null,null,null,null,null,null,null,null,null,null,null,null,null,null,null,null,null,null,{"$f":"IFERROR(WORKDAY(T272,AE272,Hoja1!F264:F380),\"\")","v":""},"",null,"",{"$f":"IF(P272=\"\",\"\",NETWORKDAYS(C272+1,P272,Hoja1!F264:F380))","v":""},{"$f":"IFERROR(IF(NETWORKDAYS(R272+1,P272,Hoja1!F264:F380)<=0,\"\",NETWORKDAYS(R272+1,P272,Hoja1!F264:F380)),0)","v":""},null,null,{"$f":"IFERROR(VLOOKUP(L272,Hoja1!$A$50:$C$63,2),\"\")","v":""},{"$f":"IFERROR(VLOOKUP(L272,Hoja1!$A$50:$C$63,3),\"\")","v":""}]
[{"$f":"IF(B273<>\"\",A272+1,\"\")","v":""},null,null,null,null,null,null,null,null,null,null,null,null,null,null,null,null,null,null,null,null,{"$f":"IFERROR(WORKDAY(T273,AE273,Hoja1!F265:F381),\"\")","v":""},"",null,"",{"$f":"IF(P273=\"\",\"\",NETWORKDAYS(C273+1,P273,Hoja1!F265:F381))","v":""},{"$f":"IFERROR(IF(NETWORKDAYS(R273+1,P273,Hoja1!F265:F381)<=0,\"\",NETWORKDAYS(R273+1,P273,Hoja1!F265:F381)),0)","v":""},null,null,{"$f":"IFERROR(VLOOKUP(L273,Hoja1!$A$50:$C$63,2),\"\")","v":""},{"$f":"IFERROR(VLOOKUP(L273,Hoja1!$A$50:$C$63,3),\"\")","v":""}]
["",null,null,null,null,null,null,null,null,null,null,null,null,null,null,null,null,null,null,null,null,{"$f":"IFERROR(WORKDAY(T274,AE274,Hoja1!F266:F382),\"\")","v":""},"",null,"",{"$f":"IF(P274=\"\",\"\",NETWORKDAYS(C274+1,P274,Hoja1!F266:F382))","v":""},{"$f":"IFERROR(IF(NETWORKDAYS(R274+1,P274,Hoja1!F266:F382)<=0,\"\",NETWORKDAYS(R274+1,P274,Hoja1!F266:F382)),0)","v":""},null,null,{"$f":"IFERROR(VLOOKUP(L274,Hoja1!$A$50:$C$63,2),\"\")","v":""},{"$f":"IFERROR(VLOOKUP(L274,Hoja1!$A$50:$C$63,3),\"\")","v":""}]
["",null,null,null,null,null,null,null,null,null,null,null,null,null,null,null,null,null,null,null,null,{"$f":"IFERROR(WORKDAY(T275,AE275,Hoja1!F267:F383),\"\")","v":""},"",null,"",{"$f":"IF(P275=\"\",\"\",NETWORKDAYS(C275+1,P275,Hoja1!F267:F383))","v":""},{"$f":"IFERROR(IF(NETWORKDAYS(R275+1,P275,Hoja1!F267:F383)<=0,\"\",NETWORKDAYS(R275+1,P275,Hoja1!F267:F383)),0)","v":""},null,null,{"$f":"IFERROR(VLOOKUP(L275,Hoja1!$A$50:$C$63,2),\"\")","v":""},{"$f":"IFERROR(VLOOKUP(L275,Hoja1!$A$50:$C$63,3),\"\")","v":""}]
["",null,null,null,null,null,null,null,null,null,null,null,null,null,null,null,null,null,null,null,null,{"$f":"IFERROR(WORKDAY(T276,AE276,Hoja1!F268:F384),\"\")","v":""},"",null,"",{"$f":"IF(P276=\"\",\"\",NETWORKDAYS(C276+1,P276,Hoja1!F268:F384))","v":""},{"$f":"IFERROR(IF(NETWORKDAYS(R276+1,P276,Hoja1!F268:F384)<=0,\"\",NETWORKDAYS(R276+1,P276,Hoja1!F268:F384)),0)","v":""},null,null,{"$f":"IFERROR(VLOOKUP(L276,Hoja1!$A$50:$C$63,2),\"\")","v":""},{"$f":"IFERROR(VLOOKUP(L276,Hoja1!$A$50:$C$63,3),\"\")","v":""}]
["",null,null,null,null,null,null,null,null,null,null,null,null,null,null,null,null,null,null,null,null,{"$f":"IFERROR(WORKDAY(T277,AE277,Hoja1!F269:F385),\"\")","v":""},"",null,"",{"$f":"IF(P277=\"\",\"\",NETWORKDAYS(C277+1,P277,Hoja1!F269:F385))","v":""},{"$f":"IFERROR(IF(NETWORKDAYS(R277+1,P277,Hoja1!F269:F385)<=0,\"\",NETWORKDAYS(R277+1,P277,Hoja1!F269:F385)),0)","v":""},null,null,{"$f":"IFERROR(VLOOKUP(L277,Hoja1!$A$50:$C$63,2),\"\")","v":""},{"$f":"IFERROR(VLOOKUP(L277,Hoja1!$A$50:$C$63,3),\"\")","v":""}]
["",null,null,null,null,null,null,null,null,null,null,null,null,null,null,null,null,null,null,null,null,{"$f":"IFERROR(WORKDAY(T278,AE278,Hoja1!F270:F386),\"\")","v":""},"",null,"",{"$f":"IF(P278=\"\",\"\",NETWORKDAYS(C278+1,P278,Hoja1!F270:F386))","v":""},{"$f":"IFERROR(IF(NETWORKDAYS(R278+1,P278,Hoja1!F270:F386)<=0,\"\",NETWORKDAYS(R278+1,P278,Hoja1!F270:F386)),0)","v":""},null,null,{"$f":"IFERROR(VLOOKUP(L278,Hoja1!$A$50:$C$63,2),\"\")","v":""},{"$f":"IFERROR(VLOOKUP(L278,Hoja1!$A$50:$C$63,3),\"\")","v":""}]
["",null,null,null,null,null,null,null,null,null,null,null,null,null,null,null,null,null,null,null,null,{"$f":"IFERROR(WORKDAY(T279,AE279,Hoja1!F271:F387),\"\")","v":""},"",null,"",{"$f":"IF(P279=\"\",\"\",NETWORKDAYS(C279+1,P279,Hoja1!F271:F387))","v":""},{"$f":"IFERROR(IF(NETWORKDAYS(R279+1,P279,Hoja1!F271:F387)<=0,\"\",NETWORKDAYS(R279+1,P279,Hoja1!F271:F387)),0)","v":""},null,null,{"$f":"IFERROR(VLOOKUP(L279,Hoja1!$A$50:$C$63,2),\"\")","v":""},{"$f":"IFERROR(VLOOKUP(L279,Hoja1!$A$50:$C$63,3),\"\")","v":""}]
["",null,null,null,null,null,null,null,null,null,null,null,null,null,null,null,null,null,null,null,null,{"$f":"IFERROR(WORKDAY(T280,AE280,Hoja1!F272:F388),\"\")","v":""},"",null,"",{"$f":"IF(P280=\"\",\"\",NETWORKDAYS(C280+1,P280,Hoja1!F272:F388))","v":""},{"$f":"IFERROR(IF(NETWORKDAYS(R280+1,P280,Hoja1!F272:F388)<=0,\"\",NETWORKDAYS(R280+1,P280,Hoja1!F272:F388)),0)","v":""},null,null,{"$f":"IFERROR(VLOOKUP(L280,Hoja1!$A$50:$C$63,2),\"\")","v":""},{"$f":"IFERROR(VLOOKUP(L280,Hoja1!$A$50:$C$63,3),\"\")","v":""}]
["",null,null,null,null,null,null,null,null,null,null,null,null,null,null,null,null,null,null,null,null,{"$f":"IFERROR(WORKDAY(T281,AE281,Hoja1!F273:F389),\"\")","v":""},"",null,"",{"$f":"IF(P281=\"\",\"\",NETWORKDAYS(C281+1,P281,Hoja1!F273:F389))","v":""},{"$f":"IFERROR(IF(NETWORKDAYS(R281+1,P281,Hoja1!F273:F389)<=0,\"\",NETWORKDAYS(R281+1,P281,Hoja1!F273:F389)),0)","v":""},null,null,{"$f":"IFERROR(VLOOKUP(L281,Hoja1!$A$50:$C$63,2),\"\")","v":""},{"$f":"IFERROR(VLOOKUP(L281,Hoja1!$A$50:$C$63,3),\"\")","v":""}]
["",null,null,null,null,null,null,null,null,null,null,null,null,null,null,null,null,null,null,null,null,{"$f":"IFERROR(WORKDAY(T282,AE282,Hoja1!F274:F390),\"\")","v":""},"",null,"",{"$f":"IF(P282=\"\",\"\",NETWORKDAYS(C282+1,P282,Hoja1!F274:F390))","v":""},{"$f":"IFERROR(IF(NETWORKDAYS(R282+1,P282,Hoja1!F274:F390)<=0,\"\",NETWORKDAYS(R282+1,P282,Hoja1!F274:F390)),0)","v":""},null,null,{"$f":"IFERROR(VLOOKUP(L282,Hoja1!$A$50:$C$63,2),\"\")","v":""},{"$f":"IFERROR(VLOOKUP(L282,Hoja1!$A$50:$C$63,3),\"\")","v":""}]
["",null,null,null,null,null,null,null,null,null,null,null,null,null,null,null,null,null,null,null,null,{"$f":"IFERROR(WORKDAY(T283,AE283,Hoja1!F275:F391),\"\")","v":""},"",null,"",{"$f":"IF(P283=\"\",\"\",NETWORKDAYS(C283+1,P283,Hoja1!F275:F391))","v":""},{"$f":"IFERROR(IF(NETWORKDAYS(R283+1,P283,Hoja1!F275:F391)<=0,\"\",NETWORKDAYS(R283+1,P283,Hoja1!F275:F391)),0)","v":""},null,null,{"$f":"IFERROR(VLOOKUP(L283,Hoja1!$A$50:$C$63,2),\"\")","v":""},{"$f":"IFERROR(VLOOKUP(L283,Hoja1!$A$50:$C$63,3),\"\")","v":""}]
["",null,null,null,null,null,null,null,null,null,null,null,null,null,null,null,null,null,null,null,null,{"$f":"IFERROR(WORKDAY(T284,AE284,Hoja1!F276:F392),\"\")","v":""},"",null,"",{"$f":"IF(P284=\"\",\"\",NETWORKDAYS(C284+1,P284,Hoja1!F276:F392))","v":""},{"$f":"IFERROR(IF(NETWORKDAYS(R284+1,P284,Hoja1!F276:F392)<=0,\"\",NETWORKDAYS(R284+1,P284,Hoja1!F276:F392)),0)","v":""},null,null,{"$f":"IFERROR(VLOOKUP(L284,Hoja1!$A$50:$C$63,2),\"\")","v":""},{"$f":"IFERROR(VLOOKUP(L284,Hoja1!$A$50:$C$63,3),\"\")","v":""}]
["",null,null,null,null,null,null,null,null,null,null,null,null,null,null,null,null,null,null,null,null,{"$f":"IFERROR(WORKDAY(T285,AE285,Hoja1!F277:F393),\"\")","v":""},"",null,"",{"$f":"IF(P285=\"\",\"\",NETWORKDAYS(C285+1,P285,Hoja1!F277:F393))","v":""},{"$f":"IFERROR(IF(NETWORKDAYS(R285+1,P285,Hoja1!F277:F393)<=0,\"\",NETWORKDAYS(R285+1,P285,Hoja1!F277:F393)),0)","v":""},null,null,{"$f":"IFERROR(VLOOKUP(L285,Hoja1!$A$50:$C$63,2),\"\")","v":""},{"$f":"IFERROR(VLOOKUP(L285,Hoja1!$A$50:$C$63,3),\"\")","v":""}]
["",null,null,null,null,null,null,null,null,null,null,null,null,null,null,null,null,null,null,null,null,{"$f":"IFERROR(WORKDAY(T286,AE286,Hoja1!F278:F394),\"\")","v":""},"",null,"",{"$f":"IF(P286=\"\",\"\",NETWORKDAYS(C286+1,P286,Hoja1!F278:F394))","v":""},{"$f":"IFERROR(IF(NETWORKDAYS(R286+1,P286,Hoja1!F278:F394)<=0,\"\",NETWORKDAYS(R286+1,P286,Hoja1!F278:F394)),0)","v":""},null,null,{"$f":"IFERROR(VLOOKUP(L286,Hoja1!$A$50:$C$63,2),\"\")","v":""},{"$f":"IFERROR(VLOOKUP(L286,Hoja1!$A$50:$C$63,3),\"\")","v":""}]
["",null,null,null,null,null,null,null,null,null,null,null,null,null,null,null,null,null,null,null,null,{"$f":"IFERROR(WORKDAY(T287,AE287,Hoja1!F279:F395),\"\")","v":""},"",null,"",{"$f":"IF(P287=\"\",\"\",NETWORKDAYS(C287+1,P287,Hoja1!F279:F395))","v":""},{"$f":"IFERROR(IF(NETWORKDAYS(R287+1,P287,Hoja1!F279:F395)<=0,\"\",NETWORKDAYS(R287+1,P287,Hoja1!F279:F395)),0)","v":""},null,null,{"$f":"IFERROR(VLOOKUP(L287,Hoja1!$A$50:$C$63,2),\"\")","v":""},{"$f":"IFERROR(VLOOKUP(L287,Hoja1!$A$50:$C$63,3),\"\")","v":""}]
["",null,null,null,null,null,null,null,null,null,null,null,null,null,null,null,null,null,null,null,null,{"$f":"IFERROR(WORKDAY(T288,AE288,Hoja1!F280:F396),\"\")","v":""},"",null,"",{"$f":"IF(P288=\"\",\"\",NETWORKDAYS(C288+1,P288,Hoja1!F280:F396))","v":""},{"$f":"IFERROR(IF(NETWORKDAYS(R288+1,P288,Hoja1!F280:F396)<=0,\"\",NETWORKDAYS(R288+1,P288,Hoja1!F280:F396)),0)","v":""},null,null,{"$f":"IFERROR(VLOOKUP(L288,Hoja1!$A$50:$C$63,2),\"\")","v":""},{"$f":"IFERROR(VLOOKUP(L288,Hoja1!$A$50:$C$63,3),\"\")","v":""}]
["",null,null,null,null,null,null,null,null,null,null,null,null,null,null,null,null,null,null,null,null,{"$f":"IFERROR(WORKDAY(T289,AE289,Hoja1!F281:F397),\"\")","v":""},"",null,"",{"$f":"IF(P289=\"\",\"\",NETWORKDAYS(C289+1,P289,Hoja1!F281:F397))","v":""},{"$f":"IFERROR(IF(NETWORKDAYS(R289+1,P289,Hoja1!F281:F397)<=0,\"\",NETWORKDAYS(R289+1,P289,Hoja1!F281:F397)),0)","v":""},null,null,{"$f":"IFERROR(VLOOKUP(L289,Hoja1!$A$50:$C$63,2),\"\")","v":""},{"$f":"IFERROR(VLOOKUP(L289,Hoja1!$A$50:$C$63,3),\"\")","v":""}]
["",null,null,null,null,null,null,null,null,null,null,null,null,null,null,null,null,null,null,null,null,{"$f":"IFERROR(WORKDAY(T290,AE290,Hoja1!F282:F398),\"\")","v":""},"",null,"",{"$f":"IF(P290=\"\",\"\",NETWORKDAYS(C290+1,P290,Hoja1!F282:F398))","v":""},{"$f":"IFERROR(IF(NETWORKDAYS(R290+1,P290,Hoja1!F282:F398)<=0,\"\",NETWORKDAYS(R290+1,P290,Hoja1!F282:F398)),0)","v":""},null,null,{"$f":"IFERROR(VLOOKUP(L290,Hoja1!$A$50:$C$63,2),\"\")","v":""},{"$f":"IFERROR(VLOOKUP(L290,Hoja1!$A$50:$C$63,3),\"\")","v":""}]
["",null,null,null,null,null,null,null,null,null,null,null,null,null,null,null,null,null,null,null,null,{"$f":"IFERROR(WORKDAY(T291,AE291,Hoja1!F283:F399),\"\")","v":""},"",null,"",{"$f":"IF(P291=\"\",\"\",NETWORKDAYS(C291+1,P291,Hoja1!F283:F399))","v":""},{"$f":"IFERROR(IF(NETWORKDAYS(R291+1,P291,Hoja1!F283:F399)<=0,\"\",NETWORKDAYS(R291+1,P291,Hoja1!F283:F399)),0)","v":""},null,null,{"$f":"IFERROR(VLOOKUP(L291,Hoja1!$A$50:$C$63,2),\"\")","v":""},{"$f":"IFERROR(VLOOKUP(L291,Hoja1!$A$50:$C$63,3),\"\")","v":""}]
["",null,null,null,null,null,null,null,null,null,null,null,null,null,null,null,null,null,null,null,null,{"$f":"IFERROR(WORKDAY(T292,AE292,Hoja1!F284:F400),\"\")","v":""},"",null,"",{"$f":"IF(P292=\"\",\"\",NETWORKDAYS(C292+1,P292,Hoja1!F284:F400))","v":""},{"$f":"IFERROR(IF(NETWORKDAYS(R292+1,P292,Hoja1!F284:F400)<=0,\"\",NETWORKDAYS(R292+1,P292,Hoja1!F284:F400)),0)","v":""},null,null,{"$f":"IFERROR(VLOOKUP(L292,Hoja1!$A$50:$C$63,2),\"\")","v":""},{"$f":"IFERROR(VLOOKUP(L292,Hoja1!$A$50:$C$63,3),\"\")","v":""}]
["",null,null,null,null,null,null,null,null,null,null,null,null,null,null,null,null,null,null,null,null,{"$f":"IFERROR(WORKDAY(T293,AE293,Hoja1!F285:F401),\"\")","v":""},"",null,"",{"$f":"IF(P293=\"\",\"\",NETWORKDAYS(C293+1,P293,Hoja1!F285:F401))","v":""},{"$f":"IFERROR(IF(NETWORKDAYS(R293+1,P293,Hoja1!F285:F401)<=0,\"\",NETWORKDAYS(R293+1,P293,Hoja1!F285:F401)),0)","v":""},null,null,{"$f":"IFERROR(VLOOKUP(L293,Hoja1!$A$50:$C$63,2),\"\")","v":""},{"$f":"IFERROR(VLOOKUP(L293,Hoja1!$A$50:$C$63,3),\"\")","v":""}]
["",null,null,null,null,null,null,null,null,null,null,null,null,null,null,null,null,null,null,null,null,{"$f":"IFERROR(WORKDAY(T294,AE294,Hoja1!F286:F402),\"\")","v":""},"",null,"",{"$f":"IF(P294=\"\",\"\",NETWORKDAYS(C294+1,P294,Hoja1!F286:F402))","v":""},{"$f":"IFERROR(IF(NETWORKDAYS(R294+1,P294,Hoja1!F286:F402)<=0,\"\",NETWORKDAYS(R294+1,P294,Hoja1!F286:F402)),0)","v":""},null,null,{"$f":"IFERROR(VLOOKUP(L294,Hoja1!$A$50:$C$63,2),\"\")","v":""},{"$f":"IFERROR(VLOOKUP(L294,Hoja1!$A$50:$C$63,3),\"\")","v":""}]
["",null,null,null,null,null,null,null,null,null,null,null,null,null,null,null,null,null,null,null,null,{"$f":"IFERROR(WORKDAY(T295,AE295,Hoja1!F287:F403),\"\")","v":""},"",null,"",{"$f":"IF(P295=\"\",\"\",NETWORKDAYS(C295+1,P295,Hoja1!F287:F403))","v":""},{"$f":"IFERROR(IF(NETWORKDAYS(R295+1,P295,Hoja1!F287:F403)<=0,\"\",NETWORKDAYS(R295+1,P295,Hoja1!F287:F403)),0)","v":""},null,null,{"$f":"IFERROR(VLOOKUP(L295,Hoja1!$A$50:$C$63,2),\"\")","v":""},{"$f":"IFERROR(VLOOKUP(L295,Hoja1!$A$50:$C$63,3),\"\")","v":""}]
["",null,null,null,null,null,null,null,null,null,null,null,null,null,null,null,null,null,null,null,null,{"$f":"IFERROR(WORKDAY(T296,AE296,Hoja1!F288:F404),\"\")","v":""},"",null,"",{"$f":"IF(P296=\"\",\"\",NETWORKDAYS(C296+1,P296,Hoja1!F288:F404))","v":""},{"$f":"IFERROR(IF(NETWORKDAYS(R296+1,P296,Hoja1!F288:F404)<=0,\"\",NETWORKDAYS(R296+1,P296,Hoja1!F288:F404)),0)","v":""},null,null,{"$f":"IFERROR(VLOOKUP(L296,Hoja1!$A$50:$C$63,2),\"\")","v":""},{"$f":"IFERROR(VLOOKUP(L296,Hoja1!$A$50:$C$63,3),\"\")","v":""}]
["",null,null,null,null,null,null,null,null,null,null,null,null,null,null,null,null,null,null,null,null,{"$f":"IFERROR(WORKDAY(T297,AE297,Hoja1!F289:F405),\"\")","v":""},"",null,"",{"$f":"IF(P297=\"\",\"\",NETWORKDAYS(C297+1,P297,Hoja1!F289:F405))","v":""},{"$f":"IFERROR(IF(NETWORKDAYS(R297+1,P297,Hoja1!F289:F405)<=0,\"\",NETWORKDAYS(R297+1,P297,Hoja1!F289:F405)),0)","v":""},null,null,{"$f":"IFERROR(VLOOKUP(L297,Hoja1!$A$50:$C$63,2),\"\")","v":""},{"$f":"IFERROR(VLOOKUP(L297,Hoja1!$A$50:$C$63,3),\"\")","v":""}]
["",null,null,null,null,null,null,null,null,null,null,null,null,null,null,null,null,null,null,null,null,{"$f":"IFERROR(WORKDAY(T298,AE298,Hoja1!F290:F406),\"\")","v":""},"",null,"",{"$f":"IF(P298=\"\",\"\",NETWORKDAYS(C298+1,P298,Hoja1!F290:F406))","v":""},{"$f":"IFERROR(IF(NETWORKDAYS(R298+1,P298,Hoja1!F290:F406)<=0,\"\",NETWORKDAYS(R298+1,P298,Hoja1!F290:F406)),0)","v":""},null,null,{"$f":"IFERROR(VLOOKUP(L298,Hoja1!$A$50:$C$63,2),\"\")","v":""},{"$f":"IFERROR(VLOOKUP(L298,Hoja1!$A$50:$C$63,3),\"\")","v":""}]
["",null,null,null,null,null,null,null,null,null,null,null,null,null,null,null,null,null,null,null,null,{"$f":"IFERROR(WORKDAY(T299,AE299,Hoja1!F291:F407),\"\")","v":""},"",null,"",{"$f":"IF(P299=\"\",\"\",NETWORKDAYS(C299+1,P299,Hoja1!F291:F407))","v":""},{"$f":"IFERROR(IF(NETWORKDAYS(R299+1,P299,Hoja1!F291:F407)<=0,\"\",NETWORKDAYS(R299+1,P299,Hoja1!F291:F407)),0)","v":""},null,null,{"$f":"IFERROR(VLOOKUP(L299,Hoja1!$A$50:$C$63,2),\"\")","v":""},{"$f":"IFERROR(VLOOKUP(L299,Hoja1!$A$50:$C$63,3),\"\")","v":""}]
["",null,null,null,null,null,null,null,null,null,null,null,null,null,null,null,null,null,null,null,null,{"$f":"IFERROR(WORKDAY(T300,AE300,Hoja1!F292:F408),\"\")","v":""},"",null,"",{"$f":"IF(P300=\"\",\"\",NETWORKDAYS(C300+1,P300,Hoja1!F292:F408))","v":""},{"$f":"IFERROR(IF(NETWORKDAYS(R300+1,P300,Hoja1!F292:F408)<=0,\"\",NETWORKDAYS(R300+1,P300,Hoja1!F292:F408)),0)","v":""},null,null,{"$f":"IFERROR(VLOOKUP(L300,Hoja1!$A$50:$C$63,2),\"\")","v":""},{"$f":"IFERROR(VLOOKUP(L300,Hoja1!$A$50:$C$63,3),\"\")","v":""}]
["",null,null,null,null,null,null,null,null,null,null,null,null,null,null,null,null,null,null,null,null,{"$f":"IFERROR(WORKDAY(T301,AE301,Hoja1!F293:F409),\"\")","v":""},"",null,"",{"$f":"IF(P301=\"\",\"\",NETWORKDAYS(C301+1,P301,Hoja1!F293:F409))","v":""},{"$f":"IFERROR(IF(NETWORKDAYS(R301+1,P301,Hoja1!F293:F409)<=0,\"\",NETWORKDAYS(R301+1,P301,Hoja1!F293:F409)),0)","v":""},null,null,{"$f":"IFERROR(VLOOKUP(L301,Hoja1!$A$50:$C$63,2),\"\")","v":""},{"$f":"IFERROR(VLOOKUP(L301,Hoja1!$A$50:$C$63,3),\"\")","v":""}]
["",null,null,null,null,null,null,null,null,null,null,null,null,null,null,null,null,null,null,null,null,{"$f":"IFERROR(WORKDAY(T302,AE302,Hoja1!F294:F410),\"\")","v":""},"",null,"",{"$f":"IF(P302=\"\",\"\",NETWORKDAYS(C302+1,P302,Hoja1!F294:F410))","v":""},{"$f":"IFERROR(IF(NETWORKDAYS(R302+1,P302,Hoja1!F294:F410)<=0,\"\",NETWORKDAYS(R302+1,P302,Hoja1!F294:F410)),0)","v":""},null,null,{"$f":"IFERROR(VLOOKUP(L302,Hoja1!$A$50:$C$63,2),\"\")","v":""},{"$f":"IFERROR(VLOOKUP(L302,Hoja1!$A$50:$C$63,3),\"\")","v":""}]
["",null,null,null,null,null,null,null,null,null,null,null,null,null,null,null,null,null,null,null,null,{"$f":"IFERROR(WORKDAY(T303,AE303,Hoja1!F295:F411),\"\")","v":""},"",null,"",{"$f":"IF(P303=\"\",\"\",NETWORKDAYS(C303+1,P303,Hoja1!F295:F411))","v":""},{"$f":"IFERROR(IF(NETWORKDAYS(R303+1,P303,Hoja1!F295:F411)<=0,\"\",NETWORKDAYS(R303+1,P303,Hoja1!F295:F411)),0)","v":""},null,null,{"$f":"IFERROR(VLOOKUP(L303,Hoja1!$A$50:$C$63,2),\"\")","v":""},{"$f":"IFERROR(VLOOKUP(L303,Hoja1!$A$50:$C$63,3),\"\")","v":""}]
["",null,null,null,null,null,null,null,null,null,null,null,null,null,null,null,null,null,null,null,null,{"$f":"IFERROR(WORKDAY(T304,AE304,Hoja1!F296:F412),\"\")","v":""},"",null,"",{"$f":"IF(P304=\"\",\"\",NETWORKDAYS(C304+1,P304,Hoja1!F296:F412))","v":""},{"$f":"IFERROR(IF(NETWORKDAYS(R304+1,P304,Hoja1!F296:F412)<=0,\"\",NETWORKDAYS(R304+1,P304,Hoja1!F296:F412)),0)","v":""},null,null,{"$f":"IFERROR(VLOOKUP(L304,Hoja1!$A$50:$C$63,2),\"\")","v":""},{"$f":"IFERROR(VLOOKUP(L304,Hoja1!$A$50:$C$63,3),\"\")","v":""}]
["",null,null,null,null,null,null,null,null,null,null,null,null,null,null,null,null,null,null,null,null,{"$f":"IFERROR(WORKDAY(T305,AE305,Hoja1!F297:F413),\"\")","v":""},"",null,"",{"$f":"IF(P305=\"\",\"\",NETWORKDAYS(C305+1,P305,Hoja1!F297:F413))","v":""},{"$f":"IFERROR(IF(NETWORKDAYS(R305+1,P305,Hoja1!F297:F413)<=0,\"\",NETWORKDAYS(R305+1,P305,Hoja1!F297:F413)),0)","v":""},null,null,{"$f":"IFERROR(VLOOKUP(L305,Hoja1!$A$50:$C$63,2),\"\")","v":""},{"$f":"IFERROR(VLOOKUP(L305,Hoja1!$A$50:$C$63,3),\"\")","v":""}]
["",null,null,null,null,null,null,null,null,null,null,null,null,null,null,null,null,null,null,null,null,{"$f":"IFERROR(WORKDAY(T306,AE306,Hoja1!F298:F414),\"\")","v":""},"",null,"",{"$f":"IF(P306=\"\",\"\",NETWORKDAYS(C306+1,P306,Hoja1!F298:F414))","v":""},{"$f":"IFERROR(IF(NETWORKDAYS(R306+1,P306,Hoja1!F298:F414)<=0,\"\",NETWORKDAYS(R306+1,P306,Hoja1!F298:F414)),0)","v":""},null,null,{"$f":"IFERROR(VLOOKUP(L306,Hoja1!$A$50:$C$63,2),\"\")","v":""},{"$f":"IFERROR(VLOOKUP(L306,Hoja1!$A$50:$C$63,3),\"\")","v":""}]
["",null,null,null,null,null,null,null,null,null,null,null,null,null,null,null,null,null,null,null,null,{"$f":"IFERROR(WORKDAY(T307,AE307,Hoja1!F299:F415),\"\")","v":""},"",null,"",{"$f":"IF(P307=\"\",\"\",NETWORKDAYS(C307+1,P307,Hoja1!F299:F415))","v":""},{"$f":"IFERROR(IF(NETWORKDAYS(R307+1,P307,Hoja1!F299:F415)<=0,\"\",NETWORKDAYS(R307+1,P307,Hoja1!F299:F415)),0)","v":""},null,null,{"$f":"IFERROR(VLOOKUP(L307,Hoja1!$A$50:$C$63,2),\"\")","v":""},{"$f":"IFERROR(VLOOKUP(L307,Hoja1!$A$50:$C$63,3),\"\")","v":""}]
["",null,null,null,null,null,null,null,null,null,null,null,null,null,null,null,null,null,null,null,null,{"$f":"IFERROR(WORKDAY(T308,AE308,Hoja1!F300:F416),\"\")","v":""},"",null,"",{"$f":"IF(P308=\"\",\"\",NETWORKDAYS(C308+1,P308,Hoja1!F300:F416))","v":""},{"$f":"IFERROR(IF(NETWORKDAYS(R308+1,P308,Hoja1!F300:F416)<=0,\"\",NETWORKDAYS(R308+1,P308,Hoja1!F300:F416)),0)","v":""},null,null,{"$f":"IFERROR(VLOOKUP(L308,Hoja1!$A$50:$C$63,2),\"\")","v":""},{"$f":"IFERROR(VLOOKUP(L308,Hoja1!$A$50:$C$63,3),\"\")","v":""}]
["",null,null,null,null,null,null,null,null,null,null,null,null,null,null,null,null,null,null,null,null,{"$f":"IFERROR(WORKDAY(T309,AE309,Hoja1!F301:F417),\"\")","v":""},"",null,"",{"$f":"IF(P309=\"\",\"\",NETWORKDAYS(C309+1,P309,Hoja1!F301:F417))","v":""},{"$f":"IFERROR(IF(NETWORKDAYS(R309+1,P309,Hoja1!F301:F417)<=0,\"\",NETWORKDAYS(R309+1,P309,Hoja1!F301:F417)),0)","v":""},null,null,{"$f":"IFERROR(VLOOKUP(L309,Hoja1!$A$50:$C$63,2),\"\")","v":""},{"$f":"IFERROR(VLOOKUP(L309,Hoja1!$A$50:$C$63,3),\"\")","v":""}]
["",null,null,null,null,null,null,null,null,null,null,null,null,null,null,null,null,null,null,null,null,{"$f":"IFERROR(WORKDAY(T310,AE310,Hoja1!F302:F418),\"\")","v":""},"",null,"",{"$f":"IF(P310=\"\",\"\",NETWORKDAYS(C310+1,P310,Hoja1!F302:F418))","v":""},{"$f":"IFERROR(IF(NETWORKDAYS(R310+1,P310,Hoja1!F302:F418)<=0,\"\",NETWORKDAYS(R310+1,P310,Hoja1!F302:F418)),0)","v":""},null,null,{"$f":"IFERROR(VLOOKUP(L310,Hoja1!$A$50:$C$63,2),\"\")","v":""},{"$f":"IFERROR(VLOOKUP(L310,Hoja1!$A$50:$C$63,3),\"\")","v":""}]
["",null,null,null,null,null,null,null,null,null,null,null,null,null,null,null,null,null,null,null,null,{"$f":"IFERROR(WORKDAY(T311,AE311,Hoja1!F303:F419),\"\")","v":""},"",null,"",{"$f":"IF(P311=\"\",\"\",NETWORKDAYS(C311+1,P311,Hoja1!F303:F419))","v":""},{"$f":"IFERROR(IF(NETWORKDAYS(R311+1,P311,Hoja1!F303:F419)<=0,\"\",NETWORKDAYS(R311+1,P311,Hoja1!F303:F419)),0)","v":""},null,null,{"$f":"IFERROR(VLOOKUP(L311,Hoja1!$A$50:$C$63,2),\"\")","v":""},{"$f":"IFERROR(VLOOKUP(L311,Hoja1!$A$50:$C$63,3),\"\")","v":""}]
["",null,null,null,null,null,null,null,null,null,null,null,null,null,null,null,null,null,null,null,null,{"$f":"IFERROR(WORKDAY(T312,AE312,Hoja1!F304:F420),\"\")","v":""},"",null,"",{"$f":"IF(P312=\"\",\"\",NETWORKDAYS(C312+1,P312,Hoja1!F304:F420))","v":""},{"$f":"IFERROR(IF(NETWORKDAYS(R312+1,P312,Hoja1!F304:F420)<=0,\"\",NETWORKDAYS(R312+1,P312,Hoja1!F304:F420)),0)","v":""},null,null,{"$f":"IFERROR(VLOOKUP(L312,Hoja1!$A$50:$C$63,2),\"\")","v":""},{"$f":"IFERROR(VLOOKUP(L312,Hoja1!$A$50:$C$63,3),\"\")","v":""}]
["",null,null,null,null,null,null,null,null,null,null,null,null,null,null,null,null,null,null,null,null,{"$f":"IFERROR(WORKDAY(T313,AE313,Hoja1!F305:F421),\"\")","v":""},"",null,"",{"$f":"IF(P313=\"\",\"\",NETWORKDAYS(C313+1,P313,Hoja1!F305:F421))","v":""},{"$f":"IFERROR(IF(NETWORKDAYS(R313+1,P313,Hoja1!F305:F421)<=0,\"\",NETWORKDAYS(R313+1,P313,Hoja1!F305:F421)),0)","v":""},null,null,{"$f":"IFERROR(VLOOKUP(L313,Hoja1!$A$50:$C$63,2),\"\")","v":""},{"$f":"IFERROR(VLOOKUP(L313,Hoja1!$A$50:$C$63,3),\"\")","v":""}]
["",null,null,null,null,null,null,null,null,null,null,null,null,null,null,null,null,null,null,null,null,{"$f":"IFERROR(WORKDAY(T314,AE314,Hoja1!F306:F422),\"\")","v":""},"",null,"",{"$f":"IF(P314=\"\",\"\",NETWORKDAYS(C314+1,P314,Hoja1!F306:F422))","v":""},{"$f":"IFERROR(IF(NETWORKDAYS(R314+1,P314,Hoja1!F306:F422)<=0,\"\",NETWORKDAYS(R314+1,P314,Hoja1!F306:F422)),0)","v":""},null,null,{"$f":"IFERROR(VLOOKUP(L314,Hoja1!$A$50:$C$63,2),\"\")","v":""},{"$f":"IFERROR(VLOOKUP(L314,Hoja1!$A$50:$C$63,3),\"\")","v":""}]
["",null,null,null,null,null,null,null,null,null,null,null,null,null,null,null,null,null,null,null,null,{"$f":"IFERROR(WORKDAY(T315,AE315,Hoja1!F307:F423),\"\")","v":""},"",null,"",{"$f":"IF(P315=\"\",\"\",NETWORKDAYS(C315+1,P315,Hoja1!F307:F423))","v":""},{"$f":"IFERROR(IF(NETWORKDAYS(R315+1,P315,Hoja1!F307:F423)<=0,\"\",NETWORKDAYS(R315+1,P315,Hoja1!F307:F423)),0)","v":""},null,null,{"$f":"IFERROR(VLOOKUP(L315,Hoja1!$A$50:$C$63,2),\"\")","v":""},{"$f":"IFERROR(VLOOKUP(L315,Hoja1!$A$50:$C$63,3),\"\")","v":""}]
["",null,null,null,null,null,null,null,null,null,null,null,null,null,null,null,null,null,null,null,null,{"$f":"IFERROR(WORKDAY(T316,AE316,Hoja1!F308:F424),\"\")","v":""},"",null,"",{"$f":"IF(P316=\"\",\"\",NETWORKDAYS(C316+1,P316,Hoja1!F308:F424))","v":""},{"$f":"IFERROR(IF(NETWORKDAYS(R316+1,P316,Hoja1!F308:F424)<=0,\"\",NETWORKDAYS(R316+1,P316,Hoja1!F308:F424)),0)","v":""},null,null,{"$f":"IFERROR(VLOOKUP(L316,Hoja1!$A$50:$C$63,2),\"\")","v":""},{"$f":"IFERROR(VLOOKUP(L316,Hoja1!$A$50:$C$63,3),\"\")","v":""}]
["",null,null,null,null,null,null,null,null,null,null,null,null,null,null,null,null,null,null,null,null,{"$f":"IFERROR(WORKDAY(T317,AE317,Hoja1!F309:F425),\"\")","v":""},"",null,"",{"$f":"IF(P317=\"\",\"\",NETWORKDAYS(C317+1,P317,Hoja1!F309:F425))","v":""},{"$f":"IFERROR(IF(NETWORKDAYS(R317+1,P317,Hoja1!F309:F425)<=0,\"\",NETWORKDAYS(R317+1,P317,Hoja1!F309:F425)),0)","v":""},null,null,{"$f":"IFERROR(VLOOKUP(L317,Hoja1!$A$50:$C$63,2),\"\")","v":""},{"$f":"IFERROR(VLOOKUP(L317,Hoja1!$A$50:$C$63,3),\"\")","v":""}]
["",null,null,null,null,null,null,null,null,null,null,null,null,null,null,null,null,null,null,null,null,{"$f":"IFERROR(WORKDAY(T318,AE318,Hoja1!F310:F426),\"\")","v":""},"",null,"",{"$f":"IF(P318=\"\",\"\",NETWORKDAYS(C318+1,P318,Hoja1!F310:F426))","v":""},{"$f":"IFERROR(IF(NETWORKDAYS(R318+1,P318,Hoja1!F310:F426)<=0,\"\",NETWORKDAYS(R318+1,P318,Hoja1!F310:F426)),0)","v":""},null,null,{"$f":"IFERROR(VLOOKUP(L318,Hoja1!$A$50:$C$63,2),\"\")","v":""},{"$f":"IFERROR(VLOOKUP(L318,Hoja1!$A$50:$C$63,3),\"\")","v":""}]
["",null,null,null,null,null,null,null,null,null,null,null,null,null,null,null,null,null,null,null,null,{"$f":"IFERROR(WORKDAY(T319,AE319,Hoja1!F311:F427),\"\")","v":""},"",null,"",{"$f":"IF(P319=\"\",\"\",NETWORKDAYS(C319+1,P319,Hoja1!F311:F427))","v":""},{"$f":"IFERROR(IF(NETWORKDAYS(R319+1,P319,Hoja1!F311:F427)<=0,\"\",NETWORKDAYS(R319+1,P319,Hoja1!F311:F427)),0)","v":""},null,null,{"$f":"IFERROR(VLOOKUP(L319,Hoja1!$A$50:$C$63,2),\"\")","v":""},{"$f":"IFERROR(VLOOKUP(L319,Hoja1!$A$50:$C$63,3),\"\")","v":""}]
["",null,null,null,null,null,null,null,null,null,null,null,null,null,null,null,null,null,null,null,null,{"$f":"IFERROR(WORKDAY(T320,AE320,Hoja1!F312:F428),\"\")","v":""},"",null,"",{"$f":"IF(P320=\"\",\"\",NETWORKDAYS(C320+1,P320,Hoja1!F312:F428))","v":""},{"$f":"IFERROR(IF(NETWORKDAYS(R320+1,P320,Hoja1!F312:F428)<=0,\"\",NETWORKDAYS(R320+1,P320,Hoja1!F312:F428)),0)","v":""},null,null,{"$f":"IFERROR(VLOOKUP(L320,Hoja1!$A$50:$C$63,2),\"\")","v":""},{"$f":"IFERROR(VLOOKUP(L320,Hoja1!$A$50:$C$63,3),\"\")","v":""}]
["",null,null,null,null,null,null,null,null,null,null,null,null,null,null,null,null,null,null,null,null,{"$f":"IFERROR(WORKDAY(T321,AE321,Hoja1!F313:F429),\"\")","v":""},"",null,"",{"$f":"IF(P321=\"\",\"\",NETWORKDAYS(C321+1,P321,Hoja1!F313:F429))","v":""},{"$f":"IFERROR(IF(NETWORKDAYS(R321+1,P321,Hoja1!F313:F429)<=0,\"\",NETWORKDAYS(R321+1,P321,Hoja1!F313:F429)),0)","v":""},null,null,{"$f":"IFERROR(VLOOKUP(L321,Hoja1!$A$50:$C$63,2),\"\")","v":""},{"$f":"IFERROR(VLOOKUP(L321,Hoja1!$A$50:$C$63,3),\"\")","v":""}]
["",null,null,null,null,null,null,null,null,null,null,null,null,null,null,null,null,null,null,null,null,{"$f":"IFERROR(WORKDAY(T322,AE322,Hoja1!F314:F430),\"\")","v":""},"",null,"",{"$f":"IF(P322=\"\",\"\",NETWORKDAYS(C322+1,P322,Hoja1!F314:F430))","v":""},{"$f":"IFERROR(IF(NETWORKDAYS(R322+1,P322,Hoja1!F314:F430)<=0,\"\",NETWORKDAYS(R322+1,P322,Hoja1!F314:F430)),0)","v":""},null,null,{"$f":"IFERROR(VLOOKUP(L322,Hoja1!$A$50:$C$63,2),\"\")","v":""},{"$f":"IFERROR(VLOOKUP(L322,Hoja1!$A$50:$C$63,3),\"\")","v":""}]
["",null,null,null,null,null,null,null,null,null,null,null,null,null,null,null,null,null,null,null,null,{"$f":"IFERROR(WORKDAY(T323,AE323,Hoja1!F315:F431),\"\")","v":""},"",null,"",{"$f":"IF(P323=\"\",\"\",NETWORKDAYS(C323+1,P323,Hoja1!F315:F431))","v":""},{"$f":"IFERROR(IF(NETWORKDAYS(R323+1,P323,Hoja1!F315:F431)<=0,\"\",NETWORKDAYS(R323+1,P323,Hoja1!F315:F431)),0)","v":""},null,null,{"$f":"IFERROR(VLOOKUP(L323,Hoja1!$A$50:$C$63,2),\"\")","v":""},{"$f":"IFERROR(VLOOKUP(L323,Hoja1!$A$50:$C$63,3),\"\")","v":""}]
["",null,null,null,null,null,null,null,null,null,null,null,null,null,null,null,null,null,null,null,null,{"$f":"IFERROR(WORKDAY(T324,AE324,Hoja1!F316:F432),\"\")","v":""},"",null,"",{"$f":"IF(P324=\"\",\"\",NETWORKDAYS(C324+1,P324,Hoja1!F316:F432))","v":""},{"$f":"IFERROR(IF(NETWORKDAYS(R324+1,P324,Hoja1!F316:F432)<=0,\"\",NETWORKDAYS(R324+1,P324,Hoja1!F316:F432)),0)","v":""},null,null,{"$f":"IFERROR(VLOOKUP(L324,Hoja1!$A$50:$C$63,2),\"\")","v":""},{"$f":"IFERROR(VLOOKUP(L324,Hoja1!$A$50:$C$63,3),\"\")","v":""}]
["",null,null,null,null,null,null,null,null,null,null,null,null,null,null,null,null,null,null,null,null,{"$f":"IFERROR(WORKDAY(T325,AE325,Hoja1!F317:F433),\"\")","v":""},"",null,"",{"$f":"IF(P325=\"\",\"\",NETWORKDAYS(C325+1,P325,Hoja1!F317:F433))","v":""},{"$f":"IFERROR(IF(NETWORKDAYS(R325+1,P325,Hoja1!F317:F433)<=0,\"\",NETWORKDAYS(R325+1,P325,Hoja1!F317:F433)),0)","v":""},null,null,{"$f":"IFERROR(VLOOKUP(L325,Hoja1!$A$50:$C$63,2),\"\")","v":""},{"$f":"IFERROR(VLOOKUP(L325,Hoja1!$A$50:$C$63,3),\"\")","v":""}]
["",null,null,null,null,null,null,null,null,null,null,null,null,null,null,null,null,null,null,null,null,{"$f":"IFERROR(WORKDAY(T326,AE326,Hoja1!F318:F434),\"\")","v":""},"",null,"",{"$f":"IF(P326=\"\",\"\",NETWORKDAYS(C326+1,P326,Hoja1!F318:F434))","v":""},{"$f":"IFERROR(IF(NETWORKDAYS(R326+1,P326,Hoja1!F318:F434)<=0,\"\",NETWORKDAYS(R326+1,P326,Hoja1!F318:F434)),0)","v":""},null,null,{"$f":"IFERROR(VLOOKUP(L326,Hoja1!$A$50:$C$63,2),\"\")","v":""},{"$f":"IFERROR(VLOOKUP(L326,Hoja1!$A$50:$C$63,3),\"\")","v":""}]
["",null,null,null,null,null,null,null,null,null,null,null,null,null,null,null,null,null,null,null,null,{"$f":"IFERROR(WORKDAY(T327,AE327,Hoja1!F319:F435),\"\")","v":""},"",null,"",{"$f":"IF(P327=\"\",\"\",NETWORKDAYS(C327+1,P327,Hoja1!F319:F435))","v":""},{"$f":"IFERROR(IF(NETWORKDAYS(R327+1,P327,Hoja1!F319:F435)<=0,\"\",NETWORKDAYS(R327+1,P327,Hoja1!F319:F435)),0)","v":""},null,null,{"$f":"IFERROR(VLOOKUP(L327,Hoja1!$A$50:$C$63,2),\"\")","v":""},{"$f":"IFERROR(VLOOKUP(L327,Hoja1!$A$50:$C$63,3),\"\")","v":""}]
["",null,null,null,null,null,null,null,null,null,null,null,null,null,null,null,null,null,null,null,null,{"$f":"IFERROR(WORKDAY(T328,AE328,Hoja1!F320:F436),\"\")","v":""},"",null,"",{"$f":"IF(P328=\"\",\"\",NETWORKDAYS(C328+1,P328,Hoja1!F320:F436))","v":""},{"$f":"IFERROR(IF(NETWORKDAYS(R328+1,P328,Hoja1!F320:F436)<=0,\"\",NETWORKDAYS(R328+1,P328,Hoja1!F320:F436)),0)","v":""},null,null,{"$f":"IFERROR(VLOOKUP(L328,Hoja1!$A$50:$C$63,2),\"\")","v":""},{"$f":"IFERROR(VLOOKUP(L328,Hoja1!$A$50:$C$63,3),\"\")","v":""}]
["",null,null,null,null,null,null,null,null,null,null,null,null,null,null,null,null,null,null,null,null,{"$f":"IFERROR(WORKDAY(T329,AE329,Hoja1!F321:F437),\"\")","v":""},"",null,"",{"$f":"IF(P329=\"\",\"\",NETWORKDAYS(C329+1,P329,Hoja1!F321:F437))","v":""},{"$f":"IFERROR(IF(NETWORKDAYS(R329+1,P329,Hoja1!F321:F437)<=0,\"\",NETWORKDAYS(R329+1,P329,Hoja1!F321:F437)),0)","v":""},null,null,{"$f":"IFERROR(VLOOKUP(L329,Hoja1!$A$50:$C$63,2),\"\")","v":""},{"$f":"IFERROR(VLOOKUP(L329,Hoja1!$A$50:$C$63,3),\"\")","v":""}]
["",null,null,null,null,null,null,null,null,null,null,null,null,null,null,null,null,null,null,"2022-05-02",null,{"$f":"IFERROR(WORKDAY(T330,AE330,Hoja1!F322:F438),\"\")","v":""},{"$f":"+IF(T330=\"\",\"\",IF(U330=\"\",\"SIN RESPUESTA\",(IF(U330<=V330,\"A TIEMPO\",\"FUERA DE TIEMPO\"))))","v":"SIN RESPUESTA"},null,{"$f":"+IF(C330=\"\",\"\",IF(P330=\"\",\"SIN RESPUESTA\",(IF(P330<=R330,\"A TIEMPO\",\"FUERA DE TIEMPO\"))))","v":""},{"$f":"IF(P330=\"\",\"\",NETWORKDAYS(C330+1,P330,Hoja1!F322:F438))","v":""},{"$f":"IFERROR(IF(NETWORKDAYS(R330+1,P330,Hoja1!F322:F438)<=0,\"\",NETWORKDAYS(R330+1,P330,Hoja1!F322:F438)),0)","v":""},null,null,{"$f":"IFERROR(VLOOKUP(L330,Hoja1!$A$50:$C$63,2),\"\")","v":""},{"$f":"IFERROR(VLOOKUP(L330,Hoja1!$A$50:$C$63,3),\"\")","v":""}]
["",null,null,null,null,null,null,null,null,null,null,null,null,null,null,null,null,null,null,null,null,{"$f":"IFERROR(WORKDAY(T331,AE331,Hoja1!F323:F439),\"\")","v":""},"",null,"",{"$f":"IF(P331=\"\",\"\",NETWORKDAYS(C331+1,P331,Hoja1!F323:F439))","v":""},{"$f":"IFERROR(IF(NETWORKDAYS(R331+1,P331,Hoja1!F323:F439)<=0,\"\",NETWORKDAYS(R331+1,P331,Hoja1!F323:F439)),0)","v":""},null,null,{"$f":"IFERROR(VLOOKUP(L331,Hoja1!$A$50:$C$63,2),\"\")","v":""},{"$f":"IFERROR(VLOOKUP(L331,Hoja1!$A$50:$C$63,3),\"\")","v":""}]
["",null,null,null,null,null,null,null,null,null,null,null,null,null,null,null,null,null,null,null,null,{"$f":"IFERROR(WORKDAY(T332,AE332,Hoja1!F324:F440),\"\")","v":""},"",null,"",{"$f":"IF(P332=\"\",\"\",NETWORKDAYS(C332+1,P332,Hoja1!F324:F440))","v":""},{"$f":"IFERROR(IF(NETWORKDAYS(R332+1,P332,Hoja1!F324:F440)<=0,\"\",NETWORKDAYS(R332+1,P332,Hoja1!F324:F440)),0)","v":""},null,null,{"$f":"IFERROR(VLOOKUP(L332,Hoja1!$A$50:$C$63,2),\"\")","v":""},{"$f":"IFERROR(VLOOKUP(L332,Hoja1!$A$50:$C$63,3),\"\")","v":""}]
["",null,null,null,null,null,null,null,null,null,null,null,null,null,null,null,null,null,null,null,null,{"$f":"IFERROR(WORKDAY(T333,AE333,Hoja1!F325:F441),\"\")","v":""},"",null,"",{"$f":"IF(P333=\"\",\"\",NETWORKDAYS(C333+1,P333,Hoja1!F325:F441))","v":""},{"$f":"IFERROR(IF(NETWORKDAYS(R333+1,P333,Hoja1!F325:F441)<=0,\"\",NETWORKDAYS(R333+1,P333,Hoja1!F325:F441)),0)","v":""},null,null,{"$f":"IFERROR(VLOOKUP(L333,Hoja1!$A$50:$C$63,2),\"\")","v":""},{"$f":"IFERROR(VLOOKUP(L333,Hoja1!$A$50:$C$63,3),\"\")","v":""}]
["",null,null,null,null,null,null,null,null,null,null,null,null,null,null,null,null,null,null,null,null,{"$f":"IFERROR(WORKDAY(T334,AE334,Hoja1!F326:F442),\"\")","v":""},"",null,"",{"$f":"IF(P334=\"\",\"\",NETWORKDAYS(C334+1,P334,Hoja1!F326:F442))","v":""},{"$f":"IFERROR(IF(NETWORKDAYS(R334+1,P334,Hoja1!F326:F442)<=0,\"\",NETWORKDAYS(R334+1,P334,Hoja1!F326:F442)),0)","v":""},null,null,{"$f":"IFERROR(VLOOKUP(L334,Hoja1!$A$50:$C$63,2),\"\")","v":""},{"$f":"IFERROR(VLOOKUP(L334,Hoja1!$A$50:$C$63,3),\"\")","v":""}]
["",null,null,null,null,null,null,null,null,null,null,null,null,null,null,null,null,null,null,null,null,{"$f":"IFERROR(WORKDAY(T335,AE335,Hoja1!F327:F443),\"\")","v":""},"",null,"",{"$f":"IF(P335=\"\",\"\",NETWORKDAYS(C335+1,P335,Hoja1!F327:F443))","v":""},{"$f":"IFERROR(IF(NETWORKDAYS(R335+1,P335,Hoja1!F327:F443)<=0,\"\",NETWORKDAYS(R335+1,P335,Hoja1!F327:F443)),0)","v":""},null,null,{"$f":"IFERROR(VLOOKUP(L335,Hoja1!$A$50:$C$63,2),\"\")","v":""},{"$f":"IFERROR(VLOOKUP(L335,Hoja1!$A$50:$C$63,3),\"\")","v":""}]
["",null,null,null,null,null,null,null,null,null,null,null,null,null,null,null,null,null,null,null,null,{"$f":"IFERROR(WORKDAY(T336,AE336,Hoja1!F328:F444),\"\")","v":""},"",null,"",{"$f":"IF(P336=\"\",\"\",NETWORKDAYS(C336+1,P336,Hoja1!F328:F444))","v":""},{"$f":"IFERROR(IF(NETWORKDAYS(R336+1,P336,Hoja1!F328:F444)<=0,\"\",NETWORKDAYS(R336+1,P336,Hoja1!F328:F444)),0)","v":""},null,null,{"$f":"IFERROR(VLOOKUP(L336,Hoja1!$A$50:$C$63,2),\"\")","v":""},{"$f":"IFERROR(VLOOKUP(L336,Hoja1!$A$50:$C$63,3),\"\")","v":""}]
[{"$f":"IF(B337<>\"\",A336+1,\"\")","v":""},null,null,null,null,null,null,null,null,null,null,null,null,null,null,null,null,null,null,null,null,{"$f":"IFERROR(WORKDAY(T337,AE337,Hoja1!F329:F445),\"\")","v":""},"",null,"",{"$f":"IF(P337=\"\",\"\",NETWORKDAYS(C337+1,P337,Hoja1!F329:F445))","v":""},{"$f":"IFERROR(IF(NETWORKDAYS(R337+1,P337,Hoja1!F329:F445)<=0,\"\",NETWORKDAYS(R337+1,P337,Hoja1!F329:F445)),0)","v":""},null,null,{"$f":"IFERROR(VLOOKUP(L337,Hoja1!$A$50:$C$63,2),\"\")","v":""},{"$f":"IFERROR(VLOOKUP(L337,Hoja1!$A$50:$C$63,3),\"\")","v":""}]
["",null,null,null,null,null,null,null,null,null,null,null,null,null,null,null,null,null,null,null,null,{"$f":"IFERROR(WORKDAY(T338,AE338,Hoja1!F330:F446),\"\")","v":""},"",null,"",{"$f":"IF(P338=\"\",\"\",NETWORKDAYS(C338+1,P338,Hoja1!F330:F446))","v":""},{"$f":"IFERROR(IF(NETWORKDAYS(R338+1,P338,Hoja1!F330:F446)<=0,\"\",NETWORKDAYS(R338+1,P338,Hoja1!F330:F446)),0)","v":""},null,null,{"$f":"IFERROR(VLOOKUP(L338,Hoja1!$A$50:$C$63,2),\"\")","v":""},{"$f":"IFERROR(VLOOKUP(L338,Hoja1!$A$50:$C$63,3),\"\")","v":""}]
["",null,null,null,null,null,null,null,null,null,null,null,null,null,null,null,null,null,null,null,null,{"$f":"IFERROR(WORKDAY(T339,AE339,Hoja1!F331:F447),\"\")","v":""},"",null,"",{"$f":"IF(P339=\"\",\"\",NETWORKDAYS(C339+1,P339,Hoja1!F331:F447))","v":""},{"$f":"IFERROR(IF(NETWORKDAYS(R339+1,P339,Hoja1!F331:F447)<=0,\"\",NETWORKDAYS(R339+1,P339,Hoja1!F331:F447)),0)","v":""},null,null,{"$f":"IFERROR(VLOOKUP(L339,Hoja1!$A$50:$C$63,2),\"\")","v":""},{"$f":"IFERROR(VLOOKUP(L339,Hoja1!$A$50:$C$63,3),\"\")","v":""}]
["",null,null,null,null,null,null,null,null,null,null,null,null,null,null,null,null,null,null,null,null,{"$f":"IFERROR(WORKDAY(T340,AE340,Hoja1!F332:F448),\"\")","v":""},"",null,"",{"$f":"IF(P340=\"\",\"\",NETWORKDAYS(C340+1,P340,Hoja1!F332:F448))","v":""},{"$f":"IFERROR(IF(NETWORKDAYS(R340+1,P340,Hoja1!F332:F448)<=0,\"\",NETWORKDAYS(R340+1,P340,Hoja1!F332:F448)),0)","v":""},null,null,{"$f":"IFERROR(VLOOKUP(L340,Hoja1!$A$50:$C$63,2),\"\")","v":""},{"$f":"IFERROR(VLOOKUP(L340,Hoja1!$A$50:$C$63,3),\"\")","v":""}]
["",null,null,null,null,null,null,null,null,null,null,null,null,null,null,null,null,null,null,null,null,{"$f":"IFERROR(WORKDAY(T341,AE341,Hoja1!F333:F449),\"\")","v":""},"",null,"",{"$f":"IF(P341=\"\",\"\",NETWORKDAYS(C341+1,P341,Hoja1!F333:F449))","v":""},{"$f":"IFERROR(IF(NETWORKDAYS(R341+1,P341,Hoja1!F333:F449)<=0,\"\",NETWORKDAYS(R341+1,P341,Hoja1!F333:F449)),0)","v":""},null,null,{"$f":"IFERROR(VLOOKUP(L341,Hoja1!$A$50:$C$63,2),\"\")","v":""},{"$f":"IFERROR(VLOOKUP(L341,Hoja1!$A$50:$C$63,3),\"\")","v":""}]
["",null,null,null,null,null,null,null,null,null,null,null,null,null,null,null,null,null,null,null,null,{"$f":"IFERROR(WORKDAY(T342,AE342,Hoja1!F334:F450),\"\")","v":""},"",null,"",{"$f":"IF(P342=\"\",\"\",NETWORKDAYS(C342+1,P342,Hoja1!F334:F450))","v":""},{"$f":"IFERROR(IF(NETWORKDAYS(R342+1,P342,Hoja1!F334:F450)<=0,\"\",NETWORKDAYS(R342+1,P342,Hoja1!F334:F450)),0)","v":""},null,null,{"$f":"IFERROR(VLOOKUP(L342,Hoja1!$A$50:$C$63,2),\"\")","v":""},{"$f":"IFERROR(VLOOKUP(L342,Hoja1!$A$50:$C$63,3),\"\")","v":""}]
["",null,null,null,null,null,null,null,null,null,null,null,null,null,null,null,null,null,null,null,null,{"$f":"IFERROR(WORKDAY(T343,AE343,Hoja1!F335:F451),\"\")","v":""},"",null,"",{"$f":"IF(P343=\"\",\"\",NETWORKDAYS(C343+1,P343,Hoja1!F335:F451))","v":""},{"$f":"IFERROR(IF(NETWORKDAYS(R343+1,P343,Hoja1!F335:F451)<=0,\"\",NETWORKDAYS(R343+1,P343,Hoja1!F335:F451)),0)","v":""},null,null,{"$f":"IFERROR(VLOOKUP(L343,Hoja1!$A$50:$C$63,2),\"\")","v":""},{"$f":"IFERROR(VLOOKUP(L343,Hoja1!$A$50:$C$63,3),\"\")","v":""}]
["",null,null,null,null,null,null,null,null,null,null,null,null,null,null,null,null,null,null,null,null,{"$f":"IFERROR(WORKDAY(T344,AE344,Hoja1!F336:F452),\"\")","v":""},"",null,"",{"$f":"IF(P344=\"\",\"\",NETWORKDAYS(C344+1,P344,Hoja1!F336:F452))","v":""},{"$f":"IFERROR(IF(NETWORKDAYS(R344+1,P344,Hoja1!F336:F452)<=0,\"\",NETWORKDAYS(R344+1,P344,Hoja1!F336:F452)),0)","v":""},null,null,{"$f":"IFERROR(VLOOKUP(L344,Hoja1!$A$50:$C$63,2),\"\")","v":""},{"$f":"IFERROR(VLOOKUP(L344,Hoja1!$A$50:$C$63,3),\"\")","v":""}]
[null,null,null,null,null,null,null,null,null,null,null,null,null,null,null,null,null,null,null,null,null,{"$f":"IFERROR(WORKDAY(T345,AE345,Hoja1!F337:F453),\"\")","v":""},"",null,"",{"$f":"IF(P345=\"\",\"\",NETWORKDAYS(C345+1,P345,Hoja1!F337:F453))","v":""},{"$f":"IFERROR(IF(NETWORKDAYS(R345+1,P345,Hoja1!F337:F453)<=0,\"\",NETWORKDAYS(R345+1,P345,Hoja1!F337:F453)),0)","v":""},null,null,{"$f":"IFERROR(VLOOKUP(L345,Hoja1!$A$50:$C$63,2),\"\")","v":""},{"$f":"IFERROR(VLOOKUP(L345,Hoja1!$A$50:$C$63,3),\"\")","v":""}]
[null,null,null,null,null,null,null,null,null,null,null,null,null,null,null,null,null,null,null,null,null,{"$f":"IFERROR(WORKDAY(T346,AE346,Hoja1!F338:F454),\"\")","v":""},"",null,"",{"$f":"IF(P346=\"\",\"\",NETWORKDAYS(C346+1,P346,Hoja1!F338:F454))","v":""},{"$f":"IFERROR(IF(NETWORKDAYS(R346+1,P346,Hoja1!F338:F454)<=0,\"\",NETWORKDAYS(R346+1,P346,Hoja1!F338:F454)),0)","v":""},null,null,{"$f":"IFERROR(VLOOKUP(L346,Hoja1!$A$50:$C$63,2),\"\")","v":""},{"$f":"IFERROR(VLOOKUP(L346,Hoja1!$A$50:$C$63,3),\"\")","v":""}]
[null,null,null,null,null,null,null,null,null,null,null,null,null,null,null,null,null,null,null,null,null,{"$f":"IFERROR(WORKDAY(T347,AE347,Hoja1!F339:F455),\"\")","v":""},"",null,"",{"$f":"IF(P347=\"\",\"\",NETWORKDAYS(C347+1,P347,Hoja1!F339:F455))","v":""},{"$f":"IFERROR(IF(NETWORKDAYS(R347+1,P347,Hoja1!F339:F455)<=0,\"\",NETWORKDAYS(R347+1,P347,Hoja1!F339:F455)),0)","v":""},null,null,{"$f":"IFERROR(VLOOKUP(L347,Hoja1!$A$50:$C$63,2),\"\")","v":""},{"$f":"IFERROR(VLOOKUP(L347,Hoja1!$A$50:$C$63,3),\"\")","v":""}]
[null,null,null,null,null,null,null,null,null,null,null,null,null,null,null,null,null,null,null,null,null,{"$f":"IFERROR(WORKDAY(T348,AE348,Hoja1!F340:F456),\"\")","v":""},"",null,"",{"$f":"IF(P348=\"\",\"\",NETWORKDAYS(C348+1,P348,Hoja1!F340:F456))","v":""},{"$f":"IFERROR(IF(NETWORKDAYS(R348+1,P348,Hoja1!F340:F456)<=0,\"\",NETWORKDAYS(R348+1,P348,Hoja1!F340:F456)),0)","v":""},null,null,{"$f":"IFERROR(VLOOKUP(L348,Hoja1!$A$50:$C$63,2),\"\")","v":""},{"$f":"IFERROR(VLOOKUP(L348,Hoja1!$A$50:$C$63,3),\"\")","v":""}]
[null,null,null,null,null,null,null,null,null,null,null,null,null,null,null,null,null,null,null,null,null,{"$f":"IFERROR(WORKDAY(T349,AE349,Hoja1!F341:F457),\"\")","v":""},"",null,"",{"$f":"IF(P349=\"\",\"\",NETWORKDAYS(C349+1,P349,Hoja1!F341:F457))","v":""},{"$f":"IFERROR(IF(NETWORKDAYS(R349+1,P349,Hoja1!F341:F457)<=0,\"\",NETWORKDAYS(R349+1,P349,Hoja1!F341:F457)),0)","v":""},null,null,{"$f":"IFERROR(VLOOKUP(L349,Hoja1!$A$50:$C$63,2),\"\")","v":""},{"$f":"IFERROR(VLOOKUP(L349,Hoja1!$A$50:$C$63,3),\"\")","v":""}]
[null,null,null,null,null,null,null,null,null,null,null,null,null,null,null,null,null,null,null,null,null,{"$f":"IFERROR(WORKDAY(T350,AE350,Hoja1!F342:F458),\"\")","v":""},"",null,"",{"$f":"IF(P350=\"\",\"\",NETWORKDAYS(C350+1,P350,Hoja1!F342:F458))","v":""},{"$f":"IFERROR(IF(NETWORKDAYS(R350+1,P350,Hoja1!F342:F458)<=0,\"\",NETWORKDAYS(R350+1,P350,Hoja1!F342:F458)),0)","v":""},null,null,{"$f":"IFERROR(VLOOKUP(L350,Hoja1!$A$50:$C$63,2),\"\")","v":""},{"$f":"IFERROR(VLOOKUP(L350,Hoja1!$A$50:$C$63,3),\"\")","v":""}]
[null,null,null,null,null,null,null,null,null,null,null,null,null,null,null,null,null,null,null,null,null,{"$f":"IFERROR(WORKDAY(T351,AE351,Hoja1!F343:F459),\"\")","v":""},"",null,"",{"$f":"IF(P351=\"\",\"\",NETWORKDAYS(C351+1,P351,Hoja1!F343:F459))","v":""},{"$f":"IFERROR(IF(NETWORKDAYS(R351+1,P351,Hoja1!F343:F459)<=0,\"\",NETWORKDAYS(R351+1,P351,Hoja1!F343:F459)),0)","v":""},null,null,{"$f":"IFERROR(VLOOKUP(L351,Hoja1!$A$50:$C$63,2),\"\")","v":""},{"$f":"IFERROR(VLOOKUP(L351,Hoja1!$A$50:$C$63,3),\"\")","v":""}]
[null,null,null,null,null,null,null,null,null,null,null,null,null,null,null,null,null,null,null,null,null,{"$f":"IFERROR(WORKDAY(T352,AE352,Hoja1!F344:F460),\"\")","v":""},"",null,"",{"$f":"IF(P352=\"\",\"\",NETWORKDAYS(C352+1,P352,Hoja1!F344:F460))","v":""},{"$f":"IFERROR(IF(NETWORKDAYS(R352+1,P352,Hoja1!F344:F460)<=0,\"\",NETWORKDAYS(R352+1,P352,Hoja1!F344:F460)),0)","v":""},null,null,{"$f":"IFERROR(VLOOKUP(L352,Hoja1!$A$50:$C$63,2),\"\")","v":""},{"$f":"IFERROR(VLOOKUP(L352,Hoja1!$A$50:$C$63,3),\"\")","v":""}]
[null,null,null,null,null,null,null,null,null,null,null,null,null,null,null,null,null,null,null,null,null,{"$f":"IFERROR(WORKDAY(T353,AE353,Hoja1!F345:F461),\"\")","v":""},"",null,"",{"$f":"IF(P353=\"\",\"\",NETWORKDAYS(C353+1,P353,Hoja1!F345:F461))","v":""},{"$f":"IFERROR(IF(NETWORKDAYS(R353+1,P353,Hoja1!F345:F461)<=0,\"\",NETWORKDAYS(R353+1,P353,Hoja1!F345:F461)),0)","v":""},null,null,{"$f":"IFERROR(VLOOKUP(L353,Hoja1!$A$50:$C$63,2),\"\")","v":""},{"$f":"IFERROR(VLOOKUP(L353,Hoja1!$A$50:$C$63,3),\"\")","v":""}]
[null,null,null,null,null,null,null,null,null,null,null,null,null,null,null,null,null,null,null,null,null,{"$f":"IFERROR(WORKDAY(T354,AE354,Hoja1!F346:F462),\"\")","v":""},"",null,"",{"$f":"IF(P354=\"\",\"\",NETWORKDAYS(C354+1,P354,Hoja1!F346:F462))","v":""},{"$f":"IFERROR(IF(NETWORKDAYS(R354+1,P354,Hoja1!F346:F462)<=0,\"\",NETWORKDAYS(R354+1,P354,Hoja1!F346:F462)),0)","v":""},null,null,{"$f":"IFERROR(VLOOKUP(L354,Hoja1!$A$50:$C$63,2),\"\")","v":""},{"$f":"IFERROR(VLOOKUP(L354,Hoja1!$A$50:$C$63,3),\"\")","v":""}]
[null,null,null,null,null,null,null,null,null,null,null,null,null,null,null,null,null,null,null,null,null,{"$f":"IFERROR(WORKDAY(T355,AE355,Hoja1!F347:F463),\"\")","v":""},"",null,"",{"$f":"IF(P355=\"\",\"\",NETWORKDAYS(C355+1,P355,Hoja1!F347:F463))","v":""},{"$f":"IFERROR(IF(NETWORKDAYS(R355+1,P355,Hoja1!F347:F463)<=0,\"\",NETWORKDAYS(R355+1,P355,Hoja1!F347:F463)),0)","v":""},null,null,{"$f":"IFERROR(VLOOKUP(L355,Hoja1!$A$50:$C$63,2),\"\")","v":""},{"$f":"IFERROR(VLOOKUP(L355,Hoja1!$A$50:$C$63,3),\"\")","v":""}]
[null,null,null,null,null,null,null,null,null,null,null,null,null,null,null,null,null,null,null,null,null,{"$f":"IFERROR(WORKDAY(T356,AE356,Hoja1!F348:F464),\"\")","v":""},"",null,"",{"$f":"IF(P356=\"\",\"\",NETWORKDAYS(C356+1,P356,Hoja1!F348:F464))","v":""},{"$f":"IFERROR(IF(NETWORKDAYS(R356+1,P356,Hoja1!F348:F464)<=0,\"\",NETWORKDAYS(R356+1,P356,Hoja1!F348:F464)),0)","v":""},null,null,{"$f":"IFERROR(VLOOKUP(L356,Hoja1!$A$50:$C$63,2),\"\")","v":""},{"$f":"IFERROR(VLOOKUP(L356,Hoja1!$A$50:$C$63,3),\"\")","v":""}]
[null,null,null,null,null,null,null,null,null,null,null,null,null,null,null,null,null,null,null,null,null,{"$f":"IFERROR(WORKDAY(T357,AE357,Hoja1!F349:F465),\"\")","v":""},"",null,"",{"$f":"IF(P357=\"\",\"\",NETWORKDAYS(C357+1,P357,Hoja1!F349:F465))","v":""},{"$f":"IFERROR(IF(NETWORKDAYS(R357+1,P357,Hoja1!F349:F465)<=0,\"\",NETWORKDAYS(R357+1,P357,Hoja1!F349:F465)),0)","v":""},null,null,{"$f":"IFERROR(VLOOKUP(L357,Hoja1!$A$50:$C$63,2),\"\")","v":""},{"$f":"IFERROR(VLOOKUP(L357,Hoja1!$A$50:$C$63,3),\"\")","v":""}]
[null,null,null,null,null,null,null,null,null,null,null,null,null,null,null,null,null,null,null,null,null,{"$f":"IFERROR(WORKDAY(T358,AE358,Hoja1!F350:F466),\"\")","v":""},"",null,"",{"$f":"IF(P358=\"\",\"\",NETWORKDAYS(C358+1,P358,Hoja1!F350:F466))","v":""},{"$f":"IFERROR(IF(NETWORKDAYS(R358+1,P358,Hoja1!F350:F466)<=0,\"\",NETWORKDAYS(R358+1,P358,Hoja1!F350:F466)),0)","v":""},null,null,{"$f":"IFERROR(VLOOKUP(L358,Hoja1!$A$50:$C$63,2),\"\")","v":""},{"$f":"IFERROR(VLOOKUP(L358,Hoja1!$A$50:$C$63,3),\"\")","v":""}]
[null,null,null,null,null,null,null,null,null,null,null,null,null,null,null,null,null,null,null,null,null,{"$f":"IFERROR(WORKDAY(T359,AE359,Hoja1!F351:F467),\"\")","v":""},"",null,"",{"$f":"IF(P359=\"\",\"\",NETWORKDAYS(C359+1,P359,Hoja1!F351:F467))","v":""},{"$f":"IFERROR(IF(NETWORKDAYS(R359+1,P359,Hoja1!F351:F467)<=0,\"\",NETWORKDAYS(R359+1,P359,Hoja1!F351:F467)),0)","v":""},null,null,{"$f":"IFERROR(VLOOKUP(L359,Hoja1!$A$50:$C$63,2),\"\")","v":""},{"$f":"IFERROR(VLOOKUP(L359,Hoja1!$A$50:$C$63,3),\"\")","v":""}]
[null,null,null,null,null,null,null,null,null,null,null,null,null,null,null,null,null,null,null,null,null,{"$f":"IFERROR(WORKDAY(T360,AE360,Hoja1!F352:F468),\"\")","v":""},"",null,"",{"$f":"IF(P360=\"\",\"\",NETWORKDAYS(C360+1,P360,Hoja1!F352:F468))","v":""},{"$f":"IFERROR(IF(NETWORKDAYS(R360+1,P360,Hoja1!F352:F468)<=0,\"\",NETWORKDAYS(R360+1,P360,Hoja1!F352:F468)),0)","v":""},null,null,{"$f":"IFERROR(VLOOKUP(L360,Hoja1!$A$50:$C$63,2),\"\")","v":""},{"$f":"IFERROR(VLOOKUP(L360,Hoja1!$A$50:$C$63,3),\"\")","v":""}]
[null,null,null,null,null,null,null,null,null,null,null,null,null,null,null,null,null,null,null,null,null,{"$f":"IFERROR(WORKDAY(T361,AE361,Hoja1!F353:F469),\"\")","v":""},"",null,"",{"$f":"IF(P361=\"\",\"\",NETWORKDAYS(C361+1,P361,Hoja1!F353:F469))","v":""},{"$f":"IFERROR(IF(NETWORKDAYS(R361+1,P361,Hoja1!F353:F469)<=0,\"\",NETWORKDAYS(R361+1,P361,Hoja1!F353:F469)),0)","v":""},null,null,{"$f":"IFERROR(VLOOKUP(L361,Hoja1!$A$50:$C$63,2),\"\")","v":""},{"$f":"IFERROR(VLOOKUP(L361,Hoja1!$A$50:$C$63,3),\"\")","v":""}]
[null,null,null,null,null,null,null,null,null,null,null,null,null,null,null,null,null,null,null,null,null,{"$f":"IFERROR(WORKDAY(T362,AE362,Hoja1!F354:F470),\"\")","v":""},"",null,"",{"$f":"IF(P362=\"\",\"\",NETWORKDAYS(C362+1,P362,Hoja1!F354:F470))","v":""},{"$f":"IFERROR(IF(NETWORKDAYS(R362+1,P362,Hoja1!F354:F470)<=0,\"\",NETWORKDAYS(R362+1,P362,Hoja1!F354:F470)),0)","v":""},null,null,{"$f":"IFERROR(VLOOKUP(L362,Hoja1!$A$50:$C$63,2),\"\")","v":""},{"$f":"IFERROR(VLOOKUP(L362,Hoja1!$A$50:$C$63,3),\"\")","v":""}]
[null,null,null,null,null,null,null,null,null,null,null,null,null,null,null,null,null,null,null,null,null,{"$f":"IFERROR(WORKDAY(T363,AE363,Hoja1!F355:F471),\"\")","v":""},"",null,"",{"$f":"IF(P363=\"\",\"\",NETWORKDAYS(C363+1,P363,Hoja1!F355:F471))","v":""},{"$f":"IFERROR(IF(NETWORKDAYS(R363+1,P363,Hoja1!F355:F471)<=0,\"\",NETWORKDAYS(R363+1,P363,Hoja1!F355:F471)),0)","v":""},null,null,{"$f":"IFERROR(VLOOKUP(L363,Hoja1!$A$50:$C$63,2),\"\")","v":""},{"$f":"IFERROR(VLOOKUP(L363,Hoja1!$A$50:$C$63,3),\"\")","v":""}]
[null,null,null,null,null,null,null,null,null,null,null,null,null,null,null,null,null,null,null,null,null,{"$f":"IFERROR(WORKDAY(T364,AE364,Hoja1!F356:F472),\"\")","v":""},"",null,"",{"$f":"IF(P364=\"\",\"\",NETWORKDAYS(C364+1,P364,Hoja1!F356:F472))","v":""},{"$f":"IFERROR(IF(NETWORKDAYS(R364+1,P364,Hoja1!F356:F472)<=0,\"\",NETWORKDAYS(R364+1,P364,Hoja1!F356:F472)),0)","v":""},null,null,{"$f":"IFERROR(VLOOKUP(L364,Hoja1!$A$50:$C$63,2),\"\")","v":""},{"$f":"IFERROR(VLOOKUP(L364,Hoja1!$A$50:$C$63,3),\"\")","v":""}]
[null,null,null,null,null,null,null,null,null,null,null,null,null,null,null,null,null,null,null,null,null,{"$f":"IFERROR(WORKDAY(T365,AE365,Hoja1!F357:F473),\"\")","v":""},"",null,"",{"$f":"IF(P365=\"\",\"\",NETWORKDAYS(C365+1,P365,Hoja1!F357:F473))","v":""},{"$f":"IFERROR(IF(NETWORKDAYS(R365+1,P365,Hoja1!F357:F473)<=0,\"\",NETWORKDAYS(R365+1,P365,Hoja1!F357:F473)),0)","v":""},null,null,{"$f":"IFERROR(VLOOKUP(L365,Hoja1!$A$50:$C$63,2),\"\")","v":""},{"$f":"IFERROR(VLOOKUP(L365,Hoja1!$A$50:$C$63,3),\"\")","v":""}]
[null,null,null,null,null,null,null,null,null,null,null,null,null,null,null,null,null,null,null,null,null,{"$f":"IFERROR(WORKDAY(T366,AE366,Hoja1!F358:F474),\"\")","v":""},"",null,"",{"$f":"IF(P366=\"\",\"\",NETWORKDAYS(C366+1,P366,Hoja1!F358:F474))","v":""},{"$f":"IFERROR(IF(NETWORKDAYS(R366+1,P366,Hoja1!F358:F474)<=0,\"\",NETWORKDAYS(R366+1,P366,Hoja1!F358:F474)),0)","v":""},null,null,{"$f":"IFERROR(VLOOKUP(L366,Hoja1!$A$50:$C$63,2),\"\")","v":""},{"$f":"IFERROR(VLOOKUP(L366,Hoja1!$A$50:$C$63,3),\"\")","v":""}]
[null,null,null,null,null,null,null,null,null,null,null,null,null,null,null,null,null,null,null,null,null,{"$f":"IFERROR(WORKDAY(T367,AE367,Hoja1!F359:F475),\"\")","v":""},"",null,"",{"$f":"IF(P367=\"\",\"\",NETWORKDAYS(C367+1,P367,Hoja1!F359:F475))","v":""},{"$f":"IFERROR(IF(NETWORKDAYS(R367+1,P367,Hoja1!F359:F475)<=0,\"\",NETWORKDAYS(R367+1,P367,Hoja1!F359:F475)),0)","v":""},null,null,{"$f":"IFERROR(VLOOKUP(L367,Hoja1!$A$50:$C$63,2),\"\")","v":""},{"$f":"IFERROR(VLOOKUP(L367,Hoja1!$A$50:$C$63,3),\"\")","v":""}]
[null,null,null,null,null,null,null,null,null,null,null,null,null,null,null,null,null,null,null,null,null,{"$f":"IFERROR(WORKDAY(T368,AE368,Hoja1!F360:F476),\"\")","v":""},"",null,"",{"$f":"IF(P368=\"\",\"\",NETWORKDAYS(C368+1,P368,Hoja1!F360:F476))","v":""},{"$f":"IFERROR(IF(NETWORKDAYS(R368+1,P368,Hoja1!F360:F476)<=0,\"\",NETWORKDAYS(R368+1,P368,Hoja1!F360:F476)),0)","v":""},null,null,{"$f":"IFERROR(VLOOKUP(L368,Hoja1!$A$50:$C$63,2),\"\")","v":""},{"$f":"IFERROR(VLOOKUP(L368,Hoja1!$A$50:$C$63,3),\"\")","v":""}]
[null,null,null,null,null,null,null,null,null,null,null,null,null,null,null,null,null,null,null,null,null,{"$f":"IFERROR(WORKDAY(T369,AE369,Hoja1!F361:F477),\"\")","v":""},"",null,"",{"$f":"IF(P369=\"\",\"\",NETWORKDAYS(C369+1,P369,Hoja1!F361:F477))","v":""},{"$f":"IFERROR(IF(NETWORKDAYS(R369+1,P369,Hoja1!F361:F477)<=0,\"\",NETWORKDAYS(R369+1,P369,Hoja1!F361:F477)),0)","v":""},null,null,{"$f":"IFERROR(VLOOKUP(L369,Hoja1!$A$50:$C$63,2),\"\")","v":""},{"$f":"IFERROR(VLOOKUP(L369,Hoja1!$A$50:$C$63,3),\"\")","v":""}]
[null,null,null,null,null,null,null,null,null,null,null,null,null,null,null,null,null,null,null,null,null,{"$f":"IFERROR(WORKDAY(T370,AE370,Hoja1!F362:F478),\"\")","v":""},"",null,"",{"$f":"IF(P370=\"\",\"\",NETWORKDAYS(C370+1,P370,Hoja1!F362:F478))","v":""},{"$f":"IFERROR(IF(NETWORKDAYS(R370+1,P370,Hoja1!F362:F478)<=0,\"\",NETWORKDAYS(R370+1,P370,Hoja1!F362:F478)),0)","v":""},null,null,{"$f":"IFERROR(VLOOKUP(L370,Hoja1!$A$50:$C$63,2),\"\")","v":""},{"$f":"IFERROR(VLOOKUP(L370,Hoja1!$A$50:$C$63,3),\"\")","v":""}]
[null,null,null,null,null,null,null,null,null,null,null,null,null,null,null,null,null,null,null,null,null,{"$f":"IFERROR(WORKDAY(T371,AE371,Hoja1!F363:F479),\"\")","v":""},"",null,"",{"$f":"IF(P371=\"\",\"\",NETWORKDAYS(C371+1,P371,Hoja1!F363:F479))","v":""},{"$f":"IFERROR(IF(NETWORKDAYS(R371+1,P371,Hoja1!F363:F479)<=0,\"\",NETWORKDAYS(R371+1,P371,Hoja1!F363:F479)),0)","v":""},null,null,{"$f":"IFERROR(VLOOKUP(L371,Hoja1!$A$50:$C$63,2),\"\")","v":""},{"$f":"IFERROR(VLOOKUP(L371,Hoja1!$A$50:$C$63,3),\"\")","v":""}]
[null,null,null,null,null,null,null,null,null,null,null,null,null,null,null,null,null,null,null,null,null,{"$f":"IFERROR(WORKDAY(T372,AE372,Hoja1!F364:F480),\"\")","v":""},"",null,"",{"$f":"IF(P372=\"\",\"\",NETWORKDAYS(C372+1,P372,Hoja1!F364:F480))","v":""},{"$f":"IFERROR(IF(NETWORKDAYS(R372+1,P372,Hoja1!F364:F480)<=0,\"\",NETWORKDAYS(R372+1,P372,Hoja1!F364:F480)),0)","v":""},null,null,{"$f":"IFERROR(VLOOKUP(L372,Hoja1!$A$50:$C$63,2),\"\")","v":""},{"$f":"IFERROR(VLOOKUP(L372,Hoja1!$A$50:$C$63,3),\"\")","v":""}]
[null,null,null,null,null,null,null,null,null,null,null,null,null,null,null,null,null,null,null,null,null,{"$f":"IFERROR(WORKDAY(T373,AE373,Hoja1!F365:F481),\"\")","v":""},"",null,"",{"$f":"IF(P373=\"\",\"\",NETWORKDAYS(C373+1,P373,Hoja1!F365:F481))","v":""},{"$f":"IFERROR(IF(NETWORKDAYS(R373+1,P373,Hoja1!F365:F481)<=0,\"\",NETWORKDAYS(R373+1,P373,Hoja1!F365:F481)),0)","v":""},null,null,{"$f":"IFERROR(VLOOKUP(L373,Hoja1!$A$50:$C$63,2),\"\")","v":""},{"$f":"IFERROR(VLOOKUP(L373,Hoja1!$A$50:$C$63,3),\"\")","v":""}]
[null,null,null,null,null,null,null,null,null,null,null,null,null,null,null,null,null,null,null,null,null,{"$f":"IFERROR(WORKDAY(T374,AE374,Hoja1!F366:F482),\"\")","v":""},"",null,"",{"$f":"IF(P374=\"\",\"\",NETWORKDAYS(C374+1,P374,Hoja1!F366:F482))","v":""},{"$f":"IFERROR(IF(NETWORKDAYS(R374+1,P374,Hoja1!F366:F482)<=0,\"\",NETWORKDAYS(R374+1,P374,Hoja1!F366:F482)),0)","v":""},null,null,{"$f":"IFERROR(VLOOKUP(L374,Hoja1!$A$50:$C$63,2),\"\")","v":""},{"$f":"IFERROR(VLOOKUP(L374,Hoja1!$A$50:$C$63,3),\"\")","v":""}]
[null,null,null,null,null,null,null,null,null,null,null,null,null,null,null,null,null,null,null,null,null,{"$f":"IFERROR(WORKDAY(T375,AE375,Hoja1!F367:F483),\"\")","v":""},"",null,"",{"$f":"IF(P375=\"\",\"\",NETWORKDAYS(C375+1,P375,Hoja1!F367:F483))","v":""},{"$f":"IFERROR(IF(NETWORKDAYS(R375+1,P375,Hoja1!F367:F483)<=0,\"\",NETWORKDAYS(R375+1,P375,Hoja1!F367:F483)),0)","v":""},null,null,{"$f":"IFERROR(VLOOKUP(L375,Hoja1!$A$50:$C$63,2),\"\")","v":""},{"$f":"IFERROR(VLOOKUP(L375,Hoja1!$A$50:$C$63,3),\"\")","v":""}]
[null,null,null,null,null,null,null,null,null,null,null,null,null,null,null,null,null,null,null,null,null,{"$f":"IFERROR(WORKDAY(T376,AE376,Hoja1!F368:F484),\"\")","v":""},"",null,"",{"$f":"IF(P376=\"\",\"\",NETWORKDAYS(C376+1,P376,Hoja1!F368:F484))","v":""},{"$f":"IFERROR(IF(NETWORKDAYS(R376+1,P376,Hoja1!F368:F484)<=0,\"\",NETWORKDAYS(R376+1,P376,Hoja1!F368:F484)),0)","v":""},null,null,{"$f":"IFERROR(VLOOKUP(L376,Hoja1!$A$50:$C$63,2),\"\")","v":""},{"$f":"IFERROR(VLOOKUP(L376,Hoja1!$A$50:$C$63,3),\"\")","v":""}]
[null,null,null,null,null,null,null,null,null,null,null,null,null,null,null,null,null,null,null,null,null,{"$f":"IFERROR(WORKDAY(T377,AE377,Hoja1!F369:F485),\"\")","v":""},"",null,"",{"$f":"IF(P377=\"\",\"\",NETWORKDAYS(C377+1,P377,Hoja1!F369:F485))","v":""},{"$f":"IFERROR(IF(NETWORKDAYS(R377+1,P377,Hoja1!F369:F485)<=0,\"\",NETWORKDAYS(R377+1,P377,Hoja1!F369:F485)),0)","v":""},null,null,{"$f":"IFERROR(VLOOKUP(L377,Hoja1!$A$50:$C$63,2),\"\")","v":""},{"$f":"IFERROR(VLOOKUP(L377,Hoja1!$A$50:$C$63,3),\"\")","v":""}]
[null,null,null,null,null,null,null,null,null,null,null,null,null,null,null,null,null,null,null,null,null,{"$f":"IFERROR(WORKDAY(T378,AE378,Hoja1!F370:F486),\"\")","v":""},"",null,"",{"$f":"IF(P378=\"\",\"\",NETWORKDAYS(C378+1,P378,Hoja1!F370:F486))","v":""},{"$f":"IFERROR(IF(NETWORKDAYS(R378+1,P378,Hoja1!F370:F486)<=0,\"\",NETWORKDAYS(R378+1,P378,Hoja1!F370:F486)),0)","v":""},null,null,{"$f":"IFERROR(VLOOKUP(L378,Hoja1!$A$50:$C$63,2),\"\")","v":""},{"$f":"IFERROR(VLOOKUP(L378,Hoja1!$A$50:$C$63,3),\"\")","v":""}]
[null,null,null,null,null,null,null,null,null,null,null,null,null,null,null,null,null,null,null,null,null,{"$f":"IFERROR(WORKDAY(T379,AE379,Hoja1!F371:F487),\"\")","v":""},"",null,"",{"$f":"IF(P379=\"\",\"\",NETWORKDAYS(C379+1,P379,Hoja1!F371:F487))","v":""},{"$f":"IFERROR(IF(NETWORKDAYS(R379+1,P379,Hoja1!F371:F487)<=0,\"\",NETWORKDAYS(R379+1,P379,Hoja1!F371:F487)),0)","v":""},null,null,{"$f":"IFERROR(VLOOKUP(L379,Hoja1!$A$50:$C$63,2),\"\")","v":""},{"$f":"IFERROR(VLOOKUP(L379,Hoja1!$A$50:$C$63,3),\"\")","v":""}]
[null,null,null,null,null,null,null,null,null,null,null,null,null,null,null,null,null,null,null,null,null,{"$f":"IFERROR(WORKDAY(T380,AE380,Hoja1!F372:F488),\"\")","v":""},"",null,"",{"$f":"IF(P380=\"\",\"\",NETWORKDAYS(C380+1,P380,Hoja1!F372:F488))","v":""},{"$f":"IFERROR(IF(NETWORKDAYS(R380+1,P380,Hoja1!F372:F488)<=0,\"\",NETWORKDAYS(R380+1,P380,Hoja1!F372:F488)),0)","v":""},null,null,{"$f":"IFERROR(VLOOKUP(L380,Hoja1!$A$50:$C$63,2),\"\")","v":""},{"$f":"IFERROR(VLOOKUP(L380,Hoja1!$A$50:$C$63,3),\"\")","v":""}]
[null,null,null,null,null,null,null,null,null,null,null,null,null,null,null,null,null,null,null,null,null,{"$f":"IFERROR(WORKDAY(T381,AE381,Hoja1!F373:F489),\"\")","v":""},"",null,"",{"$f":"IF(P381=\"\",\"\",NETWORKDAYS(C381+1,P381,Hoja1!F373:F489))","v":""},{"$f":"IFERROR(IF(NETWORKDAYS(R381+1,P381,Hoja1!F373:F489)<=0,\"\",NETWORKDAYS(R381+1,P381,Hoja1!F373:F489)),0)","v":""},null,null,{"$f":"IFERROR(VLOOKUP(L381,Hoja1!$A$50:$C$63,2),\"\")","v":""},{"$f":"IFERROR(VLOOKUP(L381,Hoja1!$A$50:$C$63,3),\"\")","v":""}]
[null,null,null,null,null,null,null,null,null,null,null,null,null,null,null,null,null,null,null,null,null,{"$f":"IFERROR(WORKDAY(T382,AE382,Hoja1!F374:F490),\"\")","v":""},"",null,"",{"$f":"IF(P382=\"\",\"\",NETWORKDAYS(C382+1,P382,Hoja1!F374:F490))","v":""},{"$f":"IFERROR(IF(NETWORKDAYS(R382+1,P382,Hoja1!F374:F490)<=0,\"\",NETWORKDAYS(R382+1,P382,Hoja1!F374:F490)),0)","v":""},null,null,{"$f":"IFERROR(VLOOKUP(L382,Hoja1!$A$50:$C$63,2),\"\")","v":""},{"$f":"IFERROR(VLOOKUP(L382,Hoja1!$A$50:$C$63,3),\"\")","v":""}]
[null,null,null,null,null,null,null,null,null,null,null,null,null,null,null,null,null,null,null,null,null,{"$f":"IFERROR(WORKDAY(T383,AE383,Hoja1!F375:F491),\"\")","v":""},"",null,"",{"$f":"IF(P383=\"\",\"\",NETWORKDAYS(C383+1,P383,Hoja1!F375:F491))","v":""},{"$f":"IFERROR(IF(NETWORKDAYS(R383+1,P383,Hoja1!F375:F491)<=0,\"\",NETWORKDAYS(R383+1,P383,Hoja1!F375:F491)),0)","v":""},null,null,{"$f":"IFERROR(VLOOKUP(L383,Hoja1!$A$50:$C$63,2),\"\")","v":""},{"$f":"IFERROR(VLOOKUP(L383,Hoja1!$A$50:$C$63,3),\"\")","v":""}]
[null,null,null,null,null,null,null,null,null,null,null,null,null,null,null,null,null,null,null,null,null,{"$f":"IFERROR(WORKDAY(T384,AE384,Hoja1!F376:F492),\"\")","v":""},"",null,"",{"$f":"IF(P384=\"\",\"\",NETWORKDAYS(C384+1,P384,Hoja1!F376:F492))","v":""},{"$f":"IFERROR(IF(NETWORKDAYS(R384+1,P384,Hoja1!F376:F492)<=0,\"\",NETWORKDAYS(R384+1,P384,Hoja1!F376:F492)),0)","v":""},null,null,{"$f":"IFERROR(VLOOKUP(L384,Hoja1!$A$50:$C$63,2),\"\")","v":""},{"$f":"IFERROR(VLOOKUP(L384,Hoja1!$A$50:$C$63,3),\"\")","v":""}]
[null,null,null,null,null,null,null,null,null,null,null,null,null,null,null,null,null,null,null,null,null,{"$f":"IFERROR(WORKDAY(T385,AE385,Hoja1!F377:F493),\"\")","v":""},"",null,"",{"$f":"IF(P385=\"\",\"\",NETWORKDAYS(C385+1,P385,Hoja1!F377:F493))","v":""},{"$f":"IFERROR(IF(NETWORKDAYS(R385+1,P385,Hoja1!F377:F493)<=0,\"\",NETWORKDAYS(R385+1,P385,Hoja1!F377:F493)),0)","v":""},null,null,{"$f":"IFERROR(VLOOKUP(L385,Hoja1!$A$50:$C$63,2),\"\")","v":""},{"$f":"IFERROR(VLOOKUP(L385,Hoja1!$A$50:$C$63,3),\"\")","v":""}]
[null,null,null,null,null,null,null,null,null,null,null,null,null,null,null,null,null,null,null,null,null,{"$f":"IFERROR(WORKDAY(T386,AE386,Hoja1!F378:F494),\"\")","v":""},"",null,"",{"$f":"IF(P386=\"\",\"\",NETWORKDAYS(C386+1,P386,Hoja1!F378:F494))","v":""},{"$f":"IFERROR(IF(NETWORKDAYS(R386+1,P386,Hoja1!F378:F494)<=0,\"\",NETWORKDAYS(R386+1,P386,Hoja1!F378:F494)),0)","v":""},null,null,{"$f":"IFERROR(VLOOKUP(L386,Hoja1!$A$50:$C$63,2),\"\")","v":""},{"$f":"IFERROR(VLOOKUP(L386,Hoja1!$A$50:$C$63,3),\"\")","v":""}]
[null,null,null,null,null,null,null,null,null,null,null,null,null,null,null,null,null,null,null,null,null,{"$f":"IFERROR(WORKDAY(T387,AE387,Hoja1!F379:F495),\"\")","v":""},"",null,"",{"$f":"IF(P387=\"\",\"\",NETWORKDAYS(C387+1,P387,Hoja1!F379:F495))","v":""},{"$f":"IFERROR(IF(NETWORKDAYS(R387+1,P387,Hoja1!F379:F495)<=0,\"\",NETWORKDAYS(R387+1,P387,Hoja1!F379:F495)),0)","v":""},null,null,{"$f":"IFERROR(VLOOKUP(L387,Hoja1!$A$50:$C$63,2),\"\")","v":""},{"$f":"IFERROR(VLOOKUP(L387,Hoja1!$A$50:$C$63,3),\"\")","v":""}]
[null,null,null,null,null,null,null,null,null,null,null,null,null,null,null,null,null,null,null,null,null,{"$f":"IFERROR(WORKDAY(T388,AE388,Hoja1!F380:F496),\"\")","v":""},"",null,"",{"$f":"IF(P388=\"\",\"\",NETWORKDAYS(C388+1,P388,Hoja1!F380:F496))","v":""},{"$f":"IFERROR(IF(NETWORKDAYS(R388+1,P388,Hoja1!F380:F496)<=0,\"\",NETWORKDAYS(R388+1,P388,Hoja1!F380:F496)),0)","v":""},null,null,{"$f":"IFERROR(VLOOKUP(L388,Hoja1!$A$50:$C$63,2),\"\")","v":""},{"$f":"IFERROR(VLOOKUP(L388,Hoja1!$A$50:$C$63,3),\"\")","v":""}]
[null,null,null,null,null,null,null,null,null,null,null,null,null,null,null,null,null,null,null,null,null,{"$f":"IFERROR(WORKDAY(T389,AE389,Hoja1!F381:F497),\"\")","v":""},"",null,"",{"$f":"IF(P389=\"\",\"\",NETWORKDAYS(C389+1,P389,Hoja1!F381:F497))","v":""},{"$f":"IFERROR(IF(NETWORKDAYS(R389+1,P389,Hoja1!F381:F497)<=0,\"\",NETWORKDAYS(R389+1,P389,Hoja1!F381:F497)),0)","v":""},null,null,{"$f":"IFERROR(VLOOKUP(L389,Hoja1!$A$50:$C$63,2),\"\")","v":""},{"$f":"IFERROR(VLOOKUP(L389,Hoja1!$A$50:$C$63,3),\"\")","v":""}]
[null,null,null,null,null,null,null,null,null,null,null,null,null,null,null,null,null,null,null,null,null,{"$f":"IFERROR(WORKDAY(T390,AE390,Hoja1!F382:F498),\"\")","v":""},"",null,"",{"$f":"IF(P390=\"\",\"\",NETWORKDAYS(C390+1,P390,Hoja1!F382:F498))","v":""},{"$f":"IFERROR(IF(NETWORKDAYS(R390+1,P390,Hoja1!F382:F498)<=0,\"\",NETWORKDAYS(R390+1,P390,Hoja1!F382:F498)),0)","v":""},null,null,{"$f":"IFERROR(VLOOKUP(L390,Hoja1!$A$50:$C$63,2),\"\")","v":""},{"$f":"IFERROR(VLOOKUP(L390,Hoja1!$A$50:$C$63,3),\"\")","v":""}]
[null,null,null,null,null,null,null,null,null,null,null,null,null,null,null,null,null,null,null,null,null,{"$f":"IFERROR(WORKDAY(T391,AE391,Hoja1!F383:F499),\"\")","v":""},"",null,"",{"$f":"IF(P391=\"\",\"\",NETWORKDAYS(C391+1,P391,Hoja1!F383:F499))","v":""},{"$f":"IFERROR(IF(NETWORKDAYS(R391+1,P391,Hoja1!F383:F499)<=0,\"\",NETWORKDAYS(R391+1,P391,Hoja1!F383:F499)),0)","v":""},null,null,{"$f":"IFERROR(VLOOKUP(L391,Hoja1!$A$50:$C$63,2),\"\")","v":""},{"$f":"IFERROR(VLOOKUP(L391,Hoja1!$A$50:$C$63,3),\"\")","v":""}]
[null,null,null,null,null,null,null,null,null,null,null,null,null,null,null,null,null,null,null,null,null,{"$f":"IFERROR(WORKDAY(T392,AE392,Hoja1!F384:F500),\"\")","v":""},"",null,"",{"$f":"IF(P392=\"\",\"\",NETWORKDAYS(C392+1,P392,Hoja1!F384:F500))","v":""},{"$f":"IFERROR(IF(NETWORKDAYS(R392+1,P392,Hoja1!F384:F500)<=0,\"\",NETWORKDAYS(R392+1,P392,Hoja1!F384:F500)),0)","v":""},null,null,{"$f":"IFERROR(VLOOKUP(L392,Hoja1!$A$50:$C$63,2),\"\")","v":""},{"$f":"IFERROR(VLOOKUP(L392,Hoja1!$A$50:$C$63,3),\"\")","v":""}]
[null,null,null,null,null,null,null,null,null,null,null,null,null,null,null,null,null,null,null,null,null,{"$f":"IFERROR(WORKDAY(T393,AE393,Hoja1!F385:F501),\"\")","v":""},"",null,"",{"$f":"IF(P393=\"\",\"\",NETWORKDAYS(C393+1,P393,Hoja1!F385:F501))","v":""},{"$f":"IFERROR(IF(NETWORKDAYS(R393+1,P393,Hoja1!F385:F501)<=0,\"\",NETWORKDAYS(R393+1,P393,Hoja1!F385:F501)),0)","v":""},null,null,{"$f":"IFERROR(VLOOKUP(L393,Hoja1!$A$50:$C$63,2),\"\")","v":""},{"$f":"IFERROR(VLOOKUP(L393,Hoja1!$A$50:$C$63,3),\"\")","v":""}]
[null,null,null,null,null,null,null,null,null,null,null,null,null,null,null,null,null,null,null,null,null,{"$f":"IFERROR(WORKDAY(T394,AE394,Hoja1!F386:F502),\"\")","v":""},{"$f":"+IF(T394=\"\",\"\",IF(U394=\"\",\"SIN RESPUESTA\",(IF(U394<=V394,\"A TIEMPO\",\"FUERA DE TIEMPO\"))))","v":""},null,{"$f":"+IF(C394=\"\",\"\",IF(P394=\"\",\"SIN RESPUESTA\",(IF(P394<=R394,\"A TIEMPO\",\"FUERA DE TIEMPO\"))))","v":""},{"$f":"IF(P394=\"\",\"\",NETWORKDAYS(C394+1,P394,Hoja1!F386:F502))","v":""},{"$f":"IFERROR(IF(NETWORKDAYS(R394+1,P394,Hoja1!F386:F502)<=0,\"\",NETWORKDAYS(R394+1,P394,Hoja1!F386:F502)),0)","v":""},null,null,{"$f":"IFERROR(VLOOKUP(L394,Hoja1!$A$50:$C$63,2),\"\")","v":""},{"$f":"IFERROR(VLOOKUP(L394,Hoja1!$A$50:$C$63,3),\"\")","v":""}]
[null,null,null,null,null,null,null,null,null,null,null,null,null,null,null,null,null,null,null,null,null,{"$f":"IFERROR(WORKDAY(T395,AE395,Hoja1!F387:F503),\"\")","v":""},"",null,"",{"$f":"IF(P395=\"\",\"\",NETWORKDAYS(C395+1,P395,Hoja1!F387:F503))","v":""},{"$f":"IFERROR(IF(NETWORKDAYS(R395+1,P395,Hoja1!F387:F503)<=0,\"\",NETWORKDAYS(R395+1,P395,Hoja1!F387:F503)),0)","v":""},null,null,{"$f":"IFERROR(VLOOKUP(L395,Hoja1!$A$50:$C$63,2),\"\")","v":""},{"$f":"IFERROR(VLOOKUP(L395,Hoja1!$A$50:$C$63,3),\"\")","v":""}]
[null,null,null,null,null,null,null,null,null,null,null,null,null,null,null,null,null,null,null,null,null,{"$f":"IFERROR(WORKDAY(T396,AE396,Hoja1!F388:F504),\"\")","v":""},"",null,"",{"$f":"IF(P396=\"\",\"\",NETWORKDAYS(C396+1,P396,Hoja1!F388:F504))","v":""},{"$f":"IFERROR(IF(NETWORKDAYS(R396+1,P396,Hoja1!F388:F504)<=0,\"\",NETWORKDAYS(R396+1,P396,Hoja1!F388:F504)),0)","v":""},null,null,{"$f":"IFERROR(VLOOKUP(L396,Hoja1!$A$50:$C$63,2),\"\")","v":""},{"$f":"IFERROR(VLOOKUP(L396,Hoja1!$A$50:$C$63,3),\"\")","v":""}]
[null,null,null,null,null,null,null,null,null,null,null,null,null,null,null,null,null,null,null,null,null,{"$f":"IFERROR(WORKDAY(T397,AE397,Hoja1!F389:F505),\"\")","v":""},"",null,"",{"$f":"IF(P397=\"\",\"\",NETWORKDAYS(C397+1,P397,Hoja1!F389:F505))","v":""},{"$f":"IFERROR(IF(NETWORKDAYS(R397+1,P397,Hoja1!F389:F505)<=0,\"\",NETWORKDAYS(R397+1,P397,Hoja1!F389:F505)),0)","v":""},null,null,{"$f":"IFERROR(VLOOKUP(L397,Hoja1!$A$50:$C$63,2),\"\")","v":""},{"$f":"IFERROR(VLOOKUP(L397,Hoja1!$A$50:$C$63,3),\"\")","v":""}]
[null,null,null,null,null,null,null,null,null,null,null,null,null,null,null,null,null,null,null,null,null,{"$f":"IFERROR(WORKDAY(T398,AE398,Hoja1!F390:F506),\"\")","v":""},"",null,"",{"$f":"IF(P398=\"\",\"\",NETWORKDAYS(C398+1,P398,Hoja1!F390:F506))","v":""},{"$f":"IFERROR(IF(NETWORKDAYS(R398+1,P398,Hoja1!F390:F506)<=0,\"\",NETWORKDAYS(R398+1,P398,Hoja1!F390:F506)),0)","v":""},null,null,{"$f":"IFERROR(VLOOKUP(L398,Hoja1!$A$50:$C$63,2),\"\")","v":""},{"$f":"IFERROR(VLOOKUP(L398,Hoja1!$A$50:$C$63,3),\"\")","v":""}]
[null,null,null,null,null,null,null,null,null,null,null,null,null,null,null,null,null,null,null,null,null,{"$f":"IFERROR(WORKDAY(T399,AE399,Hoja1!F391:F507),\"\")","v":""},"",null,"",{"$f":"IF(P399=\"\",\"\",NETWORKDAYS(C399+1,P399,Hoja1!F391:F507))","v":""},{"$f":"IFERROR(IF(NETWORKDAYS(R399+1,P399,Hoja1!F391:F507)<=0,\"\",NETWORKDAYS(R399+1,P399,Hoja1!F391:F507)),0)","v":""},null,null,{"$f":"IFERROR(VLOOKUP(L399,Hoja1!$A$50:$C$63,2),\"\")","v":""},{"$f":"IFERROR(VLOOKUP(L399,Hoja1!$A$50:$C$63,3),\"\")","v":""}]
[null,null,null,null,null,null,null,null,null,null,null,null,null,null,null,null,null,null,null,null,null,{"$f":"IFERROR(WORKDAY(T400,AE400,Hoja1!F392:F508),\"\")","v":""},"",null,"",{"$f":"IF(P400=\"\",\"\",NETWORKDAYS(C400+1,P400,Hoja1!F392:F508))","v":""},{"$f":"IFERROR(IF(NETWORKDAYS(R400+1,P400,Hoja1!F392:F508)<=0,\"\",NETWORKDAYS(R400+1,P400,Hoja1!F392:F508)),0)","v":""},null,null,{"$f":"IFERROR(VLOOKUP(L400,Hoja1!$A$50:$C$63,2),\"\")","v":""},{"$f":"IFERROR(VLOOKUP(L400,Hoja1!$A$50:$C$63,3),\"\")","v":""}]
[null,null,null,null,null,null,null,null,null,null,null,null,null,null,null,null,null,null,null,null,null,{"$f":"IFERROR(WORKDAY(T401,AE401,Hoja1!F393:F509),\"\")","v":""},"",null,"",{"$f":"IF(P401=\"\",\"\",NETWORKDAYS(C401+1,P401,Hoja1!F393:F509))","v":""},{"$f":"IFERROR(IF(NETWORKDAYS(R401+1,P401,Hoja1!F393:F509)<=0,\"\",NETWORKDAYS(R401+1,P401,Hoja1!F393:F509)),0)","v":""},null,null,{"$f":"IFERROR(VLOOKUP(L401,Hoja1!$A$50:$C$63,2),\"\")","v":""},{"$f":"IFERROR(VLOOKUP(L401,Hoja1!$A$50:$C$63,3),\"\")","v":""}]
[null,null,null,null,null,null,null,null,null,null,null,null,null,null,null,null,null,null,null,null,null,{"$f":"IFERROR(WORKDAY(T402,AE402,Hoja1!F394:F510),\"\")","v":""},"",null,"",{"$f":"IF(P402=\"\",\"\",NETWORKDAYS(C402+1,P402,Hoja1!F394:F510))","v":""},{"$f":"IFERROR(IF(NETWORKDAYS(R402+1,P402,Hoja1!F394:F510)<=0,\"\",NETWORKDAYS(R402+1,P402,Hoja1!F394:F510)),0)","v":""},null,null,{"$f":"IFERROR(VLOOKUP(L402,Hoja1!$A$50:$C$63,2),\"\")","v":""},{"$f":"IFERROR(VLOOKUP(L402,Hoja1!$A$50:$C$63,3),\"\")","v":""}]
[null,null,null,null,null,null,null,null,null,null,null,null,null,null,null,null,null,null,null,null,null,{"$f":"IFERROR(WORKDAY(T403,AE403,Hoja1!F395:F511),\"\")","v":""},"",null,"",{"$f":"IF(P403=\"\",\"\",NETWORKDAYS(C403+1,P403,Hoja1!F395:F511))","v":""},{"$f":"IFERROR(IF(NETWORKDAYS(R403+1,P403,Hoja1!F395:F511)<=0,\"\",NETWORKDAYS(R403+1,P403,Hoja1!F395:F511)),0)","v":""},null,null,{"$f":"IFERROR(VLOOKUP(L403,Hoja1!$A$50:$C$63,2),\"\")","v":""},{"$f":"IFERROR(VLOOKUP(L403,Hoja1!$A$50:$C$63,3),\"\")","v":""}]
[null,null,null,null,null,null,null,null,null,null,null,null,null,null,null,null,null,null,null,null,null,{"$f":"IFERROR(WORKDAY(T404,AE404,Hoja1!F396:F512),\"\")","v":""},"",null,"",{"$f":"IF(P404=\"\",\"\",NETWORKDAYS(C404+1,P404,Hoja1!F396:F512))","v":""},{"$f":"IFERROR(IF(NETWORKDAYS(R404+1,P404,Hoja1!F396:F512)<=0,\"\",NETWORKDAYS(R404+1,P404,Hoja1!F396:F512)),0)","v":""},null,null,{"$f":"IFERROR(VLOOKUP(L404,Hoja1!$A$50:$C$63,2),\"\")","v":""},{"$f":"IFERROR(VLOOKUP(L404,Hoja1!$A$50:$C$63,3),\"\")","v":""}]
[null,null,null,null,null,null,null,null,null,null,null,null,null,null,null,null,null,null,null,null,null,{"$f":"IFERROR(WORKDAY(T405,AE405,Hoja1!F397:F513),\"\")","v":""},"",null,"",{"$f":"IF(P405=\"\",\"\",NETWORKDAYS(C405+1,P405,Hoja1!F397:F513))","v":""},{"$f":"IFERROR(IF(NETWORKDAYS(R405+1,P405,Hoja1!F397:F513)<=0,\"\",NETWORKDAYS(R405+1,P405,Hoja1!F397:F513)),0)","v":""},null,null,{"$f":"IFERROR(VLOOKUP(L405,Hoja1!$A$50:$C$63,2),\"\")","v":""},{"$f":"IFERROR(VLOOKUP(L405,Hoja1!$A$50:$C$63,3),\"\")","v":""}]
[null,null,null,null,null,null,null,null,null,null,null,null,null,null,null,null,null,null,null,null,null,{"$f":"IFERROR(WORKDAY(T406,AE406,Hoja1!F398:F514),\"\")","v":""},"",null,"",{"$f":"IF(P406=\"\",\"\",NETWORKDAYS(C406+1,P406,Hoja1!F398:F514))","v":""},{"$f":"IFERROR(IF(NETWORKDAYS(R406+1,P406,Hoja1!F398:F514)<=0,\"\",NETWORKDAYS(R406+1,P406,Hoja1!F398:F514)),0)","v":""},null,null,{"$f":"IFERROR(VLOOKUP(L406,Hoja1!$A$50:$C$63,2),\"\")","v":""},{"$f":"IFERROR(VLOOKUP(L406,Hoja1!$A$50:$C$63,3),\"\")","v":""}]
[null,null,null,null,null,null,null,null,null,null,null,null,null,null,null,null,null,null,null,null,null,{"$f":"IFERROR(WORKDAY(T407,AE407,Hoja1!F399:F515),\"\")","v":""},"",null,"",{"$f":"IF(P407=\"\",\"\",NETWORKDAYS(C407+1,P407,Hoja1!F399:F515))","v":""},{"$f":"IFERROR(IF(NETWORKDAYS(R407+1,P407,Hoja1!F399:F515)<=0,\"\",NETWORKDAYS(R407+1,P407,Hoja1!F399:F515)),0)","v":""},null,null,{"$f":"IFERROR(VLOOKUP(L407,Hoja1!$A$50:$C$63,2),\"\")","v":""},{"$f":"IFERROR(VLOOKUP(L407,Hoja1!$A$50:$C$63,3),\"\")","v":""}]
[null,null,null,null,null,null,null,null,null,null,null,null,null,null,null,null,null,null,null,null,null,{"$f":"IFERROR(WORKDAY(T408,AE408,Hoja1!F400:F516),\"\")","v":""},"",null,"",{"$f":"IF(P408=\"\",\"\",NETWORKDAYS(C408+1,P408,Hoja1!F400:F516))","v":""},{"$f":"IFERROR(IF(NETWORKDAYS(R408+1,P408,Hoja1!F400:F516)<=0,\"\",NETWORKDAYS(R408+1,P408,Hoja1!F400:F516)),0)","v":""},null,null,{"$f":"IFERROR(VLOOKUP(L408,Hoja1!$A$50:$C$63,2),\"\")","v":""},{"$f":"IFERROR(VLOOKUP(L408,Hoja1!$A$50:$C$63,3),\"\")","v":""}]
[null,null,null,null,null,null,null,null,null,null,null,null,null,null,null,null,null,null,null,null,null,{"$f":"IFERROR(WORKDAY(T409,AE409,Hoja1!F401:F517),\"\")","v":""},"",null,"",{"$f":"IF(P409=\"\",\"\",NETWORKDAYS(C409+1,P409,Hoja1!F401:F517))","v":""},{"$f":"IFERROR(IF(NETWORKDAYS(R409+1,P409,Hoja1!F401:F517)<=0,\"\",NETWORKDAYS(R409+1,P409,Hoja1!F401:F517)),0)","v":""},null,null,{"$f":"IFERROR(VLOOKUP(L409,Hoja1!$A$50:$C$63,2),\"\")","v":""},{"$f":"IFERROR(VLOOKUP(L409,Hoja1!$A$50:$C$63,3),\"\")","v":""}]
[null,null,null,null,null,null,null,null,null,null,null,null,null,null,null,null,null,null,null,null,null,{"$f":"IFERROR(WORKDAY(T410,AE410,Hoja1!F402:F518),\"\")","v":""},"",null,"",{"$f":"IF(P410=\"\",\"\",NETWORKDAYS(C410+1,P410,Hoja1!F402:F518))","v":""},{"$f":"IFERROR(IF(NETWORKDAYS(R410+1,P410,Hoja1!F402:F518)<=0,\"\",NETWORKDAYS(R410+1,P410,Hoja1!F402:F518)),0)","v":""},null,null,{"$f":"IFERROR(VLOOKUP(L410,Hoja1!$A$50:$C$63,2),\"\")","v":""},{"$f":"IFERROR(VLOOKUP(L410,Hoja1!$A$50:$C$63,3),\"\")","v":""}]
[null,null,null,null,null,null,null,null,null,null,null,null,null,null,null,null,null,null,null,null,null,{"$f":"IFERROR(WORKDAY(T411,AE411,Hoja1!F403:F519),\"\")","v":""},"",null,"",{"$f":"IF(P411=\"\",\"\",NETWORKDAYS(C411+1,P411,Hoja1!F403:F519))","v":""},{"$f":"IFERROR(IF(NETWORKDAYS(R411+1,P411,Hoja1!F403:F519)<=0,\"\",NETWORKDAYS(R411+1,P411,Hoja1!F403:F519)),0)","v":""},null,null,{"$f":"IFERROR(VLOOKUP(L411,Hoja1!$A$50:$C$63,2),\"\")","v":""},{"$f":"IFERROR(VLOOKUP(L411,Hoja1!$A$50:$C$63,3),\"\")","v":""}]
[null,null,null,null,null,null,null,null,null,null,null,null,null,null,null,null,null,null,null,null,null,{"$f":"IFERROR(WORKDAY(T412,AE412,Hoja1!F404:F520),\"\")","v":""},"",null,"",{"$f":"IF(P412=\"\",\"\",NETWORKDAYS(C412+1,P412,Hoja1!F404:F520))","v":""},{"$f":"IFERROR(IF(NETWORKDAYS(R412+1,P412,Hoja1!F404:F520)<=0,\"\",NETWORKDAYS(R412+1,P412,Hoja1!F404:F520)),0)","v":""},null,null,{"$f":"IFERROR(VLOOKUP(L412,Hoja1!$A$50:$C$63,2),\"\")","v":""},{"$f":"IFERROR(VLOOKUP(L412,Hoja1!$A$50:$C$63,3),\"\")","v":""}]
[null,null,null,null,null,null,null,null,null,null,null,null,null,null,null,null,null,null,null,null,null,{"$f":"IFERROR(WORKDAY(T413,AE413,Hoja1!F405:F521),\"\")","v":""},"",null,"",{"$f":"IF(P413=\"\",\"\",NETWORKDAYS(C413+1,P413,Hoja1!F405:F521))","v":""},{"$f":"IFERROR(IF(NETWORKDAYS(R413+1,P413,Hoja1!F405:F521)<=0,\"\",NETWORKDAYS(R413+1,P413,Hoja1!F405:F521)),0)","v":""},null,null,{"$f":"IFERROR(VLOOKUP(L413,Hoja1!$A$50:$C$63,2),\"\")","v":""},{"$f":"IFERROR(VLOOKUP(L413,Hoja1!$A$50:$C$63,3),\"\")","v":""}]
[null,null,null,null,null,null,null,null,null,null,null,null,null,null,null,null,null,null,null,null,null,{"$f":"IFERROR(WORKDAY(T414,AE414,Hoja1!F406:F522),\"\")","v":""},"",null,"",{"$f":"IF(P414=\"\",\"\",NETWORKDAYS(C414+1,P414,Hoja1!F406:F522))","v":""},{"$f":"IFERROR(IF(NETWORKDAYS(R414+1,P414,Hoja1!F406:F522)<=0,\"\",NETWORKDAYS(R414+1,P414,Hoja1!F406:F522)),0)","v":""},null,null,{"$f":"IFERROR(VLOOKUP(L414,Hoja1!$A$50:$C$63,2),\"\")","v":""},{"$f":"IFERROR(VLOOKUP(L414,Hoja1!$A$50:$C$63,3),\"\")","v":""}]
[null,null,null,null,null,null,null,null,null,null,null,null,null,null,null,null,null,null,null,null,null,{"$f":"IFERROR(WORKDAY(T415,AE415,Hoja1!F407:F523),\"\")","v":""},"",null,"",{"$f":"IF(P415=\"\",\"\",NETWORKDAYS(C415+1,P415,Hoja1!F407:F523))","v":""},{"$f":"IFERROR(IF(NETWORKDAYS(R415+1,P415,Hoja1!F407:F523)<=0,\"\",NETWORKDAYS(R415+1,P415,Hoja1!F407:F523)),0)","v":""},null,null,{"$f":"IFERROR(VLOOKUP(L415,Hoja1!$A$50:$C$63,2),\"\")","v":""},{"$f":"IFERROR(VLOOKUP(L415,Hoja1!$A$50:$C$63,3),\"\")","v":""}]
[null,null,null,null,null,null,null,null,null,null,null,null,null,null,null,null,null,null,null,null,null,{"$f":"IFERROR(WORKDAY(T416,AE416,Hoja1!F408:F524),\"\")","v":""},"",null,"",{"$f":"IF(P416=\"\",\"\",NETWORKDAYS(C416+1,P416,Hoja1!F408:F524))","v":""},{"$f":"IFERROR(IF(NETWORKDAYS(R416+1,P416,Hoja1!F408:F524)<=0,\"\",NETWORKDAYS(R416+1,P416,Hoja1!F408:F524)),0)","v":""},null,null,{"$f":"IFERROR(VLOOKUP(L416,Hoja1!$A$50:$C$63,2),\"\")","v":""},{"$f":"IFERROR(VLOOKUP(L416,Hoja1!$A$50:$C$63,3),\"\")","v":""}]
[null,null,null,null,null,null,null,null,null,null,null,null,null,null,null,null,null,null,null,null,null,{"$f":"IFERROR(WORKDAY(T417,AE417,Hoja1!F409:F525),\"\")","v":""},"",null,"",{"$f":"IF(P417=\"\",\"\",NETWORKDAYS(C417+1,P417,Hoja1!F409:F525))","v":""},{"$f":"IFERROR(IF(NETWORKDAYS(R417+1,P417,Hoja1!F409:F525)<=0,\"\",NETWORKDAYS(R417+1,P417,Hoja1!F409:F525)),0)","v":""},null,null,{"$f":"IFERROR(VLOOKUP(L417,Hoja1!$A$50:$C$63,2),\"\")","v":""},{"$f":"IFERROR(VLOOKUP(L417,Hoja1!$A$50:$C$63,3),\"\")","v":""}]
[null,null,null,null,null,null,null,null,null,null,null,null,null,null,null,null,null,null,null,null,null,{"$f":"IFERROR(WORKDAY(T418,AE418,Hoja1!F410:F526),\"\")","v":""},"",null,"",{"$f":"IF(P418=\"\",\"\",NETWORKDAYS(C418+1,P418,Hoja1!F410:F526))","v":""},{"$f":"IFERROR(IF(NETWORKDAYS(R418+1,P418,Hoja1!F410:F526)<=0,\"\",NETWORKDAYS(R418+1,P418,Hoja1!F410:F526)),0)","v":""},null,null,{"$f":"IFERROR(VLOOKUP(L418,Hoja1!$A$50:$C$63,2),\"\")","v":""},{"$f":"IFERROR(VLOOKUP(L418,Hoja1!$A$50:$C$63,3),\"\")","v":""}]
[null,null,null,null,null,null,null,null,null,null,null,null,null,null,null,null,null,null,null,null,null,{"$f":"IFERROR(WORKDAY(T419,AE419,Hoja1!F411:F527),\"\")","v":""},"",null,"",{"$f":"IF(P419=\"\",\"\",NETWORKDAYS(C419+1,P419,Hoja1!F411:F527))","v":""},{"$f":"IFERROR(IF(NETWORKDAYS(R419+1,P419,Hoja1!F411:F527)<=0,\"\",NETWORKDAYS(R419+1,P419,Hoja1!F411:F527)),0)","v":""},null,null,{"$f":"IFERROR(VLOOKUP(L419,Hoja1!$A$50:$C$63,2),\"\")","v":""},{"$f":"IFERROR(VLOOKUP(L419,Hoja1!$A$50:$C$63,3),\"\")","v":""}]
[null,null,null,null,null,null,null,null,null,null,null,null,null,null,null,null,null,null,null,null,null,{"$f":"IFERROR(WORKDAY(T420,AE420,Hoja1!F412:F528),\"\")","v":""},"",null,"",{"$f":"IF(P420=\"\",\"\",NETWORKDAYS(C420+1,P420,Hoja1!F412:F528))","v":""},{"$f":"IFERROR(IF(NETWORKDAYS(R420+1,P420,Hoja1!F412:F528)<=0,\"\",NETWORKDAYS(R420+1,P420,Hoja1!F412:F528)),0)","v":""},null,null,{"$f":"IFERROR(VLOOKUP(L420,Hoja1!$A$50:$C$63,2),\"\")","v":""},{"$f":"IFERROR(VLOOKUP(L420,Hoja1!$A$50:$C$63,3),\"\")","v":""}]
[null,null,null,null,null,null,null,null,null,null,null,null,null,null,null,null,null,null,null,null,null,{"$f":"IFERROR(WORKDAY(T421,AE421,Hoja1!F413:F529),\"\")","v":""},"",null,"",{"$f":"IF(P421=\"\",\"\",NETWORKDAYS(C421+1,P421,Hoja1!F413:F529))","v":""},{"$f":"IFERROR(IF(NETWORKDAYS(R421+1,P421,Hoja1!F413:F529)<=0,\"\",NETWORKDAYS(R421+1,P421,Hoja1!F413:F529)),0)","v":""},null,null,{"$f":"IFERROR(VLOOKUP(L421,Hoja1!$A$50:$C$63,2),\"\")","v":""},{"$f":"IFERROR(VLOOKUP(L421,Hoja1!$A$50:$C$63,3),\"\")","v":""}]
[null,null,null,null,null,null,null,null,null,null,null,null,null,null,null,null,null,null,null,null,null,{"$f":"IFERROR(WORKDAY(T422,AE422,Hoja1!F414:F530),\"\")","v":""},"",null,"",{"$f":"IF(P422=\"\",\"\",NETWORKDAYS(C422+1,P422,Hoja1!F414:F530))","v":""},{"$f":"IFERROR(IF(NETWORKDAYS(R422+1,P422,Hoja1!F414:F530)<=0,\"\",NETWORKDAYS(R422+1,P422,Hoja1!F414:F530)),0)","v":""},null,null,{"$f":"IFERROR(VLOOKUP(L422,Hoja1!$A$50:$C$63,2),\"\")","v":""},{"$f":"IFERROR(VLOOKUP(L422,Hoja1!$A$50:$C$63,3),\"\")","v":""}]
[null,null,null,null,null,null,null,null,null,null,null,null,null,null,null,null,null,null,null,null,null,{"$f":"IFERROR(WORKDAY(T423,AE423,Hoja1!F415:F531),\"\")","v":""},"",null,"",{"$f":"IF(P423=\"\",\"\",NETWORKDAYS(C423+1,P423,Hoja1!F415:F531))","v":""},{"$f":"IFERROR(IF(NETWORKDAYS(R423+1,P423,Hoja1!F415:F531)<=0,\"\",NETWORKDAYS(R423+1,P423,Hoja1!F415:F531)),0)","v":""},null,null,{"$f":"IFERROR(VLOOKUP(L423,Hoja1!$A$50:$C$63,2),\"\")","v":""},{"$f":"IFERROR(VLOOKUP(L423,Hoja1!$A$50:$C$63,3),\"\")","v":""}]
[null,null,null,null,null,null,null,null,null,null,null,null,null,null,null,null,null,null,null,null,null,{"$f":"IFERROR(WORKDAY(T424,AE424,Hoja1!F416:F532),\"\")","v":""},"",null,"",{"$f":"IF(P424=\"\",\"\",NETWORKDAYS(C424+1,P424,Hoja1!F416:F532))","v":""},{"$f":"IFERROR(IF(NETWORKDAYS(R424+1,P424,Hoja1!F416:F532)<=0,\"\",NETWORKDAYS(R424+1,P424,Hoja1!F416:F532)),0)","v":""},null,null,{"$f":"IFERROR(VLOOKUP(L424,Hoja1!$A$50:$C$63,2),\"\")","v":""},{"$f":"IFERROR(VLOOKUP(L424,Hoja1!$A$50:$C$63,3),\"\")","v":""}]
[null,null,null,null,null,null,null,null,null,null,null,null,null,null,null,null,null,null,null,null,null,{"$f":"IFERROR(WORKDAY(T425,AE425,Hoja1!F417:F533),\"\")","v":""},"",null,"",{"$f":"IF(P425=\"\",\"\",NETWORKDAYS(C425+1,P425,Hoja1!F417:F533))","v":""},{"$f":"IFERROR(IF(NETWORKDAYS(R425+1,P425,Hoja1!F417:F533)<=0,\"\",NETWORKDAYS(R425+1,P425,Hoja1!F417:F533)),0)","v":""},null,null,{"$f":"IFERROR(VLOOKUP(L425,Hoja1!$A$50:$C$63,2),\"\")","v":""},{"$f":"IFERROR(VLOOKUP(L425,Hoja1!$A$50:$C$63,3),\"\")","v":""}]
[null,null,null,null,null,null,null,null,null,null,null,null,null,null,null,null,null,null,null,null,null,{"$f":"IFERROR(WORKDAY(T426,AE426,Hoja1!F418:F534),\"\")","v":""},"",null,"",{"$f":"IF(P426=\"\",\"\",NETWORKDAYS(C426+1,P426,Hoja1!F418:F534))","v":""},{"$f":"IFERROR(IF(NETWORKDAYS(R426+1,P426,Hoja1!F418:F534)<=0,\"\",NETWORKDAYS(R426+1,P426,Hoja1!F418:F534)),0)","v":""},null,null,{"$f":"IFERROR(VLOOKUP(L426,Hoja1!$A$50:$C$63,2),\"\")","v":""},{"$f":"IFERROR(VLOOKUP(L426,Hoja1!$A$50:$C$63,3),\"\")","v":""}]
[null,null,null,null,null,null,null,null,null,null,null,null,null,null,null,null,null,null,null,null,null,{"$f":"IFERROR(WORKDAY(T427,AE427,Hoja1!F419:F535),\"\")","v":""},"",null,"",{"$f":"IF(P427=\"\",\"\",NETWORKDAYS(C427+1,P427,Hoja1!F419:F535))","v":""},{"$f":"IFERROR(IF(NETWORKDAYS(R427+1,P427,Hoja1!F419:F535)<=0,\"\",NETWORKDAYS(R427+1,P427,Hoja1!F419:F535)),0)","v":""},null,null,{"$f":"IFERROR(VLOOKUP(L427,Hoja1!$A$50:$C$63,2),\"\")","v":""},{"$f":"IFERROR(VLOOKUP(L427,Hoja1!$A$50:$C$63,3),\"\")","v":""}]
[null,null,null,null,null,null,null,null,null,null,null,null,null,null,null,null,null,null,null,null,null,{"$f":"IFERROR(WORKDAY(T428,AE428,Hoja1!F420:F536),\"\")","v":""},"",null,"",{"$f":"IF(P428=\"\",\"\",NETWORKDAYS(C428+1,P428,Hoja1!F420:F536))","v":""},{"$f":"IFERROR(IF(NETWORKDAYS(R428+1,P428,Hoja1!F420:F536)<=0,\"\",NETWORKDAYS(R428+1,P428,Hoja1!F420:F536)),0)","v":""},null,null,{"$f":"IFERROR(VLOOKUP(L428,Hoja1!$A$50:$C$63,2),\"\")","v":""},{"$f":"IFERROR(VLOOKUP(L428,Hoja1!$A$50:$C$63,3),\"\")","v":""}]
[null,null,null,null,null,null,null,null,null,null,null,null,null,null,null,null,null,null,null,null,null,{"$f":"IFERROR(WORKDAY(T429,AE429,Hoja1!F421:F537),\"\")","v":""},"",null,"",{"$f":"IF(P429=\"\",\"\",NETWORKDAYS(C429+1,P429,Hoja1!F421:F537))","v":""},{"$f":"IFERROR(IF(NETWORKDAYS(R429+1,P429,Hoja1!F421:F537)<=0,\"\",NETWORKDAYS(R429+1,P429,Hoja1!F421:F537)),0)","v":""},null,null,{"$f":"IFERROR(VLOOKUP(L429,Hoja1!$A$50:$C$63,2),\"\")","v":""},{"$f":"IFERROR(VLOOKUP(L429,Hoja1!$A$50:$C$63,3),\"\")","v":""}]
[null,null,null,null,null,null,null,null,null,null,null,null,null,null,null,null,null,null,null,null,null,{"$f":"IFERROR(WORKDAY(T430,AE430,Hoja1!F422:F538),\"\")","v":""},"",null,"",{"$f":"IF(P430=\"\",\"\",NETWORKDAYS(C430+1,P430,Hoja1!F422:F538))","v":""},{"$f":"IFERROR(IF(NETWORKDAYS(R430+1,P430,Hoja1!F422:F538)<=0,\"\",NETWORKDAYS(R430+1,P430,Hoja1!F422:F538)),0)","v":""},null,null,{"$f":"IFERROR(VLOOKUP(L430,Hoja1!$A$50:$C$63,2),\"\")","v":""},{"$f":"IFERROR(VLOOKUP(L430,Hoja1!$A$50:$C$63,3),\"\")","v":""}]
[null,null,null,null,null,null,null,null,null,null,null,null,null,null,null,null,null,null,null,null,null,{"$f":"IFERROR(WORKDAY(T431,AE431,Hoja1!F423:F539),\"\")","v":""},"",null,"",{"$f":"IF(P431=\"\",\"\",NETWORKDAYS(C431+1,P431,Hoja1!F423:F539))","v":""},{"$f":"IFERROR(IF(NETWORKDAYS(R431+1,P431,Hoja1!F423:F539)<=0,\"\",NETWORKDAYS(R431+1,P431,Hoja1!F423:F539)),0)","v":""},null,null,{"$f":"IFERROR(VLOOKUP(L431,Hoja1!$A$50:$C$63,2),\"\")","v":""},{"$f":"IFERROR(VLOOKUP(L431,Hoja1!$A$50:$C$63,3),\"\")","v":""}]
[null,null,null,null,null,null,null,null,null,null,null,null,null,null,null,null,null,null,null,null,null,{"$f":"IFERROR(WORKDAY(T432,AE432,Hoja1!F424:F540),\"\")","v":""},"",null,"",{"$f":"IF(P432=\"\",\"\",NETWORKDAYS(C432+1,P432,Hoja1!F424:F540))","v":""},{"$f":"IFERROR(IF(NETWORKDAYS(R432+1,P432,Hoja1!F424:F540)<=0,\"\",NETWORKDAYS(R432+1,P432,Hoja1!F424:F540)),0)","v":""},null,null,{"$f":"IFERROR(VLOOKUP(L432,Hoja1!$A$50:$C$63,2),\"\")","v":""},{"$f":"IFERROR(VLOOKUP(L432,Hoja1!$A$50:$C$63,3),\"\")","v":""}]
[null,null,null,null,null,null,null,null,null,null,null,null,null,null,null,null,null,null,null,null,null,{"$f":"IFERROR(WORKDAY(T433,AE433,Hoja1!F425:F541),\"\")","v":""},"",null,"",{"$f":"IF(P433=\"\",\"\",NETWORKDAYS(C433+1,P433,Hoja1!F425:F541))","v":""},{"$f":"IFERROR(IF(NETWORKDAYS(R433+1,P433,Hoja1!F425:F541)<=0,\"\",NETWORKDAYS(R433+1,P433,Hoja1!F425:F541)),0)","v":""},null,null,{"$f":"IFERROR(VLOOKUP(L433,Hoja1!$A$50:$C$63,2),\"\")","v":""},{"$f":"IFERROR(VLOOKUP(L433,Hoja1!$A$50:$C$63,3),\"\")","v":""}]
[null,null,null,null,null,null,null,null,null,null,null,null,null,null,null,null,null,null,null,null,null,{"$f":"IFERROR(WORKDAY(T434,AE434,Hoja1!F426:F542),\"\")","v":""},"",null,"",{"$f":"IF(P434=\"\",\"\",NETWORKDAYS(C434+1,P434,Hoja1!F426:F542))","v":""},{"$f":"IFERROR(IF(NETWORKDAYS(R434+1,P434,Hoja1!F426:F542)<=0,\"\",NETWORKDAYS(R434+1,P434,Hoja1!F426:F542)),0)","v":""},null,null,{"$f":"IFERROR(VLOOKUP(L434,Hoja1!$A$50:$C$63,2),\"\")","v":""},{"$f":"IFERROR(VLOOKUP(L434,Hoja1!$A$50:$C$63,3),\"\")","v":""}]
[null,null,null,null,null,null,null,null,null,null,null,null,null,null,null,null,null,null,null,null,null,{"$f":"IFERROR(WORKDAY(T435,AE435,Hoja1!F427:F543),\"\")","v":""},"",null,"",{"$f":"IF(P435=\"\",\"\",NETWORKDAYS(C435+1,P435,Hoja1!F427:F543))","v":""},{"$f":"IFERROR(IF(NETWORKDAYS(R435+1,P435,Hoja1!F427:F543)<=0,\"\",NETWORKDAYS(R435+1,P435,Hoja1!F427:F543)),0)","v":""},null,null,{"$f":"IFERROR(VLOOKUP(L435,Hoja1!$A$50:$C$63,2),\"\")","v":""},{"$f":"IFERROR(VLOOKUP(L435,Hoja1!$A$50:$C$63,3),\"\")","v":""}]
[null,null,null,null,null,null,null,null,null,null,null,null,null,null,null,null,null,null,null,null,null,{"$f":"IFERROR(WORKDAY(T436,AE436,Hoja1!F428:F544),\"\")","v":""},"",null,"",{"$f":"IF(P436=\"\",\"\",NETWORKDAYS(C436+1,P436,Hoja1!F428:F544))","v":""},{"$f":"IFERROR(IF(NETWORKDAYS(R436+1,P436,Hoja1!F428:F544)<=0,\"\",NETWORKDAYS(R436+1,P436,Hoja1!F428:F544)),0)","v":""},null,null,{"$f":"IFERROR(VLOOKUP(L436,Hoja1!$A$50:$C$63,2),\"\")","v":""},{"$f":"IFERROR(VLOOKUP(L436,Hoja1!$A$50:$C$63,3),\"\")","v":""}]
[null,null,null,null,null,null,null,null,null,null,null,null,null,null,null,null,null,null,null,null,null,{"$f":"IFERROR(WORKDAY(T437,AE437,Hoja1!F429:F545),\"\")","v":""},"",null,"",{"$f":"IF(P437=\"\",\"\",NETWORKDAYS(C437+1,P437,Hoja1!F429:F545))","v":""},{"$f":"IFERROR(IF(NETWORKDAYS(R437+1,P437,Hoja1!F429:F545)<=0,\"\",NETWORKDAYS(R437+1,P437,Hoja1!F429:F545)),0)","v":""},null,null,{"$f":"IFERROR(VLOOKUP(L437,Hoja1!$A$50:$C$63,2),\"\")","v":""},{"$f":"IFERROR(VLOOKUP(L437,Hoja1!$A$50:$C$63,3),\"\")","v":""}]
[null,null,null,null,null,null,null,null,null,null,null,null,null,null,null,null,null,null,null,null,null,{"$f":"IFERROR(WORKDAY(T438,AE438,Hoja1!F430:F546),\"\")","v":""},"",null,"",{"$f":"IF(P438=\"\",\"\",NETWORKDAYS(C438+1,P438,Hoja1!F430:F546))","v":""},{"$f":"IFERROR(IF(NETWORKDAYS(R438+1,P438,Hoja1!F430:F546)<=0,\"\",NETWORKDAYS(R438+1,P438,Hoja1!F430:F546)),0)","v":""},null,null,{"$f":"IFERROR(VLOOKUP(L438,Hoja1!$A$50:$C$63,2),\"\")","v":""},{"$f":"IFERROR(VLOOKUP(L438,Hoja1!$A$50:$C$63,3),\"\")","v":""}]
[null,null,null,null,null,null,null,null,null,null,null,null,null,null,null,null,null,null,null,null,null,{"$f":"IFERROR(WORKDAY(T439,AE439,Hoja1!F431:F547),\"\")","v":""},"",null,"",{"$f":"IF(P439=\"\",\"\",NETWORKDAYS(C439+1,P439,Hoja1!F431:F547))","v":""},{"$f":"IFERROR(IF(NETWORKDAYS(R439+1,P439,Hoja1!F431:F547)<=0,\"\",NETWORKDAYS(R439+1,P439,Hoja1!F431:F547)),0)","v":""},null,null,{"$f":"IFERROR(VLOOKUP(L439,Hoja1!$A$50:$C$63,2),\"\")","v":""},{"$f":"IFERROR(VLOOKUP(L439,Hoja1!$A$50:$C$63,3),\"\")","v":""}]
[null,null,null,null,null,null,null,null,null,null,null,null,null,null,null,null,null,null,null,null,null,{"$f":"IFERROR(WORKDAY(T440,AE440,Hoja1!F432:F548),\"\")","v":""},"",null,"",{"$f":"IF(P440=\"\",\"\",NETWORKDAYS(C440+1,P440,Hoja1!F432:F548))","v":""},{"$f":"IFERROR(IF(NETWORKDAYS(R440+1,P440,Hoja1!F432:F548)<=0,\"\",NETWORKDAYS(R440+1,P440,Hoja1!F432:F548)),0)","v":""},null,null,{"$f":"IFERROR(VLOOKUP(L440,Hoja1!$A$50:$C$63,2),\"\")","v":""},{"$f":"IFERROR(VLOOKUP(L440,Hoja1!$A$50:$C$63,3),\"\")","v":""}]
[null,null,null,null,null,null,null,null,null,null,null,null,null,null,null,null,null,null,null,null,null,{"$f":"IFERROR(WORKDAY(T441,AE441,Hoja1!F433:F549),\"\")","v":""},"",null,"",{"$f":"IF(P441=\"\",\"\",NETWORKDAYS(C441+1,P441,Hoja1!F433:F549))","v":""},{"$f":"IFERROR(IF(NETWORKDAYS(R441+1,P441,Hoja1!F433:F549)<=0,\"\",NETWORKDAYS(R441+1,P441,Hoja1!F433:F549)),0)","v":""},null,null,{"$f":"IFERROR(VLOOKUP(L441,Hoja1!$A$50:$C$63,2),\"\")","v":""},{"$f":"IFERROR(VLOOKUP(L441,Hoja1!$A$50:$C$63,3),\"\")","v":""}]
[null,null,null,null,null,null,null,null,null,null,null,null,null,null,null,null,null,null,null,null,null,{"$f":"IFERROR(WORKDAY(T442,AE442,Hoja1!F434:F550),\"\")","v":""},"",null,"",{"$f":"IF(P442=\"\",\"\",NETWORKDAYS(C442+1,P442,Hoja1!F434:F550))","v":""},{"$f":"IFERROR(IF(NETWORKDAYS(R442+1,P442,Hoja1!F434:F550)<=0,\"\",NETWORKDAYS(R442+1,P442,Hoja1!F434:F550)),0)","v":""},null,null,{"$f":"IFERROR(VLOOKUP(L442,Hoja1!$A$50:$C$63,2),\"\")","v":""},{"$f":"IFERROR(VLOOKUP(L442,Hoja1!$A$50:$C$63,3),\"\")","v":""}]
[null,null,null,null,null,null,null,null,null,null,null,null,null,null,null,null,null,null,null,null,null,{"$f":"IFERROR(WORKDAY(T443,AE443,Hoja1!F435:F551),\"\")","v":""},"",null,"",{"$f":"IF(P443=\"\",\"\",NETWORKDAYS(C443+1,P443,Hoja1!F435:F551))","v":""},{"$f":"IFERROR(IF(NETWORKDAYS(R443+1,P443,Hoja1!F435:F551)<=0,\"\",NETWORKDAYS(R443+1,P443,Hoja1!F435:F551)),0)","v":""},null,null,{"$f":"IFERROR(VLOOKUP(L443,Hoja1!$A$50:$C$63,2),\"\")","v":""},{"$f":"IFERROR(VLOOKUP(L443,Hoja1!$A$50:$C$63,3),\"\")","v":""}]
[null,null,null,null,null,null,null,null,null,null,null,null,null,null,null,null,null,null,null,null,null,{"$f":"IFERROR(WORKDAY(T444,AE444,Hoja1!F436:F552),\"\")","v":""},"",null,"",{"$f":"IF(P444=\"\",\"\",NETWORKDAYS(C444+1,P444,Hoja1!F436:F552))","v":""},{"$f":"IFERROR(IF(NETWORKDAYS(R444+1,P444,Hoja1!F436:F552)<=0,\"\",NETWORKDAYS(R444+1,P444,Hoja1!F436:F552)),0)","v":""},null,null,{"$f":"IFERROR(VLOOKUP(L444,Hoja1!$A$50:$C$63,2),\"\")","v":""},{"$f":"IFERROR(VLOOKUP(L444,Hoja1!$A$50:$C$63,3),\"\")","v":""}]
[null,null,null,null,null,null,null,null,null,null,null,null,null,null,null,null,null,null,null,null,null,{"$f":"IFERROR(WORKDAY(T445,AE445,Hoja1!F437:F553),\"\")","v":""},"",null,"",{"$f":"IF(P445=\"\",\"\",NETWORKDAYS(C445+1,P445,Hoja1!F437:F553))","v":""},{"$f":"IFERROR(IF(NETWORKDAYS(R445+1,P445,Hoja1!F437:F553)<=0,\"\",NETWORKDAYS(R445+1,P445,Hoja1!F437:F553)),0)","v":""},null,null,{"$f":"IFERROR(VLOOKUP(L445,Hoja1!$A$50:$C$63,2),\"\")","v":""},{"$f":"IFERROR(VLOOKUP(L445,Hoja1!$A$50:$C$63,3),\"\")","v":""}]
[null,null,null,null,null,null,null,null,null,null,null,null,null,null,null,null,null,null,null,null,null,{"$f":"IFERROR(WORKDAY(T446,AE446,Hoja1!F438:F554),\"\")","v":""},"",null,"",{"$f":"IF(P446=\"\",\"\",NETWORKDAYS(C446+1,P446,Hoja1!F438:F554))","v":""},{"$f":"IFERROR(IF(NETWORKDAYS(R446+1,P446,Hoja1!F438:F554)<=0,\"\",NETWORKDAYS(R446+1,P446,Hoja1!F438:F554)),0)","v":""},null,null,{"$f":"IFERROR(VLOOKUP(L446,Hoja1!$A$50:$C$63,2),\"\")","v":""},{"$f":"IFERROR(VLOOKUP(L446,Hoja1!$A$50:$C$63,3),\"\")","v":""}]
[null,null,null,null,null,null,null,null,null,null,null,null,null,null,null,null,null,null,null,null,null,{"$f":"IFERROR(WORKDAY(T447,AE447,Hoja1!F439:F555),\"\")","v":""},"",null,"",{"$f":"IF(P447=\"\",\"\",NETWORKDAYS(C447+1,P447,Hoja1!F439:F555))","v":""},{"$f":"IFERROR(IF(NETWORKDAYS(R447+1,P447,Hoja1!F439:F555)<=0,\"\",NETWORKDAYS(R447+1,P447,Hoja1!F439:F555)),0)","v":""},null,null,{"$f":"IFERROR(VLOOKUP(L447,Hoja1!$A$50:$C$63,2),\"\")","v":""},{"$f":"IFERROR(VLOOKUP(L447,Hoja1!$A$50:$C$63,3),\"\")","v":""}]
[null,null,null,null,null,null,null,null,null,null,null,null,null,null,null,null,null,null,null,null,null,{"$f":"IFERROR(WORKDAY(T448,AE448,Hoja1!F440:F556),\"\")","v":""},"",null,"",{"$f":"IF(P448=\"\",\"\",NETWORKDAYS(C448+1,P448,Hoja1!F440:F556))","v":""},{"$f":"IFERROR(IF(NETWORKDAYS(R448+1,P448,Hoja1!F440:F556)<=0,\"\",NETWORKDAYS(R448+1,P448,Hoja1!F440:F556)),0)","v":""},null,null,{"$f":"IFERROR(VLOOKUP(L448,Hoja1!$A$50:$C$63,2),\"\")","v":""},{"$f":"IFERROR(VLOOKUP(L448,Hoja1!$A$50:$C$63,3),\"\")","v":""}]
[null,null,null,null,null,null,null,null,null,null,null,null,null,null,null,null,null,null,null,null,null,{"$f":"IFERROR(WORKDAY(T449,AE449,Hoja1!F441:F557),\"\")","v":""},"",null,"",{"$f":"IF(P449=\"\",\"\",NETWORKDAYS(C449+1,P449,Hoja1!F441:F557))","v":""},{"$f":"IFERROR(IF(NETWORKDAYS(R449+1,P449,Hoja1!F441:F557)<=0,\"\",NETWORKDAYS(R449+1,P449,Hoja1!F441:F557)),0)","v":""},null,null,{"$f":"IFERROR(VLOOKUP(L449,Hoja1!$A$50:$C$63,2),\"\")","v":""},{"$f":"IFERROR(VLOOKUP(L449,Hoja1!$A$50:$C$63,3),\"\")","v":""}]
[null,null,null,null,null,null,null,null,null,null,null,null,null,null,null,null,null,null,null,null,null,{"$f":"IFERROR(WORKDAY(T450,AE450,Hoja1!F442:F558),\"\")","v":""},"",null,"",{"$f":"IF(P450=\"\",\"\",NETWORKDAYS(C450+1,P450,Hoja1!F442:F558))","v":""},{"$f":"IFERROR(IF(NETWORKDAYS(R450+1,P450,Hoja1!F442:F558)<=0,\"\",NETWORKDAYS(R450+1,P450,Hoja1!F442:F558)),0)","v":""},null,null,{"$f":"IFERROR(VLOOKUP(L450,Hoja1!$A$50:$C$63,2),\"\")","v":""},{"$f":"IFERROR(VLOOKUP(L450,Hoja1!$A$50:$C$63,3),\"\")","v":""}]
[null,null,null,null,null,null,null,null,null,null,null,null,null,null,null,null,null,null,null,null,null,{"$f":"IFERROR(WORKDAY(T451,AE451,Hoja1!F443:F559),\"\")","v":""},"",null,"",{"$f":"IF(P451=\"\",\"\",NETWORKDAYS(C451+1,P451,Hoja1!F443:F559))","v":""},{"$f":"IFERROR(IF(NETWORKDAYS(R451+1,P451,Hoja1!F443:F559)<=0,\"\",NETWORKDAYS(R451+1,P451,Hoja1!F443:F559)),0)","v":""},null,null,{"$f":"IFERROR(VLOOKUP(L451,Hoja1!$A$50:$C$63,2),\"\")","v":""},{"$f":"IFERROR(VLOOKUP(L451,Hoja1!$A$50:$C$63,3),\"\")","v":""}]
[null,null,null,null,null,null,null,null,null,null,null,null,null,null,null,null,null,null,null,null,null,{"$f":"IFERROR(WORKDAY(T452,AE452,Hoja1!F444:F560),\"\")","v":""},"",null,"",{"$f":"IF(P452=\"\",\"\",NETWORKDAYS(C452+1,P452,Hoja1!F444:F560))","v":""},{"$f":"IFERROR(IF(NETWORKDAYS(R452+1,P452,Hoja1!F444:F560)<=0,\"\",NETWORKDAYS(R452+1,P452,Hoja1!F444:F560)),0)","v":""},null,null,{"$f":"IFERROR(VLOOKUP(L452,Hoja1!$A$50:$C$63,2),\"\")","v":""},{"$f":"IFERROR(VLOOKUP(L452,Hoja1!$A$50:$C$63,3),\"\")","v":""}]
[null,null,null,null,null,null,null,null,null,null,null,null,null,null,null,null,null,null,null,null,null,{"$f":"IFERROR(WORKDAY(T453,AE453,Hoja1!F445:F561),\"\")","v":""},"",null,"",{"$f":"IF(P453=\"\",\"\",NETWORKDAYS(C453+1,P453,Hoja1!F445:F561))","v":""},{"$f":"IFERROR(IF(NETWORKDAYS(R453+1,P453,Hoja1!F445:F561)<=0,\"\",NETWORKDAYS(R453+1,P453,Hoja1!F445:F561)),0)","v":""},null,null,{"$f":"IFERROR(VLOOKUP(L453,Hoja1!$A$50:$C$63,2),\"\")","v":""},{"$f":"IFERROR(VLOOKUP(L453,Hoja1!$A$50:$C$63,3),\"\")","v":""}]
[null,null,null,null,null,null,null,null,null,null,null,null,null,null,null,null,null,null,null,null,null,{"$f":"IFERROR(WORKDAY(T454,AE454,Hoja1!F446:F562),\"\")","v":""},"",null,"",{"$f":"IF(P454=\"\",\"\",NETWORKDAYS(C454+1,P454,Hoja1!F446:F562))","v":""},{"$f":"IFERROR(IF(NETWORKDAYS(R454+1,P454,Hoja1!F446:F562)<=0,\"\",NETWORKDAYS(R454+1,P454,Hoja1!F446:F562)),0)","v":""},null,null,{"$f":"IFERROR(VLOOKUP(L454,Hoja1!$A$50:$C$63,2),\"\")","v":""},{"$f":"IFERROR(VLOOKUP(L454,Hoja1!$A$50:$C$63,3),\"\")","v":""}]
[null,null,null,null,null,null,null,null,null,null,null,null,null,null,null,null,null,null,null,null,null,{"$f":"IFERROR(WORKDAY(T455,AE455,Hoja1!F447:F563),\"\")","v":""},"",null,"",{"$f":"IF(P455=\"\",\"\",NETWORKDAYS(C455+1,P455,Hoja1!F447:F563))","v":""},{"$f":"IFERROR(IF(NETWORKDAYS(R455+1,P455,Hoja1!F447:F563)<=0,\"\",NETWORKDAYS(R455+1,P455,Hoja1!F447:F563)),0)","v":""},null,null,{"$f":"IFERROR(VLOOKUP(L455,Hoja1!$A$50:$C$63,2),\"\")","v":""},{"$f":"IFERROR(VLOOKUP(L455,Hoja1!$A$50:$C$63,3),\"\")","v":""}]
[null,null,null,null,null,null,null,null,null,null,null,null,null,null,null,null,null,null,null,null,null,{"$f":"IFERROR(WORKDAY(T456,AE456,Hoja1!F448:F564),\"\")","v":""},"",null,"",{"$f":"IF(P456=\"\",\"\",NETWORKDAYS(C456+1,P456,Hoja1!F448:F564))","v":""},{"$f":"IFERROR(IF(NETWORKDAYS(R456+1,P456,Hoja1!F448:F564)<=0,\"\",NETWORKDAYS(R456+1,P456,Hoja1!F448:F564)),0)","v":""},null,null,{"$f":"IFERROR(VLOOKUP(L456,Hoja1!$A$50:$C$63,2),\"\")","v":""},{"$f":"IFERROR(VLOOKUP(L456,Hoja1!$A$50:$C$63,3),\"\")","v":""}]
[null,null,null,null,null,null,null,null,null,null,null,null,null,null,null,null,null,null,null,null,null,{"$f":"IFERROR(WORKDAY(T457,AE457,Hoja1!F449:F565),\"\")","v":""},"",null,"",{"$f":"IF(P457=\"\",\"\",NETWORKDAYS(C457+1,P457,Hoja1!F449:F565))","v":""},{"$f":"IFERROR(IF(NETWORKDAYS(R457+1,P457,Hoja1!F449:F565)<=0,\"\",NETWORKDAYS(R457+1,P457,Hoja1!F449:F565)),0)","v":""},null,null,{"$f":"IFERROR(VLOOKUP(L457,Hoja1!$A$50:$C$63,2),\"\")","v":""},{"$f":"IFERROR(VLOOKUP(L457,Hoja1!$A$50:$C$63,3),\"\")","v":""}]
[null,null,null,null,null,null,null,null,null,null,null,null,null,null,null,null,null,null,null,null,null,{"$f":"IFERROR(WORKDAY(T458,AE458,Hoja1!F450:F566),\"\")","v":""},{"$f":"+IF(T458=\"\",\"\",IF(U458=\"\",\"SIN RESPUESTA\",(IF(U458<=V458,\"A TIEMPO\",\"FUERA DE TIEMPO\"))))","v":""},null,{"$f":"+IF(C458=\"\",\"\",IF(P458=\"\",\"SIN RESPUESTA\",(IF(P458<=R458,\"A TIEMPO\",\"FUERA DE TIEMPO\"))))","v":""},{"$f":"IF(P458=\"\",\"\",NETWORKDAYS(C458+1,P458,Hoja1!F450:F566))","v":""},{"$f":"IFERROR(IF(NETWORKDAYS(R458+1,P458,Hoja1!F450:F566)<=0,\"\",NETWORKDAYS(R458+1,P458,Hoja1!F450:F566)),0)","v":""},null,null,{"$f":"IFERROR(VLOOKUP(L458,Hoja1!$A$50:$C$63,2),\"\")","v":""},{"$f":"IFERROR(VLOOKUP(L458,Hoja1!$A$50:$C$63,3),\"\")","v":""}]
[null,null,null,null,null,null,null,null,null,null,null,null,null,null,null,null,null,null,null,null,null,{"$f":"IFERROR(WORKDAY(T459,AE459,Hoja1!F451:F567),\"\")","v":""},"",null,"",{"$f":"IF(P459=\"\",\"\",NETWORKDAYS(C459+1,P459,Hoja1!F451:F567))","v":""},{"$f":"IFERROR(IF(NETWORKDAYS(R459+1,P459,Hoja1!F451:F567)<=0,\"\",NETWORKDAYS(R459+1,P459,Hoja1!F451:F567)),0)","v":""},null,null,{"$f":"IFERROR(VLOOKUP(L459,Hoja1!$A$50:$C$63,2),\"\")","v":""},{"$f":"IFERROR(VLOOKUP(L459,Hoja1!$A$50:$C$63,3),\"\")","v":""}]
[null,null,null,null,null,null,null,null,null,null,null,null,null,null,null,null,null,null,null,null,null,{"$f":"IFERROR(WORKDAY(T460,AE460,Hoja1!F452:F568),\"\")","v":""},"",null,"",{"$f":"IF(P460=\"\",\"\",NETWORKDAYS(C460+1,P460,Hoja1!F452:F568))","v":""},{"$f":"IFERROR(IF(NETWORKDAYS(R460+1,P460,Hoja1!F452:F568)<=0,\"\",NETWORKDAYS(R460+1,P460,Hoja1!F452:F568)),0)","v":""},null,null,{"$f":"IFERROR(VLOOKUP(L460,Hoja1!$A$50:$C$63,2),\"\")","v":""},{"$f":"IFERROR(VLOOKUP(L460,Hoja1!$A$50:$C$63,3),\"\")","v":""}]
[null,null,null,null,null,null,null,null,null,null,null,null,null,null,null,null,null,null,null,null,null,{"$f":"IFERROR(WORKDAY(T461,AE461,Hoja1!F453:F569),\"\")","v":""},"",null,"",{"$f":"IF(P461=\"\",\"\",NETWORKDAYS(C461+1,P461,Hoja1!F453:F569))","v":""},{"$f":"IFERROR(IF(NETWORKDAYS(R461+1,P461,Hoja1!F453:F569)<=0,\"\",NETWORKDAYS(R461+1,P461,Hoja1!F453:F569)),0)","v":""},null,null,{"$f":"IFERROR(VLOOKUP(L461,Hoja1!$A$50:$C$63,2),\"\")","v":""},{"$f":"IFERROR(VLOOKUP(L461,Hoja1!$A$50:$C$63,3),\"\")","v":""}]
[null,null,null,null,null,null,null,null,null,null,null,null,null,null,null,null,null,null,null,null,null,{"$f":"IFERROR(WORKDAY(T462,AE462,Hoja1!F454:F570),\"\")","v":""},"",null,"",{"$f":"IF(P462=\"\",\"\",NETWORKDAYS(C462+1,P462,Hoja1!F454:F570))","v":""},{"$f":"IFERROR(IF(NETWORKDAYS(R462+1,P462,Hoja1!F454:F570)<=0,\"\",NETWORKDAYS(R462+1,P462,Hoja1!F454:F570)),0)","v":""},null,null,{"$f":"IFERROR(VLOOKUP(L462,Hoja1!$A$50:$C$63,2),\"\")","v":""},{"$f":"IFERROR(VLOOKUP(L462,Hoja1!$A$50:$C$63,3),\"\")","v":""}]
[null,null,null,null,null,null,null,null,null,null,null,null,null,null,null,null,null,null,null,null,null,{"$f":"IFERROR(WORKDAY(T463,AE463,Hoja1!F455:F571),\"\")","v":""},"",null,"",{"$f":"IF(P463=\"\",\"\",NETWORKDAYS(C463+1,P463,Hoja1!F455:F571))","v":""},{"$f":"IFERROR(IF(NETWORKDAYS(R463+1,P463,Hoja1!F455:F571)<=0,\"\",NETWORKDAYS(R463+1,P463,Hoja1!F455:F571)),0)","v":""},null,null,{"$f":"IFERROR(VLOOKUP(L463,Hoja1!$A$50:$C$63,2),\"\")","v":""},{"$f":"IFERROR(VLOOKUP(L463,Hoja1!$A$50:$C$63,3),\"\")","v":""}]
[null,null,null,null,null,null,null,null,null,null,null,null,null,null,null,null,null,null,null,null,null,{"$f":"IFERROR(WORKDAY(T464,AE464,Hoja1!F456:F572),\"\")","v":""},"",null,"",{"$f":"IF(P464=\"\",\"\",NETWORKDAYS(C464+1,P464,Hoja1!F456:F572))","v":""},{"$f":"IFERROR(IF(NETWORKDAYS(R464+1,P464,Hoja1!F456:F572)<=0,\"\",NETWORKDAYS(R464+1,P464,Hoja1!F456:F572)),0)","v":""},null,null,{"$f":"IFERROR(VLOOKUP(L464,Hoja1!$A$50:$C$63,2),\"\")","v":""},{"$f":"IFERROR(VLOOKUP(L464,Hoja1!$A$50:$C$63,3),\"\")","v":""}]
[null,null,null,null,null,null,null,null,null,null,null,null,null,null,null,null,null,null,null,null,null,{"$f":"IFERROR(WORKDAY(T465,AE465,Hoja1!F457:F573),\"\")","v":""},"",null,"",{"$f":"IF(P465=\"\",\"\",NETWORKDAYS(C465+1,P465,Hoja1!F457:F573))","v":""},{"$f":"IFERROR(IF(NETWORKDAYS(R465+1,P465,Hoja1!F457:F573)<=0,\"\",NETWORKDAYS(R465+1,P465,Hoja1!F457:F573)),0)","v":""},null,null,{"$f":"IFERROR(VLOOKUP(L465,Hoja1!$A$50:$C$63,2),\"\")","v":""},{"$f":"IFERROR(VLOOKUP(L465,Hoja1!$A$50:$C$63,3),\"\")","v":""}]
[null,null,null,null,null,null,null,null,null,null,null,null,null,null,null,null,null,null,null,null,null,{"$f":"IFERROR(WORKDAY(T466,AE466,Hoja1!F458:F574),\"\")","v":""},"",null,"",{"$f":"IF(P466=\"\",\"\",NETWORKDAYS(C466+1,P466,Hoja1!F458:F574))","v":""},{"$f":"IFERROR(IF(NETWORKDAYS(R466+1,P466,Hoja1!F458:F574)<=0,\"\",NETWORKDAYS(R466+1,P466,Hoja1!F458:F574)),0)","v":""},null,null,{"$f":"IFERROR(VLOOKUP(L466,Hoja1!$A$50:$C$63,2),\"\")","v":""},{"$f":"IFERROR(VLOOKUP(L466,Hoja1!$A$50:$C$63,3),\"\")","v":""}]
[null,null,null,null,null,null,null,null,null,null,null,null,null,null,null,null,null,null,null,null,null,{"$f":"IFERROR(WORKDAY(T467,AE467,Hoja1!F459:F575),\"\")","v":""},"",null,"",{"$f":"IF(P467=\"\",\"\",NETWORKDAYS(C467+1,P467,Hoja1!F459:F575))","v":""},{"$f":"IFERROR(IF(NETWORKDAYS(R467+1,P467,Hoja1!F459:F575)<=0,\"\",NETWORKDAYS(R467+1,P467,Hoja1!F459:F575)),0)","v":""},null,null,{"$f":"IFERROR(VLOOKUP(L467,Hoja1!$A$50:$C$63,2),\"\")","v":""},{"$f":"IFERROR(VLOOKUP(L467,Hoja1!$A$50:$C$63,3),\"\")","v":""}]
[null,null,null,null,null,null,null,null,null,null,null,null,null,null,null,null,null,null,null,null,null,{"$f":"IFERROR(WORKDAY(T468,AE468,Hoja1!F460:F576),\"\")","v":""},"",null,"",{"$f":"IF(P468=\"\",\"\",NETWORKDAYS(C468+1,P468,Hoja1!F460:F576))","v":""},{"$f":"IFERROR(IF(NETWORKDAYS(R468+1,P468,Hoja1!F460:F576)<=0,\"\",NETWORKDAYS(R468+1,P468,Hoja1!F460:F576)),0)","v":""},null,null,{"$f":"IFERROR(VLOOKUP(L468,Hoja1!$A$50:$C$63,2),\"\")","v":""},{"$f":"IFERROR(VLOOKUP(L468,Hoja1!$A$50:$C$63,3),\"\")","v":""}]
[null,null,null,null,null,null,null,null,null,null,null,null,null,null,null,null,null,null,null,null,null,{"$f":"IFERROR(WORKDAY(T469,AE469,Hoja1!F461:F577),\"\")","v":""},"",null,"",{"$f":"IF(P469=\"\",\"\",NETWORKDAYS(C469+1,P469,Hoja1!F461:F577))","v":""},{"$f":"IFERROR(IF(NETWORKDAYS(R469+1,P469,Hoja1!F461:F577)<=0,\"\",NETWORKDAYS(R469+1,P469,Hoja1!F461:F577)),0)","v":""},null,null,{"$f":"IFERROR(VLOOKUP(L469,Hoja1!$A$50:$C$63,2),\"\")","v":""},{"$f":"IFERROR(VLOOKUP(L469,Hoja1!$A$50:$C$63,3),\"\")","v":""}]
[null,null,null,null,null,null,null,null,null,null,null,null,null,null,null,null,null,null,null,null,null,{"$f":"IFERROR(WORKDAY(T470,AE470,Hoja1!F462:F578),\"\")","v":""},"",null,"",{"$f":"IF(P470=\"\",\"\",NETWORKDAYS(C470+1,P470,Hoja1!F462:F578))","v":""},{"$f":"IFERROR(IF(NETWORKDAYS(R470+1,P470,Hoja1!F462:F578)<=0,\"\",NETWORKDAYS(R470+1,P470,Hoja1!F462:F578)),0)","v":""},null,null,{"$f":"IFERROR(VLOOKUP(L470,Hoja1!$A$50:$C$63,2),\"\")","v":""},{"$f":"IFERROR(VLOOKUP(L470,Hoja1!$A$50:$C$63,3),\"\")","v":""}]
[null,null,null,null,null,null,null,null,null,null,null,null,null,null,null,null,null,null,null,null,null,{"$f":"IFERROR(WORKDAY(T471,AE471,Hoja1!F463:F579),\"\")","v":""},"",null,"",{"$f":"IF(P471=\"\",\"\",NETWORKDAYS(C471+1,P471,Hoja1!F463:F579))","v":""},{"$f":"IFERROR(IF(NETWORKDAYS(R471+1,P471,Hoja1!F463:F579)<=0,\"\",NETWORKDAYS(R471+1,P471,Hoja1!F463:F579)),0)","v":""},null,null,{"$f":"IFERROR(VLOOKUP(L471,Hoja1!$A$50:$C$63,2),\"\")","v":""},{"$f":"IFERROR(VLOOKUP(L471,Hoja1!$A$50:$C$63,3),\"\")","v":""}]
[null,null,null,null,null,null,null,null,null,null,null,null,null,null,null,null,null,null,null,null,null,{"$f":"IFERROR(WORKDAY(T472,AE472,Hoja1!F464:F580),\"\")","v":""},"",null,"",{"$f":"IF(P472=\"\",\"\",NETWORKDAYS(C472+1,P472,Hoja1!F464:F580))","v":""},{"$f":"IFERROR(IF(NETWORKDAYS(R472+1,P472,Hoja1!F464:F580)<=0,\"\",NETWORKDAYS(R472+1,P472,Hoja1!F464:F580)),0)","v":""},null,null,{"$f":"IFERROR(VLOOKUP(L472,Hoja1!$A$50:$C$63,2),\"\")","v":""},{"$f":"IFERROR(VLOOKUP(L472,Hoja1!$A$50:$C$63,3),\"\")","v":""}]
[null,null,null,null,null,null,null,null,null,null,null,null,null,null,null,null,null,null,null,null,null,{"$f":"IFERROR(WORKDAY(T473,AE473,Hoja1!F465:F581),\"\")","v":""},"",null,"",{"$f":"IF(P473=\"\",\"\",NETWORKDAYS(C473+1,P473,Hoja1!F465:F581))","v":""},{"$f":"IFERROR(IF(NETWORKDAYS(R473+1,P473,Hoja1!F465:F581)<=0,\"\",NETWORKDAYS(R473+1,P473,Hoja1!F465:F581)),0)","v":""},null,null,{"$f":"IFERROR(VLOOKUP(L473,Hoja1!$A$50:$C$63,2),\"\")","v":""},{"$f":"IFERROR(VLOOKUP(L473,Hoja1!$A$50:$C$63,3),\"\")","v":""}]
[null,null,null,null,null,null,null,null,null,null,null,null,null,null,null,null,null,null,null,null,null,{"$f":"IFERROR(WORKDAY(T474,AE474,Hoja1!F466:F582),\"\")","v":""},"",null,"",{"$f":"IF(P474=\"\",\"\",NETWORKDAYS(C474+1,P474,Hoja1!F466:F582))","v":""},{"$f":"IFERROR(IF(NETWORKDAYS(R474+1,P474,Hoja1!F466:F582)<=0,\"\",NETWORKDAYS(R474+1,P474,Hoja1!F466:F582)),0)","v":""},null,null,{"$f":"IFERROR(VLOOKUP(L474,Hoja1!$A$50:$C$63,2),\"\")","v":""},{"$f":"IFERROR(VLOOKUP(L474,Hoja1!$A$50:$C$63,3),\"\")","v":""}]
[null,null,null,null,null,null,null,null,null,null,null,null,null,null,null,null,null,null,null,null,null,{"$f":"IFERROR(WORKDAY(T475,AE475,Hoja1!F467:F583),\"\")","v":""},"",null,"",{"$f":"IF(P475=\"\",\"\",NETWORKDAYS(C475+1,P475,Hoja1!F467:F583))","v":""},{"$f":"IFERROR(IF(NETWORKDAYS(R475+1,P475,Hoja1!F467:F583)<=0,\"\",NETWORKDAYS(R475+1,P475,Hoja1!F467:F583)),0)","v":""},null,null,{"$f":"IFERROR(VLOOKUP(L475,Hoja1!$A$50:$C$63,2),\"\")","v":""},{"$f":"IFERROR(VLOOKUP(L475,Hoja1!$A$50:$C$63,3),\"\")","v":""}]
[null,null,null,null,null,null,null,null,null,null,null,null,null,null,null,null,null,null,null,null,null,{"$f":"IFERROR(WORKDAY(T476,AE476,Hoja1!F468:F584),\"\")","v":""},"",null,"",{"$f":"IF(P476=\"\",\"\",NETWORKDAYS(C476+1,P476,Hoja1!F468:F584))","v":""},{"$f":"IFERROR(IF(NETWORKDAYS(R476+1,P476,Hoja1!F468:F584)<=0,\"\",NETWORKDAYS(R476+1,P476,Hoja1!F468:F584)),0)","v":""},null,null,{"$f":"IFERROR(VLOOKUP(L476,Hoja1!$A$50:$C$63,2),\"\")","v":""},{"$f":"IFERROR(VLOOKUP(L476,Hoja1!$A$50:$C$63,3),\"\")","v":""}]
[null,null,null,null,null,null,null,null,null,null,null,null,null,null,null,null,null,null,null,null,null,{"$f":"IFERROR(WORKDAY(T477,AE477,Hoja1!F469:F585),\"\")","v":""},"",null,"",{"$f":"IF(P477=\"\",\"\",NETWORKDAYS(C477+1,P477,Hoja1!F469:F585))","v":""},{"$f":"IFERROR(IF(NETWORKDAYS(R477+1,P477,Hoja1!F469:F585)<=0,\"\",NETWORKDAYS(R477+1,P477,Hoja1!F469:F585)),0)","v":""},null,null,{"$f":"IFERROR(VLOOKUP(L477,Hoja1!$A$50:$C$63,2),\"\")","v":""},{"$f":"IFERROR(VLOOKUP(L477,Hoja1!$A$50:$C$63,3),\"\")","v":""}]
[null,null,null,null,null,null,null,null,null,null,null,null,null,null,null,null,null,null,null,null,null,{"$f":"IFERROR(WORKDAY(T478,AE478,Hoja1!F470:F586),\"\")","v":""},"",null,"",{"$f":"IF(P478=\"\",\"\",NETWORKDAYS(C478+1,P478,Hoja1!F470:F586))","v":""},{"$f":"IFERROR(IF(NETWORKDAYS(R478+1,P478,Hoja1!F470:F586)<=0,\"\",NETWORKDAYS(R478+1,P478,Hoja1!F470:F586)),0)","v":""},null,null,{"$f":"IFERROR(VLOOKUP(L478,Hoja1!$A$50:$C$63,2),\"\")","v":""},{"$f":"IFERROR(VLOOKUP(L478,Hoja1!$A$50:$C$63,3),\"\")","v":""}]
[null,null,null,null,null,null,null,null,null,null,null,null,null,null,null,null,null,null,null,null,null,{"$f":"IFERROR(WORKDAY(T479,AE479,Hoja1!F471:F587),\"\")","v":""},"",null,"",{"$f":"IF(P479=\"\",\"\",NETWORKDAYS(C479+1,P479,Hoja1!F471:F587))","v":""},{"$f":"IFERROR(IF(NETWORKDAYS(R479+1,P479,Hoja1!F471:F587)<=0,\"\",NETWORKDAYS(R479+1,P479,Hoja1!F471:F587)),0)","v":""},null,null,{"$f":"IFERROR(VLOOKUP(L479,Hoja1!$A$50:$C$63,2),\"\")","v":""},{"$f":"IFERROR(VLOOKUP(L479,Hoja1!$A$50:$C$63,3),\"\")","v":""}]
[null,null,null,null,null,null,null,null,null,null,null,null,null,null,null,null,null,null,null,null,null,{"$f":"IFERROR(WORKDAY(T480,AE480,Hoja1!F472:F588),\"\")","v":""},"",null,"",{"$f":"IF(P480=\"\",\"\",NETWORKDAYS(C480+1,P480,Hoja1!F472:F588))","v":""},{"$f":"IFERROR(IF(NETWORKDAYS(R480+1,P480,Hoja1!F472:F588)<=0,\"\",NETWORKDAYS(R480+1,P480,Hoja1!F472:F588)),0)","v":""},null,null,{"$f":"IFERROR(VLOOKUP(L480,Hoja1!$A$50:$C$63,2),\"\")","v":""},{"$f":"IFERROR(VLOOKUP(L480,Hoja1!$A$50:$C$63,3),\"\")","v":""}]
[null,null,null,null,null,null,null,null,null,null,null,null,null,null,null,null,null,null,null,null,null,{"$f":"IFERROR(WORKDAY(T481,AE481,Hoja1!F473:F589),\"\")","v":""},"",null,"",{"$f":"IF(P481=\"\",\"\",NETWORKDAYS(C481+1,P481,Hoja1!F473:F589))","v":""},{"$f":"IFERROR(IF(NETWORKDAYS(R481+1,P481,Hoja1!F473:F589)<=0,\"\",NETWORKDAYS(R481+1,P481,Hoja1!F473:F589)),0)","v":""},null,null,{"$f":"IFERROR(VLOOKUP(L481,Hoja1!$A$50:$C$63,2),\"\")","v":""},{"$f":"IFERROR(VLOOKUP(L481,Hoja1!$A$50:$C$63,3),\"\")","v":""}]
[null,null,null,null,null,null,null,null,null,null,null,null,null,null,null,null,null,null,null,null,null,{"$f":"IFERROR(WORKDAY(T482,AE482,Hoja1!F474:F590),\"\")","v":""},"",null,"",{"$f":"IF(P482=\"\",\"\",NETWORKDAYS(C482+1,P482,Hoja1!F474:F590))","v":""},{"$f":"IFERROR(IF(NETWORKDAYS(R482+1,P482,Hoja1!F474:F590)<=0,\"\",NETWORKDAYS(R482+1,P482,Hoja1!F474:F590)),0)","v":""},null,null,{"$f":"IFERROR(VLOOKUP(L482,Hoja1!$A$50:$C$63,2),\"\")","v":""},{"$f":"IFERROR(VLOOKUP(L482,Hoja1!$A$50:$C$63,3),\"\")","v":""}]
[null,null,null,null,null,null,null,null,null,null,null,null,null,null,null,null,null,null,null,null,null,{"$f":"IFERROR(WORKDAY(T483,AE483,Hoja1!F475:F591),\"\")","v":""},"",null,"",{"$f":"IF(P483=\"\",\"\",NETWORKDAYS(C483+1,P483,Hoja1!F475:F591))","v":""},{"$f":"IFERROR(IF(NETWORKDAYS(R483+1,P483,Hoja1!F475:F591)<=0,\"\",NETWORKDAYS(R483+1,P483,Hoja1!F475:F591)),0)","v":""},null,null,{"$f":"IFERROR(VLOOKUP(L483,Hoja1!$A$50:$C$63,2),\"\")","v":""},{"$f":"IFERROR(VLOOKUP(L483,Hoja1!$A$50:$C$63,3),\"\")","v":""}]
[null,null,null,null,null,null,null,null,null,null,null,null,null,null,null,null,null,null,null,null,null,{"$f":"IFERROR(WORKDAY(T484,AE484,Hoja1!F476:F592),\"\")","v":""},"",null,"",{"$f":"IF(P484=\"\",\"\",NETWORKDAYS(C484+1,P484,Hoja1!F476:F592))","v":""},{"$f":"IFERROR(IF(NETWORKDAYS(R484+1,P484,Hoja1!F476:F592)<=0,\"\",NETWORKDAYS(R484+1,P484,Hoja1!F476:F592)),0)","v":""},null,null,{"$f":"IFERROR(VLOOKUP(L484,Hoja1!$A$50:$C$63,2),\"\")","v":""},{"$f":"IFERROR(VLOOKUP(L484,Hoja1!$A$50:$C$63,3),\"\")","v":""}]
[null,null,null,null,null,null,null,null,null,null,null,null,null,null,null,null,null,null,null,null,null,{"$f":"IFERROR(WORKDAY(T485,AE485,Hoja1!F477:F593),\"\")","v":""},"",null,"",{"$f":"IF(P485=\"\",\"\",NETWORKDAYS(C485+1,P485,Hoja1!F477:F593))","v":""},{"$f":"IFERROR(IF(NETWORKDAYS(R485+1,P485,Hoja1!F477:F593)<=0,\"\",NETWORKDAYS(R485+1,P485,Hoja1!F477:F593)),0)","v":""},null,null,{"$f":"IFERROR(VLOOKUP(L485,Hoja1!$A$50:$C$63,2),\"\")","v":""},{"$f":"IFERROR(VLOOKUP(L485,Hoja1!$A$50:$C$63,3),\"\")","v":""}]
[null,null,null,null,null,null,null,null,null,null,null,null,null,null,null,null,null,null,null,null,null,{"$f":"IFERROR(WORKDAY(T486,AE486,Hoja1!F478:F594),\"\")","v":""},"",null,"",{"$f":"IF(P486=\"\",\"\",NETWORKDAYS(C486+1,P486,Hoja1!F478:F594))","v":""},{"$f":"IFERROR(IF(NETWORKDAYS(R486+1,P486,Hoja1!F478:F594)<=0,\"\",NETWORKDAYS(R486+1,P486,Hoja1!F478:F594)),0)","v":""},null,null,{"$f":"IFERROR(VLOOKUP(L486,Hoja1!$A$50:$C$63,2),\"\")","v":""},{"$f":"IFERROR(VLOOKUP(L486,Hoja1!$A$50:$C$63,3),\"\")","v":""}]
[null,null,null,null,null,null,null,null,null,null,null,null,null,null,null,null,null,null,null,null,null,{"$f":"IFERROR(WORKDAY(T487,AE487,Hoja1!F479:F595),\"\")","v":""},"",null,"",{"$f":"IF(P487=\"\",\"\",NETWORKDAYS(C487+1,P487,Hoja1!F479:F595))","v":""},{"$f":"IFERROR(IF(NETWORKDAYS(R487+1,P487,Hoja1!F479:F595)<=0,\"\",NETWORKDAYS(R487+1,P487,Hoja1!F479:F595)),0)","v":""},null,null,{"$f":"IFERROR(VLOOKUP(L487,Hoja1!$A$50:$C$63,2),\"\")","v":""},{"$f":"IFERROR(VLOOKUP(L487,Hoja1!$A$50:$C$63,3),\"\")","v":""}]
[null,null,null,null,null,null,null,null,null,null,null,null,null,null,null,null,null,null,null,null,null,{"$f":"IFERROR(WORKDAY(T488,AE488,Hoja1!F480:F596),\"\")","v":""},"",null,"",{"$f":"IF(P488=\"\",\"\",NETWORKDAYS(C488+1,P488,Hoja1!F480:F596))","v":""},{"$f":"IFERROR(IF(NETWORKDAYS(R488+1,P488,Hoja1!F480:F596)<=0,\"\",NETWORKDAYS(R488+1,P488,Hoja1!F480:F596)),0)","v":""},null,null,{"$f":"IFERROR(VLOOKUP(L488,Hoja1!$A$50:$C$63,2),\"\")","v":""},{"$f":"IFERROR(VLOOKUP(L488,Hoja1!$A$50:$C$63,3),\"\")","v":""}]
[null,null,null,null,null,null,null,null,null,null,null,null,null,null,null,null,null,null,null,null,null,{"$f":"IFERROR(WORKDAY(T489,AE489,Hoja1!F481:F597),\"\")","v":""},"",null,"",{"$f":"IF(P489=\"\",\"\",NETWORKDAYS(C489+1,P489,Hoja1!F481:F597))","v":""},{"$f":"IFERROR(IF(NETWORKDAYS(R489+1,P489,Hoja1!F481:F597)<=0,\"\",NETWORKDAYS(R489+1,P489,Hoja1!F481:F597)),0)","v":""},null,null,{"$f":"IFERROR(VLOOKUP(L489,Hoja1!$A$50:$C$63,2),\"\")","v":""},{"$f":"IFERROR(VLOOKUP(L489,Hoja1!$A$50:$C$63,3),\"\")","v":""}]
[null,null,null,null,null,null,null,null,null,null,null,null,null,null,null,null,null,null,null,null,null,{"$f":"IFERROR(WORKDAY(T490,AE490,Hoja1!F482:F598),\"\")","v":""},"",null,"",{"$f":"IF(P490=\"\",\"\",NETWORKDAYS(C490+1,P490,Hoja1!F482:F598))","v":""},{"$f":"IFERROR(IF(NETWORKDAYS(R490+1,P490,Hoja1!F482:F598)<=0,\"\",NETWORKDAYS(R490+1,P490,Hoja1!F482:F598)),0)","v":""},null,null,{"$f":"IFERROR(VLOOKUP(L490,Hoja1!$A$50:$C$63,2),\"\")","v":""},{"$f":"IFERROR(VLOOKUP(L490,Hoja1!$A$50:$C$63,3),\"\")","v":""}]
[null,null,null,null,null,null,null,null,null,null,null,null,null,null,null,null,null,null,null,null,null,{"$f":"IFERROR(WORKDAY(T491,AE491,Hoja1!F483:F599),\"\")","v":""},"",null,"",{"$f":"IF(P491=\"\",\"\",NETWORKDAYS(C491+1,P491,Hoja1!F483:F599))","v":""},{"$f":"IFERROR(IF(NETWORKDAYS(R491+1,P491,Hoja1!F483:F599)<=0,\"\",NETWORKDAYS(R491+1,P491,Hoja1!F483:F599)),0)","v":""},null,null,{"$f":"IFERROR(VLOOKUP(L491,Hoja1!$A$50:$C$63,2),\"\")","v":""},{"$f":"IFERROR(VLOOKUP(L491,Hoja1!$A$50:$C$63,3),\"\")","v":""}]
[null,null,null,null,null,null,null,null,null,null,null,null,null,null,null,null,null,null,null,null,null,{"$f":"IFERROR(WORKDAY(T492,AE492,Hoja1!F484:F600),\"\")","v":""},"",null,"",{"$f":"IF(P492=\"\",\"\",NETWORKDAYS(C492+1,P492,Hoja1!F484:F600))","v":""},{"$f":"IFERROR(IF(NETWORKDAYS(R492+1,P492,Hoja1!F484:F600)<=0,\"\",NETWORKDAYS(R492+1,P492,Hoja1!F484:F600)),0)","v":""},null,null,{"$f":"IFERROR(VLOOKUP(L492,Hoja1!$A$50:$C$63,2),\"\")","v":""},{"$f":"IFERROR(VLOOKUP(L492,Hoja1!$A$50:$C$63,3),\"\")","v":""}]
[null,null,null,null,null,null,null,null,null,null,null,null,null,null,null,null,null,null,null,null,null,{"$f":"IFERROR(WORKDAY(T493,AE493,Hoja1!F485:F601),\"\")","v":""},"",null,"",{"$f":"IF(P493=\"\",\"\",NETWORKDAYS(C493+1,P493,Hoja1!F485:F601))","v":""},{"$f":"IFERROR(IF(NETWORKDAYS(R493+1,P493,Hoja1!F485:F601)<=0,\"\",NETWORKDAYS(R493+1,P493,Hoja1!F485:F601)),0)","v":""},null,null,{"$f":"IFERROR(VLOOKUP(L493,Hoja1!$A$50:$C$63,2),\"\")","v":""},{"$f":"IFERROR(VLOOKUP(L493,Hoja1!$A$50:$C$63,3),\"\")","v":""}]
[null,null,null,null,null,null,null,null,null,null,null,null,null,null,null,null,null,null,null,null,null,{"$f":"IFERROR(WORKDAY(T494,AE494,Hoja1!F486:F602),\"\")","v":""},"",null,"",{"$f":"IF(P494=\"\",\"\",NETWORKDAYS(C494+1,P494,Hoja1!F486:F602))","v":""},{"$f":"IFERROR(IF(NETWORKDAYS(R494+1,P494,Hoja1!F486:F602)<=0,\"\",NETWORKDAYS(R494+1,P494,Hoja1!F486:F602)),0)","v":""},null,null,{"$f":"IFERROR(VLOOKUP(L494,Hoja1!$A$50:$C$63,2),\"\")","v":""},{"$f":"IFERROR(VLOOKUP(L494,Hoja1!$A$50:$C$63,3),\"\")","v":""}]
[null,null,null,null,null,null,null,null,null,null,null,null,null,null,null,null,null,null,null,null,null,{"$f":"IFERROR(WORKDAY(T495,AE495,Hoja1!F487:F603),\"\")","v":""},"",null,"",{"$f":"IF(P495=\"\",\"\",NETWORKDAYS(C495+1,P495,Hoja1!F487:F603))","v":""},{"$f":"IFERROR(IF(NETWORKDAYS(R495+1,P495,Hoja1!F487:F603)<=0,\"\",NETWORKDAYS(R495+1,P495,Hoja1!F487:F603)),0)","v":""},null,null,{"$f":"IFERROR(VLOOKUP(L495,Hoja1!$A$50:$C$63,2),\"\")","v":""},{"$f":"IFERROR(VLOOKUP(L495,Hoja1!$A$50:$C$63,3),\"\")","v":""}]
[null,null,null,null,null,null,null,null,null,null,null,null,null,null,null,null,null,null,null,null,null,{"$f":"IFERROR(WORKDAY(T496,AE496,Hoja1!F488:F604),\"\")","v":""},"",null,"",{"$f":"IF(P496=\"\",\"\",NETWORKDAYS(C496+1,P496,Hoja1!F488:F604))","v":""},{"$f":"IFERROR(IF(NETWORKDAYS(R496+1,P496,Hoja1!F488:F604)<=0,\"\",NETWORKDAYS(R496+1,P496,Hoja1!F488:F604)),0)","v":""},null,null,{"$f":"IFERROR(VLOOKUP(L496,Hoja1!$A$50:$C$63,2),\"\")","v":""},{"$f":"IFERROR(VLOOKUP(L496,Hoja1!$A$50:$C$63,3),\"\")","v":""}]
[null,null,null,null,null,null,null,null,null,null,null,null,null,null,null,null,null,null,null,null,null,{"$f":"IFERROR(WORKDAY(T497,AE497,Hoja1!F489:F605),\"\")","v":""},"",null,"",{"$f":"IF(P497=\"\",\"\",NETWORKDAYS(C497+1,P497,Hoja1!F489:F605))","v":""},{"$f":"IFERROR(IF(NETWORKDAYS(R497+1,P497,Hoja1!F489:F605)<=0,\"\",NETWORKDAYS(R497+1,P497,Hoja1!F489:F605)),0)","v":""},null,null,{"$f":"IFERROR(VLOOKUP(L497,Hoja1!$A$50:$C$63,2),\"\")","v":""},{"$f":"IFERROR(VLOOKUP(L497,Hoja1!$A$50:$C$63,3),\"\")","v":""}]
[null,null,null,null,null,null,null,null,null,null,null,null,null,null,null,null,null,null,null,null,null,{"$f":"IFERROR(WORKDAY(T498,AE498,Hoja1!F490:F606),\"\")","v":""},"",null,"",{"$f":"IF(P498=\"\",\"\",NETWORKDAYS(C498+1,P498,Hoja1!F490:F606))","v":""},{"$f":"IFERROR(IF(NETWORKDAYS(R498+1,P498,Hoja1!F490:F606)<=0,\"\",NETWORKDAYS(R498+1,P498,Hoja1!F490:F606)),0)","v":""},null,null,{"$f":"IFERROR(VLOOKUP(L498,Hoja1!$A$50:$C$63,2),\"\")","v":""},{"$f":"IFERROR(VLOOKUP(L498,Hoja1!$A$50:$C$63,3),\"\")","v":""}]
[null,null,null,null,null,null,null,null,null,null,null,null,null,null,null,null,null,null,null,null,null,{"$f":"IFERROR(WORKDAY(T499,AE499,Hoja1!F491:F607),\"\")","v":""},"",null,"",{"$f":"IF(P499=\"\",\"\",NETWORKDAYS(C499+1,P499,Hoja1!F491:F607))","v":""},{"$f":"IFERROR(IF(NETWORKDAYS(R499+1,P499,Hoja1!F491:F607)<=0,\"\",NETWORKDAYS(R499+1,P499,Hoja1!F491:F607)),0)","v":""},null,null,{"$f":"IFERROR(VLOOKUP(L499,Hoja1!$A$50:$C$63,2),\"\")","v":""},{"$f":"IFERROR(VLOOKUP(L499,Hoja1!$A$50:$C$63,3),\"\")","v":""}]
[null,null,null,null,null,null,null,null,null,null,null,null,null,null,null,null,null,null,null,null,null,{"$f":"IFERROR(WORKDAY(T500,AE500,Hoja1!F492:F608),\"\")","v":""},"",null,"",{"$f":"IF(P500=\"\",\"\",NETWORKDAYS(C500+1,P500,Hoja1!F492:F608))","v":""},{"$f":"IFERROR(IF(NETWORKDAYS(R500+1,P500,Hoja1!F492:F608)<=0,\"\",NETWORKDAYS(R500+1,P500,Hoja1!F492:F608)),0)","v":""},null,null,{"$f":"IFERROR(VLOOKUP(L500,Hoja1!$A$50:$C$63,2),\"\")","v":""},{"$f":"IFERROR(VLOOKUP(L500,Hoja1!$A$50:$C$63,3),\"\")","v":""}]
[null,null,null,null,null,null,null,null,null,null,null,null,null,null,null,null,null,null,null,null,null,{"$f":"IFERROR(WORKDAY(T501,AE501,Hoja1!F493:F609),\"\")","v":""},"",null,"",{"$f":"IF(P501=\"\",\"\",NETWORKDAYS(C501+1,P501,Hoja1!F493:F609))","v":""},{"$f":"IFERROR(IF(NETWORKDAYS(R501+1,P501,Hoja1!F493:F609)<=0,\"\",NETWORKDAYS(R501+1,P501,Hoja1!F493:F609)),0)","v":""},null,null,{"$f":"IFERROR(VLOOKUP(L501,Hoja1!$A$50:$C$63,2),\"\")","v":""},{"$f":"IFERROR(VLOOKUP(L501,Hoja1!$A$50:$C$63,3),\"\")","v":""}]
[null,null,null,null,null,null,null,null,null,null,null,null,null,null,null,null,null,null,null,null,null,{"$f":"IFERROR(WORKDAY(T502,AE502,Hoja1!F494:F610),\"\")","v":""},"",null,"",{"$f":"IF(P502=\"\",\"\",NETWORKDAYS(C502+1,P502,Hoja1!F494:F610))","v":""},{"$f":"IFERROR(IF(NETWORKDAYS(R502+1,P502,Hoja1!F494:F610)<=0,\"\",NETWORKDAYS(R502+1,P502,Hoja1!F494:F610)),0)","v":""},null,null,{"$f":"IFERROR(VLOOKUP(L502,Hoja1!$A$50:$C$63,2),\"\")","v":""},{"$f":"IFERROR(VLOOKUP(L502,Hoja1!$A$50:$C$63,3),\"\")","v":""}]
[null,null,null,null,null,null,null,null,null,null,null,null,null,null,null,null,null,null,null,null,null,{"$f":"IFERROR(WORKDAY(T503,AE503,Hoja1!F495:F611),\"\")","v":""},"",null,"",{"$f":"IF(P503=\"\",\"\",NETWORKDAYS(C503+1,P503,Hoja1!F495:F611))","v":""},{"$f":"IFERROR(IF(NETWORKDAYS(R503+1,P503,Hoja1!F495:F611)<=0,\"\",NETWORKDAYS(R503+1,P503,Hoja1!F495:F611)),0)","v":""},null,null,{"$f":"IFERROR(VLOOKUP(L503,Hoja1!$A$50:$C$63,2),\"\")","v":""},{"$f":"IFERROR(VLOOKUP(L503,Hoja1!$A$50:$C$63,3),\"\")","v":""}]
[null,null,null,null,null,null,null,null,null,null,null,null,null,null,null,null,null,null,null,null,null,{"$f":"IFERROR(WORKDAY(T504,AE504,Hoja1!F496:F612),\"\")","v":""},"",null,"",{"$f":"IF(P504=\"\",\"\",NETWORKDAYS(C504+1,P504,Hoja1!F496:F612))","v":""},{"$f":"IFERROR(IF(NETWORKDAYS(R504+1,P504,Hoja1!F496:F612)<=0,\"\",NETWORKDAYS(R504+1,P504,Hoja1!F496:F612)),0)","v":""},null,null,{"$f":"IFERROR(VLOOKUP(L504,Hoja1!$A$50:$C$63,2),\"\")","v":""},{"$f":"IFERROR(VLOOKUP(L504,Hoja1!$A$50:$C$63,3),\"\")","v":""}]
[null,null,null,null,null,null,null,null,null,null,null,null,null,null,null,null,null,null,null,null,null,{"$f":"IFERROR(WORKDAY(T505,AE505,Hoja1!F497:F613),\"\")","v":""},"",null,"",{"$f":"IF(P505=\"\",\"\",NETWORKDAYS(C505+1,P505,Hoja1!F497:F613))","v":""},{"$f":"IFERROR(IF(NETWORKDAYS(R505+1,P505,Hoja1!F497:F613)<=0,\"\",NETWORKDAYS(R505+1,P505,Hoja1!F497:F613)),0)","v":""},null,null,{"$f":"IFERROR(VLOOKUP(L505,Hoja1!$A$50:$C$63,2),\"\")","v":""},{"$f":"IFERROR(VLOOKUP(L505,Hoja1!$A$50:$C$63,3),\"\")","v":""}]
[null,null,null,null,null,null,null,null,null,null,null,null,null,null,null,null,null,null,null,null,null,{"$f":"IFERROR(WORKDAY(T506,AE506,Hoja1!F498:F614),\"\")","v":""},"",null,"",{"$f":"IF(P506=\"\",\"\",NETWORKDAYS(C506+1,P506,Hoja1!F498:F614))","v":""},{"$f":"IFERROR(IF(NETWORKDAYS(R506+1,P506,Hoja1!F498:F614)<=0,\"\",NETWORKDAYS(R506+1,P506,Hoja1!F498:F614)),0)","v":""},null,null,{"$f":"IFERROR(VLOOKUP(L506,Hoja1!$A$50:$C$63,2),\"\")","v":""},{"$f":"IFERROR(VLOOKUP(L506,Hoja1!$A$50:$C$63,3),\"\")","v":""}]
[null,null,null,null,null,null,null,null,null,null,null,null,null,null,null,null,null,null,null,null,null,{"$f":"IFERROR(WORKDAY(T507,AE507,Hoja1!F499:F615),\"\")","v":""},"",null,"",{"$f":"IF(P507=\"\",\"\",NETWORKDAYS(C507+1,P507,Hoja1!F499:F615))","v":""},{"$f":"IFERROR(IF(NETWORKDAYS(R507+1,P507,Hoja1!F499:F615)<=0,\"\",NETWORKDAYS(R507+1,P507,Hoja1!F499:F615)),0)","v":""},null,null,{"$f":"IFERROR(VLOOKUP(L507,Hoja1!$A$50:$C$63,2),\"\")","v":""},{"$f":"IFERROR(VLOOKUP(L507,Hoja1!$A$50:$C$63,3),\"\")","v":""}]
[null,null,null,null,null,null,null,null,null,null,null,null,null,null,null,null,null,null,null,null,null,{"$f":"IFERROR(WORKDAY(T508,AE508,Hoja1!F500:F616),\"\")","v":""},"",null,"",{"$f":"IF(P508=\"\",\"\",NETWORKDAYS(C508+1,P508,Hoja1!F500:F616))","v":""},{"$f":"IFERROR(IF(NETWORKDAYS(R508+1,P508,Hoja1!F500:F616)<=0,\"\",NETWORKDAYS(R508+1,P508,Hoja1!F500:F616)),0)","v":""},null,null,{"$f":"IFERROR(VLOOKUP(L508,Hoja1!$A$50:$C$63,2),\"\")","v":""},{"$f":"IFERROR(VLOOKUP(L508,Hoja1!$A$50:$C$63,3),\"\")","v":""}]
[null,null,null,null,null,null,null,null,null,null,null,null,null,null,null,null,null,null,null,null,null,{"$f":"IFERROR(WORKDAY(T509,AE509,Hoja1!F501:F617),\"\")","v":""},"",null,"",{"$f":"IF(P509=\"\",\"\",NETWORKDAYS(C509+1,P509,Hoja1!F501:F617))","v":""},{"$f":"IFERROR(IF(NETWORKDAYS(R509+1,P509,Hoja1!F501:F617)<=0,\"\",NETWORKDAYS(R509+1,P509,Hoja1!F501:F617)),0)","v":""},null,null,{"$f":"IFERROR(VLOOKUP(L509,Hoja1!$A$50:$C$63,2),\"\")","v":""},{"$f":"IFERROR(VLOOKUP(L509,Hoja1!$A$50:$C$63,3),\"\")","v":""}]
[null,null,null,null,null,null,null,null,null,null,null,null,null,null,null,null,null,null,null,null,null,{"$f":"IFERROR(WORKDAY(T510,AE510,Hoja1!F502:F618),\"\")","v":""},"",null,"",{"$f":"IF(P510=\"\",\"\",NETWORKDAYS(C510+1,P510,Hoja1!F502:F618))","v":""},{"$f":"IFERROR(IF(NETWORKDAYS(R510+1,P510,Hoja1!F502:F618)<=0,\"\",NETWORKDAYS(R510+1,P510,Hoja1!F502:F618)),0)","v":""},null,null,{"$f":"IFERROR(VLOOKUP(L510,Hoja1!$A$50:$C$63,2),\"\")","v":""},{"$f":"IFERROR(VLOOKUP(L510,Hoja1!$A$50:$C$63,3),\"\")","v":""}]
[null,null,null,null,null,null,null,null,null,null,null,null,null,null,null,null,null,null,null,null,null,{"$f":"IFERROR(WORKDAY(T511,AE511,Hoja1!F503:F619),\"\")","v":""},"",null,"",{"$f":"IF(P511=\"\",\"\",NETWORKDAYS(C511+1,P511,Hoja1!F503:F619))","v":""},{"$f":"IFERROR(IF(NETWORKDAYS(R511+1,P511,Hoja1!F503:F619)<=0,\"\",NETWORKDAYS(R511+1,P511,Hoja1!F503:F619)),0)","v":""},null,null,{"$f":"IFERROR(VLOOKUP(L511,Hoja1!$A$50:$C$63,2),\"\")","v":""},{"$f":"IFERROR(VLOOKUP(L511,Hoja1!$A$50:$C$63,3),\"\")","v":""}]
[null,null,null,null,null,null,null,null,null,null,null,null,null,null,null,null,null,null,null,null,null,{"$f":"IFERROR(WORKDAY(T512,AE512,Hoja1!F504:F620),\"\")","v":""},"",null,"",{"$f":"IF(P512=\"\",\"\",NETWORKDAYS(C512+1,P512,Hoja1!F504:F620))","v":""},{"$f":"IFERROR(IF(NETWORKDAYS(R512+1,P512,Hoja1!F504:F620)<=0,\"\",NETWORKDAYS(R512+1,P512,Hoja1!F504:F620)),0)","v":""},null,null,{"$f":"IFERROR(VLOOKUP(L512,Hoja1!$A$50:$C$63,2),\"\")","v":""},{"$f":"IFERROR(VLOOKUP(L512,Hoja1!$A$50:$C$63,3),\"\")","v":""}]
[null,null,null,null,null,null,null,null,null,null,null,null,null,null,null,null,null,null,null,null,null,{"$f":"IFERROR(WORKDAY(T513,AE513,Hoja1!F505:F621),\"\")","v":""},"",null,"",{"$f":"IF(P513=\"\",\"\",NETWORKDAYS(C513+1,P513,Hoja1!F505:F621))","v":""},{"$f":"IFERROR(IF(NETWORKDAYS(R513+1,P513,Hoja1!F505:F621)<=0,\"\",NETWORKDAYS(R513+1,P513,Hoja1!F505:F621)),0)","v":""},null,null,{"$f":"IFERROR(VLOOKUP(L513,Hoja1!$A$50:$C$63,2),\"\")","v":""},{"$f":"IFERROR(VLOOKUP(L513,Hoja1!$A$50:$C$63,3),\"\")","v":""}]
[null,null,null,null,null,null,null,null,null,null,null,null,null,null,null,null,null,null,null,null,null,{"$f":"IFERROR(WORKDAY(T514,AE514,Hoja1!F506:F622),\"\")","v":""},"",null,"",{"$f":"IF(P514=\"\",\"\",NETWORKDAYS(C514+1,P514,Hoja1!F506:F622))","v":""},{"$f":"IFERROR(IF(NETWORKDAYS(R514+1,P514,Hoja1!F506:F622)<=0,\"\",NETWORKDAYS(R514+1,P514,Hoja1!F506:F622)),0)","v":""},null,null,{"$f":"IFERROR(VLOOKUP(L514,Hoja1!$A$50:$C$63,2),\"\")","v":""},{"$f":"IFERROR(VLOOKUP(L514,Hoja1!$A$50:$C$63,3),\"\")","v":""}]
[null,null,null,null,null,null,null,null,null,null,null,null,null,null,null,null,null,null,null,null,null,{"$f":"IFERROR(WORKDAY(T515,AE515,Hoja1!F507:F623),\"\")","v":""},"",null,"",{"$f":"IF(P515=\"\",\"\",NETWORKDAYS(C515+1,P515,Hoja1!F507:F623))","v":""},{"$f":"IFERROR(IF(NETWORKDAYS(R515+1,P515,Hoja1!F507:F623)<=0,\"\",NETWORKDAYS(R515+1,P515,Hoja1!F507:F623)),0)","v":""},null,null,{"$f":"IFERROR(VLOOKUP(L515,Hoja1!$A$50:$C$63,2),\"\")","v":""},{"$f":"IFERROR(VLOOKUP(L515,Hoja1!$A$50:$C$63,3),\"\")","v":""}]
[null,null,null,null,null,null,null,null,null,null,null,null,null,null,null,null,null,null,null,null,null,{"$f":"IFERROR(WORKDAY(T516,AE516,Hoja1!F508:F624),\"\")","v":""},"",null,"",{"$f":"IF(P516=\"\",\"\",NETWORKDAYS(C516+1,P516,Hoja1!F508:F624))","v":""},{"$f":"IFERROR(IF(NETWORKDAYS(R516+1,P516,Hoja1!F508:F624)<=0,\"\",NETWORKDAYS(R516+1,P516,Hoja1!F508:F624)),0)","v":""},null,null,{"$f":"IFERROR(VLOOKUP(L516,Hoja1!$A$50:$C$63,2),\"\")","v":""},{"$f":"IFERROR(VLOOKUP(L516,Hoja1!$A$50:$C$63,3),\"\")","v":""}]
[null,null,null,null,null,null,null,null,null,null,null,null,null,null,null,null,null,null,null,null,null,{"$f":"IFERROR(WORKDAY(T517,AE517,Hoja1!F509:F625),\"\")","v":""},"",null,"",{"$f":"IF(P517=\"\",\"\",NETWORKDAYS(C517+1,P517,Hoja1!F509:F625))","v":""},{"$f":"IFERROR(IF(NETWORKDAYS(R517+1,P517,Hoja1!F509:F625)<=0,\"\",NETWORKDAYS(R517+1,P517,Hoja1!F509:F625)),0)","v":""},null,null,{"$f":"IFERROR(VLOOKUP(L517,Hoja1!$A$50:$C$63,2),\"\")","v":""},{"$f":"IFERROR(VLOOKUP(L517,Hoja1!$A$50:$C$63,3),\"\")","v":""}]
[null,null,null,null,null,null,null,null,null,null,null,null,null,null,null,null,null,null,null,null,null,{"$f":"IFERROR(WORKDAY(T518,AE518,Hoja1!F510:F626),\"\")","v":""},"",null,"",{"$f":"IF(P518=\"\",\"\",NETWORKDAYS(C518+1,P518,Hoja1!F510:F626))","v":""},{"$f":"IFERROR(IF(NETWORKDAYS(R518+1,P518,Hoja1!F510:F626)<=0,\"\",NETWORKDAYS(R518+1,P518,Hoja1!F510:F626)),0)","v":""},null,null,{"$f":"IFERROR(VLOOKUP(L518,Hoja1!$A$50:$C$63,2),\"\")","v":""},{"$f":"IFERROR(VLOOKUP(L518,Hoja1!$A$50:$C$63,3),\"\")","v":""}]
[null,null,null,null,null,null,null,null,null,null,null,null,null,null,null,null,null,null,null,null,null,{"$f":"IFERROR(WORKDAY(T519,AE519,Hoja1!F511:F627),\"\")","v":""},"",null,"",{"$f":"IF(P519=\"\",\"\",NETWORKDAYS(C519+1,P519,Hoja1!F511:F627))","v":""},{"$f":"IFERROR(IF(NETWORKDAYS(R519+1,P519,Hoja1!F511:F627)<=0,\"\",NETWORKDAYS(R519+1,P519,Hoja1!F511:F627)),0)","v":""},null,null,{"$f":"IFERROR(VLOOKUP(L519,Hoja1!$A$50:$C$63,2),\"\")","v":""},{"$f":"IFERROR(VLOOKUP(L519,Hoja1!$A$50:$C$63,3),\"\")","v":""}]
[null,null,null,null,null,null,null,null,null,null,null,null,null,null,null,null,null,null,null,null,null,{"$f":"IFERROR(WORKDAY(T520,AE520,Hoja1!F512:F628),\"\")","v":""},"",null,"",{"$f":"IF(P520=\"\",\"\",NETWORKDAYS(C520+1,P520,Hoja1!F512:F628))","v":""},{"$f":"IFERROR(IF(NETWORKDAYS(R520+1,P520,Hoja1!F512:F628)<=0,\"\",NETWORKDAYS(R520+1,P520,Hoja1!F512:F628)),0)","v":""},null,null,{"$f":"IFERROR(VLOOKUP(L520,Hoja1!$A$50:$C$63,2),\"\")","v":""},{"$f":"IFERROR(VLOOKUP(L520,Hoja1!$A$50:$C$63,3),\"\")","v":""}]
[null,null,null,null,null,null,null,null,null,null,null,null,null,null,null,null,null,null,null,null,null,{"$f":"IFERROR(WORKDAY(T521,AE521,Hoja1!F513:F629),\"\")","v":""},"",null,"",{"$f":"IF(P521=\"\",\"\",NETWORKDAYS(C521+1,P521,Hoja1!F513:F629))","v":""},{"$f":"IFERROR(IF(NETWORKDAYS(R521+1,P521,Hoja1!F513:F629)<=0,\"\",NETWORKDAYS(R521+1,P521,Hoja1!F513:F629)),0)","v":""},null,null,{"$f":"IFERROR(VLOOKUP(L521,Hoja1!$A$50:$C$63,2),\"\")","v":""},{"$f":"IFERROR(VLOOKUP(L521,Hoja1!$A$50:$C$63,3),\"\")","v":""}]
[null,null,null,null,null,null,null,null,null,null,null,null,null,null,null,null,null,null,null,null,null,{"$f":"IFERROR(WORKDAY(T522,AE522,Hoja1!F514:F630),\"\")","v":""},{"$f":"+IF(T522=\"\",\"\",IF(U522=\"\",\"SIN RESPUESTA\",(IF(U522<=V522,\"A TIEMPO\",\"FUERA DE TIEMPO\"))))","v":""},null,{"$f":"+IF(C522=\"\",\"\",IF(P522=\"\",\"SIN RESPUESTA\",(IF(P522<=R522,\"A TIEMPO\",\"FUERA DE TIEMPO\"))))","v":""},{"$f":"IF(P522=\"\",\"\",NETWORKDAYS(C522+1,P522,Hoja1!F514:F630))","v":""},{"$f":"IFERROR(IF(NETWORKDAYS(R522+1,P522,Hoja1!F514:F630)<=0,\"\",NETWORKDAYS(R522+1,P522,Hoja1!F514:F630)),0)","v":""},null,null,{"$f":"IFERROR(VLOOKUP(L522,Hoja1!$A$50:$C$63,2),\"\")","v":""},{"$f":"IFERROR(VLOOKUP(L522,Hoja1!$A$50:$C$63,3),\"\")","v":""}]
[null,null,null,null,null,null,null,null,null,null,null,null,null,null,null,null,null,null,null,null,null,{"$f":"IFERROR(WORKDAY(T523,AE523,Hoja1!F515:F631),\"\")","v":""},"",null,"",{"$f":"IF(P523=\"\",\"\",NETWORKDAYS(C523+1,P523,Hoja1!F515:F631))","v":""},{"$f":"IFERROR(IF(NETWORKDAYS(R523+1,P523,Hoja1!F515:F631)<=0,\"\",NETWORKDAYS(R523+1,P523,Hoja1!F515:F631)),0)","v":""},null,null,{"$f":"IFERROR(VLOOKUP(L523,Hoja1!$A$50:$C$63,2),\"\")","v":""},{"$f":"IFERROR(VLOOKUP(L523,Hoja1!$A$50:$C$63,3),\"\")","v":""}]
[null,null,null,null,null,null,null,null,null,null,null,null,null,null,null,null,null,null,null,null,null,{"$f":"IFERROR(WORKDAY(T524,AE524,Hoja1!F516:F632),\"\")","v":""},"",null,"",{"$f":"IF(P524=\"\",\"\",NETWORKDAYS(C524+1,P524,Hoja1!F516:F632))","v":""},{"$f":"IFERROR(IF(NETWORKDAYS(R524+1,P524,Hoja1!F516:F632)<=0,\"\",NETWORKDAYS(R524+1,P524,Hoja1!F516:F632)),0)","v":""},null,null,{"$f":"IFERROR(VLOOKUP(L524,Hoja1!$A$50:$C$63,2),\"\")","v":""},{"$f":"IFERROR(VLOOKUP(L524,Hoja1!$A$50:$C$63,3),\"\")","v":""}]
[null,null,null,null,null,null,null,null,null,null,null,null,null,null,null,null,null,null,null,null,null,{"$f":"IFERROR(WORKDAY(T525,AE525,Hoja1!F517:F633),\"\")","v":""},"",null,"",{"$f":"IF(P525=\"\",\"\",NETWORKDAYS(C525+1,P525,Hoja1!F517:F633))","v":""},{"$f":"IFERROR(IF(NETWORKDAYS(R525+1,P525,Hoja1!F517:F633)<=0,\"\",NETWORKDAYS(R525+1,P525,Hoja1!F517:F633)),0)","v":""},null,null,{"$f":"IFERROR(VLOOKUP(L525,Hoja1!$A$50:$C$63,2),\"\")","v":""},{"$f":"IFERROR(VLOOKUP(L525,Hoja1!$A$50:$C$63,3),\"\")","v":""}]
[null,null,null,null,null,null,null,null,null,null,null,null,null,null,null,null,null,null,null,null,null,{"$f":"IFERROR(WORKDAY(T526,AE526,Hoja1!F518:F634),\"\")","v":""},"",null,"",{"$f":"IF(P526=\"\",\"\",NETWORKDAYS(C526+1,P526,Hoja1!F518:F634))","v":""},{"$f":"IFERROR(IF(NETWORKDAYS(R526+1,P526,Hoja1!F518:F634)<=0,\"\",NETWORKDAYS(R526+1,P526,Hoja1!F518:F634)),0)","v":""},null,null,{"$f":"IFERROR(VLOOKUP(L526,Hoja1!$A$50:$C$63,2),\"\")","v":""},{"$f":"IFERROR(VLOOKUP(L526,Hoja1!$A$50:$C$63,3),\"\")","v":""}]
[null,null,null,null,null,null,null,null,null,null,null,null,null,null,null,null,null,null,null,null,null,{"$f":"IFERROR(WORKDAY(T527,AE527,Hoja1!F519:F635),\"\")","v":""},"",null,"",{"$f":"IF(P527=\"\",\"\",NETWORKDAYS(C527+1,P527,Hoja1!F519:F635))","v":""},{"$f":"IFERROR(IF(NETWORKDAYS(R527+1,P527,Hoja1!F519:F635)<=0,\"\",NETWORKDAYS(R527+1,P527,Hoja1!F519:F635)),0)","v":""},null,null,{"$f":"IFERROR(VLOOKUP(L527,Hoja1!$A$50:$C$63,2),\"\")","v":""},{"$f":"IFERROR(VLOOKUP(L527,Hoja1!$A$50:$C$63,3),\"\")","v":""}]
[null,null,null,null,null,null,null,null,null,null,null,null,null,null,null,null,null,null,null,null,null,{"$f":"IFERROR(WORKDAY(T528,AE528,Hoja1!F520:F636),\"\")","v":""},"",null,"",{"$f":"IF(P528=\"\",\"\",NETWORKDAYS(C528+1,P528,Hoja1!F520:F636))","v":""},{"$f":"IFERROR(IF(NETWORKDAYS(R528+1,P528,Hoja1!F520:F636)<=0,\"\",NETWORKDAYS(R528+1,P528,Hoja1!F520:F636)),0)","v":""},null,null,{"$f":"IFERROR(VLOOKUP(L528,Hoja1!$A$50:$C$63,2),\"\")","v":""},{"$f":"IFERROR(VLOOKUP(L528,Hoja1!$A$50:$C$63,3),\"\")","v":""}]
[null,null,null,null,null,null,null,null,null,null,null,null,null,null,null,null,null,null,null,null,null,{"$f":"IFERROR(WORKDAY(T529,AE529,Hoja1!F521:F637),\"\")","v":""},"",null,"",{"$f":"IF(P529=\"\",\"\",NETWORKDAYS(C529+1,P529,Hoja1!F521:F637))","v":""},{"$f":"IFERROR(IF(NETWORKDAYS(R529+1,P529,Hoja1!F521:F637)<=0,\"\",NETWORKDAYS(R529+1,P529,Hoja1!F521:F637)),0)","v":""},null,null,{"$f":"IFERROR(VLOOKUP(L529,Hoja1!$A$50:$C$63,2),\"\")","v":""},{"$f":"IFERROR(VLOOKUP(L529,Hoja1!$A$50:$C$63,3),\"\")","v":""}]
[null,null,null,null,null,null,null,null,null,null,null,null,null,null,null,null,null,null,null,null,null,{"$f":"IFERROR(WORKDAY(T530,AE530,Hoja1!F522:F638),\"\")","v":""},"",null,"",{"$f":"IF(P530=\"\",\"\",NETWORKDAYS(C530+1,P530,Hoja1!F522:F638))","v":""},{"$f":"IFERROR(IF(NETWORKDAYS(R530+1,P530,Hoja1!F522:F638)<=0,\"\",NETWORKDAYS(R530+1,P530,Hoja1!F522:F638)),0)","v":""},null,null,{"$f":"IFERROR(VLOOKUP(L530,Hoja1!$A$50:$C$63,2),\"\")","v":""},{"$f":"IFERROR(VLOOKUP(L530,Hoja1!$A$50:$C$63,3),\"\")","v":""}]
[null,null,null,null,null,null,null,null,null,null,null,null,null,null,null,null,null,null,null,null,null,{"$f":"IFERROR(WORKDAY(T531,AE531,Hoja1!F523:F639),\"\")","v":""},"",null,"",{"$f":"IF(P531=\"\",\"\",NETWORKDAYS(C531+1,P531,Hoja1!F523:F639))","v":""},{"$f":"IFERROR(IF(NETWORKDAYS(R531+1,P531,Hoja1!F523:F639)<=0,\"\",NETWORKDAYS(R531+1,P531,Hoja1!F523:F639)),0)","v":""},null,null,{"$f":"IFERROR(VLOOKUP(L531,Hoja1!$A$50:$C$63,2),\"\")","v":""},{"$f":"IFERROR(VLOOKUP(L531,Hoja1!$A$50:$C$63,3),\"\")","v":""}]
[null,null,null,null,null,null,null,null,null,null,null,null,null,null,null,null,null,null,null,null,null,{"$f":"IFERROR(WORKDAY(T532,AE532,Hoja1!F524:F640),\"\")","v":""},"",null,"",{"$f":"IF(P532=\"\",\"\",NETWORKDAYS(C532+1,P532,Hoja1!F524:F640))","v":""},{"$f":"IFERROR(IF(NETWORKDAYS(R532+1,P532,Hoja1!F524:F640)<=0,\"\",NETWORKDAYS(R532+1,P532,Hoja1!F524:F640)),0)","v":""},null,null,{"$f":"IFERROR(VLOOKUP(L532,Hoja1!$A$50:$C$63,2),\"\")","v":""},{"$f":"IFERROR(VLOOKUP(L532,Hoja1!$A$50:$C$63,3),\"\")","v":""}]
[null,null,null,null,null,null,null,null,null,null,null,null,null,null,null,null,null,null,null,null,null,{"$f":"IFERROR(WORKDAY(T533,AE533,Hoja1!F525:F641),\"\")","v":""},"",null,"",{"$f":"IF(P533=\"\",\"\",NETWORKDAYS(C533+1,P533,Hoja1!F525:F641))","v":""},{"$f":"IFERROR(IF(NETWORKDAYS(R533+1,P533,Hoja1!F525:F641)<=0,\"\",NETWORKDAYS(R533+1,P533,Hoja1!F525:F641)),0)","v":""},null,null,{"$f":"IFERROR(VLOOKUP(L533,Hoja1!$A$50:$C$63,2),\"\")","v":""},{"$f":"IFERROR(VLOOKUP(L533,Hoja1!$A$50:$C$63,3),\"\")","v":""}]
[null,null,null,null,null,null,null,null,null,null,null,null,null,null,null,null,null,null,null,null,null,{"$f":"IFERROR(WORKDAY(T534,AE534,Hoja1!F526:F642),\"\")","v":""},"",null,"",{"$f":"IF(P534=\"\",\"\",NETWORKDAYS(C534+1,P534,Hoja1!F526:F642))","v":""},{"$f":"IFERROR(IF(NETWORKDAYS(R534+1,P534,Hoja1!F526:F642)<=0,\"\",NETWORKDAYS(R534+1,P534,Hoja1!F526:F642)),0)","v":""},null,null,{"$f":"IFERROR(VLOOKUP(L534,Hoja1!$A$50:$C$63,2),\"\")","v":""},{"$f":"IFERROR(VLOOKUP(L534,Hoja1!$A$50:$C$63,3),\"\")","v":""}]
[null,null,null,null,null,null,null,null,null,null,null,null,null,null,null,null,null,null,null,null,null,{"$f":"IFERROR(WORKDAY(T535,AE535,Hoja1!F527:F643),\"\")","v":""},"",null,"",{"$f":"IF(P535=\"\",\"\",NETWORKDAYS(C535+1,P535,Hoja1!F527:F643))","v":""},{"$f":"IFERROR(IF(NETWORKDAYS(R535+1,P535,Hoja1!F527:F643)<=0,\"\",NETWORKDAYS(R535+1,P535,Hoja1!F527:F643)),0)","v":""},null,null,{"$f":"IFERROR(VLOOKUP(L535,Hoja1!$A$50:$C$63,2),\"\")","v":""},{"$f":"IFERROR(VLOOKUP(L535,Hoja1!$A$50:$C$63,3),\"\")","v":""}]
[null,null,null,null,null,null,null,null,null,null,null,null,null,null,null,null,null,null,null,null,null,{"$f":"IFERROR(WORKDAY(T536,AE536,Hoja1!F528:F644),\"\")","v":""},"",null,"",{"$f":"IF(P536=\"\",\"\",NETWORKDAYS(C536+1,P536,Hoja1!F528:F644))","v":""},{"$f":"IFERROR(IF(NETWORKDAYS(R536+1,P536,Hoja1!F528:F644)<=0,\"\",NETWORKDAYS(R536+1,P536,Hoja1!F528:F644)),0)","v":""},null,null,{"$f":"IFERROR(VLOOKUP(L536,Hoja1!$A$50:$C$63,2),\"\")","v":""},{"$f":"IFERROR(VLOOKUP(L536,Hoja1!$A$50:$C$63,3),\"\")","v":""}]
[null,null,null,null,null,null,null,null,null,null,null,null,null,null,null,null,null,null,null,null,null,{"$f":"IFERROR(WORKDAY(T537,AE537,Hoja1!F529:F645),\"\")","v":""},"",null,"",{"$f":"IF(P537=\"\",\"\",NETWORKDAYS(C537+1,P537,Hoja1!F529:F645))","v":""},{"$f":"IFERROR(IF(NETWORKDAYS(R537+1,P537,Hoja1!F529:F645)<=0,\"\",NETWORKDAYS(R537+1,P537,Hoja1!F529:F645)),0)","v":""},null,null,{"$f":"IFERROR(VLOOKUP(L537,Hoja1!$A$50:$C$63,2),\"\")","v":""},{"$f":"IFERROR(VLOOKUP(L537,Hoja1!$A$50:$C$63,3),\"\")","v":""}]
[null,null,null,null,null,null,null,null,null,null,null,null,null,null,null,null,null,null,null,null,null,{"$f":"IFERROR(WORKDAY(T538,AE538,Hoja1!F530:F646),\"\")","v":""},"",null,"",{"$f":"IF(P538=\"\",\"\",NETWORKDAYS(C538+1,P538,Hoja1!F530:F646))","v":""},{"$f":"IFERROR(IF(NETWORKDAYS(R538+1,P538,Hoja1!F530:F646)<=0,\"\",NETWORKDAYS(R538+1,P538,Hoja1!F530:F646)),0)","v":""},null,null,{"$f":"IFERROR(VLOOKUP(L538,Hoja1!$A$50:$C$63,2),\"\")","v":""},{"$f":"IFERROR(VLOOKUP(L538,Hoja1!$A$50:$C$63,3),\"\")","v":""}]
[null,null,null,null,null,null,null,null,null,null,null,null,null,null,null,null,null,null,null,null,null,{"$f":"IFERROR(WORKDAY(T539,AE539,Hoja1!F531:F647),\"\")","v":""},"",null,"",{"$f":"IF(P539=\"\",\"\",NETWORKDAYS(C539+1,P539,Hoja1!F531:F647))","v":""},{"$f":"IFERROR(IF(NETWORKDAYS(R539+1,P539,Hoja1!F531:F647)<=0,\"\",NETWORKDAYS(R539+1,P539,Hoja1!F531:F647)),0)","v":""},null,null,{"$f":"IFERROR(VLOOKUP(L539,Hoja1!$A$50:$C$63,2),\"\")","v":""},{"$f":"IFERROR(VLOOKUP(L539,Hoja1!$A$50:$C$63,3),\"\")","v":""}]
[null,null,null,null,null,null,null,null,null,null,null,null,null,null,null,null,null,null,null,null,null,{"$f":"IFERROR(WORKDAY(T540,AE540,Hoja1!F532:F648),\"\")","v":""},"",null,"",{"$f":"IF(P540=\"\",\"\",NETWORKDAYS(C540+1,P540,Hoja1!F532:F648))","v":""},{"$f":"IFERROR(IF(NETWORKDAYS(R540+1,P540,Hoja1!F532:F648)<=0,\"\",NETWORKDAYS(R540+1,P540,Hoja1!F532:F648)),0)","v":""},null,null,{"$f":"IFERROR(VLOOKUP(L540,Hoja1!$A$50:$C$63,2),\"\")","v":""},{"$f":"IFERROR(VLOOKUP(L540,Hoja1!$A$50:$C$63,3),\"\")","v":""}]
[null,null,null,null,null,null,null,null,null,null,null,null,null,null,null,null,null,null,null,null,null,{"$f":"IFERROR(WORKDAY(T541,AE541,Hoja1!F533:F649),\"\")","v":""},"",null,"",{"$f":"IF(P541=\"\",\"\",NETWORKDAYS(C541+1,P541,Hoja1!F533:F649))","v":""},{"$f":"IFERROR(IF(NETWORKDAYS(R541+1,P541,Hoja1!F533:F649)<=0,\"\",NETWORKDAYS(R541+1,P541,Hoja1!F533:F649)),0)","v":""},null,null,{"$f":"IFERROR(VLOOKUP(L541,Hoja1!$A$50:$C$63,2),\"\")","v":""},{"$f":"IFERROR(VLOOKUP(L541,Hoja1!$A$50:$C$63,3),\"\")","v":""}]
[null,null,null,null,null,null,null,null,null,null,null,null,null,null,null,null,null,null,null,null,null,{"$f":"IFERROR(WORKDAY(T542,AE542,Hoja1!F534:F650),\"\")","v":""},"",null,"",{"$f":"IF(P542=\"\",\"\",NETWORKDAYS(C542+1,P542,Hoja1!F534:F650))","v":""},{"$f":"IFERROR(IF(NETWORKDAYS(R542+1,P542,Hoja1!F534:F650)<=0,\"\",NETWORKDAYS(R542+1,P542,Hoja1!F534:F650)),0)","v":""},null,null,{"$f":"IFERROR(VLOOKUP(L542,Hoja1!$A$50:$C$63,2),\"\")","v":""},{"$f":"IFERROR(VLOOKUP(L542,Hoja1!$A$50:$C$63,3),\"\")","v":""}]
[null,null,null,null,null,null,null,null,null,null,null,null,null,null,null,null,null,null,null,null,null,{"$f":"IFERROR(WORKDAY(T543,AE543,Hoja1!F535:F651),\"\")","v":""},"",null,"",{"$f":"IF(P543=\"\",\"\",NETWORKDAYS(C543+1,P543,Hoja1!F535:F651))","v":""},{"$f":"IFERROR(IF(NETWORKDAYS(R543+1,P543,Hoja1!F535:F651)<=0,\"\",NETWORKDAYS(R543+1,P543,Hoja1!F535:F651)),0)","v":""},null,null,{"$f":"IFERROR(VLOOKUP(L543,Hoja1!$A$50:$C$63,2),\"\")","v":""},{"$f":"IFERROR(VLOOKUP(L543,Hoja1!$A$50:$C$63,3),\"\")","v":""}]
[null,null,null,null,null,null,null,null,null,null,null,null,null,null,null,null,null,null,null,null,null,{"$f":"IFERROR(WORKDAY(T544,AE544,Hoja1!F536:F652),\"\")","v":""},"",null,"",{"$f":"IF(P544=\"\",\"\",NETWORKDAYS(C544+1,P544,Hoja1!F536:F652))","v":""},{"$f":"IFERROR(IF(NETWORKDAYS(R544+1,P544,Hoja1!F536:F652)<=0,\"\",NETWORKDAYS(R544+1,P544,Hoja1!F536:F652)),0)","v":""},null,null,{"$f":"IFERROR(VLOOKUP(L544,Hoja1!$A$50:$C$63,2),\"\")","v":""},{"$f":"IFERROR(VLOOKUP(L544,Hoja1!$A$50:$C$63,3),\"\")","v":""}]
[null,null,null,null,null,null,null,null,null,null,null,null,null,null,null,null,null,null,null,null,null,{"$f":"IFERROR(WORKDAY(T545,AE545,Hoja1!F537:F653),\"\")","v":""},"",null,"",{"$f":"IF(P545=\"\",\"\",NETWORKDAYS(C545+1,P545,Hoja1!F537:F653))","v":""},{"$f":"IFERROR(IF(NETWORKDAYS(R545+1,P545,Hoja1!F537:F653)<=0,\"\",NETWORKDAYS(R545+1,P545,Hoja1!F537:F653)),0)","v":""},null,null,{"$f":"IFERROR(VLOOKUP(L545,Hoja1!$A$50:$C$63,2),\"\")","v":""},{"$f":"IFERROR(VLOOKUP(L545,Hoja1!$A$50:$C$63,3),\"\")","v":""}]
[null,null,null,null,null,null,null,null,null,null,null,null,null,null,null,null,null,null,null,null,null,{"$f":"IFERROR(WORKDAY(T546,AE546,Hoja1!F538:F654),\"\")","v":""},"",null,"",{"$f":"IF(P546=\"\",\"\",NETWORKDAYS(C546+1,P546,Hoja1!F538:F654))","v":""},{"$f":"IFERROR(IF(NETWORKDAYS(R546+1,P546,Hoja1!F538:F654)<=0,\"\",NETWORKDAYS(R546+1,P546,Hoja1!F538:F654)),0)","v":""},null,null,{"$f":"IFERROR(VLOOKUP(L546,Hoja1!$A$50:$C$63,2),\"\")","v":""},{"$f":"IFERROR(VLOOKUP(L546,Hoja1!$A$50:$C$63,3),\"\")","v":""}]
[null,null,null,null,null,null,null,null,null,null,null,null,null,null,null,null,null,null,null,null,null,{"$f":"IFERROR(WORKDAY(T547,AE547,Hoja1!F539:F655),\"\")","v":""},"",null,"",{"$f":"IF(P547=\"\",\"\",NETWORKDAYS(C547+1,P547,Hoja1!F539:F655))","v":""},{"$f":"IFERROR(IF(NETWORKDAYS(R547+1,P547,Hoja1!F539:F655)<=0,\"\",NETWORKDAYS(R547+1,P547,Hoja1!F539:F655)),0)","v":""},null,null,{"$f":"IFERROR(VLOOKUP(L547,Hoja1!$A$50:$C$63,2),\"\")","v":""},{"$f":"IFERROR(VLOOKUP(L547,Hoja1!$A$50:$C$63,3),\"\")","v":""}]
[null,null,null,null,null,null,null,null,null,null,null,null,null,null,null,null,null,null,null,null,null,{"$f":"IFERROR(WORKDAY(T548,AE548,Hoja1!F540:F656),\"\")","v":""},"",null,"",{"$f":"IF(P548=\"\",\"\",NETWORKDAYS(C548+1,P548,Hoja1!F540:F656))","v":""},{"$f":"IFERROR(IF(NETWORKDAYS(R548+1,P548,Hoja1!F540:F656)<=0,\"\",NETWORKDAYS(R548+1,P548,Hoja1!F540:F656)),0)","v":""},null,null,{"$f":"IFERROR(VLOOKUP(L548,Hoja1!$A$50:$C$63,2),\"\")","v":""},{"$f":"IFERROR(VLOOKUP(L548,Hoja1!$A$50:$C$63,3),\"\")","v":""}]
[null,null,null,null,null,null,null,null,null,null,null,null,null,null,null,null,null,null,null,null,null,{"$f":"IFERROR(WORKDAY(T549,AE549,Hoja1!F541:F657),\"\")","v":""},"",null,"",{"$f":"IF(P549=\"\",\"\",NETWORKDAYS(C549+1,P549,Hoja1!F541:F657))","v":""},{"$f":"IFERROR(IF(NETWORKDAYS(R549+1,P549,Hoja1!F541:F657)<=0,\"\",NETWORKDAYS(R549+1,P549,Hoja1!F541:F657)),0)","v":""},null,null,{"$f":"IFERROR(VLOOKUP(L549,Hoja1!$A$50:$C$63,2),\"\")","v":""},{"$f":"IFERROR(VLOOKUP(L549,Hoja1!$A$50:$C$63,3),\"\")","v":""}]
[null,null,null,null,null,null,null,null,null,null,null,null,null,null,null,null,null,null,null,null,null,{"$f":"IFERROR(WORKDAY(T550,AE550,Hoja1!F542:F658),\"\")","v":""},"",null,"",{"$f":"IF(P550=\"\",\"\",NETWORKDAYS(C550+1,P550,Hoja1!F542:F658))","v":""},{"$f":"IFERROR(IF(NETWORKDAYS(R550+1,P550,Hoja1!F542:F658)<=0,\"\",NETWORKDAYS(R550+1,P550,Hoja1!F542:F658)),0)","v":""},null,null,{"$f":"IFERROR(VLOOKUP(L550,Hoja1!$A$50:$C$63,2),\"\")","v":""},{"$f":"IFERROR(VLOOKUP(L550,Hoja1!$A$50:$C$63,3),\"\")","v":""}]
[null,null,null,null,null,null,null,null,null,null,null,null,null,null,null,null,null,null,null,null,null,{"$f":"IFERROR(WORKDAY(T551,AE551,Hoja1!F543:F659),\"\")","v":""},"",null,"",{"$f":"IF(P551=\"\",\"\",NETWORKDAYS(C551+1,P551,Hoja1!F543:F659))","v":""},{"$f":"IFERROR(IF(NETWORKDAYS(R551+1,P551,Hoja1!F543:F659)<=0,\"\",NETWORKDAYS(R551+1,P551,Hoja1!F543:F659)),0)","v":""},null,null,{"$f":"IFERROR(VLOOKUP(L551,Hoja1!$A$50:$C$63,2),\"\")","v":""},{"$f":"IFERROR(VLOOKUP(L551,Hoja1!$A$50:$C$63,3),\"\")","v":""}]
[null,null,null,null,null,null,null,null,null,null,null,null,null,null,null,null,null,null,null,null,null,{"$f":"IFERROR(WORKDAY(T552,AE552,Hoja1!F544:F660),\"\")","v":""},"",null,"",{"$f":"IF(P552=\"\",\"\",NETWORKDAYS(C552+1,P552,Hoja1!F544:F660))","v":""},{"$f":"IFERROR(IF(NETWORKDAYS(R552+1,P552,Hoja1!F544:F660)<=0,\"\",NETWORKDAYS(R552+1,P552,Hoja1!F544:F660)),0)","v":""},null,null,{"$f":"IFERROR(VLOOKUP(L552,Hoja1!$A$50:$C$63,2),\"\")","v":""},{"$f":"IFERROR(VLOOKUP(L552,Hoja1!$A$50:$C$63,3),\"\")","v":""}]
[null,null,null,null,null,null,null,null,null,null,null,null,null,null,null,null,null,null,null,null,null,{"$f":"IFERROR(WORKDAY(T553,AE553,Hoja1!F545:F661),\"\")","v":""},"",null,"",{"$f":"IF(P553=\"\",\"\",NETWORKDAYS(C553+1,P553,Hoja1!F545:F661))","v":""},{"$f":"IFERROR(IF(NETWORKDAYS(R553+1,P553,Hoja1!F545:F661)<=0,\"\",NETWORKDAYS(R553+1,P553,Hoja1!F545:F661)),0)","v":""},null,null,{"$f":"IFERROR(VLOOKUP(L553,Hoja1!$A$50:$C$63,2),\"\")","v":""},{"$f":"IFERROR(VLOOKUP(L553,Hoja1!$A$50:$C$63,3),\"\")","v":""}]
[null,null,null,null,null,null,null,null,null,null,null,null,null,null,null,null,null,null,null,null,null,{"$f":"IFERROR(WORKDAY(T554,AE554,Hoja1!F546:F662),\"\")","v":""},"",null,"",{"$f":"IF(P554=\"\",\"\",NETWORKDAYS(C554+1,P554,Hoja1!F546:F662))","v":""},{"$f":"IFERROR(IF(NETWORKDAYS(R554+1,P554,Hoja1!F546:F662)<=0,\"\",NETWORKDAYS(R554+1,P554,Hoja1!F546:F662)),0)","v":""},null,null,{"$f":"IFERROR(VLOOKUP(L554,Hoja1!$A$50:$C$63,2),\"\")","v":""},{"$f":"IFERROR(VLOOKUP(L554,Hoja1!$A$50:$C$63,3),\"\")","v":""}]
[null,null,null,null,null,null,null,null,null,null,null,null,null,null,null,null,null,null,null,null,null,{"$f":"IFERROR(WORKDAY(T555,AE555,Hoja1!F547:F663),\"\")","v":""},"",null,"",{"$f":"IF(P555=\"\",\"\",NETWORKDAYS(C555+1,P555,Hoja1!F547:F663))","v":""},{"$f":"IFERROR(IF(NETWORKDAYS(R555+1,P555,Hoja1!F547:F663)<=0,\"\",NETWORKDAYS(R555+1,P555,Hoja1!F547:F663)),0)","v":""},null,null,{"$f":"IFERROR(VLOOKUP(L555,Hoja1!$A$50:$C$63,2),\"\")","v":""},{"$f":"IFERROR(VLOOKUP(L555,Hoja1!$A$50:$C$63,3),\"\")","v":""}]
[null,null,null,null,null,null,null,null,null,null,null,null,null,null,null,null,null,null,null,null,null,{"$f":"IFERROR(WORKDAY(T556,AE556,Hoja1!F548:F664),\"\")","v":""},"",null,"",{"$f":"IF(P556=\"\",\"\",NETWORKDAYS(C556+1,P556,Hoja1!F548:F664))","v":""},{"$f":"IFERROR(IF(NETWORKDAYS(R556+1,P556,Hoja1!F548:F664)<=0,\"\",NETWORKDAYS(R556+1,P556,Hoja1!F548:F664)),0)","v":""},null,null,{"$f":"IFERROR(VLOOKUP(L556,Hoja1!$A$50:$C$63,2),\"\")","v":""},{"$f":"IFERROR(VLOOKUP(L556,Hoja1!$A$50:$C$63,3),\"\")","v":""}]
[null,null,null,null,null,null,null,null,null,null,null,null,null,null,null,null,null,null,null,null,null,{"$f":"IFERROR(WORKDAY(T557,AE557,Hoja1!F549:F665),\"\")","v":""},"",null,"",{"$f":"IF(P557=\"\",\"\",NETWORKDAYS(C557+1,P557,Hoja1!F549:F665))","v":""},{"$f":"IFERROR(IF(NETWORKDAYS(R557+1,P557,Hoja1!F549:F665)<=0,\"\",NETWORKDAYS(R557+1,P557,Hoja1!F549:F665)),0)","v":""},null,null,{"$f":"IFERROR(VLOOKUP(L557,Hoja1!$A$50:$C$63,2),\"\")","v":""},{"$f":"IFERROR(VLOOKUP(L557,Hoja1!$A$50:$C$63,3),\"\")","v":""}]
[null,null,null,null,null,null,null,null,null,null,null,null,null,null,null,null,null,null,null,null,null,{"$f":"IFERROR(WORKDAY(T558,AE558,Hoja1!F550:F666),\"\")","v":""},"",null,"",{"$f":"IF(P558=\"\",\"\",NETWORKDAYS(C558+1,P558,Hoja1!F550:F666))","v":""},{"$f":"IFERROR(IF(NETWORKDAYS(R558+1,P558,Hoja1!F550:F666)<=0,\"\",NETWORKDAYS(R558+1,P558,Hoja1!F550:F666)),0)","v":""},null,null,{"$f":"IFERROR(VLOOKUP(L558,Hoja1!$A$50:$C$63,2),\"\")","v":""},{"$f":"IFERROR(VLOOKUP(L558,Hoja1!$A$50:$C$63,3),\"\")","v":""}]
[null,null,null,null,null,null,null,null,null,null,null,null,null,null,null,null,null,null,null,null,null,{"$f":"IFERROR(WORKDAY(T559,AE559,Hoja1!F551:F667),\"\")","v":""},"",null,"",{"$f":"IF(P559=\"\",\"\",NETWORKDAYS(C559+1,P559,Hoja1!F551:F667))","v":""},{"$f":"IFERROR(IF(NETWORKDAYS(R559+1,P559,Hoja1!F551:F667)<=0,\"\",NETWORKDAYS(R559+1,P559,Hoja1!F551:F667)),0)","v":""},null,null,{"$f":"IFERROR(VLOOKUP(L559,Hoja1!$A$50:$C$63,2),\"\")","v":""},{"$f":"IFERROR(VLOOKUP(L559,Hoja1!$A$50:$C$63,3),\"\")","v":""}]
[null,null,null,null,null,null,null,null,null,null,null,null,null,null,null,null,null,null,null,null,null,{"$f":"IFERROR(WORKDAY(T560,AE560,Hoja1!F552:F668),\"\")","v":""},"",null,"",{"$f":"IF(P560=\"\",\"\",NETWORKDAYS(C560+1,P560,Hoja1!F552:F668))","v":""},{"$f":"IFERROR(IF(NETWORKDAYS(R560+1,P560,Hoja1!F552:F668)<=0,\"\",NETWORKDAYS(R560+1,P560,Hoja1!F552:F668)),0)","v":""},null,null,{"$f":"IFERROR(VLOOKUP(L560,Hoja1!$A$50:$C$63,2),\"\")","v":""},{"$f":"IFERROR(VLOOKUP(L560,Hoja1!$A$50:$C$63,3),\"\")","v":""}]
[null,null,null,null,null,null,null,null,null,null,null,null,null,null,null,null,null,null,null,null,null,{"$f":"IFERROR(WORKDAY(T561,AE561,Hoja1!F553:F669),\"\")","v":""},"",null,"",{"$f":"IF(P561=\"\",\"\",NETWORKDAYS(C561+1,P561,Hoja1!F553:F669))","v":""},{"$f":"IFERROR(IF(NETWORKDAYS(R561+1,P561,Hoja1!F553:F669)<=0,\"\",NETWORKDAYS(R561+1,P561,Hoja1!F553:F669)),0)","v":""},null,null,{"$f":"IFERROR(VLOOKUP(L561,Hoja1!$A$50:$C$63,2),\"\")","v":""},{"$f":"IFERROR(VLOOKUP(L561,Hoja1!$A$50:$C$63,3),\"\")","v":""}]
[null,null,null,null,null,null,null,null,null,null,null,null,null,null,null,null,null,null,null,null,null,{"$f":"IFERROR(WORKDAY(T562,AE562,Hoja1!F554:F670),\"\")","v":""},"",null,"",{"$f":"IF(P562=\"\",\"\",NETWORKDAYS(C562+1,P562,Hoja1!F554:F670))","v":""},{"$f":"IFERROR(IF(NETWORKDAYS(R562+1,P562,Hoja1!F554:F670)<=0,\"\",NETWORKDAYS(R562+1,P562,Hoja1!F554:F670)),0)","v":""},null,null,{"$f":"IFERROR(VLOOKUP(L562,Hoja1!$A$50:$C$63,2),\"\")","v":""},{"$f":"IFERROR(VLOOKUP(L562,Hoja1!$A$50:$C$63,3),\"\")","v":""}]
[null,null,null,null,null,null,null,null,null,null,null,null,null,null,null,null,null,null,null,null,null,{"$f":"IFERROR(WORKDAY(T563,AE563,Hoja1!F555:F671),\"\")","v":""},"",null,"",{"$f":"IF(P563=\"\",\"\",NETWORKDAYS(C563+1,P563,Hoja1!F555:F671))","v":""},{"$f":"IFERROR(IF(NETWORKDAYS(R563+1,P563,Hoja1!F555:F671)<=0,\"\",NETWORKDAYS(R563+1,P563,Hoja1!F555:F671)),0)","v":""},null,null,{"$f":"IFERROR(VLOOKUP(L563,Hoja1!$A$50:$C$63,2),\"\")","v":""},{"$f":"IFERROR(VLOOKUP(L563,Hoja1!$A$50:$C$63,3),\"\")","v":""}]
[null,null,null,null,null,null,null,null,null,null,null,null,null,null,null,null,null,null,null,null,null,{"$f":"IFERROR(WORKDAY(T564,AE564,Hoja1!F556:F672),\"\")","v":""},"",null,"",{"$f":"IF(P564=\"\",\"\",NETWORKDAYS(C564+1,P564,Hoja1!F556:F672))","v":""},{"$f":"IFERROR(IF(NETWORKDAYS(R564+1,P564,Hoja1!F556:F672)<=0,\"\",NETWORKDAYS(R564+1,P564,Hoja1!F556:F672)),0)","v":""},null,null,{"$f":"IFERROR(VLOOKUP(L564,Hoja1!$A$50:$C$63,2),\"\")","v":""},{"$f":"IFERROR(VLOOKUP(L564,Hoja1!$A$50:$C$63,3),\"\")","v":""}]
[null,null,null,null,null,null,null,null,null,null,null,null,null,null,null,null,null,null,null,null,null,{"$f":"IFERROR(WORKDAY(T565,AE565,Hoja1!F557:F673),\"\")","v":""},"",null,"",{"$f":"IF(P565=\"\",\"\",NETWORKDAYS(C565+1,P565,Hoja1!F557:F673))","v":""},{"$f":"IFERROR(IF(NETWORKDAYS(R565+1,P565,Hoja1!F557:F673)<=0,\"\",NETWORKDAYS(R565+1,P565,Hoja1!F557:F673)),0)","v":""},null,null,{"$f":"IFERROR(VLOOKUP(L565,Hoja1!$A$50:$C$63,2),\"\")","v":""},{"$f":"IFERROR(VLOOKUP(L565,Hoja1!$A$50:$C$63,3),\"\")","v":""}]
[null,null,null,null,null,null,null,null,null,null,null,null,null,null,null,null,null,null,null,null,null,{"$f":"IFERROR(WORKDAY(T566,AE566,Hoja1!F558:F674),\"\")","v":""},"",null,"",{"$f":"IF(P566=\"\",\"\",NETWORKDAYS(C566+1,P566,Hoja1!F558:F674))","v":""},{"$f":"IFERROR(IF(NETWORKDAYS(R566+1,P566,Hoja1!F558:F674)<=0,\"\",NETWORKDAYS(R566+1,P566,Hoja1!F558:F674)),0)","v":""},null,null,{"$f":"IFERROR(VLOOKUP(L566,Hoja1!$A$50:$C$63,2),\"\")","v":""},{"$f":"IFERROR(VLOOKUP(L566,Hoja1!$A$50:$C$63,3),\"\")","v":""}]
[null,null,null,null,null,null,null,null,null,null,null,null,null,null,null,null,null,null,null,null,null,{"$f":"IFERROR(WORKDAY(T567,AE567,Hoja1!F559:F675),\"\")","v":""},"",null,"",{"$f":"IF(P567=\"\",\"\",NETWORKDAYS(C567+1,P567,Hoja1!F559:F675))","v":""},{"$f":"IFERROR(IF(NETWORKDAYS(R567+1,P567,Hoja1!F559:F675)<=0,\"\",NETWORKDAYS(R567+1,P567,Hoja1!F559:F675)),0)","v":""},null,null,{"$f":"IFERROR(VLOOKUP(L567,Hoja1!$A$50:$C$63,2),\"\")","v":""},{"$f":"IFERROR(VLOOKUP(L567,Hoja1!$A$50:$C$63,3),\"\")","v":""}]
[null,null,null,null,null,null,null,null,null,null,null,null,null,null,null,null,null,null,null,null,null,{"$f":"IFERROR(WORKDAY(T568,AE568,Hoja1!F560:F676),\"\")","v":""},"",null,"",{"$f":"IF(P568=\"\",\"\",NETWORKDAYS(C568+1,P568,Hoja1!F560:F676))","v":""},{"$f":"IFERROR(IF(NETWORKDAYS(R568+1,P568,Hoja1!F560:F676)<=0,\"\",NETWORKDAYS(R568+1,P568,Hoja1!F560:F676)),0)","v":""},null,null,{"$f":"IFERROR(VLOOKUP(L568,Hoja1!$A$50:$C$63,2),\"\")","v":""},{"$f":"IFERROR(VLOOKUP(L568,Hoja1!$A$50:$C$63,3),\"\")","v":""}]
[null,null,null,null,null,null,null,null,null,null,null,null,null,null,null,null,null,null,null,null,null,{"$f":"IFERROR(WORKDAY(T569,AE569,Hoja1!F561:F677),\"\")","v":""},"",null,"",{"$f":"IF(P569=\"\",\"\",NETWORKDAYS(C569+1,P569,Hoja1!F561:F677))","v":""},{"$f":"IFERROR(IF(NETWORKDAYS(R569+1,P569,Hoja1!F561:F677)<=0,\"\",NETWORKDAYS(R569+1,P569,Hoja1!F561:F677)),0)","v":""},null,null,{"$f":"IFERROR(VLOOKUP(L569,Hoja1!$A$50:$C$63,2),\"\")","v":""},{"$f":"IFERROR(VLOOKUP(L569,Hoja1!$A$50:$C$63,3),\"\")","v":""}]
[null,null,null,null,null,null,null,null,null,null,null,null,null,null,null,null,null,null,null,null,null,{"$f":"IFERROR(WORKDAY(T570,AE570,Hoja1!F562:F678),\"\")","v":""},"",null,"",{"$f":"IF(P570=\"\",\"\",NETWORKDAYS(C570+1,P570,Hoja1!F562:F678))","v":""},{"$f":"IFERROR(IF(NETWORKDAYS(R570+1,P570,Hoja1!F562:F678)<=0,\"\",NETWORKDAYS(R570+1,P570,Hoja1!F562:F678)),0)","v":""},null,null,{"$f":"IFERROR(VLOOKUP(L570,Hoja1!$A$50:$C$63,2),\"\")","v":""},{"$f":"IFERROR(VLOOKUP(L570,Hoja1!$A$50:$C$63,3),\"\")","v":""}]
[null,null,null,null,null,null,null,null,null,null,null,null,null,null,null,null,null,null,null,null,null,{"$f":"IFERROR(WORKDAY(T571,AE571,Hoja1!F563:F679),\"\")","v":""},"",null,"",{"$f":"IF(P571=\"\",\"\",NETWORKDAYS(C571+1,P571,Hoja1!F563:F679))","v":""},{"$f":"IFERROR(IF(NETWORKDAYS(R571+1,P571,Hoja1!F563:F679)<=0,\"\",NETWORKDAYS(R571+1,P571,Hoja1!F563:F679)),0)","v":""},null,null,{"$f":"IFERROR(VLOOKUP(L571,Hoja1!$A$50:$C$63,2),\"\")","v":""},{"$f":"IFERROR(VLOOKUP(L571,Hoja1!$A$50:$C$63,3),\"\")","v":""}]
[null,null,null,null,null,null,null,null,null,null,null,null,null,null,null,null,null,null,null,null,null,{"$f":"IFERROR(WORKDAY(T572,AE572,Hoja1!F564:F680),\"\")","v":""},"",null,"",{"$f":"IF(P572=\"\",\"\",NETWORKDAYS(C572+1,P572,Hoja1!F564:F680))","v":""},{"$f":"IFERROR(IF(NETWORKDAYS(R572+1,P572,Hoja1!F564:F680)<=0,\"\",NETWORKDAYS(R572+1,P572,Hoja1!F564:F680)),0)","v":""},null,null,{"$f":"IFERROR(VLOOKUP(L572,Hoja1!$A$50:$C$63,2),\"\")","v":""},{"$f":"IFERROR(VLOOKUP(L572,Hoja1!$A$50:$C$63,3),\"\")","v":""}]
[null,null,null,null,null,null,null,null,null,null,null,null,null,null,null,null,null,null,null,null,null,{"$f":"IFERROR(WORKDAY(T573,AE573,Hoja1!F565:F681),\"\")","v":""},"",null,"",{"$f":"IF(P573=\"\",\"\",NETWORKDAYS(C573+1,P573,Hoja1!F565:F681))","v":""},{"$f":"IFERROR(IF(NETWORKDAYS(R573+1,P573,Hoja1!F565:F681)<=0,\"\",NETWORKDAYS(R573+1,P573,Hoja1!F565:F681)),0)","v":""},null,null,{"$f":"IFERROR(VLOOKUP(L573,Hoja1!$A$50:$C$63,2),\"\")","v":""},{"$f":"IFERROR(VLOOKUP(L573,Hoja1!$A$50:$C$63,3),\"\")","v":""}]
[null,null,null,null,null,null,null,null,null,null,null,null,null,null,null,null,null,null,null,null,null,{"$f":"IFERROR(WORKDAY(T574,AE574,Hoja1!F566:F682),\"\")","v":""},"",null,"",{"$f":"IF(P574=\"\",\"\",NETWORKDAYS(C574+1,P574,Hoja1!F566:F682))","v":""},{"$f":"IFERROR(IF(NETWORKDAYS(R574+1,P574,Hoja1!F566:F682)<=0,\"\",NETWORKDAYS(R574+1,P574,Hoja1!F566:F682)),0)","v":""},null,null,{"$f":"IFERROR(VLOOKUP(L574,Hoja1!$A$50:$C$63,2),\"\")","v":""},{"$f":"IFERROR(VLOOKUP(L574,Hoja1!$A$50:$C$63,3),\"\")","v":""}]
[null,null,null,null,null,null,null,null,null,null,null,null,null,null,null,null,null,null,null,null,null,{"$f":"IFERROR(WORKDAY(T575,AE575,Hoja1!F567:F683),\"\")","v":""},"",null,"",{"$f":"IF(P575=\"\",\"\",NETWORKDAYS(C575+1,P575,Hoja1!F567:F683))","v":""},{"$f":"IFERROR(IF(NETWORKDAYS(R575+1,P575,Hoja1!F567:F683)<=0,\"\",NETWORKDAYS(R575+1,P575,Hoja1!F567:F683)),0)","v":""},null,null,{"$f":"IFERROR(VLOOKUP(L575,Hoja1!$A$50:$C$63,2),\"\")","v":""},{"$f":"IFERROR(VLOOKUP(L575,Hoja1!$A$50:$C$63,3),\"\")","v":""}]
[null,null,null,null,null,null,null,null,null,null,null,null,null,null,null,null,null,null,null,null,null,{"$f":"IFERROR(WORKDAY(T576,AE576,Hoja1!F568:F684),\"\")","v":""},"",null,"",{"$f":"IF(P576=\"\",\"\",NETWORKDAYS(C576+1,P576,Hoja1!F568:F684))","v":""},{"$f":"IFERROR(IF(NETWORKDAYS(R576+1,P576,Hoja1!F568:F684)<=0,\"\",NETWORKDAYS(R576+1,P576,Hoja1!F568:F684)),0)","v":""},null,null,{"$f":"IFERROR(VLOOKUP(L576,Hoja1!$A$50:$C$63,2),\"\")","v":""},{"$f":"IFERROR(VLOOKUP(L576,Hoja1!$A$50:$C$63,3),\"\")","v":""}]
[null,null,null,null,null,null,null,null,null,null,null,null,null,null,null,null,null,null,null,null,null,{"$f":"IFERROR(WORKDAY(T577,AE577,Hoja1!F569:F685),\"\")","v":""},"",null,"",{"$f":"IF(P577=\"\",\"\",NETWORKDAYS(C577+1,P577,Hoja1!F569:F685))","v":""},{"$f":"IFERROR(IF(NETWORKDAYS(R577+1,P577,Hoja1!F569:F685)<=0,\"\",NETWORKDAYS(R577+1,P577,Hoja1!F569:F685)),0)","v":""},null,null,{"$f":"IFERROR(VLOOKUP(L577,Hoja1!$A$50:$C$63,2),\"\")","v":""},{"$f":"IFERROR(VLOOKUP(L577,Hoja1!$A$50:$C$63,3),\"\")","v":""}]
[null,null,null,null,null,null,null,null,null,null,null,null,null,null,null,null,null,null,null,null,null,{"$f":"IFERROR(WORKDAY(T578,AE578,Hoja1!F570:F686),\"\")","v":""},"",null,"",{"$f":"IF(P578=\"\",\"\",NETWORKDAYS(C578+1,P578,Hoja1!F570:F686))","v":""},{"$f":"IFERROR(IF(NETWORKDAYS(R578+1,P578,Hoja1!F570:F686)<=0,\"\",NETWORKDAYS(R578+1,P578,Hoja1!F570:F686)),0)","v":""},null,null,{"$f":"IFERROR(VLOOKUP(L578,Hoja1!$A$50:$C$63,2),\"\")","v":""},{"$f":"IFERROR(VLOOKUP(L578,Hoja1!$A$50:$C$63,3),\"\")","v":""}]
[null,null,null,null,null,null,null,null,null,null,null,null,null,null,null,null,null,null,null,null,null,{"$f":"IFERROR(WORKDAY(T579,AE579,Hoja1!F571:F687),\"\")","v":""},"",null,"",{"$f":"IF(P579=\"\",\"\",NETWORKDAYS(C579+1,P579,Hoja1!F571:F687))","v":""},{"$f":"IFERROR(IF(NETWORKDAYS(R579+1,P579,Hoja1!F571:F687)<=0,\"\",NETWORKDAYS(R579+1,P579,Hoja1!F571:F687)),0)","v":""},null,null,{"$f":"IFERROR(VLOOKUP(L579,Hoja1!$A$50:$C$63,2),\"\")","v":""},{"$f":"IFERROR(VLOOKUP(L579,Hoja1!$A$50:$C$63,3),\"\")","v":""}]
[null,null,null,null,null,null,null,null,null,null,null,null,null,null,null,null,null,null,null,null,null,{"$f":"IFERROR(WORKDAY(T580,AE580,Hoja1!F572:F688),\"\")","v":""},"",null,"",{"$f":"IF(P580=\"\",\"\",NETWORKDAYS(C580+1,P580,Hoja1!F572:F688))","v":""},{"$f":"IFERROR(IF(NETWORKDAYS(R580+1,P580,Hoja1!F572:F688)<=0,\"\",NETWORKDAYS(R580+1,P580,Hoja1!F572:F688)),0)","v":""},null,null,{"$f":"IFERROR(VLOOKUP(L580,Hoja1!$A$50:$C$63,2),\"\")","v":""},{"$f":"IFERROR(VLOOKUP(L580,Hoja1!$A$50:$C$63,3),\"\")","v":""}]
[null,null,null,null,null,null,null,null,null,null,null,null,null,null,null,null,null,null,null,null,null,{"$f":"IFERROR(WORKDAY(T581,AE581,Hoja1!F573:F689),\"\")","v":""},"",null,"",{"$f":"IF(P581=\"\",\"\",NETWORKDAYS(C581+1,P581,Hoja1!F573:F689))","v":""},{"$f":"IFERROR(IF(NETWORKDAYS(R581+1,P581,Hoja1!F573:F689)<=0,\"\",NETWORKDAYS(R581+1,P581,Hoja1!F573:F689)),0)","v":""},null,null,{"$f":"IFERROR(VLOOKUP(L581,Hoja1!$A$50:$C$63,2),\"\")","v":""},{"$f":"IFERROR(VLOOKUP(L581,Hoja1!$A$50:$C$63,3),\"\")","v":""}]
[null,null,null,null,null,null,null,null,null,null,null,null,null,null,null,null,null,null,null,null,null,{"$f":"IFERROR(WORKDAY(T582,AE582,Hoja1!F574:F690),\"\")","v":""},"",null,"",{"$f":"IF(P582=\"\",\"\",NETWORKDAYS(C582+1,P582,Hoja1!F574:F690))","v":""},{"$f":"IFERROR(IF(NETWORKDAYS(R582+1,P582,Hoja1!F574:F690)<=0,\"\",NETWORKDAYS(R582+1,P582,Hoja1!F574:F690)),0)","v":""},null,null,{"$f":"IFERROR(VLOOKUP(L582,Hoja1!$A$50:$C$63,2),\"\")","v":""},{"$f":"IFERROR(VLOOKUP(L582,Hoja1!$A$50:$C$63,3),\"\")","v":""}]
[null,null,null,null,null,null,null,null,null,null,null,null,null,null,null,null,null,null,null,null,null,{"$f":"IFERROR(WORKDAY(T583,AE583,Hoja1!F575:F691),\"\")","v":""},"",null,"",{"$f":"IF(P583=\"\",\"\",NETWORKDAYS(C583+1,P583,Hoja1!F575:F691))","v":""},{"$f":"IFERROR(IF(NETWORKDAYS(R583+1,P583,Hoja1!F575:F691)<=0,\"\",NETWORKDAYS(R583+1,P583,Hoja1!F575:F691)),0)","v":""},null,null,{"$f":"IFERROR(VLOOKUP(L583,Hoja1!$A$50:$C$63,2),\"\")","v":""},{"$f":"IFERROR(VLOOKUP(L583,Hoja1!$A$50:$C$63,3),\"\")","v":""}]
[null,null,null,null,null,null,null,null,null,null,null,null,null,null,null,null,null,null,null,null,null,{"$f":"IFERROR(WORKDAY(T584,AE584,Hoja1!F576:F692),\"\")","v":""},"",null,"",{"$f":"IF(P584=\"\",\"\",NETWORKDAYS(C584+1,P584,Hoja1!F576:F692))","v":""},{"$f":"IFERROR(IF(NETWORKDAYS(R584+1,P584,Hoja1!F576:F692)<=0,\"\",NETWORKDAYS(R584+1,P584,Hoja1!F576:F692)),0)","v":""},null,null,{"$f":"IFERROR(VLOOKUP(L584,Hoja1!$A$50:$C$63,2),\"\")","v":""},{"$f":"IFERROR(VLOOKUP(L584,Hoja1!$A$50:$C$63,3),\"\")","v":""}]
[null,null,null,null,null,null,null,null,null,null,null,null,null,null,null,null,null,null,null,null,null,{"$f":"IFERROR(WORKDAY(T585,AE585,Hoja1!F577:F693),\"\")","v":""},"",null,"",{"$f":"IF(P585=\"\",\"\",NETWORKDAYS(C585+1,P585,Hoja1!F577:F693))","v":""},{"$f":"IFERROR(IF(NETWORKDAYS(R585+1,P585,Hoja1!F577:F693)<=0,\"\",NETWORKDAYS(R585+1,P585,Hoja1!F577:F693)),0)","v":""},null,null,{"$f":"IFERROR(VLOOKUP(L585,Hoja1!$A$50:$C$63,2),\"\")","v":""},{"$f":"IFERROR(VLOOKUP(L585,Hoja1!$A$50:$C$63,3),\"\")","v":""}]
[null,null,null,null,null,null,null,null,null,null,null,null,null,null,null,null,null,null,null,null,null,{"$f":"IFERROR(WORKDAY(T586,AE586,Hoja1!F578:F694),\"\")","v":""},{"$f":"+IF(T586=\"\",\"\",IF(U586=\"\",\"SIN RESPUESTA\",(IF(U586<=V586,\"A TIEMPO\",\"FUERA DE TIEMPO\"))))","v":""},null,{"$f":"+IF(C586=\"\",\"\",IF(P586=\"\",\"SIN RESPUESTA\",(IF(P586<=R586,\"A TIEMPO\",\"FUERA DE TIEMPO\"))))","v":""},{"$f":"IF(P586=\"\",\"\",NETWORKDAYS(C586+1,P586,Hoja1!F578:F694))","v":""},{"$f":"IFERROR(IF(NETWORKDAYS(R586+1,P586,Hoja1!F578:F694)<=0,\"\",NETWORKDAYS(R586+1,P586,Hoja1!F578:F694)),0)","v":""},null,null,{"$f":"IFERROR(VLOOKUP(L586,Hoja1!$A$50:$C$63,2),\"\")","v":""},{"$f":"IFERROR(VLOOKUP(L586,Hoja1!$A$50:$C$63,3),\"\")","v":""}]
[null,null,null,null,null,null,null,null,null,null,null,null,null,null,null,null,null,null,null,null,null,{"$f":"IFERROR(WORKDAY(T587,AE587,Hoja1!F579:F695),\"\")","v":""},"",null,"",{"$f":"IF(P587=\"\",\"\",NETWORKDAYS(C587+1,P587,Hoja1!F579:F695))","v":""},{"$f":"IFERROR(IF(NETWORKDAYS(R587+1,P587,Hoja1!F579:F695)<=0,\"\",NETWORKDAYS(R587+1,P587,Hoja1!F579:F695)),0)","v":""},null,null,{"$f":"IFERROR(VLOOKUP(L587,Hoja1!$A$50:$C$63,2),\"\")","v":""},{"$f":"IFERROR(VLOOKUP(L587,Hoja1!$A$50:$C$63,3),\"\")","v":""}]
[null,null,null,null,null,null,null,null,null,null,null,null,null,null,null,null,null,null,null,null,null,{"$f":"IFERROR(WORKDAY(T588,AE588,Hoja1!F580:F696),\"\")","v":""},"",null,"",{"$f":"IF(P588=\"\",\"\",NETWORKDAYS(C588+1,P588,Hoja1!F580:F696))","v":""},{"$f":"IFERROR(IF(NETWORKDAYS(R588+1,P588,Hoja1!F580:F696)<=0,\"\",NETWORKDAYS(R588+1,P588,Hoja1!F580:F696)),0)","v":""},null,null,{"$f":"IFERROR(VLOOKUP(L588,Hoja1!$A$50:$C$63,2),\"\")","v":""},{"$f":"IFERROR(VLOOKUP(L588,Hoja1!$A$50:$C$63,3),\"\")","v":""}]
[null,null,null,null,null,null,null,null,null,null,null,null,null,null,null,null,null,null,null,null,null,{"$f":"IFERROR(WORKDAY(T589,AE589,Hoja1!F581:F697),\"\")","v":""},"",null,"",{"$f":"IF(P589=\"\",\"\",NETWORKDAYS(C589+1,P589,Hoja1!F581:F697))","v":""},{"$f":"IFERROR(IF(NETWORKDAYS(R589+1,P589,Hoja1!F581:F697)<=0,\"\",NETWORKDAYS(R589+1,P589,Hoja1!F581:F697)),0)","v":""},null,null,{"$f":"IFERROR(VLOOKUP(L589,Hoja1!$A$50:$C$63,2),\"\")","v":""},{"$f":"IFERROR(VLOOKUP(L589,Hoja1!$A$50:$C$63,3),\"\")","v":""}]
[null,null,null,null,null,null,null,null,null,null,null,null,null,null,null,null,null,null,null,null,null,{"$f":"IFERROR(WORKDAY(T590,AE590,Hoja1!F582:F698),\"\")","v":""},"",null,"",{"$f":"IF(P590=\"\",\"\",NETWORKDAYS(C590+1,P590,Hoja1!F582:F698))","v":""},{"$f":"IFERROR(IF(NETWORKDAYS(R590+1,P590,Hoja1!F582:F698)<=0,\"\",NETWORKDAYS(R590+1,P590,Hoja1!F582:F698)),0)","v":""},null,null,{"$f":"IFERROR(VLOOKUP(L590,Hoja1!$A$50:$C$63,2),\"\")","v":""},{"$f":"IFERROR(VLOOKUP(L590,Hoja1!$A$50:$C$63,3),\"\")","v":""}]
[null,null,null,null,null,null,null,null,null,null,null,null,null,null,null,null,null,null,null,null,null,{"$f":"IFERROR(WORKDAY(T591,AE591,Hoja1!F583:F699),\"\")","v":""},"",null,"",{"$f":"IF(P591=\"\",\"\",NETWORKDAYS(C591+1,P591,Hoja1!F583:F699))","v":""},{"$f":"IFERROR(IF(NETWORKDAYS(R591+1,P591,Hoja1!F583:F699)<=0,\"\",NETWORKDAYS(R591+1,P591,Hoja1!F583:F699)),0)","v":""},null,null,{"$f":"IFERROR(VLOOKUP(L591,Hoja1!$A$50:$C$63,2),\"\")","v":""},{"$f":"IFERROR(VLOOKUP(L591,Hoja1!$A$50:$C$63,3),\"\")","v":""}]
[null,null,null,null,null,null,null,null,null,null,null,null,null,null,null,null,null,null,null,null,null,{"$f":"IFERROR(WORKDAY(T592,AE592,Hoja1!F584:F700),\"\")","v":""},"",null,"",{"$f":"IF(P592=\"\",\"\",NETWORKDAYS(C592+1,P592,Hoja1!F584:F700))","v":""},{"$f":"IFERROR(IF(NETWORKDAYS(R592+1,P592,Hoja1!F584:F700)<=0,\"\",NETWORKDAYS(R592+1,P592,Hoja1!F584:F700)),0)","v":""},null,null,{"$f":"IFERROR(VLOOKUP(L592,Hoja1!$A$50:$C$63,2),\"\")","v":""},{"$f":"IFERROR(VLOOKUP(L592,Hoja1!$A$50:$C$63,3),\"\")","v":""}]
[null,null,null,null,null,null,null,null,null,null,null,null,null,null,null,null,null,null,null,null,null,{"$f":"IFERROR(WORKDAY(T593,AE593,Hoja1!F585:F701),\"\")","v":""},"",null,"",{"$f":"IF(P593=\"\",\"\",NETWORKDAYS(C593+1,P593,Hoja1!F585:F701))","v":""},{"$f":"IFERROR(IF(NETWORKDAYS(R593+1,P593,Hoja1!F585:F701)<=0,\"\",NETWORKDAYS(R593+1,P593,Hoja1!F585:F701)),0)","v":""},null,null,{"$f":"IFERROR(VLOOKUP(L593,Hoja1!$A$50:$C$63,2),\"\")","v":""},{"$f":"IFERROR(VLOOKUP(L593,Hoja1!$A$50:$C$63,3),\"\")","v":""}]
[null,null,null,null,null,null,null,null,null,null,null,null,null,null,null,null,null,null,null,null,null,{"$f":"IFERROR(WORKDAY(T594,AE594,Hoja1!F586:F702),\"\")","v":""},"",null,"",{"$f":"IF(P594=\"\",\"\",NETWORKDAYS(C594+1,P594,Hoja1!F586:F702))","v":""},{"$f":"IFERROR(IF(NETWORKDAYS(R594+1,P594,Hoja1!F586:F702)<=0,\"\",NETWORKDAYS(R594+1,P594,Hoja1!F586:F702)),0)","v":""},null,null,{"$f":"IFERROR(VLOOKUP(L594,Hoja1!$A$50:$C$63,2),\"\")","v":""},{"$f":"IFERROR(VLOOKUP(L594,Hoja1!$A$50:$C$63,3),\"\")","v":""}]
[null,null,null,null,null,null,null,null,null,null,null,null,null,null,null,null,null,null,null,null,null,{"$f":"IFERROR(WORKDAY(T595,AE595,Hoja1!F587:F703),\"\")","v":""},"",null,"",{"$f":"IF(P595=\"\",\"\",NETWORKDAYS(C595+1,P595,Hoja1!F587:F703))","v":""},{"$f":"IFERROR(IF(NETWORKDAYS(R595+1,P595,Hoja1!F587:F703)<=0,\"\",NETWORKDAYS(R595+1,P595,Hoja1!F587:F703)),0)","v":""},null,null,{"$f":"IFERROR(VLOOKUP(L595,Hoja1!$A$50:$C$63,2),\"\")","v":""},{"$f":"IFERROR(VLOOKUP(L595,Hoja1!$A$50:$C$63,3),\"\")","v":""}]
[null,null,null,null,null,null,null,null,null,null,null,null,null,null,null,null,null,null,null,null,null,{"$f":"IFERROR(WORKDAY(T596,AE596,Hoja1!F588:F704),\"\")","v":""},"",null,"",{"$f":"IF(P596=\"\",\"\",NETWORKDAYS(C596+1,P596,Hoja1!F588:F704))","v":""},{"$f":"IFERROR(IF(NETWORKDAYS(R596+1,P596,Hoja1!F588:F704)<=0,\"\",NETWORKDAYS(R596+1,P596,Hoja1!F588:F704)),0)","v":""},null,null,{"$f":"IFERROR(VLOOKUP(L596,Hoja1!$A$50:$C$63,2),\"\")","v":""},{"$f":"IFERROR(VLOOKUP(L596,Hoja1!$A$50:$C$63,3),\"\")","v":""}]
[null,null,null,null,null,null,null,null,null,null,null,null,null,null,null,null,null,null,null,null,null,{"$f":"IFERROR(WORKDAY(T597,AE597,Hoja1!F589:F705),\"\")","v":""},"",null,"",{"$f":"IF(P597=\"\",\"\",NETWORKDAYS(C597+1,P597,Hoja1!F589:F705))","v":""},{"$f":"IFERROR(IF(NETWORKDAYS(R597+1,P597,Hoja1!F589:F705)<=0,\"\",NETWORKDAYS(R597+1,P597,Hoja1!F589:F705)),0)","v":""},null,null,{"$f":"IFERROR(VLOOKUP(L597,Hoja1!$A$50:$C$63,2),\"\")","v":""},{"$f":"IFERROR(VLOOKUP(L597,Hoja1!$A$50:$C$63,3),\"\")","v":""}]
[null,null,null,null,null,null,null,null,null,null,null,null,null,null,null,null,null,null,null,null,null,{"$f":"IFERROR(WORKDAY(T598,AE598,Hoja1!F590:F706),\"\")","v":""},"",null,"",{"$f":"IF(P598=\"\",\"\",NETWORKDAYS(C598+1,P598,Hoja1!F590:F706))","v":""},{"$f":"IFERROR(IF(NETWORKDAYS(R598+1,P598,Hoja1!F590:F706)<=0,\"\",NETWORKDAYS(R598+1,P598,Hoja1!F590:F706)),0)","v":""},null,null,{"$f":"IFERROR(VLOOKUP(L598,Hoja1!$A$50:$C$63,2),\"\")","v":""},{"$f":"IFERROR(VLOOKUP(L598,Hoja1!$A$50:$C$63,3),\"\")","v":""}]
[null,null,null,null,null,null,null,null,null,null,null,null,null,null,null,null,null,null,null,null,null,{"$f":"IFERROR(WORKDAY(T599,AE599,Hoja1!F591:F707),\"\")","v":""},"",null,"",{"$f":"IF(P599=\"\",\"\",NETWORKDAYS(C599+1,P599,Hoja1!F591:F707))","v":""},{"$f":"IFERROR(IF(NETWORKDAYS(R599+1,P599,Hoja1!F591:F707)<=0,\"\",NETWORKDAYS(R599+1,P599,Hoja1!F591:F707)),0)","v":""},null,null,{"$f":"IFERROR(VLOOKUP(L599,Hoja1!$A$50:$C$63,2),\"\")","v":""},{"$f":"IFERROR(VLOOKUP(L599,Hoja1!$A$50:$C$63,3),\"\")","v":""}]
[null,null,null,null,null,null,null,null,null,null,null,null,null,null,null,null,null,null,null,null,null,{"$f":"IFERROR(WORKDAY(T600,AE600,Hoja1!F592:F708),\"\")","v":""},"",null,"",{"$f":"IF(P600=\"\",\"\",NETWORKDAYS(C600+1,P600,Hoja1!F592:F708))","v":""},{"$f":"IFERROR(IF(NETWORKDAYS(R600+1,P600,Hoja1!F592:F708)<=0,\"\",NETWORKDAYS(R600+1,P600,Hoja1!F592:F708)),0)","v":""},null,null,{"$f":"IFERROR(VLOOKUP(L600,Hoja1!$A$50:$C$63,2),\"\")","v":""},{"$f":"IFERROR(VLOOKUP(L600,Hoja1!$A$50:$C$63,3),\"\")","v":""}]
[null,null,null,null,null,null,null,null,null,null,null,null,null,null,null,null,null,null,null,null,null,{"$f":"IFERROR(WORKDAY(T601,AE601,Hoja1!F593:F709),\"\")","v":""},"",null,"",{"$f":"IF(P601=\"\",\"\",NETWORKDAYS(C601+1,P601,Hoja1!F593:F709))","v":""},{"$f":"IFERROR(IF(NETWORKDAYS(R601+1,P601,Hoja1!F593:F709)<=0,\"\",NETWORKDAYS(R601+1,P601,Hoja1!F593:F709)),0)","v":""},null,null,{"$f":"IFERROR(VLOOKUP(L601,Hoja1!$A$50:$C$63,2),\"\")","v":""},{"$f":"IFERROR(VLOOKUP(L601,Hoja1!$A$50:$C$63,3),\"\")","v":""}]
[null,null,null,null,null,null,null,null,null,null,null,null,null,null,null,null,null,null,null,null,null,{"$f":"IFERROR(WORKDAY(T602,AE602,Hoja1!F594:F710),\"\")","v":""},"",null,"",{"$f":"IF(P602=\"\",\"\",NETWORKDAYS(C602+1,P602,Hoja1!F594:F710))","v":""},{"$f":"IFERROR(IF(NETWORKDAYS(R602+1,P602,Hoja1!F594:F710)<=0,\"\",NETWORKDAYS(R602+1,P602,Hoja1!F594:F710)),0)","v":""},null,null,{"$f":"IFERROR(VLOOKUP(L602,Hoja1!$A$50:$C$63,2),\"\")","v":""},{"$f":"IFERROR(VLOOKUP(L602,Hoja1!$A$50:$C$63,3),\"\")","v":""}]
[null,null,null,null,null,null,null,null,null,null,null,null,null,null,null,null,null,null,null,null,null,{"$f":"IFERROR(WORKDAY(T603,AE603,Hoja1!F595:F711),\"\")","v":""},"",null,"",{"$f":"IF(P603=\"\",\"\",NETWORKDAYS(C603+1,P603,Hoja1!F595:F711))","v":""},{"$f":"IFERROR(IF(NETWORKDAYS(R603+1,P603,Hoja1!F595:F711)<=0,\"\",NETWORKDAYS(R603+1,P603,Hoja1!F595:F711)),0)","v":""},null,null,{"$f":"IFERROR(VLOOKUP(L603,Hoja1!$A$50:$C$63,2),\"\")","v":""},{"$f":"IFERROR(VLOOKUP(L603,Hoja1!$A$50:$C$63,3),\"\")","v":""}]
[null,null,null,null,null,null,null,null,null,null,null,null,null,null,null,null,null,null,null,null,null,{"$f":"IFERROR(WORKDAY(T604,AE604,Hoja1!F596:F712),\"\")","v":""},"",null,"",{"$f":"IF(P604=\"\",\"\",NETWORKDAYS(C604+1,P604,Hoja1!F596:F712))","v":""},{"$f":"IFERROR(IF(NETWORKDAYS(R604+1,P604,Hoja1!F596:F712)<=0,\"\",NETWORKDAYS(R604+1,P604,Hoja1!F596:F712)),0)","v":""},null,null,{"$f":"IFERROR(VLOOKUP(L604,Hoja1!$A$50:$C$63,2),\"\")","v":""},{"$f":"IFERROR(VLOOKUP(L604,Hoja1!$A$50:$C$63,3),\"\")","v":""}]
[null,null,null,null,null,null,null,null,null,null,null,null,null,null,null,null,null,null,null,null,null,{"$f":"IFERROR(WORKDAY(T605,AE605,Hoja1!F597:F713),\"\")","v":""},"",null,"",{"$f":"IF(P605=\"\",\"\",NETWORKDAYS(C605+1,P605,Hoja1!F597:F713))","v":""},{"$f":"IFERROR(IF(NETWORKDAYS(R605+1,P605,Hoja1!F597:F713)<=0,\"\",NETWORKDAYS(R605+1,P605,Hoja1!F597:F713)),0)","v":""},null,null,{"$f":"IFERROR(VLOOKUP(L605,Hoja1!$A$50:$C$63,2),\"\")","v":""},{"$f":"IFERROR(VLOOKUP(L605,Hoja1!$A$50:$C$63,3),\"\")","v":""}]
[null,null,null,null,null,null,null,null,null,null,null,null,null,null,null,null,null,null,null,null,null,{"$f":"IFERROR(WORKDAY(T606,AE606,Hoja1!F598:F714),\"\")","v":""},"",null,"",{"$f":"IF(P606=\"\",\"\",NETWORKDAYS(C606+1,P606,Hoja1!F598:F714))","v":""},{"$f":"IFERROR(IF(NETWORKDAYS(R606+1,P606,Hoja1!F598:F714)<=0,\"\",NETWORKDAYS(R606+1,P606,Hoja1!F598:F714)),0)","v":""},null,null,{"$f":"IFERROR(VLOOKUP(L606,Hoja1!$A$50:$C$63,2),\"\")","v":""},{"$f":"IFERROR(VLOOKUP(L606,Hoja1!$A$50:$C$63,3),\"\")","v":""}]
[null,null,null,null,null,null,null,null,null,null,null,null,null,null,null,null,null,null,null,null,null,{"$f":"IFERROR(WORKDAY(T607,AE607,Hoja1!F599:F715),\"\")","v":""},"",null,"",{"$f":"IF(P607=\"\",\"\",NETWORKDAYS(C607+1,P607,Hoja1!F599:F715))","v":""},{"$f":"IFERROR(IF(NETWORKDAYS(R607+1,P607,Hoja1!F599:F715)<=0,\"\",NETWORKDAYS(R607+1,P607,Hoja1!F599:F715)),0)","v":""},null,null,{"$f":"IFERROR(VLOOKUP(L607,Hoja1!$A$50:$C$63,2),\"\")","v":""},{"$f":"IFERROR(VLOOKUP(L607,Hoja1!$A$50:$C$63,3),\"\")","v":""}]
[null,null,null,null,null,null,null,null,null,null,null,null,null,null,null,null,null,null,null,null,null,{"$f":"IFERROR(WORKDAY(T608,AE608,Hoja1!F600:F716),\"\")","v":""},"",null,"",{"$f":"IF(P608=\"\",\"\",NETWORKDAYS(C608+1,P608,Hoja1!F600:F716))","v":""},{"$f":"IFERROR(IF(NETWORKDAYS(R608+1,P608,Hoja1!F600:F716)<=0,\"\",NETWORKDAYS(R608+1,P608,Hoja1!F600:F716)),0)","v":""},null,null,{"$f":"IFERROR(VLOOKUP(L608,Hoja1!$A$50:$C$63,2),\"\")","v":""},{"$f":"IFERROR(VLOOKUP(L608,Hoja1!$A$50:$C$63,3),\"\")","v":""}]
[null,null,null,null,null,null,null,null,null,null,null,null,null,null,null,null,null,null,null,null,null,{"$f":"IFERROR(WORKDAY(T609,AE609,Hoja1!F601:F717),\"\")","v":""},"",null,"",{"$f":"IF(P609=\"\",\"\",NETWORKDAYS(C609+1,P609,Hoja1!F601:F717))","v":""},{"$f":"IFERROR(IF(NETWORKDAYS(R609+1,P609,Hoja1!F601:F717)<=0,\"\",NETWORKDAYS(R609+1,P609,Hoja1!F601:F717)),0)","v":""},null,null,{"$f":"IFERROR(VLOOKUP(L609,Hoja1!$A$50:$C$63,2),\"\")","v":""},{"$f":"IFERROR(VLOOKUP(L609,Hoja1!$A$50:$C$63,3),\"\")","v":""}]
[null,null,null,null,null,null,null,null,null,null,null,null,null,null,null,null,null,null,null,null,null,{"$f":"IFERROR(WORKDAY(T610,AE610,Hoja1!F602:F718),\"\")","v":""},"",null,"",{"$f":"IF(P610=\"\",\"\",NETWORKDAYS(C610+1,P610,Hoja1!F602:F718))","v":""},{"$f":"IFERROR(IF(NETWORKDAYS(R610+1,P610,Hoja1!F602:F718)<=0,\"\",NETWORKDAYS(R610+1,P610,Hoja1!F602:F718)),0)","v":""},null,null,{"$f":"IFERROR(VLOOKUP(L610,Hoja1!$A$50:$C$63,2),\"\")","v":""},{"$f":"IFERROR(VLOOKUP(L610,Hoja1!$A$50:$C$63,3),\"\")","v":""}]
[null,null,null,null,null,null,null,null,null,null,null,null,null,null,null,null,null,null,null,null,null,{"$f":"IFERROR(WORKDAY(T611,AE611,Hoja1!F603:F719),\"\")","v":""},"",null,"",{"$f":"IF(P611=\"\",\"\",NETWORKDAYS(C611+1,P611,Hoja1!F603:F719))","v":""},{"$f":"IFERROR(IF(NETWORKDAYS(R611+1,P611,Hoja1!F603:F719)<=0,\"\",NETWORKDAYS(R611+1,P611,Hoja1!F603:F719)),0)","v":""},null,null,{"$f":"IFERROR(VLOOKUP(L611,Hoja1!$A$50:$C$63,2),\"\")","v":""},{"$f":"IFERROR(VLOOKUP(L611,Hoja1!$A$50:$C$63,3),\"\")","v":""}]
[null,null,null,null,null,null,null,null,null,null,null,null,null,null,null,null,null,null,null,null,null,{"$f":"IFERROR(WORKDAY(T612,AE612,Hoja1!F604:F720),\"\")","v":""},"",null,"",{"$f":"IF(P612=\"\",\"\",NETWORKDAYS(C612+1,P612,Hoja1!F604:F720))","v":""},{"$f":"IFERROR(IF(NETWORKDAYS(R612+1,P612,Hoja1!F604:F720)<=0,\"\",NETWORKDAYS(R612+1,P612,Hoja1!F604:F720)),0)","v":""},null,null,{"$f":"IFERROR(VLOOKUP(L612,Hoja1!$A$50:$C$63,2),\"\")","v":""},{"$f":"IFERROR(VLOOKUP(L612,Hoja1!$A$50:$C$63,3),\"\")","v":""}]
[null,null,null,null,null,null,null,null,null,null,null,null,null,null,null,null,null,null,null,null,null,{"$f":"IFERROR(WORKDAY(T613,AE613,Hoja1!F605:F721),\"\")","v":""},"",null,"",{"$f":"IF(P613=\"\",\"\",NETWORKDAYS(C613+1,P613,Hoja1!F605:F721))","v":""},{"$f":"IFERROR(IF(NETWORKDAYS(R613+1,P613,Hoja1!F605:F721)<=0,\"\",NETWORKDAYS(R613+1,P613,Hoja1!F605:F721)),0)","v":""},null,null,{"$f":"IFERROR(VLOOKUP(L613,Hoja1!$A$50:$C$63,2),\"\")","v":""},{"$f":"IFERROR(VLOOKUP(L613,Hoja1!$A$50:$C$63,3),\"\")","v":""}]
[null,null,null,null,null,null,null,null,null,null,null,null,null,null,null,null,null,null,null,null,null,{"$f":"IFERROR(WORKDAY(T614,AE614,Hoja1!F606:F722),\"\")","v":""},"",null,"",{"$f":"IF(P614=\"\",\"\",NETWORKDAYS(C614+1,P614,Hoja1!F606:F722))","v":""},{"$f":"IFERROR(IF(NETWORKDAYS(R614+1,P614,Hoja1!F606:F722)<=0,\"\",NETWORKDAYS(R614+1,P614,Hoja1!F606:F722)),0)","v":""},null,null,{"$f":"IFERROR(VLOOKUP(L614,Hoja1!$A$50:$C$63,2),\"\")","v":""},{"$f":"IFERROR(VLOOKUP(L614,Hoja1!$A$50:$C$63,3),\"\")","v":""}]
[null,null,null,null,null,null,null,null,null,null,null,null,null,null,null,null,null,null,null,null,null,{"$f":"IFERROR(WORKDAY(T615,AE615,Hoja1!F607:F723),\"\")","v":""},"",null,"",{"$f":"IF(P615=\"\",\"\",NETWORKDAYS(C615+1,P615,Hoja1!F607:F723))","v":""},{"$f":"IFERROR(IF(NETWORKDAYS(R615+1,P615,Hoja1!F607:F723)<=0,\"\",NETWORKDAYS(R615+1,P615,Hoja1!F607:F723)),0)","v":""},null,null,{"$f":"IFERROR(VLOOKUP(L615,Hoja1!$A$50:$C$63,2),\"\")","v":""},{"$f":"IFERROR(VLOOKUP(L615,Hoja1!$A$50:$C$63,3),\"\")","v":""}]
[null,null,null,null,null,null,null,null,null,null,null,null,null,null,null,null,null,null,null,null,null,{"$f":"IFERROR(WORKDAY(T616,AE616,Hoja1!F608:F724),\"\")","v":""},"",null,"",{"$f":"IF(P616=\"\",\"\",NETWORKDAYS(C616+1,P616,Hoja1!F608:F724))","v":""},{"$f":"IFERROR(IF(NETWORKDAYS(R616+1,P616,Hoja1!F608:F724)<=0,\"\",NETWORKDAYS(R616+1,P616,Hoja1!F608:F724)),0)","v":""},null,null,{"$f":"IFERROR(VLOOKUP(L616,Hoja1!$A$50:$C$63,2),\"\")","v":""},{"$f":"IFERROR(VLOOKUP(L616,Hoja1!$A$50:$C$63,3),\"\")","v":""}]
[null,null,null,null,null,null,null,null,null,null,null,null,null,null,null,null,null,null,null,null,null,{"$f":"IFERROR(WORKDAY(T617,AE617,Hoja1!F609:F725),\"\")","v":""},"",null,"",{"$f":"IF(P617=\"\",\"\",NETWORKDAYS(C617+1,P617,Hoja1!F609:F725))","v":""},{"$f":"IFERROR(IF(NETWORKDAYS(R617+1,P617,Hoja1!F609:F725)<=0,\"\",NETWORKDAYS(R617+1,P617,Hoja1!F609:F725)),0)","v":""},null,null,{"$f":"IFERROR(VLOOKUP(L617,Hoja1!$A$50:$C$63,2),\"\")","v":""},{"$f":"IFERROR(VLOOKUP(L617,Hoja1!$A$50:$C$63,3),\"\")","v":""}]
[null,null,null,null,null,null,null,null,null,null,null,null,null,null,null,null,null,null,null,null,null,{"$f":"IFERROR(WORKDAY(T618,AE618,Hoja1!F610:F726),\"\")","v":""},"",null,"",{"$f":"IF(P618=\"\",\"\",NETWORKDAYS(C618+1,P618,Hoja1!F610:F726))","v":""},{"$f":"IFERROR(IF(NETWORKDAYS(R618+1,P618,Hoja1!F610:F726)<=0,\"\",NETWORKDAYS(R618+1,P618,Hoja1!F610:F726)),0)","v":""},null,null,{"$f":"IFERROR(VLOOKUP(L618,Hoja1!$A$50:$C$63,2),\"\")","v":""},{"$f":"IFERROR(VLOOKUP(L618,Hoja1!$A$50:$C$63,3),\"\")","v":""}]
[null,null,null,null,null,null,null,null,null,null,null,null,null,null,null,null,null,null,null,null,null,{"$f":"IFERROR(WORKDAY(T619,AE619,Hoja1!F611:F727),\"\")","v":""},"",null,"",{"$f":"IF(P619=\"\",\"\",NETWORKDAYS(C619+1,P619,Hoja1!F611:F727))","v":""},{"$f":"IFERROR(IF(NETWORKDAYS(R619+1,P619,Hoja1!F611:F727)<=0,\"\",NETWORKDAYS(R619+1,P619,Hoja1!F611:F727)),0)","v":""},null,null,{"$f":"IFERROR(VLOOKUP(L619,Hoja1!$A$50:$C$63,2),\"\")","v":""},{"$f":"IFERROR(VLOOKUP(L619,Hoja1!$A$50:$C$63,3),\"\")","v":""}]
[null,null,null,null,null,null,null,null,null,null,null,null,null,null,null,null,null,null,null,null,null,{"$f":"IFERROR(WORKDAY(T620,AE620,Hoja1!F612:F728),\"\")","v":""},"",null,"",{"$f":"IF(P620=\"\",\"\",NETWORKDAYS(C620+1,P620,Hoja1!F612:F728))","v":""},{"$f":"IFERROR(IF(NETWORKDAYS(R620+1,P620,Hoja1!F612:F728)<=0,\"\",NETWORKDAYS(R620+1,P620,Hoja1!F612:F728)),0)","v":""},null,null,{"$f":"IFERROR(VLOOKUP(L620,Hoja1!$A$50:$C$63,2),\"\")","v":""},{"$f":"IFERROR(VLOOKUP(L620,Hoja1!$A$50:$C$63,3),\"\")","v":""}]
[null,null,null,null,null,null,null,null,null,null,null,null,null,null,null,null,null,null,null,null,null,{"$f":"IFERROR(WORKDAY(T621,AE621,Hoja1!F613:F729),\"\")","v":""},"",null,"",{"$f":"IF(P621=\"\",\"\",NETWORKDAYS(C621+1,P621,Hoja1!F613:F729))","v":""},{"$f":"IFERROR(IF(NETWORKDAYS(R621+1,P621,Hoja1!F613:F729)<=0,\"\",NETWORKDAYS(R621+1,P621,Hoja1!F613:F729)),0)","v":""},null,null,{"$f":"IFERROR(VLOOKUP(L621,Hoja1!$A$50:$C$63,2),\"\")","v":""},{"$f":"IFERROR(VLOOKUP(L621,Hoja1!$A$50:$C$63,3),\"\")","v":""}]
[null,null,null,null,null,null,null,null,null,null,null,null,null,null,null,null,null,null,null,null,null,{"$f":"IFERROR(WORKDAY(T622,AE622,Hoja1!F614:F730),\"\")","v":""},"",null,"",{"$f":"IF(P622=\"\",\"\",NETWORKDAYS(C622+1,P622,Hoja1!F614:F730))","v":""},{"$f":"IFERROR(IF(NETWORKDAYS(R622+1,P622,Hoja1!F614:F730)<=0,\"\",NETWORKDAYS(R622+1,P622,Hoja1!F614:F730)),0)","v":""},null,null,{"$f":"IFERROR(VLOOKUP(L622,Hoja1!$A$50:$C$63,2),\"\")","v":""},{"$f":"IFERROR(VLOOKUP(L622,Hoja1!$A$50:$C$63,3),\"\")","v":""}]
[null,null,null,null,null,null,null,null,null,null,null,null,null,null,null,null,null,null,null,null,null,{"$f":"IFERROR(WORKDAY(T623,AE623,Hoja1!F615:F731),\"\")","v":""},"",null,"",{"$f":"IF(P623=\"\",\"\",NETWORKDAYS(C623+1,P623,Hoja1!F615:F731))","v":""},{"$f":"IFERROR(IF(NETWORKDAYS(R623+1,P623,Hoja1!F615:F731)<=0,\"\",NETWORKDAYS(R623+1,P623,Hoja1!F615:F731)),0)","v":""},null,null,{"$f":"IFERROR(VLOOKUP(L623,Hoja1!$A$50:$C$63,2),\"\")","v":""},{"$f":"IFERROR(VLOOKUP(L623,Hoja1!$A$50:$C$63,3),\"\")","v":""}]
[null,null,null,null,null,null,null,null,null,null,null,null,null,null,null,null,null,null,null,null,null,{"$f":"IFERROR(WORKDAY(T624,AE624,Hoja1!F616:F732),\"\")","v":""},"",null,"",{"$f":"IF(P624=\"\",\"\",NETWORKDAYS(C624+1,P624,Hoja1!F616:F732))","v":""},{"$f":"IFERROR(IF(NETWORKDAYS(R624+1,P624,Hoja1!F616:F732)<=0,\"\",NETWORKDAYS(R624+1,P624,Hoja1!F616:F732)),0)","v":""},null,null,{"$f":"IFERROR(VLOOKUP(L624,Hoja1!$A$50:$C$63,2),\"\")","v":""},{"$f":"IFERROR(VLOOKUP(L624,Hoja1!$A$50:$C$63,3),\"\")","v":""}]
[null,null,null,null,null,null,null,null,null,null,null,null,null,null,null,null,null,null,null,null,null,{"$f":"IFERROR(WORKDAY(T625,AE625,Hoja1!F617:F733),\"\")","v":""},"",null,"",{"$f":"IF(P625=\"\",\"\",NETWORKDAYS(C625+1,P625,Hoja1!F617:F733))","v":""},{"$f":"IFERROR(IF(NETWORKDAYS(R625+1,P625,Hoja1!F617:F733)<=0,\"\",NETWORKDAYS(R625+1,P625,Hoja1!F617:F733)),0)","v":""},null,null,{"$f":"IFERROR(VLOOKUP(L625,Hoja1!$A$50:$C$63,2),\"\")","v":""},{"$f":"IFERROR(VLOOKUP(L625,Hoja1!$A$50:$C$63,3),\"\")","v":""}]
[null,null,null,null,null,null,null,null,null,null,null,null,null,null,null,null,null,null,null,null,null,{"$f":"IFERROR(WORKDAY(T626,AE626,Hoja1!F618:F734),\"\")","v":""},"",null,"",{"$f":"IF(P626=\"\",\"\",NETWORKDAYS(C626+1,P626,Hoja1!F618:F734))","v":""},{"$f":"IFERROR(IF(NETWORKDAYS(R626+1,P626,Hoja1!F618:F734)<=0,\"\",NETWORKDAYS(R626+1,P626,Hoja1!F618:F734)),0)","v":""},null,null,{"$f":"IFERROR(VLOOKUP(L626,Hoja1!$A$50:$C$63,2),\"\")","v":""},{"$f":"IFERROR(VLOOKUP(L626,Hoja1!$A$50:$C$63,3),\"\")","v":""}]
[null,null,null,null,null,null,null,null,null,null,null,null,null,null,null,null,null,null,null,null,null,{"$f":"IFERROR(WORKDAY(T627,AE627,Hoja1!F619:F735),\"\")","v":""},"",null,"",{"$f":"IF(P627=\"\",\"\",NETWORKDAYS(C627+1,P627,Hoja1!F619:F735))","v":""},{"$f":"IFERROR(IF(NETWORKDAYS(R627+1,P627,Hoja1!F619:F735)<=0,\"\",NETWORKDAYS(R627+1,P627,Hoja1!F619:F735)),0)","v":""},null,null,{"$f":"IFERROR(VLOOKUP(L627,Hoja1!$A$50:$C$63,2),\"\")","v":""},{"$f":"IFERROR(VLOOKUP(L627,Hoja1!$A$50:$C$63,3),\"\")","v":""}]
[null,null,null,null,null,null,null,null,null,null,null,null,null,null,null,null,null,null,null,null,null,{"$f":"IFERROR(WORKDAY(T628,AE628,Hoja1!F620:F736),\"\")","v":""},"",null,"",{"$f":"IF(P628=\"\",\"\",NETWORKDAYS(C628+1,P628,Hoja1!F620:F736))","v":""},{"$f":"IFERROR(IF(NETWORKDAYS(R628+1,P628,Hoja1!F620:F736)<=0,\"\",NETWORKDAYS(R628+1,P628,Hoja1!F620:F736)),0)","v":""},null,null,{"$f":"IFERROR(VLOOKUP(L628,Hoja1!$A$50:$C$63,2),\"\")","v":""},{"$f":"IFERROR(VLOOKUP(L628,Hoja1!$A$50:$C$63,3),\"\")","v":""}]
[null,null,null,null,null,null,null,null,null,null,null,null,null,null,null,null,null,null,null,null,null,{"$f":"IFERROR(WORKDAY(T629,AE629,Hoja1!F621:F737),\"\")","v":""},"",null,"",{"$f":"IF(P629=\"\",\"\",NETWORKDAYS(C629+1,P629,Hoja1!F621:F737))","v":""},{"$f":"IFERROR(IF(NETWORKDAYS(R629+1,P629,Hoja1!F621:F737)<=0,\"\",NETWORKDAYS(R629+1,P629,Hoja1!F621:F737)),0)","v":""},null,null,{"$f":"IFERROR(VLOOKUP(L629,Hoja1!$A$50:$C$63,2),\"\")","v":""},{"$f":"IFERROR(VLOOKUP(L629,Hoja1!$A$50:$C$63,3),\"\")","v":""}]
[null,null,null,null,null,null,null,null,null,null,null,null,null,null,null,null,null,null,null,null,null,{"$f":"IFERROR(WORKDAY(T630,AE630,Hoja1!F622:F738),\"\")","v":""},"",null,"",{"$f":"IF(P630=\"\",\"\",NETWORKDAYS(C630+1,P630,Hoja1!F622:F738))","v":""},{"$f":"IFERROR(IF(NETWORKDAYS(R630+1,P630,Hoja1!F622:F738)<=0,\"\",NETWORKDAYS(R630+1,P630,Hoja1!F622:F738)),0)","v":""},null,null,{"$f":"IFERROR(VLOOKUP(L630,Hoja1!$A$50:$C$63,2),\"\")","v":""},{"$f":"IFERROR(VLOOKUP(L630,Hoja1!$A$50:$C$63,3),\"\")","v":""}]
[null,null,null,null,null,null,null,null,null,null,null,null,null,null,null,null,null,null,null,null,null,{"$f":"IFERROR(WORKDAY(T631,AE631,Hoja1!F623:F739),\"\")","v":""},"",null,"",{"$f":"IF(P631=\"\",\"\",NETWORKDAYS(C631+1,P631,Hoja1!F623:F739))","v":""},{"$f":"IFERROR(IF(NETWORKDAYS(R631+1,P631,Hoja1!F623:F739)<=0,\"\",NETWORKDAYS(R631+1,P631,Hoja1!F623:F739)),0)","v":""},null,null,{"$f":"IFERROR(VLOOKUP(L631,Hoja1!$A$50:$C$63,2),\"\")","v":""},{"$f":"IFERROR(VLOOKUP(L631,Hoja1!$A$50:$C$63,3),\"\")","v":""}]
[null,null,null,null,null,null,null,null,null,null,null,null,null,null,null,null,null,null,null,null,null,{"$f":"IFERROR(WORKDAY(T632,AE632,Hoja1!F624:F740),\"\")","v":""},"",null,"",{"$f":"IF(P632=\"\",\"\",NETWORKDAYS(C632+1,P632,Hoja1!F624:F740))","v":""},{"$f":"IFERROR(IF(NETWORKDAYS(R632+1,P632,Hoja1!F624:F740)<=0,\"\",NETWORKDAYS(R632+1,P632,Hoja1!F624:F740)),0)","v":""},null,null,{"$f":"IFERROR(VLOOKUP(L632,Hoja1!$A$50:$C$63,2),\"\")","v":""},{"$f":"IFERROR(VLOOKUP(L632,Hoja1!$A$50:$C$63,3),\"\")","v":""}]
[null,null,null,null,null,null,null,null,null,null,null,null,null,null,null,null,null,null,null,null,null,{"$f":"IFERROR(WORKDAY(T633,AE633,Hoja1!F625:F741),\"\")","v":""},"",null,"",{"$f":"IF(P633=\"\",\"\",NETWORKDAYS(C633+1,P633,Hoja1!F625:F741))","v":""},{"$f":"IFERROR(IF(NETWORKDAYS(R633+1,P633,Hoja1!F625:F741)<=0,\"\",NETWORKDAYS(R633+1,P633,Hoja1!F625:F741)),0)","v":""},null,null,{"$f":"IFERROR(VLOOKUP(L633,Hoja1!$A$50:$C$63,2),\"\")","v":""},{"$f":"IFERROR(VLOOKUP(L633,Hoja1!$A$50:$C$63,3),\"\")","v":""}]
[null,null,null,null,null,null,null,null,null,null,null,null,null,null,null,null,null,null,null,null,null,{"$f":"IFERROR(WORKDAY(T634,AE634,Hoja1!F626:F742),\"\")","v":""},"",null,"",{"$f":"IF(P634=\"\",\"\",NETWORKDAYS(C634+1,P634,Hoja1!F626:F742))","v":""},{"$f":"IFERROR(IF(NETWORKDAYS(R634+1,P634,Hoja1!F626:F742)<=0,\"\",NETWORKDAYS(R634+1,P634,Hoja1!F626:F742)),0)","v":""},null,null,{"$f":"IFERROR(VLOOKUP(L634,Hoja1!$A$50:$C$63,2),\"\")","v":""},{"$f":"IFERROR(VLOOKUP(L634,Hoja1!$A$50:$C$63,3),\"\")","v":""}]
[null,null,null,null,null,null,null,null,null,null,null,null,null,null,null,null,null,null,null,null,null,{"$f":"IFERROR(WORKDAY(T635,AE635,Hoja1!F627:F743),\"\")","v":""},"",null,"",{"$f":"IF(P635=\"\",\"\",NETWORKDAYS(C635+1,P635,Hoja1!F627:F743))","v":""},{"$f":"IFERROR(IF(NETWORKDAYS(R635+1,P635,Hoja1!F627:F743)<=0,\"\",NETWORKDAYS(R635+1,P635,Hoja1!F627:F743)),0)","v":""},null,null,{"$f":"IFERROR(VLOOKUP(L635,Hoja1!$A$50:$C$63,2),\"\")","v":""},{"$f":"IFERROR(VLOOKUP(L635,Hoja1!$A$50:$C$63,3),\"\")","v":""}]
[null,null,null,null,null,null,null,null,null,null,null,null,null,null,null,null,null,null,null,null,null,{"$f":"IFERROR(WORKDAY(T636,AE636,Hoja1!F628:F744),\"\")","v":""},"",null,"",{"$f":"IF(P636=\"\",\"\",NETWORKDAYS(C636+1,P636,Hoja1!F628:F744))","v":""},{"$f":"IFERROR(IF(NETWORKDAYS(R636+1,P636,Hoja1!F628:F744)<=0,\"\",NETWORKDAYS(R636+1,P636,Hoja1!F628:F744)),0)","v":""},null,null,{"$f":"IFERROR(VLOOKUP(L636,Hoja1!$A$50:$C$63,2),\"\")","v":""},{"$f":"IFERROR(VLOOKUP(L636,Hoja1!$A$50:$C$63,3),\"\")","v":""}]
[null,null,null,null,null,null,null,null,null,null,null,null,null,null,null,null,null,null,null,null,null,{"$f":"IFERROR(WORKDAY(T637,AE637,Hoja1!F629:F745),\"\")","v":""},"",null,"",{"$f":"IF(P637=\"\",\"\",NETWORKDAYS(C637+1,P637,Hoja1!F629:F745))","v":""},{"$f":"IFERROR(IF(NETWORKDAYS(R637+1,P637,Hoja1!F629:F745)<=0,\"\",NETWORKDAYS(R637+1,P637,Hoja1!F629:F745)),0)","v":""},null,null,{"$f":"IFERROR(VLOOKUP(L637,Hoja1!$A$50:$C$63,2),\"\")","v":""},{"$f":"IFERROR(VLOOKUP(L637,Hoja1!$A$50:$C$63,3),\"\")","v":""}]
[null,null,null,null,null,null,null,null,null,null,null,null,null,null,null,null,null,null,null,null,null,{"$f":"IFERROR(WORKDAY(T638,AE638,Hoja1!F630:F746),\"\")","v":""},"",null,"",{"$f":"IF(P638=\"\",\"\",NETWORKDAYS(C638+1,P638,Hoja1!F630:F746))","v":""},{"$f":"IFERROR(IF(NETWORKDAYS(R638+1,P638,Hoja1!F630:F746)<=0,\"\",NETWORKDAYS(R638+1,P638,Hoja1!F630:F746)),0)","v":""},null,null,{"$f":"IFERROR(VLOOKUP(L638,Hoja1!$A$50:$C$63,2),\"\")","v":""},{"$f":"IFERROR(VLOOKUP(L638,Hoja1!$A$50:$C$63,3),\"\")","v":""}]
[null,null,null,null,null,null,null,null,null,null,null,null,null,null,null,null,null,null,null,null,null,{"$f":"IFERROR(WORKDAY(T639,AE639,Hoja1!F631:F747),\"\")","v":""},"",null,"",{"$f":"IF(P639=\"\",\"\",NETWORKDAYS(C639+1,P639,Hoja1!F631:F747))","v":""},{"$f":"IFERROR(IF(NETWORKDAYS(R639+1,P639,Hoja1!F631:F747)<=0,\"\",NETWORKDAYS(R639+1,P639,Hoja1!F631:F747)),0)","v":""},null,null,{"$f":"IFERROR(VLOOKUP(L639,Hoja1!$A$50:$C$63,2),\"\")","v":""},{"$f":"IFERROR(VLOOKUP(L639,Hoja1!$A$50:$C$63,3),\"\")","v":""}]
[null,null,null,null,null,null,null,null,null,null,null,null,null,null,null,null,null,null,null,null,null,{"$f":"IFERROR(WORKDAY(T640,AE640,Hoja1!F632:F748),\"\")","v":""},"",null,"",{"$f":"IF(P640=\"\",\"\",NETWORKDAYS(C640+1,P640,Hoja1!F632:F748))","v":""},{"$f":"IFERROR(IF(NETWORKDAYS(R640+1,P640,Hoja1!F632:F748)<=0,\"\",NETWORKDAYS(R640+1,P640,Hoja1!F632:F748)),0)","v":""},null,null,{"$f":"IFERROR(VLOOKUP(L640,Hoja1!$A$50:$C$63,2),\"\")","v":""},{"$f":"IFERROR(VLOOKUP(L640,Hoja1!$A$50:$C$63,3),\"\")","v":""}]
[null,null,null,null,null,null,null,null,null,null,null,null,null,null,null,null,null,null,null,null,null,{"$f":"IFERROR(WORKDAY(T641,AE641,Hoja1!F633:F749),\"\")","v":""},"",null,"",{"$f":"IF(P641=\"\",\"\",NETWORKDAYS(C641+1,P641,Hoja1!F633:F749))","v":""},{"$f":"IFERROR(IF(NETWORKDAYS(R641+1,P641,Hoja1!F633:F749)<=0,\"\",NETWORKDAYS(R641+1,P641,Hoja1!F633:F749)),0)","v":""},null,null,{"$f":"IFERROR(VLOOKUP(L641,Hoja1!$A$50:$C$63,2),\"\")","v":""},{"$f":"IFERROR(VLOOKUP(L641,Hoja1!$A$50:$C$63,3),\"\")","v":""}]
[null,null,null,null,null,null,null,null,null,null,null,null,null,null,null,null,null,null,null,null,null,{"$f":"IFERROR(WORKDAY(T642,AE642,Hoja1!F634:F750),\"\")","v":""},"",null,"",{"$f":"IF(P642=\"\",\"\",NETWORKDAYS(C642+1,P642,Hoja1!F634:F750))","v":""},{"$f":"IFERROR(IF(NETWORKDAYS(R642+1,P642,Hoja1!F634:F750)<=0,\"\",NETWORKDAYS(R642+1,P642,Hoja1!F634:F750)),0)","v":""},null,null,{"$f":"IFERROR(VLOOKUP(L642,Hoja1!$A$50:$C$63,2),\"\")","v":""},{"$f":"IFERROR(VLOOKUP(L642,Hoja1!$A$50:$C$63,3),\"\")","v":""}]
[null,null,null,null,null,null,null,null,null,null,null,null,null,null,null,null,null,null,null,null,null,{"$f":"IFERROR(WORKDAY(T643,AE643,Hoja1!F635:F751),\"\")","v":""},"",null,"",{"$f":"IF(P643=\"\",\"\",NETWORKDAYS(C643+1,P643,Hoja1!F635:F751))","v":""},{"$f":"IFERROR(IF(NETWORKDAYS(R643+1,P643,Hoja1!F635:F751)<=0,\"\",NETWORKDAYS(R643+1,P643,Hoja1!F635:F751)),0)","v":""},null,null,{"$f":"IFERROR(VLOOKUP(L643,Hoja1!$A$50:$C$63,2),\"\")","v":""},{"$f":"IFERROR(VLOOKUP(L643,Hoja1!$A$50:$C$63,3),\"\")","v":""}]
[null,null,null,null,null,null,null,null,null,null,null,null,null,null,null,null,null,null,null,null,null,{"$f":"IFERROR(WORKDAY(T644,AE644,Hoja1!F636:F752),\"\")","v":""},"",null,"",{"$f":"IF(P644=\"\",\"\",NETWORKDAYS(C644+1,P644,Hoja1!F636:F752))","v":""},{"$f":"IFERROR(IF(NETWORKDAYS(R644+1,P644,Hoja1!F636:F752)<=0,\"\",NETWORKDAYS(R644+1,P644,Hoja1!F636:F752)),0)","v":""},null,null,{"$f":"IFERROR(VLOOKUP(L644,Hoja1!$A$50:$C$63,2),\"\")","v":""},{"$f":"IFERROR(VLOOKUP(L644,Hoja1!$A$50:$C$63,3),\"\")","v":""}]
[null,null,null,null,null,null,null,null,null,null,null,null,null,null,null,null,null,null,null,null,null,{"$f":"IFERROR(WORKDAY(T645,AE645,Hoja1!F637:F753),\"\")","v":""},"",null,"",{"$f":"IF(P645=\"\",\"\",NETWORKDAYS(C645+1,P645,Hoja1!F637:F753))","v":""},{"$f":"IFERROR(IF(NETWORKDAYS(R645+1,P645,Hoja1!F637:F753)<=0,\"\",NETWORKDAYS(R645+1,P645,Hoja1!F637:F753)),0)","v":""},null,null,{"$f":"IFERROR(VLOOKUP(L645,Hoja1!$A$50:$C$63,2),\"\")","v":""},{"$f":"IFERROR(VLOOKUP(L645,Hoja1!$A$50:$C$63,3),\"\")","v":""}]
[null,null,null,null,null,null,null,null,null,null,null,null,null,null,null,null,null,null,null,null,null,{"$f":"IFERROR(WORKDAY(T646,AE646,Hoja1!F638:F754),\"\")","v":""},"",null,"",{"$f":"IF(P646=\"\",\"\",NETWORKDAYS(C646+1,P646,Hoja1!F638:F754))","v":""},{"$f":"IFERROR(IF(NETWORKDAYS(R646+1,P646,Hoja1!F638:F754)<=0,\"\",NETWORKDAYS(R646+1,P646,Hoja1!F638:F754)),0)","v":""},null,null,{"$f":"IFERROR(VLOOKUP(L646,Hoja1!$A$50:$C$63,2),\"\")","v":""},{"$f":"IFERROR(VLOOKUP(L646,Hoja1!$A$50:$C$63,3),\"\")","v":""}]
[null,null,null,null,null,null,null,null,null,null,null,null,null,null,null,null,null,null,null,null,null,{"$f":"IFERROR(WORKDAY(T647,AE647,Hoja1!F639:F755),\"\")","v":""},"",null,"",{"$f":"IF(P647=\"\",\"\",NETWORKDAYS(C647+1,P647,Hoja1!F639:F755))","v":""},{"$f":"IFERROR(IF(NETWORKDAYS(R647+1,P647,Hoja1!F639:F755)<=0,\"\",NETWORKDAYS(R647+1,P647,Hoja1!F639:F755)),0)","v":""},null,null,{"$f":"IFERROR(VLOOKUP(L647,Hoja1!$A$50:$C$63,2),\"\")","v":""},{"$f":"IFERROR(VLOOKUP(L647,Hoja1!$A$50:$C$63,3),\"\")","v":""}]
[null,null,null,null,null,null,null,null,null,null,null,null,null,null,null,null,null,null,null,null,null,{"$f":"IFERROR(WORKDAY(T648,AE648,Hoja1!F640:F756),\"\")","v":""},"",null,"",{"$f":"IF(P648=\"\",\"\",NETWORKDAYS(C648+1,P648,Hoja1!F640:F756))","v":""},{"$f":"IFERROR(IF(NETWORKDAYS(R648+1,P648,Hoja1!F640:F756)<=0,\"\",NETWORKDAYS(R648+1,P648,Hoja1!F640:F756)),0)","v":""},null,null,{"$f":"IFERROR(VLOOKUP(L648,Hoja1!$A$50:$C$63,2),\"\")","v":""},{"$f":"IFERROR(VLOOKUP(L648,Hoja1!$A$50:$C$63,3),\"\")","v":""}]
[null,null,null,null,null,null,null,null,null,null,null,null,null,null,null,null,null,null,null,null,null,{"$f":"IFERROR(WORKDAY(T649,AE649,Hoja1!F641:F757),\"\")","v":""},"",null,"",{"$f":"IF(P649=\"\",\"\",NETWORKDAYS(C649+1,P649,Hoja1!F641:F757))","v":""},{"$f":"IFERROR(IF(NETWORKDAYS(R649+1,P649,Hoja1!F641:F757)<=0,\"\",NETWORKDAYS(R649+1,P649,Hoja1!F641:F757)),0)","v":""},null,null,{"$f":"IFERROR(VLOOKUP(L649,Hoja1!$A$50:$C$63,2),\"\")","v":""},{"$f":"IFERROR(VLOOKUP(L649,Hoja1!$A$50:$C$63,3),\"\")","v":""}]
[null,null,null,null,null,null,null,null,null,null,null,null,null,null,null,null,null,null,null,null,null,{"$f":"IFERROR(WORKDAY(T650,AE650,Hoja1!F642:F758),\"\")","v":""},{"$f":"+IF(T650=\"\",\"\",IF(U650=\"\",\"SIN RESPUESTA\",(IF(U650<=V650,\"A TIEMPO\",\"FUERA DE TIEMPO\"))))","v":""},null,{"$f":"+IF(C650=\"\",\"\",IF(P650=\"\",\"SIN RESPUESTA\",(IF(P650<=R650,\"A TIEMPO\",\"FUERA DE TIEMPO\"))))","v":""},{"$f":"IF(P650=\"\",\"\",NETWORKDAYS(C650+1,P650,Hoja1!F642:F758))","v":""},{"$f":"IFERROR(IF(NETWORKDAYS(R650+1,P650,Hoja1!F642:F758)<=0,\"\",NETWORKDAYS(R650+1,P650,Hoja1!F642:F758)),0)","v":""},null,null,{"$f":"IFERROR(VLOOKUP(L650,Hoja1!$A$50:$C$63,2),\"\")","v":""},{"$f":"IFERROR(VLOOKUP(L650,Hoja1!$A$50:$C$63,3),\"\")","v":""}]
[null,null,null,null,null,null,null,null,null,null,null,null,null,null,null,null,null,null,null,null,null,{"$f":"IFERROR(WORKDAY(T651,AE651,Hoja1!F643:F759),\"\")","v":""},"",null,"",{"$f":"IF(P651=\"\",\"\",NETWORKDAYS(C651+1,P651,Hoja1!F643:F759))","v":""},{"$f":"IFERROR(IF(NETWORKDAYS(R651+1,P651,Hoja1!F643:F759)<=0,\"\",NETWORKDAYS(R651+1,P651,Hoja1!F643:F759)),0)","v":""},null,null,{"$f":"IFERROR(VLOOKUP(L651,Hoja1!$A$50:$C$63,2),\"\")","v":""},{"$f":"IFERROR(VLOOKUP(L651,Hoja1!$A$50:$C$63,3),\"\")","v":""}]
[null,null,null,null,null,null,null,null,null,null,null,null,null,null,null,null,null,null,null,null,null,{"$f":"IFERROR(WORKDAY(T652,AE652,Hoja1!F644:F760),\"\")","v":""},"",null,"",{"$f":"IF(P652=\"\",\"\",NETWORKDAYS(C652+1,P652,Hoja1!F644:F760))","v":""},{"$f":"IFERROR(IF(NETWORKDAYS(R652+1,P652,Hoja1!F644:F760)<=0,\"\",NETWORKDAYS(R652+1,P652,Hoja1!F644:F760)),0)","v":""},null,null,{"$f":"IFERROR(VLOOKUP(L652,Hoja1!$A$50:$C$63,2),\"\")","v":""},{"$f":"IFERROR(VLOOKUP(L652,Hoja1!$A$50:$C$63,3),\"\")","v":""}]
[null,null,null,null,null,null,null,null,null,null,null,null,null,null,null,null,null,null,null,null,null,{"$f":"IFERROR(WORKDAY(T653,AE653,Hoja1!F645:F761),\"\")","v":""},"",null,"",{"$f":"IF(P653=\"\",\"\",NETWORKDAYS(C653+1,P653,Hoja1!F645:F761))","v":""},{"$f":"IFERROR(IF(NETWORKDAYS(R653+1,P653,Hoja1!F645:F761)<=0,\"\",NETWORKDAYS(R653+1,P653,Hoja1!F645:F761)),0)","v":""},null,null,{"$f":"IFERROR(VLOOKUP(L653,Hoja1!$A$50:$C$63,2),\"\")","v":""},{"$f":"IFERROR(VLOOKUP(L653,Hoja1!$A$50:$C$63,3),\"\")","v":""}]
[null,null,null,null,null,null,null,null,null,null,null,null,null,null,null,null,null,null,null,null,null,{"$f":"IFERROR(WORKDAY(T654,AE654,Hoja1!F646:F762),\"\")","v":""},"",null,"",{"$f":"IF(P654=\"\",\"\",NETWORKDAYS(C654+1,P654,Hoja1!F646:F762))","v":""},{"$f":"IFERROR(IF(NETWORKDAYS(R654+1,P654,Hoja1!F646:F762)<=0,\"\",NETWORKDAYS(R654+1,P654,Hoja1!F646:F762)),0)","v":""},null,null,{"$f":"IFERROR(VLOOKUP(L654,Hoja1!$A$50:$C$63,2),\"\")","v":""},{"$f":"IFERROR(VLOOKUP(L654,Hoja1!$A$50:$C$63,3),\"\")","v":""}]
[null,null,null,null,null,null,null,null,null,null,null,null,null,null,null,null,null,null,null,null,null,{"$f":"IFERROR(WORKDAY(T655,AE655,Hoja1!F647:F763),\"\")","v":""},"",null,"",{"$f":"IF(P655=\"\",\"\",NETWORKDAYS(C655+1,P655,Hoja1!F647:F763))","v":""},{"$f":"IFERROR(IF(NETWORKDAYS(R655+1,P655,Hoja1!F647:F763)<=0,\"\",NETWORKDAYS(R655+1,P655,Hoja1!F647:F763)),0)","v":""},null,null,{"$f":"IFERROR(VLOOKUP(L655,Hoja1!$A$50:$C$63,2),\"\")","v":""},{"$f":"IFERROR(VLOOKUP(L655,Hoja1!$A$50:$C$63,3),\"\")","v":""}]
[null,null,null,null,null,null,null,null,null,null,null,null,null,null,null,null,null,null,null,null,null,{"$f":"IFERROR(WORKDAY(T656,AE656,Hoja1!F648:F764),\"\")","v":""},"",null,"",{"$f":"IF(P656=\"\",\"\",NETWORKDAYS(C656+1,P656,Hoja1!F648:F764))","v":""},{"$f":"IFERROR(IF(NETWORKDAYS(R656+1,P656,Hoja1!F648:F764)<=0,\"\",NETWORKDAYS(R656+1,P656,Hoja1!F648:F764)),0)","v":""},null,null,{"$f":"IFERROR(VLOOKUP(L656,Hoja1!$A$50:$C$63,2),\"\")","v":""},{"$f":"IFERROR(VLOOKUP(L656,Hoja1!$A$50:$C$63,3),\"\")","v":""}]
[null,null,null,null,null,null,null,null,null,null,null,null,null,null,null,null,null,null,null,null,null,{"$f":"IFERROR(WORKDAY(T657,AE657,Hoja1!F649:F765),\"\")","v":""},"",null,"",{"$f":"IF(P657=\"\",\"\",NETWORKDAYS(C657+1,P657,Hoja1!F649:F765))","v":""},{"$f":"IFERROR(IF(NETWORKDAYS(R657+1,P657,Hoja1!F649:F765)<=0,\"\",NETWORKDAYS(R657+1,P657,Hoja1!F649:F765)),0)","v":""},null,null,{"$f":"IFERROR(VLOOKUP(L657,Hoja1!$A$50:$C$63,2),\"\")","v":""},{"$f":"IFERROR(VLOOKUP(L657,Hoja1!$A$50:$C$63,3),\"\")","v":""}]
[null,null,null,null,null,null,null,null,null,null,null,null,null,null,null,null,null,null,null,null,null,{"$f":"IFERROR(WORKDAY(T658,AE658,Hoja1!F650:F766),\"\")","v":""},"",null,"",{"$f":"IF(P658=\"\",\"\",NETWORKDAYS(C658+1,P658,Hoja1!F650:F766))","v":""},{"$f":"IFERROR(IF(NETWORKDAYS(R658+1,P658,Hoja1!F650:F766)<=0,\"\",NETWORKDAYS(R658+1,P658,Hoja1!F650:F766)),0)","v":""},null,null,{"$f":"IFERROR(VLOOKUP(L658,Hoja1!$A$50:$C$63,2),\"\")","v":""},{"$f":"IFERROR(VLOOKUP(L658,Hoja1!$A$50:$C$63,3),\"\")","v":""}]
[null,null,null,null,null,null,null,null,null,null,null,null,null,null,null,null,null,null,null,null,null,{"$f":"IFERROR(WORKDAY(T659,AE659,Hoja1!F651:F767),\"\")","v":""},"",null,"",{"$f":"IF(P659=\"\",\"\",NETWORKDAYS(C659+1,P659,Hoja1!F651:F767))","v":""},{"$f":"IFERROR(IF(NETWORKDAYS(R659+1,P659,Hoja1!F651:F767)<=0,\"\",NETWORKDAYS(R659+1,P659,Hoja1!F651:F767)),0)","v":""},null,null,{"$f":"IFERROR(VLOOKUP(L659,Hoja1!$A$50:$C$63,2),\"\")","v":""},{"$f":"IFERROR(VLOOKUP(L659,Hoja1!$A$50:$C$63,3),\"\")","v":""}]
[null,null,null,null,null,null,null,null,null,null,null,null,null,null,null,null,null,null,null,null,null,{"$f":"IFERROR(WORKDAY(T660,AE660,Hoja1!F652:F768),\"\")","v":""},"",null,"",{"$f":"IF(P660=\"\",\"\",NETWORKDAYS(C660+1,P660,Hoja1!F652:F768))","v":""},{"$f":"IFERROR(IF(NETWORKDAYS(R660+1,P660,Hoja1!F652:F768)<=0,\"\",NETWORKDAYS(R660+1,P660,Hoja1!F652:F768)),0)","v":""},null,null,{"$f":"IFERROR(VLOOKUP(L660,Hoja1!$A$50:$C$63,2),\"\")","v":""},{"$f":"IFERROR(VLOOKUP(L660,Hoja1!$A$50:$C$63,3),\"\")","v":""}]
[null,null,null,null,null,null,null,null,null,null,null,null,null,null,null,null,null,null,null,null,null,{"$f":"IFERROR(WORKDAY(T661,AE661,Hoja1!F653:F769),\"\")","v":""},"",null,"",{"$f":"IF(P661=\"\",\"\",NETWORKDAYS(C661+1,P661,Hoja1!F653:F769))","v":""},{"$f":"IFERROR(IF(NETWORKDAYS(R661+1,P661,Hoja1!F653:F769)<=0,\"\",NETWORKDAYS(R661+1,P661,Hoja1!F653:F769)),0)","v":""},null,null,{"$f":"IFERROR(VLOOKUP(L661,Hoja1!$A$50:$C$63,2),\"\")","v":""},{"$f":"IFERROR(VLOOKUP(L661,Hoja1!$A$50:$C$63,3),\"\")","v":""}]
[null,null,null,null,null,null,null,null,null,null,null,null,null,null,null,null,null,null,null,null,null,{"$f":"IFERROR(WORKDAY(T662,AE662,Hoja1!F654:F770),\"\")","v":""},"",null,"",{"$f":"IF(P662=\"\",\"\",NETWORKDAYS(C662+1,P662,Hoja1!F654:F770))","v":""},{"$f":"IFERROR(IF(NETWORKDAYS(R662+1,P662,Hoja1!F654:F770)<=0,\"\",NETWORKDAYS(R662+1,P662,Hoja1!F654:F770)),0)","v":""},null,null,{"$f":"IFERROR(VLOOKUP(L662,Hoja1!$A$50:$C$63,2),\"\")","v":""},{"$f":"IFERROR(VLOOKUP(L662,Hoja1!$A$50:$C$63,3),\"\")","v":""}]
[null,null,null,null,null,null,null,null,null,null,null,null,null,null,null,null,null,null,null,null,null,{"$f":"IFERROR(WORKDAY(T663,AE663,Hoja1!F655:F771),\"\")","v":""},"",null,"",{"$f":"IF(P663=\"\",\"\",NETWORKDAYS(C663+1,P663,Hoja1!F655:F771))","v":""},{"$f":"IFERROR(IF(NETWORKDAYS(R663+1,P663,Hoja1!F655:F771)<=0,\"\",NETWORKDAYS(R663+1,P663,Hoja1!F655:F771)),0)","v":""},null,null,{"$f":"IFERROR(VLOOKUP(L663,Hoja1!$A$50:$C$63,2),\"\")","v":""},{"$f":"IFERROR(VLOOKUP(L663,Hoja1!$A$50:$C$63,3),\"\")","v":""}]
[null,null,null,null,null,null,null,null,null,null,null,null,null,null,null,null,null,null,null,null,null,{"$f":"IFERROR(WORKDAY(T664,AE664,Hoja1!F656:F772),\"\")","v":""},"",null,"",{"$f":"IF(P664=\"\",\"\",NETWORKDAYS(C664+1,P664,Hoja1!F656:F772))","v":""},{"$f":"IFERROR(IF(NETWORKDAYS(R664+1,P664,Hoja1!F656:F772)<=0,\"\",NETWORKDAYS(R664+1,P664,Hoja1!F656:F772)),0)","v":""},null,null,{"$f":"IFERROR(VLOOKUP(L664,Hoja1!$A$50:$C$63,2),\"\")","v":""},{"$f":"IFERROR(VLOOKUP(L664,Hoja1!$A$50:$C$63,3),\"\")","v":""}]
[null,null,null,null,null,null,null,null,null,null,null,null,null,null,null,null,null,null,null,null,null,{"$f":"IFERROR(WORKDAY(T665,AE665,Hoja1!F657:F773),\"\")","v":""},"",null,"",{"$f":"IF(P665=\"\",\"\",NETWORKDAYS(C665+1,P665,Hoja1!F657:F773))","v":""},{"$f":"IFERROR(IF(NETWORKDAYS(R665+1,P665,Hoja1!F657:F773)<=0,\"\",NETWORKDAYS(R665+1,P665,Hoja1!F657:F773)),0)","v":""},null,null,{"$f":"IFERROR(VLOOKUP(L665,Hoja1!$A$50:$C$63,2),\"\")","v":""},{"$f":"IFERROR(VLOOKUP(L665,Hoja1!$A$50:$C$63,3),\"\")","v":""}]
[null,null,null,null,null,null,null,null,null,null,null,null,null,null,null,null,null,null,null,null,null,{"$f":"IFERROR(WORKDAY(T666,AE666,Hoja1!F658:F774),\"\")","v":""},"",null,"",{"$f":"IF(P666=\"\",\"\",NETWORKDAYS(C666+1,P666,Hoja1!F658:F774))","v":""},{"$f":"IFERROR(IF(NETWORKDAYS(R666+1,P666,Hoja1!F658:F774)<=0,\"\",NETWORKDAYS(R666+1,P666,Hoja1!F658:F774)),0)","v":""},null,null,{"$f":"IFERROR(VLOOKUP(L666,Hoja1!$A$50:$C$63,2),\"\")","v":""},{"$f":"IFERROR(VLOOKUP(L666,Hoja1!$A$50:$C$63,3),\"\")","v":""}]
[null,null,null,null,null,null,null,null,null,null,null,null,null,null,null,null,null,null,null,null,null,{"$f":"IFERROR(WORKDAY(T667,AE667,Hoja1!F659:F775),\"\")","v":""},"",null,"",{"$f":"IF(P667=\"\",\"\",NETWORKDAYS(C667+1,P667,Hoja1!F659:F775))","v":""},{"$f":"IFERROR(IF(NETWORKDAYS(R667+1,P667,Hoja1!F659:F775)<=0,\"\",NETWORKDAYS(R667+1,P667,Hoja1!F659:F775)),0)","v":""},null,null,{"$f":"IFERROR(VLOOKUP(L667,Hoja1!$A$50:$C$63,2),\"\")","v":""},{"$f":"IFERROR(VLOOKUP(L667,Hoja1!$A$50:$C$63,3),\"\")","v":""}]
[null,null,null,null,null,null,null,null,null,null,null,null,null,null,null,null,null,null,null,null,null,{"$f":"IFERROR(WORKDAY(T668,AE668,Hoja1!F660:F776),\"\")","v":""},"",null,"",{"$f":"IF(P668=\"\",\"\",NETWORKDAYS(C668+1,P668,Hoja1!F660:F776))","v":""},{"$f":"IFERROR(IF(NETWORKDAYS(R668+1,P668,Hoja1!F660:F776)<=0,\"\",NETWORKDAYS(R668+1,P668,Hoja1!F660:F776)),0)","v":""},null,null,{"$f":"IFERROR(VLOOKUP(L668,Hoja1!$A$50:$C$63,2),\"\")","v":""},{"$f":"IFERROR(VLOOKUP(L668,Hoja1!$A$50:$C$63,3),\"\")","v":""}]
[null,null,null,null,null,null,null,null,null,null,null,null,null,null,null,null,null,null,null,null,null,{"$f":"IFERROR(WORKDAY(T669,AE669,Hoja1!F661:F777),\"\")","v":""},"",null,"",{"$f":"IF(P669=\"\",\"\",NETWORKDAYS(C669+1,P669,Hoja1!F661:F777))","v":""},{"$f":"IFERROR(IF(NETWORKDAYS(R669+1,P669,Hoja1!F661:F777)<=0,\"\",NETWORKDAYS(R669+1,P669,Hoja1!F661:F777)),0)","v":""},null,null,{"$f":"IFERROR(VLOOKUP(L669,Hoja1!$A$50:$C$63,2),\"\")","v":""},{"$f":"IFERROR(VLOOKUP(L669,Hoja1!$A$50:$C$63,3),\"\")","v":""}]
[null,null,null,null,null,null,null,null,null,null,null,null,null,null,null,null,null,null,null,null,null,{"$f":"IFERROR(WORKDAY(T670,AE670,Hoja1!F662:F778),\"\")","v":""},"",null,"",{"$f":"IF(P670=\"\",\"\",NETWORKDAYS(C670+1,P670,Hoja1!F662:F778))","v":""},{"$f":"IFERROR(IF(NETWORKDAYS(R670+1,P670,Hoja1!F662:F778)<=0,\"\",NETWORKDAYS(R670+1,P670,Hoja1!F662:F778)),0)","v":""},null,null,{"$f":"IFERROR(VLOOKUP(L670,Hoja1!$A$50:$C$63,2),\"\")","v":""},{"$f":"IFERROR(VLOOKUP(L670,Hoja1!$A$50:$C$63,3),\"\")","v":""}]
[null,null,null,null,null,null,null,null,null,null,null,null,null,null,null,null,null,null,null,null,null,{"$f":"IFERROR(WORKDAY(T671,AE671,Hoja1!F663:F779),\"\")","v":""},"",null,"",{"$f":"IF(P671=\"\",\"\",NETWORKDAYS(C671+1,P671,Hoja1!F663:F779))","v":""},{"$f":"IFERROR(IF(NETWORKDAYS(R671+1,P671,Hoja1!F663:F779)<=0,\"\",NETWORKDAYS(R671+1,P671,Hoja1!F663:F779)),0)","v":""},null,null,{"$f":"IFERROR(VLOOKUP(L671,Hoja1!$A$50:$C$63,2),\"\")","v":""},{"$f":"IFERROR(VLOOKUP(L671,Hoja1!$A$50:$C$63,3),\"\")","v":""}]
[null,null,null,null,null,null,null,null,null,null,null,null,null,null,null,null,null,null,null,null,null,{"$f":"IFERROR(WORKDAY(T672,AE672,Hoja1!F664:F780),\"\")","v":""},"",null,"",{"$f":"IF(P672=\"\",\"\",NETWORKDAYS(C672+1,P672,Hoja1!F664:F780))","v":""},{"$f":"IFERROR(IF(NETWORKDAYS(R672+1,P672,Hoja1!F664:F780)<=0,\"\",NETWORKDAYS(R672+1,P672,Hoja1!F664:F780)),0)","v":""},null,null,{"$f":"IFERROR(VLOOKUP(L672,Hoja1!$A$50:$C$63,2),\"\")","v":""},{"$f":"IFERROR(VLOOKUP(L672,Hoja1!$A$50:$C$63,3),\"\")","v":""}]
[null,null,null,null,null,null,null,null,null,null,null,null,null,null,null,null,null,null,null,null,null,{"$f":"IFERROR(WORKDAY(T673,AE673,Hoja1!F665:F781),\"\")","v":""},"",null,"",{"$f":"IF(P673=\"\",\"\",NETWORKDAYS(C673+1,P673,Hoja1!F665:F781))","v":""},{"$f":"IFERROR(IF(NETWORKDAYS(R673+1,P673,Hoja1!F665:F781)<=0,\"\",NETWORKDAYS(R673+1,P673,Hoja1!F665:F781)),0)","v":""},null,null,{"$f":"IFERROR(VLOOKUP(L673,Hoja1!$A$50:$C$63,2),\"\")","v":""},{"$f":"IFERROR(VLOOKUP(L673,Hoja1!$A$50:$C$63,3),\"\")","v":""}]
[null,null,null,null,null,null,null,null,null,null,null,null,null,null,null,null,null,null,null,null,null,{"$f":"IFERROR(WORKDAY(T674,AE674,Hoja1!F666:F782),\"\")","v":""},"",null,"",{"$f":"IF(P674=\"\",\"\",NETWORKDAYS(C674+1,P674,Hoja1!F666:F782))","v":""},{"$f":"IFERROR(IF(NETWORKDAYS(R674+1,P674,Hoja1!F666:F782)<=0,\"\",NETWORKDAYS(R674+1,P674,Hoja1!F666:F782)),0)","v":""},null,null,{"$f":"IFERROR(VLOOKUP(L674,Hoja1!$A$50:$C$63,2),\"\")","v":""},{"$f":"IFERROR(VLOOKUP(L674,Hoja1!$A$50:$C$63,3),\"\")","v":""}]
[null,null,null,null,null,null,null,null,null,null,null,null,null,null,null,null,null,null,null,null,null,{"$f":"IFERROR(WORKDAY(T675,AE675,Hoja1!F667:F783),\"\")","v":""},"",null,"",{"$f":"IF(P675=\"\",\"\",NETWORKDAYS(C675+1,P675,Hoja1!F667:F783))","v":""},{"$f":"IFERROR(IF(NETWORKDAYS(R675+1,P675,Hoja1!F667:F783)<=0,\"\",NETWORKDAYS(R675+1,P675,Hoja1!F667:F783)),0)","v":""},null,null,{"$f":"IFERROR(VLOOKUP(L675,Hoja1!$A$50:$C$63,2),\"\")","v":""},{"$f":"IFERROR(VLOOKUP(L675,Hoja1!$A$50:$C$63,3),\"\")","v":""}]
[null,null,null,null,null,null,null,null,null,null,null,null,null,null,null,null,null,null,null,null,null,{"$f":"IFERROR(WORKDAY(T676,AE676,Hoja1!F668:F784),\"\")","v":""},"",null,"",{"$f":"IF(P676=\"\",\"\",NETWORKDAYS(C676+1,P676,Hoja1!F668:F784))","v":""},{"$f":"IFERROR(IF(NETWORKDAYS(R676+1,P676,Hoja1!F668:F784)<=0,\"\",NETWORKDAYS(R676+1,P676,Hoja1!F668:F784)),0)","v":""},null,null,{"$f":"IFERROR(VLOOKUP(L676,Hoja1!$A$50:$C$63,2),\"\")","v":""},{"$f":"IFERROR(VLOOKUP(L676,Hoja1!$A$50:$C$63,3),\"\")","v":""}]
[null,null,null,null,null,null,null,null,null,null,null,null,null,null,null,null,null,null,null,null,null,{"$f":"IFERROR(WORKDAY(T677,AE677,Hoja1!F669:F785),\"\")","v":""},"",null,"",{"$f":"IF(P677=\"\",\"\",NETWORKDAYS(C677+1,P677,Hoja1!F669:F785))","v":""},{"$f":"IFERROR(IF(NETWORKDAYS(R677+1,P677,Hoja1!F669:F785)<=0,\"\",NETWORKDAYS(R677+1,P677,Hoja1!F669:F785)),0)","v":""},null,null,{"$f":"IFERROR(VLOOKUP(L677,Hoja1!$A$50:$C$63,2),\"\")","v":""},{"$f":"IFERROR(VLOOKUP(L677,Hoja1!$A$50:$C$63,3),\"\")","v":""}]
[null,null,null,null,null,null,null,null,null,null,null,null,null,null,null,null,null,null,null,null,null,{"$f":"IFERROR(WORKDAY(T678,AE678,Hoja1!F670:F786),\"\")","v":""},"",null,"",{"$f":"IF(P678=\"\",\"\",NETWORKDAYS(C678+1,P678,Hoja1!F670:F786))","v":""},{"$f":"IFERROR(IF(NETWORKDAYS(R678+1,P678,Hoja1!F670:F786)<=0,\"\",NETWORKDAYS(R678+1,P678,Hoja1!F670:F786)),0)","v":""},null,null,{"$f":"IFERROR(VLOOKUP(L678,Hoja1!$A$50:$C$63,2),\"\")","v":""},{"$f":"IFERROR(VLOOKUP(L678,Hoja1!$A$50:$C$63,3),\"\")","v":""}]
[null,null,null,null,null,null,null,null,null,null,null,null,null,null,null,null,null,null,null,null,null,{"$f":"IFERROR(WORKDAY(T679,AE679,Hoja1!F671:F787),\"\")","v":""},"",null,"",{"$f":"IF(P679=\"\",\"\",NETWORKDAYS(C679+1,P679,Hoja1!F671:F787))","v":""},{"$f":"IFERROR(IF(NETWORKDAYS(R679+1,P679,Hoja1!F671:F787)<=0,\"\",NETWORKDAYS(R679+1,P679,Hoja1!F671:F787)),0)","v":""},null,null,{"$f":"IFERROR(VLOOKUP(L679,Hoja1!$A$50:$C$63,2),\"\")","v":""},{"$f":"IFERROR(VLOOKUP(L679,Hoja1!$A$50:$C$63,3),\"\")","v":""}]
[null,null,null,null,null,null,null,null,null,null,null,null,null,null,null,null,null,null,null,null,null,{"$f":"IFERROR(WORKDAY(T680,AE680,Hoja1!F672:F788),\"\")","v":""},"",null,"",{"$f":"IF(P680=\"\",\"\",NETWORKDAYS(C680+1,P680,Hoja1!F672:F788))","v":""},{"$f":"IFERROR(IF(NETWORKDAYS(R680+1,P680,Hoja1!F672:F788)<=0,\"\",NETWORKDAYS(R680+1,P680,Hoja1!F672:F788)),0)","v":""},null,null,{"$f":"IFERROR(VLOOKUP(L680,Hoja1!$A$50:$C$63,2),\"\")","v":""},{"$f":"IFERROR(VLOOKUP(L680,Hoja1!$A$50:$C$63,3),\"\")","v":""}]
[null,null,null,null,null,null,null,null,null,null,null,null,null,null,null,null,null,null,null,null,null,{"$f":"IFERROR(WORKDAY(T681,AE681,Hoja1!F673:F789),\"\")","v":""},"",null,"",{"$f":"IF(P681=\"\",\"\",NETWORKDAYS(C681+1,P681,Hoja1!F673:F789))","v":""},{"$f":"IFERROR(IF(NETWORKDAYS(R681+1,P681,Hoja1!F673:F789)<=0,\"\",NETWORKDAYS(R681+1,P681,Hoja1!F673:F789)),0)","v":""},null,null,{"$f":"IFERROR(VLOOKUP(L681,Hoja1!$A$50:$C$63,2),\"\")","v":""},{"$f":"IFERROR(VLOOKUP(L681,Hoja1!$A$50:$C$63,3),\"\")","v":""}]
[null,null,null,null,null,null,null,null,null,null,null,null,null,null,null,null,null,null,null,null,null,{"$f":"IFERROR(WORKDAY(T682,AE682,Hoja1!F674:F790),\"\")","v":""},"",null,"",{"$f":"IF(P682=\"\",\"\",NETWORKDAYS(C682+1,P682,Hoja1!F674:F790))","v":""},{"$f":"IFERROR(IF(NETWORKDAYS(R682+1,P682,Hoja1!F674:F790)<=0,\"\",NETWORKDAYS(R682+1,P682,Hoja1!F674:F790)),0)","v":""},null,null,{"$f":"IFERROR(VLOOKUP(L682,Hoja1!$A$50:$C$63,2),\"\")","v":""},{"$f":"IFERROR(VLOOKUP(L682,Hoja1!$A$50:$C$63,3),\"\")","v":""}]
[null,null,null,null,null,null,null,null,null,null,null,null,null,null,null,null,null,null,null,null,null,{"$f":"IFERROR(WORKDAY(T683,AE683,Hoja1!F675:F791),\"\")","v":""},"",null,"",{"$f":"IF(P683=\"\",\"\",NETWORKDAYS(C683+1,P683,Hoja1!F675:F791))","v":""},{"$f":"IFERROR(IF(NETWORKDAYS(R683+1,P683,Hoja1!F675:F791)<=0,\"\",NETWORKDAYS(R683+1,P683,Hoja1!F675:F791)),0)","v":""},null,null,{"$f":"IFERROR(VLOOKUP(L683,Hoja1!$A$50:$C$63,2),\"\")","v":""},{"$f":"IFERROR(VLOOKUP(L683,Hoja1!$A$50:$C$63,3),\"\")","v":""}]
[null,null,null,null,null,null,null,null,null,null,null,null,null,null,null,null,null,null,null,null,null,{"$f":"IFERROR(WORKDAY(T684,AE684,Hoja1!F676:F792),\"\")","v":""},"",null,"",{"$f":"IF(P684=\"\",\"\",NETWORKDAYS(C684+1,P684,Hoja1!F676:F792))","v":""},{"$f":"IFERROR(IF(NETWORKDAYS(R684+1,P684,Hoja1!F676:F792)<=0,\"\",NETWORKDAYS(R684+1,P684,Hoja1!F676:F792)),0)","v":""},null,null,{"$f":"IFERROR(VLOOKUP(L684,Hoja1!$A$50:$C$63,2),\"\")","v":""},{"$f":"IFERROR(VLOOKUP(L684,Hoja1!$A$50:$C$63,3),\"\")","v":""}]
[null,null,null,null,null,null,null,null,null,null,null,null,null,null,null,null,null,null,null,null,null,{"$f":"IFERROR(WORKDAY(T685,AE685,Hoja1!F677:F793),\"\")","v":""},"",null,"",{"$f":"IF(P685=\"\",\"\",NETWORKDAYS(C685+1,P685,Hoja1!F677:F793))","v":""},{"$f":"IFERROR(IF(NETWORKDAYS(R685+1,P685,Hoja1!F677:F793)<=0,\"\",NETWORKDAYS(R685+1,P685,Hoja1!F677:F793)),0)","v":""},null,null,{"$f":"IFERROR(VLOOKUP(L685,Hoja1!$A$50:$C$63,2),\"\")","v":""},{"$f":"IFERROR(VLOOKUP(L685,Hoja1!$A$50:$C$63,3),\"\")","v":""}]
[null,null,null,null,null,null,null,null,null,null,null,null,null,null,null,null,null,null,null,null,null,{"$f":"IFERROR(WORKDAY(T686,AE686,Hoja1!F678:F794),\"\")","v":""},"",null,"",{"$f":"IF(P686=\"\",\"\",NETWORKDAYS(C686+1,P686,Hoja1!F678:F794))","v":""},{"$f":"IFERROR(IF(NETWORKDAYS(R686+1,P686,Hoja1!F678:F794)<=0,\"\",NETWORKDAYS(R686+1,P686,Hoja1!F678:F794)),0)","v":""},null,null,{"$f":"IFERROR(VLOOKUP(L686,Hoja1!$A$50:$C$63,2),\"\")","v":""},{"$f":"IFERROR(VLOOKUP(L686,Hoja1!$A$50:$C$63,3),\"\")","v":""}]
[null,null,null,null,null,null,null,null,null,null,null,null,null,null,null,null,null,null,null,null,null,{"$f":"IFERROR(WORKDAY(T687,AE687,Hoja1!F679:F795),\"\")","v":""},"",null,"",{"$f":"IF(P687=\"\",\"\",NETWORKDAYS(C687+1,P687,Hoja1!F679:F795))","v":""},{"$f":"IFERROR(IF(NETWORKDAYS(R687+1,P687,Hoja1!F679:F795)<=0,\"\",NETWORKDAYS(R687+1,P687,Hoja1!F679:F795)),0)","v":""},null,null,{"$f":"IFERROR(VLOOKUP(L687,Hoja1!$A$50:$C$63,2),\"\")","v":""},{"$f":"IFERROR(VLOOKUP(L687,Hoja1!$A$50:$C$63,3),\"\")","v":""}]
[null,null,null,null,null,null,null,null,null,null,null,null,null,null,null,null,null,null,null,null,null,{"$f":"IFERROR(WORKDAY(T688,AE688,Hoja1!F680:F796),\"\")","v":""},"",null,"",{"$f":"IF(P688=\"\",\"\",NETWORKDAYS(C688+1,P688,Hoja1!F680:F796))","v":""},{"$f":"IFERROR(IF(NETWORKDAYS(R688+1,P688,Hoja1!F680:F796)<=0,\"\",NETWORKDAYS(R688+1,P688,Hoja1!F680:F796)),0)","v":""},null,null,{"$f":"IFERROR(VLOOKUP(L688,Hoja1!$A$50:$C$63,2),\"\")","v":""},{"$f":"IFERROR(VLOOKUP(L688,Hoja1!$A$50:$C$63,3),\"\")","v":""}]
[null,null,null,null,null,null,null,null,null,null,null,null,null,null,null,null,null,null,null,null,null,{"$f":"IFERROR(WORKDAY(T689,AE689,Hoja1!F681:F797),\"\")","v":""},"",null,"",{"$f":"IF(P689=\"\",\"\",NETWORKDAYS(C689+1,P689,Hoja1!F681:F797))","v":""},{"$f":"IFERROR(IF(NETWORKDAYS(R689+1,P689,Hoja1!F681:F797)<=0,\"\",NETWORKDAYS(R689+1,P689,Hoja1!F681:F797)),0)","v":""},null,null,{"$f":"IFERROR(VLOOKUP(L689,Hoja1!$A$50:$C$63,2),\"\")","v":""},{"$f":"IFERROR(VLOOKUP(L689,Hoja1!$A$50:$C$63,3),\"\")","v":""}]
[null,null,null,null,null,null,null,null,null,null,null,null,null,null,null,null,null,null,null,null,null,{"$f":"IFERROR(WORKDAY(T690,AE690,Hoja1!F682:F798),\"\")","v":""},"",null,"",{"$f":"IF(P690=\"\",\"\",NETWORKDAYS(C690+1,P690,Hoja1!F682:F798))","v":""},{"$f":"IFERROR(IF(NETWORKDAYS(R690+1,P690,Hoja1!F682:F798)<=0,\"\",NETWORKDAYS(R690+1,P690,Hoja1!F682:F798)),0)","v":""},null,null,{"$f":"IFERROR(VLOOKUP(L690,Hoja1!$A$50:$C$63,2),\"\")","v":""},{"$f":"IFERROR(VLOOKUP(L690,Hoja1!$A$50:$C$63,3),\"\")","v":""}]
[null,null,null,null,null,null,null,null,null,null,null,null,null,null,null,null,null,null,null,null,null,{"$f":"IFERROR(WORKDAY(T691,AE691,Hoja1!F683:F799),\"\")","v":""},"",null,"",{"$f":"IF(P691=\"\",\"\",NETWORKDAYS(C691+1,P691,Hoja1!F683:F799))","v":""},{"$f":"IFERROR(IF(NETWORKDAYS(R691+1,P691,Hoja1!F683:F799)<=0,\"\",NETWORKDAYS(R691+1,P691,Hoja1!F683:F799)),0)","v":""},null,null,{"$f":"IFERROR(VLOOKUP(L691,Hoja1!$A$50:$C$63,2),\"\")","v":""},{"$f":"IFERROR(VLOOKUP(L691,Hoja1!$A$50:$C$63,3),\"\")","v":""}]
[null,null,null,null,null,null,null,null,null,null,null,null,null,null,null,null,null,null,null,null,null,{"$f":"IFERROR(WORKDAY(T692,AE692,Hoja1!F684:F800),\"\")","v":""},"",null,"",{"$f":"IF(P692=\"\",\"\",NETWORKDAYS(C692+1,P692,Hoja1!F684:F800))","v":""},{"$f":"IFERROR(IF(NETWORKDAYS(R692+1,P692,Hoja1!F684:F800)<=0,\"\",NETWORKDAYS(R692+1,P692,Hoja1!F684:F800)),0)","v":""},null,null,{"$f":"IFERROR(VLOOKUP(L692,Hoja1!$A$50:$C$63,2),\"\")","v":""},{"$f":"IFERROR(VLOOKUP(L692,Hoja1!$A$50:$C$63,3),\"\")","v":""}]
[null,null,null,null,null,null,null,null,null,null,null,null,null,null,null,null,null,null,null,null,null,{"$f":"IFERROR(WORKDAY(T693,AE693,Hoja1!F685:F801),\"\")","v":""},"",null,"",{"$f":"IF(P693=\"\",\"\",NETWORKDAYS(C693+1,P693,Hoja1!F685:F801))","v":""},{"$f":"IFERROR(IF(NETWORKDAYS(R693+1,P693,Hoja1!F685:F801)<=0,\"\",NETWORKDAYS(R693+1,P693,Hoja1!F685:F801)),0)","v":""},null,null,{"$f":"IFERROR(VLOOKUP(L693,Hoja1!$A$50:$C$63,2),\"\")","v":""},{"$f":"IFERROR(VLOOKUP(L693,Hoja1!$A$50:$C$63,3),\"\")","v":""}]
[null,null,null,null,null,null,null,null,null,null,null,null,null,null,null,null,null,null,null,null,null,{"$f":"IFERROR(WORKDAY(T694,AE694,Hoja1!F686:F802),\"\")","v":""},"",null,"",{"$f":"IF(P694=\"\",\"\",NETWORKDAYS(C694+1,P694,Hoja1!F686:F802))","v":""},{"$f":"IFERROR(IF(NETWORKDAYS(R694+1,P694,Hoja1!F686:F802)<=0,\"\",NETWORKDAYS(R694+1,P694,Hoja1!F686:F802)),0)","v":""},null,null,{"$f":"IFERROR(VLOOKUP(L694,Hoja1!$A$50:$C$63,2),\"\")","v":""},{"$f":"IFERROR(VLOOKUP(L694,Hoja1!$A$50:$C$63,3),\"\")","v":""}]
[null,null,null,null,null,null,null,null,null,null,null,null,null,null,null,null,null,null,null,null,null,{"$f":"IFERROR(WORKDAY(T695,AE695,Hoja1!F687:F803),\"\")","v":""},"",null,"",{"$f":"IF(P695=\"\",\"\",NETWORKDAYS(C695+1,P695,Hoja1!F687:F803))","v":""},{"$f":"IFERROR(IF(NETWORKDAYS(R695+1,P695,Hoja1!F687:F803)<=0,\"\",NETWORKDAYS(R695+1,P695,Hoja1!F687:F803)),0)","v":""},null,null,{"$f":"IFERROR(VLOOKUP(L695,Hoja1!$A$50:$C$63,2),\"\")","v":""},{"$f":"IFERROR(VLOOKUP(L695,Hoja1!$A$50:$C$63,3),\"\")","v":""}]
[null,null,null,null,null,null,null,null,null,null,null,null,null,null,null,null,null,null,null,null,null,{"$f":"IFERROR(WORKDAY(T696,AE696,Hoja1!F688:F804),\"\")","v":""},"",null,"",{"$f":"IF(P696=\"\",\"\",NETWORKDAYS(C696+1,P696,Hoja1!F688:F804))","v":""},{"$f":"IFERROR(IF(NETWORKDAYS(R696+1,P696,Hoja1!F688:F804)<=0,\"\",NETWORKDAYS(R696+1,P696,Hoja1!F688:F804)),0)","v":""},null,null,{"$f":"IFERROR(VLOOKUP(L696,Hoja1!$A$50:$C$63,2),\"\")","v":""},{"$f":"IFERROR(VLOOKUP(L696,Hoja1!$A$50:$C$63,3),\"\")","v":""}]
[null,null,null,null,null,null,null,null,null,null,null,null,null,null,null,null,null,null,null,null,null,{"$f":"IFERROR(WORKDAY(T697,AE697,Hoja1!F689:F805),\"\")","v":""},"",null,"",{"$f":"IF(P697=\"\",\"\",NETWORKDAYS(C697+1,P697,Hoja1!F689:F805))","v":""},{"$f":"IFERROR(IF(NETWORKDAYS(R697+1,P697,Hoja1!F689:F805)<=0,\"\",NETWORKDAYS(R697+1,P697,Hoja1!F689:F805)),0)","v":""},null,null,{"$f":"IFERROR(VLOOKUP(L697,Hoja1!$A$50:$C$63,2),\"\")","v":""},{"$f":"IFERROR(VLOOKUP(L697,Hoja1!$A$50:$C$63,3),\"\")","v":""}]
[null,null,null,null,null,null,null,null,null,null,null,null,null,null,null,null,null,null,null,null,null,{"$f":"IFERROR(WORKDAY(T698,AE698,Hoja1!F690:F806),\"\")","v":""},"",null,"",{"$f":"IF(P698=\"\",\"\",NETWORKDAYS(C698+1,P698,Hoja1!F690:F806))","v":""},{"$f":"IFERROR(IF(NETWORKDAYS(R698+1,P698,Hoja1!F690:F806)<=0,\"\",NETWORKDAYS(R698+1,P698,Hoja1!F690:F806)),0)","v":""},null,null,{"$f":"IFERROR(VLOOKUP(L698,Hoja1!$A$50:$C$63,2),\"\")","v":""},{"$f":"IFERROR(VLOOKUP(L698,Hoja1!$A$50:$C$63,3),\"\")","v":""}]
[null,null,null,null,null,null,null,null,null,null,null,null,null,null,null,null,null,null,null,null,null,{"$f":"IFERROR(WORKDAY(T699,AE699,Hoja1!F691:F807),\"\")","v":""},"",null,"",{"$f":"IF(P699=\"\",\"\",NETWORKDAYS(C699+1,P699,Hoja1!F691:F807))","v":""},{"$f":"IFERROR(IF(NETWORKDAYS(R699+1,P699,Hoja1!F691:F807)<=0,\"\",NETWORKDAYS(R699+1,P699,Hoja1!F691:F807)),0)","v":""},null,null,{"$f":"IFERROR(VLOOKUP(L699,Hoja1!$A$50:$C$63,2),\"\")","v":""},{"$f":"IFERROR(VLOOKUP(L699,Hoja1!$A$50:$C$63,3),\"\")","v":""}]
[null,null,null,null,null,null,null,null,null,null,null,null,null,null,null,null,null,null,null,null,null,{"$f":"IFERROR(WORKDAY(T700,AE700,Hoja1!F692:F808),\"\")","v":""},"",null,"",{"$f":"IF(P700=\"\",\"\",NETWORKDAYS(C700+1,P700,Hoja1!F692:F808))","v":""},{"$f":"IFERROR(IF(NETWORKDAYS(R700+1,P700,Hoja1!F692:F808)<=0,\"\",NETWORKDAYS(R700+1,P700,Hoja1!F692:F808)),0)","v":""},null,null,{"$f":"IFERROR(VLOOKUP(L700,Hoja1!$A$50:$C$63,2),\"\")","v":""},{"$f":"IFERROR(VLOOKUP(L700,Hoja1!$A$50:$C$63,3),\"\")","v":""}]
[null,null,null,null,null,null,null,null,null,null,null,null,null,null,null,null,null,null,null,null,null,{"$f":"IFERROR(WORKDAY(T701,AE701,Hoja1!F693:F809),\"\")","v":""},"",null,"",{"$f":"IF(P701=\"\",\"\",NETWORKDAYS(C701+1,P701,Hoja1!F693:F809))","v":""},{"$f":"IFERROR(IF(NETWORKDAYS(R701+1,P701,Hoja1!F693:F809)<=0,\"\",NETWORKDAYS(R701+1,P701,Hoja1!F693:F809)),0)","v":""},null,null,{"$f":"IFERROR(VLOOKUP(L701,Hoja1!$A$50:$C$63,2),\"\")","v":""},{"$f":"IFERROR(VLOOKUP(L701,Hoja1!$A$50:$C$63,3),\"\")","v":""}]
[null,null,null,null,null,null,null,null,null,null,null,null,null,null,null,null,null,null,null,null,null,{"$f":"IFERROR(WORKDAY(T702,AE702,Hoja1!F694:F810),\"\")","v":""},"",null,"",{"$f":"IF(P702=\"\",\"\",NETWORKDAYS(C702+1,P702,Hoja1!F694:F810))","v":""},{"$f":"IFERROR(IF(NETWORKDAYS(R702+1,P702,Hoja1!F694:F810)<=0,\"\",NETWORKDAYS(R702+1,P702,Hoja1!F694:F810)),0)","v":""},null,null,{"$f":"IFERROR(VLOOKUP(L702,Hoja1!$A$50:$C$63,2),\"\")","v":""},{"$f":"IFERROR(VLOOKUP(L702,Hoja1!$A$50:$C$63,3),\"\")","v":""}]
[null,null,null,null,null,null,null,null,null,null,null,null,null,null,null,null,null,null,null,null,null,{"$f":"IFERROR(WORKDAY(T703,AE703,Hoja1!F695:F811),\"\")","v":""},"",null,"",{"$f":"IF(P703=\"\",\"\",NETWORKDAYS(C703+1,P703,Hoja1!F695:F811))","v":""},{"$f":"IFERROR(IF(NETWORKDAYS(R703+1,P703,Hoja1!F695:F811)<=0,\"\",NETWORKDAYS(R703+1,P703,Hoja1!F695:F811)),0)","v":""},null,null,{"$f":"IFERROR(VLOOKUP(L703,Hoja1!$A$50:$C$63,2),\"\")","v":""},{"$f":"IFERROR(VLOOKUP(L703,Hoja1!$A$50:$C$63,3),\"\")","v":""}]
[null,null,null,null,null,null,null,null,null,null,null,null,null,null,null,null,null,null,null,null,null,{"$f":"IFERROR(WORKDAY(T704,AE704,Hoja1!F696:F812),\"\")","v":""},"",null,"",{"$f":"IF(P704=\"\",\"\",NETWORKDAYS(C704+1,P704,Hoja1!F696:F812))","v":""},{"$f":"IFERROR(IF(NETWORKDAYS(R704+1,P704,Hoja1!F696:F812)<=0,\"\",NETWORKDAYS(R704+1,P704,Hoja1!F696:F812)),0)","v":""},null,null,{"$f":"IFERROR(VLOOKUP(L704,Hoja1!$A$50:$C$63,2),\"\")","v":""},{"$f":"IFERROR(VLOOKUP(L704,Hoja1!$A$50:$C$63,3),\"\")","v":""}]
[null,null,null,null,null,null,null,null,null,null,null,null,null,null,null,null,null,null,null,null,null,{"$f":"IFERROR(WORKDAY(T705,AE705,Hoja1!F697:F813),\"\")","v":""},"",null,"",{"$f":"IF(P705=\"\",\"\",NETWORKDAYS(C705+1,P705,Hoja1!F697:F813))","v":""},{"$f":"IFERROR(IF(NETWORKDAYS(R705+1,P705,Hoja1!F697:F813)<=0,\"\",NETWORKDAYS(R705+1,P705,Hoja1!F697:F813)),0)","v":""},null,null,{"$f":"IFERROR(VLOOKUP(L705,Hoja1!$A$50:$C$63,2),\"\")","v":""},{"$f":"IFERROR(VLOOKUP(L705,Hoja1!$A$50:$C$63,3),\"\")","v":""}]
[null,null,null,null,null,null,null,null,null,null,null,null,null,null,null,null,null,null,null,null,null,{"$f":"IFERROR(WORKDAY(T706,AE706,Hoja1!F698:F814),\"\")","v":""},"",null,"",{"$f":"IF(P706=\"\",\"\",NETWORKDAYS(C706+1,P706,Hoja1!F698:F814))","v":""},{"$f":"IFERROR(IF(NETWORKDAYS(R706+1,P706,Hoja1!F698:F814)<=0,\"\",NETWORKDAYS(R706+1,P706,Hoja1!F698:F814)),0)","v":""},null,null,{"$f":"IFERROR(VLOOKUP(L706,Hoja1!$A$50:$C$63,2),\"\")","v":""},{"$f":"IFERROR(VLOOKUP(L706,Hoja1!$A$50:$C$63,3),\"\")","v":""}]
[null,null,null,null,null,null,null,null,null,null,null,null,null,null,null,null,null,null,null,null,null,{"$f":"IFERROR(WORKDAY(T707,AE707,Hoja1!F699:F815),\"\")","v":""},"",null,"",{"$f":"IF(P707=\"\",\"\",NETWORKDAYS(C707+1,P707,Hoja1!F699:F815))","v":""},{"$f":"IFERROR(IF(NETWORKDAYS(R707+1,P707,Hoja1!F699:F815)<=0,\"\",NETWORKDAYS(R707+1,P707,Hoja1!F699:F815)),0)","v":""},null,null,{"$f":"IFERROR(VLOOKUP(L707,Hoja1!$A$50:$C$63,2),\"\")","v":""},{"$f":"IFERROR(VLOOKUP(L707,Hoja1!$A$50:$C$63,3),\"\")","v":""}]
[null,null,null,null,null,null,null,null,null,null,null,null,null,null,null,null,null,null,null,null,null,{"$f":"IFERROR(WORKDAY(T708,AE708,Hoja1!F700:F816),\"\")","v":""},"",null,"",{"$f":"IF(P708=\"\",\"\",NETWORKDAYS(C708+1,P708,Hoja1!F700:F816))","v":""},{"$f":"IFERROR(IF(NETWORKDAYS(R708+1,P708,Hoja1!F700:F816)<=0,\"\",NETWORKDAYS(R708+1,P708,Hoja1!F700:F816)),0)","v":""},null,null,{"$f":"IFERROR(VLOOKUP(L708,Hoja1!$A$50:$C$63,2),\"\")","v":""},{"$f":"IFERROR(VLOOKUP(L708,Hoja1!$A$50:$C$63,3),\"\")","v":""}]
[null,null,null,null,null,null,null,null,null,null,null,null,null,null,null,null,null,null,null,null,null,{"$f":"IFERROR(WORKDAY(T709,AE709,Hoja1!F701:F817),\"\")","v":""},"",null,"",{"$f":"IF(P709=\"\",\"\",NETWORKDAYS(C709+1,P709,Hoja1!F701:F817))","v":""},{"$f":"IFERROR(IF(NETWORKDAYS(R709+1,P709,Hoja1!F701:F817)<=0,\"\",NETWORKDAYS(R709+1,P709,Hoja1!F701:F817)),0)","v":""},null,null,{"$f":"IFERROR(VLOOKUP(L709,Hoja1!$A$50:$C$63,2),\"\")","v":""},{"$f":"IFERROR(VLOOKUP(L709,Hoja1!$A$50:$C$63,3),\"\")","v":""}]
[null,null,null,null,null,null,null,null,null,null,null,null,null,null,null,null,null,null,null,null,null,{"$f":"IFERROR(WORKDAY(T710,AE710,Hoja1!F702:F818),\"\")","v":""},"",null,"",{"$f":"IF(P710=\"\",\"\",NETWORKDAYS(C710+1,P710,Hoja1!F702:F818))","v":""},{"$f":"IFERROR(IF(NETWORKDAYS(R710+1,P710,Hoja1!F702:F818)<=0,\"\",NETWORKDAYS(R710+1,P710,Hoja1!F702:F818)),0)","v":""},null,null,{"$f":"IFERROR(VLOOKUP(L710,Hoja1!$A$50:$C$63,2),\"\")","v":""},{"$f":"IFERROR(VLOOKUP(L710,Hoja1!$A$50:$C$63,3),\"\")","v":""}]
[null,null,null,null,null,null,null,null,null,null,null,null,null,null,null,null,null,null,null,null,null,{"$f":"IFERROR(WORKDAY(T711,AE711,Hoja1!F703:F819),\"\")","v":""},"",null,"",{"$f":"IF(P711=\"\",\"\",NETWORKDAYS(C711+1,P711,Hoja1!F703:F819))","v":""},{"$f":"IFERROR(IF(NETWORKDAYS(R711+1,P711,Hoja1!F703:F819)<=0,\"\",NETWORKDAYS(R711+1,P711,Hoja1!F703:F819)),0)","v":""},null,null,{"$f":"IFERROR(VLOOKUP(L711,Hoja1!$A$50:$C$63,2),\"\")","v":""},{"$f":"IFERROR(VLOOKUP(L711,Hoja1!$A$50:$C$63,3),\"\")","v":""}]
[null,null,null,null,null,null,null,null,null,null,null,null,null,null,null,null,null,null,null,null,null,{"$f":"IFERROR(WORKDAY(T712,AE712,Hoja1!F704:F820),\"\")","v":""},"",null,"",{"$f":"IF(P712=\"\",\"\",NETWORKDAYS(C712+1,P712,Hoja1!F704:F820))","v":""},{"$f":"IFERROR(IF(NETWORKDAYS(R712+1,P712,Hoja1!F704:F820)<=0,\"\",NETWORKDAYS(R712+1,P712,Hoja1!F704:F820)),0)","v":""},null,null,{"$f":"IFERROR(VLOOKUP(L712,Hoja1!$A$50:$C$63,2),\"\")","v":""},{"$f":"IFERROR(VLOOKUP(L712,Hoja1!$A$50:$C$63,3),\"\")","v":""}]
[null,null,null,null,null,null,null,null,null,null,null,null,null,null,null,null,null,null,null,null,null,{"$f":"IFERROR(WORKDAY(T713,AE713,Hoja1!F705:F821),\"\")","v":""},"",null,"",{"$f":"IF(P713=\"\",\"\",NETWORKDAYS(C713+1,P713,Hoja1!F705:F821))","v":""},{"$f":"IFERROR(IF(NETWORKDAYS(R713+1,P713,Hoja1!F705:F821)<=0,\"\",NETWORKDAYS(R713+1,P713,Hoja1!F705:F821)),0)","v":""},null,null,{"$f":"IFERROR(VLOOKUP(L713,Hoja1!$A$50:$C$63,2),\"\")","v":""},{"$f":"IFERROR(VLOOKUP(L713,Hoja1!$A$50:$C$63,3),\"\")","v":""}]
[null,null,null,null,null,null,null,null,null,null,null,null,null,null,null,null,null,null,null,null,null,{"$f":"IFERROR(WORKDAY(T714,AE714,Hoja1!F706:F822),\"\")","v":""},{"$f":"+IF(T714=\"\",\"\",IF(U714=\"\",\"SIN RESPUESTA\",(IF(U714<=V714,\"A TIEMPO\",\"FUERA DE TIEMPO\"))))","v":""},null,{"$f":"+IF(C714=\"\",\"\",IF(P714=\"\",\"SIN RESPUESTA\",(IF(P714<=R714,\"A TIEMPO\",\"FUERA DE TIEMPO\"))))","v":""},{"$f":"IF(P714=\"\",\"\",NETWORKDAYS(C714+1,P714,Hoja1!F706:F822))","v":""},{"$f":"IFERROR(IF(NETWORKDAYS(R714+1,P714,Hoja1!F706:F822)<=0,\"\",NETWORKDAYS(R714+1,P714,Hoja1!F706:F822)),0)","v":""},null,null,{"$f":"IFERROR(VLOOKUP(L714,Hoja1!$A$50:$C$63,2),\"\")","v":""},{"$f":"IFERROR(VLOOKUP(L714,Hoja1!$A$50:$C$63,3),\"\")","v":""}]
[null,null,null,null,null,null,null,null,null,null,null,null,null,null,null,null,null,null,null,null,null,{"$f":"IFERROR(WORKDAY(T715,AE715,Hoja1!F707:F823),\"\")","v":""},"",null,"",{"$f":"IF(P715=\"\",\"\",NETWORKDAYS(C715+1,P715,Hoja1!F707:F823))","v":""},{"$f":"IFERROR(IF(NETWORKDAYS(R715+1,P715,Hoja1!F707:F823)<=0,\"\",NETWORKDAYS(R715+1,P715,Hoja1!F707:F823)),0)","v":""},null,null,{"$f":"IFERROR(VLOOKUP(L715,Hoja1!$A$50:$C$63,2),\"\")","v":""},{"$f":"IFERROR(VLOOKUP(L715,Hoja1!$A$50:$C$63,3),\"\")","v":""}]
[null,null,null,null,null,null,null,null,null,null,null,null,null,null,null,null,null,null,null,null,null,{"$f":"IFERROR(WORKDAY(T716,AE716,Hoja1!F708:F824),\"\")","v":""},"",null,"",{"$f":"IF(P716=\"\",\"\",NETWORKDAYS(C716+1,P716,Hoja1!F708:F824))","v":""},{"$f":"IFERROR(IF(NETWORKDAYS(R716+1,P716,Hoja1!F708:F824)<=0,\"\",NETWORKDAYS(R716+1,P716,Hoja1!F708:F824)),0)","v":""},null,null,{"$f":"IFERROR(VLOOKUP(L716,Hoja1!$A$50:$C$63,2),\"\")","v":""},{"$f":"IFERROR(VLOOKUP(L716,Hoja1!$A$50:$C$63,3),\"\")","v":""}]
[null,null,null,null,null,null,null,null,null,null,null,null,null,null,null,null,null,null,null,null,null,{"$f":"IFERROR(WORKDAY(T717,AE717,Hoja1!F709:F825),\"\")","v":""},"",null,"",{"$f":"IF(P717=\"\",\"\",NETWORKDAYS(C717+1,P717,Hoja1!F709:F825))","v":""},{"$f":"IFERROR(IF(NETWORKDAYS(R717+1,P717,Hoja1!F709:F825)<=0,\"\",NETWORKDAYS(R717+1,P717,Hoja1!F709:F825)),0)","v":""},null,null,{"$f":"IFERROR(VLOOKUP(L717,Hoja1!$A$50:$C$63,2),\"\")","v":""},{"$f":"IFERROR(VLOOKUP(L717,Hoja1!$A$50:$C$63,3),\"\")","v":""}]
[null,null,null,null,null,null,null,null,null,null,null,null,null,null,null,null,null,null,null,null,null,{"$f":"IFERROR(WORKDAY(T718,AE718,Hoja1!F710:F826),\"\")","v":""},"",null,"",{"$f":"IF(P718=\"\",\"\",NETWORKDAYS(C718+1,P718,Hoja1!F710:F826))","v":""},{"$f":"IFERROR(IF(NETWORKDAYS(R718+1,P718,Hoja1!F710:F826)<=0,\"\",NETWORKDAYS(R718+1,P718,Hoja1!F710:F826)),0)","v":""},null,null,{"$f":"IFERROR(VLOOKUP(L718,Hoja1!$A$50:$C$63,2),\"\")","v":""},{"$f":"IFERROR(VLOOKUP(L718,Hoja1!$A$50:$C$63,3),\"\")","v":""}]
[null,null,null,null,null,null,null,null,null,null,null,null,null,null,null,null,null,null,null,null,null,{"$f":"IFERROR(WORKDAY(T719,AE719,Hoja1!F711:F827),\"\")","v":""},"",null,"",{"$f":"IF(P719=\"\",\"\",NETWORKDAYS(C719+1,P719,Hoja1!F711:F827))","v":""},{"$f":"IFERROR(IF(NETWORKDAYS(R719+1,P719,Hoja1!F711:F827)<=0,\"\",NETWORKDAYS(R719+1,P719,Hoja1!F711:F827)),0)","v":""},null,null,{"$f":"IFERROR(VLOOKUP(L719,Hoja1!$A$50:$C$63,2),\"\")","v":""},{"$f":"IFERROR(VLOOKUP(L719,Hoja1!$A$50:$C$63,3),\"\")","v":""}]
[null,null,null,null,null,null,null,null,null,null,null,null,null,null,null,null,null,null,null,null,null,{"$f":"IFERROR(WORKDAY(T720,AE720,Hoja1!F712:F828),\"\")","v":""},"",null,"",{"$f":"IF(P720=\"\",\"\",NETWORKDAYS(C720+1,P720,Hoja1!F712:F828))","v":""},{"$f":"IFERROR(IF(NETWORKDAYS(R720+1,P720,Hoja1!F712:F828)<=0,\"\",NETWORKDAYS(R720+1,P720,Hoja1!F712:F828)),0)","v":""},null,null,{"$f":"IFERROR(VLOOKUP(L720,Hoja1!$A$50:$C$63,2),\"\")","v":""},{"$f":"IFERROR(VLOOKUP(L720,Hoja1!$A$50:$C$63,3),\"\")","v":""}]
[null,null,null,null,null,null,null,null,null,null,null,null,null,null,null,null,null,null,null,null,null,{"$f":"IFERROR(WORKDAY(T721,AE721,Hoja1!F713:F829),\"\")","v":""},"",null,"",{"$f":"IF(P721=\"\",\"\",NETWORKDAYS(C721+1,P721,Hoja1!F713:F829))","v":""},{"$f":"IFERROR(IF(NETWORKDAYS(R721+1,P721,Hoja1!F713:F829)<=0,\"\",NETWORKDAYS(R721+1,P721,Hoja1!F713:F829)),0)","v":""},null,null,{"$f":"IFERROR(VLOOKUP(L721,Hoja1!$A$50:$C$63,2),\"\")","v":""},{"$f":"IFERROR(VLOOKUP(L721,Hoja1!$A$50:$C$63,3),\"\")","v":""}]
[null,null,null,null,null,null,null,null,null,null,null,null,null,null,null,null,null,null,null,null,null,{"$f":"IFERROR(WORKDAY(T722,AE722,Hoja1!F714:F830),\"\")","v":""},"",null,"",{"$f":"IF(P722=\"\",\"\",NETWORKDAYS(C722+1,P722,Hoja1!F714:F830))","v":""},{"$f":"IFERROR(IF(NETWORKDAYS(R722+1,P722,Hoja1!F714:F830)<=0,\"\",NETWORKDAYS(R722+1,P722,Hoja1!F714:F830)),0)","v":""},null,null,{"$f":"IFERROR(VLOOKUP(L722,Hoja1!$A$50:$C$63,2),\"\")","v":""},{"$f":"IFERROR(VLOOKUP(L722,Hoja1!$A$50:$C$63,3),\"\")","v":""}]
[null,null,null,null,null,null,null,null,null,null,null,null,null,null,null,null,null,null,null,null,null,{"$f":"IFERROR(WORKDAY(T723,AE723,Hoja1!F715:F831),\"\")","v":""},"",null,"",{"$f":"IF(P723=\"\",\"\",NETWORKDAYS(C723+1,P723,Hoja1!F715:F831))","v":""},{"$f":"IFERROR(IF(NETWORKDAYS(R723+1,P723,Hoja1!F715:F831)<=0,\"\",NETWORKDAYS(R723+1,P723,Hoja1!F715:F831)),0)","v":""},null,null,{"$f":"IFERROR(VLOOKUP(L723,Hoja1!$A$50:$C$63,2),\"\")","v":""},{"$f":"IFERROR(VLOOKUP(L723,Hoja1!$A$50:$C$63,3),\"\")","v":""}]
[null,null,null,null,null,null,null,null,null,null,null,null,null,null,null,null,null,null,null,null,null,{"$f":"IFERROR(WORKDAY(T724,AE724,Hoja1!F716:F832),\"\")","v":""},"",null,"",{"$f":"IF(P724=\"\",\"\",NETWORKDAYS(C724+1,P724,Hoja1!F716:F832))","v":""},{"$f":"IFERROR(IF(NETWORKDAYS(R724+1,P724,Hoja1!F716:F832)<=0,\"\",NETWORKDAYS(R724+1,P724,Hoja1!F716:F832)),0)","v":""},null,null,{"$f":"IFERROR(VLOOKUP(L724,Hoja1!$A$50:$C$63,2),\"\")","v":""},{"$f":"IFERROR(VLOOKUP(L724,Hoja1!$A$50:$C$63,3),\"\")","v":""}]
[null,null,null,null,null,null,null,null,null,null,null,null,null,null,null,null,null,null,null,null,null,{"$f":"IFERROR(WORKDAY(T725,AE725,Hoja1!F717:F833),\"\")","v":""},"",null,"",{"$f":"IF(P725=\"\",\"\",NETWORKDAYS(C725+1,P725,Hoja1!F717:F833))","v":""},{"$f":"IFERROR(IF(NETWORKDAYS(R725+1,P725,Hoja1!F717:F833)<=0,\"\",NETWORKDAYS(R725+1,P725,Hoja1!F717:F833)),0)","v":""},null,null,{"$f":"IFERROR(VLOOKUP(L725,Hoja1!$A$50:$C$63,2),\"\")","v":""},{"$f":"IFERROR(VLOOKUP(L725,Hoja1!$A$50:$C$63,3),\"\")","v":""}]
[null,null,null,null,null,null,null,null,null,null,null,null,null,null,null,null,null,null,null,null,null,{"$f":"IFERROR(WORKDAY(T726,AE726,Hoja1!F718:F834),\"\")","v":""},"",null,"",{"$f":"IF(P726=\"\",\"\",NETWORKDAYS(C726+1,P726,Hoja1!F718:F834))","v":""},{"$f":"IFERROR(IF(NETWORKDAYS(R726+1,P726,Hoja1!F718:F834)<=0,\"\",NETWORKDAYS(R726+1,P726,Hoja1!F718:F834)),0)","v":""},null,null,{"$f":"IFERROR(VLOOKUP(L726,Hoja1!$A$50:$C$63,2),\"\")","v":""},{"$f":"IFERROR(VLOOKUP(L726,Hoja1!$A$50:$C$63,3),\"\")","v":""}]
[null,null,null,null,null,null,null,null,null,null,null,null,null,null,null,null,null,null,null,null,null,{"$f":"IFERROR(WORKDAY(T727,AE727,Hoja1!F719:F835),\"\")","v":""},"",null,"",{"$f":"IF(P727=\"\",\"\",NETWORKDAYS(C727+1,P727,Hoja1!F719:F835))","v":""},{"$f":"IFERROR(IF(NETWORKDAYS(R727+1,P727,Hoja1!F719:F835)<=0,\"\",NETWORKDAYS(R727+1,P727,Hoja1!F719:F835)),0)","v":""},null,null,{"$f":"IFERROR(VLOOKUP(L727,Hoja1!$A$50:$C$63,2),\"\")","v":""},{"$f":"IFERROR(VLOOKUP(L727,Hoja1!$A$50:$C$63,3),\"\")","v":""}]
[null,null,null,null,null,null,null,null,null,null,null,null,null,null,null,null,null,null,null,null,null,{"$f":"IFERROR(WORKDAY(T728,AE728,Hoja1!F720:F836),\"\")","v":""},"",null,"",{"$f":"IF(P728=\"\",\"\",NETWORKDAYS(C728+1,P728,Hoja1!F720:F836))","v":""},{"$f":"IFERROR(IF(NETWORKDAYS(R728+1,P728,Hoja1!F720:F836)<=0,\"\",NETWORKDAYS(R728+1,P728,Hoja1!F720:F836)),0)","v":""},null,null,{"$f":"IFERROR(VLOOKUP(L728,Hoja1!$A$50:$C$63,2),\"\")","v":""},{"$f":"IFERROR(VLOOKUP(L728,Hoja1!$A$50:$C$63,3),\"\")","v":""}]
[null,null,null,null,null,null,null,null,null,null,null,null,null,null,null,null,null,null,null,null,null,{"$f":"IFERROR(WORKDAY(T729,AE729,Hoja1!F721:F837),\"\")","v":""},"",null,"",{"$f":"IF(P729=\"\",\"\",NETWORKDAYS(C729+1,P729,Hoja1!F721:F837))","v":""},{"$f":"IFERROR(IF(NETWORKDAYS(R729+1,P729,Hoja1!F721:F837)<=0,\"\",NETWORKDAYS(R729+1,P729,Hoja1!F721:F837)),0)","v":""},null,null,{"$f":"IFERROR(VLOOKUP(L729,Hoja1!$A$50:$C$63,2),\"\")","v":""},{"$f":"IFERROR(VLOOKUP(L729,Hoja1!$A$50:$C$63,3),\"\")","v":""}]
[null,null,null,null,null,null,null,null,null,null,null,null,null,null,null,null,null,null,null,null,null,{"$f":"IFERROR(WORKDAY(T730,AE730,Hoja1!F722:F838),\"\")","v":""},"",null,"",{"$f":"IF(P730=\"\",\"\",NETWORKDAYS(C730+1,P730,Hoja1!F722:F838))","v":""},{"$f":"IFERROR(IF(NETWORKDAYS(R730+1,P730,Hoja1!F722:F838)<=0,\"\",NETWORKDAYS(R730+1,P730,Hoja1!F722:F838)),0)","v":""},null,null,{"$f":"IFERROR(VLOOKUP(L730,Hoja1!$A$50:$C$63,2),\"\")","v":""},{"$f":"IFERROR(VLOOKUP(L730,Hoja1!$A$50:$C$63,3),\"\")","v":""}]
[null,null,null,null,null,null,null,null,null,null,null,null,null,null,null,null,null,null,null,null,null,{"$f":"IFERROR(WORKDAY(T731,AE731,Hoja1!F723:F839),\"\")","v":""},"",null,"",{"$f":"IF(P731=\"\",\"\",NETWORKDAYS(C731+1,P731,Hoja1!F723:F839))","v":""},{"$f":"IFERROR(IF(NETWORKDAYS(R731+1,P731,Hoja1!F723:F839)<=0,\"\",NETWORKDAYS(R731+1,P731,Hoja1!F723:F839)),0)","v":""},null,null,{"$f":"IFERROR(VLOOKUP(L731,Hoja1!$A$50:$C$63,2),\"\")","v":""},{"$f":"IFERROR(VLOOKUP(L731,Hoja1!$A$50:$C$63,3),\"\")","v":""}]
[null,null,null,null,null,null,null,null,null,null,null,null,null,null,null,null,null,null,null,null,null,{"$f":"IFERROR(WORKDAY(T732,AE732,Hoja1!F724:F840),\"\")","v":""},"",null,"",{"$f":"IF(P732=\"\",\"\",NETWORKDAYS(C732+1,P732,Hoja1!F724:F840))","v":""},{"$f":"IFERROR(IF(NETWORKDAYS(R732+1,P732,Hoja1!F724:F840)<=0,\"\",NETWORKDAYS(R732+1,P732,Hoja1!F724:F840)),0)","v":""},null,null,{"$f":"IFERROR(VLOOKUP(L732,Hoja1!$A$50:$C$63,2),\"\")","v":""},{"$f":"IFERROR(VLOOKUP(L732,Hoja1!$A$50:$C$63,3),\"\")","v":""}]
[null,null,null,null,null,null,null,null,null,null,null,null,null,null,null,null,null,null,null,null,null,{"$f":"IFERROR(WORKDAY(T733,AE733,Hoja1!F725:F841),\"\")","v":""},"",null,"",{"$f":"IF(P733=\"\",\"\",NETWORKDAYS(C733+1,P733,Hoja1!F725:F841))","v":""},{"$f":"IFERROR(IF(NETWORKDAYS(R733+1,P733,Hoja1!F725:F841)<=0,\"\",NETWORKDAYS(R733+1,P733,Hoja1!F725:F841)),0)","v":""},null,null,{"$f":"IFERROR(VLOOKUP(L733,Hoja1!$A$50:$C$63,2),\"\")","v":""},{"$f":"IFERROR(VLOOKUP(L733,Hoja1!$A$50:$C$63,3),\"\")","v":""}]
[null,null,null,null,null,null,null,null,null,null,null,null,null,null,null,null,null,null,null,null,null,{"$f":"IFERROR(WORKDAY(T734,AE734,Hoja1!F726:F842),\"\")","v":""},"",null,"",{"$f":"IF(P734=\"\",\"\",NETWORKDAYS(C734+1,P734,Hoja1!F726:F842))","v":""},{"$f":"IFERROR(IF(NETWORKDAYS(R734+1,P734,Hoja1!F726:F842)<=0,\"\",NETWORKDAYS(R734+1,P734,Hoja1!F726:F842)),0)","v":""},null,null,{"$f":"IFERROR(VLOOKUP(L734,Hoja1!$A$50:$C$63,2),\"\")","v":""},{"$f":"IFERROR(VLOOKUP(L734,Hoja1!$A$50:$C$63,3),\"\")","v":""}]
[null,null,null,null,null,null,null,null,null,null,null,null,null,null,null,null,null,null,null,null,null,{"$f":"IFERROR(WORKDAY(T735,AE735,Hoja1!F727:F843),\"\")","v":""},"",null,"",{"$f":"IF(P735=\"\",\"\",NETWORKDAYS(C735+1,P735,Hoja1!F727:F843))","v":""},{"$f":"IFERROR(IF(NETWORKDAYS(R735+1,P735,Hoja1!F727:F843)<=0,\"\",NETWORKDAYS(R735+1,P735,Hoja1!F727:F843)),0)","v":""},null,null,{"$f":"IFERROR(VLOOKUP(L735,Hoja1!$A$50:$C$63,2),\"\")","v":""},{"$f":"IFERROR(VLOOKUP(L735,Hoja1!$A$50:$C$63,3),\"\")","v":""}]
[null,null,null,null,null,null,null,null,null,null,null,null,null,null,null,null,null,null,null,null,null,{"$f":"IFERROR(WORKDAY(T736,AE736,Hoja1!F728:F844),\"\")","v":""},"",null,"",{"$f":"IF(P736=\"\",\"\",NETWORKDAYS(C736+1,P736,Hoja1!F728:F844))","v":""},{"$f":"IFERROR(IF(NETWORKDAYS(R736+1,P736,Hoja1!F728:F844)<=0,\"\",NETWORKDAYS(R736+1,P736,Hoja1!F728:F844)),0)","v":""},null,null,{"$f":"IFERROR(VLOOKUP(L736,Hoja1!$A$50:$C$63,2),\"\")","v":""},{"$f":"IFERROR(VLOOKUP(L736,Hoja1!$A$50:$C$63,3),\"\")","v":""}]
[null,null,null,null,null,null,null,null,null,null,null,null,null,null,null,null,null,null,null,null,null,{"$f":"IFERROR(WORKDAY(T737,AE737,Hoja1!F729:F845),\"\")","v":""},"",null,"",{"$f":"IF(P737=\"\",\"\",NETWORKDAYS(C737+1,P737,Hoja1!F729:F845))","v":""},{"$f":"IFERROR(IF(NETWORKDAYS(R737+1,P737,Hoja1!F729:F845)<=0,\"\",NETWORKDAYS(R737+1,P737,Hoja1!F729:F845)),0)","v":""},null,null,{"$f":"IFERROR(VLOOKUP(L737,Hoja1!$A$50:$C$63,2),\"\")","v":""},{"$f":"IFERROR(VLOOKUP(L737,Hoja1!$A$50:$C$63,3),\"\")","v":""}]
[null,null,null,null,null,null,null,null,null,null,null,null,null,null,null,null,null,null,null,null,null,{"$f":"IFERROR(WORKDAY(T738,AE738,Hoja1!F730:F846),\"\")","v":""},"",null,"",{"$f":"IF(P738=\"\",\"\",NETWORKDAYS(C738+1,P738,Hoja1!F730:F846))","v":""},{"$f":"IFERROR(IF(NETWORKDAYS(R738+1,P738,Hoja1!F730:F846)<=0,\"\",NETWORKDAYS(R738+1,P738,Hoja1!F730:F846)),0)","v":""},null,null,{"$f":"IFERROR(VLOOKUP(L738,Hoja1!$A$50:$C$63,2),\"\")","v":""},{"$f":"IFERROR(VLOOKUP(L738,Hoja1!$A$50:$C$63,3),\"\")","v":""}]
[null,null,null,null,null,null,null,null,null,null,null,null,null,null,null,null,null,null,null,null,null,{"$f":"IFERROR(WORKDAY(T739,AE739,Hoja1!F731:F847),\"\")","v":""},"",null,"",{"$f":"IF(P739=\"\",\"\",NETWORKDAYS(C739+1,P739,Hoja1!F731:F847))","v":""},{"$f":"IFERROR(IF(NETWORKDAYS(R739+1,P739,Hoja1!F731:F847)<=0,\"\",NETWORKDAYS(R739+1,P739,Hoja1!F731:F847)),0)","v":""},null,null,{"$f":"IFERROR(VLOOKUP(L739,Hoja1!$A$50:$C$63,2),\"\")","v":""},{"$f":"IFERROR(VLOOKUP(L739,Hoja1!$A$50:$C$63,3),\"\")","v":""}]
[null,null,null,null,null,null,null,null,null,null,null,null,null,null,null,null,null,null,null,null,null,{"$f":"IFERROR(WORKDAY(T740,AE740,Hoja1!F732:F848),\"\")","v":""},"",null,"",{"$f":"IF(P740=\"\",\"\",NETWORKDAYS(C740+1,P740,Hoja1!F732:F848))","v":""},{"$f":"IFERROR(IF(NETWORKDAYS(R740+1,P740,Hoja1!F732:F848)<=0,\"\",NETWORKDAYS(R740+1,P740,Hoja1!F732:F848)),0)","v":""},null,null,{"$f":"IFERROR(VLOOKUP(L740,Hoja1!$A$50:$C$63,2),\"\")","v":""},{"$f":"IFERROR(VLOOKUP(L740,Hoja1!$A$50:$C$63,3),\"\")","v":""}]
[null,null,null,null,null,null,null,null,null,null,null,null,null,null,null,null,null,null,null,null,null,{"$f":"IFERROR(WORKDAY(T741,AE741,Hoja1!F733:F849),\"\")","v":""},"",null,"",{"$f":"IF(P741=\"\",\"\",NETWORKDAYS(C741+1,P741,Hoja1!F733:F849))","v":""},{"$f":"IFERROR(IF(NETWORKDAYS(R741+1,P741,Hoja1!F733:F849)<=0,\"\",NETWORKDAYS(R741+1,P741,Hoja1!F733:F849)),0)","v":""},null,null,{"$f":"IFERROR(VLOOKUP(L741,Hoja1!$A$50:$C$63,2),\"\")","v":""},{"$f":"IFERROR(VLOOKUP(L741,Hoja1!$A$50:$C$63,3),\"\")","v":""}]
[null,null,null,null,null,null,null,null,null,null,null,null,null,null,null,null,null,null,null,null,null,{"$f":"IFERROR(WORKDAY(T742,AE742,Hoja1!F734:F850),\"\")","v":""},"",null,"",{"$f":"IF(P742=\"\",\"\",NETWORKDAYS(C742+1,P742,Hoja1!F734:F850))","v":""},{"$f":"IFERROR(IF(NETWORKDAYS(R742+1,P742,Hoja1!F734:F850)<=0,\"\",NETWORKDAYS(R742+1,P742,Hoja1!F734:F850)),0)","v":""},null,null,{"$f":"IFERROR(VLOOKUP(L742,Hoja1!$A$50:$C$63,2),\"\")","v":""},{"$f":"IFERROR(VLOOKUP(L742,Hoja1!$A$50:$C$63,3),\"\")","v":""}]
[null,null,null,null,null,null,null,null,null,null,null,null,null,null,null,null,null,null,null,null,null,{"$f":"IFERROR(WORKDAY(T743,AE743,Hoja1!F735:F851),\"\")","v":""},"",null,"",{"$f":"IF(P743=\"\",\"\",NETWORKDAYS(C743+1,P743,Hoja1!F735:F851))","v":""},{"$f":"IFERROR(IF(NETWORKDAYS(R743+1,P743,Hoja1!F735:F851)<=0,\"\",NETWORKDAYS(R743+1,P743,Hoja1!F735:F851)),0)","v":""},null,null,{"$f":"IFERROR(VLOOKUP(L743,Hoja1!$A$50:$C$63,2),\"\")","v":""},{"$f":"IFERROR(VLOOKUP(L743,Hoja1!$A$50:$C$63,3),\"\")","v":""}]
[null,null,null,null,null,null,null,null,null,null,null,null,null,null,null,null,null,null,null,null,null,{"$f":"IFERROR(WORKDAY(T744,AE744,Hoja1!F736:F852),\"\")","v":""},"",null,"",{"$f":"IF(P744=\"\",\"\",NETWORKDAYS(C744+1,P744,Hoja1!F736:F852))","v":""},{"$f":"IFERROR(IF(NETWORKDAYS(R744+1,P744,Hoja1!F736:F852)<=0,\"\",NETWORKDAYS(R744+1,P744,Hoja1!F736:F852)),0)","v":""},null,null,{"$f":"IFERROR(VLOOKUP(L744,Hoja1!$A$50:$C$63,2),\"\")","v":""},{"$f":"IFERROR(VLOOKUP(L744,Hoja1!$A$50:$C$63,3),\"\")","v":""}]
[null,null,null,null,null,null,null,null,null,null,null,null,null,null,null,null,null,null,null,null,null,{"$f":"IFERROR(WORKDAY(T745,AE745,Hoja1!F737:F853),\"\")","v":""},"",null,"",{"$f":"IF(P745=\"\",\"\",NETWORKDAYS(C745+1,P745,Hoja1!F737:F853))","v":""},{"$f":"IFERROR(IF(NETWORKDAYS(R745+1,P745,Hoja1!F737:F853)<=0,\"\",NETWORKDAYS(R745+1,P745,Hoja1!F737:F853)),0)","v":""},null,null,{"$f":"IFERROR(VLOOKUP(L745,Hoja1!$A$50:$C$63,2),\"\")","v":""},{"$f":"IFERROR(VLOOKUP(L745,Hoja1!$A$50:$C$63,3),\"\")","v":""}]
[null,null,null,null,null,null,null,null,null,null,null,null,null,null,null,null,null,null,null,null,null,{"$f":"IFERROR(WORKDAY(T746,AE746,Hoja1!F738:F854),\"\")","v":""},"",null,"",{"$f":"IF(P746=\"\",\"\",NETWORKDAYS(C746+1,P746,Hoja1!F738:F854))","v":""},{"$f":"IFERROR(IF(NETWORKDAYS(R746+1,P746,Hoja1!F738:F854)<=0,\"\",NETWORKDAYS(R746+1,P746,Hoja1!F738:F854)),0)","v":""},null,null,{"$f":"IFERROR(VLOOKUP(L746,Hoja1!$A$50:$C$63,2),\"\")","v":""},{"$f":"IFERROR(VLOOKUP(L746,Hoja1!$A$50:$C$63,3),\"\")","v":""}]
[null,null,null,null,null,null,null,null,null,null,null,null,null,null,null,null,null,null,null,null,null,{"$f":"IFERROR(WORKDAY(T747,AE747,Hoja1!F739:F855),\"\")","v":""},"",null,"",{"$f":"IF(P747=\"\",\"\",NETWORKDAYS(C747+1,P747,Hoja1!F739:F855))","v":""},{"$f":"IFERROR(IF(NETWORKDAYS(R747+1,P747,Hoja1!F739:F855)<=0,\"\",NETWORKDAYS(R747+1,P747,Hoja1!F739:F855)),0)","v":""},null,null,{"$f":"IFERROR(VLOOKUP(L747,Hoja1!$A$50:$C$63,2),\"\")","v":""},{"$f":"IFERROR(VLOOKUP(L747,Hoja1!$A$50:$C$63,3),\"\")","v":""}]
[null,null,null,null,null,null,null,null,null,null,null,null,null,null,null,null,null,null,null,null,null,{"$f":"IFERROR(WORKDAY(T748,AE748,Hoja1!F740:F856),\"\")","v":""},"",null,"",{"$f":"IF(P748=\"\",\"\",NETWORKDAYS(C748+1,P748,Hoja1!F740:F856))","v":""},{"$f":"IFERROR(IF(NETWORKDAYS(R748+1,P748,Hoja1!F740:F856)<=0,\"\",NETWORKDAYS(R748+1,P748,Hoja1!F740:F856)),0)","v":""},null,null,{"$f":"IFERROR(VLOOKUP(L748,Hoja1!$A$50:$C$63,2),\"\")","v":""},{"$f":"IFERROR(VLOOKUP(L748,Hoja1!$A$50:$C$63,3),\"\")","v":""}]
[null,null,null,null,null,null,null,null,null,null,null,null,null,null,null,null,null,null,null,null,null,{"$f":"IFERROR(WORKDAY(T749,AE749,Hoja1!F741:F857),\"\")","v":""},"",null,"",{"$f":"IF(P749=\"\",\"\",NETWORKDAYS(C749+1,P749,Hoja1!F741:F857))","v":""},{"$f":"IFERROR(IF(NETWORKDAYS(R749+1,P749,Hoja1!F741:F857)<=0,\"\",NETWORKDAYS(R749+1,P749,Hoja1!F741:F857)),0)","v":""},null,null,{"$f":"IFERROR(VLOOKUP(L749,Hoja1!$A$50:$C$63,2),\"\")","v":""},{"$f":"IFERROR(VLOOKUP(L749,Hoja1!$A$50:$C$63,3),\"\")","v":""}]
[null,null,null,null,null,null,null,null,null,null,null,null,null,null,null,null,null,null,null,null,null,{"$f":"IFERROR(WORKDAY(T750,AE750,Hoja1!F742:F858),\"\")","v":""},"",null,"",{"$f":"IF(P750=\"\",\"\",NETWORKDAYS(C750+1,P750,Hoja1!F742:F858))","v":""},{"$f":"IFERROR(IF(NETWORKDAYS(R750+1,P750,Hoja1!F742:F858)<=0,\"\",NETWORKDAYS(R750+1,P750,Hoja1!F742:F858)),0)","v":""},null,null,{"$f":"IFERROR(VLOOKUP(L750,Hoja1!$A$50:$C$63,2),\"\")","v":""},{"$f":"IFERROR(VLOOKUP(L750,Hoja1!$A$50:$C$63,3),\"\")","v":""}]
[null,null,null,null,null,null,null,null,null,null,null,null,null,null,null,null,null,null,null,null,null,{"$f":"IFERROR(WORKDAY(T751,AE751,Hoja1!F743:F859),\"\")","v":""},"",null,"",{"$f":"IF(P751=\"\",\"\",NETWORKDAYS(C751+1,P751,Hoja1!F743:F859))","v":""},{"$f":"IFERROR(IF(NETWORKDAYS(R751+1,P751,Hoja1!F743:F859)<=0,\"\",NETWORKDAYS(R751+1,P751,Hoja1!F743:F859)),0)","v":""},null,null,{"$f":"IFERROR(VLOOKUP(L751,Hoja1!$A$50:$C$63,2),\"\")","v":""},{"$f":"IFERROR(VLOOKUP(L751,Hoja1!$A$50:$C$63,3),\"\")","v":""}]
[null,null,null,null,null,null,null,null,null,null,null,null,null,null,null,null,null,null,null,null,null,{"$f":"IFERROR(WORKDAY(T752,AE752,Hoja1!F744:F860),\"\")","v":""},"",null,"",{"$f":"IF(P752=\"\",\"\",NETWORKDAYS(C752+1,P752,Hoja1!F744:F860))","v":""},{"$f":"IFERROR(IF(NETWORKDAYS(R752+1,P752,Hoja1!F744:F860)<=0,\"\",NETWORKDAYS(R752+1,P752,Hoja1!F744:F860)),0)","v":""},null,null,{"$f":"IFERROR(VLOOKUP(L752,Hoja1!$A$50:$C$63,2),\"\")","v":""},{"$f":"IFERROR(VLOOKUP(L752,Hoja1!$A$50:$C$63,3),\"\")","v":""}]
[null,null,null,null,null,null,null,null,null,null,null,null,null,null,null,null,null,null,null,null,null,{"$f":"IFERROR(WORKDAY(T753,AE753,Hoja1!F745:F861),\"\")","v":""},"",null,"",{"$f":"IF(P753=\"\",\"\",NETWORKDAYS(C753+1,P753,Hoja1!F745:F861))","v":""},{"$f":"IFERROR(IF(NETWORKDAYS(R753+1,P753,Hoja1!F745:F861)<=0,\"\",NETWORKDAYS(R753+1,P753,Hoja1!F745:F861)),0)","v":""},null,null,{"$f":"IFERROR(VLOOKUP(L753,Hoja1!$A$50:$C$63,2),\"\")","v":""},{"$f":"IFERROR(VLOOKUP(L753,Hoja1!$A$50:$C$63,3),\"\")","v":""}]
[null,null,null,null,null,null,null,null,null,null,null,null,null,null,null,null,null,null,null,null,null,{"$f":"IFERROR(WORKDAY(T754,AE754,Hoja1!F746:F862),\"\")","v":""},"",null,"",{"$f":"IF(P754=\"\",\"\",NETWORKDAYS(C754+1,P754,Hoja1!F746:F862))","v":""},{"$f":"IFERROR(IF(NETWORKDAYS(R754+1,P754,Hoja1!F746:F862)<=0,\"\",NETWORKDAYS(R754+1,P754,Hoja1!F746:F862)),0)","v":""},null,null,{"$f":"IFERROR(VLOOKUP(L754,Hoja1!$A$50:$C$63,2),\"\")","v":""},{"$f":"IFERROR(VLOOKUP(L754,Hoja1!$A$50:$C$63,3),\"\")","v":""}]
[null,null,null,null,null,null,null,null,null,null,null,null,null,null,null,null,null,null,null,null,null,{"$f":"IFERROR(WORKDAY(T755,AE755,Hoja1!F747:F863),\"\")","v":""},"",null,"",{"$f":"IF(P755=\"\",\"\",NETWORKDAYS(C755+1,P755,Hoja1!F747:F863))","v":""},{"$f":"IFERROR(IF(NETWORKDAYS(R755+1,P755,Hoja1!F747:F863)<=0,\"\",NETWORKDAYS(R755+1,P755,Hoja1!F747:F863)),0)","v":""},null,null,{"$f":"IFERROR(VLOOKUP(L755,Hoja1!$A$50:$C$63,2),\"\")","v":""},{"$f":"IFERROR(VLOOKUP(L755,Hoja1!$A$50:$C$63,3),\"\")","v":""}]
[null,null,null,null,null,null,null,null,null,null,null,null,null,null,null,null,null,null,null,null,null,{"$f":"IFERROR(WORKDAY(T756,AE756,Hoja1!F748:F864),\"\")","v":""},"",null,"",{"$f":"IF(P756=\"\",\"\",NETWORKDAYS(C756+1,P756,Hoja1!F748:F864))","v":""},{"$f":"IFERROR(IF(NETWORKDAYS(R756+1,P756,Hoja1!F748:F864)<=0,\"\",NETWORKDAYS(R756+1,P756,Hoja1!F748:F864)),0)","v":""},null,null,{"$f":"IFERROR(VLOOKUP(L756,Hoja1!$A$50:$C$63,2),\"\")","v":""},{"$f":"IFERROR(VLOOKUP(L756,Hoja1!$A$50:$C$63,3),\"\")","v":""}]
[null,null,null,null,null,null,null,null,null,null,null,null,null,null,null,null,null,null,null,null,null,{"$f":"IFERROR(WORKDAY(T757,AE757,Hoja1!F749:F865),\"\")","v":""},"",null,"",{"$f":"IF(P757=\"\",\"\",NETWORKDAYS(C757+1,P757,Hoja1!F749:F865))","v":""},{"$f":"IFERROR(IF(NETWORKDAYS(R757+1,P757,Hoja1!F749:F865)<=0,\"\",NETWORKDAYS(R757+1,P757,Hoja1!F749:F865)),0)","v":""},null,null,{"$f":"IFERROR(VLOOKUP(L757,Hoja1!$A$50:$C$63,2),\"\")","v":""},{"$f":"IFERROR(VLOOKUP(L757,Hoja1!$A$50:$C$63,3),\"\")","v":""}]
[null,null,null,null,null,null,null,null,null,null,null,null,null,null,null,null,null,null,null,null,null,{"$f":"IFERROR(WORKDAY(T758,AE758,Hoja1!F750:F866),\"\")","v":""},"",null,"",{"$f":"IF(P758=\"\",\"\",NETWORKDAYS(C758+1,P758,Hoja1!F750:F866))","v":""},{"$f":"IFERROR(IF(NETWORKDAYS(R758+1,P758,Hoja1!F750:F866)<=0,\"\",NETWORKDAYS(R758+1,P758,Hoja1!F750:F866)),0)","v":""},null,null,{"$f":"IFERROR(VLOOKUP(L758,Hoja1!$A$50:$C$63,2),\"\")","v":""},{"$f":"IFERROR(VLOOKUP(L758,Hoja1!$A$50:$C$63,3),\"\")","v":""}]
[null,null,null,null,null,null,null,null,null,null,null,null,null,null,null,null,null,null,null,null,null,{"$f":"IFERROR(WORKDAY(T759,AE759,Hoja1!F751:F867),\"\")","v":""},"",null,"",{"$f":"IF(P759=\"\",\"\",NETWORKDAYS(C759+1,P759,Hoja1!F751:F867))","v":""},{"$f":"IFERROR(IF(NETWORKDAYS(R759+1,P759,Hoja1!F751:F867)<=0,\"\",NETWORKDAYS(R759+1,P759,Hoja1!F751:F867)),0)","v":""},null,null,{"$f":"IFERROR(VLOOKUP(L759,Hoja1!$A$50:$C$63,2),\"\")","v":""},{"$f":"IFERROR(VLOOKUP(L759,Hoja1!$A$50:$C$63,3),\"\")","v":""}]
[null,null,null,null,null,null,null,null,null,null,null,null,null,null,null,null,null,null,null,null,null,{"$f":"IFERROR(WORKDAY(T760,AE760,Hoja1!F752:F868),\"\")","v":""},"",null,"",{"$f":"IF(P760=\"\",\"\",NETWORKDAYS(C760+1,P760,Hoja1!F752:F868))","v":""},{"$f":"IFERROR(IF(NETWORKDAYS(R760+1,P760,Hoja1!F752:F868)<=0,\"\",NETWORKDAYS(R760+1,P760,Hoja1!F752:F868)),0)","v":""},null,null,{"$f":"IFERROR(VLOOKUP(L760,Hoja1!$A$50:$C$63,2),\"\")","v":""},{"$f":"IFERROR(VLOOKUP(L760,Hoja1!$A$50:$C$63,3),\"\")","v":""}]
[null,null,null,null,null,null,null,null,null,null,null,null,null,null,null,null,null,null,null,null,null,{"$f":"IFERROR(WORKDAY(T761,AE761,Hoja1!F753:F869),\"\")","v":""},"",null,"",{"$f":"IF(P761=\"\",\"\",NETWORKDAYS(C761+1,P761,Hoja1!F753:F869))","v":""},{"$f":"IFERROR(IF(NETWORKDAYS(R761+1,P761,Hoja1!F753:F869)<=0,\"\",NETWORKDAYS(R761+1,P761,Hoja1!F753:F869)),0)","v":""},null,null,{"$f":"IFERROR(VLOOKUP(L761,Hoja1!$A$50:$C$63,2),\"\")","v":""},{"$f":"IFERROR(VLOOKUP(L761,Hoja1!$A$50:$C$63,3),\"\")","v":""}]
[null,null,null,null,null,null,null,null,null,null,null,null,null,null,null,null,null,null,null,null,null,{"$f":"IFERROR(WORKDAY(T762,AE762,Hoja1!F754:F870),\"\")","v":""},"",null,"",{"$f":"IF(P762=\"\",\"\",NETWORKDAYS(C762+1,P762,Hoja1!F754:F870))","v":""},{"$f":"IFERROR(IF(NETWORKDAYS(R762+1,P762,Hoja1!F754:F870)<=0,\"\",NETWORKDAYS(R762+1,P762,Hoja1!F754:F870)),0)","v":""},null,null,{"$f":"IFERROR(VLOOKUP(L762,Hoja1!$A$50:$C$63,2),\"\")","v":""},{"$f":"IFERROR(VLOOKUP(L762,Hoja1!$A$50:$C$63,3),\"\")","v":""}]
[null,null,null,null,null,null,null,null,null,null,null,null,null,null,null,null,null,null,null,null,null,{"$f":"IFERROR(WORKDAY(T763,AE763,Hoja1!F755:F871),\"\")","v":""},"",null,"",{"$f":"IF(P763=\"\",\"\",NETWORKDAYS(C763+1,P763,Hoja1!F755:F871))","v":""},{"$f":"IFERROR(IF(NETWORKDAYS(R763+1,P763,Hoja1!F755:F871)<=0,\"\",NETWORKDAYS(R763+1,P763,Hoja1!F755:F871)),0)","v":""},null,null,{"$f":"IFERROR(VLOOKUP(L763,Hoja1!$A$50:$C$63,2),\"\")","v":""},{"$f":"IFERROR(VLOOKUP(L763,Hoja1!$A$50:$C$63,3),\"\")","v":""}]
[null,null,null,null,null,null,null,null,null,null,null,null,null,null,null,null,null,null,null,null,null,{"$f":"IFERROR(WORKDAY(T764,AE764,Hoja1!F756:F872),\"\")","v":""},"",null,"",{"$f":"IF(P764=\"\",\"\",NETWORKDAYS(C764+1,P764,Hoja1!F756:F872))","v":""},{"$f":"IFERROR(IF(NETWORKDAYS(R764+1,P764,Hoja1!F756:F872)<=0,\"\",NETWORKDAYS(R764+1,P764,Hoja1!F756:F872)),0)","v":""},null,null,{"$f":"IFERROR(VLOOKUP(L764,Hoja1!$A$50:$C$63,2),\"\")","v":""},{"$f":"IFERROR(VLOOKUP(L764,Hoja1!$A$50:$C$63,3),\"\")","v":""}]
[null,null,null,null,null,null,null,null,null,null,null,null,null,null,null,null,null,null,null,null,null,{"$f":"IFERROR(WORKDAY(T765,AE765,Hoja1!F757:F873),\"\")","v":""},"",null,"",{"$f":"IF(P765=\"\",\"\",NETWORKDAYS(C765+1,P765,Hoja1!F757:F873))","v":""},{"$f":"IFERROR(IF(NETWORKDAYS(R765+1,P765,Hoja1!F757:F873)<=0,\"\",NETWORKDAYS(R765+1,P765,Hoja1!F757:F873)),0)","v":""},null,null,{"$f":"IFERROR(VLOOKUP(L765,Hoja1!$A$50:$C$63,2),\"\")","v":""},{"$f":"IFERROR(VLOOKUP(L765,Hoja1!$A$50:$C$63,3),\"\")","v":""}]
[null,null,null,null,null,null,null,null,null,null,null,null,null,null,null,null,null,null,null,null,null,{"$f":"IFERROR(WORKDAY(T766,AE766,Hoja1!F758:F874),\"\")","v":""},"",null,"",{"$f":"IF(P766=\"\",\"\",NETWORKDAYS(C766+1,P766,Hoja1!F758:F874))","v":""},{"$f":"IFERROR(IF(NETWORKDAYS(R766+1,P766,Hoja1!F758:F874)<=0,\"\",NETWORKDAYS(R766+1,P766,Hoja1!F758:F874)),0)","v":""},null,null,{"$f":"IFERROR(VLOOKUP(L766,Hoja1!$A$50:$C$63,2),\"\")","v":""},{"$f":"IFERROR(VLOOKUP(L766,Hoja1!$A$50:$C$63,3),\"\")","v":""}]
[null,null,null,null,null,null,null,null,null,null,null,null,null,null,null,null,null,null,null,null,null,{"$f":"IFERROR(WORKDAY(T767,AE767,Hoja1!F759:F875),\"\")","v":""},"",null,"",{"$f":"IF(P767=\"\",\"\",NETWORKDAYS(C767+1,P767,Hoja1!F759:F875))","v":""},{"$f":"IFERROR(IF(NETWORKDAYS(R767+1,P767,Hoja1!F759:F875)<=0,\"\",NETWORKDAYS(R767+1,P767,Hoja1!F759:F875)),0)","v":""},null,null,{"$f":"IFERROR(VLOOKUP(L767,Hoja1!$A$50:$C$63,2),\"\")","v":""},{"$f":"IFERROR(VLOOKUP(L767,Hoja1!$A$50:$C$63,3),\"\")","v":""}]
[null,null,null,null,null,null,null,null,null,null,null,null,null,null,null,null,null,null,null,null,null,{"$f":"IFERROR(WORKDAY(T768,AE768,Hoja1!F760:F876),\"\")","v":""},"",null,"",{"$f":"IF(P768=\"\",\"\",NETWORKDAYS(C768+1,P768,Hoja1!F760:F876))","v":""},{"$f":"IFERROR(IF(NETWORKDAYS(R768+1,P768,Hoja1!F760:F876)<=0,\"\",NETWORKDAYS(R768+1,P768,Hoja1!F760:F876)),0)","v":""},null,null,{"$f":"IFERROR(VLOOKUP(L768,Hoja1!$A$50:$C$63,2),\"\")","v":""},{"$f":"IFERROR(VLOOKUP(L768,Hoja1!$A$50:$C$63,3),\"\")","v":""}]
[null,null,null,null,null,null,null,null,null,null,null,null,null,null,null,null,null,null,null,null,null,{"$f":"IFERROR(WORKDAY(T769,AE769,Hoja1!F761:F877),\"\")","v":""},"",null,"",{"$f":"IF(P769=\"\",\"\",NETWORKDAYS(C769+1,P769,Hoja1!F761:F877))","v":""},{"$f":"IFERROR(IF(NETWORKDAYS(R769+1,P769,Hoja1!F761:F877)<=0,\"\",NETWORKDAYS(R769+1,P769,Hoja1!F761:F877)),0)","v":""},null,null,{"$f":"IFERROR(VLOOKUP(L769,Hoja1!$A$50:$C$63,2),\"\")","v":""},{"$f":"IFERROR(VLOOKUP(L769,Hoja1!$A$50:$C$63,3),\"\")","v":""}]
[null,null,null,null,null,null,null,null,null,null,null,null,null,null,null,null,null,null,null,null,null,{"$f":"IFERROR(WORKDAY(T770,AE770,Hoja1!F762:F878),\"\")","v":""},"",null,"",{"$f":"IF(P770=\"\",\"\",NETWORKDAYS(C770+1,P770,Hoja1!F762:F878))","v":""},{"$f":"IFERROR(IF(NETWORKDAYS(R770+1,P770,Hoja1!F762:F878)<=0,\"\",NETWORKDAYS(R770+1,P770,Hoja1!F762:F878)),0)","v":""},null,null,{"$f":"IFERROR(VLOOKUP(L770,Hoja1!$A$50:$C$63,2),\"\")","v":""},{"$f":"IFERROR(VLOOKUP(L770,Hoja1!$A$50:$C$63,3),\"\")","v":""}]
[null,null,null,null,null,null,null,null,null,null,null,null,null,null,null,null,null,null,null,null,null,{"$f":"IFERROR(WORKDAY(T771,AE771,Hoja1!F763:F879),\"\")","v":""},"",null,"",{"$f":"IF(P771=\"\",\"\",NETWORKDAYS(C771+1,P771,Hoja1!F763:F879))","v":""},{"$f":"IFERROR(IF(NETWORKDAYS(R771+1,P771,Hoja1!F763:F879)<=0,\"\",NETWORKDAYS(R771+1,P771,Hoja1!F763:F879)),0)","v":""},null,null,{"$f":"IFERROR(VLOOKUP(L771,Hoja1!$A$50:$C$63,2),\"\")","v":""},{"$f":"IFERROR(VLOOKUP(L771,Hoja1!$A$50:$C$63,3),\"\")","v":""}]
[null,null,null,null,null,null,null,null,null,null,null,null,null,null,null,null,null,null,null,null,null,{"$f":"IFERROR(WORKDAY(T772,AE772,Hoja1!F764:F880),\"\")","v":""},"",null,"",{"$f":"IF(P772=\"\",\"\",NETWORKDAYS(C772+1,P772,Hoja1!F764:F880))","v":""},{"$f":"IFERROR(IF(NETWORKDAYS(R772+1,P772,Hoja1!F764:F880)<=0,\"\",NETWORKDAYS(R772+1,P772,Hoja1!F764:F880)),0)","v":""},null,null,{"$f":"IFERROR(VLOOKUP(L772,Hoja1!$A$50:$C$63,2),\"\")","v":""},{"$f":"IFERROR(VLOOKUP(L772,Hoja1!$A$50:$C$63,3),\"\")","v":""}]
[null,null,null,null,null,null,null,null,null,null,null,null,null,null,null,null,null,null,null,null,null,{"$f":"IFERROR(WORKDAY(T773,AE773,Hoja1!F765:F881),\"\")","v":""},"",null,"",{"$f":"IF(P773=\"\",\"\",NETWORKDAYS(C773+1,P773,Hoja1!F765:F881))","v":""},{"$f":"IFERROR(IF(NETWORKDAYS(R773+1,P773,Hoja1!F765:F881)<=0,\"\",NETWORKDAYS(R773+1,P773,Hoja1!F765:F881)),0)","v":""},null,null,{"$f":"IFERROR(VLOOKUP(L773,Hoja1!$A$50:$C$63,2),\"\")","v":""},{"$f":"IFERROR(VLOOKUP(L773,Hoja1!$A$50:$C$63,3),\"\")","v":""}]
[null,null,null,null,null,null,null,null,null,null,null,null,null,null,null,null,null,null,null,null,null,{"$f":"IFERROR(WORKDAY(T774,AE774,Hoja1!F766:F882),\"\")","v":""},"",null,"",{"$f":"IF(P774=\"\",\"\",NETWORKDAYS(C774+1,P774,Hoja1!F766:F882))","v":""},{"$f":"IFERROR(IF(NETWORKDAYS(R774+1,P774,Hoja1!F766:F882)<=0,\"\",NETWORKDAYS(R774+1,P774,Hoja1!F766:F882)),0)","v":""},null,null,{"$f":"IFERROR(VLOOKUP(L774,Hoja1!$A$50:$C$63,2),\"\")","v":""},{"$f":"IFERROR(VLOOKUP(L774,Hoja1!$A$50:$C$63,3),\"\")","v":""}]
[null,null,null,null,null,null,null,null,null,null,null,null,null,null,null,null,null,null,null,null,null,{"$f":"IFERROR(WORKDAY(T775,AE775,Hoja1!F767:F883),\"\")","v":""},"",null,"",{"$f":"IF(P775=\"\",\"\",NETWORKDAYS(C775+1,P775,Hoja1!F767:F883))","v":""},{"$f":"IFERROR(IF(NETWORKDAYS(R775+1,P775,Hoja1!F767:F883)<=0,\"\",NETWORKDAYS(R775+1,P775,Hoja1!F767:F883)),0)","v":""},null,null,{"$f":"IFERROR(VLOOKUP(L775,Hoja1!$A$50:$C$63,2),\"\")","v":""},{"$f":"IFERROR(VLOOKUP(L775,Hoja1!$A$50:$C$63,3),\"\")","v":""}]
[null,null,null,null,null,null,null,null,null,null,null,null,null,null,null,null,null,null,null,null,null,{"$f":"IFERROR(WORKDAY(T776,AE776,Hoja1!F768:F884),\"\")","v":""},"",null,"",{"$f":"IF(P776=\"\",\"\",NETWORKDAYS(C776+1,P776,Hoja1!F768:F884))","v":""},{"$f":"IFERROR(IF(NETWORKDAYS(R776+1,P776,Hoja1!F768:F884)<=0,\"\",NETWORKDAYS(R776+1,P776,Hoja1!F768:F884)),0)","v":""},null,null,{"$f":"IFERROR(VLOOKUP(L776,Hoja1!$A$50:$C$63,2),\"\")","v":""},{"$f":"IFERROR(VLOOKUP(L776,Hoja1!$A$50:$C$63,3),\"\")","v":""}]
[null,null,null,null,null,null,null,null,null,null,null,null,null,null,null,null,null,null,null,null,null,{"$f":"IFERROR(WORKDAY(T777,AE777,Hoja1!F769:F885),\"\")","v":""},"",null,"",{"$f":"IF(P777=\"\",\"\",NETWORKDAYS(C777+1,P777,Hoja1!F769:F885))","v":""},{"$f":"IFERROR(IF(NETWORKDAYS(R777+1,P777,Hoja1!F769:F885)<=0,\"\",NETWORKDAYS(R777+1,P777,Hoja1!F769:F885)),0)","v":""},null,null,{"$f":"IFERROR(VLOOKUP(L777,Hoja1!$A$50:$C$63,2),\"\")","v":""},{"$f":"IFERROR(VLOOKUP(L777,Hoja1!$A$50:$C$63,3),\"\")","v":""}]
[null,null,null,null,null,null,null,null,null,null,null,null,null,null,null,null,null,null,null,null,null,{"$f":"IFERROR(WORKDAY(T778,AE778,Hoja1!F770:F886),\"\")","v":""},{"$f":"+IF(T778=\"\",\"\",IF(U778=\"\",\"SIN RESPUESTA\",(IF(U778<=V778,\"A TIEMPO\",\"FUERA DE TIEMPO\"))))","v":""},null,{"$f":"+IF(C778=\"\",\"\",IF(P778=\"\",\"SIN RESPUESTA\",(IF(P778<=R778,\"A TIEMPO\",\"FUERA DE TIEMPO\"))))","v":""},{"$f":"IF(P778=\"\",\"\",NETWORKDAYS(C778+1,P778,Hoja1!F770:F886))","v":""},{"$f":"IFERROR(IF(NETWORKDAYS(R778+1,P778,Hoja1!F770:F886)<=0,\"\",NETWORKDAYS(R778+1,P778,Hoja1!F770:F886)),0)","v":""},null,null,{"$f":"IFERROR(VLOOKUP(L778,Hoja1!$A$50:$C$63,2),\"\")","v":""},{"$f":"IFERROR(VLOOKUP(L778,Hoja1!$A$50:$C$63,3),\"\")","v":""}]
[null,null,null,null,null,null,null,null,null,null,null,null,null,null,null,null,null,null,null,null,null,{"$f":"IFERROR(WORKDAY(T779,AE779,Hoja1!F771:F887),\"\")","v":""},"",null,"",{"$f":"IF(P779=\"\",\"\",NETWORKDAYS(C779+1,P779,Hoja1!F771:F887))","v":""},{"$f":"IFERROR(IF(NETWORKDAYS(R779+1,P779,Hoja1!F771:F887)<=0,\"\",NETWORKDAYS(R779+1,P779,Hoja1!F771:F887)),0)","v":""},null,null,{"$f":"IFERROR(VLOOKUP(L779,Hoja1!$A$50:$C$63,2),\"\")","v":""},{"$f":"IFERROR(VLOOKUP(L779,Hoja1!$A$50:$C$63,3),\"\")","v":""}]
[null,null,null,null,null,null,null,null,null,null,null,null,null,null,null,null,null,null,null,null,null,{"$f":"IFERROR(WORKDAY(T780,AE780,Hoja1!F772:F888),\"\")","v":""},"",null,"",{"$f":"IF(P780=\"\",\"\",NETWORKDAYS(C780+1,P780,Hoja1!F772:F888))","v":""},{"$f":"IFERROR(IF(NETWORKDAYS(R780+1,P780,Hoja1!F772:F888)<=0,\"\",NETWORKDAYS(R780+1,P780,Hoja1!F772:F888)),0)","v":""},null,null,{"$f":"IFERROR(VLOOKUP(L780,Hoja1!$A$50:$C$63,2),\"\")","v":""},{"$f":"IFERROR(VLOOKUP(L780,Hoja1!$A$50:$C$63,3),\"\")","v":""}]
[null,null,null,null,null,null,null,null,null,null,null,null,null,null,null,null,null,null,null,null,null,{"$f":"IFERROR(WORKDAY(T781,AE781,Hoja1!F773:F889),\"\")","v":""},"",null,"",{"$f":"IF(P781=\"\",\"\",NETWORKDAYS(C781+1,P781,Hoja1!F773:F889))","v":""},{"$f":"IFERROR(IF(NETWORKDAYS(R781+1,P781,Hoja1!F773:F889)<=0,\"\",NETWORKDAYS(R781+1,P781,Hoja1!F773:F889)),0)","v":""},null,null,{"$f":"IFERROR(VLOOKUP(L781,Hoja1!$A$50:$C$63,2),\"\")","v":""},{"$f":"IFERROR(VLOOKUP(L781,Hoja1!$A$50:$C$63,3),\"\")","v":""}]
[null,null,null,null,null,null,null,null,null,null,null,null,null,null,null,null,null,null,null,null,null,{"$f":"IFERROR(WORKDAY(T782,AE782,Hoja1!F774:F890),\"\")","v":""},"",null,"",{"$f":"IF(P782=\"\",\"\",NETWORKDAYS(C782+1,P782,Hoja1!F774:F890))","v":""},{"$f":"IFERROR(IF(NETWORKDAYS(R782+1,P782,Hoja1!F774:F890)<=0,\"\",NETWORKDAYS(R782+1,P782,Hoja1!F774:F890)),0)","v":""},null,null,{"$f":"IFERROR(VLOOKUP(L782,Hoja1!$A$50:$C$63,2),\"\")","v":""},{"$f":"IFERROR(VLOOKUP(L782,Hoja1!$A$50:$C$63,3),\"\")","v":""}]
[null,null,null,null,null,null,null,null,null,null,null,null,null,null,null,null,null,null,null,null,null,{"$f":"IFERROR(WORKDAY(T783,AE783,Hoja1!F775:F891),\"\")","v":""},"",null,"",{"$f":"IF(P783=\"\",\"\",NETWORKDAYS(C783+1,P783,Hoja1!F775:F891))","v":""},{"$f":"IFERROR(IF(NETWORKDAYS(R783+1,P783,Hoja1!F775:F891)<=0,\"\",NETWORKDAYS(R783+1,P783,Hoja1!F775:F891)),0)","v":""},null,null,{"$f":"IFERROR(VLOOKUP(L783,Hoja1!$A$50:$C$63,2),\"\")","v":""},{"$f":"IFERROR(VLOOKUP(L783,Hoja1!$A$50:$C$63,3),\"\")","v":""}]
[null,null,null,null,null,null,null,null,null,null,null,null,null,null,null,null,null,null,null,null,null,{"$f":"IFERROR(WORKDAY(T784,AE784,Hoja1!F776:F892),\"\")","v":""},"",null,"",{"$f":"IF(P784=\"\",\"\",NETWORKDAYS(C784+1,P784,Hoja1!F776:F892))","v":""},{"$f":"IFERROR(IF(NETWORKDAYS(R784+1,P784,Hoja1!F776:F892)<=0,\"\",NETWORKDAYS(R784+1,P784,Hoja1!F776:F892)),0)","v":""},null,null,{"$f":"IFERROR(VLOOKUP(L784,Hoja1!$A$50:$C$63,2),\"\")","v":""},{"$f":"IFERROR(VLOOKUP(L784,Hoja1!$A$50:$C$63,3),\"\")","v":""}]
[null,null,null,null,null,null,null,null,null,null,null,null,null,null,null,null,null,null,null,null,null,{"$f":"IFERROR(WORKDAY(T785,AE785,Hoja1!F777:F893),\"\")","v":""},"",null,"",{"$f":"IF(P785=\"\",\"\",NETWORKDAYS(C785+1,P785,Hoja1!F777:F893))","v":""},{"$f":"IFERROR(IF(NETWORKDAYS(R785+1,P785,Hoja1!F777:F893)<=0,\"\",NETWORKDAYS(R785+1,P785,Hoja1!F777:F893)),0)","v":""},null,null,{"$f":"IFERROR(VLOOKUP(L785,Hoja1!$A$50:$C$63,2),\"\")","v":""},{"$f":"IFERROR(VLOOKUP(L785,Hoja1!$A$50:$C$63,3),\"\")","v":""}]
[null,null,null,null,null,null,null,null,null,null,null,null,null,null,null,null,null,null,null,null,null,{"$f":"IFERROR(WORKDAY(T786,AE786,Hoja1!F778:F894),\"\")","v":""},"",null,"",{"$f":"IF(P786=\"\",\"\",NETWORKDAYS(C786+1,P786,Hoja1!F778:F894))","v":""},{"$f":"IFERROR(IF(NETWORKDAYS(R786+1,P786,Hoja1!F778:F894)<=0,\"\",NETWORKDAYS(R786+1,P786,Hoja1!F778:F894)),0)","v":""},null,null,{"$f":"IFERROR(VLOOKUP(L786,Hoja1!$A$50:$C$63,2),\"\")","v":""},{"$f":"IFERROR(VLOOKUP(L786,Hoja1!$A$50:$C$63,3),\"\")","v":""}]
[null,null,null,null,null,null,null,null,null,null,null,null,null,null,null,null,null,null,null,null,null,{"$f":"IFERROR(WORKDAY(T787,AE787,Hoja1!F779:F895),\"\")","v":""},"",null,"",{"$f":"IF(P787=\"\",\"\",NETWORKDAYS(C787+1,P787,Hoja1!F779:F895))","v":""},{"$f":"IFERROR(IF(NETWORKDAYS(R787+1,P787,Hoja1!F779:F895)<=0,\"\",NETWORKDAYS(R787+1,P787,Hoja1!F779:F895)),0)","v":""},null,null,{"$f":"IFERROR(VLOOKUP(L787,Hoja1!$A$50:$C$63,2),\"\")","v":""},{"$f":"IFERROR(VLOOKUP(L787,Hoja1!$A$50:$C$63,3),\"\")","v":""}]
[null,null,null,null,null,null,null,null,null,null,null,null,null,null,null,null,null,null,null,null,null,{"$f":"IFERROR(WORKDAY(T788,AE788,Hoja1!F780:F896),\"\")","v":""},"",null,"",{"$f":"IF(P788=\"\",\"\",NETWORKDAYS(C788+1,P788,Hoja1!F780:F896))","v":""},{"$f":"IFERROR(IF(NETWORKDAYS(R788+1,P788,Hoja1!F780:F896)<=0,\"\",NETWORKDAYS(R788+1,P788,Hoja1!F780:F896)),0)","v":""},null,null,{"$f":"IFERROR(VLOOKUP(L788,Hoja1!$A$50:$C$63,2),\"\")","v":""},{"$f":"IFERROR(VLOOKUP(L788,Hoja1!$A$50:$C$63,3),\"\")","v":""}]
[null,null,null,null,null,null,null,null,null,null,null,null,null,null,null,null,null,null,null,null,null,{"$f":"IFERROR(WORKDAY(T789,AE789,Hoja1!F781:F897),\"\")","v":""},"",null,"",{"$f":"IF(P789=\"\",\"\",NETWORKDAYS(C789+1,P789,Hoja1!F781:F897))","v":""},{"$f":"IFERROR(IF(NETWORKDAYS(R789+1,P789,Hoja1!F781:F897)<=0,\"\",NETWORKDAYS(R789+1,P789,Hoja1!F781:F897)),0)","v":""},null,null,{"$f":"IFERROR(VLOOKUP(L789,Hoja1!$A$50:$C$63,2),\"\")","v":""},{"$f":"IFERROR(VLOOKUP(L789,Hoja1!$A$50:$C$63,3),\"\")","v":""}]
[null,null,null,null,null,null,null,null,null,null,null,null,null,null,null,null,null,null,null,null,null,{"$f":"IFERROR(WORKDAY(T790,AE790,Hoja1!F782:F898),\"\")","v":""},"",null,"",{"$f":"IF(P790=\"\",\"\",NETWORKDAYS(C790+1,P790,Hoja1!F782:F898))","v":""},{"$f":"IFERROR(IF(NETWORKDAYS(R790+1,P790,Hoja1!F782:F898)<=0,\"\",NETWORKDAYS(R790+1,P790,Hoja1!F782:F898)),0)","v":""},null,null,{"$f":"IFERROR(VLOOKUP(L790,Hoja1!$A$50:$C$63,2),\"\")","v":""},{"$f":"IFERROR(VLOOKUP(L790,Hoja1!$A$50:$C$63,3),\"\")","v":""}]
[null,null,null,null,null,null,null,null,null,null,null,null,null,null,null,null,null,null,null,null,null,{"$f":"IFERROR(WORKDAY(T791,AE791,Hoja1!F783:F899),\"\")","v":""},"",null,"",{"$f":"IF(P791=\"\",\"\",NETWORKDAYS(C791+1,P791,Hoja1!F783:F899))","v":""},{"$f":"IFERROR(IF(NETWORKDAYS(R791+1,P791,Hoja1!F783:F899)<=0,\"\",NETWORKDAYS(R791+1,P791,Hoja1!F783:F899)),0)","v":""},null,null,{"$f":"IFERROR(VLOOKUP(L791,Hoja1!$A$50:$C$63,2),\"\")","v":""},{"$f":"IFERROR(VLOOKUP(L791,Hoja1!$A$50:$C$63,3),\"\")","v":""}]
[null,null,null,null,null,null,null,null,null,null,null,null,null,null,null,null,null,null,null,null,null,{"$f":"IFERROR(WORKDAY(T792,AE792,Hoja1!F784:F900),\"\")","v":""},"",null,"",{"$f":"IF(P792=\"\",\"\",NETWORKDAYS(C792+1,P792,Hoja1!F784:F900))","v":""},{"$f":"IFERROR(IF(NETWORKDAYS(R792+1,P792,Hoja1!F784:F900)<=0,\"\",NETWORKDAYS(R792+1,P792,Hoja1!F784:F900)),0)","v":""},null,null,{"$f":"IFERROR(VLOOKUP(L792,Hoja1!$A$50:$C$63,2),\"\")","v":""},{"$f":"IFERROR(VLOOKUP(L792,Hoja1!$A$50:$C$63,3),\"\")","v":""}]
[null,null,null,null,null,null,null,null,null,null,null,null,null,null,null,null,null,null,null,null,null,{"$f":"IFERROR(WORKDAY(T793,AE793,Hoja1!F785:F901),\"\")","v":""},"",null,"",{"$f":"IF(P793=\"\",\"\",NETWORKDAYS(C793+1,P793,Hoja1!F785:F901))","v":""},{"$f":"IFERROR(IF(NETWORKDAYS(R793+1,P793,Hoja1!F785:F901)<=0,\"\",NETWORKDAYS(R793+1,P793,Hoja1!F785:F901)),0)","v":""},null,null,{"$f":"IFERROR(VLOOKUP(L793,Hoja1!$A$50:$C$63,2),\"\")","v":""},{"$f":"IFERROR(VLOOKUP(L793,Hoja1!$A$50:$C$63,3),\"\")","v":""}]
[null,null,null,null,null,null,null,null,null,null,null,null,null,null,null,null,null,null,null,null,null,{"$f":"IFERROR(WORKDAY(T794,AE794,Hoja1!F786:F902),\"\")","v":""},"",null,"",{"$f":"IF(P794=\"\",\"\",NETWORKDAYS(C794+1,P794,Hoja1!F786:F902))","v":""},{"$f":"IFERROR(IF(NETWORKDAYS(R794+1,P794,Hoja1!F786:F902)<=0,\"\",NETWORKDAYS(R794+1,P794,Hoja1!F786:F902)),0)","v":""},null,null,{"$f":"IFERROR(VLOOKUP(L794,Hoja1!$A$50:$C$63,2),\"\")","v":""},{"$f":"IFERROR(VLOOKUP(L794,Hoja1!$A$50:$C$63,3),\"\")","v":""}]
[null,null,null,null,null,null,null,null,null,null,null,null,null,null,null,null,null,null,null,null,null,{"$f":"IFERROR(WORKDAY(T795,AE795,Hoja1!F787:F903),\"\")","v":""},"",null,"",{"$f":"IF(P795=\"\",\"\",NETWORKDAYS(C795+1,P795,Hoja1!F787:F903))","v":""},{"$f":"IFERROR(IF(NETWORKDAYS(R795+1,P795,Hoja1!F787:F903)<=0,\"\",NETWORKDAYS(R795+1,P795,Hoja1!F787:F903)),0)","v":""},null,null,{"$f":"IFERROR(VLOOKUP(L795,Hoja1!$A$50:$C$63,2),\"\")","v":""},{"$f":"IFERROR(VLOOKUP(L795,Hoja1!$A$50:$C$63,3),\"\")","v":""}]
[null,null,null,null,null,null,null,null,null,null,null,null,null,null,null,null,null,null,null,null,null,{"$f":"IFERROR(WORKDAY(T796,AE796,Hoja1!F788:F904),\"\")","v":""},"",null,"",{"$f":"IF(P796=\"\",\"\",NETWORKDAYS(C796+1,P796,Hoja1!F788:F904))","v":""},{"$f":"IFERROR(IF(NETWORKDAYS(R796+1,P796,Hoja1!F788:F904)<=0,\"\",NETWORKDAYS(R796+1,P796,Hoja1!F788:F904)),0)","v":""},null,null,{"$f":"IFERROR(VLOOKUP(L796,Hoja1!$A$50:$C$63,2),\"\")","v":""},{"$f":"IFERROR(VLOOKUP(L796,Hoja1!$A$50:$C$63,3),\"\")","v":""}]
[null,null,null,null,null,null,null,null,null,null,null,null,null,null,null,null,null,null,null,null,null,{"$f":"IFERROR(WORKDAY(T797,AE797,Hoja1!F789:F905),\"\")","v":""},"",null,"",{"$f":"IF(P797=\"\",\"\",NETWORKDAYS(C797+1,P797,Hoja1!F789:F905))","v":""},{"$f":"IFERROR(IF(NETWORKDAYS(R797+1,P797,Hoja1!F789:F905)<=0,\"\",NETWORKDAYS(R797+1,P797,Hoja1!F789:F905)),0)","v":""},null,null,{"$f":"IFERROR(VLOOKUP(L797,Hoja1!$A$50:$C$63,2),\"\")","v":""},{"$f":"IFERROR(VLOOKUP(L797,Hoja1!$A$50:$C$63,3),\"\")","v":""}]
[null,null,null,null,null,null,null,null,null,null,null,null,null,null,null,null,null,null,null,null,null,{"$f":"IFERROR(WORKDAY(T798,AE798,Hoja1!F790:F906),\"\")","v":""},"",null,"",{"$f":"IF(P798=\"\",\"\",NETWORKDAYS(C798+1,P798,Hoja1!F790:F906))","v":""},{"$f":"IFERROR(IF(NETWORKDAYS(R798+1,P798,Hoja1!F790:F906)<=0,\"\",NETWORKDAYS(R798+1,P798,Hoja1!F790:F906)),0)","v":""},null,null,{"$f":"IFERROR(VLOOKUP(L798,Hoja1!$A$50:$C$63,2),\"\")","v":""},{"$f":"IFERROR(VLOOKUP(L798,Hoja1!$A$50:$C$63,3),\"\")","v":""}]
[null,null,null,null,null,null,null,null,null,null,null,null,null,null,null,null,null,null,null,null,null,{"$f":"IFERROR(WORKDAY(T799,AE799,Hoja1!F791:F907),\"\")","v":""},"",null,"",{"$f":"IF(P799=\"\",\"\",NETWORKDAYS(C799+1,P799,Hoja1!F791:F907))","v":""},{"$f":"IFERROR(IF(NETWORKDAYS(R799+1,P799,Hoja1!F791:F907)<=0,\"\",NETWORKDAYS(R799+1,P799,Hoja1!F791:F907)),0)","v":""},null,null,{"$f":"IFERROR(VLOOKUP(L799,Hoja1!$A$50:$C$63,2),\"\")","v":""},{"$f":"IFERROR(VLOOKUP(L799,Hoja1!$A$50:$C$63,3),\"\")","v":""}]
[null,null,null,null,null,null,null,null,null,null,null,null,null,null,null,null,null,null,null,null,null,{"$f":"IFERROR(WORKDAY(T800,AE800,Hoja1!F792:F908),\"\")","v":""},"",null,"",{"$f":"IF(P800=\"\",\"\",NETWORKDAYS(C800+1,P800,Hoja1!F792:F908))","v":""},{"$f":"IFERROR(IF(NETWORKDAYS(R800+1,P800,Hoja1!F792:F908)<=0,\"\",NETWORKDAYS(R800+1,P800,Hoja1!F792:F908)),0)","v":""},null,null,{"$f":"IFERROR(VLOOKUP(L800,Hoja1!$A$50:$C$63,2),\"\")","v":""},{"$f":"IFERROR(VLOOKUP(L800,Hoja1!$A$50:$C$63,3),\"\")","v":""}]
[null,null,null,null,null,null,null,null,null,null,null,null,null,null,null,null,null,null,null,null,null,{"$f":"IFERROR(WORKDAY(T801,AE801,Hoja1!F793:F909),\"\")","v":""},"",null,"",{"$f":"IF(P801=\"\",\"\",NETWORKDAYS(C801+1,P801,Hoja1!F793:F909))","v":""},{"$f":"IFERROR(IF(NETWORKDAYS(R801+1,P801,Hoja1!F793:F909)<=0,\"\",NETWORKDAYS(R801+1,P801,Hoja1!F793:F909)),0)","v":""},null,null,{"$f":"IFERROR(VLOOKUP(L801,Hoja1!$A$50:$C$63,2),\"\")","v":""},{"$f":"IFERROR(VLOOKUP(L801,Hoja1!$A$50:$C$63,3),\"\")","v":""}]
[null,null,null,null,null,null,null,null,null,null,null,null,null,null,null,null,null,null,null,null,null,{"$f":"IFERROR(WORKDAY(T802,AE802,Hoja1!F794:F910),\"\")","v":""},"",null,"",{"$f":"IF(P802=\"\",\"\",NETWORKDAYS(C802+1,P802,Hoja1!F794:F910))","v":""},{"$f":"IFERROR(IF(NETWORKDAYS(R802+1,P802,Hoja1!F794:F910)<=0,\"\",NETWORKDAYS(R802+1,P802,Hoja1!F794:F910)),0)","v":""},null,null,{"$f":"IFERROR(VLOOKUP(L802,Hoja1!$A$50:$C$63,2),\"\")","v":""},{"$f":"IFERROR(VLOOKUP(L802,Hoja1!$A$50:$C$63,3),\"\")","v":""}]
[null,null,null,null,null,null,null,null,null,null,null,null,null,null,null,null,null,null,null,null,null,{"$f":"IFERROR(WORKDAY(T803,AE803,Hoja1!F795:F911),\"\")","v":""},"",null,"",{"$f":"IF(P803=\"\",\"\",NETWORKDAYS(C803+1,P803,Hoja1!F795:F911))","v":""},{"$f":"IFERROR(IF(NETWORKDAYS(R803+1,P803,Hoja1!F795:F911)<=0,\"\",NETWORKDAYS(R803+1,P803,Hoja1!F795:F911)),0)","v":""},null,null,{"$f":"IFERROR(VLOOKUP(L803,Hoja1!$A$50:$C$63,2),\"\")","v":""},{"$f":"IFERROR(VLOOKUP(L803,Hoja1!$A$50:$C$63,3),\"\")","v":""}]
[null,null,null,null,null,null,null,null,null,null,null,null,null,null,null,null,null,null,null,null,null,{"$f":"IFERROR(WORKDAY(T804,AE804,Hoja1!F796:F912),\"\")","v":""},"",null,"",{"$f":"IF(P804=\"\",\"\",NETWORKDAYS(C804+1,P804,Hoja1!F796:F912))","v":""},{"$f":"IFERROR(IF(NETWORKDAYS(R804+1,P804,Hoja1!F796:F912)<=0,\"\",NETWORKDAYS(R804+1,P804,Hoja1!F796:F912)),0)","v":""},null,null,{"$f":"IFERROR(VLOOKUP(L804,Hoja1!$A$50:$C$63,2),\"\")","v":""},{"$f":"IFERROR(VLOOKUP(L804,Hoja1!$A$50:$C$63,3),\"\")","v":""}]
[null,null,null,null,null,null,null,null,null,null,null,null,null,null,null,null,null,null,null,null,null,{"$f":"IFERROR(WORKDAY(T805,AE805,Hoja1!F797:F913),\"\")","v":""},"",null,"",{"$f":"IF(P805=\"\",\"\",NETWORKDAYS(C805+1,P805,Hoja1!F797:F913))","v":""},{"$f":"IFERROR(IF(NETWORKDAYS(R805+1,P805,Hoja1!F797:F913)<=0,\"\",NETWORKDAYS(R805+1,P805,Hoja1!F797:F913)),0)","v":""},null,null,{"$f":"IFERROR(VLOOKUP(L805,Hoja1!$A$50:$C$63,2),\"\")","v":""},{"$f":"IFERROR(VLOOKUP(L805,Hoja1!$A$50:$C$63,3),\"\")","v":""}]
[null,null,null,null,null,null,null,null,null,null,null,null,null,null,null,null,null,null,null,null,null,{"$f":"IFERROR(WORKDAY(T806,AE806,Hoja1!F798:F914),\"\")","v":""},"",null,"",{"$f":"IF(P806=\"\",\"\",NETWORKDAYS(C806+1,P806,Hoja1!F798:F914))","v":""},{"$f":"IFERROR(IF(NETWORKDAYS(R806+1,P806,Hoja1!F798:F914)<=0,\"\",NETWORKDAYS(R806+1,P806,Hoja1!F798:F914)),0)","v":""},null,null,{"$f":"IFERROR(VLOOKUP(L806,Hoja1!$A$50:$C$63,2),\"\")","v":""},{"$f":"IFERROR(VLOOKUP(L806,Hoja1!$A$50:$C$63,3),\"\")","v":""}]
[null,null,null,null,null,null,null,null,null,null,null,null,null,null,null,null,null,null,null,null,null,{"$f":"IFERROR(WORKDAY(T807,AE807,Hoja1!F799:F915),\"\")","v":""},"",null,"",{"$f":"IF(P807=\"\",\"\",NETWORKDAYS(C807+1,P807,Hoja1!F799:F915))","v":""},{"$f":"IFERROR(IF(NETWORKDAYS(R807+1,P807,Hoja1!F799:F915)<=0,\"\",NETWORKDAYS(R807+1,P807,Hoja1!F799:F915)),0)","v":""},null,null,{"$f":"IFERROR(VLOOKUP(L807,Hoja1!$A$50:$C$63,2),\"\")","v":""},{"$f":"IFERROR(VLOOKUP(L807,Hoja1!$A$50:$C$63,3),\"\")","v":""}]
[null,null,null,null,null,null,null,null,null,null,null,null,null,null,null,null,null,null,null,null,null,{"$f":"IFERROR(WORKDAY(T808,AE808,Hoja1!F800:F916),\"\")","v":""},"",null,"",{"$f":"IF(P808=\"\",\"\",NETWORKDAYS(C808+1,P808,Hoja1!F800:F916))","v":""},{"$f":"IFERROR(IF(NETWORKDAYS(R808+1,P808,Hoja1!F800:F916)<=0,\"\",NETWORKDAYS(R808+1,P808,Hoja1!F800:F916)),0)","v":""},null,null,{"$f":"IFERROR(VLOOKUP(L808,Hoja1!$A$50:$C$63,2),\"\")","v":""},{"$f":"IFERROR(VLOOKUP(L808,Hoja1!$A$50:$C$63,3),\"\")","v":""}]
[null,null,null,null,null,null,null,null,null,null,null,null,null,null,null,null,null,null,null,null,null,{"$f":"IFERROR(WORKDAY(T809,AE809,Hoja1!F801:F917),\"\")","v":""},"",null,"",{"$f":"IF(P809=\"\",\"\",NETWORKDAYS(C809+1,P809,Hoja1!F801:F917))","v":""},{"$f":"IFERROR(IF(NETWORKDAYS(R809+1,P809,Hoja1!F801:F917)<=0,\"\",NETWORKDAYS(R809+1,P809,Hoja1!F801:F917)),0)","v":""},null,null,{"$f":"IFERROR(VLOOKUP(L809,Hoja1!$A$50:$C$63,2),\"\")","v":""},{"$f":"IFERROR(VLOOKUP(L809,Hoja1!$A$50:$C$63,3),\"\")","v":""}]
[null,null,null,null,null,null,null,null,null,null,null,null,null,null,null,null,null,null,null,null,null,{"$f":"IFERROR(WORKDAY(T810,AE810,Hoja1!F802:F918),\"\")","v":""},"",null,"",{"$f":"IF(P810=\"\",\"\",NETWORKDAYS(C810+1,P810,Hoja1!F802:F918))","v":""},{"$f":"IFERROR(IF(NETWORKDAYS(R810+1,P810,Hoja1!F802:F918)<=0,\"\",NETWORKDAYS(R810+1,P810,Hoja1!F802:F918)),0)","v":""},null,null,{"$f":"IFERROR(VLOOKUP(L810,Hoja1!$A$50:$C$63,2),\"\")","v":""},{"$f":"IFERROR(VLOOKUP(L810,Hoja1!$A$50:$C$63,3),\"\")","v":""}]
[null,null,null,null,null,null,null,null,null,null,null,null,null,null,null,null,null,null,null,null,null,{"$f":"IFERROR(WORKDAY(T811,AE811,Hoja1!F803:F919),\"\")","v":""},"",null,"",{"$f":"IF(P811=\"\",\"\",NETWORKDAYS(C811+1,P811,Hoja1!F803:F919))","v":""},{"$f":"IFERROR(IF(NETWORKDAYS(R811+1,P811,Hoja1!F803:F919)<=0,\"\",NETWORKDAYS(R811+1,P811,Hoja1!F803:F919)),0)","v":""},null,null,{"$f":"IFERROR(VLOOKUP(L811,Hoja1!$A$50:$C$63,2),\"\")","v":""},{"$f":"IFERROR(VLOOKUP(L811,Hoja1!$A$50:$C$63,3),\"\")","v":""}]
[null,null,null,null,null,null,null,null,null,null,null,null,null,null,null,null,null,null,null,null,null,{"$f":"IFERROR(WORKDAY(T812,AE812,Hoja1!F804:F920),\"\")","v":""},"",null,"",{"$f":"IF(P812=\"\",\"\",NETWORKDAYS(C812+1,P812,Hoja1!F804:F920))","v":""},{"$f":"IFERROR(IF(NETWORKDAYS(R812+1,P812,Hoja1!F804:F920)<=0,\"\",NETWORKDAYS(R812+1,P812,Hoja1!F804:F920)),0)","v":""},null,null,{"$f":"IFERROR(VLOOKUP(L812,Hoja1!$A$50:$C$63,2),\"\")","v":""},{"$f":"IFERROR(VLOOKUP(L812,Hoja1!$A$50:$C$63,3),\"\")","v":""}]
[null,null,null,null,null,null,null,null,null,null,null,null,null,null,null,null,null,null,null,null,null,{"$f":"IFERROR(WORKDAY(T813,AE813,Hoja1!F805:F921),\"\")","v":""},"",null,"",{"$f":"IF(P813=\"\",\"\",NETWORKDAYS(C813+1,P813,Hoja1!F805:F921))","v":""},{"$f":"IFERROR(IF(NETWORKDAYS(R813+1,P813,Hoja1!F805:F921)<=0,\"\",NETWORKDAYS(R813+1,P813,Hoja1!F805:F921)),0)","v":""},null,null,{"$f":"IFERROR(VLOOKUP(L813,Hoja1!$A$50:$C$63,2),\"\")","v":""},{"$f":"IFERROR(VLOOKUP(L813,Hoja1!$A$50:$C$63,3),\"\")","v":""}]
[null,null,null,null,null,null,null,null,null,null,null,null,null,null,null,null,null,null,null,null,null,{"$f":"IFERROR(WORKDAY(T814,AE814,Hoja1!F806:F922),\"\")","v":""},"",null,"",{"$f":"IF(P814=\"\",\"\",NETWORKDAYS(C814+1,P814,Hoja1!F806:F922))","v":""},{"$f":"IFERROR(IF(NETWORKDAYS(R814+1,P814,Hoja1!F806:F922)<=0,\"\",NETWORKDAYS(R814+1,P814,Hoja1!F806:F922)),0)","v":""},null,null,{"$f":"IFERROR(VLOOKUP(L814,Hoja1!$A$50:$C$63,2),\"\")","v":""},{"$f":"IFERROR(VLOOKUP(L814,Hoja1!$A$50:$C$63,3),\"\")","v":""}]
[null,null,null,null,null,null,null,null,null,null,null,null,null,null,null,null,null,null,null,null,null,{"$f":"IFERROR(WORKDAY(T815,AE815,Hoja1!F807:F923),\"\")","v":""},"",null,"",{"$f":"IF(P815=\"\",\"\",NETWORKDAYS(C815+1,P815,Hoja1!F807:F923))","v":""},{"$f":"IFERROR(IF(NETWORKDAYS(R815+1,P815,Hoja1!F807:F923)<=0,\"\",NETWORKDAYS(R815+1,P815,Hoja1!F807:F923)),0)","v":""},null,null,{"$f":"IFERROR(VLOOKUP(L815,Hoja1!$A$50:$C$63,2),\"\")","v":""},{"$f":"IFERROR(VLOOKUP(L815,Hoja1!$A$50:$C$63,3),\"\")","v":""}]
[null,null,null,null,null,null,null,null,null,null,null,null,null,null,null,null,null,null,null,null,null,{"$f":"IFERROR(WORKDAY(T816,AE816,Hoja1!F808:F924),\"\")","v":""},"",null,"",{"$f":"IF(P816=\"\",\"\",NETWORKDAYS(C816+1,P816,Hoja1!F808:F924))","v":""},{"$f":"IFERROR(IF(NETWORKDAYS(R816+1,P816,Hoja1!F808:F924)<=0,\"\",NETWORKDAYS(R816+1,P816,Hoja1!F808:F924)),0)","v":""},null,null,{"$f":"IFERROR(VLOOKUP(L816,Hoja1!$A$50:$C$63,2),\"\")","v":""},{"$f":"IFERROR(VLOOKUP(L816,Hoja1!$A$50:$C$63,3),\"\")","v":""}]
[null,null,null,null,null,null,null,null,null,null,null,null,null,null,null,null,null,null,null,null,null,{"$f":"IFERROR(WORKDAY(T817,AE817,Hoja1!F809:F925),\"\")","v":""},"",null,"",{"$f":"IF(P817=\"\",\"\",NETWORKDAYS(C817+1,P817,Hoja1!F809:F925))","v":""},{"$f":"IFERROR(IF(NETWORKDAYS(R817+1,P817,Hoja1!F809:F925)<=0,\"\",NETWORKDAYS(R817+1,P817,Hoja1!F809:F925)),0)","v":""},null,null,{"$f":"IFERROR(VLOOKUP(L817,Hoja1!$A$50:$C$63,2),\"\")","v":""},{"$f":"IFERROR(VLOOKUP(L817,Hoja1!$A$50:$C$63,3),\"\")","v":""}]
[null,null,null,null,null,null,null,null,null,null,null,null,null,null,null,null,null,null,null,null,null,{"$f":"IFERROR(WORKDAY(T818,AE818,Hoja1!F810:F926),\"\")","v":""},"",null,"",{"$f":"IF(P818=\"\",\"\",NETWORKDAYS(C818+1,P818,Hoja1!F810:F926))","v":""},{"$f":"IFERROR(IF(NETWORKDAYS(R818+1,P818,Hoja1!F810:F926)<=0,\"\",NETWORKDAYS(R818+1,P818,Hoja1!F810:F926)),0)","v":""},null,null,{"$f":"IFERROR(VLOOKUP(L818,Hoja1!$A$50:$C$63,2),\"\")","v":""},{"$f":"IFERROR(VLOOKUP(L818,Hoja1!$A$50:$C$63,3),\"\")","v":""}]
[null,null,null,null,null,null,null,null,null,null,null,null,null,null,null,null,null,null,null,null,null,{"$f":"IFERROR(WORKDAY(T819,AE819,Hoja1!F811:F927),\"\")","v":""},"",null,"",{"$f":"IF(P819=\"\",\"\",NETWORKDAYS(C819+1,P819,Hoja1!F811:F927))","v":""},{"$f":"IFERROR(IF(NETWORKDAYS(R819+1,P819,Hoja1!F811:F927)<=0,\"\",NETWORKDAYS(R819+1,P819,Hoja1!F811:F927)),0)","v":""},null,null,{"$f":"IFERROR(VLOOKUP(L819,Hoja1!$A$50:$C$63,2),\"\")","v":""},{"$f":"IFERROR(VLOOKUP(L819,Hoja1!$A$50:$C$63,3),\"\")","v":""}]
[null,null,null,null,null,null,null,null,null,null,null,null,null,null,null,null,null,null,null,null,null,{"$f":"IFERROR(WORKDAY(T820,AE820,Hoja1!F812:F928),\"\")","v":""},"",null,"",{"$f":"IF(P820=\"\",\"\",NETWORKDAYS(C820+1,P820,Hoja1!F812:F928))","v":""},{"$f":"IFERROR(IF(NETWORKDAYS(R820+1,P820,Hoja1!F812:F928)<=0,\"\",NETWORKDAYS(R820+1,P820,Hoja1!F812:F928)),0)","v":""},null,null,{"$f":"IFERROR(VLOOKUP(L820,Hoja1!$A$50:$C$63,2),\"\")","v":""},{"$f":"IFERROR(VLOOKUP(L820,Hoja1!$A$50:$C$63,3),\"\")","v":""}]
[null,null,null,null,null,null,null,null,null,null,null,null,null,null,null,null,null,null,null,null,null,{"$f":"IFERROR(WORKDAY(T821,AE821,Hoja1!F813:F929),\"\")","v":""},"",null,"",{"$f":"IF(P821=\"\",\"\",NETWORKDAYS(C821+1,P821,Hoja1!F813:F929))","v":""},{"$f":"IFERROR(IF(NETWORKDAYS(R821+1,P821,Hoja1!F813:F929)<=0,\"\",NETWORKDAYS(R821+1,P821,Hoja1!F813:F929)),0)","v":""},null,null,{"$f":"IFERROR(VLOOKUP(L821,Hoja1!$A$50:$C$63,2),\"\")","v":""},{"$f":"IFERROR(VLOOKUP(L821,Hoja1!$A$50:$C$63,3),\"\")","v":""}]
[null,null,null,null,null,null,null,null,null,null,null,null,null,null,null,null,null,null,null,null,null,{"$f":"IFERROR(WORKDAY(T822,AE822,Hoja1!F814:F930),\"\")","v":""},"",null,"",{"$f":"IF(P822=\"\",\"\",NETWORKDAYS(C822+1,P822,Hoja1!F814:F930))","v":""},{"$f":"IFERROR(IF(NETWORKDAYS(R822+1,P822,Hoja1!F814:F930)<=0,\"\",NETWORKDAYS(R822+1,P822,Hoja1!F814:F930)),0)","v":""},null,null,{"$f":"IFERROR(VLOOKUP(L822,Hoja1!$A$50:$C$63,2),\"\")","v":""},{"$f":"IFERROR(VLOOKUP(L822,Hoja1!$A$50:$C$63,3),\"\")","v":""}]
[null,null,null,null,null,null,null,null,null,null,null,null,null,null,null,null,null,null,null,null,null,{"$f":"IFERROR(WORKDAY(T823,AE823,Hoja1!F815:F931),\"\")","v":""},"",null,"",{"$f":"IF(P823=\"\",\"\",NETWORKDAYS(C823+1,P823,Hoja1!F815:F931))","v":""},{"$f":"IFERROR(IF(NETWORKDAYS(R823+1,P823,Hoja1!F815:F931)<=0,\"\",NETWORKDAYS(R823+1,P823,Hoja1!F815:F931)),0)","v":""},null,null,{"$f":"IFERROR(VLOOKUP(L823,Hoja1!$A$50:$C$63,2),\"\")","v":""},{"$f":"IFERROR(VLOOKUP(L823,Hoja1!$A$50:$C$63,3),\"\")","v":""}]
[null,null,null,null,null,null,null,null,null,null,null,null,null,null,null,null,null,null,null,null,null,{"$f":"IFERROR(WORKDAY(T824,AE824,Hoja1!F816:F932),\"\")","v":""},"",null,"",{"$f":"IF(P824=\"\",\"\",NETWORKDAYS(C824+1,P824,Hoja1!F816:F932))","v":""},{"$f":"IFERROR(IF(NETWORKDAYS(R824+1,P824,Hoja1!F816:F932)<=0,\"\",NETWORKDAYS(R824+1,P824,Hoja1!F816:F932)),0)","v":""},null,null,{"$f":"IFERROR(VLOOKUP(L824,Hoja1!$A$50:$C$63,2),\"\")","v":""},{"$f":"IFERROR(VLOOKUP(L824,Hoja1!$A$50:$C$63,3),\"\")","v":""}]
[null,null,null,null,null,null,null,null,null,null,null,null,null,null,null,null,null,null,null,null,null,{"$f":"IFERROR(WORKDAY(T825,AE825,Hoja1!F817:F933),\"\")","v":""},"",null,"",{"$f":"IF(P825=\"\",\"\",NETWORKDAYS(C825+1,P825,Hoja1!F817:F933))","v":""},{"$f":"IFERROR(IF(NETWORKDAYS(R825+1,P825,Hoja1!F817:F933)<=0,\"\",NETWORKDAYS(R825+1,P825,Hoja1!F817:F933)),0)","v":""},null,null,{"$f":"IFERROR(VLOOKUP(L825,Hoja1!$A$50:$C$63,2),\"\")","v":""},{"$f":"IFERROR(VLOOKUP(L825,Hoja1!$A$50:$C$63,3),\"\")","v":""}]
[null,null,null,null,null,null,null,null,null,null,null,null,null,null,null,null,null,null,null,null,null,{"$f":"IFERROR(WORKDAY(T826,AE826,Hoja1!F818:F934),\"\")","v":""},"",null,"",{"$f":"IF(P826=\"\",\"\",NETWORKDAYS(C826+1,P826,Hoja1!F818:F934))","v":""},{"$f":"IFERROR(IF(NETWORKDAYS(R826+1,P826,Hoja1!F818:F934)<=0,\"\",NETWORKDAYS(R826+1,P826,Hoja1!F818:F934)),0)","v":""},null,null,{"$f":"IFERROR(VLOOKUP(L826,Hoja1!$A$50:$C$63,2),\"\")","v":""},{"$f":"IFERROR(VLOOKUP(L826,Hoja1!$A$50:$C$63,3),\"\")","v":""}]
[null,null,null,null,null,null,null,null,null,null,null,null,null,null,null,null,null,null,null,null,null,{"$f":"IFERROR(WORKDAY(T827,AE827,Hoja1!F819:F935),\"\")","v":""},"",null,"",{"$f":"IF(P827=\"\",\"\",NETWORKDAYS(C827+1,P827,Hoja1!F819:F935))","v":""},{"$f":"IFERROR(IF(NETWORKDAYS(R827+1,P827,Hoja1!F819:F935)<=0,\"\",NETWORKDAYS(R827+1,P827,Hoja1!F819:F935)),0)","v":""},null,null,{"$f":"IFERROR(VLOOKUP(L827,Hoja1!$A$50:$C$63,2),\"\")","v":""},{"$f":"IFERROR(VLOOKUP(L827,Hoja1!$A$50:$C$63,3),\"\")","v":""}]
[null,null,null,null,null,null,null,null,null,null,null,null,null,null,null,null,null,null,null,null,null,{"$f":"IFERROR(WORKDAY(T828,AE828,Hoja1!F820:F936),\"\")","v":""},"",null,"",{"$f":"IF(P828=\"\",\"\",NETWORKDAYS(C828+1,P828,Hoja1!F820:F936))","v":""},{"$f":"IFERROR(IF(NETWORKDAYS(R828+1,P828,Hoja1!F820:F936)<=0,\"\",NETWORKDAYS(R828+1,P828,Hoja1!F820:F936)),0)","v":""},null,null,{"$f":"IFERROR(VLOOKUP(L828,Hoja1!$A$50:$C$63,2),\"\")","v":""},{"$f":"IFERROR(VLOOKUP(L828,Hoja1!$A$50:$C$63,3),\"\")","v":""}]
[null,null,null,null,null,null,null,null,null,null,null,null,null,null,null,null,null,null,null,null,null,{"$f":"IFERROR(WORKDAY(T829,AE829,Hoja1!F821:F937),\"\")","v":""},"",null,"",{"$f":"IF(P829=\"\",\"\",NETWORKDAYS(C829+1,P829,Hoja1!F821:F937))","v":""},{"$f":"IFERROR(IF(NETWORKDAYS(R829+1,P829,Hoja1!F821:F937)<=0,\"\",NETWORKDAYS(R829+1,P829,Hoja1!F821:F937)),0)","v":""},null,null,{"$f":"IFERROR(VLOOKUP(L829,Hoja1!$A$50:$C$63,2),\"\")","v":""},{"$f":"IFERROR(VLOOKUP(L829,Hoja1!$A$50:$C$63,3),\"\")","v":""}]
[null,null,null,null,null,null,null,null,null,null,null,null,null,null,null,null,null,null,null,null,null,{"$f":"IFERROR(WORKDAY(T830,AE830,Hoja1!F822:F938),\"\")","v":""},"",null,"",{"$f":"IF(P830=\"\",\"\",NETWORKDAYS(C830+1,P830,Hoja1!F822:F938))","v":""},{"$f":"IFERROR(IF(NETWORKDAYS(R830+1,P830,Hoja1!F822:F938)<=0,\"\",NETWORKDAYS(R830+1,P830,Hoja1!F822:F938)),0)","v":""},null,null,{"$f":"IFERROR(VLOOKUP(L830,Hoja1!$A$50:$C$63,2),\"\")","v":""},{"$f":"IFERROR(VLOOKUP(L830,Hoja1!$A$50:$C$63,3),\"\")","v":""}]
[null,null,null,null,null,null,null,null,null,null,null,null,null,null,null,null,null,null,null,null,null,{"$f":"IFERROR(WORKDAY(T831,AE831,Hoja1!F823:F939),\"\")","v":""},"",null,"",{"$f":"IF(P831=\"\",\"\",NETWORKDAYS(C831+1,P831,Hoja1!F823:F939))","v":""},{"$f":"IFERROR(IF(NETWORKDAYS(R831+1,P831,Hoja1!F823:F939)<=0,\"\",NETWORKDAYS(R831+1,P831,Hoja1!F823:F939)),0)","v":""},null,null,{"$f":"IFERROR(VLOOKUP(L831,Hoja1!$A$50:$C$63,2),\"\")","v":""},{"$f":"IFERROR(VLOOKUP(L831,Hoja1!$A$50:$C$63,3),\"\")","v":""}]
[null,null,null,null,null,null,null,null,null,null,null,null,null,null,null,null,null,null,null,null,null,{"$f":"IFERROR(WORKDAY(T832,AE832,Hoja1!F824:F940),\"\")","v":""},"",null,"",{"$f":"IF(P832=\"\",\"\",NETWORKDAYS(C832+1,P832,Hoja1!F824:F940))","v":""},{"$f":"IFERROR(IF(NETWORKDAYS(R832+1,P832,Hoja1!F824:F940)<=0,\"\",NETWORKDAYS(R832+1,P832,Hoja1!F824:F940)),0)","v":""},null,null,{"$f":"IFERROR(VLOOKUP(L832,Hoja1!$A$50:$C$63,2),\"\")","v":""},{"$f":"IFERROR(VLOOKUP(L832,Hoja1!$A$50:$C$63,3),\"\")","v":""}]
[null,null,null,null,null,null,null,null,null,null,null,null,null,null,null,null,null,null,null,null,null,{"$f":"IFERROR(WORKDAY(T833,AE833,Hoja1!F825:F941),\"\")","v":""},"",null,"",{"$f":"IF(P833=\"\",\"\",NETWORKDAYS(C833+1,P833,Hoja1!F825:F941))","v":""},{"$f":"IFERROR(IF(NETWORKDAYS(R833+1,P833,Hoja1!F825:F941)<=0,\"\",NETWORKDAYS(R833+1,P833,Hoja1!F825:F941)),0)","v":""},null,null,{"$f":"IFERROR(VLOOKUP(L833,Hoja1!$A$50:$C$63,2),\"\")","v":""},{"$f":"IFERROR(VLOOKUP(L833,Hoja1!$A$50:$C$63,3),\"\")","v":""}]
[null,null,null,null,null,null,null,null,null,null,null,null,null,null,null,null,null,null,null,null,null,{"$f":"IFERROR(WORKDAY(T834,AE834,Hoja1!F826:F942),\"\")","v":""},"",null,"",{"$f":"IF(P834=\"\",\"\",NETWORKDAYS(C834+1,P834,Hoja1!F826:F942))","v":""},{"$f":"IFERROR(IF(NETWORKDAYS(R834+1,P834,Hoja1!F826:F942)<=0,\"\",NETWORKDAYS(R834+1,P834,Hoja1!F826:F942)),0)","v":""},null,null,{"$f":"IFERROR(VLOOKUP(L834,Hoja1!$A$50:$C$63,2),\"\")","v":""},{"$f":"IFERROR(VLOOKUP(L834,Hoja1!$A$50:$C$63,3),\"\")","v":""}]
[null,null,null,null,null,null,null,null,null,null,null,null,null,null,null,null,null,null,null,null,null,{"$f":"IFERROR(WORKDAY(T835,AE835,Hoja1!F827:F943),\"\")","v":""},"",null,"",{"$f":"IF(P835=\"\",\"\",NETWORKDAYS(C835+1,P835,Hoja1!F827:F943))","v":""},{"$f":"IFERROR(IF(NETWORKDAYS(R835+1,P835,Hoja1!F827:F943)<=0,\"\",NETWORKDAYS(R835+1,P835,Hoja1!F827:F943)),0)","v":""},null,null,{"$f":"IFERROR(VLOOKUP(L835,Hoja1!$A$50:$C$63,2),\"\")","v":""},{"$f":"IFERROR(VLOOKUP(L835,Hoja1!$A$50:$C$63,3),\"\")","v":""}]
[null,null,null,null,null,null,null,null,null,null,null,null,null,null,null,null,null,null,null,null,null,{"$f":"IFERROR(WORKDAY(T836,AE836,Hoja1!F828:F944),\"\")","v":""},"",null,"",{"$f":"IF(P836=\"\",\"\",NETWORKDAYS(C836+1,P836,Hoja1!F828:F944))","v":""},{"$f":"IFERROR(IF(NETWORKDAYS(R836+1,P836,Hoja1!F828:F944)<=0,\"\",NETWORKDAYS(R836+1,P836,Hoja1!F828:F944)),0)","v":""},null,null,{"$f":"IFERROR(VLOOKUP(L836,Hoja1!$A$50:$C$63,2),\"\")","v":""},{"$f":"IFERROR(VLOOKUP(L836,Hoja1!$A$50:$C$63,3),\"\")","v":""}]
[null,null,null,null,null,null,null,null,null,null,null,null,null,null,null,null,null,null,null,null,null,{"$f":"IFERROR(WORKDAY(T837,AE837,Hoja1!F829:F945),\"\")","v":""},"",null,"",{"$f":"IF(P837=\"\",\"\",NETWORKDAYS(C837+1,P837,Hoja1!F829:F945))","v":""},{"$f":"IFERROR(IF(NETWORKDAYS(R837+1,P837,Hoja1!F829:F945)<=0,\"\",NETWORKDAYS(R837+1,P837,Hoja1!F829:F945)),0)","v":""},null,null,{"$f":"IFERROR(VLOOKUP(L837,Hoja1!$A$50:$C$63,2),\"\")","v":""},{"$f":"IFERROR(VLOOKUP(L837,Hoja1!$A$50:$C$63,3),\"\")","v":""}]
[null,null,null,null,null,null,null,null,null,null,null,null,null,null,null,null,null,null,null,null,null,{"$f":"IFERROR(WORKDAY(T838,AE838,Hoja1!F830:F946),\"\")","v":""},"",null,"",{"$f":"IF(P838=\"\",\"\",NETWORKDAYS(C838+1,P838,Hoja1!F830:F946))","v":""},{"$f":"IFERROR(IF(NETWORKDAYS(R838+1,P838,Hoja1!F830:F946)<=0,\"\",NETWORKDAYS(R838+1,P838,Hoja1!F830:F946)),0)","v":""},null,null,{"$f":"IFERROR(VLOOKUP(L838,Hoja1!$A$50:$C$63,2),\"\")","v":""},{"$f":"IFERROR(VLOOKUP(L838,Hoja1!$A$50:$C$63,3),\"\")","v":""}]
[null,null,null,null,null,null,null,null,null,null,null,null,null,null,null,null,null,null,null,null,null,{"$f":"IFERROR(WORKDAY(T839,AE839,Hoja1!F831:F947),\"\")","v":""},"",null,"",{"$f":"IF(P839=\"\",\"\",NETWORKDAYS(C839+1,P839,Hoja1!F831:F947))","v":""},{"$f":"IFERROR(IF(NETWORKDAYS(R839+1,P839,Hoja1!F831:F947)<=0,\"\",NETWORKDAYS(R839+1,P839,Hoja1!F831:F947)),0)","v":""},null,null,{"$f":"IFERROR(VLOOKUP(L839,Hoja1!$A$50:$C$63,2),\"\")","v":""},{"$f":"IFERROR(VLOOKUP(L839,Hoja1!$A$50:$C$63,3),\"\")","v":""}]
[null,null,null,null,null,null,null,null,null,null,null,null,null,null,null,null,null,null,null,null,null,{"$f":"IFERROR(WORKDAY(T840,AE840,Hoja1!F832:F948),\"\")","v":""},"",null,"",{"$f":"IF(P840=\"\",\"\",NETWORKDAYS(C840+1,P840,Hoja1!F832:F948))","v":""},{"$f":"IFERROR(IF(NETWORKDAYS(R840+1,P840,Hoja1!F832:F948)<=0,\"\",NETWORKDAYS(R840+1,P840,Hoja1!F832:F948)),0)","v":""},null,null,{"$f":"IFERROR(VLOOKUP(L840,Hoja1!$A$50:$C$63,2),\"\")","v":""},{"$f":"IFERROR(VLOOKUP(L840,Hoja1!$A$50:$C$63,3),\"\")","v":""}]
[null,null,null,null,null,null,null,null,null,null,null,null,null,null,null,null,null,null,null,null,null,{"$f":"IFERROR(WORKDAY(T841,AE841,Hoja1!F833:F949),\"\")","v":""},"",null,"",{"$f":"IF(P841=\"\",\"\",NETWORKDAYS(C841+1,P841,Hoja1!F833:F949))","v":""},{"$f":"IFERROR(IF(NETWORKDAYS(R841+1,P841,Hoja1!F833:F949)<=0,\"\",NETWORKDAYS(R841+1,P841,Hoja1!F833:F949)),0)","v":""},null,null,{"$f":"IFERROR(VLOOKUP(L841,Hoja1!$A$50:$C$63,2),\"\")","v":""},{"$f":"IFERROR(VLOOKUP(L841,Hoja1!$A$50:$C$63,3),\"\")","v":""}]
[null,null,null,null,null,null,null,null,null,null,null,null,null,null,null,null,null,null,null,null,null,{"$f":"IFERROR(WORKDAY(T842,AE842,Hoja1!F834:F950),\"\")","v":""},{"$f":"+IF(T842=\"\",\"\",IF(U842=\"\",\"SIN RESPUESTA\",(IF(U842<=V842,\"A TIEMPO\",\"FUERA DE TIEMPO\"))))","v":""},null,{"$f":"+IF(C842=\"\",\"\",IF(P842=\"\",\"SIN RESPUESTA\",(IF(P842<=R842,\"A TIEMPO\",\"FUERA DE TIEMPO\"))))","v":""},{"$f":"IF(P842=\"\",\"\",NETWORKDAYS(C842+1,P842,Hoja1!F834:F950))","v":""},{"$f":"IFERROR(IF(NETWORKDAYS(R842+1,P842,Hoja1!F834:F950)<=0,\"\",NETWORKDAYS(R842+1,P842,Hoja1!F834:F950)),0)","v":""},null,null,{"$f":"IFERROR(VLOOKUP(L842,Hoja1!$A$50:$C$63,2),\"\")","v":""},{"$f":"IFERROR(VLOOKUP(L842,Hoja1!$A$50:$C$63,3),\"\")","v":""}]
[null,null,null,null,null,null,null,null,null,null,null,null,null,null,null,null,null,null,null,null,null,{"$f":"IFERROR(WORKDAY(T843,AE843,Hoja1!F835:F951),\"\")","v":""},"",null,"",{"$f":"IF(P843=\"\",\"\",NETWORKDAYS(C843+1,P843,Hoja1!F835:F951))","v":""},{"$f":"IFERROR(IF(NETWORKDAYS(R843+1,P843,Hoja1!F835:F951)<=0,\"\",NETWORKDAYS(R843+1,P843,Hoja1!F835:F951)),0)","v":""},null,null,{"$f":"IFERROR(VLOOKUP(L843,Hoja1!$A$50:$C$63,2),\"\")","v":""},{"$f":"IFERROR(VLOOKUP(L843,Hoja1!$A$50:$C$63,3),\"\")","v":""}]
[null,null,null,null,null,null,null,null,null,null,null,null,null,null,null,null,null,null,null,null,null,{"$f":"IFERROR(WORKDAY(T844,AE844,Hoja1!F836:F952),\"\")","v":""},"",null,"",{"$f":"IF(P844=\"\",\"\",NETWORKDAYS(C844+1,P844,Hoja1!F836:F952))","v":""},{"$f":"IFERROR(IF(NETWORKDAYS(R844+1,P844,Hoja1!F836:F952)<=0,\"\",NETWORKDAYS(R844+1,P844,Hoja1!F836:F952)),0)","v":""},null,null,{"$f":"IFERROR(VLOOKUP(L844,Hoja1!$A$50:$C$63,2),\"\")","v":""},{"$f":"IFERROR(VLOOKUP(L844,Hoja1!$A$50:$C$63,3),\"\")","v":""}]
[null,null,null,null,null,null,null,null,null,null,null,null,null,null,null,null,null,null,null,null,null,{"$f":"IFERROR(WORKDAY(T845,AE845,Hoja1!F837:F953),\"\")","v":""},"",null,"",{"$f":"IF(P845=\"\",\"\",NETWORKDAYS(C845+1,P845,Hoja1!F837:F953))","v":""},{"$f":"IFERROR(IF(NETWORKDAYS(R845+1,P845,Hoja1!F837:F953)<=0,\"\",NETWORKDAYS(R845+1,P845,Hoja1!F837:F953)),0)","v":""},null,null,{"$f":"IFERROR(VLOOKUP(L845,Hoja1!$A$50:$C$63,2),\"\")","v":""},{"$f":"IFERROR(VLOOKUP(L845,Hoja1!$A$50:$C$63,3),\"\")","v":""}]
[null,null,null,null,null,null,null,null,null,null,null,null,null,null,null,null,null,null,null,null,null,{"$f":"IFERROR(WORKDAY(T846,AE846,Hoja1!F838:F954),\"\")","v":""},"",null,"",{"$f":"IF(P846=\"\",\"\",NETWORKDAYS(C846+1,P846,Hoja1!F838:F954))","v":""},{"$f":"IFERROR(IF(NETWORKDAYS(R846+1,P846,Hoja1!F838:F954)<=0,\"\",NETWORKDAYS(R846+1,P846,Hoja1!F838:F954)),0)","v":""},null,null,{"$f":"IFERROR(VLOOKUP(L846,Hoja1!$A$50:$C$63,2),\"\")","v":""},{"$f":"IFERROR(VLOOKUP(L846,Hoja1!$A$50:$C$63,3),\"\")","v":""}]
[null,null,null,null,null,null,null,null,null,null,null,null,null,null,null,null,null,null,null,null,null,{"$f":"IFERROR(WORKDAY(T847,AE847,Hoja1!F839:F955),\"\")","v":""},"",null,"",{"$f":"IF(P847=\"\",\"\",NETWORKDAYS(C847+1,P847,Hoja1!F839:F955))","v":""},{"$f":"IFERROR(IF(NETWORKDAYS(R847+1,P847,Hoja1!F839:F955)<=0,\"\",NETWORKDAYS(R847+1,P847,Hoja1!F839:F955)),0)","v":""},null,null,{"$f":"IFERROR(VLOOKUP(L847,Hoja1!$A$50:$C$63,2),\"\")","v":""},{"$f":"IFERROR(VLOOKUP(L847,Hoja1!$A$50:$C$63,3),\"\")","v":""}]
[null,null,null,null,null,null,null,null,null,null,null,null,null,null,null,null,null,null,null,null,null,{"$f":"IFERROR(WORKDAY(T848,AE848,Hoja1!F840:F956),\"\")","v":""},"",null,"",{"$f":"IF(P848=\"\",\"\",NETWORKDAYS(C848+1,P848,Hoja1!F840:F956))","v":""},{"$f":"IFERROR(IF(NETWORKDAYS(R848+1,P848,Hoja1!F840:F956)<=0,\"\",NETWORKDAYS(R848+1,P848,Hoja1!F840:F956)),0)","v":""},null,null,{"$f":"IFERROR(VLOOKUP(L848,Hoja1!$A$50:$C$63,2),\"\")","v":""},{"$f":"IFERROR(VLOOKUP(L848,Hoja1!$A$50:$C$63,3),\"\")","v":""}]
[null,null,null,null,null,null,null,null,null,null,null,null,null,null,null,null,null,null,null,null,null,{"$f":"IFERROR(WORKDAY(T849,AE849,Hoja1!F841:F957),\"\")","v":""},"",null,"",{"$f":"IF(P849=\"\",\"\",NETWORKDAYS(C849+1,P849,Hoja1!F841:F957))","v":""},{"$f":"IFERROR(IF(NETWORKDAYS(R849+1,P849,Hoja1!F841:F957)<=0,\"\",NETWORKDAYS(R849+1,P849,Hoja1!F841:F957)),0)","v":""},null,null,{"$f":"IFERROR(VLOOKUP(L849,Hoja1!$A$50:$C$63,2),\"\")","v":""},{"$f":"IFERROR(VLOOKUP(L849,Hoja1!$A$50:$C$63,3),\"\")","v":""}]
[null,null,null,null,null,null,null,null,null,null,null,null,null,null,null,null,null,null,null,null,null,{"$f":"IFERROR(WORKDAY(T850,AE850,Hoja1!F842:F958),\"\")","v":""},"",null,"",{"$f":"IF(P850=\"\",\"\",NETWORKDAYS(C850+1,P850,Hoja1!F842:F958))","v":""},{"$f":"IFERROR(IF(NETWORKDAYS(R850+1,P850,Hoja1!F842:F958)<=0,\"\",NETWORKDAYS(R850+1,P850,Hoja1!F842:F958)),0)","v":""},null,null,{"$f":"IFERROR(VLOOKUP(L850,Hoja1!$A$50:$C$63,2),\"\")","v":""},{"$f":"IFERROR(VLOOKUP(L850,Hoja1!$A$50:$C$63,3),\"\")","v":""}]
[null,null,null,null,null,null,null,null,null,null,null,null,null,null,null,null,null,null,null,null,null,{"$f":"IFERROR(WORKDAY(T851,AE851,Hoja1!F843:F959),\"\")","v":""},"",null,"",{"$f":"IF(P851=\"\",\"\",NETWORKDAYS(C851+1,P851,Hoja1!F843:F959))","v":""},{"$f":"IFERROR(IF(NETWORKDAYS(R851+1,P851,Hoja1!F843:F959)<=0,\"\",NETWORKDAYS(R851+1,P851,Hoja1!F843:F959)),0)","v":""},null,null,{"$f":"IFERROR(VLOOKUP(L851,Hoja1!$A$50:$C$63,2),\"\")","v":""},{"$f":"IFERROR(VLOOKUP(L851,Hoja1!$A$50:$C$63,3),\"\")","v":""}]
[null,null,null,null,null,null,null,null,null,null,null,null,null,null,null,null,null,null,null,null,null,{"$f":"IFERROR(WORKDAY(T852,AE852,Hoja1!F844:F960),\"\")","v":""},"",null,"",{"$f":"IF(P852=\"\",\"\",NETWORKDAYS(C852+1,P852,Hoja1!F844:F960))","v":""},{"$f":"IFERROR(IF(NETWORKDAYS(R852+1,P852,Hoja1!F844:F960)<=0,\"\",NETWORKDAYS(R852+1,P852,Hoja1!F844:F960)),0)","v":""},null,null,{"$f":"IFERROR(VLOOKUP(L852,Hoja1!$A$50:$C$63,2),\"\")","v":""},{"$f":"IFERROR(VLOOKUP(L852,Hoja1!$A$50:$C$63,3),\"\")","v":""}]
[null,null,null,null,null,null,null,null,null,null,null,null,null,null,null,null,null,null,null,null,null,{"$f":"IFERROR(WORKDAY(T853,AE853,Hoja1!F845:F961),\"\")","v":""},"",null,"",{"$f":"IF(P853=\"\",\"\",NETWORKDAYS(C853+1,P853,Hoja1!F845:F961))","v":""},{"$f":"IFERROR(IF(NETWORKDAYS(R853+1,P853,Hoja1!F845:F961)<=0,\"\",NETWORKDAYS(R853+1,P853,Hoja1!F845:F961)),0)","v":""},null,null,{"$f":"IFERROR(VLOOKUP(L853,Hoja1!$A$50:$C$63,2),\"\")","v":""},{"$f":"IFERROR(VLOOKUP(L853,Hoja1!$A$50:$C$63,3),\"\")","v":""}]
[null,null,null,null,null,null,null,null,null,null,null,null,null,null,null,null,null,null,null,null,null,{"$f":"IFERROR(WORKDAY(T854,AE854,Hoja1!F846:F962),\"\")","v":""},"",null,"",{"$f":"IF(P854=\"\",\"\",NETWORKDAYS(C854+1,P854,Hoja1!F846:F962))","v":""},{"$f":"IFERROR(IF(NETWORKDAYS(R854+1,P854,Hoja1!F846:F962)<=0,\"\",NETWORKDAYS(R854+1,P854,Hoja1!F846:F962)),0)","v":""},null,null,{"$f":"IFERROR(VLOOKUP(L854,Hoja1!$A$50:$C$63,2),\"\")","v":""},{"$f":"IFERROR(VLOOKUP(L854,Hoja1!$A$50:$C$63,3),\"\")","v":""}]
[null,null,null,null,null,null,null,null,null,null,null,null,null,null,null,null,null,null,null,null,null,{"$f":"IFERROR(WORKDAY(T855,AE855,Hoja1!F847:F963),\"\")","v":""},"",null,"",{"$f":"IF(P855=\"\",\"\",NETWORKDAYS(C855+1,P855,Hoja1!F847:F963))","v":""},{"$f":"IFERROR(IF(NETWORKDAYS(R855+1,P855,Hoja1!F847:F963)<=0,\"\",NETWORKDAYS(R855+1,P855,Hoja1!F847:F963)),0)","v":""},null,null,{"$f":"IFERROR(VLOOKUP(L855,Hoja1!$A$50:$C$63,2),\"\")","v":""},{"$f":"IFERROR(VLOOKUP(L855,Hoja1!$A$50:$C$63,3),\"\")","v":""}]
[null,null,null,null,null,null,null,null,null,null,null,null,null,null,null,null,null,null,null,null,null,{"$f":"IFERROR(WORKDAY(T856,AE856,Hoja1!F848:F964),\"\")","v":""},"",null,"",{"$f":"IF(P856=\"\",\"\",NETWORKDAYS(C856+1,P856,Hoja1!F848:F964))","v":""},{"$f":"IFERROR(IF(NETWORKDAYS(R856+1,P856,Hoja1!F848:F964)<=0,\"\",NETWORKDAYS(R856+1,P856,Hoja1!F848:F964)),0)","v":""},null,null,{"$f":"IFERROR(VLOOKUP(L856,Hoja1!$A$50:$C$63,2),\"\")","v":""},{"$f":"IFERROR(VLOOKUP(L856,Hoja1!$A$50:$C$63,3),\"\")","v":""}]
[null,null,null,null,null,null,null,null,null,null,null,null,null,null,null,null,null,null,null,null,null,{"$f":"IFERROR(WORKDAY(T857,AE857,Hoja1!F849:F965),\"\")","v":""},"",null,"",{"$f":"IF(P857=\"\",\"\",NETWORKDAYS(C857+1,P857,Hoja1!F849:F965))","v":""},{"$f":"IFERROR(IF(NETWORKDAYS(R857+1,P857,Hoja1!F849:F965)<=0,\"\",NETWORKDAYS(R857+1,P857,Hoja1!F849:F965)),0)","v":""},null,null,{"$f":"IFERROR(VLOOKUP(L857,Hoja1!$A$50:$C$63,2),\"\")","v":""},{"$f":"IFERROR(VLOOKUP(L857,Hoja1!$A$50:$C$63,3),\"\")","v":""}]
[null,null,null,null,null,null,null,null,null,null,null,null,null,null,null,null,null,null,null,null,null,{"$f":"IFERROR(WORKDAY(T858,AE858,Hoja1!F850:F966),\"\")","v":""},"",null,"",{"$f":"IF(P858=\"\",\"\",NETWORKDAYS(C858+1,P858,Hoja1!F850:F966))","v":""},{"$f":"IFERROR(IF(NETWORKDAYS(R858+1,P858,Hoja1!F850:F966)<=0,\"\",NETWORKDAYS(R858+1,P858,Hoja1!F850:F966)),0)","v":""},null,null,{"$f":"IFERROR(VLOOKUP(L858,Hoja1!$A$50:$C$63,2),\"\")","v":""},{"$f":"IFERROR(VLOOKUP(L858,Hoja1!$A$50:$C$63,3),\"\")","v":""}]
[null,null,null,null,null,null,null,null,null,null,null,null,null,null,null,null,null,null,null,null,null,{"$f":"IFERROR(WORKDAY(T859,AE859,Hoja1!F851:F967),\"\")","v":""},"",null,"",{"$f":"IF(P859=\"\",\"\",NETWORKDAYS(C859+1,P859,Hoja1!F851:F967))","v":""},{"$f":"IFERROR(IF(NETWORKDAYS(R859+1,P859,Hoja1!F851:F967)<=0,\"\",NETWORKDAYS(R859+1,P859,Hoja1!F851:F967)),0)","v":""},null,null,{"$f":"IFERROR(VLOOKUP(L859,Hoja1!$A$50:$C$63,2),\"\")","v":""},{"$f":"IFERROR(VLOOKUP(L859,Hoja1!$A$50:$C$63,3),\"\")","v":""}]
[null,null,null,null,null,null,null,null,null,null,null,null,null,null,null,null,null,null,null,null,null,{"$f":"IFERROR(WORKDAY(T860,AE860,Hoja1!F852:F968),\"\")","v":""},"",null,"",{"$f":"IF(P860=\"\",\"\",NETWORKDAYS(C860+1,P860,Hoja1!F852:F968))","v":""},{"$f":"IFERROR(IF(NETWORKDAYS(R860+1,P860,Hoja1!F852:F968)<=0,\"\",NETWORKDAYS(R860+1,P860,Hoja1!F852:F968)),0)","v":""},null,null,{"$f":"IFERROR(VLOOKUP(L860,Hoja1!$A$50:$C$63,2),\"\")","v":""},{"$f":"IFERROR(VLOOKUP(L860,Hoja1!$A$50:$C$63,3),\"\")","v":""}]
[null,null,null,null,null,null,null,null,null,null,null,null,null,null,null,null,null,null,null,null,null,{"$f":"IFERROR(WORKDAY(T861,AE861,Hoja1!F853:F969),\"\")","v":""},"",null,"",{"$f":"IF(P861=\"\",\"\",NETWORKDAYS(C861+1,P861,Hoja1!F853:F969))","v":""},{"$f":"IFERROR(IF(NETWORKDAYS(R861+1,P861,Hoja1!F853:F969)<=0,\"\",NETWORKDAYS(R861+1,P861,Hoja1!F853:F969)),0)","v":""},null,null,{"$f":"IFERROR(VLOOKUP(L861,Hoja1!$A$50:$C$63,2),\"\")","v":""},{"$f":"IFERROR(VLOOKUP(L861,Hoja1!$A$50:$C$63,3),\"\")","v":""}]
[null,null,null,null,null,null,null,null,null,null,null,null,null,null,null,null,null,null,null,null,null,{"$f":"IFERROR(WORKDAY(T862,AE862,Hoja1!F854:F970),\"\")","v":""},"",null,"",{"$f":"IF(P862=\"\",\"\",NETWORKDAYS(C862+1,P862,Hoja1!F854:F970))","v":""},{"$f":"IFERROR(IF(NETWORKDAYS(R862+1,P862,Hoja1!F854:F970)<=0,\"\",NETWORKDAYS(R862+1,P862,Hoja1!F854:F970)),0)","v":""},null,null,{"$f":"IFERROR(VLOOKUP(L862,Hoja1!$A$50:$C$63,2),\"\")","v":""},{"$f":"IFERROR(VLOOKUP(L862,Hoja1!$A$50:$C$63,3),\"\")","v":""}]
[null,null,null,null,null,null,null,null,null,null,null,null,null,null,null,null,null,null,null,null,null,{"$f":"IFERROR(WORKDAY(T863,AE863,Hoja1!F855:F971),\"\")","v":""},"",null,"",{"$f":"IF(P863=\"\",\"\",NETWORKDAYS(C863+1,P863,Hoja1!F855:F971))","v":""},{"$f":"IFERROR(IF(NETWORKDAYS(R863+1,P863,Hoja1!F855:F971)<=0,\"\",NETWORKDAYS(R863+1,P863,Hoja1!F855:F971)),0)","v":""},null,null,{"$f":"IFERROR(VLOOKUP(L863,Hoja1!$A$50:$C$63,2),\"\")","v":""},{"$f":"IFERROR(VLOOKUP(L863,Hoja1!$A$50:$C$63,3),\"\")","v":""}]
[null,null,null,null,null,null,null,null,null,null,null,null,null,null,null,null,null,null,null,null,null,{"$f":"IFERROR(WORKDAY(T864,AE864,Hoja1!F856:F972),\"\")","v":""},"",null,"",{"$f":"IF(P864=\"\",\"\",NETWORKDAYS(C864+1,P864,Hoja1!F856:F972))","v":""},{"$f":"IFERROR(IF(NETWORKDAYS(R864+1,P864,Hoja1!F856:F972)<=0,\"\",NETWORKDAYS(R864+1,P864,Hoja1!F856:F972)),0)","v":""},null,null,{"$f":"IFERROR(VLOOKUP(L864,Hoja1!$A$50:$C$63,2),\"\")","v":""},{"$f":"IFERROR(VLOOKUP(L864,Hoja1!$A$50:$C$63,3),\"\")","v":""}]
[null,null,null,null,null,null,null,null,null,null,null,null,null,null,null,null,null,null,null,null,null,{"$f":"IFERROR(WORKDAY(T865,AE865,Hoja1!F857:F973),\"\")","v":""},"",null,"",{"$f":"IF(P865=\"\",\"\",NETWORKDAYS(C865+1,P865,Hoja1!F857:F973))","v":""},{"$f":"IFERROR(IF(NETWORKDAYS(R865+1,P865,Hoja1!F857:F973)<=0,\"\",NETWORKDAYS(R865+1,P865,Hoja1!F857:F973)),0)","v":""},null,null,{"$f":"IFERROR(VLOOKUP(L865,Hoja1!$A$50:$C$63,2),\"\")","v":""},{"$f":"IFERROR(VLOOKUP(L865,Hoja1!$A$50:$C$63,3),\"\")","v":""}]
[null,null,null,null,null,null,null,null,null,null,null,null,null,null,null,null,null,null,null,null,null,{"$f":"IFERROR(WORKDAY(T866,AE866,Hoja1!F858:F974),\"\")","v":""},"",null,"",{"$f":"IF(P866=\"\",\"\",NETWORKDAYS(C866+1,P866,Hoja1!F858:F974))","v":""},{"$f":"IFERROR(IF(NETWORKDAYS(R866+1,P866,Hoja1!F858:F974)<=0,\"\",NETWORKDAYS(R866+1,P866,Hoja1!F858:F974)),0)","v":""},null,null,{"$f":"IFERROR(VLOOKUP(L866,Hoja1!$A$50:$C$63,2),\"\")","v":""},{"$f":"IFERROR(VLOOKUP(L866,Hoja1!$A$50:$C$63,3),\"\")","v":""}]
[null,null,null,null,null,null,null,null,null,null,null,null,null,null,null,null,null,null,null,null,null,{"$f":"IFERROR(WORKDAY(T867,AE867,Hoja1!F859:F975),\"\")","v":""},"",null,"",{"$f":"IF(P867=\"\",\"\",NETWORKDAYS(C867+1,P867,Hoja1!F859:F975))","v":""},{"$f":"IFERROR(IF(NETWORKDAYS(R867+1,P867,Hoja1!F859:F975)<=0,\"\",NETWORKDAYS(R867+1,P867,Hoja1!F859:F975)),0)","v":""},null,null,{"$f":"IFERROR(VLOOKUP(L867,Hoja1!$A$50:$C$63,2),\"\")","v":""},{"$f":"IFERROR(VLOOKUP(L867,Hoja1!$A$50:$C$63,3),\"\")","v":""}]
[null,null,null,null,null,null,null,null,null,null,null,null,null,null,null,null,null,null,null,null,null,{"$f":"IFERROR(WORKDAY(T868,AE868,Hoja1!F860:F976),\"\")","v":""},"",null,"",{"$f":"IF(P868=\"\",\"\",NETWORKDAYS(C868+1,P868,Hoja1!F860:F976))","v":""},{"$f":"IFERROR(IF(NETWORKDAYS(R868+1,P868,Hoja1!F860:F976)<=0,\"\",NETWORKDAYS(R868+1,P868,Hoja1!F860:F976)),0)","v":""},null,null,{"$f":"IFERROR(VLOOKUP(L868,Hoja1!$A$50:$C$63,2),\"\")","v":""},{"$f":"IFERROR(VLOOKUP(L868,Hoja1!$A$50:$C$63,3),\"\")","v":""}]
[null,null,null,null,null,null,null,null,null,null,null,null,null,null,null,null,null,null,null,null,null,{"$f":"IFERROR(WORKDAY(T869,AE869,Hoja1!F861:F977),\"\")","v":""},"",null,"",{"$f":"IF(P869=\"\",\"\",NETWORKDAYS(C869+1,P869,Hoja1!F861:F977))","v":""},{"$f":"IFERROR(IF(NETWORKDAYS(R869+1,P869,Hoja1!F861:F977)<=0,\"\",NETWORKDAYS(R869+1,P869,Hoja1!F861:F977)),0)","v":""},null,null,{"$f":"IFERROR(VLOOKUP(L869,Hoja1!$A$50:$C$63,2),\"\")","v":""},{"$f":"IFERROR(VLOOKUP(L869,Hoja1!$A$50:$C$63,3),\"\")","v":""}]
[null,null,null,null,null,null,null,null,null,null,null,null,null,null,null,null,null,null,null,null,null,{"$f":"IFERROR(WORKDAY(T870,AE870,Hoja1!F862:F978),\"\")","v":""},"",null,"",{"$f":"IF(P870=\"\",\"\",NETWORKDAYS(C870+1,P870,Hoja1!F862:F978))","v":""},{"$f":"IFERROR(IF(NETWORKDAYS(R870+1,P870,Hoja1!F862:F978)<=0,\"\",NETWORKDAYS(R870+1,P870,Hoja1!F862:F978)),0)","v":""},null,null,{"$f":"IFERROR(VLOOKUP(L870,Hoja1!$A$50:$C$63,2),\"\")","v":""},{"$f":"IFERROR(VLOOKUP(L870,Hoja1!$A$50:$C$63,3),\"\")","v":""}]
[null,null,null,null,null,null,null,null,null,null,null,null,null,null,null,null,null,null,null,null,null,{"$f":"IFERROR(WORKDAY(T871,AE871,Hoja1!F863:F979),\"\")","v":""},"",null,"",{"$f":"IF(P871=\"\",\"\",NETWORKDAYS(C871+1,P871,Hoja1!F863:F979))","v":""},{"$f":"IFERROR(IF(NETWORKDAYS(R871+1,P871,Hoja1!F863:F979)<=0,\"\",NETWORKDAYS(R871+1,P871,Hoja1!F863:F979)),0)","v":""},null,null,{"$f":"IFERROR(VLOOKUP(L871,Hoja1!$A$50:$C$63,2),\"\")","v":""},{"$f":"IFERROR(VLOOKUP(L871,Hoja1!$A$50:$C$63,3),\"\")","v":""}]
[null,null,null,null,null,null,null,null,null,null,null,null,null,null,null,null,null,null,null,null,null,{"$f":"IFERROR(WORKDAY(T872,AE872,Hoja1!F864:F980),\"\")","v":""},"",null,"",{"$f":"IF(P872=\"\",\"\",NETWORKDAYS(C872+1,P872,Hoja1!F864:F980))","v":""},{"$f":"IFERROR(IF(NETWORKDAYS(R872+1,P872,Hoja1!F864:F980)<=0,\"\",NETWORKDAYS(R872+1,P872,Hoja1!F864:F980)),0)","v":""},null,null,{"$f":"IFERROR(VLOOKUP(L872,Hoja1!$A$50:$C$63,2),\"\")","v":""},{"$f":"IFERROR(VLOOKUP(L872,Hoja1!$A$50:$C$63,3),\"\")","v":""}]
[null,null,null,null,null,null,null,null,null,null,null,null,null,null,null,null,null,null,null,null,null,{"$f":"IFERROR(WORKDAY(T873,AE873,Hoja1!F865:F981),\"\")","v":""},"",null,"",{"$f":"IF(P873=\"\",\"\",NETWORKDAYS(C873+1,P873,Hoja1!F865:F981))","v":""},{"$f":"IFERROR(IF(NETWORKDAYS(R873+1,P873,Hoja1!F865:F981)<=0,\"\",NETWORKDAYS(R873+1,P873,Hoja1!F865:F981)),0)","v":""},null,null,{"$f":"IFERROR(VLOOKUP(L873,Hoja1!$A$50:$C$63,2),\"\")","v":""},{"$f":"IFERROR(VLOOKUP(L873,Hoja1!$A$50:$C$63,3),\"\")","v":""}]
[null,null,null,null,null,null,null,null,null,null,null,null,null,null,null,null,null,null,null,null,null,{"$f":"IFERROR(WORKDAY(T874,AE874,Hoja1!F866:F982),\"\")","v":""},"",null,"",{"$f":"IF(P874=\"\",\"\",NETWORKDAYS(C874+1,P874,Hoja1!F866:F982))","v":""},{"$f":"IFERROR(IF(NETWORKDAYS(R874+1,P874,Hoja1!F866:F982)<=0,\"\",NETWORKDAYS(R874+1,P874,Hoja1!F866:F982)),0)","v":""},null,null,{"$f":"IFERROR(VLOOKUP(L874,Hoja1!$A$50:$C$63,2),\"\")","v":""},{"$f":"IFERROR(VLOOKUP(L874,Hoja1!$A$50:$C$63,3),\"\")","v":""}]
[null,null,null,null,null,null,null,null,null,null,null,null,null,null,null,null,null,null,null,null,null,{"$f":"IFERROR(WORKDAY(T875,AE875,Hoja1!F867:F983),\"\")","v":""},"",null,"",{"$f":"IF(P875=\"\",\"\",NETWORKDAYS(C875+1,P875,Hoja1!F867:F983))","v":""},{"$f":"IFERROR(IF(NETWORKDAYS(R875+1,P875,Hoja1!F867:F983)<=0,\"\",NETWORKDAYS(R875+1,P875,Hoja1!F867:F983)),0)","v":""},null,null,{"$f":"IFERROR(VLOOKUP(L875,Hoja1!$A$50:$C$63,2),\"\")","v":""},{"$f":"IFERROR(VLOOKUP(L875,Hoja1!$A$50:$C$63,3),\"\")","v":""}]
[null,null,null,null,null,null,null,null,null,null,null,null,null,null,null,null,null,null,null,null,null,{"$f":"IFERROR(WORKDAY(T876,AE876,Hoja1!F868:F984),\"\")","v":""},"",null,"",{"$f":"IF(P876=\"\",\"\",NETWORKDAYS(C876+1,P876,Hoja1!F868:F984))","v":""},{"$f":"IFERROR(IF(NETWORKDAYS(R876+1,P876,Hoja1!F868:F984)<=0,\"\",NETWORKDAYS(R876+1,P876,Hoja1!F868:F984)),0)","v":""},null,null,{"$f":"IFERROR(VLOOKUP(L876,Hoja1!$A$50:$C$63,2),\"\")","v":""},{"$f":"IFERROR(VLOOKUP(L876,Hoja1!$A$50:$C$63,3),\"\")","v":""}]
[null,null,null,null,null,null,null,null,null,null,null,null,null,null,null,null,null,null,null,null,null,{"$f":"IFERROR(WORKDAY(T877,AE877,Hoja1!F869:F985),\"\")","v":""},"",null,"",{"$f":"IF(P877=\"\",\"\",NETWORKDAYS(C877+1,P877,Hoja1!F869:F985))","v":""},{"$f":"IFERROR(IF(NETWORKDAYS(R877+1,P877,Hoja1!F869:F985)<=0,\"\",NETWORKDAYS(R877+1,P877,Hoja1!F869:F985)),0)","v":""},null,null,{"$f":"IFERROR(VLOOKUP(L877,Hoja1!$A$50:$C$63,2),\"\")","v":""},{"$f":"IFERROR(VLOOKUP(L877,Hoja1!$A$50:$C$63,3),\"\")","v":""}]
[null,null,null,null,null,null,null,null,null,null,null,null,null,null,null,null,null,null,null,null,null,{"$f":"IFERROR(WORKDAY(T878,AE878,Hoja1!F870:F986),\"\")","v":""},"",null,"",{"$f":"IF(P878=\"\",\"\",NETWORKDAYS(C878+1,P878,Hoja1!F870:F986))","v":""},{"$f":"IFERROR(IF(NETWORKDAYS(R878+1,P878,Hoja1!F870:F986)<=0,\"\",NETWORKDAYS(R878+1,P878,Hoja1!F870:F986)),0)","v":""},null,null,{"$f":"IFERROR(VLOOKUP(L878,Hoja1!$A$50:$C$63,2),\"\")","v":""},{"$f":"IFERROR(VLOOKUP(L878,Hoja1!$A$50:$C$63,3),\"\")","v":""}]
[null,null,null,null,null,null,null,null,null,null,null,null,null,null,null,null,null,null,null,null,null,{"$f":"IFERROR(WORKDAY(T879,AE879,Hoja1!F871:F987),\"\")","v":""},"",null,"",{"$f":"IF(P879=\"\",\"\",NETWORKDAYS(C879+1,P879,Hoja1!F871:F987))","v":""},{"$f":"IFERROR(IF(NETWORKDAYS(R879+1,P879,Hoja1!F871:F987)<=0,\"\",NETWORKDAYS(R879+1,P879,Hoja1!F871:F987)),0)","v":""},null,null,{"$f":"IFERROR(VLOOKUP(L879,Hoja1!$A$50:$C$63,2),\"\")","v":""},{"$f":"IFERROR(VLOOKUP(L879,Hoja1!$A$50:$C$63,3),\"\")","v":""}]
[null,null,null,null,null,null,null,null,null,null,null,null,null,null,null,null,null,null,null,null,null,{"$f":"IFERROR(WORKDAY(T880,AE880,Hoja1!F872:F988),\"\")","v":""},"",null,"",{"$f":"IF(P880=\"\",\"\",NETWORKDAYS(C880+1,P880,Hoja1!F872:F988))","v":""},{"$f":"IFERROR(IF(NETWORKDAYS(R880+1,P880,Hoja1!F872:F988)<=0,\"\",NETWORKDAYS(R880+1,P880,Hoja1!F872:F988)),0)","v":""},null,null,{"$f":"IFERROR(VLOOKUP(L880,Hoja1!$A$50:$C$63,2),\"\")","v":""},{"$f":"IFERROR(VLOOKUP(L880,Hoja1!$A$50:$C$63,3),\"\")","v":""}]
[null,null,null,null,null,null,null,null,null,null,null,null,null,null,null,null,null,null,null,null,null,{"$f":"IFERROR(WORKDAY(T881,AE881,Hoja1!F873:F989),\"\")","v":""},"",null,"",{"$f":"IF(P881=\"\",\"\",NETWORKDAYS(C881+1,P881,Hoja1!F873:F989))","v":""},{"$f":"IFERROR(IF(NETWORKDAYS(R881+1,P881,Hoja1!F873:F989)<=0,\"\",NETWORKDAYS(R881+1,P881,Hoja1!F873:F989)),0)","v":""},null,null,{"$f":"IFERROR(VLOOKUP(L881,Hoja1!$A$50:$C$63,2),\"\")","v":""},{"$f":"IFERROR(VLOOKUP(L881,Hoja1!$A$50:$C$63,3),\"\")","v":""}]
[null,null,null,null,null,null,null,null,null,null,null,null,null,null,null,null,null,null,null,null,null,{"$f":"IFERROR(WORKDAY(T882,AE882,Hoja1!F874:F990),\"\")","v":""},"",null,"",{"$f":"IF(P882=\"\",\"\",NETWORKDAYS(C882+1,P882,Hoja1!F874:F990))","v":""},{"$f":"IFERROR(IF(NETWORKDAYS(R882+1,P882,Hoja1!F874:F990)<=0,\"\",NETWORKDAYS(R882+1,P882,Hoja1!F874:F990)),0)","v":""},null,null,{"$f":"IFERROR(VLOOKUP(L882,Hoja1!$A$50:$C$63,2),\"\")","v":""},{"$f":"IFERROR(VLOOKUP(L882,Hoja1!$A$50:$C$63,3),\"\")","v":""}]
[null,null,null,null,null,null,null,null,null,null,null,null,null,null,null,null,null,null,null,null,null,{"$f":"IFERROR(WORKDAY(T883,AE883,Hoja1!F875:F991),\"\")","v":""},"",null,"",{"$f":"IF(P883=\"\",\"\",NETWORKDAYS(C883+1,P883,Hoja1!F875:F991))","v":""},{"$f":"IFERROR(IF(NETWORKDAYS(R883+1,P883,Hoja1!F875:F991)<=0,\"\",NETWORKDAYS(R883+1,P883,Hoja1!F875:F991)),0)","v":""},null,null,{"$f":"IFERROR(VLOOKUP(L883,Hoja1!$A$50:$C$63,2),\"\")","v":""},{"$f":"IFERROR(VLOOKUP(L883,Hoja1!$A$50:$C$63,3),\"\")","v":""}]
[null,null,null,null,null,null,null,null,null,null,null,null,null,null,null,null,null,null,null,null,null,{"$f":"IFERROR(WORKDAY(T884,AE884,Hoja1!F876:F992),\"\")","v":""},"",null,"",{"$f":"IF(P884=\"\",\"\",NETWORKDAYS(C884+1,P884,Hoja1!F876:F992))","v":""},{"$f":"IFERROR(IF(NETWORKDAYS(R884+1,P884,Hoja1!F876:F992)<=0,\"\",NETWORKDAYS(R884+1,P884,Hoja1!F876:F992)),0)","v":""},null,null,{"$f":"IFERROR(VLOOKUP(L884,Hoja1!$A$50:$C$63,2),\"\")","v":""},{"$f":"IFERROR(VLOOKUP(L884,Hoja1!$A$50:$C$63,3),\"\")","v":""}]
[null,null,null,null,null,null,null,null,null,null,null,null,null,null,null,null,null,null,null,null,null,{"$f":"IFERROR(WORKDAY(T885,AE885,Hoja1!F877:F993),\"\")","v":""},"",null,"",{"$f":"IF(P885=\"\",\"\",NETWORKDAYS(C885+1,P885,Hoja1!F877:F993))","v":""},{"$f":"IFERROR(IF(NETWORKDAYS(R885+1,P885,Hoja1!F877:F993)<=0,\"\",NETWORKDAYS(R885+1,P885,Hoja1!F877:F993)),0)","v":""},null,null,{"$f":"IFERROR(VLOOKUP(L885,Hoja1!$A$50:$C$63,2),\"\")","v":""},{"$f":"IFERROR(VLOOKUP(L885,Hoja1!$A$50:$C$63,3),\"\")","v":""}]
[null,null,null,null,null,null,null,null,null,null,null,null,null,null,null,null,null,null,null,null,null,{"$f":"IFERROR(WORKDAY(T886,AE886,Hoja1!F878:F994),\"\")","v":""},"",null,"",{"$f":"IF(P886=\"\",\"\",NETWORKDAYS(C886+1,P886,Hoja1!F878:F994))","v":""},{"$f":"IFERROR(IF(NETWORKDAYS(R886+1,P886,Hoja1!F878:F994)<=0,\"\",NETWORKDAYS(R886+1,P886,Hoja1!F878:F994)),0)","v":""},null,null,{"$f":"IFERROR(VLOOKUP(L886,Hoja1!$A$50:$C$63,2),\"\")","v":""},{"$f":"IFERROR(VLOOKUP(L886,Hoja1!$A$50:$C$63,3),\"\")","v":""}]
[null,null,null,null,null,null,null,null,null,null,null,null,null,null,null,null,null,null,null,null,null,{"$f":"IFERROR(WORKDAY(T887,AE887,Hoja1!F879:F995),\"\")","v":""},"",null,"",{"$f":"IF(P887=\"\",\"\",NETWORKDAYS(C887+1,P887,Hoja1!F879:F995))","v":""},{"$f":"IFERROR(IF(NETWORKDAYS(R887+1,P887,Hoja1!F879:F995)<=0,\"\",NETWORKDAYS(R887+1,P887,Hoja1!F879:F995)),0)","v":""},null,null,{"$f":"IFERROR(VLOOKUP(L887,Hoja1!$A$50:$C$63,2),\"\")","v":""},{"$f":"IFERROR(VLOOKUP(L887,Hoja1!$A$50:$C$63,3),\"\")","v":""}]
[null,null,null,null,null,null,null,null,null,null,null,null,null,null,null,null,null,null,null,null,null,{"$f":"IFERROR(WORKDAY(T888,AE888,Hoja1!F880:F996),\"\")","v":""},"",null,"",{"$f":"IF(P888=\"\",\"\",NETWORKDAYS(C888+1,P888,Hoja1!F880:F996))","v":""},{"$f":"IFERROR(IF(NETWORKDAYS(R888+1,P888,Hoja1!F880:F996)<=0,\"\",NETWORKDAYS(R888+1,P888,Hoja1!F880:F996)),0)","v":""},null,null,{"$f":"IFERROR(VLOOKUP(L888,Hoja1!$A$50:$C$63,2),\"\")","v":""},{"$f":"IFERROR(VLOOKUP(L888,Hoja1!$A$50:$C$63,3),\"\")","v":""}]
[null,null,null,null,null,null,null,null,null,null,null,null,null,null,null,null,null,null,null,null,null,{"$f":"IFERROR(WORKDAY(T889,AE889,Hoja1!F881:F997),\"\")","v":""},"",null,"",{"$f":"IF(P889=\"\",\"\",NETWORKDAYS(C889+1,P889,Hoja1!F881:F997))","v":""},{"$f":"IFERROR(IF(NETWORKDAYS(R889+1,P889,Hoja1!F881:F997)<=0,\"\",NETWORKDAYS(R889+1,P889,Hoja1!F881:F997)),0)","v":""},null,null,{"$f":"IFERROR(VLOOKUP(L889,Hoja1!$A$50:$C$63,2),\"\")","v":""},{"$f":"IFERROR(VLOOKUP(L889,Hoja1!$A$50:$C$63,3),\"\")","v":""}]
[null,null,null,null,null,null,null,null,null,null,null,null,null,null,null,null,null,null,null,null,null,{"$f":"IFERROR(WORKDAY(T890,AE890,Hoja1!F882:F998),\"\")","v":""},"",null,"",{"$f":"IF(P890=\"\",\"\",NETWORKDAYS(C890+1,P890,Hoja1!F882:F998))","v":""},{"$f":"IFERROR(IF(NETWORKDAYS(R890+1,P890,Hoja1!F882:F998)<=0,\"\",NETWORKDAYS(R890+1,P890,Hoja1!F882:F998)),0)","v":""},null,null,{"$f":"IFERROR(VLOOKUP(L890,Hoja1!$A$50:$C$63,2),\"\")","v":""},{"$f":"IFERROR(VLOOKUP(L890,Hoja1!$A$50:$C$63,3),\"\")","v":""}]
[null,null,null,null,null,null,null,null,null,null,null,null,null,null,null,null,null,null,null,null,null,{"$f":"IFERROR(WORKDAY(T891,AE891,Hoja1!F883:F999),\"\")","v":""},"",null,"",{"$f":"IF(P891=\"\",\"\",NETWORKDAYS(C891+1,P891,Hoja1!F883:F999))","v":""},{"$f":"IFERROR(IF(NETWORKDAYS(R891+1,P891,Hoja1!F883:F999)<=0,\"\",NETWORKDAYS(R891+1,P891,Hoja1!F883:F999)),0)","v":""},null,null,{"$f":"IFERROR(VLOOKUP(L891,Hoja1!$A$50:$C$63,2),\"\")","v":""},{"$f":"IFERROR(VLOOKUP(L891,Hoja1!$A$50:$C$63,3),\"\")","v":""}]
[null,null,null,null,null,null,null,null,null,null,null,null,null,null,null,null,null,null,null,null,null,{"$f":"IFERROR(WORKDAY(T892,AE892,Hoja1!F884:F1000),\"\")","v":""},"",null,"",{"$f":"IF(P892=\"\",\"\",NETWORKDAYS(C892+1,P892,Hoja1!F884:F1000))","v":""},{"$f":"IFERROR(IF(NETWORKDAYS(R892+1,P892,Hoja1!F884:F1000)<=0,\"\",NETWORKDAYS(R892+1,P892,Hoja1!F884:F1000)),0)","v":""},null,null,{"$f":"IFERROR(VLOOKUP(L892,Hoja1!$A$50:$C$63,2),\"\")","v":""},{"$f":"IFERROR(VLOOKUP(L892,Hoja1!$A$50:$C$63,3),\"\")","v":""}]
[null,null,null,null,null,null,null,null,null,null,null,null,null,null,null,null,null,null,null,null,null,{"$f":"IFERROR(WORKDAY(T893,AE893,Hoja1!F885:F1001),\"\")","v":""},"",null,"",{"$f":"IF(P893=\"\",\"\",NETWORKDAYS(C893+1,P893,Hoja1!F885:F1001))","v":""},{"$f":"IFERROR(IF(NETWORKDAYS(R893+1,P893,Hoja1!F885:F1001)<=0,\"\",NETWORKDAYS(R893+1,P893,Hoja1!F885:F1001)),0)","v":""},null,null,{"$f":"IFERROR(VLOOKUP(L893,Hoja1!$A$50:$C$63,2),\"\")","v":""},{"$f":"IFERROR(VLOOKUP(L893,Hoja1!$A$50:$C$63,3),\"\")","v":""}]
[null,null,null,null,null,null,null,null,null,null,null,null,null,null,null,null,null,null,null,null,null,{"$f":"IFERROR(WORKDAY(T894,AE894,Hoja1!F886:F1002),\"\")","v":""},"",null,"",{"$f":"IF(P894=\"\",\"\",NETWORKDAYS(C894+1,P894,Hoja1!F886:F1002))","v":""},{"$f":"IFERROR(IF(NETWORKDAYS(R894+1,P894,Hoja1!F886:F1002)<=0,\"\",NETWORKDAYS(R894+1,P894,Hoja1!F886:F1002)),0)","v":""},null,null,{"$f":"IFERROR(VLOOKUP(L894,Hoja1!$A$50:$C$63,2),\"\")","v":""},{"$f":"IFERROR(VLOOKUP(L894,Hoja1!$A$50:$C$63,3),\"\")","v":""}]
[null,null,null,null,null,null,null,null,null,null,null,null,null,null,null,null,null,null,null,null,null,{"$f":"IFERROR(WORKDAY(T895,AE895,Hoja1!F887:F1003),\"\")","v":""},"",null,"",{"$f":"IF(P895=\"\",\"\",NETWORKDAYS(C895+1,P895,Hoja1!F887:F1003))","v":""},{"$f":"IFERROR(IF(NETWORKDAYS(R895+1,P895,Hoja1!F887:F1003)<=0,\"\",NETWORKDAYS(R895+1,P895,Hoja1!F887:F1003)),0)","v":""},null,null,{"$f":"IFERROR(VLOOKUP(L895,Hoja1!$A$50:$C$63,2),\"\")","v":""},{"$f":"IFERROR(VLOOKUP(L895,Hoja1!$A$50:$C$63,3),\"\")","v":""}]
[null,null,null,null,null,null,null,null,null,null,null,null,null,null,null,null,null,null,null,null,null,{"$f":"IFERROR(WORKDAY(T896,AE896,Hoja1!F888:F1004),\"\")","v":""},"",null,"",{"$f":"IF(P896=\"\",\"\",NETWORKDAYS(C896+1,P896,Hoja1!F888:F1004))","v":""},{"$f":"IFERROR(IF(NETWORKDAYS(R896+1,P896,Hoja1!F888:F1004)<=0,\"\",NETWORKDAYS(R896+1,P896,Hoja1!F888:F1004)),0)","v":""},null,null,{"$f":"IFERROR(VLOOKUP(L896,Hoja1!$A$50:$C$63,2),\"\")","v":""},{"$f":"IFERROR(VLOOKUP(L896,Hoja1!$A$50:$C$63,3),\"\")","v":""}]
[null,null,null,null,null,null,null,null,null,null,null,null,null,null,null,null,null,null,null,null,null,{"$f":"IFERROR(WORKDAY(T897,AE897,Hoja1!F889:F1005),\"\")","v":""},"",null,"",{"$f":"IF(P897=\"\",\"\",NETWORKDAYS(C897+1,P897,Hoja1!F889:F1005))","v":""},{"$f":"IFERROR(IF(NETWORKDAYS(R897+1,P897,Hoja1!F889:F1005)<=0,\"\",NETWORKDAYS(R897+1,P897,Hoja1!F889:F1005)),0)","v":""},null,null,{"$f":"IFERROR(VLOOKUP(L897,Hoja1!$A$50:$C$63,2),\"\")","v":""},{"$f":"IFERROR(VLOOKUP(L897,Hoja1!$A$50:$C$63,3),\"\")","v":""}]
[null,null,null,null,null,null,null,null,null,null,null,null,null,null,null,null,null,null,null,null,null,{"$f":"IFERROR(WORKDAY(T898,AE898,Hoja1!F890:F1006),\"\")","v":""},"",null,"",{"$f":"IF(P898=\"\",\"\",NETWORKDAYS(C898+1,P898,Hoja1!F890:F1006))","v":""},{"$f":"IFERROR(IF(NETWORKDAYS(R898+1,P898,Hoja1!F890:F1006)<=0,\"\",NETWORKDAYS(R898+1,P898,Hoja1!F890:F1006)),0)","v":""},null,null,{"$f":"IFERROR(VLOOKUP(L898,Hoja1!$A$50:$C$63,2),\"\")","v":""},{"$f":"IFERROR(VLOOKUP(L898,Hoja1!$A$50:$C$63,3),\"\")","v":""}]
[null,null,null,null,null,null,null,null,null,null,null,null,null,null,null,null,null,null,null,null,null,{"$f":"IFERROR(WORKDAY(T899,AE899,Hoja1!F891:F1007),\"\")","v":""},"",null,"",{"$f":"IF(P899=\"\",\"\",NETWORKDAYS(C899+1,P899,Hoja1!F891:F1007))","v":""},{"$f":"IFERROR(IF(NETWORKDAYS(R899+1,P899,Hoja1!F891:F1007)<=0,\"\",NETWORKDAYS(R899+1,P899,Hoja1!F891:F1007)),0)","v":""},null,null,{"$f":"IFERROR(VLOOKUP(L899,Hoja1!$A$50:$C$63,2),\"\")","v":""},{"$f":"IFERROR(VLOOKUP(L899,Hoja1!$A$50:$C$63,3),\"\")","v":""}]
[null,null,null,null,null,null,null,null,null,null,null,null,null,null,null,null,null,null,null,null,null,{"$f":"IFERROR(WORKDAY(T900,AE900,Hoja1!F892:F1008),\"\")","v":""},"",null,"",{"$f":"IF(P900=\"\",\"\",NETWORKDAYS(C900+1,P900,Hoja1!F892:F1008))","v":""},{"$f":"IFERROR(IF(NETWORKDAYS(R900+1,P900,Hoja1!F892:F1008)<=0,\"\",NETWORKDAYS(R900+1,P900,Hoja1!F892:F1008)),0)","v":""},null,null,{"$f":"IFERROR(VLOOKUP(L900,Hoja1!$A$50:$C$63,2),\"\")","v":""},{"$f":"IFERROR(VLOOKUP(L900,Hoja1!$A$50:$C$63,3),\"\")","v":""}]
[null,null,null,null,null,null,null,null,null,null,null,null,null,null,null,null,null,null,null,null,null,{"$f":"IFERROR(WORKDAY(T901,AE901,Hoja1!F893:F1009),\"\")","v":""},"",null,"",{"$f":"IF(P901=\"\",\"\",NETWORKDAYS(C901+1,P901,Hoja1!F893:F1009))","v":""},{"$f":"IFERROR(IF(NETWORKDAYS(R901+1,P901,Hoja1!F893:F1009)<=0,\"\",NETWORKDAYS(R901+1,P901,Hoja1!F893:F1009)),0)","v":""},null,null,{"$f":"IFERROR(VLOOKUP(L901,Hoja1!$A$50:$C$63,2),\"\")","v":""},{"$f":"IFERROR(VLOOKUP(L901,Hoja1!$A$50:$C$63,3),\"\")","v":""}]
[null,null,null,null,null,null,null,null,null,null,null,null,null,null,null,null,null,null,null,null,null,{"$f":"IFERROR(WORKDAY(T902,AE902,Hoja1!F894:F1010),\"\")","v":""},"",null,"",{"$f":"IF(P902=\"\",\"\",NETWORKDAYS(C902+1,P902,Hoja1!F894:F1010))","v":""},{"$f":"IFERROR(IF(NETWORKDAYS(R902+1,P902,Hoja1!F894:F1010)<=0,\"\",NETWORKDAYS(R902+1,P902,Hoja1!F894:F1010)),0)","v":""},null,null,{"$f":"IFERROR(VLOOKUP(L902,Hoja1!$A$50:$C$63,2),\"\")","v":""},{"$f":"IFERROR(VLOOKUP(L902,Hoja1!$A$50:$C$63,3),\"\")","v":""}]
[null,null,null,null,null,null,null,null,null,null,null,null,null,null,null,null,null,null,null,null,null,{"$f":"IFERROR(WORKDAY(T903,AE903,Hoja1!F895:F1011),\"\")","v":""},"",null,"",{"$f":"IF(P903=\"\",\"\",NETWORKDAYS(C903+1,P903,Hoja1!F895:F1011))","v":""},{"$f":"IFERROR(IF(NETWORKDAYS(R903+1,P903,Hoja1!F895:F1011)<=0,\"\",NETWORKDAYS(R903+1,P903,Hoja1!F895:F1011)),0)","v":""},null,null,{"$f":"IFERROR(VLOOKUP(L903,Hoja1!$A$50:$C$63,2),\"\")","v":""},{"$f":"IFERROR(VLOOKUP(L903,Hoja1!$A$50:$C$63,3),\"\")","v":""}]
[null,null,null,null,null,null,null,null,null,null,null,null,null,null,null,null,null,null,null,null,null,{"$f":"IFERROR(WORKDAY(T904,AE904,Hoja1!F896:F1012),\"\")","v":""},"",null,"",{"$f":"IF(P904=\"\",\"\",NETWORKDAYS(C904+1,P904,Hoja1!F896:F1012))","v":""},{"$f":"IFERROR(IF(NETWORKDAYS(R904+1,P904,Hoja1!F896:F1012)<=0,\"\",NETWORKDAYS(R904+1,P904,Hoja1!F896:F1012)),0)","v":""},null,null,{"$f":"IFERROR(VLOOKUP(L904,Hoja1!$A$50:$C$63,2),\"\")","v":""},{"$f":"IFERROR(VLOOKUP(L904,Hoja1!$A$50:$C$63,3),\"\")","v":""}]
[null,null,null,null,null,null,null,null,null,null,null,null,null,null,null,null,null,null,null,null,null,{"$f":"IFERROR(WORKDAY(T905,AE905,Hoja1!F897:F1013),\"\")","v":""},"",null,"",{"$f":"IF(P905=\"\",\"\",NETWORKDAYS(C905+1,P905,Hoja1!F897:F1013))","v":""},{"$f":"IFERROR(IF(NETWORKDAYS(R905+1,P905,Hoja1!F897:F1013)<=0,\"\",NETWORKDAYS(R905+1,P905,Hoja1!F897:F1013)),0)","v":""},null,null,{"$f":"IFERROR(VLOOKUP(L905,Hoja1!$A$50:$C$63,2),\"\")","v":""},{"$f":"IFERROR(VLOOKUP(L905,Hoja1!$A$50:$C$63,3),\"\")","v":""}]
[null,null,null,null,null,null,null,null,null,null,null,null,null,null,null,null,null,null,null,null,null,{"$f":"IFERROR(WORKDAY(T906,AE906,Hoja1!F898:F1014),\"\")","v":""},{"$f":"+IF(T906=\"\",\"\",IF(U906=\"\",\"SIN RESPUESTA\",(IF(U906<=V906,\"A TIEMPO\",\"FUERA DE TIEMPO\"))))","v":""},null,{"$f":"+IF(C906=\"\",\"\",IF(P906=\"\",\"SIN RESPUESTA\",(IF(P906<=R906,\"A TIEMPO\",\"FUERA DE TIEMPO\"))))","v":""},{"$f":"IF(P906=\"\",\"\",NETWORKDAYS(C906+1,P906,Hoja1!F898:F1014))","v":""},{"$f":"IFERROR(IF(NETWORKDAYS(R906+1,P906,Hoja1!F898:F1014)<=0,\"\",NETWORKDAYS(R906+1,P906,Hoja1!F898:F1014)),0)","v":""},null,null,{"$f":"IFERROR(VLOOKUP(L906,Hoja1!$A$50:$C$63,2),\"\")","v":""},{"$f":"IFERROR(VLOOKUP(L906,Hoja1!$A$50:$C$63,3),\"\")","v":""}]
[null,null,null,null,null,null,null,null,null,null,null,null,null,null,null,null,null,null,null,null,null,{"$f":"IFERROR(WORKDAY(T907,AE907,Hoja1!F899:F1015),\"\")","v":""},"",null,"",{"$f":"IF(P907=\"\",\"\",NETWORKDAYS(C907+1,P907,Hoja1!F899:F1015))","v":""},{"$f":"IFERROR(IF(NETWORKDAYS(R907+1,P907,Hoja1!F899:F1015)<=0,\"\",NETWORKDAYS(R907+1,P907,Hoja1!F899:F1015)),0)","v":""},null,null,{"$f":"IFERROR(VLOOKUP(L907,Hoja1!$A$50:$C$63,2),\"\")","v":""},{"$f":"IFERROR(VLOOKUP(L907,Hoja1!$A$50:$C$63,3),\"\")","v":""}]
[null,null,null,null,null,null,null,null,null,null,null,null,null,null,null,null,null,null,null,null,null,{"$f":"IFERROR(WORKDAY(T908,AE908,Hoja1!F900:F1016),\"\")","v":""},"",null,"",{"$f":"IF(P908=\"\",\"\",NETWORKDAYS(C908+1,P908,Hoja1!F900:F1016))","v":""},{"$f":"IFERROR(IF(NETWORKDAYS(R908+1,P908,Hoja1!F900:F1016)<=0,\"\",NETWORKDAYS(R908+1,P908,Hoja1!F900:F1016)),0)","v":""},null,null,{"$f":"IFERROR(VLOOKUP(L908,Hoja1!$A$50:$C$63,2),\"\")","v":""},{"$f":"IFERROR(VLOOKUP(L908,Hoja1!$A$50:$C$63,3),\"\")","v":""}]
[null,null,null,null,null,null,null,null,null,null,null,null,null,null,null,null,null,null,null,null,null,{"$f":"IFERROR(WORKDAY(T909,AE909,Hoja1!F901:F1017),\"\")","v":""},"",null,"",{"$f":"IF(P909=\"\",\"\",NETWORKDAYS(C909+1,P909,Hoja1!F901:F1017))","v":""},{"$f":"IFERROR(IF(NETWORKDAYS(R909+1,P909,Hoja1!F901:F1017)<=0,\"\",NETWORKDAYS(R909+1,P909,Hoja1!F901:F1017)),0)","v":""},null,null,{"$f":"IFERROR(VLOOKUP(L909,Hoja1!$A$50:$C$63,2),\"\")","v":""},{"$f":"IFERROR(VLOOKUP(L909,Hoja1!$A$50:$C$63,3),\"\")","v":""}]
[null,null,null,null,null,null,null,null,null,null,null,null,null,null,null,null,null,null,null,null,null,{"$f":"IFERROR(WORKDAY(T910,AE910,Hoja1!F902:F1018),\"\")","v":""},"",null,"",{"$f":"IF(P910=\"\",\"\",NETWORKDAYS(C910+1,P910,Hoja1!F902:F1018))","v":""},{"$f":"IFERROR(IF(NETWORKDAYS(R910+1,P910,Hoja1!F902:F1018)<=0,\"\",NETWORKDAYS(R910+1,P910,Hoja1!F902:F1018)),0)","v":""},null,null,{"$f":"IFERROR(VLOOKUP(L910,Hoja1!$A$50:$C$63,2),\"\")","v":""},{"$f":"IFERROR(VLOOKUP(L910,Hoja1!$A$50:$C$63,3),\"\")","v":""}]
[null,null,null,null,null,null,null,null,null,null,null,null,null,null,null,null,null,null,null,null,null,{"$f":"IFERROR(WORKDAY(T911,AE911,Hoja1!F903:F1019),\"\")","v":""},"",null,"",{"$f":"IF(P911=\"\",\"\",NETWORKDAYS(C911+1,P911,Hoja1!F903:F1019))","v":""},{"$f":"IFERROR(IF(NETWORKDAYS(R911+1,P911,Hoja1!F903:F1019)<=0,\"\",NETWORKDAYS(R911+1,P911,Hoja1!F903:F1019)),0)","v":""},null,null,{"$f":"IFERROR(VLOOKUP(L911,Hoja1!$A$50:$C$63,2),\"\")","v":""},{"$f":"IFERROR(VLOOKUP(L911,Hoja1!$A$50:$C$63,3),\"\")","v":""}]
[null,null,null,null,null,null,null,null,null,null,null,null,null,null,null,null,null,null,null,null,null,{"$f":"IFERROR(WORKDAY(T912,AE912,Hoja1!F904:F1020),\"\")","v":""},"",null,"",{"$f":"IF(P912=\"\",\"\",NETWORKDAYS(C912+1,P912,Hoja1!F904:F1020))","v":""},{"$f":"IFERROR(IF(NETWORKDAYS(R912+1,P912,Hoja1!F904:F1020)<=0,\"\",NETWORKDAYS(R912+1,P912,Hoja1!F904:F1020)),0)","v":""},null,null,{"$f":"IFERROR(VLOOKUP(L912,Hoja1!$A$50:$C$63,2),\"\")","v":""},{"$f":"IFERROR(VLOOKUP(L912,Hoja1!$A$50:$C$63,3),\"\")","v":""}]
[null,null,null,null,null,null,null,null,null,null,null,null,null,null,null,null,null,null,null,null,null,{"$f":"IFERROR(WORKDAY(T913,AE913,Hoja1!F905:F1021),\"\")","v":""},"",null,"",{"$f":"IF(P913=\"\",\"\",NETWORKDAYS(C913+1,P913,Hoja1!F905:F1021))","v":""},{"$f":"IFERROR(IF(NETWORKDAYS(R913+1,P913,Hoja1!F905:F1021)<=0,\"\",NETWORKDAYS(R913+1,P913,Hoja1!F905:F1021)),0)","v":""},null,null,{"$f":"IFERROR(VLOOKUP(L913,Hoja1!$A$50:$C$63,2),\"\")","v":""},{"$f":"IFERROR(VLOOKUP(L913,Hoja1!$A$50:$C$63,3),\"\")","v":""}]
[null,null,null,null,null,null,null,null,null,null,null,null,null,null,null,null,null,null,null,null,null,{"$f":"IFERROR(WORKDAY(T914,AE914,Hoja1!F906:F1022),\"\")","v":""},"",null,"",{"$f":"IF(P914=\"\",\"\",NETWORKDAYS(C914+1,P914,Hoja1!F906:F1022))","v":""},{"$f":"IFERROR(IF(NETWORKDAYS(R914+1,P914,Hoja1!F906:F1022)<=0,\"\",NETWORKDAYS(R914+1,P914,Hoja1!F906:F1022)),0)","v":""},null,null,{"$f":"IFERROR(VLOOKUP(L914,Hoja1!$A$50:$C$63,2),\"\")","v":""},{"$f":"IFERROR(VLOOKUP(L914,Hoja1!$A$50:$C$63,3),\"\")","v":""}]
[null,null,null,null,null,null,null,null,null,null,null,null,null,null,null,null,null,null,null,null,null,{"$f":"IFERROR(WORKDAY(T915,AE915,Hoja1!F907:F1023),\"\")","v":""},"",null,"",{"$f":"IF(P915=\"\",\"\",NETWORKDAYS(C915+1,P915,Hoja1!F907:F1023))","v":""},{"$f":"IFERROR(IF(NETWORKDAYS(R915+1,P915,Hoja1!F907:F1023)<=0,\"\",NETWORKDAYS(R915+1,P915,Hoja1!F907:F1023)),0)","v":""},null,null,{"$f":"IFERROR(VLOOKUP(L915,Hoja1!$A$50:$C$63,2),\"\")","v":""},{"$f":"IFERROR(VLOOKUP(L915,Hoja1!$A$50:$C$63,3),\"\")","v":""}]
[null,null,null,null,null,null,null,null,null,null,null,null,null,null,null,null,null,null,null,null,null,{"$f":"IFERROR(WORKDAY(T916,AE916,Hoja1!F908:F1024),\"\")","v":""},"",null,"",{"$f":"IF(P916=\"\",\"\",NETWORKDAYS(C916+1,P916,Hoja1!F908:F1024))","v":""},{"$f":"IFERROR(IF(NETWORKDAYS(R916+1,P916,Hoja1!F908:F1024)<=0,\"\",NETWORKDAYS(R916+1,P916,Hoja1!F908:F1024)),0)","v":""},null,null,{"$f":"IFERROR(VLOOKUP(L916,Hoja1!$A$50:$C$63,2),\"\")","v":""},{"$f":"IFERROR(VLOOKUP(L916,Hoja1!$A$50:$C$63,3),\"\")","v":""}]
[null,null,null,null,null,null,null,null,null,null,null,null,null,null,null,null,null,null,null,null,null,{"$f":"IFERROR(WORKDAY(T917,AE917,Hoja1!F909:F1025),\"\")","v":""},"",null,"",{"$f":"IF(P917=\"\",\"\",NETWORKDAYS(C917+1,P917,Hoja1!F909:F1025))","v":""},{"$f":"IFERROR(IF(NETWORKDAYS(R917+1,P917,Hoja1!F909:F1025)<=0,\"\",NETWORKDAYS(R917+1,P917,Hoja1!F909:F1025)),0)","v":""},null,null,{"$f":"IFERROR(VLOOKUP(L917,Hoja1!$A$50:$C$63,2),\"\")","v":""},{"$f":"IFERROR(VLOOKUP(L917,Hoja1!$A$50:$C$63,3),\"\")","v":""}]
[null,null,null,null,null,null,null,null,null,null,null,null,null,null,null,null,null,null,null,null,null,{"$f":"IFERROR(WORKDAY(T918,AE918,Hoja1!F910:F1026),\"\")","v":""},"",null,"",{"$f":"IF(P918=\"\",\"\",NETWORKDAYS(C918+1,P918,Hoja1!F910:F1026))","v":""},{"$f":"IFERROR(IF(NETWORKDAYS(R918+1,P918,Hoja1!F910:F1026)<=0,\"\",NETWORKDAYS(R918+1,P918,Hoja1!F910:F1026)),0)","v":""},null,null,{"$f":"IFERROR(VLOOKUP(L918,Hoja1!$A$50:$C$63,2),\"\")","v":""},{"$f":"IFERROR(VLOOKUP(L918,Hoja1!$A$50:$C$63,3),\"\")","v":""}]
[null,null,null,null,null,null,null,null,null,null,null,null,null,null,null,null,null,null,null,null,null,{"$f":"IFERROR(WORKDAY(T919,AE919,Hoja1!F911:F1027),\"\")","v":""},"",null,"",{"$f":"IF(P919=\"\",\"\",NETWORKDAYS(C919+1,P919,Hoja1!F911:F1027))","v":""},{"$f":"IFERROR(IF(NETWORKDAYS(R919+1,P919,Hoja1!F911:F1027)<=0,\"\",NETWORKDAYS(R919+1,P919,Hoja1!F911:F1027)),0)","v":""},null,null,{"$f":"IFERROR(VLOOKUP(L919,Hoja1!$A$50:$C$63,2),\"\")","v":""},{"$f":"IFERROR(VLOOKUP(L919,Hoja1!$A$50:$C$63,3),\"\")","v":""}]
[null,null,null,null,null,null,null,null,null,null,null,null,null,null,null,null,null,null,null,null,null,{"$f":"IFERROR(WORKDAY(T920,AE920,Hoja1!F912:F1028),\"\")","v":""},"",null,"",{"$f":"IF(P920=\"\",\"\",NETWORKDAYS(C920+1,P920,Hoja1!F912:F1028))","v":""},{"$f":"IFERROR(IF(NETWORKDAYS(R920+1,P920,Hoja1!F912:F1028)<=0,\"\",NETWORKDAYS(R920+1,P920,Hoja1!F912:F1028)),0)","v":""},null,null,{"$f":"IFERROR(VLOOKUP(L920,Hoja1!$A$50:$C$63,2),\"\")","v":""},{"$f":"IFERROR(VLOOKUP(L920,Hoja1!$A$50:$C$63,3),\"\")","v":""}]
[null,null,null,null,null,null,null,null,null,null,null,null,null,null,null,null,null,null,null,null,null,{"$f":"IFERROR(WORKDAY(T921,AE921,Hoja1!F913:F1029),\"\")","v":""},"",null,"",{"$f":"IF(P921=\"\",\"\",NETWORKDAYS(C921+1,P921,Hoja1!F913:F1029))","v":""},{"$f":"IFERROR(IF(NETWORKDAYS(R921+1,P921,Hoja1!F913:F1029)<=0,\"\",NETWORKDAYS(R921+1,P921,Hoja1!F913:F1029)),0)","v":""},null,null,{"$f":"IFERROR(VLOOKUP(L921,Hoja1!$A$50:$C$63,2),\"\")","v":""},{"$f":"IFERROR(VLOOKUP(L921,Hoja1!$A$50:$C$63,3),\"\")","v":""}]
[null,null,null,null,null,null,null,null,null,null,null,null,null,null,null,null,null,null,null,null,null,{"$f":"IFERROR(WORKDAY(T922,AE922,Hoja1!F914:F1030),\"\")","v":""},"",null,"",{"$f":"IF(P922=\"\",\"\",NETWORKDAYS(C922+1,P922,Hoja1!F914:F1030))","v":""},{"$f":"IFERROR(IF(NETWORKDAYS(R922+1,P922,Hoja1!F914:F1030)<=0,\"\",NETWORKDAYS(R922+1,P922,Hoja1!F914:F1030)),0)","v":""},null,null,{"$f":"IFERROR(VLOOKUP(L922,Hoja1!$A$50:$C$63,2),\"\")","v":""},{"$f":"IFERROR(VLOOKUP(L922,Hoja1!$A$50:$C$63,3),\"\")","v":""}]
[null,null,null,null,null,null,null,null,null,null,null,null,null,null,null,null,null,null,null,null,null,{"$f":"IFERROR(WORKDAY(T923,AE923,Hoja1!F915:F1031),\"\")","v":""},"",null,"",{"$f":"IF(P923=\"\",\"\",NETWORKDAYS(C923+1,P923,Hoja1!F915:F1031))","v":""},{"$f":"IFERROR(IF(NETWORKDAYS(R923+1,P923,Hoja1!F915:F1031)<=0,\"\",NETWORKDAYS(R923+1,P923,Hoja1!F915:F1031)),0)","v":""},null,null,{"$f":"IFERROR(VLOOKUP(L923,Hoja1!$A$50:$C$63,2),\"\")","v":""},{"$f":"IFERROR(VLOOKUP(L923,Hoja1!$A$50:$C$63,3),\"\")","v":""}]
[null,null,null,null,null,null,null,null,null,null,null,null,null,null,null,null,null,null,null,null,null,{"$f":"IFERROR(WORKDAY(T924,AE924,Hoja1!F916:F1032),\"\")","v":""},"",null,"",{"$f":"IF(P924=\"\",\"\",NETWORKDAYS(C924+1,P924,Hoja1!F916:F1032))","v":""},{"$f":"IFERROR(IF(NETWORKDAYS(R924+1,P924,Hoja1!F916:F1032)<=0,\"\",NETWORKDAYS(R924+1,P924,Hoja1!F916:F1032)),0)","v":""},null,null,{"$f":"IFERROR(VLOOKUP(L924,Hoja1!$A$50:$C$63,2),\"\")","v":""},{"$f":"IFERROR(VLOOKUP(L924,Hoja1!$A$50:$C$63,3),\"\")","v":""}]
[null,null,null,null,null,null,null,null,null,null,null,null,null,null,null,null,null,null,null,null,null,{"$f":"IFERROR(WORKDAY(T925,AE925,Hoja1!F917:F1033),\"\")","v":""},"",null,"",{"$f":"IF(P925=\"\",\"\",NETWORKDAYS(C925+1,P925,Hoja1!F917:F1033))","v":""},{"$f":"IFERROR(IF(NETWORKDAYS(R925+1,P925,Hoja1!F917:F1033)<=0,\"\",NETWORKDAYS(R925+1,P925,Hoja1!F917:F1033)),0)","v":""},null,null,{"$f":"IFERROR(VLOOKUP(L925,Hoja1!$A$50:$C$63,2),\"\")","v":""},{"$f":"IFERROR(VLOOKUP(L925,Hoja1!$A$50:$C$63,3),\"\")","v":""}]
[null,null,null,null,null,null,null,null,null,null,null,null,null,null,null,null,null,null,null,null,null,{"$f":"IFERROR(WORKDAY(T926,AE926,Hoja1!F918:F1034),\"\")","v":""},"",null,"",{"$f":"IF(P926=\"\",\"\",NETWORKDAYS(C926+1,P926,Hoja1!F918:F1034))","v":""},{"$f":"IFERROR(IF(NETWORKDAYS(R926+1,P926,Hoja1!F918:F1034)<=0,\"\",NETWORKDAYS(R926+1,P926,Hoja1!F918:F1034)),0)","v":""},null,null,{"$f":"IFERROR(VLOOKUP(L926,Hoja1!$A$50:$C$63,2),\"\")","v":""},{"$f":"IFERROR(VLOOKUP(L926,Hoja1!$A$50:$C$63,3),\"\")","v":""}]
[null,null,null,null,null,null,null,null,null,null,null,null,null,null,null,null,null,null,null,null,null,{"$f":"IFERROR(WORKDAY(T927,AE927,Hoja1!F919:F1035),\"\")","v":""},"",null,"",{"$f":"IF(P927=\"\",\"\",NETWORKDAYS(C927+1,P927,Hoja1!F919:F1035))","v":""},{"$f":"IFERROR(IF(NETWORKDAYS(R927+1,P927,Hoja1!F919:F1035)<=0,\"\",NETWORKDAYS(R927+1,P927,Hoja1!F919:F1035)),0)","v":""},null,null,{"$f":"IFERROR(VLOOKUP(L927,Hoja1!$A$50:$C$63,2),\"\")","v":""},{"$f":"IFERROR(VLOOKUP(L927,Hoja1!$A$50:$C$63,3),\"\")","v":""}]
[null,null,null,null,null,null,null,null,null,null,null,null,null,null,null,null,null,null,null,null,null,{"$f":"IFERROR(WORKDAY(T928,AE928,Hoja1!F920:F1036),\"\")","v":""},"",null,"",{"$f":"IF(P928=\"\",\"\",NETWORKDAYS(C928+1,P928,Hoja1!F920:F1036))","v":""},{"$f":"IFERROR(IF(NETWORKDAYS(R928+1,P928,Hoja1!F920:F1036)<=0,\"\",NETWORKDAYS(R928+1,P928,Hoja1!F920:F1036)),0)","v":""},null,null,{"$f":"IFERROR(VLOOKUP(L928,Hoja1!$A$50:$C$63,2),\"\")","v":""},{"$f":"IFERROR(VLOOKUP(L928,Hoja1!$A$50:$C$63,3),\"\")","v":""}]
[null,null,null,null,null,null,null,null,null,null,null,null,null,null,null,null,null,null,null,null,null,{"$f":"IFERROR(WORKDAY(T929,AE929,Hoja1!F921:F1037),\"\")","v":""},"",null,"",{"$f":"IF(P929=\"\",\"\",NETWORKDAYS(C929+1,P929,Hoja1!F921:F1037))","v":""},{"$f":"IFERROR(IF(NETWORKDAYS(R929+1,P929,Hoja1!F921:F1037)<=0,\"\",NETWORKDAYS(R929+1,P929,Hoja1!F921:F1037)),0)","v":""},null,null,{"$f":"IFERROR(VLOOKUP(L929,Hoja1!$A$50:$C$63,2),\"\")","v":""},{"$f":"IFERROR(VLOOKUP(L929,Hoja1!$A$50:$C$63,3),\"\")","v":""}]
[null,null,null,null,null,null,null,null,null,null,null,null,null,null,null,null,null,null,null,null,null,{"$f":"IFERROR(WORKDAY(T930,AE930,Hoja1!F922:F1038),\"\")","v":""},"",null,"",{"$f":"IF(P930=\"\",\"\",NETWORKDAYS(C930+1,P930,Hoja1!F922:F1038))","v":""},{"$f":"IFERROR(IF(NETWORKDAYS(R930+1,P930,Hoja1!F922:F1038)<=0,\"\",NETWORKDAYS(R930+1,P930,Hoja1!F922:F1038)),0)","v":""},null,null,{"$f":"IFERROR(VLOOKUP(L930,Hoja1!$A$50:$C$63,2),\"\")","v":""},{"$f":"IFERROR(VLOOKUP(L930,Hoja1!$A$50:$C$63,3),\"\")","v":""}]
[null,null,null,null,null,null,null,null,null,null,null,null,null,null,null,null,null,null,null,null,null,{"$f":"IFERROR(WORKDAY(T931,AE931,Hoja1!F923:F1039),\"\")","v":""},"",null,"",{"$f":"IF(P931=\"\",\"\",NETWORKDAYS(C931+1,P931,Hoja1!F923:F1039))","v":""},{"$f":"IFERROR(IF(NETWORKDAYS(R931+1,P931,Hoja1!F923:F1039)<=0,\"\",NETWORKDAYS(R931+1,P931,Hoja1!F923:F1039)),0)","v":""},null,null,{"$f":"IFERROR(VLOOKUP(L931,Hoja1!$A$50:$C$63,2),\"\")","v":""},{"$f":"IFERROR(VLOOKUP(L931,Hoja1!$A$50:$C$63,3),\"\")","v":""}]
[null,null,null,null,null,null,null,null,null,null,null,null,null,null,null,null,null,null,null,null,null,{"$f":"IFERROR(WORKDAY(T932,AE932,Hoja1!F924:F1040),\"\")","v":""},"",null,"",{"$f":"IF(P932=\"\",\"\",NETWORKDAYS(C932+1,P932,Hoja1!F924:F1040))","v":""},{"$f":"IFERROR(IF(NETWORKDAYS(R932+1,P932,Hoja1!F924:F1040)<=0,\"\",NETWORKDAYS(R932+1,P932,Hoja1!F924:F1040)),0)","v":""},null,null,{"$f":"IFERROR(VLOOKUP(L932,Hoja1!$A$50:$C$63,2),\"\")","v":""},{"$f":"IFERROR(VLOOKUP(L932,Hoja1!$A$50:$C$63,3),\"\")","v":""}]
[null,null,null,null,null,null,null,null,null,null,null,null,null,null,null,null,null,null,null,null,null,{"$f":"IFERROR(WORKDAY(T933,AE933,Hoja1!F925:F1041),\"\")","v":""},"",null,"",{"$f":"IF(P933=\"\",\"\",NETWORKDAYS(C933+1,P933,Hoja1!F925:F1041))","v":""},{"$f":"IFERROR(IF(NETWORKDAYS(R933+1,P933,Hoja1!F925:F1041)<=0,\"\",NETWORKDAYS(R933+1,P933,Hoja1!F925:F1041)),0)","v":""},null,null,{"$f":"IFERROR(VLOOKUP(L933,Hoja1!$A$50:$C$63,2),\"\")","v":""},{"$f":"IFERROR(VLOOKUP(L933,Hoja1!$A$50:$C$63,3),\"\")","v":""}]
[null,null,null,null,null,null,null,null,null,null,null,null,null,null,null,null,null,null,null,null,null,{"$f":"IFERROR(WORKDAY(T934,AE934,Hoja1!F926:F1042),\"\")","v":""},"",null,"",{"$f":"IF(P934=\"\",\"\",NETWORKDAYS(C934+1,P934,Hoja1!F926:F1042))","v":""},{"$f":"IFERROR(IF(NETWORKDAYS(R934+1,P934,Hoja1!F926:F1042)<=0,\"\",NETWORKDAYS(R934+1,P934,Hoja1!F926:F1042)),0)","v":""},null,null,{"$f":"IFERROR(VLOOKUP(L934,Hoja1!$A$50:$C$63,2),\"\")","v":""},{"$f":"IFERROR(VLOOKUP(L934,Hoja1!$A$50:$C$63,3),\"\")","v":""}]
[null,null,null,null,null,null,null,null,null,null,null,null,null,null,null,null,null,null,null,null,null,{"$f":"IFERROR(WORKDAY(T935,AE935,Hoja1!F927:F1043),\"\")","v":""},"",null,"",{"$f":"IF(P935=\"\",\"\",NETWORKDAYS(C935+1,P935,Hoja1!F927:F1043))","v":""},{"$f":"IFERROR(IF(NETWORKDAYS(R935+1,P935,Hoja1!F927:F1043)<=0,\"\",NETWORKDAYS(R935+1,P935,Hoja1!F927:F1043)),0)","v":""},null,null,{"$f":"IFERROR(VLOOKUP(L935,Hoja1!$A$50:$C$63,2),\"\")","v":""},{"$f":"IFERROR(VLOOKUP(L935,Hoja1!$A$50:$C$63,3),\"\")","v":""}]
[null,null,null,null,null,null,null,null,null,null,null,null,null,null,null,null,null,null,null,null,null,{"$f":"IFERROR(WORKDAY(T936,AE936,Hoja1!F928:F1044),\"\")","v":""},"",null,"",{"$f":"IF(P936=\"\",\"\",NETWORKDAYS(C936+1,P936,Hoja1!F928:F1044))","v":""},{"$f":"IFERROR(IF(NETWORKDAYS(R936+1,P936,Hoja1!F928:F1044)<=0,\"\",NETWORKDAYS(R936+1,P936,Hoja1!F928:F1044)),0)","v":""},null,null,{"$f":"IFERROR(VLOOKUP(L936,Hoja1!$A$50:$C$63,2),\"\")","v":""},{"$f":"IFERROR(VLOOKUP(L936,Hoja1!$A$50:$C$63,3),\"\")","v":""}]
[null,null,null,null,null,null,null,null,null,null,null,null,null,null,null,null,null,null,null,null,null,{"$f":"IFERROR(WORKDAY(T937,AE937,Hoja1!F929:F1045),\"\")","v":""},"",null,"",{"$f":"IF(P937=\"\",\"\",NETWORKDAYS(C937+1,P937,Hoja1!F929:F1045))","v":""},{"$f":"IFERROR(IF(NETWORKDAYS(R937+1,P937,Hoja1!F929:F1045)<=0,\"\",NETWORKDAYS(R937+1,P937,Hoja1!F929:F1045)),0)","v":""},null,null,{"$f":"IFERROR(VLOOKUP(L937,Hoja1!$A$50:$C$63,2),\"\")","v":""},{"$f":"IFERROR(VLOOKUP(L937,Hoja1!$A$50:$C$63,3),\"\")","v":""}]
[null,null,null,null,null,null,null,null,null,null,null,null,null,null,null,null,null,null,null,null,null,{"$f":"IFERROR(WORKDAY(T938,AE938,Hoja1!F930:F1046),\"\")","v":""},"",null,"",{"$f":"IF(P938=\"\",\"\",NETWORKDAYS(C938+1,P938,Hoja1!F930:F1046))","v":""},{"$f":"IFERROR(IF(NETWORKDAYS(R938+1,P938,Hoja1!F930:F1046)<=0,\"\",NETWORKDAYS(R938+1,P938,Hoja1!F930:F1046)),0)","v":""},null,null,{"$f":"IFERROR(VLOOKUP(L938,Hoja1!$A$50:$C$63,2),\"\")","v":""},{"$f":"IFERROR(VLOOKUP(L938,Hoja1!$A$50:$C$63,3),\"\")","v":""}]
[null,null,null,null,null,null,null,null,null,null,null,null,null,null,null,null,null,null,null,null,null,{"$f":"IFERROR(WORKDAY(T939,AE939,Hoja1!F931:F1047),\"\")","v":""},"",null,"",{"$f":"IF(P939=\"\",\"\",NETWORKDAYS(C939+1,P939,Hoja1!F931:F1047))","v":""},{"$f":"IFERROR(IF(NETWORKDAYS(R939+1,P939,Hoja1!F931:F1047)<=0,\"\",NETWORKDAYS(R939+1,P939,Hoja1!F931:F1047)),0)","v":""},null,null,{"$f":"IFERROR(VLOOKUP(L939,Hoja1!$A$50:$C$63,2),\"\")","v":""},{"$f":"IFERROR(VLOOKUP(L939,Hoja1!$A$50:$C$63,3),\"\")","v":""}]
[null,null,null,null,null,null,null,null,null,null,null,null,null,null,null,null,null,null,null,null,null,{"$f":"IFERROR(WORKDAY(T940,AE940,Hoja1!F932:F1048),\"\")","v":""},"",null,"",{"$f":"IF(P940=\"\",\"\",NETWORKDAYS(C940+1,P940,Hoja1!F932:F1048))","v":""},{"$f":"IFERROR(IF(NETWORKDAYS(R940+1,P940,Hoja1!F932:F1048)<=0,\"\",NETWORKDAYS(R940+1,P940,Hoja1!F932:F1048)),0)","v":""},null,null,{"$f":"IFERROR(VLOOKUP(L940,Hoja1!$A$50:$C$63,2),\"\")","v":""},{"$f":"IFERROR(VLOOKUP(L940,Hoja1!$A$50:$C$63,3),\"\")","v":""}]
[null,null,null,null,null,null,null,null,null,null,null,null,null,null,null,null,null,null,null,null,null,{"$f":"IFERROR(WORKDAY(T941,AE941,Hoja1!F933:F1049),\"\")","v":""},"",null,"",{"$f":"IF(P941=\"\",\"\",NETWORKDAYS(C941+1,P941,Hoja1!F933:F1049))","v":""},{"$f":"IFERROR(IF(NETWORKDAYS(R941+1,P941,Hoja1!F933:F1049)<=0,\"\",NETWORKDAYS(R941+1,P941,Hoja1!F933:F1049)),0)","v":""},null,null,{"$f":"IFERROR(VLOOKUP(L941,Hoja1!$A$50:$C$63,2),\"\")","v":""},{"$f":"IFERROR(VLOOKUP(L941,Hoja1!$A$50:$C$63,3),\"\")","v":""}]
[null,null,null,null,null,null,null,null,null,null,null,null,null,null,null,null,null,null,null,null,null,{"$f":"IFERROR(WORKDAY(T942,AE942,Hoja1!F934:F1050),\"\")","v":""},"",null,"",{"$f":"IF(P942=\"\",\"\",NETWORKDAYS(C942+1,P942,Hoja1!F934:F1050))","v":""},{"$f":"IFERROR(IF(NETWORKDAYS(R942+1,P942,Hoja1!F934:F1050)<=0,\"\",NETWORKDAYS(R942+1,P942,Hoja1!F934:F1050)),0)","v":""},null,null,{"$f":"IFERROR(VLOOKUP(L942,Hoja1!$A$50:$C$63,2),\"\")","v":""},{"$f":"IFERROR(VLOOKUP(L942,Hoja1!$A$50:$C$63,3),\"\")","v":""}]
[null,null,null,null,null,null,null,null,null,null,null,null,null,null,null,null,null,null,null,null,null,{"$f":"IFERROR(WORKDAY(T943,AE943,Hoja1!F935:F1051),\"\")","v":""},"",null,"",{"$f":"IF(P943=\"\",\"\",NETWORKDAYS(C943+1,P943,Hoja1!F935:F1051))","v":""},{"$f":"IFERROR(IF(NETWORKDAYS(R943+1,P943,Hoja1!F935:F1051)<=0,\"\",NETWORKDAYS(R943+1,P943,Hoja1!F935:F1051)),0)","v":""},null,null,{"$f":"IFERROR(VLOOKUP(L943,Hoja1!$A$50:$C$63,2),\"\")","v":""},{"$f":"IFERROR(VLOOKUP(L943,Hoja1!$A$50:$C$63,3),\"\")","v":""}]
[null,null,null,null,null,null,null,null,null,null,null,null,null,null,null,null,null,null,null,null,null,{"$f":"IFERROR(WORKDAY(T944,AE944,Hoja1!F936:F1052),\"\")","v":""},"",null,"",{"$f":"IF(P944=\"\",\"\",NETWORKDAYS(C944+1,P944,Hoja1!F936:F1052))","v":""},{"$f":"IFERROR(IF(NETWORKDAYS(R944+1,P944,Hoja1!F936:F1052)<=0,\"\",NETWORKDAYS(R944+1,P944,Hoja1!F936:F1052)),0)","v":""},null,null,{"$f":"IFERROR(VLOOKUP(L944,Hoja1!$A$50:$C$63,2),\"\")","v":""},{"$f":"IFERROR(VLOOKUP(L944,Hoja1!$A$50:$C$63,3),\"\")","v":""}]
[null,null,null,null,null,null,null,null,null,null,null,null,null,null,null,null,null,null,null,null,null,{"$f":"IFERROR(WORKDAY(T945,AE945,Hoja1!F937:F1053),\"\")","v":""},"",null,"",{"$f":"IF(P945=\"\",\"\",NETWORKDAYS(C945+1,P945,Hoja1!F937:F1053))","v":""},{"$f":"IFERROR(IF(NETWORKDAYS(R945+1,P945,Hoja1!F937:F1053)<=0,\"\",NETWORKDAYS(R945+1,P945,Hoja1!F937:F1053)),0)","v":""},null,null,{"$f":"IFERROR(VLOOKUP(L945,Hoja1!$A$50:$C$63,2),\"\")","v":""},{"$f":"IFERROR(VLOOKUP(L945,Hoja1!$A$50:$C$63,3),\"\")","v":""}]
[null,null,null,null,null,null,null,null,null,null,null,null,null,null,null,null,null,null,null,null,null,{"$f":"IFERROR(WORKDAY(T946,AE946,Hoja1!F938:F1054),\"\")","v":""},"",null,"",{"$f":"IF(P946=\"\",\"\",NETWORKDAYS(C946+1,P946,Hoja1!F938:F1054))","v":""},{"$f":"IFERROR(IF(NETWORKDAYS(R946+1,P946,Hoja1!F938:F1054)<=0,\"\",NETWORKDAYS(R946+1,P946,Hoja1!F938:F1054)),0)","v":""},null,null,{"$f":"IFERROR(VLOOKUP(L946,Hoja1!$A$50:$C$63,2),\"\")","v":""},{"$f":"IFERROR(VLOOKUP(L946,Hoja1!$A$50:$C$63,3),\"\")","v":""}]
[null,null,null,null,null,null,null,null,null,null,null,null,null,null,null,null,null,null,null,null,null,{"$f":"IFERROR(WORKDAY(T947,AE947,Hoja1!F939:F1055),\"\")","v":""},"",null,"",{"$f":"IF(P947=\"\",\"\",NETWORKDAYS(C947+1,P947,Hoja1!F939:F1055))","v":""},{"$f":"IFERROR(IF(NETWORKDAYS(R947+1,P947,Hoja1!F939:F1055)<=0,\"\",NETWORKDAYS(R947+1,P947,Hoja1!F939:F1055)),0)","v":""},null,null,{"$f":"IFERROR(VLOOKUP(L947,Hoja1!$A$50:$C$63,2),\"\")","v":""},{"$f":"IFERROR(VLOOKUP(L947,Hoja1!$A$50:$C$63,3),\"\")","v":""}]
[null,null,null,null,null,null,null,null,null,null,null,null,null,null,null,null,null,null,null,null,null,{"$f":"IFERROR(WORKDAY(T948,AE948,Hoja1!F940:F1056),\"\")","v":""},"",null,"",{"$f":"IF(P948=\"\",\"\",NETWORKDAYS(C948+1,P948,Hoja1!F940:F1056))","v":""},{"$f":"IFERROR(IF(NETWORKDAYS(R948+1,P948,Hoja1!F940:F1056)<=0,\"\",NETWORKDAYS(R948+1,P948,Hoja1!F940:F1056)),0)","v":""},null,null,{"$f":"IFERROR(VLOOKUP(L948,Hoja1!$A$50:$C$63,2),\"\")","v":""},{"$f":"IFERROR(VLOOKUP(L948,Hoja1!$A$50:$C$63,3),\"\")","v":""}]
[null,null,null,null,null,null,null,null,null,null,null,null,null,null,null,null,null,null,null,null,null,{"$f":"IFERROR(WORKDAY(T949,AE949,Hoja1!F941:F1057),\"\")","v":""},"",null,"",{"$f":"IF(P949=\"\",\"\",NETWORKDAYS(C949+1,P949,Hoja1!F941:F1057))","v":""},{"$f":"IFERROR(IF(NETWORKDAYS(R949+1,P949,Hoja1!F941:F1057)<=0,\"\",NETWORKDAYS(R949+1,P949,Hoja1!F941:F1057)),0)","v":""},null,null,{"$f":"IFERROR(VLOOKUP(L949,Hoja1!$A$50:$C$63,2),\"\")","v":""},{"$f":"IFERROR(VLOOKUP(L949,Hoja1!$A$50:$C$63,3),\"\")","v":""}]
[null,null,null,null,null,null,null,null,null,null,null,null,null,null,null,null,null,null,null,null,null,{"$f":"IFERROR(WORKDAY(T950,AE950,Hoja1!F942:F1058),\"\")","v":""},"",null,"",{"$f":"IF(P950=\"\",\"\",NETWORKDAYS(C950+1,P950,Hoja1!F942:F1058))","v":""},{"$f":"IFERROR(IF(NETWORKDAYS(R950+1,P950,Hoja1!F942:F1058)<=0,\"\",NETWORKDAYS(R950+1,P950,Hoja1!F942:F1058)),0)","v":""},null,null,{"$f":"IFERROR(VLOOKUP(L950,Hoja1!$A$50:$C$63,2),\"\")","v":""},{"$f":"IFERROR(VLOOKUP(L950,Hoja1!$A$50:$C$63,3),\"\")","v":""}]
[null,null,null,null,null,null,null,null,null,null,null,null,null,null,null,null,null,null,null,null,null,{"$f":"IFERROR(WORKDAY(T951,AE951,Hoja1!F943:F1059),\"\")","v":""},"",null,"",{"$f":"IF(P951=\"\",\"\",NETWORKDAYS(C951+1,P951,Hoja1!F943:F1059))","v":""},{"$f":"IFERROR(IF(NETWORKDAYS(R951+1,P951,Hoja1!F943:F1059)<=0,\"\",NETWORKDAYS(R951+1,P951,Hoja1!F943:F1059)),0)","v":""},null,null,{"$f":"IFERROR(VLOOKUP(L951,Hoja1!$A$50:$C$63,2),\"\")","v":""},{"$f":"IFERROR(VLOOKUP(L951,Hoja1!$A$50:$C$63,3),\"\")","v":""}]
[null,null,null,null,null,null,null,null,null,null,null,null,null,null,null,null,null,null,null,null,null,{"$f":"IFERROR(WORKDAY(T952,AE952,Hoja1!F944:F1060),\"\")","v":""},"",null,"",{"$f":"IF(P952=\"\",\"\",NETWORKDAYS(C952+1,P952,Hoja1!F944:F1060))","v":""},{"$f":"IFERROR(IF(NETWORKDAYS(R952+1,P952,Hoja1!F944:F1060)<=0,\"\",NETWORKDAYS(R952+1,P952,Hoja1!F944:F1060)),0)","v":""},null,null,{"$f":"IFERROR(VLOOKUP(L952,Hoja1!$A$50:$C$63,2),\"\")","v":""},{"$f":"IFERROR(VLOOKUP(L952,Hoja1!$A$50:$C$63,3),\"\")","v":""}]
[null,null,null,null,null,null,null,null,null,null,null,null,null,null,null,null,null,null,null,null,null,{"$f":"IFERROR(WORKDAY(T953,AE953,Hoja1!F945:F1061),\"\")","v":""},"",null,"",{"$f":"IF(P953=\"\",\"\",NETWORKDAYS(C953+1,P953,Hoja1!F945:F1061))","v":""},{"$f":"IFERROR(IF(NETWORKDAYS(R953+1,P953,Hoja1!F945:F1061)<=0,\"\",NETWORKDAYS(R953+1,P953,Hoja1!F945:F1061)),0)","v":""},null,null,{"$f":"IFERROR(VLOOKUP(L953,Hoja1!$A$50:$C$63,2),\"\")","v":""},{"$f":"IFERROR(VLOOKUP(L953,Hoja1!$A$50:$C$63,3),\"\")","v":""}]
[null,null,null,null,null,null,null,null,null,null,null,null,null,null,null,null,null,null,null,null,null,{"$f":"IFERROR(WORKDAY(T954,AE954,Hoja1!F946:F1062),\"\")","v":""},"",null,"",{"$f":"IF(P954=\"\",\"\",NETWORKDAYS(C954+1,P954,Hoja1!F946:F1062))","v":""},{"$f":"IFERROR(IF(NETWORKDAYS(R954+1,P954,Hoja1!F946:F1062)<=0,\"\",NETWORKDAYS(R954+1,P954,Hoja1!F946:F1062)),0)","v":""},null,null,{"$f":"IFERROR(VLOOKUP(L954,Hoja1!$A$50:$C$63,2),\"\")","v":""},{"$f":"IFERROR(VLOOKUP(L954,Hoja1!$A$50:$C$63,3),\"\")","v":""}]
[null,null,null,null,null,null,null,null,null,null,null,null,null,null,null,null,null,null,null,null,null,{"$f":"IFERROR(WORKDAY(T955,AE955,Hoja1!F947:F1063),\"\")","v":""},"",null,"",{"$f":"IF(P955=\"\",\"\",NETWORKDAYS(C955+1,P955,Hoja1!F947:F1063))","v":""},{"$f":"IFERROR(IF(NETWORKDAYS(R955+1,P955,Hoja1!F947:F1063)<=0,\"\",NETWORKDAYS(R955+1,P955,Hoja1!F947:F1063)),0)","v":""},null,null,{"$f":"IFERROR(VLOOKUP(L955,Hoja1!$A$50:$C$63,2),\"\")","v":""},{"$f":"IFERROR(VLOOKUP(L955,Hoja1!$A$50:$C$63,3),\"\")","v":""}]
[null,null,null,null,null,null,null,null,null,null,null,null,null,null,null,null,null,null,null,null,null,{"$f":"IFERROR(WORKDAY(T956,AE956,Hoja1!F948:F1064),\"\")","v":""},"",null,"",{"$f":"IF(P956=\"\",\"\",NETWORKDAYS(C956+1,P956,Hoja1!F948:F1064))","v":""},{"$f":"IFERROR(IF(NETWORKDAYS(R956+1,P956,Hoja1!F948:F1064)<=0,\"\",NETWORKDAYS(R956+1,P956,Hoja1!F948:F1064)),0)","v":""},null,null,{"$f":"IFERROR(VLOOKUP(L956,Hoja1!$A$50:$C$63,2),\"\")","v":""},{"$f":"IFERROR(VLOOKUP(L956,Hoja1!$A$50:$C$63,3),\"\")","v":""}]
[null,null,null,null,null,null,null,null,null,null,null,null,null,null,null,null,null,null,null,null,null,{"$f":"IFERROR(WORKDAY(T957,AE957,Hoja1!F949:F1065),\"\")","v":""},"",null,"",{"$f":"IF(P957=\"\",\"\",NETWORKDAYS(C957+1,P957,Hoja1!F949:F1065))","v":""},{"$f":"IFERROR(IF(NETWORKDAYS(R957+1,P957,Hoja1!F949:F1065)<=0,\"\",NETWORKDAYS(R957+1,P957,Hoja1!F949:F1065)),0)","v":""},null,null,{"$f":"IFERROR(VLOOKUP(L957,Hoja1!$A$50:$C$63,2),\"\")","v":""},{"$f":"IFERROR(VLOOKUP(L957,Hoja1!$A$50:$C$63,3),\"\")","v":""}]
[null,null,null,null,null,null,null,null,null,null,null,null,null,null,null,null,null,null,null,null,null,{"$f":"IFERROR(WORKDAY(T958,AE958,Hoja1!F950:F1066),\"\")","v":""},"",null,"",{"$f":"IF(P958=\"\",\"\",NETWORKDAYS(C958+1,P958,Hoja1!F950:F1066))","v":""},{"$f":"IFERROR(IF(NETWORKDAYS(R958+1,P958,Hoja1!F950:F1066)<=0,\"\",NETWORKDAYS(R958+1,P958,Hoja1!F950:F1066)),0)","v":""},null,null,{"$f":"IFERROR(VLOOKUP(L958,Hoja1!$A$50:$C$63,2),\"\")","v":""},{"$f":"IFERROR(VLOOKUP(L958,Hoja1!$A$50:$C$63,3),\"\")","v":""}]
[null,null,null,null,null,null,null,null,null,null,null,null,null,null,null,null,null,null,null,null,null,{"$f":"IFERROR(WORKDAY(T959,AE959,Hoja1!F951:F1067),\"\")","v":""},"",null,"",{"$f":"IF(P959=\"\",\"\",NETWORKDAYS(C959+1,P959,Hoja1!F951:F1067))","v":""},{"$f":"IFERROR(IF(NETWORKDAYS(R959+1,P959,Hoja1!F951:F1067)<=0,\"\",NETWORKDAYS(R959+1,P959,Hoja1!F951:F1067)),0)","v":""},null,null,{"$f":"IFERROR(VLOOKUP(L959,Hoja1!$A$50:$C$63,2),\"\")","v":""},{"$f":"IFERROR(VLOOKUP(L959,Hoja1!$A$50:$C$63,3),\"\")","v":""}]
[null,null,null,null,null,null,null,null,null,null,null,null,null,null,null,null,null,null,null,null,null,{"$f":"IFERROR(WORKDAY(T960,AE960,Hoja1!F952:F1068),\"\")","v":""},"",null,"",{"$f":"IF(P960=\"\",\"\",NETWORKDAYS(C960+1,P960,Hoja1!F952:F1068))","v":""},{"$f":"IFERROR(IF(NETWORKDAYS(R960+1,P960,Hoja1!F952:F1068)<=0,\"\",NETWORKDAYS(R960+1,P960,Hoja1!F952:F1068)),0)","v":""},null,null,{"$f":"IFERROR(VLOOKUP(L960,Hoja1!$A$50:$C$63,2),\"\")","v":""},{"$f":"IFERROR(VLOOKUP(L960,Hoja1!$A$50:$C$63,3),\"\")","v":""}]
[null,null,null,null,null,null,null,null,null,null,null,null,null,null,null,null,null,null,null,null,null,{"$f":"IFERROR(WORKDAY(T961,AE961,Hoja1!F953:F1069),\"\")","v":""},"",null,"",{"$f":"IF(P961=\"\",\"\",NETWORKDAYS(C961+1,P961,Hoja1!F953:F1069))","v":""},{"$f":"IFERROR(IF(NETWORKDAYS(R961+1,P961,Hoja1!F953:F1069)<=0,\"\",NETWORKDAYS(R961+1,P961,Hoja1!F953:F1069)),0)","v":""},null,null,{"$f":"IFERROR(VLOOKUP(L961,Hoja1!$A$50:$C$63,2),\"\")","v":""},{"$f":"IFERROR(VLOOKUP(L961,Hoja1!$A$50:$C$63,3),\"\")","v":""}]
[null,null,null,null,null,null,null,null,null,null,null,null,null,null,null,null,null,null,null,null,null,{"$f":"IFERROR(WORKDAY(T962,AE962,Hoja1!F954:F1070),\"\")","v":""},"",null,"",{"$f":"IF(P962=\"\",\"\",NETWORKDAYS(C962+1,P962,Hoja1!F954:F1070))","v":""},{"$f":"IFERROR(IF(NETWORKDAYS(R962+1,P962,Hoja1!F954:F1070)<=0,\"\",NETWORKDAYS(R962+1,P962,Hoja1!F954:F1070)),0)","v":""},null,null,{"$f":"IFERROR(VLOOKUP(L962,Hoja1!$A$50:$C$63,2),\"\")","v":""},{"$f":"IFERROR(VLOOKUP(L962,Hoja1!$A$50:$C$63,3),\"\")","v":""}]
[null,null,null,null,null,null,null,null,null,null,null,null,null,null,null,null,null,null,null,null,null,{"$f":"IFERROR(WORKDAY(T963,AE963,Hoja1!F955:F1071),\"\")","v":""},"",null,"",{"$f":"IF(P963=\"\",\"\",NETWORKDAYS(C963+1,P963,Hoja1!F955:F1071))","v":""},{"$f":"IFERROR(IF(NETWORKDAYS(R963+1,P963,Hoja1!F955:F1071)<=0,\"\",NETWORKDAYS(R963+1,P963,Hoja1!F955:F1071)),0)","v":""},null,null,{"$f":"IFERROR(VLOOKUP(L963,Hoja1!$A$50:$C$63,2),\"\")","v":""},{"$f":"IFERROR(VLOOKUP(L963,Hoja1!$A$50:$C$63,3),\"\")","v":""}]
[null,null,null,null,null,null,null,null,null,null,null,null,null,null,null,null,null,null,null,null,null,{"$f":"IFERROR(WORKDAY(T964,AE964,Hoja1!F956:F1072),\"\")","v":""},"",null,"",{"$f":"IF(P964=\"\",\"\",NETWORKDAYS(C964+1,P964,Hoja1!F956:F1072))","v":""},{"$f":"IFERROR(IF(NETWORKDAYS(R964+1,P964,Hoja1!F956:F1072)<=0,\"\",NETWORKDAYS(R964+1,P964,Hoja1!F956:F1072)),0)","v":""},null,null,{"$f":"IFERROR(VLOOKUP(L964,Hoja1!$A$50:$C$63,2),\"\")","v":""},{"$f":"IFERROR(VLOOKUP(L964,Hoja1!$A$50:$C$63,3),\"\")","v":""}]
[null,null,null,null,null,null,null,null,null,null,null,null,null,null,null,null,null,null,null,null,null,{"$f":"IFERROR(WORKDAY(T965,AE965,Hoja1!F957:F1073),\"\")","v":""},"",null,"",{"$f":"IF(P965=\"\",\"\",NETWORKDAYS(C965+1,P965,Hoja1!F957:F1073))","v":""},{"$f":"IFERROR(IF(NETWORKDAYS(R965+1,P965,Hoja1!F957:F1073)<=0,\"\",NETWORKDAYS(R965+1,P965,Hoja1!F957:F1073)),0)","v":""},null,null,{"$f":"IFERROR(VLOOKUP(L965,Hoja1!$A$50:$C$63,2),\"\")","v":""},{"$f":"IFERROR(VLOOKUP(L965,Hoja1!$A$50:$C$63,3),\"\")","v":""}]
[null,null,null,null,null,null,null,null,null,null,null,null,null,null,null,null,null,null,null,null,null,{"$f":"IFERROR(WORKDAY(T966,AE966,Hoja1!F958:F1074),\"\")","v":""},"",null,"",{"$f":"IF(P966=\"\",\"\",NETWORKDAYS(C966+1,P966,Hoja1!F958:F1074))","v":""},{"$f":"IFERROR(IF(NETWORKDAYS(R966+1,P966,Hoja1!F958:F1074)<=0,\"\",NETWORKDAYS(R966+1,P966,Hoja1!F958:F1074)),0)","v":""},null,null,{"$f":"IFERROR(VLOOKUP(L966,Hoja1!$A$50:$C$63,2),\"\")","v":""},{"$f":"IFERROR(VLOOKUP(L966,Hoja1!$A$50:$C$63,3),\"\")","v":""}]
[null,null,null,null,null,null,null,null,null,null,null,null,null,null,null,null,null,null,null,null,null,{"$f":"IFERROR(WORKDAY(T967,AE967,Hoja1!F959:F1075),\"\")","v":""},"",null,"",{"$f":"IF(P967=\"\",\"\",NETWORKDAYS(C967+1,P967,Hoja1!F959:F1075))","v":""},{"$f":"IFERROR(IF(NETWORKDAYS(R967+1,P967,Hoja1!F959:F1075)<=0,\"\",NETWORKDAYS(R967+1,P967,Hoja1!F959:F1075)),0)","v":""},null,null,{"$f":"IFERROR(VLOOKUP(L967,Hoja1!$A$50:$C$63,2),\"\")","v":""},{"$f":"IFERROR(VLOOKUP(L967,Hoja1!$A$50:$C$63,3),\"\")","v":""}]
[null,null,null,null,null,null,null,null,null,null,null,null,null,null,null,null,null,null,null,null,null,{"$f":"IFERROR(WORKDAY(T968,AE968,Hoja1!F960:F1076),\"\")","v":""},"",null,"",{"$f":"IF(P968=\"\",\"\",NETWORKDAYS(C968+1,P968,Hoja1!F960:F1076))","v":""},{"$f":"IFERROR(IF(NETWORKDAYS(R968+1,P968,Hoja1!F960:F1076)<=0,\"\",NETWORKDAYS(R968+1,P968,Hoja1!F960:F1076)),0)","v":""},null,null,{"$f":"IFERROR(VLOOKUP(L968,Hoja1!$A$50:$C$63,2),\"\")","v":""},{"$f":"IFERROR(VLOOKUP(L968,Hoja1!$A$50:$C$63,3),\"\")","v":""}]
[null,null,null,null,null,null,null,null,null,null,null,null,null,null,null,null,null,null,null,null,null,{"$f":"IFERROR(WORKDAY(T969,AE969,Hoja1!F961:F1077),\"\")","v":""},"",null,"",{"$f":"IF(P969=\"\",\"\",NETWORKDAYS(C969+1,P969,Hoja1!F961:F1077))","v":""},{"$f":"IFERROR(IF(NETWORKDAYS(R969+1,P969,Hoja1!F961:F1077)<=0,\"\",NETWORKDAYS(R969+1,P969,Hoja1!F961:F1077)),0)","v":""},null,null,{"$f":"IFERROR(VLOOKUP(L969,Hoja1!$A$50:$C$63,2),\"\")","v":""},{"$f":"IFERROR(VLOOKUP(L969,Hoja1!$A$50:$C$63,3),\"\")","v":""}]
[null,null,null,null,null,null,null,null,null,null,null,null,null,null,null,null,null,null,null,null,null,{"$f":"IFERROR(WORKDAY(T970,AE970,Hoja1!F962:F1078),\"\")","v":""},{"$f":"+IF(T970=\"\",\"\",IF(U970=\"\",\"SIN RESPUESTA\",(IF(U970<=V970,\"A TIEMPO\",\"FUERA DE TIEMPO\"))))","v":""},null,{"$f":"+IF(C970=\"\",\"\",IF(P970=\"\",\"SIN RESPUESTA\",(IF(P970<=R970,\"A TIEMPO\",\"FUERA DE TIEMPO\"))))","v":""},{"$f":"IF(P970=\"\",\"\",NETWORKDAYS(C970+1,P970,Hoja1!F962:F1078))","v":""},{"$f":"IFERROR(IF(NETWORKDAYS(R970+1,P970,Hoja1!F962:F1078)<=0,\"\",NETWORKDAYS(R970+1,P970,Hoja1!F962:F1078)),0)","v":""},null,null,{"$f":"IFERROR(VLOOKUP(L970,Hoja1!$A$50:$C$63,2),\"\")","v":""},{"$f":"IFERROR(VLOOKUP(L970,Hoja1!$A$50:$C$63,3),\"\")","v":""}]
[null,null,null,null,null,null,null,null,null,null,null,null,null,null,null,null,null,null,null,null,null,{"$f":"IFERROR(WORKDAY(T971,AE971,Hoja1!F963:F1079),\"\")","v":""},"",null,"",{"$f":"IF(P971=\"\",\"\",NETWORKDAYS(C971+1,P971,Hoja1!F963:F1079))","v":""},{"$f":"IFERROR(IF(NETWORKDAYS(R971+1,P971,Hoja1!F963:F1079)<=0,\"\",NETWORKDAYS(R971+1,P971,Hoja1!F963:F1079)),0)","v":""},null,null,{"$f":"IFERROR(VLOOKUP(L971,Hoja1!$A$50:$C$63,2),\"\")","v":""},{"$f":"IFERROR(VLOOKUP(L971,Hoja1!$A$50:$C$63,3),\"\")","v":""}]
[null,null,null,null,null,null,null,null,null,null,null,null,null,null,null,null,null,null,null,null,null,{"$f":"IFERROR(WORKDAY(T972,AE972,Hoja1!F964:F1080),\"\")","v":""},"",null,"",{"$f":"IF(P972=\"\",\"\",NETWORKDAYS(C972+1,P972,Hoja1!F964:F1080))","v":""},{"$f":"IFERROR(IF(NETWORKDAYS(R972+1,P972,Hoja1!F964:F1080)<=0,\"\",NETWORKDAYS(R972+1,P972,Hoja1!F964:F1080)),0)","v":""},null,null,{"$f":"IFERROR(VLOOKUP(L972,Hoja1!$A$50:$C$63,2),\"\")","v":""},{"$f":"IFERROR(VLOOKUP(L972,Hoja1!$A$50:$C$63,3),\"\")","v":""}]
[null,null,null,null,null,null,null,null,null,null,null,null,null,null,null,null,null,null,null,null,null,{"$f":"IFERROR(WORKDAY(T973,AE973,Hoja1!F965:F1081),\"\")","v":""},"",null,"",{"$f":"IF(P973=\"\",\"\",NETWORKDAYS(C973+1,P973,Hoja1!F965:F1081))","v":""},{"$f":"IFERROR(IF(NETWORKDAYS(R973+1,P973,Hoja1!F965:F1081)<=0,\"\",NETWORKDAYS(R973+1,P973,Hoja1!F965:F1081)),0)","v":""},null,null,{"$f":"IFERROR(VLOOKUP(L973,Hoja1!$A$50:$C$63,2),\"\")","v":""},{"$f":"IFERROR(VLOOKUP(L973,Hoja1!$A$50:$C$63,3),\"\")","v":""}]
[null,null,null,null,null,null,null,null,null,null,null,null,null,null,null,null,null,null,null,null,null,{"$f":"IFERROR(WORKDAY(T974,AE974,Hoja1!F966:F1082),\"\")","v":""},"",null,"",{"$f":"IF(P974=\"\",\"\",NETWORKDAYS(C974+1,P974,Hoja1!F966:F1082))","v":""},{"$f":"IFERROR(IF(NETWORKDAYS(R974+1,P974,Hoja1!F966:F1082)<=0,\"\",NETWORKDAYS(R974+1,P974,Hoja1!F966:F1082)),0)","v":""},null,null,{"$f":"IFERROR(VLOOKUP(L974,Hoja1!$A$50:$C$63,2),\"\")","v":""},{"$f":"IFERROR(VLOOKUP(L974,Hoja1!$A$50:$C$63,3),\"\")","v":""}]
[null,null,null,null,null,null,null,null,null,null,null,null,null,null,null,null,null,null,null,null,null,{"$f":"IFERROR(WORKDAY(T975,AE975,Hoja1!F967:F1083),\"\")","v":""},"",null,"",{"$f":"IF(P975=\"\",\"\",NETWORKDAYS(C975+1,P975,Hoja1!F967:F1083))","v":""},{"$f":"IFERROR(IF(NETWORKDAYS(R975+1,P975,Hoja1!F967:F1083)<=0,\"\",NETWORKDAYS(R975+1,P975,Hoja1!F967:F1083)),0)","v":""},null,null,{"$f":"IFERROR(VLOOKUP(L975,Hoja1!$A$50:$C$63,2),\"\")","v":""},{"$f":"IFERROR(VLOOKUP(L975,Hoja1!$A$50:$C$63,3),\"\")","v":""}]
[null,null,null,null,null,null,null,null,null,null,null,null,null,null,null,null,null,null,null,null,null,{"$f":"IFERROR(WORKDAY(T976,AE976,Hoja1!F968:F1084),\"\")","v":""},"",null,"",{"$f":"IF(P976=\"\",\"\",NETWORKDAYS(C976+1,P976,Hoja1!F968:F1084))","v":""},{"$f":"IFERROR(IF(NETWORKDAYS(R976+1,P976,Hoja1!F968:F1084)<=0,\"\",NETWORKDAYS(R976+1,P976,Hoja1!F968:F1084)),0)","v":""},null,null,{"$f":"IFERROR(VLOOKUP(L976,Hoja1!$A$50:$C$63,2),\"\")","v":""},{"$f":"IFERROR(VLOOKUP(L976,Hoja1!$A$50:$C$63,3),\"\")","v":""}]
[null,null,null,null,null,null,null,null,null,null,null,null,null,null,null,null,null,null,null,null,null,{"$f":"IFERROR(WORKDAY(T977,AE977,Hoja1!F969:F1085),\"\")","v":""},"",null,"",{"$f":"IF(P977=\"\",\"\",NETWORKDAYS(C977+1,P977,Hoja1!F969:F1085))","v":""},{"$f":"IFERROR(IF(NETWORKDAYS(R977+1,P977,Hoja1!F969:F1085)<=0,\"\",NETWORKDAYS(R977+1,P977,Hoja1!F969:F1085)),0)","v":""},null,null,{"$f":"IFERROR(VLOOKUP(L977,Hoja1!$A$50:$C$63,2),\"\")","v":""},{"$f":"IFERROR(VLOOKUP(L977,Hoja1!$A$50:$C$63,3),\"\")","v":""}]
[null,null,null,null,null,null,null,null,null,null,null,null,null,null,null,null,null,null,null,null,null,{"$f":"IFERROR(WORKDAY(T978,AE978,Hoja1!F970:F1086),\"\")","v":""},"",null,"",{"$f":"IF(P978=\"\",\"\",NETWORKDAYS(C978+1,P978,Hoja1!F970:F1086))","v":""},{"$f":"IFERROR(IF(NETWORKDAYS(R978+1,P978,Hoja1!F970:F1086)<=0,\"\",NETWORKDAYS(R978+1,P978,Hoja1!F970:F1086)),0)","v":""},null,null,{"$f":"IFERROR(VLOOKUP(L978,Hoja1!$A$50:$C$63,2),\"\")","v":""},{"$f":"IFERROR(VLOOKUP(L978,Hoja1!$A$50:$C$63,3),\"\")","v":""}]
[null,null,null,null,null,null,null,null,null,null,null,null,null,null,null,null,null,null,null,null,null,{"$f":"IFERROR(WORKDAY(T979,AE979,Hoja1!F971:F1087),\"\")","v":""},"",null,"",{"$f":"IF(P979=\"\",\"\",NETWORKDAYS(C979+1,P979,Hoja1!F971:F1087))","v":""},{"$f":"IFERROR(IF(NETWORKDAYS(R979+1,P979,Hoja1!F971:F1087)<=0,\"\",NETWORKDAYS(R979+1,P979,Hoja1!F971:F1087)),0)","v":""},null,null,{"$f":"IFERROR(VLOOKUP(L979,Hoja1!$A$50:$C$63,2),\"\")","v":""},{"$f":"IFERROR(VLOOKUP(L979,Hoja1!$A$50:$C$63,3),\"\")","v":""}]
[null,null,null,null,null,null,null,null,null,null,null,null,null,null,null,null,null,null,null,null,null,{"$f":"IFERROR(WORKDAY(T980,AE980,Hoja1!F972:F1088),\"\")","v":""},"",null,"",{"$f":"IF(P980=\"\",\"\",NETWORKDAYS(C980+1,P980,Hoja1!F972:F1088))","v":""},{"$f":"IFERROR(IF(NETWORKDAYS(R980+1,P980,Hoja1!F972:F1088)<=0,\"\",NETWORKDAYS(R980+1,P980,Hoja1!F972:F1088)),0)","v":""},null,null,{"$f":"IFERROR(VLOOKUP(L980,Hoja1!$A$50:$C$63,2),\"\")","v":""},{"$f":"IFERROR(VLOOKUP(L980,Hoja1!$A$50:$C$63,3),\"\")","v":""}]
[null,null,null,null,null,null,null,null,null,null,null,null,null,null,null,null,null,null,null,null,null,{"$f":"IFERROR(WORKDAY(T981,AE981,Hoja1!F973:F1089),\"\")","v":""},"",null,"",{"$f":"IF(P981=\"\",\"\",NETWORKDAYS(C981+1,P981,Hoja1!F973:F1089))","v":""},{"$f":"IFERROR(IF(NETWORKDAYS(R981+1,P981,Hoja1!F973:F1089)<=0,\"\",NETWORKDAYS(R981+1,P981,Hoja1!F973:F1089)),0)","v":""},null,null,{"$f":"IFERROR(VLOOKUP(L981,Hoja1!$A$50:$C$63,2),\"\")","v":""},{"$f":"IFERROR(VLOOKUP(L981,Hoja1!$A$50:$C$63,3),\"\")","v":""}]
[null,null,null,null,null,null,null,null,null,null,null,null,null,null,null,null,null,null,null,null,null,{"$f":"IFERROR(WORKDAY(T982,AE982,Hoja1!F974:F1090),\"\")","v":""},"",null,"",{"$f":"IF(P982=\"\",\"\",NETWORKDAYS(C982+1,P982,Hoja1!F974:F1090))","v":""},{"$f":"IFERROR(IF(NETWORKDAYS(R982+1,P982,Hoja1!F974:F1090)<=0,\"\",NETWORKDAYS(R982+1,P982,Hoja1!F974:F1090)),0)","v":""},null,null,{"$f":"IFERROR(VLOOKUP(L982,Hoja1!$A$50:$C$63,2),\"\")","v":""},{"$f":"IFERROR(VLOOKUP(L982,Hoja1!$A$50:$C$63,3),\"\")","v":""}]
[null,null,null,null,null,null,null,null,null,null,null,null,null,null,null,null,null,null,null,null,null,{"$f":"IFERROR(WORKDAY(T983,AE983,Hoja1!F975:F1091),\"\")","v":""},"",null,"",{"$f":"IF(P983=\"\",\"\",NETWORKDAYS(C983+1,P983,Hoja1!F975:F1091))","v":""},{"$f":"IFERROR(IF(NETWORKDAYS(R983+1,P983,Hoja1!F975:F1091)<=0,\"\",NETWORKDAYS(R983+1,P983,Hoja1!F975:F1091)),0)","v":""},null,null,{"$f":"IFERROR(VLOOKUP(L983,Hoja1!$A$50:$C$63,2),\"\")","v":""},{"$f":"IFERROR(VLOOKUP(L983,Hoja1!$A$50:$C$63,3),\"\")","v":""}]
[null,null,null,null,null,null,null,null,null,null,null,null,null,null,null,null,null,null,null,null,null,{"$f":"IFERROR(WORKDAY(T984,AE984,Hoja1!F976:F1092),\"\")","v":""},"",null,"",{"$f":"IF(P984=\"\",\"\",NETWORKDAYS(C984+1,P984,Hoja1!F976:F1092))","v":""},{"$f":"IFERROR(IF(NETWORKDAYS(R984+1,P984,Hoja1!F976:F1092)<=0,\"\",NETWORKDAYS(R984+1,P984,Hoja1!F976:F1092)),0)","v":""},null,null,{"$f":"IFERROR(VLOOKUP(L984,Hoja1!$A$50:$C$63,2),\"\")","v":""},{"$f":"IFERROR(VLOOKUP(L984,Hoja1!$A$50:$C$63,3),\"\")","v":""}]
[null,null,null,null,null,null,null,null,null,null,null,null,null,null,null,null,null,null,null,null,null,{"$f":"IFERROR(WORKDAY(T985,AE985,Hoja1!F977:F1093),\"\")","v":""},"",null,"",{"$f":"IF(P985=\"\",\"\",NETWORKDAYS(C985+1,P985,Hoja1!F977:F1093))","v":""},{"$f":"IFERROR(IF(NETWORKDAYS(R985+1,P985,Hoja1!F977:F1093)<=0,\"\",NETWORKDAYS(R985+1,P985,Hoja1!F977:F1093)),0)","v":""},null,null,{"$f":"IFERROR(VLOOKUP(L985,Hoja1!$A$50:$C$63,2),\"\")","v":""},{"$f":"IFERROR(VLOOKUP(L985,Hoja1!$A$50:$C$63,3),\"\")","v":""}]
[null,null,null,null,null,null,null,null,null,null,null,null,null,null,null,null,null,null,null,null,null,{"$f":"IFERROR(WORKDAY(T986,AE986,Hoja1!F978:F1094),\"\")","v":""},"",null,"",{"$f":"IF(P986=\"\",\"\",NETWORKDAYS(C986+1,P986,Hoja1!F978:F1094))","v":""},{"$f":"IFERROR(IF(NETWORKDAYS(R986+1,P986,Hoja1!F978:F1094)<=0,\"\",NETWORKDAYS(R986+1,P986,Hoja1!F978:F1094)),0)","v":""},null,null,{"$f":"IFERROR(VLOOKUP(L986,Hoja1!$A$50:$C$63,2),\"\")","v":""},{"$f":"IFERROR(VLOOKUP(L986,Hoja1!$A$50:$C$63,3),\"\")","v":""}]
[null,null,null,null,null,null,null,null,null,null,null,null,null,null,null,null,null,null,null,null,null,{"$f":"IFERROR(WORKDAY(T987,AE987,Hoja1!F979:F1095),\"\")","v":""},"",null,"",{"$f":"IF(P987=\"\",\"\",NETWORKDAYS(C987+1,P987,Hoja1!F979:F1095))","v":""},{"$f":"IFERROR(IF(NETWORKDAYS(R987+1,P987,Hoja1!F979:F1095)<=0,\"\",NETWORKDAYS(R987+1,P987,Hoja1!F979:F1095)),0)","v":""},null,null,{"$f":"IFERROR(VLOOKUP(L987,Hoja1!$A$50:$C$63,2),\"\")","v":""},{"$f":"IFERROR(VLOOKUP(L987,Hoja1!$A$50:$C$63,3),\"\")","v":""}]
[null,null,null,null,null,null,null,null,null,null,null,null,null,null,null,null,null,null,null,null,null,{"$f":"IFERROR(WORKDAY(T988,AE988,Hoja1!F980:F1096),\"\")","v":""},"",null,"",{"$f":"IF(P988=\"\",\"\",NETWORKDAYS(C988+1,P988,Hoja1!F980:F1096))","v":""},{"$f":"IFERROR(IF(NETWORKDAYS(R988+1,P988,Hoja1!F980:F1096)<=0,\"\",NETWORKDAYS(R988+1,P988,Hoja1!F980:F1096)),0)","v":""},null,null,{"$f":"IFERROR(VLOOKUP(L988,Hoja1!$A$50:$C$63,2),\"\")","v":""},{"$f":"IFERROR(VLOOKUP(L988,Hoja1!$A$50:$C$63,3),\"\")","v":""}]
[null,null,null,null,null,null,null,null,null,null,null,null,null,null,null,null,null,null,null,null,null,{"$f":"IFERROR(WORKDAY(T989,AE989,Hoja1!F981:F1097),\"\")","v":""},"",null,"",{"$f":"IF(P989=\"\",\"\",NETWORKDAYS(C989+1,P989,Hoja1!F981:F1097))","v":""},{"$f":"IFERROR(IF(NETWORKDAYS(R989+1,P989,Hoja1!F981:F1097)<=0,\"\",NETWORKDAYS(R989+1,P989,Hoja1!F981:F1097)),0)","v":""},null,null,{"$f":"IFERROR(VLOOKUP(L989,Hoja1!$A$50:$C$63,2),\"\")","v":""},{"$f":"IFERROR(VLOOKUP(L989,Hoja1!$A$50:$C$63,3),\"\")","v":""}]
[null,null,null,null,null,null,null,null,null,null,null,null,null,null,null,null,null,null,null,null,null,{"$f":"IFERROR(WORKDAY(T990,AE990,Hoja1!F982:F1098),\"\")","v":""},"",null,"",{"$f":"IF(P990=\"\",\"\",NETWORKDAYS(C990+1,P990,Hoja1!F982:F1098))","v":""},{"$f":"IFERROR(IF(NETWORKDAYS(R990+1,P990,Hoja1!F982:F1098)<=0,\"\",NETWORKDAYS(R990+1,P990,Hoja1!F982:F1098)),0)","v":""},null,null,{"$f":"IFERROR(VLOOKUP(L990,Hoja1!$A$50:$C$63,2),\"\")","v":""},{"$f":"IFERROR(VLOOKUP(L990,Hoja1!$A$50:$C$63,3),\"\")","v":""}]
[null,null,null,null,null,null,null,null,null,null,null,null,null,null,null,null,null,null,null,null,null,{"$f":"IFERROR(WORKDAY(T991,AE991,Hoja1!F983:F1099),\"\")","v":""},"",null,"",{"$f":"IF(P991=\"\",\"\",NETWORKDAYS(C991+1,P991,Hoja1!F983:F1099))","v":""},{"$f":"IFERROR(IF(NETWORKDAYS(R991+1,P991,Hoja1!F983:F1099)<=0,\"\",NETWORKDAYS(R991+1,P991,Hoja1!F983:F1099)),0)","v":""},null,null,{"$f":"IFERROR(VLOOKUP(L991,Hoja1!$A$50:$C$63,2),\"\")","v":""},{"$f":"IFERROR(VLOOKUP(L991,Hoja1!$A$50:$C$63,3),\"\")","v":""}]
[null,null,null,null,null,null,null,null,null,null,null,null,null,null,null,null,null,null,null,null,null,{"$f":"IFERROR(WORKDAY(T992,AE992,Hoja1!F984:F1100),\"\")","v":""},"",null,"",{"$f":"IF(P992=\"\",\"\",NETWORKDAYS(C992+1,P992,Hoja1!F984:F1100))","v":""},{"$f":"IFERROR(IF(NETWORKDAYS(R992+1,P992,Hoja1!F984:F1100)<=0,\"\",NETWORKDAYS(R992+1,P992,Hoja1!F984:F1100)),0)","v":""},null,null,{"$f":"IFERROR(VLOOKUP(L992,Hoja1!$A$50:$C$63,2),\"\")","v":""},{"$f":"IFERROR(VLOOKUP(L992,Hoja1!$A$50:$C$63,3),\"\")","v":""}]
[null,null,null,null,null,null,null,null,null,null,null,null,null,null,null,null,null,null,null,null,null,{"$f":"IFERROR(WORKDAY(T993,AE993,Hoja1!F985:F1101),\"\")","v":""},"",null,"",{"$f":"IF(P993=\"\",\"\",NETWORKDAYS(C993+1,P993,Hoja1!F985:F1101))","v":""},{"$f":"IFERROR(IF(NETWORKDAYS(R993+1,P993,Hoja1!F985:F1101)<=0,\"\",NETWORKDAYS(R993+1,P993,Hoja1!F985:F1101)),0)","v":""},null,null,{"$f":"IFERROR(VLOOKUP(L993,Hoja1!$A$50:$C$63,2),\"\")","v":""},{"$f":"IFERROR(VLOOKUP(L993,Hoja1!$A$50:$C$63,3),\"\")","v":""}]
[null,null,null,null,null,null,null,null,null,null,null,null,null,null,null,null,null,null,null,null,null,{"$f":"IFERROR(WORKDAY(T994,AE994,Hoja1!F986:F1102),\"\")","v":""},"",null,"",{"$f":"IF(P994=\"\",\"\",NETWORKDAYS(C994+1,P994,Hoja1!F986:F1102))","v":""},{"$f":"IFERROR(IF(NETWORKDAYS(R994+1,P994,Hoja1!F986:F1102)<=0,\"\",NETWORKDAYS(R994+1,P994,Hoja1!F986:F1102)),0)","v":""},null,null,{"$f":"IFERROR(VLOOKUP(L994,Hoja1!$A$50:$C$63,2),\"\")","v":""},{"$f":"IFERROR(VLOOKUP(L994,Hoja1!$A$50:$C$63,3),\"\")","v":""}]
[null,null,null,null,null,null,null,null,null,null,null,null,null,null,null,null,null,null,null,null,null,{"$f":"IFERROR(WORKDAY(T995,AE995,Hoja1!F987:F1103),\"\")","v":""},"",null,"",{"$f":"IF(P995=\"\",\"\",NETWORKDAYS(C995+1,P995,Hoja1!F987:F1103))","v":""},{"$f":"IFERROR(IF(NETWORKDAYS(R995+1,P995,Hoja1!F987:F1103)<=0,\"\",NETWORKDAYS(R995+1,P995,Hoja1!F987:F1103)),0)","v":""},null,null,{"$f":"IFERROR(VLOOKUP(L995,Hoja1!$A$50:$C$63,2),\"\")","v":""},{"$f":"IFERROR(VLOOKUP(L995,Hoja1!$A$50:$C$63,3),\"\")","v":""}]
[null,null,null,null,null,null,null,null,null,null,null,null,null,null,null,null,null,null,null,null,null,{"$f":"IFERROR(WORKDAY(T996,AE996,Hoja1!F988:F1104),\"\")","v":""},"",null,"",{"$f":"IF(P996=\"\",\"\",NETWORKDAYS(C996+1,P996,Hoja1!F988:F1104))","v":""},{"$f":"IFERROR(IF(NETWORKDAYS(R996+1,P996,Hoja1!F988:F1104)<=0,\"\",NETWORKDAYS(R996+1,P996,Hoja1!F988:F1104)),0)","v":""},null,null,{"$f":"IFERROR(VLOOKUP(L996,Hoja1!$A$50:$C$63,2),\"\")","v":""},{"$f":"IFERROR(VLOOKUP(L996,Hoja1!$A$50:$C$63,3),\"\")","v":""}]
[null,null,null,null,null,null,null,null,null,null,null,null,null,null,null,null,null,null,null,null,null,{"$f":"IFERROR(WORKDAY(T997,AE997,Hoja1!F989:F1105),\"\")","v":""},"",null,"",{"$f":"IF(P997=\"\",\"\",NETWORKDAYS(C997+1,P997,Hoja1!F989:F1105))","v":""},{"$f":"IFERROR(IF(NETWORKDAYS(R997+1,P997,Hoja1!F989:F1105)<=0,\"\",NETWORKDAYS(R997+1,P997,Hoja1!F989:F1105)),0)","v":""},null,null,{"$f":"IFERROR(VLOOKUP(L997,Hoja1!$A$50:$C$63,2),\"\")","v":""},{"$f":"IFERROR(VLOOKUP(L997,Hoja1!$A$50:$C$63,3),\"\")","v":""}]
[null,null,null,null,null,null,null,null,null,null,null,null,null,null,null,null,null,null,null,null,null,{"$f":"IFERROR(WORKDAY(T998,AE998,Hoja1!F990:F1106),\"\")","v":""},"",null,"",{"$f":"IF(P998=\"\",\"\",NETWORKDAYS(C998+1,P998,Hoja1!F990:F1106))","v":""},{"$f":"IFERROR(IF(NETWORKDAYS(R998+1,P998,Hoja1!F990:F1106)<=0,\"\",NETWORKDAYS(R998+1,P998,Hoja1!F990:F1106)),0)","v":""},null,null,{"$f":"IFERROR(VLOOKUP(L998,Hoja1!$A$50:$C$63,2),\"\")","v":""},{"$f":"IFERROR(VLOOKUP(L998,Hoja1!$A$50:$C$63,3),\"\")","v":""}]
[null,null,null,null,null,null,null,null,null,null,null,null,null,null,null,null,null,null,null,null,null,{"$f":"IFERROR(WORKDAY(T999,AE999,Hoja1!F991:F1107),\"\")","v":""},"",null,"",{"$f":"IF(P999=\"\",\"\",NETWORKDAYS(C999+1,P999,Hoja1!F991:F1107))","v":""},{"$f":"IFERROR(IF(NETWORKDAYS(R999+1,P999,Hoja1!F991:F1107)<=0,\"\",NETWORKDAYS(R999+1,P999,Hoja1!F991:F1107)),0)","v":""},null,null,{"$f":"IFERROR(VLOOKUP(L999,Hoja1!$A$50:$C$63,2),\"\")","v":""},{"$f":"IFERROR(VLOOKUP(L999,Hoja1!$A$50:$C$63,3),\"\")","v":""}]
[null,null,null,null,null,null,null,null,null,null,null,null,null,null,null,null,null,null,null,null,null,{"$f":"IFERROR(WORKDAY(T1000,AE1000,Hoja1!F992:F1108),\"\")","v":""},"",null,"",{"$f":"IF(P1000=\"\",\"\",NETWORKDAYS(C1000+1,P1000,Hoja1!F992:F1108))","v":""},{"$f":"IFERROR(IF(NETWORKDAYS(R1000+1,P1000,Hoja1!F992:F1108)<=0,\"\",NETWORKDAYS(R1000+1,P1000,Hoja1!F992:F1108)),0)","v":""},null,null,{"$f":"IFERROR(VLOOKUP(L1000,Hoja1!$A$50:$C$63,2),\"\")","v":""},{"$f":"IFERROR(VLOOKUP(L1000,Hoja1!$A$50:$C$63,3),\"\")","v":""}]
[null,null,null,null,null,null,null,null,null,null,null,null,null,null,null,null,null,null,null,null,null,{"$f":"IFERROR(WORKDAY(T1002,AE1002,Hoja1!F994:F1110),\"\")","v":""},"",null,"",{"$f":"IF(P1002=\"\",\"\",NETWORKDAYS(C1002+1,P1002,Hoja1!F994:F1110))","v":""},{"$f":"IFERROR(IF(NETWORKDAYS(R1002+1,P1002,Hoja1!F994:F1110)<=0,\"\",NETWORKDAYS(R1002+1,P1002,Hoja1!F994:F1110)),0)","v":""},null,null,{"$f":"IFERROR(VLOOKUP(L1002,Hoja1!$A$50:$C$63,2),\"\")","v":""},{"$f":"IFERROR(VLOOKUP(L1002,Hoja1!$A$50:$C$63,3),\"\")","v":""}]
[null,null,null,null,null,null,null,null,null,null,null,null,null,null,null,null,null,null,null,null,null,{"$f":"IFERROR(WORKDAY(T1007,AE1007,Hoja1!F999:F1115),\"\")","v":""},"",null,"",{"$f":"IF(P1007=\"\",\"\",NETWORKDAYS(C1007+1,P1007,Hoja1!F999:F1115))","v":""},{"$f":"IFERROR(IF(NETWORKDAYS(R1007+1,P1007,Hoja1!F999:F1115)<=0,\"\",NETWORKDAYS(R1007+1,P1007,Hoja1!F999:F1115)),0)","v":""},null,null,{"$f":"IFERROR(VLOOKUP(L1007,Hoja1!$A$50:$C$63,2),\"\")","v":""},{"$f":"IFERROR(VLOOKUP(L1007,Hoja1!$A$50:$C$63,3),\"\")","v":""}]
[null,null,null,null,null,null,null,null,null,null,null,null,null,null,null,null,null,null,null,null,null,{"$f":"IFERROR(WORKDAY(T1010,AE1010,Hoja1!F1002:F1118),\"\")","v":""},"",null,"",{"$f":"IF(P1010=\"\",\"\",NETWORKDAYS(C1010+1,P1010,Hoja1!F1002:F1118))","v":""},{"$f":"IFERROR(IF(NETWORKDAYS(R1010+1,P1010,Hoja1!F1002:F1118)<=0,\"\",NETWORKDAYS(R1010+1,P1010,Hoja1!F1002:F1118)),0)","v":""},null,null,{"$f":"IFERROR(VLOOKUP(L1010,Hoja1!$A$50:$C$63,2),\"\")","v":""},{"$f":"IFERROR(VLOOKUP(L1010,Hoja1!$A$50:$C$63,3),\"\")","v":""}]
[null,null,null,null,null,null,null,null,null,null,null,null,null,null,null,null,null,null,null,null,null,{"$f":"IFERROR(WORKDAY(T1014,AE1014,Hoja1!F1006:F1122),\"\")","v":""},"",null,"",{"$f":"IF(P1014=\"\",\"\",NETWORKDAYS(C1014+1,P1014,Hoja1!F1006:F1122))","v":""},{"$f":"IFERROR(IF(NETWORKDAYS(R1014+1,P1014,Hoja1!F1006:F1122)<=0,\"\",NETWORKDAYS(R1014+1,P1014,Hoja1!F1006:F1122)),0)","v":""},null,null,{"$f":"IFERROR(VLOOKUP(L1014,Hoja1!$A$50:$C$63,2),\"\")","v":""},{"$f":"IFERROR(VLOOKUP(L1014,Hoja1!$A$50:$C$63,3),\"\")","v":""}]
[null,null,null,null,null,null,null,null,null,null,null,null,null,null,null,null,null,null,null,null,null,{"$f":"IFERROR(WORKDAY(T1020,AE1020,Hoja1!F1012:F1128),\"\")","v":""},"",null,"",{"$f":"IF(P1020=\"\",\"\",NETWORKDAYS(C1020+1,P1020,Hoja1!F1012:F1128))","v":""},{"$f":"IFERROR(IF(NETWORKDAYS(R1020+1,P1020,Hoja1!F1012:F1128)<=0,\"\",NETWORKDAYS(R1020+1,P1020,Hoja1!F1012:F1128)),0)","v":""},null,null,{"$f":"IFERROR(VLOOKUP(L1020,Hoja1!$A$50:$C$63,2),\"\")","v":""},{"$f":"IFERROR(VLOOKUP(L1020,Hoja1!$A$50:$C$63,3),\"\")","v":""}]
[null,null,null,null,null,null,null,null,null,null,null,null,null,null,null,null,null,null,null,null,null,{"$f":"IFERROR(WORKDAY(T1025,AE1025,Hoja1!F1017:F1133),\"\")","v":""},"",null,"",{"$f":"IF(P1025=\"\",\"\",NETWORKDAYS(C1025+1,P1025,Hoja1!F1017:F1133))","v":""},{"$f":"IFERROR(IF(NETWORKDAYS(R1025+1,P1025,Hoja1!F1017:F1133)<=0,\"\",NETWORKDAYS(R1025+1,P1025,Hoja1!F1017:F1133)),0)","v":""},null,null,{"$f":"IFERROR(VLOOKUP(L1025,Hoja1!$A$50:$C$63,2),\"\")","v":""},{"$f":"IFERROR(VLOOKUP(L1025,Hoja1!$A$50:$C$63,3),\"\")","v":""}]
[null,null,null,null,null,null,null,null,null,null,null,null,null,null,null,null,null,null,null,null,null,{"$f":"IFERROR(WORKDAY(T1030,AE1030,Hoja1!F1022:F1138),\"\")","v":""},"",null,"",{"$f":"IF(P1030=\"\",\"\",NETWORKDAYS(C1030+1,P1030,Hoja1!F1022:F1138))","v":""},{"$f":"IFERROR(IF(NETWORKDAYS(R1030+1,P1030,Hoja1!F1022:F1138)<=0,\"\",NETWORKDAYS(R1030+1,P1030,Hoja1!F1022:F1138)),0)","v":""},null,null,{"$f":"IFERROR(VLOOKUP(L1030,Hoja1!$A$50:$C$63,2),\"\")","v":""},{"$f":"IFERROR(VLOOKUP(L1030,Hoja1!$A$50:$C$63,3),\"\")","v":""}]
[null,null,null,null,null,null,null,null,null,null,null,null,null,null,null,null,null,null,null,null,null,{"$f":"IFERROR(WORKDAY(T1032,AE1032,Hoja1!F1024:F1140),\"\")","v":""},"",null,"",{"$f":"IF(P1032=\"\",\"\",NETWORKDAYS(C1032+1,P1032,Hoja1!F1024:F1140))","v":""},{"$f":"IFERROR(IF(NETWORKDAYS(R1032+1,P1032,Hoja1!F1024:F1140)<=0,\"\",NETWORKDAYS(R1032+1,P1032,Hoja1!F1024:F1140)),0)","v":""},null,null,{"$f":"IFERROR(VLOOKUP(L1032,Hoja1!$A$50:$C$63,2),\"\")","v":""},{"$f":"IFERROR(VLOOKUP(L1032,Hoja1!$A$50:$C$63,3),\"\")","v":""}]
[null,null,null,null,null,null,null,null,null,null,null,null,null,null,null,null,null,null,null,null,null,{"$f":"IFERROR(WORKDAY(T1037,AE1037,Hoja1!F1029:F1145),\"\")","v":""},"",null,"",{"$f":"IF(P1037=\"\",\"\",NETWORKDAYS(C1037+1,P1037,Hoja1!F1029:F1145))","v":""},{"$f":"IFERROR(IF(NETWORKDAYS(R1037+1,P1037,Hoja1!F1029:F1145)<=0,\"\",NETWORKDAYS(R1037+1,P1037,Hoja1!F1029:F1145)),0)","v":""},null,null,{"$f":"IFERROR(VLOOKUP(L1037,Hoja1!$A$50:$C$63,2),\"\")","v":""},{"$f":"IFERROR(VLOOKUP(L1037,Hoja1!$A$50:$C$63,3),\"\")","v":""}]
[null,null,null,null,null,null,null,null,null,null,null,null,null,null,null,null,null,null,null,null,null,{"$f":"IFERROR(WORKDAY(T1044,AE1044,Hoja1!F1036:F1152),\"\")","v":""},"",null,"",{"$f":"IF(P1044=\"\",\"\",NETWORKDAYS(C1044+1,P1044,Hoja1!F1036:F1152))","v":""},{"$f":"IFERROR(IF(NETWORKDAYS(R1044+1,P1044,Hoja1!F1036:F1152)<=0,\"\",NETWORKDAYS(R1044+1,P1044,Hoja1!F1036:F1152)),0)","v":""},null,null,{"$f":"IFERROR(VLOOKUP(L1044,Hoja1!$A$50:$C$63,2),\"\")","v":""},{"$f":"IFERROR(VLOOKUP(L1044,Hoja1!$A$50:$C$63,3),\"\")","v":""}]
[null,null,null,null,null,null,null,null,null,null,null,null,null,null,null,null,null,null,null,null,null,{"$f":"IFERROR(WORKDAY(T1048,AE1048,Hoja1!F1040:F1156),\"\")","v":""},"",null,"",{"$f":"IF(P1048=\"\",\"\",NETWORKDAYS(C1048+1,P1048,Hoja1!F1040:F1156))","v":""},{"$f":"IFERROR(IF(NETWORKDAYS(R1048+1,P1048,Hoja1!F1040:F1156)<=0,\"\",NETWORKDAYS(R1048+1,P1048,Hoja1!F1040:F1156)),0)","v":""},null,null,{"$f":"IFERROR(VLOOKUP(L1048,Hoja1!$A$50:$C$63,2),\"\")","v":""},{"$f":"IFERROR(VLOOKUP(L1048,Hoja1!$A$50:$C$63,3),\"\")","v":""}]
[null,null,null,null,null,null,null,null,null,null,null,null,null,null,null,null,null,null,null,null,null,{"$f":"IFERROR(WORKDAY(T1049,AE1049,Hoja1!F1041:F1157),\"\")","v":""},"",null,"",{"$f":"IF(P1049=\"\",\"\",NETWORKDAYS(C1049+1,P1049,Hoja1!F1041:F1157))","v":""},{"$f":"IFERROR(IF(NETWORKDAYS(R1049+1,P1049,Hoja1!F1041:F1157)<=0,\"\",NETWORKDAYS(R1049+1,P1049,Hoja1!F1041:F1157)),0)","v":""},null,null,{"$f":"IFERROR(VLOOKUP(L1049,Hoja1!$A$50:$C$63,2),\"\")","v":""},{"$f":"IFERROR(VLOOKUP(L1049,Hoja1!$A$50:$C$63,3),\"\")","v":""}]
[null,null,null,null,null,null,null,null,null,null,null,null,null,null,null,null,null,null,null,null,null,{"$f":"IFERROR(WORKDAY(T1055,AE1055,Hoja1!F1047:F1163),\"\")","v":""},"",null,"",{"$f":"IF(P1055=\"\",\"\",NETWORKDAYS(C1055+1,P1055,Hoja1!F1047:F1163))","v":""},{"$f":"IFERROR(IF(NETWORKDAYS(R1055+1,P1055,Hoja1!F1047:F1163)<=0,\"\",NETWORKDAYS(R1055+1,P1055,Hoja1!F1047:F1163)),0)","v":""},null,null,{"$f":"IFERROR(VLOOKUP(L1055,Hoja1!$A$50:$C$63,2),\"\")","v":""},{"$f":"IFERROR(VLOOKUP(L1055,Hoja1!$A$50:$C$63,3),\"\")","v":""}]
[null,null,null,null,null,null,null,null,null,null,null,null,null,null,null,null,null,null,null,null,null,{"$f":"IFERROR(WORKDAY(T1058,AE1058,Hoja1!F1050:F1166),\"\")","v":""},"",null,"",{"$f":"IF(P1058=\"\",\"\",NETWORKDAYS(C1058+1,P1058,Hoja1!F1050:F1166))","v":""},{"$f":"IFERROR(IF(NETWORKDAYS(R1058+1,P1058,Hoja1!F1050:F1166)<=0,\"\",NETWORKDAYS(R1058+1,P1058,Hoja1!F1050:F1166)),0)","v":""},null,null,{"$f":"IFERROR(VLOOKUP(L1058,Hoja1!$A$50:$C$63,2),\"\")","v":""},{"$f":"IFERROR(VLOOKUP(L1058,Hoja1!$A$50:$C$63,3),\"\")","v":""}]
[null,null,null,null,null,null,null,null,null,null,null,null,null,null,null,null,null,null,null,null,null,{"$f":"IFERROR(WORKDAY(T1066,AE1066,Hoja1!F1058:F1174),\"\")","v":""},"",null,"",{"$f":"IF(P1066=\"\",\"\",NETWORKDAYS(C1066+1,P1066,Hoja1!F1058:F1174))","v":""},{"$f":"IFERROR(IF(NETWORKDAYS(R1066+1,P1066,Hoja1!F1058:F1174)<=0,\"\",NETWORKDAYS(R1066+1,P1066,Hoja1!F1058:F1174)),0)","v":""},null,null,{"$f":"IFERROR(VLOOKUP(L1066,Hoja1!$A$50:$C$63,2),\"\")","v":""},{"$f":"IFERROR(VLOOKUP(L1066,Hoja1!$A$50:$C$63,3),\"\")","v":""}]
[null,null,null,null,null,null,null,null,null,null,null,null,null,null,null,null,null,null,null,null,null,{"$f":"IFERROR(WORKDAY(T1067,AE1067,Hoja1!F1059:F1175),\"\")","v":""},"",null,"",{"$f":"IF(P1067=\"\",\"\",NETWORKDAYS(C1067+1,P1067,Hoja1!F1059:F1175))","v":""},{"$f":"IFERROR(IF(NETWORKDAYS(R1067+1,P1067,Hoja1!F1059:F1175)<=0,\"\",NETWORKDAYS(R1067+1,P1067,Hoja1!F1059:F1175)),0)","v":""},null,null,{"$f":"IFERROR(VLOOKUP(L1067,Hoja1!$A$50:$C$63,2),\"\")","v":""},{"$f":"IFERROR(VLOOKUP(L1067,Hoja1!$A$50:$C$63,3),\"\")","v":""}]
[null,null,null,null,null,null,null,null,null,null,null,null,null,null,null,null,null,null,null,null,null,{"$f":"IFERROR(WORKDAY(T1073,AE1073,Hoja1!F1065:F1181),\"\")","v":""},"",null,"",{"$f":"IF(P1073=\"\",\"\",NETWORKDAYS(C1073+1,P1073,Hoja1!F1065:F1181))","v":""},{"$f":"IFERROR(IF(NETWORKDAYS(R1073+1,P1073,Hoja1!F1065:F1181)<=0,\"\",NETWORKDAYS(R1073+1,P1073,Hoja1!F1065:F1181)),0)","v":""},null,null,{"$f":"IFERROR(VLOOKUP(L1073,Hoja1!$A$50:$C$63,2),\"\")","v":""},{"$f":"IFERROR(VLOOKUP(L1073,Hoja1!$A$50:$C$63,3),\"\")","v":""}]
[null,null,null,null,null,null,null,null,null,null,null,null,null,null,null,null,null,null,null,null,null,{"$f":"IFERROR(WORKDAY(T1078,AE1078,Hoja1!F1070:F1186),\"\")","v":""},"",null,"",{"$f":"IF(P1078=\"\",\"\",NETWORKDAYS(C1078+1,P1078,Hoja1!F1070:F1186))","v":""},{"$f":"IFERROR(IF(NETWORKDAYS(R1078+1,P1078,Hoja1!F1070:F1186)<=0,\"\",NETWORKDAYS(R1078+1,P1078,Hoja1!F1070:F1186)),0)","v":""},null,null,{"$f":"IFERROR(VLOOKUP(L1078,Hoja1!$A$50:$C$63,2),\"\")","v":""},{"$f":"IFERROR(VLOOKUP(L1078,Hoja1!$A$50:$C$63,3),\"\")","v":""}]
[null,null,null,null,null,null,null,null,null,null,null,null,null,null,null,null,null,null,null,null,null,{"$f":"IFERROR(WORKDAY(T1082,AE1082,Hoja1!F1074:F1190),\"\")","v":""},"",null,"",{"$f":"IF(P1082=\"\",\"\",NETWORKDAYS(C1082+1,P1082,Hoja1!F1074:F1190))","v":""},{"$f":"IFERROR(IF(NETWORKDAYS(R1082+1,P1082,Hoja1!F1074:F1190)<=0,\"\",NETWORKDAYS(R1082+1,P1082,Hoja1!F1074:F1190)),0)","v":""},null,null,{"$f":"IFERROR(VLOOKUP(L1082,Hoja1!$A$50:$C$63,2),\"\")","v":""},{"$f":"IFERROR(VLOOKUP(L1082,Hoja1!$A$50:$C$63,3),\"\")","v":""}]
[null,null,null,null,null,null,null,null,null,null,null,null,null,null,null,null,null,null,null,null,null,{"$f":"IFERROR(WORKDAY(T1085,AE1085,Hoja1!F1077:F1193),\"\")","v":""},"",null,"",{"$f":"IF(P1085=\"\",\"\",NETWORKDAYS(C1085+1,P1085,Hoja1!F1077:F1193))","v":""},{"$f":"IFERROR(IF(NETWORKDAYS(R1085+1,P1085,Hoja1!F1077:F1193)<=0,\"\",NETWORKDAYS(R1085+1,P1085,Hoja1!F1077:F1193)),0)","v":""},null,null,{"$f":"IFERROR(VLOOKUP(L1085,Hoja1!$A$50:$C$63,2),\"\")","v":""},{"$f":"IFERROR(VLOOKUP(L1085,Hoja1!$A$50:$C$63,3),\"\")","v":""}]
[null,null,null,null,null,null,null,null,null,null,null,null,null,null,null,null,null,null,null,null,null,{"$f":"IFERROR(WORKDAY(T1092,AE1092,Hoja1!F1084:F1200),\"\")","v":""},"",null,"",{"$f":"IF(P1092=\"\",\"\",NETWORKDAYS(C1092+1,P1092,Hoja1!F1084:F1200))","v":""},{"$f":"IFERROR(IF(NETWORKDAYS(R1092+1,P1092,Hoja1!F1084:F1200)<=0,\"\",NETWORKDAYS(R1092+1,P1092,Hoja1!F1084:F1200)),0)","v":""},null,null,{"$f":"IFERROR(VLOOKUP(L1092,Hoja1!$A$50:$C$63,2),\"\")","v":""},{"$f":"IFERROR(VLOOKUP(L1092,Hoja1!$A$50:$C$63,3),\"\")","v":""}]
[null,null,null,null,null,null,null,null,null,null,null,null,null,null,null,null,null,null,null,null,null,{"$f":"IFERROR(WORKDAY(T1096,AE1096,Hoja1!F1088:F1204),\"\")","v":""},"",null,"",{"$f":"IF(P1096=\"\",\"\",NETWORKDAYS(C1096+1,P1096,Hoja1!F1088:F1204))","v":""},{"$f":"IFERROR(IF(NETWORKDAYS(R1096+1,P1096,Hoja1!F1088:F1204)<=0,\"\",NETWORKDAYS(R1096+1,P1096,Hoja1!F1088:F1204)),0)","v":""},null,null,{"$f":"IFERROR(VLOOKUP(L1096,Hoja1!$A$50:$C$63,2),\"\")","v":""},{"$f":"IFERROR(VLOOKUP(L1096,Hoja1!$A$50:$C$63,3),\"\")","v":""}]
[null,null,null,null,null,null,null,null,null,null,null,null,null,null,null,null,null,null,null,null,null,{"$f":"IFERROR(WORKDAY(T1101,AE1101,Hoja1!F1093:F1209),\"\")","v":""},"",null,"",{"$f":"IF(P1101=\"\",\"\",NETWORKDAYS(C1101+1,P1101,Hoja1!F1093:F1209))","v":""},{"$f":"IFERROR(IF(NETWORKDAYS(R1101+1,P1101,Hoja1!F1093:F1209)<=0,\"\",NETWORKDAYS(R1101+1,P1101,Hoja1!F1093:F1209)),0)","v":""},null,null,{"$f":"IFERROR(VLOOKUP(L1101,Hoja1!$A$50:$C$63,2),\"\")","v":""},{"$f":"IFERROR(VLOOKUP(L1101,Hoja1!$A$50:$C$63,3),\"\")","v":""}]
[null,null,null,null,null,null,null,null,null,null,null,null,null,null,null,null,null,null,null,null,null,{"$f":"IFERROR(WORKDAY(T1106,AE1106,Hoja1!F1098:F1214),\"\")","v":""},"",null,"",{"$f":"IF(P1106=\"\",\"\",NETWORKDAYS(C1106+1,P1106,Hoja1!F1098:F1214))","v":""},{"$f":"IFERROR(IF(NETWORKDAYS(R1106+1,P1106,Hoja1!F1098:F1214)<=0,\"\",NETWORKDAYS(R1106+1,P1106,Hoja1!F1098:F1214)),0)","v":""},null,null,{"$f":"IFERROR(VLOOKUP(L1106,Hoja1!$A$50:$C$63,2),\"\")","v":""},{"$f":"IFERROR(VLOOKUP(L1106,Hoja1!$A$50:$C$63,3),\"\")","v":""}]
[null,null,null,null,null,null,null,null,null,null,null,null,null,null,null,null,null,null,null,null,null,{"$f":"IFERROR(WORKDAY(T1108,AE1108,Hoja1!F1100:F1216),\"\")","v":""},"",null,"",{"$f":"IF(P1108=\"\",\"\",NETWORKDAYS(C1108+1,P1108,Hoja1!F1100:F1216))","v":""},{"$f":"IFERROR(IF(NETWORKDAYS(R1108+1,P1108,Hoja1!F1100:F1216)<=0,\"\",NETWORKDAYS(R1108+1,P1108,Hoja1!F1100:F1216)),0)","v":""},null,null,{"$f":"IFERROR(VLOOKUP(L1108,Hoja1!$A$50:$C$63,2),\"\")","v":""},{"$f":"IFERROR(VLOOKUP(L1108,Hoja1!$A$50:$C$63,3),\"\")","v":""}]
[null,null,null,null,null,null,null,null,null,null,null,null,null,null,null,null,null,null,null,null,null,{"$f":"IFERROR(WORKDAY(T1111,AE1111,Hoja1!F1103:F1219),\"\")","v":""},"",null,"",{"$f":"IF(P1111=\"\",\"\",NETWORKDAYS(C1111+1,P1111,Hoja1!F1103:F1219))","v":""},{"$f":"IFERROR(IF(NETWORKDAYS(R1111+1,P1111,Hoja1!F1103:F1219)<=0,\"\",NETWORKDAYS(R1111+1,P1111,Hoja1!F1103:F1219)),0)","v":""},null,null,{"$f":"IFERROR(VLOOKUP(L1111,Hoja1!$A$50:$C$63,2),\"\")","v":""},{"$f":"IFERROR(VLOOKUP(L1111,Hoja1!$A$50:$C$63,3),\"\")","v":""}]
[null,null,null,null,null,null,null,null,null,null,null,null,null,null,null,null,null,null,null,null,null,{"$f":"IFERROR(WORKDAY(T1119,AE1119,Hoja1!F1111:F1227),\"\")","v":""},"",null,"",{"$f":"IF(P1119=\"\",\"\",NETWORKDAYS(C1119+1,P1119,Hoja1!F1111:F1227))","v":""},{"$f":"IFERROR(IF(NETWORKDAYS(R1119+1,P1119,Hoja1!F1111:F1227)<=0,\"\",NETWORKDAYS(R1119+1,P1119,Hoja1!F1111:F1227)),0)","v":""},null,null,{"$f":"IFERROR(VLOOKUP(L1119,Hoja1!$A$50:$C$63,2),\"\")","v":""},{"$f":"IFERROR(VLOOKUP(L1119,Hoja1!$A$50:$C$63,3),\"\")","v":""}]
[null,null,null,null,null,null,null,null,null,null,null,null,null,null,null,null,null,null,null,null,null,{"$f":"IFERROR(WORKDAY(T1121,AE1121,Hoja1!F1113:F1229),\"\")","v":""},"",null,"",{"$f":"IF(P1121=\"\",\"\",NETWORKDAYS(C1121+1,P1121,Hoja1!F1113:F1229))","v":""},{"$f":"IFERROR(IF(NETWORKDAYS(R1121+1,P1121,Hoja1!F1113:F1229)<=0,\"\",NETWORKDAYS(R1121+1,P1121,Hoja1!F1113:F1229)),0)","v":""},null,null,{"$f":"IFERROR(VLOOKUP(L1121,Hoja1!$A$50:$C$63,2),\"\")","v":""},{"$f":"IFERROR(VLOOKUP(L1121,Hoja1!$A$50:$C$63,3),\"\")","v":""}]
[null,null,null,null,null,null,null,null,null,null,null,null,null,null,null,null,null,null,null,null,null,{"$f":"IFERROR(WORKDAY(T1126,AE1126,Hoja1!F1118:F1234),\"\")","v":""},"",null,"",{"$f":"IF(P1126=\"\",\"\",NETWORKDAYS(C1126+1,P1126,Hoja1!F1118:F1234))","v":""},{"$f":"IFERROR(IF(NETWORKDAYS(R1126+1,P1126,Hoja1!F1118:F1234)<=0,\"\",NETWORKDAYS(R1126+1,P1126,Hoja1!F1118:F1234)),0)","v":""},null,null,{"$f":"IFERROR(VLOOKUP(L1126,Hoja1!$A$50:$C$63,2),\"\")","v":""},{"$f":"IFERROR(VLOOKUP(L1126,Hoja1!$A$50:$C$63,3),\"\")","v":""}]
[null,null,null,null,null,null,null,null,null,null,null,null,null,null,null,null,null,null,null,null,null,{"$f":"IFERROR(WORKDAY(T1131,AE1131,Hoja1!F1123:F1239),\"\")","v":""},"",null,"",{"$f":"IF(P1131=\"\",\"\",NETWORKDAYS(C1131+1,P1131,Hoja1!F1123:F1239))","v":""},{"$f":"IFERROR(IF(NETWORKDAYS(R1131+1,P1131,Hoja1!F1123:F1239)<=0,\"\",NETWORKDAYS(R1131+1,P1131,Hoja1!F1123:F1239)),0)","v":""},null,null,{"$f":"IFERROR(VLOOKUP(L1131,Hoja1!$A$50:$C$63,2),\"\")","v":""},{"$f":"IFERROR(VLOOKUP(L1131,Hoja1!$A$50:$C$63,3),\"\")","v":""}]
[null,null,null,null,null,null,null,null,null,null,null,null,null,null,null,null,null,null,null,null,null,{"$f":"IFERROR(WORKDAY(T1135,AE1135,Hoja1!F1127:F1243),\"\")","v":""},"",null,"",{"$f":"IF(P1135=\"\",\"\",NETWORKDAYS(C1135+1,P1135,Hoja1!F1127:F1243))","v":""},{"$f":"IFERROR(IF(NETWORKDAYS(R1135+1,P1135,Hoja1!F1127:F1243)<=0,\"\",NETWORKDAYS(R1135+1,P1135,Hoja1!F1127:F1243)),0)","v":""},null,null,{"$f":"IFERROR(VLOOKUP(L1135,Hoja1!$A$50:$C$63,2),\"\")","v":""},{"$f":"IFERROR(VLOOKUP(L1135,Hoja1!$A$50:$C$63,3),\"\")","v":""}]
[null,null,null,null,null,null,null,null,null,null,null,null,null,null,null,null,null,null,null,null,null,{"$f":"IFERROR(WORKDAY(T1138,AE1138,Hoja1!F1130:F1246),\"\")","v":""},"",null,"",{"$f":"IF(P1138=\"\",\"\",NETWORKDAYS(C1138+1,P1138,Hoja1!F1130:F1246))","v":""},{"$f":"IFERROR(IF(NETWORKDAYS(R1138+1,P1138,Hoja1!F1130:F1246)<=0,\"\",NETWORKDAYS(R1138+1,P1138,Hoja1!F1130:F1246)),0)","v":""},null,null,{"$f":"IFERROR(VLOOKUP(L1138,Hoja1!$A$50:$C$63,2),\"\")","v":""},{"$f":"IFERROR(VLOOKUP(L1138,Hoja1!$A$50:$C$63,3),\"\")","v":""}]
[null,null,null,null,null,null,null,null,null,null,null,null,null,null,null,null,null,null,null,null,null,{"$f":"IFERROR(WORKDAY(T1145,AE1145,Hoja1!F1137:F1253),\"\")","v":""},"",null,"",{"$f":"IF(P1145=\"\",\"\",NETWORKDAYS(C1145+1,P1145,Hoja1!F1137:F1253))","v":""},{"$f":"IFERROR(IF(NETWORKDAYS(R1145+1,P1145,Hoja1!F1137:F1253)<=0,\"\",NETWORKDAYS(R1145+1,P1145,Hoja1!F1137:F1253)),0)","v":""},null,null,{"$f":"IFERROR(VLOOKUP(L1145,Hoja1!$A$50:$C$63,2),\"\")","v":""},{"$f":"IFERROR(VLOOKUP(L1145,Hoja1!$A$50:$C$63,3),\"\")","v":""}]
[null,null,null,null,null,null,null,null,null,null,null,null,null,null,null,null,null,null,null,null,null,{"$f":"IFERROR(WORKDAY(T1149,AE1149,Hoja1!F1141:F1257),\"\")","v":""},"",null,"",{"$f":"IF(P1149=\"\",\"\",NETWORKDAYS(C1149+1,P1149,Hoja1!F1141:F1257))","v":""},{"$f":"IFERROR(IF(NETWORKDAYS(R1149+1,P1149,Hoja1!F1141:F1257)<=0,\"\",NETWORKDAYS(R1149+1,P1149,Hoja1!F1141:F1257)),0)","v":""},null,null,{"$f":"IFERROR(VLOOKUP(L1149,Hoja1!$A$50:$C$63,2),\"\")","v":""},{"$f":"IFERROR(VLOOKUP(L1149,Hoja1!$A$50:$C$63,3),\"\")","v":""}]
[null,null,null,null,null,null,null,null,null,null,null,null,null,null,null,null,null,null,null,null,null,{"$f":"IFERROR(WORKDAY(T1154,AE1154,Hoja1!F1146:F1262),\"\")","v":""},"",null,"",{"$f":"IF(P1154=\"\",\"\",NETWORKDAYS(C1154+1,P1154,Hoja1!F1146:F1262))","v":""},{"$f":"IFERROR(IF(NETWORKDAYS(R1154+1,P1154,Hoja1!F1146:F1262)<=0,\"\",NETWORKDAYS(R1154+1,P1154,Hoja1!F1146:F1262)),0)","v":""},null,null,{"$f":"IFERROR(VLOOKUP(L1154,Hoja1!$A$50:$C$63,2),\"\")","v":""},{"$f":"IFERROR(VLOOKUP(L1154,Hoja1!$A$50:$C$63,3),\"\")","v":""}]
[null,null,null,null,null,null,null,null,null,null,null,null,null,null,null,null,null,null,null,null,null,{"$f":"IFERROR(WORKDAY(T1156,AE1156,Hoja1!F1148:F1264),\"\")","v":""},"",null,"",{"$f":"IF(P1156=\"\",\"\",NETWORKDAYS(C1156+1,P1156,Hoja1!F1148:F1264))","v":""},{"$f":"IFERROR(IF(NETWORKDAYS(R1156+1,P1156,Hoja1!F1148:F1264)<=0,\"\",NETWORKDAYS(R1156+1,P1156,Hoja1!F1148:F1264)),0)","v":""},null,null,{"$f":"IFERROR(VLOOKUP(L1156,Hoja1!$A$50:$C$63,2),\"\")","v":""},{"$f":"IFERROR(VLOOKUP(L1156,Hoja1!$A$50:$C$63,3),\"\")","v":""}]
[null,null,null,null,null,null,null,null,null,null,null,null,null,null,null,null,null,null,null,null,null,{"$f":"IFERROR(WORKDAY(T1161,AE1161,Hoja1!F1153:F1269),\"\")","v":""},"",null,"",{"$f":"IF(P1161=\"\",\"\",NETWORKDAYS(C1161+1,P1161,Hoja1!F1153:F1269))","v":""},{"$f":"IFERROR(IF(NETWORKDAYS(R1161+1,P1161,Hoja1!F1153:F1269)<=0,\"\",NETWORKDAYS(R1161+1,P1161,Hoja1!F1153:F1269)),0)","v":""},null,null,{"$f":"IFERROR(VLOOKUP(L1161,Hoja1!$A$50:$C$63,2),\"\")","v":""},{"$f":"IFERROR(VLOOKUP(L1161,Hoja1!$A$50:$C$63,3),\"\")","v":""}]
[null,null,null,null,null,null,null,null,null,null,null,null,null,null,null,null,null,null,null,null,null,{"$f":"IFERROR(WORKDAY(T1164,AE1164,Hoja1!F1156:F1272),\"\")","v":""},"",null,"",{"$f":"IF(P1164=\"\",\"\",NETWORKDAYS(C1164+1,P1164,Hoja1!F1156:F1272))","v":""},{"$f":"IFERROR(IF(NETWORKDAYS(R1164+1,P1164,Hoja1!F1156:F1272)<=0,\"\",NETWORKDAYS(R1164+1,P1164,Hoja1!F1156:F1272)),0)","v":""},null,null,{"$f":"IFERROR(VLOOKUP(L1164,Hoja1!$A$50:$C$63,2),\"\")","v":""},{"$f":"IFERROR(VLOOKUP(L1164,Hoja1!$A$50:$C$63,3),\"\")","v":""}]
[null,null,null,null,null,null,null,null,null,null,null,null,null,null,null,null,null,null,null,null,null,{"$f":"IFERROR(WORKDAY(T1172,AE1172,Hoja1!F1164:F1280),\"\")","v":""},"",null,"",{"$f":"IF(P1172=\"\",\"\",NETWORKDAYS(C1172+1,P1172,Hoja1!F1164:F1280))","v":""},{"$f":"IFERROR(IF(NETWORKDAYS(R1172+1,P1172,Hoja1!F1164:F1280)<=0,\"\",NETWORKDAYS(R1172+1,P1172,Hoja1!F1164:F1280)),0)","v":""},null,null,{"$f":"IFERROR(VLOOKUP(L1172,Hoja1!$A$50:$C$63,2),\"\")","v":""},{"$f":"IFERROR(VLOOKUP(L1172,Hoja1!$A$50:$C$63,3),\"\")","v":""}]
[null,null,null,null,null,null,null,null,null,null,null,null,null,null,null,null,null,null,null,null,null,{"$f":"IFERROR(WORKDAY(T1173,AE1173,Hoja1!F1165:F1281),\"\")","v":""},"",null,"",{"$f":"IF(P1173=\"\",\"\",NETWORKDAYS(C1173+1,P1173,Hoja1!F1165:F1281))","v":""},{"$f":"IFERROR(IF(NETWORKDAYS(R1173+1,P1173,Hoja1!F1165:F1281)<=0,\"\",NETWORKDAYS(R1173+1,P1173,Hoja1!F1165:F1281)),0)","v":""},null,null,{"$f":"IFERROR(VLOOKUP(L1173,Hoja1!$A$50:$C$63,2),\"\")","v":""},{"$f":"IFERROR(VLOOKUP(L1173,Hoja1!$A$50:$C$63,3),\"\")","v":""}]
[null,null,null,null,null,null,null,null,null,null,null,null,null,null,null,null,null,null,null,null,null,{"$f":"IFERROR(WORKDAY(T1179,AE1179,Hoja1!F1171:F1287),\"\")","v":""},"",null,"",{"$f":"IF(P1179=\"\",\"\",NETWORKDAYS(C1179+1,P1179,Hoja1!F1171:F1287))","v":""},{"$f":"IFERROR(IF(NETWORKDAYS(R1179+1,P1179,Hoja1!F1171:F1287)<=0,\"\",NETWORKDAYS(R1179+1,P1179,Hoja1!F1171:F1287)),0)","v":""},null,null,{"$f":"IFERROR(VLOOKUP(L1179,Hoja1!$A$50:$C$63,2),\"\")","v":""},{"$f":"IFERROR(VLOOKUP(L1179,Hoja1!$A$50:$C$63,3),\"\")","v":""}]
[null,null,null,null,null,null,null,null,null,null,null,null,null,null,null,null,null,null,null,null,null,{"$f":"IFERROR(WORKDAY(T1183,AE1183,Hoja1!F1175:F1291),\"\")","v":""},"",null,"",{"$f":"IF(P1183=\"\",\"\",NETWORKDAYS(C1183+1,P1183,Hoja1!F1175:F1291))","v":""},{"$f":"IFERROR(IF(NETWORKDAYS(R1183+1,P1183,Hoja1!F1175:F1291)<=0,\"\",NETWORKDAYS(R1183+1,P1183,Hoja1!F1175:F1291)),0)","v":""},null,null,{"$f":"IFERROR(VLOOKUP(L1183,Hoja1!$A$50:$C$63,2),\"\")","v":""},{"$f":"IFERROR(VLOOKUP(L1183,Hoja1!$A$50:$C$63,3),\"\")","v":""}]
[null,null,null,null,null,null,null,null,null,null,null,null,null,null,null,null,null,null,null,null,null,{"$f":"IFERROR(WORKDAY(T1190,AE1190,Hoja1!F1182:F1298),\"\")","v":""},"",null,"",{"$f":"IF(P1190=\"\",\"\",NETWORKDAYS(C1190+1,P1190,Hoja1!F1182:F1298))","v":""},{"$f":"IFERROR(IF(NETWORKDAYS(R1190+1,P1190,Hoja1!F1182:F1298)<=0,\"\",NETWORKDAYS(R1190+1,P1190,Hoja1!F1182:F1298)),0)","v":""},null,null,{"$f":"IFERROR(VLOOKUP(L1190,Hoja1!$A$50:$C$63,2),\"\")","v":""},{"$f":"IFERROR(VLOOKUP(L1190,Hoja1!$A$50:$C$63,3),\"\")","v":""}]
[null,null,null,null,null,null,null,null,null,null,null,null,null,null,null,null,null,null,null,null,null,{"$f":"IFERROR(WORKDAY(T1191,AE1191,Hoja1!F1183:F1299),\"\")","v":""},"",null,"",{"$f":"IF(P1191=\"\",\"\",NETWORKDAYS(C1191+1,P1191,Hoja1!F1183:F1299))","v":""},{"$f":"IFERROR(IF(NETWORKDAYS(R1191+1,P1191,Hoja1!F1183:F1299)<=0,\"\",NETWORKDAYS(R1191+1,P1191,Hoja1!F1183:F1299)),0)","v":""},null,null,{"$f":"IFERROR(VLOOKUP(L1191,Hoja1!$A$50:$C$63,2),\"\")","v":""},{"$f":"IFERROR(VLOOKUP(L1191,Hoja1!$A$50:$C$63,3),\"\")","v":""}]
[null,null,null,null,null,null,null,null,null,null,null,null,null,null,null,null,null,null,null,null,null,{"$f":"IFERROR(WORKDAY(T1197,AE1197,Hoja1!F1189:F1305),\"\")","v":""},"",null,"",{"$f":"IF(P1197=\"\",\"\",NETWORKDAYS(C1197+1,P1197,Hoja1!F1189:F1305))","v":""},{"$f":"IFERROR(IF(NETWORKDAYS(R1197+1,P1197,Hoja1!F1189:F1305)<=0,\"\",NETWORKDAYS(R1197+1,P1197,Hoja1!F1189:F1305)),0)","v":""},null,null,{"$f":"IFERROR(VLOOKUP(L1197,Hoja1!$A$50:$C$63,2),\"\")","v":""},{"$f":"IFERROR(VLOOKUP(L1197,Hoja1!$A$50:$C$63,3),\"\")","v":""}]
[null,null,null,null,null,null,null,null,null,null,null,null,null,null,null,null,null,null,null,null,null,{"$f":"IFERROR(WORKDAY(T1202,AE1202,Hoja1!F1194:F1310),\"\")","v":""},"",null,"",{"$f":"IF(P1202=\"\",\"\",NETWORKDAYS(C1202+1,P1202,Hoja1!F1194:F1310))","v":""},{"$f":"IFERROR(IF(NETWORKDAYS(R1202+1,P1202,Hoja1!F1194:F1310)<=0,\"\",NETWORKDAYS(R1202+1,P1202,Hoja1!F1194:F1310)),0)","v":""},null,null,{"$f":"IFERROR(VLOOKUP(L1202,Hoja1!$A$50:$C$63,2),\"\")","v":""},{"$f":"IFERROR(VLOOKUP(L1202,Hoja1!$A$50:$C$63,3),\"\")","v":""}]
[null,null,null,null,null,null,null,null,null,null,null,null,null,null,null,null,null,null,null,null,null,{"$f":"IFERROR(WORKDAY(T1207,AE1207,Hoja1!F1199:F1315),\"\")","v":""},"",null,"",{"$f":"IF(P1207=\"\",\"\",NETWORKDAYS(C1207+1,P1207,Hoja1!F1199:F1315))","v":""},{"$f":"IFERROR(IF(NETWORKDAYS(R1207+1,P1207,Hoja1!F1199:F1315)<=0,\"\",NETWORKDAYS(R1207+1,P1207,Hoja1!F1199:F1315)),0)","v":""},null,null,{"$f":"IFERROR(VLOOKUP(L1207,Hoja1!$A$50:$C$63,2),\"\")","v":""},{"$f":"IFERROR(VLOOKUP(L1207,Hoja1!$A$50:$C$63,3),\"\")","v":""}]
[null,null,null,null,null,null,null,null,null,null,null,null,null,null,null,null,null,null,null,null,null,{"$f":"IFERROR(WORKDAY(T1209,AE1209,Hoja1!F1201:F1317),\"\")","v":""},"",null,"",{"$f":"IF(P1209=\"\",\"\",NETWORKDAYS(C1209+1,P1209,Hoja1!F1201:F1317))","v":""},{"$f":"IFERROR(IF(NETWORKDAYS(R1209+1,P1209,Hoja1!F1201:F1317)<=0,\"\",NETWORKDAYS(R1209+1,P1209,Hoja1!F1201:F1317)),0)","v":""},null,null,{"$f":"IFERROR(VLOOKUP(L1209,Hoja1!$A$50:$C$63,2),\"\")","v":""},{"$f":"IFERROR(VLOOKUP(L1209,Hoja1!$A$50:$C$63,3),\"\")","v":""}]
[null,null,null,null,null,null,null,null,null,null,null,null,null,null,null,null,null,null,null,null,null,{"$f":"IFERROR(WORKDAY(T1217,AE1217,Hoja1!F1209:F1325),\"\")","v":""},"",null,"",{"$f":"IF(P1217=\"\",\"\",NETWORKDAYS(C1217+1,P1217,Hoja1!F1209:F1325))","v":""},{"$f":"IFERROR(IF(NETWORKDAYS(R1217+1,P1217,Hoja1!F1209:F1325)<=0,\"\",NETWORKDAYS(R1217+1,P1217,Hoja1!F1209:F1325)),0)","v":""},null,null,{"$f":"IFERROR(VLOOKUP(L1217,Hoja1!$A$50:$C$63,2),\"\")","v":""},{"$f":"IFERROR(VLOOKUP(L1217,Hoja1!$A$50:$C$63,3),\"\")","v":""}]
[null,null,null,null,null,null,null,null,null,null,null,null,null,null,null,null,null,null,null,null,null,{"$f":"IFERROR(WORKDAY(T1220,AE1220,Hoja1!F1212:F1328),\"\")","v":""},"",null,"",{"$f":"IF(P1220=\"\",\"\",NETWORKDAYS(C1220+1,P1220,Hoja1!F1212:F1328))","v":""},{"$f":"IFERROR(IF(NETWORKDAYS(R1220+1,P1220,Hoja1!F1212:F1328)<=0,\"\",NETWORKDAYS(R1220+1,P1220,Hoja1!F1212:F1328)),0)","v":""},null,null,{"$f":"IFERROR(VLOOKUP(L1220,Hoja1!$A$50:$C$63,2),\"\")","v":""},{"$f":"IFERROR(VLOOKUP(L1220,Hoja1!$A$50:$C$63,3),\"\")","v":""}]
[null,null,null,null,null,null,null,null,null,null,null,null,null,null,null,null,null,null,null,null,null,{"$f":"IFERROR(WORKDAY(T1225,AE1225,Hoja1!F1217:F1333),\"\")","v":""},"",null,"",{"$f":"IF(P1225=\"\",\"\",NETWORKDAYS(C1225+1,P1225,Hoja1!F1217:F1333))","v":""},{"$f":"IFERROR(IF(NETWORKDAYS(R1225+1,P1225,Hoja1!F1217:F1333)<=0,\"\",NETWORKDAYS(R1225+1,P1225,Hoja1!F1217:F1333)),0)","v":""},null,null,{"$f":"IFERROR(VLOOKUP(L1225,Hoja1!$A$50:$C$63,2),\"\")","v":""},{"$f":"IFERROR(VLOOKUP(L1225,Hoja1!$A$50:$C$63,3),\"\")","v":""}]
[null,null,null,null,null,null,null,null,null,null,null,null,null,null,null,null,null,null,null,null,null,{"$f":"IFERROR(WORKDAY(T1226,AE1226,Hoja1!F1218:F1334),\"\")","v":""},{"$f":"+IF(T1226=\"\",\"\",IF(U1226=\"\",\"SIN RESPUESTA\",(IF(U1226<=V1226,\"A TIEMPO\",\"FUERA DE TIEMPO\"))))","v":""},null,{"$f":"+IF(C1226=\"\",\"\",IF(P1226=\"\",\"SIN RESPUESTA\",(IF(P1226<=R1226,\"A TIEMPO\",\"FUERA DE TIEMPO\"))))","v":""},{"$f":"IF(P1226=\"\",\"\",NETWORKDAYS(C1226+1,P1226,Hoja1!F1218:F1334))","v":""},{"$f":"IFERROR(IF(NETWORKDAYS(R1226+1,P1226,Hoja1!F1218:F1334)<=0,\"\",NETWORKDAYS(R1226+1,P1226,Hoja1!F1218:F1334)),0)","v":""},null,null,{"$f":"IFERROR(VLOOKUP(L1226,Hoja1!$A$50:$C$63,2),\"\")","v":""},{"$f":"IFERROR(VLOOKUP(L1226,Hoja1!$A$50:$C$63,3),\"\")","v":""}]
[null,null,null,null,null,null,null,null,null,null,null,null,null,null,null,null,null,null,null,null,null,{"$f":"IFERROR(WORKDAY(T1232,AE1232,Hoja1!F1224:F1340),\"\")","v":""},"",null,"",{"$f":"IF(P1232=\"\",\"\",NETWORKDAYS(C1232+1,P1232,Hoja1!F1224:F1340))","v":""},{"$f":"IFERROR(IF(NETWORKDAYS(R1232+1,P1232,Hoja1!F1224:F1340)<=0,\"\",NETWORKDAYS(R1232+1,P1232,Hoja1!F1224:F1340)),0)","v":""},null,null,{"$f":"IFERROR(VLOOKUP(L1232,Hoja1!$A$50:$C$63,2),\"\")","v":""},{"$f":"IFERROR(VLOOKUP(L1232,Hoja1!$A$50:$C$63,3),\"\")","v":""}]
[null,null,null,null,null,null,null,null,null,null,null,null,null,null,null,null,null,null,null,null,null,{"$f":"IFERROR(WORKDAY(T1236,AE1236,Hoja1!F1228:F1344),\"\")","v":""},"",null,"",{"$f":"IF(P1236=\"\",\"\",NETWORKDAYS(C1236+1,P1236,Hoja1!F1228:F1344))","v":""},{"$f":"IFERROR(IF(NETWORKDAYS(R1236+1,P1236,Hoja1!F1228:F1344)<=0,\"\",NETWORKDAYS(R1236+1,P1236,Hoja1!F1228:F1344)),0)","v":""},null,null,{"$f":"IFERROR(VLOOKUP(L1236,Hoja1!$A$50:$C$63,2),\"\")","v":""},{"$f":"IFERROR(VLOOKUP(L1236,Hoja1!$A$50:$C$63,3),\"\")","v":""}]
[null,null,null,null,null,null,null,null,null,null,null,null,null,null,null,null,null,null,null,null,null,{"$f":"IFERROR(WORKDAY(T1243,AE1243,Hoja1!F1235:F1351),\"\")","v":""},"",null,"",{"$f":"IF(P1243=\"\",\"\",NETWORKDAYS(C1243+1,P1243,Hoja1!F1235:F1351))","v":""},{"$f":"IFERROR(IF(NETWORKDAYS(R1243+1,P1243,Hoja1!F1235:F1351)<=0,\"\",NETWORKDAYS(R1243+1,P1243,Hoja1!F1235:F1351)),0)","v":""},null,null,{"$f":"IFERROR(VLOOKUP(L1243,Hoja1!$A$50:$C$63,2),\"\")","v":""},{"$f":"IFERROR(VLOOKUP(L1243,Hoja1!$A$50:$C$63,3),\"\")","v":""}]
[null,null,null,null,null,null,null,null,null,null,null,null,null,null,null,null,null,null,null,null,null,{"$f":"IFERROR(WORKDAY(T1246,AE1246,Hoja1!F1238:F1354),\"\")","v":""},"",null,"",{"$f":"IF(P1246=\"\",\"\",NETWORKDAYS(C1246+1,P1246,Hoja1!F1238:F1354))","v":""},{"$f":"IFERROR(IF(NETWORKDAYS(R1246+1,P1246,Hoja1!F1238:F1354)<=0,\"\",NETWORKDAYS(R1246+1,P1246,Hoja1!F1238:F1354)),0)","v":""},null,null,{"$f":"IFERROR(VLOOKUP(L1246,Hoja1!$A$50:$C$63,2),\"\")","v":""},{"$f":"IFERROR(VLOOKUP(L1246,Hoja1!$A$50:$C$63,3),\"\")","v":""}]
[null,null,null,null,null,null,null,null,null,null,null,null,null,null,null,null,null,null,null,null,null,{"$f":"IFERROR(WORKDAY(T1250,AE1250,Hoja1!F1242:F1358),\"\")","v":""},"",null,"",{"$f":"IF(P1250=\"\",\"\",NETWORKDAYS(C1250+1,P1250,Hoja1!F1242:F1358))","v":""},{"$f":"IFERROR(IF(NETWORKDAYS(R1250+1,P1250,Hoja1!F1242:F1358)<=0,\"\",NETWORKDAYS(R1250+1,P1250,Hoja1!F1242:F1358)),0)","v":""},null,null,{"$f":"IFERROR(VLOOKUP(L1250,Hoja1!$A$50:$C$63,2),\"\")","v":""},{"$f":"IFERROR(VLOOKUP(L1250,Hoja1!$A$50:$C$63,3),\"\")","v":""}]
[null,null,null,null,null,null,null,null,null,null,null,null,null,null,null,null,null,null,null,null,null,{"$f":"IFERROR(WORKDAY(T1255,AE1255,Hoja1!F1247:F1363),\"\")","v":""},"",null,"",{"$f":"IF(P1255=\"\",\"\",NETWORKDAYS(C1255+1,P1255,Hoja1!F1247:F1363))","v":""},{"$f":"IFERROR(IF(NETWORKDAYS(R1255+1,P1255,Hoja1!F1247:F1363)<=0,\"\",NETWORKDAYS(R1255+1,P1255,Hoja1!F1247:F1363)),0)","v":""},null,null,{"$f":"IFERROR(VLOOKUP(L1255,Hoja1!$A$50:$C$63,2),\"\")","v":""},{"$f":"IFERROR(VLOOKUP(L1255,Hoja1!$A$50:$C$63,3),\"\")","v":""}]
[null,null,null,null,null,null,null,null,null,null,null,null,null,null,null,null,null,null,null,null,null,{"$f":"IFERROR(WORKDAY(T1260,AE1260,Hoja1!F1252:F1368),\"\")","v":""},"",null,"",{"$f":"IF(P1260=\"\",\"\",NETWORKDAYS(C1260+1,P1260,Hoja1!F1252:F1368))","v":""},{"$f":"IFERROR(IF(NETWORKDAYS(R1260+1,P1260,Hoja1!F1252:F1368)<=0,\"\",NETWORKDAYS(R1260+1,P1260,Hoja1!F1252:F1368)),0)","v":""},null,null,{"$f":"IFERROR(VLOOKUP(L1260,Hoja1!$A$50:$C$63,2),\"\")","v":""},{"$f":"IFERROR(VLOOKUP(L1260,Hoja1!$A$50:$C$63,3),\"\")","v":""}]
[null,null,null,null,null,null,null,null,null,null,null,null,null,null,null,null,null,null,null,null,null,{"$f":"IFERROR(WORKDAY(T1262,AE1262,Hoja1!F1254:F1370),\"\")","v":""},"",null,"",{"$f":"IF(P1262=\"\",\"\",NETWORKDAYS(C1262+1,P1262,Hoja1!F1254:F1370))","v":""},{"$f":"IFERROR(IF(NETWORKDAYS(R1262+1,P1262,Hoja1!F1254:F1370)<=0,\"\",NETWORKDAYS(R1262+1,P1262,Hoja1!F1254:F1370)),0)","v":""},null,null,{"$f":"IFERROR(VLOOKUP(L1262,Hoja1!$A$50:$C$63,2),\"\")","v":""},{"$f":"IFERROR(VLOOKUP(L1262,Hoja1!$A$50:$C$63,3),\"\")","v":""}]
[null,null,null,null,null,null,null,null,null,null,null,null,null,null,null,null,null,null,null,null,null,{"$f":"IFERROR(WORKDAY(T1269,AE1269,Hoja1!F1261:F1377),\"\")","v":""},"",null,"",{"$f":"IF(P1269=\"\",\"\",NETWORKDAYS(C1269+1,P1269,Hoja1!F1261:F1377))","v":""},{"$f":"IFERROR(IF(NETWORKDAYS(R1269+1,P1269,Hoja1!F1261:F1377)<=0,\"\",NETWORKDAYS(R1269+1,P1269,Hoja1!F1261:F1377)),0)","v":""},null,null,{"$f":"IFERROR(VLOOKUP(L1269,Hoja1!$A$50:$C$63,2),\"\")","v":""},{"$f":"IFERROR(VLOOKUP(L1269,Hoja1!$A$50:$C$63,3),\"\")","v":""}]
[null,null,null,null,null,null,null,null,null,null,null,null,null,null,null,null,null,null,null,null,null,{"$f":"IFERROR(WORKDAY(T1273,AE1273,Hoja1!F1265:F1381),\"\")","v":""},"",null,"",{"$f":"IF(P1273=\"\",\"\",NETWORKDAYS(C1273+1,P1273,Hoja1!F1265:F1381))","v":""},{"$f":"IFERROR(IF(NETWORKDAYS(R1273+1,P1273,Hoja1!F1265:F1381)<=0,\"\",NETWORKDAYS(R1273+1,P1273,Hoja1!F1265:F1381)),0)","v":""},null,null,{"$f":"IFERROR(VLOOKUP(L1273,Hoja1!$A$50:$C$63,2),\"\")","v":""},{"$f":"IFERROR(VLOOKUP(L1273,Hoja1!$A$50:$C$63,3),\"\")","v":""}]
[null,null,null,null,null,null,null,null,null,null,null,null,null,null,null,null,null,null,null,null,null,{"$f":"IFERROR(WORKDAY(T1279,AE1279,Hoja1!F1271:F1387),\"\")","v":""},"",null,"",{"$f":"IF(P1279=\"\",\"\",NETWORKDAYS(C1279+1,P1279,Hoja1!F1271:F1387))","v":""},{"$f":"IFERROR(IF(NETWORKDAYS(R1279+1,P1279,Hoja1!F1271:F1387)<=0,\"\",NETWORKDAYS(R1279+1,P1279,Hoja1!F1271:F1387)),0)","v":""},null,null,{"$f":"IFERROR(VLOOKUP(L1279,Hoja1!$A$50:$C$63,2),\"\")","v":""},{"$f":"IFERROR(VLOOKUP(L1279,Hoja1!$A$50:$C$63,3),\"\")","v":""}]
[null,null,null,null,null,null,null,null,null,null,null,null,null,null,null,null,null,null,null,null,null,{"$f":"IFERROR(WORKDAY(T1280,AE1280,Hoja1!F1272:F1388),\"\")","v":""},"",null,"",{"$f":"IF(P1280=\"\",\"\",NETWORKDAYS(C1280+1,P1280,Hoja1!F1272:F1388))","v":""},{"$f":"IFERROR(IF(NETWORKDAYS(R1280+1,P1280,Hoja1!F1272:F1388)<=0,\"\",NETWORKDAYS(R1280+1,P1280,Hoja1!F1272:F1388)),0)","v":""},null,null,{"$f":"IFERROR(VLOOKUP(L1280,Hoja1!$A$50:$C$63,2),\"\")","v":""},{"$f":"IFERROR(VLOOKUP(L1280,Hoja1!$A$50:$C$63,3),\"\")","v":""}]
[null,null,null,null,null,null,null,null,null,null,null,null,null,null,null,null,null,null,null,null,null,{"$f":"IFERROR(WORKDAY(T1285,AE1285,Hoja1!F1277:F1393),\"\")","v":""},"",null,"",{"$f":"IF(P1285=\"\",\"\",NETWORKDAYS(C1285+1,P1285,Hoja1!F1277:F1393))","v":""},{"$f":"IFERROR(IF(NETWORKDAYS(R1285+1,P1285,Hoja1!F1277:F1393)<=0,\"\",NETWORKDAYS(R1285+1,P1285,Hoja1!F1277:F1393)),0)","v":""},null,null,{"$f":"IFERROR(VLOOKUP(L1285,Hoja1!$A$50:$C$63,2),\"\")","v":""},{"$f":"IFERROR(VLOOKUP(L1285,Hoja1!$A$50:$C$63,3),\"\")","v":""}]
[null,null,null,null,null,null,null,null,null,null,null,null,null,null,null,null,null,null,null,null,null,{"$f":"IFERROR(WORKDAY(T1288,AE1288,Hoja1!F1280:F1396),\"\")","v":""},"",null,"",{"$f":"IF(P1288=\"\",\"\",NETWORKDAYS(C1288+1,P1288,Hoja1!F1280:F1396))","v":""},{"$f":"IFERROR(IF(NETWORKDAYS(R1288+1,P1288,Hoja1!F1280:F1396)<=0,\"\",NETWORKDAYS(R1288+1,P1288,Hoja1!F1280:F1396)),0)","v":""},null,null,{"$f":"IFERROR(VLOOKUP(L1288,Hoja1!$A$50:$C$63,2),\"\")","v":""},{"$f":"IFERROR(VLOOKUP(L1288,Hoja1!$A$50:$C$63,3),\"\")","v":""}]
[null,null,null,null,null,null,null,null,null,null,null,null,null,null,null,null,null,null,null,null,null,{"$f":"IFERROR(WORKDAY(T1296,AE1296,Hoja1!F1288:F1404),\"\")","v":""},"",null,"",{"$f":"IF(P1296=\"\",\"\",NETWORKDAYS(C1296+1,P1296,Hoja1!F1288:F1404))","v":""},{"$f":"IFERROR(IF(NETWORKDAYS(R1296+1,P1296,Hoja1!F1288:F1404)<=0,\"\",NETWORKDAYS(R1296+1,P1296,Hoja1!F1288:F1404)),0)","v":""},null,null,{"$f":"IFERROR(VLOOKUP(L1296,Hoja1!$A$50:$C$63,2),\"\")","v":""},{"$f":"IFERROR(VLOOKUP(L1296,Hoja1!$A$50:$C$63,3),\"\")","v":""}]
[null,null,null,null,null,null,null,null,null,null,null,null,null,null,null,null,null,null,null,null,null,{"$f":"IFERROR(WORKDAY(T1298,AE1298,Hoja1!F1290:F1406),\"\")","v":""},"",null,"",{"$f":"IF(P1298=\"\",\"\",NETWORKDAYS(C1298+1,P1298,Hoja1!F1290:F1406))","v":""},{"$f":"IFERROR(IF(NETWORKDAYS(R1298+1,P1298,Hoja1!F1290:F1406)<=0,\"\",NETWORKDAYS(R1298+1,P1298,Hoja1!F1290:F1406)),0)","v":""},null,null,{"$f":"IFERROR(VLOOKUP(L1298,Hoja1!$A$50:$C$63,2),\"\")","v":""},{"$f":"IFERROR(VLOOKUP(L1298,Hoja1!$A$50:$C$63,3),\"\")","v":""}]
[null,null,null,null,null,null,null,null,null,null,null,null,null,null,null,null,null,null,null,null,null,{"$f":"IFERROR(WORKDAY(T1303,AE1303,Hoja1!F1295:F1411),\"\")","v":""},"",null,"",{"$f":"IF(P1303=\"\",\"\",NETWORKDAYS(C1303+1,P1303,Hoja1!F1295:F1411))","v":""},{"$f":"IFERROR(IF(NETWORKDAYS(R1303+1,P1303,Hoja1!F1295:F1411)<=0,\"\",NETWORKDAYS(R1303+1,P1303,Hoja1!F1295:F1411)),0)","v":""},null,null,{"$f":"IFERROR(VLOOKUP(L1303,Hoja1!$A$50:$C$63,2),\"\")","v":""},{"$f":"IFERROR(VLOOKUP(L1303,Hoja1!$A$50:$C$63,3),\"\")","v":""}]
[null,null,null,null,null,null,null,null,null,null,null,null,null,null,null,null,null,null,null,null,null,{"$f":"IFERROR(WORKDAY(T1308,AE1308,Hoja1!F1300:F1416),\"\")","v":""},"",null,"",{"$f":"IF(P1308=\"\",\"\",NETWORKDAYS(C1308+1,P1308,Hoja1!F1300:F1416))","v":""},{"$f":"IFERROR(IF(NETWORKDAYS(R1308+1,P1308,Hoja1!F1300:F1416)<=0,\"\",NETWORKDAYS(R1308+1,P1308,Hoja1!F1300:F1416)),0)","v":""},null,null,{"$f":"IFERROR(VLOOKUP(L1308,Hoja1!$A$50:$C$63,2),\"\")","v":""},{"$f":"IFERROR(VLOOKUP(L1308,Hoja1!$A$50:$C$63,3),\"\")","v":""}]
[null,null,null,null,null,null,null,null,null,null,null,null,null,null,null,null,null,null,null,null,null,{"$f":"IFERROR(WORKDAY(T1314,AE1314,Hoja1!F1306:F1422),\"\")","v":""},"",null,"",{"$f":"IF(P1314=\"\",\"\",NETWORKDAYS(C1314+1,P1314,Hoja1!F1306:F1422))","v":""},{"$f":"IFERROR(IF(NETWORKDAYS(R1314+1,P1314,Hoja1!F1306:F1422)<=0,\"\",NETWORKDAYS(R1314+1,P1314,Hoja1!F1306:F1422)),0)","v":""},null,null,{"$f":"IFERROR(VLOOKUP(L1314,Hoja1!$A$50:$C$63,2),\"\")","v":""},{"$f":"IFERROR(VLOOKUP(L1314,Hoja1!$A$50:$C$63,3),\"\")","v":""}]
[null,null,null,null,null,null,null,null,null,null,null,null,null,null,null,null,null,null,null,null,null,{"$f":"IFERROR(WORKDAY(T1315,AE1315,Hoja1!F1307:F1423),\"\")","v":""},"",null,"",{"$f":"IF(P1315=\"\",\"\",NETWORKDAYS(C1315+1,P1315,Hoja1!F1307:F1423))","v":""},{"$f":"IFERROR(IF(NETWORKDAYS(R1315+1,P1315,Hoja1!F1307:F1423)<=0,\"\",NETWORKDAYS(R1315+1,P1315,Hoja1!F1307:F1423)),0)","v":""},null,null,{"$f":"IFERROR(VLOOKUP(L1315,Hoja1!$A$50:$C$63,2),\"\")","v":""},{"$f":"IFERROR(VLOOKUP(L1315,Hoja1!$A$50:$C$63,3),\"\")","v":""}]
[null,null,null,null,null,null,null,null,null,null,null,null,null,null,null,null,null,null,null,null,null,{"$f":"IFERROR(WORKDAY(T1322,AE1322,Hoja1!F1314:F1430),\"\")","v":""},"",null,"",{"$f":"IF(P1322=\"\",\"\",NETWORKDAYS(C1322+1,P1322,Hoja1!F1314:F1430))","v":""},{"$f":"IFERROR(IF(NETWORKDAYS(R1322+1,P1322,Hoja1!F1314:F1430)<=0,\"\",NETWORKDAYS(R1322+1,P1322,Hoja1!F1314:F1430)),0)","v":""},null,null,{"$f":"IFERROR(VLOOKUP(L1322,Hoja1!$A$50:$C$63,2),\"\")","v":""},{"$f":"IFERROR(VLOOKUP(L1322,Hoja1!$A$50:$C$63,3),\"\")","v":""}]
[null,null,null,null,null,null,null,null,null,null,null,null,null,null,null,null,null,null,null,null,null,{"$f":"IFERROR(WORKDAY(T1326,AE1326,Hoja1!F1318:F1434),\"\")","v":""},"",null,"",{"$f":"IF(P1326=\"\",\"\",NETWORKDAYS(C1326+1,P1326,Hoja1!F1318:F1434))","v":""},{"$f":"IFERROR(IF(NETWORKDAYS(R1326+1,P1326,Hoja1!F1318:F1434)<=0,\"\",NETWORKDAYS(R1326+1,P1326,Hoja1!F1318:F1434)),0)","v":""},null,null,{"$f":"IFERROR(VLOOKUP(L1326,Hoja1!$A$50:$C$63,2),\"\")","v":""},{"$f":"IFERROR(VLOOKUP(L1326,Hoja1!$A$50:$C$63,3),\"\")","v":""}]
[null,null,null,null,null,null,null,null,null,null,null,null,null,null,null,null,null,null,null,null,null,{"$f":"IFERROR(WORKDAY(T1332,AE1332,Hoja1!F1324:F1440),\"\")","v":""},"",null,"",{"$f":"IF(P1332=\"\",\"\",NETWORKDAYS(C1332+1,P1332,Hoja1!F1324:F1440))","v":""},{"$f":"IFERROR(IF(NETWORKDAYS(R1332+1,P1332,Hoja1!F1324:F1440)<=0,\"\",NETWORKDAYS(R1332+1,P1332,Hoja1!F1324:F1440)),0)","v":""},null,null,{"$f":"IFERROR(VLOOKUP(L1332,Hoja1!$A$50:$C$63,2),\"\")","v":""},{"$f":"IFERROR(VLOOKUP(L1332,Hoja1!$A$50:$C$63,3),\"\")","v":""}]
[null,null,null,null,null,null,null,null,null,null,null,null,null,null,null,null,null,null,null,null,null,{"$f":"IFERROR(WORKDAY(T1333,AE1333,Hoja1!F1325:F1441),\"\")","v":""},"",null,"",{"$f":"IF(P1333=\"\",\"\",NETWORKDAYS(C1333+1,P1333,Hoja1!F1325:F1441))","v":""},{"$f":"IFERROR(IF(NETWORKDAYS(R1333+1,P1333,Hoja1!F1325:F1441)<=0,\"\",NETWORKDAYS(R1333+1,P1333,Hoja1!F1325:F1441)),0)","v":""},null,null,{"$f":"IFERROR(VLOOKUP(L1333,Hoja1!$A$50:$C$63,2),\"\")","v":""},{"$f":"IFERROR(VLOOKUP(L1333,Hoja1!$A$50:$C$63,3),\"\")","v":""}]
[null,null,null,null,null,null,null,null,null,null,null,null,null,null,null,null,null,null,null,null,null,{"$f":"IFERROR(WORKDAY(T1337,AE1337,Hoja1!F1329:F1445),\"\")","v":""},"",null,"",{"$f":"IF(P1337=\"\",\"\",NETWORKDAYS(C1337+1,P1337,Hoja1!F1329:F1445))","v":""},{"$f":"IFERROR(IF(NETWORKDAYS(R1337+1,P1337,Hoja1!F1329:F1445)<=0,\"\",NETWORKDAYS(R1337+1,P1337,Hoja1!F1329:F1445)),0)","v":""},null,null,{"$f":"IFERROR(VLOOKUP(L1337,Hoja1!$A$50:$C$63,2),\"\")","v":""},{"$f":"IFERROR(VLOOKUP(L1337,Hoja1!$A$50:$C$63,3),\"\")","v":""}]
[null,null,null,null,null,null,null,null,null,null,null,null,null,null,null,null,null,null,null,null,null,{"$f":"IFERROR(WORKDAY(T1344,AE1344,Hoja1!F1336:F1452),\"\")","v":""},"",null,"",{"$f":"IF(P1344=\"\",\"\",NETWORKDAYS(C1344+1,P1344,Hoja1!F1336:F1452))","v":""},{"$f":"IFERROR(IF(NETWORKDAYS(R1344+1,P1344,Hoja1!F1336:F1452)<=0,\"\",NETWORKDAYS(R1344+1,P1344,Hoja1!F1336:F1452)),0)","v":""},null,null,{"$f":"IFERROR(VLOOKUP(L1344,Hoja1!$A$50:$C$63,2),\"\")","v":""},{"$f":"IFERROR(VLOOKUP(L1344,Hoja1!$A$50:$C$63,3),\"\")","v":""}]
[null,null,null,null,null,null,null,null,null,null,null,null,null,null,null,null,null,null,null,null,null,{"$f":"IFERROR(WORKDAY(T1349,AE1349,Hoja1!F1341:F1457),\"\")","v":""},"",null,"",{"$f":"IF(P1349=\"\",\"\",NETWORKDAYS(C1349+1,P1349,Hoja1!F1341:F1457))","v":""},{"$f":"IFERROR(IF(NETWORKDAYS(R1349+1,P1349,Hoja1!F1341:F1457)<=0,\"\",NETWORKDAYS(R1349+1,P1349,Hoja1!F1341:F1457)),0)","v":""},null,null,{"$f":"IFERROR(VLOOKUP(L1349,Hoja1!$A$50:$C$63,2),\"\")","v":""},{"$f":"IFERROR(VLOOKUP(L1349,Hoja1!$A$50:$C$63,3),\"\")","v":""}]
[null,null,null,null,null,null,null,null,null,null,null,null,null,null,null,null,null,null,null,null,null,{"$f":"IFERROR(WORKDAY(T1351,AE1351,Hoja1!F1343:F1459),\"\")","v":""},"",null,"",{"$f":"IF(P1351=\"\",\"\",NETWORKDAYS(C1351+1,P1351,Hoja1!F1343:F1459))","v":""},{"$f":"IFERROR(IF(NETWORKDAYS(R1351+1,P1351,Hoja1!F1343:F1459)<=0,\"\",NETWORKDAYS(R1351+1,P1351,Hoja1!F1343:F1459)),0)","v":""},null,null,{"$f":"IFERROR(VLOOKUP(L1351,Hoja1!$A$50:$C$63,2),\"\")","v":""},{"$f":"IFERROR(VLOOKUP(L1351,Hoja1!$A$50:$C$63,3),\"\")","v":""}]
[null,null,null,null,null,null,null,null,null,null,null,null,null,null,null,null,null,null,null,null,null,{"$f":"IFERROR(WORKDAY(T1356,AE1356,Hoja1!F1348:F1464),\"\")","v":""},"",null,"",{"$f":"IF(P1356=\"\",\"\",NETWORKDAYS(C1356+1,P1356,Hoja1!F1348:F1464))","v":""},{"$f":"IFERROR(IF(NETWORKDAYS(R1356+1,P1356,Hoja1!F1348:F1464)<=0,\"\",NETWORKDAYS(R1356+1,P1356,Hoja1!F1348:F1464)),0)","v":""},null,null,{"$f":"IFERROR(VLOOKUP(L1356,Hoja1!$A$50:$C$63,2),\"\")","v":""},{"$f":"IFERROR(VLOOKUP(L1356,Hoja1!$A$50:$C$63,3),\"\")","v":""}]
[null,null,null,null,null,null,null,null,null,null,null,null,null,null,null,null,null,null,null,null,null,{"$f":"IFERROR(WORKDAY(T1360,AE1360,Hoja1!F1352:F1468),\"\")","v":""},"",null,"",{"$f":"IF(P1360=\"\",\"\",NETWORKDAYS(C1360+1,P1360,Hoja1!F1352:F1468))","v":""},{"$f":"IFERROR(IF(NETWORKDAYS(R1360+1,P1360,Hoja1!F1352:F1468)<=0,\"\",NETWORKDAYS(R1360+1,P1360,Hoja1!F1352:F1468)),0)","v":""},null,null,{"$f":"IFERROR(VLOOKUP(L1360,Hoja1!$A$50:$C$63,2),\"\")","v":""},{"$f":"IFERROR(VLOOKUP(L1360,Hoja1!$A$50:$C$63,3),\"\")","v":""}]
[null,null,null,null,null,null,null,null,null,null,null,null,null,null,null,null,null,null,null,null,null,{"$f":"IFERROR(WORKDAY(T1367,AE1367,Hoja1!F1359:F1475),\"\")","v":""},"",null,"",{"$f":"IF(P1367=\"\",\"\",NETWORKDAYS(C1367+1,P1367,Hoja1!F1359:F1475))","v":""},{"$f":"IFERROR(IF(NETWORKDAYS(R1367+1,P1367,Hoja1!F1359:F1475)<=0,\"\",NETWORKDAYS(R1367+1,P1367,Hoja1!F1359:F1475)),0)","v":""},null,null,{"$f":"IFERROR(VLOOKUP(L1367,Hoja1!$A$50:$C$63,2),\"\")","v":""},{"$f":"IFERROR(VLOOKUP(L1367,Hoja1!$A$50:$C$63,3),\"\")","v":""}]
[null,null,null,null,null,null,null,null,null,null,null,null,null,null,null,null,null,null,null,null,null,{"$f":"IFERROR(WORKDAY(T1370,AE1370,Hoja1!F1362:F1478),\"\")","v":""},"",null,"",{"$f":"IF(P1370=\"\",\"\",NETWORKDAYS(C1370+1,P1370,Hoja1!F1362:F1478))","v":""},{"$f":"IFERROR(IF(NETWORKDAYS(R1370+1,P1370,Hoja1!F1362:F1478)<=0,\"\",NETWORKDAYS(R1370+1,P1370,Hoja1!F1362:F1478)),0)","v":""},null,null,{"$f":"IFERROR(VLOOKUP(L1370,Hoja1!$A$50:$C$63,2),\"\")","v":""},{"$f":"IFERROR(VLOOKUP(L1370,Hoja1!$A$50:$C$63,3),\"\")","v":""}]
[null,null,null,null,null,null,null,null,null,null,null,null,null,null,null,null,null,null,null,null,null,{"$f":"IFERROR(WORKDAY(T1374,AE1374,Hoja1!F1366:F1482),\"\")","v":""},"",null,"",{"$f":"IF(P1374=\"\",\"\",NETWORKDAYS(C1374+1,P1374,Hoja1!F1366:F1482))","v":""},{"$f":"IFERROR(IF(NETWORKDAYS(R1374+1,P1374,Hoja1!F1366:F1482)<=0,\"\",NETWORKDAYS(R1374+1,P1374,Hoja1!F1366:F1482)),0)","v":""},null,null,{"$f":"IFERROR(VLOOKUP(L1374,Hoja1!$A$50:$C$63,2),\"\")","v":""},{"$f":"IFERROR(VLOOKUP(L1374,Hoja1!$A$50:$C$63,3),\"\")","v":""}]
[null,null,null,null,null,null,null,null,null,null,null,null,null,null,null,null,null,null,null,null,null,{"$f":"IFERROR(WORKDAY(T1379,AE1379,Hoja1!F1371:F1487),\"\")","v":""},"",null,"",{"$f":"IF(P1379=\"\",\"\",NETWORKDAYS(C1379+1,P1379,Hoja1!F1371:F1487))","v":""},{"$f":"IFERROR(IF(NETWORKDAYS(R1379+1,P1379,Hoja1!F1371:F1487)<=0,\"\",NETWORKDAYS(R1379+1,P1379,Hoja1!F1371:F1487)),0)","v":""},null,null,{"$f":"IFERROR(VLOOKUP(L1379,Hoja1!$A$50:$C$63,2),\"\")","v":""},{"$f":"IFERROR(VLOOKUP(L1379,Hoja1!$A$50:$C$63,3),\"\")","v":""}]
[null,null,null,null,null,null,null,null,null,null,null,null,null,null,null,null,null,null,null,null,null,{"$f":"IFERROR(WORKDAY(T1384,AE1384,Hoja1!F1376:F1492),\"\")","v":""},"",null,"",{"$f":"IF(P1384=\"\",\"\",NETWORKDAYS(C1384+1,P1384,Hoja1!F1376:F1492))","v":""},{"$f":"IFERROR(IF(NETWORKDAYS(R1384+1,P1384,Hoja1!F1376:F1492)<=0,\"\",NETWORKDAYS(R1384+1,P1384,Hoja1!F1376:F1492)),0)","v":""},null,null,{"$f":"IFERROR(VLOOKUP(L1384,Hoja1!$A$50:$C$63,2),\"\")","v":""},{"$f":"IFERROR(VLOOKUP(L1384,Hoja1!$A$50:$C$63,3),\"\")","v":""}]
[null,null,null,null,null,null,null,null,null,null,null,null,null,null,null,null,null,null,null,null,null,{"$f":"IFERROR(WORKDAY(T1386,AE1386,Hoja1!F1378:F1494),\"\")","v":""},"",null,"",{"$f":"IF(P1386=\"\",\"\",NETWORKDAYS(C1386+1,P1386,Hoja1!F1378:F1494))","v":""},{"$f":"IFERROR(IF(NETWORKDAYS(R1386+1,P1386,Hoja1!F1378:F1494)<=0,\"\",NETWORKDAYS(R1386+1,P1386,Hoja1!F1378:F1494)),0)","v":""},null,null,{"$f":"IFERROR(VLOOKUP(L1386,Hoja1!$A$50:$C$63,2),\"\")","v":""},{"$f":"IFERROR(VLOOKUP(L1386,Hoja1!$A$50:$C$63,3),\"\")","v":""}]
[null,null,null,null,null,null,null,null,null,null,null,null,null,null,null,null,null,null,null,null,null,{"$f":"IFERROR(WORKDAY(T1394,AE1394,Hoja1!F1386:F1502),\"\")","v":""},"",null,"",{"$f":"IF(P1394=\"\",\"\",NETWORKDAYS(C1394+1,P1394,Hoja1!F1386:F1502))","v":""},{"$f":"IFERROR(IF(NETWORKDAYS(R1394+1,P1394,Hoja1!F1386:F1502)<=0,\"\",NETWORKDAYS(R1394+1,P1394,Hoja1!F1386:F1502)),0)","v":""},null,null,{"$f":"IFERROR(VLOOKUP(L1394,Hoja1!$A$50:$C$63,2),\"\")","v":""},{"$f":"IFERROR(VLOOKUP(L1394,Hoja1!$A$50:$C$63,3),\"\")","v":""}]
[null,null,null,null,null,null,null,null,null,null,null,null,null,null,null,null,null,null,null,null,null,{"$f":"IFERROR(WORKDAY(T1397,AE1397,Hoja1!F1389:F1505),\"\")","v":""},"",null,"",{"$f":"IF(P1397=\"\",\"\",NETWORKDAYS(C1397+1,P1397,Hoja1!F1389:F1505))","v":""},{"$f":"IFERROR(IF(NETWORKDAYS(R1397+1,P1397,Hoja1!F1389:F1505)<=0,\"\",NETWORKDAYS(R1397+1,P1397,Hoja1!F1389:F1505)),0)","v":""},null,null,{"$f":"IFERROR(VLOOKUP(L1397,Hoja1!$A$50:$C$63,2),\"\")","v":""},{"$f":"IFERROR(VLOOKUP(L1397,Hoja1!$A$50:$C$63,3),\"\")","v":""}]
[null,null,null,null,null,null,null,null,null,null,null,null,null,null,null,null,null,null,null,null,null,{"$f":"IFERROR(WORKDAY(T1399,AE1399,Hoja1!F1391:F1507),\"\")","v":""},"",null,"",{"$f":"IF(P1399=\"\",\"\",NETWORKDAYS(C1399+1,P1399,Hoja1!F1391:F1507))","v":""},{"$f":"IFERROR(IF(NETWORKDAYS(R1399+1,P1399,Hoja1!F1391:F1507)<=0,\"\",NETWORKDAYS(R1399+1,P1399,Hoja1!F1391:F1507)),0)","v":""},null,null,{"$f":"IFERROR(VLOOKUP(L1399,Hoja1!$A$50:$C$63,2),\"\")","v":""},{"$f":"IFERROR(VLOOKUP(L1399,Hoja1!$A$50:$C$63,3),\"\")","v":""}]
[null,null,null,null,null,null,null,null,null,null,null,null,null,null,null,null,null,null,null,null,null,{"$f":"IFERROR(WORKDAY(T1404,AE1404,Hoja1!F1396:F1512),\"\")","v":""},"",null,"",{"$f":"IF(P1404=\"\",\"\",NETWORKDAYS(C1404+1,P1404,Hoja1!F1396:F1512))","v":""},{"$f":"IFERROR(IF(NETWORKDAYS(R1404+1,P1404,Hoja1!F1396:F1512)<=0,\"\",NETWORKDAYS(R1404+1,P1404,Hoja1!F1396:F1512)),0)","v":""},null,null,{"$f":"IFERROR(VLOOKUP(L1404,Hoja1!$A$50:$C$63,2),\"\")","v":""},{"$f":"IFERROR(VLOOKUP(L1404,Hoja1!$A$50:$C$63,3),\"\")","v":""}]
[null,null,null,null,null,null,null,null,null,null,null,null,null,null,null,null,null,null,null,null,null,{"$f":"IFERROR(WORKDAY(T1409,AE1409,Hoja1!F1401:F1517),\"\")","v":""},"",null,"",{"$f":"IF(P1409=\"\",\"\",NETWORKDAYS(C1409+1,P1409,Hoja1!F1401:F1517))","v":""},{"$f":"IFERROR(IF(NETWORKDAYS(R1409+1,P1409,Hoja1!F1401:F1517)<=0,\"\",NETWORKDAYS(R1409+1,P1409,Hoja1!F1401:F1517)),0)","v":""},null,null,{"$f":"IFERROR(VLOOKUP(L1409,Hoja1!$A$50:$C$63,2),\"\")","v":""},{"$f":"IFERROR(VLOOKUP(L1409,Hoja1!$A$50:$C$63,3),\"\")","v":""}]
[null,null,null,null,null,null,null,null,null,null,null,null,null,null,null,null,null,null,null,null,null,{"$f":"IFERROR(WORKDAY(T1413,AE1413,Hoja1!F1405:F1521),\"\")","v":""},"",null,"",{"$f":"IF(P1413=\"\",\"\",NETWORKDAYS(C1413+1,P1413,Hoja1!F1405:F1521))","v":""},{"$f":"IFERROR(IF(NETWORKDAYS(R1413+1,P1413,Hoja1!F1405:F1521)<=0,\"\",NETWORKDAYS(R1413+1,P1413,Hoja1!F1405:F1521)),0)","v":""},null,null,{"$f":"IFERROR(VLOOKUP(L1413,Hoja1!$A$50:$C$63,2),\"\")","v":""},{"$f":"IFERROR(VLOOKUP(L1413,Hoja1!$A$50:$C$63,3),\"\")","v":""}]
[null,null,null,null,null,null,null,null,null,null,null,null,null,null,null,null,null,null,null,null,null,{"$f":"IFERROR(WORKDAY(T1420,AE1420,Hoja1!F1412:F1528),\"\")","v":""},"",null,"",{"$f":"IF(P1420=\"\",\"\",NETWORKDAYS(C1420+1,P1420,Hoja1!F1412:F1528))","v":""},{"$f":"IFERROR(IF(NETWORKDAYS(R1420+1,P1420,Hoja1!F1412:F1528)<=0,\"\",NETWORKDAYS(R1420+1,P1420,Hoja1!F1412:F1528)),0)","v":""},null,null,{"$f":"IFERROR(VLOOKUP(L1420,Hoja1!$A$50:$C$63,2),\"\")","v":""},{"$f":"IFERROR(VLOOKUP(L1420,Hoja1!$A$50:$C$63,3),\"\")","v":""}]
[null,null,null,null,null,null,null,null,null,null,null,null,null,null,null,null,null,null,null,null,null,{"$f":"IFERROR(WORKDAY(T1423,AE1423,Hoja1!F1415:F1531),\"\")","v":""},"",null,"",{"$f":"IF(P1423=\"\",\"\",NETWORKDAYS(C1423+1,P1423,Hoja1!F1415:F1531))","v":""},{"$f":"IFERROR(IF(NETWORKDAYS(R1423+1,P1423,Hoja1!F1415:F1531)<=0,\"\",NETWORKDAYS(R1423+1,P1423,Hoja1!F1415:F1531)),0)","v":""},null,null,{"$f":"IFERROR(VLOOKUP(L1423,Hoja1!$A$50:$C$63,2),\"\")","v":""},{"$f":"IFERROR(VLOOKUP(L1423,Hoja1!$A$50:$C$63,3),\"\")","v":""}]
[null,null,null,null,null,null,null,null,null,null,null,null,null,null,null,null,null,null,null,null,null,{"$f":"IFERROR(WORKDAY(T1427,AE1427,Hoja1!F1419:F1535),\"\")","v":""},"",null,"",{"$f":"IF(P1427=\"\",\"\",NETWORKDAYS(C1427+1,P1427,Hoja1!F1419:F1535))","v":""},{"$f":"IFERROR(IF(NETWORKDAYS(R1427+1,P1427,Hoja1!F1419:F1535)<=0,\"\",NETWORKDAYS(R1427+1,P1427,Hoja1!F1419:F1535)),0)","v":""},null,null,{"$f":"IFERROR(VLOOKUP(L1427,Hoja1!$A$50:$C$63,2),\"\")","v":""},{"$f":"IFERROR(VLOOKUP(L1427,Hoja1!$A$50:$C$63,3),\"\")","v":""}]
[null,null,null,null,null,null,null,null,null,null,null,null,null,null,null,null,null,null,null,null,null,{"$f":"IFERROR(WORKDAY(T1433,AE1433,Hoja1!F1425:F1541),\"\")","v":""},"",null,"",{"$f":"IF(P1433=\"\",\"\",NETWORKDAYS(C1433+1,P1433,Hoja1!F1425:F1541))","v":""},{"$f":"IFERROR(IF(NETWORKDAYS(R1433+1,P1433,Hoja1!F1425:F1541)<=0,\"\",NETWORKDAYS(R1433+1,P1433,Hoja1!F1425:F1541)),0)","v":""},null,null,{"$f":"IFERROR(VLOOKUP(L1433,Hoja1!$A$50:$C$63,2),\"\")","v":""},{"$f":"IFERROR(VLOOKUP(L1433,Hoja1!$A$50:$C$63,3),\"\")","v":""}]
[null,null,null,null,null,null,null,null,null,null,null,null,null,null,null,null,null,null,null,null,null,{"$f":"IFERROR(WORKDAY(T1438,AE1438,Hoja1!F1430:F1546),\"\")","v":""},"",null,"",{"$f":"IF(P1438=\"\",\"\",NETWORKDAYS(C1438+1,P1438,Hoja1!F1430:F1546))","v":""},{"$f":"IFERROR(IF(NETWORKDAYS(R1438+1,P1438,Hoja1!F1430:F1546)<=0,\"\",NETWORKDAYS(R1438+1,P1438,Hoja1!F1430:F1546)),0)","v":""},null,null,{"$f":"IFERROR(VLOOKUP(L1438,Hoja1!$A$50:$C$63,2),\"\")","v":""},{"$f":"IFERROR(VLOOKUP(L1438,Hoja1!$A$50:$C$63,3),\"\")","v":""}]
[null,null,null,null,null,null,null,null,null,null,null,null,null,null,null,null,null,null,null,null,null,{"$f":"IFERROR(WORKDAY(T1442,AE1442,Hoja1!F1434:F1550),\"\")","v":""},"",null,"",{"$f":"IF(P1442=\"\",\"\",NETWORKDAYS(C1442+1,P1442,Hoja1!F1434:F1550))","v":""},{"$f":"IFERROR(IF(NETWORKDAYS(R1442+1,P1442,Hoja1!F1434:F1550)<=0,\"\",NETWORKDAYS(R1442+1,P1442,Hoja1!F1434:F1550)),0)","v":""},null,null,{"$f":"IFERROR(VLOOKUP(L1442,Hoja1!$A$50:$C$63,2),\"\")","v":""},{"$f":"IFERROR(VLOOKUP(L1442,Hoja1!$A$50:$C$63,3),\"\")","v":""}]
[null,null,null,null,null,null,null,null,null,null,null,null,null,null,null,null,null,null,null,null,null,{"$f":"IFERROR(WORKDAY(T1445,AE1445,Hoja1!F1437:F1553),\"\")","v":""},"",null,"",{"$f":"IF(P1445=\"\",\"\",NETWORKDAYS(C1445+1,P1445,Hoja1!F1437:F1553))","v":""},{"$f":"IFERROR(IF(NETWORKDAYS(R1445+1,P1445,Hoja1!F1437:F1553)<=0,\"\",NETWORKDAYS(R1445+1,P1445,Hoja1!F1437:F1553)),0)","v":""},null,null,{"$f":"IFERROR(VLOOKUP(L1445,Hoja1!$A$50:$C$63,2),\"\")","v":""},{"$f":"IFERROR(VLOOKUP(L1445,Hoja1!$A$50:$C$63,3),\"\")","v":""}]
[null,null,null,null,null,null,null,null,null,null,null,null,null,null,null,null,null,null,null,null,null,{"$f":"IFERROR(WORKDAY(T1450,AE1450,Hoja1!F1442:F1558),\"\")","v":""},"",null,"",{"$f":"IF(P1450=\"\",\"\",NETWORKDAYS(C1450+1,P1450,Hoja1!F1442:F1558))","v":""},{"$f":"IFERROR(IF(NETWORKDAYS(R1450+1,P1450,Hoja1!F1442:F1558)<=0,\"\",NETWORKDAYS(R1450+1,P1450,Hoja1!F1442:F1558)),0)","v":""},null,null,{"$f":"IFERROR(VLOOKUP(L1450,Hoja1!$A$50:$C$63,2),\"\")","v":""},{"$f":"IFERROR(VLOOKUP(L1450,Hoja1!$A$50:$C$63,3),\"\")","v":""}]
[null,null,null,null,null,null,null,null,null,null,null,null,null,null,null,null,null,null,null,null,null,{"$f":"IFERROR(WORKDAY(T1456,AE1456,Hoja1!F1448:F1564),\"\")","v":""},"",null,"",{"$f":"IF(P1456=\"\",\"\",NETWORKDAYS(C1456+1,P1456,Hoja1!F1448:F1564))","v":""},{"$f":"IFERROR(IF(NETWORKDAYS(R1456+1,P1456,Hoja1!F1448:F1564)<=0,\"\",NETWORKDAYS(R1456+1,P1456,Hoja1!F1448:F1564)),0)","v":""},null,null,{"$f":"IFERROR(VLOOKUP(L1456,Hoja1!$A$50:$C$63,2),\"\")","v":""},{"$f":"IFERROR(VLOOKUP(L1456,Hoja1!$A$50:$C$63,3),\"\")","v":""}]
[null,null,null,null,null,null,null,null,null,null,null,null,null,null,null,null,null,null,null,null,null,{"$f":"IFERROR(WORKDAY(T1457,AE1457,Hoja1!F1449:F1565),\"\")","v":""},"",null,"",{"$f":"IF(P1457=\"\",\"\",NETWORKDAYS(C1457+1,P1457,Hoja1!F1449:F1565))","v":""},{"$f":"IFERROR(IF(NETWORKDAYS(R1457+1,P1457,Hoja1!F1449:F1565)<=0,\"\",NETWORKDAYS(R1457+1,P1457,Hoja1!F1449:F1565)),0)","v":""},null,null,{"$f":"IFERROR(VLOOKUP(L1457,Hoja1!$A$50:$C$63,2),\"\")","v":""},{"$f":"IFERROR(VLOOKUP(L1457,Hoja1!$A$50:$C$63,3),\"\")","v":""}]
[null,null,null,null,null,null,null,null,null,null,null,null,null,null,null,null,null,null,null,null,null,{"$f":"IFERROR(WORKDAY(T1461,AE1461,Hoja1!F1453:F1569),\"\")","v":""},"",null,"",{"$f":"IF(P1461=\"\",\"\",NETWORKDAYS(C1461+1,P1461,Hoja1!F1453:F1569))","v":""},{"$f":"IFERROR(IF(NETWORKDAYS(R1461+1,P1461,Hoja1!F1453:F1569)<=0,\"\",NETWORKDAYS(R1461+1,P1461,Hoja1!F1453:F1569)),0)","v":""},null,null,{"$f":"IFERROR(VLOOKUP(L1461,Hoja1!$A$50:$C$63,2),\"\")","v":""},{"$f":"IFERROR(VLOOKUP(L1461,Hoja1!$A$50:$C$63,3),\"\")","v":""}]
[null,null,null,null,null,null,null,null,null,null,null,null,null,null,null,null,null,null,null,null,null,{"$f":"IFERROR(WORKDAY(T1468,AE1468,Hoja1!F1460:F1576),\"\")","v":""},"",null,"",{"$f":"IF(P1468=\"\",\"\",NETWORKDAYS(C1468+1,P1468,Hoja1!F1460:F1576))","v":""},{"$f":"IFERROR(IF(NETWORKDAYS(R1468+1,P1468,Hoja1!F1460:F1576)<=0,\"\",NETWORKDAYS(R1468+1,P1468,Hoja1!F1460:F1576)),0)","v":""},null,null,{"$f":"IFERROR(VLOOKUP(L1468,Hoja1!$A$50:$C$63,2),\"\")","v":""},{"$f":"IFERROR(VLOOKUP(L1468,Hoja1!$A$50:$C$63,3),\"\")","v":""}]
[null,null,null,null,null,null,null,null,null,null,null,null,null,null,null,null,null,null,null,null,null,{"$f":"IFERROR(WORKDAY(T1471,AE1471,Hoja1!F1463:F1579),\"\")","v":""},"",null,"",{"$f":"IF(P1471=\"\",\"\",NETWORKDAYS(C1471+1,P1471,Hoja1!F1463:F1579))","v":""},{"$f":"IFERROR(IF(NETWORKDAYS(R1471+1,P1471,Hoja1!F1463:F1579)<=0,\"\",NETWORKDAYS(R1471+1,P1471,Hoja1!F1463:F1579)),0)","v":""},null,null,{"$f":"IFERROR(VLOOKUP(L1471,Hoja1!$A$50:$C$63,2),\"\")","v":""},{"$f":"IFERROR(VLOOKUP(L1471,Hoja1!$A$50:$C$63,3),\"\")","v":""}]
[null,null,null,null,null,null,null,null,null,null,null,null,null,null,null,null,null,null,null,null,null,{"$f":"IFERROR(WORKDAY(T1475,AE1475,Hoja1!F1467:F1583),\"\")","v":""},"",null,"",{"$f":"IF(P1475=\"\",\"\",NETWORKDAYS(C1475+1,P1475,Hoja1!F1467:F1583))","v":""},{"$f":"IFERROR(IF(NETWORKDAYS(R1475+1,P1475,Hoja1!F1467:F1583)<=0,\"\",NETWORKDAYS(R1475+1,P1475,Hoja1!F1467:F1583)),0)","v":""},null,null,{"$f":"IFERROR(VLOOKUP(L1475,Hoja1!$A$50:$C$63,2),\"\")","v":""},{"$f":"IFERROR(VLOOKUP(L1475,Hoja1!$A$50:$C$63,3),\"\")","v":""}]
[null,null,null,null,null,null,null,null,null,null,null,null,null,null,null,null,null,null,null,null,null,{"$f":"IFERROR(WORKDAY(T1480,AE1480,Hoja1!F1472:F1588),\"\")","v":""},"",null,"",{"$f":"IF(P1480=\"\",\"\",NETWORKDAYS(C1480+1,P1480,Hoja1!F1472:F1588))","v":""},{"$f":"IFERROR(IF(NETWORKDAYS(R1480+1,P1480,Hoja1!F1472:F1588)<=0,\"\",NETWORKDAYS(R1480+1,P1480,Hoja1!F1472:F1588)),0)","v":""},null,null,{"$f":"IFERROR(VLOOKUP(L1480,Hoja1!$A$50:$C$63,2),\"\")","v":""},{"$f":"IFERROR(VLOOKUP(L1480,Hoja1!$A$50:$C$63,3),\"\")","v":""}]
[null,null,null,null,null,null,null,null,null,null,null,null,null,null,null,null,null,null,null,null,null,{"$f":"IFERROR(WORKDAY(T1485,AE1485,Hoja1!F1477:F1593),\"\")","v":""},"",null,"",{"$f":"IF(P1485=\"\",\"\",NETWORKDAYS(C1485+1,P1485,Hoja1!F1477:F1593))","v":""},{"$f":"IFERROR(IF(NETWORKDAYS(R1485+1,P1485,Hoja1!F1477:F1593)<=0,\"\",NETWORKDAYS(R1485+1,P1485,Hoja1!F1477:F1593)),0)","v":""},null,null,{"$f":"IFERROR(VLOOKUP(L1485,Hoja1!$A$50:$C$63,2),\"\")","v":""},{"$f":"IFERROR(VLOOKUP(L1485,Hoja1!$A$50:$C$63,3),\"\")","v":""}]
[null,null,null,null,null,null,null,null,null,null,null,null,null,null,null,null,null,null,null,null,null,{"$f":"IFERROR(WORKDAY(T1491,AE1491,Hoja1!F1483:F1599),\"\")","v":""},"",null,"",{"$f":"IF(P1491=\"\",\"\",NETWORKDAYS(C1491+1,P1491,Hoja1!F1483:F1599))","v":""},{"$f":"IFERROR(IF(NETWORKDAYS(R1491+1,P1491,Hoja1!F1483:F1599)<=0,\"\",NETWORKDAYS(R1491+1,P1491,Hoja1!F1483:F1599)),0)","v":""},null,null,{"$f":"IFERROR(VLOOKUP(L1491,Hoja1!$A$50:$C$63,2),\"\")","v":""},{"$f":"IFERROR(VLOOKUP(L1491,Hoja1!$A$50:$C$63,3),\"\")","v":""}]
[null,null,null,null,null,null,null,null,null,null,null,null,null,null,null,null,null,null,null,null,null,{"$f":"IFERROR(WORKDAY(T1495,AE1495,Hoja1!F1487:F1603),\"\")","v":""},"",null,"",{"$f":"IF(P1495=\"\",\"\",NETWORKDAYS(C1495+1,P1495,Hoja1!F1487:F1603))","v":""},{"$f":"IFERROR(IF(NETWORKDAYS(R1495+1,P1495,Hoja1!F1487:F1603)<=0,\"\",NETWORKDAYS(R1495+1,P1495,Hoja1!F1487:F1603)),0)","v":""},null,null,{"$f":"IFERROR(VLOOKUP(L1495,Hoja1!$A$50:$C$63,2),\"\")","v":""},{"$f":"IFERROR(VLOOKUP(L1495,Hoja1!$A$50:$C$63,3),\"\")","v":""}]
[null,null,null,null,null,null,null,null,null,null,null,null,null,null,null,null,null,null,null,null,null,{"$f":"IFERROR(WORKDAY(T1498,AE1498,Hoja1!F1490:F1606),\"\")","v":""},"",null,"",{"$f":"IF(P1498=\"\",\"\",NETWORKDAYS(C1498+1,P1498,Hoja1!F1490:F1606))","v":""},{"$f":"IFERROR(IF(NETWORKDAYS(R1498+1,P1498,Hoja1!F1490:F1606)<=0,\"\",NETWORKDAYS(R1498+1,P1498,Hoja1!F1490:F1606)),0)","v":""},null,null,{"$f":"IFERROR(VLOOKUP(L1498,Hoja1!$A$50:$C$63,2),\"\")","v":""},{"$f":"IFERROR(VLOOKUP(L1498,Hoja1!$A$50:$C$63,3),\"\")","v":""}]
[null,null,null,null,null,null,null,null,null,null,null,null,null,null,null,null,null,null,null,null,null,{"$f":"IFERROR(WORKDAY(T1505,AE1505,Hoja1!F1497:F1613),\"\")","v":""},"",null,"",{"$f":"IF(P1505=\"\",\"\",NETWORKDAYS(C1505+1,P1505,Hoja1!F1497:F1613))","v":""},{"$f":"IFERROR(IF(NETWORKDAYS(R1505+1,P1505,Hoja1!F1497:F1613)<=0,\"\",NETWORKDAYS(R1505+1,P1505,Hoja1!F1497:F1613)),0)","v":""},null,null,{"$f":"IFERROR(VLOOKUP(L1505,Hoja1!$A$50:$C$63,2),\"\")","v":""},{"$f":"IFERROR(VLOOKUP(L1505,Hoja1!$A$50:$C$63,3),\"\")","v":""}]
[null,null,null,null,null,null,null,null,null,null,null,null,null,null,null,null,null,null,null,null,null,{"$f":"IFERROR(WORKDAY(T1509,AE1509,Hoja1!F1501:F1617),\"\")","v":""},"",null,"",{"$f":"IF(P1509=\"\",\"\",NETWORKDAYS(C1509+1,P1509,Hoja1!F1501:F1617))","v":""},{"$f":"IFERROR(IF(NETWORKDAYS(R1509+1,P1509,Hoja1!F1501:F1617)<=0,\"\",NETWORKDAYS(R1509+1,P1509,Hoja1!F1501:F1617)),0)","v":""},null,null,{"$f":"IFERROR(VLOOKUP(L1509,Hoja1!$A$50:$C$63,2),\"\")","v":""},{"$f":"IFERROR(VLOOKUP(L1509,Hoja1!$A$50:$C$63,3),\"\")","v":""}]
[null,null,null,null,null,null,null,null,null,null,null,null,null,null,null,null,null,null,null,null,null,{"$f":"IFERROR(WORKDAY(T1510,AE1510,Hoja1!F1502:F1618),\"\")","v":""},"",null,"",{"$f":"IF(P1510=\"\",\"\",NETWORKDAYS(C1510+1,P1510,Hoja1!F1502:F1618))","v":""},{"$f":"IFERROR(IF(NETWORKDAYS(R1510+1,P1510,Hoja1!F1502:F1618)<=0,\"\",NETWORKDAYS(R1510+1,P1510,Hoja1!F1502:F1618)),0)","v":""},null,null,{"$f":"IFERROR(VLOOKUP(L1510,Hoja1!$A$50:$C$63,2),\"\")","v":""},{"$f":"IFERROR(VLOOKUP(L1510,Hoja1!$A$50:$C$63,3),\"\")","v":""}]
[null,null,null,null,null,null,null,null,null,null,null,null,null,null,null,null,null,null,null,null,null,{"$f":"IFERROR(WORKDAY(T1514,AE1514,Hoja1!F1506:F1622),\"\")","v":""},"",null,"",{"$f":"IF(P1514=\"\",\"\",NETWORKDAYS(C1514+1,P1514,Hoja1!F1506:F1622))","v":""},{"$f":"IFERROR(IF(NETWORKDAYS(R1514+1,P1514,Hoja1!F1506:F1622)<=0,\"\",NETWORKDAYS(R1514+1,P1514,Hoja1!F1506:F1622)),0)","v":""},null,null,{"$f":"IFERROR(VLOOKUP(L1514,Hoja1!$A$50:$C$63,2),\"\")","v":""},{"$f":"IFERROR(VLOOKUP(L1514,Hoja1!$A$50:$C$63,3),\"\")","v":""}]
[null,null,null,null,null,null,null,null,null,null,null,null,null,null,null,null,null,null,null,null,null,{"$f":"IFERROR(WORKDAY(T1521,AE1521,Hoja1!F1513:F1629),\"\")","v":""},"",null,"",{"$f":"IF(P1521=\"\",\"\",NETWORKDAYS(C1521+1,P1521,Hoja1!F1513:F1629))","v":""},{"$f":"IFERROR(IF(NETWORKDAYS(R1521+1,P1521,Hoja1!F1513:F1629)<=0,\"\",NETWORKDAYS(R1521+1,P1521,Hoja1!F1513:F1629)),0)","v":""},null,null,{"$f":"IFERROR(VLOOKUP(L1521,Hoja1!$A$50:$C$63,2),\"\")","v":""},{"$f":"IFERROR(VLOOKUP(L1521,Hoja1!$A$50:$C$63,3),\"\")","v":""}]
[null,null,null,null,null,null,null,null,null,null,null,null,null,null,null,null,null,null,null,null,null,{"$f":"IFERROR(WORKDAY(T1524,AE1524,Hoja1!F1516:F1632),\"\")","v":""},"",null,"",{"$f":"IF(P1524=\"\",\"\",NETWORKDAYS(C1524+1,P1524,Hoja1!F1516:F1632))","v":""},{"$f":"IFERROR(IF(NETWORKDAYS(R1524+1,P1524,Hoja1!F1516:F1632)<=0,\"\",NETWORKDAYS(R1524+1,P1524,Hoja1!F1516:F1632)),0)","v":""},null,null,{"$f":"IFERROR(VLOOKUP(L1524,Hoja1!$A$50:$C$63,2),\"\")","v":""},{"$f":"IFERROR(VLOOKUP(L1524,Hoja1!$A$50:$C$63,3),\"\")","v":""}]
[null,null,null,null,null,null,null,null,null,null,null,null,null,null,null,null,null,null,null,null,null,{"$f":"IFERROR(WORKDAY(T1528,AE1528,Hoja1!F1520:F1636),\"\")","v":""},"",null,"",{"$f":"IF(P1528=\"\",\"\",NETWORKDAYS(C1528+1,P1528,Hoja1!F1520:F1636))","v":""},{"$f":"IFERROR(IF(NETWORKDAYS(R1528+1,P1528,Hoja1!F1520:F1636)<=0,\"\",NETWORKDAYS(R1528+1,P1528,Hoja1!F1520:F1636)),0)","v":""},null,null,{"$f":"IFERROR(VLOOKUP(L1528,Hoja1!$A$50:$C$63,2),\"\")","v":""},{"$f":"IFERROR(VLOOKUP(L1528,Hoja1!$A$50:$C$63,3),\"\")","v":""}]
[null,null,null,null,null,null,null,null,null,null,null,null,null,null,null,null,null,null,null,null,null,{"$f":"IFERROR(WORKDAY(T1533,AE1533,Hoja1!F1525:F1641),\"\")","v":""},"",null,"",{"$f":"IF(P1533=\"\",\"\",NETWORKDAYS(C1533+1,P1533,Hoja1!F1525:F1641))","v":""},{"$f":"IFERROR(IF(NETWORKDAYS(R1533+1,P1533,Hoja1!F1525:F1641)<=0,\"\",NETWORKDAYS(R1533+1,P1533,Hoja1!F1525:F1641)),0)","v":""},null,null,{"$f":"IFERROR(VLOOKUP(L1533,Hoja1!$A$50:$C$63,2),\"\")","v":""},{"$f":"IFERROR(VLOOKUP(L1533,Hoja1!$A$50:$C$63,3),\"\")","v":""}]
[null,null,null,null,null,null,null,null,null,null,null,null,null,null,null,null,null,null,null,null,null,{"$f":"IFERROR(WORKDAY(T1539,AE1539,Hoja1!F1531:F1647),\"\")","v":""},"",null,"",{"$f":"IF(P1539=\"\",\"\",NETWORKDAYS(C1539+1,P1539,Hoja1!F1531:F1647))","v":""},{"$f":"IFERROR(IF(NETWORKDAYS(R1539+1,P1539,Hoja1!F1531:F1647)<=0,\"\",NETWORKDAYS(R1539+1,P1539,Hoja1!F1531:F1647)),0)","v":""},null,null,{"$f":"IFERROR(VLOOKUP(L1539,Hoja1!$A$50:$C$63,2),\"\")","v":""},{"$f":"IFERROR(VLOOKUP(L1539,Hoja1!$A$50:$C$63,3),\"\")","v":""}]
[null,null,null,null,null,null,null,null,null,null,null,null,null,null,null,null,null,null,null,null,null,{"$f":"IFERROR(WORKDAY(T1544,AE1544,Hoja1!F1536:F1652),\"\")","v":""},"",null,"",{"$f":"IF(P1544=\"\",\"\",NETWORKDAYS(C1544+1,P1544,Hoja1!F1536:F1652))","v":""},{"$f":"IFERROR(IF(NETWORKDAYS(R1544+1,P1544,Hoja1!F1536:F1652)<=0,\"\",NETWORKDAYS(R1544+1,P1544,Hoja1!F1536:F1652)),0)","v":""},null,null,{"$f":"IFERROR(VLOOKUP(L1544,Hoja1!$A$50:$C$63,2),\"\")","v":""},{"$f":"IFERROR(VLOOKUP(L1544,Hoja1!$A$50:$C$63,3),\"\")","v":""}]
[null,null,null,null,null,null,null,null,null,null,null,null,null,null,null,null,null,null,null,null,null,{"$f":"IFERROR(WORKDAY(T1547,AE1547,Hoja1!F1539:F1655),\"\")","v":""},"",null,"",{"$f":"IF(P1547=\"\",\"\",NETWORKDAYS(C1547+1,P1547,Hoja1!F1539:F1655))","v":""},{"$f":"IFERROR(IF(NETWORKDAYS(R1547+1,P1547,Hoja1!F1539:F1655)<=0,\"\",NETWORKDAYS(R1547+1,P1547,Hoja1!F1539:F1655)),0)","v":""},null,null,{"$f":"IFERROR(VLOOKUP(L1547,Hoja1!$A$50:$C$63,2),\"\")","v":""},{"$f":"IFERROR(VLOOKUP(L1547,Hoja1!$A$50:$C$63,3),\"\")","v":""}]
[null,null,null,null,null,null,null,null,null,null,null,null,null,null,null,null,null,null,null,null,null,{"$f":"IFERROR(WORKDAY(T1551,AE1551,Hoja1!F1543:F1659),\"\")","v":""},"",null,"",{"$f":"IF(P1551=\"\",\"\",NETWORKDAYS(C1551+1,P1551,Hoja1!F1543:F1659))","v":""},{"$f":"IFERROR(IF(NETWORKDAYS(R1551+1,P1551,Hoja1!F1543:F1659)<=0,\"\",NETWORKDAYS(R1551+1,P1551,Hoja1!F1543:F1659)),0)","v":""},null,null,{"$f":"IFERROR(VLOOKUP(L1551,Hoja1!$A$50:$C$63,2),\"\")","v":""},{"$f":"IFERROR(VLOOKUP(L1551,Hoja1!$A$50:$C$63,3),\"\")","v":""}]
[null,null,null,null,null,null,null,null,null,null,null,null,null,null,null,null,null,null,null,null,null,{"$f":"IFERROR(WORKDAY(T1557,AE1557,Hoja1!F1549:F1665),\"\")","v":""},"",null,"",{"$f":"IF(P1557=\"\",\"\",NETWORKDAYS(C1557+1,P1557,Hoja1!F1549:F1665))","v":""},{"$f":"IFERROR(IF(NETWORKDAYS(R1557+1,P1557,Hoja1!F1549:F1665)<=0,\"\",NETWORKDAYS(R1557+1,P1557,Hoja1!F1549:F1665)),0)","v":""},null,null,{"$f":"IFERROR(VLOOKUP(L1557,Hoja1!$A$50:$C$63,2),\"\")","v":""},{"$f":"IFERROR(VLOOKUP(L1557,Hoja1!$A$50:$C$63,3),\"\")","v":""}]
[null,null,null,null,null,null,null,null,null,null,null,null,null,null,null,null,null,null,null,null,null,{"$f":"IFERROR(WORKDAY(T1562,AE1562,Hoja1!F1554:F1670),\"\")","v":""},"",null,"",{"$f":"IF(P1562=\"\",\"\",NETWORKDAYS(C1562+1,P1562,Hoja1!F1554:F1670))","v":""},{"$f":"IFERROR(IF(NETWORKDAYS(R1562+1,P1562,Hoja1!F1554:F1670)<=0,\"\",NETWORKDAYS(R1562+1,P1562,Hoja1!F1554:F1670)),0)","v":""},null,null,{"$f":"IFERROR(VLOOKUP(L1562,Hoja1!$A$50:$C$63,2),\"\")","v":""},{"$f":"IFERROR(VLOOKUP(L1562,Hoja1!$A$50:$C$63,3),\"\")","v":""}]
[null,null,null,null,null,null,null,null,null,null,null,null,null,null,null,null,null,null,null,null,null,{"$f":"IFERROR(WORKDAY(T1567,AE1567,Hoja1!F1559:F1675),\"\")","v":""},"",null,"",{"$f":"IF(P1567=\"\",\"\",NETWORKDAYS(C1567+1,P1567,Hoja1!F1559:F1675))","v":""},{"$f":"IFERROR(IF(NETWORKDAYS(R1567+1,P1567,Hoja1!F1559:F1675)<=0,\"\",NETWORKDAYS(R1567+1,P1567,Hoja1!F1559:F1675)),0)","v":""},null,null,{"$f":"IFERROR(VLOOKUP(L1567,Hoja1!$A$50:$C$63,2),\"\")","v":""},{"$f":"IFERROR(VLOOKUP(L1567,Hoja1!$A$50:$C$63,3),\"\")","v":""}]
[null,null,null,null,null,null,null,null,null,null,null,null,null,null,null,null,null,null,null,null,null,{"$f":"IFERROR(WORKDAY(T1569,AE1569,Hoja1!F1561:F1677),\"\")","v":""},"",null,"",{"$f":"IF(P1569=\"\",\"\",NETWORKDAYS(C1569+1,P1569,Hoja1!F1561:F1677))","v":""},{"$f":"IFERROR(IF(NETWORKDAYS(R1569+1,P1569,Hoja1!F1561:F1677)<=0,\"\",NETWORKDAYS(R1569+1,P1569,Hoja1!F1561:F1677)),0)","v":""},null,null,{"$f":"IFERROR(VLOOKUP(L1569,Hoja1!$A$50:$C$63,2),\"\")","v":""},{"$f":"IFERROR(VLOOKUP(L1569,Hoja1!$A$50:$C$63,3),\"\")","v":""}]
[null,null,null,null,null,null,null,null,null,null,null,null,null,null,null,null,null,null,null,null,null,{"$f":"IFERROR(WORKDAY(T1574,AE1574,Hoja1!F1566:F1682),\"\")","v":""},"",null,"",{"$f":"IF(P1574=\"\",\"\",NETWORKDAYS(C1574+1,P1574,Hoja1!F1566:F1682))","v":""},{"$f":"IFERROR(IF(NETWORKDAYS(R1574+1,P1574,Hoja1!F1566:F1682)<=0,\"\",NETWORKDAYS(R1574+1,P1574,Hoja1!F1566:F1682)),0)","v":""},null,null,{"$f":"IFERROR(VLOOKUP(L1574,Hoja1!$A$50:$C$63,2),\"\")","v":""},{"$f":"IFERROR(VLOOKUP(L1574,Hoja1!$A$50:$C$63,3),\"\")","v":""}]
[null,null,null,null,null,null,null,null,null,null,null,null,null,null,null,null,null,null,null,null,null,{"$f":"IFERROR(WORKDAY(T1576,AE1576,Hoja1!F1568:F1684),\"\")","v":""},"",null,"",{"$f":"IF(P1576=\"\",\"\",NETWORKDAYS(C1576+1,P1576,Hoja1!F1568:F1684))","v":""},{"$f":"IFERROR(IF(NETWORKDAYS(R1576+1,P1576,Hoja1!F1568:F1684)<=0,\"\",NETWORKDAYS(R1576+1,P1576,Hoja1!F1568:F1684)),0)","v":""},null,null,{"$f":"IFERROR(VLOOKUP(L1576,Hoja1!$A$50:$C$63,2),\"\")","v":""},{"$f":"IFERROR(VLOOKUP(L1576,Hoja1!$A$50:$C$63,3),\"\")","v":""}]
[null,null,null,null,null,null,null,null,null,null,null,null,null,null,null,null,null,null,null,null,null,{"$f":"IFERROR(WORKDAY(T1581,AE1581,Hoja1!F1573:F1689),\"\")","v":""},"",null,"",{"$f":"IF(P1581=\"\",\"\",NETWORKDAYS(C1581+1,P1581,Hoja1!F1573:F1689))","v":""},{"$f":"IFERROR(IF(NETWORKDAYS(R1581+1,P1581,Hoja1!F1573:F1689)<=0,\"\",NETWORKDAYS(R1581+1,P1581,Hoja1!F1573:F1689)),0)","v":""},null,null,{"$f":"IFERROR(VLOOKUP(L1581,Hoja1!$A$50:$C$63,2),\"\")","v":""},{"$f":"IFERROR(VLOOKUP(L1581,Hoja1!$A$50:$C$63,3),\"\")","v":""}]
[null,null,null,null,null,null,null,null,null,null,null,null,null,null,null,null,null,null,null,null,null,{"$f":"IFERROR(WORKDAY(T1586,AE1586,Hoja1!F1578:F1694),\"\")","v":""},"",null,"",{"$f":"IF(P1586=\"\",\"\",NETWORKDAYS(C1586+1,P1586,Hoja1!F1578:F1694))","v":""},{"$f":"IFERROR(IF(NETWORKDAYS(R1586+1,P1586,Hoja1!F1578:F1694)<=0,\"\",NETWORKDAYS(R1586+1,P1586,Hoja1!F1578:F1694)),0)","v":""},null,null,{"$f":"IFERROR(VLOOKUP(L1586,Hoja1!$A$50:$C$63,2),\"\")","v":""},{"$f":"IFERROR(VLOOKUP(L1586,Hoja1!$A$50:$C$63,3),\"\")","v":""}]
[null,null,null,null,null,null,null,null,null,null,null,null,null,null,null,null,null,null,null,null,null,{"$f":"IFERROR(WORKDAY(T1592,AE1592,Hoja1!F1584:F1700),\"\")","v":""},"",null,"",{"$f":"IF(P1592=\"\",\"\",NETWORKDAYS(C1592+1,P1592,Hoja1!F1584:F1700))","v":""},{"$f":"IFERROR(IF(NETWORKDAYS(R1592+1,P1592,Hoja1!F1584:F1700)<=0,\"\",NETWORKDAYS(R1592+1,P1592,Hoja1!F1584:F1700)),0)","v":""},null,null,{"$f":"IFERROR(VLOOKUP(L1592,Hoja1!$A$50:$C$63,2),\"\")","v":""},{"$f":"IFERROR(VLOOKUP(L1592,Hoja1!$A$50:$C$63,3),\"\")","v":""}]
[null,null,null,null,null,null,null,null,null,null,null,null,null,null,null,null,null,null,null,null,null,{"$f":"IFERROR(WORKDAY(T1596,AE1596,Hoja1!F1588:F1704),\"\")","v":""},"",null,"",{"$f":"IF(P1596=\"\",\"\",NETWORKDAYS(C1596+1,P1596,Hoja1!F1588:F1704))","v":""},{"$f":"IFERROR(IF(NETWORKDAYS(R1596+1,P1596,Hoja1!F1588:F1704)<=0,\"\",NETWORKDAYS(R1596+1,P1596,Hoja1!F1588:F1704)),0)","v":""},null,null,{"$f":"IFERROR(VLOOKUP(L1596,Hoja1!$A$50:$C$63,2),\"\")","v":""},{"$f":"IFERROR(VLOOKUP(L1596,Hoja1!$A$50:$C$63,3),\"\")","v":""}]
[null,null,null,null,null,null,null,null,null,null,null,null,null,null,null,null,null,null,null,null,null,{"$f":"IFERROR(WORKDAY(T1599,AE1599,Hoja1!F1591:F1707),\"\")","v":""},"",null,"",{"$f":"IF(P1599=\"\",\"\",NETWORKDAYS(C1599+1,P1599,Hoja1!F1591:F1707))","v":""},{"$f":"IFERROR(IF(NETWORKDAYS(R1599+1,P1599,Hoja1!F1591:F1707)<=0,\"\",NETWORKDAYS(R1599+1,P1599,Hoja1!F1591:F1707)),0)","v":""},null,null,{"$f":"IFERROR(VLOOKUP(L1599,Hoja1!$A$50:$C$63,2),\"\")","v":""},{"$f":"IFERROR(VLOOKUP(L1599,Hoja1!$A$50:$C$63,3),\"\")","v":""}]
[null,null,null,null,null,null,null,null,null,null,null,null,null,null,null,null,null,null,null,null,null,{"$f":"IFERROR(WORKDAY(T1604,AE1604,Hoja1!F1596:F1712),\"\")","v":""},"",null,"",{"$f":"IF(P1604=\"\",\"\",NETWORKDAYS(C1604+1,P1604,Hoja1!F1596:F1712))","v":""},{"$f":"IFERROR(IF(NETWORKDAYS(R1604+1,P1604,Hoja1!F1596:F1712)<=0,\"\",NETWORKDAYS(R1604+1,P1604,Hoja1!F1596:F1712)),0)","v":""},null,null,{"$f":"IFERROR(VLOOKUP(L1604,Hoja1!$A$50:$C$63,2),\"\")","v":""},{"$f":"IFERROR(VLOOKUP(L1604,Hoja1!$A$50:$C$63,3),\"\")","v":""}]
[null,null,null,null,null,null,null,null,null,null,null,null,null,null,null,null,null,null,null,null,null,{"$f":"IFERROR(WORKDAY(T1610,AE1610,Hoja1!F1602:F1718),\"\")","v":""},{"$f":"+IF(T1610=\"\",\"\",IF(U1610=\"\",\"SIN RESPUESTA\",(IF(U1610<=V1610,\"A TIEMPO\",\"FUERA DE TIEMPO\"))))","v":""},null,{"$f":"+IF(C1610=\"\",\"\",IF(P1610=\"\",\"SIN RESPUESTA\",(IF(P1610<=R1610,\"A TIEMPO\",\"FUERA DE TIEMPO\"))))","v":""},{"$f":"IF(P1610=\"\",\"\",NETWORKDAYS(C1610+1,P1610,Hoja1!F1602:F1718))","v":""},{"$f":"IFERROR(IF(NETWORKDAYS(R1610+1,P1610,Hoja1!F1602:F1718)<=0,\"\",NETWORKDAYS(R1610+1,P1610,Hoja1!F1602:F1718)),0)","v":""},null,null,{"$f":"IFERROR(VLOOKUP(L1610,Hoja1!$A$50:$C$63,2),\"\")","v":""},{"$f":"IFERROR(VLOOKUP(L1610,Hoja1!$A$50:$C$63,3),\"\")","v":""}]
[null,null,null,null,null,null,null,null,null,null,null,null,null,null,null,null,null,null,null,null,null,{"$f":"IFERROR(WORKDAY(T1615,AE1615,Hoja1!F1607:F1723),\"\")","v":""},"",null,"",{"$f":"IF(P1615=\"\",\"\",NETWORKDAYS(C1615+1,P1615,Hoja1!F1607:F1723))","v":""},{"$f":"IFERROR(IF(NETWORKDAYS(R1615+1,P1615,Hoja1!F1607:F1723)<=0,\"\",NETWORKDAYS(R1615+1,P1615,Hoja1!F1607:F1723)),0)","v":""},null,null,{"$f":"IFERROR(VLOOKUP(L1615,Hoja1!$A$50:$C$63,2),\"\")","v":""},{"$f":"IFERROR(VLOOKUP(L1615,Hoja1!$A$50:$C$63,3),\"\")","v":""}]
[null,null,null,null,null,null,null,null,null,null,null,null,null,null,null,null,null,null,null,null,null,{"$f":"IFERROR(WORKDAY(T1620,AE1620,Hoja1!F1612:F1728),\"\")","v":""},"",null,"",{"$f":"IF(P1620=\"\",\"\",NETWORKDAYS(C1620+1,P1620,Hoja1!F1612:F1728))","v":""},{"$f":"IFERROR(IF(NETWORKDAYS(R1620+1,P1620,Hoja1!F1612:F1728)<=0,\"\",NETWORKDAYS(R1620+1,P1620,Hoja1!F1612:F1728)),0)","v":""},null,null,{"$f":"IFERROR(VLOOKUP(L1620,Hoja1!$A$50:$C$63,2),\"\")","v":""},{"$f":"IFERROR(VLOOKUP(L1620,Hoja1!$A$50:$C$63,3),\"\")","v":""}]
[null,null,null,null,null,null,null,null,null,null,null,null,null,null,null,null,null,null,null,null,null,{"$f":"IFERROR(WORKDAY(T1622,AE1622,Hoja1!F1614:F1730),\"\")","v":""},"",null,"",{"$f":"IF(P1622=\"\",\"\",NETWORKDAYS(C1622+1,P1622,Hoja1!F1614:F1730))","v":""},{"$f":"IFERROR(IF(NETWORKDAYS(R1622+1,P1622,Hoja1!F1614:F1730)<=0,\"\",NETWORKDAYS(R1622+1,P1622,Hoja1!F1614:F1730)),0)","v":""},null,null,{"$f":"IFERROR(VLOOKUP(L1622,Hoja1!$A$50:$C$63,2),\"\")","v":""},{"$f":"IFERROR(VLOOKUP(L1622,Hoja1!$A$50:$C$63,3),\"\")","v":""}]
[null,null,null,null,null,null,null,null,null,null,null,null,null,null,null,null,null,null,null,null,null,{"$f":"IFERROR(WORKDAY(T1629,AE1629,Hoja1!F1621:F1737),\"\")","v":""},"",null,"",{"$f":"IF(P1629=\"\",\"\",NETWORKDAYS(C1629+1,P1629,Hoja1!F1621:F1737))","v":""},{"$f":"IFERROR(IF(NETWORKDAYS(R1629+1,P1629,Hoja1!F1621:F1737)<=0,\"\",NETWORKDAYS(R1629+1,P1629,Hoja1!F1621:F1737)),0)","v":""},null,null,{"$f":"IFERROR(VLOOKUP(L1629,Hoja1!$A$50:$C$63,2),\"\")","v":""},{"$f":"IFERROR(VLOOKUP(L1629,Hoja1!$A$50:$C$63,3),\"\")","v":""}]
[null,null,null,null,null,null,null,null,null,null,null,null,null,null,null,null,null,null,null,null,null,{"$f":"IFERROR(WORKDAY(T1633,AE1633,Hoja1!F1625:F1741),\"\")","v":""},"",null,"",{"$f":"IF(P1633=\"\",\"\",NETWORKDAYS(C1633+1,P1633,Hoja1!F1625:F1741))","v":""},{"$f":"IFERROR(IF(NETWORKDAYS(R1633+1,P1633,Hoja1!F1625:F1741)<=0,\"\",NETWORKDAYS(R1633+1,P1633,Hoja1!F1625:F1741)),0)","v":""},null,null,{"$f":"IFERROR(VLOOKUP(L1633,Hoja1!$A$50:$C$63,2),\"\")","v":""},{"$f":"IFERROR(VLOOKUP(L1633,Hoja1!$A$50:$C$63,3),\"\")","v":""}]
[null,null,null,null,null,null,null,null,null,null,null,null,null,null,null,null,null,null,null,null,null,{"$f":"IFERROR(WORKDAY(T1634,AE1634,Hoja1!F1626:F1742),\"\")","v":""},"",null,"",{"$f":"IF(P1634=\"\",\"\",NETWORKDAYS(C1634+1,P1634,Hoja1!F1626:F1742))","v":""},{"$f":"IFERROR(IF(NETWORKDAYS(R1634+1,P1634,Hoja1!F1626:F1742)<=0,\"\",NETWORKDAYS(R1634+1,P1634,Hoja1!F1626:F1742)),0)","v":""},null,null,{"$f":"IFERROR(VLOOKUP(L1634,Hoja1!$A$50:$C$63,2),\"\")","v":""},{"$f":"IFERROR(VLOOKUP(L1634,Hoja1!$A$50:$C$63,3),\"\")","v":""}]
[null,null,null,null,null,null,null,null,null,null,null,null,null,null,null,null,null,null,null,null,null,{"$f":"IFERROR(WORKDAY(T1639,AE1639,Hoja1!F1631:F1747),\"\")","v":""},"",null,"",{"$f":"IF(P1639=\"\",\"\",NETWORKDAYS(C1639+1,P1639,Hoja1!F1631:F1747))","v":""},{"$f":"IFERROR(IF(NETWORKDAYS(R1639+1,P1639,Hoja1!F1631:F1747)<=0,\"\",NETWORKDAYS(R1639+1,P1639,Hoja1!F1631:F1747)),0)","v":""},null,null,{"$f":"IFERROR(VLOOKUP(L1639,Hoja1!$A$50:$C$63,2),\"\")","v":""},{"$f":"IFERROR(VLOOKUP(L1639,Hoja1!$A$50:$C$63,3),\"\")","v":""}]
[null,null,null,null,null,null,null,null,null,null,null,null,null,null,null,null,null,null,null,null,null,{"$f":"IFERROR(WORKDAY(T1645,AE1645,Hoja1!F1637:F1753),\"\")","v":""},"",null,"",{"$f":"IF(P1645=\"\",\"\",NETWORKDAYS(C1645+1,P1645,Hoja1!F1637:F1753))","v":""},{"$f":"IFERROR(IF(NETWORKDAYS(R1645+1,P1645,Hoja1!F1637:F1753)<=0,\"\",NETWORKDAYS(R1645+1,P1645,Hoja1!F1637:F1753)),0)","v":""},null,null,{"$f":"IFERROR(VLOOKUP(L1645,Hoja1!$A$50:$C$63,2),\"\")","v":""},{"$f":"IFERROR(VLOOKUP(L1645,Hoja1!$A$50:$C$63,3),\"\")","v":""}]
[null,null,null,null,null,null,null,null,null,null,null,null,null,null,null,null,null,null,null,null,null,{"$f":"IFERROR(WORKDAY(T1648,AE1648,Hoja1!F1640:F1756),\"\")","v":""},"",null,"",{"$f":"IF(P1648=\"\",\"\",NETWORKDAYS(C1648+1,P1648,Hoja1!F1640:F1756))","v":""},{"$f":"IFERROR(IF(NETWORKDAYS(R1648+1,P1648,Hoja1!F1640:F1756)<=0,\"\",NETWORKDAYS(R1648+1,P1648,Hoja1!F1640:F1756)),0)","v":""},null,null,{"$f":"IFERROR(VLOOKUP(L1648,Hoja1!$A$50:$C$63,2),\"\")","v":""},{"$f":"IFERROR(VLOOKUP(L1648,Hoja1!$A$50:$C$63,3),\"\")","v":""}]
[null,null,null,null,null,null,null,null,null,null,null,null,null,null,null,null,null,null,null,null,null,{"$f":"IFERROR(WORKDAY(T1652,AE1652,Hoja1!F1644:F1760),\"\")","v":""},"",null,"",{"$f":"IF(P1652=\"\",\"\",NETWORKDAYS(C1652+1,P1652,Hoja1!F1644:F1760))","v":""},{"$f":"IFERROR(IF(NETWORKDAYS(R1652+1,P1652,Hoja1!F1644:F1760)<=0,\"\",NETWORKDAYS(R1652+1,P1652,Hoja1!F1644:F1760)),0)","v":""},null,null,{"$f":"IFERROR(VLOOKUP(L1652,Hoja1!$A$50:$C$63,2),\"\")","v":""},{"$f":"IFERROR(VLOOKUP(L1652,Hoja1!$A$50:$C$63,3),\"\")","v":""}]
[null,null,null,null,null,null,null,null,null,null,null,null,null,null,null,null,null,null,null,null,null,{"$f":"IFERROR(WORKDAY(T1658,AE1658,Hoja1!F1650:F1766),\"\")","v":""},"",null,"",{"$f":"IF(P1658=\"\",\"\",NETWORKDAYS(C1658+1,P1658,Hoja1!F1650:F1766))","v":""},{"$f":"IFERROR(IF(NETWORKDAYS(R1658+1,P1658,Hoja1!F1650:F1766)<=0,\"\",NETWORKDAYS(R1658+1,P1658,Hoja1!F1650:F1766)),0)","v":""},null,null,{"$f":"IFERROR(VLOOKUP(L1658,Hoja1!$A$50:$C$63,2),\"\")","v":""},{"$f":"IFERROR(VLOOKUP(L1658,Hoja1!$A$50:$C$63,3),\"\")","v":""}]
[null,null,null,null,null,null,null,null,null,null,null,null,null,null,null,null,null,null,null,null,null,{"$f":"IFERROR(WORKDAY(T1663,AE1663,Hoja1!F1655:F1771),\"\")","v":""},"",null,"",{"$f":"IF(P1663=\"\",\"\",NETWORKDAYS(C1663+1,P1663,Hoja1!F1655:F1771))","v":""},{"$f":"IFERROR(IF(NETWORKDAYS(R1663+1,P1663,Hoja1!F1655:F1771)<=0,\"\",NETWORKDAYS(R1663+1,P1663,Hoja1!F1655:F1771)),0)","v":""},null,null,{"$f":"IFERROR(VLOOKUP(L1663,Hoja1!$A$50:$C$63,2),\"\")","v":""},{"$f":"IFERROR(VLOOKUP(L1663,Hoja1!$A$50:$C$63,3),\"\")","v":""}]
[null,null,null,null,null,null,null,null,null,null,null,null,null,null,null,null,null,null,null,null,null,{"$f":"IFERROR(WORKDAY(T1668,AE1668,Hoja1!F1660:F1776),\"\")","v":""},"",null,"",{"$f":"IF(P1668=\"\",\"\",NETWORKDAYS(C1668+1,P1668,Hoja1!F1660:F1776))","v":""},{"$f":"IFERROR(IF(NETWORKDAYS(R1668+1,P1668,Hoja1!F1660:F1776)<=0,\"\",NETWORKDAYS(R1668+1,P1668,Hoja1!F1660:F1776)),0)","v":""},null,null,{"$f":"IFERROR(VLOOKUP(L1668,Hoja1!$A$50:$C$63,2),\"\")","v":""},{"$f":"IFERROR(VLOOKUP(L1668,Hoja1!$A$50:$C$63,3),\"\")","v":""}]
[null,null,null,null,null,null,null,null,null,null,null,null,null,null,null,null,null,null,null,null,null,{"$f":"IFERROR(WORKDAY(T1672,AE1672,Hoja1!F1664:F1780),\"\")","v":""},"",null,"",{"$f":"IF(P1672=\"\",\"\",NETWORKDAYS(C1672+1,P1672,Hoja1!F1664:F1780))","v":""},{"$f":"IFERROR(IF(NETWORKDAYS(R1672+1,P1672,Hoja1!F1664:F1780)<=0,\"\",NETWORKDAYS(R1672+1,P1672,Hoja1!F1664:F1780)),0)","v":""},null,null,{"$f":"IFERROR(VLOOKUP(L1672,Hoja1!$A$50:$C$63,2),\"\")","v":""},{"$f":"IFERROR(VLOOKUP(L1672,Hoja1!$A$50:$C$63,3),\"\")","v":""}]
[null,null,null,null,null,null,null,null,null,null,null,null,null,null,null,null,null,null,null,null,null,{"$f":"IFERROR(WORKDAY(T1675,AE1675,Hoja1!F1667:F1783),\"\")","v":""},"",null,"",{"$f":"IF(P1675=\"\",\"\",NETWORKDAYS(C1675+1,P1675,Hoja1!F1667:F1783))","v":""},{"$f":"IFERROR(IF(NETWORKDAYS(R1675+1,P1675,Hoja1!F1667:F1783)<=0,\"\",NETWORKDAYS(R1675+1,P1675,Hoja1!F1667:F1783)),0)","v":""},null,null,{"$f":"IFERROR(VLOOKUP(L1675,Hoja1!$A$50:$C$63,2),\"\")","v":""},{"$f":"IFERROR(VLOOKUP(L1675,Hoja1!$A$50:$C$63,3),\"\")","v":""}]
[null,null,null,null,null,null,null,null,null,null,null,null,null,null,null,null,null,null,null,null,null,{"$f":"IFERROR(WORKDAY(T1682,AE1682,Hoja1!F1674:F1790),\"\")","v":""},"",null,"",{"$f":"IF(P1682=\"\",\"\",NETWORKDAYS(C1682+1,P1682,Hoja1!F1674:F1790))","v":""},{"$f":"IFERROR(IF(NETWORKDAYS(R1682+1,P1682,Hoja1!F1674:F1790)<=0,\"\",NETWORKDAYS(R1682+1,P1682,Hoja1!F1674:F1790)),0)","v":""},null,null,{"$f":"IFERROR(VLOOKUP(L1682,Hoja1!$A$50:$C$63,2),\"\")","v":""},{"$f":"IFERROR(VLOOKUP(L1682,Hoja1!$A$50:$C$63,3),\"\")","v":""}]
[null,null,null,null,null,null,null,null,null,null,null,null,null,null,null,null,null,null,null,null,null,{"$f":"IFERROR(WORKDAY(T1686,AE1686,Hoja1!F1678:F1794),\"\")","v":""},"",null,"",{"$f":"IF(P1686=\"\",\"\",NETWORKDAYS(C1686+1,P1686,Hoja1!F1678:F1794))","v":""},{"$f":"IFERROR(IF(NETWORKDAYS(R1686+1,P1686,Hoja1!F1678:F1794)<=0,\"\",NETWORKDAYS(R1686+1,P1686,Hoja1!F1678:F1794)),0)","v":""},null,null,{"$f":"IFERROR(VLOOKUP(L1686,Hoja1!$A$50:$C$63,2),\"\")","v":""},{"$f":"IFERROR(VLOOKUP(L1686,Hoja1!$A$50:$C$63,3),\"\")","v":""}]
[null,null,null,null,null,null,null,null,null,null,null,null,null,null,null,null,null,null,null,null,null,{"$f":"IFERROR(WORKDAY(T1687,AE1687,Hoja1!F1679:F1795),\"\")","v":""},"",null,"",{"$f":"IF(P1687=\"\",\"\",NETWORKDAYS(C1687+1,P1687,Hoja1!F1679:F1795))","v":""},{"$f":"IFERROR(IF(NETWORKDAYS(R1687+1,P1687,Hoja1!F1679:F1795)<=0,\"\",NETWORKDAYS(R1687+1,P1687,Hoja1!F1679:F1795)),0)","v":""},null,null,{"$f":"IFERROR(VLOOKUP(L1687,Hoja1!$A$50:$C$63,2),\"\")","v":""},{"$f":"IFERROR(VLOOKUP(L1687,Hoja1!$A$50:$C$63,3),\"\")","v":""}]
[null,null,null,null,null,null,null,null,null,null,null,null,null,null,null,null,null,null,null,null,null,{"$f":"IFERROR(WORKDAY(T1693,AE1693,Hoja1!F1685:F1801),\"\")","v":""},"",null,"",{"$f":"IF(P1693=\"\",\"\",NETWORKDAYS(C1693+1,P1693,Hoja1!F1685:F1801))","v":""},{"$f":"IFERROR(IF(NETWORKDAYS(R1693+1,P1693,Hoja1!F1685:F1801)<=0,\"\",NETWORKDAYS(R1693+1,P1693,Hoja1!F1685:F1801)),0)","v":""},null,null,{"$f":"IFERROR(VLOOKUP(L1693,Hoja1!$A$50:$C$63,2),\"\")","v":""},{"$f":"IFERROR(VLOOKUP(L1693,Hoja1!$A$50:$C$63,3),\"\")","v":""}]
[null,null,null,null,null,null,null,null,null,null,null,null,null,null,null,null,null,null,null,null,null,{"$f":"IFERROR(WORKDAY(T1698,AE1698,Hoja1!F1690:F1806),\"\")","v":""},"",null,"",{"$f":"IF(P1698=\"\",\"\",NETWORKDAYS(C1698+1,P1698,Hoja1!F1690:F1806))","v":""},{"$f":"IFERROR(IF(NETWORKDAYS(R1698+1,P1698,Hoja1!F1690:F1806)<=0,\"\",NETWORKDAYS(R1698+1,P1698,Hoja1!F1690:F1806)),0)","v":""},null,null,{"$f":"IFERROR(VLOOKUP(L1698,Hoja1!$A$50:$C$63,2),\"\")","v":""},{"$f":"IFERROR(VLOOKUP(L1698,Hoja1!$A$50:$C$63,3),\"\")","v":""}]
[null,null,null,null,null,null,null,null,null,null,null,null,null,null,null,null,null,null,null,null,null,{"$f":"IFERROR(WORKDAY(T1701,AE1701,Hoja1!F1693:F1809),\"\")","v":""},"",null,"",{"$f":"IF(P1701=\"\",\"\",NETWORKDAYS(C1701+1,P1701,Hoja1!F1693:F1809))","v":""},{"$f":"IFERROR(IF(NETWORKDAYS(R1701+1,P1701,Hoja1!F1693:F1809)<=0,\"\",NETWORKDAYS(R1701+1,P1701,Hoja1!F1693:F1809)),0)","v":""},null,null,{"$f":"IFERROR(VLOOKUP(L1701,Hoja1!$A$50:$C$63,2),\"\")","v":""},{"$f":"IFERROR(VLOOKUP(L1701,Hoja1!$A$50:$C$63,3),\"\")","v":""}]
[null,null,null,null,null,null,null,null,null,null,null,null,null,null,null,null,null,null,null,null,null,{"$f":"IFERROR(WORKDAY(T1705,AE1705,Hoja1!F1697:F1813),\"\")","v":""},"",null,"",{"$f":"IF(P1705=\"\",\"\",NETWORKDAYS(C1705+1,P1705,Hoja1!F1697:F1813))","v":""},{"$f":"IFERROR(IF(NETWORKDAYS(R1705+1,P1705,Hoja1!F1697:F1813)<=0,\"\",NETWORKDAYS(R1705+1,P1705,Hoja1!F1697:F1813)),0)","v":""},null,null,{"$f":"IFERROR(VLOOKUP(L1705,Hoja1!$A$50:$C$63,2),\"\")","v":""},{"$f":"IFERROR(VLOOKUP(L1705,Hoja1!$A$50:$C$63,3),\"\")","v":""}]
[null,null,null,null,null,null,null,null,null,null,null,null,null,null,null,null,null,null,null,null,null,{"$f":"IFERROR(WORKDAY(T1711,AE1711,Hoja1!F1703:F1819),\"\")","v":""},"",null,"",{"$f":"IF(P1711=\"\",\"\",NETWORKDAYS(C1711+1,P1711,Hoja1!F1703:F1819))","v":""},{"$f":"IFERROR(IF(NETWORKDAYS(R1711+1,P1711,Hoja1!F1703:F1819)<=0,\"\",NETWORKDAYS(R1711+1,P1711,Hoja1!F1703:F1819)),0)","v":""},null,null,{"$f":"IFERROR(VLOOKUP(L1711,Hoja1!$A$50:$C$63,2),\"\")","v":""},{"$f":"IFERROR(VLOOKUP(L1711,Hoja1!$A$50:$C$63,3),\"\")","v":""}]
[null,null,null,null,null,null,null,null,null,null,null,null,null,null,null,null,null,null,null,null,null,{"$f":"IFERROR(WORKDAY(T1716,AE1716,Hoja1!F1708:F1824),\"\")","v":""},"",null,"",{"$f":"IF(P1716=\"\",\"\",NETWORKDAYS(C1716+1,P1716,Hoja1!F1708:F1824))","v":""},{"$f":"IFERROR(IF(NETWORKDAYS(R1716+1,P1716,Hoja1!F1708:F1824)<=0,\"\",NETWORKDAYS(R1716+1,P1716,Hoja1!F1708:F1824)),0)","v":""},null,null,{"$f":"IFERROR(VLOOKUP(L1716,Hoja1!$A$50:$C$63,2),\"\")","v":""},{"$f":"IFERROR(VLOOKUP(L1716,Hoja1!$A$50:$C$63,3),\"\")","v":""}]
[null,null,null,null,null,null,null,null,null,null,null,null,null,null,null,null,null,null,null,null,null,{"$f":"IFERROR(WORKDAY(T1720,AE1720,Hoja1!F1712:F1828),\"\")","v":""},"",null,"",{"$f":"IF(P1720=\"\",\"\",NETWORKDAYS(C1720+1,P1720,Hoja1!F1712:F1828))","v":""},{"$f":"IFERROR(IF(NETWORKDAYS(R1720+1,P1720,Hoja1!F1712:F1828)<=0,\"\",NETWORKDAYS(R1720+1,P1720,Hoja1!F1712:F1828)),0)","v":""},null,null,{"$f":"IFERROR(VLOOKUP(L1720,Hoja1!$A$50:$C$63,2),\"\")","v":""},{"$f":"IFERROR(VLOOKUP(L1720,Hoja1!$A$50:$C$63,3),\"\")","v":""}]
[null,null,null,null,null,null,null,null,null,null,null,null,null,null,null,null,null,null,null,null,null,{"$f":"IFERROR(WORKDAY(T1723,AE1723,Hoja1!F1715:F1831),\"\")","v":""},"",null,"",{"$f":"IF(P1723=\"\",\"\",NETWORKDAYS(C1723+1,P1723,Hoja1!F1715:F1831))","v":""},{"$f":"IFERROR(IF(NETWORKDAYS(R1723+1,P1723,Hoja1!F1715:F1831)<=0,\"\",NETWORKDAYS(R1723+1,P1723,Hoja1!F1715:F1831)),0)","v":""},null,null,{"$f":"IFERROR(VLOOKUP(L1723,Hoja1!$A$50:$C$63,2),\"\")","v":""},{"$f":"IFERROR(VLOOKUP(L1723,Hoja1!$A$50:$C$63,3),\"\")","v":""}]
[null,null,null,null,null,null,null,null,null,null,null,null,null,null,null,null,null,null,null,null,null,{"$f":"IFERROR(WORKDAY(T1728,AE1728,Hoja1!F1720:F1836),\"\")","v":""},"",null,"",{"$f":"IF(P1728=\"\",\"\",NETWORKDAYS(C1728+1,P1728,Hoja1!F1720:F1836))","v":""},{"$f":"IFERROR(IF(NETWORKDAYS(R1728+1,P1728,Hoja1!F1720:F1836)<=0,\"\",NETWORKDAYS(R1728+1,P1728,Hoja1!F1720:F1836)),0)","v":""},null,null,{"$f":"IFERROR(VLOOKUP(L1728,Hoja1!$A$50:$C$63,2),\"\")","v":""},{"$f":"IFERROR(VLOOKUP(L1728,Hoja1!$A$50:$C$63,3),\"\")","v":""}]
[null,null,null,null,null,null,null,null,null,null,null,null,null,null,null,null,null,null,null,null,null,{"$f":"IFERROR(WORKDAY(T1735,AE1735,Hoja1!F1727:F1843),\"\")","v":""},"",null,"",{"$f":"IF(P1735=\"\",\"\",NETWORKDAYS(C1735+1,P1735,Hoja1!F1727:F1843))","v":""},{"$f":"IFERROR(IF(NETWORKDAYS(R1735+1,P1735,Hoja1!F1727:F1843)<=0,\"\",NETWORKDAYS(R1735+1,P1735,Hoja1!F1727:F1843)),0)","v":""},null,null,{"$f":"IFERROR(VLOOKUP(L1735,Hoja1!$A$50:$C$63,2),\"\")","v":""},{"$f":"IFERROR(VLOOKUP(L1735,Hoja1!$A$50:$C$63,3),\"\")","v":""}]
[null,null,null,null,null,null,null,null,null,null,null,null,null,null,null,null,null,null,null,null,null,{"$f":"IFERROR(WORKDAY(T1739,AE1739,Hoja1!F1731:F1847),\"\")","v":""},"",null,"",{"$f":"IF(P1739=\"\",\"\",NETWORKDAYS(C1739+1,P1739,Hoja1!F1731:F1847))","v":""},{"$f":"IFERROR(IF(NETWORKDAYS(R1739+1,P1739,Hoja1!F1731:F1847)<=0,\"\",NETWORKDAYS(R1739+1,P1739,Hoja1!F1731:F1847)),0)","v":""},null,null,{"$f":"IFERROR(VLOOKUP(L1739,Hoja1!$A$50:$C$63,2),\"\")","v":""},{"$f":"IFERROR(VLOOKUP(L1739,Hoja1!$A$50:$C$63,3),\"\")","v":""}]
[null,null,null,null,null,null,null,null,null,null,null,null,null,null,null,null,null,null,null,null,null,{"$f":"IFERROR(WORKDAY(T1744,AE1744,Hoja1!F1736:F1852),\"\")","v":""},"",null,"",{"$f":"IF(P1744=\"\",\"\",NETWORKDAYS(C1744+1,P1744,Hoja1!F1736:F1852))","v":""},{"$f":"IFERROR(IF(NETWORKDAYS(R1744+1,P1744,Hoja1!F1736:F1852)<=0,\"\",NETWORKDAYS(R1744+1,P1744,Hoja1!F1736:F1852)),0)","v":""},null,null,{"$f":"IFERROR(VLOOKUP(L1744,Hoja1!$A$50:$C$63,2),\"\")","v":""},{"$f":"IFERROR(VLOOKUP(L1744,Hoja1!$A$50:$C$63,3),\"\")","v":""}]
[null,null,null,null,null,null,null,null,null,null,null,null,null,null,null,null,null,null,null,null,null,{"$f":"IFERROR(WORKDAY(T1746,AE1746,Hoja1!F1738:F1854),\"\")","v":""},"",null,"",{"$f":"IF(P1746=\"\",\"\",NETWORKDAYS(C1746+1,P1746,Hoja1!F1738:F1854))","v":""},{"$f":"IFERROR(IF(NETWORKDAYS(R1746+1,P1746,Hoja1!F1738:F1854)<=0,\"\",NETWORKDAYS(R1746+1,P1746,Hoja1!F1738:F1854)),0)","v":""},null,null,{"$f":"IFERROR(VLOOKUP(L1746,Hoja1!$A$50:$C$63,2),\"\")","v":""},{"$f":"IFERROR(VLOOKUP(L1746,Hoja1!$A$50:$C$63,3),\"\")","v":""}]
[null,null,null,null,null,null,null,null,null,null,null,null,null,null,null,null,null,null,null,null,null,{"$f":"IFERROR(WORKDAY(T1749,AE1749,Hoja1!F1741:F1857),\"\")","v":""},"",null,"",{"$f":"IF(P1749=\"\",\"\",NETWORKDAYS(C1749+1,P1749,Hoja1!F1741:F1857))","v":""},{"$f":"IFERROR(IF(NETWORKDAYS(R1749+1,P1749,Hoja1!F1741:F1857)<=0,\"\",NETWORKDAYS(R1749+1,P1749,Hoja1!F1741:F1857)),0)","v":""},null,null,{"$f":"IFERROR(VLOOKUP(L1749,Hoja1!$A$50:$C$63,2),\"\")","v":""},{"$f":"IFERROR(VLOOKUP(L1749,Hoja1!$A$50:$C$63,3),\"\")","v":""}]
[null,null,null,null,null,null,null,null,null,null,null,null,null,null,null,null,null,null,null,null,null,{"$f":"IFERROR(WORKDAY(T1757,AE1757,Hoja1!F1749:F1865),\"\")","v":""},"",null,"",{"$f":"IF(P1757=\"\",\"\",NETWORKDAYS(C1757+1,P1757,Hoja1!F1749:F1865))","v":""},{"$f":"IFERROR(IF(NETWORKDAYS(R1757+1,P1757,Hoja1!F1749:F1865)<=0,\"\",NETWORKDAYS(R1757+1,P1757,Hoja1!F1749:F1865)),0)","v":""},null,null,{"$f":"IFERROR(VLOOKUP(L1757,Hoja1!$A$50:$C$63,2),\"\")","v":""},{"$f":"IFERROR(VLOOKUP(L1757,Hoja1!$A$50:$C$63,3),\"\")","v":""}]
[null,null,null,null,null,null,null,null,null,null,null,null,null,null,null,null,null,null,null,null,null,{"$f":"IFERROR(WORKDAY(T1758,AE1758,Hoja1!F1750:F1866),\"\")","v":""},"",null,"",{"$f":"IF(P1758=\"\",\"\",NETWORKDAYS(C1758+1,P1758,Hoja1!F1750:F1866))","v":""},{"$f":"IFERROR(IF(NETWORKDAYS(R1758+1,P1758,Hoja1!F1750:F1866)<=0,\"\",NETWORKDAYS(R1758+1,P1758,Hoja1!F1750:F1866)),0)","v":""},null,null,{"$f":"IFERROR(VLOOKUP(L1758,Hoja1!$A$50:$C$63,2),\"\")","v":""},{"$f":"IFERROR(VLOOKUP(L1758,Hoja1!$A$50:$C$63,3),\"\")","v":""}]
[null,null,null,null,null,null,null,null,null,null,null,null,null,null,null,null,null,null,null,null,null,{"$f":"IFERROR(WORKDAY(T1763,AE1763,Hoja1!F1755:F1871),\"\")","v":""},"",null,"",{"$f":"IF(P1763=\"\",\"\",NETWORKDAYS(C1763+1,P1763,Hoja1!F1755:F1871))","v":""},{"$f":"IFERROR(IF(NETWORKDAYS(R1763+1,P1763,Hoja1!F1755:F1871)<=0,\"\",NETWORKDAYS(R1763+1,P1763,Hoja1!F1755:F1871)),0)","v":""},null,null,{"$f":"IFERROR(VLOOKUP(L1763,Hoja1!$A$50:$C$63,2),\"\")","v":""},{"$f":"IFERROR(VLOOKUP(L1763,Hoja1!$A$50:$C$63,3),\"\")","v":""}]
[null,null,null,null,null,null,null,null,null,null,null,null,null,null,null,null,null,null,null,null,null,{"$f":"IFERROR(WORKDAY(T1769,AE1769,Hoja1!F1761:F1877),\"\")","v":""},"",null,"",{"$f":"IF(P1769=\"\",\"\",NETWORKDAYS(C1769+1,P1769,Hoja1!F1761:F1877))","v":""},{"$f":"IFERROR(IF(NETWORKDAYS(R1769+1,P1769,Hoja1!F1761:F1877)<=0,\"\",NETWORKDAYS(R1769+1,P1769,Hoja1!F1761:F1877)),0)","v":""},null,null,{"$f":"IFERROR(VLOOKUP(L1769,Hoja1!$A$50:$C$63,2),\"\")","v":""},{"$f":"IFERROR(VLOOKUP(L1769,Hoja1!$A$50:$C$63,3),\"\")","v":""}]
[null,null,null,null,null,null,null,null,null,null,null,null,null,null,null,null,null,null,null,null,null,{"$f":"IFERROR(WORKDAY(T1773,AE1773,Hoja1!F1765:F1881),\"\")","v":""},"",null,"",{"$f":"IF(P1773=\"\",\"\",NETWORKDAYS(C1773+1,P1773,Hoja1!F1765:F1881))","v":""},{"$f":"IFERROR(IF(NETWORKDAYS(R1773+1,P1773,Hoja1!F1765:F1881)<=0,\"\",NETWORKDAYS(R1773+1,P1773,Hoja1!F1765:F1881)),0)","v":""},null,null,{"$f":"IFERROR(VLOOKUP(L1773,Hoja1!$A$50:$C$63,2),\"\")","v":""},{"$f":"IFERROR(VLOOKUP(L1773,Hoja1!$A$50:$C$63,3),\"\")","v":""}]
[null,null,null,null,null,null,null,null,null,null,null,null,null,null,null,null,null,null,null,null,null,{"$f":"IFERROR(WORKDAY(T1776,AE1776,Hoja1!F1768:F1884),\"\")","v":""},"",null,"",{"$f":"IF(P1776=\"\",\"\",NETWORKDAYS(C1776+1,P1776,Hoja1!F1768:F1884))","v":""},{"$f":"IFERROR(IF(NETWORKDAYS(R1776+1,P1776,Hoja1!F1768:F1884)<=0,\"\",NETWORKDAYS(R1776+1,P1776,Hoja1!F1768:F1884)),0)","v":""},null,null,{"$f":"IFERROR(VLOOKUP(L1776,Hoja1!$A$50:$C$63,2),\"\")","v":""},{"$f":"IFERROR(VLOOKUP(L1776,Hoja1!$A$50:$C$63,3),\"\")","v":""}]
[null,null,null,null,null,null,null,null,null,null,null,null,null,null,null,null,null,null,null,null,null,{"$f":"IFERROR(WORKDAY(T1783,AE1783,Hoja1!F1775:F1891),\"\")","v":""},"",null,"",{"$f":"IF(P1783=\"\",\"\",NETWORKDAYS(C1783+1,P1783,Hoja1!F1775:F1891))","v":""},{"$f":"IFERROR(IF(NETWORKDAYS(R1783+1,P1783,Hoja1!F1775:F1891)<=0,\"\",NETWORKDAYS(R1783+1,P1783,Hoja1!F1775:F1891)),0)","v":""},null,null,{"$f":"IFERROR(VLOOKUP(L1783,Hoja1!$A$50:$C$63,2),\"\")","v":""},{"$f":"IFERROR(VLOOKUP(L1783,Hoja1!$A$50:$C$63,3),\"\")","v":""}]
[null,null,null,null,null,null,null,null,null,null,null,null,null,null,null,null,null,null,null,null,null,{"$f":"IFERROR(WORKDAY(T1787,AE1787,Hoja1!F1779:F1895),\"\")","v":""},"",null,"",{"$f":"IF(P1787=\"\",\"\",NETWORKDAYS(C1787+1,P1787,Hoja1!F1779:F1895))","v":""},{"$f":"IFERROR(IF(NETWORKDAYS(R1787+1,P1787,Hoja1!F1779:F1895)<=0,\"\",NETWORKDAYS(R1787+1,P1787,Hoja1!F1779:F1895)),0)","v":""},null,null,{"$f":"IFERROR(VLOOKUP(L1787,Hoja1!$A$50:$C$63,2),\"\")","v":""},{"$f":"IFERROR(VLOOKUP(L1787,Hoja1!$A$50:$C$63,3),\"\")","v":""}]
[null,null,null,null,null,null,null,null,null,null,null,null,null,null,null,null,null,null,null,null,null,{"$f":"IFERROR(WORKDAY(T1792,AE1792,Hoja1!F1784:F1900),\"\")","v":""},"",null,"",{"$f":"IF(P1792=\"\",\"\",NETWORKDAYS(C1792+1,P1792,Hoja1!F1784:F1900))","v":""},{"$f":"IFERROR(IF(NETWORKDAYS(R1792+1,P1792,Hoja1!F1784:F1900)<=0,\"\",NETWORKDAYS(R1792+1,P1792,Hoja1!F1784:F1900)),0)","v":""},null,null,{"$f":"IFERROR(VLOOKUP(L1792,Hoja1!$A$50:$C$63,2),\"\")","v":""},{"$f":"IFERROR(VLOOKUP(L1792,Hoja1!$A$50:$C$63,3),\"\")","v":""}]
[null,null,null,null,null,null,null,null,null,null,null,null,null,null,null,null,null,null,null,null,null,{"$f":"IFERROR(WORKDAY(T1797,AE1797,Hoja1!F1789:F1905),\"\")","v":""},"",null,"",{"$f":"IF(P1797=\"\",\"\",NETWORKDAYS(C1797+1,P1797,Hoja1!F1789:F1905))","v":""},{"$f":"IFERROR(IF(NETWORKDAYS(R1797+1,P1797,Hoja1!F1789:F1905)<=0,\"\",NETWORKDAYS(R1797+1,P1797,Hoja1!F1789:F1905)),0)","v":""},null,null,{"$f":"IFERROR(VLOOKUP(L1797,Hoja1!$A$50:$C$63,2),\"\")","v":""},{"$f":"IFERROR(VLOOKUP(L1797,Hoja1!$A$50:$C$63,3),\"\")","v":""}]
[null,null,null,null,null,null,null,null,null,null,null,null,null,null,null,null,null,null,null,null,null,{"$f":"IFERROR(WORKDAY(T1799,AE1799,Hoja1!F1791:F1907),\"\")","v":""},"",null,"",{"$f":"IF(P1799=\"\",\"\",NETWORKDAYS(C1799+1,P1799,Hoja1!F1791:F1907))","v":""},{"$f":"IFERROR(IF(NETWORKDAYS(R1799+1,P1799,Hoja1!F1791:F1907)<=0,\"\",NETWORKDAYS(R1799+1,P1799,Hoja1!F1791:F1907)),0)","v":""},null,null,{"$f":"IFERROR(VLOOKUP(L1799,Hoja1!$A$50:$C$63,2),\"\")","v":""},{"$f":"IFERROR(VLOOKUP(L1799,Hoja1!$A$50:$C$63,3),\"\")","v":""}]
[null,null,null,null,null,null,null,null,null,null,null,null,null,null,null,null,null,null,null,null,null,{"$f":"IFERROR(WORKDAY(T1802,AE1802,Hoja1!F1794:F1910),\"\")","v":""},{"$f":"+IF(T1802=\"\",\"\",IF(U1802=\"\",\"SIN RESPUESTA\",(IF(U1802<=V1802,\"A TIEMPO\",\"FUERA DE TIEMPO\"))))","v":""},null,{"$f":"+IF(C1802=\"\",\"\",IF(P1802=\"\",\"SIN RESPUESTA\",(IF(P1802<=R1802,\"A TIEMPO\",\"FUERA DE TIEMPO\"))))","v":""},{"$f":"IF(P1802=\"\",\"\",NETWORKDAYS(C1802+1,P1802,Hoja1!F1794:F1910))","v":""},{"$f":"IFERROR(IF(NETWORKDAYS(R1802+1,P1802,Hoja1!F1794:F1910)<=0,\"\",NETWORKDAYS(R1802+1,P1802,Hoja1!F1794:F1910)),0)","v":""},null,null,{"$f":"IFERROR(VLOOKUP(L1802,Hoja1!$A$50:$C$63,2),\"\")","v":""},{"$f":"IFERROR(VLOOKUP(L1802,Hoja1!$A$50:$C$63,3),\"\")","v":""}]
[null,null,null,null,null,null,null,null,null,null,null,null,null,null,null,null,null,null,null,null,null,{"$f":"IFERROR(WORKDAY(T1810,AE1810,Hoja1!F1802:F1918),\"\")","v":""},"",null,"",{"$f":"IF(P1810=\"\",\"\",NETWORKDAYS(C1810+1,P1810,Hoja1!F1802:F1918))","v":""},{"$f":"IFERROR(IF(NETWORKDAYS(R1810+1,P1810,Hoja1!F1802:F1918)<=0,\"\",NETWORKDAYS(R1810+1,P1810,Hoja1!F1802:F1918)),0)","v":""},null,null,{"$f":"IFERROR(VLOOKUP(L1810,Hoja1!$A$50:$C$63,2),\"\")","v":""},{"$f":"IFERROR(VLOOKUP(L1810,Hoja1!$A$50:$C$63,3),\"\")","v":""}]
[null,null,null,null,null,null,null,null,null,null,null,null,null,null,null,null,null,null,null,null,null,{"$f":"IFERROR(WORKDAY(T1811,AE1811,Hoja1!F1803:F1919),\"\")","v":""},"",null,"",{"$f":"IF(P1811=\"\",\"\",NETWORKDAYS(C1811+1,P1811,Hoja1!F1803:F1919))","v":""},{"$f":"IFERROR(IF(NETWORKDAYS(R1811+1,P1811,Hoja1!F1803:F1919)<=0,\"\",NETWORKDAYS(R1811+1,P1811,Hoja1!F1803:F1919)),0)","v":""},null,null,{"$f":"IFERROR(VLOOKUP(L1811,Hoja1!$A$50:$C$63,2),\"\")","v":""},{"$f":"IFERROR(VLOOKUP(L1811,Hoja1!$A$50:$C$63,3),\"\")","v":""}]
[null,null,null,null,null,null,null,null,null,null,null,null,null,null,null,null,null,null,null,null,null,{"$f":"IFERROR(WORKDAY(T1817,AE1817,Hoja1!F1809:F1925),\"\")","v":""},"",null,"",{"$f":"IF(P1817=\"\",\"\",NETWORKDAYS(C1817+1,P1817,Hoja1!F1809:F1925))","v":""},{"$f":"IFERROR(IF(NETWORKDAYS(R1817+1,P1817,Hoja1!F1809:F1925)<=0,\"\",NETWORKDAYS(R1817+1,P1817,Hoja1!F1809:F1925)),0)","v":""},null,null,{"$f":"IFERROR(VLOOKUP(L1817,Hoja1!$A$50:$C$63,2),\"\")","v":""},{"$f":"IFERROR(VLOOKUP(L1817,Hoja1!$A$50:$C$63,3),\"\")","v":""}]
[null,null,null,null,null,null,null,null,null,null,null,null,null,null,null,null,null,null,null,null,null,{"$f":"IFERROR(WORKDAY(T1822,AE1822,Hoja1!F1814:F1930),\"\")","v":""},"",null,"",{"$f":"IF(P1822=\"\",\"\",NETWORKDAYS(C1822+1,P1822,Hoja1!F1814:F1930))","v":""},{"$f":"IFERROR(IF(NETWORKDAYS(R1822+1,P1822,Hoja1!F1814:F1930)<=0,\"\",NETWORKDAYS(R1822+1,P1822,Hoja1!F1814:F1930)),0)","v":""},null,null,{"$f":"IFERROR(VLOOKUP(L1822,Hoja1!$A$50:$C$63,2),\"\")","v":""},{"$f":"IFERROR(VLOOKUP(L1822,Hoja1!$A$50:$C$63,3),\"\")","v":""}]
[null,null,null,null,null,null,null,null,null,null,null,null,null,null,null,null,null,null,null,null,null,{"$f":"IFERROR(WORKDAY(T1826,AE1826,Hoja1!F1818:F1934),\"\")","v":""},"",null,"",{"$f":"IF(P1826=\"\",\"\",NETWORKDAYS(C1826+1,P1826,Hoja1!F1818:F1934))","v":""},{"$f":"IFERROR(IF(NETWORKDAYS(R1826+1,P1826,Hoja1!F1818:F1934)<=0,\"\",NETWORKDAYS(R1826+1,P1826,Hoja1!F1818:F1934)),0)","v":""},null,null,{"$f":"IFERROR(VLOOKUP(L1826,Hoja1!$A$50:$C$63,2),\"\")","v":""},{"$f":"IFERROR(VLOOKUP(L1826,Hoja1!$A$50:$C$63,3),\"\")","v":""}]
[null,null,null,null,null,null,null,null,null,null,null,null,null,null,null,null,null,null,null,null,null,{"$f":"IFERROR(WORKDAY(T1829,AE1829,Hoja1!F1821:F1937),\"\")","v":""},"",null,"",{"$f":"IF(P1829=\"\",\"\",NETWORKDAYS(C1829+1,P1829,Hoja1!F1821:F1937))","v":""},{"$f":"IFERROR(IF(NETWORKDAYS(R1829+1,P1829,Hoja1!F1821:F1937)<=0,\"\",NETWORKDAYS(R1829+1,P1829,Hoja1!F1821:F1937)),0)","v":""},null,null,{"$f":"IFERROR(VLOOKUP(L1829,Hoja1!$A$50:$C$63,2),\"\")","v":""},{"$f":"IFERROR(VLOOKUP(L1829,Hoja1!$A$50:$C$63,3),\"\")","v":""}]
[null,null,null,null,null,null,null,null,null,null,null,null,null,null,null,null,null,null,null,null,null,{"$f":"IFERROR(WORKDAY(T1835,AE1835,Hoja1!F1827:F1943),\"\")","v":""},"",null,"",{"$f":"IF(P1835=\"\",\"\",NETWORKDAYS(C1835+1,P1835,Hoja1!F1827:F1943))","v":""},{"$f":"IFERROR(IF(NETWORKDAYS(R1835+1,P1835,Hoja1!F1827:F1943)<=0,\"\",NETWORKDAYS(R1835+1,P1835,Hoja1!F1827:F1943)),0)","v":""},null,null,{"$f":"IFERROR(VLOOKUP(L1835,Hoja1!$A$50:$C$63,2),\"\")","v":""},{"$f":"IFERROR(VLOOKUP(L1835,Hoja1!$A$50:$C$63,3),\"\")","v":""}]
[null,null,null,null,null,null,null,null,null,null,null,null,null,null,null,null,null,null,null,null,null,{"$f":"IFERROR(WORKDAY(T1840,AE1840,Hoja1!F1832:F1948),\"\")","v":""},"",null,"",{"$f":"IF(P1840=\"\",\"\",NETWORKDAYS(C1840+1,P1840,Hoja1!F1832:F1948))","v":""},{"$f":"IFERROR(IF(NETWORKDAYS(R1840+1,P1840,Hoja1!F1832:F1948)<=0,\"\",NETWORKDAYS(R1840+1,P1840,Hoja1!F1832:F1948)),0)","v":""},null,null,{"$f":"IFERROR(VLOOKUP(L1840,Hoja1!$A$50:$C$63,2),\"\")","v":""},{"$f":"IFERROR(VLOOKUP(L1840,Hoja1!$A$50:$C$63,3),\"\")","v":""}]
[null,null,null,null,null,null,null,null,null,null,null,null,null,null,null,null,null,null,null,null,null,{"$f":"IFERROR(WORKDAY(T1845,AE1845,Hoja1!F1837:F1953),\"\")","v":""},"",null,"",{"$f":"IF(P1845=\"\",\"\",NETWORKDAYS(C1845+1,P1845,Hoja1!F1837:F1953))","v":""},{"$f":"IFERROR(IF(NETWORKDAYS(R1845+1,P1845,Hoja1!F1837:F1953)<=0,\"\",NETWORKDAYS(R1845+1,P1845,Hoja1!F1837:F1953)),0)","v":""},null,null,{"$f":"IFERROR(VLOOKUP(L1845,Hoja1!$A$50:$C$63,2),\"\")","v":""},{"$f":"IFERROR(VLOOKUP(L1845,Hoja1!$A$50:$C$63,3),\"\")","v":""}]
[null,null,null,null,null,null,null,null,null,null,null,null,null,null,null,null,null,null,null,null,null,{"$f":"IFERROR(WORKDAY(T1847,AE1847,Hoja1!F1839:F1955),\"\")","v":""},"",null,"",{"$f":"IF(P1847=\"\",\"\",NETWORKDAYS(C1847+1,P1847,Hoja1!F1839:F1955))","v":""},{"$f":"IFERROR(IF(NETWORKDAYS(R1847+1,P1847,Hoja1!F1839:F1955)<=0,\"\",NETWORKDAYS(R1847+1,P1847,Hoja1!F1839:F1955)),0)","v":""},null,null,{"$f":"IFERROR(VLOOKUP(L1847,Hoja1!$A$50:$C$63,2),\"\")","v":""},{"$f":"IFERROR(VLOOKUP(L1847,Hoja1!$A$50:$C$63,3),\"\")","v":""}]
[null,null,null,null,null,null,null,null,null,null,null,null,null,null,null,null,null,null,null,null,null,{"$f":"IFERROR(WORKDAY(T1852,AE1852,Hoja1!F1844:F1960),\"\")","v":""},"",null,"",{"$f":"IF(P1852=\"\",\"\",NETWORKDAYS(C1852+1,P1852,Hoja1!F1844:F1960))","v":""},{"$f":"IFERROR(IF(NETWORKDAYS(R1852+1,P1852,Hoja1!F1844:F1960)<=0,\"\",NETWORKDAYS(R1852+1,P1852,Hoja1!F1844:F1960)),0)","v":""},null,null,{"$f":"IFERROR(VLOOKUP(L1852,Hoja1!$A$50:$C$63,2),\"\")","v":""},{"$f":"IFERROR(VLOOKUP(L1852,Hoja1!$A$50:$C$63,3),\"\")","v":""}]
[null,null,null,null,null,null,null,null,null,null,null,null,null,null,null,null,null,null,null,null,null,{"$f":"IFERROR(WORKDAY(T1859,AE1859,Hoja1!F1851:F1967),\"\")","v":""},"",null,"",{"$f":"IF(P1859=\"\",\"\",NETWORKDAYS(C1859+1,P1859,Hoja1!F1851:F1967))","v":""},{"$f":"IFERROR(IF(NETWORKDAYS(R1859+1,P1859,Hoja1!F1851:F1967)<=0,\"\",NETWORKDAYS(R1859+1,P1859,Hoja1!F1851:F1967)),0)","v":""},null,null,{"$f":"IFERROR(VLOOKUP(L1859,Hoja1!$A$50:$C$63,2),\"\")","v":""},{"$f":"IFERROR(VLOOKUP(L1859,Hoja1!$A$50:$C$63,3),\"\")","v":""}]
[null,null,null,null,null,null,null,null,null,null,null,null,null,null,null,null,null,null,null,null,null,{"$f":"IFERROR(WORKDAY(T1863,AE1863,Hoja1!F1855:F1971),\"\")","v":""},"",null,"",{"$f":"IF(P1863=\"\",\"\",NETWORKDAYS(C1863+1,P1863,Hoja1!F1855:F1971))","v":""},{"$f":"IFERROR(IF(NETWORKDAYS(R1863+1,P1863,Hoja1!F1855:F1971)<=0,\"\",NETWORKDAYS(R1863+1,P1863,Hoja1!F1855:F1971)),0)","v":""},null,null,{"$f":"IFERROR(VLOOKUP(L1863,Hoja1!$A$50:$C$63,2),\"\")","v":""},{"$f":"IFERROR(VLOOKUP(L1863,Hoja1!$A$50:$C$63,3),\"\")","v":""}]
[null,null,null,null,null,null,null,null,null,null,null,null,null,null,null,null,null,null,null,null,null,{"$f":"IFERROR(WORKDAY(T1864,AE1864,Hoja1!F1856:F1972),\"\")","v":""},"",null,"",{"$f":"IF(P1864=\"\",\"\",NETWORKDAYS(C1864+1,P1864,Hoja1!F1856:F1972))","v":""},{"$f":"IFERROR(IF(NETWORKDAYS(R1864+1,P1864,Hoja1!F1856:F1972)<=0,\"\",NETWORKDAYS(R1864+1,P1864,Hoja1!F1856:F1972)),0)","v":""},null,null,{"$f":"IFERROR(VLOOKUP(L1864,Hoja1!$A$50:$C$63,2),\"\")","v":""},{"$f":"IFERROR(VLOOKUP(L1864,Hoja1!$A$50:$C$63,3),\"\")","v":""}]
[null,null,null,null,null,null,null,null,null,null,null,null,null,null,null,null,null,null,null,null,null,{"$f":"IFERROR(WORKDAY(T1870,AE1870,Hoja1!F1862:F1978),\"\")","v":""},"",null,"",{"$f":"IF(P1870=\"\",\"\",NETWORKDAYS(C1870+1,P1870,Hoja1!F1862:F1978))","v":""},{"$f":"IFERROR(IF(NETWORKDAYS(R1870+1,P1870,Hoja1!F1862:F1978)<=0,\"\",NETWORKDAYS(R1870+1,P1870,Hoja1!F1862:F1978)),0)","v":""},null,null,{"$f":"IFERROR(VLOOKUP(L1870,Hoja1!$A$50:$C$63,2),\"\")","v":""},{"$f":"IFERROR(VLOOKUP(L1870,Hoja1!$A$50:$C$63,3),\"\")","v":""}]
[null,null,null,null,null,null,null,null,null,null,null,null,null,null,null,null,null,null,null,null,null,{"$f":"IFERROR(WORKDAY(T1874,AE1874,Hoja1!F1866:F1982),\"\")","v":""},"",null,"",{"$f":"IF(P1874=\"\",\"\",NETWORKDAYS(C1874+1,P1874,Hoja1!F1866:F1982))","v":""},{"$f":"IFERROR(IF(NETWORKDAYS(R1874+1,P1874,Hoja1!F1866:F1982)<=0,\"\",NETWORKDAYS(R1874+1,P1874,Hoja1!F1866:F1982)),0)","v":""},null,null,{"$f":"IFERROR(VLOOKUP(L1874,Hoja1!$A$50:$C$63,2),\"\")","v":""},{"$f":"IFERROR(VLOOKUP(L1874,Hoja1!$A$50:$C$63,3),\"\")","v":""}]
[null,null,null,null,null,null,null,null,null,null,null,null,null,null,null,null,null,null,null,null,null,{"$f":"IFERROR(WORKDAY(T1881,AE1881,Hoja1!F1873:F1989),\"\")","v":""},"",null,"",{"$f":"IF(P1881=\"\",\"\",NETWORKDAYS(C1881+1,P1881,Hoja1!F1873:F1989))","v":""},{"$f":"IFERROR(IF(NETWORKDAYS(R1881+1,P1881,Hoja1!F1873:F1989)<=0,\"\",NETWORKDAYS(R1881+1,P1881,Hoja1!F1873:F1989)),0)","v":""},null,null,{"$f":"IFERROR(VLOOKUP(L1881,Hoja1!$A$50:$C$63,2),\"\")","v":""},{"$f":"IFERROR(VLOOKUP(L1881,Hoja1!$A$50:$C$63,3),\"\")","v":""}]
[null,null,null,null,null,null,null,null,null,null,null,null,null,null,null,null,null,null,null,null,null,{"$f":"IFERROR(WORKDAY(T1884,AE1884,Hoja1!F1876:F1992),\"\")","v":""},"",null,"",{"$f":"IF(P1884=\"\",\"\",NETWORKDAYS(C1884+1,P1884,Hoja1!F1876:F1992))","v":""},{"$f":"IFERROR(IF(NETWORKDAYS(R1884+1,P1884,Hoja1!F1876:F1992)<=0,\"\",NETWORKDAYS(R1884+1,P1884,Hoja1!F1876:F1992)),0)","v":""},null,null,{"$f":"IFERROR(VLOOKUP(L1884,Hoja1!$A$50:$C$63,2),\"\")","v":""},{"$f":"IFERROR(VLOOKUP(L1884,Hoja1!$A$50:$C$63,3),\"\")","v":""}]
[null,null,null,null,null,null,null,null,null,null,null,null,null,null,null,null,null,null,null,null,null,{"$f":"IFERROR(WORKDAY(T1888,AE1888,Hoja1!F1880:F1996),\"\")","v":""},"",null,"",{"$f":"IF(P1888=\"\",\"\",NETWORKDAYS(C1888+1,P1888,Hoja1!F1880:F1996))","v":""},{"$f":"IFERROR(IF(NETWORKDAYS(R1888+1,P1888,Hoja1!F1880:F1996)<=0,\"\",NETWORKDAYS(R1888+1,P1888,Hoja1!F1880:F1996)),0)","v":""},null,null,{"$f":"IFERROR(VLOOKUP(L1888,Hoja1!$A$50:$C$63,2),\"\")","v":""},{"$f":"IFERROR(VLOOKUP(L1888,Hoja1!$A$50:$C$63,3),\"\")","v":""}]
[null,null,null,null,null,null,null,null,null,null,null,null,null,null,null,null,null,null,null,null,null,{"$f":"IFERROR(WORKDAY(T1893,AE1893,Hoja1!F1885:F2001),\"\")","v":""},"",null,"",{"$f":"IF(P1893=\"\",\"\",NETWORKDAYS(C1893+1,P1893,Hoja1!F1885:F2001))","v":""},{"$f":"IFERROR(IF(NETWORKDAYS(R1893+1,P1893,Hoja1!F1885:F2001)<=0,\"\",NETWORKDAYS(R1893+1,P1893,Hoja1!F1885:F2001)),0)","v":""},null,null,{"$f":"IFERROR(VLOOKUP(L1893,Hoja1!$A$50:$C$63,2),\"\")","v":""},{"$f":"IFERROR(VLOOKUP(L1893,Hoja1!$A$50:$C$63,3),\"\")","v":""}]
[null,null,null,null,null,null,null,null,null,null,null,null,null,null,null,null,null,null,null,null,null,{"$f":"IFERROR(WORKDAY(T1898,AE1898,Hoja1!F1890:F2006),\"\")","v":""},"",null,"",{"$f":"IF(P1898=\"\",\"\",NETWORKDAYS(C1898+1,P1898,Hoja1!F1890:F2006))","v":""},{"$f":"IFERROR(IF(NETWORKDAYS(R1898+1,P1898,Hoja1!F1890:F2006)<=0,\"\",NETWORKDAYS(R1898+1,P1898,Hoja1!F1890:F2006)),0)","v":""},null,null,{"$f":"IFERROR(VLOOKUP(L1898,Hoja1!$A$50:$C$63,2),\"\")","v":""},{"$f":"IFERROR(VLOOKUP(L1898,Hoja1!$A$50:$C$63,3),\"\")","v":""}]
[null,null,null,null,null,null,null,null,null,null,null,null,null,null,null,null,null,null,null,null,null,{"$f":"IFERROR(WORKDAY(T1900,AE1900,Hoja1!F1892:F2008),\"\")","v":""},"",null,"",{"$f":"IF(P1900=\"\",\"\",NETWORKDAYS(C1900+1,P1900,Hoja1!F1892:F2008))","v":""},{"$f":"IFERROR(IF(NETWORKDAYS(R1900+1,P1900,Hoja1!F1892:F2008)<=0,\"\",NETWORKDAYS(R1900+1,P1900,Hoja1!F1892:F2008)),0)","v":""},null,null,{"$f":"IFERROR(VLOOKUP(L1900,Hoja1!$A$50:$C$63,2),\"\")","v":""},{"$f":"IFERROR(VLOOKUP(L1900,Hoja1!$A$50:$C$63,3),\"\")","v":""}]
[null,null,null,null,null,null,null,null,null,null,null,null,null,null,null,null,null,null,null,null,null,{"$f":"IFERROR(WORKDAY(T1907,AE1907,Hoja1!F1899:F2015),\"\")","v":""},"",null,"",{"$f":"IF(P1907=\"\",\"\",NETWORKDAYS(C1907+1,P1907,Hoja1!F1899:F2015))","v":""},{"$f":"IFERROR(IF(NETWORKDAYS(R1907+1,P1907,Hoja1!F1899:F2015)<=0,\"\",NETWORKDAYS(R1907+1,P1907,Hoja1!F1899:F2015)),0)","v":""},null,null,{"$f":"IFERROR(VLOOKUP(L1907,Hoja1!$A$50:$C$63,2),\"\")","v":""},{"$f":"IFERROR(VLOOKUP(L1907,Hoja1!$A$50:$C$63,3),\"\")","v":""}]
[null,null,null,null,null,null,null,null,null,null,null,null,null,null,null,null,null,null,null,null,null,{"$f":"IFERROR(WORKDAY(T1911,AE1911,Hoja1!F1903:F2019),\"\")","v":""},"",null,"",{"$f":"IF(P1911=\"\",\"\",NETWORKDAYS(C1911+1,P1911,Hoja1!F1903:F2019))","v":""},{"$f":"IFERROR(IF(NETWORKDAYS(R1911+1,P1911,Hoja1!F1903:F2019)<=0,\"\",NETWORKDAYS(R1911+1,P1911,Hoja1!F1903:F2019)),0)","v":""},null,null,{"$f":"IFERROR(VLOOKUP(L1911,Hoja1!$A$50:$C$63,2),\"\")","v":""},{"$f":"IFERROR(VLOOKUP(L1911,Hoja1!$A$50:$C$63,3),\"\")","v":""}]
[null,null,null,null,null,null,null,null,null,null,null,null,null,null,null,null,null,null,null,null,null,{"$f":"IFERROR(WORKDAY(T1917,AE1917,Hoja1!F1909:F2025),\"\")","v":""},"",null,"",{"$f":"IF(P1917=\"\",\"\",NETWORKDAYS(C1917+1,P1917,Hoja1!F1909:F2025))","v":""},{"$f":"IFERROR(IF(NETWORKDAYS(R1917+1,P1917,Hoja1!F1909:F2025)<=0,\"\",NETWORKDAYS(R1917+1,P1917,Hoja1!F1909:F2025)),0)","v":""},null,null,{"$f":"IFERROR(VLOOKUP(L1917,Hoja1!$A$50:$C$63,2),\"\")","v":""},{"$f":"IFERROR(VLOOKUP(L1917,Hoja1!$A$50:$C$63,3),\"\")","v":""}]
[null,null,null,null,null,null,null,null,null,null,null,null,null,null,null,null,null,null,null,null,null,{"$f":"IFERROR(WORKDAY(T1918,AE1918,Hoja1!F1910:F2026),\"\")","v":""},"",null,"",{"$f":"IF(P1918=\"\",\"\",NETWORKDAYS(C1918+1,P1918,Hoja1!F1910:F2026))","v":""},{"$f":"IFERROR(IF(NETWORKDAYS(R1918+1,P1918,Hoja1!F1910:F2026)<=0,\"\",NETWORKDAYS(R1918+1,P1918,Hoja1!F1910:F2026)),0)","v":""},null,null,{"$f":"IFERROR(VLOOKUP(L1918,Hoja1!$A$50:$C$63,2),\"\")","v":""},{"$f":"IFERROR(VLOOKUP(L1918,Hoja1!$A$50:$C$63,3),\"\")","v":""}]
[null,null,null,null,null,null,null,null,null,null,null,null,null,null,null,null,null,null,null,null,null,{"$f":"IFERROR(WORKDAY(T1923,AE1923,Hoja1!F1915:F2031),\"\")","v":""},"",null,"",{"$f":"IF(P1923=\"\",\"\",NETWORKDAYS(C1923+1,P1923,Hoja1!F1915:F2031))","v":""},{"$f":"IFERROR(IF(NETWORKDAYS(R1923+1,P1923,Hoja1!F1915:F2031)<=0,\"\",NETWORKDAYS(R1923+1,P1923,Hoja1!F1915:F2031)),0)","v":""},null,null,{"$f":"IFERROR(VLOOKUP(L1923,Hoja1!$A$50:$C$63,2),\"\")","v":""},{"$f":"IFERROR(VLOOKUP(L1923,Hoja1!$A$50:$C$63,3),\"\")","v":""}]
[null,null,null,null,null,null,null,null,null,null,null,null,null,null,null,null,null,null,null,null,null,{"$f":"IFERROR(WORKDAY(T1926,AE1926,Hoja1!F1918:F2034),\"\")","v":""},"",null,"",{"$f":"IF(P1926=\"\",\"\",NETWORKDAYS(C1926+1,P1926,Hoja1!F1918:F2034))","v":""},{"$f":"IFERROR(IF(NETWORKDAYS(R1926+1,P1926,Hoja1!F1918:F2034)<=0,\"\",NETWORKDAYS(R1926+1,P1926,Hoja1!F1918:F2034)),0)","v":""},null,null,{"$f":"IFERROR(VLOOKUP(L1926,Hoja1!$A$50:$C$63,2),\"\")","v":""},{"$f":"IFERROR(VLOOKUP(L1926,Hoja1!$A$50:$C$63,3),\"\")","v":""}]
[null,null,null,null,null,null,null,null,null,null,null,null,null,null,null,null,null,null,null,null,null,{"$f":"IFERROR(WORKDAY(T1934,AE1934,Hoja1!F1926:F2042),\"\")","v":""},"",null,"",{"$f":"IF(P1934=\"\",\"\",NETWORKDAYS(C1934+1,P1934,Hoja1!F1926:F2042))","v":""},{"$f":"IFERROR(IF(NETWORKDAYS(R1934+1,P1934,Hoja1!F1926:F2042)<=0,\"\",NETWORKDAYS(R1934+1,P1934,Hoja1!F1926:F2042)),0)","v":""},null,null,{"$f":"IFERROR(VLOOKUP(L1934,Hoja1!$A$50:$C$63,2),\"\")","v":""},{"$f":"IFERROR(VLOOKUP(L1934,Hoja1!$A$50:$C$63,3),\"\")","v":""}]
[null,null,null,null,null,null,null,null,null,null,null,null,null,null,null,null,null,null,null,null,null,{"$f":"IFERROR(WORKDAY(T1936,AE1936,Hoja1!F1928:F2044),\"\")","v":""},"",null,"",{"$f":"IF(P1936=\"\",\"\",NETWORKDAYS(C1936+1,P1936,Hoja1!F1928:F2044))","v":""},{"$f":"IFERROR(IF(NETWORKDAYS(R1936+1,P1936,Hoja1!F1928:F2044)<=0,\"\",NETWORKDAYS(R1936+1,P1936,Hoja1!F1928:F2044)),0)","v":""},null,null,{"$f":"IFERROR(VLOOKUP(L1936,Hoja1!$A$50:$C$63,2),\"\")","v":""},{"$f":"IFERROR(VLOOKUP(L1936,Hoja1!$A$50:$C$63,3),\"\")","v":""}]
[null,null,null,null,null,null,null,null,null,null,null,null,null,null,null,null,null,null,null,null,null,{"$f":"IFERROR(WORKDAY(T1941,AE1941,Hoja1!F1933:F2049),\"\")","v":""},"",null,"",{"$f":"IF(P1941=\"\",\"\",NETWORKDAYS(C1941+1,P1941,Hoja1!F1933:F2049))","v":""},{"$f":"IFERROR(IF(NETWORKDAYS(R1941+1,P1941,Hoja1!F1933:F2049)<=0,\"\",NETWORKDAYS(R1941+1,P1941,Hoja1!F1933:F2049)),0)","v":""},null,null,{"$f":"IFERROR(VLOOKUP(L1941,Hoja1!$A$50:$C$63,2),\"\")","v":""},{"$f":"IFERROR(VLOOKUP(L1941,Hoja1!$A$50:$C$63,3),\"\")","v":""}]
[null,null,null,null,null,null,null,null,null,null,null,null,null,null,null,null,null,null,null,null,null,{"$f":"IFERROR(WORKDAY(T1946,AE1946,Hoja1!F1938:F2054),\"\")","v":""},"",null,"",{"$f":"IF(P1946=\"\",\"\",NETWORKDAYS(C1946+1,P1946,Hoja1!F1938:F2054))","v":""},{"$f":"IFERROR(IF(NETWORKDAYS(R1946+1,P1946,Hoja1!F1938:F2054)<=0,\"\",NETWORKDAYS(R1946+1,P1946,Hoja1!F1938:F2054)),0)","v":""},null,null,{"$f":"IFERROR(VLOOKUP(L1946,Hoja1!$A$50:$C$63,2),\"\")","v":""},{"$f":"IFERROR(VLOOKUP(L1946,Hoja1!$A$50:$C$63,3),\"\")","v":""}]
[null,null,null,null,null,null,null,null,null,null,null,null,null,null,null,null,null,null,null,null,null,{"$f":"IFERROR(WORKDAY(T1952,AE1952,Hoja1!F1944:F2060),\"\")","v":""},"",null,"",{"$f":"IF(P1952=\"\",\"\",NETWORKDAYS(C1952+1,P1952,Hoja1!F1944:F2060))","v":""},{"$f":"IFERROR(IF(NETWORKDAYS(R1952+1,P1952,Hoja1!F1944:F2060)<=0,\"\",NETWORKDAYS(R1952+1,P1952,Hoja1!F1944:F2060)),0)","v":""},null,null,{"$f":"IFERROR(VLOOKUP(L1952,Hoja1!$A$50:$C$63,2),\"\")","v":""},{"$f":"IFERROR(VLOOKUP(L1952,Hoja1!$A$50:$C$63,3),\"\")","v":""}]
[null,null,null,null,null,null,null,null,null,null,null,null,null,null,null,null,null,null,null,null,null,{"$f":"IFERROR(WORKDAY(T1953,AE1953,Hoja1!F1945:F2061),\"\")","v":""},"",null,"",{"$f":"IF(P1953=\"\",\"\",NETWORKDAYS(C1953+1,P1953,Hoja1!F1945:F2061))","v":""},{"$f":"IFERROR(IF(NETWORKDAYS(R1953+1,P1953,Hoja1!F1945:F2061)<=0,\"\",NETWORKDAYS(R1953+1,P1953,Hoja1!F1945:F2061)),0)","v":""},null,null,{"$f":"IFERROR(VLOOKUP(L1953,Hoja1!$A$50:$C$63,2),\"\")","v":""},{"$f":"IFERROR(VLOOKUP(L1953,Hoja1!$A$50:$C$63,3),\"\")","v":""}]
[null,null,null,null,null,null,null,null,null,null,null,null,null,null,null,null,null,null,null,null,null,{"$f":"IFERROR(WORKDAY(T1960,AE1960,Hoja1!F1952:F2068),\"\")","v":""},"",null,"",{"$f":"IF(P1960=\"\",\"\",NETWORKDAYS(C1960+1,P1960,Hoja1!F1952:F2068))","v":""},{"$f":"IFERROR(IF(NETWORKDAYS(R1960+1,P1960,Hoja1!F1952:F2068)<=0,\"\",NETWORKDAYS(R1960+1,P1960,Hoja1!F1952:F2068)),0)","v":""},null,null,{"$f":"IFERROR(VLOOKUP(L1960,Hoja1!$A$50:$C$63,2),\"\")","v":""},{"$f":"IFERROR(VLOOKUP(L1960,Hoja1!$A$50:$C$63,3),\"\")","v":""}]
[null,null,null,null,null,null,null,null,null,null,null,null,null,null,null,null,null,null,null,null,null,{"$f":"IFERROR(WORKDAY(T1964,AE1964,Hoja1!F1956:F2072),\"\")","v":""},"",null,"",{"$f":"IF(P1964=\"\",\"\",NETWORKDAYS(C1964+1,P1964,Hoja1!F1956:F2072))","v":""},{"$f":"IFERROR(IF(NETWORKDAYS(R1964+1,P1964,Hoja1!F1956:F2072)<=0,\"\",NETWORKDAYS(R1964+1,P1964,Hoja1!F1956:F2072)),0)","v":""},null,null,{"$f":"IFERROR(VLOOKUP(L1964,Hoja1!$A$50:$C$63,2),\"\")","v":""},{"$f":"IFERROR(VLOOKUP(L1964,Hoja1!$A$50:$C$63,3),\"\")","v":""}]
[null,null,null,null,null,null,null,null,null,null,null,null,null,null,null,null,null,null,null,null,null,{"$f":"IFERROR(WORKDAY(T1970,AE1970,Hoja1!F1962:F2078),\"\")","v":""},"",null,"",{"$f":"IF(P1970=\"\",\"\",NETWORKDAYS(C1970+1,P1970,Hoja1!F1962:F2078))","v":""},{"$f":"IFERROR(IF(NETWORKDAYS(R1970+1,P1970,Hoja1!F1962:F2078)<=0,\"\",NETWORKDAYS(R1970+1,P1970,Hoja1!F1962:F2078)),0)","v":""},null,null,{"$f":"IFERROR(VLOOKUP(L1970,Hoja1!$A$50:$C$63,2),\"\")","v":""},{"$f":"IFERROR(VLOOKUP(L1970,Hoja1!$A$50:$C$63,3),\"\")","v":""}]
[null,null,null,null,null,null,null,null,null,null,null,null,null,null,null,null,null,null,null,null,null,{"$f":"IFERROR(WORKDAY(T1971,AE1971,Hoja1!F1963:F2079),\"\")","v":""},"",null,"",{"$f":"IF(P1971=\"\",\"\",NETWORKDAYS(C1971+1,P1971,Hoja1!F1963:F2079))","v":""},{"$f":"IFERROR(IF(NETWORKDAYS(R1971+1,P1971,Hoja1!F1963:F2079)<=0,\"\",NETWORKDAYS(R1971+1,P1971,Hoja1!F1963:F2079)),0)","v":""},null,null,{"$f":"IFERROR(VLOOKUP(L1971,Hoja1!$A$50:$C$63,2),\"\")","v":""},{"$f":"IFERROR(VLOOKUP(L1971,Hoja1!$A$50:$C$63,3),\"\")","v":""}]
[null,null,null,null,null,null,null,null,null,null,null,null,null,null,null,null,null,null,null,null,null,{"$f":"IFERROR(WORKDAY(T1975,AE1975,Hoja1!F1967:F2083),\"\")","v":""},"",null,"",{"$f":"IF(P1975=\"\",\"\",NETWORKDAYS(C1975+1,P1975,Hoja1!F1967:F2083))","v":""},{"$f":"IFERROR(IF(NETWORKDAYS(R1975+1,P1975,Hoja1!F1967:F2083)<=0,\"\",NETWORKDAYS(R1975+1,P1975,Hoja1!F1967:F2083)),0)","v":""},null,null,{"$f":"IFERROR(VLOOKUP(L1975,Hoja1!$A$50:$C$63,2),\"\")","v":""},{"$f":"IFERROR(VLOOKUP(L1975,Hoja1!$A$50:$C$63,3),\"\")","v":""}]
[null,null,null,null,null,null,null,null,null,null,null,null,null,null,null,null,null,null,null,null,null,{"$f":"IFERROR(WORKDAY(T1982,AE1982,Hoja1!F1974:F2090),\"\")","v":""},"",null,"",{"$f":"IF(P1982=\"\",\"\",NETWORKDAYS(C1982+1,P1982,Hoja1!F1974:F2090))","v":""},{"$f":"IFERROR(IF(NETWORKDAYS(R1982+1,P1982,Hoja1!F1974:F2090)<=0,\"\",NETWORKDAYS(R1982+1,P1982,Hoja1!F1974:F2090)),0)","v":""},null,null,{"$f":"IFERROR(VLOOKUP(L1982,Hoja1!$A$50:$C$63,2),\"\")","v":""},{"$f":"IFERROR(VLOOKUP(L1982,Hoja1!$A$50:$C$63,3),\"\")","v":""}]
[null,null,null,null,null,null,null,null,null,null,null,null,null,null,null,null,null,null,null,null,null,{"$f":"IFERROR(WORKDAY(T1987,AE1987,Hoja1!F1979:F2095),\"\")","v":""},"",null,"",{"$f":"IF(P1987=\"\",\"\",NETWORKDAYS(C1987+1,P1987,Hoja1!F1979:F2095))","v":""},{"$f":"IFERROR(IF(NETWORKDAYS(R1987+1,P1987,Hoja1!F1979:F2095)<=0,\"\",NETWORKDAYS(R1987+1,P1987,Hoja1!F1979:F2095)),0)","v":""},null,null,{"$f":"IFERROR(VLOOKUP(L1987,Hoja1!$A$50:$C$63,2),\"\")","v":""},{"$f":"IFERROR(VLOOKUP(L1987,Hoja1!$A$50:$C$63,3),\"\")","v":""}]
[null,null,null,null,null,null,null,null,null,null,null,null,null,null,null,null,null,null,null,null,null,{"$f":"IFERROR(WORKDAY(T1989,AE1989,Hoja1!F1981:F2097),\"\")","v":""},"",null,"",{"$f":"IF(P1989=\"\",\"\",NETWORKDAYS(C1989+1,P1989,Hoja1!F1981:F2097))","v":""},{"$f":"IFERROR(IF(NETWORKDAYS(R1989+1,P1989,Hoja1!F1981:F2097)<=0,\"\",NETWORKDAYS(R1989+1,P1989,Hoja1!F1981:F2097)),0)","v":""},null,null,{"$f":"IFERROR(VLOOKUP(L1989,Hoja1!$A$50:$C$63,2),\"\")","v":""},{"$f":"IFERROR(VLOOKUP(L1989,Hoja1!$A$50:$C$63,3),\"\")","v":""}]
[null,null,null,null,null,null,null,null,null,null,null,null,null,null,null,null,null,null,null,null,null,{"$f":"IFERROR(WORKDAY(T1994,AE1994,Hoja1!F1986:F2102),\"\")","v":""},{"$f":"+IF(T1994=\"\",\"\",IF(U1994=\"\",\"SIN RESPUESTA\",(IF(U1994<=V1994,\"A TIEMPO\",\"FUERA DE TIEMPO\"))))","v":""},null,{"$f":"+IF(C1994=\"\",\"\",IF(P1994=\"\",\"SIN RESPUESTA\",(IF(P1994<=R1994,\"A TIEMPO\",\"FUERA DE TIEMPO\"))))","v":""},{"$f":"IF(P1994=\"\",\"\",NETWORKDAYS(C1994+1,P1994,Hoja1!F1986:F2102))","v":""},{"$f":"IFERROR(IF(NETWORKDAYS(R1994+1,P1994,Hoja1!F1986:F2102)<=0,\"\",NETWORKDAYS(R1994+1,P1994,Hoja1!F1986:F2102)),0)","v":""},null,null,{"$f":"IFERROR(VLOOKUP(L1994,Hoja1!$A$50:$C$63,2),\"\")","v":""},{"$f":"IFERROR(VLOOKUP(L1994,Hoja1!$A$50:$C$63,3),\"\")","v":""}]
[null,null,null,null,null,null,null,null,null,null,null,null,null,null,null,null,null,null,null,null,null,{"$f":"IFERROR(WORKDAY(T1998,AE1998,Hoja1!F1990:F2106),\"\")","v":""},"",null,"",{"$f":"IF(P1998=\"\",\"\",NETWORKDAYS(C1998+1,P1998,Hoja1!F1990:F2106))","v":""},{"$f":"IFERROR(IF(NETWORKDAYS(R1998+1,P1998,Hoja1!F1990:F2106)<=0,\"\",NETWORKDAYS(R1998+1,P1998,Hoja1!F1990:F2106)),0)","v":""},null,null,{"$f":"IFERROR(VLOOKUP(L1998,Hoja1!$A$50:$C$63,2),\"\")","v":""},{"$f":"IFERROR(VLOOKUP(L1998,Hoja1!$A$50:$C$63,3),\"\")","v":""}]
[null,null,null,null,null,null,null,null,null,null,null,null,null,null,null,null,null,null,null,null,null,{"$f":"IFERROR(WORKDAY(T2005,AE2005,Hoja1!F1997:F2113),\"\")","v":""},"",null,"",{"$f":"IF(P2005=\"\",\"\",NETWORKDAYS(C2005+1,P2005,Hoja1!F1997:F2113))","v":""},{"$f":"IFERROR(IF(NETWORKDAYS(R2005+1,P2005,Hoja1!F1997:F2113)<=0,\"\",NETWORKDAYS(R2005+1,P2005,Hoja1!F1997:F2113)),0)","v":""},null,null,{"$f":"IFERROR(VLOOKUP(L2005,Hoja1!$A$50:$C$63,2),\"\")","v":""},{"$f":"IFERROR(VLOOKUP(L2005,Hoja1!$A$50:$C$63,3),\"\")","v":""}]
[null,null,null,null,null,null,null,null,null,null,null,null,null,null,null,null,null,null,null,null,null,{"$f":"IFERROR(WORKDAY(T2008,AE2008,Hoja1!F2000:F2116),\"\")","v":""},"",null,"",{"$f":"IF(P2008=\"\",\"\",NETWORKDAYS(C2008+1,P2008,Hoja1!F2000:F2116))","v":""},{"$f":"IFERROR(IF(NETWORKDAYS(R2008+1,P2008,Hoja1!F2000:F2116)<=0,\"\",NETWORKDAYS(R2008+1,P2008,Hoja1!F2000:F2116)),0)","v":""},null,null,{"$f":"IFERROR(VLOOKUP(L2008,Hoja1!$A$50:$C$63,2),\"\")","v":""},{"$f":"IFERROR(VLOOKUP(L2008,Hoja1!$A$50:$C$63,3),\"\")","v":""}]
[null,null,null,null,null,null,null,null,null,null,null,null,null,null,null,null,null,null,null,null,null,{"$f":"IFERROR(WORKDAY(T2012,AE2012,Hoja1!F2004:F2120),\"\")","v":""},"",null,"",{"$f":"IF(P2012=\"\",\"\",NETWORKDAYS(C2012+1,P2012,Hoja1!F2004:F2120))","v":""},{"$f":"IFERROR(IF(NETWORKDAYS(R2012+1,P2012,Hoja1!F2004:F2120)<=0,\"\",NETWORKDAYS(R2012+1,P2012,Hoja1!F2004:F2120)),0)","v":""},null,null,{"$f":"IFERROR(VLOOKUP(L2012,Hoja1!$A$50:$C$63,2),\"\")","v":""},{"$f":"IFERROR(VLOOKUP(L2012,Hoja1!$A$50:$C$63,3),\"\")","v":""}]
[null,null,null,null,null,null,null,null,null,null,null,null,null,null,null,null,null,null,null,null,null,{"$f":"IFERROR(WORKDAY(T2017,AE2017,Hoja1!F2009:F2125),\"\")","v":""},"",null,"",{"$f":"IF(P2017=\"\",\"\",NETWORKDAYS(C2017+1,P2017,Hoja1!F2009:F2125))","v":""},{"$f":"IFERROR(IF(NETWORKDAYS(R2017+1,P2017,Hoja1!F2009:F2125)<=0,\"\",NETWORKDAYS(R2017+1,P2017,Hoja1!F2009:F2125)),0)","v":""},null,null,{"$f":"IFERROR(VLOOKUP(L2017,Hoja1!$A$50:$C$63,2),\"\")","v":""},{"$f":"IFERROR(VLOOKUP(L2017,Hoja1!$A$50:$C$63,3),\"\")","v":""}]
[null,null,null,null,null,null,null,null,null,null,null,null,null,null,null,null,null,null,null,null,null,{"$f":"IFERROR(WORKDAY(T2022,AE2022,Hoja1!F2014:F2130),\"\")","v":""},"",null,"",{"$f":"IF(P2022=\"\",\"\",NETWORKDAYS(C2022+1,P2022,Hoja1!F2014:F2130))","v":""},{"$f":"IFERROR(IF(NETWORKDAYS(R2022+1,P2022,Hoja1!F2014:F2130)<=0,\"\",NETWORKDAYS(R2022+1,P2022,Hoja1!F2014:F2130)),0)","v":""},null,null,{"$f":"IFERROR(VLOOKUP(L2022,Hoja1!$A$50:$C$63,2),\"\")","v":""},{"$f":"IFERROR(VLOOKUP(L2022,Hoja1!$A$50:$C$63,3),\"\")","v":""}]
[null,null,null,null,null,null,null,null,null,null,null,null,null,null,null,null,null,null,null,null,null,{"$f":"IFERROR(WORKDAY(T2024,AE2024,Hoja1!F2016:F2132),\"\")","v":""},"",null,"",{"$f":"IF(P2024=\"\",\"\",NETWORKDAYS(C2024+1,P2024,Hoja1!F2016:F2132))","v":""},{"$f":"IFERROR(IF(NETWORKDAYS(R2024+1,P2024,Hoja1!F2016:F2132)<=0,\"\",NETWORKDAYS(R2024+1,P2024,Hoja1!F2016:F2132)),0)","v":""},null,null,{"$f":"IFERROR(VLOOKUP(L2024,Hoja1!$A$50:$C$63,2),\"\")","v":""},{"$f":"IFERROR(VLOOKUP(L2024,Hoja1!$A$50:$C$63,3),\"\")","v":""}]
[null,null,null,null,null,null,null,null,null,null,null,null,null,null,null,null,null,null,null,null,null,{"$f":"IFERROR(WORKDAY(T2032,AE2032,Hoja1!F2024:F2140),\"\")","v":""},"",null,"",{"$f":"IF(P2032=\"\",\"\",NETWORKDAYS(C2032+1,P2032,Hoja1!F2024:F2140))","v":""},{"$f":"IFERROR(IF(NETWORKDAYS(R2032+1,P2032,Hoja1!F2024:F2140)<=0,\"\",NETWORKDAYS(R2032+1,P2032,Hoja1!F2024:F2140)),0)","v":""},null,null,{"$f":"IFERROR(VLOOKUP(L2032,Hoja1!$A$50:$C$63,2),\"\")","v":""},{"$f":"IFERROR(VLOOKUP(L2032,Hoja1!$A$50:$C$63,3),\"\")","v":""}]
[null,null,null,null,null,null,null,null,null,null,null,null,null,null,null,null,null,null,null,null,null,{"$f":"IFERROR(WORKDAY(T2035,AE2035,Hoja1!F2027:F2143),\"\")","v":""},"",null,"",{"$f":"IF(P2035=\"\",\"\",NETWORKDAYS(C2035+1,P2035,Hoja1!F2027:F2143))","v":""},{"$f":"IFERROR(IF(NETWORKDAYS(R2035+1,P2035,Hoja1!F2027:F2143)<=0,\"\",NETWORKDAYS(R2035+1,P2035,Hoja1!F2027:F2143)),0)","v":""},null,null,{"$f":"IFERROR(VLOOKUP(L2035,Hoja1!$A$50:$C$63,2),\"\")","v":""},{"$f":"IFERROR(VLOOKUP(L2035,Hoja1!$A$50:$C$63,3),\"\")","v":""}]
[null,null,null,null,null,null,null,null,null,null,null,null,null,null,null,null,null,null,null,null,null,{"$f":"IFERROR(WORKDAY(T2037,AE2037,Hoja1!F2029:F2145),\"\")","v":""},"",null,"",{"$f":"IF(P2037=\"\",\"\",NETWORKDAYS(C2037+1,P2037,Hoja1!F2029:F2145))","v":""},{"$f":"IFERROR(IF(NETWORKDAYS(R2037+1,P2037,Hoja1!F2029:F2145)<=0,\"\",NETWORKDAYS(R2037+1,P2037,Hoja1!F2029:F2145)),0)","v":""},null,null,{"$f":"IFERROR(VLOOKUP(L2037,Hoja1!$A$50:$C$63,2),\"\")","v":""},{"$f":"IFERROR(VLOOKUP(L2037,Hoja1!$A$50:$C$63,3),\"\")","v":""}]
[null,null,null,null,null,null,null,null,null,null,null,null,null,null,null,null,null,null,null,null,null,{"$f":"IFERROR(WORKDAY(T2042,AE2042,Hoja1!F2034:F2150),\"\")","v":""},"",null,"",{"$f":"IF(P2042=\"\",\"\",NETWORKDAYS(C2042+1,P2042,Hoja1!F2034:F2150))","v":""},{"$f":"IFERROR(IF(NETWORKDAYS(R2042+1,P2042,Hoja1!F2034:F2150)<=0,\"\",NETWORKDAYS(R2042+1,P2042,Hoja1!F2034:F2150)),0)","v":""},null,null,{"$f":"IFERROR(VLOOKUP(L2042,Hoja1!$A$50:$C$63,2),\"\")","v":""},{"$f":"IFERROR(VLOOKUP(L2042,Hoja1!$A$50:$C$63,3),\"\")","v":""}]
[null,null,null,null,null,null,null,null,null,null,null,null,null,null,null,null,null,null,null,null,null,{"$f":"IFERROR(WORKDAY(T2047,AE2047,Hoja1!F2039:F2155),\"\")","v":""},"",null,"",{"$f":"IF(P2047=\"\",\"\",NETWORKDAYS(C2047+1,P2047,Hoja1!F2039:F2155))","v":""},{"$f":"IFERROR(IF(NETWORKDAYS(R2047+1,P2047,Hoja1!F2039:F2155)<=0,\"\",NETWORKDAYS(R2047+1,P2047,Hoja1!F2039:F2155)),0)","v":""},null,null,{"$f":"IFERROR(VLOOKUP(L2047,Hoja1!$A$50:$C$63,2),\"\")","v":""},{"$f":"IFERROR(VLOOKUP(L2047,Hoja1!$A$50:$C$63,3),\"\")","v":""}]
[null,null,null,null,null,null,null,null,null,null,null,null,null,null,null,null,null,null,null,null,null,{"$f":"IFERROR(WORKDAY(T2051,AE2051,Hoja1!F2043:F2159),\"\")","v":""},"",null,"",{"$f":"IF(P2051=\"\",\"\",NETWORKDAYS(C2051+1,P2051,Hoja1!F2043:F2159))","v":""},{"$f":"IFERROR(IF(NETWORKDAYS(R2051+1,P2051,Hoja1!F2043:F2159)<=0,\"\",NETWORKDAYS(R2051+1,P2051,Hoja1!F2043:F2159)),0)","v":""},null,null,{"$f":"IFERROR(VLOOKUP(L2051,Hoja1!$A$50:$C$63,2),\"\")","v":""},{"$f":"IFERROR(VLOOKUP(L2051,Hoja1!$A$50:$C$63,3),\"\")","v":""}]
[null,null,null,null,null,null,null,null,null,null,null,null,null,null,null,null,null,null,null,null,null,{"$f":"IFERROR(WORKDAY(T2058,AE2058,Hoja1!F2050:F2166),\"\")","v":""},{"$f":"+IF(T2058=\"\",\"\",IF(U2058=\"\",\"SIN RESPUESTA\",(IF(U2058<=V2058,\"A TIEMPO\",\"FUERA DE TIEMPO\"))))","v":""},null,{"$f":"+IF(C2058=\"\",\"\",IF(P2058=\"\",\"SIN RESPUESTA\",(IF(P2058<=R2058,\"A TIEMPO\",\"FUERA DE TIEMPO\"))))","v":""},{"$f":"IF(P2058=\"\",\"\",NETWORKDAYS(C2058+1,P2058,Hoja1!F2050:F2166))","v":""},{"$f":"IFERROR(IF(NETWORKDAYS(R2058+1,P2058,Hoja1!F2050:F2166)<=0,\"\",NETWORKDAYS(R2058+1,P2058,Hoja1!F2050:F2166)),0)","v":""},null,null,{"$f":"IFERROR(VLOOKUP(L2058,Hoja1!$A$50:$C$63,2),\"\")","v":""},{"$f":"IFERROR(VLOOKUP(L2058,Hoja1!$A$50:$C$63,3),\"\")","v":""}]
[null,null,null,null,null,null,null,null,null,null,null,null,null,null,null,null,null,null,null,null,null,{"$f":"IFERROR(WORKDAY(T2061,AE2061,Hoja1!F2053:F2169),\"\")","v":""},"",null,"",{"$f":"IF(P2061=\"\",\"\",NETWORKDAYS(C2061+1,P2061,Hoja1!F2053:F2169))","v":""},{"$f":"IFERROR(IF(NETWORKDAYS(R2061+1,P2061,Hoja1!F2053:F2169)<=0,\"\",NETWORKDAYS(R2061+1,P2061,Hoja1!F2053:F2169)),0)","v":""},null,null,{"$f":"IFERROR(VLOOKUP(L2061,Hoja1!$A$50:$C$63,2),\"\")","v":""},{"$f":"IFERROR(VLOOKUP(L2061,Hoja1!$A$50:$C$63,3),\"\")","v":""}]
[null,null,null,null,null,null,null,null,null,null,null,null,null,null,null,null,null,null,null,null,null,{"$f":"IFERROR(WORKDAY(T2065,AE2065,Hoja1!F2057:F2173),\"\")","v":""},"",null,"",{"$f":"IF(P2065=\"\",\"\",NETWORKDAYS(C2065+1,P2065,Hoja1!F2057:F2173))","v":""},{"$f":"IFERROR(IF(NETWORKDAYS(R2065+1,P2065,Hoja1!F2057:F2173)<=0,\"\",NETWORKDAYS(R2065+1,P2065,Hoja1!F2057:F2173)),0)","v":""},null,null,{"$f":"IFERROR(VLOOKUP(L2065,Hoja1!$A$50:$C$63,2),\"\")","v":""},{"$f":"IFERROR(VLOOKUP(L2065,Hoja1!$A$50:$C$63,3),\"\")","v":""}]
[null,null,null,null,null,null,null,null,null,null,null,null,null,null,null,null,null,null,null,null,null,{"$f":"IFERROR(WORKDAY(T2071,AE2071,Hoja1!F2063:F2179),\"\")","v":""},"",null,"",{"$f":"IF(P2071=\"\",\"\",NETWORKDAYS(C2071+1,P2071,Hoja1!F2063:F2179))","v":""},{"$f":"IFERROR(IF(NETWORKDAYS(R2071+1,P2071,Hoja1!F2063:F2179)<=0,\"\",NETWORKDAYS(R2071+1,P2071,Hoja1!F2063:F2179)),0)","v":""},null,null,{"$f":"IFERROR(VLOOKUP(L2071,Hoja1!$A$50:$C$63,2),\"\")","v":""},{"$f":"IFERROR(VLOOKUP(L2071,Hoja1!$A$50:$C$63,3),\"\")","v":""}]
[null,null,null,null,null,null,null,null,null,null,null,null,null,null,null,null,null,null,null,null,null,{"$f":"IFERROR(WORKDAY(T2076,AE2076,Hoja1!F2068:F2184),\"\")","v":""},"",null,"",{"$f":"IF(P2076=\"\",\"\",NETWORKDAYS(C2076+1,P2076,Hoja1!F2068:F2184))","v":""},{"$f":"IFERROR(IF(NETWORKDAYS(R2076+1,P2076,Hoja1!F2068:F2184)<=0,\"\",NETWORKDAYS(R2076+1,P2076,Hoja1!F2068:F2184)),0)","v":""},null,null,{"$f":"IFERROR(VLOOKUP(L2076,Hoja1!$A$50:$C$63,2),\"\")","v":""},{"$f":"IFERROR(VLOOKUP(L2076,Hoja1!$A$50:$C$63,3),\"\")","v":""}]
[null,null,null,null,null,null,null,null,null,null,null,null,null,null,null,null,null,null,null,null,null,{"$f":"IFERROR(WORKDAY(T2077,AE2077,Hoja1!F2069:F2185),\"\")","v":""},"",null,"",{"$f":"IF(P2077=\"\",\"\",NETWORKDAYS(C2077+1,P2077,Hoja1!F2069:F2185))","v":""},{"$f":"IFERROR(IF(NETWORKDAYS(R2077+1,P2077,Hoja1!F2069:F2185)<=0,\"\",NETWORKDAYS(R2077+1,P2077,Hoja1!F2069:F2185)),0)","v":""},null,null,{"$f":"IFERROR(VLOOKUP(L2077,Hoja1!$A$50:$C$63,2),\"\")","v":""},{"$f":"IFERROR(VLOOKUP(L2077,Hoja1!$A$50:$C$63,3),\"\")","v":""}]
[null,null,null,null,null,null,null,null,null,null,null,null,null,null,null,null,null,null,null,null,null,{"$f":"IFERROR(WORKDAY(T2085,AE2085,Hoja1!F2077:F2193),\"\")","v":""},"",null,"",{"$f":"IF(P2085=\"\",\"\",NETWORKDAYS(C2085+1,P2085,Hoja1!F2077:F2193))","v":""},{"$f":"IFERROR(IF(NETWORKDAYS(R2085+1,P2085,Hoja1!F2077:F2193)<=0,\"\",NETWORKDAYS(R2085+1,P2085,Hoja1!F2077:F2193)),0)","v":""},null,null,{"$f":"IFERROR(VLOOKUP(L2085,Hoja1!$A$50:$C$63,2),\"\")","v":""},{"$f":"IFERROR(VLOOKUP(L2085,Hoja1!$A$50:$C$63,3),\"\")","v":""}]
[null,null,null,null,null,null,null,null,null,null,null,null,null,null,null,null,null,null,null,null,null,{"$f":"IFERROR(WORKDAY(T2088,AE2088,Hoja1!F2080:F2196),\"\")","v":""},"",null,"",{"$f":"IF(P2088=\"\",\"\",NETWORKDAYS(C2088+1,P2088,Hoja1!F2080:F2196))","v":""},{"$f":"IFERROR(IF(NETWORKDAYS(R2088+1,P2088,Hoja1!F2080:F2196)<=0,\"\",NETWORKDAYS(R2088+1,P2088,Hoja1!F2080:F2196)),0)","v":""},null,null,{"$f":"IFERROR(VLOOKUP(L2088,Hoja1!$A$50:$C$63,2),\"\")","v":""},{"$f":"IFERROR(VLOOKUP(L2088,Hoja1!$A$50:$C$63,3),\"\")","v":""}]
[null,null,null,null,null,null,null,null,null,null,null,null,null,null,null,null,null,null,null,null,null,{"$f":"IFERROR(WORKDAY(T2094,AE2094,Hoja1!F2086:F2202),\"\")","v":""},"",null,"",{"$f":"IF(P2094=\"\",\"\",NETWORKDAYS(C2094+1,P2094,Hoja1!F2086:F2202))","v":""},{"$f":"IFERROR(IF(NETWORKDAYS(R2094+1,P2094,Hoja1!F2086:F2202)<=0,\"\",NETWORKDAYS(R2094+1,P2094,Hoja1!F2086:F2202)),0)","v":""},null,null,{"$f":"IFERROR(VLOOKUP(L2094,Hoja1!$A$50:$C$63,2),\"\")","v":""},{"$f":"IFERROR(VLOOKUP(L2094,Hoja1!$A$50:$C$63,3),\"\")","v":""}]
[null,null,null,null,null,null,null,null,null,null,null,null,null,null,null,null,null,null,null,null,null,{"$f":"IFERROR(WORKDAY(T2095,AE2095,Hoja1!F2087:F2203),\"\")","v":""},"",null,"",{"$f":"IF(P2095=\"\",\"\",NETWORKDAYS(C2095+1,P2095,Hoja1!F2087:F2203))","v":""},{"$f":"IFERROR(IF(NETWORKDAYS(R2095+1,P2095,Hoja1!F2087:F2203)<=0,\"\",NETWORKDAYS(R2095+1,P2095,Hoja1!F2087:F2203)),0)","v":""},null,null,{"$f":"IFERROR(VLOOKUP(L2095,Hoja1!$A$50:$C$63,2),\"\")","v":""},{"$f":"IFERROR(VLOOKUP(L2095,Hoja1!$A$50:$C$63,3),\"\")","v":""}]
[null,null,null,null,null,null,null,null,null,null,null,null,null,null,null,null,null,null,null,null,null,{"$f":"IFERROR(WORKDAY(T2099,AE2099,Hoja1!F2091:F2207),\"\")","v":""},"",null,"",{"$f":"IF(P2099=\"\",\"\",NETWORKDAYS(C2099+1,P2099,Hoja1!F2091:F2207))","v":""},{"$f":"IFERROR(IF(NETWORKDAYS(R2099+1,P2099,Hoja1!F2091:F2207)<=0,\"\",NETWORKDAYS(R2099+1,P2099,Hoja1!F2091:F2207)),0)","v":""},null,null,{"$f":"IFERROR(VLOOKUP(L2099,Hoja1!$A$50:$C$63,2),\"\")","v":""},{"$f":"IFERROR(VLOOKUP(L2099,Hoja1!$A$50:$C$63,3),\"\")","v":""}]
[null,null,null,null,null,null,null,null,null,null,null,null,null,null,null,null,null,null,null,null,null,{"$f":"IFERROR(WORKDAY(T2106,AE2106,Hoja1!F2098:F2214),\"\")","v":""},"",null,"",{"$f":"IF(P2106=\"\",\"\",NETWORKDAYS(C2106+1,P2106,Hoja1!F2098:F2214))","v":""},{"$f":"IFERROR(IF(NETWORKDAYS(R2106+1,P2106,Hoja1!F2098:F2214)<=0,\"\",NETWORKDAYS(R2106+1,P2106,Hoja1!F2098:F2214)),0)","v":""},null,null,{"$f":"IFERROR(VLOOKUP(L2106,Hoja1!$A$50:$C$63,2),\"\")","v":""},{"$f":"IFERROR(VLOOKUP(L2106,Hoja1!$A$50:$C$63,3),\"\")","v":""}]
[null,null,null,null,null,null,null,null,null,null,null,null,null,null,null,null,null,null,null,null,null,{"$f":"IFERROR(WORKDAY(T2111,AE2111,Hoja1!F2103:F2219),\"\")","v":""},"",null,"",{"$f":"IF(P2111=\"\",\"\",NETWORKDAYS(C2111+1,P2111,Hoja1!F2103:F2219))","v":""},{"$f":"IFERROR(IF(NETWORKDAYS(R2111+1,P2111,Hoja1!F2103:F2219)<=0,\"\",NETWORKDAYS(R2111+1,P2111,Hoja1!F2103:F2219)),0)","v":""},null,null,{"$f":"IFERROR(VLOOKUP(L2111,Hoja1!$A$50:$C$63,2),\"\")","v":""},{"$f":"IFERROR(VLOOKUP(L2111,Hoja1!$A$50:$C$63,3),\"\")","v":""}]
[null,null,null,null,null,null,null,null,null,null,null,null,null,null,null,null,null,null,null,null,null,{"$f":"IFERROR(WORKDAY(T2113,AE2113,Hoja1!F2105:F2221),\"\")","v":""},"",null,"",{"$f":"IF(P2113=\"\",\"\",NETWORKDAYS(C2113+1,P2113,Hoja1!F2105:F2221))","v":""},{"$f":"IFERROR(IF(NETWORKDAYS(R2113+1,P2113,Hoja1!F2105:F2221)<=0,\"\",NETWORKDAYS(R2113+1,P2113,Hoja1!F2105:F2221)),0)","v":""},null,null,{"$f":"IFERROR(VLOOKUP(L2113,Hoja1!$A$50:$C$63,2),\"\")","v":""},{"$f":"IFERROR(VLOOKUP(L2113,Hoja1!$A$50:$C$63,3),\"\")","v":""}]
[null,null,null,null,null,null,null,null,null,null,null,null,null,null,null,null,null,null,null,null,null,{"$f":"IFERROR(WORKDAY(T2118,AE2118,Hoja1!F2110:F2226),\"\")","v":""},"",null,"",{"$f":"IF(P2118=\"\",\"\",NETWORKDAYS(C2118+1,P2118,Hoja1!F2110:F2226))","v":""},{"$f":"IFERROR(IF(NETWORKDAYS(R2118+1,P2118,Hoja1!F2110:F2226)<=0,\"\",NETWORKDAYS(R2118+1,P2118,Hoja1!F2110:F2226)),0)","v":""},null,null,{"$f":"IFERROR(VLOOKUP(L2118,Hoja1!$A$50:$C$63,2),\"\")","v":""},{"$f":"IFERROR(VLOOKUP(L2118,Hoja1!$A$50:$C$63,3),\"\")","v":""}]
[null,null,null,null,null,null,null,null,null,null,null,null,null,null,null,null,null,null,null,null,null,{"$f":"IFERROR(WORKDAY(T2123,AE2123,Hoja1!F2115:F2231),\"\")","v":""},"",null,"",{"$f":"IF(P2123=\"\",\"\",NETWORKDAYS(C2123+1,P2123,Hoja1!F2115:F2231))","v":""},{"$f":"IFERROR(IF(NETWORKDAYS(R2123+1,P2123,Hoja1!F2115:F2231)<=0,\"\",NETWORKDAYS(R2123+1,P2123,Hoja1!F2115:F2231)),0)","v":""},null,null,{"$f":"IFERROR(VLOOKUP(L2123,Hoja1!$A$50:$C$63,2),\"\")","v":""},{"$f":"IFERROR(VLOOKUP(L2123,Hoja1!$A$50:$C$63,3),\"\")","v":""}]
[null,null,null,null,null,null,null,null,null,null,null,null,null,null,null,null,null,null,null,null,null,{"$f":"IFERROR(WORKDAY(T2129,AE2129,Hoja1!F2121:F2237),\"\")","v":""},"",null,"",{"$f":"IF(P2129=\"\",\"\",NETWORKDAYS(C2129+1,P2129,Hoja1!F2121:F2237))","v":""},{"$f":"IFERROR(IF(NETWORKDAYS(R2129+1,P2129,Hoja1!F2121:F2237)<=0,\"\",NETWORKDAYS(R2129+1,P2129,Hoja1!F2121:F2237)),0)","v":""},null,null,{"$f":"IFERROR(VLOOKUP(L2129,Hoja1!$A$50:$C$63,2),\"\")","v":""},{"$f":"IFERROR(VLOOKUP(L2129,Hoja1!$A$50:$C$63,3),\"\")","v":""}]
[null,null,null,null,null,null,null,null,null,null,null,null,null,null,null,null,null,null,null,null,null,{"$f":"IFERROR(WORKDAY(T2133,AE2133,Hoja1!F2125:F2241),\"\")","v":""},"",null,"",{"$f":"IF(P2133=\"\",\"\",NETWORKDAYS(C2133+1,P2133,Hoja1!F2125:F2241))","v":""},{"$f":"IFERROR(IF(NETWORKDAYS(R2133+1,P2133,Hoja1!F2125:F2241)<=0,\"\",NETWORKDAYS(R2133+1,P2133,Hoja1!F2125:F2241)),0)","v":""},null,null,{"$f":"IFERROR(VLOOKUP(L2133,Hoja1!$A$50:$C$63,2),\"\")","v":""},{"$f":"IFERROR(VLOOKUP(L2133,Hoja1!$A$50:$C$63,3),\"\")","v":""}]
[null,null,null,null,null,null,null,null,null,null,null,null,null,null,null,null,null,null,null,null,null,{"$f":"IFERROR(WORKDAY(T2136,AE2136,Hoja1!F2128:F2244),\"\")","v":""},"",null,"",{"$f":"IF(P2136=\"\",\"\",NETWORKDAYS(C2136+1,P2136,Hoja1!F2128:F2244))","v":""},{"$f":"IFERROR(IF(NETWORKDAYS(R2136+1,P2136,Hoja1!F2128:F2244)<=0,\"\",NETWORKDAYS(R2136+1,P2136,Hoja1!F2128:F2244)),0)","v":""},null,null,{"$f":"IFERROR(VLOOKUP(L2136,Hoja1!$A$50:$C$63,2),\"\")","v":""},{"$f":"IFERROR(VLOOKUP(L2136,Hoja1!$A$50:$C$63,3),\"\")","v":""}]
[null,null,null,null,null,null,null,null,null,null,null,null,null,null,null,null,null,null,null,null,null,{"$f":"IFERROR(WORKDAY(T2141,AE2141,Hoja1!F2133:F2249),\"\")","v":""},"",null,"",{"$f":"IF(P2141=\"\",\"\",NETWORKDAYS(C2141+1,P2141,Hoja1!F2133:F2249))","v":""},{"$f":"IFERROR(IF(NETWORKDAYS(R2141+1,P2141,Hoja1!F2133:F2249)<=0,\"\",NETWORKDAYS(R2141+1,P2141,Hoja1!F2133:F2249)),0)","v":""},null,null,{"$f":"IFERROR(VLOOKUP(L2141,Hoja1!$A$50:$C$63,2),\"\")","v":""},{"$f":"IFERROR(VLOOKUP(L2141,Hoja1!$A$50:$C$63,3),\"\")","v":""}]
[null,null,null,null,null,null,null,null,null,null,null,null,null,null,null,null,null,null,null,null,null,{"$f":"IFERROR(WORKDAY(T2147,AE2147,Hoja1!F2139:F2255),\"\")","v":""},"",null,"",{"$f":"IF(P2147=\"\",\"\",NETWORKDAYS(C2147+1,P2147,Hoja1!F2139:F2255))","v":""},{"$f":"IFERROR(IF(NETWORKDAYS(R2147+1,P2147,Hoja1!F2139:F2255)<=0,\"\",NETWORKDAYS(R2147+1,P2147,Hoja1!F2139:F2255)),0)","v":""},null,null,{"$f":"IFERROR(VLOOKUP(L2147,Hoja1!$A$50:$C$63,2),\"\")","v":""},{"$f":"IFERROR(VLOOKUP(L2147,Hoja1!$A$50:$C$63,3),\"\")","v":""}]
[null,null,null,null,null,null,null,null,null,null,null,null,null,null,null,null,null,null,null,null,null,{"$f":"IFERROR(WORKDAY(T2148,AE2148,Hoja1!F2140:F2256),\"\")","v":""},"",null,"",{"$f":"IF(P2148=\"\",\"\",NETWORKDAYS(C2148+1,P2148,Hoja1!F2140:F2256))","v":""},{"$f":"IFERROR(IF(NETWORKDAYS(R2148+1,P2148,Hoja1!F2140:F2256)<=0,\"\",NETWORKDAYS(R2148+1,P2148,Hoja1!F2140:F2256)),0)","v":""},null,null,{"$f":"IFERROR(VLOOKUP(L2148,Hoja1!$A$50:$C$63,2),\"\")","v":""},{"$f":"IFERROR(VLOOKUP(L2148,Hoja1!$A$50:$C$63,3),\"\")","v":""}]
[null,null,null,null,null,null,null,null,null,null,null,null,null,null,null,null,null,null,null,null,null,{"$f":"IFERROR(WORKDAY(T2152,AE2152,Hoja1!F2144:F2260),\"\")","v":""},"",null,"",{"$f":"IF(P2152=\"\",\"\",NETWORKDAYS(C2152+1,P2152,Hoja1!F2144:F2260))","v":""},{"$f":"IFERROR(IF(NETWORKDAYS(R2152+1,P2152,Hoja1!F2144:F2260)<=0,\"\",NETWORKDAYS(R2152+1,P2152,Hoja1!F2144:F2260)),0)","v":""},null,null,{"$f":"IFERROR(VLOOKUP(L2152,Hoja1!$A$50:$C$63,2),\"\")","v":""},{"$f":"IFERROR(VLOOKUP(L2152,Hoja1!$A$50:$C$63,3),\"\")","v":""}]
[null,null,null,null,null,null,null,null,null,null,null,null,null,null,null,null,null,null,null,null,null,{"$f":"IFERROR(WORKDAY(T2159,AE2159,Hoja1!F2151:F2267),\"\")","v":""},"",null,"",{"$f":"IF(P2159=\"\",\"\",NETWORKDAYS(C2159+1,P2159,Hoja1!F2151:F2267))","v":""},{"$f":"IFERROR(IF(NETWORKDAYS(R2159+1,P2159,Hoja1!F2151:F2267)<=0,\"\",NETWORKDAYS(R2159+1,P2159,Hoja1!F2151:F2267)),0)","v":""},null,null,{"$f":"IFERROR(VLOOKUP(L2159,Hoja1!$A$50:$C$63,2),\"\")","v":""},{"$f":"IFERROR(VLOOKUP(L2159,Hoja1!$A$50:$C$63,3),\"\")","v":""}]
[null,null,null,null,null,null,null,null,null,null,null,null,null,null,null,null,null,null,null,null,null,{"$f":"IFERROR(WORKDAY(T2162,AE2162,Hoja1!F2154:F2270),\"\")","v":""},"",null,"",{"$f":"IF(P2162=\"\",\"\",NETWORKDAYS(C2162+1,P2162,Hoja1!F2154:F2270))","v":""},{"$f":"IFERROR(IF(NETWORKDAYS(R2162+1,P2162,Hoja1!F2154:F2270)<=0,\"\",NETWORKDAYS(R2162+1,P2162,Hoja1!F2154:F2270)),0)","v":""},null,null,{"$f":"IFERROR(VLOOKUP(L2162,Hoja1!$A$50:$C$63,2),\"\")","v":""},{"$f":"IFERROR(VLOOKUP(L2162,Hoja1!$A$50:$C$63,3),\"\")","v":""}]
[null,null,null,null,null,null,null,null,null,null,null,null,null,null,null,null,null,null,null,null,null,{"$f":"IFERROR(WORKDAY(T2166,AE2166,Hoja1!F2158:F2274),\"\")","v":""},"",null,"",{"$f":"IF(P2166=\"\",\"\",NETWORKDAYS(C2166+1,P2166,Hoja1!F2158:F2274))","v":""},{"$f":"IFERROR(IF(NETWORKDAYS(R2166+1,P2166,Hoja1!F2158:F2274)<=0,\"\",NETWORKDAYS(R2166+1,P2166,Hoja1!F2158:F2274)),0)","v":""},null,null,{"$f":"IFERROR(VLOOKUP(L2166,Hoja1!$A$50:$C$63,2),\"\")","v":""},{"$f":"IFERROR(VLOOKUP(L2166,Hoja1!$A$50:$C$63,3),\"\")","v":""}]
[null,null,null,null,null,null,null,null,null,null,null,null,null,null,null,null,null,null,null,null,null,{"$f":"IFERROR(WORKDAY(T2171,AE2171,Hoja1!F2163:F2279),\"\")","v":""},"",null,"",{"$f":"IF(P2171=\"\",\"\",NETWORKDAYS(C2171+1,P2171,Hoja1!F2163:F2279))","v":""},{"$f":"IFERROR(IF(NETWORKDAYS(R2171+1,P2171,Hoja1!F2163:F2279)<=0,\"\",NETWORKDAYS(R2171+1,P2171,Hoja1!F2163:F2279)),0)","v":""},null,null,{"$f":"IFERROR(VLOOKUP(L2171,Hoja1!$A$50:$C$63,2),\"\")","v":""},{"$f":"IFERROR(VLOOKUP(L2171,Hoja1!$A$50:$C$63,3),\"\")","v":""}]
[null,null,null,null,null,null,null,null,null,null,null,null,null,null,null,null,null,null,null,null,null,{"$f":"IFERROR(WORKDAY(T2176,AE2176,Hoja1!F2168:F2284),\"\")","v":""},"",null,"",{"$f":"IF(P2176=\"\",\"\",NETWORKDAYS(C2176+1,P2176,Hoja1!F2168:F2284))","v":""},{"$f":"IFERROR(IF(NETWORKDAYS(R2176+1,P2176,Hoja1!F2168:F2284)<=0,\"\",NETWORKDAYS(R2176+1,P2176,Hoja1!F2168:F2284)),0)","v":""},null,null,{"$f":"IFERROR(VLOOKUP(L2176,Hoja1!$A$50:$C$63,2),\"\")","v":""},{"$f":"IFERROR(VLOOKUP(L2176,Hoja1!$A$50:$C$63,3),\"\")","v":""}]
[null,null,null,null,null,null,null,null,null,null,null,null,null,null,null,null,null,null,null,null,null,{"$f":"IFERROR(WORKDAY(T2182,AE2182,Hoja1!F2174:F2290),\"\")","v":""},"",null,"",{"$f":"IF(P2182=\"\",\"\",NETWORKDAYS(C2182+1,P2182,Hoja1!F2174:F2290))","v":""},{"$f":"IFERROR(IF(NETWORKDAYS(R2182+1,P2182,Hoja1!F2174:F2290)<=0,\"\",NETWORKDAYS(R2182+1,P2182,Hoja1!F2174:F2290)),0)","v":""},null,null,{"$f":"IFERROR(VLOOKUP(L2182,Hoja1!$A$50:$C$63,2),\"\")","v":""},{"$f":"IFERROR(VLOOKUP(L2182,Hoja1!$A$50:$C$63,3),\"\")","v":""}]
[null,null,null,null,null,null,null,null,null,null,null,null,null,null,null,null,null,null,null,null,null,{"$f":"IFERROR(WORKDAY(T2185,AE2185,Hoja1!F2177:F2293),\"\")","v":""},"",null,"",{"$f":"IF(P2185=\"\",\"\",NETWORKDAYS(C2185+1,P2185,Hoja1!F2177:F2293))","v":""},{"$f":"IFERROR(IF(NETWORKDAYS(R2185+1,P2185,Hoja1!F2177:F2293)<=0,\"\",NETWORKDAYS(R2185+1,P2185,Hoja1!F2177:F2293)),0)","v":""},null,null,{"$f":"IFERROR(VLOOKUP(L2185,Hoja1!$A$50:$C$63,2),\"\")","v":""},{"$f":"IFERROR(VLOOKUP(L2185,Hoja1!$A$50:$C$63,3),\"\")","v":""}]
[null,null,null,null,null,null,null,null,null,null,null,null,null,null,null,null,null,null,null,null,null,{"$f":"IFERROR(WORKDAY(T2189,AE2189,Hoja1!F2181:F2297),\"\")","v":""},"",null,"",{"$f":"IF(P2189=\"\",\"\",NETWORKDAYS(C2189+1,P2189,Hoja1!F2181:F2297))","v":""},{"$f":"IFERROR(IF(NETWORKDAYS(R2189+1,P2189,Hoja1!F2181:F2297)<=0,\"\",NETWORKDAYS(R2189+1,P2189,Hoja1!F2181:F2297)),0)","v":""},null,null,{"$f":"IFERROR(VLOOKUP(L2189,Hoja1!$A$50:$C$63,2),\"\")","v":""},{"$f":"IFERROR(VLOOKUP(L2189,Hoja1!$A$50:$C$63,3),\"\")","v":""}]
[null,null,null,null,null,null,null,null,null,null,null,null,null,null,null,null,null,null,null,null,null,{"$f":"IFERROR(WORKDAY(T2195,AE2195,Hoja1!F2187:F2303),\"\")","v":""},"",null,"",{"$f":"IF(P2195=\"\",\"\",NETWORKDAYS(C2195+1,P2195,Hoja1!F2187:F2303))","v":""},{"$f":"IFERROR(IF(NETWORKDAYS(R2195+1,P2195,Hoja1!F2187:F2303)<=0,\"\",NETWORKDAYS(R2195+1,P2195,Hoja1!F2187:F2303)),0)","v":""},null,null,{"$f":"IFERROR(VLOOKUP(L2195,Hoja1!$A$50:$C$63,2),\"\")","v":""},{"$f":"IFERROR(VLOOKUP(L2195,Hoja1!$A$50:$C$63,3),\"\")","v":""}]
[null,null,null,null,null,null,null,null,null,null,null,null,null,null,null,null,null,null,null,null,null,{"$f":"IFERROR(WORKDAY(T2200,AE2200,Hoja1!F2192:F2308),\"\")","v":""},"",null,"",{"$f":"IF(P2200=\"\",\"\",NETWORKDAYS(C2200+1,P2200,Hoja1!F2192:F2308))","v":""},{"$f":"IFERROR(IF(NETWORKDAYS(R2200+1,P2200,Hoja1!F2192:F2308)<=0,\"\",NETWORKDAYS(R2200+1,P2200,Hoja1!F2192:F2308)),0)","v":""},null,null,{"$f":"IFERROR(VLOOKUP(L2200,Hoja1!$A$50:$C$63,2),\"\")","v":""},{"$f":"IFERROR(VLOOKUP(L2200,Hoja1!$A$50:$C$63,3),\"\")","v":""}]
[null,null,null,null,null,null,null,null,null,null,null,null,null,null,null,null,null,null,null,null,null,{"$f":"IFERROR(WORKDAY(T2201,AE2201,Hoja1!F2193:F2309),\"\")","v":""},"",null,"",{"$f":"IF(P2201=\"\",\"\",NETWORKDAYS(C2201+1,P2201,Hoja1!F2193:F2309))","v":""},{"$f":"IFERROR(IF(NETWORKDAYS(R2201+1,P2201,Hoja1!F2193:F2309)<=0,\"\",NETWORKDAYS(R2201+1,P2201,Hoja1!F2193:F2309)),0)","v":""},null,null,{"$f":"IFERROR(VLOOKUP(L2201,Hoja1!$A$50:$C$63,2),\"\")","v":""},{"$f":"IFERROR(VLOOKUP(L2201,Hoja1!$A$50:$C$63,3),\"\")","v":""}]
[null,null,null,null,null,null,null,null,null,null,null,null,null,null,null,null,null,null,null,null,null,{"$f":"IFERROR(WORKDAY(T2209,AE2209,Hoja1!F2201:F2317),\"\")","v":""},"",null,"",{"$f":"IF(P2209=\"\",\"\",NETWORKDAYS(C2209+1,P2209,Hoja1!F2201:F2317))","v":""},{"$f":"IFERROR(IF(NETWORKDAYS(R2209+1,P2209,Hoja1!F2201:F2317)<=0,\"\",NETWORKDAYS(R2209+1,P2209,Hoja1!F2201:F2317)),0)","v":""},null,null,{"$f":"IFERROR(VLOOKUP(L2209,Hoja1!$A$50:$C$63,2),\"\")","v":""},{"$f":"IFERROR(VLOOKUP(L2209,Hoja1!$A$50:$C$63,3),\"\")","v":""}]
[null,null,null,null,null,null,null,null,null,null,null,null,null,null,null,null,null,null,null,null,null,{"$f":"IFERROR(WORKDAY(T2212,AE2212,Hoja1!F2204:F2320),\"\")","v":""},"",null,"",{"$f":"IF(P2212=\"\",\"\",NETWORKDAYS(C2212+1,P2212,Hoja1!F2204:F2320))","v":""},{"$f":"IFERROR(IF(NETWORKDAYS(R2212+1,P2212,Hoja1!F2204:F2320)<=0,\"\",NETWORKDAYS(R2212+1,P2212,Hoja1!F2204:F2320)),0)","v":""},null,null,{"$f":"IFERROR(VLOOKUP(L2212,Hoja1!$A$50:$C$63,2),\"\")","v":""},{"$f":"IFERROR(VLOOKUP(L2212,Hoja1!$A$50:$C$63,3),\"\")","v":""}]
[null,null,null,null,null,null,null,null,null,null,null,null,null,null,null,null,null,null,null,null,null,{"$f":"IFERROR(WORKDAY(T2214,AE2214,Hoja1!F2206:F2322),\"\")","v":""},"",null,"",{"$f":"IF(P2214=\"\",\"\",NETWORKDAYS(C2214+1,P2214,Hoja1!F2206:F2322))","v":""},{"$f":"IFERROR(IF(NETWORKDAYS(R2214+1,P2214,Hoja1!F2206:F2322)<=0,\"\",NETWORKDAYS(R2214+1,P2214,Hoja1!F2206:F2322)),0)","v":""},null,null,{"$f":"IFERROR(VLOOKUP(L2214,Hoja1!$A$50:$C$63,2),\"\")","v":""},{"$f":"IFERROR(VLOOKUP(L2214,Hoja1!$A$50:$C$63,3),\"\")","v":""}]
[null,null,null,null,null,null,null,null,null,null,null,null,null,null,null,null,null,null,null,null,null,{"$f":"IFERROR(WORKDAY(T2219,AE2219,Hoja1!F2211:F2327),\"\")","v":""},"",null,"",{"$f":"IF(P2219=\"\",\"\",NETWORKDAYS(C2219+1,P2219,Hoja1!F2211:F2327))","v":""},{"$f":"IFERROR(IF(NETWORKDAYS(R2219+1,P2219,Hoja1!F2211:F2327)<=0,\"\",NETWORKDAYS(R2219+1,P2219,Hoja1!F2211:F2327)),0)","v":""},null,null,{"$f":"IFERROR(VLOOKUP(L2219,Hoja1!$A$50:$C$63,2),\"\")","v":""},{"$f":"IFERROR(VLOOKUP(L2219,Hoja1!$A$50:$C$63,3),\"\")","v":""}]
[null,null,null,null,null,null,null,null,null,null,null,null,null,null,null,null,null,null,null,null,null,{"$f":"IFERROR(WORKDAY(T2224,AE2224,Hoja1!F2216:F2332),\"\")","v":""},"",null,"",{"$f":"IF(P2224=\"\",\"\",NETWORKDAYS(C2224+1,P2224,Hoja1!F2216:F2332))","v":""},{"$f":"IFERROR(IF(NETWORKDAYS(R2224+1,P2224,Hoja1!F2216:F2332)<=0,\"\",NETWORKDAYS(R2224+1,P2224,Hoja1!F2216:F2332)),0)","v":""},null,null,{"$f":"IFERROR(VLOOKUP(L2224,Hoja1!$A$50:$C$63,2),\"\")","v":""},{"$f":"IFERROR(VLOOKUP(L2224,Hoja1!$A$50:$C$63,3),\"\")","v":""}]
[null,null,null,null,null,null,null,null,null,null,null,null,null,null,null,null,null,null,null,null,null,{"$f":"IFERROR(WORKDAY(T2230,AE2230,Hoja1!F2222:F2338),\"\")","v":""},"",null,"",{"$f":"IF(P2230=\"\",\"\",NETWORKDAYS(C2230+1,P2230,Hoja1!F2222:F2338))","v":""},{"$f":"IFERROR(IF(NETWORKDAYS(R2230+1,P2230,Hoja1!F2222:F2338)<=0,\"\",NETWORKDAYS(R2230+1,P2230,Hoja1!F2222:F2338)),0)","v":""},null,null,{"$f":"IFERROR(VLOOKUP(L2230,Hoja1!$A$50:$C$63,2),\"\")","v":""},{"$f":"IFERROR(VLOOKUP(L2230,Hoja1!$A$50:$C$63,3),\"\")","v":""}]
[null,null,null,null,null,null,null,null,null,null,null,null,null,null,null,null,null,null,null,null,null,{"$f":"IFERROR(WORKDAY(T2235,AE2235,Hoja1!F2227:F2343),\"\")","v":""},"",null,"",{"$f":"IF(P2235=\"\",\"\",NETWORKDAYS(C2235+1,P2235,Hoja1!F2227:F2343))","v":""},{"$f":"IFERROR(IF(NETWORKDAYS(R2235+1,P2235,Hoja1!F2227:F2343)<=0,\"\",NETWORKDAYS(R2235+1,P2235,Hoja1!F2227:F2343)),0)","v":""},null,null,{"$f":"IFERROR(VLOOKUP(L2235,Hoja1!$A$50:$C$63,2),\"\")","v":""},{"$f":"IFERROR(VLOOKUP(L2235,Hoja1!$A$50:$C$63,3),\"\")","v":""}]
[null,null,null,null,null,null,null,null,null,null,null,null,null,null,null,null,null,null,null,null,null,{"$f":"IFERROR(WORKDAY(T2238,AE2238,Hoja1!F2230:F2346),\"\")","v":""},"",null,"",{"$f":"IF(P2238=\"\",\"\",NETWORKDAYS(C2238+1,P2238,Hoja1!F2230:F2346))","v":""},{"$f":"IFERROR(IF(NETWORKDAYS(R2238+1,P2238,Hoja1!F2230:F2346)<=0,\"\",NETWORKDAYS(R2238+1,P2238,Hoja1!F2230:F2346)),0)","v":""},null,null,{"$f":"IFERROR(VLOOKUP(L2238,Hoja1!$A$50:$C$63,2),\"\")","v":""},{"$f":"IFERROR(VLOOKUP(L2238,Hoja1!$A$50:$C$63,3),\"\")","v":""}]
[null,null,null,null,null,null,null,null,null,null,null,null,null,null,null,null,null,null,null,null,null,{"$f":"IFERROR(WORKDAY(T2242,AE2242,Hoja1!F2234:F2350),\"\")","v":""},"",null,"",{"$f":"IF(P2242=\"\",\"\",NETWORKDAYS(C2242+1,P2242,Hoja1!F2234:F2350))","v":""},{"$f":"IFERROR(IF(NETWORKDAYS(R2242+1,P2242,Hoja1!F2234:F2350)<=0,\"\",NETWORKDAYS(R2242+1,P2242,Hoja1!F2234:F2350)),0)","v":""},null,null,{"$f":"IFERROR(VLOOKUP(L2242,Hoja1!$A$50:$C$63,2),\"\")","v":""},{"$f":"IFERROR(VLOOKUP(L2242,Hoja1!$A$50:$C$63,3),\"\")","v":""}]
[null,null,null,null,null,null,null,null,null,null,null,null,null,null,null,null,null,null,null,null,null,{"$f":"IFERROR(WORKDAY(T2248,AE2248,Hoja1!F2240:F2356),\"\")","v":""},"",null,"",{"$f":"IF(P2248=\"\",\"\",NETWORKDAYS(C2248+1,P2248,Hoja1!F2240:F2356))","v":""},{"$f":"IFERROR(IF(NETWORKDAYS(R2248+1,P2248,Hoja1!F2240:F2356)<=0,\"\",NETWORKDAYS(R2248+1,P2248,Hoja1!F2240:F2356)),0)","v":""},null,null,{"$f":"IFERROR(VLOOKUP(L2248,Hoja1!$A$50:$C$63,2),\"\")","v":""},{"$f":"IFERROR(VLOOKUP(L2248,Hoja1!$A$50:$C$63,3),\"\")","v":""}]
[null,null,null,null,null,null,null,null,null,null,null,null,null,null,null,null,null,null,null,null,null,{"$f":"IFERROR(WORKDAY(T2253,AE2253,Hoja1!F2245:F2361),\"\")","v":""},"",null,"",{"$f":"IF(P2253=\"\",\"\",NETWORKDAYS(C2253+1,P2253,Hoja1!F2245:F2361))","v":""},{"$f":"IFERROR(IF(NETWORKDAYS(R2253+1,P2253,Hoja1!F2245:F2361)<=0,\"\",NETWORKDAYS(R2253+1,P2253,Hoja1!F2245:F2361)),0)","v":""},null,null,{"$f":"IFERROR(VLOOKUP(L2253,Hoja1!$A$50:$C$63,2),\"\")","v":""},{"$f":"IFERROR(VLOOKUP(L2253,Hoja1!$A$50:$C$63,3),\"\")","v":""}]
[null,null,null,null,null,null,null,null,null,null,null,null,null,null,null,null,null,null,null,null,null,{"$f":"IFERROR(WORKDAY(T2258,AE2258,Hoja1!F2250:F2366),\"\")","v":""},"",null,"",{"$f":"IF(P2258=\"\",\"\",NETWORKDAYS(C2258+1,P2258,Hoja1!F2250:F2366))","v":""},{"$f":"IFERROR(IF(NETWORKDAYS(R2258+1,P2258,Hoja1!F2250:F2366)<=0,\"\",NETWORKDAYS(R2258+1,P2258,Hoja1!F2250:F2366)),0)","v":""},null,null,{"$f":"IFERROR(VLOOKUP(L2258,Hoja1!$A$50:$C$63,2),\"\")","v":""},{"$f":"IFERROR(VLOOKUP(L2258,Hoja1!$A$50:$C$63,3),\"\")","v":""}]
[null,null,null,null,null,null,null,null,null,null,null,null,null,null,null,null,null,null,null,null,null,{"$f":"IFERROR(WORKDAY(T2260,AE2260,Hoja1!F2252:F2368),\"\")","v":""},"",null,"",{"$f":"IF(P2260=\"\",\"\",NETWORKDAYS(C2260+1,P2260,Hoja1!F2252:F2368))","v":""},{"$f":"IFERROR(IF(NETWORKDAYS(R2260+1,P2260,Hoja1!F2252:F2368)<=0,\"\",NETWORKDAYS(R2260+1,P2260,Hoja1!F2252:F2368)),0)","v":""},null,null,{"$f":"IFERROR(VLOOKUP(L2260,Hoja1!$A$50:$C$63,2),\"\")","v":""},{"$f":"IFERROR(VLOOKUP(L2260,Hoja1!$A$50:$C$63,3),\"\")","v":""}]
[null,null,null,null,null,null,null,null,null,null,null,null,null,null,null,null,null,null,null,null,null,{"$f":"IFERROR(WORKDAY(T2265,AE2265,Hoja1!F2257:F2373),\"\")","v":""},"",null,"",{"$f":"IF(P2265=\"\",\"\",NETWORKDAYS(C2265+1,P2265,Hoja1!F2257:F2373))","v":""},{"$f":"IFERROR(IF(NETWORKDAYS(R2265+1,P2265,Hoja1!F2257:F2373)<=0,\"\",NETWORKDAYS(R2265+1,P2265,Hoja1!F2257:F2373)),0)","v":""},null,null,{"$f":"IFERROR(VLOOKUP(L2265,Hoja1!$A$50:$C$63,2),\"\")","v":""},{"$f":"IFERROR(VLOOKUP(L2265,Hoja1!$A$50:$C$63,3),\"\")","v":""}]
[null,null,null,null,null,null,null,null,null,null,null,null,null,null,null,null,null,null,null,null,null,{"$f":"IFERROR(WORKDAY(T2267,AE2267,Hoja1!F2259:F2375),\"\")","v":""},"",null,"",{"$f":"IF(P2267=\"\",\"\",NETWORKDAYS(C2267+1,P2267,Hoja1!F2259:F2375))","v":""},{"$f":"IFERROR(IF(NETWORKDAYS(R2267+1,P2267,Hoja1!F2259:F2375)<=0,\"\",NETWORKDAYS(R2267+1,P2267,Hoja1!F2259:F2375)),0)","v":""},null,null,{"$f":"IFERROR(VLOOKUP(L2267,Hoja1!$A$50:$C$63,2),\"\")","v":""},{"$f":"IFERROR(VLOOKUP(L2267,Hoja1!$A$50:$C$63,3),\"\")","v":""}]
[null,null,null,null,null,null,null,null,null,null,null,null,null,null,null,null,null,null,null,null,null,{"$f":"IFERROR(WORKDAY(T2272,AE2272,Hoja1!F2264:F2380),\"\")","v":""},"",null,"",{"$f":"IF(P2272=\"\",\"\",NETWORKDAYS(C2272+1,P2272,Hoja1!F2264:F2380))","v":""},{"$f":"IFERROR(IF(NETWORKDAYS(R2272+1,P2272,Hoja1!F2264:F2380)<=0,\"\",NETWORKDAYS(R2272+1,P2272,Hoja1!F2264:F2380)),0)","v":""},null,null,{"$f":"IFERROR(VLOOKUP(L2272,Hoja1!$A$50:$C$63,2),\"\")","v":""},{"$f":"IFERROR(VLOOKUP(L2272,Hoja1!$A$50:$C$63,3),\"\")","v":""}]
[null,null,null,null,null,null,null,null,null,null,null,null,null,null,null,null,null,null,null,null,null,{"$f":"IFERROR(WORKDAY(T2277,AE2277,Hoja1!F2269:F2385),\"\")","v":""},"",null,"",{"$f":"IF(P2277=\"\",\"\",NETWORKDAYS(C2277+1,P2277,Hoja1!F2269:F2385))","v":""},{"$f":"IFERROR(IF(NETWORKDAYS(R2277+1,P2277,Hoja1!F2269:F2385)<=0,\"\",NETWORKDAYS(R2277+1,P2277,Hoja1!F2269:F2385)),0)","v":""},null,null,{"$f":"IFERROR(VLOOKUP(L2277,Hoja1!$A$50:$C$63,2),\"\")","v":""},{"$f":"IFERROR(VLOOKUP(L2277,Hoja1!$A$50:$C$63,3),\"\")","v":""}]
[null,null,null,null,null,null,null,null,null,null,null,null,null,null,null,null,null,null,null,null,null,{"$f":"IFERROR(WORKDAY(T2283,AE2283,Hoja1!F2275:F2391),\"\")","v":""},"",null,"",{"$f":"IF(P2283=\"\",\"\",NETWORKDAYS(C2283+1,P2283,Hoja1!F2275:F2391))","v":""},{"$f":"IFERROR(IF(NETWORKDAYS(R2283+1,P2283,Hoja1!F2275:F2391)<=0,\"\",NETWORKDAYS(R2283+1,P2283,Hoja1!F2275:F2391)),0)","v":""},null,null,{"$f":"IFERROR(VLOOKUP(L2283,Hoja1!$A$50:$C$63,2),\"\")","v":""},{"$f":"IFERROR(VLOOKUP(L2283,Hoja1!$A$50:$C$63,3),\"\")","v":""}]
[null,null,null,null,null,null,null,null,null,null,null,null,null,null,null,null,null,null,null,null,null,{"$f":"IFERROR(WORKDAY(T2286,AE2286,Hoja1!F2278:F2394),\"\")","v":""},"",null,"",{"$f":"IF(P2286=\"\",\"\",NETWORKDAYS(C2286+1,P2286,Hoja1!F2278:F2394))","v":""},{"$f":"IFERROR(IF(NETWORKDAYS(R2286+1,P2286,Hoja1!F2278:F2394)<=0,\"\",NETWORKDAYS(R2286+1,P2286,Hoja1!F2278:F2394)),0)","v":""},null,null,{"$f":"IFERROR(VLOOKUP(L2286,Hoja1!$A$50:$C$63,2),\"\")","v":""},{"$f":"IFERROR(VLOOKUP(L2286,Hoja1!$A$50:$C$63,3),\"\")","v":""}]
[null,null,null,null,null,null,null,null,null,null,null,null,null,null,null,null,null,null,null,null,null,{"$f":"IFERROR(WORKDAY(T2290,AE2290,Hoja1!F2282:F2398),\"\")","v":""},"",null,"",{"$f":"IF(P2290=\"\",\"\",NETWORKDAYS(C2290+1,P2290,Hoja1!F2282:F2398))","v":""},{"$f":"IFERROR(IF(NETWORKDAYS(R2290+1,P2290,Hoja1!F2282:F2398)<=0,\"\",NETWORKDAYS(R2290+1,P2290,Hoja1!F2282:F2398)),0)","v":""},null,null,{"$f":"IFERROR(VLOOKUP(L2290,Hoja1!$A$50:$C$63,2),\"\")","v":""},{"$f":"IFERROR(VLOOKUP(L2290,Hoja1!$A$50:$C$63,3),\"\")","v":""}]
[null,null,null,null,null,null,null,null,null,null,null,null,null,null,null,null,null,null,null,null,null,{"$f":"IFERROR(WORKDAY(T2295,AE2295,Hoja1!F2287:F2403),\"\")","v":""},"",null,"",{"$f":"IF(P2295=\"\",\"\",NETWORKDAYS(C2295+1,P2295,Hoja1!F2287:F2403))","v":""},{"$f":"IFERROR(IF(NETWORKDAYS(R2295+1,P2295,Hoja1!F2287:F2403)<=0,\"\",NETWORKDAYS(R2295+1,P2295,Hoja1!F2287:F2403)),0)","v":""},null,null,{"$f":"IFERROR(VLOOKUP(L2295,Hoja1!$A$50:$C$63,2),\"\")","v":""},{"$f":"IFERROR(VLOOKUP(L2295,Hoja1!$A$50:$C$63,3),\"\")","v":""}]
[null,null,null,null,null,null,null,null,null,null,null,null,null,null,null,null,null,null,null,null,null,{"$f":"IFERROR(WORKDAY(T2300,AE2300,Hoja1!F2292:F2408),\"\")","v":""},"",null,"",{"$f":"IF(P2300=\"\",\"\",NETWORKDAYS(C2300+1,P2300,Hoja1!F2292:F2408))","v":""},{"$f":"IFERROR(IF(NETWORKDAYS(R2300+1,P2300,Hoja1!F2292:F2408)<=0,\"\",NETWORKDAYS(R2300+1,P2300,Hoja1!F2292:F2408)),0)","v":""},null,null,{"$f":"IFERROR(VLOOKUP(L2300,Hoja1!$A$50:$C$63,2),\"\")","v":""},{"$f":"IFERROR(VLOOKUP(L2300,Hoja1!$A$50:$C$63,3),\"\")","v":""}]
[null,null,null,null,null,null,null,null,null,null,null,null,null,null,null,null,null,null,null,null,null,{"$f":"IFERROR(WORKDAY(T2306,AE2306,Hoja1!F2298:F2414),\"\")","v":""},"",null,"",{"$f":"IF(P2306=\"\",\"\",NETWORKDAYS(C2306+1,P2306,Hoja1!F2298:F2414))","v":""},{"$f":"IFERROR(IF(NETWORKDAYS(R2306+1,P2306,Hoja1!F2298:F2414)<=0,\"\",NETWORKDAYS(R2306+1,P2306,Hoja1!F2298:F2414)),0)","v":""},null,null,{"$f":"IFERROR(VLOOKUP(L2306,Hoja1!$A$50:$C$63,2),\"\")","v":""},{"$f":"IFERROR(VLOOKUP(L2306,Hoja1!$A$50:$C$63,3),\"\")","v":""}]
[null,null,null,null,null,null,null,null,null,null,null,null,null,null,null,null,null,null,null,null,null,{"$f":"IFERROR(WORKDAY(T2310,AE2310,Hoja1!F2302:F2418),\"\")","v":""},"",null,"",{"$f":"IF(P2310=\"\",\"\",NETWORKDAYS(C2310+1,P2310,Hoja1!F2302:F2418))","v":""},{"$f":"IFERROR(IF(NETWORKDAYS(R2310+1,P2310,Hoja1!F2302:F2418)<=0,\"\",NETWORKDAYS(R2310+1,P2310,Hoja1!F2302:F2418)),0)","v":""},null,null,{"$f":"IFERROR(VLOOKUP(L2310,Hoja1!$A$50:$C$63,2),\"\")","v":""},{"$f":"IFERROR(VLOOKUP(L2310,Hoja1!$A$50:$C$63,3),\"\")","v":""}]
[null,null,null,null,null,null,null,null,null,null,null,null,null,null,null,null,null,null,null,null,null,{"$f":"IFERROR(WORKDAY(T2313,AE2313,Hoja1!F2305:F2421),\"\")","v":""},"",null,"",{"$f":"IF(P2313=\"\",\"\",NETWORKDAYS(C2313+1,P2313,Hoja1!F2305:F2421))","v":""},{"$f":"IFERROR(IF(NETWORKDAYS(R2313+1,P2313,Hoja1!F2305:F2421)<=0,\"\",NETWORKDAYS(R2313+1,P2313,Hoja1!F2305:F2421)),0)","v":""},null,null,{"$f":"IFERROR(VLOOKUP(L2313,Hoja1!$A$50:$C$63,2),\"\")","v":""},{"$f":"IFERROR(VLOOKUP(L2313,Hoja1!$A$50:$C$63,3),\"\")","v":""}]
[null,null,null,null,null,null,null,null,null,null,null,null,null,null,null,null,null,null,null,null,null,{"$f":"IFERROR(WORKDAY(T2320,AE2320,Hoja1!F2312:F2428),\"\")","v":""},"",null,"",{"$f":"IF(P2320=\"\",\"\",NETWORKDAYS(C2320+1,P2320,Hoja1!F2312:F2428))","v":""},{"$f":"IFERROR(IF(NETWORKDAYS(R2320+1,P2320,Hoja1!F2312:F2428)<=0,\"\",NETWORKDAYS(R2320+1,P2320,Hoja1!F2312:F2428)),0)","v":""},null,null,{"$f":"IFERROR(VLOOKUP(L2320,Hoja1!$A$50:$C$63,2),\"\")","v":""},{"$f":"IFERROR(VLOOKUP(L2320,Hoja1!$A$50:$C$63,3),\"\")","v":""}]
[null,null,null,null,null,null,null,null,null,null,null,null,null,null,null,null,null,null,null,null,null,{"$f":"IFERROR(WORKDAY(T2324,AE2324,Hoja1!F2316:F2432),\"\")","v":""},"",null,"",{"$f":"IF(P2324=\"\",\"\",NETWORKDAYS(C2324+1,P2324,Hoja1!F2316:F2432))","v":""},{"$f":"IFERROR(IF(NETWORKDAYS(R2324+1,P2324,Hoja1!F2316:F2432)<=0,\"\",NETWORKDAYS(R2324+1,P2324,Hoja1!F2316:F2432)),0)","v":""},null,null,{"$f":"IFERROR(VLOOKUP(L2324,Hoja1!$A$50:$C$63,2),\"\")","v":""},{"$f":"IFERROR(VLOOKUP(L2324,Hoja1!$A$50:$C$63,3),\"\")","v":""}]
[null,null,null,null,null,null,null,null,null,null,null,null,null,null,null,null,null,null,null,null,null,{"$f":"IFERROR(WORKDAY(T2325,AE2325,Hoja1!F2317:F2433),\"\")","v":""},"",null,"",{"$f":"IF(P2325=\"\",\"\",NETWORKDAYS(C2325+1,P2325,Hoja1!F2317:F2433))","v":""},{"$f":"IFERROR(IF(NETWORKDAYS(R2325+1,P2325,Hoja1!F2317:F2433)<=0,\"\",NETWORKDAYS(R2325+1,P2325,Hoja1!F2317:F2433)),0)","v":""},null,null,{"$f":"IFERROR(VLOOKUP(L2325,Hoja1!$A$50:$C$63,2),\"\")","v":""},{"$f":"IFERROR(VLOOKUP(L2325,Hoja1!$A$50:$C$63,3),\"\")","v":""}]
[null,null,null,null,null,null,null,null,null,null,null,null,null,null,null,null,null,null,null,null,null,{"$f":"IFERROR(WORKDAY(T2331,AE2331,Hoja1!F2323:F2439),\"\")","v":""},"",null,"",{"$f":"IF(P2331=\"\",\"\",NETWORKDAYS(C2331+1,P2331,Hoja1!F2323:F2439))","v":""},{"$f":"IFERROR(IF(NETWORKDAYS(R2331+1,P2331,Hoja1!F2323:F2439)<=0,\"\",NETWORKDAYS(R2331+1,P2331,Hoja1!F2323:F2439)),0)","v":""},null,null,{"$f":"IFERROR(VLOOKUP(L2331,Hoja1!$A$50:$C$63,2),\"\")","v":""},{"$f":"IFERROR(VLOOKUP(L2331,Hoja1!$A$50:$C$63,3),\"\")","v":""}]
[null,null,null,null,null,null,null,null,null,null,null,null,null,null,null,null,null,null,null,null,null,{"$f":"IFERROR(WORKDAY(T2336,AE2336,Hoja1!F2328:F2444),\"\")","v":""},"",null,"",{"$f":"IF(P2336=\"\",\"\",NETWORKDAYS(C2336+1,P2336,Hoja1!F2328:F2444))","v":""},{"$f":"IFERROR(IF(NETWORKDAYS(R2336+1,P2336,Hoja1!F2328:F2444)<=0,\"\",NETWORKDAYS(R2336+1,P2336,Hoja1!F2328:F2444)),0)","v":""},null,null,{"$f":"IFERROR(VLOOKUP(L2336,Hoja1!$A$50:$C$63,2),\"\")","v":""},{"$f":"IFERROR(VLOOKUP(L2336,Hoja1!$A$50:$C$63,3),\"\")","v":""}]
[null,null,null,null,null,null,null,null,null,null,null,null,null,null,null,null,null,null,null,null,null,{"$f":"IFERROR(WORKDAY(T2339,AE2339,Hoja1!F2331:F2447),\"\")","v":""},"",null,"",{"$f":"IF(P2339=\"\",\"\",NETWORKDAYS(C2339+1,P2339,Hoja1!F2331:F2447))","v":""},{"$f":"IFERROR(IF(NETWORKDAYS(R2339+1,P2339,Hoja1!F2331:F2447)<=0,\"\",NETWORKDAYS(R2339+1,P2339,Hoja1!F2331:F2447)),0)","v":""},null,null,{"$f":"IFERROR(VLOOKUP(L2339,Hoja1!$A$50:$C$63,2),\"\")","v":""},{"$f":"IFERROR(VLOOKUP(L2339,Hoja1!$A$50:$C$63,3),\"\")","v":""}]
[null,null,null,null,null,null,null,null,null,null,null,null,null,null,null,null,null,null,null,null,null,{"$f":"IFERROR(WORKDAY(T2343,AE2343,Hoja1!F2335:F2451),\"\")","v":""},"",null,"",{"$f":"IF(P2343=\"\",\"\",NETWORKDAYS(C2343+1,P2343,Hoja1!F2335:F2451))","v":""},{"$f":"IFERROR(IF(NETWORKDAYS(R2343+1,P2343,Hoja1!F2335:F2451)<=0,\"\",NETWORKDAYS(R2343+1,P2343,Hoja1!F2335:F2451)),0)","v":""},null,null,{"$f":"IFERROR(VLOOKUP(L2343,Hoja1!$A$50:$C$63,2),\"\")","v":""},{"$f":"IFERROR(VLOOKUP(L2343,Hoja1!$A$50:$C$63,3),\"\")","v":""}]
[null,null,null,null,null,null,null,null,null,null,null,null,null,null,null,null,null,null,null,null,null,{"$f":"IFERROR(WORKDAY(T2349,AE2349,Hoja1!F2341:F2457),\"\")","v":""},"",null,"",{"$f":"IF(P2349=\"\",\"\",NETWORKDAYS(C2349+1,P2349,Hoja1!F2341:F2457))","v":""},{"$f":"IFERROR(IF(NETWORKDAYS(R2349+1,P2349,Hoja1!F2341:F2457)<=0,\"\",NETWORKDAYS(R2349+1,P2349,Hoja1!F2341:F2457)),0)","v":""},null,null,{"$f":"IFERROR(VLOOKUP(L2349,Hoja1!$A$50:$C$63,2),\"\")","v":""},{"$f":"IFERROR(VLOOKUP(L2349,Hoja1!$A$50:$C$63,3),\"\")","v":""}]
[null,null,null,null,null,null,null,null,null,null,null,null,null,null,null,null,null,null,null,null,null,{"$f":"IFERROR(WORKDAY(T2354,AE2354,Hoja1!F2346:F2462),\"\")","v":""},"",null,"",{"$f":"IF(P2354=\"\",\"\",NETWORKDAYS(C2354+1,P2354,Hoja1!F2346:F2462))","v":""},{"$f":"IFERROR(IF(NETWORKDAYS(R2354+1,P2354,Hoja1!F2346:F2462)<=0,\"\",NETWORKDAYS(R2354+1,P2354,Hoja1!F2346:F2462)),0)","v":""},null,null,{"$f":"IFERROR(VLOOKUP(L2354,Hoja1!$A$50:$C$63,2),\"\")","v":""},{"$f":"IFERROR(VLOOKUP(L2354,Hoja1!$A$50:$C$63,3),\"\")","v":""}]
[null,null,null,null,null,null,null,null,null,null,null,null,null,null,null,null,null,null,null,null,null,{"$f":"IFERROR(WORKDAY(T2358,AE2358,Hoja1!F2350:F2466),\"\")","v":""},"",null,"",{"$f":"IF(P2358=\"\",\"\",NETWORKDAYS(C2358+1,P2358,Hoja1!F2350:F2466))","v":""},{"$f":"IFERROR(IF(NETWORKDAYS(R2358+1,P2358,Hoja1!F2350:F2466)<=0,\"\",NETWORKDAYS(R2358+1,P2358,Hoja1!F2350:F2466)),0)","v":""},null,null,{"$f":"IFERROR(VLOOKUP(L2358,Hoja1!$A$50:$C$63,2),\"\")","v":""},{"$f":"IFERROR(VLOOKUP(L2358,Hoja1!$A$50:$C$63,3),\"\")","v":""}]
[null,null,null,null,null,null,null,null,null,null,null,null,null,null,null,null,null,null,null,null,null,{"$f":"IFERROR(WORKDAY(T2361,AE2361,Hoja1!F2353:F2469),\"\")","v":""},"",null,"",{"$f":"IF(P2361=\"\",\"\",NETWORKDAYS(C2361+1,P2361,Hoja1!F2353:F2469))","v":""},{"$f":"IFERROR(IF(NETWORKDAYS(R2361+1,P2361,Hoja1!F2353:F2469)<=0,\"\",NETWORKDAYS(R2361+1,P2361,Hoja1!F2353:F2469)),0)","v":""},null,null,{"$f":"IFERROR(VLOOKUP(L2361,Hoja1!$A$50:$C$63,2),\"\")","v":""},{"$f":"IFERROR(VLOOKUP(L2361,Hoja1!$A$50:$C$63,3),\"\")","v":""}]
[null,null,null,null,null,null,null,null,null,null,null,null,null,null,null,null,null,null,null,null,null,{"$f":"IFERROR(WORKDAY(T2366,AE2366,Hoja1!F2358:F2474),\"\")","v":""},"",null,"",{"$f":"IF(P2366=\"\",\"\",NETWORKDAYS(C2366+1,P2366,Hoja1!F2358:F2474))","v":""},{"$f":"IFERROR(IF(NETWORKDAYS(R2366+1,P2366,Hoja1!F2358:F2474)<=0,\"\",NETWORKDAYS(R2366+1,P2366,Hoja1!F2358:F2474)),0)","v":""},null,null,{"$f":"IFERROR(VLOOKUP(L2366,Hoja1!$A$50:$C$63,2),\"\")","v":""},{"$f":"IFERROR(VLOOKUP(L2366,Hoja1!$A$50:$C$63,3),\"\")","v":""}]
[null,null,null,null,null,null,null,null,null,null,null,null,null,null,null,null,null,null,null,null,null,{"$f":"IFERROR(WORKDAY(T2373,AE2373,Hoja1!F2365:F2481),\"\")","v":""},"",null,"",{"$f":"IF(P2373=\"\",\"\",NETWORKDAYS(C2373+1,P2373,Hoja1!F2365:F2481))","v":""},{"$f":"IFERROR(IF(NETWORKDAYS(R2373+1,P2373,Hoja1!F2365:F2481)<=0,\"\",NETWORKDAYS(R2373+1,P2373,Hoja1!F2365:F2481)),0)","v":""},null,null,{"$f":"IFERROR(VLOOKUP(L2373,Hoja1!$A$50:$C$63,2),\"\")","v":""},{"$f":"IFERROR(VLOOKUP(L2373,Hoja1!$A$50:$C$63,3),\"\")","v":""}]
[null,null,null,null,null,null,null,null,null,null,null,null,null,null,null,null,null,null,null,null,null,{"$f":"IFERROR(WORKDAY(T2377,AE2377,Hoja1!F2369:F2485),\"\")","v":""},"",null,"",{"$f":"IF(P2377=\"\",\"\",NETWORKDAYS(C2377+1,P2377,Hoja1!F2369:F2485))","v":""},{"$f":"IFERROR(IF(NETWORKDAYS(R2377+1,P2377,Hoja1!F2369:F2485)<=0,\"\",NETWORKDAYS(R2377+1,P2377,Hoja1!F2369:F2485)),0)","v":""},null,null,{"$f":"IFERROR(VLOOKUP(L2377,Hoja1!$A$50:$C$63,2),\"\")","v":""},{"$f":"IFERROR(VLOOKUP(L2377,Hoja1!$A$50:$C$63,3),\"\")","v":""}]
[null,null,null,null,null,null,null,null,null,null,null,null,null,null,null,null,null,null,null,null,null,{"$f":"IFERROR(WORKDAY(T2382,AE2382,Hoja1!F2374:F2490),\"\")","v":""},"",null,"",{"$f":"IF(P2382=\"\",\"\",NETWORKDAYS(C2382+1,P2382,Hoja1!F2374:F2490))","v":""},{"$f":"IFERROR(IF(NETWORKDAYS(R2382+1,P2382,Hoja1!F2374:F2490)<=0,\"\",NETWORKDAYS(R2382+1,P2382,Hoja1!F2374:F2490)),0)","v":""},null,null,{"$f":"IFERROR(VLOOKUP(L2382,Hoja1!$A$50:$C$63,2),\"\")","v":""},{"$f":"IFERROR(VLOOKUP(L2382,Hoja1!$A$50:$C$63,3),\"\")","v":""}]
[null,null,null,null,null,null,null,null,null,null,null,null,null,null,null,null,null,null,null,null,null,{"$f":"IFERROR(WORKDAY(T2384,AE2384,Hoja1!F2376:F2492),\"\")","v":""},"",null,"",{"$f":"IF(P2384=\"\",\"\",NETWORKDAYS(C2384+1,P2384,Hoja1!F2376:F2492))","v":""},{"$f":"IFERROR(IF(NETWORKDAYS(R2384+1,P2384,Hoja1!F2376:F2492)<=0,\"\",NETWORKDAYS(R2384+1,P2384,Hoja1!F2376:F2492)),0)","v":""},null,null,{"$f":"IFERROR(VLOOKUP(L2384,Hoja1!$A$50:$C$63,2),\"\")","v":""},{"$f":"IFERROR(VLOOKUP(L2384,Hoja1!$A$50:$C$63,3),\"\")","v":""}]
[null,null,null,null,null,null,null,null,null,null,null,null,null,null,null,null,null,null,null,null,null,{"$f":"IFERROR(WORKDAY(T2387,AE2387,Hoja1!F2379:F2495),\"\")","v":""},"",null,"",{"$f":"IF(P2387=\"\",\"\",NETWORKDAYS(C2387+1,P2387,Hoja1!F2379:F2495))","v":""},{"$f":"IFERROR(IF(NETWORKDAYS(R2387+1,P2387,Hoja1!F2379:F2495)<=0,\"\",NETWORKDAYS(R2387+1,P2387,Hoja1!F2379:F2495)),0)","v":""},null,null,{"$f":"IFERROR(VLOOKUP(L2387,Hoja1!$A$50:$C$63,2),\"\")","v":""},{"$f":"IFERROR(VLOOKUP(L2387,Hoja1!$A$50:$C$63,3),\"\")","v":""}]
[null,null,null,null,null,null,null,null,null,null,null,null,null,null,null,null,null,null,null,null,null,{"$f":"IFERROR(WORKDAY(T2395,AE2395,Hoja1!F2387:F2503),\"\")","v":""},"",null,"",{"$f":"IF(P2395=\"\",\"\",NETWORKDAYS(C2395+1,P2395,Hoja1!F2387:F2503))","v":""},{"$f":"IFERROR(IF(NETWORKDAYS(R2395+1,P2395,Hoja1!F2387:F2503)<=0,\"\",NETWORKDAYS(R2395+1,P2395,Hoja1!F2387:F2503)),0)","v":""},null,null,{"$f":"IFERROR(VLOOKUP(L2395,Hoja1!$A$50:$C$63,2),\"\")","v":""},{"$f":"IFERROR(VLOOKUP(L2395,Hoja1!$A$50:$C$63,3),\"\")","v":""}]
[null,null,null,null,null,null,null,null,null,null,null,null,null,null,null,null,null,null,null,null,null,{"$f":"IFERROR(WORKDAY(T2396,AE2396,Hoja1!F2388:F2504),\"\")","v":""},"",null,"",{"$f":"IF(P2396=\"\",\"\",NETWORKDAYS(C2396+1,P2396,Hoja1!F2388:F2504))","v":""},{"$f":"IFERROR(IF(NETWORKDAYS(R2396+1,P2396,Hoja1!F2388:F2504)<=0,\"\",NETWORKDAYS(R2396+1,P2396,Hoja1!F2388:F2504)),0)","v":""},null,null,{"$f":"IFERROR(VLOOKUP(L2396,Hoja1!$A$50:$C$63,2),\"\")","v":""},{"$f":"IFERROR(VLOOKUP(L2396,Hoja1!$A$50:$C$63,3),\"\")","v":""}]
[null,null,null,null,null,null,null,null,null,null,null,null,null,null,null,null,null,null,null,null,null,{"$f":"IFERROR(WORKDAY(T2401,AE2401,Hoja1!F2393:F2509),\"\")","v":""},"",null,"",{"$f":"IF(P2401=\"\",\"\",NETWORKDAYS(C2401+1,P2401,Hoja1!F2393:F2509))","v":""},{"$f":"IFERROR(IF(NETWORKDAYS(R2401+1,P2401,Hoja1!F2393:F2509)<=0,\"\",NETWORKDAYS(R2401+1,P2401,Hoja1!F2393:F2509)),0)","v":""},null,null,{"$f":"IFERROR(VLOOKUP(L2401,Hoja1!$A$50:$C$63,2),\"\")","v":""},{"$f":"IFERROR(VLOOKUP(L2401,Hoja1!$A$50:$C$63,3),\"\")","v":""}]
[null,null,null,null,null,null,null,null,null,null,null,null,null,null,null,null,null,null,null,null,null,{"$f":"IFERROR(WORKDAY(T2407,AE2407,Hoja1!F2399:F2515),\"\")","v":""},"",null,"",{"$f":"IF(P2407=\"\",\"\",NETWORKDAYS(C2407+1,P2407,Hoja1!F2399:F2515))","v":""},{"$f":"IFERROR(IF(NETWORKDAYS(R2407+1,P2407,Hoja1!F2399:F2515)<=0,\"\",NETWORKDAYS(R2407+1,P2407,Hoja1!F2399:F2515)),0)","v":""},null,null,{"$f":"IFERROR(VLOOKUP(L2407,Hoja1!$A$50:$C$63,2),\"\")","v":""},{"$f":"IFERROR(VLOOKUP(L2407,Hoja1!$A$50:$C$63,3),\"\")","v":""}]
[null,null,null,null,null,null,null,null,null,null,null,null,null,null,null,null,null,null,null,null,null,{"$f":"IFERROR(WORKDAY(T2411,AE2411,Hoja1!F2403:F2519),\"\")","v":""},"",null,"",{"$f":"IF(P2411=\"\",\"\",NETWORKDAYS(C2411+1,P2411,Hoja1!F2403:F2519))","v":""},{"$f":"IFERROR(IF(NETWORKDAYS(R2411+1,P2411,Hoja1!F2403:F2519)<=0,\"\",NETWORKDAYS(R2411+1,P2411,Hoja1!F2403:F2519)),0)","v":""},null,null,{"$f":"IFERROR(VLOOKUP(L2411,Hoja1!$A$50:$C$63,2),\"\")","v":""},{"$f":"IFERROR(VLOOKUP(L2411,Hoja1!$A$50:$C$63,3),\"\")","v":""}]
[null,null,null,null,null,null,null,null,null,null,null,null,null,null,null,null,null,null,null,null,null,{"$f":"IFERROR(WORKDAY(T2414,AE2414,Hoja1!F2406:F2522),\"\")","v":""},"",null,"",{"$f":"IF(P2414=\"\",\"\",NETWORKDAYS(C2414+1,P2414,Hoja1!F2406:F2522))","v":""},{"$f":"IFERROR(IF(NETWORKDAYS(R2414+1,P2414,Hoja1!F2406:F2522)<=0,\"\",NETWORKDAYS(R2414+1,P2414,Hoja1!F2406:F2522)),0)","v":""},null,null,{"$f":"IFERROR(VLOOKUP(L2414,Hoja1!$A$50:$C$63,2),\"\")","v":""},{"$f":"IFERROR(VLOOKUP(L2414,Hoja1!$A$50:$C$63,3),\"\")","v":""}]
[null,null,null,null,null,null,null,null,null,null,null,null,null,null,null,null,null,null,null,null,null,{"$f":"IFERROR(WORKDAY(T2421,AE2421,Hoja1!F2413:F2529),\"\")","v":""},"",null,"",{"$f":"IF(P2421=\"\",\"\",NETWORKDAYS(C2421+1,P2421,Hoja1!F2413:F2529))","v":""},{"$f":"IFERROR(IF(NETWORKDAYS(R2421+1,P2421,Hoja1!F2413:F2529)<=0,\"\",NETWORKDAYS(R2421+1,P2421,Hoja1!F2413:F2529)),0)","v":""},null,null,{"$f":"IFERROR(VLOOKUP(L2421,Hoja1!$A$50:$C$63,2),\"\")","v":""},{"$f":"IFERROR(VLOOKUP(L2421,Hoja1!$A$50:$C$63,3),\"\")","v":""}]
[null,null,null,null,null,null,null,null,null,null,null,null,null,null,null,null,null,null,null,null,null,{"$f":"IFERROR(WORKDAY(T2425,AE2425,Hoja1!F2417:F2533),\"\")","v":""},"",null,"",{"$f":"IF(P2425=\"\",\"\",NETWORKDAYS(C2425+1,P2425,Hoja1!F2417:F2533))","v":""},{"$f":"IFERROR(IF(NETWORKDAYS(R2425+1,P2425,Hoja1!F2417:F2533)<=0,\"\",NETWORKDAYS(R2425+1,P2425,Hoja1!F2417:F2533)),0)","v":""},null,null,{"$f":"IFERROR(VLOOKUP(L2425,Hoja1!$A$50:$C$63,2),\"\")","v":""},{"$f":"IFERROR(VLOOKUP(L2425,Hoja1!$A$50:$C$63,3),\"\")","v":""}]
[null,null,null,null,null,null,null,null,null,null,null,null,null,null,null,null,null,null,null,null,null,{"$f":"IFERROR(WORKDAY(T2430,AE2430,Hoja1!F2422:F2538),\"\")","v":""},"",null,"",{"$f":"IF(P2430=\"\",\"\",NETWORKDAYS(C2430+1,P2430,Hoja1!F2422:F2538))","v":""},{"$f":"IFERROR(IF(NETWORKDAYS(R2430+1,P2430,Hoja1!F2422:F2538)<=0,\"\",NETWORKDAYS(R2430+1,P2430,Hoja1!F2422:F2538)),0)","v":""},null,null,{"$f":"IFERROR(VLOOKUP(L2430,Hoja1!$A$50:$C$63,2),\"\")","v":""},{"$f":"IFERROR(VLOOKUP(L2430,Hoja1!$A$50:$C$63,3),\"\")","v":""}]
[null,null,null,null,null,null,null,null,null,null,null,null,null,null,null,null,null,null,null,null,null,{"$f":"IFERROR(WORKDAY(T2435,AE2435,Hoja1!F2427:F2543),\"\")","v":""},"",null,"",{"$f":"IF(P2435=\"\",\"\",NETWORKDAYS(C2435+1,P2435,Hoja1!F2427:F2543))","v":""},{"$f":"IFERROR(IF(NETWORKDAYS(R2435+1,P2435,Hoja1!F2427:F2543)<=0,\"\",NETWORKDAYS(R2435+1,P2435,Hoja1!F2427:F2543)),0)","v":""},null,null,{"$f":"IFERROR(VLOOKUP(L2435,Hoja1!$A$50:$C$63,2),\"\")","v":""},{"$f":"IFERROR(VLOOKUP(L2435,Hoja1!$A$50:$C$63,3),\"\")","v":""}]
[null,null,null,null,null,null,null,null,null,null,null,null,null,null,null,null,null,null,null,null,null,{"$f":"IFERROR(WORKDAY(T2437,AE2437,Hoja1!F2429:F2545),\"\")","v":""},"",null,"",{"$f":"IF(P2437=\"\",\"\",NETWORKDAYS(C2437+1,P2437,Hoja1!F2429:F2545))","v":""},{"$f":"IFERROR(IF(NETWORKDAYS(R2437+1,P2437,Hoja1!F2429:F2545)<=0,\"\",NETWORKDAYS(R2437+1,P2437,Hoja1!F2429:F2545)),0)","v":""},null,null,{"$f":"IFERROR(VLOOKUP(L2437,Hoja1!$A$50:$C$63,2),\"\")","v":""},{"$f":"IFERROR(VLOOKUP(L2437,Hoja1!$A$50:$C$63,3),\"\")","v":""}]
[null,null,null,null,null,null,null,null,null,null,null,null,null,null,null,null,null,null,null,null,null,{"$f":"IFERROR(WORKDAY(T2440,AE2440,Hoja1!F2432:F2548),\"\")","v":""},"",null,"",{"$f":"IF(P2440=\"\",\"\",NETWORKDAYS(C2440+1,P2440,Hoja1!F2432:F2548))","v":""},{"$f":"IFERROR(IF(NETWORKDAYS(R2440+1,P2440,Hoja1!F2432:F2548)<=0,\"\",NETWORKDAYS(R2440+1,P2440,Hoja1!F2432:F2548)),0)","v":""},null,null,{"$f":"IFERROR(VLOOKUP(L2440,Hoja1!$A$50:$C$63,2),\"\")","v":""},{"$f":"IFERROR(VLOOKUP(L2440,Hoja1!$A$50:$C$63,3),\"\")","v":""}]
[null,null,null,null,null,null,null,null,null,null,null,null,null,null,null,null,null,null,null,null,null,{"$f":"IFERROR(WORKDAY(T2448,AE2448,Hoja1!F2440:F2556),\"\")","v":""},"",null,"",{"$f":"IF(P2448=\"\",\"\",NETWORKDAYS(C2448+1,P2448,Hoja1!F2440:F2556))","v":""},{"$f":"IFERROR(IF(NETWORKDAYS(R2448+1,P2448,Hoja1!F2440:F2556)<=0,\"\",NETWORKDAYS(R2448+1,P2448,Hoja1!F2440:F2556)),0)","v":""},null,null,{"$f":"IFERROR(VLOOKUP(L2448,Hoja1!$A$50:$C$63,2),\"\")","v":""},{"$f":"IFERROR(VLOOKUP(L2448,Hoja1!$A$50:$C$63,3),\"\")","v":""}]
[null,null,null,null,null,null,null,null,null,null,null,null,null,null,null,null,null,null,null,null,null,{"$f":"IFERROR(WORKDAY(T2449,AE2449,Hoja1!F2441:F2557),\"\")","v":""},"",null,"",{"$f":"IF(P2449=\"\",\"\",NETWORKDAYS(C2449+1,P2449,Hoja1!F2441:F2557))","v":""},{"$f":"IFERROR(IF(NETWORKDAYS(R2449+1,P2449,Hoja1!F2441:F2557)<=0,\"\",NETWORKDAYS(R2449+1,P2449,Hoja1!F2441:F2557)),0)","v":""},null,null,{"$f":"IFERROR(VLOOKUP(L2449,Hoja1!$A$50:$C$63,2),\"\")","v":""},{"$f":"IFERROR(VLOOKUP(L2449,Hoja1!$A$50:$C$63,3),\"\")","v":""}]
[null,null,null,null,null,null,null,null,null,null,null,null,null,null,null,null,null,null,null,null,null,{"$f":"IFERROR(WORKDAY(T2455,AE2455,Hoja1!F2447:F2563),\"\")","v":""},"",null,"",{"$f":"IF(P2455=\"\",\"\",NETWORKDAYS(C2455+1,P2455,Hoja1!F2447:F2563))","v":""},{"$f":"IFERROR(IF(NETWORKDAYS(R2455+1,P2455,Hoja1!F2447:F2563)<=0,\"\",NETWORKDAYS(R2455+1,P2455,Hoja1!F2447:F2563)),0)","v":""},null,null,{"$f":"IFERROR(VLOOKUP(L2455,Hoja1!$A$50:$C$63,2),\"\")","v":""},{"$f":"IFERROR(VLOOKUP(L2455,Hoja1!$A$50:$C$63,3),\"\")","v":""}]
[null,null,null,null,null,null,null,null,null,null,null,null,null,null,null,null,null,null,null,null,null,{"$f":"IFERROR(WORKDAY(T2460,AE2460,Hoja1!F2452:F2568),\"\")","v":""},"",null,"",{"$f":"IF(P2460=\"\",\"\",NETWORKDAYS(C2460+1,P2460,Hoja1!F2452:F2568))","v":""},{"$f":"IFERROR(IF(NETWORKDAYS(R2460+1,P2460,Hoja1!F2452:F2568)<=0,\"\",NETWORKDAYS(R2460+1,P2460,Hoja1!F2452:F2568)),0)","v":""},null,null,{"$f":"IFERROR(VLOOKUP(L2460,Hoja1!$A$50:$C$63,2),\"\")","v":""},{"$f":"IFERROR(VLOOKUP(L2460,Hoja1!$A$50:$C$63,3),\"\")","v":""}]
[null,null,null,null,null,null,null,null,null,null,null,null,null,null,null,null,null,null,null,null,null,{"$f":"IFERROR(WORKDAY(T2464,AE2464,Hoja1!F2456:F2572),\"\")","v":""},"",null,"",{"$f":"IF(P2464=\"\",\"\",NETWORKDAYS(C2464+1,P2464,Hoja1!F2456:F2572))","v":""},{"$f":"IFERROR(IF(NETWORKDAYS(R2464+1,P2464,Hoja1!F2456:F2572)<=0,\"\",NETWORKDAYS(R2464+1,P2464,Hoja1!F2456:F2572)),0)","v":""},null,null,{"$f":"IFERROR(VLOOKUP(L2464,Hoja1!$A$50:$C$63,2),\"\")","v":""},{"$f":"IFERROR(VLOOKUP(L2464,Hoja1!$A$50:$C$63,3),\"\")","v":""}]
[null,null,null,null,null,null,null,null,null,null,null,null,null,null,null,null,null,null,null,null,null,{"$f":"IFERROR(WORKDAY(T2467,AE2467,Hoja1!F2459:F2575),\"\")","v":""},"",null,"",{"$f":"IF(P2467=\"\",\"\",NETWORKDAYS(C2467+1,P2467,Hoja1!F2459:F2575))","v":""},{"$f":"IFERROR(IF(NETWORKDAYS(R2467+1,P2467,Hoja1!F2459:F2575)<=0,\"\",NETWORKDAYS(R2467+1,P2467,Hoja1!F2459:F2575)),0)","v":""},null,null,{"$f":"IFERROR(VLOOKUP(L2467,Hoja1!$A$50:$C$63,2),\"\")","v":""},{"$f":"IFERROR(VLOOKUP(L2467,Hoja1!$A$50:$C$63,3),\"\")","v":""}]
[null,null,null,null,null,null,null,null,null,null,null,null,null,null,null,null,null,null,null,null,null,{"$f":"IFERROR(WORKDAY(T2473,AE2473,Hoja1!F2465:F2581),\"\")","v":""},"",null,"",{"$f":"IF(P2473=\"\",\"\",NETWORKDAYS(C2473+1,P2473,Hoja1!F2465:F2581))","v":""},{"$f":"IFERROR(IF(NETWORKDAYS(R2473+1,P2473,Hoja1!F2465:F2581)<=0,\"\",NETWORKDAYS(R2473+1,P2473,Hoja1!F2465:F2581)),0)","v":""},null,null,{"$f":"IFERROR(VLOOKUP(L2473,Hoja1!$A$50:$C$63,2),\"\")","v":""},{"$f":"IFERROR(VLOOKUP(L2473,Hoja1!$A$50:$C$63,3),\"\")","v":""}]
[null,null,null,null,null,null,null,null,null,null,null,null,null,null,null,null,null,null,null,null,null,{"$f":"IFERROR(WORKDAY(T2478,AE2478,Hoja1!F2470:F2586),\"\")","v":""},"",null,"",{"$f":"IF(P2478=\"\",\"\",NETWORKDAYS(C2478+1,P2478,Hoja1!F2470:F2586))","v":""},{"$f":"IFERROR(IF(NETWORKDAYS(R2478+1,P2478,Hoja1!F2470:F2586)<=0,\"\",NETWORKDAYS(R2478+1,P2478,Hoja1!F2470:F2586)),0)","v":""},null,null,{"$f":"IFERROR(VLOOKUP(L2478,Hoja1!$A$50:$C$63,2),\"\")","v":""},{"$f":"IFERROR(VLOOKUP(L2478,Hoja1!$A$50:$C$63,3),\"\")","v":""}]
[null,null,null,null,null,null,null,null,null,null,null,null,null,null,null,null,null,null,null,null,null,{"$f":"IFERROR(WORKDAY(T2483,AE2483,Hoja1!F2475:F2591),\"\")","v":""},"",null,"",{"$f":"IF(P2483=\"\",\"\",NETWORKDAYS(C2483+1,P2483,Hoja1!F2475:F2591))","v":""},{"$f":"IFERROR(IF(NETWORKDAYS(R2483+1,P2483,Hoja1!F2475:F2591)<=0,\"\",NETWORKDAYS(R2483+1,P2483,Hoja1!F2475:F2591)),0)","v":""},null,null,{"$f":"IFERROR(VLOOKUP(L2483,Hoja1!$A$50:$C$63,2),\"\")","v":""},{"$f":"IFERROR(VLOOKUP(L2483,Hoja1!$A$50:$C$63,3),\"\")","v":""}]
[null,null,null,null,null,null,null,null,null,null,null,null,null,null,null,null,null,null,null,null,null,{"$f":"IFERROR(WORKDAY(T2485,AE2485,Hoja1!F2477:F2593),\"\")","v":""},"",null,"",{"$f":"IF(P2485=\"\",\"\",NETWORKDAYS(C2485+1,P2485,Hoja1!F2477:F2593))","v":""},{"$f":"IFERROR(IF(NETWORKDAYS(R2485+1,P2485,Hoja1!F2477:F2593)<=0,\"\",NETWORKDAYS(R2485+1,P2485,Hoja1!F2477:F2593)),0)","v":""},null,null,{"$f":"IFERROR(VLOOKUP(L2485,Hoja1!$A$50:$C$63,2),\"\")","v":""},{"$f":"IFERROR(VLOOKUP(L2485,Hoja1!$A$50:$C$63,3),\"\")","v":""}]
[null,null,null,null,null,null,null,null,null,null,null,null,null,null,null,null,null,null,null,null,null,{"$f":"IFERROR(WORKDAY(T2490,AE2490,Hoja1!F2482:F2598),\"\")","v":""},"",null,"",{"$f":"IF(P2490=\"\",\"\",NETWORKDAYS(C2490+1,P2490,Hoja1!F2482:F2598))","v":""},{"$f":"IFERROR(IF(NETWORKDAYS(R2490+1,P2490,Hoja1!F2482:F2598)<=0,\"\",NETWORKDAYS(R2490+1,P2490,Hoja1!F2482:F2598)),0)","v":""},null,null,{"$f":"IFERROR(VLOOKUP(L2490,Hoja1!$A$50:$C$63,2),\"\")","v":""},{"$f":"IFERROR(VLOOKUP(L2490,Hoja1!$A$50:$C$63,3),\"\")","v":""}]
[null,null,null,null,null,null,null,null,null,null,null,null,null,null,null,null,null,null,null,null,null,{"$f":"IFERROR(WORKDAY(T2497,AE2497,Hoja1!F2489:F2605),\"\")","v":""},"",null,"",{"$f":"IF(P2497=\"\",\"\",NETWORKDAYS(C2497+1,P2497,Hoja1!F2489:F2605))","v":""},{"$f":"IFERROR(IF(NETWORKDAYS(R2497+1,P2497,Hoja1!F2489:F2605)<=0,\"\",NETWORKDAYS(R2497+1,P2497,Hoja1!F2489:F2605)),0)","v":""},null,null,{"$f":"IFERROR(VLOOKUP(L2497,Hoja1!$A$50:$C$63,2),\"\")","v":""},{"$f":"IFERROR(VLOOKUP(L2497,Hoja1!$A$50:$C$63,3),\"\")","v":""}]
[null,null,null,null,null,null,null,null,null,null,null,null,null,null,null,null,null,null,null,null,null,{"$f":"IFERROR(WORKDAY(T2501,AE2501,Hoja1!F2493:F2609),\"\")","v":""},"",null,"",{"$f":"IF(P2501=\"\",\"\",NETWORKDAYS(C2501+1,P2501,Hoja1!F2493:F2609))","v":""},{"$f":"IFERROR(IF(NETWORKDAYS(R2501+1,P2501,Hoja1!F2493:F2609)<=0,\"\",NETWORKDAYS(R2501+1,P2501,Hoja1!F2493:F2609)),0)","v":""},null,null,{"$f":"IFERROR(VLOOKUP(L2501,Hoja1!$A$50:$C$63,2),\"\")","v":""},{"$f":"IFERROR(VLOOKUP(L2501,Hoja1!$A$50:$C$63,3),\"\")","v":""}]
[null,null,null,null,null,null,null,null,null,null,null,null,null,null,null,null,null,null,null,null,null,{"$f":"IFERROR(WORKDAY(T2502,AE2502,Hoja1!F2494:F2610),\"\")","v":""},"",null,"",{"$f":"IF(P2502=\"\",\"\",NETWORKDAYS(C2502+1,P2502,Hoja1!F2494:F2610))","v":""},{"$f":"IFERROR(IF(NETWORKDAYS(R2502+1,P2502,Hoja1!F2494:F2610)<=0,\"\",NETWORKDAYS(R2502+1,P2502,Hoja1!F2494:F2610)),0)","v":""},null,null,{"$f":"IFERROR(VLOOKUP(L2502,Hoja1!$A$50:$C$63,2),\"\")","v":""},{"$f":"IFERROR(VLOOKUP(L2502,Hoja1!$A$50:$C$63,3),\"\")","v":""}]
[null,null,null,null,null,null,null,null,null,null,null,null,null,null,null,null,null,null,null,null,null,{"$f":"IFERROR(WORKDAY(T2508,AE2508,Hoja1!F2500:F2616),\"\")","v":""},"",null,"",{"$f":"IF(P2508=\"\",\"\",NETWORKDAYS(C2508+1,P2508,Hoja1!F2500:F2616))","v":""},{"$f":"IFERROR(IF(NETWORKDAYS(R2508+1,P2508,Hoja1!F2500:F2616)<=0,\"\",NETWORKDAYS(R2508+1,P2508,Hoja1!F2500:F2616)),0)","v":""},null,null,{"$f":"IFERROR(VLOOKUP(L2508,Hoja1!$A$50:$C$63,2),\"\")","v":""},{"$f":"IFERROR(VLOOKUP(L2508,Hoja1!$A$50:$C$63,3),\"\")","v":""}]
[null,null,null,null,null,null,null,null,null,null,null,null,null,null,null,null,null,null,null,null,null,{"$f":"IFERROR(WORKDAY(T2512,AE2512,Hoja1!F2504:F2620),\"\")","v":""},"",null,"",{"$f":"IF(P2512=\"\",\"\",NETWORKDAYS(C2512+1,P2512,Hoja1!F2504:F2620))","v":""},{"$f":"IFERROR(IF(NETWORKDAYS(R2512+1,P2512,Hoja1!F2504:F2620)<=0,\"\",NETWORKDAYS(R2512+1,P2512,Hoja1!F2504:F2620)),0)","v":""},null,null,{"$f":"IFERROR(VLOOKUP(L2512,Hoja1!$A$50:$C$63,2),\"\")","v":""},{"$f":"IFERROR(VLOOKUP(L2512,Hoja1!$A$50:$C$63,3),\"\")","v":""}]
[null,null,null,null,null,null,null,null,null,null,null,null,null,null,null,null,null,null,null,null,null,{"$f":"IFERROR(WORKDAY(T2519,AE2519,Hoja1!F2511:F2627),\"\")","v":""},"",null,"",{"$f":"IF(P2519=\"\",\"\",NETWORKDAYS(C2519+1,P2519,Hoja1!F2511:F2627))","v":""},{"$f":"IFERROR(IF(NETWORKDAYS(R2519+1,P2519,Hoja1!F2511:F2627)<=0,\"\",NETWORKDAYS(R2519+1,P2519,Hoja1!F2511:F2627)),0)","v":""},null,null,{"$f":"IFERROR(VLOOKUP(L2519,Hoja1!$A$50:$C$63,2),\"\")","v":""},{"$f":"IFERROR(VLOOKUP(L2519,Hoja1!$A$50:$C$63,3),\"\")","v":""}]
[null,null,null,null,null,null,null,null,null,null,null,null,null,null,null,null,null,null,null,null,null,{"$f":"IFERROR(WORKDAY(T2520,AE2520,Hoja1!F2512:F2628),\"\")","v":""},"",null,"",{"$f":"IF(P2520=\"\",\"\",NETWORKDAYS(C2520+1,P2520,Hoja1!F2512:F2628))","v":""},{"$f":"IFERROR(IF(NETWORKDAYS(R2520+1,P2520,Hoja1!F2512:F2628)<=0,\"\",NETWORKDAYS(R2520+1,P2520,Hoja1!F2512:F2628)),0)","v":""},null,null,{"$f":"IFERROR(VLOOKUP(L2520,Hoja1!$A$50:$C$63,2),\"\")","v":""},{"$f":"IFERROR(VLOOKUP(L2520,Hoja1!$A$50:$C$63,3),\"\")","v":""}]
[null,null,null,null,null,null,null,null,null,null,null,null,null,null,null,null,null,null,null,null,null,{"$f":"IFERROR(WORKDAY(T2526,AE2526,Hoja1!F2518:F2634),\"\")","v":""},"",null,"",{"$f":"IF(P2526=\"\",\"\",NETWORKDAYS(C2526+1,P2526,Hoja1!F2518:F2634))","v":""},{"$f":"IFERROR(IF(NETWORKDAYS(R2526+1,P2526,Hoja1!F2518:F2634)<=0,\"\",NETWORKDAYS(R2526+1,P2526,Hoja1!F2518:F2634)),0)","v":""},null,null,{"$f":"IFERROR(VLOOKUP(L2526,Hoja1!$A$50:$C$63,2),\"\")","v":""},{"$f":"IFERROR(VLOOKUP(L2526,Hoja1!$A$50:$C$63,3),\"\")","v":""}]
[null,null,null,null,null,null,null,null,null,null,null,null,null,null,null,null,null,null,null,null,null,{"$f":"IFERROR(WORKDAY(T2531,AE2531,Hoja1!F2523:F2639),\"\")","v":""},"",null,"",{"$f":"IF(P2531=\"\",\"\",NETWORKDAYS(C2531+1,P2531,Hoja1!F2523:F2639))","v":""},{"$f":"IFERROR(IF(NETWORKDAYS(R2531+1,P2531,Hoja1!F2523:F2639)<=0,\"\",NETWORKDAYS(R2531+1,P2531,Hoja1!F2523:F2639)),0)","v":""},null,null,{"$f":"IFERROR(VLOOKUP(L2531,Hoja1!$A$50:$C$63,2),\"\")","v":""},{"$f":"IFERROR(VLOOKUP(L2531,Hoja1!$A$50:$C$63,3),\"\")","v":""}]
[null,null,null,null,null,null,null,null,null,null,null,null,null,null,null,null,null,null,null,null,null,{"$f":"IFERROR(WORKDAY(T2536,AE2536,Hoja1!F2528:F2644),\"\")","v":""},"",null,"",{"$f":"IF(P2536=\"\",\"\",NETWORKDAYS(C2536+1,P2536,Hoja1!F2528:F2644))","v":""},{"$f":"IFERROR(IF(NETWORKDAYS(R2536+1,P2536,Hoja1!F2528:F2644)<=0,\"\",NETWORKDAYS(R2536+1,P2536,Hoja1!F2528:F2644)),0)","v":""},null,null,{"$f":"IFERROR(VLOOKUP(L2536,Hoja1!$A$50:$C$63,2),\"\")","v":""},{"$f":"IFERROR(VLOOKUP(L2536,Hoja1!$A$50:$C$63,3),\"\")","v":""}]
[null,null,null,null,null,null,null,null,null,null,null,null,null,null,null,null,null,null,null,null,null,{"$f":"IFERROR(WORKDAY(T2538,AE2538,Hoja1!F2530:F2646),\"\")","v":""},"",null,"",{"$f":"IF(P2538=\"\",\"\",NETWORKDAYS(C2538+1,P2538,Hoja1!F2530:F2646))","v":""},{"$f":"IFERROR(IF(NETWORKDAYS(R2538+1,P2538,Hoja1!F2530:F2646)<=0,\"\",NETWORKDAYS(R2538+1,P2538,Hoja1!F2530:F2646)),0)","v":""},null,null,{"$f":"IFERROR(VLOOKUP(L2538,Hoja1!$A$50:$C$63,2),\"\")","v":""},{"$f":"IFERROR(VLOOKUP(L2538,Hoja1!$A$50:$C$63,3),\"\")","v":""}]
[null,null,null,null,null,null,null,null,null,null,null,null,null,null,null,null,null,null,null,null,null,{"$f":"IFERROR(WORKDAY(T2545,AE2545,Hoja1!F2537:F2653),\"\")","v":""},"",null,"",{"$f":"IF(P2545=\"\",\"\",NETWORKDAYS(C2545+1,P2545,Hoja1!F2537:F2653))","v":""},{"$f":"IFERROR(IF(NETWORKDAYS(R2545+1,P2545,Hoja1!F2537:F2653)<=0,\"\",NETWORKDAYS(R2545+1,P2545,Hoja1!F2537:F2653)),0)","v":""},null,null,{"$f":"IFERROR(VLOOKUP(L2545,Hoja1!$A$50:$C$63,2),\"\")","v":""},{"$f":"IFERROR(VLOOKUP(L2545,Hoja1!$A$50:$C$63,3),\"\")","v":""}]
[null,null,null,null,null,null,null,null,null,null,null,null,null,null,null,null,null,null,null,null,null,{"$f":"IFERROR(WORKDAY(T2549,AE2549,Hoja1!F2541:F2657),\"\")","v":""},"",null,"",{"$f":"IF(P2549=\"\",\"\",NETWORKDAYS(C2549+1,P2549,Hoja1!F2541:F2657))","v":""},{"$f":"IFERROR(IF(NETWORKDAYS(R2549+1,P2549,Hoja1!F2541:F2657)<=0,\"\",NETWORKDAYS(R2549+1,P2549,Hoja1!F2541:F2657)),0)","v":""},null,null,{"$f":"IFERROR(VLOOKUP(L2549,Hoja1!$A$50:$C$63,2),\"\")","v":""},{"$f":"IFERROR(VLOOKUP(L2549,Hoja1!$A$50:$C$63,3),\"\")","v":""}]
[null,null,null,null,null,null,null,null,null,null,null,null,null,null,null,null,null,null,null,null,null,{"$f":"IFERROR(WORKDAY(T2554,AE2554,Hoja1!F2546:F2662),\"\")","v":""},"",null,"",{"$f":"IF(P2554=\"\",\"\",NETWORKDAYS(C2554+1,P2554,Hoja1!F2546:F2662))","v":""},{"$f":"IFERROR(IF(NETWORKDAYS(R2554+1,P2554,Hoja1!F2546:F2662)<=0,\"\",NETWORKDAYS(R2554+1,P2554,Hoja1!F2546:F2662)),0)","v":""},null,null,{"$f":"IFERROR(VLOOKUP(L2554,Hoja1!$A$50:$C$63,2),\"\")","v":""},{"$f":"IFERROR(VLOOKUP(L2554,Hoja1!$A$50:$C$63,3),\"\")","v":""}]
[null,null,null,null,null,null,null,null,null,null,null,null,null,null,null,null,null,null,null,null,null,{"$f":"IFERROR(WORKDAY(T2555,AE2555,Hoja1!F2547:F2663),\"\")","v":""},"",null,"",{"$f":"IF(P2555=\"\",\"\",NETWORKDAYS(C2555+1,P2555,Hoja1!F2547:F2663))","v":""},{"$f":"IFERROR(IF(NETWORKDAYS(R2555+1,P2555,Hoja1!F2547:F2663)<=0,\"\",NETWORKDAYS(R2555+1,P2555,Hoja1!F2547:F2663)),0)","v":""},null,null,{"$f":"IFERROR(VLOOKUP(L2555,Hoja1!$A$50:$C$63,2),\"\")","v":""},{"$f":"IFERROR(VLOOKUP(L2555,Hoja1!$A$50:$C$63,3),\"\")","v":""}]
[null,null,null,null,null,null,null,null,null,null,null,null,null,null,null,null,null,null,null,null,null,{"$f":"IFERROR(WORKDAY(T2561,AE2561,Hoja1!F2553:F2669),\"\")","v":""},"",null,"",{"$f":"IF(P2561=\"\",\"\",NETWORKDAYS(C2561+1,P2561,Hoja1!F2553:F2669))","v":""},{"$f":"IFERROR(IF(NETWORKDAYS(R2561+1,P2561,Hoja1!F2553:F2669)<=0,\"\",NETWORKDAYS(R2561+1,P2561,Hoja1!F2553:F2669)),0)","v":""},null,null,{"$f":"IFERROR(VLOOKUP(L2561,Hoja1!$A$50:$C$63,2),\"\")","v":""},{"$f":"IFERROR(VLOOKUP(L2561,Hoja1!$A$50:$C$63,3),\"\")","v":""}]
[null,null,null,null,null,null,null,null,null,null,null,null,null,null,null,null,null,null,null,null,null,{"$f":"IFERROR(WORKDAY(T2564,AE2564,Hoja1!F2556:F2672),\"\")","v":""},"",null,"",{"$f":"IF(P2564=\"\",\"\",NETWORKDAYS(C2564+1,P2564,Hoja1!F2556:F2672))","v":""},{"$f":"IFERROR(IF(NETWORKDAYS(R2564+1,P2564,Hoja1!F2556:F2672)<=0,\"\",NETWORKDAYS(R2564+1,P2564,Hoja1!F2556:F2672)),0)","v":""},null,null,{"$f":"IFERROR(VLOOKUP(L2564,Hoja1!$A$50:$C$63,2),\"\")","v":""},{"$f":"IFERROR(VLOOKUP(L2564,Hoja1!$A$50:$C$63,3),\"\")","v":""}]
[null,null,null,null,null,null,null,null,null,null,null,null,null,null,null,null,null,null,null,null,null,{"$f":"IFERROR(WORKDAY(T2572,AE2572,Hoja1!F2564:F2680),\"\")","v":""},"",null,"",{"$f":"IF(P2572=\"\",\"\",NETWORKDAYS(C2572+1,P2572,Hoja1!F2564:F2680))","v":""},{"$f":"IFERROR(IF(NETWORKDAYS(R2572+1,P2572,Hoja1!F2564:F2680)<=0,\"\",NETWORKDAYS(R2572+1,P2572,Hoja1!F2564:F2680)),0)","v":""},null,null,{"$f":"IFERROR(VLOOKUP(L2572,Hoja1!$A$50:$C$63,2),\"\")","v":""},{"$f":"IFERROR(VLOOKUP(L2572,Hoja1!$A$50:$C$63,3),\"\")","v":""}]
[null,null,null,null,null,null,null,null,null,null,null,null,null,null,null,null,null,null,null,null,null,{"$f":"IFERROR(WORKDAY(T2574,AE2574,Hoja1!F2566:F2682),\"\")","v":""},"",null,"",{"$f":"IF(P2574=\"\",\"\",NETWORKDAYS(C2574+1,P2574,Hoja1!F2566:F2682))","v":""},{"$f":"IFERROR(IF(NETWORKDAYS(R2574+1,P2574,Hoja1!F2566:F2682)<=0,\"\",NETWORKDAYS(R2574+1,P2574,Hoja1!F2566:F2682)),0)","v":""},null,null,{"$f":"IFERROR(VLOOKUP(L2574,Hoja1!$A$50:$C$63,2),\"\")","v":""},{"$f":"IFERROR(VLOOKUP(L2574,Hoja1!$A$50:$C$63,3),\"\")","v":""}]
[null,null,null,null,null,null,null,null,null,null,null,null,null,null,null,null,null,null,null,null,null,{"$f":"IFERROR(WORKDAY(T2579,AE2579,Hoja1!F2571:F2687),\"\")","v":""},"",null,"",{"$f":"IF(P2579=\"\",\"\",NETWORKDAYS(C2579+1,P2579,Hoja1!F2571:F2687))","v":""},{"$f":"IFERROR(IF(NETWORKDAYS(R2579+1,P2579,Hoja1!F2571:F2687)<=0,\"\",NETWORKDAYS(R2579+1,P2579,Hoja1!F2571:F2687)),0)","v":""},null,null,{"$f":"IFERROR(VLOOKUP(L2579,Hoja1!$A$50:$C$63,2),\"\")","v":""},{"$f":"IFERROR(VLOOKUP(L2579,Hoja1!$A$50:$C$63,3),\"\")","v":""}]
[null,null,null,null,null,null,null,null,null,null,null,null,null,null,null,null,null,null,null,null,null,{"$f":"IFERROR(WORKDAY(T2584,AE2584,Hoja1!F2576:F2692),\"\")","v":""},"",null,"",{"$f":"IF(P2584=\"\",\"\",NETWORKDAYS(C2584+1,P2584,Hoja1!F2576:F2692))","v":""},{"$f":"IFERROR(IF(NETWORKDAYS(R2584+1,P2584,Hoja1!F2576:F2692)<=0,\"\",NETWORKDAYS(R2584+1,P2584,Hoja1!F2576:F2692)),0)","v":""},null,null,{"$f":"IFERROR(VLOOKUP(L2584,Hoja1!$A$50:$C$63,2),\"\")","v":""},{"$f":"IFERROR(VLOOKUP(L2584,Hoja1!$A$50:$C$63,3),\"\")","v":""}]
[null,null,null,null,null,null,null,null,null,null,null,null,null,null,null,null,null,null,null,null,null,{"$f":"IFERROR(WORKDAY(T2588,AE2588,Hoja1!F2580:F2696),\"\")","v":""},"",null,"",{"$f":"IF(P2588=\"\",\"\",NETWORKDAYS(C2588+1,P2588,Hoja1!F2580:F2696))","v":""},{"$f":"IFERROR(IF(NETWORKDAYS(R2588+1,P2588,Hoja1!F2580:F2696)<=0,\"\",NETWORKDAYS(R2588+1,P2588,Hoja1!F2580:F2696)),0)","v":""},null,null,{"$f":"IFERROR(VLOOKUP(L2588,Hoja1!$A$50:$C$63,2),\"\")","v":""},{"$f":"IFERROR(VLOOKUP(L2588,Hoja1!$A$50:$C$63,3),\"\")","v":""}]
[null,null,null,null,null,null,null,null,null,null,null,null,null,null,null,null,null,null,null,null,null,{"$f":"IFERROR(WORKDAY(T2591,AE2591,Hoja1!F2583:F2699),\"\")","v":""},"",null,"",{"$f":"IF(P2591=\"\",\"\",NETWORKDAYS(C2591+1,P2591,Hoja1!F2583:F2699))","v":""},{"$f":"IFERROR(IF(NETWORKDAYS(R2591+1,P2591,Hoja1!F2583:F2699)<=0,\"\",NETWORKDAYS(R2591+1,P2591,Hoja1!F2583:F2699)),0)","v":""},null,null,{"$f":"IFERROR(VLOOKUP(L2591,Hoja1!$A$50:$C$63,2),\"\")","v":""},{"$f":"IFERROR(VLOOKUP(L2591,Hoja1!$A$50:$C$63,3),\"\")","v":""}]
[null,null,null,null,null,null,null,null,null,null,null,null,null,null,null,null,null,null,null,null,null,{"$f":"IFERROR(WORKDAY(T2598,AE2598,Hoja1!F2590:F2706),\"\")","v":""},"",null,"",{"$f":"IF(P2598=\"\",\"\",NETWORKDAYS(C2598+1,P2598,Hoja1!F2590:F2706))","v":""},{"$f":"IFERROR(IF(NETWORKDAYS(R2598+1,P2598,Hoja1!F2590:F2706)<=0,\"\",NETWORKDAYS(R2598+1,P2598,Hoja1!F2590:F2706)),0)","v":""},null,null,{"$f":"IFERROR(VLOOKUP(L2598,Hoja1!$A$50:$C$63,2),\"\")","v":""},{"$f":"IFERROR(VLOOKUP(L2598,Hoja1!$A$50:$C$63,3),\"\")","v":""}]
[null,null,null,null,null,null,null,null,null,null,null,null,null,null,null,null,null,null,null,null,null,{"$f":"IFERROR(WORKDAY(T2602,AE2602,Hoja1!F2594:F2710),\"\")","v":""},"",null,"",{"$f":"IF(P2602=\"\",\"\",NETWORKDAYS(C2602+1,P2602,Hoja1!F2594:F2710))","v":""},{"$f":"IFERROR(IF(NETWORKDAYS(R2602+1,P2602,Hoja1!F2594:F2710)<=0,\"\",NETWORKDAYS(R2602+1,P2602,Hoja1!F2594:F2710)),0)","v":""},null,null,{"$f":"IFERROR(VLOOKUP(L2602,Hoja1!$A$50:$C$63,2),\"\")","v":""},{"$f":"IFERROR(VLOOKUP(L2602,Hoja1!$A$50:$C$63,3),\"\")","v":""}]
[null,null,null,null,null,null,null,null,null,null,null,null,null,null,null,null,null,null,null,null,null,{"$f":"IFERROR(WORKDAY(T2608,AE2608,Hoja1!F2600:F2716),\"\")","v":""},"",null,"",{"$f":"IF(P2608=\"\",\"\",NETWORKDAYS(C2608+1,P2608,Hoja1!F2600:F2716))","v":""},{"$f":"IFERROR(IF(NETWORKDAYS(R2608+1,P2608,Hoja1!F2600:F2716)<=0,\"\",NETWORKDAYS(R2608+1,P2608,Hoja1!F2600:F2716)),0)","v":""},null,null,{"$f":"IFERROR(VLOOKUP(L2608,Hoja1!$A$50:$C$63,2),\"\")","v":""},{"$f":"IFERROR(VLOOKUP(L2608,Hoja1!$A$50:$C$63,3),\"\")","v":""}]
[null,null,null,null,null,null,null,null,null,null,null,null,null,null,null,null,null,null,null,null,null,{"$f":"IFERROR(WORKDAY(T2609,AE2609,Hoja1!F2601:F2717),\"\")","v":""},"",null,"",{"$f":"IF(P2609=\"\",\"\",NETWORKDAYS(C2609+1,P2609,Hoja1!F2601:F2717))","v":""},{"$f":"IFERROR(IF(NETWORKDAYS(R2609+1,P2609,Hoja1!F2601:F2717)<=0,\"\",NETWORKDAYS(R2609+1,P2609,Hoja1!F2601:F2717)),0)","v":""},null,null,{"$f":"IFERROR(VLOOKUP(L2609,Hoja1!$A$50:$C$63,2),\"\")","v":""},{"$f":"IFERROR(VLOOKUP(L2609,Hoja1!$A$50:$C$63,3),\"\")","v":""}]
[null,null,null,null,null,null,null,null,null,null,null,null,null,null,null,null,null,null,null,null,null,{"$f":"IFERROR(WORKDAY(T2614,AE2614,Hoja1!F2606:F2722),\"\")","v":""},"",null,"",{"$f":"IF(P2614=\"\",\"\",NETWORKDAYS(C2614+1,P2614,Hoja1!F2606:F2722))","v":""},{"$f":"IFERROR(IF(NETWORKDAYS(R2614+1,P2614,Hoja1!F2606:F2722)<=0,\"\",NETWORKDAYS(R2614+1,P2614,Hoja1!F2606:F2722)),0)","v":""},null,null,{"$f":"IFERROR(VLOOKUP(L2614,Hoja1!$A$50:$C$63,2),\"\")","v":""},{"$f":"IFERROR(VLOOKUP(L2614,Hoja1!$A$50:$C$63,3),\"\")","v":""}]
[null,null,null,null,null,null,null,null,null,null,null,null,null,null,null,null,null,null,null,null,null,{"$f":"IFERROR(WORKDAY(T2617,AE2617,Hoja1!F2609:F2725),\"\")","v":""},"",null,"",{"$f":"IF(P2617=\"\",\"\",NETWORKDAYS(C2617+1,P2617,Hoja1!F2609:F2725))","v":""},{"$f":"IFERROR(IF(NETWORKDAYS(R2617+1,P2617,Hoja1!F2609:F2725)<=0,\"\",NETWORKDAYS(R2617+1,P2617,Hoja1!F2609:F2725)),0)","v":""},null,null,{"$f":"IFERROR(VLOOKUP(L2617,Hoja1!$A$50:$C$63,2),\"\")","v":""},{"$f":"IFERROR(VLOOKUP(L2617,Hoja1!$A$50:$C$63,3),\"\")","v":""}]
[null,null,null,null,null,null,null,null,null,null,null,null,null,null,null,null,null,null,null,null,null,{"$f":"IFERROR(WORKDAY(T2625,AE2625,Hoja1!F2617:F2733),\"\")","v":""},"",null,"",{"$f":"IF(P2625=\"\",\"\",NETWORKDAYS(C2625+1,P2625,Hoja1!F2617:F2733))","v":""},{"$f":"IFERROR(IF(NETWORKDAYS(R2625+1,P2625,Hoja1!F2617:F2733)<=0,\"\",NETWORKDAYS(R2625+1,P2625,Hoja1!F2617:F2733)),0)","v":""},null,null,{"$f":"IFERROR(VLOOKUP(L2625,Hoja1!$A$50:$C$63,2),\"\")","v":""},{"$f":"IFERROR(VLOOKUP(L2625,Hoja1!$A$50:$C$63,3),\"\")","v":""}]
[null,null,null,null,null,null,null,null,null,null,null,null,null,null,null,null,null,null,null,null,null,{"$f":"IFERROR(WORKDAY(T2627,AE2627,Hoja1!F2619:F2735),\"\")","v":""},"",null,"",{"$f":"IF(P2627=\"\",\"\",NETWORKDAYS(C2627+1,P2627,Hoja1!F2619:F2735))","v":""},{"$f":"IFERROR(IF(NETWORKDAYS(R2627+1,P2627,Hoja1!F2619:F2735)<=0,\"\",NETWORKDAYS(R2627+1,P2627,Hoja1!F2619:F2735)),0)","v":""},null,null,{"$f":"IFERROR(VLOOKUP(L2627,Hoja1!$A$50:$C$63,2),\"\")","v":""},{"$f":"IFERROR(VLOOKUP(L2627,Hoja1!$A$50:$C$63,3),\"\")","v":""}]
[null,null,null,null,null,null,null,null,null,null,null,null,null,null,null,null,null,null,null,null,null,{"$f":"IFERROR(WORKDAY(T2632,AE2632,Hoja1!F2624:F2740),\"\")","v":""},"",null,"",{"$f":"IF(P2632=\"\",\"\",NETWORKDAYS(C2632+1,P2632,Hoja1!F2624:F2740))","v":""},{"$f":"IFERROR(IF(NETWORKDAYS(R2632+1,P2632,Hoja1!F2624:F2740)<=0,\"\",NETWORKDAYS(R2632+1,P2632,Hoja1!F2624:F2740)),0)","v":""},null,null,{"$f":"IFERROR(VLOOKUP(L2632,Hoja1!$A$50:$C$63,2),\"\")","v":""},{"$f":"IFERROR(VLOOKUP(L2632,Hoja1!$A$50:$C$63,3),\"\")","v":""}]
[null,null,null,null,null,null,null,null,null,null,null,null,null,null,null,null,null,null,null,null,null,{"$f":"IFERROR(WORKDAY(T2636,AE2636,Hoja1!F2628:F2744),\"\")","v":""},"",null,"",{"$f":"IF(P2636=\"\",\"\",NETWORKDAYS(C2636+1,P2636,Hoja1!F2628:F2744))","v":""},{"$f":"IFERROR(IF(NETWORKDAYS(R2636+1,P2636,Hoja1!F2628:F2744)<=0,\"\",NETWORKDAYS(R2636+1,P2636,Hoja1!F2628:F2744)),0)","v":""},null,null,{"$f":"IFERROR(VLOOKUP(L2636,Hoja1!$A$50:$C$63,2),\"\")","v":""},{"$f":"IFERROR(VLOOKUP(L2636,Hoja1!$A$50:$C$63,3),\"\")","v":""}]
[null,null,null,null,null,null,null,null,null,null,null,null,null,null,null,null,null,null,null,null,null,{"$f":"IFERROR(WORKDAY(T2643,AE2643,Hoja1!F2635:F2751),\"\")","v":""},"",null,"",{"$f":"IF(P2643=\"\",\"\",NETWORKDAYS(C2643+1,P2643,Hoja1!F2635:F2751))","v":""},{"$f":"IFERROR(IF(NETWORKDAYS(R2643+1,P2643,Hoja1!F2635:F2751)<=0,\"\",NETWORKDAYS(R2643+1,P2643,Hoja1!F2635:F2751)),0)","v":""},null,null,{"$f":"IFERROR(VLOOKUP(L2643,Hoja1!$A$50:$C$63,2),\"\")","v":""},{"$f":"IFERROR(VLOOKUP(L2643,Hoja1!$A$50:$C$63,3),\"\")","v":""}]
[null,null,null,null,null,null,null,null,null,null,null,null,null,null,null,null,null,null,null,null,null,{"$f":"IFERROR(WORKDAY(T2644,AE2644,Hoja1!F2636:F2752),\"\")","v":""},"",null,"",{"$f":"IF(P2644=\"\",\"\",NETWORKDAYS(C2644+1,P2644,Hoja1!F2636:F2752))","v":""},{"$f":"IFERROR(IF(NETWORKDAYS(R2644+1,P2644,Hoja1!F2636:F2752)<=0,\"\",NETWORKDAYS(R2644+1,P2644,Hoja1!F2636:F2752)),0)","v":""},null,null,{"$f":"IFERROR(VLOOKUP(L2644,Hoja1!$A$50:$C$63,2),\"\")","v":""},{"$f":"IFERROR(VLOOKUP(L2644,Hoja1!$A$50:$C$63,3),\"\")","v":""}]
[null,null,null,null,null,null,null,null,null,null,null,null,null,null,null,null,null,null,null,null,null,{"$f":"IFERROR(WORKDAY(T2651,AE2651,Hoja1!F2643:F2759),\"\")","v":""},"",null,"",{"$f":"IF(P2651=\"\",\"\",NETWORKDAYS(C2651+1,P2651,Hoja1!F2643:F2759))","v":""},{"$f":"IFERROR(IF(NETWORKDAYS(R2651+1,P2651,Hoja1!F2643:F2759)<=0,\"\",NETWORKDAYS(R2651+1,P2651,Hoja1!F2643:F2759)),0)","v":""},null,null,{"$f":"IFERROR(VLOOKUP(L2651,Hoja1!$A$50:$C$63,2),\"\")","v":""},{"$f":"IFERROR(VLOOKUP(L2651,Hoja1!$A$50:$C$63,3),\"\")","v":""}]
[null,null,null,null,null,null,null,null,null,null,null,null,null,null,null,null,null,null,null,null,null,{"$f":"IFERROR(WORKDAY(T2655,AE2655,Hoja1!F2647:F2763),\"\")","v":""},"",null,"",{"$f":"IF(P2655=\"\",\"\",NETWORKDAYS(C2655+1,P2655,Hoja1!F2647:F2763))","v":""},{"$f":"IFERROR(IF(NETWORKDAYS(R2655+1,P2655,Hoja1!F2647:F2763)<=0,\"\",NETWORKDAYS(R2655+1,P2655,Hoja1!F2647:F2763)),0)","v":""},null,null,{"$f":"IFERROR(VLOOKUP(L2655,Hoja1!$A$50:$C$63,2),\"\")","v":""},{"$f":"IFERROR(VLOOKUP(L2655,Hoja1!$A$50:$C$63,3),\"\")","v":""}]
[null,null,null,null,null,null,null,null,null,null,null,null,null,null,null,null,null,null,null,null,null,{"$f":"IFERROR(WORKDAY(T2660,AE2660,Hoja1!F2652:F2768),\"\")","v":""},"",null,"",{"$f":"IF(P2660=\"\",\"\",NETWORKDAYS(C2660+1,P2660,Hoja1!F2652:F2768))","v":""},{"$f":"IFERROR(IF(NETWORKDAYS(R2660+1,P2660,Hoja1!F2652:F2768)<=0,\"\",NETWORKDAYS(R2660+1,P2660,Hoja1!F2652:F2768)),0)","v":""},null,null,{"$f":"IFERROR(VLOOKUP(L2660,Hoja1!$A$50:$C$63,2),\"\")","v":""},{"$f":"IFERROR(VLOOKUP(L2660,Hoja1!$A$50:$C$63,3),\"\")","v":""}]
[null,null,null,null,null,null,null,null,null,null,null,null,null,null,null,null,null,null,null,null,null,{"$f":"IFERROR(WORKDAY(T2662,AE2662,Hoja1!F2654:F2770),\"\")","v":""},"",null,"",{"$f":"IF(P2662=\"\",\"\",NETWORKDAYS(C2662+1,P2662,Hoja1!F2654:F2770))","v":""},{"$f":"IFERROR(IF(NETWORKDAYS(R2662+1,P2662,Hoja1!F2654:F2770)<=0,\"\",NETWORKDAYS(R2662+1,P2662,Hoja1!F2654:F2770)),0)","v":""},null,null,{"$f":"IFERROR(VLOOKUP(L2662,Hoja1!$A$50:$C$63,2),\"\")","v":""},{"$f":"IFERROR(VLOOKUP(L2662,Hoja1!$A$50:$C$63,3),\"\")","v":""}]
[null,null,null,null,null,null,null,null,null,null,null,null,null,null,null,null,null,null,null,null,null,{"$f":"IFERROR(WORKDAY(T2670,AE2670,Hoja1!F2662:F2778),\"\")","v":""},"",null,"",{"$f":"IF(P2670=\"\",\"\",NETWORKDAYS(C2670+1,P2670,Hoja1!F2662:F2778))","v":""},{"$f":"IFERROR(IF(NETWORKDAYS(R2670+1,P2670,Hoja1!F2662:F2778)<=0,\"\",NETWORKDAYS(R2670+1,P2670,Hoja1!F2662:F2778)),0)","v":""},null,null,{"$f":"IFERROR(VLOOKUP(L2670,Hoja1!$A$50:$C$63,2),\"\")","v":""},{"$f":"IFERROR(VLOOKUP(L2670,Hoja1!$A$50:$C$63,3),\"\")","v":""}]
[null,null,null,null,null,null,null,null,null,null,null,null,null,null,null,null,null,null,null,null,null,{"$f":"IFERROR(WORKDAY(T2673,AE2673,Hoja1!F2665:F2781),\"\")","v":""},"",null,"",{"$f":"IF(P2673=\"\",\"\",NETWORKDAYS(C2673+1,P2673,Hoja1!F2665:F2781))","v":""},{"$f":"IFERROR(IF(NETWORKDAYS(R2673+1,P2673,Hoja1!F2665:F2781)<=0,\"\",NETWORKDAYS(R2673+1,P2673,Hoja1!F2665:F2781)),0)","v":""},null,null,{"$f":"IFERROR(VLOOKUP(L2673,Hoja1!$A$50:$C$63,2),\"\")","v":""},{"$f":"IFERROR(VLOOKUP(L2673,Hoja1!$A$50:$C$63,3),\"\")","v":""}]
[null,null,null,null,null,null,null,null,null,null,null,null,null,null,null,null,null,null,null,null,null,{"$f":"IFERROR(WORKDAY(T2678,AE2678,Hoja1!F2670:F2786),\"\")","v":""},"",null,"",{"$f":"IF(P2678=\"\",\"\",NETWORKDAYS(C2678+1,P2678,Hoja1!F2670:F2786))","v":""},{"$f":"IFERROR(IF(NETWORKDAYS(R2678+1,P2678,Hoja1!F2670:F2786)<=0,\"\",NETWORKDAYS(R2678+1,P2678,Hoja1!F2670:F2786)),0)","v":""},null,null,{"$f":"IFERROR(VLOOKUP(L2678,Hoja1!$A$50:$C$63,2),\"\")","v":""},{"$f":"IFERROR(VLOOKUP(L2678,Hoja1!$A$50:$C$63,3),\"\")","v":""}]
[null,null,null,null,null,null,null,null,null,null,null,null,null,null,null,null,null,null,null,null,null,{"$f":"IFERROR(WORKDAY(T2679,AE2679,Hoja1!F2671:F2787),\"\")","v":""},"",null,"",{"$f":"IF(P2679=\"\",\"\",NETWORKDAYS(C2679+1,P2679,Hoja1!F2671:F2787))","v":""},{"$f":"IFERROR(IF(NETWORKDAYS(R2679+1,P2679,Hoja1!F2671:F2787)<=0,\"\",NETWORKDAYS(R2679+1,P2679,Hoja1!F2671:F2787)),0)","v":""},null,null,{"$f":"IFERROR(VLOOKUP(L2679,Hoja1!$A$50:$C$63,2),\"\")","v":""},{"$f":"IFERROR(VLOOKUP(L2679,Hoja1!$A$50:$C$63,3),\"\")","v":""}]
[null,null,null,null,null,null,null,null,null,null,null,null,null,null,null,null,null,null,null,null,null,{"$f":"IFERROR(WORKDAY(T2685,AE2685,Hoja1!F2677:F2793),\"\")","v":""},"",null,"",{"$f":"IF(P2685=\"\",\"\",NETWORKDAYS(C2685+1,P2685,Hoja1!F2677:F2793))","v":""},{"$f":"IFERROR(IF(NETWORKDAYS(R2685+1,P2685,Hoja1!F2677:F2793)<=0,\"\",NETWORKDAYS(R2685+1,P2685,Hoja1!F2677:F2793)),0)","v":""},null,null,{"$f":"IFERROR(VLOOKUP(L2685,Hoja1!$A$50:$C$63,2),\"\")","v":""},{"$f":"IFERROR(VLOOKUP(L2685,Hoja1!$A$50:$C$63,3),\"\")","v":""}]
[null,null,null,null,null,null,null,null,null,null,null,null,null,null,null,null,null,null,null,null,null,{"$f":"IFERROR(WORKDAY(T2689,AE2689,Hoja1!F2681:F2797),\"\")","v":""},"",null,"",{"$f":"IF(P2689=\"\",\"\",NETWORKDAYS(C2689+1,P2689,Hoja1!F2681:F2797))","v":""},{"$f":"IFERROR(IF(NETWORKDAYS(R2689+1,P2689,Hoja1!F2681:F2797)<=0,\"\",NETWORKDAYS(R2689+1,P2689,Hoja1!F2681:F2797)),0)","v":""},null,null,{"$f":"IFERROR(VLOOKUP(L2689,Hoja1!$A$50:$C$63,2),\"\")","v":""},{"$f":"IFERROR(VLOOKUP(L2689,Hoja1!$A$50:$C$63,3),\"\")","v":""}]
[null,null,null,null,null,null,null,null,null,null,null,null,null,null,null,null,null,null,null,null,null,{"$f":"IFERROR(WORKDAY(T2696,AE2696,Hoja1!F2688:F2804),\"\")","v":""},"",null,"",{"$f":"IF(P2696=\"\",\"\",NETWORKDAYS(C2696+1,P2696,Hoja1!F2688:F2804))","v":""},{"$f":"IFERROR(IF(NETWORKDAYS(R2696+1,P2696,Hoja1!F2688:F2804)<=0,\"\",NETWORKDAYS(R2696+1,P2696,Hoja1!F2688:F2804)),0)","v":""},null,null,{"$f":"IFERROR(VLOOKUP(L2696,Hoja1!$A$50:$C$63,2),\"\")","v":""},{"$f":"IFERROR(VLOOKUP(L2696,Hoja1!$A$50:$C$63,3),\"\")","v":""}]
[null,null,null,null,null,null,null,null,null,null,null,null,null,null,null,null,null,null,null,null,null,{"$f":"IFERROR(WORKDAY(T2699,AE2699,Hoja1!F2691:F2807),\"\")","v":""},"",null,"",{"$f":"IF(P2699=\"\",\"\",NETWORKDAYS(C2699+1,P2699,Hoja1!F2691:F2807))","v":""},{"$f":"IFERROR(IF(NETWORKDAYS(R2699+1,P2699,Hoja1!F2691:F2807)<=0,\"\",NETWORKDAYS(R2699+1,P2699,Hoja1!F2691:F2807)),0)","v":""},null,null,{"$f":"IFERROR(VLOOKUP(L2699,Hoja1!$A$50:$C$63,2),\"\")","v":""},{"$f":"IFERROR(VLOOKUP(L2699,Hoja1!$A$50:$C$63,3),\"\")","v":""}]
[null,null,null,null,null,null,null,null,null,null,null,null,null,null,null,null,null,null,null,null,null,{"$f":"IFERROR(WORKDAY(T2703,AE2703,Hoja1!F2695:F2811),\"\")","v":""},"",null,"",{"$f":"IF(P2703=\"\",\"\",NETWORKDAYS(C2703+1,P2703,Hoja1!F2695:F2811))","v":""},{"$f":"IFERROR(IF(NETWORKDAYS(R2703+1,P2703,Hoja1!F2695:F2811)<=0,\"\",NETWORKDAYS(R2703+1,P2703,Hoja1!F2695:F2811)),0)","v":""},null,null,{"$f":"IFERROR(VLOOKUP(L2703,Hoja1!$A$50:$C$63,2),\"\")","v":""},{"$f":"IFERROR(VLOOKUP(L2703,Hoja1!$A$50:$C$63,3),\"\")","v":""}]
[null,null,null,null,null,null,null,null,null,null,null,null,null,null,null,null,null,null,null,null,null,{"$f":"IFERROR(WORKDAY(T2708,AE2708,Hoja1!F2700:F2816),\"\")","v":""},"",null,"",{"$f":"IF(P2708=\"\",\"\",NETWORKDAYS(C2708+1,P2708,Hoja1!F2700:F2816))","v":""},{"$f":"IFERROR(IF(NETWORKDAYS(R2708+1,P2708,Hoja1!F2700:F2816)<=0,\"\",NETWORKDAYS(R2708+1,P2708,Hoja1!F2700:F2816)),0)","v":""},null,null,{"$f":"IFERROR(VLOOKUP(L2708,Hoja1!$A$50:$C$63,2),\"\")","v":""},{"$f":"IFERROR(VLOOKUP(L2708,Hoja1!$A$50:$C$63,3),\"\")","v":""}]
[null,null,null,null,null,null,null,null,null,null,null,null,null,null,null,null,null,null,null,null,null,{"$f":"IFERROR(WORKDAY(T2713,AE2713,Hoja1!F2705:F2821),\"\")","v":""},"",null,"",{"$f":"IF(P2713=\"\",\"\",NETWORKDAYS(C2713+1,P2713,Hoja1!F2705:F2821))","v":""},{"$f":"IFERROR(IF(NETWORKDAYS(R2713+1,P2713,Hoja1!F2705:F2821)<=0,\"\",NETWORKDAYS(R2713+1,P2713,Hoja1!F2705:F2821)),0)","v":""},null,null,{"$f":"IFERROR(VLOOKUP(L2713,Hoja1!$A$50:$C$63,2),\"\")","v":""},{"$f":"IFERROR(VLOOKUP(L2713,Hoja1!$A$50:$C$63,3),\"\")","v":""}]
[null,null,null,null,null,null,null,null,null,null,null,null,null,null,null,null,null,null,null,null,null,{"$f":"IFERROR(WORKDAY(T2715,AE2715,Hoja1!F2707:F2823),\"\")","v":""},"",null,"",{"$f":"IF(P2715=\"\",\"\",NETWORKDAYS(C2715+1,P2715,Hoja1!F2707:F2823))","v":""},{"$f":"IFERROR(IF(NETWORKDAYS(R2715+1,P2715,Hoja1!F2707:F2823)<=0,\"\",NETWORKDAYS(R2715+1,P2715,Hoja1!F2707:F2823)),0)","v":""},null,null,{"$f":"IFERROR(VLOOKUP(L2715,Hoja1!$A$50:$C$63,2),\"\")","v":""},{"$f":"IFERROR(VLOOKUP(L2715,Hoja1!$A$50:$C$63,3),\"\")","v":""}]
[null,null,null,null,null,null,null,null,null,null,null,null,null,null,null,null,null,null,null,null,null,{"$f":"IFERROR(WORKDAY(T2723,AE2723,Hoja1!F2715:F2831),\"\")","v":""},"",null,"",{"$f":"IF(P2723=\"\",\"\",NETWORKDAYS(C2723+1,P2723,Hoja1!F2715:F2831))","v":""},{"$f":"IFERROR(IF(NETWORKDAYS(R2723+1,P2723,Hoja1!F2715:F2831)<=0,\"\",NETWORKDAYS(R2723+1,P2723,Hoja1!F2715:F2831)),0)","v":""},null,null,{"$f":"IFERROR(VLOOKUP(L2723,Hoja1!$A$50:$C$63,2),\"\")","v":""},{"$f":"IFERROR(VLOOKUP(L2723,Hoja1!$A$50:$C$63,3),\"\")","v":""}]
[null,null,null,null,null,null,null,null,null,null,null,null,null,null,null,null,null,null,null,null,null,{"$f":"IFERROR(WORKDAY(T2726,AE2726,Hoja1!F2718:F2834),\"\")","v":""},"",null,"",{"$f":"IF(P2726=\"\",\"\",NETWORKDAYS(C2726+1,P2726,Hoja1!F2718:F2834))","v":""},{"$f":"IFERROR(IF(NETWORKDAYS(R2726+1,P2726,Hoja1!F2718:F2834)<=0,\"\",NETWORKDAYS(R2726+1,P2726,Hoja1!F2718:F2834)),0)","v":""},null,null,{"$f":"IFERROR(VLOOKUP(L2726,Hoja1!$A$50:$C$63,2),\"\")","v":""},{"$f":"IFERROR(VLOOKUP(L2726,Hoja1!$A$50:$C$63,3),\"\")","v":""}]
[null,null,null,null,null,null,null,null,null,null,null,null,null,null,null,null,null,null,null,null,null,{"$f":"IFERROR(WORKDAY(T2732,AE2732,Hoja1!F2724:F2840),\"\")","v":""},"",null,"",{"$f":"IF(P2732=\"\",\"\",NETWORKDAYS(C2732+1,P2732,Hoja1!F2724:F2840))","v":""},{"$f":"IFERROR(IF(NETWORKDAYS(R2732+1,P2732,Hoja1!F2724:F2840)<=0,\"\",NETWORKDAYS(R2732+1,P2732,Hoja1!F2724:F2840)),0)","v":""},null,null,{"$f":"IFERROR(VLOOKUP(L2732,Hoja1!$A$50:$C$63,2),\"\")","v":""},{"$f":"IFERROR(VLOOKUP(L2732,Hoja1!$A$50:$C$63,3),\"\")","v":""}]
[null,null,null,null,null,null,null,null,null,null,null,null,null,null,null,null,null,null,null,null,null,{"$f":"IFERROR(WORKDAY(T2733,AE2733,Hoja1!F2725:F2841),\"\")","v":""},"",null,"",{"$f":"IF(P2733=\"\",\"\",NETWORKDAYS(C2733+1,P2733,Hoja1!F2725:F2841))","v":""},{"$f":"IFERROR(IF(NETWORKDAYS(R2733+1,P2733,Hoja1!F2725:F2841)<=0,\"\",NETWORKDAYS(R2733+1,P2733,Hoja1!F2725:F2841)),0)","v":""},null,null,{"$f":"IFERROR(VLOOKUP(L2733,Hoja1!$A$50:$C$63,2),\"\")","v":""},{"$f":"IFERROR(VLOOKUP(L2733,Hoja1!$A$50:$C$63,3),\"\")","v":""}]
[null,null,null,null,null,null,null,null,null,null,null,null,null,null,null,null,null,null,null,null,null,{"$f":"IFERROR(WORKDAY(T2738,AE2738,Hoja1!F2730:F2846),\"\")","v":""},"",null,"",{"$f":"IF(P2738=\"\",\"\",NETWORKDAYS(C2738+1,P2738,Hoja1!F2730:F2846))","v":""},{"$f":"IFERROR(IF(NETWORKDAYS(R2738+1,P2738,Hoja1!F2730:F2846)<=0,\"\",NETWORKDAYS(R2738+1,P2738,Hoja1!F2730:F2846)),0)","v":""},null,null,{"$f":"IFERROR(VLOOKUP(L2738,Hoja1!$A$50:$C$63,2),\"\")","v":""},{"$f":"IFERROR(VLOOKUP(L2738,Hoja1!$A$50:$C$63,3),\"\")","v":""}]
[null,null,null,null,null,null,null,null,null,null,null,null,null,null,null,null,null,null,null,null,null,{"$f":"IFERROR(WORKDAY(T2742,AE2742,Hoja1!F2734:F2850),\"\")","v":""},"",null,"",{"$f":"IF(P2742=\"\",\"\",NETWORKDAYS(C2742+1,P2742,Hoja1!F2734:F2850))","v":""},{"$f":"IFERROR(IF(NETWORKDAYS(R2742+1,P2742,Hoja1!F2734:F2850)<=0,\"\",NETWORKDAYS(R2742+1,P2742,Hoja1!F2734:F2850)),0)","v":""},null,null,{"$f":"IFERROR(VLOOKUP(L2742,Hoja1!$A$50:$C$63,2),\"\")","v":""},{"$f":"IFERROR(VLOOKUP(L2742,Hoja1!$A$50:$C$63,3),\"\")","v":""}]
[null,null,null,null,null,null,null,null,null,null,null,null,null,null,null,null,null,null,null,null,null,{"$f":"IFERROR(WORKDAY(T2749,AE2749,Hoja1!F2741:F2857),\"\")","v":""},"",null,"",{"$f":"IF(P2749=\"\",\"\",NETWORKDAYS(C2749+1,P2749,Hoja1!F2741:F2857))","v":""},{"$f":"IFERROR(IF(NETWORKDAYS(R2749+1,P2749,Hoja1!F2741:F2857)<=0,\"\",NETWORKDAYS(R2749+1,P2749,Hoja1!F2741:F2857)),0)","v":""},null,null,{"$f":"IFERROR(VLOOKUP(L2749,Hoja1!$A$50:$C$63,2),\"\")","v":""},{"$f":"IFERROR(VLOOKUP(L2749,Hoja1!$A$50:$C$63,3),\"\")","v":""}]
[null,null,null,null,null,null,null,null,null,null,null,null,null,null,null,null,null,null,null,null,null,{"$f":"IFERROR(WORKDAY(T2751,AE2751,Hoja1!F2743:F2859),\"\")","v":""},"",null,"",{"$f":"IF(P2751=\"\",\"\",NETWORKDAYS(C2751+1,P2751,Hoja1!F2743:F2859))","v":""},{"$f":"IFERROR(IF(NETWORKDAYS(R2751+1,P2751,Hoja1!F2743:F2859)<=0,\"\",NETWORKDAYS(R2751+1,P2751,Hoja1!F2743:F2859)),0)","v":""},null,null,{"$f":"IFERROR(VLOOKUP(L2751,Hoja1!$A$50:$C$63,2),\"\")","v":""},{"$f":"IFERROR(VLOOKUP(L2751,Hoja1!$A$50:$C$63,3),\"\")","v":""}]
[null,null,null,null,null,null,null,null,null,null,null,null,null,null,null,null,null,null,null,null,null,{"$f":"IFERROR(WORKDAY(T2756,AE2756,Hoja1!F2748:F2864),\"\")","v":""},"",null,"",{"$f":"IF(P2756=\"\",\"\",NETWORKDAYS(C2756+1,P2756,Hoja1!F2748:F2864))","v":""},{"$f":"IFERROR(IF(NETWORKDAYS(R2756+1,P2756,Hoja1!F2748:F2864)<=0,\"\",NETWORKDAYS(R2756+1,P2756,Hoja1!F2748:F2864)),0)","v":""},null,null,{"$f":"IFERROR(VLOOKUP(L2756,Hoja1!$A$50:$C$63,2),\"\")","v":""},{"$f":"IFERROR(VLOOKUP(L2756,Hoja1!$A$50:$C$63,3),\"\")","v":""}]
[null,null,null,null,null,null,null,null,null,null,null,null,null,null,null,null,null,null,null,null,null,{"$f":"IFERROR(WORKDAY(T2761,AE2761,Hoja1!F2753:F2869),\"\")","v":""},"",null,"",{"$f":"IF(P2761=\"\",\"\",NETWORKDAYS(C2761+1,P2761,Hoja1!F2753:F2869))","v":""},{"$f":"IFERROR(IF(NETWORKDAYS(R2761+1,P2761,Hoja1!F2753:F2869)<=0,\"\",NETWORKDAYS(R2761+1,P2761,Hoja1!F2753:F2869)),0)","v":""},null,null,{"$f":"IFERROR(VLOOKUP(L2761,Hoja1!$A$50:$C$63,2),\"\")","v":""},{"$f":"IFERROR(VLOOKUP(L2761,Hoja1!$A$50:$C$63,3),\"\")","v":""}]
[null,null,null,null,null,null,null,null,null,null,null,null,null,null,null,null,null,null,null,null,null,{"$f":"IFERROR(WORKDAY(T2767,AE2767,Hoja1!F2759:F2875),\"\")","v":""},"",null,"",{"$f":"IF(P2767=\"\",\"\",NETWORKDAYS(C2767+1,P2767,Hoja1!F2759:F2875))","v":""},{"$f":"IFERROR(IF(NETWORKDAYS(R2767+1,P2767,Hoja1!F2759:F2875)<=0,\"\",NETWORKDAYS(R2767+1,P2767,Hoja1!F2759:F2875)),0)","v":""},null,null,{"$f":"IFERROR(VLOOKUP(L2767,Hoja1!$A$50:$C$63,2),\"\")","v":""},{"$f":"IFERROR(VLOOKUP(L2767,Hoja1!$A$50:$C$63,3),\"\")","v":""}]
[null,null,null,null,null,null,null,null,null,null,null,null,null,null,null,null,null,null,null,null,null,{"$f":"IFERROR(WORKDAY(T2771,AE2771,Hoja1!F2763:F2879),\"\")","v":""},"",null,"",{"$f":"IF(P2771=\"\",\"\",NETWORKDAYS(C2771+1,P2771,Hoja1!F2763:F2879))","v":""},{"$f":"IFERROR(IF(NETWORKDAYS(R2771+1,P2771,Hoja1!F2763:F2879)<=0,\"\",NETWORKDAYS(R2771+1,P2771,Hoja1!F2763:F2879)),0)","v":""},null,null,{"$f":"IFERROR(VLOOKUP(L2771,Hoja1!$A$50:$C$63,2),\"\")","v":""},{"$f":"IFERROR(VLOOKUP(L2771,Hoja1!$A$50:$C$63,3),\"\")","v":""}]
[null,null,null,null,null,null,null,null,null,null,null,null,null,null,null,null,null,null,null,null,null,{"$f":"IFERROR(WORKDAY(T2774,AE2774,Hoja1!F2766:F2882),\"\")","v":""},"",null,"",{"$f":"IF(P2774=\"\",\"\",NETWORKDAYS(C2774+1,P2774,Hoja1!F2766:F2882))","v":""},{"$f":"IFERROR(IF(NETWORKDAYS(R2774+1,P2774,Hoja1!F2766:F2882)<=0,\"\",NETWORKDAYS(R2774+1,P2774,Hoja1!F2766:F2882)),0)","v":""},null,null,{"$f":"IFERROR(VLOOKUP(L2774,Hoja1!$A$50:$C$63,2),\"\")","v":""},{"$f":"IFERROR(VLOOKUP(L2774,Hoja1!$A$50:$C$63,3),\"\")","v":""}]
[null,null,null,null,null,null,null,null,null,null,null,null,null,null,null,null,null,null,null,null,null,{"$f":"IFERROR(WORKDAY(T2779,AE2779,Hoja1!F2771:F2887),\"\")","v":""},"",null,"",{"$f":"IF(P2779=\"\",\"\",NETWORKDAYS(C2779+1,P2779,Hoja1!F2771:F2887))","v":""},{"$f":"IFERROR(IF(NETWORKDAYS(R2779+1,P2779,Hoja1!F2771:F2887)<=0,\"\",NETWORKDAYS(R2779+1,P2779,Hoja1!F2771:F2887)),0)","v":""},null,null,{"$f":"IFERROR(VLOOKUP(L2779,Hoja1!$A$50:$C$63,2),\"\")","v":""},{"$f":"IFERROR(VLOOKUP(L2779,Hoja1!$A$50:$C$63,3),\"\")","v":""}]
[null,null,null,null,null,null,null,null,null,null,null,null,null,null,null,null,null,null,null,null,null,{"$f":"IFERROR(WORKDAY(T2785,AE2785,Hoja1!F2777:F2893),\"\")","v":""},"",null,"",{"$f":"IF(P2785=\"\",\"\",NETWORKDAYS(C2785+1,P2785,Hoja1!F2777:F2893))","v":""},{"$f":"IFERROR(IF(NETWORKDAYS(R2785+1,P2785,Hoja1!F2777:F2893)<=0,\"\",NETWORKDAYS(R2785+1,P2785,Hoja1!F2777:F2893)),0)","v":""},null,null,{"$f":"IFERROR(VLOOKUP(L2785,Hoja1!$A$50:$C$63,2),\"\")","v":""},{"$f":"IFERROR(VLOOKUP(L2785,Hoja1!$A$50:$C$63,3),\"\")","v":""}]
[null,null,null,null,null,null,null,null,null,null,null,null,null,null,null,null,null,null,null,null,null,{"$f":"IFERROR(WORKDAY(T2786,AE2786,Hoja1!F2778:F2894),\"\")","v":""},"",null,"",{"$f":"IF(P2786=\"\",\"\",NETWORKDAYS(C2786+1,P2786,Hoja1!F2778:F2894))","v":""},{"$f":"IFERROR(IF(NETWORKDAYS(R2786+1,P2786,Hoja1!F2778:F2894)<=0,\"\",NETWORKDAYS(R2786+1,P2786,Hoja1!F2778:F2894)),0)","v":""},null,null,{"$f":"IFERROR(VLOOKUP(L2786,Hoja1!$A$50:$C$63,2),\"\")","v":""},{"$f":"IFERROR(VLOOKUP(L2786,Hoja1!$A$50:$C$63,3),\"\")","v":""}]
[null,null,null,null,null,null,null,null,null,null,null,null,null,null,null,null,null,null,null,null,null,{"$f":"IFERROR(WORKDAY(T2790,AE2790,Hoja1!F2782:F2898),\"\")","v":""},"",null,"",{"$f":"IF(P2790=\"\",\"\",NETWORKDAYS(C2790+1,P2790,Hoja1!F2782:F2898))","v":""},{"$f":"IFERROR(IF(NETWORKDAYS(R2790+1,P2790,Hoja1!F2782:F2898)<=0,\"\",NETWORKDAYS(R2790+1,P2790,Hoja1!F2782:F2898)),0)","v":""},null,null,{"$f":"IFERROR(VLOOKUP(L2790,Hoja1!$A$50:$C$63,2),\"\")","v":""},{"$f":"IFERROR(VLOOKUP(L2790,Hoja1!$A$50:$C$63,3),\"\")","v":""}]
[null,null,null,null,null,null,null,null,null,null,null,null,null,null,null,null,null,null,null,null,null,{"$f":"IFERROR(WORKDAY(T2797,AE2797,Hoja1!F2789:F2905),\"\")","v":""},"",null,"",{"$f":"IF(P2797=\"\",\"\",NETWORKDAYS(C2797+1,P2797,Hoja1!F2789:F2905))","v":""},{"$f":"IFERROR(IF(NETWORKDAYS(R2797+1,P2797,Hoja1!F2789:F2905)<=0,\"\",NETWORKDAYS(R2797+1,P2797,Hoja1!F2789:F2905)),0)","v":""},null,null,{"$f":"IFERROR(VLOOKUP(L2797,Hoja1!$A$50:$C$63,2),\"\")","v":""},{"$f":"IFERROR(VLOOKUP(L2797,Hoja1!$A$50:$C$63,3),\"\")","v":""}]
[null,null,null,null,null,null,null,null,null,null,null,null,null,null,null,null,null,null,null,null,null,{"$f":"IFERROR(WORKDAY(T2800,AE2800,Hoja1!F2792:F2908),\"\")","v":""},"",null,"",{"$f":"IF(P2800=\"\",\"\",NETWORKDAYS(C2800+1,P2800,Hoja1!F2792:F2908))","v":""},{"$f":"IFERROR(IF(NETWORKDAYS(R2800+1,P2800,Hoja1!F2792:F2908)<=0,\"\",NETWORKDAYS(R2800+1,P2800,Hoja1!F2792:F2908)),0)","v":""},null,null,{"$f":"IFERROR(VLOOKUP(L2800,Hoja1!$A$50:$C$63,2),\"\")","v":""},{"$f":"IFERROR(VLOOKUP(L2800,Hoja1!$A$50:$C$63,3),\"\")","v":""}]
[null,null,null,null,null,null,null,null,null,null,null,null,null,null,null,null,null,null,null,null,null,{"$f":"IFERROR(WORKDAY(T2804,AE2804,Hoja1!F2796:F2912),\"\")","v":""},"",null,"",{"$f":"IF(P2804=\"\",\"\",NETWORKDAYS(C2804+1,P2804,Hoja1!F2796:F2912))","v":""},{"$f":"IFERROR(IF(NETWORKDAYS(R2804+1,P2804,Hoja1!F2796:F2912)<=0,\"\",NETWORKDAYS(R2804+1,P2804,Hoja1!F2796:F2912)),0)","v":""},null,null,{"$f":"IFERROR(VLOOKUP(L2804,Hoja1!$A$50:$C$63,2),\"\")","v":""},{"$f":"IFERROR(VLOOKUP(L2804,Hoja1!$A$50:$C$63,3),\"\")","v":""}]
[null,null,null,null,null,null,null,null,null,null,null,null,null,null,null,null,null,null,null,null,null,{"$f":"IFERROR(WORKDAY(T2809,AE2809,Hoja1!F2801:F2917),\"\")","v":""},"",null,"",{"$f":"IF(P2809=\"\",\"\",NETWORKDAYS(C2809+1,P2809,Hoja1!F2801:F2917))","v":""},{"$f":"IFERROR(IF(NETWORKDAYS(R2809+1,P2809,Hoja1!F2801:F2917)<=0,\"\",NETWORKDAYS(R2809+1,P2809,Hoja1!F2801:F2917)),0)","v":""},null,null,{"$f":"IFERROR(VLOOKUP(L2809,Hoja1!$A$50:$C$63,2),\"\")","v":""},{"$f":"IFERROR(VLOOKUP(L2809,Hoja1!$A$50:$C$63,3),\"\")","v":""}]
[null,null,null,null,null,null,null,null,null,null,null,null,null,null,null,null,null,null,null,null,null,{"$f":"IFERROR(WORKDAY(T2814,AE2814,Hoja1!F2806:F2922),\"\")","v":""},"",null,"",{"$f":"IF(P2814=\"\",\"\",NETWORKDAYS(C2814+1,P2814,Hoja1!F2806:F2922))","v":""},{"$f":"IFERROR(IF(NETWORKDAYS(R2814+1,P2814,Hoja1!F2806:F2922)<=0,\"\",NETWORKDAYS(R2814+1,P2814,Hoja1!F2806:F2922)),0)","v":""},null,null,{"$f":"IFERROR(VLOOKUP(L2814,Hoja1!$A$50:$C$63,2),\"\")","v":""},{"$f":"IFERROR(VLOOKUP(L2814,Hoja1!$A$50:$C$63,3),\"\")","v":""}]
[null,null,null,null,null,null,null,null,null,null,null,null,null,null,null,null,null,null,null,null,null,{"$f":"IFERROR(WORKDAY(T2820,AE2820,Hoja1!F2812:F2928),\"\")","v":""},"",null,"",{"$f":"IF(P2820=\"\",\"\",NETWORKDAYS(C2820+1,P2820,Hoja1!F2812:F2928))","v":""},{"$f":"IFERROR(IF(NETWORKDAYS(R2820+1,P2820,Hoja1!F2812:F2928)<=0,\"\",NETWORKDAYS(R2820+1,P2820,Hoja1!F2812:F2928)),0)","v":""},null,null,{"$f":"IFERROR(VLOOKUP(L2820,Hoja1!$A$50:$C$63,2),\"\")","v":""},{"$f":"IFERROR(VLOOKUP(L2820,Hoja1!$A$50:$C$63,3),\"\")","v":""}]
[null,null,null,null,null,null,null,null,null,null,null,null,null,null,null,null,null,null,null,null,null,{"$f":"IFERROR(WORKDAY(T2823,AE2823,Hoja1!F2815:F2931),\"\")","v":""},"",null,"",{"$f":"IF(P2823=\"\",\"\",NETWORKDAYS(C2823+1,P2823,Hoja1!F2815:F2931))","v":""},{"$f":"IFERROR(IF(NETWORKDAYS(R2823+1,P2823,Hoja1!F2815:F2931)<=0,\"\",NETWORKDAYS(R2823+1,P2823,Hoja1!F2815:F2931)),0)","v":""},null,null,{"$f":"IFERROR(VLOOKUP(L2823,Hoja1!$A$50:$C$63,2),\"\")","v":""},{"$f":"IFERROR(VLOOKUP(L2823,Hoja1!$A$50:$C$63,3),\"\")","v":""}]
[null,null,null,null,null,null,null,null,null,null,null,null,null,null,null,null,null,null,null,null,null,{"$f":"IFERROR(WORKDAY(T2827,AE2827,Hoja1!F2819:F2935),\"\")","v":""},"",null,"",{"$f":"IF(P2827=\"\",\"\",NETWORKDAYS(C2827+1,P2827,Hoja1!F2819:F2935))","v":""},{"$f":"IFERROR(IF(NETWORKDAYS(R2827+1,P2827,Hoja1!F2819:F2935)<=0,\"\",NETWORKDAYS(R2827+1,P2827,Hoja1!F2819:F2935)),0)","v":""},null,null,{"$f":"IFERROR(VLOOKUP(L2827,Hoja1!$A$50:$C$63,2),\"\")","v":""},{"$f":"IFERROR(VLOOKUP(L2827,Hoja1!$A$50:$C$63,3),\"\")","v":""}]
[null,null,null,null,null,null,null,null,null,null,null,null,null,null,null,null,null,null,null,null,null,{"$f":"IFERROR(WORKDAY(T2833,AE2833,Hoja1!F2825:F2941),\"\")","v":""},"",null,"",{"$f":"IF(P2833=\"\",\"\",NETWORKDAYS(C2833+1,P2833,Hoja1!F2825:F2941))","v":""},{"$f":"IFERROR(IF(NETWORKDAYS(R2833+1,P2833,Hoja1!F2825:F2941)<=0,\"\",NETWORKDAYS(R2833+1,P2833,Hoja1!F2825:F2941)),0)","v":""},null,null,{"$f":"IFERROR(VLOOKUP(L2833,Hoja1!$A$50:$C$63,2),\"\")","v":""},{"$f":"IFERROR(VLOOKUP(L2833,Hoja1!$A$50:$C$63,3),\"\")","v":""}]
[null,null,null,null,null,null,null,null,null,null,null,null,null,null,null,null,null,null,null,null,null,{"$f":"IFERROR(WORKDAY(T2838,AE2838,Hoja1!F2830:F2946),\"\")","v":""},"",null,"",{"$f":"IF(P2838=\"\",\"\",NETWORKDAYS(C2838+1,P2838,Hoja1!F2830:F2946))","v":""},{"$f":"IFERROR(IF(NETWORKDAYS(R2838+1,P2838,Hoja1!F2830:F2946)<=0,\"\",NETWORKDAYS(R2838+1,P2838,Hoja1!F2830:F2946)),0)","v":""},null,null,{"$f":"IFERROR(VLOOKUP(L2838,Hoja1!$A$50:$C$63,2),\"\")","v":""},{"$f":"IFERROR(VLOOKUP(L2838,Hoja1!$A$50:$C$63,3),\"\")","v":""}]
[null,null,null,null,null,null,null,null,null,null,null,null,null,null,null,null,null,null,null,null,null,{"$f":"IFERROR(WORKDAY(T2839,AE2839,Hoja1!F2831:F2947),\"\")","v":""},"",null,"",{"$f":"IF(P2839=\"\",\"\",NETWORKDAYS(C2839+1,P2839,Hoja1!F2831:F2947))","v":""},{"$f":"IFERROR(IF(NETWORKDAYS(R2839+1,P2839,Hoja1!F2831:F2947)<=0,\"\",NETWORKDAYS(R2839+1,P2839,Hoja1!F2831:F2947)),0)","v":""},null,null,{"$f":"IFERROR(VLOOKUP(L2839,Hoja1!$A$50:$C$63,2),\"\")","v":""},{"$f":"IFERROR(VLOOKUP(L2839,Hoja1!$A$50:$C$63,3),\"\")","v":""}]
[null,null,null,null,null,null,null,null,null,null,null,null,null,null,null,null,null,null,null,null,null,{"$f":"IFERROR(WORKDAY(T2847,AE2847,Hoja1!F2839:F2955),\"\")","v":""},"",null,"",{"$f":"IF(P2847=\"\",\"\",NETWORKDAYS(C2847+1,P2847,Hoja1!F2839:F2955))","v":""},{"$f":"IFERROR(IF(NETWORKDAYS(R2847+1,P2847,Hoja1!F2839:F2955)<=0,\"\",NETWORKDAYS(R2847+1,P2847,Hoja1!F2839:F2955)),0)","v":""},null,null,{"$f":"IFERROR(VLOOKUP(L2847,Hoja1!$A$50:$C$63,2),\"\")","v":""},{"$f":"IFERROR(VLOOKUP(L2847,Hoja1!$A$50:$C$63,3),\"\")","v":""}]
[null,null,null,null,null,null,null,null,null,null,null,null,null,null,null,null,null,null,null,null,null,{"$f":"IFERROR(WORKDAY(T2850,AE2850,Hoja1!F2842:F2958),\"\")","v":""},"",null,"",{"$f":"IF(P2850=\"\",\"\",NETWORKDAYS(C2850+1,P2850,Hoja1!F2842:F2958))","v":""},{"$f":"IFERROR(IF(NETWORKDAYS(R2850+1,P2850,Hoja1!F2842:F2958)<=0,\"\",NETWORKDAYS(R2850+1,P2850,Hoja1!F2842:F2958)),0)","v":""},null,null,{"$f":"IFERROR(VLOOKUP(L2850,Hoja1!$A$50:$C$63,2),\"\")","v":""},{"$f":"IFERROR(VLOOKUP(L2850,Hoja1!$A$50:$C$63,3),\"\")","v":""}]
[null,null,null,null,null,null,null,null,null,null,null,null,null,null,null,null,null,null,null,null,null,{"$f":"IFERROR(WORKDAY(T2852,AE2852,Hoja1!F2844:F2960),\"\")","v":""},"",null,"",{"$f":"IF(P2852=\"\",\"\",NETWORKDAYS(C2852+1,P2852,Hoja1!F2844:F2960))","v":""},{"$f":"IFERROR(IF(NETWORKDAYS(R2852+1,P2852,Hoja1!F2844:F2960)<=0,\"\",NETWORKDAYS(R2852+1,P2852,Hoja1!F2844:F2960)),0)","v":""},null,null,{"$f":"IFERROR(VLOOKUP(L2852,Hoja1!$A$50:$C$63,2),\"\")","v":""},{"$f":"IFERROR(VLOOKUP(L2852,Hoja1!$A$50:$C$63,3),\"\")","v":""}]
[null,null,null,null,null,null,null,null,null,null,null,null,null,null,null,null,null,null,null,null,null,{"$f":"IFERROR(WORKDAY(T2857,AE2857,Hoja1!F2849:F2965),\"\")","v":""},"",null,"",{"$f":"IF(P2857=\"\",\"\",NETWORKDAYS(C2857+1,P2857,Hoja1!F2849:F2965))","v":""},{"$f":"IFERROR(IF(NETWORKDAYS(R2857+1,P2857,Hoja1!F2849:F2965)<=0,\"\",NETWORKDAYS(R2857+1,P2857,Hoja1!F2849:F2965)),0)","v":""},null,null,{"$f":"IFERROR(VLOOKUP(L2857,Hoja1!$A$50:$C$63,2),\"\")","v":""},{"$f":"IFERROR(VLOOKUP(L2857,Hoja1!$A$50:$C$63,3),\"\")","v":""}]
[null,null,null,null,null,null,null,null,null,null,null,null,null,null,null,null,null,null,null,null,null,{"$f":"IFERROR(WORKDAY(T2862,AE2862,Hoja1!F2854:F2970),\"\")","v":""},"",null,"",{"$f":"IF(P2862=\"\",\"\",NETWORKDAYS(C2862+1,P2862,Hoja1!F2854:F2970))","v":""},{"$f":"IFERROR(IF(NETWORKDAYS(R2862+1,P2862,Hoja1!F2854:F2970)<=0,\"\",NETWORKDAYS(R2862+1,P2862,Hoja1!F2854:F2970)),0)","v":""},null,null,{"$f":"IFERROR(VLOOKUP(L2862,Hoja1!$A$50:$C$63,2),\"\")","v":""},{"$f":"IFERROR(VLOOKUP(L2862,Hoja1!$A$50:$C$63,3),\"\")","v":""}]
[null,null,null,null,null,null,null,null,null,null,null,null,null,null,null,null,null,null,null,null,null,{"$f":"IFERROR(WORKDAY(T2868,AE2868,Hoja1!F2860:F2976),\"\")","v":""},"",null,"",{"$f":"IF(P2868=\"\",\"\",NETWORKDAYS(C2868+1,P2868,Hoja1!F2860:F2976))","v":""},{"$f":"IFERROR(IF(NETWORKDAYS(R2868+1,P2868,Hoja1!F2860:F2976)<=0,\"\",NETWORKDAYS(R2868+1,P2868,Hoja1!F2860:F2976)),0)","v":""},null,null,{"$f":"IFERROR(VLOOKUP(L2868,Hoja1!$A$50:$C$63,2),\"\")","v":""},{"$f":"IFERROR(VLOOKUP(L2868,Hoja1!$A$50:$C$63,3),\"\")","v":""}]
[null,null,null,null,null,null,null,null,null,null,null,null,null,null,null,null,null,null,null,null,null,{"$f":"IFERROR(WORKDAY(T2873,AE2873,Hoja1!F2865:F2981),\"\")","v":""},"",null,"",{"$f":"IF(P2873=\"\",\"\",NETWORKDAYS(C2873+1,P2873,Hoja1!F2865:F2981))","v":""},{"$f":"IFERROR(IF(NETWORKDAYS(R2873+1,P2873,Hoja1!F2865:F2981)<=0,\"\",NETWORKDAYS(R2873+1,P2873,Hoja1!F2865:F2981)),0)","v":""},null,null,{"$f":"IFERROR(VLOOKUP(L2873,Hoja1!$A$50:$C$63,2),\"\")","v":""},{"$f":"IFERROR(VLOOKUP(L2873,Hoja1!$A$50:$C$63,3),\"\")","v":""}]
[null,null,null,null,null,null,null,null,null,null,null,null,null,null,null,null,null,null,null,null,null,{"$f":"IFERROR(WORKDAY(T2876,AE2876,Hoja1!F2868:F2984),\"\")","v":""},"",null,"",{"$f":"IF(P2876=\"\",\"\",NETWORKDAYS(C2876+1,P2876,Hoja1!F2868:F2984))","v":""},{"$f":"IFERROR(IF(NETWORKDAYS(R2876+1,P2876,Hoja1!F2868:F2984)<=0,\"\",NETWORKDAYS(R2876+1,P2876,Hoja1!F2868:F2984)),0)","v":""},null,null,{"$f":"IFERROR(VLOOKUP(L2876,Hoja1!$A$50:$C$63,2),\"\")","v":""},{"$f":"IFERROR(VLOOKUP(L2876,Hoja1!$A$50:$C$63,3),\"\")","v":""}]
[null,null,null,null,null,null,null,null,null,null,null,null,null,null,null,null,null,null,null,null,null,{"$f":"IFERROR(WORKDAY(T2880,AE2880,Hoja1!F2872:F2988),\"\")","v":""},"",null,"",{"$f":"IF(P2880=\"\",\"\",NETWORKDAYS(C2880+1,P2880,Hoja1!F2872:F2988))","v":""},{"$f":"IFERROR(IF(NETWORKDAYS(R2880+1,P2880,Hoja1!F2872:F2988)<=0,\"\",NETWORKDAYS(R2880+1,P2880,Hoja1!F2872:F2988)),0)","v":""},null,null,{"$f":"IFERROR(VLOOKUP(L2880,Hoja1!$A$50:$C$63,2),\"\")","v":""},{"$f":"IFERROR(VLOOKUP(L2880,Hoja1!$A$50:$C$63,3),\"\")","v":""}]
[null,null,null,null,null,null,null,null,null,null,null,null,null,null,null,null,null,null,null,null,null,{"$f":"IFERROR(WORKDAY(T2886,AE2886,Hoja1!F2878:F2994),\"\")","v":""},"",null,"",{"$f":"IF(P2886=\"\",\"\",NETWORKDAYS(C2886+1,P2886,Hoja1!F2878:F2994))","v":""},{"$f":"IFERROR(IF(NETWORKDAYS(R2886+1,P2886,Hoja1!F2878:F2994)<=0,\"\",NETWORKDAYS(R2886+1,P2886,Hoja1!F2878:F2994)),0)","v":""},null,null,{"$f":"IFERROR(VLOOKUP(L2886,Hoja1!$A$50:$C$63,2),\"\")","v":""},{"$f":"IFERROR(VLOOKUP(L2886,Hoja1!$A$50:$C$63,3),\"\")","v":""}]
[null,null,null,null,null,null,null,null,null,null,null,null,null,null,null,null,null,null,null,null,null,{"$f":"IFERROR(WORKDAY(T2891,AE2891,Hoja1!F2883:F2999),\"\")","v":""},"",null,"",{"$f":"IF(P2891=\"\",\"\",NETWORKDAYS(C2891+1,P2891,Hoja1!F2883:F2999))","v":""},{"$f":"IFERROR(IF(NETWORKDAYS(R2891+1,P2891,Hoja1!F2883:F2999)<=0,\"\",NETWORKDAYS(R2891+1,P2891,Hoja1!F2883:F2999)),0)","v":""},null,null,{"$f":"IFERROR(VLOOKUP(L2891,Hoja1!$A$50:$C$63,2),\"\")","v":""},{"$f":"IFERROR(VLOOKUP(L2891,Hoja1!$A$50:$C$63,3),\"\")","v":""}]
[null,null,null,null,null,null,null,null,null,null,null,null,null,null,null,null,null,null,null,null,null,{"$f":"IFERROR(WORKDAY(T2896,AE2896,Hoja1!F2888:F3004),\"\")","v":""},"",null,"",{"$f":"IF(P2896=\"\",\"\",NETWORKDAYS(C2896+1,P2896,Hoja1!F2888:F3004))","v":""},{"$f":"IFERROR(IF(NETWORKDAYS(R2896+1,P2896,Hoja1!F2888:F3004)<=0,\"\",NETWORKDAYS(R2896+1,P2896,Hoja1!F2888:F3004)),0)","v":""},null,null,{"$f":"IFERROR(VLOOKUP(L2896,Hoja1!$A$50:$C$63,2),\"\")","v":""},{"$f":"IFERROR(VLOOKUP(L2896,Hoja1!$A$50:$C$63,3),\"\")","v":""}]
[null,null,null,null,null,null,null,null,null,null,null,null,null,null,null,null,null,null,null,null,null,{"$f":"IFERROR(WORKDAY(T2898,AE2898,Hoja1!F2890:F3006),\"\")","v":""},"",null,"",{"$f":"IF(P2898=\"\",\"\",NETWORKDAYS(C2898+1,P2898,Hoja1!F2890:F3006))","v":""},{"$f":"IFERROR(IF(NETWORKDAYS(R2898+1,P2898,Hoja1!F2890:F3006)<=0,\"\",NETWORKDAYS(R2898+1,P2898,Hoja1!F2890:F3006)),0)","v":""},null,null,{"$f":"IFERROR(VLOOKUP(L2898,Hoja1!$A$50:$C$63,2),\"\")","v":""},{"$f":"IFERROR(VLOOKUP(L2898,Hoja1!$A$50:$C$63,3),\"\")","v":""}]
[null,null,null,null,null,null,null,null,null,null,null,null,null,null,null,null,null,null,null,null,null,{"$f":"IFERROR(WORKDAY(T2903,AE2903,Hoja1!F2895:F3011),\"\")","v":""},"",null,"",{"$f":"IF(P2903=\"\",\"\",NETWORKDAYS(C2903+1,P2903,Hoja1!F2895:F3011))","v":""},{"$f":"IFERROR(IF(NETWORKDAYS(R2903+1,P2903,Hoja1!F2895:F3011)<=0,\"\",NETWORKDAYS(R2903+1,P2903,Hoja1!F2895:F3011)),0)","v":""},null,null,{"$f":"IFERROR(VLOOKUP(L2903,Hoja1!$A$50:$C$63,2),\"\")","v":""},{"$f":"IFERROR(VLOOKUP(L2903,Hoja1!$A$50:$C$63,3),\"\")","v":""}]
[null,null,null,null,null,null,null,null,null,null,null,null,null,null,null,null,null,null,null,null,null,{"$f":"IFERROR(WORKDAY(T2905,AE2905,Hoja1!F2897:F3013),\"\")","v":""},"",null,"",{"$f":"IF(P2905=\"\",\"\",NETWORKDAYS(C2905+1,P2905,Hoja1!F2897:F3013))","v":""},{"$f":"IFERROR(IF(NETWORKDAYS(R2905+1,P2905,Hoja1!F2897:F3013)<=0,\"\",NETWORKDAYS(R2905+1,P2905,Hoja1!F2897:F3013)),0)","v":""},null,null,{"$f":"IFERROR(VLOOKUP(L2905,Hoja1!$A$50:$C$63,2),\"\")","v":""},{"$f":"IFERROR(VLOOKUP(L2905,Hoja1!$A$50:$C$63,3),\"\")","v":""}]
[null,null,null,null,null,null,null,null,null,null,null,null,null,null,null,null,null,null,null,null,null,{"$f":"IFERROR(WORKDAY(T2910,AE2910,Hoja1!F2902:F3018),\"\")","v":""},"",null,"",{"$f":"IF(P2910=\"\",\"\",NETWORKDAYS(C2910+1,P2910,Hoja1!F2902:F3018))","v":""},{"$f":"IFERROR(IF(NETWORKDAYS(R2910+1,P2910,Hoja1!F2902:F3018)<=0,\"\",NETWORKDAYS(R2910+1,P2910,Hoja1!F2902:F3018)),0)","v":""},null,null,{"$f":"IFERROR(VLOOKUP(L2910,Hoja1!$A$50:$C$63,2),\"\")","v":""},{"$f":"IFERROR(VLOOKUP(L2910,Hoja1!$A$50:$C$63,3),\"\")","v":""}]
[null,null,null,null,null,null,null,null,null,null,null,null,null,null,null,null,null,null,null,null,null,{"$f":"IFERROR(WORKDAY(T2915,AE2915,Hoja1!F2907:F3023),\"\")","v":""},"",null,"",{"$f":"IF(P2915=\"\",\"\",NETWORKDAYS(C2915+1,P2915,Hoja1!F2907:F3023))","v":""},{"$f":"IFERROR(IF(NETWORKDAYS(R2915+1,P2915,Hoja1!F2907:F3023)<=0,\"\",NETWORKDAYS(R2915+1,P2915,Hoja1!F2907:F3023)),0)","v":""},null,null,{"$f":"IFERROR(VLOOKUP(L2915,Hoja1!$A$50:$C$63,2),\"\")","v":""},{"$f":"IFERROR(VLOOKUP(L2915,Hoja1!$A$50:$C$63,3),\"\")","v":""}]
[null,null,null,null,null,null,null,null,null,null,null,null,null,null,null,null,null,null,null,null,null,{"$f":"IFERROR(WORKDAY(T2921,AE2921,Hoja1!F2913:F3029),\"\")","v":""},"",null,"",{"$f":"IF(P2921=\"\",\"\",NETWORKDAYS(C2921+1,P2921,Hoja1!F2913:F3029))","v":""},{"$f":"IFERROR(IF(NETWORKDAYS(R2921+1,P2921,Hoja1!F2913:F3029)<=0,\"\",NETWORKDAYS(R2921+1,P2921,Hoja1!F2913:F3029)),0)","v":""},null,null,{"$f":"IFERROR(VLOOKUP(L2921,Hoja1!$A$50:$C$63,2),\"\")","v":""},{"$f":"IFERROR(VLOOKUP(L2921,Hoja1!$A$50:$C$63,3),\"\")","v":""}]
[null,null,null,null,null,null,null,null,null,null,null,null,null,null,null,null,null,null,null,null,null,{"$f":"IFERROR(WORKDAY(T2924,AE2924,Hoja1!F2916:F3032),\"\")","v":""},"",null,"",{"$f":"IF(P2924=\"\",\"\",NETWORKDAYS(C2924+1,P2924,Hoja1!F2916:F3032))","v":""},{"$f":"IFERROR(IF(NETWORKDAYS(R2924+1,P2924,Hoja1!F2916:F3032)<=0,\"\",NETWORKDAYS(R2924+1,P2924,Hoja1!F2916:F3032)),0)","v":""},null,null,{"$f":"IFERROR(VLOOKUP(L2924,Hoja1!$A$50:$C$63,2),\"\")","v":""},{"$f":"IFERROR(VLOOKUP(L2924,Hoja1!$A$50:$C$63,3),\"\")","v":""}]
[null,null,null,null,null,null,null,null,null,null,null,null,null,null,null,null,null,null,null,null,null,{"$f":"IFERROR(WORKDAY(T2928,AE2928,Hoja1!F2920:F3036),\"\")","v":""},"",null,"",{"$f":"IF(P2928=\"\",\"\",NETWORKDAYS(C2928+1,P2928,Hoja1!F2920:F3036))","v":""},{"$f":"IFERROR(IF(NETWORKDAYS(R2928+1,P2928,Hoja1!F2920:F3036)<=0,\"\",NETWORKDAYS(R2928+1,P2928,Hoja1!F2920:F3036)),0)","v":""},null,null,{"$f":"IFERROR(VLOOKUP(L2928,Hoja1!$A$50:$C$63,2),\"\")","v":""},{"$f":"IFERROR(VLOOKUP(L2928,Hoja1!$A$50:$C$63,3),\"\")","v":""}]
[null,null,null,null,null,null,null,null,null,null,null,null,null,null,null,null,null,null,null,null,null,{"$f":"IFERROR(WORKDAY(T2933,AE2933,Hoja1!F2925:F3041),\"\")","v":""},"",null,"",{"$f":"IF(P2933=\"\",\"\",NETWORKDAYS(C2933+1,P2933,Hoja1!F2925:F3041))","v":""},{"$f":"IFERROR(IF(NETWORKDAYS(R2933+1,P2933,Hoja1!F2925:F3041)<=0,\"\",NETWORKDAYS(R2933+1,P2933,Hoja1!F2925:F3041)),0)","v":""},null,null,{"$f":"IFERROR(VLOOKUP(L2933,Hoja1!$A$50:$C$63,2),\"\")","v":""},{"$f":"IFERROR(VLOOKUP(L2933,Hoja1!$A$50:$C$63,3),\"\")","v":""}]
[null,null,null,null,null,null,null,null,null,null,null,null,null,null,null,null,null,null,null,null,null,{"$f":"IFERROR(WORKDAY(T2938,AE2938,Hoja1!F2930:F3046),\"\")","v":""},"",null,"",{"$f":"IF(P2938=\"\",\"\",NETWORKDAYS(C2938+1,P2938,Hoja1!F2930:F3046))","v":""},{"$f":"IFERROR(IF(NETWORKDAYS(R2938+1,P2938,Hoja1!F2930:F3046)<=0,\"\",NETWORKDAYS(R2938+1,P2938,Hoja1!F2930:F3046)),0)","v":""},null,null,{"$f":"IFERROR(VLOOKUP(L2938,Hoja1!$A$50:$C$63,2),\"\")","v":""},{"$f":"IFERROR(VLOOKUP(L2938,Hoja1!$A$50:$C$63,3),\"\")","v":""}]
[null,null,null,null,null,null,null,null,null,null,null,null,null,null,null,null,null,null,null,null,null,{"$f":"IFERROR(WORKDAY(T2944,AE2944,Hoja1!F2936:F3052),\"\")","v":""},"",null,"",{"$f":"IF(P2944=\"\",\"\",NETWORKDAYS(C2944+1,P2944,Hoja1!F2936:F3052))","v":""},{"$f":"IFERROR(IF(NETWORKDAYS(R2944+1,P2944,Hoja1!F2936:F3052)<=0,\"\",NETWORKDAYS(R2944+1,P2944,Hoja1!F2936:F3052)),0)","v":""},null,null,{"$f":"IFERROR(VLOOKUP(L2944,Hoja1!$A$50:$C$63,2),\"\")","v":""},{"$f":"IFERROR(VLOOKUP(L2944,Hoja1!$A$50:$C$63,3),\"\")","v":""}]
[null,null,null,null,null,null,null,null,null,null,null,null,null,null,null,null,null,null,null,null,null,{"$f":"IFERROR(WORKDAY(T2948,AE2948,Hoja1!F2940:F3056),\"\")","v":""},"",null,"",{"$f":"IF(P2948=\"\",\"\",NETWORKDAYS(C2948+1,P2948,Hoja1!F2940:F3056))","v":""},{"$f":"IFERROR(IF(NETWORKDAYS(R2948+1,P2948,Hoja1!F2940:F3056)<=0,\"\",NETWORKDAYS(R2948+1,P2948,Hoja1!F2940:F3056)),0)","v":""},null,null,{"$f":"IFERROR(VLOOKUP(L2948,Hoja1!$A$50:$C$63,2),\"\")","v":""},{"$f":"IFERROR(VLOOKUP(L2948,Hoja1!$A$50:$C$63,3),\"\")","v":""}]
[null,null,null,null,null,null,null,null,null,null,null,null,null,null,null,null,null,null,null,null,null,{"$f":"IFERROR(WORKDAY(T2951,AE2951,Hoja1!F2943:F3059),\"\")","v":""},"",null,"",{"$f":"IF(P2951=\"\",\"\",NETWORKDAYS(C2951+1,P2951,Hoja1!F2943:F3059))","v":""},{"$f":"IFERROR(IF(NETWORKDAYS(R2951+1,P2951,Hoja1!F2943:F3059)<=0,\"\",NETWORKDAYS(R2951+1,P2951,Hoja1!F2943:F3059)),0)","v":""},null,null,{"$f":"IFERROR(VLOOKUP(L2951,Hoja1!$A$50:$C$63,2),\"\")","v":""},{"$f":"IFERROR(VLOOKUP(L2951,Hoja1!$A$50:$C$63,3),\"\")","v":""}]
[null,null,null,null,null,null,null,null,null,null,null,null,null,null,null,null,null,null,null,null,null,{"$f":"IFERROR(WORKDAY(T2958,AE2958,Hoja1!F2950:F3066),\"\")","v":""},"",null,"",{"$f":"IF(P2958=\"\",\"\",NETWORKDAYS(C2958+1,P2958,Hoja1!F2950:F3066))","v":""},{"$f":"IFERROR(IF(NETWORKDAYS(R2958+1,P2958,Hoja1!F2950:F3066)<=0,\"\",NETWORKDAYS(R2958+1,P2958,Hoja1!F2950:F3066)),0)","v":""},null,null,{"$f":"IFERROR(VLOOKUP(L2958,Hoja1!$A$50:$C$63,2),\"\")","v":""},{"$f":"IFERROR(VLOOKUP(L2958,Hoja1!$A$50:$C$63,3),\"\")","v":""}]
[null,null,null,null,null,null,null,null,null,null,null,null,null,null,null,null,null,null,null,null,null,{"$f":"IFERROR(WORKDAY(T2962,AE2962,Hoja1!F2954:F3070),\"\")","v":""},"",null,"",{"$f":"IF(P2962=\"\",\"\",NETWORKDAYS(C2962+1,P2962,Hoja1!F2954:F3070))","v":""},{"$f":"IFERROR(IF(NETWORKDAYS(R2962+1,P2962,Hoja1!F2954:F3070)<=0,\"\",NETWORKDAYS(R2962+1,P2962,Hoja1!F2954:F3070)),0)","v":""},null,null,{"$f":"IFERROR(VLOOKUP(L2962,Hoja1!$A$50:$C$63,2),\"\")","v":""},{"$f":"IFERROR(VLOOKUP(L2962,Hoja1!$A$50:$C$63,3),\"\")","v":""}]
[null,null,null,null,null,null,null,null,null,null,null,null,null,null,null,null,null,null,null,null,null,{"$f":"IFERROR(WORKDAY(T2963,AE2963,Hoja1!F2955:F3071),\"\")","v":""},"",null,"",{"$f":"IF(P2963=\"\",\"\",NETWORKDAYS(C2963+1,P2963,Hoja1!F2955:F3071))","v":""},{"$f":"IFERROR(IF(NETWORKDAYS(R2963+1,P2963,Hoja1!F2955:F3071)<=0,\"\",NETWORKDAYS(R2963+1,P2963,Hoja1!F2955:F3071)),0)","v":""},null,null,{"$f":"IFERROR(VLOOKUP(L2963,Hoja1!$A$50:$C$63,2),\"\")","v":""},{"$f":"IFERROR(VLOOKUP(L2963,Hoja1!$A$50:$C$63,3),\"\")","v":""}]
[null,null,null,null,null,null,null,null,null,null,null,null,null,null,null,null,null,null,null,null,null,{"$f":"IFERROR(WORKDAY(T2967,AE2967,Hoja1!F2959:F3075),\"\")","v":""},"",null,"",{"$f":"IF(P2967=\"\",\"\",NETWORKDAYS(C2967+1,P2967,Hoja1!F2959:F3075))","v":""},{"$f":"IFERROR(IF(NETWORKDAYS(R2967+1,P2967,Hoja1!F2959:F3075)<=0,\"\",NETWORKDAYS(R2967+1,P2967,Hoja1!F2959:F3075)),0)","v":""},null,null,{"$f":"IFERROR(VLOOKUP(L2967,Hoja1!$A$50:$C$63,2),\"\")","v":""},{"$f":"IFERROR(VLOOKUP(L2967,Hoja1!$A$50:$C$63,3),\"\")","v":""}]
[null,null,null,null,null,null,null,null,null,null,null,null,null,null,null,null,null,null,null,null,null,{"$f":"IFERROR(WORKDAY(T2974,AE2974,Hoja1!F2966:F3082),\"\")","v":""},"",null,"",{"$f":"IF(P2974=\"\",\"\",NETWORKDAYS(C2974+1,P2974,Hoja1!F2966:F3082))","v":""},{"$f":"IFERROR(IF(NETWORKDAYS(R2974+1,P2974,Hoja1!F2966:F3082)<=0,\"\",NETWORKDAYS(R2974+1,P2974,Hoja1!F2966:F3082)),0)","v":""},null,null,{"$f":"IFERROR(VLOOKUP(L2974,Hoja1!$A$50:$C$63,2),\"\")","v":""},{"$f":"IFERROR(VLOOKUP(L2974,Hoja1!$A$50:$C$63,3),\"\")","v":""}]
[null,null,null,null,null,null,null,null,null,null,null,null,null,null,null,null,null,null,null,null,null,{"$f":"IFERROR(WORKDAY(T2977,AE2977,Hoja1!F2969:F3085),\"\")","v":""},"",null,"",{"$f":"IF(P2977=\"\",\"\",NETWORKDAYS(C2977+1,P2977,Hoja1!F2969:F3085))","v":""},{"$f":"IFERROR(IF(NETWORKDAYS(R2977+1,P2977,Hoja1!F2969:F3085)<=0,\"\",NETWORKDAYS(R2977+1,P2977,Hoja1!F2969:F3085)),0)","v":""},null,null,{"$f":"IFERROR(VLOOKUP(L2977,Hoja1!$A$50:$C$63,2),\"\")","v":""},{"$f":"IFERROR(VLOOKUP(L2977,Hoja1!$A$50:$C$63,3),\"\")","v":""}]
[null,null,null,null,null,null,null,null,null,null,null,null,null,null,null,null,null,null,null,null,null,{"$f":"IFERROR(WORKDAY(T2981,AE2981,Hoja1!F2973:F3089),\"\")","v":""},"",null,"",{"$f":"IF(P2981=\"\",\"\",NETWORKDAYS(C2981+1,P2981,Hoja1!F2973:F3089))","v":""},{"$f":"IFERROR(IF(NETWORKDAYS(R2981+1,P2981,Hoja1!F2973:F3089)<=0,\"\",NETWORKDAYS(R2981+1,P2981,Hoja1!F2973:F3089)),0)","v":""},null,null,{"$f":"IFERROR(VLOOKUP(L2981,Hoja1!$A$50:$C$63,2),\"\")","v":""},{"$f":"IFERROR(VLOOKUP(L2981,Hoja1!$A$50:$C$63,3),\"\")","v":""}]
[null,null,null,null,null,null,null,null,null,null,null,null,null,null,null,null,null,null,null,null,null,{"$f":"IFERROR(WORKDAY(T2987,AE2987,Hoja1!F2979:F3095),\"\")","v":""},"",null,"",{"$f":"IF(P2987=\"\",\"\",NETWORKDAYS(C2987+1,P2987,Hoja1!F2979:F3095))","v":""},{"$f":"IFERROR(IF(NETWORKDAYS(R2987+1,P2987,Hoja1!F2979:F3095)<=0,\"\",NETWORKDAYS(R2987+1,P2987,Hoja1!F2979:F3095)),0)","v":""},null,null,{"$f":"IFERROR(VLOOKUP(L2987,Hoja1!$A$50:$C$63,2),\"\")","v":""},{"$f":"IFERROR(VLOOKUP(L2987,Hoja1!$A$50:$C$63,3),\"\")","v":""}]
[null,null,null,null,null,null,null,null,null,null,null,null,null,null,null,null,null,null,null,null,null,{"$f":"IFERROR(WORKDAY(T2992,AE2992,Hoja1!F2984:F3100),\"\")","v":""},"",null,"",{"$f":"IF(P2992=\"\",\"\",NETWORKDAYS(C2992+1,P2992,Hoja1!F2984:F3100))","v":""},{"$f":"IFERROR(IF(NETWORKDAYS(R2992+1,P2992,Hoja1!F2984:F3100)<=0,\"\",NETWORKDAYS(R2992+1,P2992,Hoja1!F2984:F3100)),0)","v":""},null,null,{"$f":"IFERROR(VLOOKUP(L2992,Hoja1!$A$50:$C$63,2),\"\")","v":""},{"$f":"IFERROR(VLOOKUP(L2992,Hoja1!$A$50:$C$63,3),\"\")","v":""}]
[null,null,null,null,null,null,null,null,null,null,null,null,null,null,null,null,null,null,null,null,null,{"$f":"IFERROR(WORKDAY(T2997,AE2997,Hoja1!F2989:F3105),\"\")","v":""},"",null,"",{"$f":"IF(P2997=\"\",\"\",NETWORKDAYS(C2997+1,P2997,Hoja1!F2989:F3105))","v":""},{"$f":"IFERROR(IF(NETWORKDAYS(R2997+1,P2997,Hoja1!F2989:F3105)<=0,\"\",NETWORKDAYS(R2997+1,P2997,Hoja1!F2989:F3105)),0)","v":""},null,null,{"$f":"IFERROR(VLOOKUP(L2997,Hoja1!$A$50:$C$63,2),\"\")","v":""},{"$f":"IFERROR(VLOOKUP(L2997,Hoja1!$A$50:$C$63,3),\"\")","v":""}]
[null,null,null,null,null,null,null,null,null,null,null,null,null,null,null,null,null,null,null,null,null,{"$f":"IFERROR(WORKDAY(T3001,AE3001,Hoja1!F2993:F3109),\"\")","v":""},"",null,"",{"$f":"IF(P3001=\"\",\"\",NETWORKDAYS(C3001+1,P3001,Hoja1!F2993:F3109))","v":""},{"$f":"IFERROR(IF(NETWORKDAYS(R3001+1,P3001,Hoja1!F2993:F3109)<=0,\"\",NETWORKDAYS(R3001+1,P3001,Hoja1!F2993:F3109)),0)","v":""},null,null,{"$f":"IFERROR(VLOOKUP(L3001,Hoja1!$A$50:$C$63,2),\"\")","v":""},{"$f":"IFERROR(VLOOKUP(L3001,Hoja1!$A$50:$C$63,3),\"\")","v":""}]
[null,null,null,null,null,null,null,null,null,null,null,null,null,null,null,null,null,null,null,null,null,{"$f":"IFERROR(WORKDAY(T3004,AE3004,Hoja1!F2996:F3112),\"\")","v":""},"",null,"",{"$f":"IF(P3004=\"\",\"\",NETWORKDAYS(C3004+1,P3004,Hoja1!F2996:F3112))","v":""},{"$f":"IFERROR(IF(NETWORKDAYS(R3004+1,P3004,Hoja1!F2996:F3112)<=0,\"\",NETWORKDAYS(R3004+1,P3004,Hoja1!F2996:F3112)),0)","v":""},null,null,{"$f":"IFERROR(VLOOKUP(L3004,Hoja1!$A$50:$C$63,2),\"\")","v":""},{"$f":"IFERROR(VLOOKUP(L3004,Hoja1!$A$50:$C$63,3),\"\")","v":""}]
[null,null,null,null,null,null,null,null,null,null,null,null,null,null,null,null,null,null,null,null,null,{"$f":"IFERROR(WORKDAY(T3011,AE3011,Hoja1!F3003:F3119),\"\")","v":""},"",null,"",{"$f":"IF(P3011=\"\",\"\",NETWORKDAYS(C3011+1,P3011,Hoja1!F3003:F3119))","v":""},{"$f":"IFERROR(IF(NETWORKDAYS(R3011+1,P3011,Hoja1!F3003:F3119)<=0,\"\",NETWORKDAYS(R3011+1,P3011,Hoja1!F3003:F3119)),0)","v":""},null,null,{"$f":"IFERROR(VLOOKUP(L3011,Hoja1!$A$50:$C$63,2),\"\")","v":""},{"$f":"IFERROR(VLOOKUP(L3011,Hoja1!$A$50:$C$63,3),\"\")","v":""}]
[null,null,null,null,null,null,null,null,null,null,null,null,null,null,null,null,null,null,null,null,null,{"$f":"IFERROR(WORKDAY(T3015,AE3015,Hoja1!F3007:F3123),\"\")","v":""},"",null,"",{"$f":"IF(P3015=\"\",\"\",NETWORKDAYS(C3015+1,P3015,Hoja1!F3007:F3123))","v":""},{"$f":"IFERROR(IF(NETWORKDAYS(R3015+1,P3015,Hoja1!F3007:F3123)<=0,\"\",NETWORKDAYS(R3015+1,P3015,Hoja1!F3007:F3123)),0)","v":""},null,null,{"$f":"IFERROR(VLOOKUP(L3015,Hoja1!$A$50:$C$63,2),\"\")","v":""},{"$f":"IFERROR(VLOOKUP(L3015,Hoja1!$A$50:$C$63,3),\"\")","v":""}]
[null,null,null,null,null,null,null,null,null,null,null,null,null,null,null,null,null,null,null,null,null,{"$f":"IFERROR(WORKDAY(T3020,AE3020,Hoja1!F3012:F3128),\"\")","v":""},"",null,"",{"$f":"IF(P3020=\"\",\"\",NETWORKDAYS(C3020+1,P3020,Hoja1!F3012:F3128))","v":""},{"$f":"IFERROR(IF(NETWORKDAYS(R3020+1,P3020,Hoja1!F3012:F3128)<=0,\"\",NETWORKDAYS(R3020+1,P3020,Hoja1!F3012:F3128)),0)","v":""},null,null,{"$f":"IFERROR(VLOOKUP(L3020,Hoja1!$A$50:$C$63,2),\"\")","v":""},{"$f":"IFERROR(VLOOKUP(L3020,Hoja1!$A$50:$C$63,3),\"\")","v":""}]
[null,null,null,null,null,null,null,null,null,null,null,null,null,null,null,null,null,null,null,null,null,{"$f":"IFERROR(WORKDAY(T3022,AE3022,Hoja1!F3014:F3130),\"\")","v":""},"",null,"",{"$f":"IF(P3022=\"\",\"\",NETWORKDAYS(C3022+1,P3022,Hoja1!F3014:F3130))","v":""},{"$f":"IFERROR(IF(NETWORKDAYS(R3022+1,P3022,Hoja1!F3014:F3130)<=0,\"\",NETWORKDAYS(R3022+1,P3022,Hoja1!F3014:F3130)),0)","v":""},null,null,{"$f":"IFERROR(VLOOKUP(L3022,Hoja1!$A$50:$C$63,2),\"\")","v":""},{"$f":"IFERROR(VLOOKUP(L3022,Hoja1!$A$50:$C$63,3),\"\")","v":""}]
[null,null,null,null,null,null,null,null,null,null,null,null,null,null,null,null,null,null,null,null,null,{"$f":"IFERROR(WORKDAY(T3027,AE3027,Hoja1!F3019:F3135),\"\")","v":""},"",null,"",{"$f":"IF(P3027=\"\",\"\",NETWORKDAYS(C3027+1,P3027,Hoja1!F3019:F3135))","v":""},{"$f":"IFERROR(IF(NETWORKDAYS(R3027+1,P3027,Hoja1!F3019:F3135)<=0,\"\",NETWORKDAYS(R3027+1,P3027,Hoja1!F3019:F3135)),0)","v":""},null,null,{"$f":"IFERROR(VLOOKUP(L3027,Hoja1!$A$50:$C$63,2),\"\")","v":""},{"$f":"IFERROR(VLOOKUP(L3027,Hoja1!$A$50:$C$63,3),\"\")","v":""}]
[null,null,null,null,null,null,null,null,null,null,null,null,null,null,null,null,null,null,null,null,null,{"$f":"IFERROR(WORKDAY(T3029,AE3029,Hoja1!F3021:F3137),\"\")","v":""},"",null,"",{"$f":"IF(P3029=\"\",\"\",NETWORKDAYS(C3029+1,P3029,Hoja1!F3021:F3137))","v":""},{"$f":"IFERROR(IF(NETWORKDAYS(R3029+1,P3029,Hoja1!F3021:F3137)<=0,\"\",NETWORKDAYS(R3029+1,P3029,Hoja1!F3021:F3137)),0)","v":""},null,null,{"$f":"IFERROR(VLOOKUP(L3029,Hoja1!$A$50:$C$63,2),\"\")","v":""},{"$f":"IFERROR(VLOOKUP(L3029,Hoja1!$A$50:$C$63,3),\"\")","v":""}]
[null,null,null,null,null,null,null,null,null,null,null,null,null,null,null,null,null,null,null,null,null,{"$f":"IFERROR(WORKDAY(T3034,AE3034,Hoja1!F3026:F3142),\"\")","v":""},"",null,"",{"$f":"IF(P3034=\"\",\"\",NETWORKDAYS(C3034+1,P3034,Hoja1!F3026:F3142))","v":""},{"$f":"IFERROR(IF(NETWORKDAYS(R3034+1,P3034,Hoja1!F3026:F3142)<=0,\"\",NETWORKDAYS(R3034+1,P3034,Hoja1!F3026:F3142)),0)","v":""},null,null,{"$f":"IFERROR(VLOOKUP(L3034,Hoja1!$A$50:$C$63,2),\"\")","v":""},{"$f":"IFERROR(VLOOKUP(L3034,Hoja1!$A$50:$C$63,3),\"\")","v":""}]
[null,null,null,null,null,null,null,null,null,null,null,null,null,null,null,null,null,null,null,null,null,{"$f":"IFERROR(WORKDAY(T3039,AE3039,Hoja1!F3031:F3147),\"\")","v":""},"",null,"",{"$f":"IF(P3039=\"\",\"\",NETWORKDAYS(C3039+1,P3039,Hoja1!F3031:F3147))","v":""},{"$f":"IFERROR(IF(NETWORKDAYS(R3039+1,P3039,Hoja1!F3031:F3147)<=0,\"\",NETWORKDAYS(R3039+1,P3039,Hoja1!F3031:F3147)),0)","v":""},null,null,{"$f":"IFERROR(VLOOKUP(L3039,Hoja1!$A$50:$C$63,2),\"\")","v":""},{"$f":"IFERROR(VLOOKUP(L3039,Hoja1!$A$50:$C$63,3),\"\")","v":""}]
[null,null,null,null,null,null,null,null,null,null,null,null,null,null,null,null,null,null,null,null,null,{"$f":"IFERROR(WORKDAY(T3045,AE3045,Hoja1!F3037:F3153),\"\")","v":""},"",null,"",{"$f":"IF(P3045=\"\",\"\",NETWORKDAYS(C3045+1,P3045,Hoja1!F3037:F3153))","v":""},{"$f":"IFERROR(IF(NETWORKDAYS(R3045+1,P3045,Hoja1!F3037:F3153)<=0,\"\",NETWORKDAYS(R3045+1,P3045,Hoja1!F3037:F3153)),0)","v":""},null,null,{"$f":"IFERROR(VLOOKUP(L3045,Hoja1!$A$50:$C$63,2),\"\")","v":""},{"$f":"IFERROR(VLOOKUP(L3045,Hoja1!$A$50:$C$63,3),\"\")","v":""}]
[null,null,null,null,null,null,null,null,null,null,null,null,null,null,null,null,null,null,null,null,null,{"$f":"IFERROR(WORKDAY(T3049,AE3049,Hoja1!F3041:F3157),\"\")","v":""},"",null,"",{"$f":"IF(P3049=\"\",\"\",NETWORKDAYS(C3049+1,P3049,Hoja1!F3041:F3157))","v":""},{"$f":"IFERROR(IF(NETWORKDAYS(R3049+1,P3049,Hoja1!F3041:F3157)<=0,\"\",NETWORKDAYS(R3049+1,P3049,Hoja1!F3041:F3157)),0)","v":""},null,null,{"$f":"IFERROR(VLOOKUP(L3049,Hoja1!$A$50:$C$63,2),\"\")","v":""},{"$f":"IFERROR(VLOOKUP(L3049,Hoja1!$A$50:$C$63,3),\"\")","v":""}]
[null,null,null,null,null,null,null,null,null,null,null,null,null,null,null,null,null,null,null,null,null,{"$f":"IFERROR(WORKDAY(T3052,AE3052,Hoja1!F3044:F3160),\"\")","v":""},"",null,"",{"$f":"IF(P3052=\"\",\"\",NETWORKDAYS(C3052+1,P3052,Hoja1!F3044:F3160))","v":""},{"$f":"IFERROR(IF(NETWORKDAYS(R3052+1,P3052,Hoja1!F3044:F3160)<=0,\"\",NETWORKDAYS(R3052+1,P3052,Hoja1!F3044:F3160)),0)","v":""},null,null,{"$f":"IFERROR(VLOOKUP(L3052,Hoja1!$A$50:$C$63,2),\"\")","v":""},{"$f":"IFERROR(VLOOKUP(L3052,Hoja1!$A$50:$C$63,3),\"\")","v":""}]
[null,null,null,null,null,null,null,null,null,null,null,null,null,null,null,null,null,null,null,null,null,{"$f":"IFERROR(WORKDAY(T3057,AE3057,Hoja1!F3049:F3165),\"\")","v":""},"",null,"",{"$f":"IF(P3057=\"\",\"\",NETWORKDAYS(C3057+1,P3057,Hoja1!F3049:F3165))","v":""},{"$f":"IFERROR(IF(NETWORKDAYS(R3057+1,P3057,Hoja1!F3049:F3165)<=0,\"\",NETWORKDAYS(R3057+1,P3057,Hoja1!F3049:F3165)),0)","v":""},null,null,{"$f":"IFERROR(VLOOKUP(L3057,Hoja1!$A$50:$C$63,2),\"\")","v":""},{"$f":"IFERROR(VLOOKUP(L3057,Hoja1!$A$50:$C$63,3),\"\")","v":""}]
[null,null,null,null,null,null,null,null,null,null,null,null,null,null,null,null,null,null,null,null,null,{"$f":"IFERROR(WORKDAY(T3063,AE3063,Hoja1!F3055:F3171),\"\")","v":""},"",null,"",{"$f":"IF(P3063=\"\",\"\",NETWORKDAYS(C3063+1,P3063,Hoja1!F3055:F3171))","v":""},{"$f":"IFERROR(IF(NETWORKDAYS(R3063+1,P3063,Hoja1!F3055:F3171)<=0,\"\",NETWORKDAYS(R3063+1,P3063,Hoja1!F3055:F3171)),0)","v":""},null,null,{"$f":"IFERROR(VLOOKUP(L3063,Hoja1!$A$50:$C$63,2),\"\")","v":""},{"$f":"IFERROR(VLOOKUP(L3063,Hoja1!$A$50:$C$63,3),\"\")","v":""}]
[null,null,null,null,null,null,null,null,null,null,null,null,null,null,null,null,null,null,null,null,null,{"$f":"IFERROR(WORKDAY(T3068,AE3068,Hoja1!F3060:F3176),\"\")","v":""},"",null,"",{"$f":"IF(P3068=\"\",\"\",NETWORKDAYS(C3068+1,P3068,Hoja1!F3060:F3176))","v":""},{"$f":"IFERROR(IF(NETWORKDAYS(R3068+1,P3068,Hoja1!F3060:F3176)<=0,\"\",NETWORKDAYS(R3068+1,P3068,Hoja1!F3060:F3176)),0)","v":""},null,null,{"$f":"IFERROR(VLOOKUP(L3068,Hoja1!$A$50:$C$63,2),\"\")","v":""},{"$f":"IFERROR(VLOOKUP(L3068,Hoja1!$A$50:$C$63,3),\"\")","v":""}]
[null,null,null,null,null,null,null,null,null,null,null,null,null,null,null,null,null,null,null,null,null,{"$f":"IFERROR(WORKDAY(T3073,AE3073,Hoja1!F3065:F3181),\"\")","v":""},"",null,"",{"$f":"IF(P3073=\"\",\"\",NETWORKDAYS(C3073+1,P3073,Hoja1!F3065:F3181))","v":""},{"$f":"IFERROR(IF(NETWORKDAYS(R3073+1,P3073,Hoja1!F3065:F3181)<=0,\"\",NETWORKDAYS(R3073+1,P3073,Hoja1!F3065:F3181)),0)","v":""},null,null,{"$f":"IFERROR(VLOOKUP(L3073,Hoja1!$A$50:$C$63,2),\"\")","v":""},{"$f":"IFERROR(VLOOKUP(L3073,Hoja1!$A$50:$C$63,3),\"\")","v":""}]
[null,null,null,null,null,null,null,null,null,null,null,null,null,null,null,null,null,null,null,null,null,{"$f":"IFERROR(WORKDAY(T3075,AE3075,Hoja1!F3067:F3183),\"\")","v":""},"",null,"",{"$f":"IF(P3075=\"\",\"\",NETWORKDAYS(C3075+1,P3075,Hoja1!F3067:F3183))","v":""},{"$f":"IFERROR(IF(NETWORKDAYS(R3075+1,P3075,Hoja1!F3067:F3183)<=0,\"\",NETWORKDAYS(R3075+1,P3075,Hoja1!F3067:F3183)),0)","v":""},null,null,{"$f":"IFERROR(VLOOKUP(L3075,Hoja1!$A$50:$C$63,2),\"\")","v":""},{"$f":"IFERROR(VLOOKUP(L3075,Hoja1!$A$50:$C$63,3),\"\")","v":""}]
[null,null,null,null,null,null,null,null,null,null,null,null,null,null,null,null,null,null,null,null,null,{"$f":"IFERROR(WORKDAY(T3078,AE3078,Hoja1!F3070:F3186),\"\")","v":""},"",null,"",{"$f":"IF(P3078=\"\",\"\",NETWORKDAYS(C3078+1,P3078,Hoja1!F3070:F3186))","v":""},{"$f":"IFERROR(IF(NETWORKDAYS(R3078+1,P3078,Hoja1!F3070:F3186)<=0,\"\",NETWORKDAYS(R3078+1,P3078,Hoja1!F3070:F3186)),0)","v":""},null,null,{"$f":"IFERROR(VLOOKUP(L3078,Hoja1!$A$50:$C$63,2),\"\")","v":""},{"$f":"IFERROR(VLOOKUP(L3078,Hoja1!$A$50:$C$63,3),\"\")","v":""}]
[null,null,null,null,null,null,null,null,null,null,null,null,null,null,null,null,null,null,null,null,null,{"$f":"IFERROR(WORKDAY(T3086,AE3086,Hoja1!F3078:F3194),\"\")","v":""},"",null,"",{"$f":"IF(P3086=\"\",\"\",NETWORKDAYS(C3086+1,P3086,Hoja1!F3078:F3194))","v":""},{"$f":"IFERROR(IF(NETWORKDAYS(R3086+1,P3086,Hoja1!F3078:F3194)<=0,\"\",NETWORKDAYS(R3086+1,P3086,Hoja1!F3078:F3194)),0)","v":""},null,null,{"$f":"IFERROR(VLOOKUP(L3086,Hoja1!$A$50:$C$63,2),\"\")","v":""},{"$f":"IFERROR(VLOOKUP(L3086,Hoja1!$A$50:$C$63,3),\"\")","v":""}]
[null,null,null,null,null,null,null,null,null,null,null,null,null,null,null,null,null,null,null,null,null,{"$f":"IFERROR(WORKDAY(T3087,AE3087,Hoja1!F3079:F3195),\"\")","v":""},"",null,"",{"$f":"IF(P3087=\"\",\"\",NETWORKDAYS(C3087+1,P3087,Hoja1!F3079:F3195))","v":""},{"$f":"IFERROR(IF(NETWORKDAYS(R3087+1,P3087,Hoja1!F3079:F3195)<=0,\"\",NETWORKDAYS(R3087+1,P3087,Hoja1!F3079:F3195)),0)","v":""},null,null,{"$f":"IFERROR(VLOOKUP(L3087,Hoja1!$A$50:$C$63,2),\"\")","v":""},{"$f":"IFERROR(VLOOKUP(L3087,Hoja1!$A$50:$C$63,3),\"\")","v":""}]
[null,null,null,null,null,null,null,null,null,null,null,null,null,null,null,null,null,null,null,null,null,{"$f":"IFERROR(WORKDAY(T3092,AE3092,Hoja1!F3084:F3200),\"\")","v":""},"",null,"",{"$f":"IF(P3092=\"\",\"\",NETWORKDAYS(C3092+1,P3092,Hoja1!F3084:F3200))","v":""},{"$f":"IFERROR(IF(NETWORKDAYS(R3092+1,P3092,Hoja1!F3084:F3200)<=0,\"\",NETWORKDAYS(R3092+1,P3092,Hoja1!F3084:F3200)),0)","v":""},null,null,{"$f":"IFERROR(VLOOKUP(L3092,Hoja1!$A$50:$C$63,2),\"\")","v":""},{"$f":"IFERROR(VLOOKUP(L3092,Hoja1!$A$50:$C$63,3),\"\")","v":""}]
[null,null,null,null,null,null,null,null,null,null,null,null,null,null,null,null,null,null,null,null,null,{"$f":"IFERROR(WORKDAY(T3098,AE3098,Hoja1!F3090:F3206),\"\")","v":""},"",null,"",{"$f":"IF(P3098=\"\",\"\",NETWORKDAYS(C3098+1,P3098,Hoja1!F3090:F3206))","v":""},{"$f":"IFERROR(IF(NETWORKDAYS(R3098+1,P3098,Hoja1!F3090:F3206)<=0,\"\",NETWORKDAYS(R3098+1,P3098,Hoja1!F3090:F3206)),0)","v":""},null,null,{"$f":"IFERROR(VLOOKUP(L3098,Hoja1!$A$50:$C$63,2),\"\")","v":""},{"$f":"IFERROR(VLOOKUP(L3098,Hoja1!$A$50:$C$63,3),\"\")","v":""}]
[null,null,null,null,null,null,null,null,null,null,null,null,null,null,null,null,null,null,null,null,null,{"$f":"IFERROR(WORKDAY(T3102,AE3102,Hoja1!F3094:F3210),\"\")","v":""},"",null,"",{"$f":"IF(P3102=\"\",\"\",NETWORKDAYS(C3102+1,P3102,Hoja1!F3094:F3210))","v":""},{"$f":"IFERROR(IF(NETWORKDAYS(R3102+1,P3102,Hoja1!F3094:F3210)<=0,\"\",NETWORKDAYS(R3102+1,P3102,Hoja1!F3094:F3210)),0)","v":""},null,null,{"$f":"IFERROR(VLOOKUP(L3102,Hoja1!$A$50:$C$63,2),\"\")","v":""},{"$f":"IFERROR(VLOOKUP(L3102,Hoja1!$A$50:$C$63,3),\"\")","v":""}]
[null,null,null,null,null,null,null,null,null,null,null,null,null,null,null,null,null,null,null,null,null,{"$f":"IFERROR(WORKDAY(T3105,AE3105,Hoja1!F3097:F3213),\"\")","v":""},"",null,"",{"$f":"IF(P3105=\"\",\"\",NETWORKDAYS(C3105+1,P3105,Hoja1!F3097:F3213))","v":""},{"$f":"IFERROR(IF(NETWORKDAYS(R3105+1,P3105,Hoja1!F3097:F3213)<=0,\"\",NETWORKDAYS(R3105+1,P3105,Hoja1!F3097:F3213)),0)","v":""},null,null,{"$f":"IFERROR(VLOOKUP(L3105,Hoja1!$A$50:$C$63,2),\"\")","v":""},{"$f":"IFERROR(VLOOKUP(L3105,Hoja1!$A$50:$C$63,3),\"\")","v":""}]
[null,null,null,null,null,null,null,null,null,null,null,null,null,null,null,null,null,null,null,null,null,{"$f":"IFERROR(WORKDAY(T3111,AE3111,Hoja1!F3103:F3219),\"\")","v":""},"",null,"",{"$f":"IF(P3111=\"\",\"\",NETWORKDAYS(C3111+1,P3111,Hoja1!F3103:F3219))","v":""},{"$f":"IFERROR(IF(NETWORKDAYS(R3111+1,P3111,Hoja1!F3103:F3219)<=0,\"\",NETWORKDAYS(R3111+1,P3111,Hoja1!F3103:F3219)),0)","v":""},null,null,{"$f":"IFERROR(VLOOKUP(L3111,Hoja1!$A$50:$C$63,2),\"\")","v":""},{"$f":"IFERROR(VLOOKUP(L3111,Hoja1!$A$50:$C$63,3),\"\")","v":""}]
[null,null,null,null,null,null,null,null,null,null,null,null,null,null,null,null,null,null,null,null,null,{"$f":"IFERROR(WORKDAY(T3116,AE3116,Hoja1!F3108:F3224),\"\")","v":""},"",null,"",{"$f":"IF(P3116=\"\",\"\",NETWORKDAYS(C3116+1,P3116,Hoja1!F3108:F3224))","v":""},{"$f":"IFERROR(IF(NETWORKDAYS(R3116+1,P3116,Hoja1!F3108:F3224)<=0,\"\",NETWORKDAYS(R3116+1,P3116,Hoja1!F3108:F3224)),0)","v":""},null,null,{"$f":"IFERROR(VLOOKUP(L3116,Hoja1!$A$50:$C$63,2),\"\")","v":""},{"$f":"IFERROR(VLOOKUP(L3116,Hoja1!$A$50:$C$63,3),\"\")","v":""}]
[null,null,null,null,null,null,null,null,null,null,null,null,null,null,null,null,null,null,null,null,null,{"$f":"IFERROR(WORKDAY(T3121,AE3121,Hoja1!F3113:F3229),\"\")","v":""},"",null,"",{"$f":"IF(P3121=\"\",\"\",NETWORKDAYS(C3121+1,P3121,Hoja1!F3113:F3229))","v":""},{"$f":"IFERROR(IF(NETWORKDAYS(R3121+1,P3121,Hoja1!F3113:F3229)<=0,\"\",NETWORKDAYS(R3121+1,P3121,Hoja1!F3113:F3229)),0)","v":""},null,null,{"$f":"IFERROR(VLOOKUP(L3121,Hoja1!$A$50:$C$63,2),\"\")","v":""},{"$f":"IFERROR(VLOOKUP(L3121,Hoja1!$A$50:$C$63,3),\"\")","v":""}]
[null,null,null,null,null,null,null,null,null,null,null,null,null,null,null,null,null,null,null,null,null,{"$f":"IFERROR(WORKDAY(T3125,AE3125,Hoja1!F3117:F3233),\"\")","v":""},"",null,"",{"$f":"IF(P3125=\"\",\"\",NETWORKDAYS(C3125+1,P3125,Hoja1!F3117:F3233))","v":""},{"$f":"IFERROR(IF(NETWORKDAYS(R3125+1,P3125,Hoja1!F3117:F3233)<=0,\"\",NETWORKDAYS(R3125+1,P3125,Hoja1!F3117:F3233)),0)","v":""},null,null,{"$f":"IFERROR(VLOOKUP(L3125,Hoja1!$A$50:$C$63,2),\"\")","v":""},{"$f":"IFERROR(VLOOKUP(L3125,Hoja1!$A$50:$C$63,3),\"\")","v":""}]
[null,null,null,null,null,null,null,null,null,null,null,null,null,null,null,null,null,null,null,null,null,{"$f":"IFERROR(WORKDAY(T3128,AE3128,Hoja1!F3120:F3236),\"\")","v":""},"",null,"",{"$f":"IF(P3128=\"\",\"\",NETWORKDAYS(C3128+1,P3128,Hoja1!F3120:F3236))","v":""},{"$f":"IFERROR(IF(NETWORKDAYS(R3128+1,P3128,Hoja1!F3120:F3236)<=0,\"\",NETWORKDAYS(R3128+1,P3128,Hoja1!F3120:F3236)),0)","v":""},null,null,{"$f":"IFERROR(VLOOKUP(L3128,Hoja1!$A$50:$C$63,2),\"\")","v":""},{"$f":"IFERROR(VLOOKUP(L3128,Hoja1!$A$50:$C$63,3),\"\")","v":""}]
[null,null,null,null,null,null,null,null,null,null,null,null,null,null,null,null,null,null,null,null,null,{"$f":"IFERROR(WORKDAY(T3135,AE3135,Hoja1!F3127:F3243),\"\")","v":""},"",null,"",{"$f":"IF(P3135=\"\",\"\",NETWORKDAYS(C3135+1,P3135,Hoja1!F3127:F3243))","v":""},{"$f":"IFERROR(IF(NETWORKDAYS(R3135+1,P3135,Hoja1!F3127:F3243)<=0,\"\",NETWORKDAYS(R3135+1,P3135,Hoja1!F3127:F3243)),0)","v":""},null,null,{"$f":"IFERROR(VLOOKUP(L3135,Hoja1!$A$50:$C$63,2),\"\")","v":""},{"$f":"IFERROR(VLOOKUP(L3135,Hoja1!$A$50:$C$63,3),\"\")","v":""}]
[null,null,null,null,null,null,null,null,null,null,null,null,null,null,null,null,null,null,null,null,null,{"$f":"IFERROR(WORKDAY(T3139,AE3139,Hoja1!F3131:F3247),\"\")","v":""},"",null,"",{"$f":"IF(P3139=\"\",\"\",NETWORKDAYS(C3139+1,P3139,Hoja1!F3131:F3247))","v":""},{"$f":"IFERROR(IF(NETWORKDAYS(R3139+1,P3139,Hoja1!F3131:F3247)<=0,\"\",NETWORKDAYS(R3139+1,P3139,Hoja1!F3131:F3247)),0)","v":""},null,null,{"$f":"IFERROR(VLOOKUP(L3139,Hoja1!$A$50:$C$63,2),\"\")","v":""},{"$f":"IFERROR(VLOOKUP(L3139,Hoja1!$A$50:$C$63,3),\"\")","v":""}]
[null,null,null,null,null,null,null,null,null,null,null,null,null,null,null,null,null,null,null,null,null,{"$f":"IFERROR(WORKDAY(T3140,AE3140,Hoja1!F3132:F3248),\"\")","v":""},"",null,"",{"$f":"IF(P3140=\"\",\"\",NETWORKDAYS(C3140+1,P3140,Hoja1!F3132:F3248))","v":""},{"$f":"IFERROR(IF(NETWORKDAYS(R3140+1,P3140,Hoja1!F3132:F3248)<=0,\"\",NETWORKDAYS(R3140+1,P3140,Hoja1!F3132:F3248)),0)","v":""},null,null,{"$f":"IFERROR(VLOOKUP(L3140,Hoja1!$A$50:$C$63,2),\"\")","v":""},{"$f":"IFERROR(VLOOKUP(L3140,Hoja1!$A$50:$C$63,3),\"\")","v":""}]
[null,null,null,null,null,null,null,null,null,null,null,null,null,null,null,null,null,null,null,null,null,{"$f":"IFERROR(WORKDAY(T3146,AE3146,Hoja1!F3138:F3254),\"\")","v":""},{"$f":"+IF(T3146=\"\",\"\",IF(U3146=\"\",\"SIN RESPUESTA\",(IF(U3146<=V3146,\"A TIEMPO\",\"FUERA DE TIEMPO\"))))","v":""},null,{"$f":"+IF(C3146=\"\",\"\",IF(P3146=\"\",\"SIN RESPUESTA\",(IF(P3146<=R3146,\"A TIEMPO\",\"FUERA DE TIEMPO\"))))","v":""},{"$f":"IF(P3146=\"\",\"\",NETWORKDAYS(C3146+1,P3146,Hoja1!F3138:F3254))","v":""},{"$f":"IFERROR(IF(NETWORKDAYS(R3146+1,P3146,Hoja1!F3138:F3254)<=0,\"\",NETWORKDAYS(R3146+1,P3146,Hoja1!F3138:F3254)),0)","v":""},null,null,{"$f":"IFERROR(VLOOKUP(L3146,Hoja1!$A$50:$C$63,2),\"\")","v":""},{"$f":"IFERROR(VLOOKUP(L3146,Hoja1!$A$50:$C$63,3),\"\")","v":""}]
[null,null,null,null,null,null,null,null,null,null,null,null,null,null,null,null,null,null,null,null,null,{"$f":"IFERROR(WORKDAY(T3151,AE3151,Hoja1!F3143:F3259),\"\")","v":""},"",null,"",{"$f":"IF(P3151=\"\",\"\",NETWORKDAYS(C3151+1,P3151,Hoja1!F3143:F3259))","v":""},{"$f":"IFERROR(IF(NETWORKDAYS(R3151+1,P3151,Hoja1!F3143:F3259)<=0,\"\",NETWORKDAYS(R3151+1,P3151,Hoja1!F3143:F3259)),0)","v":""},null,null,{"$f":"IFERROR(VLOOKUP(L3151,Hoja1!$A$50:$C$63,2),\"\")","v":""},{"$f":"IFERROR(VLOOKUP(L3151,Hoja1!$A$50:$C$63,3),\"\")","v":""}]
[null,null,null,null,null,null,null,null,null,null,null,null,null,null,null,null,null,null,null,null,null,{"$f":"IFERROR(WORKDAY(T3154,AE3154,Hoja1!F3146:F3262),\"\")","v":""},"",null,"",{"$f":"IF(P3154=\"\",\"\",NETWORKDAYS(C3154+1,P3154,Hoja1!F3146:F3262))","v":""},{"$f":"IFERROR(IF(NETWORKDAYS(R3154+1,P3154,Hoja1!F3146:F3262)<=0,\"\",NETWORKDAYS(R3154+1,P3154,Hoja1!F3146:F3262)),0)","v":""},null,null,{"$f":"IFERROR(VLOOKUP(L3154,Hoja1!$A$50:$C$63,2),\"\")","v":""},{"$f":"IFERROR(VLOOKUP(L3154,Hoja1!$A$50:$C$63,3),\"\")","v":""}]
[null,null,null,null,null,null,null,null,null,null,null,null,null,null,null,null,null,null,null,null,null,{"$f":"IFERROR(WORKDAY(T3158,AE3158,Hoja1!F3150:F3266),\"\")","v":""},"",null,"",{"$f":"IF(P3158=\"\",\"\",NETWORKDAYS(C3158+1,P3158,Hoja1!F3150:F3266))","v":""},{"$f":"IFERROR(IF(NETWORKDAYS(R3158+1,P3158,Hoja1!F3150:F3266)<=0,\"\",NETWORKDAYS(R3158+1,P3158,Hoja1!F3150:F3266)),0)","v":""},null,null,{"$f":"IFERROR(VLOOKUP(L3158,Hoja1!$A$50:$C$63,2),\"\")","v":""},{"$f":"IFERROR(VLOOKUP(L3158,Hoja1!$A$50:$C$63,3),\"\")","v":""}]
[null,null,null,null,null,null,null,null,null,null,null,null,null,null,null,null,null,null,null,null,null,{"$f":"IFERROR(WORKDAY(T3164,AE3164,Hoja1!F3156:F3272),\"\")","v":""},"",null,"",{"$f":"IF(P3164=\"\",\"\",NETWORKDAYS(C3164+1,P3164,Hoja1!F3156:F3272))","v":""},{"$f":"IFERROR(IF(NETWORKDAYS(R3164+1,P3164,Hoja1!F3156:F3272)<=0,\"\",NETWORKDAYS(R3164+1,P3164,Hoja1!F3156:F3272)),0)","v":""},null,null,{"$f":"IFERROR(VLOOKUP(L3164,Hoja1!$A$50:$C$63,2),\"\")","v":""},{"$f":"IFERROR(VLOOKUP(L3164,Hoja1!$A$50:$C$63,3),\"\")","v":""}]
[null,null,null,null,null,null,null,null,null,null,null,null,null,null,null,null,null,null,null,null,null,{"$f":"IFERROR(WORKDAY(T3169,AE3169,Hoja1!F3161:F3277),\"\")","v":""},"",null,"",{"$f":"IF(P3169=\"\",\"\",NETWORKDAYS(C3169+1,P3169,Hoja1!F3161:F3277))","v":""},{"$f":"IFERROR(IF(NETWORKDAYS(R3169+1,P3169,Hoja1!F3161:F3277)<=0,\"\",NETWORKDAYS(R3169+1,P3169,Hoja1!F3161:F3277)),0)","v":""},null,null,{"$f":"IFERROR(VLOOKUP(L3169,Hoja1!$A$50:$C$63,2),\"\")","v":""},{"$f":"IFERROR(VLOOKUP(L3169,Hoja1!$A$50:$C$63,3),\"\")","v":""}]
[null,null,null,null,null,null,null,null,null,null,null,null,null,null,null,null,null,null,null,null,null,{"$f":"IFERROR(WORKDAY(T3174,AE3174,Hoja1!F3166:F3282),\"\")","v":""},"",null,"",{"$f":"IF(P3174=\"\",\"\",NETWORKDAYS(C3174+1,P3174,Hoja1!F3166:F3282))","v":""},{"$f":"IFERROR(IF(NETWORKDAYS(R3174+1,P3174,Hoja1!F3166:F3282)<=0,\"\",NETWORKDAYS(R3174+1,P3174,Hoja1!F3166:F3282)),0)","v":""},null,null,{"$f":"IFERROR(VLOOKUP(L3174,Hoja1!$A$50:$C$63,2),\"\")","v":""},{"$f":"IFERROR(VLOOKUP(L3174,Hoja1!$A$50:$C$63,3),\"\")","v":""}]
[null,null,null,null,null,null,null,null,null,null,null,null,null,null,null,null,null,null,null,null,null,{"$f":"IFERROR(WORKDAY(T3176,AE3176,Hoja1!F3168:F3284),\"\")","v":""},"",null,"",{"$f":"IF(P3176=\"\",\"\",NETWORKDAYS(C3176+1,P3176,Hoja1!F3168:F3284))","v":""},{"$f":"IFERROR(IF(NETWORKDAYS(R3176+1,P3176,Hoja1!F3168:F3284)<=0,\"\",NETWORKDAYS(R3176+1,P3176,Hoja1!F3168:F3284)),0)","v":""},null,null,{"$f":"IFERROR(VLOOKUP(L3176,Hoja1!$A$50:$C$63,2),\"\")","v":""},{"$f":"IFERROR(VLOOKUP(L3176,Hoja1!$A$50:$C$63,3),\"\")","v":""}]
[null,null,null,null,null,null,null,null,null,null,null,null,null,null,null,null,null,null,null,null,null,{"$f":"IFERROR(WORKDAY(T3181,AE3181,Hoja1!F3173:F3289),\"\")","v":""},"",null,"",{"$f":"IF(P3181=\"\",\"\",NETWORKDAYS(C3181+1,P3181,Hoja1!F3173:F3289))","v":""},{"$f":"IFERROR(IF(NETWORKDAYS(R3181+1,P3181,Hoja1!F3173:F3289)<=0,\"\",NETWORKDAYS(R3181+1,P3181,Hoja1!F3173:F3289)),0)","v":""},null,null,{"$f":"IFERROR(VLOOKUP(L3181,Hoja1!$A$50:$C$63,2),\"\")","v":""},{"$f":"IFERROR(VLOOKUP(L3181,Hoja1!$A$50:$C$63,3),\"\")","v":""}]
[null,null,null,null,null,null,null,null,null,null,null,null,null,null,null,null,null,null,null,null,null,{"$f":"IFERROR(WORKDAY(T3188,AE3188,Hoja1!F3180:F3296),\"\")","v":""},"",null,"",{"$f":"IF(P3188=\"\",\"\",NETWORKDAYS(C3188+1,P3188,Hoja1!F3180:F3296))","v":""},{"$f":"IFERROR(IF(NETWORKDAYS(R3188+1,P3188,Hoja1!F3180:F3296)<=0,\"\",NETWORKDAYS(R3188+1,P3188,Hoja1!F3180:F3296)),0)","v":""},null,null,{"$f":"IFERROR(VLOOKUP(L3188,Hoja1!$A$50:$C$63,2),\"\")","v":""},{"$f":"IFERROR(VLOOKUP(L3188,Hoja1!$A$50:$C$63,3),\"\")","v":""}]
[null,null,null,null,null,null,null,null,null,null,null,null,null,null,null,null,null,null,null,null,null,{"$f":"IFERROR(WORKDAY(T3192,AE3192,Hoja1!F3184:F3300),\"\")","v":""},"",null,"",{"$f":"IF(P3192=\"\",\"\",NETWORKDAYS(C3192+1,P3192,Hoja1!F3184:F3300))","v":""},{"$f":"IFERROR(IF(NETWORKDAYS(R3192+1,P3192,Hoja1!F3184:F3300)<=0,\"\",NETWORKDAYS(R3192+1,P3192,Hoja1!F3184:F3300)),0)","v":""},null,null,{"$f":"IFERROR(VLOOKUP(L3192,Hoja1!$A$50:$C$63,2),\"\")","v":""},{"$f":"IFERROR(VLOOKUP(L3192,Hoja1!$A$50:$C$63,3),\"\")","v":""}]
[null,null,null,null,null,null,null,null,null,null,null,null,null,null,null,null,null,null,null,null,null,{"$f":"IFERROR(WORKDAY(T3193,AE3193,Hoja1!F3185:F3301),\"\")","v":""},"",null,"",{"$f":"IF(P3193=\"\",\"\",NETWORKDAYS(C3193+1,P3193,Hoja1!F3185:F3301))","v":""},{"$f":"IFERROR(IF(NETWORKDAYS(R3193+1,P3193,Hoja1!F3185:F3301)<=0,\"\",NETWORKDAYS(R3193+1,P3193,Hoja1!F3185:F3301)),0)","v":""},null,null,{"$f":"IFERROR(VLOOKUP(L3193,Hoja1!$A$50:$C$63,2),\"\")","v":""},{"$f":"IFERROR(VLOOKUP(L3193,Hoja1!$A$50:$C$63,3),\"\")","v":""}]
[null,null,null,null,null,null,null,null,null,null,null,null,null,null,null,null,null,null,null,null,null,{"$f":"IFERROR(WORKDAY(T3199,AE3199,Hoja1!F3191:F3307),\"\")","v":""},"",null,"",{"$f":"IF(P3199=\"\",\"\",NETWORKDAYS(C3199+1,P3199,Hoja1!F3191:F3307))","v":""},{"$f":"IFERROR(IF(NETWORKDAYS(R3199+1,P3199,Hoja1!F3191:F3307)<=0,\"\",NETWORKDAYS(R3199+1,P3199,Hoja1!F3191:F3307)),0)","v":""},null,null,{"$f":"IFERROR(VLOOKUP(L3199,Hoja1!$A$50:$C$63,2),\"\")","v":""},{"$f":"IFERROR(VLOOKUP(L3199,Hoja1!$A$50:$C$63,3),\"\")","v":""}]
[null,null,null,null,null,null,null,null,null,null,null,null,null,null,null,null,null,null,null,null,null,{"$f":"IFERROR(WORKDAY(T3202,AE3202,Hoja1!F3194:F3310),\"\")","v":""},"",null,"",{"$f":"IF(P3202=\"\",\"\",NETWORKDAYS(C3202+1,P3202,Hoja1!F3194:F3310))","v":""},{"$f":"IFERROR(IF(NETWORKDAYS(R3202+1,P3202,Hoja1!F3194:F3310)<=0,\"\",NETWORKDAYS(R3202+1,P3202,Hoja1!F3194:F3310)),0)","v":""},null,null,{"$f":"IFERROR(VLOOKUP(L3202,Hoja1!$A$50:$C$63,2),\"\")","v":""},{"$f":"IFERROR(VLOOKUP(L3202,Hoja1!$A$50:$C$63,3),\"\")","v":""}]
[null,null,null,null,null,null,null,null,null,null,null,null,null,null,null,null,null,null,null,null,null,{"$f":"IFERROR(WORKDAY(T3210,AE3210,Hoja1!F3202:F3318),\"\")","v":""},{"$f":"+IF(T3210=\"\",\"\",IF(U3210=\"\",\"SIN RESPUESTA\",(IF(U3210<=V3210,\"A TIEMPO\",\"FUERA DE TIEMPO\"))))","v":""},null,{"$f":"+IF(C3210=\"\",\"\",IF(P3210=\"\",\"SIN RESPUESTA\",(IF(P3210<=R3210,\"A TIEMPO\",\"FUERA DE TIEMPO\"))))","v":""},{"$f":"IF(P3210=\"\",\"\",NETWORKDAYS(C3210+1,P3210,Hoja1!F3202:F3318))","v":""},{"$f":"IFERROR(IF(NETWORKDAYS(R3210+1,P3210,Hoja1!F3202:F3318)<=0,\"\",NETWORKDAYS(R3210+1,P3210,Hoja1!F3202:F3318)),0)","v":""},null,null,{"$f":"IFERROR(VLOOKUP(L3210,Hoja1!$A$50:$C$63,2),\"\")","v":""},{"$f":"IFERROR(VLOOKUP(L3210,Hoja1!$A$50:$C$63,3),\"\")","v":""}]
[null,null,null,null,null,null,null,null,null,null,null,null,null,null,null,null,null,null,null,null,null,{"$f":"IFERROR(WORKDAY(T3212,AE3212,Hoja1!F3204:F3320),\"\")","v":""},"",null,"",{"$f":"IF(P3212=\"\",\"\",NETWORKDAYS(C3212+1,P3212,Hoja1!F3204:F3320))","v":""},{"$f":"IFERROR(IF(NETWORKDAYS(R3212+1,P3212,Hoja1!F3204:F3320)<=0,\"\",NETWORKDAYS(R3212+1,P3212,Hoja1!F3204:F3320)),0)","v":""},null,null,{"$f":"IFERROR(VLOOKUP(L3212,Hoja1!$A$50:$C$63,2),\"\")","v":""},{"$f":"IFERROR(VLOOKUP(L3212,Hoja1!$A$50:$C$63,3),\"\")","v":""}]
[null,null,null,null,null,null,null,null,null,null,null,null,null,null,null,null,null,null,null,null,null,{"$f":"IFERROR(WORKDAY(T3217,AE3217,Hoja1!F3209:F3325),\"\")","v":""},"",null,"",{"$f":"IF(P3217=\"\",\"\",NETWORKDAYS(C3217+1,P3217,Hoja1!F3209:F3325))","v":""},{"$f":"IFERROR(IF(NETWORKDAYS(R3217+1,P3217,Hoja1!F3209:F3325)<=0,\"\",NETWORKDAYS(R3217+1,P3217,Hoja1!F3209:F3325)),0)","v":""},null,null,{"$f":"IFERROR(VLOOKUP(L3217,Hoja1!$A$50:$C$63,2),\"\")","v":""},{"$f":"IFERROR(VLOOKUP(L3217,Hoja1!$A$50:$C$63,3),\"\")","v":""}]
[null,null,null,null,null,null,null,null,null,null,null,null,null,null,null,null,null,null,null,null,null,{"$f":"IFERROR(WORKDAY(T3222,AE3222,Hoja1!F3214:F3330),\"\")","v":""},"",null,"",{"$f":"IF(P3222=\"\",\"\",NETWORKDAYS(C3222+1,P3222,Hoja1!F3214:F3330))","v":""},{"$f":"IFERROR(IF(NETWORKDAYS(R3222+1,P3222,Hoja1!F3214:F3330)<=0,\"\",NETWORKDAYS(R3222+1,P3222,Hoja1!F3214:F3330)),0)","v":""},null,null,{"$f":"IFERROR(VLOOKUP(L3222,Hoja1!$A$50:$C$63,2),\"\")","v":""},{"$f":"IFERROR(VLOOKUP(L3222,Hoja1!$A$50:$C$63,3),\"\")","v":""}]
[null,null,null,null,null,null,null,null,null,null,null,null,null,null,null,null,null,null,null,null,null,{"$f":"IFERROR(WORKDAY(T3226,AE3226,Hoja1!F3218:F3334),\"\")","v":""},"",null,"",{"$f":"IF(P3226=\"\",\"\",NETWORKDAYS(C3226+1,P3226,Hoja1!F3218:F3334))","v":""},{"$f":"IFERROR(IF(NETWORKDAYS(R3226+1,P3226,Hoja1!F3218:F3334)<=0,\"\",NETWORKDAYS(R3226+1,P3226,Hoja1!F3218:F3334)),0)","v":""},null,null,{"$f":"IFERROR(VLOOKUP(L3226,Hoja1!$A$50:$C$63,2),\"\")","v":""},{"$f":"IFERROR(VLOOKUP(L3226,Hoja1!$A$50:$C$63,3),\"\")","v":""}]
[null,null,null,null,null,null,null,null,null,null,null,null,null,null,null,null,null,null,null,null,null,{"$f":"IFERROR(WORKDAY(T3229,AE3229,Hoja1!F3221:F3337),\"\")","v":""},"",null,"",{"$f":"IF(P3229=\"\",\"\",NETWORKDAYS(C3229+1,P3229,Hoja1!F3221:F3337))","v":""},{"$f":"IFERROR(IF(NETWORKDAYS(R3229+1,P3229,Hoja1!F3221:F3337)<=0,\"\",NETWORKDAYS(R3229+1,P3229,Hoja1!F3221:F3337)),0)","v":""},null,null,{"$f":"IFERROR(VLOOKUP(L3229,Hoja1!$A$50:$C$63,2),\"\")","v":""},{"$f":"IFERROR(VLOOKUP(L3229,Hoja1!$A$50:$C$63,3),\"\")","v":""}]
[null,null,null,null,null,null,null,null,null,null,null,null,null,null,null,null,null,null,null,null,null,{"$f":"IFERROR(WORKDAY(T3236,AE3236,Hoja1!F3228:F3344),\"\")","v":""},"",null,"",{"$f":"IF(P3236=\"\",\"\",NETWORKDAYS(C3236+1,P3236,Hoja1!F3228:F3344))","v":""},{"$f":"IFERROR(IF(NETWORKDAYS(R3236+1,P3236,Hoja1!F3228:F3344)<=0,\"\",NETWORKDAYS(R3236+1,P3236,Hoja1!F3228:F3344)),0)","v":""},null,null,{"$f":"IFERROR(VLOOKUP(L3236,Hoja1!$A$50:$C$63,2),\"\")","v":""},{"$f":"IFERROR(VLOOKUP(L3236,Hoja1!$A$50:$C$63,3),\"\")","v":""}]
[null,null,null,null,null,null,null,null,null,null,null,null,null,null,null,null,null,null,null,null,null,{"$f":"IFERROR(WORKDAY(T3240,AE3240,Hoja1!F3232:F3348),\"\")","v":""},"",null,"",{"$f":"IF(P3240=\"\",\"\",NETWORKDAYS(C3240+1,P3240,Hoja1!F3232:F3348))","v":""},{"$f":"IFERROR(IF(NETWORKDAYS(R3240+1,P3240,Hoja1!F3232:F3348)<=0,\"\",NETWORKDAYS(R3240+1,P3240,Hoja1!F3232:F3348)),0)","v":""},null,null,{"$f":"IFERROR(VLOOKUP(L3240,Hoja1!$A$50:$C$63,2),\"\")","v":""},{"$f":"IFERROR(VLOOKUP(L3240,Hoja1!$A$50:$C$63,3),\"\")","v":""}]
[null,null,null,null,null,null,null,null,null,null,null,null,null,null,null,null,null,null,null,null,null,{"$f":"IFERROR(WORKDAY(T3246,AE3246,Hoja1!F3238:F3354),\"\")","v":""},"",null,"",{"$f":"IF(P3246=\"\",\"\",NETWORKDAYS(C3246+1,P3246,Hoja1!F3238:F3354))","v":""},{"$f":"IFERROR(IF(NETWORKDAYS(R3246+1,P3246,Hoja1!F3238:F3354)<=0,\"\",NETWORKDAYS(R3246+1,P3246,Hoja1!F3238:F3354)),0)","v":""},null,null,{"$f":"IFERROR(VLOOKUP(L3246,Hoja1!$A$50:$C$63,2),\"\")","v":""},{"$f":"IFERROR(VLOOKUP(L3246,Hoja1!$A$50:$C$63,3),\"\")","v":""}]
[null,null,null,null,null,null,null,null,null,null,null,null,null,null,null,null,null,null,null,null,null,{"$f":"IFERROR(WORKDAY(T3247,AE3247,Hoja1!F3239:F3355),\"\")","v":""},"",null,"",{"$f":"IF(P3247=\"\",\"\",NETWORKDAYS(C3247+1,P3247,Hoja1!F3239:F3355))","v":""},{"$f":"IFERROR(IF(NETWORKDAYS(R3247+1,P3247,Hoja1!F3239:F3355)<=0,\"\",NETWORKDAYS(R3247+1,P3247,Hoja1!F3239:F3355)),0)","v":""},null,null,{"$f":"IFERROR(VLOOKUP(L3247,Hoja1!$A$50:$C$63,2),\"\")","v":""},{"$f":"IFERROR(VLOOKUP(L3247,Hoja1!$A$50:$C$63,3),\"\")","v":""}]
[null,null,null,null,null,null,null,null,null,null,null,null,null,null,null,null,null,null,null,null,null,{"$f":"IFERROR(WORKDAY(T3252,AE3252,Hoja1!F3244:F3360),\"\")","v":""},"",null,"",{"$f":"IF(P3252=\"\",\"\",NETWORKDAYS(C3252+1,P3252,Hoja1!F3244:F3360))","v":""},{"$f":"IFERROR(IF(NETWORKDAYS(R3252+1,P3252,Hoja1!F3244:F3360)<=0,\"\",NETWORKDAYS(R3252+1,P3252,Hoja1!F3244:F3360)),0)","v":""},null,null,{"$f":"IFERROR(VLOOKUP(L3252,Hoja1!$A$50:$C$63,2),\"\")","v":""},{"$f":"IFERROR(VLOOKUP(L3252,Hoja1!$A$50:$C$63,3),\"\")","v":""}]
[null,null,null,null,null,null,null,null,null,null,null,null,null,null,null,null,null,null,null,null,null,{"$f":"IFERROR(WORKDAY(T3255,AE3255,Hoja1!F3247:F3363),\"\")","v":""},"",null,"",{"$f":"IF(P3255=\"\",\"\",NETWORKDAYS(C3255+1,P3255,Hoja1!F3247:F3363))","v":""},{"$f":"IFERROR(IF(NETWORKDAYS(R3255+1,P3255,Hoja1!F3247:F3363)<=0,\"\",NETWORKDAYS(R3255+1,P3255,Hoja1!F3247:F3363)),0)","v":""},null,null,{"$f":"IFERROR(VLOOKUP(L3255,Hoja1!$A$50:$C$63,2),\"\")","v":""},{"$f":"IFERROR(VLOOKUP(L3255,Hoja1!$A$50:$C$63,3),\"\")","v":""}]
[null,null,null,null,null,null,null,null,null,null,null,null,null,null,null,null,null,null,null,null,null,{"$f":"IFERROR(WORKDAY(T3263,AE3263,Hoja1!F3255:F3371),\"\")","v":""},"",null,"",{"$f":"IF(P3263=\"\",\"\",NETWORKDAYS(C3263+1,P3263,Hoja1!F3255:F3371))","v":""},{"$f":"IFERROR(IF(NETWORKDAYS(R3263+1,P3263,Hoja1!F3255:F3371)<=0,\"\",NETWORKDAYS(R3263+1,P3263,Hoja1!F3255:F3371)),0)","v":""},null,null,{"$f":"IFERROR(VLOOKUP(L3263,Hoja1!$A$50:$C$63,2),\"\")","v":""},{"$f":"IFERROR(VLOOKUP(L3263,Hoja1!$A$50:$C$63,3),\"\")","v":""}]
[null,null,null,null,null,null,null,null,null,null,null,null,null,null,null,null,null,null,null,null,null,{"$f":"IFERROR(WORKDAY(T3265,AE3265,Hoja1!F3257:F3373),\"\")","v":""},"",null,"",{"$f":"IF(P3265=\"\",\"\",NETWORKDAYS(C3265+1,P3265,Hoja1!F3257:F3373))","v":""},{"$f":"IFERROR(IF(NETWORKDAYS(R3265+1,P3265,Hoja1!F3257:F3373)<=0,\"\",NETWORKDAYS(R3265+1,P3265,Hoja1!F3257:F3373)),0)","v":""},null,null,{"$f":"IFERROR(VLOOKUP(L3265,Hoja1!$A$50:$C$63,2),\"\")","v":""},{"$f":"IFERROR(VLOOKUP(L3265,Hoja1!$A$50:$C$63,3),\"\")","v":""}]
[null,null,null,null,null,null,null,null,null,null,null,null,null,null,null,null,null,null,null,null,null,{"$f":"IFERROR(WORKDAY(T3270,AE3270,Hoja1!F3262:F3378),\"\")","v":""},"",null,"",{"$f":"IF(P3270=\"\",\"\",NETWORKDAYS(C3270+1,P3270,Hoja1!F3262:F3378))","v":""},{"$f":"IFERROR(IF(NETWORKDAYS(R3270+1,P3270,Hoja1!F3262:F3378)<=0,\"\",NETWORKDAYS(R3270+1,P3270,Hoja1!F3262:F3378)),0)","v":""},null,null,{"$f":"IFERROR(VLOOKUP(L3270,Hoja1!$A$50:$C$63,2),\"\")","v":""},{"$f":"IFERROR(VLOOKUP(L3270,Hoja1!$A$50:$C$63,3),\"\")","v":""}]
[null,null,null,null,null,null,null,null,null,null,null,null,null,null,null,null,null,null,null,null,null,{"$f":"IFERROR(WORKDAY(T3274,AE3274,Hoja1!F3266:F3382),\"\")","v":""},{"$f":"+IF(T3274=\"\",\"\",IF(U3274=\"\",\"SIN RESPUESTA\",(IF(U3274<=V3274,\"A TIEMPO\",\"FUERA DE TIEMPO\"))))","v":""},null,{"$f":"+IF(C3274=\"\",\"\",IF(P3274=\"\",\"SIN RESPUESTA\",(IF(P3274<=R3274,\"A TIEMPO\",\"FUERA DE TIEMPO\"))))","v":""},{"$f":"IF(P3274=\"\",\"\",NETWORKDAYS(C3274+1,P3274,Hoja1!F3266:F3382))","v":""},{"$f":"IFERROR(IF(NETWORKDAYS(R3274+1,P3274,Hoja1!F3266:F3382)<=0,\"\",NETWORKDAYS(R3274+1,P3274,Hoja1!F3266:F3382)),0)","v":""},null,null,{"$f":"IFERROR(VLOOKUP(L3274,Hoja1!$A$50:$C$63,2),\"\")","v":""},{"$f":"IFERROR(VLOOKUP(L3274,Hoja1!$A$50:$C$63,3),\"\")","v":""}]
[null,null,null,null,null,null,null,null,null,null,null,null,null,null,null,null,null,null,null,null,null,{"$f":"IFERROR(WORKDAY(T3281,AE3281,Hoja1!F3273:F3389),\"\")","v":""},"",null,"",{"$f":"IF(P3281=\"\",\"\",NETWORKDAYS(C3281+1,P3281,Hoja1!F3273:F3389))","v":""},{"$f":"IFERROR(IF(NETWORKDAYS(R3281+1,P3281,Hoja1!F3273:F3389)<=0,\"\",NETWORKDAYS(R3281+1,P3281,Hoja1!F3273:F3389)),0)","v":""},null,null,{"$f":"IFERROR(VLOOKUP(L3281,Hoja1!$A$50:$C$63,2),\"\")","v":""},{"$f":"IFERROR(VLOOKUP(L3281,Hoja1!$A$50:$C$63,3),\"\")","v":""}]
[null,null,null,null,null,null,null,null,null,null,null,null,null,null,null,null,null,null,null,null,null,{"$f":"IFERROR(WORKDAY(T3282,AE3282,Hoja1!F3274:F3390),\"\")","v":""},"",null,"",{"$f":"IF(P3282=\"\",\"\",NETWORKDAYS(C3282+1,P3282,Hoja1!F3274:F3390))","v":""},{"$f":"IFERROR(IF(NETWORKDAYS(R3282+1,P3282,Hoja1!F3274:F3390)<=0,\"\",NETWORKDAYS(R3282+1,P3282,Hoja1!F3274:F3390)),0)","v":""},null,null,{"$f":"IFERROR(VLOOKUP(L3282,Hoja1!$A$50:$C$63,2),\"\")","v":""},{"$f":"IFERROR(VLOOKUP(L3282,Hoja1!$A$50:$C$63,3),\"\")","v":""}]
[null,null,null,null,null,null,null,null,null,null,null,null,null,null,null,null,null,null,null,null,null,{"$f":"IFERROR(WORKDAY(T3289,AE3289,Hoja1!F3281:F3397),\"\")","v":""},"",null,"",{"$f":"IF(P3289=\"\",\"\",NETWORKDAYS(C3289+1,P3289,Hoja1!F3281:F3397))","v":""},{"$f":"IFERROR(IF(NETWORKDAYS(R3289+1,P3289,Hoja1!F3281:F3397)<=0,\"\",NETWORKDAYS(R3289+1,P3289,Hoja1!F3281:F3397)),0)","v":""},null,null,{"$f":"IFERROR(VLOOKUP(L3289,Hoja1!$A$50:$C$63,2),\"\")","v":""},{"$f":"IFERROR(VLOOKUP(L3289,Hoja1!$A$50:$C$63,3),\"\")","v":""}]
[null,null,null,null,null,null,null,null,null,null,null,null,null,null,null,null,null,null,null,null,null,{"$f":"IFERROR(WORKDAY(T3293,AE3293,Hoja1!F3285:F3401),\"\")","v":""},"",null,"",{"$f":"IF(P3293=\"\",\"\",NETWORKDAYS(C3293+1,P3293,Hoja1!F3285:F3401))","v":""},{"$f":"IFERROR(IF(NETWORKDAYS(R3293+1,P3293,Hoja1!F3285:F3401)<=0,\"\",NETWORKDAYS(R3293+1,P3293,Hoja1!F3285:F3401)),0)","v":""},null,null,{"$f":"IFERROR(VLOOKUP(L3293,Hoja1!$A$50:$C$63,2),\"\")","v":""},{"$f":"IFERROR(VLOOKUP(L3293,Hoja1!$A$50:$C$63,3),\"\")","v":""}]
[null,null,null,null,null,null,null,null,null,null,null,null,null,null,null,null,null,null,null,null,null,{"$f":"IFERROR(WORKDAY(T3298,AE3298,Hoja1!F3290:F3406),\"\")","v":""},"",null,"",{"$f":"IF(P3298=\"\",\"\",NETWORKDAYS(C3298+1,P3298,Hoja1!F3290:F3406))","v":""},{"$f":"IFERROR(IF(NETWORKDAYS(R3298+1,P3298,Hoja1!F3290:F3406)<=0,\"\",NETWORKDAYS(R3298+1,P3298,Hoja1!F3290:F3406)),0)","v":""},null,null,{"$f":"IFERROR(VLOOKUP(L3298,Hoja1!$A$50:$C$63,2),\"\")","v":""},{"$f":"IFERROR(VLOOKUP(L3298,Hoja1!$A$50:$C$63,3),\"\")","v":""}]
[null,null,null,null,null,null,null,null,null,null,null,null,null,null,null,null,null,null,null,null,null,{"$f":"IFERROR(WORKDAY(T3300,AE3300,Hoja1!F3292:F3408),\"\")","v":""},"",null,"",{"$f":"IF(P3300=\"\",\"\",NETWORKDAYS(C3300+1,P3300,Hoja1!F3292:F3408))","v":""},{"$f":"IFERROR(IF(NETWORKDAYS(R3300+1,P3300,Hoja1!F3292:F3408)<=0,\"\",NETWORKDAYS(R3300+1,P3300,Hoja1!F3292:F3408)),0)","v":""},null,null,{"$f":"IFERROR(VLOOKUP(L3300,Hoja1!$A$50:$C$63,2),\"\")","v":""},{"$f":"IFERROR(VLOOKUP(L3300,Hoja1!$A$50:$C$63,3),\"\")","v":""}]
[null,null,null,null,null,null,null,null,null,null,null,null,null,null,null,null,null,null,null,null,null,{"$f":"IFERROR(WORKDAY(T3308,AE3308,Hoja1!F3300:F3416),\"\")","v":""},"",null,"",{"$f":"IF(P3308=\"\",\"\",NETWORKDAYS(C3308+1,P3308,Hoja1!F3300:F3416))","v":""},{"$f":"IFERROR(IF(NETWORKDAYS(R3308+1,P3308,Hoja1!F3300:F3416)<=0,\"\",NETWORKDAYS(R3308+1,P3308,Hoja1!F3300:F3416)),0)","v":""},null,null,{"$f":"IFERROR(VLOOKUP(L3308,Hoja1!$A$50:$C$63,2),\"\")","v":""},{"$f":"IFERROR(VLOOKUP(L3308,Hoja1!$A$50:$C$63,3),\"\")","v":""}]
[null,null,null,null,null,null,null,null,null,null,null,null,null,null,null,null,null,null,null,null,null,{"$f":"IFERROR(WORKDAY(T3311,AE3311,Hoja1!F3303:F3419),\"\")","v":""},"",null,"",{"$f":"IF(P3311=\"\",\"\",NETWORKDAYS(C3311+1,P3311,Hoja1!F3303:F3419))","v":""},{"$f":"IFERROR(IF(NETWORKDAYS(R3311+1,P3311,Hoja1!F3303:F3419)<=0,\"\",NETWORKDAYS(R3311+1,P3311,Hoja1!F3303:F3419)),0)","v":""},null,null,{"$f":"IFERROR(VLOOKUP(L3311,Hoja1!$A$50:$C$63,2),\"\")","v":""},{"$f":"IFERROR(VLOOKUP(L3311,Hoja1!$A$50:$C$63,3),\"\")","v":""}]
[null,null,null,null,null,null,null,null,null,null,null,null,null,null,null,null,null,null,null,null,null,{"$f":"IFERROR(WORKDAY(T3316,AE3316,Hoja1!F3308:F3424),\"\")","v":""},"",null,"",{"$f":"IF(P3316=\"\",\"\",NETWORKDAYS(C3316+1,P3316,Hoja1!F3308:F3424))","v":""},{"$f":"IFERROR(IF(NETWORKDAYS(R3316+1,P3316,Hoja1!F3308:F3424)<=0,\"\",NETWORKDAYS(R3316+1,P3316,Hoja1!F3308:F3424)),0)","v":""},null,null,{"$f":"IFERROR(VLOOKUP(L3316,Hoja1!$A$50:$C$63,2),\"\")","v":""},{"$f":"IFERROR(VLOOKUP(L3316,Hoja1!$A$50:$C$63,3),\"\")","v":""}]
[null,null,null,null,null,null,null,null,null,null,null,null,null,null,null,null,null,null,null,null,null,{"$f":"IFERROR(WORKDAY(T3317,AE3317,Hoja1!F3309:F3425),\"\")","v":""},"",null,"",{"$f":"IF(P3317=\"\",\"\",NETWORKDAYS(C3317+1,P3317,Hoja1!F3309:F3425))","v":""},{"$f":"IFERROR(IF(NETWORKDAYS(R3317+1,P3317,Hoja1!F3309:F3425)<=0,\"\",NETWORKDAYS(R3317+1,P3317,Hoja1!F3309:F3425)),0)","v":""},null,null,{"$f":"IFERROR(VLOOKUP(L3317,Hoja1!$A$50:$C$63,2),\"\")","v":""},{"$f":"IFERROR(VLOOKUP(L3317,Hoja1!$A$50:$C$63,3),\"\")","v":""}]
[null,null,null,null,null,null,null,null,null,null,null,null,null,null,null,null,null,null,null,null,null,{"$f":"IFERROR(WORKDAY(T3323,AE3323,Hoja1!F3315:F3431),\"\")","v":""},"",null,"",{"$f":"IF(P3323=\"\",\"\",NETWORKDAYS(C3323+1,P3323,Hoja1!F3315:F3431))","v":""},{"$f":"IFERROR(IF(NETWORKDAYS(R3323+1,P3323,Hoja1!F3315:F3431)<=0,\"\",NETWORKDAYS(R3323+1,P3323,Hoja1!F3315:F3431)),0)","v":""},null,null,{"$f":"IFERROR(VLOOKUP(L3323,Hoja1!$A$50:$C$63,2),\"\")","v":""},{"$f":"IFERROR(VLOOKUP(L3323,Hoja1!$A$50:$C$63,3),\"\")","v":""}]
[null,null,null,null,null,null,null,null,null,null,null,null,null,null,null,null,null,null,null,null,null,{"$f":"IFERROR(WORKDAY(T3327,AE3327,Hoja1!F3319:F3435),\"\")","v":""},"",null,"",{"$f":"IF(P3327=\"\",\"\",NETWORKDAYS(C3327+1,P3327,Hoja1!F3319:F3435))","v":""},{"$f":"IFERROR(IF(NETWORKDAYS(R3327+1,P3327,Hoja1!F3319:F3435)<=0,\"\",NETWORKDAYS(R3327+1,P3327,Hoja1!F3319:F3435)),0)","v":""},null,null,{"$f":"IFERROR(VLOOKUP(L3327,Hoja1!$A$50:$C$63,2),\"\")","v":""},{"$f":"IFERROR(VLOOKUP(L3327,Hoja1!$A$50:$C$63,3),\"\")","v":""}]
[null,null,null,null,null,null,null,null,null,null,null,null,null,null,null,null,null,null,null,null,null,{"$f":"IFERROR(WORKDAY(T3334,AE3334,Hoja1!F3326:F3442),\"\")","v":""},"",null,"",{"$f":"IF(P3334=\"\",\"\",NETWORKDAYS(C3334+1,P3334,Hoja1!F3326:F3442))","v":""},{"$f":"IFERROR(IF(NETWORKDAYS(R3334+1,P3334,Hoja1!F3326:F3442)<=0,\"\",NETWORKDAYS(R3334+1,P3334,Hoja1!F3326:F3442)),0)","v":""},null,null,{"$f":"IFERROR(VLOOKUP(L3334,Hoja1!$A$50:$C$63,2),\"\")","v":""},{"$f":"IFERROR(VLOOKUP(L3334,Hoja1!$A$50:$C$63,3),\"\")","v":""}]
[null,null,null,null,null,null,null,null,null,null,null,null,null,null,null,null,null,null,null,null,null,{"$f":"IFERROR(WORKDAY(T3337,AE3337,Hoja1!F3329:F3445),\"\")","v":""},"",null,"",{"$f":"IF(P3337=\"\",\"\",NETWORKDAYS(C3337+1,P3337,Hoja1!F3329:F3445))","v":""},{"$f":"IFERROR(IF(NETWORKDAYS(R3337+1,P3337,Hoja1!F3329:F3445)<=0,\"\",NETWORKDAYS(R3337+1,P3337,Hoja1!F3329:F3445)),0)","v":""},null,null,{"$f":"IFERROR(VLOOKUP(L3337,Hoja1!$A$50:$C$63,2),\"\")","v":""},{"$f":"IFERROR(VLOOKUP(L3337,Hoja1!$A$50:$C$63,3),\"\")","v":""}]
[null,null,null,null,null,null,null,null,null,null,null,null,null,null,null,null,null,null,null,null,null,{"$f":"IFERROR(WORKDAY(T3341,AE3341,Hoja1!F3333:F3449),\"\")","v":""},"",null,"",{"$f":"IF(P3341=\"\",\"\",NETWORKDAYS(C3341+1,P3341,Hoja1!F3333:F3449))","v":""},{"$f":"IFERROR(IF(NETWORKDAYS(R3341+1,P3341,Hoja1!F3333:F3449)<=0,\"\",NETWORKDAYS(R3341+1,P3341,Hoja1!F3333:F3449)),0)","v":""},null,null,{"$f":"IFERROR(VLOOKUP(L3341,Hoja1!$A$50:$C$63,2),\"\")","v":""},{"$f":"IFERROR(VLOOKUP(L3341,Hoja1!$A$50:$C$63,3),\"\")","v":""}]
[null,null,null,null,null,null,null,null,null,null,null,null,null,null,null,null,null,null,null,null,null,{"$f":"IFERROR(WORKDAY(T3346,AE3346,Hoja1!F3338:F3454),\"\")","v":""},"",null,"",{"$f":"IF(P3346=\"\",\"\",NETWORKDAYS(C3346+1,P3346,Hoja1!F3338:F3454))","v":""},{"$f":"IFERROR(IF(NETWORKDAYS(R3346+1,P3346,Hoja1!F3338:F3454)<=0,\"\",NETWORKDAYS(R3346+1,P3346,Hoja1!F3338:F3454)),0)","v":""},null,null,{"$f":"IFERROR(VLOOKUP(L3346,Hoja1!$A$50:$C$63,2),\"\")","v":""},{"$f":"IFERROR(VLOOKUP(L3346,Hoja1!$A$50:$C$63,3),\"\")","v":""}]
[null,null,null,null,null,null,null,null,null,null,null,null,null,null,null,null,null,null,null,null,null,{"$f":"IFERROR(WORKDAY(T3351,AE3351,Hoja1!F3343:F3459),\"\")","v":""},"",null,"",{"$f":"IF(P3351=\"\",\"\",NETWORKDAYS(C3351+1,P3351,Hoja1!F3343:F3459))","v":""},{"$f":"IFERROR(IF(NETWORKDAYS(R3351+1,P3351,Hoja1!F3343:F3459)<=0,\"\",NETWORKDAYS(R3351+1,P3351,Hoja1!F3343:F3459)),0)","v":""},null,null,{"$f":"IFERROR(VLOOKUP(L3351,Hoja1!$A$50:$C$63,2),\"\")","v":""},{"$f":"IFERROR(VLOOKUP(L3351,Hoja1!$A$50:$C$63,3),\"\")","v":""}]
[null,null,null,null,null,null,null,null,null,null,null,null,null,null,null,null,null,{"$f":"IFERROR(WORKDAY(C3353,AD3353,Hoja1!F3345:F3461),\"\")+1","v":{"$error":"#VALUE!"}},null,null,null,{"$f":"IFERROR(WORKDAY(T3353,AE3353,Hoja1!F3345:F3461),\"\")","v":""},"",null,"",{"$f":"IF(P3353=\"\",\"\",NETWORKDAYS(C3353+1,P3353,Hoja1!F3345:F3461))","v":""},{"$f":"IFERROR(IF(NETWORKDAYS(R3353+1,P3353,Hoja1!F3345:F3461)<=0,\"\",NETWORKDAYS(R3353+1,P3353,Hoja1!F3345:F3461)),0)","v":0},null,null,{"$f":"IFERROR(VLOOKUP(L3353,Hoja1!$A$50:$C$63,2),\"\")","v":""},{"$f":"IFERROR(VLOOKUP(L3353,Hoja1!$A$50:$C$63,3),\"\")","v":""}]
[null,null,null,null,null,null,null,null,null,null,null,null,null,null,null,null,null,{"$f":"IFERROR(WORKDAY(C3361,AD3361,Hoja1!F3353:F3469),\"\")+1","v":{"$error":"#VALUE!"}},null,null,null,{"$f":"IFERROR(WORKDAY(T3361,AE3361,Hoja1!F3353:F3469),\"\")","v":""},"",null,"",{"$f":"IF(P3361=\"\",\"\",NETWORKDAYS(C3361+1,P3361,Hoja1!F3353:F3469))","v":""},{"$f":"IFERROR(IF(NETWORKDAYS(R3361+1,P3361,Hoja1!F3353:F3469)<=0,\"\",NETWORKDAYS(R3361+1,P3361,Hoja1!F3353:F3469)),0)","v":0},null,null,{"$f":"IFERROR(VLOOKUP(L3361,Hoja1!$A$50:$C$63,2),\"\")","v":""},{"$f":"IFERROR(VLOOKUP(L3361,Hoja1!$A$50:$C$63,3),\"\")","v":""}]
[null,null,null,null,null,null,null,null,null,null,null,null,null,null,null,null,null,{"$f":"IFERROR(WORKDAY(C3364,AD3364,Hoja1!F3356:F3472),\"\")+1","v":{"$error":"#VALUE!"}},null,null,null,{"$f":"IFERROR(WORKDAY(T3364,AE3364,Hoja1!F3356:F3472),\"\")","v":""},"",null,"",{"$f":"IF(P3364=\"\",\"\",NETWORKDAYS(C3364+1,P3364,Hoja1!F3356:F3472))","v":""},{"$f":"IFERROR(IF(NETWORKDAYS(R3364+1,P3364,Hoja1!F3356:F3472)<=0,\"\",NETWORKDAYS(R3364+1,P3364,Hoja1!F3356:F3472)),0)","v":0},null,null,{"$f":"IFERROR(VLOOKUP(L3364,Hoja1!$A$50:$C$63,2),\"\")","v":""},{"$f":"IFERROR(VLOOKUP(L3364,Hoja1!$A$50:$C$63,3),\"\")","v":""}]
[null,null,null,null,null,null,null,null,null,null,null,null,null,null,null,null,null,{"$f":"IFERROR(WORKDAY(C3370,AD3370,Hoja1!F3362:F3478),\"\")+1","v":{"$error":"#VALUE!"}},null,null,null,{"$f":"IFERROR(WORKDAY(T3370,AE3370,Hoja1!F3362:F3478),\"\")","v":""},"",null,"",{"$f":"IF(P3370=\"\",\"\",NETWORKDAYS(C3370+1,P3370,Hoja1!F3362:F3478))","v":""},{"$f":"IFERROR(IF(NETWORKDAYS(R3370+1,P3370,Hoja1!F3362:F3478)<=0,\"\",NETWORKDAYS(R3370+1,P3370,Hoja1!F3362:F3478)),0)","v":0},null,null,{"$f":"IFERROR(VLOOKUP(L3370,Hoja1!$A$50:$C$63,2),\"\")","v":""},{"$f":"IFERROR(VLOOKUP(L3370,Hoja1!$A$50:$C$63,3),\"\")","v":""}]
[null,null,null,null,null,null,null,null,null,null,null,null,null,null,null,null,null,{"$f":"IFERROR(WORKDAY(C3371,AD3371,Hoja1!F3363:F3479),\"\")+1","v":{"$error":"#VALUE!"}},null,null,null,{"$f":"IFERROR(WORKDAY(T3371,AE3371,Hoja1!F3363:F3479),\"\")","v":""},"",null,"",{"$f":"IF(P3371=\"\",\"\",NETWORKDAYS(C3371+1,P3371,Hoja1!F3363:F3479))","v":""},{"$f":"IFERROR(IF(NETWORKDAYS(R3371+1,P3371,Hoja1!F3363:F3479)<=0,\"\",NETWORKDAYS(R3371+1,P3371,Hoja1!F3363:F3479)),0)","v":0},null,null,{"$f":"IFERROR(VLOOKUP(L3371,Hoja1!$A$50:$C$63,2),\"\")","v":""},{"$f":"IFERROR(VLOOKUP(L3371,Hoja1!$A$50:$C$63,3),\"\")","v":""}]
[null,null,null,null,null,null,null,null,null,null,null,null,null,null,null,null,null,{"$f":"IFERROR(WORKDAY(C3376,AD3376,Hoja1!F3368:F3484),\"\")+1","v":{"$error":"#VALUE!"}},null,null,null,{"$f":"IFERROR(WORKDAY(T3376,AE3376,Hoja1!F3368:F3484),\"\")","v":""},"",null,"",{"$f":"IF(P3376=\"\",\"\",NETWORKDAYS(C3376+1,P3376,Hoja1!F3368:F3484))","v":""},{"$f":"IFERROR(IF(NETWORKDAYS(R3376+1,P3376,Hoja1!F3368:F3484)<=0,\"\",NETWORKDAYS(R3376+1,P3376,Hoja1!F3368:F3484)),0)","v":0},null,null,{"$f":"IFERROR(VLOOKUP(L3376,Hoja1!$A$50:$C$63,2),\"\")","v":""},{"$f":"IFERROR(VLOOKUP(L3376,Hoja1!$A$50:$C$63,3),\"\")","v":""}]
[null,null,null,null,null,null,null,null,null,null,null,null,null,null,null,null,null,{"$f":"IFERROR(WORKDAY(C3380,AD3380,Hoja1!F3372:F3488),\"\")+1","v":{"$error":"#VALUE!"}},null,null,null,{"$f":"IFERROR(WORKDAY(T3380,AE3380,Hoja1!F3372:F3488),\"\")","v":""},"",null,"",{"$f":"IF(P3380=\"\",\"\",NETWORKDAYS(C3380+1,P3380,Hoja1!F3372:F3488))","v":""},{"$f":"IFERROR(IF(NETWORKDAYS(R3380+1,P3380,Hoja1!F3372:F3488)<=0,\"\",NETWORKDAYS(R3380+1,P3380,Hoja1!F3372:F3488)),0)","v":0},null,null,{"$f":"IFERROR(VLOOKUP(L3380,Hoja1!$A$50:$C$63,2),\"\")","v":""},{"$f":"IFERROR(VLOOKUP(L3380,Hoja1!$A$50:$C$63,3),\"\")","v":""}]
[null,null,null,null,null,null,null,null,null,null,null,null,null,null,null,null,null,{"$f":"IFERROR(WORKDAY(C3387,AD3387,Hoja1!F3379:F3495),\"\")+1","v":{"$error":"#VALUE!"}},null,null,null,{"$f":"IFERROR(WORKDAY(T3387,AE3387,Hoja1!F3379:F3495),\"\")","v":""},"",null,"",{"$f":"IF(P3387=\"\",\"\",NETWORKDAYS(C3387+1,P3387,Hoja1!F3379:F3495))","v":""},{"$f":"IFERROR(IF(NETWORKDAYS(R3387+1,P3387,Hoja1!F3379:F3495)<=0,\"\",NETWORKDAYS(R3387+1,P3387,Hoja1!F3379:F3495)),0)","v":0},null,null,{"$f":"IFERROR(VLOOKUP(L3387,Hoja1!$A$50:$C$63,2),\"\")","v":""},{"$f":"IFERROR(VLOOKUP(L3387,Hoja1!$A$50:$C$63,3),\"\")","v":""}]
[null,null,null,null,null,null,null,null,null,null,null,null,null,null,null,null,null,{"$f":"IFERROR(WORKDAY(C3389,AD3389,Hoja1!F3381:F3497),\"\")+1","v":{"$error":"#VALUE!"}},null,null,null,{"$f":"IFERROR(WORKDAY(T3389,AE3389,Hoja1!F3381:F3497),\"\")","v":""},"",null,"",{"$f":"IF(P3389=\"\",\"\",NETWORKDAYS(C3389+1,P3389,Hoja1!F3381:F3497))","v":""},{"$f":"IFERROR(IF(NETWORKDAYS(R3389+1,P3389,Hoja1!F3381:F3497)<=0,\"\",NETWORKDAYS(R3389+1,P3389,Hoja1!F3381:F3497)),0)","v":0},null,null,{"$f":"IFERROR(VLOOKUP(L3389,Hoja1!$A$50:$C$63,2),\"\")","v":""},{"$f":"IFERROR(VLOOKUP(L3389,Hoja1!$A$50:$C$63,3),\"\")","v":""}]
[null,null,null,null,null,null,null,null,null,null,null,null,null,null,null,null,null,{"$f":"IFERROR(WORKDAY(C3394,AD3394,Hoja1!F3386:F3502),\"\")+1","v":{"$error":"#VALUE!"}},null,null,null,{"$f":"IFERROR(WORKDAY(T3394,AE3394,Hoja1!F3386:F3502),\"\")","v":""},"",null,"",{"$f":"IF(P3394=\"\",\"\",NETWORKDAYS(C3394+1,P3394,Hoja1!F3386:F3502))","v":""},{"$f":"IFERROR(IF(NETWORKDAYS(R3394+1,P3394,Hoja1!F3386:F3502)<=0,\"\",NETWORKDAYS(R3394+1,P3394,Hoja1!F3386:F3502)),0)","v":0},null,null,{"$f":"IFERROR(VLOOKUP(L3394,Hoja1!$A$50:$C$63,2),\"\")","v":""},{"$f":"IFERROR(VLOOKUP(L3394,Hoja1!$A$50:$C$63,3),\"\")","v":""}]
[null,null,null,null,null,null,null,null,null,null,null,null,null,null,null,null,null,{"$f":"IFERROR(WORKDAY(C3399,AD3399,Hoja1!F3391:F3507),\"\")+1","v":{"$error":"#VALUE!"}},null,null,null,{"$f":"IFERROR(WORKDAY(T3399,AE3399,Hoja1!F3391:F3507),\"\")","v":""},"",null,"",{"$f":"IF(P3399=\"\",\"\",NETWORKDAYS(C3399+1,P3399,Hoja1!F3391:F3507))","v":""},{"$f":"IFERROR(IF(NETWORKDAYS(R3399+1,P3399,Hoja1!F3391:F3507)<=0,\"\",NETWORKDAYS(R3399+1,P3399,Hoja1!F3391:F3507)),0)","v":0},null,null,{"$f":"IFERROR(VLOOKUP(L3399,Hoja1!$A$50:$C$63,2),\"\")","v":""},{"$f":"IFERROR(VLOOKUP(L3399,Hoja1!$A$50:$C$63,3),\"\")","v":""}]
[null,null,null,null,null,null,null,null,null,null,null,null,null,null,null,null,null,{"$f":"IFERROR(WORKDAY(C3405,AD3405,Hoja1!F3397:F3513),\"\")+1","v":{"$error":"#VALUE!"}},null,null,null,{"$f":"IFERROR(WORKDAY(T3405,AE3405,Hoja1!F3397:F3513),\"\")","v":""},"",null,"",{"$f":"IF(P3405=\"\",\"\",NETWORKDAYS(C3405+1,P3405,Hoja1!F3397:F3513))","v":""},{"$f":"IFERROR(IF(NETWORKDAYS(R3405+1,P3405,Hoja1!F3397:F3513)<=0,\"\",NETWORKDAYS(R3405+1,P3405,Hoja1!F3397:F3513)),0)","v":0},null,null,{"$f":"IFERROR(VLOOKUP(L3405,Hoja1!$A$50:$C$63,2),\"\")","v":""},{"$f":"IFERROR(VLOOKUP(L3405,Hoja1!$A$50:$C$63,3),\"\")","v":""}]
[null,null,null,null,null,null,null,null,null,null,null,null,null,null,null,null,null,{"$f":"IFERROR(WORKDAY(C3406,AD3406,Hoja1!F3398:F3514),\"\")+1","v":{"$error":"#VALUE!"}},null,null,null,{"$f":"IFERROR(WORKDAY(T3406,AE3406,Hoja1!F3398:F3514),\"\")","v":""},"",null,"",{"$f":"IF(P3406=\"\",\"\",NETWORKDAYS(C3406+1,P3406,Hoja1!F3398:F3514))","v":""},{"$f":"IFERROR(IF(NETWORKDAYS(R3406+1,P3406,Hoja1!F3398:F3514)<=0,\"\",NETWORKDAYS(R3406+1,P3406,Hoja1!F3398:F3514)),0)","v":0},null,null,{"$f":"IFERROR(VLOOKUP(L3406,Hoja1!$A$50:$C$63,2),\"\")","v":""},{"$f":"IFERROR(VLOOKUP(L3406,Hoja1!$A$50:$C$63,3),\"\")","v":""}]
[null,null,null,null,null,null,null,null,null,null,null,null,null,null,null,null,null,{"$f":"IFERROR(WORKDAY(C3413,AD3413,Hoja1!F3405:F3521),\"\")+1","v":{"$error":"#VALUE!"}},null,null,null,{"$f":"IFERROR(WORKDAY(T3413,AE3413,Hoja1!F3405:F3521),\"\")","v":""},"",null,"",{"$f":"IF(P3413=\"\",\"\",NETWORKDAYS(C3413+1,P3413,Hoja1!F3405:F3521))","v":""},{"$f":"IFERROR(IF(NETWORKDAYS(R3413+1,P3413,Hoja1!F3405:F3521)<=0,\"\",NETWORKDAYS(R3413+1,P3413,Hoja1!F3405:F3521)),0)","v":0},null,null,{"$f":"IFERROR(VLOOKUP(L3413,Hoja1!$A$50:$C$63,2),\"\")","v":""},{"$f":"IFERROR(VLOOKUP(L3413,Hoja1!$A$50:$C$63,3),\"\")","v":""}]
[null,null,null,null,null,null,null,null,null,null,null,null,null,null,null,null,null,{"$f":"IFERROR(WORKDAY(C3417,AD3417,Hoja1!F3409:F3525),\"\")+1","v":{"$error":"#VALUE!"}},null,null,null,{"$f":"IFERROR(WORKDAY(T3417,AE3417,Hoja1!F3409:F3525),\"\")","v":""},"",null,"",{"$f":"IF(P3417=\"\",\"\",NETWORKDAYS(C3417+1,P3417,Hoja1!F3409:F3525))","v":""},{"$f":"IFERROR(IF(NETWORKDAYS(R3417+1,P3417,Hoja1!F3409:F3525)<=0,\"\",NETWORKDAYS(R3417+1,P3417,Hoja1!F3409:F3525)),0)","v":0},null,null,{"$f":"IFERROR(VLOOKUP(L3417,Hoja1!$A$50:$C$63,2),\"\")","v":""},{"$f":"IFERROR(VLOOKUP(L3417,Hoja1!$A$50:$C$63,3),\"\")","v":""}]
[null,null,null,null,null,null,null,null,null,null,null,null,null,null,null,null,null,{"$f":"IFERROR(WORKDAY(C3423,AD3423,Hoja1!F3415:F3531),\"\")+1","v":{"$error":"#VALUE!"}},null,null,null,{"$f":"IFERROR(WORKDAY(T3423,AE3423,Hoja1!F3415:F3531),\"\")","v":""},"",null,"",{"$f":"IF(P3423=\"\",\"\",NETWORKDAYS(C3423+1,P3423,Hoja1!F3415:F3531))","v":""},{"$f":"IFERROR(IF(NETWORKDAYS(R3423+1,P3423,Hoja1!F3415:F3531)<=0,\"\",NETWORKDAYS(R3423+1,P3423,Hoja1!F3415:F3531)),0)","v":0},null,null,{"$f":"IFERROR(VLOOKUP(L3423,Hoja1!$A$50:$C$63,2),\"\")","v":""},{"$f":"IFERROR(VLOOKUP(L3423,Hoja1!$A$50:$C$63,3),\"\")","v":""}]
[null,null,null,null,null,null,null,null,null,null,null,null,null,null,null,null,null,{"$f":"IFERROR(WORKDAY(C3424,AD3424,Hoja1!F3416:F3532),\"\")+1","v":{"$error":"#VALUE!"}},null,null,null,{"$f":"IFERROR(WORKDAY(T3424,AE3424,Hoja1!F3416:F3532),\"\")","v":""},"",null,"",{"$f":"IF(P3424=\"\",\"\",NETWORKDAYS(C3424+1,P3424,Hoja1!F3416:F3532))","v":""},{"$f":"IFERROR(IF(NETWORKDAYS(R3424+1,P3424,Hoja1!F3416:F3532)<=0,\"\",NETWORKDAYS(R3424+1,P3424,Hoja1!F3416:F3532)),0)","v":0},null,null,{"$f":"IFERROR(VLOOKUP(L3424,Hoja1!$A$50:$C$63,2),\"\")","v":""},{"$f":"IFERROR(VLOOKUP(L3424,Hoja1!$A$50:$C$63,3),\"\")","v":""}]
[null,null,null,null,null,null,null,null,null,null,null,null,null,null,null,null,null,{"$f":"IFERROR(WORKDAY(C3428,AD3428,Hoja1!F3420:F3536),\"\")+1","v":{"$error":"#VALUE!"}},null,null,null,{"$f":"IFERROR(WORKDAY(T3428,AE3428,Hoja1!F3420:F3536),\"\")","v":""},"",null,"",{"$f":"IF(P3428=\"\",\"\",NETWORKDAYS(C3428+1,P3428,Hoja1!F3420:F3536))","v":""},{"$f":"IFERROR(IF(NETWORKDAYS(R3428+1,P3428,Hoja1!F3420:F3536)<=0,\"\",NETWORKDAYS(R3428+1,P3428,Hoja1!F3420:F3536)),0)","v":0},null,null,{"$f":"IFERROR(VLOOKUP(L3428,Hoja1!$A$50:$C$63,2),\"\")","v":""},{"$f":"IFERROR(VLOOKUP(L3428,Hoja1!$A$50:$C$63,3),\"\")","v":""}]
[null,null,null,null,null,null,null,null,null,null,null,null,null,null,null,null,null,{"$f":"IFERROR(WORKDAY(C3435,AD3435,Hoja1!F3427:F3543),\"\")+1","v":{"$error":"#VALUE!"}},null,null,null,{"$f":"IFERROR(WORKDAY(T3435,AE3435,Hoja1!F3427:F3543),\"\")","v":""},"",null,"",{"$f":"IF(P3435=\"\",\"\",NETWORKDAYS(C3435+1,P3435,Hoja1!F3427:F3543))","v":""},{"$f":"IFERROR(IF(NETWORKDAYS(R3435+1,P3435,Hoja1!F3427:F3543)<=0,\"\",NETWORKDAYS(R3435+1,P3435,Hoja1!F3427:F3543)),0)","v":0},null,null,{"$f":"IFERROR(VLOOKUP(L3435,Hoja1!$A$50:$C$63,2),\"\")","v":""},{"$f":"IFERROR(VLOOKUP(L3435,Hoja1!$A$50:$C$63,3),\"\")","v":""}]
[null,null,null,null,null,null,null,null,null,null,null,null,null,null,null,null,null,{"$f":"IFERROR(WORKDAY(C3440,AD3440,Hoja1!F3432:F3548),\"\")+1","v":{"$error":"#VALUE!"}},null,null,null,{"$f":"IFERROR(WORKDAY(T3440,AE3440,Hoja1!F3432:F3548),\"\")","v":""},"",null,"",{"$f":"IF(P3440=\"\",\"\",NETWORKDAYS(C3440+1,P3440,Hoja1!F3432:F3548))","v":""},{"$f":"IFERROR(IF(NETWORKDAYS(R3440+1,P3440,Hoja1!F3432:F3548)<=0,\"\",NETWORKDAYS(R3440+1,P3440,Hoja1!F3432:F3548)),0)","v":0},null,null,{"$f":"IFERROR(VLOOKUP(L3440,Hoja1!$A$50:$C$63,2),\"\")","v":""},{"$f":"IFERROR(VLOOKUP(L3440,Hoja1!$A$50:$C$63,3),\"\")","v":""}]
[null,null,null,null,null,null,null,null,null,null,null,null,null,null,null,null,null,{"$f":"IFERROR(WORKDAY(C3442,AD3442,Hoja1!F3434:F3550),\"\")+1","v":{"$error":"#VALUE!"}},null,null,null,{"$f":"IFERROR(WORKDAY(T3442,AE3442,Hoja1!F3434:F3550),\"\")","v":""},"",null,"",{"$f":"IF(P3442=\"\",\"\",NETWORKDAYS(C3442+1,P3442,Hoja1!F3434:F3550))","v":""},{"$f":"IFERROR(IF(NETWORKDAYS(R3442+1,P3442,Hoja1!F3434:F3550)<=0,\"\",NETWORKDAYS(R3442+1,P3442,Hoja1!F3434:F3550)),0)","v":0},null,null,{"$f":"IFERROR(VLOOKUP(L3442,Hoja1!$A$50:$C$63,2),\"\")","v":""},{"$f":"IFERROR(VLOOKUP(L3442,Hoja1!$A$50:$C$63,3),\"\")","v":""}]
[null,null,null,null,null,null,null,null,null,null,null,null,null,null,null,null,null,{"$f":"IFERROR(WORKDAY(C3447,AD3447,Hoja1!F3439:F3555),\"\")+1","v":{"$error":"#VALUE!"}},null,null,null,{"$f":"IFERROR(WORKDAY(T3447,AE3447,Hoja1!F3439:F3555),\"\")","v":""},"",null,"",{"$f":"IF(P3447=\"\",\"\",NETWORKDAYS(C3447+1,P3447,Hoja1!F3439:F3555))","v":""},{"$f":"IFERROR(IF(NETWORKDAYS(R3447+1,P3447,Hoja1!F3439:F3555)<=0,\"\",NETWORKDAYS(R3447+1,P3447,Hoja1!F3439:F3555)),0)","v":0},null,null,{"$f":"IFERROR(VLOOKUP(L3447,Hoja1!$A$50:$C$63,2),\"\")","v":""},{"$f":"IFERROR(VLOOKUP(L3447,Hoja1!$A$50:$C$63,3),\"\")","v":""}]
[null,null,null,null,null,null,null,null,null,null,null,null,null,null,null,null,null,{"$f":"IFERROR(WORKDAY(C3452,AD3452,Hoja1!F3444:F3560),\"\")+1","v":{"$error":"#VALUE!"}},null,null,null,{"$f":"IFERROR(WORKDAY(T3452,AE3452,Hoja1!F3444:F3560),\"\")","v":""},"",null,"",{"$f":"IF(P3452=\"\",\"\",NETWORKDAYS(C3452+1,P3452,Hoja1!F3444:F3560))","v":""},{"$f":"IFERROR(IF(NETWORKDAYS(R3452+1,P3452,Hoja1!F3444:F3560)<=0,\"\",NETWORKDAYS(R3452+1,P3452,Hoja1!F3444:F3560)),0)","v":0},null,null,{"$f":"IFERROR(VLOOKUP(L3452,Hoja1!$A$50:$C$63,2),\"\")","v":""},{"$f":"IFERROR(VLOOKUP(L3452,Hoja1!$A$50:$C$63,3),\"\")","v":""}]
[null,null,null,null,null,null,null,null,null,null,null,null,null,null,null,null,null,{"$f":"IFERROR(WORKDAY(C3458,AD3458,Hoja1!F3450:F3566),\"\")+1","v":{"$error":"#VALUE!"}},null,null,null,{"$f":"IFERROR(WORKDAY(T3458,AE3458,Hoja1!F3450:F3566),\"\")","v":""},"",null,"",{"$f":"IF(P3458=\"\",\"\",NETWORKDAYS(C3458+1,P3458,Hoja1!F3450:F3566))","v":""},{"$f":"IFERROR(IF(NETWORKDAYS(R3458+1,P3458,Hoja1!F3450:F3566)<=0,\"\",NETWORKDAYS(R3458+1,P3458,Hoja1!F3450:F3566)),0)","v":0},null,null,{"$f":"IFERROR(VLOOKUP(L3458,Hoja1!$A$50:$C$63,2),\"\")","v":""},{"$f":"IFERROR(VLOOKUP(L3458,Hoja1!$A$50:$C$63,3),\"\")","v":""}]
[null,null,null,null,null,null,null,null,null,null,null,null,null,null,null,null,null,{"$f":"IFERROR(WORKDAY(C3461,AD3461,Hoja1!F3453:F3569),\"\")+1","v":{"$error":"#VALUE!"}},null,null,null,{"$f":"IFERROR(WORKDAY(T3461,AE3461,Hoja1!F3453:F3569),\"\")","v":""},"",null,"",{"$f":"IF(P3461=\"\",\"\",NETWORKDAYS(C3461+1,P3461,Hoja1!F3453:F3569))","v":""},{"$f":"IFERROR(IF(NETWORKDAYS(R3461+1,P3461,Hoja1!F3453:F3569)<=0,\"\",NETWORKDAYS(R3461+1,P3461,Hoja1!F3453:F3569)),0)","v":0},null,null,{"$f":"IFERROR(VLOOKUP(L3461,Hoja1!$A$50:$C$63,2),\"\")","v":""},{"$f":"IFERROR(VLOOKUP(L3461,Hoja1!$A$50:$C$63,3),\"\")","v":""}]
[null,null,null,null,null,null,null,null,null,null,null,null,null,null,null,null,null,{"$f":"IFERROR(WORKDAY(C3465,AD3465,Hoja1!F3457:F3573),\"\")+1","v":{"$error":"#VALUE!"}},null,null,null,{"$f":"IFERROR(WORKDAY(T3465,AE3465,Hoja1!F3457:F3573),\"\")","v":""},"",null,"",{"$f":"IF(P3465=\"\",\"\",NETWORKDAYS(C3465+1,P3465,Hoja1!F3457:F3573))","v":""},{"$f":"IFERROR(IF(NETWORKDAYS(R3465+1,P3465,Hoja1!F3457:F3573)<=0,\"\",NETWORKDAYS(R3465+1,P3465,Hoja1!F3457:F3573)),0)","v":0},null,null,{"$f":"IFERROR(VLOOKUP(L3465,Hoja1!$A$50:$C$63,2),\"\")","v":""},{"$f":"IFERROR(VLOOKUP(L3465,Hoja1!$A$50:$C$63,3),\"\")","v":""}]
[null,null,null,null,null,null,null,null,null,null,null,null,null,null,null,null,null,{"$f":"IFERROR(WORKDAY(C3470,AD3470,Hoja1!F3462:F3578),\"\")+1","v":{"$error":"#VALUE!"}},null,null,null,{"$f":"IFERROR(WORKDAY(T3470,AE3470,Hoja1!F3462:F3578),\"\")","v":""},"",null,"",{"$f":"IF(P3470=\"\",\"\",NETWORKDAYS(C3470+1,P3470,Hoja1!F3462:F3578))","v":""},{"$f":"IFERROR(IF(NETWORKDAYS(R3470+1,P3470,Hoja1!F3462:F3578)<=0,\"\",NETWORKDAYS(R3470+1,P3470,Hoja1!F3462:F3578)),0)","v":0},null,null,{"$f":"IFERROR(VLOOKUP(L3470,Hoja1!$A$50:$C$63,2),\"\")","v":""},{"$f":"IFERROR(VLOOKUP(L3470,Hoja1!$A$50:$C$63,3),\"\")","v":""}]
[null,null,null,null,null,null,null,null,null,null,null,null,null,null,null,null,null,{"$f":"IFERROR(WORKDAY(C3476,AD3476,Hoja1!F3468:F3584),\"\")+1","v":{"$error":"#VALUE!"}},null,null,null,{"$f":"IFERROR(WORKDAY(T3476,AE3476,Hoja1!F3468:F3584),\"\")","v":""},"",null,"",{"$f":"IF(P3476=\"\",\"\",NETWORKDAYS(C3476+1,P3476,Hoja1!F3468:F3584))","v":""},{"$f":"IFERROR(IF(NETWORKDAYS(R3476+1,P3476,Hoja1!F3468:F3584)<=0,\"\",NETWORKDAYS(R3476+1,P3476,Hoja1!F3468:F3584)),0)","v":0},null,null,{"$f":"IFERROR(VLOOKUP(L3476,Hoja1!$A$50:$C$63,2),\"\")","v":""},{"$f":"IFERROR(VLOOKUP(L3476,Hoja1!$A$50:$C$63,3),\"\")","v":""}]
[null,null,null,null,null,null,null,null,null,null,null,null,null,null,null,null,null,{"$f":"IFERROR(WORKDAY(C3477,AD3477,Hoja1!F3469:F3585),\"\")+1","v":{"$error":"#VALUE!"}},null,null,null,{"$f":"IFERROR(WORKDAY(T3477,AE3477,Hoja1!F3469:F3585),\"\")","v":""},"",null,"",{"$f":"IF(P3477=\"\",\"\",NETWORKDAYS(C3477+1,P3477,Hoja1!F3469:F3585))","v":""},{"$f":"IFERROR(IF(NETWORKDAYS(R3477+1,P3477,Hoja1!F3469:F3585)<=0,\"\",NETWORKDAYS(R3477+1,P3477,Hoja1!F3469:F3585)),0)","v":0},null,null,{"$f":"IFERROR(VLOOKUP(L3477,Hoja1!$A$50:$C$63,2),\"\")","v":""},{"$f":"IFERROR(VLOOKUP(L3477,Hoja1!$A$50:$C$63,3),\"\")","v":""}]
[null,null,null,null,null,null,null,null,null,null,null,null,null,null,null,null,null,{"$f":"IFERROR(WORKDAY(C3485,AD3485,Hoja1!F3477:F3593),\"\")+1","v":{"$error":"#VALUE!"}},null,null,null,{"$f":"IFERROR(WORKDAY(T3485,AE3485,Hoja1!F3477:F3593),\"\")","v":""},"",null,"",{"$f":"IF(P3485=\"\",\"\",NETWORKDAYS(C3485+1,P3485,Hoja1!F3477:F3593))","v":""},{"$f":"IFERROR(IF(NETWORKDAYS(R3485+1,P3485,Hoja1!F3477:F3593)<=0,\"\",NETWORKDAYS(R3485+1,P3485,Hoja1!F3477:F3593)),0)","v":0},null,null,{"$f":"IFERROR(VLOOKUP(L3485,Hoja1!$A$50:$C$63,2),\"\")","v":""},{"$f":"IFERROR(VLOOKUP(L3485,Hoja1!$A$50:$C$63,3),\"\")","v":""}]
[null,null,null,null,null,null,null,null,null,null,null,null,null,null,null,null,null,{"$f":"IFERROR(WORKDAY(C3488,AD3488,Hoja1!F3480:F3596),\"\")+1","v":{"$error":"#VALUE!"}},null,null,null,{"$f":"IFERROR(WORKDAY(T3488,AE3488,Hoja1!F3480:F3596),\"\")","v":""},"",null,"",{"$f":"IF(P3488=\"\",\"\",NETWORKDAYS(C3488+1,P3488,Hoja1!F3480:F3596))","v":""},{"$f":"IFERROR(IF(NETWORKDAYS(R3488+1,P3488,Hoja1!F3480:F3596)<=0,\"\",NETWORKDAYS(R3488+1,P3488,Hoja1!F3480:F3596)),0)","v":0},null,null,{"$f":"IFERROR(VLOOKUP(L3488,Hoja1!$A$50:$C$63,2),\"\")","v":""},{"$f":"IFERROR(VLOOKUP(L3488,Hoja1!$A$50:$C$63,3),\"\")","v":""}]
[null,null,null,null,null,null,null,null,null,null,null,null,null,null,null,null,null,{"$f":"IFERROR(WORKDAY(C3490,AD3490,Hoja1!F3482:F3598),\"\")+1","v":{"$error":"#VALUE!"}},null,null,null,{"$f":"IFERROR(WORKDAY(T3490,AE3490,Hoja1!F3482:F3598),\"\")","v":""},"",null,"",{"$f":"IF(P3490=\"\",\"\",NETWORKDAYS(C3490+1,P3490,Hoja1!F3482:F3598))","v":""},{"$f":"IFERROR(IF(NETWORKDAYS(R3490+1,P3490,Hoja1!F3482:F3598)<=0,\"\",NETWORKDAYS(R3490+1,P3490,Hoja1!F3482:F3598)),0)","v":0},null,null,{"$f":"IFERROR(VLOOKUP(L3490,Hoja1!$A$50:$C$63,2),\"\")","v":""},{"$f":"IFERROR(VLOOKUP(L3490,Hoja1!$A$50:$C$63,3),\"\")","v":""}]
[null,null,null,null,null,null,null,null,null,null,null,null,null,null,null,null,null,{"$f":"IFERROR(WORKDAY(C3495,AD3495,Hoja1!F3487:F3603),\"\")+1","v":{"$error":"#VALUE!"}},null,null,null,{"$f":"IFERROR(WORKDAY(T3495,AE3495,Hoja1!F3487:F3603),\"\")","v":""},"",null,"",{"$f":"IF(P3495=\"\",\"\",NETWORKDAYS(C3495+1,P3495,Hoja1!F3487:F3603))","v":""},{"$f":"IFERROR(IF(NETWORKDAYS(R3495+1,P3495,Hoja1!F3487:F3603)<=0,\"\",NETWORKDAYS(R3495+1,P3495,Hoja1!F3487:F3603)),0)","v":0},null,null,{"$f":"IFERROR(VLOOKUP(L3495,Hoja1!$A$50:$C$63,2),\"\")","v":""},{"$f":"IFERROR(VLOOKUP(L3495,Hoja1!$A$50:$C$63,3),\"\")","v":""}]
[null,null,null,null,null,null,null,null,null,null,null,null,null,null,null,null,null,{"$f":"IFERROR(WORKDAY(C3500,AD3500,Hoja1!F3492:F3608),\"\")+1","v":{"$error":"#VALUE!"}},null,null,null,{"$f":"IFERROR(WORKDAY(T3500,AE3500,Hoja1!F3492:F3608),\"\")","v":""},"",null,"",{"$f":"IF(P3500=\"\",\"\",NETWORKDAYS(C3500+1,P3500,Hoja1!F3492:F3608))","v":""},{"$f":"IFERROR(IF(NETWORKDAYS(R3500+1,P3500,Hoja1!F3492:F3608)<=0,\"\",NETWORKDAYS(R3500+1,P3500,Hoja1!F3492:F3608)),0)","v":0},null,null,{"$f":"IFERROR(VLOOKUP(L3500,Hoja1!$A$50:$C$63,2),\"\")","v":""},{"$f":"IFERROR(VLOOKUP(L3500,Hoja1!$A$50:$C$63,3),\"\")","v":""}]
[null,null,null,null,null,null,null,null,null,null,null,null,null,null,null,null,null,{"$f":"IFERROR(WORKDAY(C3504,AD3504,Hoja1!F3496:F3612),\"\")+1","v":{"$error":"#VALUE!"}},null,null,null,{"$f":"IFERROR(WORKDAY(T3504,AE3504,Hoja1!F3496:F3612),\"\")","v":""},"",null,"",{"$f":"IF(P3504=\"\",\"\",NETWORKDAYS(C3504+1,P3504,Hoja1!F3496:F3612))","v":""},{"$f":"IFERROR(IF(NETWORKDAYS(R3504+1,P3504,Hoja1!F3496:F3612)<=0,\"\",NETWORKDAYS(R3504+1,P3504,Hoja1!F3496:F3612)),0)","v":0},null,null,{"$f":"IFERROR(VLOOKUP(L3504,Hoja1!$A$50:$C$63,2),\"\")","v":""},{"$f":"IFERROR(VLOOKUP(L3504,Hoja1!$A$50:$C$63,3),\"\")","v":""}]
[null,null,null,null,null,null,null,null,null,null,null,null,null,null,null,null,null,{"$f":"IFERROR(WORKDAY(C3511,AD3511,Hoja1!F3503:F3619),\"\")+1","v":{"$error":"#VALUE!"}},null,null,null,{"$f":"IFERROR(WORKDAY(T3511,AE3511,Hoja1!F3503:F3619),\"\")","v":""},"",null,"",{"$f":"IF(P3511=\"\",\"\",NETWORKDAYS(C3511+1,P3511,Hoja1!F3503:F3619))","v":""},{"$f":"IFERROR(IF(NETWORKDAYS(R3511+1,P3511,Hoja1!F3503:F3619)<=0,\"\",NETWORKDAYS(R3511+1,P3511,Hoja1!F3503:F3619)),0)","v":0},null,null,{"$f":"IFERROR(VLOOKUP(L3511,Hoja1!$A$50:$C$63,2),\"\")","v":""},{"$f":"IFERROR(VLOOKUP(L3511,Hoja1!$A$50:$C$63,3),\"\")","v":""}]
[null,null,null,null,null,null,null,null,null,null,null,null,null,null,null,null,null,{"$f":"IFERROR(WORKDAY(C3514,AD3514,Hoja1!F3506:F3622),\"\")+1","v":{"$error":"#VALUE!"}},null,null,null,{"$f":"IFERROR(WORKDAY(T3514,AE3514,Hoja1!F3506:F3622),\"\")","v":""},"",null,"",{"$f":"IF(P3514=\"\",\"\",NETWORKDAYS(C3514+1,P3514,Hoja1!F3506:F3622))","v":""},{"$f":"IFERROR(IF(NETWORKDAYS(R3514+1,P3514,Hoja1!F3506:F3622)<=0,\"\",NETWORKDAYS(R3514+1,P3514,Hoja1!F3506:F3622)),0)","v":0},null,null,{"$f":"IFERROR(VLOOKUP(L3514,Hoja1!$A$50:$C$63,2),\"\")","v":""},{"$f":"IFERROR(VLOOKUP(L3514,Hoja1!$A$50:$C$63,3),\"\")","v":""}]
[null,null,null,null,null,null,null,null,null,null,null,null,null,null,null,null,null,{"$f":"IFERROR(WORKDAY(C3518,AD3518,Hoja1!F3510:F3626),\"\")+1","v":{"$error":"#VALUE!"}},null,null,null,{"$f":"IFERROR(WORKDAY(T3518,AE3518,Hoja1!F3510:F3626),\"\")","v":""},"",null,"",{"$f":"IF(P3518=\"\",\"\",NETWORKDAYS(C3518+1,P3518,Hoja1!F3510:F3626))","v":""},{"$f":"IFERROR(IF(NETWORKDAYS(R3518+1,P3518,Hoja1!F3510:F3626)<=0,\"\",NETWORKDAYS(R3518+1,P3518,Hoja1!F3510:F3626)),0)","v":0},null,null,{"$f":"IFERROR(VLOOKUP(L3518,Hoja1!$A$50:$C$63,2),\"\")","v":""},{"$f":"IFERROR(VLOOKUP(L3518,Hoja1!$A$50:$C$63,3),\"\")","v":""}]
[null,null,null,null,null,null,null,null,null,null,null,null,null,null,null,null,null,{"$f":"IFERROR(WORKDAY(C3524,AD3524,Hoja1!F3516:F3632),\"\")+1","v":{"$error":"#VALUE!"}},null,null,null,{"$f":"IFERROR(WORKDAY(T3524,AE3524,Hoja1!F3516:F3632),\"\")","v":""},"",null,"",{"$f":"IF(P3524=\"\",\"\",NETWORKDAYS(C3524+1,P3524,Hoja1!F3516:F3632))","v":""},{"$f":"IFERROR(IF(NETWORKDAYS(R3524+1,P3524,Hoja1!F3516:F3632)<=0,\"\",NETWORKDAYS(R3524+1,P3524,Hoja1!F3516:F3632)),0)","v":0},null,null,{"$f":"IFERROR(VLOOKUP(L3524,Hoja1!$A$50:$C$63,2),\"\")","v":""},{"$f":"IFERROR(VLOOKUP(L3524,Hoja1!$A$50:$C$63,3),\"\")","v":""}]
[null,null,null,null,null,null,null,null,null,null,null,null,null,null,null,null,null,{"$f":"IFERROR(WORKDAY(C3529,AD3529,Hoja1!F3521:F3637),\"\")+1","v":{"$error":"#VALUE!"}},null,null,null,{"$f":"IFERROR(WORKDAY(T3529,AE3529,Hoja1!F3521:F3637),\"\")","v":""},"",null,"",{"$f":"IF(P3529=\"\",\"\",NETWORKDAYS(C3529+1,P3529,Hoja1!F3521:F3637))","v":""},{"$f":"IFERROR(IF(NETWORKDAYS(R3529+1,P3529,Hoja1!F3521:F3637)<=0,\"\",NETWORKDAYS(R3529+1,P3529,Hoja1!F3521:F3637)),0)","v":0},null,null,{"$f":"IFERROR(VLOOKUP(L3529,Hoja1!$A$50:$C$63,2),\"\")","v":""},{"$f":"IFERROR(VLOOKUP(L3529,Hoja1!$A$50:$C$63,3),\"\")","v":""}]
[null,null,null,null,null,null,null,null,null,null,null,null,null,null,null,null,null,{"$f":"IFERROR(WORKDAY(C3530,AD3530,Hoja1!F3522:F3638),\"\")+1","v":{"$error":"#VALUE!"}},null,null,null,{"$f":"IFERROR(WORKDAY(T3530,AE3530,Hoja1!F3522:F3638),\"\")","v":""},{"$f":"+IF(T3530=\"\",\"\",IF(U3530=\"\",\"SIN RESPUESTA\",(IF(U3530<=V3530,\"A TIEMPO\",\"FUERA DE TIEMPO\"))))","v":""},null,{"$f":"+IF(C3530=\"\",\"\",IF(P3530=\"\",\"SIN RESPUESTA\",(IF(P3530<=R3530,\"A TIEMPO\",\"FUERA DE TIEMPO\"))))","v":""},{"$f":"IF(P3530=\"\",\"\",NETWORKDAYS(C3530+1,P3530,Hoja1!F3522:F3638))","v":""},{"$f":"IFERROR(IF(NETWORKDAYS(R3530+1,P3530,Hoja1!F3522:F3638)<=0,\"\",NETWORKDAYS(R3530+1,P3530,Hoja1!F3522:F3638)),0)","v":0},null,null,{"$f":"IFERROR(VLOOKUP(L3530,Hoja1!$A$50:$C$63,2),\"\")","v":""},{"$f":"IFERROR(VLOOKUP(L3530,Hoja1!$A$50:$C$63,3),\"\")","v":""}]
[null,null,null,null,null,null,null,null,null,null,null,null,null,null,null,null,null,{"$f":"IFERROR(WORKDAY(C3538,AD3538,Hoja1!F3530:F3646),\"\")+1","v":{"$error":"#VALUE!"}},null,null,null,{"$f":"IFERROR(WORKDAY(T3538,AE3538,Hoja1!F3530:F3646),\"\")","v":""},"",null,"",{"$f":"IF(P3538=\"\",\"\",NETWORKDAYS(C3538+1,P3538,Hoja1!F3530:F3646))","v":""},{"$f":"IFERROR(IF(NETWORKDAYS(R3538+1,P3538,Hoja1!F3530:F3646)<=0,\"\",NETWORKDAYS(R3538+1,P3538,Hoja1!F3530:F3646)),0)","v":0},null,null,{"$f":"IFERROR(VLOOKUP(L3538,Hoja1!$A$50:$C$63,2),\"\")","v":""},{"$f":"IFERROR(VLOOKUP(L3538,Hoja1!$A$50:$C$63,3),\"\")","v":""}]
[null,null,null,null,null,null,null,null,null,null,null,null,null,null,null,null,null,{"$f":"IFERROR(WORKDAY(C3541,AD3541,Hoja1!F3533:F3649),\"\")+1","v":{"$error":"#VALUE!"}},null,null,null,{"$f":"IFERROR(WORKDAY(T3541,AE3541,Hoja1!F3533:F3649),\"\")","v":""},"",null,"",{"$f":"IF(P3541=\"\",\"\",NETWORKDAYS(C3541+1,P3541,Hoja1!F3533:F3649))","v":""},{"$f":"IFERROR(IF(NETWORKDAYS(R3541+1,P3541,Hoja1!F3533:F3649)<=0,\"\",NETWORKDAYS(R3541+1,P3541,Hoja1!F3533:F3649)),0)","v":0},null,null,{"$f":"IFERROR(VLOOKUP(L3541,Hoja1!$A$50:$C$63,2),\"\")","v":""},{"$f":"IFERROR(VLOOKUP(L3541,Hoja1!$A$50:$C$63,3),\"\")","v":""}]
[null,null,null,null,null,null,null,null,null,null,null,null,null,null,null,null,null,{"$f":"IFERROR(WORKDAY(C3543,AD3543,Hoja1!F3535:F3651),\"\")+1","v":{"$error":"#VALUE!"}},null,null,null,{"$f":"IFERROR(WORKDAY(T3543,AE3543,Hoja1!F3535:F3651),\"\")","v":""},"",null,"",{"$f":"IF(P3543=\"\",\"\",NETWORKDAYS(C3543+1,P3543,Hoja1!F3535:F3651))","v":""},{"$f":"IFERROR(IF(NETWORKDAYS(R3543+1,P3543,Hoja1!F3535:F3651)<=0,\"\",NETWORKDAYS(R3543+1,P3543,Hoja1!F3535:F3651)),0)","v":0},null,null,{"$f":"IFERROR(VLOOKUP(L3543,Hoja1!$A$50:$C$63,2),\"\")","v":""},{"$f":"IFERROR(VLOOKUP(L3543,Hoja1!$A$50:$C$63,3),\"\")","v":""}]
[null,null,null,null,null,null,null,null,null,null,null,null,null,null,null,null,null,{"$f":"IFERROR(WORKDAY(C3548,AD3548,Hoja1!F3540:F3656),\"\")+1","v":{"$error":"#VALUE!"}},null,null,null,{"$f":"IFERROR(WORKDAY(T3548,AE3548,Hoja1!F3540:F3656),\"\")","v":""},"",null,"",{"$f":"IF(P3548=\"\",\"\",NETWORKDAYS(C3548+1,P3548,Hoja1!F3540:F3656))","v":""},{"$f":"IFERROR(IF(NETWORKDAYS(R3548+1,P3548,Hoja1!F3540:F3656)<=0,\"\",NETWORKDAYS(R3548+1,P3548,Hoja1!F3540:F3656)),0)","v":0},null,null,{"$f":"IFERROR(VLOOKUP(L3548,Hoja1!$A$50:$C$63,2),\"\")","v":""},{"$f":"IFERROR(VLOOKUP(L3548,Hoja1!$A$50:$C$63,3),\"\")","v":""}]
[null,null,null,null,null,null,null,null,null,null,null,null,null,null,null,null,null,{"$f":"IFERROR(WORKDAY(C3553,AD3553,Hoja1!F3545:F3661),\"\")+1","v":{"$error":"#VALUE!"}},null,null,null,{"$f":"IFERROR(WORKDAY(T3553,AE3553,Hoja1!F3545:F3661),\"\")","v":""},"",null,"",{"$f":"IF(P3553=\"\",\"\",NETWORKDAYS(C3553+1,P3553,Hoja1!F3545:F3661))","v":""},{"$f":"IFERROR(IF(NETWORKDAYS(R3553+1,P3553,Hoja1!F3545:F3661)<=0,\"\",NETWORKDAYS(R3553+1,P3553,Hoja1!F3545:F3661)),0)","v":0},null,null,{"$f":"IFERROR(VLOOKUP(L3553,Hoja1!$A$50:$C$63,2),\"\")","v":""},{"$f":"IFERROR(VLOOKUP(L3553,Hoja1!$A$50:$C$63,3),\"\")","v":""}]
[null,null,null,null,null,null,null,null,null,null,null,null,null,null,null,null,null,{"$f":"IFERROR(WORKDAY(C3559,AD3559,Hoja1!F3551:F3667),\"\")+1","v":{"$error":"#VALUE!"}},null,null,null,{"$f":"IFERROR(WORKDAY(T3559,AE3559,Hoja1!F3551:F3667),\"\")","v":""},"",null,"",{"$f":"IF(P3559=\"\",\"\",NETWORKDAYS(C3559+1,P3559,Hoja1!F3551:F3667))","v":""},{"$f":"IFERROR(IF(NETWORKDAYS(R3559+1,P3559,Hoja1!F3551:F3667)<=0,\"\",NETWORKDAYS(R3559+1,P3559,Hoja1!F3551:F3667)),0)","v":0},null,null,{"$f":"IFERROR(VLOOKUP(L3559,Hoja1!$A$50:$C$63,2),\"\")","v":""},{"$f":"IFERROR(VLOOKUP(L3559,Hoja1!$A$50:$C$63,3),\"\")","v":""}]
[null,null,null,null,null,null,null,null,null,null,null,null,null,null,null,null,null,{"$f":"IFERROR(WORKDAY(C3564,AD3564,Hoja1!F3556:F3672),\"\")+1","v":{"$error":"#VALUE!"}},null,null,null,{"$f":"IFERROR(WORKDAY(T3564,AE3564,Hoja1!F3556:F3672),\"\")","v":""},"",null,"",{"$f":"IF(P3564=\"\",\"\",NETWORKDAYS(C3564+1,P3564,Hoja1!F3556:F3672))","v":""},{"$f":"IFERROR(IF(NETWORKDAYS(R3564+1,P3564,Hoja1!F3556:F3672)<=0,\"\",NETWORKDAYS(R3564+1,P3564,Hoja1!F3556:F3672)),0)","v":0},null,null,{"$f":"IFERROR(VLOOKUP(L3564,Hoja1!$A$50:$C$63,2),\"\")","v":""},{"$f":"IFERROR(VLOOKUP(L3564,Hoja1!$A$50:$C$63,3),\"\")","v":""}]
[null,null,null,null,null,null,null,null,null,null,null,null,null,null,null,null,null,{"$f":"IFERROR(WORKDAY(C3567,AD3567,Hoja1!F3559:F3675),\"\")+1","v":{"$error":"#VALUE!"}},null,null,null,{"$f":"IFERROR(WORKDAY(T3567,AE3567,Hoja1!F3559:F3675),\"\")","v":""},"",null,"",{"$f":"IF(P3567=\"\",\"\",NETWORKDAYS(C3567+1,P3567,Hoja1!F3559:F3675))","v":""},{"$f":"IFERROR(IF(NETWORKDAYS(R3567+1,P3567,Hoja1!F3559:F3675)<=0,\"\",NETWORKDAYS(R3567+1,P3567,Hoja1!F3559:F3675)),0)","v":0},null,null,{"$f":"IFERROR(VLOOKUP(L3567,Hoja1!$A$50:$C$63,2),\"\")","v":""},{"$f":"IFERROR(VLOOKUP(L3567,Hoja1!$A$50:$C$63,3),\"\")","v":""}]
[null,null,null,null,null,null,null,null,null,null,null,null,null,null,null,null,null,{"$f":"IFERROR(WORKDAY(C3571,AD3571,Hoja1!F3563:F3679),\"\")+1","v":{"$error":"#VALUE!"}},null,null,null,{"$f":"IFERROR(WORKDAY(T3571,AE3571,Hoja1!F3563:F3679),\"\")","v":""},"",null,"",{"$f":"IF(P3571=\"\",\"\",NETWORKDAYS(C3571+1,P3571,Hoja1!F3563:F3679))","v":""},{"$f":"IFERROR(IF(NETWORKDAYS(R3571+1,P3571,Hoja1!F3563:F3679)<=0,\"\",NETWORKDAYS(R3571+1,P3571,Hoja1!F3563:F3679)),0)","v":0},null,null,{"$f":"IFERROR(VLOOKUP(L3571,Hoja1!$A$50:$C$63,2),\"\")","v":""},{"$f":"IFERROR(VLOOKUP(L3571,Hoja1!$A$50:$C$63,3),\"\")","v":""}]
[null,null,null,null,null,null,null,null,null,null,null,null,null,null,null,null,null,{"$f":"IFERROR(WORKDAY(C3576,AD3576,Hoja1!F3568:F3684),\"\")+1","v":{"$error":"#VALUE!"}},null,null,null,{"$f":"IFERROR(WORKDAY(T3576,AE3576,Hoja1!F3568:F3684),\"\")","v":""},"",null,"",{"$f":"IF(P3576=\"\",\"\",NETWORKDAYS(C3576+1,P3576,Hoja1!F3568:F3684))","v":""},{"$f":"IFERROR(IF(NETWORKDAYS(R3576+1,P3576,Hoja1!F3568:F3684)<=0,\"\",NETWORKDAYS(R3576+1,P3576,Hoja1!F3568:F3684)),0)","v":0},null,null,{"$f":"IFERROR(VLOOKUP(L3576,Hoja1!$A$50:$C$63,2),\"\")","v":""},{"$f":"IFERROR(VLOOKUP(L3576,Hoja1!$A$50:$C$63,3),\"\")","v":""}]
[null,null,null,null,null,null,null,null,null,null,null,null,null,null,null,null,null,{"$f":"IFERROR(WORKDAY(C3582,AD3582,Hoja1!F3574:F3690),\"\")+1","v":{"$error":"#VALUE!"}},null,null,null,{"$f":"IFERROR(WORKDAY(T3582,AE3582,Hoja1!F3574:F3690),\"\")","v":""},"",null,"",{"$f":"IF(P3582=\"\",\"\",NETWORKDAYS(C3582+1,P3582,Hoja1!F3574:F3690))","v":""},{"$f":"IFERROR(IF(NETWORKDAYS(R3582+1,P3582,Hoja1!F3574:F3690)<=0,\"\",NETWORKDAYS(R3582+1,P3582,Hoja1!F3574:F3690)),0)","v":0},null,null,{"$f":"IFERROR(VLOOKUP(L3582,Hoja1!$A$50:$C$63,2),\"\")","v":""},{"$f":"IFERROR(VLOOKUP(L3582,Hoja1!$A$50:$C$63,3),\"\")","v":""}]
[null,null,null,null,null,null,null,null,null,null,null,null,null,null,null,null,null,{"$f":"IFERROR(WORKDAY(C3586,AD3586,Hoja1!F3578:F3694),\"\")+1","v":{"$error":"#VALUE!"}},null,null,null,{"$f":"IFERROR(WORKDAY(T3586,AE3586,Hoja1!F3578:F3694),\"\")","v":""},"",null,"",{"$f":"IF(P3586=\"\",\"\",NETWORKDAYS(C3586+1,P3586,Hoja1!F3578:F3694))","v":""},{"$f":"IFERROR(IF(NETWORKDAYS(R3586+1,P3586,Hoja1!F3578:F3694)<=0,\"\",NETWORKDAYS(R3586+1,P3586,Hoja1!F3578:F3694)),0)","v":0},null,null,{"$f":"IFERROR(VLOOKUP(L3586,Hoja1!$A$50:$C$63,2),\"\")","v":""},{"$f":"IFERROR(VLOOKUP(L3586,Hoja1!$A$50:$C$63,3),\"\")","v":""}]
[null,null,null,null,null,null,null,null,null,null,null,null,null,null,null,null,null,{"$f":"IFERROR(WORKDAY(C3589,AD3589,Hoja1!F3581:F3697),\"\")+1","v":{"$error":"#VALUE!"}},null,null,null,{"$f":"IFERROR(WORKDAY(T3589,AE3589,Hoja1!F3581:F3697),\"\")","v":""},"",null,"",{"$f":"IF(P3589=\"\",\"\",NETWORKDAYS(C3589+1,P3589,Hoja1!F3581:F3697))","v":""},{"$f":"IFERROR(IF(NETWORKDAYS(R3589+1,P3589,Hoja1!F3581:F3697)<=0,\"\",NETWORKDAYS(R3589+1,P3589,Hoja1!F3581:F3697)),0)","v":0},null,null,{"$f":"IFERROR(VLOOKUP(L3589,Hoja1!$A$50:$C$63,2),\"\")","v":""},{"$f":"IFERROR(VLOOKUP(L3589,Hoja1!$A$50:$C$63,3),\"\")","v":""}]
[null,null,null,null,null,null,null,null,null,null,null,null,null,null,null,null,null,{"$f":"IFERROR(WORKDAY(C3594,AD3594,Hoja1!F3586:F3702),\"\")+1","v":{"$error":"#VALUE!"}},null,null,null,{"$f":"IFERROR(WORKDAY(T3594,AE3594,Hoja1!F3586:F3702),\"\")","v":""},{"$f":"+IF(T3594=\"\",\"\",IF(U3594=\"\",\"SIN RESPUESTA\",(IF(U3594<=V3594,\"A TIEMPO\",\"FUERA DE TIEMPO\"))))","v":""},null,{"$f":"+IF(C3594=\"\",\"\",IF(P3594=\"\",\"SIN RESPUESTA\",(IF(P3594<=R3594,\"A TIEMPO\",\"FUERA DE TIEMPO\"))))","v":""},{"$f":"IF(P3594=\"\",\"\",NETWORKDAYS(C3594+1,P3594,Hoja1!F3586:F3702))","v":""},{"$f":"IFERROR(IF(NETWORKDAYS(R3594+1,P3594,Hoja1!F3586:F3702)<=0,\"\",NETWORKDAYS(R3594+1,P3594,Hoja1!F3586:F3702)),0)","v":0},null,null,{"$f":"IFERROR(VLOOKUP(L3594,Hoja1!$A$50:$C$63,2),\"\")","v":""},{"$f":"IFERROR(VLOOKUP(L3594,Hoja1!$A$50:$C$63,3),\"\")","v":""}]
[null,null,null,null,null,null,null,null,null,null,null,null,null,null,null,null,null,{"$f":"IFERROR(WORKDAY(C3600,AD3600,Hoja1!F3592:F3708),\"\")+1","v":{"$error":"#VALUE!"}},null,null,null,{"$f":"IFERROR(WORKDAY(T3600,AE3600,Hoja1!F3592:F3708),\"\")","v":""},"",null,"",{"$f":"IF(P3600=\"\",\"\",NETWORKDAYS(C3600+1,P3600,Hoja1!F3592:F3708))","v":""},{"$f":"IFERROR(IF(NETWORKDAYS(R3600+1,P3600,Hoja1!F3592:F3708)<=0,\"\",NETWORKDAYS(R3600+1,P3600,Hoja1!F3592:F3708)),0)","v":0},null,null,{"$f":"IFERROR(VLOOKUP(L3600,Hoja1!$A$50:$C$63,2),\"\")","v":""},{"$f":"IFERROR(VLOOKUP(L3600,Hoja1!$A$50:$C$63,3),\"\")","v":""}]
[null,null,null,null,null,null,null,null,null,null,null,null,null,null,null,null,null,{"$f":"IFERROR(WORKDAY(C3601,AD3601,Hoja1!F3593:F3709),\"\")+1","v":{"$error":"#VALUE!"}},null,null,null,{"$f":"IFERROR(WORKDAY(T3601,AE3601,Hoja1!F3593:F3709),\"\")","v":""},"",null,"",{"$f":"IF(P3601=\"\",\"\",NETWORKDAYS(C3601+1,P3601,Hoja1!F3593:F3709))","v":""},{"$f":"IFERROR(IF(NETWORKDAYS(R3601+1,P3601,Hoja1!F3593:F3709)<=0,\"\",NETWORKDAYS(R3601+1,P3601,Hoja1!F3593:F3709)),0)","v":0},null,null,{"$f":"IFERROR(VLOOKUP(L3601,Hoja1!$A$50:$C$63,2),\"\")","v":""},{"$f":"IFERROR(VLOOKUP(L3601,Hoja1!$A$50:$C$63,3),\"\")","v":""}]
[null,null,null,null,null,null,null,null,null,null,null,null,null,null,null,null,null,{"$f":"IFERROR(WORKDAY(C3605,AD3605,Hoja1!F3597:F3713),\"\")+1","v":{"$error":"#VALUE!"}},null,null,null,{"$f":"IFERROR(WORKDAY(T3605,AE3605,Hoja1!F3597:F3713),\"\")","v":""},"",null,"",{"$f":"IF(P3605=\"\",\"\",NETWORKDAYS(C3605+1,P3605,Hoja1!F3597:F3713))","v":""},{"$f":"IFERROR(IF(NETWORKDAYS(R3605+1,P3605,Hoja1!F3597:F3713)<=0,\"\",NETWORKDAYS(R3605+1,P3605,Hoja1!F3597:F3713)),0)","v":0},null,null,{"$f":"IFERROR(VLOOKUP(L3605,Hoja1!$A$50:$C$63,2),\"\")","v":""},{"$f":"IFERROR(VLOOKUP(L3605,Hoja1!$A$50:$C$63,3),\"\")","v":""}]
[null,null,null,null,null,null,null,null,null,null,null,null,null,null,null,null,null,{"$f":"IFERROR(WORKDAY(C3612,AD3612,Hoja1!F3604:F3720),\"\")+1","v":{"$error":"#VALUE!"}},null,null,null,{"$f":"IFERROR(WORKDAY(T3612,AE3612,Hoja1!F3604:F3720),\"\")","v":""},"",null,"",{"$f":"IF(P3612=\"\",\"\",NETWORKDAYS(C3612+1,P3612,Hoja1!F3604:F3720))","v":""},{"$f":"IFERROR(IF(NETWORKDAYS(R3612+1,P3612,Hoja1!F3604:F3720)<=0,\"\",NETWORKDAYS(R3612+1,P3612,Hoja1!F3604:F3720)),0)","v":0},null,null,{"$f":"IFERROR(VLOOKUP(L3612,Hoja1!$A$50:$C$63,2),\"\")","v":""},{"$f":"IFERROR(VLOOKUP(L3612,Hoja1!$A$50:$C$63,3),\"\")","v":""}]
[null,null,null,null,null,null,null,null,null,null,null,null,null,null,null,null,null,{"$f":"IFERROR(WORKDAY(C3615,AD3615,Hoja1!F3607:F3723),\"\")+1","v":{"$error":"#VALUE!"}},null,null,null,{"$f":"IFERROR(WORKDAY(T3615,AE3615,Hoja1!F3607:F3723),\"\")","v":""},"",null,"",{"$f":"IF(P3615=\"\",\"\",NETWORKDAYS(C3615+1,P3615,Hoja1!F3607:F3723))","v":""},{"$f":"IFERROR(IF(NETWORKDAYS(R3615+1,P3615,Hoja1!F3607:F3723)<=0,\"\",NETWORKDAYS(R3615+1,P3615,Hoja1!F3607:F3723)),0)","v":0},null,null,{"$f":"IFERROR(VLOOKUP(L3615,Hoja1!$A$50:$C$63,2),\"\")","v":""},{"$f":"IFERROR(VLOOKUP(L3615,Hoja1!$A$50:$C$63,3),\"\")","v":""}]
[null,null,null,null,null,null,null,null,null,null,null,null,null,null,null,null,null,{"$f":"IFERROR(WORKDAY(C3619,AD3619,Hoja1!F3611:F3727),\"\")+1","v":{"$error":"#VALUE!"}},null,null,null,{"$f":"IFERROR(WORKDAY(T3619,AE3619,Hoja1!F3611:F3727),\"\")","v":""},"",null,"",{"$f":"IF(P3619=\"\",\"\",NETWORKDAYS(C3619+1,P3619,Hoja1!F3611:F3727))","v":""},{"$f":"IFERROR(IF(NETWORKDAYS(R3619+1,P3619,Hoja1!F3611:F3727)<=0,\"\",NETWORKDAYS(R3619+1,P3619,Hoja1!F3611:F3727)),0)","v":0},null,null,{"$f":"IFERROR(VLOOKUP(L3619,Hoja1!$A$50:$C$63,2),\"\")","v":""},{"$f":"IFERROR(VLOOKUP(L3619,Hoja1!$A$50:$C$63,3),\"\")","v":""}]
[null,null,null,null,null,null,null,null,null,null,null,null,null,null,null,null,null,{"$f":"IFERROR(WORKDAY(C3624,AD3624,Hoja1!F3616:F3732),\"\")+1","v":{"$error":"#VALUE!"}},null,null,null,{"$f":"IFERROR(WORKDAY(T3624,AE3624,Hoja1!F3616:F3732),\"\")","v":""},"",null,"",{"$f":"IF(P3624=\"\",\"\",NETWORKDAYS(C3624+1,P3624,Hoja1!F3616:F3732))","v":""},{"$f":"IFERROR(IF(NETWORKDAYS(R3624+1,P3624,Hoja1!F3616:F3732)<=0,\"\",NETWORKDAYS(R3624+1,P3624,Hoja1!F3616:F3732)),0)","v":0},null,null,{"$f":"IFERROR(VLOOKUP(L3624,Hoja1!$A$50:$C$63,2),\"\")","v":""},{"$f":"IFERROR(VLOOKUP(L3624,Hoja1!$A$50:$C$63,3),\"\")","v":""}]
[null,null,null,null,null,null,null,null,null,null,null,null,null,null,null,null,null,{"$f":"IFERROR(WORKDAY(C3629,AD3629,Hoja1!F3621:F3737),\"\")+1","v":{"$error":"#VALUE!"}},null,null,null,{"$f":"IFERROR(WORKDAY(T3629,AE3629,Hoja1!F3621:F3737),\"\")","v":""},"",null,"",{"$f":"IF(P3629=\"\",\"\",NETWORKDAYS(C3629+1,P3629,Hoja1!F3621:F3737))","v":""},{"$f":"IFERROR(IF(NETWORKDAYS(R3629+1,P3629,Hoja1!F3621:F3737)<=0,\"\",NETWORKDAYS(R3629+1,P3629,Hoja1!F3621:F3737)),0)","v":0},null,null,{"$f":"IFERROR(VLOOKUP(L3629,Hoja1!$A$50:$C$63,2),\"\")","v":""},{"$f":"IFERROR(VLOOKUP(L3629,Hoja1!$A$50:$C$63,3),\"\")","v":""}]
[null,null,null,null,null,null,null,null,null,null,null,null,null,null,null,null,null,{"$f":"IFERROR(WORKDAY(C3635,AD3635,Hoja1!F3627:F3743),\"\")+1","v":{"$error":"#VALUE!"}},null,null,null,{"$f":"IFERROR(WORKDAY(T3635,AE3635,Hoja1!F3627:F3743),\"\")","v":""},"",null,"",{"$f":"IF(P3635=\"\",\"\",NETWORKDAYS(C3635+1,P3635,Hoja1!F3627:F3743))","v":""},{"$f":"IFERROR(IF(NETWORKDAYS(R3635+1,P3635,Hoja1!F3627:F3743)<=0,\"\",NETWORKDAYS(R3635+1,P3635,Hoja1!F3627:F3743)),0)","v":0},null,null,{"$f":"IFERROR(VLOOKUP(L3635,Hoja1!$A$50:$C$63,2),\"\")","v":""},{"$f":"IFERROR(VLOOKUP(L3635,Hoja1!$A$50:$C$63,3),\"\")","v":""}]
[null,null,null,null,null,null,null,null,null,null,null,null,null,null,null,null,null,{"$f":"IFERROR(WORKDAY(C3639,AD3639,Hoja1!F3631:F3747),\"\")+1","v":{"$error":"#VALUE!"}},null,null,null,{"$f":"IFERROR(WORKDAY(T3639,AE3639,Hoja1!F3631:F3747),\"\")","v":""},"",null,"",{"$f":"IF(P3639=\"\",\"\",NETWORKDAYS(C3639+1,P3639,Hoja1!F3631:F3747))","v":""},{"$f":"IFERROR(IF(NETWORKDAYS(R3639+1,P3639,Hoja1!F3631:F3747)<=0,\"\",NETWORKDAYS(R3639+1,P3639,Hoja1!F3631:F3747)),0)","v":0},null,null,{"$f":"IFERROR(VLOOKUP(L3639,Hoja1!$A$50:$C$63,2),\"\")","v":""},{"$f":"IFERROR(VLOOKUP(L3639,Hoja1!$A$50:$C$63,3),\"\")","v":""}]
[null,null,null,null,null,null,null,null,null,null,null,null,null,null,null,null,null,{"$f":"IFERROR(WORKDAY(C3642,AD3642,Hoja1!F3634:F3750),\"\")+1","v":{"$error":"#VALUE!"}},null,null,null,{"$f":"IFERROR(WORKDAY(T3642,AE3642,Hoja1!F3634:F3750),\"\")","v":""},"",null,"",{"$f":"IF(P3642=\"\",\"\",NETWORKDAYS(C3642+1,P3642,Hoja1!F3634:F3750))","v":""},{"$f":"IFERROR(IF(NETWORKDAYS(R3642+1,P3642,Hoja1!F3634:F3750)<=0,\"\",NETWORKDAYS(R3642+1,P3642,Hoja1!F3634:F3750)),0)","v":0},null,null,{"$f":"IFERROR(VLOOKUP(L3642,Hoja1!$A$50:$C$63,2),\"\")","v":""},{"$f":"IFERROR(VLOOKUP(L3642,Hoja1!$A$50:$C$63,3),\"\")","v":""}]
[null,null,null,null,null,null,null,null,null,null,null,null,null,null,null,null,null,{"$f":"IFERROR(WORKDAY(C3649,AD3649,Hoja1!F3641:F3757),\"\")+1","v":{"$error":"#VALUE!"}},null,null,null,{"$f":"IFERROR(WORKDAY(T3649,AE3649,Hoja1!F3641:F3757),\"\")","v":""},"",null,"",{"$f":"IF(P3649=\"\",\"\",NETWORKDAYS(C3649+1,P3649,Hoja1!F3641:F3757))","v":""},{"$f":"IFERROR(IF(NETWORKDAYS(R3649+1,P3649,Hoja1!F3641:F3757)<=0,\"\",NETWORKDAYS(R3649+1,P3649,Hoja1!F3641:F3757)),0)","v":0},null,null,{"$f":"IFERROR(VLOOKUP(L3649,Hoja1!$A$50:$C$63,2),\"\")","v":""},{"$f":"IFERROR(VLOOKUP(L3649,Hoja1!$A$50:$C$63,3),\"\")","v":""}]
[null,null,null,null,null,null,null,null,null,null,null,null,null,null,null,null,null,{"$f":"IFERROR(WORKDAY(C3653,AD3653,Hoja1!F3645:F3761),\"\")+1","v":{"$error":"#VALUE!"}},null,null,null,{"$f":"IFERROR(WORKDAY(T3653,AE3653,Hoja1!F3645:F3761),\"\")","v":""},"",null,"",{"$f":"IF(P3653=\"\",\"\",NETWORKDAYS(C3653+1,P3653,Hoja1!F3645:F3761))","v":""},{"$f":"IFERROR(IF(NETWORKDAYS(R3653+1,P3653,Hoja1!F3645:F3761)<=0,\"\",NETWORKDAYS(R3653+1,P3653,Hoja1!F3645:F3761)),0)","v":0},null,null,{"$f":"IFERROR(VLOOKUP(L3653,Hoja1!$A$50:$C$63,2),\"\")","v":""},{"$f":"IFERROR(VLOOKUP(L3653,Hoja1!$A$50:$C$63,3),\"\")","v":""}]
[null,null,null,null,null,null,null,null,null,null,null,null,null,null,null,null,null,{"$f":"IFERROR(WORKDAY(C3658,AD3658,Hoja1!F3650:F3766),\"\")+1","v":{"$error":"#VALUE!"}},null,null,null,{"$f":"IFERROR(WORKDAY(T3658,AE3658,Hoja1!F3650:F3766),\"\")","v":""},{"$f":"+IF(T3658=\"\",\"\",IF(U3658=\"\",\"SIN RESPUESTA\",(IF(U3658<=V3658,\"A TIEMPO\",\"FUERA DE TIEMPO\"))))","v":""},null,{"$f":"+IF(C3658=\"\",\"\",IF(P3658=\"\",\"SIN RESPUESTA\",(IF(P3658<=R3658,\"A TIEMPO\",\"FUERA DE TIEMPO\"))))","v":""},{"$f":"IF(P3658=\"\",\"\",NETWORKDAYS(C3658+1,P3658,Hoja1!F3650:F3766))","v":""},{"$f":"IFERROR(IF(NETWORKDAYS(R3658+1,P3658,Hoja1!F3650:F3766)<=0,\"\",NETWORKDAYS(R3658+1,P3658,Hoja1!F3650:F3766)),0)","v":0},null,null,{"$f":"IFERROR(VLOOKUP(L3658,Hoja1!$A$50:$C$63,2),\"\")","v":""},{"$f":"IFERROR(VLOOKUP(L3658,Hoja1!$A$50:$C$63,3),\"\")","v":""}]
[null,null,null,null,null,null,null,null,null,null,null,null,null,null,null,null,null,{"$f":"IFERROR(WORKDAY(C3660,AD3660,Hoja1!F3652:F3768),\"\")+1","v":{"$error":"#VALUE!"}},null,null,null,{"$f":"IFERROR(WORKDAY(T3660,AE3660,Hoja1!F3652:F3768),\"\")","v":""},"",null,"",{"$f":"IF(P3660=\"\",\"\",NETWORKDAYS(C3660+1,P3660,Hoja1!F3652:F3768))","v":""},{"$f":"IFERROR(IF(NETWORKDAYS(R3660+1,P3660,Hoja1!F3652:F3768)<=0,\"\",NETWORKDAYS(R3660+1,P3660,Hoja1!F3652:F3768)),0)","v":0},null,null,{"$f":"IFERROR(VLOOKUP(L3660,Hoja1!$A$50:$C$63,2),\"\")","v":""},{"$f":"IFERROR(VLOOKUP(L3660,Hoja1!$A$50:$C$63,3),\"\")","v":""}]
[null,null,null,null,null,null,null,null,null,null,null,null,null,null,null,null,null,{"$f":"IFERROR(WORKDAY(C3665,AD3665,Hoja1!F3657:F3773),\"\")+1","v":{"$error":"#VALUE!"}},null,null,null,{"$f":"IFERROR(WORKDAY(T3665,AE3665,Hoja1!F3657:F3773),\"\")","v":""},"",null,"",{"$f":"IF(P3665=\"\",\"\",NETWORKDAYS(C3665+1,P3665,Hoja1!F3657:F3773))","v":""},{"$f":"IFERROR(IF(NETWORKDAYS(R3665+1,P3665,Hoja1!F3657:F3773)<=0,\"\",NETWORKDAYS(R3665+1,P3665,Hoja1!F3657:F3773)),0)","v":0},null,null,{"$f":"IFERROR(VLOOKUP(L3665,Hoja1!$A$50:$C$63,2),\"\")","v":""},{"$f":"IFERROR(VLOOKUP(L3665,Hoja1!$A$50:$C$63,3),\"\")","v":""}]
[null,null,null,null,null,null,null,null,null,null,null,null,null,null,null,null,null,{"$f":"IFERROR(WORKDAY(C3667,AD3667,Hoja1!F3659:F3775),\"\")+1","v":{"$error":"#VALUE!"}},null,null,null,{"$f":"IFERROR(WORKDAY(T3667,AE3667,Hoja1!F3659:F3775),\"\")","v":""},"",null,"",{"$f":"IF(P3667=\"\",\"\",NETWORKDAYS(C3667+1,P3667,Hoja1!F3659:F3775))","v":""},{"$f":"IFERROR(IF(NETWORKDAYS(R3667+1,P3667,Hoja1!F3659:F3775)<=0,\"\",NETWORKDAYS(R3667+1,P3667,Hoja1!F3659:F3775)),0)","v":0},null,null,{"$f":"IFERROR(VLOOKUP(L3667,Hoja1!$A$50:$C$63,2),\"\")","v":""},{"$f":"IFERROR(VLOOKUP(L3667,Hoja1!$A$50:$C$63,3),\"\")","v":""}]
[null,null,null,null,null,null,null,null,null,null,null,null,null,null,null,null,null,{"$f":"IFERROR(WORKDAY(C3672,AD3672,Hoja1!F3664:F3780),\"\")+1","v":{"$error":"#VALUE!"}},null,null,null,{"$f":"IFERROR(WORKDAY(T3672,AE3672,Hoja1!F3664:F3780),\"\")","v":""},"",null,"",{"$f":"IF(P3672=\"\",\"\",NETWORKDAYS(C3672+1,P3672,Hoja1!F3664:F3780))","v":""},{"$f":"IFERROR(IF(NETWORKDAYS(R3672+1,P3672,Hoja1!F3664:F3780)<=0,\"\",NETWORKDAYS(R3672+1,P3672,Hoja1!F3664:F3780)),0)","v":0},null,null,{"$f":"IFERROR(VLOOKUP(L3672,Hoja1!$A$50:$C$63,2),\"\")","v":""},{"$f":"IFERROR(VLOOKUP(L3672,Hoja1!$A$50:$C$63,3),\"\")","v":""}]
[null,null,null,null,null,null,null,null,null,null,null,null,null,null,null,null,null,{"$f":"IFERROR(WORKDAY(C3677,AD3677,Hoja1!F3669:F3785),\"\")+1","v":{"$error":"#VALUE!"}},null,null,null,{"$f":"IFERROR(WORKDAY(T3677,AE3677,Hoja1!F3669:F3785),\"\")","v":""},"",null,"",{"$f":"IF(P3677=\"\",\"\",NETWORKDAYS(C3677+1,P3677,Hoja1!F3669:F3785))","v":""},{"$f":"IFERROR(IF(NETWORKDAYS(R3677+1,P3677,Hoja1!F3669:F3785)<=0,\"\",NETWORKDAYS(R3677+1,P3677,Hoja1!F3669:F3785)),0)","v":0},null,null,{"$f":"IFERROR(VLOOKUP(L3677,Hoja1!$A$50:$C$63,2),\"\")","v":""},{"$f":"IFERROR(VLOOKUP(L3677,Hoja1!$A$50:$C$63,3),\"\")","v":""}]
[null,null,null,null,null,null,null,null,null,null,null,null,null,null,null,null,null,{"$f":"IFERROR(WORKDAY(C3683,AD3683,Hoja1!F3675:F3791),\"\")+1","v":{"$error":"#VALUE!"}},null,null,null,{"$f":"IFERROR(WORKDAY(T3683,AE3683,Hoja1!F3675:F3791),\"\")","v":""},"",null,"",{"$f":"IF(P3683=\"\",\"\",NETWORKDAYS(C3683+1,P3683,Hoja1!F3675:F3791))","v":""},{"$f":"IFERROR(IF(NETWORKDAYS(R3683+1,P3683,Hoja1!F3675:F3791)<=0,\"\",NETWORKDAYS(R3683+1,P3683,Hoja1!F3675:F3791)),0)","v":0},null,null,{"$f":"IFERROR(VLOOKUP(L3683,Hoja1!$A$50:$C$63,2),\"\")","v":""},{"$f":"IFERROR(VLOOKUP(L3683,Hoja1!$A$50:$C$63,3),\"\")","v":""}]
[null,null,null,null,null,null,null,null,null,null,null,null,null,null,null,null,null,{"$f":"IFERROR(WORKDAY(C3687,AD3687,Hoja1!F3679:F3795),\"\")+1","v":{"$error":"#VALUE!"}},null,null,null,{"$f":"IFERROR(WORKDAY(T3687,AE3687,Hoja1!F3679:F3795),\"\")","v":""},"",null,"",{"$f":"IF(P3687=\"\",\"\",NETWORKDAYS(C3687+1,P3687,Hoja1!F3679:F3795))","v":""},{"$f":"IFERROR(IF(NETWORKDAYS(R3687+1,P3687,Hoja1!F3679:F3795)<=0,\"\",NETWORKDAYS(R3687+1,P3687,Hoja1!F3679:F3795)),0)","v":0},null,null,{"$f":"IFERROR(VLOOKUP(L3687,Hoja1!$A$50:$C$63,2),\"\")","v":""},{"$f":"IFERROR(VLOOKUP(L3687,Hoja1!$A$50:$C$63,3),\"\")","v":""}]
[null,null,null,null,null,null,null,null,null,null,null,null,null,null,null,null,null,{"$f":"IFERROR(WORKDAY(C3690,AD3690,Hoja1!F3682:F3798),\"\")+1","v":{"$error":"#VALUE!"}},null,null,null,{"$f":"IFERROR(WORKDAY(T3690,AE3690,Hoja1!F3682:F3798),\"\")","v":""},"",null,"",{"$f":"IF(P3690=\"\",\"\",NETWORKDAYS(C3690+1,P3690,Hoja1!F3682:F3798))","v":""},{"$f":"IFERROR(IF(NETWORKDAYS(R3690+1,P3690,Hoja1!F3682:F3798)<=0,\"\",NETWORKDAYS(R3690+1,P3690,Hoja1!F3682:F3798)),0)","v":0},null,null,{"$f":"IFERROR(VLOOKUP(L3690,Hoja1!$A$50:$C$63,2),\"\")","v":""},{"$f":"IFERROR(VLOOKUP(L3690,Hoja1!$A$50:$C$63,3),\"\")","v":""}]
[null,null,null,null,null,null,null,null,null,null,null,null,null,null,null,null,null,{"$f":"IFERROR(WORKDAY(C3695,AD3695,Hoja1!F3687:F3803),\"\")+1","v":{"$error":"#VALUE!"}},null,null,null,{"$f":"IFERROR(WORKDAY(T3695,AE3695,Hoja1!F3687:F3803),\"\")","v":""},"",null,"",{"$f":"IF(P3695=\"\",\"\",NETWORKDAYS(C3695+1,P3695,Hoja1!F3687:F3803))","v":""},{"$f":"IFERROR(IF(NETWORKDAYS(R3695+1,P3695,Hoja1!F3687:F3803)<=0,\"\",NETWORKDAYS(R3695+1,P3695,Hoja1!F3687:F3803)),0)","v":0},null,null,{"$f":"IFERROR(VLOOKUP(L3695,Hoja1!$A$50:$C$63,2),\"\")","v":""},{"$f":"IFERROR(VLOOKUP(L3695,Hoja1!$A$50:$C$63,3),\"\")","v":""}]
[null,null,null,null,null,null,null,null,null,null,null,null,null,null,null,null,null,{"$f":"IFERROR(WORKDAY(C3701,AD3701,Hoja1!F3693:F3809),\"\")+1","v":{"$error":"#VALUE!"}},null,null,null,{"$f":"IFERROR(WORKDAY(T3701,AE3701,Hoja1!F3693:F3809),\"\")","v":""},"",null,"",{"$f":"IF(P3701=\"\",\"\",NETWORKDAYS(C3701+1,P3701,Hoja1!F3693:F3809))","v":""},{"$f":"IFERROR(IF(NETWORKDAYS(R3701+1,P3701,Hoja1!F3693:F3809)<=0,\"\",NETWORKDAYS(R3701+1,P3701,Hoja1!F3693:F3809)),0)","v":0},null,null,{"$f":"IFERROR(VLOOKUP(L3701,Hoja1!$A$50:$C$63,2),\"\")","v":""},{"$f":"IFERROR(VLOOKUP(L3701,Hoja1!$A$50:$C$63,3),\"\")","v":""}]
[null,null,null,null,null,null,null,null,null,null,null,null,null,null,null,null,null,{"$f":"IFERROR(WORKDAY(C3706,AD3706,Hoja1!F3698:F3814),\"\")+1","v":{"$error":"#VALUE!"}},null,null,null,{"$f":"IFERROR(WORKDAY(T3706,AE3706,Hoja1!F3698:F3814),\"\")","v":""},"",null,"",{"$f":"IF(P3706=\"\",\"\",NETWORKDAYS(C3706+1,P3706,Hoja1!F3698:F3814))","v":""},{"$f":"IFERROR(IF(NETWORKDAYS(R3706+1,P3706,Hoja1!F3698:F3814)<=0,\"\",NETWORKDAYS(R3706+1,P3706,Hoja1!F3698:F3814)),0)","v":0},null,null,{"$f":"IFERROR(VLOOKUP(L3706,Hoja1!$A$50:$C$63,2),\"\")","v":""},{"$f":"IFERROR(VLOOKUP(L3706,Hoja1!$A$50:$C$63,3),\"\")","v":""}]
[null,null,null,null,null,null,null,null,null,null,null,null,null,null,null,null,null,{"$f":"IFERROR(WORKDAY(C3711,AD3711,Hoja1!F3703:F3819),\"\")+1","v":{"$error":"#VALUE!"}},null,null,null,{"$f":"IFERROR(WORKDAY(T3711,AE3711,Hoja1!F3703:F3819),\"\")","v":""},"",null,"",{"$f":"IF(P3711=\"\",\"\",NETWORKDAYS(C3711+1,P3711,Hoja1!F3703:F3819))","v":""},{"$f":"IFERROR(IF(NETWORKDAYS(R3711+1,P3711,Hoja1!F3703:F3819)<=0,\"\",NETWORKDAYS(R3711+1,P3711,Hoja1!F3703:F3819)),0)","v":0},null,null,{"$f":"IFERROR(VLOOKUP(L3711,Hoja1!$A$50:$C$63,2),\"\")","v":""},{"$f":"IFERROR(VLOOKUP(L3711,Hoja1!$A$50:$C$63,3),\"\")","v":""}]
[null,null,null,null,null,null,null,null,null,null,null,null,null,null,null,null,null,{"$f":"IFERROR(WORKDAY(C3713,AD3713,Hoja1!F3705:F3821),\"\")+1","v":{"$error":"#VALUE!"}},null,null,null,{"$f":"IFERROR(WORKDAY(T3713,AE3713,Hoja1!F3705:F3821),\"\")","v":""},"",null,"",{"$f":"IF(P3713=\"\",\"\",NETWORKDAYS(C3713+1,P3713,Hoja1!F3705:F3821))","v":""},{"$f":"IFERROR(IF(NETWORKDAYS(R3713+1,P3713,Hoja1!F3705:F3821)<=0,\"\",NETWORKDAYS(R3713+1,P3713,Hoja1!F3705:F3821)),0)","v":0},null,null,{"$f":"IFERROR(VLOOKUP(L3713,Hoja1!$A$50:$C$63,2),\"\")","v":""},{"$f":"IFERROR(VLOOKUP(L3713,Hoja1!$A$50:$C$63,3),\"\")","v":""}]
[null,null,null,null,null,null,null,null,null,null,null,null,null,null,null,null,null,{"$f":"IFERROR(WORKDAY(C3716,AD3716,Hoja1!F3708:F3824),\"\")+1","v":{"$error":"#VALUE!"}},null,null,null,{"$f":"IFERROR(WORKDAY(T3716,AE3716,Hoja1!F3708:F3824),\"\")","v":""},"",null,"",{"$f":"IF(P3716=\"\",\"\",NETWORKDAYS(C3716+1,P3716,Hoja1!F3708:F3824))","v":""},{"$f":"IFERROR(IF(NETWORKDAYS(R3716+1,P3716,Hoja1!F3708:F3824)<=0,\"\",NETWORKDAYS(R3716+1,P3716,Hoja1!F3708:F3824)),0)","v":0},null,null,{"$f":"IFERROR(VLOOKUP(L3716,Hoja1!$A$50:$C$63,2),\"\")","v":""},{"$f":"IFERROR(VLOOKUP(L3716,Hoja1!$A$50:$C$63,3),\"\")","v":""}]
[null,null,null,null,null,null,null,null,null,null,null,null,null,null,null,null,null,{"$f":"IFERROR(WORKDAY(C3724,AD3724,Hoja1!F3716:F3832),\"\")+1","v":{"$error":"#VALUE!"}},null,null,null,{"$f":"IFERROR(WORKDAY(T3724,AE3724,Hoja1!F3716:F3832),\"\")","v":""},"",null,"",{"$f":"IF(P3724=\"\",\"\",NETWORKDAYS(C3724+1,P3724,Hoja1!F3716:F3832))","v":""},{"$f":"IFERROR(IF(NETWORKDAYS(R3724+1,P3724,Hoja1!F3716:F3832)<=0,\"\",NETWORKDAYS(R3724+1,P3724,Hoja1!F3716:F3832)),0)","v":0},null,null,{"$f":"IFERROR(VLOOKUP(L3724,Hoja1!$A$50:$C$63,2),\"\")","v":""},{"$f":"IFERROR(VLOOKUP(L3724,Hoja1!$A$50:$C$63,3),\"\")","v":""}]
[null,null,null,null,null,null,null,null,null,null,null,null,null,null,null,null,null,{"$f":"IFERROR(WORKDAY(C3725,AD3725,Hoja1!F3717:F3833),\"\")+1","v":{"$error":"#VALUE!"}},null,null,null,{"$f":"IFERROR(WORKDAY(T3725,AE3725,Hoja1!F3717:F3833),\"\")","v":""},"",null,"",{"$f":"IF(P3725=\"\",\"\",NETWORKDAYS(C3725+1,P3725,Hoja1!F3717:F3833))","v":""},{"$f":"IFERROR(IF(NETWORKDAYS(R3725+1,P3725,Hoja1!F3717:F3833)<=0,\"\",NETWORKDAYS(R3725+1,P3725,Hoja1!F3717:F3833)),0)","v":0},null,null,{"$f":"IFERROR(VLOOKUP(L3725,Hoja1!$A$50:$C$63,2),\"\")","v":""},{"$f":"IFERROR(VLOOKUP(L3725,Hoja1!$A$50:$C$63,3),\"\")","v":""}]
[null,null,null,null,null,null,null,null,null,null,null,null,null,null,null,null,null,{"$f":"IFERROR(WORKDAY(C3730,AD3730,Hoja1!F3722:F3838),\"\")+1","v":{"$error":"#VALUE!"}},null,null,null,{"$f":"IFERROR(WORKDAY(T3730,AE3730,Hoja1!F3722:F3838),\"\")","v":""},"",null,"",{"$f":"IF(P3730=\"\",\"\",NETWORKDAYS(C3730+1,P3730,Hoja1!F3722:F3838))","v":""},{"$f":"IFERROR(IF(NETWORKDAYS(R3730+1,P3730,Hoja1!F3722:F3838)<=0,\"\",NETWORKDAYS(R3730+1,P3730,Hoja1!F3722:F3838)),0)","v":0},null,null,{"$f":"IFERROR(VLOOKUP(L3730,Hoja1!$A$50:$C$63,2),\"\")","v":""},{"$f":"IFERROR(VLOOKUP(L3730,Hoja1!$A$50:$C$63,3),\"\")","v":""}]
[null,null,null,null,null,null,null,null,null,null,null,null,null,null,null,null,null,{"$f":"IFERROR(WORKDAY(C3736,AD3736,Hoja1!F3728:F3844),\"\")+1","v":{"$error":"#VALUE!"}},null,null,null,{"$f":"IFERROR(WORKDAY(T3736,AE3736,Hoja1!F3728:F3844),\"\")","v":""},"",null,"",{"$f":"IF(P3736=\"\",\"\",NETWORKDAYS(C3736+1,P3736,Hoja1!F3728:F3844))","v":""},{"$f":"IFERROR(IF(NETWORKDAYS(R3736+1,P3736,Hoja1!F3728:F3844)<=0,\"\",NETWORKDAYS(R3736+1,P3736,Hoja1!F3728:F3844)),0)","v":0},null,null,{"$f":"IFERROR(VLOOKUP(L3736,Hoja1!$A$50:$C$63,2),\"\")","v":""},{"$f":"IFERROR(VLOOKUP(L3736,Hoja1!$A$50:$C$63,3),\"\")","v":""}]
[null,null,null,null,null,null,null,null,null,null,null,null,null,null,null,null,null,{"$f":"IFERROR(WORKDAY(C3740,AD3740,Hoja1!F3732:F3848),\"\")+1","v":{"$error":"#VALUE!"}},null,null,null,{"$f":"IFERROR(WORKDAY(T3740,AE3740,Hoja1!F3732:F3848),\"\")","v":""},"",null,"",{"$f":"IF(P3740=\"\",\"\",NETWORKDAYS(C3740+1,P3740,Hoja1!F3732:F3848))","v":""},{"$f":"IFERROR(IF(NETWORKDAYS(R3740+1,P3740,Hoja1!F3732:F3848)<=0,\"\",NETWORKDAYS(R3740+1,P3740,Hoja1!F3732:F3848)),0)","v":0},null,null,{"$f":"IFERROR(VLOOKUP(L3740,Hoja1!$A$50:$C$63,2),\"\")","v":""},{"$f":"IFERROR(VLOOKUP(L3740,Hoja1!$A$50:$C$63,3),\"\")","v":""}]
[null,null,null,null,null,null,null,null,null,null,null,null,null,null,null,null,null,{"$f":"IFERROR(WORKDAY(C3743,AD3743,Hoja1!F3735:F3851),\"\")+1","v":{"$error":"#VALUE!"}},null,null,null,{"$f":"IFERROR(WORKDAY(T3743,AE3743,Hoja1!F3735:F3851),\"\")","v":""},"",null,"",{"$f":"IF(P3743=\"\",\"\",NETWORKDAYS(C3743+1,P3743,Hoja1!F3735:F3851))","v":""},{"$f":"IFERROR(IF(NETWORKDAYS(R3743+1,P3743,Hoja1!F3735:F3851)<=0,\"\",NETWORKDAYS(R3743+1,P3743,Hoja1!F3735:F3851)),0)","v":0},null,null,{"$f":"IFERROR(VLOOKUP(L3743,Hoja1!$A$50:$C$63,2),\"\")","v":""},{"$f":"IFERROR(VLOOKUP(L3743,Hoja1!$A$50:$C$63,3),\"\")","v":""}]
[null,null,null,null,null,null,null,null,null,null,null,null,null,null,null,null,null,{"$f":"IFERROR(WORKDAY(C3749,AD3749,Hoja1!F3741:F3857),\"\")+1","v":{"$error":"#VALUE!"}},null,null,null,{"$f":"IFERROR(WORKDAY(T3749,AE3749,Hoja1!F3741:F3857),\"\")","v":""},"",null,"",{"$f":"IF(P3749=\"\",\"\",NETWORKDAYS(C3749+1,P3749,Hoja1!F3741:F3857))","v":""},{"$f":"IFERROR(IF(NETWORKDAYS(R3749+1,P3749,Hoja1!F3741:F3857)<=0,\"\",NETWORKDAYS(R3749+1,P3749,Hoja1!F3741:F3857)),0)","v":0},null,null,{"$f":"IFERROR(VLOOKUP(L3749,Hoja1!$A$50:$C$63,2),\"\")","v":""},{"$f":"IFERROR(VLOOKUP(L3749,Hoja1!$A$50:$C$63,3),\"\")","v":""}]
[null,null,null,null,null,null,null,null,null,null,null,null,null,null,null,null,null,{"$f":"IFERROR(WORKDAY(C3754,AD3754,Hoja1!F3746:F3862),\"\")+1","v":{"$error":"#VALUE!"}},null,null,null,{"$f":"IFERROR(WORKDAY(T3754,AE3754,Hoja1!F3746:F3862),\"\")","v":""},"",null,"",{"$f":"IF(P3754=\"\",\"\",NETWORKDAYS(C3754+1,P3754,Hoja1!F3746:F3862))","v":""},{"$f":"IFERROR(IF(NETWORKDAYS(R3754+1,P3754,Hoja1!F3746:F3862)<=0,\"\",NETWORKDAYS(R3754+1,P3754,Hoja1!F3746:F3862)),0)","v":0},null,null,{"$f":"IFERROR(VLOOKUP(L3754,Hoja1!$A$50:$C$63,2),\"\")","v":""},{"$f":"IFERROR(VLOOKUP(L3754,Hoja1!$A$50:$C$63,3),\"\")","v":""}]
[null,null,null,null,null,null,null,null,null,null,null,null,null,null,null,null,null,{"$f":"IFERROR(WORKDAY(C3759,AD3759,Hoja1!F3751:F3867),\"\")+1","v":{"$error":"#VALUE!"}},null,null,null,{"$f":"IFERROR(WORKDAY(T3759,AE3759,Hoja1!F3751:F3867),\"\")","v":""},"",null,"",{"$f":"IF(P3759=\"\",\"\",NETWORKDAYS(C3759+1,P3759,Hoja1!F3751:F3867))","v":""},{"$f":"IFERROR(IF(NETWORKDAYS(R3759+1,P3759,Hoja1!F3751:F3867)<=0,\"\",NETWORKDAYS(R3759+1,P3759,Hoja1!F3751:F3867)),0)","v":0},null,null,{"$f":"IFERROR(VLOOKUP(L3759,Hoja1!$A$50:$C$63,2),\"\")","v":""},{"$f":"IFERROR(VLOOKUP(L3759,Hoja1!$A$50:$C$63,3),\"\")","v":""}]
[null,null,null,null,null,null,null,null,null,null,null,null,null,null,null,null,null,{"$f":"IFERROR(WORKDAY(C3763,AD3763,Hoja1!F3755:F3871),\"\")+1","v":{"$error":"#VALUE!"}},null,null,null,{"$f":"IFERROR(WORKDAY(T3763,AE3763,Hoja1!F3755:F3871),\"\")","v":""},"",null,"",{"$f":"IF(P3763=\"\",\"\",NETWORKDAYS(C3763+1,P3763,Hoja1!F3755:F3871))","v":""},{"$f":"IFERROR(IF(NETWORKDAYS(R3763+1,P3763,Hoja1!F3755:F3871)<=0,\"\",NETWORKDAYS(R3763+1,P3763,Hoja1!F3755:F3871)),0)","v":0},null,null,{"$f":"IFERROR(VLOOKUP(L3763,Hoja1!$A$50:$C$63,2),\"\")","v":""},{"$f":"IFERROR(VLOOKUP(L3763,Hoja1!$A$50:$C$63,3),\"\")","v":""}]
[null,null,null,null,null,null,null,null,null,null,null,null,null,null,null,null,null,{"$f":"IFERROR(WORKDAY(C3766,AD3766,Hoja1!F3758:F3874),\"\")+1","v":{"$error":"#VALUE!"}},null,null,null,{"$f":"IFERROR(WORKDAY(T3766,AE3766,Hoja1!F3758:F3874),\"\")","v":""},"",null,"",{"$f":"IF(P3766=\"\",\"\",NETWORKDAYS(C3766+1,P3766,Hoja1!F3758:F3874))","v":""},{"$f":"IFERROR(IF(NETWORKDAYS(R3766+1,P3766,Hoja1!F3758:F3874)<=0,\"\",NETWORKDAYS(R3766+1,P3766,Hoja1!F3758:F3874)),0)","v":0},null,null,{"$f":"IFERROR(VLOOKUP(L3766,Hoja1!$A$50:$C$63,2),\"\")","v":""},{"$f":"IFERROR(VLOOKUP(L3766,Hoja1!$A$50:$C$63,3),\"\")","v":""}]
[null,null,null,null,null,null,null,null,null,null,null,null,null,null,null,null,null,{"$f":"IFERROR(WORKDAY(C3773,AD3773,Hoja1!F3765:F3881),\"\")+1","v":{"$error":"#VALUE!"}},null,null,null,{"$f":"IFERROR(WORKDAY(T3773,AE3773,Hoja1!F3765:F3881),\"\")","v":""},"",null,"",{"$f":"IF(P3773=\"\",\"\",NETWORKDAYS(C3773+1,P3773,Hoja1!F3765:F3881))","v":""},{"$f":"IFERROR(IF(NETWORKDAYS(R3773+1,P3773,Hoja1!F3765:F3881)<=0,\"\",NETWORKDAYS(R3773+1,P3773,Hoja1!F3765:F3881)),0)","v":0},null,null,{"$f":"IFERROR(VLOOKUP(L3773,Hoja1!$A$50:$C$63,2),\"\")","v":""},{"$f":"IFERROR(VLOOKUP(L3773,Hoja1!$A$50:$C$63,3),\"\")","v":""}]
[null,null,null,null,null,null,null,null,null,null,null,null,null,null,null,null,null,{"$f":"IFERROR(WORKDAY(C3777,AD3777,Hoja1!F3769:F3885),\"\")+1","v":{"$error":"#VALUE!"}},null,null,null,{"$f":"IFERROR(WORKDAY(T3777,AE3777,Hoja1!F3769:F3885),\"\")","v":""},"",null,"",{"$f":"IF(P3777=\"\",\"\",NETWORKDAYS(C3777+1,P3777,Hoja1!F3769:F3885))","v":""},{"$f":"IFERROR(IF(NETWORKDAYS(R3777+1,P3777,Hoja1!F3769:F3885)<=0,\"\",NETWORKDAYS(R3777+1,P3777,Hoja1!F3769:F3885)),0)","v":0},null,null,{"$f":"IFERROR(VLOOKUP(L3777,Hoja1!$A$50:$C$63,2),\"\")","v":""},{"$f":"IFERROR(VLOOKUP(L3777,Hoja1!$A$50:$C$63,3),\"\")","v":""}]
[null,null,null,null,null,null,null,null,null,null,null,null,null,null,null,null,null,{"$f":"IFERROR(WORKDAY(C3778,AD3778,Hoja1!F3770:F3886),\"\")+1","v":{"$error":"#VALUE!"}},null,null,null,{"$f":"IFERROR(WORKDAY(T3778,AE3778,Hoja1!F3770:F3886),\"\")","v":""},"",null,"",{"$f":"IF(P3778=\"\",\"\",NETWORKDAYS(C3778+1,P3778,Hoja1!F3770:F3886))","v":""},{"$f":"IFERROR(IF(NETWORKDAYS(R3778+1,P3778,Hoja1!F3770:F3886)<=0,\"\",NETWORKDAYS(R3778+1,P3778,Hoja1!F3770:F3886)),0)","v":0},null,null,{"$f":"IFERROR(VLOOKUP(L3778,Hoja1!$A$50:$C$63,2),\"\")","v":""},{"$f":"IFERROR(VLOOKUP(L3778,Hoja1!$A$50:$C$63,3),\"\")","v":""}]
[null,null,null,null,null,null,null,null,null,null,null,null,null,null,null,null,null,{"$f":"IFERROR(WORKDAY(C3784,AD3784,Hoja1!F3776:F3892),\"\")+1","v":{"$error":"#VALUE!"}},null,null,null,{"$f":"IFERROR(WORKDAY(T3784,AE3784,Hoja1!F3776:F3892),\"\")","v":""},"",null,"",{"$f":"IF(P3784=\"\",\"\",NETWORKDAYS(C3784+1,P3784,Hoja1!F3776:F3892))","v":""},{"$f":"IFERROR(IF(NETWORKDAYS(R3784+1,P3784,Hoja1!F3776:F3892)<=0,\"\",NETWORKDAYS(R3784+1,P3784,Hoja1!F3776:F3892)),0)","v":0},null,null,{"$f":"IFERROR(VLOOKUP(L3784,Hoja1!$A$50:$C$63,2),\"\")","v":""},{"$f":"IFERROR(VLOOKUP(L3784,Hoja1!$A$50:$C$63,3),\"\")","v":""}]
[null,null,null,null,null,null,null,null,null,null,null,null,null,null,null,null,null,{"$f":"IFERROR(WORKDAY(C3789,AD3789,Hoja1!F3781:F3897),\"\")+1","v":{"$error":"#VALUE!"}},null,null,null,{"$f":"IFERROR(WORKDAY(T3789,AE3789,Hoja1!F3781:F3897),\"\")","v":""},"",null,"",{"$f":"IF(P3789=\"\",\"\",NETWORKDAYS(C3789+1,P3789,Hoja1!F3781:F3897))","v":""},{"$f":"IFERROR(IF(NETWORKDAYS(R3789+1,P3789,Hoja1!F3781:F3897)<=0,\"\",NETWORKDAYS(R3789+1,P3789,Hoja1!F3781:F3897)),0)","v":0},null,null,{"$f":"IFERROR(VLOOKUP(L3789,Hoja1!$A$50:$C$63,2),\"\")","v":""},{"$f":"IFERROR(VLOOKUP(L3789,Hoja1!$A$50:$C$63,3),\"\")","v":""}]
[null,null,null,null,null,null,null,null,null,null,null,null,null,null,null,null,null,{"$f":"IFERROR(WORKDAY(C3792,AD3792,Hoja1!F3784:F3900),\"\")+1","v":{"$error":"#VALUE!"}},null,null,null,{"$f":"IFERROR(WORKDAY(T3792,AE3792,Hoja1!F3784:F3900),\"\")","v":""},"",null,"",{"$f":"IF(P3792=\"\",\"\",NETWORKDAYS(C3792+1,P3792,Hoja1!F3784:F3900))","v":""},{"$f":"IFERROR(IF(NETWORKDAYS(R3792+1,P3792,Hoja1!F3784:F3900)<=0,\"\",NETWORKDAYS(R3792+1,P3792,Hoja1!F3784:F3900)),0)","v":0},null,null,{"$f":"IFERROR(VLOOKUP(L3792,Hoja1!$A$50:$C$63,2),\"\")","v":""},{"$f":"IFERROR(VLOOKUP(L3792,Hoja1!$A$50:$C$63,3),\"\")","v":""}]
[null,null,null,null,null,null,null,null,null,null,null,null,null,null,null,null,null,{"$f":"IFERROR(WORKDAY(C3796,AD3796,Hoja1!F3788:F3904),\"\")+1","v":{"$error":"#VALUE!"}},null,null,null,{"$f":"IFERROR(WORKDAY(T3796,AE3796,Hoja1!F3788:F3904),\"\")","v":""},"",null,"",{"$f":"IF(P3796=\"\",\"\",NETWORKDAYS(C3796+1,P3796,Hoja1!F3788:F3904))","v":""},{"$f":"IFERROR(IF(NETWORKDAYS(R3796+1,P3796,Hoja1!F3788:F3904)<=0,\"\",NETWORKDAYS(R3796+1,P3796,Hoja1!F3788:F3904)),0)","v":0},null,null,{"$f":"IFERROR(VLOOKUP(L3796,Hoja1!$A$50:$C$63,2),\"\")","v":""},{"$f":"IFERROR(VLOOKUP(L3796,Hoja1!$A$50:$C$63,3),\"\")","v":""}]
[null,null,null,null,null,null,null,null,null,null,null,null,null,null,null,null,null,{"$f":"IFERROR(WORKDAY(C3802,AD3802,Hoja1!F3794:F3910),\"\")+1","v":{"$error":"#VALUE!"}},null,null,null,{"$f":"IFERROR(WORKDAY(T3802,AE3802,Hoja1!F3794:F3910),\"\")","v":""},"",null,"",{"$f":"IF(P3802=\"\",\"\",NETWORKDAYS(C3802+1,P3802,Hoja1!F3794:F3910))","v":""},{"$f":"IFERROR(IF(NETWORKDAYS(R3802+1,P3802,Hoja1!F3794:F3910)<=0,\"\",NETWORKDAYS(R3802+1,P3802,Hoja1!F3794:F3910)),0)","v":0},null,null,{"$f":"IFERROR(VLOOKUP(L3802,Hoja1!$A$50:$C$63,2),\"\")","v":""},{"$f":"IFERROR(VLOOKUP(L3802,Hoja1!$A$50:$C$63,3),\"\")","v":""}]
[null,null,null,null,null,null,null,null,null,null,null,null,null,null,null,null,null,null,null,null,null,{"$f":"IFERROR(WORKDAY(T3807,AE3807,Hoja1!F3799:F3915),\"\")","v":""},"",null,"",{"$f":"IF(P3807=\"\",\"\",NETWORKDAYS(C3807+1,P3807,Hoja1!F3799:F3915))","v":""},{"$f":"IFERROR(IF(NETWORKDAYS(R3807+1,P3807,Hoja1!F3799:F3915)<=0,\"\",NETWORKDAYS(R3807+1,P3807,Hoja1!F3799:F3915)),0)","v":""},null,null,{"$f":"IFERROR(VLOOKUP(L3807,Hoja1!$A$50:$C$63,2),\"\")","v":""},{"$f":"IFERROR(VLOOKUP(L3807,Hoja1!$A$50:$C$63,3),\"\")","v":""}]
[null,null,null,null,null,null,null,null,null,null,null,null,null,null,null,null,null,null,null,null,null,{"$f":"IFERROR(WORKDAY(T3812,AE3812,Hoja1!F3804:F3920),\"\")","v":""},"",null,"",{"$f":"IF(P3812=\"\",\"\",NETWORKDAYS(C3812+1,P3812,Hoja1!F3804:F3920))","v":""},{"$f":"IFERROR(IF(NETWORKDAYS(R3812+1,P3812,Hoja1!F3804:F3920)<=0,\"\",NETWORKDAYS(R3812+1,P3812,Hoja1!F3804:F3920)),0)","v":""},null,null,{"$f":"IFERROR(VLOOKUP(L3812,Hoja1!$A$50:$C$63,2),\"\")","v":""},{"$f":"IFERROR(VLOOKUP(L3812,Hoja1!$A$50:$C$63,3),\"\")","v":""}]
[null,null,null,null,null,null,null,null,null,null,null,null,null,null,null,null,null,null,null,null,null,{"$f":"IFERROR(WORKDAY(T3814,AE3814,Hoja1!F3806:F3922),\"\")","v":""},"",null,"",{"$f":"IF(P3814=\"\",\"\",NETWORKDAYS(C3814+1,P3814,Hoja1!F3806:F3922))","v":""},{"$f":"IFERROR(IF(NETWORKDAYS(R3814+1,P3814,Hoja1!F3806:F3922)<=0,\"\",NETWORKDAYS(R3814+1,P3814,Hoja1!F3806:F3922)),0)","v":""},null,null,{"$f":"IFERROR(VLOOKUP(L3814,Hoja1!$A$50:$C$63,2),\"\")","v":""},{"$f":"IFERROR(VLOOKUP(L3814,Hoja1!$A$50:$C$63,3),\"\")","v":""}]
[null,null,null,null,null,null,null,null,null,null,null,null,null,null,null,null,null,null,null,null,null,{"$f":"IFERROR(WORKDAY(T3819,AE3819,Hoja1!F3811:F3927),\"\")","v":""},"",null,"",{"$f":"IF(P3819=\"\",\"\",NETWORKDAYS(C3819+1,P3819,Hoja1!F3811:F3927))","v":""},{"$f":"IFERROR(IF(NETWORKDAYS(R3819+1,P3819,Hoja1!F3811:F3927)<=0,\"\",NETWORKDAYS(R3819+1,P3819,Hoja1!F3811:F3927)),0)","v":""},null,null,{"$f":"IFERROR(VLOOKUP(L3819,Hoja1!$A$50:$C$63,2),\"\")","v":""},{"$f":"IFERROR(VLOOKUP(L3819,Hoja1!$A$50:$C$63,3),\"\")","v":""}]
[null,null,null,null,null,null,null,null,null,null,null,null,null,null,null,null,null,null,null,null,null,{"$f":"IFERROR(WORKDAY(T3826,AE3826,Hoja1!F3818:F3934),\"\")","v":""},"",null,"",{"$f":"IF(P3826=\"\",\"\",NETWORKDAYS(C3826+1,P3826,Hoja1!F3818:F3934))","v":""},{"$f":"IFERROR(IF(NETWORKDAYS(R3826+1,P3826,Hoja1!F3818:F3934)<=0,\"\",NETWORKDAYS(R3826+1,P3826,Hoja1!F3818:F3934)),0)","v":""},null,null,{"$f":"IFERROR(VLOOKUP(L3826,Hoja1!$A$50:$C$63,2),\"\")","v":""},{"$f":"IFERROR(VLOOKUP(L3826,Hoja1!$A$50:$C$63,3),\"\")","v":""}]
[null,null,null,null,null,null,null,null,null,null,null,null,null,null,null,null,null,null,null,null,null,{"$f":"IFERROR(WORKDAY(T3830,AE3830,Hoja1!F3822:F3938),\"\")","v":""},"",null,"",{"$f":"IF(P3830=\"\",\"\",NETWORKDAYS(C3830+1,P3830,Hoja1!F3822:F3938))","v":""},{"$f":"IFERROR(IF(NETWORKDAYS(R3830+1,P3830,Hoja1!F3822:F3938)<=0,\"\",NETWORKDAYS(R3830+1,P3830,Hoja1!F3822:F3938)),0)","v":""},null,null,{"$f":"IFERROR(VLOOKUP(L3830,Hoja1!$A$50:$C$63,2),\"\")","v":""},{"$f":"IFERROR(VLOOKUP(L3830,Hoja1!$A$50:$C$63,3),\"\")","v":""}]
[null,null,null,null,null,null,null,null,null,null,null,null,null,null,null,null,null,null,null,null,null,{"$f":"IFERROR(WORKDAY(T3831,AE3831,Hoja1!F3823:F3939),\"\")","v":""},"",null,"",{"$f":"IF(P3831=\"\",\"\",NETWORKDAYS(C3831+1,P3831,Hoja1!F3823:F3939))","v":""},{"$f":"IFERROR(IF(NETWORKDAYS(R3831+1,P3831,Hoja1!F3823:F3939)<=0,\"\",NETWORKDAYS(R3831+1,P3831,Hoja1!F3823:F3939)),0)","v":""},null,null,{"$f":"IFERROR(VLOOKUP(L3831,Hoja1!$A$50:$C$63,2),\"\")","v":""},{"$f":"IFERROR(VLOOKUP(L3831,Hoja1!$A$50:$C$63,3),\"\")","v":""}]
[null,null,null,null,null,null,null,null,null,null,null,null,null,null,null,null,null,null,null,null,null,{"$f":"IFERROR(WORKDAY(T3837,AE3837,Hoja1!F3829:F3945),\"\")","v":""},"",null,"",{"$f":"IF(P3837=\"\",\"\",NETWORKDAYS(C3837+1,P3837,Hoja1!F3829:F3945))","v":""},{"$f":"IFERROR(IF(NETWORKDAYS(R3837+1,P3837,Hoja1!F3829:F3945)<=0,\"\",NETWORKDAYS(R3837+1,P3837,Hoja1!F3829:F3945)),0)","v":""},null,null,{"$f":"IFERROR(VLOOKUP(L3837,Hoja1!$A$50:$C$63,2),\"\")","v":""},{"$f":"IFERROR(VLOOKUP(L3837,Hoja1!$A$50:$C$63,3),\"\")","v":""}]
[null,null,null,null,null,null,null,null,null,null,null,null,null,null,null,null,null,null,null,null,null,{"$f":"IFERROR(WORKDAY(T3840,AE3840,Hoja1!F3832:F3948),\"\")","v":""},"",null,"",{"$f":"IF(P3840=\"\",\"\",NETWORKDAYS(C3840+1,P3840,Hoja1!F3832:F3948))","v":""},{"$f":"IFERROR(IF(NETWORKDAYS(R3840+1,P3840,Hoja1!F3832:F3948)<=0,\"\",NETWORKDAYS(R3840+1,P3840,Hoja1!F3832:F3948)),0)","v":""},null,null,{"$f":"IFERROR(VLOOKUP(L3840,Hoja1!$A$50:$C$63,2),\"\")","v":""},{"$f":"IFERROR(VLOOKUP(L3840,Hoja1!$A$50:$C$63,3),\"\")","v":""}]
[null,null,null,null,null,null,null,null,null,null,null,null,null,null,null,null,null,null,null,null,null,{"$f":"IFERROR(WORKDAY(T3848,AE3848,Hoja1!F3840:F3956),\"\")","v":""},"",null,"",{"$f":"IF(P3848=\"\",\"\",NETWORKDAYS(C3848+1,P3848,Hoja1!F3840:F3956))","v":""},{"$f":"IFERROR(IF(NETWORKDAYS(R3848+1,P3848,Hoja1!F3840:F3956)<=0,\"\",NETWORKDAYS(R3848+1,P3848,Hoja1!F3840:F3956)),0)","v":""},null,null,{"$f":"IFERROR(VLOOKUP(L3848,Hoja1!$A$50:$C$63,2),\"\")","v":""},{"$f":"IFERROR(VLOOKUP(L3848,Hoja1!$A$50:$C$63,3),\"\")","v":""}]
[null,null,null,null,null,null,null,null,null,null,null,null,null,null,null,null,null,null,null,null,null,{"$f":"IFERROR(WORKDAY(T3849,AE3849,Hoja1!F3841:F3957),\"\")","v":""},"",null,"",{"$f":"IF(P3849=\"\",\"\",NETWORKDAYS(C3849+1,P3849,Hoja1!F3841:F3957))","v":""},{"$f":"IFERROR(IF(NETWORKDAYS(R3849+1,P3849,Hoja1!F3841:F3957)<=0,\"\",NETWORKDAYS(R3849+1,P3849,Hoja1!F3841:F3957)),0)","v":""},null,null,{"$f":"IFERROR(VLOOKUP(L3849,Hoja1!$A$50:$C$63,2),\"\")","v":""},{"$f":"IFERROR(VLOOKUP(L3849,Hoja1!$A$50:$C$63,3),\"\")","v":""}]
[null,null,null,null,null,null,null,null,null,null,null,null,null,null,null,null,null,null,null,null,null,{"$f":"IFERROR(WORKDAY(T3854,AE3854,Hoja1!F3846:F3962),\"\")","v":""},"",null,"",{"$f":"IF(P3854=\"\",\"\",NETWORKDAYS(C3854+1,P3854,Hoja1!F3846:F3962))","v":""},{"$f":"IFERROR(IF(NETWORKDAYS(R3854+1,P3854,Hoja1!F3846:F3962)<=0,\"\",NETWORKDAYS(R3854+1,P3854,Hoja1!F3846:F3962)),0)","v":""},null,null,{"$f":"IFERROR(VLOOKUP(L3854,Hoja1!$A$50:$C$63,2),\"\")","v":""},{"$f":"IFERROR(VLOOKUP(L3854,Hoja1!$A$50:$C$63,3),\"\")","v":""}]
[null,null,null,null,null,null,null,null,null,null,null,null,null,null,null,null,null,null,null,null,null,{"$f":"IFERROR(WORKDAY(T3860,AE3860,Hoja1!F3852:F3968),\"\")","v":""},"",null,"",{"$f":"IF(P3860=\"\",\"\",NETWORKDAYS(C3860+1,P3860,Hoja1!F3852:F3968))","v":""},{"$f":"IFERROR(IF(NETWORKDAYS(R3860+1,P3860,Hoja1!F3852:F3968)<=0,\"\",NETWORKDAYS(R3860+1,P3860,Hoja1!F3852:F3968)),0)","v":""},null,null,{"$f":"IFERROR(VLOOKUP(L3860,Hoja1!$A$50:$C$63,2),\"\")","v":""},{"$f":"IFERROR(VLOOKUP(L3860,Hoja1!$A$50:$C$63,3),\"\")","v":""}]
[null,null,null,null,null,null,null,null,null,null,null,null,null,null,null,null,null,null,null,null,null,{"$f":"IFERROR(WORKDAY(T3864,AE3864,Hoja1!F3856:F3972),\"\")","v":""},"",null,"",{"$f":"IF(P3864=\"\",\"\",NETWORKDAYS(C3864+1,P3864,Hoja1!F3856:F3972))","v":""},{"$f":"IFERROR(IF(NETWORKDAYS(R3864+1,P3864,Hoja1!F3856:F3972)<=0,\"\",NETWORKDAYS(R3864+1,P3864,Hoja1!F3856:F3972)),0)","v":""},null,null,{"$f":"IFERROR(VLOOKUP(L3864,Hoja1!$A$50:$C$63,2),\"\")","v":""},{"$f":"IFERROR(VLOOKUP(L3864,Hoja1!$A$50:$C$63,3),\"\")","v":""}]
[null,null,null,null,null,null,null,null,null,null,null,null,null,null,null,null,null,null,null,null,null,{"$f":"IFERROR(WORKDAY(T3867,AE3867,Hoja1!F3859:F3975),\"\")","v":""},"",null,"",{"$f":"IF(P3867=\"\",\"\",NETWORKDAYS(C3867+1,P3867,Hoja1!F3859:F3975))","v":""},{"$f":"IFERROR(IF(NETWORKDAYS(R3867+1,P3867,Hoja1!F3859:F3975)<=0,\"\",NETWORKDAYS(R3867+1,P3867,Hoja1!F3859:F3975)),0)","v":""},null,null,{"$f":"IFERROR(VLOOKUP(L3867,Hoja1!$A$50:$C$63,2),\"\")","v":""},{"$f":"IFERROR(VLOOKUP(L3867,Hoja1!$A$50:$C$63,3),\"\")","v":""}]
[null,null,null,null,null,null,null,null,null,null,null,null,null,null,null,null,null,null,null,null,null,{"$f":"IFERROR(WORKDAY(T3874,AE3874,Hoja1!F3866:F3982),\"\")","v":""},"",null,"",{"$f":"IF(P3874=\"\",\"\",NETWORKDAYS(C3874+1,P3874,Hoja1!F3866:F3982))","v":""},{"$f":"IFERROR(IF(NETWORKDAYS(R3874+1,P3874,Hoja1!F3866:F3982)<=0,\"\",NETWORKDAYS(R3874+1,P3874,Hoja1!F3866:F3982)),0)","v":""},null,null,{"$f":"IFERROR(VLOOKUP(L3874,Hoja1!$A$50:$C$63,2),\"\")","v":""},{"$f":"IFERROR(VLOOKUP(L3874,Hoja1!$A$50:$C$63,3),\"\")","v":""}]
[null,null,null,null,null,null,null,null,null,null,null,null,null,null,null,null,null,null,null,null,null,{"$f":"IFERROR(WORKDAY(T3878,AE3878,Hoja1!F3870:F3986),\"\")","v":""},"",null,"",{"$f":"IF(P3878=\"\",\"\",NETWORKDAYS(C3878+1,P3878,Hoja1!F3870:F3986))","v":""},{"$f":"IFERROR(IF(NETWORKDAYS(R3878+1,P3878,Hoja1!F3870:F3986)<=0,\"\",NETWORKDAYS(R3878+1,P3878,Hoja1!F3870:F3986)),0)","v":""},null,null,{"$f":"IFERROR(VLOOKUP(L3878,Hoja1!$A$50:$C$63,2),\"\")","v":""},{"$f":"IFERROR(VLOOKUP(L3878,Hoja1!$A$50:$C$63,3),\"\")","v":""}]
[null,null,null,null,null,null,null,null,null,null,null,null,null,null,null,null,null,null,null,null,null,{"$f":"IFERROR(WORKDAY(T3883,AE3883,Hoja1!F3875:F3991),\"\")","v":""},"",null,"",{"$f":"IF(P3883=\"\",\"\",NETWORKDAYS(C3883+1,P3883,Hoja1!F3875:F3991))","v":""},{"$f":"IFERROR(IF(NETWORKDAYS(R3883+1,P3883,Hoja1!F3875:F3991)<=0,\"\",NETWORKDAYS(R3883+1,P3883,Hoja1!F3875:F3991)),0)","v":""},null,null,{"$f":"IFERROR(VLOOKUP(L3883,Hoja1!$A$50:$C$63,2),\"\")","v":""},{"$f":"IFERROR(VLOOKUP(L3883,Hoja1!$A$50:$C$63,3),\"\")","v":""}]
[null,null,null,null,null,null,null,null,null,null,null,null,null,null,null,null,null,null,null,null,null,{"$f":"IFERROR(WORKDAY(T3888,AE3888,Hoja1!F3880:F3996),\"\")","v":""},"",null,"",{"$f":"IF(P3888=\"\",\"\",NETWORKDAYS(C3888+1,P3888,Hoja1!F3880:F3996))","v":""},{"$f":"IFERROR(IF(NETWORKDAYS(R3888+1,P3888,Hoja1!F3880:F3996)<=0,\"\",NETWORKDAYS(R3888+1,P3888,Hoja1!F3880:F3996)),0)","v":""},null,null,{"$f":"IFERROR(VLOOKUP(L3888,Hoja1!$A$50:$C$63,2),\"\")","v":""},{"$f":"IFERROR(VLOOKUP(L3888,Hoja1!$A$50:$C$63,3),\"\")","v":""}]
[null,null,null,null,null,null,null,null,null,null,null,null,null,null,null,null,null,null,null,null,null,{"$f":"IFERROR(WORKDAY(T3890,AE3890,Hoja1!F3882:F3998),\"\")","v":""},"",null,"",{"$f":"IF(P3890=\"\",\"\",NETWORKDAYS(C3890+1,P3890,Hoja1!F3882:F3998))","v":""},{"$f":"IFERROR(IF(NETWORKDAYS(R3890+1,P3890,Hoja1!F3882:F3998)<=0,\"\",NETWORKDAYS(R3890+1,P3890,Hoja1!F3882:F3998)),0)","v":""},null,null,{"$f":"IFERROR(VLOOKUP(L3890,Hoja1!$A$50:$C$63,2),\"\")","v":""},{"$f":"IFERROR(VLOOKUP(L3890,Hoja1!$A$50:$C$63,3),\"\")","v":""}]
[null,null,null,null,null,null,null,null,null,null,null,null,null,null,null,null,null,null,null,null,null,{"$f":"IFERROR(WORKDAY(T3893,AE3893,Hoja1!F3885:F4001),\"\")","v":""},"",null,"",{"$f":"IF(P3893=\"\",\"\",NETWORKDAYS(C3893+1,P3893,Hoja1!F3885:F4001))","v":""},{"$f":"IFERROR(IF(NETWORKDAYS(R3893+1,P3893,Hoja1!F3885:F4001)<=0,\"\",NETWORKDAYS(R3893+1,P3893,Hoja1!F3885:F4001)),0)","v":""},null,null,{"$f":"IFERROR(VLOOKUP(L3893,Hoja1!$A$50:$C$63,2),\"\")","v":""},{"$f":"IFERROR(VLOOKUP(L3893,Hoja1!$A$50:$C$63,3),\"\")","v":""}]
[null,null,null,null,null,null,null,null,null,null,null,null,null,null,null,null,null,null,null,null,null,{"$f":"IFERROR(WORKDAY(T3901,AE3901,Hoja1!F3893:F4009),\"\")","v":""},"",null,"",{"$f":"IF(P3901=\"\",\"\",NETWORKDAYS(C3901+1,P3901,Hoja1!F3893:F4009))","v":""},{"$f":"IFERROR(IF(NETWORKDAYS(R3901+1,P3901,Hoja1!F3893:F4009)<=0,\"\",NETWORKDAYS(R3901+1,P3901,Hoja1!F3893:F4009)),0)","v":""},null,null,{"$f":"IFERROR(VLOOKUP(L3901,Hoja1!$A$50:$C$63,2),\"\")","v":""},{"$f":"IFERROR(VLOOKUP(L3901,Hoja1!$A$50:$C$63,3),\"\")","v":""}]
[null,null,null,null,null,null,null,null,null,null,null,null,null,null,null,null,null,null,null,null,null,{"$f":"IFERROR(WORKDAY(T3903,AE3903,Hoja1!F3895:F4011),\"\")","v":""},"",null,"",{"$f":"IF(P3903=\"\",\"\",NETWORKDAYS(C3903+1,P3903,Hoja1!F3895:F4011))","v":""},{"$f":"IFERROR(IF(NETWORKDAYS(R3903+1,P3903,Hoja1!F3895:F4011)<=0,\"\",NETWORKDAYS(R3903+1,P3903,Hoja1!F3895:F4011)),0)","v":""},null,null,{"$f":"IFERROR(VLOOKUP(L3903,Hoja1!$A$50:$C$63,2),\"\")","v":""},{"$f":"IFERROR(VLOOKUP(L3903,Hoja1!$A$50:$C$63,3),\"\")","v":""}]
[null,null,null,null,null,null,null,null,null,null,null,null,null,null,null,null,null,null,null,null,null,{"$f":"IFERROR(WORKDAY(T3908,AE3908,Hoja1!F3900:F4016),\"\")","v":""},"",null,"",{"$f":"IF(P3908=\"\",\"\",NETWORKDAYS(C3908+1,P3908,Hoja1!F3900:F4016))","v":""},{"$f":"IFERROR(IF(NETWORKDAYS(R3908+1,P3908,Hoja1!F3900:F4016)<=0,\"\",NETWORKDAYS(R3908+1,P3908,Hoja1!F3900:F4016)),0)","v":""},null,null,{"$f":"IFERROR(VLOOKUP(L3908,Hoja1!$A$50:$C$63,2),\"\")","v":""},{"$f":"IFERROR(VLOOKUP(L3908,Hoja1!$A$50:$C$63,3),\"\")","v":""}]
[null,null,null,null,null,null,null,null,null,null,null,null,null,null,null,null,null,null,null,null,null,{"$f":"IFERROR(WORKDAY(T3913,AE3913,Hoja1!F3905:F4021),\"\")","v":""},"",null,"",{"$f":"IF(P3913=\"\",\"\",NETWORKDAYS(C3913+1,P3913,Hoja1!F3905:F4021))","v":""},{"$f":"IFERROR(IF(NETWORKDAYS(R3913+1,P3913,Hoja1!F3905:F4021)<=0,\"\",NETWORKDAYS(R3913+1,P3913,Hoja1!F3905:F4021)),0)","v":""},null,null,{"$f":"IFERROR(VLOOKUP(L3913,Hoja1!$A$50:$C$63,2),\"\")","v":""},{"$f":"IFERROR(VLOOKUP(L3913,Hoja1!$A$50:$C$63,3),\"\")","v":""}]
[null,null,null,null,null,null,null,null,null,null,null,null,null,null,null,null,null,null,null,null,null,{"$f":"IFERROR(WORKDAY(T3917,AE3917,Hoja1!F3909:F4025),\"\")","v":""},"",null,"",{"$f":"IF(P3917=\"\",\"\",NETWORKDAYS(C3917+1,P3917,Hoja1!F3909:F4025))","v":""},{"$f":"IFERROR(IF(NETWORKDAYS(R3917+1,P3917,Hoja1!F3909:F4025)<=0,\"\",NETWORKDAYS(R3917+1,P3917,Hoja1!F3909:F4025)),0)","v":""},null,null,{"$f":"IFERROR(VLOOKUP(L3917,Hoja1!$A$50:$C$63,2),\"\")","v":""},{"$f":"IFERROR(VLOOKUP(L3917,Hoja1!$A$50:$C$63,3),\"\")","v":""}]
[null,null,null,null,null,null,null,null,null,null,null,null,null,null,null,null,null,null,null,null,null,{"$f":"IFERROR(WORKDAY(T3920,AE3920,Hoja1!F3912:F4028),\"\")","v":""},"",null,"",{"$f":"IF(P3920=\"\",\"\",NETWORKDAYS(C3920+1,P3920,Hoja1!F3912:F4028))","v":""},{"$f":"IFERROR(IF(NETWORKDAYS(R3920+1,P3920,Hoja1!F3912:F4028)<=0,\"\",NETWORKDAYS(R3920+1,P3920,Hoja1!F3912:F4028)),0)","v":""},null,null,{"$f":"IFERROR(VLOOKUP(L3920,Hoja1!$A$50:$C$63,2),\"\")","v":""},{"$f":"IFERROR(VLOOKUP(L3920,Hoja1!$A$50:$C$63,3),\"\")","v":""}]
[null,null,null,null,null,null,null,null,null,null,null,null,null,null,null,null,null,null,null,null,null,{"$f":"IFERROR(WORKDAY(T3927,AE3927,Hoja1!F3919:F4035),\"\")","v":""},"",null,"",{"$f":"IF(P3927=\"\",\"\",NETWORKDAYS(C3927+1,P3927,Hoja1!F3919:F4035))","v":""},{"$f":"IFERROR(IF(NETWORKDAYS(R3927+1,P3927,Hoja1!F3919:F4035)<=0,\"\",NETWORKDAYS(R3927+1,P3927,Hoja1!F3919:F4035)),0)","v":""},null,null,{"$f":"IFERROR(VLOOKUP(L3927,Hoja1!$A$50:$C$63,2),\"\")","v":""},{"$f":"IFERROR(VLOOKUP(L3927,Hoja1!$A$50:$C$63,3),\"\")","v":""}]
[null,null,null,null,null,null,null,null,null,null,null,null,null,null,null,null,null,null,null,null,null,{"$f":"IFERROR(WORKDAY(T3931,AE3931,Hoja1!F3923:F4039),\"\")","v":""},"",null,"",{"$f":"IF(P3931=\"\",\"\",NETWORKDAYS(C3931+1,P3931,Hoja1!F3923:F4039))","v":""},{"$f":"IFERROR(IF(NETWORKDAYS(R3931+1,P3931,Hoja1!F3923:F4039)<=0,\"\",NETWORKDAYS(R3931+1,P3931,Hoja1!F3923:F4039)),0)","v":""},null,null,{"$f":"IFERROR(VLOOKUP(L3931,Hoja1!$A$50:$C$63,2),\"\")","v":""},{"$f":"IFERROR(VLOOKUP(L3931,Hoja1!$A$50:$C$63,3),\"\")","v":""}]
[null,null,null,null,null,null,null,null,null,null,null,null,null,null,null,null,null,null,null,null,null,{"$f":"IFERROR(WORKDAY(T3936,AE3936,Hoja1!F3928:F4044),\"\")","v":""},"",null,"",{"$f":"IF(P3936=\"\",\"\",NETWORKDAYS(C3936+1,P3936,Hoja1!F3928:F4044))","v":""},{"$f":"IFERROR(IF(NETWORKDAYS(R3936+1,P3936,Hoja1!F3928:F4044)<=0,\"\",NETWORKDAYS(R3936+1,P3936,Hoja1!F3928:F4044)),0)","v":""},null,null,{"$f":"IFERROR(VLOOKUP(L3936,Hoja1!$A$50:$C$63,2),\"\")","v":""},{"$f":"IFERROR(VLOOKUP(L3936,Hoja1!$A$50:$C$63,3),\"\")","v":""}]
[null,null,null,null,null,null,null,null,null,null,null,null,null,null,null,null,null,null,null,null,null,{"$f":"IFERROR(WORKDAY(T3938,AE3938,Hoja1!F3930:F4046),\"\")","v":""},"",null,"",{"$f":"IF(P3938=\"\",\"\",NETWORKDAYS(C3938+1,P3938,Hoja1!F3930:F4046))","v":""},{"$f":"IFERROR(IF(NETWORKDAYS(R3938+1,P3938,Hoja1!F3930:F4046)<=0,\"\",NETWORKDAYS(R3938+1,P3938,Hoja1!F3930:F4046)),0)","v":""},null,null,{"$f":"IFERROR(VLOOKUP(L3938,Hoja1!$A$50:$C$63,2),\"\")","v":""},{"$f":"IFERROR(VLOOKUP(L3938,Hoja1!$A$50:$C$63,3),\"\")","v":""}]
[null,null,null,null,null,null,null,null,null,null,null,null,null,null,null,null,null,null,null,null,null,{"$f":"IFERROR(WORKDAY(T3943,AE3943,Hoja1!F3935:F4051),\"\")","v":""},"",null,"",{"$f":"IF(P3943=\"\",\"\",NETWORKDAYS(C3943+1,P3943,Hoja1!F3935:F4051))","v":""},{"$f":"IFERROR(IF(NETWORKDAYS(R3943+1,P3943,Hoja1!F3935:F4051)<=0,\"\",NETWORKDAYS(R3943+1,P3943,Hoja1!F3935:F4051)),0)","v":""},null,null,{"$f":"IFERROR(VLOOKUP(L3943,Hoja1!$A$50:$C$63,2),\"\")","v":""},{"$f":"IFERROR(VLOOKUP(L3943,Hoja1!$A$50:$C$63,3),\"\")","v":""}]
[null,null,null,null,null,null,null,null,null,null,null,null,null,null,null,null,null,null,null,null,null,{"$f":"IFERROR(WORKDAY(T3946,AE3946,Hoja1!F3938:F4054),\"\")","v":""},"",null,"",{"$f":"IF(P3946=\"\",\"\",NETWORKDAYS(C3946+1,P3946,Hoja1!F3938:F4054))","v":""},{"$f":"IFERROR(IF(NETWORKDAYS(R3946+1,P3946,Hoja1!F3938:F4054)<=0,\"\",NETWORKDAYS(R3946+1,P3946,Hoja1!F3938:F4054)),0)","v":""},null,null,{"$f":"IFERROR(VLOOKUP(L3946,Hoja1!$A$50:$C$63,2),\"\")","v":""},{"$f":"IFERROR(VLOOKUP(L3946,Hoja1!$A$50:$C$63,3),\"\")","v":""}]
[null,null,null,null,null,null,null,null,null,null,null,null,null,null,null,null,null,null,null,null,null,{"$f":"IFERROR(WORKDAY(T3954,AE3954,Hoja1!F3946:F4062),\"\")","v":""},"",null,"",{"$f":"IF(P3954=\"\",\"\",NETWORKDAYS(C3954+1,P3954,Hoja1!F3946:F4062))","v":""},{"$f":"IFERROR(IF(NETWORKDAYS(R3954+1,P3954,Hoja1!F3946:F4062)<=0,\"\",NETWORKDAYS(R3954+1,P3954,Hoja1!F3946:F4062)),0)","v":""},null,null,{"$f":"IFERROR(VLOOKUP(L3954,Hoja1!$A$50:$C$63,2),\"\")","v":""},{"$f":"IFERROR(VLOOKUP(L3954,Hoja1!$A$50:$C$63,3),\"\")","v":""}]
[null,null,null,null,null,null,null,null,null,null,null,null,null,null,null,null,null,null,null,null,null,{"$f":"IFERROR(WORKDAY(T3955,AE3955,Hoja1!F3947:F4063),\"\")","v":""},"",null,"",{"$f":"IF(P3955=\"\",\"\",NETWORKDAYS(C3955+1,P3955,Hoja1!F3947:F4063))","v":""},{"$f":"IFERROR(IF(NETWORKDAYS(R3955+1,P3955,Hoja1!F3947:F4063)<=0,\"\",NETWORKDAYS(R3955+1,P3955,Hoja1!F3947:F4063)),0)","v":""},null,null,{"$f":"IFERROR(VLOOKUP(L3955,Hoja1!$A$50:$C$63,2),\"\")","v":""},{"$f":"IFERROR(VLOOKUP(L3955,Hoja1!$A$50:$C$63,3),\"\")","v":""}]
[null,null,null,null,null,null,null,null,null,null,null,null,null,null,null,null,null,null,null,null,null,{"$f":"IFERROR(WORKDAY(T3961,AE3961,Hoja1!F3953:F4069),\"\")","v":""},"",null,"",{"$f":"IF(P3961=\"\",\"\",NETWORKDAYS(C3961+1,P3961,Hoja1!F3953:F4069))","v":""},{"$f":"IFERROR(IF(NETWORKDAYS(R3961+1,P3961,Hoja1!F3953:F4069)<=0,\"\",NETWORKDAYS(R3961+1,P3961,Hoja1!F3953:F4069)),0)","v":""},null,null,{"$f":"IFERROR(VLOOKUP(L3961,Hoja1!$A$50:$C$63,2),\"\")","v":""},{"$f":"IFERROR(VLOOKUP(L3961,Hoja1!$A$50:$C$63,3),\"\")","v":""}]
[null,null,null,null,null,null,null,null,null,null,null,null,null,null,null,null,null,null,null,null,null,{"$f":"IFERROR(WORKDAY(T3965,AE3965,Hoja1!F3957:F4073),\"\")","v":""},"",null,"",{"$f":"IF(P3965=\"\",\"\",NETWORKDAYS(C3965+1,P3965,Hoja1!F3957:F4073))","v":""},{"$f":"IFERROR(IF(NETWORKDAYS(R3965+1,P3965,Hoja1!F3957:F4073)<=0,\"\",NETWORKDAYS(R3965+1,P3965,Hoja1!F3957:F4073)),0)","v":""},null,null,{"$f":"IFERROR(VLOOKUP(L3965,Hoja1!$A$50:$C$63,2),\"\")","v":""},{"$f":"IFERROR(VLOOKUP(L3965,Hoja1!$A$50:$C$63,3),\"\")","v":""}]
[null,null,null,null,null,null,null,null,null,null,null,null,null,null,null,null,null,null,null,null,null,{"$f":"IFERROR(WORKDAY(T3972,AE3972,Hoja1!F3964:F4080),\"\")","v":""},"",null,"",{"$f":"IF(P3972=\"\",\"\",NETWORKDAYS(C3972+1,P3972,Hoja1!F3964:F4080))","v":""},{"$f":"IFERROR(IF(NETWORKDAYS(R3972+1,P3972,Hoja1!F3964:F4080)<=0,\"\",NETWORKDAYS(R3972+1,P3972,Hoja1!F3964:F4080)),0)","v":""},null,null,{"$f":"IFERROR(VLOOKUP(L3972,Hoja1!$A$50:$C$63,2),\"\")","v":""},{"$f":"IFERROR(VLOOKUP(L3972,Hoja1!$A$50:$C$63,3),\"\")","v":""}]
[null,null,null,null,null,null,null,null,null,null,null,null,null,null,null,null,null,null,null,null,null,{"$f":"IFERROR(WORKDAY(T3973,AE3973,Hoja1!F3965:F4081),\"\")","v":""},"",null,"",{"$f":"IF(P3973=\"\",\"\",NETWORKDAYS(C3973+1,P3973,Hoja1!F3965:F4081))","v":""},{"$f":"IFERROR(IF(NETWORKDAYS(R3973+1,P3973,Hoja1!F3965:F4081)<=0,\"\",NETWORKDAYS(R3973+1,P3973,Hoja1!F3965:F4081)),0)","v":""},null,null,{"$f":"IFERROR(VLOOKUP(L3973,Hoja1!$A$50:$C$63,2),\"\")","v":""},{"$f":"IFERROR(VLOOKUP(L3973,Hoja1!$A$50:$C$63,3),\"\")","v":""}]
[null,null,null,null,null,null,null,null,null,null,null,null,null,null,null,null,null,null,null,null,null,{"$f":"IFERROR(WORKDAY(T3979,AE3979,Hoja1!F3971:F4087),\"\")","v":""},"",null,"",{"$f":"IF(P3979=\"\",\"\",NETWORKDAYS(C3979+1,P3979,Hoja1!F3971:F4087))","v":""},{"$f":"IFERROR(IF(NETWORKDAYS(R3979+1,P3979,Hoja1!F3971:F4087)<=0,\"\",NETWORKDAYS(R3979+1,P3979,Hoja1!F3971:F4087)),0)","v":""},null,null,{"$f":"IFERROR(VLOOKUP(L3979,Hoja1!$A$50:$C$63,2),\"\")","v":""},{"$f":"IFERROR(VLOOKUP(L3979,Hoja1!$A$50:$C$63,3),\"\")","v":""}]
[null,null,null,null,null,null,null,null,null,null,null,null,null,null,null,null,null,null,null,null,null,{"$f":"IFERROR(WORKDAY(T3984,AE3984,Hoja1!F3976:F4092),\"\")","v":""},"",null,"",{"$f":"IF(P3984=\"\",\"\",NETWORKDAYS(C3984+1,P3984,Hoja1!F3976:F4092))","v":""},{"$f":"IFERROR(IF(NETWORKDAYS(R3984+1,P3984,Hoja1!F3976:F4092)<=0,\"\",NETWORKDAYS(R3984+1,P3984,Hoja1!F3976:F4092)),0)","v":""},null,null,{"$f":"IFERROR(VLOOKUP(L3984,Hoja1!$A$50:$C$63,2),\"\")","v":""},{"$f":"IFERROR(VLOOKUP(L3984,Hoja1!$A$50:$C$63,3),\"\")","v":""}]
[null,null,null,null,null,null,null,null,null,null,null,null,null,null,null,null,null,null,null,null,null,{"$f":"IFERROR(WORKDAY(T3989,AE3989,Hoja1!F3981:F4097),\"\")","v":""},"",null,"",{"$f":"IF(P3989=\"\",\"\",NETWORKDAYS(C3989+1,P3989,Hoja1!F3981:F4097))","v":""},{"$f":"IFERROR(IF(NETWORKDAYS(R3989+1,P3989,Hoja1!F3981:F4097)<=0,\"\",NETWORKDAYS(R3989+1,P3989,Hoja1!F3981:F4097)),0)","v":""},null,null,{"$f":"IFERROR(VLOOKUP(L3989,Hoja1!$A$50:$C$63,2),\"\")","v":""},{"$f":"IFERROR(VLOOKUP(L3989,Hoja1!$A$50:$C$63,3),\"\")","v":""}]
[null,null,null,null,null,null,null,null,null,null,null,null,null,null,null,null,null,null,null,null,null,{"$f":"IFERROR(WORKDAY(T3991,AE3991,Hoja1!F3983:F4099),\"\")","v":""},"",null,"",{"$f":"IF(P3991=\"\",\"\",NETWORKDAYS(C3991+1,P3991,Hoja1!F3983:F4099))","v":""},{"$f":"IFERROR(IF(NETWORKDAYS(R3991+1,P3991,Hoja1!F3983:F4099)<=0,\"\",NETWORKDAYS(R3991+1,P3991,Hoja1!F3983:F4099)),0)","v":""},null,null,{"$f":"IFERROR(VLOOKUP(L3991,Hoja1!$A$50:$C$63,2),\"\")","v":""},{"$f":"IFERROR(VLOOKUP(L3991,Hoja1!$A$50:$C$63,3),\"\")","v":""}]
[null,null,null,null,null,null,null,null,null,null,null,null,null,null,null,null,null,null,null,null,null,{"$f":"IFERROR(WORKDAY(T3999,AE3999,Hoja1!F3991:F4107),\"\")","v":""},"",null,"",{"$f":"IF(P3999=\"\",\"\",NETWORKDAYS(C3999+1,P3999,Hoja1!F3991:F4107))","v":""},{"$f":"IFERROR(IF(NETWORKDAYS(R3999+1,P3999,Hoja1!F3991:F4107)<=0,\"\",NETWORKDAYS(R3999+1,P3999,Hoja1!F3991:F4107)),0)","v":""},null,null,{"$f":"IFERROR(VLOOKUP(L3999,Hoja1!$A$50:$C$63,2),\"\")","v":""},{"$f":"IFERROR(VLOOKUP(L3999,Hoja1!$A$50:$C$63,3),\"\")","v":""}]
[null,null,null,null,null,null,null,null,null,null,null,null,null,null,null,null,null,null,null,null,null,{"$f":"IFERROR(WORKDAY(T4002,AE4002,Hoja1!F3994:F4110),\"\")","v":""},"",null,"",{"$f":"IF(P4002=\"\",\"\",NETWORKDAYS(C4002+1,P4002,Hoja1!F3994:F4110))","v":""},{"$f":"IFERROR(IF(NETWORKDAYS(R4002+1,P4002,Hoja1!F3994:F4110)<=0,\"\",NETWORKDAYS(R4002+1,P4002,Hoja1!F3994:F4110)),0)","v":""},null,null,{"$f":"IFERROR(VLOOKUP(L4002,Hoja1!$A$50:$C$63,2),\"\")","v":""},{"$f":"IFERROR(VLOOKUP(L4002,Hoja1!$A$50:$C$63,3),\"\")","v":""}]
[null,null,null,null,null,null,null,null,null,null,null,null,null,null,null,null,null,null,null,null,null,{"$f":"IFERROR(WORKDAY(T4007,AE4007,Hoja1!F3999:F4115),\"\")","v":""},"",null,"",{"$f":"IF(P4007=\"\",\"\",NETWORKDAYS(C4007+1,P4007,Hoja1!F3999:F4115))","v":""},{"$f":"IFERROR(IF(NETWORKDAYS(R4007+1,P4007,Hoja1!F3999:F4115)<=0,\"\",NETWORKDAYS(R4007+1,P4007,Hoja1!F3999:F4115)),0)","v":""},null,null,{"$f":"IFERROR(VLOOKUP(L4007,Hoja1!$A$50:$C$63,2),\"\")","v":""},{"$f":"IFERROR(VLOOKUP(L4007,Hoja1!$A$50:$C$63,3),\"\")","v":""}]
[null,null,null,null,null,null,null,null,null,null,null,null,null,null,null,null,null,null,null,null,null,{"$f":"IFERROR(WORKDAY(T4008,AE4008,Hoja1!F4000:F4116),\"\")","v":""},"",null,"",{"$f":"IF(P4008=\"\",\"\",NETWORKDAYS(C4008+1,P4008,Hoja1!F4000:F4116))","v":""},{"$f":"IFERROR(IF(NETWORKDAYS(R4008+1,P4008,Hoja1!F4000:F4116)<=0,\"\",NETWORKDAYS(R4008+1,P4008,Hoja1!F4000:F4116)),0)","v":""},null,null,{"$f":"IFERROR(VLOOKUP(L4008,Hoja1!$A$50:$C$63,2),\"\")","v":""},{"$f":"IFERROR(VLOOKUP(L4008,Hoja1!$A$50:$C$63,3),\"\")","v":""}]
[null,null,null,null,null,null,null,null,null,null,null,null,null,null,null,null,null,null,null,null,null,{"$f":"IFERROR(WORKDAY(T4014,AE4014,Hoja1!F4006:F4122),\"\")","v":""},"",null,"",{"$f":"IF(P4014=\"\",\"\",NETWORKDAYS(C4014+1,P4014,Hoja1!F4006:F4122))","v":""},{"$f":"IFERROR(IF(NETWORKDAYS(R4014+1,P4014,Hoja1!F4006:F4122)<=0,\"\",NETWORKDAYS(R4014+1,P4014,Hoja1!F4006:F4122)),0)","v":""},null,null,{"$f":"IFERROR(VLOOKUP(L4014,Hoja1!$A$50:$C$63,2),\"\")","v":""},{"$f":"IFERROR(VLOOKUP(L4014,Hoja1!$A$50:$C$63,3),\"\")","v":""}]
[null,null,null,null,null,null,null,null,null,null,null,null,null,null,null,null,null,null,null,null,null,{"$f":"IFERROR(WORKDAY(T4018,AE4018,Hoja1!F4010:F4126),\"\")","v":""},"",null,"",{"$f":"IF(P4018=\"\",\"\",NETWORKDAYS(C4018+1,P4018,Hoja1!F4010:F4126))","v":""},{"$f":"IFERROR(IF(NETWORKDAYS(R4018+1,P4018,Hoja1!F4010:F4126)<=0,\"\",NETWORKDAYS(R4018+1,P4018,Hoja1!F4010:F4126)),0)","v":""},null,null,{"$f":"IFERROR(VLOOKUP(L4018,Hoja1!$A$50:$C$63,2),\"\")","v":""},{"$f":"IFERROR(VLOOKUP(L4018,Hoja1!$A$50:$C$63,3),\"\")","v":""}]
[null,null,null,null,null,null,null,null,null,null,null,null,null,null,null,null,null,null,null,null,null,{"$f":"IFERROR(WORKDAY(T4025,AE4025,Hoja1!F4017:F4133),\"\")","v":""},"",null,"",{"$f":"IF(P4025=\"\",\"\",NETWORKDAYS(C4025+1,P4025,Hoja1!F4017:F4133))","v":""},{"$f":"IFERROR(IF(NETWORKDAYS(R4025+1,P4025,Hoja1!F4017:F4133)<=0,\"\",NETWORKDAYS(R4025+1,P4025,Hoja1!F4017:F4133)),0)","v":""},null,null,{"$f":"IFERROR(VLOOKUP(L4025,Hoja1!$A$50:$C$63,2),\"\")","v":""},{"$f":"IFERROR(VLOOKUP(L4025,Hoja1!$A$50:$C$63,3),\"\")","v":""}]
[null,null,null,null,null,null,null,null,null,null,null,null,null,null,null,null,null,null,null,null,null,{"$f":"IFERROR(WORKDAY(T4027,AE4027,Hoja1!F4019:F4135),\"\")","v":""},"",null,"",{"$f":"IF(P4027=\"\",\"\",NETWORKDAYS(C4027+1,P4027,Hoja1!F4019:F4135))","v":""},{"$f":"IFERROR(IF(NETWORKDAYS(R4027+1,P4027,Hoja1!F4019:F4135)<=0,\"\",NETWORKDAYS(R4027+1,P4027,Hoja1!F4019:F4135)),0)","v":""},null,null,{"$f":"IFERROR(VLOOKUP(L4027,Hoja1!$A$50:$C$63,2),\"\")","v":""},{"$f":"IFERROR(VLOOKUP(L4027,Hoja1!$A$50:$C$63,3),\"\")","v":""}]
[null,null,null,null,null,null,null,null,null,null,null,null,null,null,null,null,null,null,null,null,null,{"$f":"IFERROR(WORKDAY(T4032,AE4032,Hoja1!F4024:F4140),\"\")","v":""},"",null,"",{"$f":"IF(P4032=\"\",\"\",NETWORKDAYS(C4032+1,P4032,Hoja1!F4024:F4140))","v":""},{"$f":"IFERROR(IF(NETWORKDAYS(R4032+1,P4032,Hoja1!F4024:F4140)<=0,\"\",NETWORKDAYS(R4032+1,P4032,Hoja1!F4024:F4140)),0)","v":""},null,null,{"$f":"IFERROR(VLOOKUP(L4032,Hoja1!$A$50:$C$63,2),\"\")","v":""},{"$f":"IFERROR(VLOOKUP(L4032,Hoja1!$A$50:$C$63,3),\"\")","v":""}]
[null,null,null,null,null,null,null,null,null,null,null,null,null,null,null,null,null,null,null,null,null,{"$f":"IFERROR(WORKDAY(T4037,AE4037,Hoja1!F4029:F4145),\"\")","v":""},"",null,"",{"$f":"IF(P4037=\"\",\"\",NETWORKDAYS(C4037+1,P4037,Hoja1!F4029:F4145))","v":""},{"$f":"IFERROR(IF(NETWORKDAYS(R4037+1,P4037,Hoja1!F4029:F4145)<=0,\"\",NETWORKDAYS(R4037+1,P4037,Hoja1!F4029:F4145)),0)","v":""},null,null,{"$f":"IFERROR(VLOOKUP(L4037,Hoja1!$A$50:$C$63,2),\"\")","v":""},{"$f":"IFERROR(VLOOKUP(L4037,Hoja1!$A$50:$C$63,3),\"\")","v":""}]
[null,null,null,null,null,null,null,null,null,null,null,null,null,null,null,null,null,null,null,null,null,{"$f":"IFERROR(WORKDAY(T4042,AE4042,Hoja1!F4034:F4150),\"\")","v":""},{"$f":"+IF(T4042=\"\",\"\",IF(U4042=\"\",\"SIN RESPUESTA\",(IF(U4042<=V4042,\"A TIEMPO\",\"FUERA DE TIEMPO\"))))","v":""},null,{"$f":"+IF(C4042=\"\",\"\",IF(P4042=\"\",\"SIN RESPUESTA\",(IF(P4042<=R4042,\"A TIEMPO\",\"FUERA DE TIEMPO\"))))","v":""},{"$f":"IF(P4042=\"\",\"\",NETWORKDAYS(C4042+1,P4042,Hoja1!F4034:F4150))","v":""},{"$f":"IFERROR(IF(NETWORKDAYS(R4042+1,P4042,Hoja1!F4034:F4150)<=0,\"\",NETWORKDAYS(R4042+1,P4042,Hoja1!F4034:F4150)),0)","v":""},null,null,{"$f":"IFERROR(VLOOKUP(L4042,Hoja1!$A$50:$C$63,2),\"\")","v":""},{"$f":"IFERROR(VLOOKUP(L4042,Hoja1!$A$50:$C$63,3),\"\")","v":""}]
[null,null,null,null,null,null,null,null,null,null,null,null,null,null,null,null,null,null,null,null,null,{"$f":"IFERROR(WORKDAY(T4044,AE4044,Hoja1!F4036:F4152),\"\")","v":""},"",null,"",{"$f":"IF(P4044=\"\",\"\",NETWORKDAYS(C4044+1,P4044,Hoja1!F4036:F4152))","v":""},{"$f":"IFERROR(IF(NETWORKDAYS(R4044+1,P4044,Hoja1!F4036:F4152)<=0,\"\",NETWORKDAYS(R4044+1,P4044,Hoja1!F4036:F4152)),0)","v":""},null,null,{"$f":"IFERROR(VLOOKUP(L4044,Hoja1!$A$50:$C$63,2),\"\")","v":""},{"$f":"IFERROR(VLOOKUP(L4044,Hoja1!$A$50:$C$63,3),\"\")","v":""}]
[null,null,null,null,null,null,null,null,null,null,null,null,null,null,null,null,null,null,null,null,null,{"$f":"IFERROR(WORKDAY(T4051,AE4051,Hoja1!F4043:F4159),\"\")","v":""},"",null,"",{"$f":"IF(P4051=\"\",\"\",NETWORKDAYS(C4051+1,P4051,Hoja1!F4043:F4159))","v":""},{"$f":"IFERROR(IF(NETWORKDAYS(R4051+1,P4051,Hoja1!F4043:F4159)<=0,\"\",NETWORKDAYS(R4051+1,P4051,Hoja1!F4043:F4159)),0)","v":""},null,null,{"$f":"IFERROR(VLOOKUP(L4051,Hoja1!$A$50:$C$63,2),\"\")","v":""},{"$f":"IFERROR(VLOOKUP(L4051,Hoja1!$A$50:$C$63,3),\"\")","v":""}]
[null,null,null,null,null,null,null,null,null,null,null,null,null,null,null,null,null,null,null,null,null,{"$f":"IFERROR(WORKDAY(T4055,AE4055,Hoja1!F4047:F4163),\"\")","v":""},"",null,"",{"$f":"IF(P4055=\"\",\"\",NETWORKDAYS(C4055+1,P4055,Hoja1!F4047:F4163))","v":""},{"$f":"IFERROR(IF(NETWORKDAYS(R4055+1,P4055,Hoja1!F4047:F4163)<=0,\"\",NETWORKDAYS(R4055+1,P4055,Hoja1!F4047:F4163)),0)","v":""},null,null,{"$f":"IFERROR(VLOOKUP(L4055,Hoja1!$A$50:$C$63,2),\"\")","v":""},{"$f":"IFERROR(VLOOKUP(L4055,Hoja1!$A$50:$C$63,3),\"\")","v":""}]
[null,null,null,null,null,null,null,null,null,null,null,null,null,null,null,null,null,null,null,null,null,{"$f":"IFERROR(WORKDAY(T4061,AE4061,Hoja1!F4053:F4169),\"\")","v":""},"",null,"",{"$f":"IF(P4061=\"\",\"\",NETWORKDAYS(C4061+1,P4061,Hoja1!F4053:F4169))","v":""},{"$f":"IFERROR(IF(NETWORKDAYS(R4061+1,P4061,Hoja1!F4053:F4169)<=0,\"\",NETWORKDAYS(R4061+1,P4061,Hoja1!F4053:F4169)),0)","v":""},null,null,{"$f":"IFERROR(VLOOKUP(L4061,Hoja1!$A$50:$C$63,2),\"\")","v":""},{"$f":"IFERROR(VLOOKUP(L4061,Hoja1!$A$50:$C$63,3),\"\")","v":""}]
[null,null,null,null,null,null,null,null,null,null,null,null,null,null,null,null,null,null,null,null,null,{"$f":"IFERROR(WORKDAY(T4062,AE4062,Hoja1!F4054:F4170),\"\")","v":""},"",null,"",{"$f":"IF(P4062=\"\",\"\",NETWORKDAYS(C4062+1,P4062,Hoja1!F4054:F4170))","v":""},{"$f":"IFERROR(IF(NETWORKDAYS(R4062+1,P4062,Hoja1!F4054:F4170)<=0,\"\",NETWORKDAYS(R4062+1,P4062,Hoja1!F4054:F4170)),0)","v":""},null,null,{"$f":"IFERROR(VLOOKUP(L4062,Hoja1!$A$50:$C$63,2),\"\")","v":""},{"$f":"IFERROR(VLOOKUP(L4062,Hoja1!$A$50:$C$63,3),\"\")","v":""}]
[null,null,null,null,null,null,null,null,null,null,null,null,null,null,null,null,null,null,null,null,null,{"$f":"IFERROR(WORKDAY(T4067,AE4067,Hoja1!F4059:F4175),\"\")","v":""},"",null,"",{"$f":"IF(P4067=\"\",\"\",NETWORKDAYS(C4067+1,P4067,Hoja1!F4059:F4175))","v":""},{"$f":"IFERROR(IF(NETWORKDAYS(R4067+1,P4067,Hoja1!F4059:F4175)<=0,\"\",NETWORKDAYS(R4067+1,P4067,Hoja1!F4059:F4175)),0)","v":""},null,null,{"$f":"IFERROR(VLOOKUP(L4067,Hoja1!$A$50:$C$63,2),\"\")","v":""},{"$f":"IFERROR(VLOOKUP(L4067,Hoja1!$A$50:$C$63,3),\"\")","v":""}]
[null,null,null,null,null,null,null,null,null,null,null,null,null,null,null,null,null,null,null,null,null,{"$f":"IFERROR(WORKDAY(T4070,AE4070,Hoja1!F4062:F4178),\"\")","v":""},"",null,"",{"$f":"IF(P4070=\"\",\"\",NETWORKDAYS(C4070+1,P4070,Hoja1!F4062:F4178))","v":""},{"$f":"IFERROR(IF(NETWORKDAYS(R4070+1,P4070,Hoja1!F4062:F4178)<=0,\"\",NETWORKDAYS(R4070+1,P4070,Hoja1!F4062:F4178)),0)","v":""},null,null,{"$f":"IFERROR(VLOOKUP(L4070,Hoja1!$A$50:$C$63,2),\"\")","v":""},{"$f":"IFERROR(VLOOKUP(L4070,Hoja1!$A$50:$C$63,3),\"\")","v":""}]
[null,null,null,null,null,null,null,null,null,null,null,null,null,null,null,null,null,null,null,null,null,{"$f":"IFERROR(WORKDAY(T4078,AE4078,Hoja1!F4070:F4186),\"\")","v":""},"",null,"",{"$f":"IF(P4078=\"\",\"\",NETWORKDAYS(C4078+1,P4078,Hoja1!F4070:F4186))","v":""},{"$f":"IFERROR(IF(NETWORKDAYS(R4078+1,P4078,Hoja1!F4070:F4186)<=0,\"\",NETWORKDAYS(R4078+1,P4078,Hoja1!F4070:F4186)),0)","v":""},null,null,{"$f":"IFERROR(VLOOKUP(L4078,Hoja1!$A$50:$C$63,2),\"\")","v":""},{"$f":"IFERROR(VLOOKUP(L4078,Hoja1!$A$50:$C$63,3),\"\")","v":""}]
[null,null,null,null,null,null,null,null,null,null,null,null,null,null,null,null,null,null,null,null,null,{"$f":"IFERROR(WORKDAY(T4080,AE4080,Hoja1!F4072:F4188),\"\")","v":""},"",null,"",{"$f":"IF(P4080=\"\",\"\",NETWORKDAYS(C4080+1,P4080,Hoja1!F4072:F4188))","v":""},{"$f":"IFERROR(IF(NETWORKDAYS(R4080+1,P4080,Hoja1!F4072:F4188)<=0,\"\",NETWORKDAYS(R4080+1,P4080,Hoja1!F4072:F4188)),0)","v":""},null,null,{"$f":"IFERROR(VLOOKUP(L4080,Hoja1!$A$50:$C$63,2),\"\")","v":""},{"$f":"IFERROR(VLOOKUP(L4080,Hoja1!$A$50:$C$63,3),\"\")","v":""}]
[null,null,null,null,null,null,null,null,null,null,null,null,null,null,null,null,null,null,null,null,null,{"$f":"IFERROR(WORKDAY(T4085,AE4085,Hoja1!F4077:F4193),\"\")","v":""},"",null,"",{"$f":"IF(P4085=\"\",\"\",NETWORKDAYS(C4085+1,P4085,Hoja1!F4077:F4193))","v":""},{"$f":"IFERROR(IF(NETWORKDAYS(R4085+1,P4085,Hoja1!F4077:F4193)<=0,\"\",NETWORKDAYS(R4085+1,P4085,Hoja1!F4077:F4193)),0)","v":""},null,null,{"$f":"IFERROR(VLOOKUP(L4085,Hoja1!$A$50:$C$63,2),\"\")","v":""},{"$f":"IFERROR(VLOOKUP(L4085,Hoja1!$A$50:$C$63,3),\"\")","v":""}]
[null,null,null,null,null,null,null,null,null,null,null,null,null,null,null,null,null,null,null,null,null,{"$f":"IFERROR(WORKDAY(T4090,AE4090,Hoja1!F4082:F4198),\"\")","v":""},"",null,"",{"$f":"IF(P4090=\"\",\"\",NETWORKDAYS(C4090+1,P4090,Hoja1!F4082:F4198))","v":""},{"$f":"IFERROR(IF(NETWORKDAYS(R4090+1,P4090,Hoja1!F4082:F4198)<=0,\"\",NETWORKDAYS(R4090+1,P4090,Hoja1!F4082:F4198)),0)","v":""},null,null,{"$f":"IFERROR(VLOOKUP(L4090,Hoja1!$A$50:$C$63,2),\"\")","v":""},{"$f":"IFERROR(VLOOKUP(L4090,Hoja1!$A$50:$C$63,3),\"\")","v":""}]
[null,null,null,null,null,null,null,null,null,null,null,null,null,null,null,null,null,null,null,null,null,{"$f":"IFERROR(WORKDAY(T4096,AE4096,Hoja1!F4088:F4204),\"\")","v":""},"",null,"",{"$f":"IF(P4096=\"\",\"\",NETWORKDAYS(C4096+1,P4096,Hoja1!F4088:F4204))","v":""},{"$f":"IFERROR(IF(NETWORKDAYS(R4096+1,P4096,Hoja1!F4088:F4204)<=0,\"\",NETWORKDAYS(R4096+1,P4096,Hoja1!F4088:F4204)),0)","v":""},null,null,{"$f":"IFERROR(VLOOKUP(L4096,Hoja1!$A$50:$C$63,2),\"\")","v":""},{"$f":"IFERROR(VLOOKUP(L4096,Hoja1!$A$50:$C$63,3),\"\")","v":""}]
[null,null,null,null,null,null,null,null,null,null,null,null,null,null,null,null,null,null,null,null,null,{"$f":"IFERROR(WORKDAY(T4099,AE4099,Hoja1!F4091:F4207),\"\")","v":""},"",null,"",{"$f":"IF(P4099=\"\",\"\",NETWORKDAYS(C4099+1,P4099,Hoja1!F4091:F4207))","v":""},{"$f":"IFERROR(IF(NETWORKDAYS(R4099+1,P4099,Hoja1!F4091:F4207)<=0,\"\",NETWORKDAYS(R4099+1,P4099,Hoja1!F4091:F4207)),0)","v":""},null,null,{"$f":"IFERROR(VLOOKUP(L4099,Hoja1!$A$50:$C$63,2),\"\")","v":""},{"$f":"IFERROR(VLOOKUP(L4099,Hoja1!$A$50:$C$63,3),\"\")","v":""}]
[null,null,null,null,null,null,null,null,null,null,null,null,null,null,null,null,null,null,null,null,null,{"$f":"IFERROR(WORKDAY(T4103,AE4103,Hoja1!F4095:F4211),\"\")","v":""},"",null,"",{"$f":"IF(P4103=\"\",\"\",NETWORKDAYS(C4103+1,P4103,Hoja1!F4095:F4211))","v":""},{"$f":"IFERROR(IF(NETWORKDAYS(R4103+1,P4103,Hoja1!F4095:F4211)<=0,\"\",NETWORKDAYS(R4103+1,P4103,Hoja1!F4095:F4211)),0)","v":""},null,null,{"$f":"IFERROR(VLOOKUP(L4103,Hoja1!$A$50:$C$63,2),\"\")","v":""},{"$f":"IFERROR(VLOOKUP(L4103,Hoja1!$A$50:$C$63,3),\"\")","v":""}]
[null,null,null,null,null,null,null,null,null,null,null,null,null,null,null,null,null,null,null,null,null,{"$f":"IFERROR(WORKDAY(T4108,AE4108,Hoja1!F4100:F4216),\"\")","v":""},"",null,"",{"$f":"IF(P4108=\"\",\"\",NETWORKDAYS(C4108+1,P4108,Hoja1!F4100:F4216))","v":""},{"$f":"IFERROR(IF(NETWORKDAYS(R4108+1,P4108,Hoja1!F4100:F4216)<=0,\"\",NETWORKDAYS(R4108+1,P4108,Hoja1!F4100:F4216)),0)","v":""},null,null,{"$f":"IFERROR(VLOOKUP(L4108,Hoja1!$A$50:$C$63,2),\"\")","v":""},{"$f":"IFERROR(VLOOKUP(L4108,Hoja1!$A$50:$C$63,3),\"\")","v":""}]
[null,null,null,null,null,null,null,null,null,null,null,null,null,null,null,null,null,null,null,null,null,{"$f":"IFERROR(WORKDAY(T4114,AE4114,Hoja1!F4106:F4222),\"\")","v":""},"",null,"",{"$f":"IF(P4114=\"\",\"\",NETWORKDAYS(C4114+1,P4114,Hoja1!F4106:F4222))","v":""},{"$f":"IFERROR(IF(NETWORKDAYS(R4114+1,P4114,Hoja1!F4106:F4222)<=0,\"\",NETWORKDAYS(R4114+1,P4114,Hoja1!F4106:F4222)),0)","v":""},null,null,{"$f":"IFERROR(VLOOKUP(L4114,Hoja1!$A$50:$C$63,2),\"\")","v":""},{"$f":"IFERROR(VLOOKUP(L4114,Hoja1!$A$50:$C$63,3),\"\")","v":""}]
[null,null,null,null,null,null,null,null,null,null,null,null,null,null,null,null,null,null,null,null,null,{"$f":"IFERROR(WORKDAY(T4115,AE4115,Hoja1!F4107:F4223),\"\")","v":""},"",null,"",{"$f":"IF(P4115=\"\",\"\",NETWORKDAYS(C4115+1,P4115,Hoja1!F4107:F4223))","v":""},{"$f":"IFERROR(IF(NETWORKDAYS(R4115+1,P4115,Hoja1!F4107:F4223)<=0,\"\",NETWORKDAYS(R4115+1,P4115,Hoja1!F4107:F4223)),0)","v":""},null,null,{"$f":"IFERROR(VLOOKUP(L4115,Hoja1!$A$50:$C$63,2),\"\")","v":""},{"$f":"IFERROR(VLOOKUP(L4115,Hoja1!$A$50:$C$63,3),\"\")","v":""}]
[null,null,null,null,null,null,null,null,null,null,null,null,null,null,null,null,null,null,null,null,null,{"$f":"IFERROR(WORKDAY(T4123,AE4123,Hoja1!F4115:F4231),\"\")","v":""},"",null,"",{"$f":"IF(P4123=\"\",\"\",NETWORKDAYS(C4123+1,P4123,Hoja1!F4115:F4231))","v":""},{"$f":"IFERROR(IF(NETWORKDAYS(R4123+1,P4123,Hoja1!F4115:F4231)<=0,\"\",NETWORKDAYS(R4123+1,P4123,Hoja1!F4115:F4231)),0)","v":""},null,null,{"$f":"IFERROR(VLOOKUP(L4123,Hoja1!$A$50:$C$63,2),\"\")","v":""},{"$f":"IFERROR(VLOOKUP(L4123,Hoja1!$A$50:$C$63,3),\"\")","v":""}]
[null,null,null,null,null,null,null,null,null,null,null,null,null,null,null,null,null,null,null,null,null,{"$f":"IFERROR(WORKDAY(T4126,AE4126,Hoja1!F4118:F4234),\"\")","v":""},"",null,"",{"$f":"IF(P4126=\"\",\"\",NETWORKDAYS(C4126+1,P4126,Hoja1!F4118:F4234))","v":""},{"$f":"IFERROR(IF(NETWORKDAYS(R4126+1,P4126,Hoja1!F4118:F4234)<=0,\"\",NETWORKDAYS(R4126+1,P4126,Hoja1!F4118:F4234)),0)","v":""},null,null,{"$f":"IFERROR(VLOOKUP(L4126,Hoja1!$A$50:$C$63,2),\"\")","v":""},{"$f":"IFERROR(VLOOKUP(L4126,Hoja1!$A$50:$C$63,3),\"\")","v":""}]
[null,null,null,null,null,null,null,null,null,null,null,null,null,null,null,null,null,null,null,null,null,{"$f":"IFERROR(WORKDAY(T4128,AE4128,Hoja1!F4120:F4236),\"\")","v":""},"",null,"",{"$f":"IF(P4128=\"\",\"\",NETWORKDAYS(C4128+1,P4128,Hoja1!F4120:F4236))","v":""},{"$f":"IFERROR(IF(NETWORKDAYS(R4128+1,P4128,Hoja1!F4120:F4236)<=0,\"\",NETWORKDAYS(R4128+1,P4128,Hoja1!F4120:F4236)),0)","v":""},null,null,{"$f":"IFERROR(VLOOKUP(L4128,Hoja1!$A$50:$C$63,2),\"\")","v":""},{"$f":"IFERROR(VLOOKUP(L4128,Hoja1!$A$50:$C$63,3),\"\")","v":""}]
[null,null,null,null,null,null,null,null,null,null,null,null,null,null,null,null,null,null,null,null,null,{"$f":"IFERROR(WORKDAY(T4133,AE4133,Hoja1!F4125:F4241),\"\")","v":""},"",null,"",{"$f":"IF(P4133=\"\",\"\",NETWORKDAYS(C4133+1,P4133,Hoja1!F4125:F4241))","v":""},{"$f":"IFERROR(IF(NETWORKDAYS(R4133+1,P4133,Hoja1!F4125:F4241)<=0,\"\",NETWORKDAYS(R4133+1,P4133,Hoja1!F4125:F4241)),0)","v":""},null,null,{"$f":"IFERROR(VLOOKUP(L4133,Hoja1!$A$50:$C$63,2),\"\")","v":""},{"$f":"IFERROR(VLOOKUP(L4133,Hoja1!$A$50:$C$63,3),\"\")","v":""}]
[null,null,null,null,null,null,null,null,null,null,null,null,null,null,null,null,null,null,null,null,null,{"$f":"IFERROR(WORKDAY(T4138,AE4138,Hoja1!F4130:F4246),\"\")","v":""},"",null,"",{"$f":"IF(P4138=\"\",\"\",NETWORKDAYS(C4138+1,P4138,Hoja1!F4130:F4246))","v":""},{"$f":"IFERROR(IF(NETWORKDAYS(R4138+1,P4138,Hoja1!F4130:F4246)<=0,\"\",NETWORKDAYS(R4138+1,P4138,Hoja1!F4130:F4246)),0)","v":""},null,null,{"$f":"IFERROR(VLOOKUP(L4138,Hoja1!$A$50:$C$63,2),\"\")","v":""},{"$f":"IFERROR(VLOOKUP(L4138,Hoja1!$A$50:$C$63,3),\"\")","v":""}]
[null,null,null,null,null,null,null,null,null,null,null,null,null,null,null,null,null,null,null,null,null,{"$f":"IFERROR(WORKDAY(T4142,AE4142,Hoja1!F4134:F4250),\"\")","v":""},"",null,"",{"$f":"IF(P4142=\"\",\"\",NETWORKDAYS(C4142+1,P4142,Hoja1!F4134:F4250))","v":""},{"$f":"IFERROR(IF(NETWORKDAYS(R4142+1,P4142,Hoja1!F4134:F4250)<=0,\"\",NETWORKDAYS(R4142+1,P4142,Hoja1!F4134:F4250)),0)","v":""},null,null,{"$f":"IFERROR(VLOOKUP(L4142,Hoja1!$A$50:$C$63,2),\"\")","v":""},{"$f":"IFERROR(VLOOKUP(L4142,Hoja1!$A$50:$C$63,3),\"\")","v":""}]
[null,null,null,null,null,null,null,null,null,null,null,null,null,null,null,null,null,null,null,null,null,{"$f":"IFERROR(WORKDAY(T4149,AE4149,Hoja1!F4141:F4257),\"\")","v":""},"",null,"",{"$f":"IF(P4149=\"\",\"\",NETWORKDAYS(C4149+1,P4149,Hoja1!F4141:F4257))","v":""},{"$f":"IFERROR(IF(NETWORKDAYS(R4149+1,P4149,Hoja1!F4141:F4257)<=0,\"\",NETWORKDAYS(R4149+1,P4149,Hoja1!F4141:F4257)),0)","v":""},null,null,{"$f":"IFERROR(VLOOKUP(L4149,Hoja1!$A$50:$C$63,2),\"\")","v":""},{"$f":"IFERROR(VLOOKUP(L4149,Hoja1!$A$50:$C$63,3),\"\")","v":""}]
[null,null,null,null,null,null,null,null,null,null,null,null,null,null,null,null,null,null,null,null,null,{"$f":"IFERROR(WORKDAY(T4152,AE4152,Hoja1!F4144:F4260),\"\")","v":""},"",null,"",{"$f":"IF(P4152=\"\",\"\",NETWORKDAYS(C4152+1,P4152,Hoja1!F4144:F4260))","v":""},{"$f":"IFERROR(IF(NETWORKDAYS(R4152+1,P4152,Hoja1!F4144:F4260)<=0,\"\",NETWORKDAYS(R4152+1,P4152,Hoja1!F4144:F4260)),0)","v":""},null,null,{"$f":"IFERROR(VLOOKUP(L4152,Hoja1!$A$50:$C$63,2),\"\")","v":""},{"$f":"IFERROR(VLOOKUP(L4152,Hoja1!$A$50:$C$63,3),\"\")","v":""}]
[null,null,null,null,null,null,null,null,null,null,null,null,null,null,null,null,null,null,null,null,null,{"$f":"IFERROR(WORKDAY(T4156,AE4156,Hoja1!F4148:F4264),\"\")","v":""},"",null,"",{"$f":"IF(P4156=\"\",\"\",NETWORKDAYS(C4156+1,P4156,Hoja1!F4148:F4264))","v":""},{"$f":"IFERROR(IF(NETWORKDAYS(R4156+1,P4156,Hoja1!F4148:F4264)<=0,\"\",NETWORKDAYS(R4156+1,P4156,Hoja1!F4148:F4264)),0)","v":""},null,null,{"$f":"IFERROR(VLOOKUP(L4156,Hoja1!$A$50:$C$63,2),\"\")","v":""},{"$f":"IFERROR(VLOOKUP(L4156,Hoja1!$A$50:$C$63,3),\"\")","v":""}]
[null,null,null,null,null,null,null,null,null,null,null,null,null,null,null,null,null,null,null,null,null,{"$f":"IFERROR(WORKDAY(T4162,AE4162,Hoja1!F4154:F4270),\"\")","v":""},"",null,"",{"$f":"IF(P4162=\"\",\"\",NETWORKDAYS(C4162+1,P4162,Hoja1!F4154:F4270))","v":""},{"$f":"IFERROR(IF(NETWORKDAYS(R4162+1,P4162,Hoja1!F4154:F4270)<=0,\"\",NETWORKDAYS(R4162+1,P4162,Hoja1!F4154:F4270)),0)","v":""},null,null,{"$f":"IFERROR(VLOOKUP(L4162,Hoja1!$A$50:$C$63,2),\"\")","v":""},{"$f":"IFERROR(VLOOKUP(L4162,Hoja1!$A$50:$C$63,3),\"\")","v":""}]
[null,null,null,null,null,null,null,null,null,null,null,null,null,null,null,null,null,null,null,null,null,{"$f":"IFERROR(WORKDAY(T4167,AE4167,Hoja1!F4159:F4275),\"\")","v":""},"",null,"",{"$f":"IF(P4167=\"\",\"\",NETWORKDAYS(C4167+1,P4167,Hoja1!F4159:F4275))","v":""},{"$f":"IFERROR(IF(NETWORKDAYS(R4167+1,P4167,Hoja1!F4159:F4275)<=0,\"\",NETWORKDAYS(R4167+1,P4167,Hoja1!F4159:F4275)),0)","v":""},null,null,{"$f":"IFERROR(VLOOKUP(L4167,Hoja1!$A$50:$C$63,2),\"\")","v":""},{"$f":"IFERROR(VLOOKUP(L4167,Hoja1!$A$50:$C$63,3),\"\")","v":""}]
[null,null,null,null,null,null,null,null,null,null,null,null,null,null,null,null,null,null,null,null,null,{"$f":"IFERROR(WORKDAY(T4168,AE4168,Hoja1!F4160:F4276),\"\")","v":""},"",null,"",{"$f":"IF(P4168=\"\",\"\",NETWORKDAYS(C4168+1,P4168,Hoja1!F4160:F4276))","v":""},{"$f":"IFERROR(IF(NETWORKDAYS(R4168+1,P4168,Hoja1!F4160:F4276)<=0,\"\",NETWORKDAYS(R4168+1,P4168,Hoja1!F4160:F4276)),0)","v":""},null,null,{"$f":"IFERROR(VLOOKUP(L4168,Hoja1!$A$50:$C$63,2),\"\")","v":""},{"$f":"IFERROR(VLOOKUP(L4168,Hoja1!$A$50:$C$63,3),\"\")","v":""}]
[null,null,null,null,null,null,null,null,null,null,null,null,null,null,null,null,null,null,null,null,null,{"$f":"IFERROR(WORKDAY(T4176,AE4176,Hoja1!F4168:F4284),\"\")","v":""},"",null,"",{"$f":"IF(P4176=\"\",\"\",NETWORKDAYS(C4176+1,P4176,Hoja1!F4168:F4284))","v":""},{"$f":"IFERROR(IF(NETWORKDAYS(R4176+1,P4176,Hoja1!F4168:F4284)<=0,\"\",NETWORKDAYS(R4176+1,P4176,Hoja1!F4168:F4284)),0)","v":""},null,null,{"$f":"IFERROR(VLOOKUP(L4176,Hoja1!$A$50:$C$63,2),\"\")","v":""},{"$f":"IFERROR(VLOOKUP(L4176,Hoja1!$A$50:$C$63,3),\"\")","v":""}]
[null,null,null,null,null,null,null,null,null,null,null,null,null,null,null,null,null,null,null,null,null,{"$f":"IFERROR(WORKDAY(T4179,AE4179,Hoja1!F4171:F4287),\"\")","v":""},"",null,"",{"$f":"IF(P4179=\"\",\"\",NETWORKDAYS(C4179+1,P4179,Hoja1!F4171:F4287))","v":""},{"$f":"IFERROR(IF(NETWORKDAYS(R4179+1,P4179,Hoja1!F4171:F4287)<=0,\"\",NETWORKDAYS(R4179+1,P4179,Hoja1!F4171:F4287)),0)","v":""},null,null,{"$f":"IFERROR(VLOOKUP(L4179,Hoja1!$A$50:$C$63,2),\"\")","v":""},{"$f":"IFERROR(VLOOKUP(L4179,Hoja1!$A$50:$C$63,3),\"\")","v":""}]
[null,null,null,null,null,null,null,null,null,null,null,null,null,null,null,null,null,null,null,null,null,{"$f":"IFERROR(WORKDAY(T4181,AE4181,Hoja1!F4173:F4289),\"\")","v":""},"",null,"",{"$f":"IF(P4181=\"\",\"\",NETWORKDAYS(C4181+1,P4181,Hoja1!F4173:F4289))","v":""},{"$f":"IFERROR(IF(NETWORKDAYS(R4181+1,P4181,Hoja1!F4173:F4289)<=0,\"\",NETWORKDAYS(R4181+1,P4181,Hoja1!F4173:F4289)),0)","v":""},null,null,{"$f":"IFERROR(VLOOKUP(L4181,Hoja1!$A$50:$C$63,2),\"\")","v":""},{"$f":"IFERROR(VLOOKUP(L4181,Hoja1!$A$50:$C$63,3),\"\")","v":""}]
[null,null,null,null,null,null,null,null,null,null,null,null,null,null,null,null,null,null,null,null,null,{"$f":"IFERROR(WORKDAY(T4186,AE4186,Hoja1!F4178:F4294),\"\")","v":""},"",null,"",{"$f":"IF(P4186=\"\",\"\",NETWORKDAYS(C4186+1,P4186,Hoja1!F4178:F4294))","v":""},{"$f":"IFERROR(IF(NETWORKDAYS(R4186+1,P4186,Hoja1!F4178:F4294)<=0,\"\",NETWORKDAYS(R4186+1,P4186,Hoja1!F4178:F4294)),0)","v":""},null,null,{"$f":"IFERROR(VLOOKUP(L4186,Hoja1!$A$50:$C$63,2),\"\")","v":""},{"$f":"IFERROR(VLOOKUP(L4186,Hoja1!$A$50:$C$63,3),\"\")","v":""}]
[null,null,null,null,null,null,null,null,null,null,null,null,null,null,null,null,null,null,null,null,null,{"$f":"IFERROR(WORKDAY(T4191,AE4191,Hoja1!F4183:F4299),\"\")","v":""},"",null,"",{"$f":"IF(P4191=\"\",\"\",NETWORKDAYS(C4191+1,P4191,Hoja1!F4183:F4299))","v":""},{"$f":"IFERROR(IF(NETWORKDAYS(R4191+1,P4191,Hoja1!F4183:F4299)<=0,\"\",NETWORKDAYS(R4191+1,P4191,Hoja1!F4183:F4299)),0)","v":""},null,null,{"$f":"IFERROR(VLOOKUP(L4191,Hoja1!$A$50:$C$63,2),\"\")","v":""},{"$f":"IFERROR(VLOOKUP(L4191,Hoja1!$A$50:$C$63,3),\"\")","v":""}]
[null,null,null,null,null,null,null,null,null,null,null,null,null,null,null,null,null,null,null,null,null,{"$f":"IFERROR(WORKDAY(T4197,AE4197,Hoja1!F4189:F4305),\"\")","v":""},"",null,"",{"$f":"IF(P4197=\"\",\"\",NETWORKDAYS(C4197+1,P4197,Hoja1!F4189:F4305))","v":""},{"$f":"IFERROR(IF(NETWORKDAYS(R4197+1,P4197,Hoja1!F4189:F4305)<=0,\"\",NETWORKDAYS(R4197+1,P4197,Hoja1!F4189:F4305)),0)","v":""},null,null,{"$f":"IFERROR(VLOOKUP(L4197,Hoja1!$A$50:$C$63,2),\"\")","v":""},{"$f":"IFERROR(VLOOKUP(L4197,Hoja1!$A$50:$C$63,3),\"\")","v":""}]
[null,null,null,null,null,null,null,null,null,null,null,null,null,null,null,null,null,null,null,null,null,{"$f":"IFERROR(WORKDAY(T4202,AE4202,Hoja1!F4194:F4310),\"\")","v":""},"",null,"",{"$f":"IF(P4202=\"\",\"\",NETWORKDAYS(C4202+1,P4202,Hoja1!F4194:F4310))","v":""},{"$f":"IFERROR(IF(NETWORKDAYS(R4202+1,P4202,Hoja1!F4194:F4310)<=0,\"\",NETWORKDAYS(R4202+1,P4202,Hoja1!F4194:F4310)),0)","v":""},null,null,{"$f":"IFERROR(VLOOKUP(L4202,Hoja1!$A$50:$C$63,2),\"\")","v":""},{"$f":"IFERROR(VLOOKUP(L4202,Hoja1!$A$50:$C$63,3),\"\")","v":""}]
[null,null,null,null,null,null,null,null,null,null,null,null,null,null,null,null,null,null,null,null,null,{"$f":"IFERROR(WORKDAY(T4205,AE4205,Hoja1!F4197:F4313),\"\")","v":""},"",null,"",{"$f":"IF(P4205=\"\",\"\",NETWORKDAYS(C4205+1,P4205,Hoja1!F4197:F4313))","v":""},{"$f":"IFERROR(IF(NETWORKDAYS(R4205+1,P4205,Hoja1!F4197:F4313)<=0,\"\",NETWORKDAYS(R4205+1,P4205,Hoja1!F4197:F4313)),0)","v":""},null,null,{"$f":"IFERROR(VLOOKUP(L4205,Hoja1!$A$50:$C$63,2),\"\")","v":""},{"$f":"IFERROR(VLOOKUP(L4205,Hoja1!$A$50:$C$63,3),\"\")","v":""}]
[null,null,null,null,null,null,null,null,null,null,null,null,null,null,null,null,null,null,null,null,null,{"$f":"IFERROR(WORKDAY(T4209,AE4209,Hoja1!F4201:F4317),\"\")","v":""},"",null,"",{"$f":"IF(P4209=\"\",\"\",NETWORKDAYS(C4209+1,P4209,Hoja1!F4201:F4317))","v":""},{"$f":"IFERROR(IF(NETWORKDAYS(R4209+1,P4209,Hoja1!F4201:F4317)<=0,\"\",NETWORKDAYS(R4209+1,P4209,Hoja1!F4201:F4317)),0)","v":""},null,null,{"$f":"IFERROR(VLOOKUP(L4209,Hoja1!$A$50:$C$63,2),\"\")","v":""},{"$f":"IFERROR(VLOOKUP(L4209,Hoja1!$A$50:$C$63,3),\"\")","v":""}]
[null,null,null,null,null,null,null,null,null,null,null,null,null,null,null,null,null,null,null,null,null,{"$f":"IFERROR(WORKDAY(T4214,AE4214,Hoja1!F4206:F4322),\"\")","v":""},"",null,"",{"$f":"IF(P4214=\"\",\"\",NETWORKDAYS(C4214+1,P4214,Hoja1!F4206:F4322))","v":""},{"$f":"IFERROR(IF(NETWORKDAYS(R4214+1,P4214,Hoja1!F4206:F4322)<=0,\"\",NETWORKDAYS(R4214+1,P4214,Hoja1!F4206:F4322)),0)","v":""},null,null,{"$f":"IFERROR(VLOOKUP(L4214,Hoja1!$A$50:$C$63,2),\"\")","v":""},{"$f":"IFERROR(VLOOKUP(L4214,Hoja1!$A$50:$C$63,3),\"\")","v":""}]
[null,null,null,null,null,null,null,null,null,null,null,null,null,null,null,null,null,null,null,null,null,{"$f":"IFERROR(WORKDAY(T4220,AE4220,Hoja1!F4212:F4328),\"\")","v":""},"",null,"",{"$f":"IF(P4220=\"\",\"\",NETWORKDAYS(C4220+1,P4220,Hoja1!F4212:F4328))","v":""},{"$f":"IFERROR(IF(NETWORKDAYS(R4220+1,P4220,Hoja1!F4212:F4328)<=0,\"\",NETWORKDAYS(R4220+1,P4220,Hoja1!F4212:F4328)),0)","v":""},null,null,{"$f":"IFERROR(VLOOKUP(L4220,Hoja1!$A$50:$C$63,2),\"\")","v":""},{"$f":"IFERROR(VLOOKUP(L4220,Hoja1!$A$50:$C$63,3),\"\")","v":""}]
[null,null,null,null,null,null,null,null,null,null,null,null,null,null,null,null,null,null,null,null,null,{"$f":"IFERROR(WORKDAY(T4224,AE4224,Hoja1!F4216:F4332),\"\")","v":""},"",null,"",{"$f":"IF(P4224=\"\",\"\",NETWORKDAYS(C4224+1,P4224,Hoja1!F4216:F4332))","v":""},{"$f":"IFERROR(IF(NETWORKDAYS(R4224+1,P4224,Hoja1!F4216:F4332)<=0,\"\",NETWORKDAYS(R4224+1,P4224,Hoja1!F4216:F4332)),0)","v":""},null,null,{"$f":"IFERROR(VLOOKUP(L4224,Hoja1!$A$50:$C$63,2),\"\")","v":""},{"$f":"IFERROR(VLOOKUP(L4224,Hoja1!$A$50:$C$63,3),\"\")","v":""}]
[null,null,null,null,null,null,null,null,null,null,null,null,null,null,null,null,null,null,null,null,null,{"$f":"IFERROR(WORKDAY(T4227,AE4227,Hoja1!F4219:F4335),\"\")","v":""},"",null,"",{"$f":"IF(P4227=\"\",\"\",NETWORKDAYS(C4227+1,P4227,Hoja1!F4219:F4335))","v":""},{"$f":"IFERROR(IF(NETWORKDAYS(R4227+1,P4227,Hoja1!F4219:F4335)<=0,\"\",NETWORKDAYS(R4227+1,P4227,Hoja1!F4219:F4335)),0)","v":""},null,null,{"$f":"IFERROR(VLOOKUP(L4227,Hoja1!$A$50:$C$63,2),\"\")","v":""},{"$f":"IFERROR(VLOOKUP(L4227,Hoja1!$A$50:$C$63,3),\"\")","v":""}]
[null,null,null,null,null,null,null,null,null,null,null,null,null,null,null,null,null,null,null,null,null,{"$f":"IFERROR(WORKDAY(T4232,AE4232,Hoja1!F4224:F4340),\"\")","v":""},"",null,"",{"$f":"IF(P4232=\"\",\"\",NETWORKDAYS(C4232+1,P4232,Hoja1!F4224:F4340))","v":""},{"$f":"IFERROR(IF(NETWORKDAYS(R4232+1,P4232,Hoja1!F4224:F4340)<=0,\"\",NETWORKDAYS(R4232+1,P4232,Hoja1!F4224:F4340)),0)","v":""},null,null,{"$f":"IFERROR(VLOOKUP(L4232,Hoja1!$A$50:$C$63,2),\"\")","v":""},{"$f":"IFERROR(VLOOKUP(L4232,Hoja1!$A$50:$C$63,3),\"\")","v":""}]
[null,null,null,null,null,null,null,null,null,null,null,null,null,null,null,null,null,null,null,null,null,{"$f":"IFERROR(WORKDAY(T4238,AE4238,Hoja1!F4230:F4346),\"\")","v":""},"",null,"",{"$f":"IF(P4238=\"\",\"\",NETWORKDAYS(C4238+1,P4238,Hoja1!F4230:F4346))","v":""},{"$f":"IFERROR(IF(NETWORKDAYS(R4238+1,P4238,Hoja1!F4230:F4346)<=0,\"\",NETWORKDAYS(R4238+1,P4238,Hoja1!F4230:F4346)),0)","v":""},null,null,{"$f":"IFERROR(VLOOKUP(L4238,Hoja1!$A$50:$C$63,2),\"\")","v":""},{"$f":"IFERROR(VLOOKUP(L4238,Hoja1!$A$50:$C$63,3),\"\")","v":""}]
[null,null,null,null,null,null,null,null,null,null,null,null,null,null,null,null,null,null,null,null,null,{"$f":"IFERROR(WORKDAY(T4239,AE4239,Hoja1!F4231:F4347),\"\")","v":""},"",null,"",{"$f":"IF(P4239=\"\",\"\",NETWORKDAYS(C4239+1,P4239,Hoja1!F4231:F4347))","v":""},{"$f":"IFERROR(IF(NETWORKDAYS(R4239+1,P4239,Hoja1!F4231:F4347)<=0,\"\",NETWORKDAYS(R4239+1,P4239,Hoja1!F4231:F4347)),0)","v":""},null,null,{"$f":"IFERROR(VLOOKUP(L4239,Hoja1!$A$50:$C$63,2),\"\")","v":""},{"$f":"IFERROR(VLOOKUP(L4239,Hoja1!$A$50:$C$63,3),\"\")","v":""}]
[null,null,null,null,null,null,null,null,null,null,null,null,null,null,null,null,null,null,null,null,null,{"$f":"IFERROR(WORKDAY(T4243,AE4243,Hoja1!F4235:F4351),\"\")","v":""},"",null,"",{"$f":"IF(P4243=\"\",\"\",NETWORKDAYS(C4243+1,P4243,Hoja1!F4235:F4351))","v":""},{"$f":"IFERROR(IF(NETWORKDAYS(R4243+1,P4243,Hoja1!F4235:F4351)<=0,\"\",NETWORKDAYS(R4243+1,P4243,Hoja1!F4235:F4351)),0)","v":""},null,null,{"$f":"IFERROR(VLOOKUP(L4243,Hoja1!$A$50:$C$63,2),\"\")","v":""},{"$f":"IFERROR(VLOOKUP(L4243,Hoja1!$A$50:$C$63,3),\"\")","v":""}]
[null,null,null,null,null,null,null,null,null,null,null,null,null,null,null,null,null,null,null,null,null,{"$f":"IFERROR(WORKDAY(T4250,AE4250,Hoja1!F4242:F4358),\"\")","v":""},"",null,"",{"$f":"IF(P4250=\"\",\"\",NETWORKDAYS(C4250+1,P4250,Hoja1!F4242:F4358))","v":""},{"$f":"IFERROR(IF(NETWORKDAYS(R4250+1,P4250,Hoja1!F4242:F4358)<=0,\"\",NETWORKDAYS(R4250+1,P4250,Hoja1!F4242:F4358)),0)","v":""},null,null,{"$f":"IFERROR(VLOOKUP(L4250,Hoja1!$A$50:$C$63,2),\"\")","v":""},{"$f":"IFERROR(VLOOKUP(L4250,Hoja1!$A$50:$C$63,3),\"\")","v":""}]
[null,null,null,null,null,null,null,null,null,null,null,null,null,null,null,null,null,null,null,null,null,{"$f":"IFERROR(WORKDAY(T4253,AE4253,Hoja1!F4245:F4361),\"\")","v":""},"",null,"",{"$f":"IF(P4253=\"\",\"\",NETWORKDAYS(C4253+1,P4253,Hoja1!F4245:F4361))","v":""},{"$f":"IFERROR(IF(NETWORKDAYS(R4253+1,P4253,Hoja1!F4245:F4361)<=0,\"\",NETWORKDAYS(R4253+1,P4253,Hoja1!F4245:F4361)),0)","v":""},null,null,{"$f":"IFERROR(VLOOKUP(L4253,Hoja1!$A$50:$C$63,2),\"\")","v":""},{"$f":"IFERROR(VLOOKUP(L4253,Hoja1!$A$50:$C$63,3),\"\")","v":""}]
[null,null,null,null,null,null,null,null,null,null,null,null,null,null,null,null,null,null,null,null,null,{"$f":"IFERROR(WORKDAY(T4257,AE4257,Hoja1!F4249:F4365),\"\")","v":""},"",null,"",{"$f":"IF(P4257=\"\",\"\",NETWORKDAYS(C4257+1,P4257,Hoja1!F4249:F4365))","v":""},{"$f":"IFERROR(IF(NETWORKDAYS(R4257+1,P4257,Hoja1!F4249:F4365)<=0,\"\",NETWORKDAYS(R4257+1,P4257,Hoja1!F4249:F4365)),0)","v":""},null,null,{"$f":"IFERROR(VLOOKUP(L4257,Hoja1!$A$50:$C$63,2),\"\")","v":""},{"$f":"IFERROR(VLOOKUP(L4257,Hoja1!$A$50:$C$63,3),\"\")","v":""}]
[null,null,null,null,null,null,null,null,null,null,null,null,null,null,null,null,null,null,null,null,null,{"$f":"IFERROR(WORKDAY(T4262,AE4262,Hoja1!F4254:F4370),\"\")","v":""},"",null,"",{"$f":"IF(P4262=\"\",\"\",NETWORKDAYS(C4262+1,P4262,Hoja1!F4254:F4370))","v":""},{"$f":"IFERROR(IF(NETWORKDAYS(R4262+1,P4262,Hoja1!F4254:F4370)<=0,\"\",NETWORKDAYS(R4262+1,P4262,Hoja1!F4254:F4370)),0)","v":""},null,null,{"$f":"IFERROR(VLOOKUP(L4262,Hoja1!$A$50:$C$63,2),\"\")","v":""},{"$f":"IFERROR(VLOOKUP(L4262,Hoja1!$A$50:$C$63,3),\"\")","v":""}]
[null,null,null,null,null,null,null,null,null,null,null,null,null,null,null,null,null,null,null,null,null,{"$f":"IFERROR(WORKDAY(T4267,AE4267,Hoja1!F4259:F4375),\"\")","v":""},"",null,"",{"$f":"IF(P4267=\"\",\"\",NETWORKDAYS(C4267+1,P4267,Hoja1!F4259:F4375))","v":""},{"$f":"IFERROR(IF(NETWORKDAYS(R4267+1,P4267,Hoja1!F4259:F4375)<=0,\"\",NETWORKDAYS(R4267+1,P4267,Hoja1!F4259:F4375)),0)","v":""},null,null,{"$f":"IFERROR(VLOOKUP(L4267,Hoja1!$A$50:$C$63,2),\"\")","v":""},{"$f":"IFERROR(VLOOKUP(L4267,Hoja1!$A$50:$C$63,3),\"\")","v":""}]
[null,null,null,null,null,null,null,null,null,null,null,null,null,null,null,null,null,null,null,null,null,{"$f":"IFERROR(WORKDAY(T4273,AE4273,Hoja1!F4265:F4381),\"\")","v":""},"",null,"",{"$f":"IF(P4273=\"\",\"\",NETWORKDAYS(C4273+1,P4273,Hoja1!F4265:F4381))","v":""},{"$f":"IFERROR(IF(NETWORKDAYS(R4273+1,P4273,Hoja1!F4265:F4381)<=0,\"\",NETWORKDAYS(R4273+1,P4273,Hoja1!F4265:F4381)),0)","v":""},null,null,{"$f":"IFERROR(VLOOKUP(L4273,Hoja1!$A$50:$C$63,2),\"\")","v":""},{"$f":"IFERROR(VLOOKUP(L4273,Hoja1!$A$50:$C$63,3),\"\")","v":""}]
[null,null,null,null,null,null,null,null,null,null,null,null,null,null,null,null,null,null,null,null,null,{"$f":"IFERROR(WORKDAY(T4277,AE4277,Hoja1!F4269:F4385),\"\")","v":""},"",null,"",{"$f":"IF(P4277=\"\",\"\",NETWORKDAYS(C4277+1,P4277,Hoja1!F4269:F4385))","v":""},{"$f":"IFERROR(IF(NETWORKDAYS(R4277+1,P4277,Hoja1!F4269:F4385)<=0,\"\",NETWORKDAYS(R4277+1,P4277,Hoja1!F4269:F4385)),0)","v":""},null,null,{"$f":"IFERROR(VLOOKUP(L4277,Hoja1!$A$50:$C$63,2),\"\")","v":""},{"$f":"IFERROR(VLOOKUP(L4277,Hoja1!$A$50:$C$63,3),\"\")","v":""}]
[null,null,null,null,null,null,null,null,null,null,null,null,null,null,null,null,null,null,null,null,null,{"$f":"IFERROR(WORKDAY(T4280,AE4280,Hoja1!F4272:F4388),\"\")","v":""},"",null,"",{"$f":"IF(P4280=\"\",\"\",NETWORKDAYS(C4280+1,P4280,Hoja1!F4272:F4388))","v":""},{"$f":"IFERROR(IF(NETWORKDAYS(R4280+1,P4280,Hoja1!F4272:F4388)<=0,\"\",NETWORKDAYS(R4280+1,P4280,Hoja1!F4272:F4388)),0)","v":""},null,null,{"$f":"IFERROR(VLOOKUP(L4280,Hoja1!$A$50:$C$63,2),\"\")","v":""},{"$f":"IFERROR(VLOOKUP(L4280,Hoja1!$A$50:$C$63,3),\"\")","v":""}]
[null,null,null,null,null,null,null,null,null,null,null,null,null,null,null,null,null,null,null,null,null,{"$f":"IFERROR(WORKDAY(T4287,AE4287,Hoja1!F4279:F4395),\"\")","v":""},"",null,"",{"$f":"IF(P4287=\"\",\"\",NETWORKDAYS(C4287+1,P4287,Hoja1!F4279:F4395))","v":""},{"$f":"IFERROR(IF(NETWORKDAYS(R4287+1,P4287,Hoja1!F4279:F4395)<=0,\"\",NETWORKDAYS(R4287+1,P4287,Hoja1!F4279:F4395)),0)","v":""},null,null,{"$f":"IFERROR(VLOOKUP(L4287,Hoja1!$A$50:$C$63,2),\"\")","v":""},{"$f":"IFERROR(VLOOKUP(L4287,Hoja1!$A$50:$C$63,3),\"\")","v":""}]
[null,null,null,null,null,null,null,null,null,null,null,null,null,null,null,null,null,null,null,null,null,{"$f":"IFERROR(WORKDAY(T4291,AE4291,Hoja1!F4283:F4399),\"\")","v":""},"",null,"",{"$f":"IF(P4291=\"\",\"\",NETWORKDAYS(C4291+1,P4291,Hoja1!F4283:F4399))","v":""},{"$f":"IFERROR(IF(NETWORKDAYS(R4291+1,P4291,Hoja1!F4283:F4399)<=0,\"\",NETWORKDAYS(R4291+1,P4291,Hoja1!F4283:F4399)),0)","v":""},null,null,{"$f":"IFERROR(VLOOKUP(L4291,Hoja1!$A$50:$C$63,2),\"\")","v":""},{"$f":"IFERROR(VLOOKUP(L4291,Hoja1!$A$50:$C$63,3),\"\")","v":""}]
[null,null,null,null,null,null,null,null,null,null,null,null,null,null,null,null,null,null,null,null,null,{"$f":"IFERROR(WORKDAY(T4292,AE4292,Hoja1!F4284:F4400),\"\")","v":""},"",null,"",{"$f":"IF(P4292=\"\",\"\",NETWORKDAYS(C4292+1,P4292,Hoja1!F4284:F4400))","v":""},{"$f":"IFERROR(IF(NETWORKDAYS(R4292+1,P4292,Hoja1!F4284:F4400)<=0,\"\",NETWORKDAYS(R4292+1,P4292,Hoja1!F4284:F4400)),0)","v":""},null,null,{"$f":"IFERROR(VLOOKUP(L4292,Hoja1!$A$50:$C$63,2),\"\")","v":""},{"$f":"IFERROR(VLOOKUP(L4292,Hoja1!$A$50:$C$63,3),\"\")","v":""}]
[null,null,null,null,null,null,null,null,null,null,null,null,null,null,null,null,null,null,null,null,null,{"$f":"IFERROR(WORKDAY(T4296,AE4296,Hoja1!F4288:F4404),\"\")","v":""},"",null,"",{"$f":"IF(P4296=\"\",\"\",NETWORKDAYS(C4296+1,P4296,Hoja1!F4288:F4404))","v":""},{"$f":"IFERROR(IF(NETWORKDAYS(R4296+1,P4296,Hoja1!F4288:F4404)<=0,\"\",NETWORKDAYS(R4296+1,P4296,Hoja1!F4288:F4404)),0)","v":""},null,null,{"$f":"IFERROR(VLOOKUP(L4296,Hoja1!$A$50:$C$63,2),\"\")","v":""},{"$f":"IFERROR(VLOOKUP(L4296,Hoja1!$A$50:$C$63,3),\"\")","v":""}]
[null,null,null,null,null,null,null,null,null,null,null,null,null,null,null,null,null,null,null,null,null,{"$f":"IFERROR(WORKDAY(T4303,AE4303,Hoja1!F4295:F4411),\"\")","v":""},"",null,"",{"$f":"IF(P4303=\"\",\"\",NETWORKDAYS(C4303+1,P4303,Hoja1!F4295:F4411))","v":""},{"$f":"IFERROR(IF(NETWORKDAYS(R4303+1,P4303,Hoja1!F4295:F4411)<=0,\"\",NETWORKDAYS(R4303+1,P4303,Hoja1!F4295:F4411)),0)","v":""},null,null,{"$f":"IFERROR(VLOOKUP(L4303,Hoja1!$A$50:$C$63,2),\"\")","v":""},{"$f":"IFERROR(VLOOKUP(L4303,Hoja1!$A$50:$C$63,3),\"\")","v":""}]
[null,null,null,null,null,null,null,null,null,null,null,null,null,null,null,null,null,null,null,null,null,{"$f":"IFERROR(WORKDAY(T4305,AE4305,Hoja1!F4297:F4413),\"\")","v":""},"",null,"",{"$f":"IF(P4305=\"\",\"\",NETWORKDAYS(C4305+1,P4305,Hoja1!F4297:F4413))","v":""},{"$f":"IFERROR(IF(NETWORKDAYS(R4305+1,P4305,Hoja1!F4297:F4413)<=0,\"\",NETWORKDAYS(R4305+1,P4305,Hoja1!F4297:F4413)),0)","v":""},null,null,{"$f":"IFERROR(VLOOKUP(L4305,Hoja1!$A$50:$C$63,2),\"\")","v":""},{"$f":"IFERROR(VLOOKUP(L4305,Hoja1!$A$50:$C$63,3),\"\")","v":""}]
[null,null,null,null,null,null,null,null,null,null,null,null,null,null,null,null,null,null,null,null,null,{"$f":"IFERROR(WORKDAY(T4310,AE4310,Hoja1!F4302:F4418),\"\")","v":""},"",null,"",{"$f":"IF(P4310=\"\",\"\",NETWORKDAYS(C4310+1,P4310,Hoja1!F4302:F4418))","v":""},{"$f":"IFERROR(IF(NETWORKDAYS(R4310+1,P4310,Hoja1!F4302:F4418)<=0,\"\",NETWORKDAYS(R4310+1,P4310,Hoja1!F4302:F4418)),0)","v":""},null,null,{"$f":"IFERROR(VLOOKUP(L4310,Hoja1!$A$50:$C$63,2),\"\")","v":""},{"$f":"IFERROR(VLOOKUP(L4310,Hoja1!$A$50:$C$63,3),\"\")","v":""}]
[null,null,null,null,null,null,null,null,null,null,null,null,null,null,null,null,null,null,null,null,null,{"$f":"IFERROR(WORKDAY(T4315,AE4315,Hoja1!F4307:F4423),\"\")","v":""},"",null,"",{"$f":"IF(P4315=\"\",\"\",NETWORKDAYS(C4315+1,P4315,Hoja1!F4307:F4423))","v":""},{"$f":"IFERROR(IF(NETWORKDAYS(R4315+1,P4315,Hoja1!F4307:F4423)<=0,\"\",NETWORKDAYS(R4315+1,P4315,Hoja1!F4307:F4423)),0)","v":""},null,null,{"$f":"IFERROR(VLOOKUP(L4315,Hoja1!$A$50:$C$63,2),\"\")","v":""},{"$f":"IFERROR(VLOOKUP(L4315,Hoja1!$A$50:$C$63,3),\"\")","v":""}]
[null,null,null,null,null,null,null,null,null,null,null,null,null,null,null,null,null,null,null,null,null,{"$f":"IFERROR(WORKDAY(T4321,AE4321,Hoja1!F4313:F4429),\"\")","v":""},"",null,"",{"$f":"IF(P4321=\"\",\"\",NETWORKDAYS(C4321+1,P4321,Hoja1!F4313:F4429))","v":""},{"$f":"IFERROR(IF(NETWORKDAYS(R4321+1,P4321,Hoja1!F4313:F4429)<=0,\"\",NETWORKDAYS(R4321+1,P4321,Hoja1!F4313:F4429)),0)","v":""},null,null,{"$f":"IFERROR(VLOOKUP(L4321,Hoja1!$A$50:$C$63,2),\"\")","v":""},{"$f":"IFERROR(VLOOKUP(L4321,Hoja1!$A$50:$C$63,3),\"\")","v":""}]
[null,null,null,null,null,null,null,null,null,null,null,null,null,null,null,null,null,null,null,null,null,{"$f":"IFERROR(WORKDAY(T4326,AE4326,Hoja1!F4318:F4434),\"\")","v":""},"",null,"",{"$f":"IF(P4326=\"\",\"\",NETWORKDAYS(C4326+1,P4326,Hoja1!F4318:F4434))","v":""},{"$f":"IFERROR(IF(NETWORKDAYS(R4326+1,P4326,Hoja1!F4318:F4434)<=0,\"\",NETWORKDAYS(R4326+1,P4326,Hoja1!F4318:F4434)),0)","v":""},null,null,{"$f":"IFERROR(VLOOKUP(L4326,Hoja1!$A$50:$C$63,2),\"\")","v":""},{"$f":"IFERROR(VLOOKUP(L4326,Hoja1!$A$50:$C$63,3),\"\")","v":""}]
[null,null,null,null,null,null,null,null,null,null,null,null,null,null,null,null,null,null,null,null,null,{"$f":"IFERROR(WORKDAY(T4329,AE4329,Hoja1!F4321:F4437),\"\")","v":""},"",null,"",{"$f":"IF(P4329=\"\",\"\",NETWORKDAYS(C4329+1,P4329,Hoja1!F4321:F4437))","v":""},{"$f":"IFERROR(IF(NETWORKDAYS(R4329+1,P4329,Hoja1!F4321:F4437)<=0,\"\",NETWORKDAYS(R4329+1,P4329,Hoja1!F4321:F4437)),0)","v":""},null,null,{"$f":"IFERROR(VLOOKUP(L4329,Hoja1!$A$50:$C$63,2),\"\")","v":""},{"$f":"IFERROR(VLOOKUP(L4329,Hoja1!$A$50:$C$63,3),\"\")","v":""}]
[null,null,null,null,null,null,null,null,null,null,null,null,null,null,null,null,null,null,null,null,null,{"$f":"IFERROR(WORKDAY(T4333,AE4333,Hoja1!F4325:F4441),\"\")","v":""},"",null,"",{"$f":"IF(P4333=\"\",\"\",NETWORKDAYS(C4333+1,P4333,Hoja1!F4325:F4441))","v":""},{"$f":"IFERROR(IF(NETWORKDAYS(R4333+1,P4333,Hoja1!F4325:F4441)<=0,\"\",NETWORKDAYS(R4333+1,P4333,Hoja1!F4325:F4441)),0)","v":""},null,null,{"$f":"IFERROR(VLOOKUP(L4333,Hoja1!$A$50:$C$63,2),\"\")","v":""},{"$f":"IFERROR(VLOOKUP(L4333,Hoja1!$A$50:$C$63,3),\"\")","v":""}]
[null,null,null,null,null,null,null,null,null,null,null,null,null,null,null,null,null,null,null,null,null,{"$f":"IFERROR(WORKDAY(T4339,AE4339,Hoja1!F4331:F4447),\"\")","v":""},"",null,"",{"$f":"IF(P4339=\"\",\"\",NETWORKDAYS(C4339+1,P4339,Hoja1!F4331:F4447))","v":""},{"$f":"IFERROR(IF(NETWORKDAYS(R4339+1,P4339,Hoja1!F4331:F4447)<=0,\"\",NETWORKDAYS(R4339+1,P4339,Hoja1!F4331:F4447)),0)","v":""},null,null,{"$f":"IFERROR(VLOOKUP(L4339,Hoja1!$A$50:$C$63,2),\"\")","v":""},{"$f":"IFERROR(VLOOKUP(L4339,Hoja1!$A$50:$C$63,3),\"\")","v":""}]
[null,null,null,null,null,null,null,null,null,null,null,null,null,null,null,null,null,null,null,null,null,{"$f":"IFERROR(WORKDAY(T4344,AE4344,Hoja1!F4336:F4452),\"\")","v":""},"",null,"",{"$f":"IF(P4344=\"\",\"\",NETWORKDAYS(C4344+1,P4344,Hoja1!F4336:F4452))","v":""},{"$f":"IFERROR(IF(NETWORKDAYS(R4344+1,P4344,Hoja1!F4336:F4452)<=0,\"\",NETWORKDAYS(R4344+1,P4344,Hoja1!F4336:F4452)),0)","v":""},null,null,{"$f":"IFERROR(VLOOKUP(L4344,Hoja1!$A$50:$C$63,2),\"\")","v":""},{"$f":"IFERROR(VLOOKUP(L4344,Hoja1!$A$50:$C$63,3),\"\")","v":""}]
[null,null,null,null,null,null,null,null,null,null,null,null,null,null,null,null,null,null,null,null,null,{"$f":"IFERROR(WORKDAY(T4349,AE4349,Hoja1!F4341:F4457),\"\")","v":""},"",null,"",{"$f":"IF(P4349=\"\",\"\",NETWORKDAYS(C4349+1,P4349,Hoja1!F4341:F4457))","v":""},{"$f":"IFERROR(IF(NETWORKDAYS(R4349+1,P4349,Hoja1!F4341:F4457)<=0,\"\",NETWORKDAYS(R4349+1,P4349,Hoja1!F4341:F4457)),0)","v":""},null,null,{"$f":"IFERROR(VLOOKUP(L4349,Hoja1!$A$50:$C$63,2),\"\")","v":""},{"$f":"IFERROR(VLOOKUP(L4349,Hoja1!$A$50:$C$63,3),\"\")","v":""}]
[null,null,null,null,null,null,null,null,null,null,null,null,null,null,null,null,null,null,null,null,null,{"$f":"IFERROR(WORKDAY(T4351,AE4351,Hoja1!F4343:F4459),\"\")","v":""},"",null,"",{"$f":"IF(P4351=\"\",\"\",NETWORKDAYS(C4351+1,P4351,Hoja1!F4343:F4459))","v":""},{"$f":"IFERROR(IF(NETWORKDAYS(R4351+1,P4351,Hoja1!F4343:F4459)<=0,\"\",NETWORKDAYS(R4351+1,P4351,Hoja1!F4343:F4459)),0)","v":""},null,null,{"$f":"IFERROR(VLOOKUP(L4351,Hoja1!$A$50:$C$63,2),\"\")","v":""},{"$f":"IFERROR(VLOOKUP(L4351,Hoja1!$A$50:$C$63,3),\"\")","v":""}]
[null,null,null,null,null,null,null,null,null,null,null,null,null,null,null,null,null,null,null,null,null,{"$f":"IFERROR(WORKDAY(T4356,AE4356,Hoja1!F4348:F4464),\"\")","v":""},"",null,"",{"$f":"IF(P4356=\"\",\"\",NETWORKDAYS(C4356+1,P4356,Hoja1!F4348:F4464))","v":""},{"$f":"IFERROR(IF(NETWORKDAYS(R4356+1,P4356,Hoja1!F4348:F4464)<=0,\"\",NETWORKDAYS(R4356+1,P4356,Hoja1!F4348:F4464)),0)","v":""},null,null,{"$f":"IFERROR(VLOOKUP(L4356,Hoja1!$A$50:$C$63,2),\"\")","v":""},{"$f":"IFERROR(VLOOKUP(L4356,Hoja1!$A$50:$C$63,3),\"\")","v":""}]
[null,null,null,null,null,null,null,null,null,null,null,null,null,null,null,null,null,null,null,null,null,{"$f":"IFERROR(WORKDAY(T4358,AE4358,Hoja1!F4350:F4466),\"\")","v":""},"",null,"",{"$f":"IF(P4358=\"\",\"\",NETWORKDAYS(C4358+1,P4358,Hoja1!F4350:F4466))","v":""},{"$f":"IFERROR(IF(NETWORKDAYS(R4358+1,P4358,Hoja1!F4350:F4466)<=0,\"\",NETWORKDAYS(R4358+1,P4358,Hoja1!F4350:F4466)),0)","v":""},null,null,{"$f":"IFERROR(VLOOKUP(L4358,Hoja1!$A$50:$C$63,2),\"\")","v":""},{"$f":"IFERROR(VLOOKUP(L4358,Hoja1!$A$50:$C$63,3),\"\")","v":""}]
[null,null,null,null,null,null,null,null,null,null,null,null,null,null,null,null,null,null,null,null,null,{"$f":"IFERROR(WORKDAY(T4363,AE4363,Hoja1!F4355:F4471),\"\")","v":""},"",null,"",{"$f":"IF(P4363=\"\",\"\",NETWORKDAYS(C4363+1,P4363,Hoja1!F4355:F4471))","v":""},{"$f":"IFERROR(IF(NETWORKDAYS(R4363+1,P4363,Hoja1!F4355:F4471)<=0,\"\",NETWORKDAYS(R4363+1,P4363,Hoja1!F4355:F4471)),0)","v":""},null,null,{"$f":"IFERROR(VLOOKUP(L4363,Hoja1!$A$50:$C$63,2),\"\")","v":""},{"$f":"IFERROR(VLOOKUP(L4363,Hoja1!$A$50:$C$63,3),\"\")","v":""}]
[null,null,null,null,null,null,null,null,null,null,null,null,null,null,null,null,null,null,null,null,null,{"$f":"IFERROR(WORKDAY(T4368,AE4368,Hoja1!F4360:F4476),\"\")","v":""},"",null,"",{"$f":"IF(P4368=\"\",\"\",NETWORKDAYS(C4368+1,P4368,Hoja1!F4360:F4476))","v":""},{"$f":"IFERROR(IF(NETWORKDAYS(R4368+1,P4368,Hoja1!F4360:F4476)<=0,\"\",NETWORKDAYS(R4368+1,P4368,Hoja1!F4360:F4476)),0)","v":""},null,null,{"$f":"IFERROR(VLOOKUP(L4368,Hoja1!$A$50:$C$63,2),\"\")","v":""},{"$f":"IFERROR(VLOOKUP(L4368,Hoja1!$A$50:$C$63,3),\"\")","v":""}]
[null,null,null,null,null,null,null,null,null,null,null,null,null,null,null,null,null,null,null,null,null,{"$f":"IFERROR(WORKDAY(T4374,AE4374,Hoja1!F4366:F4482),\"\")","v":""},"",null,"",{"$f":"IF(P4374=\"\",\"\",NETWORKDAYS(C4374+1,P4374,Hoja1!F4366:F4482))","v":""},{"$f":"IFERROR(IF(NETWORKDAYS(R4374+1,P4374,Hoja1!F4366:F4482)<=0,\"\",NETWORKDAYS(R4374+1,P4374,Hoja1!F4366:F4482)),0)","v":""},null,null,{"$f":"IFERROR(VLOOKUP(L4374,Hoja1!$A$50:$C$63,2),\"\")","v":""},{"$f":"IFERROR(VLOOKUP(L4374,Hoja1!$A$50:$C$63,3),\"\")","v":""}]
[null,null,null,null,null,null,null,null,null,null,null,null,null,null,null,null,null,null,null,null,null,{"$f":"IFERROR(WORKDAY(T4378,AE4378,Hoja1!F4370:F4486),\"\")","v":""},"",null,"",{"$f":"IF(P4378=\"\",\"\",NETWORKDAYS(C4378+1,P4378,Hoja1!F4370:F4486))","v":""},{"$f":"IFERROR(IF(NETWORKDAYS(R4378+1,P4378,Hoja1!F4370:F4486)<=0,\"\",NETWORKDAYS(R4378+1,P4378,Hoja1!F4370:F4486)),0)","v":""},null,null,{"$f":"IFERROR(VLOOKUP(L4378,Hoja1!$A$50:$C$63,2),\"\")","v":""},{"$f":"IFERROR(VLOOKUP(L4378,Hoja1!$A$50:$C$63,3),\"\")","v":""}]
[null,null,null,null,null,null,null,null,null,null,null,null,null,null,null,null,null,null,null,null,null,{"$f":"IFERROR(WORKDAY(T4381,AE4381,Hoja1!F4373:F4489),\"\")","v":""},"",null,"",{"$f":"IF(P4381=\"\",\"\",NETWORKDAYS(C4381+1,P4381,Hoja1!F4373:F4489))","v":""},{"$f":"IFERROR(IF(NETWORKDAYS(R4381+1,P4381,Hoja1!F4373:F4489)<=0,\"\",NETWORKDAYS(R4381+1,P4381,Hoja1!F4373:F4489)),0)","v":""},null,null,{"$f":"IFERROR(VLOOKUP(L4381,Hoja1!$A$50:$C$63,2),\"\")","v":""},{"$f":"IFERROR(VLOOKUP(L4381,Hoja1!$A$50:$C$63,3),\"\")","v":""}]
[null,null,null,null,null,null,null,null,null,null,null,null,null,null,null,null,null,null,null,null,null,{"$f":"IFERROR(WORKDAY(T4386,AE4386,Hoja1!F4378:F4494),\"\")","v":""},"",null,"",{"$f":"IF(P4386=\"\",\"\",NETWORKDAYS(C4386+1,P4386,Hoja1!F4378:F4494))","v":""},{"$f":"IFERROR(IF(NETWORKDAYS(R4386+1,P4386,Hoja1!F4378:F4494)<=0,\"\",NETWORKDAYS(R4386+1,P4386,Hoja1!F4378:F4494)),0)","v":""},null,null,{"$f":"IFERROR(VLOOKUP(L4386,Hoja1!$A$50:$C$63,2),\"\")","v":""},{"$f":"IFERROR(VLOOKUP(L4386,Hoja1!$A$50:$C$63,3),\"\")","v":""}]
[null,null,null,null,null,null,null,null,null,null,null,null,null,null,null,null,null,null,null,null,null,{"$f":"IFERROR(WORKDAY(T4392,AE4392,Hoja1!F4384:F4500),\"\")","v":""},"",null,"",{"$f":"IF(P4392=\"\",\"\",NETWORKDAYS(C4392+1,P4392,Hoja1!F4384:F4500))","v":""},{"$f":"IFERROR(IF(NETWORKDAYS(R4392+1,P4392,Hoja1!F4384:F4500)<=0,\"\",NETWORKDAYS(R4392+1,P4392,Hoja1!F4384:F4500)),0)","v":""},null,null,{"$f":"IFERROR(VLOOKUP(L4392,Hoja1!$A$50:$C$63,2),\"\")","v":""},{"$f":"IFERROR(VLOOKUP(L4392,Hoja1!$A$50:$C$63,3),\"\")","v":""}]
[null,null,null,null,null,null,null,null,null,null,null,null,null,null,null,null,null,null,null,null,null,{"$f":"IFERROR(WORKDAY(T4397,AE4397,Hoja1!F4389:F4505),\"\")","v":""},"",null,"",{"$f":"IF(P4397=\"\",\"\",NETWORKDAYS(C4397+1,P4397,Hoja1!F4389:F4505))","v":""},{"$f":"IFERROR(IF(NETWORKDAYS(R4397+1,P4397,Hoja1!F4389:F4505)<=0,\"\",NETWORKDAYS(R4397+1,P4397,Hoja1!F4389:F4505)),0)","v":""},null,null,{"$f":"IFERROR(VLOOKUP(L4397,Hoja1!$A$50:$C$63,2),\"\")","v":""},{"$f":"IFERROR(VLOOKUP(L4397,Hoja1!$A$50:$C$63,3),\"\")","v":""}]
[null,null,null,null,null,null,null,null,null,null,null,null,null,null,null,null,null,null,null,null,null,{"$f":"IFERROR(WORKDAY(T4401,AE4401,Hoja1!F4393:F4509),\"\")","v":""},"",null,"",{"$f":"IF(P4401=\"\",\"\",NETWORKDAYS(C4401+1,P4401,Hoja1!F4393:F4509))","v":""},{"$f":"IFERROR(IF(NETWORKDAYS(R4401+1,P4401,Hoja1!F4393:F4509)<=0,\"\",NETWORKDAYS(R4401+1,P4401,Hoja1!F4393:F4509)),0)","v":""},null,null,{"$f":"IFERROR(VLOOKUP(L4401,Hoja1!$A$50:$C$63,2),\"\")","v":""},{"$f":"IFERROR(VLOOKUP(L4401,Hoja1!$A$50:$C$63,3),\"\")","v":""}]
[null,null,null,null,null,null,null,null,null,null,null,null,null,null,null,null,null,null,null,null,null,{"$f":"IFERROR(WORKDAY(T4404,AE4404,Hoja1!F4396:F4512),\"\")","v":""},"",null,"",{"$f":"IF(P4404=\"\",\"\",NETWORKDAYS(C4404+1,P4404,Hoja1!F4396:F4512))","v":""},{"$f":"IFERROR(IF(NETWORKDAYS(R4404+1,P4404,Hoja1!F4396:F4512)<=0,\"\",NETWORKDAYS(R4404+1,P4404,Hoja1!F4396:F4512)),0)","v":""},null,null,{"$f":"IFERROR(VLOOKUP(L4404,Hoja1!$A$50:$C$63,2),\"\")","v":""},{"$f":"IFERROR(VLOOKUP(L4404,Hoja1!$A$50:$C$63,3),\"\")","v":""}]
[null,null,null,null,null,null,null,null,null,null,null,null,null,null,null,null,null,null,null,null,null,{"$f":"IFERROR(WORKDAY(T4411,AE4411,Hoja1!F4403:F4519),\"\")","v":""},"",null,"",{"$f":"IF(P4411=\"\",\"\",NETWORKDAYS(C4411+1,P4411,Hoja1!F4403:F4519))","v":""},{"$f":"IFERROR(IF(NETWORKDAYS(R4411+1,P4411,Hoja1!F4403:F4519)<=0,\"\",NETWORKDAYS(R4411+1,P4411,Hoja1!F4403:F4519)),0)","v":""},null,null,{"$f":"IFERROR(VLOOKUP(L4411,Hoja1!$A$50:$C$63,2),\"\")","v":""},{"$f":"IFERROR(VLOOKUP(L4411,Hoja1!$A$50:$C$63,3),\"\")","v":""}]
[null,null,null,null,null,null,null,null,null,null,null,null,null,null,null,null,null,null,null,null,null,{"$f":"IFERROR(WORKDAY(T4415,AE4415,Hoja1!F4407:F4523),\"\")","v":""},"",null,"",{"$f":"IF(P4415=\"\",\"\",NETWORKDAYS(C4415+1,P4415,Hoja1!F4407:F4523))","v":""},{"$f":"IFERROR(IF(NETWORKDAYS(R4415+1,P4415,Hoja1!F4407:F4523)<=0,\"\",NETWORKDAYS(R4415+1,P4415,Hoja1!F4407:F4523)),0)","v":""},null,null,{"$f":"IFERROR(VLOOKUP(L4415,Hoja1!$A$50:$C$63,2),\"\")","v":""},{"$f":"IFERROR(VLOOKUP(L4415,Hoja1!$A$50:$C$63,3),\"\")","v":""}]
[null,null,null,null,null,null,null,null,null,null,null,null,null,null,null,null,null,null,null,null,null,{"$f":"IFERROR(WORKDAY(T4416,AE4416,Hoja1!F4408:F4524),\"\")","v":""},"",null,"",{"$f":"IF(P4416=\"\",\"\",NETWORKDAYS(C4416+1,P4416,Hoja1!F4408:F4524))","v":""},{"$f":"IFERROR(IF(NETWORKDAYS(R4416+1,P4416,Hoja1!F4408:F4524)<=0,\"\",NETWORKDAYS(R4416+1,P4416,Hoja1!F4408:F4524)),0)","v":""},null,null,{"$f":"IFERROR(VLOOKUP(L4416,Hoja1!$A$50:$C$63,2),\"\")","v":""},{"$f":"IFERROR(VLOOKUP(L4416,Hoja1!$A$50:$C$63,3),\"\")","v":""}]
[null,null,null,null,null,null,null,null,null,null,null,null,null,null,null,null,null,null,null,null,null,{"$f":"IFERROR(WORKDAY(T4420,AE4420,Hoja1!F4412:F4528),\"\")","v":""},"",null,"",{"$f":"IF(P4420=\"\",\"\",NETWORKDAYS(C4420+1,P4420,Hoja1!F4412:F4528))","v":""},{"$f":"IFERROR(IF(NETWORKDAYS(R4420+1,P4420,Hoja1!F4412:F4528)<=0,\"\",NETWORKDAYS(R4420+1,P4420,Hoja1!F4412:F4528)),0)","v":""},null,null,{"$f":"IFERROR(VLOOKUP(L4420,Hoja1!$A$50:$C$63,2),\"\")","v":""},{"$f":"IFERROR(VLOOKUP(L4420,Hoja1!$A$50:$C$63,3),\"\")","v":""}]
[null,null,null,null,null,null,null,null,null,null,null,null,null,null,null,null,null,null,null,null,null,{"$f":"IFERROR(WORKDAY(T4427,AE4427,Hoja1!F4419:F4535),\"\")","v":""},"",null,"",{"$f":"IF(P4427=\"\",\"\",NETWORKDAYS(C4427+1,P4427,Hoja1!F4419:F4535))","v":""},{"$f":"IFERROR(IF(NETWORKDAYS(R4427+1,P4427,Hoja1!F4419:F4535)<=0,\"\",NETWORKDAYS(R4427+1,P4427,Hoja1!F4419:F4535)),0)","v":""},null,null,{"$f":"IFERROR(VLOOKUP(L4427,Hoja1!$A$50:$C$63,2),\"\")","v":""},{"$f":"IFERROR(VLOOKUP(L4427,Hoja1!$A$50:$C$63,3),\"\")","v":""}]
[null,null,null,null,null,null,null,null,null,null,null,null,null,null,null,null,null,null,null,null,null,{"$f":"IFERROR(WORKDAY(T4430,AE4430,Hoja1!F4422:F4538),\"\")","v":""},"",null,"",{"$f":"IF(P4430=\"\",\"\",NETWORKDAYS(C4430+1,P4430,Hoja1!F4422:F4538))","v":""},{"$f":"IFERROR(IF(NETWORKDAYS(R4430+1,P4430,Hoja1!F4422:F4538)<=0,\"\",NETWORKDAYS(R4430+1,P4430,Hoja1!F4422:F4538)),0)","v":""},null,null,{"$f":"IFERROR(VLOOKUP(L4430,Hoja1!$A$50:$C$63,2),\"\")","v":""},{"$f":"IFERROR(VLOOKUP(L4430,Hoja1!$A$50:$C$63,3),\"\")","v":""}]
[null,null,null,null,null,null,null,null,null,null,null,null,null,null,null,null,null,null,null,null,null,{"$f":"IFERROR(WORKDAY(T4434,AE4434,Hoja1!F4426:F4542),\"\")","v":""},"",null,"",{"$f":"IF(P4434=\"\",\"\",NETWORKDAYS(C4434+1,P4434,Hoja1!F4426:F4542))","v":""},{"$f":"IFERROR(IF(NETWORKDAYS(R4434+1,P4434,Hoja1!F4426:F4542)<=0,\"\",NETWORKDAYS(R4434+1,P4434,Hoja1!F4426:F4542)),0)","v":""},null,null,{"$f":"IFERROR(VLOOKUP(L4434,Hoja1!$A$50:$C$63,2),\"\")","v":""},{"$f":"IFERROR(VLOOKUP(L4434,Hoja1!$A$50:$C$63,3),\"\")","v":""}]
[null,null,null,null,null,null,null,null,null,null,null,null,null,null,null,null,null,null,null,null,null,{"$f":"IFERROR(WORKDAY(T4440,AE4440,Hoja1!F4432:F4548),\"\")","v":""},"",null,"",{"$f":"IF(P4440=\"\",\"\",NETWORKDAYS(C4440+1,P4440,Hoja1!F4432:F4548))","v":""},{"$f":"IFERROR(IF(NETWORKDAYS(R4440+1,P4440,Hoja1!F4432:F4548)<=0,\"\",NETWORKDAYS(R4440+1,P4440,Hoja1!F4432:F4548)),0)","v":""},null,null,{"$f":"IFERROR(VLOOKUP(L4440,Hoja1!$A$50:$C$63,2),\"\")","v":""},{"$f":"IFERROR(VLOOKUP(L4440,Hoja1!$A$50:$C$63,3),\"\")","v":""}]
[null,null,null,null,null,null,null,null,null,null,null,null,null,null,null,null,null,null,null,null,null,{"$f":"IFERROR(WORKDAY(T4445,AE4445,Hoja1!F4437:F4553),\"\")","v":""},"",null,"",{"$f":"IF(P4445=\"\",\"\",NETWORKDAYS(C4445+1,P4445,Hoja1!F4437:F4553))","v":""},{"$f":"IFERROR(IF(NETWORKDAYS(R4445+1,P4445,Hoja1!F4437:F4553)<=0,\"\",NETWORKDAYS(R4445+1,P4445,Hoja1!F4437:F4553)),0)","v":""},null,null,{"$f":"IFERROR(VLOOKUP(L4445,Hoja1!$A$50:$C$63,2),\"\")","v":""},{"$f":"IFERROR(VLOOKUP(L4445,Hoja1!$A$50:$C$63,3),\"\")","v":""}]
[null,null,null,null,null,null,null,null,null,null,null,null,null,null,null,null,null,null,null,null,null,{"$f":"IFERROR(WORKDAY(T4450,AE4450,Hoja1!F4442:F4558),\"\")","v":""},"",null,"",{"$f":"IF(P4450=\"\",\"\",NETWORKDAYS(C4450+1,P4450,Hoja1!F4442:F4558))","v":""},{"$f":"IFERROR(IF(NETWORKDAYS(R4450+1,P4450,Hoja1!F4442:F4558)<=0,\"\",NETWORKDAYS(R4450+1,P4450,Hoja1!F4442:F4558)),0)","v":""},null,null,{"$f":"IFERROR(VLOOKUP(L4450,Hoja1!$A$50:$C$63,2),\"\")","v":""},{"$f":"IFERROR(VLOOKUP(L4450,Hoja1!$A$50:$C$63,3),\"\")","v":""}]
[null,null,null,null,null,null,null,null,null,null,null,null,null,null,null,null,null,null,null,null,null,{"$f":"IFERROR(WORKDAY(T4454,AE4454,Hoja1!F4446:F4562),\"\")","v":""},"",null,"",{"$f":"IF(P4454=\"\",\"\",NETWORKDAYS(C4454+1,P4454,Hoja1!F4446:F4562))","v":""},{"$f":"IFERROR(IF(NETWORKDAYS(R4454+1,P4454,Hoja1!F4446:F4562)<=0,\"\",NETWORKDAYS(R4454+1,P4454,Hoja1!F4446:F4562)),0)","v":""},null,null,{"$f":"IFERROR(VLOOKUP(L4454,Hoja1!$A$50:$C$63,2),\"\")","v":""},{"$f":"IFERROR(VLOOKUP(L4454,Hoja1!$A$50:$C$63,3),\"\")","v":""}]
[null,null,null,null,null,null,null,null,null,null,null,null,null,null,null,null,null,null,null,null,null,{"$f":"IFERROR(WORKDAY(T4457,AE4457,Hoja1!F4449:F4565),\"\")","v":""},"",null,"",{"$f":"IF(P4457=\"\",\"\",NETWORKDAYS(C4457+1,P4457,Hoja1!F4449:F4565))","v":""},{"$f":"IFERROR(IF(NETWORKDAYS(R4457+1,P4457,Hoja1!F4449:F4565)<=0,\"\",NETWORKDAYS(R4457+1,P4457,Hoja1!F4449:F4565)),0)","v":""},null,null,{"$f":"IFERROR(VLOOKUP(L4457,Hoja1!$A$50:$C$63,2),\"\")","v":""},{"$f":"IFERROR(VLOOKUP(L4457,Hoja1!$A$50:$C$63,3),\"\")","v":""}]
[null,null,null,null,null,null,null,null,null,null,null,null,null,null,null,null,null,null,null,null,null,{"$f":"IFERROR(WORKDAY(T4464,AE4464,Hoja1!F4456:F4572),\"\")","v":""},"",null,"",{"$f":"IF(P4464=\"\",\"\",NETWORKDAYS(C4464+1,P4464,Hoja1!F4456:F4572))","v":""},{"$f":"IFERROR(IF(NETWORKDAYS(R4464+1,P4464,Hoja1!F4456:F4572)<=0,\"\",NETWORKDAYS(R4464+1,P4464,Hoja1!F4456:F4572)),0)","v":""},null,null,{"$f":"IFERROR(VLOOKUP(L4464,Hoja1!$A$50:$C$63,2),\"\")","v":""},{"$f":"IFERROR(VLOOKUP(L4464,Hoja1!$A$50:$C$63,3),\"\")","v":""}]
[null,null,null,null,null,null,null,null,null,null,null,null,null,null,null,null,null,null,null,null,null,{"$f":"IFERROR(WORKDAY(T4468,AE4468,Hoja1!F4460:F4576),\"\")","v":""},"",null,"",{"$f":"IF(P4468=\"\",\"\",NETWORKDAYS(C4468+1,P4468,Hoja1!F4460:F4576))","v":""},{"$f":"IFERROR(IF(NETWORKDAYS(R4468+1,P4468,Hoja1!F4460:F4576)<=0,\"\",NETWORKDAYS(R4468+1,P4468,Hoja1!F4460:F4576)),0)","v":""},null,null,{"$f":"IFERROR(VLOOKUP(L4468,Hoja1!$A$50:$C$63,2),\"\")","v":""},{"$f":"IFERROR(VLOOKUP(L4468,Hoja1!$A$50:$C$63,3),\"\")","v":""}]
[null,null,null,null,null,null,null,null,null,null,null,null,null,null,null,null,null,null,null,null,null,{"$f":"IFERROR(WORKDAY(T4469,AE4469,Hoja1!F4461:F4577),\"\")","v":""},"",null,"",{"$f":"IF(P4469=\"\",\"\",NETWORKDAYS(C4469+1,P4469,Hoja1!F4461:F4577))","v":""},{"$f":"IFERROR(IF(NETWORKDAYS(R4469+1,P4469,Hoja1!F4461:F4577)<=0,\"\",NETWORKDAYS(R4469+1,P4469,Hoja1!F4461:F4577)),0)","v":""},null,null,{"$f":"IFERROR(VLOOKUP(L4469,Hoja1!$A$50:$C$63,2),\"\")","v":""},{"$f":"IFERROR(VLOOKUP(L4469,Hoja1!$A$50:$C$63,3),\"\")","v":""}]
[null,null,null,null,null,null,null,null,null,null,null,null,null,null,null,null,null,null,null,null,null,{"$f":"IFERROR(WORKDAY(T4475,AE4475,Hoja1!F4467:F4583),\"\")","v":""},"",null,"",{"$f":"IF(P4475=\"\",\"\",NETWORKDAYS(C4475+1,P4475,Hoja1!F4467:F4583))","v":""},{"$f":"IFERROR(IF(NETWORKDAYS(R4475+1,P4475,Hoja1!F4467:F4583)<=0,\"\",NETWORKDAYS(R4475+1,P4475,Hoja1!F4467:F4583)),0)","v":""},null,null,{"$f":"IFERROR(VLOOKUP(L4475,Hoja1!$A$50:$C$63,2),\"\")","v":""},{"$f":"IFERROR(VLOOKUP(L4475,Hoja1!$A$50:$C$63,3),\"\")","v":""}]
[null,null,null,null,null,null,null,null,null,null,null,null,null,null,null,null,null,null,null,null,null,{"$f":"IFERROR(WORKDAY(T4480,AE4480,Hoja1!F4472:F4588),\"\")","v":""},"",null,"",{"$f":"IF(P4480=\"\",\"\",NETWORKDAYS(C4480+1,P4480,Hoja1!F4472:F4588))","v":""},{"$f":"IFERROR(IF(NETWORKDAYS(R4480+1,P4480,Hoja1!F4472:F4588)<=0,\"\",NETWORKDAYS(R4480+1,P4480,Hoja1!F4472:F4588)),0)","v":""},null,null,{"$f":"IFERROR(VLOOKUP(L4480,Hoja1!$A$50:$C$63,2),\"\")","v":""},{"$f":"IFERROR(VLOOKUP(L4480,Hoja1!$A$50:$C$63,3),\"\")","v":""}]
[null,null,null,null,null,null,null,null,null,null,null,null,null,null,null,null,null,null,null,null,null,{"$f":"IFERROR(WORKDAY(T4483,AE4483,Hoja1!F4475:F4591),\"\")","v":""},"",null,"",{"$f":"IF(P4483=\"\",\"\",NETWORKDAYS(C4483+1,P4483,Hoja1!F4475:F4591))","v":""},{"$f":"IFERROR(IF(NETWORKDAYS(R4483+1,P4483,Hoja1!F4475:F4591)<=0,\"\",NETWORKDAYS(R4483+1,P4483,Hoja1!F4475:F4591)),0)","v":""},null,null,{"$f":"IFERROR(VLOOKUP(L4483,Hoja1!$A$50:$C$63,2),\"\")","v":""},{"$f":"IFERROR(VLOOKUP(L4483,Hoja1!$A$50:$C$63,3),\"\")","v":""}]
[null,null,null,null,null,null,null,null,null,null,null,null,null,null,null,null,null,null,null,null,null,{"$f":"IFERROR(WORKDAY(T4487,AE4487,Hoja1!F4479:F4595),\"\")","v":""},"",null,"",{"$f":"IF(P4487=\"\",\"\",NETWORKDAYS(C4487+1,P4487,Hoja1!F4479:F4595))","v":""},{"$f":"IFERROR(IF(NETWORKDAYS(R4487+1,P4487,Hoja1!F4479:F4595)<=0,\"\",NETWORKDAYS(R4487+1,P4487,Hoja1!F4479:F4595)),0)","v":""},null,null,{"$f":"IFERROR(VLOOKUP(L4487,Hoja1!$A$50:$C$63,2),\"\")","v":""},{"$f":"IFERROR(VLOOKUP(L4487,Hoja1!$A$50:$C$63,3),\"\")","v":""}]
[null,null,null,null,null,null,null,null,null,null,null,null,null,null,null,null,null,null,null,null,null,{"$f":"IFERROR(WORKDAY(T4492,AE4492,Hoja1!F4484:F4600),\"\")","v":""},"",null,"",{"$f":"IF(P4492=\"\",\"\",NETWORKDAYS(C4492+1,P4492,Hoja1!F4484:F4600))","v":""},{"$f":"IFERROR(IF(NETWORKDAYS(R4492+1,P4492,Hoja1!F4484:F4600)<=0,\"\",NETWORKDAYS(R4492+1,P4492,Hoja1!F4484:F4600)),0)","v":""},null,null,{"$f":"IFERROR(VLOOKUP(L4492,Hoja1!$A$50:$C$63,2),\"\")","v":""},{"$f":"IFERROR(VLOOKUP(L4492,Hoja1!$A$50:$C$63,3),\"\")","v":""}]
[null,null,null,null,null,null,null,null,null,null,null,null,null,null,null,null,null,null,null,null,null,{"$f":"IFERROR(WORKDAY(T4498,AE4498,Hoja1!F4490:F4606),\"\")","v":""},"",null,"",{"$f":"IF(P4498=\"\",\"\",NETWORKDAYS(C4498+1,P4498,Hoja1!F4490:F4606))","v":""},{"$f":"IFERROR(IF(NETWORKDAYS(R4498+1,P4498,Hoja1!F4490:F4606)<=0,\"\",NETWORKDAYS(R4498+1,P4498,Hoja1!F4490:F4606)),0)","v":""},null,null,{"$f":"IFERROR(VLOOKUP(L4498,Hoja1!$A$50:$C$63,2),\"\")","v":""},{"$f":"IFERROR(VLOOKUP(L4498,Hoja1!$A$50:$C$63,3),\"\")","v":""}]
[null,null,null,null,null,null,null,null,null,null,null,null,null,null,null,null,null,null,null,null,null,{"$f":"IFERROR(WORKDAY(T4502,AE4502,Hoja1!F4494:F4610),\"\")","v":""},"",null,"",{"$f":"IF(P4502=\"\",\"\",NETWORKDAYS(C4502+1,P4502,Hoja1!F4494:F4610))","v":""},{"$f":"IFERROR(IF(NETWORKDAYS(R4502+1,P4502,Hoja1!F4494:F4610)<=0,\"\",NETWORKDAYS(R4502+1,P4502,Hoja1!F4494:F4610)),0)","v":""},null,null,{"$f":"IFERROR(VLOOKUP(L4502,Hoja1!$A$50:$C$63,2),\"\")","v":""},{"$f":"IFERROR(VLOOKUP(L4502,Hoja1!$A$50:$C$63,3),\"\")","v":""}]
[null,null,null,null,null,null,null,null,null,null,null,null,null,null,null,null,null,null,null,null,null,{"$f":"IFERROR(WORKDAY(T4505,AE4505,Hoja1!F4497:F4613),\"\")","v":""},"",null,"",{"$f":"IF(P4505=\"\",\"\",NETWORKDAYS(C4505+1,P4505,Hoja1!F4497:F4613))","v":""},{"$f":"IFERROR(IF(NETWORKDAYS(R4505+1,P4505,Hoja1!F4497:F4613)<=0,\"\",NETWORKDAYS(R4505+1,P4505,Hoja1!F4497:F4613)),0)","v":""},null,null,{"$f":"IFERROR(VLOOKUP(L4505,Hoja1!$A$50:$C$63,2),\"\")","v":""},{"$f":"IFERROR(VLOOKUP(L4505,Hoja1!$A$50:$C$63,3),\"\")","v":""}]
[null,null,null,null,null,null,null,null,null,null,null,null,null,null,null,null,null,null,null,null,null,{"$f":"IFERROR(WORKDAY(T4510,AE4510,Hoja1!F4502:F4618),\"\")","v":""},"",null,"",{"$f":"IF(P4510=\"\",\"\",NETWORKDAYS(C4510+1,P4510,Hoja1!F4502:F4618))","v":""},{"$f":"IFERROR(IF(NETWORKDAYS(R4510+1,P4510,Hoja1!F4502:F4618)<=0,\"\",NETWORKDAYS(R4510+1,P4510,Hoja1!F4502:F4618)),0)","v":""},null,null,{"$f":"IFERROR(VLOOKUP(L4510,Hoja1!$A$50:$C$63,2),\"\")","v":""},{"$f":"IFERROR(VLOOKUP(L4510,Hoja1!$A$50:$C$63,3),\"\")","v":""}]
[null,null,null,null,null,null,null,null,null,null,null,null,null,null,null,null,null,null,null,null,null,{"$f":"IFERROR(WORKDAY(T4516,AE4516,Hoja1!F4508:F4624),\"\")","v":""},"",null,"",{"$f":"IF(P4516=\"\",\"\",NETWORKDAYS(C4516+1,P4516,Hoja1!F4508:F4624))","v":""},{"$f":"IFERROR(IF(NETWORKDAYS(R4516+1,P4516,Hoja1!F4508:F4624)<=0,\"\",NETWORKDAYS(R4516+1,P4516,Hoja1!F4508:F4624)),0)","v":""},null,null,{"$f":"IFERROR(VLOOKUP(L4516,Hoja1!$A$50:$C$63,2),\"\")","v":""},{"$f":"IFERROR(VLOOKUP(L4516,Hoja1!$A$50:$C$63,3),\"\")","v":""}]
[null,null,null,null,null,null,null,null,null,null,null,null,null,null,null,null,null,null,null,null,null,{"$f":"IFERROR(WORKDAY(T4521,AE4521,Hoja1!F4513:F4629),\"\")","v":""},"",null,"",{"$f":"IF(P4521=\"\",\"\",NETWORKDAYS(C4521+1,P4521,Hoja1!F4513:F4629))","v":""},{"$f":"IFERROR(IF(NETWORKDAYS(R4521+1,P4521,Hoja1!F4513:F4629)<=0,\"\",NETWORKDAYS(R4521+1,P4521,Hoja1!F4513:F4629)),0)","v":""},null,null,{"$f":"IFERROR(VLOOKUP(L4521,Hoja1!$A$50:$C$63,2),\"\")","v":""},{"$f":"IFERROR(VLOOKUP(L4521,Hoja1!$A$50:$C$63,3),\"\")","v":""}]
[null,null,null,null,null,null,null,null,null,null,null,null,null,null,null,null,null,null,null,null,null,{"$f":"IFERROR(WORKDAY(T4526,AE4526,Hoja1!F4518:F4634),\"\")","v":""},"",null,"",{"$f":"IF(P4526=\"\",\"\",NETWORKDAYS(C4526+1,P4526,Hoja1!F4518:F4634))","v":""},{"$f":"IFERROR(IF(NETWORKDAYS(R4526+1,P4526,Hoja1!F4518:F4634)<=0,\"\",NETWORKDAYS(R4526+1,P4526,Hoja1!F4518:F4634)),0)","v":""},null,null,{"$f":"IFERROR(VLOOKUP(L4526,Hoja1!$A$50:$C$63,2),\"\")","v":""},{"$f":"IFERROR(VLOOKUP(L4526,Hoja1!$A$50:$C$63,3),\"\")","v":""}]
[null,null,null,null,null,null,null,null,null,null,null,null,null,null,null,null,null,null,null,null,null,{"$f":"IFERROR(WORKDAY(T4528,AE4528,Hoja1!F4520:F4636),\"\")","v":""},"",null,"",{"$f":"IF(P4528=\"\",\"\",NETWORKDAYS(C4528+1,P4528,Hoja1!F4520:F4636))","v":""},{"$f":"IFERROR(IF(NETWORKDAYS(R4528+1,P4528,Hoja1!F4520:F4636)<=0,\"\",NETWORKDAYS(R4528+1,P4528,Hoja1!F4520:F4636)),0)","v":""},null,null,{"$f":"IFERROR(VLOOKUP(L4528,Hoja1!$A$50:$C$63,2),\"\")","v":""},{"$f":"IFERROR(VLOOKUP(L4528,Hoja1!$A$50:$C$63,3),\"\")","v":""}]
[null,null,null,null,null,null,null,null,null,null,null,null,null,null,null,null,null,null,null,null,null,{"$f":"IFERROR(WORKDAY(T4531,AE4531,Hoja1!F4523:F4639),\"\")","v":""},"",null,"",{"$f":"IF(P4531=\"\",\"\",NETWORKDAYS(C4531+1,P4531,Hoja1!F4523:F4639))","v":""},{"$f":"IFERROR(IF(NETWORKDAYS(R4531+1,P4531,Hoja1!F4523:F4639)<=0,\"\",NETWORKDAYS(R4531+1,P4531,Hoja1!F4523:F4639)),0)","v":""},null,null,{"$f":"IFERROR(VLOOKUP(L4531,Hoja1!$A$50:$C$63,2),\"\")","v":""},{"$f":"IFERROR(VLOOKUP(L4531,Hoja1!$A$50:$C$63,3),\"\")","v":""}]
[null,null,null,null,null,null,null,null,null,null,null,null,null,null,null,null,null,null,null,null,null,{"$f":"IFERROR(WORKDAY(T4539,AE4539,Hoja1!F4531:F4647),\"\")","v":""},"",null,"",{"$f":"IF(P4539=\"\",\"\",NETWORKDAYS(C4539+1,P4539,Hoja1!F4531:F4647))","v":""},{"$f":"IFERROR(IF(NETWORKDAYS(R4539+1,P4539,Hoja1!F4531:F4647)<=0,\"\",NETWORKDAYS(R4539+1,P4539,Hoja1!F4531:F4647)),0)","v":""},null,null,{"$f":"IFERROR(VLOOKUP(L4539,Hoja1!$A$50:$C$63,2),\"\")","v":""},{"$f":"IFERROR(VLOOKUP(L4539,Hoja1!$A$50:$C$63,3),\"\")","v":""}]
[null,null,null,null,null,null,null,null,null,null,null,null,null,null,null,null,null,null,null,null,null,{"$f":"IFERROR(WORKDAY(T4541,AE4541,Hoja1!F4533:F4649),\"\")","v":""},"",null,"",{"$f":"IF(P4541=\"\",\"\",NETWORKDAYS(C4541+1,P4541,Hoja1!F4533:F4649))","v":""},{"$f":"IFERROR(IF(NETWORKDAYS(R4541+1,P4541,Hoja1!F4533:F4649)<=0,\"\",NETWORKDAYS(R4541+1,P4541,Hoja1!F4533:F4649)),0)","v":""},null,null,{"$f":"IFERROR(VLOOKUP(L4541,Hoja1!$A$50:$C$63,2),\"\")","v":""},{"$f":"IFERROR(VLOOKUP(L4541,Hoja1!$A$50:$C$63,3),\"\")","v":""}]
[null,null,null,null,null,null,null,null,null,null,null,null,null,null,null,null,null,null,null,null,null,{"$f":"IFERROR(WORKDAY(T4546,AE4546,Hoja1!F4538:F4654),\"\")","v":""},"",null,"",{"$f":"IF(P4546=\"\",\"\",NETWORKDAYS(C4546+1,P4546,Hoja1!F4538:F4654))","v":""},{"$f":"IFERROR(IF(NETWORKDAYS(R4546+1,P4546,Hoja1!F4538:F4654)<=0,\"\",NETWORKDAYS(R4546+1,P4546,Hoja1!F4538:F4654)),0)","v":""},null,null,{"$f":"IFERROR(VLOOKUP(L4546,Hoja1!$A$50:$C$63,2),\"\")","v":""},{"$f":"IFERROR(VLOOKUP(L4546,Hoja1!$A$50:$C$63,3),\"\")","v":""}]
[null,null,null,null,null,null,null,null,null,null,null,null,null,null,null,null,null,null,null,null,null,{"$f":"IFERROR(WORKDAY(T4551,AE4551,Hoja1!F4543:F4659),\"\")","v":""},"",null,"",{"$f":"IF(P4551=\"\",\"\",NETWORKDAYS(C4551+1,P4551,Hoja1!F4543:F4659))","v":""},{"$f":"IFERROR(IF(NETWORKDAYS(R4551+1,P4551,Hoja1!F4543:F4659)<=0,\"\",NETWORKDAYS(R4551+1,P4551,Hoja1!F4543:F4659)),0)","v":""},null,null,{"$f":"IFERROR(VLOOKUP(L4551,Hoja1!$A$50:$C$63,2),\"\")","v":""},{"$f":"IFERROR(VLOOKUP(L4551,Hoja1!$A$50:$C$63,3),\"\")","v":""}]
[null,null,null,null,null,null,null,null,null,null,null,null,null,null,null,null,null,null,null,null,null,{"$f":"IFERROR(WORKDAY(T4555,AE4555,Hoja1!F4547:F4663),\"\")","v":""},"",null,"",{"$f":"IF(P4555=\"\",\"\",NETWORKDAYS(C4555+1,P4555,Hoja1!F4547:F4663))","v":""},{"$f":"IFERROR(IF(NETWORKDAYS(R4555+1,P4555,Hoja1!F4547:F4663)<=0,\"\",NETWORKDAYS(R4555+1,P4555,Hoja1!F4547:F4663)),0)","v":""},null,null,{"$f":"IFERROR(VLOOKUP(L4555,Hoja1!$A$50:$C$63,2),\"\")","v":""},{"$f":"IFERROR(VLOOKUP(L4555,Hoja1!$A$50:$C$63,3),\"\")","v":""}]
[null,null,null,null,null,null,null,null,null,null,null,null,null,null,null,null,null,null,null,null,null,{"$f":"IFERROR(WORKDAY(T4558,AE4558,Hoja1!F4550:F4666),\"\")","v":""},"",null,"",{"$f":"IF(P4558=\"\",\"\",NETWORKDAYS(C4558+1,P4558,Hoja1!F4550:F4666))","v":""},{"$f":"IFERROR(IF(NETWORKDAYS(R4558+1,P4558,Hoja1!F4550:F4666)<=0,\"\",NETWORKDAYS(R4558+1,P4558,Hoja1!F4550:F4666)),0)","v":""},null,null,{"$f":"IFERROR(VLOOKUP(L4558,Hoja1!$A$50:$C$63,2),\"\")","v":""},{"$f":"IFERROR(VLOOKUP(L4558,Hoja1!$A$50:$C$63,3),\"\")","v":""}]
[null,null,null,null,null,null,null,null,null,null,null,null,null,null,null,null,null,null,null,null,null,{"$f":"IFERROR(WORKDAY(T4565,AE4565,Hoja1!F4557:F4673),\"\")","v":""},"",null,"",{"$f":"IF(P4565=\"\",\"\",NETWORKDAYS(C4565+1,P4565,Hoja1!F4557:F4673))","v":""},{"$f":"IFERROR(IF(NETWORKDAYS(R4565+1,P4565,Hoja1!F4557:F4673)<=0,\"\",NETWORKDAYS(R4565+1,P4565,Hoja1!F4557:F4673)),0)","v":""},null,null,{"$f":"IFERROR(VLOOKUP(L4565,Hoja1!$A$50:$C$63,2),\"\")","v":""},{"$f":"IFERROR(VLOOKUP(L4565,Hoja1!$A$50:$C$63,3),\"\")","v":""}]
[null,null,null,null,null,null,null,null,null,null,null,null,null,null,null,null,null,null,null,null,null,{"$f":"IFERROR(WORKDAY(T4569,AE4569,Hoja1!F4561:F4677),\"\")","v":""},"",null,"",{"$f":"IF(P4569=\"\",\"\",NETWORKDAYS(C4569+1,P4569,Hoja1!F4561:F4677))","v":""},{"$f":"IFERROR(IF(NETWORKDAYS(R4569+1,P4569,Hoja1!F4561:F4677)<=0,\"\",NETWORKDAYS(R4569+1,P4569,Hoja1!F4561:F4677)),0)","v":""},null,null,{"$f":"IFERROR(VLOOKUP(L4569,Hoja1!$A$50:$C$63,2),\"\")","v":""},{"$f":"IFERROR(VLOOKUP(L4569,Hoja1!$A$50:$C$63,3),\"\")","v":""}]
[null,null,null,null,null,null,null,null,null,null,null,null,null,null,null,null,null,null,null,null,null,{"$f":"IFERROR(WORKDAY(T4574,AE4574,Hoja1!F4566:F4682),\"\")","v":""},"",null,"",{"$f":"IF(P4574=\"\",\"\",NETWORKDAYS(C4574+1,P4574,Hoja1!F4566:F4682))","v":""},{"$f":"IFERROR(IF(NETWORKDAYS(R4574+1,P4574,Hoja1!F4566:F4682)<=0,\"\",NETWORKDAYS(R4574+1,P4574,Hoja1!F4566:F4682)),0)","v":""},null,null,{"$f":"IFERROR(VLOOKUP(L4574,Hoja1!$A$50:$C$63,2),\"\")","v":""},{"$f":"IFERROR(VLOOKUP(L4574,Hoja1!$A$50:$C$63,3),\"\")","v":""}]
[null,null,null,null,null,null,null,null,null,null,null,null,null,null,null,null,null,null,null,null,null,{"$f":"IFERROR(WORKDAY(T4576,AE4576,Hoja1!F4568:F4684),\"\")","v":""},"",null,"",{"$f":"IF(P4576=\"\",\"\",NETWORKDAYS(C4576+1,P4576,Hoja1!F4568:F4684))","v":""},{"$f":"IFERROR(IF(NETWORKDAYS(R4576+1,P4576,Hoja1!F4568:F4684)<=0,\"\",NETWORKDAYS(R4576+1,P4576,Hoja1!F4568:F4684)),0)","v":""},null,null,{"$f":"IFERROR(VLOOKUP(L4576,Hoja1!$A$50:$C$63,2),\"\")","v":""},{"$f":"IFERROR(VLOOKUP(L4576,Hoja1!$A$50:$C$63,3),\"\")","v":""}]
[null,null,null,null,null,null,null,null,null,null,null,null,null,null,null,null,null,null,null,null,null,{"$f":"IFERROR(WORKDAY(T4581,AE4581,Hoja1!F4573:F4689),\"\")","v":""},"",null,"",{"$f":"IF(P4581=\"\",\"\",NETWORKDAYS(C4581+1,P4581,Hoja1!F4573:F4689))","v":""},{"$f":"IFERROR(IF(NETWORKDAYS(R4581+1,P4581,Hoja1!F4573:F4689)<=0,\"\",NETWORKDAYS(R4581+1,P4581,Hoja1!F4573:F4689)),0)","v":""},null,null,{"$f":"IFERROR(VLOOKUP(L4581,Hoja1!$A$50:$C$63,2),\"\")","v":""},{"$f":"IFERROR(VLOOKUP(L4581,Hoja1!$A$50:$C$63,3),\"\")","v":""}]
[null,null,null,null,null,null,null,null,null,null,null,null,null,null,null,null,null,null,null,null,null,{"$f":"IFERROR(WORKDAY(T4584,AE4584,Hoja1!F4576:F4692),\"\")","v":""},"",null,"",{"$f":"IF(P4584=\"\",\"\",NETWORKDAYS(C4584+1,P4584,Hoja1!F4576:F4692))","v":""},{"$f":"IFERROR(IF(NETWORKDAYS(R4584+1,P4584,Hoja1!F4576:F4692)<=0,\"\",NETWORKDAYS(R4584+1,P4584,Hoja1!F4576:F4692)),0)","v":""},null,null,{"$f":"IFERROR(VLOOKUP(L4584,Hoja1!$A$50:$C$63,2),\"\")","v":""},{"$f":"IFERROR(VLOOKUP(L4584,Hoja1!$A$50:$C$63,3),\"\")","v":""}]
[null,null,null,null,null,null,null,null,null,null,null,null,null,null,null,null,null,null,null,null,null,{"$f":"IFERROR(WORKDAY(T4592,AE4592,Hoja1!F4584:F4700),\"\")","v":""},"",null,"",{"$f":"IF(P4592=\"\",\"\",NETWORKDAYS(C4592+1,P4592,Hoja1!F4584:F4700))","v":""},{"$f":"IFERROR(IF(NETWORKDAYS(R4592+1,P4592,Hoja1!F4584:F4700)<=0,\"\",NETWORKDAYS(R4592+1,P4592,Hoja1!F4584:F4700)),0)","v":""},null,null,{"$f":"IFERROR(VLOOKUP(L4592,Hoja1!$A$50:$C$63,2),\"\")","v":""},{"$f":"IFERROR(VLOOKUP(L4592,Hoja1!$A$50:$C$63,3),\"\")","v":""}]
[null,null,null,null,null,null,null,null,null,null,null,null,null,null,null,null,null,null,null,null,null,{"$f":"IFERROR(WORKDAY(T4593,AE4593,Hoja1!F4585:F4701),\"\")","v":""},"",null,"",{"$f":"IF(P4593=\"\",\"\",NETWORKDAYS(C4593+1,P4593,Hoja1!F4585:F4701))","v":""},{"$f":"IFERROR(IF(NETWORKDAYS(R4593+1,P4593,Hoja1!F4585:F4701)<=0,\"\",NETWORKDAYS(R4593+1,P4593,Hoja1!F4585:F4701)),0)","v":""},null,null,{"$f":"IFERROR(VLOOKUP(L4593,Hoja1!$A$50:$C$63,2),\"\")","v":""},{"$f":"IFERROR(VLOOKUP(L4593,Hoja1!$A$50:$C$63,3),\"\")","v":""}]
[null,null,null,null,null,null,null,null,null,null,null,null,null,null,null,null,null,null,null,null,null,{"$f":"IFERROR(WORKDAY(T4599,AE4599,Hoja1!F4591:F4707),\"\")","v":""},"",null,"",{"$f":"IF(P4599=\"\",\"\",NETWORKDAYS(C4599+1,P4599,Hoja1!F4591:F4707))","v":""},{"$f":"IFERROR(IF(NETWORKDAYS(R4599+1,P4599,Hoja1!F4591:F4707)<=0,\"\",NETWORKDAYS(R4599+1,P4599,Hoja1!F4591:F4707)),0)","v":""},null,null,{"$f":"IFERROR(VLOOKUP(L4599,Hoja1!$A$50:$C$63,2),\"\")","v":""},{"$f":"IFERROR(VLOOKUP(L4599,Hoja1!$A$50:$C$63,3),\"\")","v":""}]
[null,null,null,null,null,null,null,null,null,null,null,null,null,null,null,null,null,null,null,null,null,{"$f":"IFERROR(WORKDAY(T4603,AE4603,Hoja1!F4595:F4711),\"\")","v":""},"",null,"",{"$f":"IF(P4603=\"\",\"\",NETWORKDAYS(C4603+1,P4603,Hoja1!F4595:F4711))","v":""},{"$f":"IFERROR(IF(NETWORKDAYS(R4603+1,P4603,Hoja1!F4595:F4711)<=0,\"\",NETWORKDAYS(R4603+1,P4603,Hoja1!F4595:F4711)),0)","v":""},null,null,{"$f":"IFERROR(VLOOKUP(L4603,Hoja1!$A$50:$C$63,2),\"\")","v":""},{"$f":"IFERROR(VLOOKUP(L4603,Hoja1!$A$50:$C$63,3),\"\")","v":""}]
[null,null,null,null,null,null,null,null,null,null,null,null,null,null,null,null,null,null,null,null,null,{"$f":"IFERROR(WORKDAY(T4610,AE4610,Hoja1!F4602:F4718),\"\")","v":""},"",null,"",{"$f":"IF(P4610=\"\",\"\",NETWORKDAYS(C4610+1,P4610,Hoja1!F4602:F4718))","v":""},{"$f":"IFERROR(IF(NETWORKDAYS(R4610+1,P4610,Hoja1!F4602:F4718)<=0,\"\",NETWORKDAYS(R4610+1,P4610,Hoja1!F4602:F4718)),0)","v":""},null,null,{"$f":"IFERROR(VLOOKUP(L4610,Hoja1!$A$50:$C$63,2),\"\")","v":""},{"$f":"IFERROR(VLOOKUP(L4610,Hoja1!$A$50:$C$63,3),\"\")","v":""}]
[null,null,null,null,null,null,null,null,null,null,null,null,null,null,null,null,null,null,null,null,null,{"$f":"IFERROR(WORKDAY(T4611,AE4611,Hoja1!F4603:F4719),\"\")","v":""},"",null,"",{"$f":"IF(P4611=\"\",\"\",NETWORKDAYS(C4611+1,P4611,Hoja1!F4603:F4719))","v":""},{"$f":"IFERROR(IF(NETWORKDAYS(R4611+1,P4611,Hoja1!F4603:F4719)<=0,\"\",NETWORKDAYS(R4611+1,P4611,Hoja1!F4603:F4719)),0)","v":""},null,null,{"$f":"IFERROR(VLOOKUP(L4611,Hoja1!$A$50:$C$63,2),\"\")","v":""},{"$f":"IFERROR(VLOOKUP(L4611,Hoja1!$A$50:$C$63,3),\"\")","v":""}]
[null,null,null,null,null,null,null,null,null,null,null,null,null,null,null,null,null,null,null,null,null,{"$f":"IFERROR(WORKDAY(T4617,AE4617,Hoja1!F4609:F4725),\"\")","v":""},"",null,"",{"$f":"IF(P4617=\"\",\"\",NETWORKDAYS(C4617+1,P4617,Hoja1!F4609:F4725))","v":""},{"$f":"IFERROR(IF(NETWORKDAYS(R4617+1,P4617,Hoja1!F4609:F4725)<=0,\"\",NETWORKDAYS(R4617+1,P4617,Hoja1!F4609:F4725)),0)","v":""},null,null,{"$f":"IFERROR(VLOOKUP(L4617,Hoja1!$A$50:$C$63,2),\"\")","v":""},{"$f":"IFERROR(VLOOKUP(L4617,Hoja1!$A$50:$C$63,3),\"\")","v":""}]
[null,null,null,null,null,null,null,null,null,null,null,null,null,null,null,null,null,null,null,null,null,{"$f":"IFERROR(WORKDAY(T4622,AE4622,Hoja1!F4614:F4730),\"\")","v":""},"",null,"",{"$f":"IF(P4622=\"\",\"\",NETWORKDAYS(C4622+1,P4622,Hoja1!F4614:F4730))","v":""},{"$f":"IFERROR(IF(NETWORKDAYS(R4622+1,P4622,Hoja1!F4614:F4730)<=0,\"\",NETWORKDAYS(R4622+1,P4622,Hoja1!F4614:F4730)),0)","v":""},null,null,{"$f":"IFERROR(VLOOKUP(L4622,Hoja1!$A$50:$C$63,2),\"\")","v":""},{"$f":"IFERROR(VLOOKUP(L4622,Hoja1!$A$50:$C$63,3),\"\")","v":""}]
[null,null,null,null,null,null,null,null,null,null,null,null,null,null,null,null,null,null,null,null,null,{"$f":"IFERROR(WORKDAY(T4627,AE4627,Hoja1!F4619:F4735),\"\")","v":""},"",null,"",{"$f":"IF(P4627=\"\",\"\",NETWORKDAYS(C4627+1,P4627,Hoja1!F4619:F4735))","v":""},{"$f":"IFERROR(IF(NETWORKDAYS(R4627+1,P4627,Hoja1!F4619:F4735)<=0,\"\",NETWORKDAYS(R4627+1,P4627,Hoja1!F4619:F4735)),0)","v":""},null,null,{"$f":"IFERROR(VLOOKUP(L4627,Hoja1!$A$50:$C$63,2),\"\")","v":""},{"$f":"IFERROR(VLOOKUP(L4627,Hoja1!$A$50:$C$63,3),\"\")","v":""}]
[null,null,null,null,null,null,null,null,null,null,null,null,null,null,null,null,null,null,null,null,null,{"$f":"IFERROR(WORKDAY(T4629,AE4629,Hoja1!F4621:F4737),\"\")","v":""},"",null,"",{"$f":"IF(P4629=\"\",\"\",NETWORKDAYS(C4629+1,P4629,Hoja1!F4621:F4737))","v":""},{"$f":"IFERROR(IF(NETWORKDAYS(R4629+1,P4629,Hoja1!F4621:F4737)<=0,\"\",NETWORKDAYS(R4629+1,P4629,Hoja1!F4621:F4737)),0)","v":""},null,null,{"$f":"IFERROR(VLOOKUP(L4629,Hoja1!$A$50:$C$63,2),\"\")","v":""},{"$f":"IFERROR(VLOOKUP(L4629,Hoja1!$A$50:$C$63,3),\"\")","v":""}]
[null,null,null,null,null,null,null,null,null,null,null,null,null,null,null,null,null,null,null,null,null,{"$f":"IFERROR(WORKDAY(T4637,AE4637,Hoja1!F4629:F4745),\"\")","v":""},"",null,"",{"$f":"IF(P4637=\"\",\"\",NETWORKDAYS(C4637+1,P4637,Hoja1!F4629:F4745))","v":""},{"$f":"IFERROR(IF(NETWORKDAYS(R4637+1,P4637,Hoja1!F4629:F4745)<=0,\"\",NETWORKDAYS(R4637+1,P4637,Hoja1!F4629:F4745)),0)","v":""},null,null,{"$f":"IFERROR(VLOOKUP(L4637,Hoja1!$A$50:$C$63,2),\"\")","v":""},{"$f":"IFERROR(VLOOKUP(L4637,Hoja1!$A$50:$C$63,3),\"\")","v":""}]
[null,null,null,null,null,null,null,null,null,null,null,null,null,null,null,null,null,null,null,null,null,{"$f":"IFERROR(WORKDAY(T4640,AE4640,Hoja1!F4632:F4748),\"\")","v":""},"",null,"",{"$f":"IF(P4640=\"\",\"\",NETWORKDAYS(C4640+1,P4640,Hoja1!F4632:F4748))","v":""},{"$f":"IFERROR(IF(NETWORKDAYS(R4640+1,P4640,Hoja1!F4632:F4748)<=0,\"\",NETWORKDAYS(R4640+1,P4640,Hoja1!F4632:F4748)),0)","v":""},null,null,{"$f":"IFERROR(VLOOKUP(L4640,Hoja1!$A$50:$C$63,2),\"\")","v":""},{"$f":"IFERROR(VLOOKUP(L4640,Hoja1!$A$50:$C$63,3),\"\")","v":""}]
[null,null,null,null,null,null,null,null,null,null,null,null,null,null,null,null,null,null,null,null,null,{"$f":"IFERROR(WORKDAY(T4645,AE4645,Hoja1!F4637:F4753),\"\")","v":""},"",null,"",{"$f":"IF(P4645=\"\",\"\",NETWORKDAYS(C4645+1,P4645,Hoja1!F4637:F4753))","v":""},{"$f":"IFERROR(IF(NETWORKDAYS(R4645+1,P4645,Hoja1!F4637:F4753)<=0,\"\",NETWORKDAYS(R4645+1,P4645,Hoja1!F4637:F4753)),0)","v":""},null,null,{"$f":"IFERROR(VLOOKUP(L4645,Hoja1!$A$50:$C$63,2),\"\")","v":""},{"$f":"IFERROR(VLOOKUP(L4645,Hoja1!$A$50:$C$63,3),\"\")","v":""}]
[null,null,null,null,null,null,null,null,null,null,null,null,null,null,null,null,null,null,null,null,null,{"$f":"IFERROR(WORKDAY(T4646,AE4646,Hoja1!F4638:F4754),\"\")","v":""},"",null,"",{"$f":"IF(P4646=\"\",\"\",NETWORKDAYS(C4646+1,P4646,Hoja1!F4638:F4754))","v":""},{"$f":"IFERROR(IF(NETWORKDAYS(R4646+1,P4646,Hoja1!F4638:F4754)<=0,\"\",NETWORKDAYS(R4646+1,P4646,Hoja1!F4638:F4754)),0)","v":""},null,null,{"$f":"IFERROR(VLOOKUP(L4646,Hoja1!$A$50:$C$63,2),\"\")","v":""},{"$f":"IFERROR(VLOOKUP(L4646,Hoja1!$A$50:$C$63,3),\"\")","v":""}]
[null,null,null,null,null,null,null,null,null,null,null,null,null,null,null,null,null,null,null,null,null,{"$f":"IFERROR(WORKDAY(T4652,AE4652,Hoja1!F4644:F4760),\"\")","v":""},"",null,"",{"$f":"IF(P4652=\"\",\"\",NETWORKDAYS(C4652+1,P4652,Hoja1!F4644:F4760))","v":""},{"$f":"IFERROR(IF(NETWORKDAYS(R4652+1,P4652,Hoja1!F4644:F4760)<=0,\"\",NETWORKDAYS(R4652+1,P4652,Hoja1!F4644:F4760)),0)","v":""},null,null,{"$f":"IFERROR(VLOOKUP(L4652,Hoja1!$A$50:$C$63,2),\"\")","v":""},{"$f":"IFERROR(VLOOKUP(L4652,Hoja1!$A$50:$C$63,3),\"\")","v":""}]
[null,null,null,null,null,null,null,null,null,null,null,null,null,null,null,null,null,null,null,null,null,{"$f":"IFERROR(WORKDAY(T4656,AE4656,Hoja1!F4648:F4764),\"\")","v":""},"",null,"",{"$f":"IF(P4656=\"\",\"\",NETWORKDAYS(C4656+1,P4656,Hoja1!F4648:F4764))","v":""},{"$f":"IFERROR(IF(NETWORKDAYS(R4656+1,P4656,Hoja1!F4648:F4764)<=0,\"\",NETWORKDAYS(R4656+1,P4656,Hoja1!F4648:F4764)),0)","v":""},null,null,{"$f":"IFERROR(VLOOKUP(L4656,Hoja1!$A$50:$C$63,2),\"\")","v":""},{"$f":"IFERROR(VLOOKUP(L4656,Hoja1!$A$50:$C$63,3),\"\")","v":""}]
[null,null,null,null,null,null,null,null,null,null,null,null,null,null,null,null,null,null,null,null,null,{"$f":"IFERROR(WORKDAY(T4663,AE4663,Hoja1!F4655:F4771),\"\")","v":""},"",null,"",{"$f":"IF(P4663=\"\",\"\",NETWORKDAYS(C4663+1,P4663,Hoja1!F4655:F4771))","v":""},{"$f":"IFERROR(IF(NETWORKDAYS(R4663+1,P4663,Hoja1!F4655:F4771)<=0,\"\",NETWORKDAYS(R4663+1,P4663,Hoja1!F4655:F4771)),0)","v":""},null,null,{"$f":"IFERROR(VLOOKUP(L4663,Hoja1!$A$50:$C$63,2),\"\")","v":""},{"$f":"IFERROR(VLOOKUP(L4663,Hoja1!$A$50:$C$63,3),\"\")","v":""}]
[null,null,null,null,null,null,null,null,null,null,null,null,null,null,null,null,null,null,null,null,null,{"$f":"IFERROR(WORKDAY(T4665,AE4665,Hoja1!F4657:F4773),\"\")","v":""},"",null,"",{"$f":"IF(P4665=\"\",\"\",NETWORKDAYS(C4665+1,P4665,Hoja1!F4657:F4773))","v":""},{"$f":"IFERROR(IF(NETWORKDAYS(R4665+1,P4665,Hoja1!F4657:F4773)<=0,\"\",NETWORKDAYS(R4665+1,P4665,Hoja1!F4657:F4773)),0)","v":""},null,null,{"$f":"IFERROR(VLOOKUP(L4665,Hoja1!$A$50:$C$63,2),\"\")","v":""},{"$f":"IFERROR(VLOOKUP(L4665,Hoja1!$A$50:$C$63,3),\"\")","v":""}]
[null,null,null,null,null,null,null,null,null,null,null,null,null,null,null,null,null,null,null,null,null,{"$f":"IFERROR(WORKDAY(T4670,AE4670,Hoja1!F4662:F4778),\"\")","v":""},"",null,"",{"$f":"IF(P4670=\"\",\"\",NETWORKDAYS(C4670+1,P4670,Hoja1!F4662:F4778))","v":""},{"$f":"IFERROR(IF(NETWORKDAYS(R4670+1,P4670,Hoja1!F4662:F4778)<=0,\"\",NETWORKDAYS(R4670+1,P4670,Hoja1!F4662:F4778)),0)","v":""},null,null,{"$f":"IFERROR(VLOOKUP(L4670,Hoja1!$A$50:$C$63,2),\"\")","v":""},{"$f":"IFERROR(VLOOKUP(L4670,Hoja1!$A$50:$C$63,3),\"\")","v":""}]
[null,null,null,null,null,null,null,null,null,null,null,null,null,null,null,null,null,null,null,null,null,{"$f":"IFERROR(WORKDAY(T4675,AE4675,Hoja1!F4667:F4783),\"\")","v":""},"",null,"",{"$f":"IF(P4675=\"\",\"\",NETWORKDAYS(C4675+1,P4675,Hoja1!F4667:F4783))","v":""},{"$f":"IFERROR(IF(NETWORKDAYS(R4675+1,P4675,Hoja1!F4667:F4783)<=0,\"\",NETWORKDAYS(R4675+1,P4675,Hoja1!F4667:F4783)),0)","v":""},null,null,{"$f":"IFERROR(VLOOKUP(L4675,Hoja1!$A$50:$C$63,2),\"\")","v":""},{"$f":"IFERROR(VLOOKUP(L4675,Hoja1!$A$50:$C$63,3),\"\")","v":""}]
[null,null,null,null,null,null,null,null,null,null,null,null,null,null,null,null,null,null,null,null,null,{"$f":"IFERROR(WORKDAY(T4680,AE4680,Hoja1!F4672:F4788),\"\")","v":""},"",null,"",{"$f":"IF(P4680=\"\",\"\",NETWORKDAYS(C4680+1,P4680,Hoja1!F4672:F4788))","v":""},{"$f":"IFERROR(IF(NETWORKDAYS(R4680+1,P4680,Hoja1!F4672:F4788)<=0,\"\",NETWORKDAYS(R4680+1,P4680,Hoja1!F4672:F4788)),0)","v":""},null,null,{"$f":"IFERROR(VLOOKUP(L4680,Hoja1!$A$50:$C$63,2),\"\")","v":""},{"$f":"IFERROR(VLOOKUP(L4680,Hoja1!$A$50:$C$63,3),\"\")","v":""}]
[null,null,null,null,null,null,null,null,null,null,null,null,null,null,null,null,null,null,null,null,null,{"$f":"IFERROR(WORKDAY(T4682,AE4682,Hoja1!F4674:F4790),\"\")","v":""},{"$f":"+IF(T4682=\"\",\"\",IF(U4682=\"\",\"SIN RESPUESTA\",(IF(U4682<=V4682,\"A TIEMPO\",\"FUERA DE TIEMPO\"))))","v":""},null,{"$f":"+IF(C4682=\"\",\"\",IF(P4682=\"\",\"SIN RESPUESTA\",(IF(P4682<=R4682,\"A TIEMPO\",\"FUERA DE TIEMPO\"))))","v":""},{"$f":"IF(P4682=\"\",\"\",NETWORKDAYS(C4682+1,P4682,Hoja1!F4674:F4790))","v":""},{"$f":"IFERROR(IF(NETWORKDAYS(R4682+1,P4682,Hoja1!F4674:F4790)<=0,\"\",NETWORKDAYS(R4682+1,P4682,Hoja1!F4674:F4790)),0)","v":""},null,null,{"$f":"IFERROR(VLOOKUP(L4682,Hoja1!$A$50:$C$63,2),\"\")","v":""},{"$f":"IFERROR(VLOOKUP(L4682,Hoja1!$A$50:$C$63,3),\"\")","v":""}]
[null,null,null,null,null,null,null,null,null,null,null,null,null,null,null,null,null,null,null,null,null,{"$f":"IFERROR(WORKDAY(T4689,AE4689,Hoja1!F4681:F4797),\"\")","v":""},"",null,"",{"$f":"IF(P4689=\"\",\"\",NETWORKDAYS(C4689+1,P4689,Hoja1!F4681:F4797))","v":""},{"$f":"IFERROR(IF(NETWORKDAYS(R4689+1,P4689,Hoja1!F4681:F4797)<=0,\"\",NETWORKDAYS(R4689+1,P4689,Hoja1!F4681:F4797)),0)","v":""},null,null,{"$f":"IFERROR(VLOOKUP(L4689,Hoja1!$A$50:$C$63,2),\"\")","v":""},{"$f":"IFERROR(VLOOKUP(L4689,Hoja1!$A$50:$C$63,3),\"\")","v":""}]
[null,null,null,null,null,null,null,null,null,null,null,null,null,null,null,null,null,null,null,null,null,{"$f":"IFERROR(WORKDAY(T4693,AE4693,Hoja1!F4685:F4801),\"\")","v":""},"",null,"",{"$f":"IF(P4693=\"\",\"\",NETWORKDAYS(C4693+1,P4693,Hoja1!F4685:F4801))","v":""},{"$f":"IFERROR(IF(NETWORKDAYS(R4693+1,P4693,Hoja1!F4685:F4801)<=0,\"\",NETWORKDAYS(R4693+1,P4693,Hoja1!F4685:F4801)),0)","v":""},null,null,{"$f":"IFERROR(VLOOKUP(L4693,Hoja1!$A$50:$C$63,2),\"\")","v":""},{"$f":"IFERROR(VLOOKUP(L4693,Hoja1!$A$50:$C$63,3),\"\")","v":""}]
[null,null,null,null,null,null,null,null,null,null,null,null,null,null,null,null,null,null,null,null,null,{"$f":"IFERROR(WORKDAY(T4699,AE4699,Hoja1!F4691:F4807),\"\")","v":""},"",null,"",{"$f":"IF(P4699=\"\",\"\",NETWORKDAYS(C4699+1,P4699,Hoja1!F4691:F4807))","v":""},{"$f":"IFERROR(IF(NETWORKDAYS(R4699+1,P4699,Hoja1!F4691:F4807)<=0,\"\",NETWORKDAYS(R4699+1,P4699,Hoja1!F4691:F4807)),0)","v":""},null,null,{"$f":"IFERROR(VLOOKUP(L4699,Hoja1!$A$50:$C$63,2),\"\")","v":""},{"$f":"IFERROR(VLOOKUP(L4699,Hoja1!$A$50:$C$63,3),\"\")","v":""}]
[null,null,null,null,null,null,null,null,null,null,null,null,null,null,null,null,null,null,null,null,null,{"$f":"IFERROR(WORKDAY(T4700,AE4700,Hoja1!F4692:F4808),\"\")","v":""},"",null,"",{"$f":"IF(P4700=\"\",\"\",NETWORKDAYS(C4700+1,P4700,Hoja1!F4692:F4808))","v":""},{"$f":"IFERROR(IF(NETWORKDAYS(R4700+1,P4700,Hoja1!F4692:F4808)<=0,\"\",NETWORKDAYS(R4700+1,P4700,Hoja1!F4692:F4808)),0)","v":""},null,null,{"$f":"IFERROR(VLOOKUP(L4700,Hoja1!$A$50:$C$63,2),\"\")","v":""},{"$f":"IFERROR(VLOOKUP(L4700,Hoja1!$A$50:$C$63,3),\"\")","v":""}]
[null,null,null,null,null,null,null,null,null,null,null,null,null,null,null,null,null,null,null,null,null,{"$f":"IFERROR(WORKDAY(T4705,AE4705,Hoja1!F4697:F4813),\"\")","v":""},"",null,"",{"$f":"IF(P4705=\"\",\"\",NETWORKDAYS(C4705+1,P4705,Hoja1!F4697:F4813))","v":""},{"$f":"IFERROR(IF(NETWORKDAYS(R4705+1,P4705,Hoja1!F4697:F4813)<=0,\"\",NETWORKDAYS(R4705+1,P4705,Hoja1!F4697:F4813)),0)","v":""},null,null,{"$f":"IFERROR(VLOOKUP(L4705,Hoja1!$A$50:$C$63,2),\"\")","v":""},{"$f":"IFERROR(VLOOKUP(L4705,Hoja1!$A$50:$C$63,3),\"\")","v":""}]
[null,null,null,null,null,null,null,null,null,null,null,null,null,null,null,null,null,null,null,null,null,{"$f":"IFERROR(WORKDAY(T4708,AE4708,Hoja1!F4700:F4816),\"\")","v":""},"",null,"",{"$f":"IF(P4708=\"\",\"\",NETWORKDAYS(C4708+1,P4708,Hoja1!F4700:F4816))","v":""},{"$f":"IFERROR(IF(NETWORKDAYS(R4708+1,P4708,Hoja1!F4700:F4816)<=0,\"\",NETWORKDAYS(R4708+1,P4708,Hoja1!F4700:F4816)),0)","v":""},null,null,{"$f":"IFERROR(VLOOKUP(L4708,Hoja1!$A$50:$C$63,2),\"\")","v":""},{"$f":"IFERROR(VLOOKUP(L4708,Hoja1!$A$50:$C$63,3),\"\")","v":""}]
[null,null,null,null,null,null,null,null,null,null,null,null,null,null,null,null,null,null,null,null,null,{"$f":"IFERROR(WORKDAY(T4716,AE4716,Hoja1!F4708:F4824),\"\")","v":""},"",null,"",{"$f":"IF(P4716=\"\",\"\",NETWORKDAYS(C4716+1,P4716,Hoja1!F4708:F4824))","v":""},{"$f":"IFERROR(IF(NETWORKDAYS(R4716+1,P4716,Hoja1!F4708:F4824)<=0,\"\",NETWORKDAYS(R4716+1,P4716,Hoja1!F4708:F4824)),0)","v":""},null,null,{"$f":"IFERROR(VLOOKUP(L4716,Hoja1!$A$50:$C$63,2),\"\")","v":""},{"$f":"IFERROR(VLOOKUP(L4716,Hoja1!$A$50:$C$63,3),\"\")","v":""}]
[null,null,null,null,null,null,null,null,null,null,null,null,null,null,null,null,null,null,null,null,null,{"$f":"IFERROR(WORKDAY(T4718,AE4718,Hoja1!F4710:F4826),\"\")","v":""},"",null,"",{"$f":"IF(P4718=\"\",\"\",NETWORKDAYS(C4718+1,P4718,Hoja1!F4710:F4826))","v":""},{"$f":"IFERROR(IF(NETWORKDAYS(R4718+1,P4718,Hoja1!F4710:F4826)<=0,\"\",NETWORKDAYS(R4718+1,P4718,Hoja1!F4710:F4826)),0)","v":""},null,null,{"$f":"IFERROR(VLOOKUP(L4718,Hoja1!$A$50:$C$63,2),\"\")","v":""},{"$f":"IFERROR(VLOOKUP(L4718,Hoja1!$A$50:$C$63,3),\"\")","v":""}]
[null,null,null,null,null,null,null,null,null,null,null,null,null,null,null,null,null,null,null,null,null,{"$f":"IFERROR(WORKDAY(T4723,AE4723,Hoja1!F4715:F4831),\"\")","v":""},"",null,"",{"$f":"IF(P4723=\"\",\"\",NETWORKDAYS(C4723+1,P4723,Hoja1!F4715:F4831))","v":""},{"$f":"IFERROR(IF(NETWORKDAYS(R4723+1,P4723,Hoja1!F4715:F4831)<=0,\"\",NETWORKDAYS(R4723+1,P4723,Hoja1!F4715:F4831)),0)","v":""},null,null,{"$f":"IFERROR(VLOOKUP(L4723,Hoja1!$A$50:$C$63,2),\"\")","v":""},{"$f":"IFERROR(VLOOKUP(L4723,Hoja1!$A$50:$C$63,3),\"\")","v":""}]
[null,null,null,null,null,null,null,null,null,null,null,null,null,null,null,null,null,null,null,null,null,{"$f":"IFERROR(WORKDAY(T4728,AE4728,Hoja1!F4720:F4836),\"\")","v":""},"",null,"",{"$f":"IF(P4728=\"\",\"\",NETWORKDAYS(C4728+1,P4728,Hoja1!F4720:F4836))","v":""},{"$f":"IFERROR(IF(NETWORKDAYS(R4728+1,P4728,Hoja1!F4720:F4836)<=0,\"\",NETWORKDAYS(R4728+1,P4728,Hoja1!F4720:F4836)),0)","v":""},null,null,{"$f":"IFERROR(VLOOKUP(L4728,Hoja1!$A$50:$C$63,2),\"\")","v":""},{"$f":"IFERROR(VLOOKUP(L4728,Hoja1!$A$50:$C$63,3),\"\")","v":""}]
[null,null,null,null,null,null,null,null,null,null,null,null,null,null,null,null,null,null,null,null,null,{"$f":"IFERROR(WORKDAY(T4734,AE4734,Hoja1!F4726:F4842),\"\")","v":""},"",null,"",{"$f":"IF(P4734=\"\",\"\",NETWORKDAYS(C4734+1,P4734,Hoja1!F4726:F4842))","v":""},{"$f":"IFERROR(IF(NETWORKDAYS(R4734+1,P4734,Hoja1!F4726:F4842)<=0,\"\",NETWORKDAYS(R4734+1,P4734,Hoja1!F4726:F4842)),0)","v":""},null,null,{"$f":"IFERROR(VLOOKUP(L4734,Hoja1!$A$50:$C$63,2),\"\")","v":""},{"$f":"IFERROR(VLOOKUP(L4734,Hoja1!$A$50:$C$63,3),\"\")","v":""}]
[null,null,null,null,null,null,null,null,null,null,null,null,null,null,null,null,null,null,null,null,null,{"$f":"IFERROR(WORKDAY(T4735,AE4735,Hoja1!F4727:F4843),\"\")","v":""},"",null,"",{"$f":"IF(P4735=\"\",\"\",NETWORKDAYS(C4735+1,P4735,Hoja1!F4727:F4843))","v":""},{"$f":"IFERROR(IF(NETWORKDAYS(R4735+1,P4735,Hoja1!F4727:F4843)<=0,\"\",NETWORKDAYS(R4735+1,P4735,Hoja1!F4727:F4843)),0)","v":""},null,null,{"$f":"IFERROR(VLOOKUP(L4735,Hoja1!$A$50:$C$63,2),\"\")","v":""},{"$f":"IFERROR(VLOOKUP(L4735,Hoja1!$A$50:$C$63,3),\"\")","v":""}]
[null,null,null,null,null,null,null,null,null,null,null,null,null,null,null,null,null,null,null,null,null,{"$f":"IFERROR(WORKDAY(T4742,AE4742,Hoja1!F4734:F4850),\"\")","v":""},"",null,"",{"$f":"IF(P4742=\"\",\"\",NETWORKDAYS(C4742+1,P4742,Hoja1!F4734:F4850))","v":""},{"$f":"IFERROR(IF(NETWORKDAYS(R4742+1,P4742,Hoja1!F4734:F4850)<=0,\"\",NETWORKDAYS(R4742+1,P4742,Hoja1!F4734:F4850)),0)","v":""},null,null,{"$f":"IFERROR(VLOOKUP(L4742,Hoja1!$A$50:$C$63,2),\"\")","v":""},{"$f":"IFERROR(VLOOKUP(L4742,Hoja1!$A$50:$C$63,3),\"\")","v":""}]
[null,null,null,null,null,null,null,null,null,null,null,null,null,null,null,null,null,null,null,null,null,{"$f":"IFERROR(WORKDAY(T4746,AE4746,Hoja1!F4738:F4854),\"\")","v":""},{"$f":"+IF(T4746=\"\",\"\",IF(U4746=\"\",\"SIN RESPUESTA\",(IF(U4746<=V4746,\"A TIEMPO\",\"FUERA DE TIEMPO\"))))","v":""},null,{"$f":"+IF(C4746=\"\",\"\",IF(P4746=\"\",\"SIN RESPUESTA\",(IF(P4746<=R4746,\"A TIEMPO\",\"FUERA DE TIEMPO\"))))","v":""},{"$f":"IF(P4746=\"\",\"\",NETWORKDAYS(C4746+1,P4746,Hoja1!F4738:F4854))","v":""},{"$f":"IFERROR(IF(NETWORKDAYS(R4746+1,P4746,Hoja1!F4738:F4854)<=0,\"\",NETWORKDAYS(R4746+1,P4746,Hoja1!F4738:F4854)),0)","v":""},null,null,{"$f":"IFERROR(VLOOKUP(L4746,Hoja1!$A$50:$C$63,2),\"\")","v":""},{"$f":"IFERROR(VLOOKUP(L4746,Hoja1!$A$50:$C$63,3),\"\")","v":""}]
[null,null,null,null,null,null,null,null,null,null,null,null,null,null,null,null,null,null,null,null,null,{"$f":"IFERROR(WORKDAY(T4752,AE4752,Hoja1!F4744:F4860),\"\")","v":""},"",null,"",{"$f":"IF(P4752=\"\",\"\",NETWORKDAYS(C4752+1,P4752,Hoja1!F4744:F4860))","v":""},{"$f":"IFERROR(IF(NETWORKDAYS(R4752+1,P4752,Hoja1!F4744:F4860)<=0,\"\",NETWORKDAYS(R4752+1,P4752,Hoja1!F4744:F4860)),0)","v":""},null,null,{"$f":"IFERROR(VLOOKUP(L4752,Hoja1!$A$50:$C$63,2),\"\")","v":""},{"$f":"IFERROR(VLOOKUP(L4752,Hoja1!$A$50:$C$63,3),\"\")","v":""}]
[null,null,null,null,null,null,null,null,null,null,null,null,null,null,null,null,null,null,null,null,null,{"$f":"IFERROR(WORKDAY(T4753,AE4753,Hoja1!F4745:F4861),\"\")","v":""},"",null,"",{"$f":"IF(P4753=\"\",\"\",NETWORKDAYS(C4753+1,P4753,Hoja1!F4745:F4861))","v":""},{"$f":"IFERROR(IF(NETWORKDAYS(R4753+1,P4753,Hoja1!F4745:F4861)<=0,\"\",NETWORKDAYS(R4753+1,P4753,Hoja1!F4745:F4861)),0)","v":""},null,null,{"$f":"IFERROR(VLOOKUP(L4753,Hoja1!$A$50:$C$63,2),\"\")","v":""},{"$f":"IFERROR(VLOOKUP(L4753,Hoja1!$A$50:$C$63,3),\"\")","v":""}]
[null,null,null,null,null,null,null,null,null,null,null,null,null,null,null,null,null,null,null,null,null,{"$f":"IFERROR(WORKDAY(T4761,AE4761,Hoja1!F4753:F4869),\"\")","v":""},"",null,"",{"$f":"IF(P4761=\"\",\"\",NETWORKDAYS(C4761+1,P4761,Hoja1!F4753:F4869))","v":""},{"$f":"IFERROR(IF(NETWORKDAYS(R4761+1,P4761,Hoja1!F4753:F4869)<=0,\"\",NETWORKDAYS(R4761+1,P4761,Hoja1!F4753:F4869)),0)","v":""},null,null,{"$f":"IFERROR(VLOOKUP(L4761,Hoja1!$A$50:$C$63,2),\"\")","v":""},{"$f":"IFERROR(VLOOKUP(L4761,Hoja1!$A$50:$C$63,3),\"\")","v":""}]
[null,null,null,null,null,null,null,null,null,null,null,null,null,null,null,null,null,null,null,null,null,{"$f":"IFERROR(WORKDAY(T4764,AE4764,Hoja1!F4756:F4872),\"\")","v":""},"",null,"",{"$f":"IF(P4764=\"\",\"\",NETWORKDAYS(C4764+1,P4764,Hoja1!F4756:F4872))","v":""},{"$f":"IFERROR(IF(NETWORKDAYS(R4764+1,P4764,Hoja1!F4756:F4872)<=0,\"\",NETWORKDAYS(R4764+1,P4764,Hoja1!F4756:F4872)),0)","v":""},null,null,{"$f":"IFERROR(VLOOKUP(L4764,Hoja1!$A$50:$C$63,2),\"\")","v":""},{"$f":"IFERROR(VLOOKUP(L4764,Hoja1!$A$50:$C$63,3),\"\")","v":""}]
[null,null,null,null,null,null,null,null,null,null,null,null,null,null,null,null,null,null,null,null,null,{"$f":"IFERROR(WORKDAY(T4769,AE4769,Hoja1!F4761:F4877),\"\")","v":""},"",null,"",{"$f":"IF(P4769=\"\",\"\",NETWORKDAYS(C4769+1,P4769,Hoja1!F4761:F4877))","v":""},{"$f":"IFERROR(IF(NETWORKDAYS(R4769+1,P4769,Hoja1!F4761:F4877)<=0,\"\",NETWORKDAYS(R4769+1,P4769,Hoja1!F4761:F4877)),0)","v":""},null,null,{"$f":"IFERROR(VLOOKUP(L4769,Hoja1!$A$50:$C$63,2),\"\")","v":""},{"$f":"IFERROR(VLOOKUP(L4769,Hoja1!$A$50:$C$63,3),\"\")","v":""}]
[null,null,null,null,null,null,null,null,null,null,null,null,null,null,null,null,null,null,null,null,null,{"$f":"IFERROR(WORKDAY(T4771,AE4771,Hoja1!F4763:F4879),\"\")","v":""},"",null,"",{"$f":"IF(P4771=\"\",\"\",NETWORKDAYS(C4771+1,P4771,Hoja1!F4763:F4879))","v":""},{"$f":"IFERROR(IF(NETWORKDAYS(R4771+1,P4771,Hoja1!F4763:F4879)<=0,\"\",NETWORKDAYS(R4771+1,P4771,Hoja1!F4763:F4879)),0)","v":""},null,null,{"$f":"IFERROR(VLOOKUP(L4771,Hoja1!$A$50:$C$63,2),\"\")","v":""},{"$f":"IFERROR(VLOOKUP(L4771,Hoja1!$A$50:$C$63,3),\"\")","v":""}]
[null,null,null,null,null,null,null,null,null,null,null,null,null,null,null,null,null,null,null,null,null,{"$f":"IFERROR(WORKDAY(T4776,AE4776,Hoja1!F4768:F4884),\"\")","v":""},"",null,"",{"$f":"IF(P4776=\"\",\"\",NETWORKDAYS(C4776+1,P4776,Hoja1!F4768:F4884))","v":""},{"$f":"IFERROR(IF(NETWORKDAYS(R4776+1,P4776,Hoja1!F4768:F4884)<=0,\"\",NETWORKDAYS(R4776+1,P4776,Hoja1!F4768:F4884)),0)","v":""},null,null,{"$f":"IFERROR(VLOOKUP(L4776,Hoja1!$A$50:$C$63,2),\"\")","v":""},{"$f":"IFERROR(VLOOKUP(L4776,Hoja1!$A$50:$C$63,3),\"\")","v":""}]
[null,null,null,null,null,null,null,null,null,null,null,null,null,null,null,null,null,null,null,null,null,{"$f":"IFERROR(WORKDAY(T4780,AE4780,Hoja1!F4772:F4888),\"\")","v":""},"",null,"",{"$f":"IF(P4780=\"\",\"\",NETWORKDAYS(C4780+1,P4780,Hoja1!F4772:F4888))","v":""},{"$f":"IFERROR(IF(NETWORKDAYS(R4780+1,P4780,Hoja1!F4772:F4888)<=0,\"\",NETWORKDAYS(R4780+1,P4780,Hoja1!F4772:F4888)),0)","v":""},null,null,{"$f":"IFERROR(VLOOKUP(L4780,Hoja1!$A$50:$C$63,2),\"\")","v":""},{"$f":"IFERROR(VLOOKUP(L4780,Hoja1!$A$50:$C$63,3),\"\")","v":""}]
[null,null,null,null,null,null,null,null,null,null,null,null,null,null,null,null,null,null,null,null,null,{"$f":"IFERROR(WORKDAY(T4787,AE4787,Hoja1!F4779:F4895),\"\")","v":""},"",null,"",{"$f":"IF(P4787=\"\",\"\",NETWORKDAYS(C4787+1,P4787,Hoja1!F4779:F4895))","v":""},{"$f":"IFERROR(IF(NETWORKDAYS(R4787+1,P4787,Hoja1!F4779:F4895)<=0,\"\",NETWORKDAYS(R4787+1,P4787,Hoja1!F4779:F4895)),0)","v":""},null,null,{"$f":"IFERROR(VLOOKUP(L4787,Hoja1!$A$50:$C$63,2),\"\")","v":""},{"$f":"IFERROR(VLOOKUP(L4787,Hoja1!$A$50:$C$63,3),\"\")","v":""}]
[null,null,null,null,null,null,null,null,null,null,null,null,null,null,null,null,null,null,null,null,null,{"$f":"IFERROR(WORKDAY(T4790,AE4790,Hoja1!F4782:F4898),\"\")","v":""},"",null,"",{"$f":"IF(P4790=\"\",\"\",NETWORKDAYS(C4790+1,P4790,Hoja1!F4782:F4898))","v":""},{"$f":"IFERROR(IF(NETWORKDAYS(R4790+1,P4790,Hoja1!F4782:F4898)<=0,\"\",NETWORKDAYS(R4790+1,P4790,Hoja1!F4782:F4898)),0)","v":""},null,null,{"$f":"IFERROR(VLOOKUP(L4790,Hoja1!$A$50:$C$63,2),\"\")","v":""},{"$f":"IFERROR(VLOOKUP(L4790,Hoja1!$A$50:$C$63,3),\"\")","v":""}]
[null,null,null,null,null,null,null,null,null,null,null,null,null,null,null,null,null,null,null,null,null,{"$f":"IFERROR(WORKDAY(T4794,AE4794,Hoja1!F4786:F4902),\"\")","v":""},"",null,"",{"$f":"IF(P4794=\"\",\"\",NETWORKDAYS(C4794+1,P4794,Hoja1!F4786:F4902))","v":""},{"$f":"IFERROR(IF(NETWORKDAYS(R4794+1,P4794,Hoja1!F4786:F4902)<=0,\"\",NETWORKDAYS(R4794+1,P4794,Hoja1!F4786:F4902)),0)","v":""},null,null,{"$f":"IFERROR(VLOOKUP(L4794,Hoja1!$A$50:$C$63,2),\"\")","v":""},{"$f":"IFERROR(VLOOKUP(L4794,Hoja1!$A$50:$C$63,3),\"\")","v":""}]
[null,null,null,null,null,null,null,null,null,null,null,null,null,null,null,null,null,null,null,null,null,{"$f":"IFERROR(WORKDAY(T4799,AE4799,Hoja1!F4791:F4907),\"\")","v":""},"",null,"",{"$f":"IF(P4799=\"\",\"\",NETWORKDAYS(C4799+1,P4799,Hoja1!F4791:F4907))","v":""},{"$f":"IFERROR(IF(NETWORKDAYS(R4799+1,P4799,Hoja1!F4791:F4907)<=0,\"\",NETWORKDAYS(R4799+1,P4799,Hoja1!F4791:F4907)),0)","v":""},null,null,{"$f":"IFERROR(VLOOKUP(L4799,Hoja1!$A$50:$C$63,2),\"\")","v":""},{"$f":"IFERROR(VLOOKUP(L4799,Hoja1!$A$50:$C$63,3),\"\")","v":""}]
[null,null,null,null,null,null,null,null,null,null,null,null,null,null,null,null,null,null,null,null,null,{"$f":"IFERROR(WORKDAY(T4804,AE4804,Hoja1!F4796:F4912),\"\")","v":""},"",null,"",{"$f":"IF(P4804=\"\",\"\",NETWORKDAYS(C4804+1,P4804,Hoja1!F4796:F4912))","v":""},{"$f":"IFERROR(IF(NETWORKDAYS(R4804+1,P4804,Hoja1!F4796:F4912)<=0,\"\",NETWORKDAYS(R4804+1,P4804,Hoja1!F4796:F4912)),0)","v":""},null,null,{"$f":"IFERROR(VLOOKUP(L4804,Hoja1!$A$50:$C$63,2),\"\")","v":""},{"$f":"IFERROR(VLOOKUP(L4804,Hoja1!$A$50:$C$63,3),\"\")","v":""}]
[null,null,null,null,null,null,null,null,null,null,null,null,null,null,null,null,null,null,null,null,null,{"$f":"IFERROR(WORKDAY(T4806,AE4806,Hoja1!F4798:F4914),\"\")","v":""},"",null,"",{"$f":"IF(P4806=\"\",\"\",NETWORKDAYS(C4806+1,P4806,Hoja1!F4798:F4914))","v":""},{"$f":"IFERROR(IF(NETWORKDAYS(R4806+1,P4806,Hoja1!F4798:F4914)<=0,\"\",NETWORKDAYS(R4806+1,P4806,Hoja1!F4798:F4914)),0)","v":""},null,null,{"$f":"IFERROR(VLOOKUP(L4806,Hoja1!$A$50:$C$63,2),\"\")","v":""},{"$f":"IFERROR(VLOOKUP(L4806,Hoja1!$A$50:$C$63,3),\"\")","v":""}]
[null,null,null,null,null,null,null,null,null,null,null,null,null,null,null,null,null,null,null,null,null,{"$f":"IFERROR(WORKDAY(T4814,AE4814,Hoja1!F4806:F4922),\"\")","v":""},"",null,"",{"$f":"IF(P4814=\"\",\"\",NETWORKDAYS(C4814+1,P4814,Hoja1!F4806:F4922))","v":""},{"$f":"IFERROR(IF(NETWORKDAYS(R4814+1,P4814,Hoja1!F4806:F4922)<=0,\"\",NETWORKDAYS(R4814+1,P4814,Hoja1!F4806:F4922)),0)","v":""},null,null,{"$f":"IFERROR(VLOOKUP(L4814,Hoja1!$A$50:$C$63,2),\"\")","v":""},{"$f":"IFERROR(VLOOKUP(L4814,Hoja1!$A$50:$C$63,3),\"\")","v":""}]
[null,null,null,null,null,null,null,null,null,null,null,null,null,null,null,null,null,null,null,null,null,{"$f":"IFERROR(WORKDAY(T4817,AE4817,Hoja1!F4809:F4925),\"\")","v":""},"",null,"",{"$f":"IF(P4817=\"\",\"\",NETWORKDAYS(C4817+1,P4817,Hoja1!F4809:F4925))","v":""},{"$f":"IFERROR(IF(NETWORKDAYS(R4817+1,P4817,Hoja1!F4809:F4925)<=0,\"\",NETWORKDAYS(R4817+1,P4817,Hoja1!F4809:F4925)),0)","v":""},null,null,{"$f":"IFERROR(VLOOKUP(L4817,Hoja1!$A$50:$C$63,2),\"\")","v":""},{"$f":"IFERROR(VLOOKUP(L4817,Hoja1!$A$50:$C$63,3),\"\")","v":""}]
[null,null,null,null,null,null,null,null,null,null,null,null,null,null,null,null,null,null,null,null,null,{"$f":"IFERROR(WORKDAY(T4819,AE4819,Hoja1!F4811:F4927),\"\")","v":""},"",null,"",{"$f":"IF(P4819=\"\",\"\",NETWORKDAYS(C4819+1,P4819,Hoja1!F4811:F4927))","v":""},{"$f":"IFERROR(IF(NETWORKDAYS(R4819+1,P4819,Hoja1!F4811:F4927)<=0,\"\",NETWORKDAYS(R4819+1,P4819,Hoja1!F4811:F4927)),0)","v":""},null,null,{"$f":"IFERROR(VLOOKUP(L4819,Hoja1!$A$50:$C$63,2),\"\")","v":""},{"$f":"IFERROR(VLOOKUP(L4819,Hoja1!$A$50:$C$63,3),\"\")","v":""}]
[null,null,null,null,null,null,null,null,null,null,null,null,null,null,null,null,null,null,null,null,null,{"$f":"IFERROR(WORKDAY(T4824,AE4824,Hoja1!F4816:F4932),\"\")","v":""},"",null,"",{"$f":"IF(P4824=\"\",\"\",NETWORKDAYS(C4824+1,P4824,Hoja1!F4816:F4932))","v":""},{"$f":"IFERROR(IF(NETWORKDAYS(R4824+1,P4824,Hoja1!F4816:F4932)<=0,\"\",NETWORKDAYS(R4824+1,P4824,Hoja1!F4816:F4932)),0)","v":""},null,null,{"$f":"IFERROR(VLOOKUP(L4824,Hoja1!$A$50:$C$63,2),\"\")","v":""},{"$f":"IFERROR(VLOOKUP(L4824,Hoja1!$A$50:$C$63,3),\"\")","v":""}]
[null,null,null,null,null,null,null,null,null,null,null,null,null,null,null,null,null,null,null,null,null,{"$f":"IFERROR(WORKDAY(T4829,AE4829,Hoja1!F4821:F4937),\"\")","v":""},"",null,"",{"$f":"IF(P4829=\"\",\"\",NETWORKDAYS(C4829+1,P4829,Hoja1!F4821:F4937))","v":""},{"$f":"IFERROR(IF(NETWORKDAYS(R4829+1,P4829,Hoja1!F4821:F4937)<=0,\"\",NETWORKDAYS(R4829+1,P4829,Hoja1!F4821:F4937)),0)","v":""},null,null,{"$f":"IFERROR(VLOOKUP(L4829,Hoja1!$A$50:$C$63,2),\"\")","v":""},{"$f":"IFERROR(VLOOKUP(L4829,Hoja1!$A$50:$C$63,3),\"\")","v":""}]
[null,null,null,null,null,null,null,null,null,null,null,null,null,null,null,null,null,null,null,null,null,{"$f":"IFERROR(WORKDAY(T4833,AE4833,Hoja1!F4825:F4941),\"\")","v":""},"",null,"",{"$f":"IF(P4833=\"\",\"\",NETWORKDAYS(C4833+1,P4833,Hoja1!F4825:F4941))","v":""},{"$f":"IFERROR(IF(NETWORKDAYS(R4833+1,P4833,Hoja1!F4825:F4941)<=0,\"\",NETWORKDAYS(R4833+1,P4833,Hoja1!F4825:F4941)),0)","v":""},null,null,{"$f":"IFERROR(VLOOKUP(L4833,Hoja1!$A$50:$C$63,2),\"\")","v":""},{"$f":"IFERROR(VLOOKUP(L4833,Hoja1!$A$50:$C$63,3),\"\")","v":""}]
[null,null,null,null,null,null,null,null,null,null,null,null,null,null,null,null,null,null,null,null,null,{"$f":"IFERROR(WORKDAY(T4840,AE4840,Hoja1!F4832:F4948),\"\")","v":""},"",null,"",{"$f":"IF(P4840=\"\",\"\",NETWORKDAYS(C4840+1,P4840,Hoja1!F4832:F4948))","v":""},{"$f":"IFERROR(IF(NETWORKDAYS(R4840+1,P4840,Hoja1!F4832:F4948)<=0,\"\",NETWORKDAYS(R4840+1,P4840,Hoja1!F4832:F4948)),0)","v":""},null,null,{"$f":"IFERROR(VLOOKUP(L4840,Hoja1!$A$50:$C$63,2),\"\")","v":""},{"$f":"IFERROR(VLOOKUP(L4840,Hoja1!$A$50:$C$63,3),\"\")","v":""}]
[null,null,null,null,null,null,null,null,null,null,null,null,null,null,null,null,null,null,null,null,null,{"$f":"IFERROR(WORKDAY(T4843,AE4843,Hoja1!F4835:F4951),\"\")","v":""},"",null,"",{"$f":"IF(P4843=\"\",\"\",NETWORKDAYS(C4843+1,P4843,Hoja1!F4835:F4951))","v":""},{"$f":"IFERROR(IF(NETWORKDAYS(R4843+1,P4843,Hoja1!F4835:F4951)<=0,\"\",NETWORKDAYS(R4843+1,P4843,Hoja1!F4835:F4951)),0)","v":""},null,null,{"$f":"IFERROR(VLOOKUP(L4843,Hoja1!$A$50:$C$63,2),\"\")","v":""},{"$f":"IFERROR(VLOOKUP(L4843,Hoja1!$A$50:$C$63,3),\"\")","v":""}]
[null,null,null,null,null,null,null,null,null,null,null,null,null,null,null,null,null,null,null,null,null,{"$f":"IFERROR(WORKDAY(T4847,AE4847,Hoja1!F4839:F4955),\"\")","v":""},"",null,"",{"$f":"IF(P4847=\"\",\"\",NETWORKDAYS(C4847+1,P4847,Hoja1!F4839:F4955))","v":""},{"$f":"IFERROR(IF(NETWORKDAYS(R4847+1,P4847,Hoja1!F4839:F4955)<=0,\"\",NETWORKDAYS(R4847+1,P4847,Hoja1!F4839:F4955)),0)","v":""},null,null,{"$f":"IFERROR(VLOOKUP(L4847,Hoja1!$A$50:$C$63,2),\"\")","v":""},{"$f":"IFERROR(VLOOKUP(L4847,Hoja1!$A$50:$C$63,3),\"\")","v":""}]
[null,null,null,null,null,null,null,null,null,null,null,null,null,null,null,null,null,null,null,null,null,{"$f":"IFERROR(WORKDAY(T4852,AE4852,Hoja1!F4844:F4960),\"\")","v":""},"",null,"",{"$f":"IF(P4852=\"\",\"\",NETWORKDAYS(C4852+1,P4852,Hoja1!F4844:F4960))","v":""},{"$f":"IFERROR(IF(NETWORKDAYS(R4852+1,P4852,Hoja1!F4844:F4960)<=0,\"\",NETWORKDAYS(R4852+1,P4852,Hoja1!F4844:F4960)),0)","v":""},null,null,{"$f":"IFERROR(VLOOKUP(L4852,Hoja1!$A$50:$C$63,2),\"\")","v":""},{"$f":"IFERROR(VLOOKUP(L4852,Hoja1!$A$50:$C$63,3),\"\")","v":""}]
[null,null,null,null,null,null,null,null,null,null,null,null,null,null,null,null,null,null,null,null,null,{"$f":"IFERROR(WORKDAY(T4858,AE4858,Hoja1!F4850:F4966),\"\")","v":""},"",null,"",{"$f":"IF(P4858=\"\",\"\",NETWORKDAYS(C4858+1,P4858,Hoja1!F4850:F4966))","v":""},{"$f":"IFERROR(IF(NETWORKDAYS(R4858+1,P4858,Hoja1!F4850:F4966)<=0,\"\",NETWORKDAYS(R4858+1,P4858,Hoja1!F4850:F4966)),0)","v":""},null,null,{"$f":"IFERROR(VLOOKUP(L4858,Hoja1!$A$50:$C$63,2),\"\")","v":""},{"$f":"IFERROR(VLOOKUP(L4858,Hoja1!$A$50:$C$63,3),\"\")","v":""}]
[null,null,null,null,null,null,null,null,null,null,null,null,null,null,null,null,null,null,null,null,null,{"$f":"IFERROR(WORKDAY(T4859,AE4859,Hoja1!F4851:F4967),\"\")","v":""},"",null,"",{"$f":"IF(P4859=\"\",\"\",NETWORKDAYS(C4859+1,P4859,Hoja1!F4851:F4967))","v":""},{"$f":"IFERROR(IF(NETWORKDAYS(R4859+1,P4859,Hoja1!F4851:F4967)<=0,\"\",NETWORKDAYS(R4859+1,P4859,Hoja1!F4851:F4967)),0)","v":""},null,null,{"$f":"IFERROR(VLOOKUP(L4859,Hoja1!$A$50:$C$63,2),\"\")","v":""},{"$f":"IFERROR(VLOOKUP(L4859,Hoja1!$A$50:$C$63,3),\"\")","v":""}]
[null,null,null,null,null,null,null,null,null,null,null,null,null,null,null,null,null,null,null,null,null,{"$f":"IFERROR(WORKDAY(T4867,AE4867,Hoja1!F4859:F4975),\"\")","v":""},"",null,"",{"$f":"IF(P4867=\"\",\"\",NETWORKDAYS(C4867+1,P4867,Hoja1!F4859:F4975))","v":""},{"$f":"IFERROR(IF(NETWORKDAYS(R4867+1,P4867,Hoja1!F4859:F4975)<=0,\"\",NETWORKDAYS(R4867+1,P4867,Hoja1!F4859:F4975)),0)","v":""},null,null,{"$f":"IFERROR(VLOOKUP(L4867,Hoja1!$A$50:$C$63,2),\"\")","v":""},{"$f":"IFERROR(VLOOKUP(L4867,Hoja1!$A$50:$C$63,3),\"\")","v":""}]
[null,null,null,null,null,null,null,null,null,null,null,null,null,null,null,null,null,null,null,null,null,{"$f":"IFERROR(WORKDAY(T4870,AE4870,Hoja1!F4862:F4978),\"\")","v":""},"",null,"",{"$f":"IF(P4870=\"\",\"\",NETWORKDAYS(C4870+1,P4870,Hoja1!F4862:F4978))","v":""},{"$f":"IFERROR(IF(NETWORKDAYS(R4870+1,P4870,Hoja1!F4862:F4978)<=0,\"\",NETWORKDAYS(R4870+1,P4870,Hoja1!F4862:F4978)),0)","v":""},null,null,{"$f":"IFERROR(VLOOKUP(L4870,Hoja1!$A$50:$C$63,2),\"\")","v":""},{"$f":"IFERROR(VLOOKUP(L4870,Hoja1!$A$50:$C$63,3),\"\")","v":""}]
[null,null,null,null,null,null,null,null,null,null,null,null,null,null,null,null,null,null,null,null,null,{"$f":"IFERROR(WORKDAY(T4876,AE4876,Hoja1!F4868:F4984),\"\")","v":""},"",null,"",{"$f":"IF(P4876=\"\",\"\",NETWORKDAYS(C4876+1,P4876,Hoja1!F4868:F4984))","v":""},{"$f":"IFERROR(IF(NETWORKDAYS(R4876+1,P4876,Hoja1!F4868:F4984)<=0,\"\",NETWORKDAYS(R4876+1,P4876,Hoja1!F4868:F4984)),0)","v":""},null,null,{"$f":"IFERROR(VLOOKUP(L4876,Hoja1!$A$50:$C$63,2),\"\")","v":""},{"$f":"IFERROR(VLOOKUP(L4876,Hoja1!$A$50:$C$63,3),\"\")","v":""}]
[null,null,null,null,null,null,null,null,null,null,null,null,null,null,null,null,null,null,null,null,null,{"$f":"IFERROR(WORKDAY(T4877,AE4877,Hoja1!F4869:F4985),\"\")","v":""},"",null,"",{"$f":"IF(P4877=\"\",\"\",NETWORKDAYS(C4877+1,P4877,Hoja1!F4869:F4985))","v":""},{"$f":"IFERROR(IF(NETWORKDAYS(R4877+1,P4877,Hoja1!F4869:F4985)<=0,\"\",NETWORKDAYS(R4877+1,P4877,Hoja1!F4869:F4985)),0)","v":""},null,null,{"$f":"IFERROR(VLOOKUP(L4877,Hoja1!$A$50:$C$63,2),\"\")","v":""},{"$f":"IFERROR(VLOOKUP(L4877,Hoja1!$A$50:$C$63,3),\"\")","v":""}]
[null,null,null,null,null,null,null,null,null,null,null,null,null,null,null,null,null,null,null,null,null,{"$f":"IFERROR(WORKDAY(T4881,AE4881,Hoja1!F4873:F4989),\"\")","v":""},"",null,"",{"$f":"IF(P4881=\"\",\"\",NETWORKDAYS(C4881+1,P4881,Hoja1!F4873:F4989))","v":""},{"$f":"IFERROR(IF(NETWORKDAYS(R4881+1,P4881,Hoja1!F4873:F4989)<=0,\"\",NETWORKDAYS(R4881+1,P4881,Hoja1!F4873:F4989)),0)","v":""},null,null,{"$f":"IFERROR(VLOOKUP(L4881,Hoja1!$A$50:$C$63,2),\"\")","v":""},{"$f":"IFERROR(VLOOKUP(L4881,Hoja1!$A$50:$C$63,3),\"\")","v":""}]
[null,null,null,null,null,null,null,null,null,null,null,null,null,null,null,null,null,null,null,null,null,{"$f":"IFERROR(WORKDAY(T4888,AE4888,Hoja1!F4880:F4996),\"\")","v":""},"",null,"",{"$f":"IF(P4888=\"\",\"\",NETWORKDAYS(C4888+1,P4888,Hoja1!F4880:F4996))","v":""},{"$f":"IFERROR(IF(NETWORKDAYS(R4888+1,P4888,Hoja1!F4880:F4996)<=0,\"\",NETWORKDAYS(R4888+1,P4888,Hoja1!F4880:F4996)),0)","v":""},null,null,{"$f":"IFERROR(VLOOKUP(L4888,Hoja1!$A$50:$C$63,2),\"\")","v":""},{"$f":"IFERROR(VLOOKUP(L4888,Hoja1!$A$50:$C$63,3),\"\")","v":""}]
[null,null,null,null,null,null,null,null,null,null,null,null,null,null,null,null,null,null,null,null,null,{"$f":"IFERROR(WORKDAY(T4893,AE4893,Hoja1!F4885:F5001),\"\")","v":""},"",null,"",{"$f":"IF(P4893=\"\",\"\",NETWORKDAYS(C4893+1,P4893,Hoja1!F4885:F5001))","v":""},{"$f":"IFERROR(IF(NETWORKDAYS(R4893+1,P4893,Hoja1!F4885:F5001)<=0,\"\",NETWORKDAYS(R4893+1,P4893,Hoja1!F4885:F5001)),0)","v":""},null,null,{"$f":"IFERROR(VLOOKUP(L4893,Hoja1!$A$50:$C$63,2),\"\")","v":""},{"$f":"IFERROR(VLOOKUP(L4893,Hoja1!$A$50:$C$63,3),\"\")","v":""}]
[null,null,null,null,null,null,null,null,null,null,null,null,null,null,null,null,null,null,null,null,null,{"$f":"IFERROR(WORKDAY(T4895,AE4895,Hoja1!F4887:F5003),\"\")","v":""},"",null,"",{"$f":"IF(P4895=\"\",\"\",NETWORKDAYS(C4895+1,P4895,Hoja1!F4887:F5003))","v":""},{"$f":"IFERROR(IF(NETWORKDAYS(R4895+1,P4895,Hoja1!F4887:F5003)<=0,\"\",NETWORKDAYS(R4895+1,P4895,Hoja1!F4887:F5003)),0)","v":""},null,null,{"$f":"IFERROR(VLOOKUP(L4895,Hoja1!$A$50:$C$63,2),\"\")","v":""},{"$f":"IFERROR(VLOOKUP(L4895,Hoja1!$A$50:$C$63,3),\"\")","v":""}]
[null,null,null,null,null,null,null,null,null,null,null,null,null,null,null,null,null,null,null,null,null,{"$f":"IFERROR(WORKDAY(T4900,AE4900,Hoja1!F4892:F5008),\"\")","v":""},"",null,"",{"$f":"IF(P4900=\"\",\"\",NETWORKDAYS(C4900+1,P4900,Hoja1!F4892:F5008))","v":""},{"$f":"IFERROR(IF(NETWORKDAYS(R4900+1,P4900,Hoja1!F4892:F5008)<=0,\"\",NETWORKDAYS(R4900+1,P4900,Hoja1!F4892:F5008)),0)","v":""},null,null,{"$f":"IFERROR(VLOOKUP(L4900,Hoja1!$A$50:$C$63,2),\"\")","v":""},{"$f":"IFERROR(VLOOKUP(L4900,Hoja1!$A$50:$C$63,3),\"\")","v":""}]
[null,null,null,null,null,null,null,null,null,null,null,null,null,null,null,null,null,null,null,null,null,{"$f":"IFERROR(WORKDAY(T4905,AE4905,Hoja1!F4897:F5013),\"\")","v":""},"",null,"",{"$f":"IF(P4905=\"\",\"\",NETWORKDAYS(C4905+1,P4905,Hoja1!F4897:F5013))","v":""},{"$f":"IFERROR(IF(NETWORKDAYS(R4905+1,P4905,Hoja1!F4897:F5013)<=0,\"\",NETWORKDAYS(R4905+1,P4905,Hoja1!F4897:F5013)),0)","v":""},null,null,{"$f":"IFERROR(VLOOKUP(L4905,Hoja1!$A$50:$C$63,2),\"\")","v":""},{"$f":"IFERROR(VLOOKUP(L4905,Hoja1!$A$50:$C$63,3),\"\")","v":""}]
[null,null,null,null,null,null,null,null,null,null,null,null,null,null,null,null,null,null,null,null,null,{"$f":"IFERROR(WORKDAY(T4911,AE4911,Hoja1!F4903:F5019),\"\")","v":""},"",null,"",{"$f":"IF(P4911=\"\",\"\",NETWORKDAYS(C4911+1,P4911,Hoja1!F4903:F5019))","v":""},{"$f":"IFERROR(IF(NETWORKDAYS(R4911+1,P4911,Hoja1!F4903:F5019)<=0,\"\",NETWORKDAYS(R4911+1,P4911,Hoja1!F4903:F5019)),0)","v":""},null,null,{"$f":"IFERROR(VLOOKUP(L4911,Hoja1!$A$50:$C$63,2),\"\")","v":""},{"$f":"IFERROR(VLOOKUP(L4911,Hoja1!$A$50:$C$63,3),\"\")","v":""}]
[null,null,null,null,null,null,null,null,null,null,null,null,null,null,null,null,null,null,null,null,null,{"$f":"IFERROR(WORKDAY(T4915,AE4915,Hoja1!F4907:F5023),\"\")","v":""},"",null,"",{"$f":"IF(P4915=\"\",\"\",NETWORKDAYS(C4915+1,P4915,Hoja1!F4907:F5023))","v":""},{"$f":"IFERROR(IF(NETWORKDAYS(R4915+1,P4915,Hoja1!F4907:F5023)<=0,\"\",NETWORKDAYS(R4915+1,P4915,Hoja1!F4907:F5023)),0)","v":""},null,null,{"$f":"IFERROR(VLOOKUP(L4915,Hoja1!$A$50:$C$63,2),\"\")","v":""},{"$f":"IFERROR(VLOOKUP(L4915,Hoja1!$A$50:$C$63,3),\"\")","v":""}]
[null,null,null,null,null,null,null,null,null,null,null,null,null,null,null,null,null,null,null,null,null,{"$f":"IFERROR(WORKDAY(T4918,AE4918,Hoja1!F4910:F5026),\"\")","v":""},"",null,"",{"$f":"IF(P4918=\"\",\"\",NETWORKDAYS(C4918+1,P4918,Hoja1!F4910:F5026))","v":""},{"$f":"IFERROR(IF(NETWORKDAYS(R4918+1,P4918,Hoja1!F4910:F5026)<=0,\"\",NETWORKDAYS(R4918+1,P4918,Hoja1!F4910:F5026)),0)","v":""},null,null,{"$f":"IFERROR(VLOOKUP(L4918,Hoja1!$A$50:$C$63,2),\"\")","v":""},{"$f":"IFERROR(VLOOKUP(L4918,Hoja1!$A$50:$C$63,3),\"\")","v":""}]
[null,null,null,null,null,null,null,null,null,null,null,null,null,null,null,null,null,null,null,null,null,{"$f":"IFERROR(WORKDAY(T4923,AE4923,Hoja1!F4915:F5031),\"\")","v":""},"",null,"",{"$f":"IF(P4923=\"\",\"\",NETWORKDAYS(C4923+1,P4923,Hoja1!F4915:F5031))","v":""},{"$f":"IFERROR(IF(NETWORKDAYS(R4923+1,P4923,Hoja1!F4915:F5031)<=0,\"\",NETWORKDAYS(R4923+1,P4923,Hoja1!F4915:F5031)),0)","v":""},null,null,{"$f":"IFERROR(VLOOKUP(L4923,Hoja1!$A$50:$C$63,2),\"\")","v":""},{"$f":"IFERROR(VLOOKUP(L4923,Hoja1!$A$50:$C$63,3),\"\")","v":""}]
[null,null,null,null,null,null,null,null,null,null,null,null,null,null,null,null,null,null,null,null,null,{"$f":"IFERROR(WORKDAY(T4929,AE4929,Hoja1!F4921:F5037),\"\")","v":""},"",null,"",{"$f":"IF(P4929=\"\",\"\",NETWORKDAYS(C4929+1,P4929,Hoja1!F4921:F5037))","v":""},{"$f":"IFERROR(IF(NETWORKDAYS(R4929+1,P4929,Hoja1!F4921:F5037)<=0,\"\",NETWORKDAYS(R4929+1,P4929,Hoja1!F4921:F5037)),0)","v":""},null,null,{"$f":"IFERROR(VLOOKUP(L4929,Hoja1!$A$50:$C$63,2),\"\")","v":""},{"$f":"IFERROR(VLOOKUP(L4929,Hoja1!$A$50:$C$63,3),\"\")","v":""}]
[null,null,null,null,null,null,null,null,null,null,null,null,null,null,null,null,null,null,null,null,null,{"$f":"IFERROR(WORKDAY(T4930,AE4930,Hoja1!F4922:F5038),\"\")","v":""},"",null,"",{"$f":"IF(P4930=\"\",\"\",NETWORKDAYS(C4930+1,P4930,Hoja1!F4922:F5038))","v":""},{"$f":"IFERROR(IF(NETWORKDAYS(R4930+1,P4930,Hoja1!F4922:F5038)<=0,\"\",NETWORKDAYS(R4930+1,P4930,Hoja1!F4922:F5038)),0)","v":""},null,null,{"$f":"IFERROR(VLOOKUP(L4930,Hoja1!$A$50:$C$63,2),\"\")","v":""},{"$f":"IFERROR(VLOOKUP(L4930,Hoja1!$A$50:$C$63,3),\"\")","v":""}]
[null,null,null,null,null,null,null,null,null,null,null,null,null,null,null,null,null,null,null,null,null,{"$f":"IFERROR(WORKDAY(T4934,AE4934,Hoja1!F4926:F5042),\"\")","v":""},"",null,"",{"$f":"IF(P4934=\"\",\"\",NETWORKDAYS(C4934+1,P4934,Hoja1!F4926:F5042))","v":""},{"$f":"IFERROR(IF(NETWORKDAYS(R4934+1,P4934,Hoja1!F4926:F5042)<=0,\"\",NETWORKDAYS(R4934+1,P4934,Hoja1!F4926:F5042)),0)","v":""},null,null,{"$f":"IFERROR(VLOOKUP(L4934,Hoja1!$A$50:$C$63,2),\"\")","v":""},{"$f":"IFERROR(VLOOKUP(L4934,Hoja1!$A$50:$C$63,3),\"\")","v":""}]
[null,null,null,null,null,null,null,null,null,null,null,null,null,null,null,null,null,null,null,null,null,{"$f":"IFERROR(WORKDAY(T4941,AE4941,Hoja1!F4933:F5049),\"\")","v":""},"",null,"",{"$f":"IF(P4941=\"\",\"\",NETWORKDAYS(C4941+1,P4941,Hoja1!F4933:F5049))","v":""},{"$f":"IFERROR(IF(NETWORKDAYS(R4941+1,P4941,Hoja1!F4933:F5049)<=0,\"\",NETWORKDAYS(R4941+1,P4941,Hoja1!F4933:F5049)),0)","v":""},null,null,{"$f":"IFERROR(VLOOKUP(L4941,Hoja1!$A$50:$C$63,2),\"\")","v":""},{"$f":"IFERROR(VLOOKUP(L4941,Hoja1!$A$50:$C$63,3),\"\")","v":""}]
[null,null,null,null,null,null,null,null,null,null,null,null,null,null,null,null,null,null,null,null,null,{"$f":"IFERROR(WORKDAY(T4943,AE4943,Hoja1!F4935:F5051),\"\")","v":""},"",null,"",{"$f":"IF(P4943=\"\",\"\",NETWORKDAYS(C4943+1,P4943,Hoja1!F4935:F5051))","v":""},{"$f":"IFERROR(IF(NETWORKDAYS(R4943+1,P4943,Hoja1!F4935:F5051)<=0,\"\",NETWORKDAYS(R4943+1,P4943,Hoja1!F4935:F5051)),0)","v":""},null,null,{"$f":"IFERROR(VLOOKUP(L4943,Hoja1!$A$50:$C$63,2),\"\")","v":""},{"$f":"IFERROR(VLOOKUP(L4943,Hoja1!$A$50:$C$63,3),\"\")","v":""}]
[null,null,null,null,null,null,null,null,null,null,null,null,null,null,null,null,null,null,null,null,null,{"$f":"IFERROR(WORKDAY(T4948,AE4948,Hoja1!F4940:F5056),\"\")","v":""},"",null,"",{"$f":"IF(P4948=\"\",\"\",NETWORKDAYS(C4948+1,P4948,Hoja1!F4940:F5056))","v":""},{"$f":"IFERROR(IF(NETWORKDAYS(R4948+1,P4948,Hoja1!F4940:F5056)<=0,\"\",NETWORKDAYS(R4948+1,P4948,Hoja1!F4940:F5056)),0)","v":""},null,null,{"$f":"IFERROR(VLOOKUP(L4948,Hoja1!$A$50:$C$63,2),\"\")","v":""},{"$f":"IFERROR(VLOOKUP(L4948,Hoja1!$A$50:$C$63,3),\"\")","v":""}]
[null,null,null,null,null,null,null,null,null,null,null,null,null,null,null,null,null,null,null,null,null,{"$f":"IFERROR(WORKDAY(T4953,AE4953,Hoja1!F4945:F5061),\"\")","v":""},"",null,"",{"$f":"IF(P4953=\"\",\"\",NETWORKDAYS(C4953+1,P4953,Hoja1!F4945:F5061))","v":""},{"$f":"IFERROR(IF(NETWORKDAYS(R4953+1,P4953,Hoja1!F4945:F5061)<=0,\"\",NETWORKDAYS(R4953+1,P4953,Hoja1!F4945:F5061)),0)","v":""},null,null,{"$f":"IFERROR(VLOOKUP(L4953,Hoja1!$A$50:$C$63,2),\"\")","v":""},{"$f":"IFERROR(VLOOKUP(L4953,Hoja1!$A$50:$C$63,3),\"\")","v":""}]
[null,null,null,null,null,null,null,null,null,null,null,null,null,null,null,null,null,null,null,null,null,{"$f":"IFERROR(WORKDAY(T4958,AE4958,Hoja1!F4950:F5066),\"\")","v":""},"",null,"",{"$f":"IF(P4958=\"\",\"\",NETWORKDAYS(C4958+1,P4958,Hoja1!F4950:F5066))","v":""},{"$f":"IFERROR(IF(NETWORKDAYS(R4958+1,P4958,Hoja1!F4950:F5066)<=0,\"\",NETWORKDAYS(R4958+1,P4958,Hoja1!F4950:F5066)),0)","v":""},null,null,{"$f":"IFERROR(VLOOKUP(L4958,Hoja1!$A$50:$C$63,2),\"\")","v":""},{"$f":"IFERROR(VLOOKUP(L4958,Hoja1!$A$50:$C$63,3),\"\")","v":""}]
[null,null,null,null,null,null,null,null,null,null,null,null,null,null,null,null,null,null,null,null,null,{"$f":"IFERROR(WORKDAY(T4964,AE4964,Hoja1!F4956:F5072),\"\")","v":""},"",null,"",{"$f":"IF(P4964=\"\",\"\",NETWORKDAYS(C4964+1,P4964,Hoja1!F4956:F5072))","v":""},{"$f":"IFERROR(IF(NETWORKDAYS(R4964+1,P4964,Hoja1!F4956:F5072)<=0,\"\",NETWORKDAYS(R4964+1,P4964,Hoja1!F4956:F5072)),0)","v":""},null,null,{"$f":"IFERROR(VLOOKUP(L4964,Hoja1!$A$50:$C$63,2),\"\")","v":""},{"$f":"IFERROR(VLOOKUP(L4964,Hoja1!$A$50:$C$63,3),\"\")","v":""}]
[null,null,null,null,null,null,null,null,null,null,null,null,null,null,null,null,null,null,null,null,null,{"$f":"IFERROR(WORKDAY(T4967,AE4967,Hoja1!F4959:F5075),\"\")","v":""},"",null,"",{"$f":"IF(P4967=\"\",\"\",NETWORKDAYS(C4967+1,P4967,Hoja1!F4959:F5075))","v":""},{"$f":"IFERROR(IF(NETWORKDAYS(R4967+1,P4967,Hoja1!F4959:F5075)<=0,\"\",NETWORKDAYS(R4967+1,P4967,Hoja1!F4959:F5075)),0)","v":""},null,null,{"$f":"IFERROR(VLOOKUP(L4967,Hoja1!$A$50:$C$63,2),\"\")","v":""},{"$f":"IFERROR(VLOOKUP(L4967,Hoja1!$A$50:$C$63,3),\"\")","v":""}]
[null,null,null,null,null,null,null,null,null,null,null,null,null,null,null,null,null,null,null,null,null,{"$f":"IFERROR(WORKDAY(T4971,AE4971,Hoja1!F4963:F5079),\"\")","v":""},"",null,"",{"$f":"IF(P4971=\"\",\"\",NETWORKDAYS(C4971+1,P4971,Hoja1!F4963:F5079))","v":""},{"$f":"IFERROR(IF(NETWORKDAYS(R4971+1,P4971,Hoja1!F4963:F5079)<=0,\"\",NETWORKDAYS(R4971+1,P4971,Hoja1!F4963:F5079)),0)","v":""},null,null,{"$f":"IFERROR(VLOOKUP(L4971,Hoja1!$A$50:$C$63,2),\"\")","v":""},{"$f":"IFERROR(VLOOKUP(L4971,Hoja1!$A$50:$C$63,3),\"\")","v":""}]
[null,null,null,null,null,null,null,null,null,null,null,null,null,null,null,null,null,null,null,null,null,{"$f":"IFERROR(WORKDAY(T4977,AE4977,Hoja1!F4969:F5085),\"\")","v":""},"",null,"",{"$f":"IF(P4977=\"\",\"\",NETWORKDAYS(C4977+1,P4977,Hoja1!F4969:F5085))","v":""},{"$f":"IFERROR(IF(NETWORKDAYS(R4977+1,P4977,Hoja1!F4969:F5085)<=0,\"\",NETWORKDAYS(R4977+1,P4977,Hoja1!F4969:F5085)),0)","v":""},null,null,{"$f":"IFERROR(VLOOKUP(L4977,Hoja1!$A$50:$C$63,2),\"\")","v":""},{"$f":"IFERROR(VLOOKUP(L4977,Hoja1!$A$50:$C$63,3),\"\")","v":""}]
[null,null,null,null,null,null,null,null,null,null,null,null,null,null,null,null,null,null,null,null,null,{"$f":"IFERROR(WORKDAY(T4982,AE4982,Hoja1!F4974:F5090),\"\")","v":""},"",null,"",{"$f":"IF(P4982=\"\",\"\",NETWORKDAYS(C4982+1,P4982,Hoja1!F4974:F5090))","v":""},{"$f":"IFERROR(IF(NETWORKDAYS(R4982+1,P4982,Hoja1!F4974:F5090)<=0,\"\",NETWORKDAYS(R4982+1,P4982,Hoja1!F4974:F5090)),0)","v":""},null,null,{"$f":"IFERROR(VLOOKUP(L4982,Hoja1!$A$50:$C$63,2),\"\")","v":""},{"$f":"IFERROR(VLOOKUP(L4982,Hoja1!$A$50:$C$63,3),\"\")","v":""}]
[null,null,null,null,null,null,null,null,null,null,null,null,null,null,null,null,null,null,null,null,null,{"$f":"IFERROR(WORKDAY(T4987,AE4987,Hoja1!F4979:F5095),\"\")","v":""},"",null,"",{"$f":"IF(P4987=\"\",\"\",NETWORKDAYS(C4987+1,P4987,Hoja1!F4979:F5095))","v":""},{"$f":"IFERROR(IF(NETWORKDAYS(R4987+1,P4987,Hoja1!F4979:F5095)<=0,\"\",NETWORKDAYS(R4987+1,P4987,Hoja1!F4979:F5095)),0)","v":""},null,null,{"$f":"IFERROR(VLOOKUP(L4987,Hoja1!$A$50:$C$63,2),\"\")","v":""},{"$f":"IFERROR(VLOOKUP(L4987,Hoja1!$A$50:$C$63,3),\"\")","v":""}]
[null,null,null,null,null,null,null,null,null,null,null,null,null,null,null,null,null,null,null,null,null,{"$f":"IFERROR(WORKDAY(T4989,AE4989,Hoja1!F4981:F5097),\"\")","v":""},"",null,"",{"$f":"IF(P4989=\"\",\"\",NETWORKDAYS(C4989+1,P4989,Hoja1!F4981:F5097))","v":""},{"$f":"IFERROR(IF(NETWORKDAYS(R4989+1,P4989,Hoja1!F4981:F5097)<=0,\"\",NETWORKDAYS(R4989+1,P4989,Hoja1!F4981:F5097)),0)","v":""},null,null,{"$f":"IFERROR(VLOOKUP(L4989,Hoja1!$A$50:$C$63,2),\"\")","v":""},{"$f":"IFERROR(VLOOKUP(L4989,Hoja1!$A$50:$C$63,3),\"\")","v":""}]
[null,null,null,null,null,null,null,null,null,null,null,null,null,null,null,null,null,null,null,null,null,{"$f":"IFERROR(WORKDAY(T4994,AE4994,Hoja1!F4986:F5102),\"\")","v":""},"",null,"",{"$f":"IF(P4994=\"\",\"\",NETWORKDAYS(C4994+1,P4994,Hoja1!F4986:F5102))","v":""},{"$f":"IFERROR(IF(NETWORKDAYS(R4994+1,P4994,Hoja1!F4986:F5102)<=0,\"\",NETWORKDAYS(R4994+1,P4994,Hoja1!F4986:F5102)),0)","v":""},null,null,{"$f":"IFERROR(VLOOKUP(L4994,Hoja1!$A$50:$C$63,2),\"\")","v":""},{"$f":"IFERROR(VLOOKUP(L4994,Hoja1!$A$50:$C$63,3),\"\")","v":""}]
[null,null,null,null,null,null,null,null,null,null,null,null,null,null,null,null,null,null,null,null,null,{"$f":"IFERROR(WORKDAY(T4996,AE4996,Hoja1!F4988:F5104),\"\")","v":""},"",null,"",{"$f":"IF(P4996=\"\",\"\",NETWORKDAYS(C4996+1,P4996,Hoja1!F4988:F5104))","v":""},{"$f":"IFERROR(IF(NETWORKDAYS(R4996+1,P4996,Hoja1!F4988:F5104)<=0,\"\",NETWORKDAYS(R4996+1,P4996,Hoja1!F4988:F5104)),0)","v":""},null,null,{"$f":"IFERROR(VLOOKUP(L4996,Hoja1!$A$50:$C$63,2),\"\")","v":""},{"$f":"IFERROR(VLOOKUP(L4996,Hoja1!$A$50:$C$63,3),\"\")","v":""}]
[null,null,null,null,null,null,null,null,null,null,null,null,null,null,null,null,null,null,null,null,null,{"$f":"IFERROR(WORKDAY(T5001,AE5001,Hoja1!F4993:F5109),\"\")","v":""},"",null,"",{"$f":"IF(P5001=\"\",\"\",NETWORKDAYS(C5001+1,P5001,Hoja1!F4993:F5109))","v":""},{"$f":"IFERROR(IF(NETWORKDAYS(R5001+1,P5001,Hoja1!F4993:F5109)<=0,\"\",NETWORKDAYS(R5001+1,P5001,Hoja1!F4993:F5109)),0)","v":""},null,null,{"$f":"IFERROR(VLOOKUP(L5001,Hoja1!$A$50:$C$63,2),\"\")","v":""},{"$f":"IFERROR(VLOOKUP(L5001,Hoja1!$A$50:$C$63,3),\"\")","v":""}]
[null,null,null,null,null,null,null,null,null,null,null,null,null,null,null,null,null,null,null,null,null,{"$f":"IFERROR(WORKDAY(T5006,AE5006,Hoja1!F4998:F5114),\"\")","v":""},"",null,"",{"$f":"IF(P5006=\"\",\"\",NETWORKDAYS(C5006+1,P5006,Hoja1!F4998:F5114))","v":""},{"$f":"IFERROR(IF(NETWORKDAYS(R5006+1,P5006,Hoja1!F4998:F5114)<=0,\"\",NETWORKDAYS(R5006+1,P5006,Hoja1!F4998:F5114)),0)","v":""},null,null,{"$f":"IFERROR(VLOOKUP(L5006,Hoja1!$A$50:$C$63,2),\"\")","v":""},{"$f":"IFERROR(VLOOKUP(L5006,Hoja1!$A$50:$C$63,3),\"\")","v":""}]
[null,null,null,null,null,null,null,null,null,null,null,null,null,null,null,null,null,null,null,null,null,{"$f":"IFERROR(WORKDAY(T5012,AE5012,Hoja1!F5004:F5120),\"\")","v":""},"",null,"",{"$f":"IF(P5012=\"\",\"\",NETWORKDAYS(C5012+1,P5012,Hoja1!F5004:F5120))","v":""},{"$f":"IFERROR(IF(NETWORKDAYS(R5012+1,P5012,Hoja1!F5004:F5120)<=0,\"\",NETWORKDAYS(R5012+1,P5012,Hoja1!F5004:F5120)),0)","v":""},null,null,{"$f":"IFERROR(VLOOKUP(L5012,Hoja1!$A$50:$C$63,2),\"\")","v":""},{"$f":"IFERROR(VLOOKUP(L5012,Hoja1!$A$50:$C$63,3),\"\")","v":""}]
[null,null,null,null,null,null,null,null,null,null,null,null,null,null,null,null,null,null,null,null,null,{"$f":"IFERROR(WORKDAY(T5016,AE5016,Hoja1!F5008:F5124),\"\")","v":""},"",null,"",{"$f":"IF(P5016=\"\",\"\",NETWORKDAYS(C5016+1,P5016,Hoja1!F5008:F5124))","v":""},{"$f":"IFERROR(IF(NETWORKDAYS(R5016+1,P5016,Hoja1!F5008:F5124)<=0,\"\",NETWORKDAYS(R5016+1,P5016,Hoja1!F5008:F5124)),0)","v":""},null,null,{"$f":"IFERROR(VLOOKUP(L5016,Hoja1!$A$50:$C$63,2),\"\")","v":""},{"$f":"IFERROR(VLOOKUP(L5016,Hoja1!$A$50:$C$63,3),\"\")","v":""}]
[null,null,null,null,null,null,null,null,null,null,null,null,null,null,null,null,null,null,null,null,null,{"$f":"IFERROR(WORKDAY(T5019,AE5019,Hoja1!F5011:F5127),\"\")","v":""},"",null,"",{"$f":"IF(P5019=\"\",\"\",NETWORKDAYS(C5019+1,P5019,Hoja1!F5011:F5127))","v":""},{"$f":"IFERROR(IF(NETWORKDAYS(R5019+1,P5019,Hoja1!F5011:F5127)<=0,\"\",NETWORKDAYS(R5019+1,P5019,Hoja1!F5011:F5127)),0)","v":""},null,null,{"$f":"IFERROR(VLOOKUP(L5019,Hoja1!$A$50:$C$63,2),\"\")","v":""},{"$f":"IFERROR(VLOOKUP(L5019,Hoja1!$A$50:$C$63,3),\"\")","v":""}]
[null,null,null,null,null,null,null,null,null,null,null,null,null,null,null,null,null,null,null,null,null,{"$f":"IFERROR(WORKDAY(T5024,AE5024,Hoja1!F5016:F5132),\"\")","v":""},"",null,"",{"$f":"IF(P5024=\"\",\"\",NETWORKDAYS(C5024+1,P5024,Hoja1!F5016:F5132))","v":""},{"$f":"IFERROR(IF(NETWORKDAYS(R5024+1,P5024,Hoja1!F5016:F5132)<=0,\"\",NETWORKDAYS(R5024+1,P5024,Hoja1!F5016:F5132)),0)","v":""},null,null,{"$f":"IFERROR(VLOOKUP(L5024,Hoja1!$A$50:$C$63,2),\"\")","v":""},{"$f":"IFERROR(VLOOKUP(L5024,Hoja1!$A$50:$C$63,3),\"\")","v":""}]
[null,null,null,null,null,null,null,null,null,null,null,null,null,null,null,null,null,null,null,null,null,{"$f":"IFERROR(WORKDAY(T5030,AE5030,Hoja1!F5022:F5138),\"\")","v":""},"",null,"",{"$f":"IF(P5030=\"\",\"\",NETWORKDAYS(C5030+1,P5030,Hoja1!F5022:F5138))","v":""},{"$f":"IFERROR(IF(NETWORKDAYS(R5030+1,P5030,Hoja1!F5022:F5138)<=0,\"\",NETWORKDAYS(R5030+1,P5030,Hoja1!F5022:F5138)),0)","v":""},null,null,{"$f":"IFERROR(VLOOKUP(L5030,Hoja1!$A$50:$C$63,2),\"\")","v":""},{"$f":"IFERROR(VLOOKUP(L5030,Hoja1!$A$50:$C$63,3),\"\")","v":""}]
[null,null,null,null,null,null,null,null,null,null,null,null,null,null,null,null,null,null,null,null,null,{"$f":"IFERROR(WORKDAY(T5035,AE5035,Hoja1!F5027:F5143),\"\")","v":""},"",null,"",{"$f":"IF(P5035=\"\",\"\",NETWORKDAYS(C5035+1,P5035,Hoja1!F5027:F5143))","v":""},{"$f":"IFERROR(IF(NETWORKDAYS(R5035+1,P5035,Hoja1!F5027:F5143)<=0,\"\",NETWORKDAYS(R5035+1,P5035,Hoja1!F5027:F5143)),0)","v":""},null,null,{"$f":"IFERROR(VLOOKUP(L5035,Hoja1!$A$50:$C$63,2),\"\")","v":""},{"$f":"IFERROR(VLOOKUP(L5035,Hoja1!$A$50:$C$63,3),\"\")","v":""}]
[null,null,null,null,null,null,null,null,null,null,null,null,null,null,null,null,null,null,null,null,null,{"$f":"IFERROR(WORKDAY(T5039,AE5039,Hoja1!F5031:F5147),\"\")","v":""},"",null,"",{"$f":"IF(P5039=\"\",\"\",NETWORKDAYS(C5039+1,P5039,Hoja1!F5031:F5147))","v":""},{"$f":"IFERROR(IF(NETWORKDAYS(R5039+1,P5039,Hoja1!F5031:F5147)<=0,\"\",NETWORKDAYS(R5039+1,P5039,Hoja1!F5031:F5147)),0)","v":""},null,null,{"$f":"IFERROR(VLOOKUP(L5039,Hoja1!$A$50:$C$63,2),\"\")","v":""},{"$f":"IFERROR(VLOOKUP(L5039,Hoja1!$A$50:$C$63,3),\"\")","v":""}]
[null,null,null,null,null,null,null,null,null,null,null,null,null,null,null,null,null,null,null,null,null,{"$f":"IFERROR(WORKDAY(T5042,AE5042,Hoja1!F5034:F5150),\"\")","v":""},"",null,"",{"$f":"IF(P5042=\"\",\"\",NETWORKDAYS(C5042+1,P5042,Hoja1!F5034:F5150))","v":""},{"$f":"IFERROR(IF(NETWORKDAYS(R5042+1,P5042,Hoja1!F5034:F5150)<=0,\"\",NETWORKDAYS(R5042+1,P5042,Hoja1!F5034:F5150)),0)","v":""},null,null,{"$f":"IFERROR(VLOOKUP(L5042,Hoja1!$A$50:$C$63,2),\"\")","v":""},{"$f":"IFERROR(VLOOKUP(L5042,Hoja1!$A$50:$C$63,3),\"\")","v":""}]
[null,null,null,null,null,null,null,null,null,null,null,null,null,null,null,null,null,null,null,null,null,{"$f":"IFERROR(WORKDAY(T5049,AE5049,Hoja1!F5041:F5157),\"\")","v":""},"",null,"",{"$f":"IF(P5049=\"\",\"\",NETWORKDAYS(C5049+1,P5049,Hoja1!F5041:F5157))","v":""},{"$f":"IFERROR(IF(NETWORKDAYS(R5049+1,P5049,Hoja1!F5041:F5157)<=0,\"\",NETWORKDAYS(R5049+1,P5049,Hoja1!F5041:F5157)),0)","v":""},null,null,{"$f":"IFERROR(VLOOKUP(L5049,Hoja1!$A$50:$C$63,2),\"\")","v":""},{"$f":"IFERROR(VLOOKUP(L5049,Hoja1!$A$50:$C$63,3),\"\")","v":""}]
[null,null,null,null,null,null,null,null,null,null,null,null,null,null,null,null,null,null,null,null,null,{"$f":"IFERROR(WORKDAY(T5053,AE5053,Hoja1!F5045:F5161),\"\")","v":""},"",null,"",{"$f":"IF(P5053=\"\",\"\",NETWORKDAYS(C5053+1,P5053,Hoja1!F5045:F5161))","v":""},{"$f":"IFERROR(IF(NETWORKDAYS(R5053+1,P5053,Hoja1!F5045:F5161)<=0,\"\",NETWORKDAYS(R5053+1,P5053,Hoja1!F5045:F5161)),0)","v":""},null,null,{"$f":"IFERROR(VLOOKUP(L5053,Hoja1!$A$50:$C$63,2),\"\")","v":""},{"$f":"IFERROR(VLOOKUP(L5053,Hoja1!$A$50:$C$63,3),\"\")","v":""}]
[null,null,null,null,null,null,null,null,null,null,null,null,null,null,null,null,null,null,null,null,null,{"$f":"IFERROR(WORKDAY(T5054,AE5054,Hoja1!F5046:F5162),\"\")","v":""},"",null,"",{"$f":"IF(P5054=\"\",\"\",NETWORKDAYS(C5054+1,P5054,Hoja1!F5046:F5162))","v":""},{"$f":"IFERROR(IF(NETWORKDAYS(R5054+1,P5054,Hoja1!F5046:F5162)<=0,\"\",NETWORKDAYS(R5054+1,P5054,Hoja1!F5046:F5162)),0)","v":""},null,null,{"$f":"IFERROR(VLOOKUP(L5054,Hoja1!$A$50:$C$63,2),\"\")","v":""},{"$f":"IFERROR(VLOOKUP(L5054,Hoja1!$A$50:$C$63,3),\"\")","v":""}]
[null,null,null,null,null,null,null,null,null,null,null,null,null,null,null,null,null,null,null,null,null,{"$f":"IFERROR(WORKDAY(T5058,AE5058,Hoja1!F5050:F5166),\"\")","v":""},"",null,"",{"$f":"IF(P5058=\"\",\"\",NETWORKDAYS(C5058+1,P5058,Hoja1!F5050:F5166))","v":""},{"$f":"IFERROR(IF(NETWORKDAYS(R5058+1,P5058,Hoja1!F5050:F5166)<=0,\"\",NETWORKDAYS(R5058+1,P5058,Hoja1!F5050:F5166)),0)","v":""},null,null,{"$f":"IFERROR(VLOOKUP(L5058,Hoja1!$A$50:$C$63,2),\"\")","v":""},{"$f":"IFERROR(VLOOKUP(L5058,Hoja1!$A$50:$C$63,3),\"\")","v":""}]
[null,null,null,null,null,null,null,null,null,null,null,null,null,null,null,null,null,null,null,null,null,{"$f":"IFERROR(WORKDAY(T5065,AE5065,Hoja1!F5057:F5173),\"\")","v":""},"",null,"",{"$f":"IF(P5065=\"\",\"\",NETWORKDAYS(C5065+1,P5065,Hoja1!F5057:F5173))","v":""},{"$f":"IFERROR(IF(NETWORKDAYS(R5065+1,P5065,Hoja1!F5057:F5173)<=0,\"\",NETWORKDAYS(R5065+1,P5065,Hoja1!F5057:F5173)),0)","v":""},null,null,{"$f":"IFERROR(VLOOKUP(L5065,Hoja1!$A$50:$C$63,2),\"\")","v":""},{"$f":"IFERROR(VLOOKUP(L5065,Hoja1!$A$50:$C$63,3),\"\")","v":""}]
[null,null,null,null,null,null,null,null,null,null,null,null,null,null,null,null,null,null,null,null,null,{"$f":"IFERROR(WORKDAY(T5068,AE5068,Hoja1!F5060:F5176),\"\")","v":""},"",null,"",{"$f":"IF(P5068=\"\",\"\",NETWORKDAYS(C5068+1,P5068,Hoja1!F5060:F5176))","v":""},{"$f":"IFERROR(IF(NETWORKDAYS(R5068+1,P5068,Hoja1!F5060:F5176)<=0,\"\",NETWORKDAYS(R5068+1,P5068,Hoja1!F5060:F5176)),0)","v":""},null,null,{"$f":"IFERROR(VLOOKUP(L5068,Hoja1!$A$50:$C$63,2),\"\")","v":""},{"$f":"IFERROR(VLOOKUP(L5068,Hoja1!$A$50:$C$63,3),\"\")","v":""}]
[null,null,null,null,null,null,null,null,null,null,null,null,null,null,null,null,null,null,null,null,null,{"$f":"IFERROR(WORKDAY(T5072,AE5072,Hoja1!F5064:F5180),\"\")","v":""},"",null,"",{"$f":"IF(P5072=\"\",\"\",NETWORKDAYS(C5072+1,P5072,Hoja1!F5064:F5180))","v":""},{"$f":"IFERROR(IF(NETWORKDAYS(R5072+1,P5072,Hoja1!F5064:F5180)<=0,\"\",NETWORKDAYS(R5072+1,P5072,Hoja1!F5064:F5180)),0)","v":""},null,null,{"$f":"IFERROR(VLOOKUP(L5072,Hoja1!$A$50:$C$63,2),\"\")","v":""},{"$f":"IFERROR(VLOOKUP(L5072,Hoja1!$A$50:$C$63,3),\"\")","v":""}]
[null,null,null,null,null,null,null,null,null,null,null,null,null,null,null,null,null,null,null,null,null,{"$f":"IFERROR(WORKDAY(T5078,AE5078,Hoja1!F5070:F5186),\"\")","v":""},"",null,"",{"$f":"IF(P5078=\"\",\"\",NETWORKDAYS(C5078+1,P5078,Hoja1!F5070:F5186))","v":""},{"$f":"IFERROR(IF(NETWORKDAYS(R5078+1,P5078,Hoja1!F5070:F5186)<=0,\"\",NETWORKDAYS(R5078+1,P5078,Hoja1!F5070:F5186)),0)","v":""},null,null,{"$f":"IFERROR(VLOOKUP(L5078,Hoja1!$A$50:$C$63,2),\"\")","v":""},{"$f":"IFERROR(VLOOKUP(L5078,Hoja1!$A$50:$C$63,3),\"\")","v":""}]
[null,null,null,null,null,null,null,null,null,null,null,null,null,null,null,null,null,null,null,null,null,{"$f":"IFERROR(WORKDAY(T5083,AE5083,Hoja1!F5075:F5191),\"\")","v":""},"",null,"",{"$f":"IF(P5083=\"\",\"\",NETWORKDAYS(C5083+1,P5083,Hoja1!F5075:F5191))","v":""},{"$f":"IFERROR(IF(NETWORKDAYS(R5083+1,P5083,Hoja1!F5075:F5191)<=0,\"\",NETWORKDAYS(R5083+1,P5083,Hoja1!F5075:F5191)),0)","v":""},null,null,{"$f":"IFERROR(VLOOKUP(L5083,Hoja1!$A$50:$C$63,2),\"\")","v":""},{"$f":"IFERROR(VLOOKUP(L5083,Hoja1!$A$50:$C$63,3),\"\")","v":""}]
[null,null,null,null,null,null,null,null,null,null,null,null,null,null,null,null,null,null,null,null,null,{"$f":"IFERROR(WORKDAY(T5088,AE5088,Hoja1!F5080:F5196),\"\")","v":""},"",null,"",{"$f":"IF(P5088=\"\",\"\",NETWORKDAYS(C5088+1,P5088,Hoja1!F5080:F5196))","v":""},{"$f":"IFERROR(IF(NETWORKDAYS(R5088+1,P5088,Hoja1!F5080:F5196)<=0,\"\",NETWORKDAYS(R5088+1,P5088,Hoja1!F5080:F5196)),0)","v":""},null,null,{"$f":"IFERROR(VLOOKUP(L5088,Hoja1!$A$50:$C$63,2),\"\")","v":""},{"$f":"IFERROR(VLOOKUP(L5088,Hoja1!$A$50:$C$63,3),\"\")","v":""}]
[null,null,null,null,null,null,null,null,null,null,null,null,null,null,null,null,null,null,null,null,null,{"$f":"IFERROR(WORKDAY(T5092,AE5092,Hoja1!F5084:F5200),\"\")","v":""},"",null,"",{"$f":"IF(P5092=\"\",\"\",NETWORKDAYS(C5092+1,P5092,Hoja1!F5084:F5200))","v":""},{"$f":"IFERROR(IF(NETWORKDAYS(R5092+1,P5092,Hoja1!F5084:F5200)<=0,\"\",NETWORKDAYS(R5092+1,P5092,Hoja1!F5084:F5200)),0)","v":""},null,null,{"$f":"IFERROR(VLOOKUP(L5092,Hoja1!$A$50:$C$63,2),\"\")","v":""},{"$f":"IFERROR(VLOOKUP(L5092,Hoja1!$A$50:$C$63,3),\"\")","v":""}]
[null,null,null,null,null,null,null,null,null,null,null,null,null,null,null,null,null,null,null,null,null,{"$f":"IFERROR(WORKDAY(T5095,AE5095,Hoja1!F5087:F5203),\"\")","v":""},"",null,"",{"$f":"IF(P5095=\"\",\"\",NETWORKDAYS(C5095+1,P5095,Hoja1!F5087:F5203))","v":""},{"$f":"IFERROR(IF(NETWORKDAYS(R5095+1,P5095,Hoja1!F5087:F5203)<=0,\"\",NETWORKDAYS(R5095+1,P5095,Hoja1!F5087:F5203)),0)","v":""},null,null,{"$f":"IFERROR(VLOOKUP(L5095,Hoja1!$A$50:$C$63,2),\"\")","v":""},{"$f":"IFERROR(VLOOKUP(L5095,Hoja1!$A$50:$C$63,3),\"\")","v":""}]
[null,null,null,null,null,null,null,null,null,null,null,null,null,null,null,null,null,null,null,null,null,{"$f":"IFERROR(WORKDAY(T5102,AE5102,Hoja1!F5094:F5210),\"\")","v":""},"",null,"",{"$f":"IF(P5102=\"\",\"\",NETWORKDAYS(C5102+1,P5102,Hoja1!F5094:F5210))","v":""},{"$f":"IFERROR(IF(NETWORKDAYS(R5102+1,P5102,Hoja1!F5094:F5210)<=0,\"\",NETWORKDAYS(R5102+1,P5102,Hoja1!F5094:F5210)),0)","v":""},null,null,{"$f":"IFERROR(VLOOKUP(L5102,Hoja1!$A$50:$C$63,2),\"\")","v":""},{"$f":"IFERROR(VLOOKUP(L5102,Hoja1!$A$50:$C$63,3),\"\")","v":""}]
[null,null,null,null,null,null,null,null,null,null,null,null,null,null,null,null,null,null,null,null,null,{"$f":"IFERROR(WORKDAY(T5106,AE5106,Hoja1!F5098:F5214),\"\")","v":""},"",null,"",{"$f":"IF(P5106=\"\",\"\",NETWORKDAYS(C5106+1,P5106,Hoja1!F5098:F5214))","v":""},{"$f":"IFERROR(IF(NETWORKDAYS(R5106+1,P5106,Hoja1!F5098:F5214)<=0,\"\",NETWORKDAYS(R5106+1,P5106,Hoja1!F5098:F5214)),0)","v":""},null,null,{"$f":"IFERROR(VLOOKUP(L5106,Hoja1!$A$50:$C$63,2),\"\")","v":""},{"$f":"IFERROR(VLOOKUP(L5106,Hoja1!$A$50:$C$63,3),\"\")","v":""}]
[null,null,null,null,null,null,null,null,null,null,null,null,null,null,null,null,null,null,null,null,null,{"$f":"IFERROR(WORKDAY(T5107,AE5107,Hoja1!F5099:F5215),\"\")","v":""},"",null,"",{"$f":"IF(P5107=\"\",\"\",NETWORKDAYS(C5107+1,P5107,Hoja1!F5099:F5215))","v":""},{"$f":"IFERROR(IF(NETWORKDAYS(R5107+1,P5107,Hoja1!F5099:F5215)<=0,\"\",NETWORKDAYS(R5107+1,P5107,Hoja1!F5099:F5215)),0)","v":""},null,null,{"$f":"IFERROR(VLOOKUP(L5107,Hoja1!$A$50:$C$63,2),\"\")","v":""},{"$f":"IFERROR(VLOOKUP(L5107,Hoja1!$A$50:$C$63,3),\"\")","v":""}]
[null,null,null,null,null,null,null,null,null,null,null,null,null,null,null,null,null,null,null,null,null,{"$f":"IFERROR(WORKDAY(T5113,AE5113,Hoja1!F5105:F5221),\"\")","v":""},"",null,"",{"$f":"IF(P5113=\"\",\"\",NETWORKDAYS(C5113+1,P5113,Hoja1!F5105:F5221))","v":""},{"$f":"IFERROR(IF(NETWORKDAYS(R5113+1,P5113,Hoja1!F5105:F5221)<=0,\"\",NETWORKDAYS(R5113+1,P5113,Hoja1!F5105:F5221)),0)","v":""},null,null,{"$f":"IFERROR(VLOOKUP(L5113,Hoja1!$A$50:$C$63,2),\"\")","v":""},{"$f":"IFERROR(VLOOKUP(L5113,Hoja1!$A$50:$C$63,3),\"\")","v":""}]
[null,null,null,null,null,null,null,null,null,null,null,null,null,null,null,null,null,null,null,null,null,{"$f":"IFERROR(WORKDAY(T5118,AE5118,Hoja1!F5110:F5226),\"\")","v":""},"",null,"",{"$f":"IF(P5118=\"\",\"\",NETWORKDAYS(C5118+1,P5118,Hoja1!F5110:F5226))","v":""},{"$f":"IFERROR(IF(NETWORKDAYS(R5118+1,P5118,Hoja1!F5110:F5226)<=0,\"\",NETWORKDAYS(R5118+1,P5118,Hoja1!F5110:F5226)),0)","v":""},null,null,{"$f":"IFERROR(VLOOKUP(L5118,Hoja1!$A$50:$C$63,2),\"\")","v":""},{"$f":"IFERROR(VLOOKUP(L5118,Hoja1!$A$50:$C$63,3),\"\")","v":""}]
[null,null,null,null,null,null,null,null,null,null,null,null,null,null,null,null,null,null,null,null,null,{"$f":"IFERROR(WORKDAY(T5121,AE5121,Hoja1!F5113:F5229),\"\")","v":""},"",null,"",{"$f":"IF(P5121=\"\",\"\",NETWORKDAYS(C5121+1,P5121,Hoja1!F5113:F5229))","v":""},{"$f":"IFERROR(IF(NETWORKDAYS(R5121+1,P5121,Hoja1!F5113:F5229)<=0,\"\",NETWORKDAYS(R5121+1,P5121,Hoja1!F5113:F5229)),0)","v":""},null,null,{"$f":"IFERROR(VLOOKUP(L5121,Hoja1!$A$50:$C$63,2),\"\")","v":""},{"$f":"IFERROR(VLOOKUP(L5121,Hoja1!$A$50:$C$63,3),\"\")","v":""}]
[null,null,null,null,null,null,null,null,null,null,null,null,null,null,null,null,null,null,null,null,null,{"$f":"IFERROR(WORKDAY(T5125,AE5125,Hoja1!F5117:F5233),\"\")","v":""},"",null,"",{"$f":"IF(P5125=\"\",\"\",NETWORKDAYS(C5125+1,P5125,Hoja1!F5117:F5233))","v":""},{"$f":"IFERROR(IF(NETWORKDAYS(R5125+1,P5125,Hoja1!F5117:F5233)<=0,\"\",NETWORKDAYS(R5125+1,P5125,Hoja1!F5117:F5233)),0)","v":""},null,null,{"$f":"IFERROR(VLOOKUP(L5125,Hoja1!$A$50:$C$63,2),\"\")","v":""},{"$f":"IFERROR(VLOOKUP(L5125,Hoja1!$A$50:$C$63,3),\"\")","v":""}]
[null,null,null,null,null,null,null,null,null,null,null,null,null,null,null,null,null,null,null,null,null,{"$f":"IFERROR(WORKDAY(T5130,AE5130,Hoja1!F5122:F5238),\"\")","v":""},{"$f":"+IF(T5130=\"\",\"\",IF(U5130=\"\",\"SIN RESPUESTA\",(IF(U5130<=V5130,\"A TIEMPO\",\"FUERA DE TIEMPO\"))))","v":""},null,{"$f":"+IF(C5130=\"\",\"\",IF(P5130=\"\",\"SIN RESPUESTA\",(IF(P5130<=R5130,\"A TIEMPO\",\"FUERA DE TIEMPO\"))))","v":""},{"$f":"IF(P5130=\"\",\"\",NETWORKDAYS(C5130+1,P5130,Hoja1!F5122:F5238))","v":""},{"$f":"IFERROR(IF(NETWORKDAYS(R5130+1,P5130,Hoja1!F5122:F5238)<=0,\"\",NETWORKDAYS(R5130+1,P5130,Hoja1!F5122:F5238)),0)","v":""},null,null,{"$f":"IFERROR(VLOOKUP(L5130,Hoja1!$A$50:$C$63,2),\"\")","v":""},{"$f":"IFERROR(VLOOKUP(L5130,Hoja1!$A$50:$C$63,3),\"\")","v":""}]
[null,null,null,null,null,null,null,null,null,null,null,null,null,null,null,null,null,null,null,null,null,{"$f":"IFERROR(WORKDAY(T5136,AE5136,Hoja1!F5128:F5244),\"\")","v":""},"",null,"",{"$f":"IF(P5136=\"\",\"\",NETWORKDAYS(C5136+1,P5136,Hoja1!F5128:F5244))","v":""},{"$f":"IFERROR(IF(NETWORKDAYS(R5136+1,P5136,Hoja1!F5128:F5244)<=0,\"\",NETWORKDAYS(R5136+1,P5136,Hoja1!F5128:F5244)),0)","v":""},null,null,{"$f":"IFERROR(VLOOKUP(L5136,Hoja1!$A$50:$C$63,2),\"\")","v":""},{"$f":"IFERROR(VLOOKUP(L5136,Hoja1!$A$50:$C$63,3),\"\")","v":""}]
[null,null,null,null,null,null,null,null,null,null,null,null,null,null,null,null,null,null,null,null,null,{"$f":"IFERROR(WORKDAY(T5140,AE5140,Hoja1!F5132:F5248),\"\")","v":""},"",null,"",{"$f":"IF(P5140=\"\",\"\",NETWORKDAYS(C5140+1,P5140,Hoja1!F5132:F5248))","v":""},{"$f":"IFERROR(IF(NETWORKDAYS(R5140+1,P5140,Hoja1!F5132:F5248)<=0,\"\",NETWORKDAYS(R5140+1,P5140,Hoja1!F5132:F5248)),0)","v":""},null,null,{"$f":"IFERROR(VLOOKUP(L5140,Hoja1!$A$50:$C$63,2),\"\")","v":""},{"$f":"IFERROR(VLOOKUP(L5140,Hoja1!$A$50:$C$63,3),\"\")","v":""}]
[null,null,null,null,null,null,null,null,null,null,null,null,null,null,null,null,null,null,null,null,null,{"$f":"IFERROR(WORKDAY(T5143,AE5143,Hoja1!F5135:F5251),\"\")","v":""},"",null,"",{"$f":"IF(P5143=\"\",\"\",NETWORKDAYS(C5143+1,P5143,Hoja1!F5135:F5251))","v":""},{"$f":"IFERROR(IF(NETWORKDAYS(R5143+1,P5143,Hoja1!F5135:F5251)<=0,\"\",NETWORKDAYS(R5143+1,P5143,Hoja1!F5135:F5251)),0)","v":""},null,null,{"$f":"IFERROR(VLOOKUP(L5143,Hoja1!$A$50:$C$63,2),\"\")","v":""},{"$f":"IFERROR(VLOOKUP(L5143,Hoja1!$A$50:$C$63,3),\"\")","v":""}]
[null,null,null,null,null,null,null,null,null,null,null,null,null,null,null,null,null,null,null,null,null,{"$f":"IFERROR(WORKDAY(T5148,AE5148,Hoja1!F5140:F5256),\"\")","v":""},"",null,"",{"$f":"IF(P5148=\"\",\"\",NETWORKDAYS(C5148+1,P5148,Hoja1!F5140:F5256))","v":""},{"$f":"IFERROR(IF(NETWORKDAYS(R5148+1,P5148,Hoja1!F5140:F5256)<=0,\"\",NETWORKDAYS(R5148+1,P5148,Hoja1!F5140:F5256)),0)","v":""},null,null,{"$f":"IFERROR(VLOOKUP(L5148,Hoja1!$A$50:$C$63,2),\"\")","v":""},{"$f":"IFERROR(VLOOKUP(L5148,Hoja1!$A$50:$C$63,3),\"\")","v":""}]
[null,null,null,null,null,null,null,null,null,null,null,null,null,null,null,null,null,null,null,null,null,{"$f":"IFERROR(WORKDAY(T5154,AE5154,Hoja1!F5146:F5262),\"\")","v":""},"",null,"",{"$f":"IF(P5154=\"\",\"\",NETWORKDAYS(C5154+1,P5154,Hoja1!F5146:F5262))","v":""},{"$f":"IFERROR(IF(NETWORKDAYS(R5154+1,P5154,Hoja1!F5146:F5262)<=0,\"\",NETWORKDAYS(R5154+1,P5154,Hoja1!F5146:F5262)),0)","v":""},null,null,{"$f":"IFERROR(VLOOKUP(L5154,Hoja1!$A$50:$C$63,2),\"\")","v":""},{"$f":"IFERROR(VLOOKUP(L5154,Hoja1!$A$50:$C$63,3),\"\")","v":""}]
[null,null,null,null,null,null,null,null,null,null,null,null,null,null,null,null,null,null,null,null,null,{"$f":"IFERROR(WORKDAY(T5159,AE5159,Hoja1!F5151:F5267),\"\")","v":""},"",null,"",{"$f":"IF(P5159=\"\",\"\",NETWORKDAYS(C5159+1,P5159,Hoja1!F5151:F5267))","v":""},{"$f":"IFERROR(IF(NETWORKDAYS(R5159+1,P5159,Hoja1!F5151:F5267)<=0,\"\",NETWORKDAYS(R5159+1,P5159,Hoja1!F5151:F5267)),0)","v":""},null,null,{"$f":"IFERROR(VLOOKUP(L5159,Hoja1!$A$50:$C$63,2),\"\")","v":""},{"$f":"IFERROR(VLOOKUP(L5159,Hoja1!$A$50:$C$63,3),\"\")","v":""}]
[null,null,null,null,null,null,null,null,null,null,null,null,null,null,null,null,null,null,null,null,null,{"$f":"IFERROR(WORKDAY(T5164,AE5164,Hoja1!F5156:F5272),\"\")","v":""},"",null,"",{"$f":"IF(P5164=\"\",\"\",NETWORKDAYS(C5164+1,P5164,Hoja1!F5156:F5272))","v":""},{"$f":"IFERROR(IF(NETWORKDAYS(R5164+1,P5164,Hoja1!F5156:F5272)<=0,\"\",NETWORKDAYS(R5164+1,P5164,Hoja1!F5156:F5272)),0)","v":""},null,null,{"$f":"IFERROR(VLOOKUP(L5164,Hoja1!$A$50:$C$63,2),\"\")","v":""},{"$f":"IFERROR(VLOOKUP(L5164,Hoja1!$A$50:$C$63,3),\"\")","v":""}]
[null,null,null,null,null,null,null,null,null,null,null,null,null,null,null,null,null,null,null,null,null,{"$f":"IFERROR(WORKDAY(T5166,AE5166,Hoja1!F5158:F5274),\"\")","v":""},"",null,"",{"$f":"IF(P5166=\"\",\"\",NETWORKDAYS(C5166+1,P5166,Hoja1!F5158:F5274))","v":""},{"$f":"IFERROR(IF(NETWORKDAYS(R5166+1,P5166,Hoja1!F5158:F5274)<=0,\"\",NETWORKDAYS(R5166+1,P5166,Hoja1!F5158:F5274)),0)","v":""},null,null,{"$f":"IFERROR(VLOOKUP(L5166,Hoja1!$A$50:$C$63,2),\"\")","v":""},{"$f":"IFERROR(VLOOKUP(L5166,Hoja1!$A$50:$C$63,3),\"\")","v":""}]
[null,null,null,null,null,null,null,null,null,null,null,null,null,null,null,null,null,null,null,null,null,{"$f":"IFERROR(WORKDAY(T5169,AE5169,Hoja1!F5161:F5277),\"\")","v":""},"",null,"",{"$f":"IF(P5169=\"\",\"\",NETWORKDAYS(C5169+1,P5169,Hoja1!F5161:F5277))","v":""},{"$f":"IFERROR(IF(NETWORKDAYS(R5169+1,P5169,Hoja1!F5161:F5277)<=0,\"\",NETWORKDAYS(R5169+1,P5169,Hoja1!F5161:F5277)),0)","v":""},null,null,{"$f":"IFERROR(VLOOKUP(L5169,Hoja1!$A$50:$C$63,2),\"\")","v":""},{"$f":"IFERROR(VLOOKUP(L5169,Hoja1!$A$50:$C$63,3),\"\")","v":""}]
[null,null,null,null,null,null,null,null,null,null,null,null,null,null,null,null,null,null,null,null,null,{"$f":"IFERROR(WORKDAY(T5177,AE5177,Hoja1!F5169:F5285),\"\")","v":""},"",null,"",{"$f":"IF(P5177=\"\",\"\",NETWORKDAYS(C5177+1,P5177,Hoja1!F5169:F5285))","v":""},{"$f":"IFERROR(IF(NETWORKDAYS(R5177+1,P5177,Hoja1!F5169:F5285)<=0,\"\",NETWORKDAYS(R5177+1,P5177,Hoja1!F5169:F5285)),0)","v":""},null,null,{"$f":"IFERROR(VLOOKUP(L5177,Hoja1!$A$50:$C$63,2),\"\")","v":""},{"$f":"IFERROR(VLOOKUP(L5177,Hoja1!$A$50:$C$63,3),\"\")","v":""}]
[null,null,null,null,null,null,null,null,null,null,null,null,null,null,null,null,null,null,null,null,null,{"$f":"IFERROR(WORKDAY(T5178,AE5178,Hoja1!F5170:F5286),\"\")","v":""},"",null,"",{"$f":"IF(P5178=\"\",\"\",NETWORKDAYS(C5178+1,P5178,Hoja1!F5170:F5286))","v":""},{"$f":"IFERROR(IF(NETWORKDAYS(R5178+1,P5178,Hoja1!F5170:F5286)<=0,\"\",NETWORKDAYS(R5178+1,P5178,Hoja1!F5170:F5286)),0)","v":""},null,null,{"$f":"IFERROR(VLOOKUP(L5178,Hoja1!$A$50:$C$63,2),\"\")","v":""},{"$f":"IFERROR(VLOOKUP(L5178,Hoja1!$A$50:$C$63,3),\"\")","v":""}]
[null,null,null,null,null,null,null,null,null,null,null,null,null,null,null,null,null,null,null,null,null,{"$f":"IFERROR(WORKDAY(T5183,AE5183,Hoja1!F5175:F5291),\"\")","v":""},"",null,"",{"$f":"IF(P5183=\"\",\"\",NETWORKDAYS(C5183+1,P5183,Hoja1!F5175:F5291))","v":""},{"$f":"IFERROR(IF(NETWORKDAYS(R5183+1,P5183,Hoja1!F5175:F5291)<=0,\"\",NETWORKDAYS(R5183+1,P5183,Hoja1!F5175:F5291)),0)","v":""},null,null,{"$f":"IFERROR(VLOOKUP(L5183,Hoja1!$A$50:$C$63,2),\"\")","v":""},{"$f":"IFERROR(VLOOKUP(L5183,Hoja1!$A$50:$C$63,3),\"\")","v":""}]
[null,null,null,null,null,null,null,null,null,null,null,null,null,null,null,null,null,null,null,null,null,{"$f":"IFERROR(WORKDAY(T5189,AE5189,Hoja1!F5181:F5297),\"\")","v":""},"",null,"",{"$f":"IF(P5189=\"\",\"\",NETWORKDAYS(C5189+1,P5189,Hoja1!F5181:F5297))","v":""},{"$f":"IFERROR(IF(NETWORKDAYS(R5189+1,P5189,Hoja1!F5181:F5297)<=0,\"\",NETWORKDAYS(R5189+1,P5189,Hoja1!F5181:F5297)),0)","v":""},null,null,{"$f":"IFERROR(VLOOKUP(L5189,Hoja1!$A$50:$C$63,2),\"\")","v":""},{"$f":"IFERROR(VLOOKUP(L5189,Hoja1!$A$50:$C$63,3),\"\")","v":""}]
[null,null,null,null,null,null,null,null,null,null,null,null,null,null,null,null,null,null,null,null,null,{"$f":"IFERROR(WORKDAY(T5193,AE5193,Hoja1!F5185:F5301),\"\")","v":""},"",null,"",{"$f":"IF(P5193=\"\",\"\",NETWORKDAYS(C5193+1,P5193,Hoja1!F5185:F5301))","v":""},{"$f":"IFERROR(IF(NETWORKDAYS(R5193+1,P5193,Hoja1!F5185:F5301)<=0,\"\",NETWORKDAYS(R5193+1,P5193,Hoja1!F5185:F5301)),0)","v":""},null,null,{"$f":"IFERROR(VLOOKUP(L5193,Hoja1!$A$50:$C$63,2),\"\")","v":""},{"$f":"IFERROR(VLOOKUP(L5193,Hoja1!$A$50:$C$63,3),\"\")","v":""}]
[null,null,null,null,null,null,null,null,null,null,null,null,null,null,null,null,null,null,null,null,null,{"$f":"IFERROR(WORKDAY(T5196,AE5196,Hoja1!F5188:F5304),\"\")","v":""},"",null,"",{"$f":"IF(P5196=\"\",\"\",NETWORKDAYS(C5196+1,P5196,Hoja1!F5188:F5304))","v":""},{"$f":"IFERROR(IF(NETWORKDAYS(R5196+1,P5196,Hoja1!F5188:F5304)<=0,\"\",NETWORKDAYS(R5196+1,P5196,Hoja1!F5188:F5304)),0)","v":""},null,null,{"$f":"IFERROR(VLOOKUP(L5196,Hoja1!$A$50:$C$63,2),\"\")","v":""},{"$f":"IFERROR(VLOOKUP(L5196,Hoja1!$A$50:$C$63,3),\"\")","v":""}]
[null,null,null,null,null,null,null,null,null,null,null,null,null,null,null,null,null,null,null,null,null,{"$f":"IFERROR(WORKDAY(T5203,AE5203,Hoja1!F5195:F5311),\"\")","v":""},"",null,"",{"$f":"IF(P5203=\"\",\"\",NETWORKDAYS(C5203+1,P5203,Hoja1!F5195:F5311))","v":""},{"$f":"IFERROR(IF(NETWORKDAYS(R5203+1,P5203,Hoja1!F5195:F5311)<=0,\"\",NETWORKDAYS(R5203+1,P5203,Hoja1!F5195:F5311)),0)","v":""},null,null,{"$f":"IFERROR(VLOOKUP(L5203,Hoja1!$A$50:$C$63,2),\"\")","v":""},{"$f":"IFERROR(VLOOKUP(L5203,Hoja1!$A$50:$C$63,3),\"\")","v":""}]
[null,null,null,null,null,null,null,null,null,null,null,null,null,null,null,null,null,null,null,null,null,{"$f":"IFERROR(WORKDAY(T5207,AE5207,Hoja1!F5199:F5315),\"\")","v":""},"",null,"",{"$f":"IF(P5207=\"\",\"\",NETWORKDAYS(C5207+1,P5207,Hoja1!F5199:F5315))","v":""},{"$f":"IFERROR(IF(NETWORKDAYS(R5207+1,P5207,Hoja1!F5199:F5315)<=0,\"\",NETWORKDAYS(R5207+1,P5207,Hoja1!F5199:F5315)),0)","v":""},null,null,{"$f":"IFERROR(VLOOKUP(L5207,Hoja1!$A$50:$C$63,2),\"\")","v":""},{"$f":"IFERROR(VLOOKUP(L5207,Hoja1!$A$50:$C$63,3),\"\")","v":""}]
[null,null,null,null,null,null,null,null,null,null,null,null,null,null,null,null,null,null,null,null,null,{"$f":"IFERROR(WORKDAY(T5212,AE5212,Hoja1!F5204:F5320),\"\")","v":""},"",null,"",{"$f":"IF(P5212=\"\",\"\",NETWORKDAYS(C5212+1,P5212,Hoja1!F5204:F5320))","v":""},{"$f":"IFERROR(IF(NETWORKDAYS(R5212+1,P5212,Hoja1!F5204:F5320)<=0,\"\",NETWORKDAYS(R5212+1,P5212,Hoja1!F5204:F5320)),0)","v":""},null,null,{"$f":"IFERROR(VLOOKUP(L5212,Hoja1!$A$50:$C$63,2),\"\")","v":""},{"$f":"IFERROR(VLOOKUP(L5212,Hoja1!$A$50:$C$63,3),\"\")","v":""}]
[null,null,null,null,null,null,null,null,null,null,null,null,null,null,null,null,null,null,null,null,null,{"$f":"IFERROR(WORKDAY(T5217,AE5217,Hoja1!F5209:F5325),\"\")","v":""},"",null,"",{"$f":"IF(P5217=\"\",\"\",NETWORKDAYS(C5217+1,P5217,Hoja1!F5209:F5325))","v":""},{"$f":"IFERROR(IF(NETWORKDAYS(R5217+1,P5217,Hoja1!F5209:F5325)<=0,\"\",NETWORKDAYS(R5217+1,P5217,Hoja1!F5209:F5325)),0)","v":""},null,null,{"$f":"IFERROR(VLOOKUP(L5217,Hoja1!$A$50:$C$63,2),\"\")","v":""},{"$f":"IFERROR(VLOOKUP(L5217,Hoja1!$A$50:$C$63,3),\"\")","v":""}]
[null,null,null,null,null,null,null,null,null,null,null,null,null,null,null,null,null,null,null,null,null,{"$f":"IFERROR(WORKDAY(T5219,AE5219,Hoja1!F5211:F5327),\"\")","v":""},"",null,"",{"$f":"IF(P5219=\"\",\"\",NETWORKDAYS(C5219+1,P5219,Hoja1!F5211:F5327))","v":""},{"$f":"IFERROR(IF(NETWORKDAYS(R5219+1,P5219,Hoja1!F5211:F5327)<=0,\"\",NETWORKDAYS(R5219+1,P5219,Hoja1!F5211:F5327)),0)","v":""},null,null,{"$f":"IFERROR(VLOOKUP(L5219,Hoja1!$A$50:$C$63,2),\"\")","v":""},{"$f":"IFERROR(VLOOKUP(L5219,Hoja1!$A$50:$C$63,3),\"\")","v":""}]
[null,null,null,null,null,null,null,null,null,null,null,null,null,null,null,null,null,null,null,null,null,{"$f":"IFERROR(WORKDAY(T5222,AE5222,Hoja1!F5214:F5330),\"\")","v":""},"",null,"",{"$f":"IF(P5222=\"\",\"\",NETWORKDAYS(C5222+1,P5222,Hoja1!F5214:F5330))","v":""},{"$f":"IFERROR(IF(NETWORKDAYS(R5222+1,P5222,Hoja1!F5214:F5330)<=0,\"\",NETWORKDAYS(R5222+1,P5222,Hoja1!F5214:F5330)),0)","v":""},null,null,{"$f":"IFERROR(VLOOKUP(L5222,Hoja1!$A$50:$C$63,2),\"\")","v":""},{"$f":"IFERROR(VLOOKUP(L5222,Hoja1!$A$50:$C$63,3),\"\")","v":""}]
[null,null,null,null,null,null,null,null,null,null,null,null,null,null,null,null,null,null,null,null,null,{"$f":"IFERROR(WORKDAY(T5230,AE5230,Hoja1!F5222:F5338),\"\")","v":""},"",null,"",{"$f":"IF(P5230=\"\",\"\",NETWORKDAYS(C5230+1,P5230,Hoja1!F5222:F5338))","v":""},{"$f":"IFERROR(IF(NETWORKDAYS(R5230+1,P5230,Hoja1!F5222:F5338)<=0,\"\",NETWORKDAYS(R5230+1,P5230,Hoja1!F5222:F5338)),0)","v":""},null,null,{"$f":"IFERROR(VLOOKUP(L5230,Hoja1!$A$50:$C$63,2),\"\")","v":""},{"$f":"IFERROR(VLOOKUP(L5230,Hoja1!$A$50:$C$63,3),\"\")","v":""}]
[null,null,null,null,null,null,null,null,null,null,null,null,null,null,null,null,null,null,null,null,null,{"$f":"IFERROR(WORKDAY(T5231,AE5231,Hoja1!F5223:F5339),\"\")","v":""},"",null,"",{"$f":"IF(P5231=\"\",\"\",NETWORKDAYS(C5231+1,P5231,Hoja1!F5223:F5339))","v":""},{"$f":"IFERROR(IF(NETWORKDAYS(R5231+1,P5231,Hoja1!F5223:F5339)<=0,\"\",NETWORKDAYS(R5231+1,P5231,Hoja1!F5223:F5339)),0)","v":""},null,null,{"$f":"IFERROR(VLOOKUP(L5231,Hoja1!$A$50:$C$63,2),\"\")","v":""},{"$f":"IFERROR(VLOOKUP(L5231,Hoja1!$A$50:$C$63,3),\"\")","v":""}]
[null,null,null,null,null,null,null,null,null,null,null,null,null,null,null,null,null,null,null,null,null,{"$f":"IFERROR(WORKDAY(T5237,AE5237,Hoja1!F5229:F5345),\"\")","v":""},"",null,"",{"$f":"IF(P5237=\"\",\"\",NETWORKDAYS(C5237+1,P5237,Hoja1!F5229:F5345))","v":""},{"$f":"IFERROR(IF(NETWORKDAYS(R5237+1,P5237,Hoja1!F5229:F5345)<=0,\"\",NETWORKDAYS(R5237+1,P5237,Hoja1!F5229:F5345)),0)","v":""},null,null,{"$f":"IFERROR(VLOOKUP(L5237,Hoja1!$A$50:$C$63,2),\"\")","v":""},{"$f":"IFERROR(VLOOKUP(L5237,Hoja1!$A$50:$C$63,3),\"\")","v":""}]
[null,null,null,null,null,null,null,null,null,null,null,null,null,null,null,null,null,null,null,null,null,{"$f":"IFERROR(WORKDAY(T5242,AE5242,Hoja1!F5234:F5350),\"\")","v":""},"",null,"",{"$f":"IF(P5242=\"\",\"\",NETWORKDAYS(C5242+1,P5242,Hoja1!F5234:F5350))","v":""},{"$f":"IFERROR(IF(NETWORKDAYS(R5242+1,P5242,Hoja1!F5234:F5350)<=0,\"\",NETWORKDAYS(R5242+1,P5242,Hoja1!F5234:F5350)),0)","v":""},null,null,{"$f":"IFERROR(VLOOKUP(L5242,Hoja1!$A$50:$C$63,2),\"\")","v":""},{"$f":"IFERROR(VLOOKUP(L5242,Hoja1!$A$50:$C$63,3),\"\")","v":""}]
[null,null,null,null,null,null,null,null,null,null,null,null,null,null,null,null,null,null,null,null,null,{"$f":"IFERROR(WORKDAY(T5245,AE5245,Hoja1!F5237:F5353),\"\")","v":""},"",null,"",{"$f":"IF(P5245=\"\",\"\",NETWORKDAYS(C5245+1,P5245,Hoja1!F5237:F5353))","v":""},{"$f":"IFERROR(IF(NETWORKDAYS(R5245+1,P5245,Hoja1!F5237:F5353)<=0,\"\",NETWORKDAYS(R5245+1,P5245,Hoja1!F5237:F5353)),0)","v":""},null,null,{"$f":"IFERROR(VLOOKUP(L5245,Hoja1!$A$50:$C$63,2),\"\")","v":""},{"$f":"IFERROR(VLOOKUP(L5245,Hoja1!$A$50:$C$63,3),\"\")","v":""}]
[null,null,null,null,null,null,null,null,null,null,null,null,null,null,null,null,null,null,null,null,null,{"$f":"IFERROR(WORKDAY(T5249,AE5249,Hoja1!F5241:F5357),\"\")","v":""},"",null,"",{"$f":"IF(P5249=\"\",\"\",NETWORKDAYS(C5249+1,P5249,Hoja1!F5241:F5357))","v":""},{"$f":"IFERROR(IF(NETWORKDAYS(R5249+1,P5249,Hoja1!F5241:F5357)<=0,\"\",NETWORKDAYS(R5249+1,P5249,Hoja1!F5241:F5357)),0)","v":""},null,null,{"$f":"IFERROR(VLOOKUP(L5249,Hoja1!$A$50:$C$63,2),\"\")","v":""},{"$f":"IFERROR(VLOOKUP(L5249,Hoja1!$A$50:$C$63,3),\"\")","v":""}]
[null,null,null,null,null,null,null,null,null,null,null,null,null,null,null,null,null,null,null,null,null,{"$f":"IFERROR(WORKDAY(T5255,AE5255,Hoja1!F5247:F5363),\"\")","v":""},"",null,"",{"$f":"IF(P5255=\"\",\"\",NETWORKDAYS(C5255+1,P5255,Hoja1!F5247:F5363))","v":""},{"$f":"IFERROR(IF(NETWORKDAYS(R5255+1,P5255,Hoja1!F5247:F5363)<=0,\"\",NETWORKDAYS(R5255+1,P5255,Hoja1!F5247:F5363)),0)","v":""},null,null,{"$f":"IFERROR(VLOOKUP(L5255,Hoja1!$A$50:$C$63,2),\"\")","v":""},{"$f":"IFERROR(VLOOKUP(L5255,Hoja1!$A$50:$C$63,3),\"\")","v":""}]
[null,null,null,null,null,null,null,null,null,null,null,null,null,null,null,null,null,null,null,null,null,{"$f":"IFERROR(WORKDAY(T5260,AE5260,Hoja1!F5252:F5368),\"\")","v":""},"",null,"",{"$f":"IF(P5260=\"\",\"\",NETWORKDAYS(C5260+1,P5260,Hoja1!F5252:F5368))","v":""},{"$f":"IFERROR(IF(NETWORKDAYS(R5260+1,P5260,Hoja1!F5252:F5368)<=0,\"\",NETWORKDAYS(R5260+1,P5260,Hoja1!F5252:F5368)),0)","v":""},null,null,{"$f":"IFERROR(VLOOKUP(L5260,Hoja1!$A$50:$C$63,2),\"\")","v":""},{"$f":"IFERROR(VLOOKUP(L5260,Hoja1!$A$50:$C$63,3),\"\")","v":""}]
[null,null,null,null,null,null,null,null,null,null,null,null,null,null,null,null,null,null,null,null,null,{"$f":"IFERROR(WORKDAY(T5265,AE5265,Hoja1!F5257:F5373),\"\")","v":""},"",null,"",{"$f":"IF(P5265=\"\",\"\",NETWORKDAYS(C5265+1,P5265,Hoja1!F5257:F5373))","v":""},{"$f":"IFERROR(IF(NETWORKDAYS(R5265+1,P5265,Hoja1!F5257:F5373)<=0,\"\",NETWORKDAYS(R5265+1,P5265,Hoja1!F5257:F5373)),0)","v":""},null,null,{"$f":"IFERROR(VLOOKUP(L5265,Hoja1!$A$50:$C$63,2),\"\")","v":""},{"$f":"IFERROR(VLOOKUP(L5265,Hoja1!$A$50:$C$63,3),\"\")","v":""}]
[null,null,null,null,null,null,null,null,null,null,null,null,null,null,null,null,null,null,null,null,null,{"$f":"IFERROR(WORKDAY(T5267,AE5267,Hoja1!F5259:F5375),\"\")","v":""},"",null,"",{"$f":"IF(P5267=\"\",\"\",NETWORKDAYS(C5267+1,P5267,Hoja1!F5259:F5375))","v":""},{"$f":"IFERROR(IF(NETWORKDAYS(R5267+1,P5267,Hoja1!F5259:F5375)<=0,\"\",NETWORKDAYS(R5267+1,P5267,Hoja1!F5259:F5375)),0)","v":""},null,null,{"$f":"IFERROR(VLOOKUP(L5267,Hoja1!$A$50:$C$63,2),\"\")","v":""},{"$f":"IFERROR(VLOOKUP(L5267,Hoja1!$A$50:$C$63,3),\"\")","v":""}]
[null,null,null,null,null,null,null,null,null,null,null,null,null,null,null,null,null,null,null,null,null,{"$f":"IFERROR(WORKDAY(T5272,AE5272,Hoja1!F5264:F5380),\"\")","v":""},"",null,"",{"$f":"IF(P5272=\"\",\"\",NETWORKDAYS(C5272+1,P5272,Hoja1!F5264:F5380))","v":""},{"$f":"IFERROR(IF(NETWORKDAYS(R5272+1,P5272,Hoja1!F5264:F5380)<=0,\"\",NETWORKDAYS(R5272+1,P5272,Hoja1!F5264:F5380)),0)","v":""},null,null,{"$f":"IFERROR(VLOOKUP(L5272,Hoja1!$A$50:$C$63,2),\"\")","v":""},{"$f":"IFERROR(VLOOKUP(L5272,Hoja1!$A$50:$C$63,3),\"\")","v":""}]
[null,null,null,null,null,null,null,null,null,null,null,null,null,null,null,null,null,null,null,null,null,{"$f":"IFERROR(WORKDAY(T5279,AE5279,Hoja1!F5271:F5387),\"\")","v":""},"",null,"",{"$f":"IF(P5279=\"\",\"\",NETWORKDAYS(C5279+1,P5279,Hoja1!F5271:F5387))","v":""},{"$f":"IFERROR(IF(NETWORKDAYS(R5279+1,P5279,Hoja1!F5271:F5387)<=0,\"\",NETWORKDAYS(R5279+1,P5279,Hoja1!F5271:F5387)),0)","v":""},null,null,{"$f":"IFERROR(VLOOKUP(L5279,Hoja1!$A$50:$C$63,2),\"\")","v":""},{"$f":"IFERROR(VLOOKUP(L5279,Hoja1!$A$50:$C$63,3),\"\")","v":""}]
[null,null,null,null,null,null,null,null,null,null,null,null,null,null,null,null,null,null,null,null,null,{"$f":"IFERROR(WORKDAY(T5283,AE5283,Hoja1!F5275:F5391),\"\")","v":""},"",null,"",{"$f":"IF(P5283=\"\",\"\",NETWORKDAYS(C5283+1,P5283,Hoja1!F5275:F5391))","v":""},{"$f":"IFERROR(IF(NETWORKDAYS(R5283+1,P5283,Hoja1!F5275:F5391)<=0,\"\",NETWORKDAYS(R5283+1,P5283,Hoja1!F5275:F5391)),0)","v":""},null,null,{"$f":"IFERROR(VLOOKUP(L5283,Hoja1!$A$50:$C$63,2),\"\")","v":""},{"$f":"IFERROR(VLOOKUP(L5283,Hoja1!$A$50:$C$63,3),\"\")","v":""}]
[null,null,null,null,null,null,null,null,null,null,null,null,null,null,null,null,null,null,null,null,null,{"$f":"IFERROR(WORKDAY(T5284,AE5284,Hoja1!F5276:F5392),\"\")","v":""},"",null,"",{"$f":"IF(P5284=\"\",\"\",NETWORKDAYS(C5284+1,P5284,Hoja1!F5276:F5392))","v":""},{"$f":"IFERROR(IF(NETWORKDAYS(R5284+1,P5284,Hoja1!F5276:F5392)<=0,\"\",NETWORKDAYS(R5284+1,P5284,Hoja1!F5276:F5392)),0)","v":""},null,null,{"$f":"IFERROR(VLOOKUP(L5284,Hoja1!$A$50:$C$63,2),\"\")","v":""},{"$f":"IFERROR(VLOOKUP(L5284,Hoja1!$A$50:$C$63,3),\"\")","v":""}]
[null,null,null,null,null,null,null,null,null,null,null,null,null,null,null,null,null,null,null,null,null,{"$f":"IFERROR(WORKDAY(T5290,AE5290,Hoja1!F5282:F5398),\"\")","v":""},"",null,"",{"$f":"IF(P5290=\"\",\"\",NETWORKDAYS(C5290+1,P5290,Hoja1!F5282:F5398))","v":""},{"$f":"IFERROR(IF(NETWORKDAYS(R5290+1,P5290,Hoja1!F5282:F5398)<=0,\"\",NETWORKDAYS(R5290+1,P5290,Hoja1!F5282:F5398)),0)","v":""},null,null,{"$f":"IFERROR(VLOOKUP(L5290,Hoja1!$A$50:$C$63,2),\"\")","v":""},{"$f":"IFERROR(VLOOKUP(L5290,Hoja1!$A$50:$C$63,3),\"\")","v":""}]
[null,null,null,null,null,null,null,null,null,null,null,null,null,null,null,null,null,null,null,null,null,{"$f":"IFERROR(WORKDAY(T5294,AE5294,Hoja1!F5286:F5402),\"\")","v":""},"",null,"",{"$f":"IF(P5294=\"\",\"\",NETWORKDAYS(C5294+1,P5294,Hoja1!F5286:F5402))","v":""},{"$f":"IFERROR(IF(NETWORKDAYS(R5294+1,P5294,Hoja1!F5286:F5402)<=0,\"\",NETWORKDAYS(R5294+1,P5294,Hoja1!F5286:F5402)),0)","v":""},null,null,{"$f":"IFERROR(VLOOKUP(L5294,Hoja1!$A$50:$C$63,2),\"\")","v":""},{"$f":"IFERROR(VLOOKUP(L5294,Hoja1!$A$50:$C$63,3),\"\")","v":""}]
[null,null,null,null,null,null,null,null,null,null,null,null,null,null,null,null,null,null,null,null,null,{"$f":"IFERROR(WORKDAY(T5301,AE5301,Hoja1!F5293:F5409),\"\")","v":""},"",null,"",{"$f":"IF(P5301=\"\",\"\",NETWORKDAYS(C5301+1,P5301,Hoja1!F5293:F5409))","v":""},{"$f":"IFERROR(IF(NETWORKDAYS(R5301+1,P5301,Hoja1!F5293:F5409)<=0,\"\",NETWORKDAYS(R5301+1,P5301,Hoja1!F5293:F5409)),0)","v":""},null,null,{"$f":"IFERROR(VLOOKUP(L5301,Hoja1!$A$50:$C$63,2),\"\")","v":""},{"$f":"IFERROR(VLOOKUP(L5301,Hoja1!$A$50:$C$63,3),\"\")","v":""}]
[null,null,null,null,null,null,null,null,null,null,null,null,null,null,null,null,null,null,null,null,null,{"$f":"IFERROR(WORKDAY(T5302,AE5302,Hoja1!F5294:F5410),\"\")","v":""},"",null,"",{"$f":"IF(P5302=\"\",\"\",NETWORKDAYS(C5302+1,P5302,Hoja1!F5294:F5410))","v":""},{"$f":"IFERROR(IF(NETWORKDAYS(R5302+1,P5302,Hoja1!F5294:F5410)<=0,\"\",NETWORKDAYS(R5302+1,P5302,Hoja1!F5294:F5410)),0)","v":""},null,null,{"$f":"IFERROR(VLOOKUP(L5302,Hoja1!$A$50:$C$63,2),\"\")","v":""},{"$f":"IFERROR(VLOOKUP(L5302,Hoja1!$A$50:$C$63,3),\"\")","v":""}]
[null,null,null,null,null,null,null,null,null,null,null,null,null,null,null,null,null,null,null,null,null,{"$f":"IFERROR(WORKDAY(T5308,AE5308,Hoja1!F5300:F5416),\"\")","v":""},"",null,"",{"$f":"IF(P5308=\"\",\"\",NETWORKDAYS(C5308+1,P5308,Hoja1!F5300:F5416))","v":""},{"$f":"IFERROR(IF(NETWORKDAYS(R5308+1,P5308,Hoja1!F5300:F5416)<=0,\"\",NETWORKDAYS(R5308+1,P5308,Hoja1!F5300:F5416)),0)","v":""},null,null,{"$f":"IFERROR(VLOOKUP(L5308,Hoja1!$A$50:$C$63,2),\"\")","v":""},{"$f":"IFERROR(VLOOKUP(L5308,Hoja1!$A$50:$C$63,3),\"\")","v":""}]
[null,null,null,null,null,null,null,null,null,null,null,null,null,null,null,null,null,null,null,null,null,{"$f":"IFERROR(WORKDAY(T5313,AE5313,Hoja1!F5305:F5421),\"\")","v":""},"",null,"",{"$f":"IF(P5313=\"\",\"\",NETWORKDAYS(C5313+1,P5313,Hoja1!F5305:F5421))","v":""},{"$f":"IFERROR(IF(NETWORKDAYS(R5313+1,P5313,Hoja1!F5305:F5421)<=0,\"\",NETWORKDAYS(R5313+1,P5313,Hoja1!F5305:F5421)),0)","v":""},null,null,{"$f":"IFERROR(VLOOKUP(L5313,Hoja1!$A$50:$C$63,2),\"\")","v":""},{"$f":"IFERROR(VLOOKUP(L5313,Hoja1!$A$50:$C$63,3),\"\")","v":""}]
[null,null,null,null,null,null,null,null,null,null,null,null,null,null,null,null,null,null,null,null,null,{"$f":"IFERROR(WORKDAY(T5318,AE5318,Hoja1!F5310:F5426),\"\")","v":""},"",null,"",{"$f":"IF(P5318=\"\",\"\",NETWORKDAYS(C5318+1,P5318,Hoja1!F5310:F5426))","v":""},{"$f":"IFERROR(IF(NETWORKDAYS(R5318+1,P5318,Hoja1!F5310:F5426)<=0,\"\",NETWORKDAYS(R5318+1,P5318,Hoja1!F5310:F5426)),0)","v":""},null,null,{"$f":"IFERROR(VLOOKUP(L5318,Hoja1!$A$50:$C$63,2),\"\")","v":""},{"$f":"IFERROR(VLOOKUP(L5318,Hoja1!$A$50:$C$63,3),\"\")","v":""}]
[null,null,null,null,null,null,null,null,null,null,null,null,null,null,null,null,null,null,null,null,null,{"$f":"IFERROR(WORKDAY(T5320,AE5320,Hoja1!F5312:F5428),\"\")","v":""},"",null,"",{"$f":"IF(P5320=\"\",\"\",NETWORKDAYS(C5320+1,P5320,Hoja1!F5312:F5428))","v":""},{"$f":"IFERROR(IF(NETWORKDAYS(R5320+1,P5320,Hoja1!F5312:F5428)<=0,\"\",NETWORKDAYS(R5320+1,P5320,Hoja1!F5312:F5428)),0)","v":""},null,null,{"$f":"IFERROR(VLOOKUP(L5320,Hoja1!$A$50:$C$63,2),\"\")","v":""},{"$f":"IFERROR(VLOOKUP(L5320,Hoja1!$A$50:$C$63,3),\"\")","v":""}]
[null,null,null,null,null,null,null,null,null,null,null,null,null,null,null,null,null,null,null,null,null,{"$f":"IFERROR(WORKDAY(T5327,AE5327,Hoja1!F5319:F5435),\"\")","v":""},"",null,"",{"$f":"IF(P5327=\"\",\"\",NETWORKDAYS(C5327+1,P5327,Hoja1!F5319:F5435))","v":""},{"$f":"IFERROR(IF(NETWORKDAYS(R5327+1,P5327,Hoja1!F5319:F5435)<=0,\"\",NETWORKDAYS(R5327+1,P5327,Hoja1!F5319:F5435)),0)","v":""},null,null,{"$f":"IFERROR(VLOOKUP(L5327,Hoja1!$A$50:$C$63,2),\"\")","v":""},{"$f":"IFERROR(VLOOKUP(L5327,Hoja1!$A$50:$C$63,3),\"\")","v":""}]
[null,null,null,null,null,null,null,null,null,null,null,null,null,null,null,null,null,null,null,null,null,{"$f":"IFERROR(WORKDAY(T5331,AE5331,Hoja1!F5323:F5439),\"\")","v":""},"",null,"",{"$f":"IF(P5331=\"\",\"\",NETWORKDAYS(C5331+1,P5331,Hoja1!F5323:F5439))","v":""},{"$f":"IFERROR(IF(NETWORKDAYS(R5331+1,P5331,Hoja1!F5323:F5439)<=0,\"\",NETWORKDAYS(R5331+1,P5331,Hoja1!F5323:F5439)),0)","v":""},null,null,{"$f":"IFERROR(VLOOKUP(L5331,Hoja1!$A$50:$C$63,2),\"\")","v":""},{"$f":"IFERROR(VLOOKUP(L5331,Hoja1!$A$50:$C$63,3),\"\")","v":""}]
[null,null,null,null,null,null,null,null,null,null,null,null,null,null,null,null,null,null,null,null,null,{"$f":"IFERROR(WORKDAY(T5336,AE5336,Hoja1!F5328:F5444),\"\")","v":""},"",null,"",{"$f":"IF(P5336=\"\",\"\",NETWORKDAYS(C5336+1,P5336,Hoja1!F5328:F5444))","v":""},{"$f":"IFERROR(IF(NETWORKDAYS(R5336+1,P5336,Hoja1!F5328:F5444)<=0,\"\",NETWORKDAYS(R5336+1,P5336,Hoja1!F5328:F5444)),0)","v":""},null,null,{"$f":"IFERROR(VLOOKUP(L5336,Hoja1!$A$50:$C$63,2),\"\")","v":""},{"$f":"IFERROR(VLOOKUP(L5336,Hoja1!$A$50:$C$63,3),\"\")","v":""}]
[null,null,null,null,null,null,null,null,null,null,null,null,null,null,null,null,null,null,null,null,null,{"$f":"IFERROR(WORKDAY(T5341,AE5341,Hoja1!F5333:F5449),\"\")","v":""},"",null,"",{"$f":"IF(P5341=\"\",\"\",NETWORKDAYS(C5341+1,P5341,Hoja1!F5333:F5449))","v":""},{"$f":"IFERROR(IF(NETWORKDAYS(R5341+1,P5341,Hoja1!F5333:F5449)<=0,\"\",NETWORKDAYS(R5341+1,P5341,Hoja1!F5333:F5449)),0)","v":""},null,null,{"$f":"IFERROR(VLOOKUP(L5341,Hoja1!$A$50:$C$63,2),\"\")","v":""},{"$f":"IFERROR(VLOOKUP(L5341,Hoja1!$A$50:$C$63,3),\"\")","v":""}]
[null,null,null,null,null,null,null,null,null,null,null,null,null,null,null,null,null,null,null,null,null,{"$f":"IFERROR(WORKDAY(T5343,AE5343,Hoja1!F5335:F5451),\"\")","v":""},"",null,"",{"$f":"IF(P5343=\"\",\"\",NETWORKDAYS(C5343+1,P5343,Hoja1!F5335:F5451))","v":""},{"$f":"IFERROR(IF(NETWORKDAYS(R5343+1,P5343,Hoja1!F5335:F5451)<=0,\"\",NETWORKDAYS(R5343+1,P5343,Hoja1!F5335:F5451)),0)","v":""},null,null,{"$f":"IFERROR(VLOOKUP(L5343,Hoja1!$A$50:$C$63,2),\"\")","v":""},{"$f":"IFERROR(VLOOKUP(L5343,Hoja1!$A$50:$C$63,3),\"\")","v":""}]
[null,null,null,null,null,null,null,null,null,null,null,null,null,null,null,null,null,null,null,null,null,{"$f":"IFERROR(WORKDAY(T5346,AE5346,Hoja1!F5338:F5454),\"\")","v":""},"",null,"",{"$f":"IF(P5346=\"\",\"\",NETWORKDAYS(C5346+1,P5346,Hoja1!F5338:F5454))","v":""},{"$f":"IFERROR(IF(NETWORKDAYS(R5346+1,P5346,Hoja1!F5338:F5454)<=0,\"\",NETWORKDAYS(R5346+1,P5346,Hoja1!F5338:F5454)),0)","v":""},null,null,{"$f":"IFERROR(VLOOKUP(L5346,Hoja1!$A$50:$C$63,2),\"\")","v":""},{"$f":"IFERROR(VLOOKUP(L5346,Hoja1!$A$50:$C$63,3),\"\")","v":""}]
[null,null,null,null,null,null,null,null,null,null,null,null,null,null,null,null,null,null,null,null,null,{"$f":"IFERROR(WORKDAY(T5354,AE5354,Hoja1!F5346:F5462),\"\")","v":""},"",null,"",{"$f":"IF(P5354=\"\",\"\",NETWORKDAYS(C5354+1,P5354,Hoja1!F5346:F5462))","v":""},{"$f":"IFERROR(IF(NETWORKDAYS(R5354+1,P5354,Hoja1!F5346:F5462)<=0,\"\",NETWORKDAYS(R5354+1,P5354,Hoja1!F5346:F5462)),0)","v":""},null,null,{"$f":"IFERROR(VLOOKUP(L5354,Hoja1!$A$50:$C$63,2),\"\")","v":""},{"$f":"IFERROR(VLOOKUP(L5354,Hoja1!$A$50:$C$63,3),\"\")","v":""}]
[null,null,null,null,null,null,null,null,null,null,null,null,null,null,null,null,null,null,null,null,null,{"$f":"IFERROR(WORKDAY(T5356,AE5356,Hoja1!F5348:F5464),\"\")","v":""},"",null,"",{"$f":"IF(P5356=\"\",\"\",NETWORKDAYS(C5356+1,P5356,Hoja1!F5348:F5464))","v":""},{"$f":"IFERROR(IF(NETWORKDAYS(R5356+1,P5356,Hoja1!F5348:F5464)<=0,\"\",NETWORKDAYS(R5356+1,P5356,Hoja1!F5348:F5464)),0)","v":""},null,null,{"$f":"IFERROR(VLOOKUP(L5356,Hoja1!$A$50:$C$63,2),\"\")","v":""},{"$f":"IFERROR(VLOOKUP(L5356,Hoja1!$A$50:$C$63,3),\"\")","v":""}]
[null,null,null,null,null,null,null,null,null,null,null,null,null,null,null,null,null,null,null,null,null,{"$f":"IFERROR(WORKDAY(T5361,AE5361,Hoja1!F5353:F5469),\"\")","v":""},"",null,"",{"$f":"IF(P5361=\"\",\"\",NETWORKDAYS(C5361+1,P5361,Hoja1!F5353:F5469))","v":""},{"$f":"IFERROR(IF(NETWORKDAYS(R5361+1,P5361,Hoja1!F5353:F5469)<=0,\"\",NETWORKDAYS(R5361+1,P5361,Hoja1!F5353:F5469)),0)","v":""},null,null,{"$f":"IFERROR(VLOOKUP(L5361,Hoja1!$A$50:$C$63,2),\"\")","v":""},{"$f":"IFERROR(VLOOKUP(L5361,Hoja1!$A$50:$C$63,3),\"\")","v":""}]
[null,null,null,null,null,null,null,null,null,null,null,null,null,null,null,null,null,null,null,null,null,{"$f":"IFERROR(WORKDAY(T5366,AE5366,Hoja1!F5358:F5474),\"\")","v":""},"",null,"",{"$f":"IF(P5366=\"\",\"\",NETWORKDAYS(C5366+1,P5366,Hoja1!F5358:F5474))","v":""},{"$f":"IFERROR(IF(NETWORKDAYS(R5366+1,P5366,Hoja1!F5358:F5474)<=0,\"\",NETWORKDAYS(R5366+1,P5366,Hoja1!F5358:F5474)),0)","v":""},null,null,{"$f":"IFERROR(VLOOKUP(L5366,Hoja1!$A$50:$C$63,2),\"\")","v":""},{"$f":"IFERROR(VLOOKUP(L5366,Hoja1!$A$50:$C$63,3),\"\")","v":""}]
[null,null,null,null,null,null,null,null,null,null,null,null,null,null,null,null,null,null,null,null,null,{"$f":"IFERROR(WORKDAY(T5370,AE5370,Hoja1!F5362:F5478),\"\")","v":""},"",null,"",{"$f":"IF(P5370=\"\",\"\",NETWORKDAYS(C5370+1,P5370,Hoja1!F5362:F5478))","v":""},{"$f":"IFERROR(IF(NETWORKDAYS(R5370+1,P5370,Hoja1!F5362:F5478)<=0,\"\",NETWORKDAYS(R5370+1,P5370,Hoja1!F5362:F5478)),0)","v":""},null,null,{"$f":"IFERROR(VLOOKUP(L5370,Hoja1!$A$50:$C$63,2),\"\")","v":""},{"$f":"IFERROR(VLOOKUP(L5370,Hoja1!$A$50:$C$63,3),\"\")","v":""}]
[null,null,null,null,null,null,null,null,null,null,null,null,null,null,null,null,null,null,null,null,null,{"$f":"IFERROR(WORKDAY(T5373,AE5373,Hoja1!F5365:F5481),\"\")","v":""},"",null,"",{"$f":"IF(P5373=\"\",\"\",NETWORKDAYS(C5373+1,P5373,Hoja1!F5365:F5481))","v":""},{"$f":"IFERROR(IF(NETWORKDAYS(R5373+1,P5373,Hoja1!F5365:F5481)<=0,\"\",NETWORKDAYS(R5373+1,P5373,Hoja1!F5365:F5481)),0)","v":""},null,null,{"$f":"IFERROR(VLOOKUP(L5373,Hoja1!$A$50:$C$63,2),\"\")","v":""},{"$f":"IFERROR(VLOOKUP(L5373,Hoja1!$A$50:$C$63,3),\"\")","v":""}]
[null,null,null,null,null,null,null,null,null,null,null,null,null,null,null,null,null,null,null,null,null,{"$f":"IFERROR(WORKDAY(T5380,AE5380,Hoja1!F5372:F5488),\"\")","v":""},"",null,"",{"$f":"IF(P5380=\"\",\"\",NETWORKDAYS(C5380+1,P5380,Hoja1!F5372:F5488))","v":""},{"$f":"IFERROR(IF(NETWORKDAYS(R5380+1,P5380,Hoja1!F5372:F5488)<=0,\"\",NETWORKDAYS(R5380+1,P5380,Hoja1!F5372:F5488)),0)","v":""},null,null,{"$f":"IFERROR(VLOOKUP(L5380,Hoja1!$A$50:$C$63,2),\"\")","v":""},{"$f":"IFERROR(VLOOKUP(L5380,Hoja1!$A$50:$C$63,3),\"\")","v":""}]
[null,null,null,null,null,null,null,null,null,null,null,null,null,null,null,null,null,null,null,null,null,{"$f":"IFERROR(WORKDAY(T5384,AE5384,Hoja1!F5376:F5492),\"\")","v":""},"",null,"",{"$f":"IF(P5384=\"\",\"\",NETWORKDAYS(C5384+1,P5384,Hoja1!F5376:F5492))","v":""},{"$f":"IFERROR(IF(NETWORKDAYS(R5384+1,P5384,Hoja1!F5376:F5492)<=0,\"\",NETWORKDAYS(R5384+1,P5384,Hoja1!F5376:F5492)),0)","v":""},null,null,{"$f":"IFERROR(VLOOKUP(L5384,Hoja1!$A$50:$C$63,2),\"\")","v":""},{"$f":"IFERROR(VLOOKUP(L5384,Hoja1!$A$50:$C$63,3),\"\")","v":""}]
[null,null,null,null,null,null,null,null,null,null,null,null,null,null,null,null,null,null,null,null,null,{"$f":"IFERROR(WORKDAY(T5390,AE5390,Hoja1!F5382:F5498),\"\")","v":""},"",null,"",{"$f":"IF(P5390=\"\",\"\",NETWORKDAYS(C5390+1,P5390,Hoja1!F5382:F5498))","v":""},{"$f":"IFERROR(IF(NETWORKDAYS(R5390+1,P5390,Hoja1!F5382:F5498)<=0,\"\",NETWORKDAYS(R5390+1,P5390,Hoja1!F5382:F5498)),0)","v":""},null,null,{"$f":"IFERROR(VLOOKUP(L5390,Hoja1!$A$50:$C$63,2),\"\")","v":""},{"$f":"IFERROR(VLOOKUP(L5390,Hoja1!$A$50:$C$63,3),\"\")","v":""}]
[null,null,null,null,null,null,null,null,null,null,null,null,null,null,null,null,null,null,null,null,null,{"$f":"IFERROR(WORKDAY(T5391,AE5391,Hoja1!F5383:F5499),\"\")","v":""},"",null,"",{"$f":"IF(P5391=\"\",\"\",NETWORKDAYS(C5391+1,P5391,Hoja1!F5383:F5499))","v":""},{"$f":"IFERROR(IF(NETWORKDAYS(R5391+1,P5391,Hoja1!F5383:F5499)<=0,\"\",NETWORKDAYS(R5391+1,P5391,Hoja1!F5383:F5499)),0)","v":""},null,null,{"$f":"IFERROR(VLOOKUP(L5391,Hoja1!$A$50:$C$63,2),\"\")","v":""},{"$f":"IFERROR(VLOOKUP(L5391,Hoja1!$A$50:$C$63,3),\"\")","v":""}]
[null,null,null,null,null,null,null,null,null,null,null,null,null,null,null,null,null,null,null,null,null,{"$f":"IFERROR(WORKDAY(T5396,AE5396,Hoja1!F5388:F5504),\"\")","v":""},"",null,"",{"$f":"IF(P5396=\"\",\"\",NETWORKDAYS(C5396+1,P5396,Hoja1!F5388:F5504))","v":""},{"$f":"IFERROR(IF(NETWORKDAYS(R5396+1,P5396,Hoja1!F5388:F5504)<=0,\"\",NETWORKDAYS(R5396+1,P5396,Hoja1!F5388:F5504)),0)","v":""},null,null,{"$f":"IFERROR(VLOOKUP(L5396,Hoja1!$A$50:$C$63,2),\"\")","v":""},{"$f":"IFERROR(VLOOKUP(L5396,Hoja1!$A$50:$C$63,3),\"\")","v":""}]
[null,null,null,null,null,null,null,null,null,null,null,null,null,null,null,null,null,null,null,null,null,{"$f":"IFERROR(WORKDAY(T5399,AE5399,Hoja1!F5391:F5507),\"\")","v":""},"",null,"",{"$f":"IF(P5399=\"\",\"\",NETWORKDAYS(C5399+1,P5399,Hoja1!F5391:F5507))","v":""},{"$f":"IFERROR(IF(NETWORKDAYS(R5399+1,P5399,Hoja1!F5391:F5507)<=0,\"\",NETWORKDAYS(R5399+1,P5399,Hoja1!F5391:F5507)),0)","v":""},null,null,{"$f":"IFERROR(VLOOKUP(L5399,Hoja1!$A$50:$C$63,2),\"\")","v":""},{"$f":"IFERROR(VLOOKUP(L5399,Hoja1!$A$50:$C$63,3),\"\")","v":""}]
[null,null,null,null,null,null,null,null,null,null,null,null,null,null,null,null,null,null,null,null,null,{"$f":"IFERROR(WORKDAY(T5407,AE5407,Hoja1!F5399:F5515),\"\")","v":""},"",null,"",{"$f":"IF(P5407=\"\",\"\",NETWORKDAYS(C5407+1,P5407,Hoja1!F5399:F5515))","v":""},{"$f":"IFERROR(IF(NETWORKDAYS(R5407+1,P5407,Hoja1!F5399:F5515)<=0,\"\",NETWORKDAYS(R5407+1,P5407,Hoja1!F5399:F5515)),0)","v":""},null,null,{"$f":"IFERROR(VLOOKUP(L5407,Hoja1!$A$50:$C$63,2),\"\")","v":""},{"$f":"IFERROR(VLOOKUP(L5407,Hoja1!$A$50:$C$63,3),\"\")","v":""}]
[null,null,null,null,null,null,null,null,null,null,null,null,null,null,null,null,null,null,null,null,null,{"$f":"IFERROR(WORKDAY(T5409,AE5409,Hoja1!F5401:F5517),\"\")","v":""},"",null,"",{"$f":"IF(P5409=\"\",\"\",NETWORKDAYS(C5409+1,P5409,Hoja1!F5401:F5517))","v":""},{"$f":"IFERROR(IF(NETWORKDAYS(R5409+1,P5409,Hoja1!F5401:F5517)<=0,\"\",NETWORKDAYS(R5409+1,P5409,Hoja1!F5401:F5517)),0)","v":""},null,null,{"$f":"IFERROR(VLOOKUP(L5409,Hoja1!$A$50:$C$63,2),\"\")","v":""},{"$f":"IFERROR(VLOOKUP(L5409,Hoja1!$A$50:$C$63,3),\"\")","v":""}]
[null,null,null,null,null,null,null,null,null,null,null,null,null,null,null,null,null,null,null,null,null,{"$f":"IFERROR(WORKDAY(T5414,AE5414,Hoja1!F5406:F5522),\"\")","v":""},"",null,"",{"$f":"IF(P5414=\"\",\"\",NETWORKDAYS(C5414+1,P5414,Hoja1!F5406:F5522))","v":""},{"$f":"IFERROR(IF(NETWORKDAYS(R5414+1,P5414,Hoja1!F5406:F5522)<=0,\"\",NETWORKDAYS(R5414+1,P5414,Hoja1!F5406:F5522)),0)","v":""},null,null,{"$f":"IFERROR(VLOOKUP(L5414,Hoja1!$A$50:$C$63,2),\"\")","v":""},{"$f":"IFERROR(VLOOKUP(L5414,Hoja1!$A$50:$C$63,3),\"\")","v":""}]
[null,null,null,null,null,null,null,null,null,null,null,null,null,null,null,null,null,null,null,null,null,{"$f":"IFERROR(WORKDAY(T5418,AE5418,Hoja1!F5410:F5526),\"\")","v":""},"",null,"",{"$f":"IF(P5418=\"\",\"\",NETWORKDAYS(C5418+1,P5418,Hoja1!F5410:F5526))","v":""},{"$f":"IFERROR(IF(NETWORKDAYS(R5418+1,P5418,Hoja1!F5410:F5526)<=0,\"\",NETWORKDAYS(R5418+1,P5418,Hoja1!F5410:F5526)),0)","v":""},null,null,{"$f":"IFERROR(VLOOKUP(L5418,Hoja1!$A$50:$C$63,2),\"\")","v":""},{"$f":"IFERROR(VLOOKUP(L5418,Hoja1!$A$50:$C$63,3),\"\")","v":""}]
[null,null,null,null,null,null,null,null,null,null,null,null,null,null,null,null,null,null,null,null,null,{"$f":"IFERROR(WORKDAY(T5425,AE5425,Hoja1!F5417:F5533),\"\")","v":""},"",null,"",{"$f":"IF(P5425=\"\",\"\",NETWORKDAYS(C5425+1,P5425,Hoja1!F5417:F5533))","v":""},{"$f":"IFERROR(IF(NETWORKDAYS(R5425+1,P5425,Hoja1!F5417:F5533)<=0,\"\",NETWORKDAYS(R5425+1,P5425,Hoja1!F5417:F5533)),0)","v":""},null,null,{"$f":"IFERROR(VLOOKUP(L5425,Hoja1!$A$50:$C$63,2),\"\")","v":""},{"$f":"IFERROR(VLOOKUP(L5425,Hoja1!$A$50:$C$63,3),\"\")","v":""}]
[null,null,null,null,null,null,null,null,null,null,null,null,null,null,null,null,null,null,null,null,null,{"$f":"IFERROR(WORKDAY(T5428,AE5428,Hoja1!F5420:F5536),\"\")","v":""},"",null,"",{"$f":"IF(P5428=\"\",\"\",NETWORKDAYS(C5428+1,P5428,Hoja1!F5420:F5536))","v":""},{"$f":"IFERROR(IF(NETWORKDAYS(R5428+1,P5428,Hoja1!F5420:F5536)<=0,\"\",NETWORKDAYS(R5428+1,P5428,Hoja1!F5420:F5536)),0)","v":""},null,null,{"$f":"IFERROR(VLOOKUP(L5428,Hoja1!$A$50:$C$63,2),\"\")","v":""},{"$f":"IFERROR(VLOOKUP(L5428,Hoja1!$A$50:$C$63,3),\"\")","v":""}]
[null,null,null,null,null,null,null,null,null,null,null,null,null,null,null,null,null,null,null,null,null,{"$f":"IFERROR(WORKDAY(T5431,AE5431,Hoja1!F5423:F5539),\"\")","v":""},"",null,"",{"$f":"IF(P5431=\"\",\"\",NETWORKDAYS(C5431+1,P5431,Hoja1!F5423:F5539))","v":""},{"$f":"IFERROR(IF(NETWORKDAYS(R5431+1,P5431,Hoja1!F5423:F5539)<=0,\"\",NETWORKDAYS(R5431+1,P5431,Hoja1!F5423:F5539)),0)","v":""},null,null,{"$f":"IFERROR(VLOOKUP(L5431,Hoja1!$A$50:$C$63,2),\"\")","v":""},{"$f":"IFERROR(VLOOKUP(L5431,Hoja1!$A$50:$C$63,3),\"\")","v":""}]
[null,null,null,null,null,null,null,null,null,null,null,null,null,null,null,null,null,null,null,null,null,{"$f":"IFERROR(WORKDAY(T5432,AE5432,Hoja1!F5424:F5540),\"\")","v":""},"",null,"",{"$f":"IF(P5432=\"\",\"\",NETWORKDAYS(C5432+1,P5432,Hoja1!F5424:F5540))","v":""},{"$f":"IFERROR(IF(NETWORKDAYS(R5432+1,P5432,Hoja1!F5424:F5540)<=0,\"\",NETWORKDAYS(R5432+1,P5432,Hoja1!F5424:F5540)),0)","v":""},null,null,{"$f":"IFERROR(VLOOKUP(L5432,Hoja1!$A$50:$C$63,2),\"\")","v":""},{"$f":"IFERROR(VLOOKUP(L5432,Hoja1!$A$50:$C$63,3),\"\")","v":""}]
[null,null,null,null,null,null,null,null,null,null,null,null,null,null,null,null,null,null,null,null,null,{"$f":"IFERROR(WORKDAY(T5433,AE5433,Hoja1!F5425:F5541),\"\")","v":""},"",null,"",{"$f":"IF(P5433=\"\",\"\",NETWORKDAYS(C5433+1,P5433,Hoja1!F5425:F5541))","v":""},{"$f":"IFERROR(IF(NETWORKDAYS(R5433+1,P5433,Hoja1!F5425:F5541)<=0,\"\",NETWORKDAYS(R5433+1,P5433,Hoja1!F5425:F5541)),0)","v":""},null,null,{"$f":"IFERROR(VLOOKUP(L5433,Hoja1!$A$50:$C$63,2),\"\")","v":""},{"$f":"IFERROR(VLOOKUP(L5433,Hoja1!$A$50:$C$63,3),\"\")","v":""}]
[null,null,null,null,null,null,null,null,null,null,null,null,null,null,null,null,null,null,null,null,null,{"$f":"IFERROR(WORKDAY(T5434,AE5434,Hoja1!F5426:F5542),\"\")","v":""},"",null,"",{"$f":"IF(P5434=\"\",\"\",NETWORKDAYS(C5434+1,P5434,Hoja1!F5426:F5542))","v":""},{"$f":"IFERROR(IF(NETWORKDAYS(R5434+1,P5434,Hoja1!F5426:F5542)<=0,\"\",NETWORKDAYS(R5434+1,P5434,Hoja1!F5426:F5542)),0)","v":""},null,null,{"$f":"IFERROR(VLOOKUP(L5434,Hoja1!$A$50:$C$63,2),\"\")","v":""},{"$f":"IFERROR(VLOOKUP(L5434,Hoja1!$A$50:$C$63,3),\"\")","v":""}]
[null,null,null,null,null,null,null,null,null,null,null,null,null,null,null,null,null,null,null,null,null,{"$f":"IFERROR(WORKDAY(T5435,AE5435,Hoja1!F5427:F5543),\"\")","v":""},"",null,"",{"$f":"IF(P5435=\"\",\"\",NETWORKDAYS(C5435+1,P5435,Hoja1!F5427:F5543))","v":""},{"$f":"IFERROR(IF(NETWORKDAYS(R5435+1,P5435,Hoja1!F5427:F5543)<=0,\"\",NETWORKDAYS(R5435+1,P5435,Hoja1!F5427:F5543)),0)","v":""},null,null,{"$f":"IFERROR(VLOOKUP(L5435,Hoja1!$A$50:$C$63,2),\"\")","v":""},{"$f":"IFERROR(VLOOKUP(L5435,Hoja1!$A$50:$C$63,3),\"\")","v":""}]
[null,null,null,null,null,null,null,null,null,null,null,null,null,null,null,null,null,null,null,null,null,{"$f":"IFERROR(WORKDAY(T5436,AE5436,Hoja1!F5428:F5544),\"\")","v":""},"",null,"",{"$f":"IF(P5436=\"\",\"\",NETWORKDAYS(C5436+1,P5436,Hoja1!F5428:F5544))","v":""},{"$f":"IFERROR(IF(NETWORKDAYS(R5436+1,P5436,Hoja1!F5428:F5544)<=0,\"\",NETWORKDAYS(R5436+1,P5436,Hoja1!F5428:F5544)),0)","v":""},null,null,{"$f":"IFERROR(VLOOKUP(L5436,Hoja1!$A$50:$C$63,2),\"\")","v":""},{"$f":"IFERROR(VLOOKUP(L5436,Hoja1!$A$50:$C$63,3),\"\")","v":""}]
[null,null,null,null,null,null,null,null,null,null,null,null,null,null,null,null,null,null,null,null,null,{"$f":"IFERROR(WORKDAY(T5437,AE5437,Hoja1!F5429:F5545),\"\")","v":""},"",null,"",{"$f":"IF(P5437=\"\",\"\",NETWORKDAYS(C5437+1,P5437,Hoja1!F5429:F5545))","v":""},{"$f":"IFERROR(IF(NETWORKDAYS(R5437+1,P5437,Hoja1!F5429:F5545)<=0,\"\",NETWORKDAYS(R5437+1,P5437,Hoja1!F5429:F5545)),0)","v":""},null,null,{"$f":"IFERROR(VLOOKUP(L5437,Hoja1!$A$50:$C$63,2),\"\")","v":""},{"$f":"IFERROR(VLOOKUP(L5437,Hoja1!$A$50:$C$63,3),\"\")","v":""}]
[null,null,null,null,null,null,null,null,null,null,null,null,null,null,null,null,null,null,null,null,null,{"$f":"IFERROR(WORKDAY(T5438,AE5438,Hoja1!F5430:F5546),\"\")","v":""},"",null,"",{"$f":"IF(P5438=\"\",\"\",NETWORKDAYS(C5438+1,P5438,Hoja1!F5430:F5546))","v":""},{"$f":"IFERROR(IF(NETWORKDAYS(R5438+1,P5438,Hoja1!F5430:F5546)<=0,\"\",NETWORKDAYS(R5438+1,P5438,Hoja1!F5430:F5546)),0)","v":""},null,null,{"$f":"IFERROR(VLOOKUP(L5438,Hoja1!$A$50:$C$63,2),\"\")","v":""},{"$f":"IFERROR(VLOOKUP(L5438,Hoja1!$A$50:$C$63,3),\"\")","v":""}]
[null,null,null,null,null,null,null,null,null,null,null,null,null,null,null,null,null,null,null,null,null,{"$f":"IFERROR(WORKDAY(T5439,AE5439,Hoja1!F5431:F5547),\"\")","v":""},"",null,"",{"$f":"IF(P5439=\"\",\"\",NETWORKDAYS(C5439+1,P5439,Hoja1!F5431:F5547))","v":""},{"$f":"IFERROR(IF(NETWORKDAYS(R5439+1,P5439,Hoja1!F5431:F5547)<=0,\"\",NETWORKDAYS(R5439+1,P5439,Hoja1!F5431:F5547)),0)","v":""},null,null,{"$f":"IFERROR(VLOOKUP(L5439,Hoja1!$A$50:$C$63,2),\"\")","v":""},{"$f":"IFERROR(VLOOKUP(L5439,Hoja1!$A$50:$C$63,3),\"\")","v":""}]
[null,null,null,null,null,null,null,null,null,null,null,null,null,null,null,null,null,null,null,null,null,{"$f":"IFERROR(WORKDAY(T5440,AE5440,Hoja1!F5432:F5548),\"\")","v":""},"",null,"",{"$f":"IF(P5440=\"\",\"\",NETWORKDAYS(C5440+1,P5440,Hoja1!F5432:F5548))","v":""},{"$f":"IFERROR(IF(NETWORKDAYS(R5440+1,P5440,Hoja1!F5432:F5548)<=0,\"\",NETWORKDAYS(R5440+1,P5440,Hoja1!F5432:F5548)),0)","v":""},null,null,{"$f":"IFERROR(VLOOKUP(L5440,Hoja1!$A$50:$C$63,2),\"\")","v":""},{"$f":"IFERROR(VLOOKUP(L5440,Hoja1!$A$50:$C$63,3),\"\")","v":""}]
[null,null,null,null,null,null,null,null,null,null,null,null,null,null,null,null,null,null,null,null,null,{"$f":"IFERROR(WORKDAY(T5441,AE5441,Hoja1!F5433:F5549),\"\")","v":""},"",null,"",{"$f":"IF(P5441=\"\",\"\",NETWORKDAYS(C5441+1,P5441,Hoja1!F5433:F5549))","v":""},{"$f":"IFERROR(IF(NETWORKDAYS(R5441+1,P5441,Hoja1!F5433:F5549)<=0,\"\",NETWORKDAYS(R5441+1,P5441,Hoja1!F5433:F5549)),0)","v":""},null,null,{"$f":"IFERROR(VLOOKUP(L5441,Hoja1!$A$50:$C$63,2),\"\")","v":""},{"$f":"IFERROR(VLOOKUP(L5441,Hoja1!$A$50:$C$63,3),\"\")","v":""}]
[null,null,null,null,null,null,null,null,null,null,null,null,null,null,null,null,null,null,null,null,null,{"$f":"IFERROR(WORKDAY(T5442,AE5442,Hoja1!F5434:F5550),\"\")","v":""},"",null,"",{"$f":"IF(P5442=\"\",\"\",NETWORKDAYS(C5442+1,P5442,Hoja1!F5434:F5550))","v":""},{"$f":"IFERROR(IF(NETWORKDAYS(R5442+1,P5442,Hoja1!F5434:F5550)<=0,\"\",NETWORKDAYS(R5442+1,P5442,Hoja1!F5434:F5550)),0)","v":""},null,null,{"$f":"IFERROR(VLOOKUP(L5442,Hoja1!$A$50:$C$63,2),\"\")","v":""},{"$f":"IFERROR(VLOOKUP(L5442,Hoja1!$A$50:$C$63,3),\"\")","v":""}]
[null,null,null,null,null,null,null,null,null,null,null,null,null,null,null,null,null,null,null,null,null,{"$f":"IFERROR(WORKDAY(T5443,AE5443,Hoja1!F5435:F5551),\"\")","v":""},"",null,"",{"$f":"IF(P5443=\"\",\"\",NETWORKDAYS(C5443+1,P5443,Hoja1!F5435:F5551))","v":""},{"$f":"IFERROR(IF(NETWORKDAYS(R5443+1,P5443,Hoja1!F5435:F5551)<=0,\"\",NETWORKDAYS(R5443+1,P5443,Hoja1!F5435:F5551)),0)","v":""},null,null,{"$f":"IFERROR(VLOOKUP(L5443,Hoja1!$A$50:$C$63,2),\"\")","v":""},{"$f":"IFERROR(VLOOKUP(L5443,Hoja1!$A$50:$C$63,3),\"\")","v":""}]
[null,null,null,null,null,null,null,null,null,null,null,null,null,null,null,null,null,null,null,null,null,{"$f":"IFERROR(WORKDAY(T5444,AE5444,Hoja1!F5436:F5552),\"\")","v":""},"",null,"",{"$f":"IF(P5444=\"\",\"\",NETWORKDAYS(C5444+1,P5444,Hoja1!F5436:F5552))","v":""},{"$f":"IFERROR(IF(NETWORKDAYS(R5444+1,P5444,Hoja1!F5436:F5552)<=0,\"\",NETWORKDAYS(R5444+1,P5444,Hoja1!F5436:F5552)),0)","v":""},null,null,{"$f":"IFERROR(VLOOKUP(L5444,Hoja1!$A$50:$C$63,2),\"\")","v":""},{"$f":"IFERROR(VLOOKUP(L5444,Hoja1!$A$50:$C$63,3),\"\")","v":""}]
[null,null,null,null,null,null,null,null,null,null,null,null,null,null,null,null,null,null,null,null,null,{"$f":"IFERROR(WORKDAY(T5445,AE5445,Hoja1!F5437:F5553),\"\")","v":""},"",null,"",{"$f":"IF(P5445=\"\",\"\",NETWORKDAYS(C5445+1,P5445,Hoja1!F5437:F5553))","v":""},{"$f":"IFERROR(IF(NETWORKDAYS(R5445+1,P5445,Hoja1!F5437:F5553)<=0,\"\",NETWORKDAYS(R5445+1,P5445,Hoja1!F5437:F5553)),0)","v":""},null,null,{"$f":"IFERROR(VLOOKUP(L5445,Hoja1!$A$50:$C$63,2),\"\")","v":""},{"$f":"IFERROR(VLOOKUP(L5445,Hoja1!$A$50:$C$63,3),\"\")","v":""}]
[null,null,null,null,null,null,null,null,null,null,null,null,null,null,null,null,null,null,null,null,null,{"$f":"IFERROR(WORKDAY(T5446,AE5446,Hoja1!F5438:F5554),\"\")","v":""},"",null,"",{"$f":"IF(P5446=\"\",\"\",NETWORKDAYS(C5446+1,P5446,Hoja1!F5438:F5554))","v":""},{"$f":"IFERROR(IF(NETWORKDAYS(R5446+1,P5446,Hoja1!F5438:F5554)<=0,\"\",NETWORKDAYS(R5446+1,P5446,Hoja1!F5438:F5554)),0)","v":""},null,null,{"$f":"IFERROR(VLOOKUP(L5446,Hoja1!$A$50:$C$63,2),\"\")","v":""},{"$f":"IFERROR(VLOOKUP(L5446,Hoja1!$A$50:$C$63,3),\"\")","v":""}]
[null,null,null,null,null,null,null,null,null,null,null,null,null,null,null,null,null,null,null,null,null,{"$f":"IFERROR(WORKDAY(T5447,AE5447,Hoja1!F5439:F5555),\"\")","v":""},"",null,"",{"$f":"IF(P5447=\"\",\"\",NETWORKDAYS(C5447+1,P5447,Hoja1!F5439:F5555))","v":""},{"$f":"IFERROR(IF(NETWORKDAYS(R5447+1,P5447,Hoja1!F5439:F5555)<=0,\"\",NETWORKDAYS(R5447+1,P5447,Hoja1!F5439:F5555)),0)","v":""},null,null,{"$f":"IFERROR(VLOOKUP(L5447,Hoja1!$A$50:$C$63,2),\"\")","v":""},{"$f":"IFERROR(VLOOKUP(L5447,Hoja1!$A$50:$C$63,3),\"\")","v":""}]
[null,null,null,null,null,null,null,null,null,null,null,null,null,null,null,null,null,null,null,null,null,{"$f":"IFERROR(WORKDAY(T5448,AE5448,Hoja1!F5440:F5556),\"\")","v":""},"",null,"",{"$f":"IF(P5448=\"\",\"\",NETWORKDAYS(C5448+1,P5448,Hoja1!F5440:F5556))","v":""},{"$f":"IFERROR(IF(NETWORKDAYS(R5448+1,P5448,Hoja1!F5440:F5556)<=0,\"\",NETWORKDAYS(R5448+1,P5448,Hoja1!F5440:F5556)),0)","v":""},null,null,{"$f":"IFERROR(VLOOKUP(L5448,Hoja1!$A$50:$C$63,2),\"\")","v":""},{"$f":"IFERROR(VLOOKUP(L5448,Hoja1!$A$50:$C$63,3),\"\")","v":""}]
[null,null,null,null,null,null,null,null,null,null,null,null,null,null,null,null,null,null,null,null,null,{"$f":"IFERROR(WORKDAY(T5449,AE5449,Hoja1!F5441:F5557),\"\")","v":""},"",null,"",{"$f":"IF(P5449=\"\",\"\",NETWORKDAYS(C5449+1,P5449,Hoja1!F5441:F5557))","v":""},{"$f":"IFERROR(IF(NETWORKDAYS(R5449+1,P5449,Hoja1!F5441:F5557)<=0,\"\",NETWORKDAYS(R5449+1,P5449,Hoja1!F5441:F5557)),0)","v":""},null,null,{"$f":"IFERROR(VLOOKUP(L5449,Hoja1!$A$50:$C$63,2),\"\")","v":""},{"$f":"IFERROR(VLOOKUP(L5449,Hoja1!$A$50:$C$63,3),\"\")","v":""}]
[null,null,null,null,null,null,null,null,null,null,null,null,null,null,null,null,null,null,null,null,null,{"$f":"IFERROR(WORKDAY(T5450,AE5450,Hoja1!F5442:F5558),\"\")","v":""},{"$f":"+IF(T5450=\"\",\"\",IF(U5450=\"\",\"SIN RESPUESTA\",(IF(U5450<=V5450,\"A TIEMPO\",\"FUERA DE TIEMPO\"))))","v":""},null,{"$f":"+IF(C5450=\"\",\"\",IF(P5450=\"\",\"SIN RESPUESTA\",(IF(P5450<=R5450,\"A TIEMPO\",\"FUERA DE TIEMPO\"))))","v":""},{"$f":"IF(P5450=\"\",\"\",NETWORKDAYS(C5450+1,P5450,Hoja1!F5442:F5558))","v":""},{"$f":"IFERROR(IF(NETWORKDAYS(R5450+1,P5450,Hoja1!F5442:F5558)<=0,\"\",NETWORKDAYS(R5450+1,P5450,Hoja1!F5442:F5558)),0)","v":""},null,null,{"$f":"IFERROR(VLOOKUP(L5450,Hoja1!$A$50:$C$63,2),\"\")","v":""},{"$f":"IFERROR(VLOOKUP(L5450,Hoja1!$A$50:$C$63,3),\"\")","v":""}]
[null,null,null,null,null,null,null,null,null,null,null,null,null,null,null,null,null,null,null,null,null,{"$f":"IFERROR(WORKDAY(T5451,AE5451,Hoja1!F5443:F5559),\"\")","v":""},"",null,"",{"$f":"IF(P5451=\"\",\"\",NETWORKDAYS(C5451+1,P5451,Hoja1!F5443:F5559))","v":""},{"$f":"IFERROR(IF(NETWORKDAYS(R5451+1,P5451,Hoja1!F5443:F5559)<=0,\"\",NETWORKDAYS(R5451+1,P5451,Hoja1!F5443:F5559)),0)","v":""},null,null,{"$f":"IFERROR(VLOOKUP(L5451,Hoja1!$A$50:$C$63,2),\"\")","v":""},{"$f":"IFERROR(VLOOKUP(L5451,Hoja1!$A$50:$C$63,3),\"\")","v":""}]
[null,null,null,null,null,null,null,null,null,null,null,null,null,null,null,null,null,null,null,null,null,{"$f":"IFERROR(WORKDAY(T5452,AE5452,Hoja1!F5444:F5560),\"\")","v":""},"",null,"",{"$f":"IF(P5452=\"\",\"\",NETWORKDAYS(C5452+1,P5452,Hoja1!F5444:F5560))","v":""},{"$f":"IFERROR(IF(NETWORKDAYS(R5452+1,P5452,Hoja1!F5444:F5560)<=0,\"\",NETWORKDAYS(R5452+1,P5452,Hoja1!F5444:F5560)),0)","v":""},null,null,{"$f":"IFERROR(VLOOKUP(L5452,Hoja1!$A$50:$C$63,2),\"\")","v":""},{"$f":"IFERROR(VLOOKUP(L5452,Hoja1!$A$50:$C$63,3),\"\")","v":""}]
[null,null,null,null,null,null,null,null,null,null,null,null,null,null,null,null,null,null,null,null,null,{"$f":"IFERROR(WORKDAY(T5453,AE5453,Hoja1!F5445:F5561),\"\")","v":""},"",null,"",{"$f":"IF(P5453=\"\",\"\",NETWORKDAYS(C5453+1,P5453,Hoja1!F5445:F5561))","v":""},{"$f":"IFERROR(IF(NETWORKDAYS(R5453+1,P5453,Hoja1!F5445:F5561)<=0,\"\",NETWORKDAYS(R5453+1,P5453,Hoja1!F5445:F5561)),0)","v":""},null,null,{"$f":"IFERROR(VLOOKUP(L5453,Hoja1!$A$50:$C$63,2),\"\")","v":""},{"$f":"IFERROR(VLOOKUP(L5453,Hoja1!$A$50:$C$63,3),\"\")","v":""}]
[null,null,null,null,null,null,null,null,null,null,null,null,null,null,null,null,null,null,null,null,null,{"$f":"IFERROR(WORKDAY(T5454,AE5454,Hoja1!F5446:F5562),\"\")","v":""},"",null,"",{"$f":"IF(P5454=\"\",\"\",NETWORKDAYS(C5454+1,P5454,Hoja1!F5446:F5562))","v":""},{"$f":"IFERROR(IF(NETWORKDAYS(R5454+1,P5454,Hoja1!F5446:F5562)<=0,\"\",NETWORKDAYS(R5454+1,P5454,Hoja1!F5446:F5562)),0)","v":""},null,null,{"$f":"IFERROR(VLOOKUP(L5454,Hoja1!$A$50:$C$63,2),\"\")","v":""},{"$f":"IFERROR(VLOOKUP(L5454,Hoja1!$A$50:$C$63,3),\"\")","v":""}]
[null,null,null,null,null,null,null,null,null,null,null,null,null,null,null,null,null,null,null,null,null,{"$f":"IFERROR(WORKDAY(T5455,AE5455,Hoja1!F5447:F5563),\"\")","v":""},"",null,"",{"$f":"IF(P5455=\"\",\"\",NETWORKDAYS(C5455+1,P5455,Hoja1!F5447:F5563))","v":""},{"$f":"IFERROR(IF(NETWORKDAYS(R5455+1,P5455,Hoja1!F5447:F5563)<=0,\"\",NETWORKDAYS(R5455+1,P5455,Hoja1!F5447:F5563)),0)","v":""},null,null,{"$f":"IFERROR(VLOOKUP(L5455,Hoja1!$A$50:$C$63,2),\"\")","v":""},{"$f":"IFERROR(VLOOKUP(L5455,Hoja1!$A$50:$C$63,3),\"\")","v":""}]
[null,null,null,null,null,null,null,null,null,null,null,null,null,null,null,null,null,null,null,null,null,{"$f":"IFERROR(WORKDAY(T5456,AE5456,Hoja1!F5448:F5564),\"\")","v":""},"",null,"",{"$f":"IF(P5456=\"\",\"\",NETWORKDAYS(C5456+1,P5456,Hoja1!F5448:F5564))","v":""},{"$f":"IFERROR(IF(NETWORKDAYS(R5456+1,P5456,Hoja1!F5448:F5564)<=0,\"\",NETWORKDAYS(R5456+1,P5456,Hoja1!F5448:F5564)),0)","v":""},null,null,{"$f":"IFERROR(VLOOKUP(L5456,Hoja1!$A$50:$C$63,2),\"\")","v":""},{"$f":"IFERROR(VLOOKUP(L5456,Hoja1!$A$50:$C$63,3),\"\")","v":""}]
[null,null,null,null,null,null,null,null,null,null,null,null,null,null,null,null,null,null,null,null,null,{"$f":"IFERROR(WORKDAY(T5457,AE5457,Hoja1!F5449:F5565),\"\")","v":""},"",null,"",{"$f":"IF(P5457=\"\",\"\",NETWORKDAYS(C5457+1,P5457,Hoja1!F5449:F5565))","v":""},{"$f":"IFERROR(IF(NETWORKDAYS(R5457+1,P5457,Hoja1!F5449:F5565)<=0,\"\",NETWORKDAYS(R5457+1,P5457,Hoja1!F5449:F5565)),0)","v":""},null,null,{"$f":"IFERROR(VLOOKUP(L5457,Hoja1!$A$50:$C$63,2),\"\")","v":""},{"$f":"IFERROR(VLOOKUP(L5457,Hoja1!$A$50:$C$63,3),\"\")","v":""}]
[null,null,null,null,null,null,null,null,null,null,null,null,null,null,null,null,null,null,null,null,null,{"$f":"IFERROR(WORKDAY(T5458,AE5458,Hoja1!F5450:F5566),\"\")","v":""},"",null,"",{"$f":"IF(P5458=\"\",\"\",NETWORKDAYS(C5458+1,P5458,Hoja1!F5450:F5566))","v":""},{"$f":"IFERROR(IF(NETWORKDAYS(R5458+1,P5458,Hoja1!F5450:F5566)<=0,\"\",NETWORKDAYS(R5458+1,P5458,Hoja1!F5450:F5566)),0)","v":""},null,null,{"$f":"IFERROR(VLOOKUP(L5458,Hoja1!$A$50:$C$63,2),\"\")","v":""},{"$f":"IFERROR(VLOOKUP(L5458,Hoja1!$A$50:$C$63,3),\"\")","v":""}]
[null,null,null,null,null,null,null,null,null,null,null,null,null,null,null,null,null,null,null,null,null,{"$f":"IFERROR(WORKDAY(T5459,AE5459,Hoja1!F5451:F5567),\"\")","v":""},"",null,"",{"$f":"IF(P5459=\"\",\"\",NETWORKDAYS(C5459+1,P5459,Hoja1!F5451:F5567))","v":""},{"$f":"IFERROR(IF(NETWORKDAYS(R5459+1,P5459,Hoja1!F5451:F5567)<=0,\"\",NETWORKDAYS(R5459+1,P5459,Hoja1!F5451:F5567)),0)","v":""},null,null,{"$f":"IFERROR(VLOOKUP(L5459,Hoja1!$A$50:$C$63,2),\"\")","v":""},{"$f":"IFERROR(VLOOKUP(L5459,Hoja1!$A$50:$C$63,3),\"\")","v":""}]
[null,null,null,null,null,null,null,null,null,null,null,null,null,null,null,null,null,null,null,null,null,{"$f":"IFERROR(WORKDAY(T5460,AE5460,Hoja1!F5452:F5568),\"\")","v":""},"",null,"",{"$f":"IF(P5460=\"\",\"\",NETWORKDAYS(C5460+1,P5460,Hoja1!F5452:F5568))","v":""},{"$f":"IFERROR(IF(NETWORKDAYS(R5460+1,P5460,Hoja1!F5452:F5568)<=0,\"\",NETWORKDAYS(R5460+1,P5460,Hoja1!F5452:F5568)),0)","v":""},null,null,{"$f":"IFERROR(VLOOKUP(L5460,Hoja1!$A$50:$C$63,2),\"\")","v":""},{"$f":"IFERROR(VLOOKUP(L5460,Hoja1!$A$50:$C$63,3),\"\")","v":""}]
[null,null,null,null,null,null,null,null,null,null,null,null,null,null,null,null,null,null,null,null,null,{"$f":"IFERROR(WORKDAY(T5461,AE5461,Hoja1!F5453:F5569),\"\")","v":""},"",null,"",{"$f":"IF(P5461=\"\",\"\",NETWORKDAYS(C5461+1,P5461,Hoja1!F5453:F5569))","v":""},{"$f":"IFERROR(IF(NETWORKDAYS(R5461+1,P5461,Hoja1!F5453:F5569)<=0,\"\",NETWORKDAYS(R5461+1,P5461,Hoja1!F5453:F5569)),0)","v":""},null,null,{"$f":"IFERROR(VLOOKUP(L5461,Hoja1!$A$50:$C$63,2),\"\")","v":""},{"$f":"IFERROR(VLOOKUP(L5461,Hoja1!$A$50:$C$63,3),\"\")","v":""}]
[null,null,null,null,null,null,null,null,null,null,null,null,null,null,null,null,null,null,null,null,null,{"$f":"IFERROR(WORKDAY(T5462,AE5462,Hoja1!F5454:F5570),\"\")","v":""},"",null,"",{"$f":"IF(P5462=\"\",\"\",NETWORKDAYS(C5462+1,P5462,Hoja1!F5454:F5570))","v":""},{"$f":"IFERROR(IF(NETWORKDAYS(R5462+1,P5462,Hoja1!F5454:F5570)<=0,\"\",NETWORKDAYS(R5462+1,P5462,Hoja1!F5454:F5570)),0)","v":""},null,null,{"$f":"IFERROR(VLOOKUP(L5462,Hoja1!$A$50:$C$63,2),\"\")","v":""},{"$f":"IFERROR(VLOOKUP(L5462,Hoja1!$A$50:$C$63,3),\"\")","v":""}]
[null,null,null,null,null,null,null,null,null,null,null,null,null,null,null,null,null,null,null,null,null,{"$f":"IFERROR(WORKDAY(T5463,AE5463,Hoja1!F5455:F5571),\"\")","v":""},"",null,"",{"$f":"IF(P5463=\"\",\"\",NETWORKDAYS(C5463+1,P5463,Hoja1!F5455:F5571))","v":""},{"$f":"IFERROR(IF(NETWORKDAYS(R5463+1,P5463,Hoja1!F5455:F5571)<=0,\"\",NETWORKDAYS(R5463+1,P5463,Hoja1!F5455:F5571)),0)","v":""},null,null,{"$f":"IFERROR(VLOOKUP(L5463,Hoja1!$A$50:$C$63,2),\"\")","v":""},{"$f":"IFERROR(VLOOKUP(L5463,Hoja1!$A$50:$C$63,3),\"\")","v":""}]
[null,null,null,null,null,null,null,null,null,null,null,null,null,null,null,null,null,null,null,null,null,{"$f":"IFERROR(WORKDAY(T5464,AE5464,Hoja1!F5456:F5572),\"\")","v":""},"",null,"",{"$f":"IF(P5464=\"\",\"\",NETWORKDAYS(C5464+1,P5464,Hoja1!F5456:F5572))","v":""},{"$f":"IFERROR(IF(NETWORKDAYS(R5464+1,P5464,Hoja1!F5456:F5572)<=0,\"\",NETWORKDAYS(R5464+1,P5464,Hoja1!F5456:F5572)),0)","v":""},null,null,{"$f":"IFERROR(VLOOKUP(L5464,Hoja1!$A$50:$C$63,2),\"\")","v":""},{"$f":"IFERROR(VLOOKUP(L5464,Hoja1!$A$50:$C$63,3),\"\")","v":""}]
[null,null,null,null,null,null,null,null,null,null,null,null,null,null,null,null,null,null,null,null,null,{"$f":"IFERROR(WORKDAY(T5465,AE5465,Hoja1!F5457:F5573),\"\")","v":""},"",null,"",{"$f":"IF(P5465=\"\",\"\",NETWORKDAYS(C5465+1,P5465,Hoja1!F5457:F5573))","v":""},{"$f":"IFERROR(IF(NETWORKDAYS(R5465+1,P5465,Hoja1!F5457:F5573)<=0,\"\",NETWORKDAYS(R5465+1,P5465,Hoja1!F5457:F5573)),0)","v":""},null,null,{"$f":"IFERROR(VLOOKUP(L5465,Hoja1!$A$50:$C$63,2),\"\")","v":""},{"$f":"IFERROR(VLOOKUP(L5465,Hoja1!$A$50:$C$63,3),\"\")","v":""}]
[null,null,null,null,null,null,null,null,null,null,null,null,null,null,null,null,null,null,null,null,null,{"$f":"IFERROR(WORKDAY(T5466,AE5466,Hoja1!F5458:F5574),\"\")","v":""},"",null,"",{"$f":"IF(P5466=\"\",\"\",NETWORKDAYS(C5466+1,P5466,Hoja1!F5458:F5574))","v":""},{"$f":"IFERROR(IF(NETWORKDAYS(R5466+1,P5466,Hoja1!F5458:F5574)<=0,\"\",NETWORKDAYS(R5466+1,P5466,Hoja1!F5458:F5574)),0)","v":""},null,null,{"$f":"IFERROR(VLOOKUP(L5466,Hoja1!$A$50:$C$63,2),\"\")","v":""},{"$f":"IFERROR(VLOOKUP(L5466,Hoja1!$A$50:$C$63,3),\"\")","v":""}]
[null,null,null,null,null,null,null,null,null,null,null,null,null,null,null,null,null,null,null,null,null,{"$f":"IFERROR(WORKDAY(T5467,AE5467,Hoja1!F5459:F5575),\"\")","v":""},"",null,"",{"$f":"IF(P5467=\"\",\"\",NETWORKDAYS(C5467+1,P5467,Hoja1!F5459:F5575))","v":""},{"$f":"IFERROR(IF(NETWORKDAYS(R5467+1,P5467,Hoja1!F5459:F5575)<=0,\"\",NETWORKDAYS(R5467+1,P5467,Hoja1!F5459:F5575)),0)","v":""},null,null,{"$f":"IFERROR(VLOOKUP(L5467,Hoja1!$A$50:$C$63,2),\"\")","v":""},{"$f":"IFERROR(VLOOKUP(L5467,Hoja1!$A$50:$C$63,3),\"\")","v":""}]
[null,null,null,null,null,null,null,null,null,null,null,null,null,null,null,null,null,null,null,null,null,{"$f":"IFERROR(WORKDAY(T5468,AE5468,Hoja1!F5460:F5576),\"\")","v":""},"",null,"",{"$f":"IF(P5468=\"\",\"\",NETWORKDAYS(C5468+1,P5468,Hoja1!F5460:F5576))","v":""},{"$f":"IFERROR(IF(NETWORKDAYS(R5468+1,P5468,Hoja1!F5460:F5576)<=0,\"\",NETWORKDAYS(R5468+1,P5468,Hoja1!F5460:F5576)),0)","v":""},null,null,{"$f":"IFERROR(VLOOKUP(L5468,Hoja1!$A$50:$C$63,2),\"\")","v":""},{"$f":"IFERROR(VLOOKUP(L5468,Hoja1!$A$50:$C$63,3),\"\")","v":""}]
[null,null,null,null,null,null,null,null,null,null,null,null,null,null,null,null,null,null,null,null,null,{"$f":"IFERROR(WORKDAY(T5469,AE5469,Hoja1!F5461:F5577),\"\")","v":""},"",null,"",{"$f":"IF(P5469=\"\",\"\",NETWORKDAYS(C5469+1,P5469,Hoja1!F5461:F5577))","v":""},{"$f":"IFERROR(IF(NETWORKDAYS(R5469+1,P5469,Hoja1!F5461:F5577)<=0,\"\",NETWORKDAYS(R5469+1,P5469,Hoja1!F5461:F5577)),0)","v":""},null,null,{"$f":"IFERROR(VLOOKUP(L5469,Hoja1!$A$50:$C$63,2),\"\")","v":""},{"$f":"IFERROR(VLOOKUP(L5469,Hoja1!$A$50:$C$63,3),\"\")","v":""}]
[null,null,null,null,null,null,null,null,null,null,null,null,null,null,null,null,null,null,null,null,null,{"$f":"IFERROR(WORKDAY(T5470,AE5470,Hoja1!F5462:F5578),\"\")","v":""},"",null,"",{"$f":"IF(P5470=\"\",\"\",NETWORKDAYS(C5470+1,P5470,Hoja1!F5462:F5578))","v":""},{"$f":"IFERROR(IF(NETWORKDAYS(R5470+1,P5470,Hoja1!F5462:F5578)<=0,\"\",NETWORKDAYS(R5470+1,P5470,Hoja1!F5462:F5578)),0)","v":""},null,null,{"$f":"IFERROR(VLOOKUP(L5470,Hoja1!$A$50:$C$63,2),\"\")","v":""},{"$f":"IFERROR(VLOOKUP(L5470,Hoja1!$A$50:$C$63,3),\"\")","v":""}]
[null,null,null,null,null,null,null,null,null,null,null,null,null,null,null,null,null,null,null,null,null,{"$f":"IFERROR(WORKDAY(T5471,AE5471,Hoja1!F5463:F5579),\"\")","v":""},"",null,"",{"$f":"IF(P5471=\"\",\"\",NETWORKDAYS(C5471+1,P5471,Hoja1!F5463:F5579))","v":""},{"$f":"IFERROR(IF(NETWORKDAYS(R5471+1,P5471,Hoja1!F5463:F5579)<=0,\"\",NETWORKDAYS(R5471+1,P5471,Hoja1!F5463:F5579)),0)","v":""},null,null,{"$f":"IFERROR(VLOOKUP(L5471,Hoja1!$A$50:$C$63,2),\"\")","v":""},{"$f":"IFERROR(VLOOKUP(L5471,Hoja1!$A$50:$C$63,3),\"\")","v":""}]
[null,null,null,null,null,null,null,null,null,null,null,null,null,null,null,null,null,null,null,null,null,{"$f":"IFERROR(WORKDAY(T5472,AE5472,Hoja1!F5464:F5580),\"\")","v":""},"",null,"",{"$f":"IF(P5472=\"\",\"\",NETWORKDAYS(C5472+1,P5472,Hoja1!F5464:F5580))","v":""},{"$f":"IFERROR(IF(NETWORKDAYS(R5472+1,P5472,Hoja1!F5464:F5580)<=0,\"\",NETWORKDAYS(R5472+1,P5472,Hoja1!F5464:F5580)),0)","v":""},null,null,{"$f":"IFERROR(VLOOKUP(L5472,Hoja1!$A$50:$C$63,2),\"\")","v":""},{"$f":"IFERROR(VLOOKUP(L5472,Hoja1!$A$50:$C$63,3),\"\")","v":""}]
[null,null,null,null,null,null,null,null,null,null,null,null,null,null,null,null,null,null,null,null,null,{"$f":"IFERROR(WORKDAY(T5473,AE5473,Hoja1!F5465:F5581),\"\")","v":""},"",null,"",{"$f":"IF(P5473=\"\",\"\",NETWORKDAYS(C5473+1,P5473,Hoja1!F5465:F5581))","v":""},{"$f":"IFERROR(IF(NETWORKDAYS(R5473+1,P5473,Hoja1!F5465:F5581)<=0,\"\",NETWORKDAYS(R5473+1,P5473,Hoja1!F5465:F5581)),0)","v":""},null,null,{"$f":"IFERROR(VLOOKUP(L5473,Hoja1!$A$50:$C$63,2),\"\")","v":""},{"$f":"IFERROR(VLOOKUP(L5473,Hoja1!$A$50:$C$63,3),\"\")","v":""}]
[null,null,null,null,null,null,null,null,null,null,null,null,null,null,null,null,null,null,null,null,null,{"$f":"IFERROR(WORKDAY(T5474,AE5474,Hoja1!F5466:F5582),\"\")","v":""},"",null,"",{"$f":"IF(P5474=\"\",\"\",NETWORKDAYS(C5474+1,P5474,Hoja1!F5466:F5582))","v":""},{"$f":"IFERROR(IF(NETWORKDAYS(R5474+1,P5474,Hoja1!F5466:F5582)<=0,\"\",NETWORKDAYS(R5474+1,P5474,Hoja1!F5466:F5582)),0)","v":""},null,null,{"$f":"IFERROR(VLOOKUP(L5474,Hoja1!$A$50:$C$63,2),\"\")","v":""},{"$f":"IFERROR(VLOOKUP(L5474,Hoja1!$A$50:$C$63,3),\"\")","v":""}]
[null,null,null,null,null,null,null,null,null,null,null,null,null,null,null,null,null,null,null,null,null,{"$f":"IFERROR(WORKDAY(T5475,AE5475,Hoja1!F5467:F5583),\"\")","v":""},"",null,"",{"$f":"IF(P5475=\"\",\"\",NETWORKDAYS(C5475+1,P5475,Hoja1!F5467:F5583))","v":""},{"$f":"IFERROR(IF(NETWORKDAYS(R5475+1,P5475,Hoja1!F5467:F5583)<=0,\"\",NETWORKDAYS(R5475+1,P5475,Hoja1!F5467:F5583)),0)","v":""},null,null,{"$f":"IFERROR(VLOOKUP(L5475,Hoja1!$A$50:$C$63,2),\"\")","v":""},{"$f":"IFERROR(VLOOKUP(L5475,Hoja1!$A$50:$C$63,3),\"\")","v":""}]
[null,null,null,null,null,null,null,null,null,null,null,null,null,null,null,null,null,null,null,null,null,{"$f":"IFERROR(WORKDAY(T5476,AE5476,Hoja1!F5468:F5584),\"\")","v":""},"",null,"",{"$f":"IF(P5476=\"\",\"\",NETWORKDAYS(C5476+1,P5476,Hoja1!F5468:F5584))","v":""},{"$f":"IFERROR(IF(NETWORKDAYS(R5476+1,P5476,Hoja1!F5468:F5584)<=0,\"\",NETWORKDAYS(R5476+1,P5476,Hoja1!F5468:F5584)),0)","v":""},null,null,{"$f":"IFERROR(VLOOKUP(L5476,Hoja1!$A$50:$C$63,2),\"\")","v":""},{"$f":"IFERROR(VLOOKUP(L5476,Hoja1!$A$50:$C$63,3),\"\")","v":""}]
[null,null,null,null,null,null,null,null,null,null,null,null,null,null,null,null,null,null,null,null,null,null,null,null,null,null,null,null,null,{"$f":"IFERROR(VLOOKUP(L5477,Hoja1!A5516:C5529,2),\"\")","v":""},{"$f":"IFERROR(VLOOKUP(L5477,Hoja1!A5516:C5529,3),\"\")","v":""}]
[null,null,null,null,null,null,null,null,null,null,null,null,null,null,null,null,null,null,null,null,null,null,null,null,null,null,null,null,null,{"$f":"IFERROR(VLOOKUP(L5478,Hoja1!A5517:C5530,2),\"\")","v":""},{"$f":"IFERROR(VLOOKUP(L5478,Hoja1!A5517:C5530,3),\"\")","v":""}]
[null,null,null,null,null,null,null,null,null,null,null,null,null,null,null,null,null,null,null,null,null,null,null,null,null,null,null,null,null,{"$f":"IFERROR(VLOOKUP(L5479,Hoja1!A5518:C5531,2),\"\")","v":""},{"$f":"IFERROR(VLOOKUP(L5479,Hoja1!A5518:C5531,3),\"\")","v":""}]
[null,null,null,null,null,null,null,null,null,null,null,null,null,null,null,null,null,null,null,null,null,null,null,null,null,null,null,null,null,{"$f":"IFERROR(VLOOKUP(L5480,Hoja1!A5519:C5532,2),\"\")","v":""},{"$f":"IFERROR(VLOOKUP(L5480,Hoja1!A5519:C5532,3),\"\")","v":""}]
[null,null,null,null,null,null,null,null,null,null,null,null,null,null,null,null,null,null,null,null,null,null,null,null,null,null,null,null,null,{"$f":"IFERROR(VLOOKUP(L5481,Hoja1!A5520:C5533,2),\"\")","v":""},{"$f":"IFERROR(VLOOKUP(L5481,Hoja1!A5520:C5533,3),\"\")","v":""}]
[null,null,null,null,null,null,null,null,null,null,null,null,null,null,null,null,null,null,null,null,null,null,null,null,null,null,null,null,null,{"$f":"IFERROR(VLOOKUP(L5482,Hoja1!A5521:C5534,2),\"\")","v":""},{"$f":"IFERROR(VLOOKUP(L5482,Hoja1!A5521:C5534,3),\"\")","v":""}]
[null,null,null,null,null,null,null,null,null,null,null,null,null,null,null,null,null,null,null,null,null,null,null,null,null,null,null,null,null,{"$f":"IFERROR(VLOOKUP(L5483,Hoja1!A5522:C5535,2),\"\")","v":""},{"$f":"IFERROR(VLOOKUP(L5483,Hoja1!A5522:C5535,3),\"\")","v":""}]
[null,null,null,null,null,null,null,null,null,null,null,null,null,null,null,null,null,null,null,null,null,null,null,null,null,null,null,null,null,{"$f":"IFERROR(VLOOKUP(L5484,Hoja1!A5523:C5536,2),\"\")","v":""},{"$f":"IFERROR(VLOOKUP(L5484,Hoja1!A5523:C5536,3),\"\")","v":""}]
[null,null,null,null,null,null,null,null,null,null,null,null,null,null,null,null,null,null,null,null,null,null,null,null,null,null,null,null,null,{"$f":"IFERROR(VLOOKUP(L5485,Hoja1!A5524:C5537,2),\"\")","v":""},{"$f":"IFERROR(VLOOKUP(L5485,Hoja1!A5524:C5537,3),\"\")","v":""}]
[null,null,null,null,null,null,null,null,null,null,null,null,null,null,null,null,null,null,null,null,null,null,null,null,null,null,null,null,null,{"$f":"IFERROR(VLOOKUP(L5486,Hoja1!A5525:C5538,2),\"\")","v":""},{"$f":"IFERROR(VLOOKUP(L5486,Hoja1!A5525:C5538,3),\"\")","v":""}]
[null,null,null,null,null,null,null,null,null,null,null,null,null,null,null,null,null,null,null,null,null,null,null,null,null,null,null,null,null,{"$f":"IFERROR(VLOOKUP(L5487,Hoja1!A5526:C5539,2),\"\")","v":""},{"$f":"IFERROR(VLOOKUP(L5487,Hoja1!A5526:C5539,3),\"\")","v":""}]
[null,null,null,null,null,null,null,null,null,null,null,null,null,null,null,null,null,null,null,null,null,null,null,null,null,null,null,null,null,{"$f":"IFERROR(VLOOKUP(L5488,Hoja1!A5527:C5540,2),\"\")","v":""},{"$f":"IFERROR(VLOOKUP(L5488,Hoja1!A5527:C5540,3),\"\")","v":""}]
[null,null,null,null,null,null,null,null,null,null,null,null,null,null,null,null,null,null,null,null,null,null,null,null,null,null,null,null,null,{"$f":"IFERROR(VLOOKUP(L5489,Hoja1!A5528:C5541,2),\"\")","v":""},{"$f":"IFERROR(VLOOKUP(L5489,Hoja1!A5528:C5541,3),\"\")","v":""}]
[null,null,null,null,null,null,null,null,null,null,null,null,null,null,null,null,null,null,null,null,null,null,null,null,null,null,null,null,null,{"$f":"IFERROR(VLOOKUP(L5490,Hoja1!A5529:C5542,2),\"\")","v":""},{"$f":"IFERROR(VLOOKUP(L5490,Hoja1!A5529:C5542,3),\"\")","v":""}]
[null,null,null,null,null,null,null,null,null,null,null,null,null,null,null,null,null,null,null,null,null,null,null,null,null,null,null,null,null,{"$f":"IFERROR(VLOOKUP(L5491,Hoja1!A5530:C5543,2),\"\")","v":""},{"$f":"IFERROR(VLOOKUP(L5491,Hoja1!A5530:C5543,3),\"\")","v":""}]
[null,null,null,null,null,null,null,null,null,null,null,null,null,null,null,null,null,null,null,null,null,null,null,null,null,null,null,null,null,{"$f":"IFERROR(VLOOKUP(L5492,Hoja1!A5531:C5544,2),\"\")","v":""},{"$f":"IFERROR(VLOOKUP(L5492,Hoja1!A5531:C5544,3),\"\")","v":""}]
[null,null,null,null,null,null,null,null,null,null,null,null,null,null,null,null,null,null,null,null,null,null,null,null,null,null,null,null,null,{"$f":"IFERROR(VLOOKUP(L5493,Hoja1!A5532:C5545,2),\"\")","v":""},{"$f":"IFERROR(VLOOKUP(L5493,Hoja1!A5532:C5545,3),\"\")","v":""}]
[null,null,null,null,null,null,null,null,null,null,null,null,null,null,null,null,null,null,null,null,null,null,null,null,null,null,null,null,null,{"$f":"IFERROR(VLOOKUP(L5494,Hoja1!A5533:C5546,2),\"\")","v":""},{"$f":"IFERROR(VLOOKUP(L5494,Hoja1!A5533:C5546,3),\"\")","v":""}]
[null,null,null,null,null,null,null,null,null,null,null,null,null,null,null,null,null,null,null,null,null,null,null,null,null,null,null,null,null,{"$f":"IFERROR(VLOOKUP(L5495,Hoja1!A5534:C5547,2),\"\")","v":""},{"$f":"IFERROR(VLOOKUP(L5495,Hoja1!A5534:C5547,3),\"\")","v":""}]
[null,null,null,null,null,null,null,null,null,null,null,null,null,null,null,null,null,null,null,null,null,null,null,null,null,null,null,null,null,{"$f":"IFERROR(VLOOKUP(L5496,Hoja1!A5535:C5548,2),\"\")","v":""},{"$f":"IFERROR(VLOOKUP(L5496,Hoja1!A5535:C5548,3),\"\")","v":""}]
[null,null,null,null,null,null,null,null,null,null,null,null,null,null,null,null,null,null,null,null,null,null,null,null,null,null,null,null,null,{"$f":"IFERROR(VLOOKUP(L5497,Hoja1!A5536:C5549,2),\"\")","v":""},{"$f":"IFERROR(VLOOKUP(L5497,Hoja1!A5536:C5549,3),\"\")","v":""}]
[null,null,null,null,null,null,null,null,null,null,null,null,null,null,null,null,null,null,null,null,null,null,null,null,null,null,null,null,null,{"$f":"IFERROR(VLOOKUP(L5498,Hoja1!A5537:C5550,2),\"\")","v":""},{"$f":"IFERROR(VLOOKUP(L5498,Hoja1!A5537:C5550,3),\"\")","v":""}]
[null,null,null,null,null,null,null,null,null,null,null,null,null,null,null,null,null,null,null,null,null,null,null,null,null,null,null,null,null,{"$f":"IFERROR(VLOOKUP(L5499,Hoja1!A5538:C5551,2),\"\")","v":""},{"$f":"IFERROR(VLOOKUP(L5499,Hoja1!A5538:C5551,3),\"\")","v":""}]
[null,null,null,null,null,null,null,null,null,null,null,null,null,null,null,null,null,null,null,null,null,null,null,null,null,null,null,null,null,{"$f":"IFERROR(VLOOKUP(L5500,Hoja1!A5539:C5552,2),\"\")","v":""},{"$f":"IFERROR(VLOOKUP(L5500,Hoja1!A5539:C5552,3),\"\")","v":""}]
[null,null,null,null,null,null,null,null,null,null,null,null,null,null,null,null,null,null,null,null,null,null,null,null,null,null,null,null,null,{"$f":"IFERROR(VLOOKUP(L5501,Hoja1!A5540:C5553,2),\"\")","v":""},{"$f":"IFERROR(VLOOKUP(L5501,Hoja1!A5540:C5553,3),\"\")","v":""}]
[null,null,null,null,null,null,null,null,null,null,null,null,null,null,null,null,null,null,null,null,null,null,null,null,null,null,null,null,null,{"$f":"IFERROR(VLOOKUP(L5502,Hoja1!A5541:C5554,2),\"\")","v":""},{"$f":"IFERROR(VLOOKUP(L5502,Hoja1!A5541:C5554,3),\"\")","v":""}]
[null,null,null,null,null,null,null,null,null,null,null,null,null,null,null,null,null,null,null,null,null,null,null,null,null,null,null,null,null,{"$f":"IFERROR(VLOOKUP(L5503,Hoja1!A5542:C5555,2),\"\")","v":""},{"$f":"IFERROR(VLOOKUP(L5503,Hoja1!A5542:C5555,3),\"\")","v":""}]
[null,null,null,null,null,null,null,null,null,null,null,null,null,null,null,null,null,null,null,null,null,null,null,null,null,null,null,null,null,{"$f":"IFERROR(VLOOKUP(L5504,Hoja1!A5543:C5556,2),\"\")","v":""},{"$f":"IFERROR(VLOOKUP(L5504,Hoja1!A5543:C5556,3),\"\")","v":""}]
[null,null,null,null,null,null,null,null,null,null,null,null,null,null,null,null,null,null,null,null,null,null,null,null,null,null,null,null,null,{"$f":"IFERROR(VLOOKUP(L5505,Hoja1!A5544:C5557,2),\"\")","v":""},{"$f":"IFERROR(VLOOKUP(L5505,Hoja1!A5544:C5557,3),\"\")","v":""}]
[null,null,null,null,null,null,null,null,null,null,null,null,null,null,null,null,null,null,null,null,null,null,null,null,null,null,null,null,null,{"$f":"IFERROR(VLOOKUP(L5506,Hoja1!A5545:C5558,2),\"\")","v":""},{"$f":"IFERROR(VLOOKUP(L5506,Hoja1!A5545:C5558,3),\"\")","v":""}]
[null,null,null,null,null,null,null,null,null,null,null,null,null,null,null,null,null,null,null,null,null,null,null,null,null,null,null,null,null,{"$f":"IFERROR(VLOOKUP(L5507,Hoja1!A5546:C5559,2),\"\")","v":""},{"$f":"IFERROR(VLOOKUP(L5507,Hoja1!A5546:C5559,3),\"\")","v":""}]
[null,null,null,null,null,null,null,null,null,null,null,null,null,null,null,null,null,null,null,null,null,null,null,null,null,null,null,null,null,{"$f":"IFERROR(VLOOKUP(L5508,Hoja1!A5547:C5560,2),\"\")","v":""},{"$f":"IFERROR(VLOOKUP(L5508,Hoja1!A5547:C5560,3),\"\")","v":""}]
[null,null,null,null,null,null,null,null,null,null,null,null,null,null,null,null,null,null,null,null,null,null,null,null,null,null,null,null,null,{"$f":"IFERROR(VLOOKUP(L5509,Hoja1!A5548:C5561,2),\"\")","v":""},{"$f":"IFERROR(VLOOKUP(L5509,Hoja1!A5548:C5561,3),\"\")","v":""}]
[null,null,null,null,null,null,null,null,null,null,null,null,null,null,null,null,null,null,null,null,null,null,null,null,null,null,null,null,null,{"$f":"IFERROR(VLOOKUP(L5510,Hoja1!A5549:C5562,2),\"\")","v":""},{"$f":"IFERROR(VLOOKUP(L5510,Hoja1!A5549:C5562,3),\"\")","v":""}]
[null,null,null,null,null,null,null,null,null,null,null,null,null,null,null,null,null,null,null,null,null,null,null,null,null,null,null,null,null,{"$f":"IFERROR(VLOOKUP(L5511,Hoja1!A5550:C5563,2),\"\")","v":""},{"$f":"IFERROR(VLOOKUP(L5511,Hoja1!A5550:C5563,3),\"\")","v":""}]
[null,null,null,null,null,null,null,null,null,null,null,null,null,null,null,null,null,null,null,null,null,null,null,null,null,null,null,null,null,{"$f":"IFERROR(VLOOKUP(L5512,Hoja1!A5551:C5564,2),\"\")","v":""},{"$f":"IFERROR(VLOOKUP(L5512,Hoja1!A5551:C5564,3),\"\")","v":""}]
[null,null,null,null,null,null,null,null,null,null,null,null,null,null,null,null,null,null,null,null,null,null,null,null,null,null,null,null,null,{"$f":"IFERROR(VLOOKUP(L5513,Hoja1!A5552:C5565,2),\"\")","v":""},{"$f":"IFERROR(VLOOKUP(L5513,Hoja1!A5552:C5565,3),\"\")","v":""}]
[null,null,null,null,null,null,null,null,null,null,null,null,null,null,null,null,null,null,null,null,null,null,null,null,null,null,null,null,null,{"$f":"IFERROR(VLOOKUP(L5514,Hoja1!A5553:C5566,2),\"\")","v":""},{"$f":"IFERROR(VLOOKUP(L5514,Hoja1!A5553:C5566,3),\"\")","v":""}]
[null,null,null,null,null,null,null,null,null,null,null,null,null,null,null,null,null,null,null,null,null,null,null,null,null,null,null,null,null,{"$f":"IFERROR(VLOOKUP(L5515,Hoja1!A5554:C5567,2),\"\")","v":""},{"$f":"IFERROR(VLOOKUP(L5515,Hoja1!A5554:C5567,3),\"\")","v":""}]
[null,null,null,null,null,null,null,null,null,null,null,null,null,null,null,null,null,null,null,null,null,null,null,null,null,null,null,null,null,{"$f":"IFERROR(VLOOKUP(L5516,Hoja1!A5555:C5568,2),\"\")","v":""},{"$f":"IFERROR(VLOOKUP(L5516,Hoja1!A5555:C5568,3),\"\")","v":""}]
[null,null,null,null,null,null,null,null,null,null,null,null,null,null,null,null,null,null,null,null,null,null,null,null,null,null,null,null,null,{"$f":"IFERROR(VLOOKUP(L5517,Hoja1!A5556:C5569,2),\"\")","v":""},{"$f":"IFERROR(VLOOKUP(L5517,Hoja1!A5556:C5569,3),\"\")","v":""}]
[null,null,null,null,null,null,null,null,null,null,null,null,null,null,null,null,null,null,null,null,null,null,null,null,null,null,null,null,null,{"$f":"IFERROR(VLOOKUP(L5518,Hoja1!A5557:C5570,2),\"\")","v":""},{"$f":"IFERROR(VLOOKUP(L5518,Hoja1!A5557:C5570,3),\"\")","v":""}]
[null,null,null,null,null,null,null,null,null,null,null,null,null,null,null,null,null,null,null,null,null,null,null,null,null,null,null,null,null,{"$f":"IFERROR(VLOOKUP(L5519,Hoja1!A5558:C5571,2),\"\")","v":""},{"$f":"IFERROR(VLOOKUP(L5519,Hoja1!A5558:C5571,3),\"\")","v":""}]
[null,null,null,null,null,null,null,null,null,null,null,null,null,null,null,null,null,null,null,null,null,null,null,null,null,null,null,null,null,{"$f":"IFERROR(VLOOKUP(L5520,Hoja1!A5559:C5572,2),\"\")","v":""},{"$f":"IFERROR(VLOOKUP(L5520,Hoja1!A5559:C5572,3),\"\")","v":""}]
[null,null,null,null,null,null,null,null,null,null,null,null,null,null,null,null,null,null,null,null,null,null,null,null,null,null,null,null,null,{"$f":"IFERROR(VLOOKUP(L5521,Hoja1!A5560:C5573,2),\"\")","v":""},{"$f":"IFERROR(VLOOKUP(L5521,Hoja1!A5560:C5573,3),\"\")","v":""}]
[null,null,null,null,null,null,null,null,null,null,null,null,null,null,null,null,null,null,null,null,null,null,null,null,null,null,null,null,null,{"$f":"IFERROR(VLOOKUP(L5522,Hoja1!A5561:C5574,2),\"\")","v":""},{"$f":"IFERROR(VLOOKUP(L5522,Hoja1!A5561:C5574,3),\"\")","v":""}]
[null,null,null,null,null,null,null,null,null,null,null,null,null,null,null,null,null,null,null,null,null,null,null,null,null,null,null,null,null,{"$f":"IFERROR(VLOOKUP(L5523,Hoja1!A5562:C5575,2),\"\")","v":""},{"$f":"IFERROR(VLOOKUP(L5523,Hoja1!A5562:C5575,3),\"\")","v":""}]
[null,null,null,null,null,null,null,null,null,null,null,null,null,null,null,null,null,null,null,null,null,null,null,null,null,null,null,null,null,{"$f":"IFERROR(VLOOKUP(L5524,Hoja1!A5563:C5576,2),\"\")","v":""},{"$f":"IFERROR(VLOOKUP(L5524,Hoja1!A5563:C5576,3),\"\")","v":""}]
[null,null,null,null,null,null,null,null,null,null,null,null,null,null,null,null,null,null,null,null,null,null,null,null,null,null,null,null,null,{"$f":"IFERROR(VLOOKUP(L5525,Hoja1!A5564:C5577,2),\"\")","v":""},{"$f":"IFERROR(VLOOKUP(L5525,Hoja1!A5564:C5577,3),\"\")","v":""}]
[null,null,null,null,null,null,null,null,null,null,null,null,null,null,null,null,null,null,null,null,null,null,null,null,null,null,null,null,null,{"$f":"IFERROR(VLOOKUP(L5526,Hoja1!A5565:C5578,2),\"\")","v":""},{"$f":"IFERROR(VLOOKUP(L5526,Hoja1!A5565:C5578,3),\"\")","v":""}]
[null,null,null,null,null,null,null,null,null,null,null,null,null,null,null,null,null,null,null,null,null,null,null,null,null,null,null,null,null,{"$f":"IFERROR(VLOOKUP(L5527,Hoja1!A5566:C5579,2),\"\")","v":""},{"$f":"IFERROR(VLOOKUP(L5527,Hoja1!A5566:C5579,3),\"\")","v":""}]
[null,null,null,null,null,null,null,null,null,null,null,null,null,null,null,null,null,null,null,null,null,null,null,null,null,null,null,null,null,{"$f":"IFERROR(VLOOKUP(L5528,Hoja1!A5567:C5580,2),\"\")","v":""},{"$f":"IFERROR(VLOOKUP(L5528,Hoja1!A5567:C5580,3),\"\")","v":""}]
[null,null,null,null,null,null,null,null,null,null,null,null,null,null,null,null,null,null,null,null,null,null,null,null,null,null,null,null,null,{"$f":"IFERROR(VLOOKUP(L5529,Hoja1!A5568:C5581,2),\"\")","v":""},{"$f":"IFERROR(VLOOKUP(L5529,Hoja1!A5568:C5581,3),\"\")","v":""}]
[null,null,null,null,null,null,null,null,null,null,null,null,null,null,null,null,null,null,null,null,null,null,null,null,null,null,null,null,null,{"$f":"IFERROR(VLOOKUP(L5530,Hoja1!A5569:C5582,2),\"\")","v":""},{"$f":"IFERROR(VLOOKUP(L5530,Hoja1!A5569:C5582,3),\"\")","v":""}]
[null,null,null,null,null,null,null,null,null,null,null,null,null,null,null,null,null,null,null,null,null,null,null,null,null,null,null,null,null,{"$f":"IFERROR(VLOOKUP(L5531,Hoja1!A5570:C5583,2),\"\")","v":""},{"$f":"IFERROR(VLOOKUP(L5531,Hoja1!A5570:C5583,3),\"\")","v":""}]
[null,null,null,null,null,null,null,null,null,null,null,null,null,null,null,null,null,null,null,null,null,null,null,null,null,null,null,null,null,{"$f":"IFERROR(VLOOKUP(L5532,Hoja1!A5571:C5584,2),\"\")","v":""},{"$f":"IFERROR(VLOOKUP(L5532,Hoja1!A5571:C5584,3),\"\")","v":""}]
[null,null,null,null,null,null,null,null,null,null,null,null,null,null,null,null,null,null,null,null,null,null,null,null,null,null,null,null,null,{"$f":"IFERROR(VLOOKUP(L5533,Hoja1!A5572:C5585,2),\"\")","v":""},{"$f":"IFERROR(VLOOKUP(L5533,Hoja1!A5572:C5585,3),\"\")","v":""}]
[null,null,null,null,null,null,null,null,null,null,null,null,null,null,null,null,null,null,null,null,null,null,null,null,null,null,null,null,null,{"$f":"IFERROR(VLOOKUP(L5534,Hoja1!A5573:C5586,2),\"\")","v":""},{"$f":"IFERROR(VLOOKUP(L5534,Hoja1!A5573:C5586,3),\"\")","v":""}]
[null,null,null,null,null,null,null,null,null,null,null,null,null,null,null,null,null,null,null,null,null,null,null,null,null,null,null,null,null,{"$f":"IFERROR(VLOOKUP(L5535,Hoja1!A5574:C5587,2),\"\")","v":""},{"$f":"IFERROR(VLOOKUP(L5535,Hoja1!A5574:C5587,3),\"\")","v":""}]
[null,null,null,null,null,null,null,null,null,null,null,null,null,null,null,null,null,null,null,null,null,null,null,null,null,null,null,null,null,{"$f":"IFERROR(VLOOKUP(L5536,Hoja1!A5575:C5588,2),\"\")","v":""},{"$f":"IFERROR(VLOOKUP(L5536,Hoja1!A5575:C5588,3),\"\")","v":""}]
[null,null,null,null,null,null,null,null,null,null,null,null,null,null,null,null,null,null,null,null,null,null,null,null,null,null,null,null,null,{"$f":"IFERROR(VLOOKUP(L5537,Hoja1!A5576:C5589,2),\"\")","v":""},{"$f":"IFERROR(VLOOKUP(L5537,Hoja1!A5576:C5589,3),\"\")","v":""}]
[null,null,null,null,null,null,null,null,null,null,null,null,null,null,null,null,null,null,null,null,null,null,null,null,null,null,null,null,null,{"$f":"IFERROR(VLOOKUP(L5538,Hoja1!A5577:C5590,2),\"\")","v":""},{"$f":"IFERROR(VLOOKUP(L5538,Hoja1!A5577:C5590,3),\"\")","v":""}]
[null,null,null,null,null,null,null,null,null,null,null,null,null,null,null,null,null,null,null,null,null,null,null,null,null,null,null,null,null,{"$f":"IFERROR(VLOOKUP(L5539,Hoja1!A5578:C5591,2),\"\")","v":""},{"$f":"IFERROR(VLOOKUP(L5539,Hoja1!A5578:C5591,3),\"\")","v":""}]
[null,null,null,null,null,null,null,null,null,null,null,null,null,null,null,null,null,null,null,null,null,null,null,null,null,null,null,null,null,{"$f":"IFERROR(VLOOKUP(L5540,Hoja1!A5579:C5592,2),\"\")","v":""},{"$f":"IFERROR(VLOOKUP(L5540,Hoja1!A5579:C5592,3),\"\")","v":""}]
[null,null,null,null,null,null,null,null,null,null,null,null,null,null,null,null,null,null,null,null,null,null,null,null,null,null,null,null,null,{"$f":"IFERROR(VLOOKUP(L5541,Hoja1!A5580:C5593,2),\"\")","v":""},{"$f":"IFERROR(VLOOKUP(L5541,Hoja1!A5580:C5593,3),\"\")","v":""}]
[null,null,null,null,null,null,null,null,null,null,null,null,null,null,null,null,null,null,null,null,null,null,null,null,null,null,null,null,null,{"$f":"IFERROR(VLOOKUP(L5542,Hoja1!A5581:C5594,2),\"\")","v":""},{"$f":"IFERROR(VLOOKUP(L5542,Hoja1!A5581:C5594,3),\"\")","v":""}]
[null,null,null,null,null,null,null,null,null,null,null,null,null,null,null,null,null,null,null,null,null,null,null,null,null,null,null,null,null,{"$f":"IFERROR(VLOOKUP(L5543,Hoja1!A5582:C5595,2),\"\")","v":""},{"$f":"IFERROR(VLOOKUP(L5543,Hoja1!A5582:C5595,3),\"\")","v":""}]
[null,null,null,null,null,null,null,null,null,null,null,null,null,null,null,null,null,null,null,null,null,null,null,null,null,null,null,null,null,{"$f":"IFERROR(VLOOKUP(L5544,Hoja1!A5583:C5596,2),\"\")","v":""},{"$f":"IFERROR(VLOOKUP(L5544,Hoja1!A5583:C5596,3),\"\")","v":""}]
[null,null,null,null,null,null,null,null,null,null,null,null,null,null,null,null,null,null,null,null,null,null,null,null,null,null,null,null,null,{"$f":"IFERROR(VLOOKUP(L5545,Hoja1!A5584:C5597,2),\"\")","v":""},{"$f":"IFERROR(VLOOKUP(L5545,Hoja1!A5584:C5597,3),\"\")","v":""}]
[null,null,null,null,null,null,null,null,null,null,null,null,null,null,null,null,null,null,null,null,null,null,null,null,null,null,null,null,null,{"$f":"IFERROR(VLOOKUP(L5546,Hoja1!A5585:C5598,2),\"\")","v":""},{"$f":"IFERROR(VLOOKUP(L5546,Hoja1!A5585:C5598,3),\"\")","v":""}]
[null,null,null,null,null,null,null,null,null,null,null,null,null,null,null,null,null,null,null,null,null,null,null,null,null,null,null,null,null,{"$f":"IFERROR(VLOOKUP(L5547,Hoja1!A5586:C5599,2),\"\")","v":""},{"$f":"IFERROR(VLOOKUP(L5547,Hoja1!A5586:C5599,3),\"\")","v":""}]
[null,null,null,null,null,null,null,null,null,null,null,null,null,null,null,null,null,null,null,null,null,null,null,null,null,null,null,null,null,{"$f":"IFERROR(VLOOKUP(L5548,Hoja1!A5587:C5600,2),\"\")","v":""},{"$f":"IFERROR(VLOOKUP(L5548,Hoja1!A5587:C5600,3),\"\")","v":""}]
[null,null,null,null,null,null,null,null,null,null,null,null,null,null,null,null,null,null,null,null,null,null,null,null,null,null,null,null,null,{"$f":"IFERROR(VLOOKUP(L5549,Hoja1!A5588:C5601,2),\"\")","v":""},{"$f":"IFERROR(VLOOKUP(L5549,Hoja1!A5588:C5601,3),\"\")","v":""}]
[null,null,null,null,null,null,null,null,null,null,null,null,null,null,null,null,null,null,null,null,null,null,null,null,null,null,null,null,null,{"$f":"IFERROR(VLOOKUP(L5550,Hoja1!A5589:C5602,2),\"\")","v":""},{"$f":"IFERROR(VLOOKUP(L5550,Hoja1!A5589:C5602,3),\"\")","v":""}]
[null,null,null,null,null,null,null,null,null,null,null,null,null,null,null,null,null,null,null,null,null,null,null,null,null,null,null,null,null,{"$f":"IFERROR(VLOOKUP(L5551,Hoja1!A5590:C5603,2),\"\")","v":""},{"$f":"IFERROR(VLOOKUP(L5551,Hoja1!A5590:C5603,3),\"\")","v":""}]
[null,null,null,null,null,null,null,null,null,null,null,null,null,null,null,null,null,null,null,null,null,null,null,null,null,null,null,null,null,{"$f":"IFERROR(VLOOKUP(L5552,Hoja1!A5591:C5604,2),\"\")","v":""},{"$f":"IFERROR(VLOOKUP(L5552,Hoja1!A5591:C5604,3),\"\")","v":""}]
[null,null,null,null,null,null,null,null,null,null,null,null,null,null,null,null,null,null,null,null,null,null,null,null,null,null,null,null,null,{"$f":"IFERROR(VLOOKUP(L5553,Hoja1!A5592:C5605,2),\"\")","v":""},{"$f":"IFERROR(VLOOKUP(L5553,Hoja1!A5592:C5605,3),\"\")","v":""}]
[null,null,null,null,null,null,null,null,null,null,null,null,null,null,null,null,null,null,null,null,null,null,null,null,null,null,null,null,null,{"$f":"IFERROR(VLOOKUP(L5554,Hoja1!A5593:C5606,2),\"\")","v":""},{"$f":"IFERROR(VLOOKUP(L5554,Hoja1!A5593:C5606,3),\"\")","v":""}]
[null,null,null,null,null,null,null,null,null,null,null,null,null,null,null,null,null,null,null,null,null,null,null,null,null,null,null,null,null,{"$f":"IFERROR(VLOOKUP(L5555,Hoja1!A5594:C5607,2),\"\")","v":""},{"$f":"IFERROR(VLOOKUP(L5555,Hoja1!A5594:C5607,3),\"\")","v":""}]
[null,null,null,null,null,null,null,null,null,null,null,null,null,null,null,null,null,null,null,null,null,null,null,null,null,null,null,null,null,{"$f":"IFERROR(VLOOKUP(L5556,Hoja1!A5595:C5608,2),\"\")","v":""},{"$f":"IFERROR(VLOOKUP(L5556,Hoja1!A5595:C5608,3),\"\")","v":""}]
[null,null,null,null,null,null,null,null,null,null,null,null,null,null,null,null,null,null,null,null,null,null,null,null,null,null,null,null,null,{"$f":"IFERROR(VLOOKUP(L5557,Hoja1!A5596:C5609,2),\"\")","v":""},{"$f":"IFERROR(VLOOKUP(L5557,Hoja1!A5596:C5609,3),\"\")","v":""}]
[null,null,null,null,null,null,null,null,null,null,null,null,null,null,null,null,null,null,null,null,null,null,null,null,null,null,null,null,null,{"$f":"IFERROR(VLOOKUP(L5558,Hoja1!A5597:C5610,2),\"\")","v":""},{"$f":"IFERROR(VLOOKUP(L5558,Hoja1!A5597:C5610,3),\"\")","v":""}]
[null,null,null,null,null,null,null,null,null,null,null,null,null,null,null,null,null,null,null,null,null,null,null,null,null,null,null,null,null,{"$f":"IFERROR(VLOOKUP(L5559,Hoja1!A5598:C5611,2),\"\")","v":""},{"$f":"IFERROR(VLOOKUP(L5559,Hoja1!A5598:C5611,3),\"\")","v":""}]
[null,null,null,null,null,null,null,null,null,null,null,null,null,null,null,null,null,null,null,null,null,null,null,null,null,null,null,null,null,{"$f":"IFERROR(VLOOKUP(L5560,Hoja1!A5599:C5612,2),\"\")","v":""},{"$f":"IFERROR(VLOOKUP(L5560,Hoja1!A5599:C5612,3),\"\")","v":""}]
[null,null,null,null,null,null,null,null,null,null,null,null,null,null,null,null,null,null,null,null,null,null,null,null,null,null,null,null,null,{"$f":"IFERROR(VLOOKUP(L5561,Hoja1!A5600:C5613,2),\"\")","v":""},{"$f":"IFERROR(VLOOKUP(L5561,Hoja1!A5600:C5613,3),\"\")","v":""}]
[null,null,null,null,null,null,null,null,null,null,null,null,null,null,null,null,null,null,null,null,null,null,null,null,null,null,null,null,null,{"$f":"IFERROR(VLOOKUP(L5562,Hoja1!A5601:C5614,2),\"\")","v":""},{"$f":"IFERROR(VLOOKUP(L5562,Hoja1!A5601:C5614,3),\"\")","v":""}]
[null,null,null,null,null,null,null,null,null,null,null,null,null,null,null,null,null,null,null,null,null,null,null,null,null,null,null,null,null,{"$f":"IFERROR(VLOOKUP(L5563,Hoja1!A5602:C5615,2),\"\")","v":""},{"$f":"IFERROR(VLOOKUP(L5563,Hoja1!A5602:C5615,3),\"\")","v":""}]
[null,null,null,null,null,null,null,null,null,null,null,null,null,null,null,null,null,null,null,null,null,null,null,null,null,null,null,null,null,{"$f":"IFERROR(VLOOKUP(L5564,Hoja1!A5603:C5616,2),\"\")","v":""},{"$f":"IFERROR(VLOOKUP(L5564,Hoja1!A5603:C5616,3),\"\")","v":""}]
[null,null,null,null,null,null,null,null,null,null,null,null,null,null,null,null,null,null,null,null,null,null,null,null,null,null,null,null,null,{"$f":"IFERROR(VLOOKUP(L5565,Hoja1!A5604:C5617,2),\"\")","v":""},{"$f":"IFERROR(VLOOKUP(L5565,Hoja1!A5604:C5617,3),\"\")","v":""}]
[null,null,null,null,null,null,null,null,null,null,null,null,null,null,null,null,null,null,null,null,null,null,null,null,null,null,null,null,null,{"$f":"IFERROR(VLOOKUP(L5566,Hoja1!A5605:C5618,2),\"\")","v":""},{"$f":"IFERROR(VLOOKUP(L5566,Hoja1!A5605:C5618,3),\"\")","v":""}]
[null,null,null,null,null,null,null,null,null,null,null,null,null,null,null,null,null,null,null,null,null,null,null,null,null,null,null,null,null,{"$f":"IFERROR(VLOOKUP(L5567,Hoja1!A5606:C5619,2),\"\")","v":""},{"$f":"IFERROR(VLOOKUP(L5567,Hoja1!A5606:C5619,3),\"\")","v":""}]
[null,null,null,null,null,null,null,null,null,null,null,null,null,null,null,null,null,null,null,null,null,null,null,null,null,null,null,null,null,{"$f":"IFERROR(VLOOKUP(L5568,Hoja1!A5607:C5620,2),\"\")","v":""},{"$f":"IFERROR(VLOOKUP(L5568,Hoja1!A5607:C5620,3),\"\")","v":""}]
[null,null,null,null,null,null,null,null,null,null,null,null,null,null,null,null,null,null,null,null,null,null,null,null,null,null,null,null,null,{"$f":"IFERROR(VLOOKUP(L5569,Hoja1!A5608:C5621,2),\"\")","v":""},{"$f":"IFERROR(VLOOKUP(L5569,Hoja1!A5608:C5621,3),\"\")","v":""}]
[null,null,null,null,null,null,null,null,null,null,null,null,null,null,null,null,null,null,null,null,null,null,null,null,null,null,null,null,null,{"$f":"IFERROR(VLOOKUP(L5570,Hoja1!A5609:C5622,2),\"\")","v":""},{"$f":"IFERROR(VLOOKUP(L5570,Hoja1!A5609:C5622,3),\"\")","v":""}]
[null,null,null,null,null,null,null,null,null,null,null,null,null,null,null,null,null,null,null,null,null,null,null,null,null,null,null,null,null,{"$f":"IFERROR(VLOOKUP(L5571,Hoja1!A5610:C5623,2),\"\")","v":""},{"$f":"IFERROR(VLOOKUP(L5571,Hoja1!A5610:C5623,3),\"\")","v":""}]
[null,null,null,null,null,null,null,null,null,null,null,null,null,null,null,null,null,null,null,null,null,null,null,null,null,null,null,null,null,{"$f":"IFERROR(VLOOKUP(L5572,Hoja1!A5611:C5624,2),\"\")","v":""},{"$f":"IFERROR(VLOOKUP(L5572,Hoja1!A5611:C5624,3),\"\")","v":""}]
[null,null,null,null,null,null,null,null,null,null,null,null,null,null,null,null,null,null,null,null,null,null,null,null,null,null,null,null,null,{"$f":"IFERROR(VLOOKUP(L5573,Hoja1!A5612:C5625,2),\"\")","v":""},{"$f":"IFERROR(VLOOKUP(L5573,Hoja1!A5612:C5625,3),\"\")","v":""}]
[null,null,null,null,null,null,null,null,null,null,null,null,null,null,null,null,null,null,null,null,null,null,null,null,null,null,null,null,null,{"$f":"IFERROR(VLOOKUP(L5574,Hoja1!A5613:C5626,2),\"\")","v":""},{"$f":"IFERROR(VLOOKUP(L5574,Hoja1!A5613:C5626,3),\"\")","v":""}]
[null,null,null,null,null,null,null,null,null,null,null,null,null,null,null,null,null,null,null,null,null,null,null,null,null,null,null,null,null,{"$f":"IFERROR(VLOOKUP(L5575,Hoja1!A5614:C5627,2),\"\")","v":""},{"$f":"IFERROR(VLOOKUP(L5575,Hoja1!A5614:C5627,3),\"\")","v":""}]
[null,null,null,null,null,null,null,null,null,null,null,null,null,null,null,null,null,null,null,null,null,null,null,null,null,null,null,null,null,{"$f":"IFERROR(VLOOKUP(L5576,Hoja1!A5615:C5628,2),\"\")","v":""},{"$f":"IFERROR(VLOOKUP(L5576,Hoja1!A5615:C5628,3),\"\")","v":""}]
[null,null,null,null,null,null,null,null,null,null,null,null,null,null,null,null,null,null,null,null,null,null,null,null,null,null,null,null,null,{"$f":"IFERROR(VLOOKUP(L5577,Hoja1!A5616:C5629,2),\"\")","v":""},{"$f":"IFERROR(VLOOKUP(L5577,Hoja1!A5616:C5629,3),\"\")","v":""}]
[null,null,null,null,null,null,null,null,null,null,null,null,null,null,null,null,null,null,null,null,null,null,null,null,null,null,null,null,null,{"$f":"IFERROR(VLOOKUP(L5578,Hoja1!A5617:C5630,2),\"\")","v":""},{"$f":"IFERROR(VLOOKUP(L5578,Hoja1!A5617:C5630,3),\"\")","v":""}]
[null,null,null,null,null,null,null,null,null,null,null,null,null,null,null,null,null,null,null,null,null,null,null,null,null,null,null,null,null,{"$f":"IFERROR(VLOOKUP(L5579,Hoja1!A5618:C5631,2),\"\")","v":""},{"$f":"IFERROR(VLOOKUP(L5579,Hoja1!A5618:C5631,3),\"\")","v":""}]
[null,null,null,null,null,null,null,null,null,null,null,null,null,null,null,null,null,null,null,null,null,null,null,null,null,null,null,null,null,{"$f":"IFERROR(VLOOKUP(L5580,Hoja1!A5619:C5632,2),\"\")","v":""},{"$f":"IFERROR(VLOOKUP(L5580,Hoja1!A5619:C5632,3),\"\")","v":""}]
[null,null,null,null,null,null,null,null,null,null,null,null,null,null,null,null,null,null,null,null,null,null,null,null,null,null,null,null,null,{"$f":"IFERROR(VLOOKUP(L5581,Hoja1!A5620:C5633,2),\"\")","v":""},{"$f":"IFERROR(VLOOKUP(L5581,Hoja1!A5620:C5633,3),\"\")","v":""}]
[null,null,null,null,null,null,null,null,null,null,null,null,null,null,null,null,null,null,null,null,null,null,null,null,null,null,null,null,null,{"$f":"IFERROR(VLOOKUP(L5582,Hoja1!A5621:C5634,2),\"\")","v":""},{"$f":"IFERROR(VLOOKUP(L5582,Hoja1!A5621:C5634,3),\"\")","v":""}]
[null,null,null,null,null,null,null,null,null,null,null,null,null,null,null,null,null,null,null,null,null,null,null,null,null,null,null,null,null,{"$f":"IFERROR(VLOOKUP(L5583,Hoja1!A5622:C5635,2),\"\")","v":""},{"$f":"IFERROR(VLOOKUP(L5583,Hoja1!A5622:C5635,3),\"\")","v":""}]
[null,null,null,null,null,null,null,null,null,null,null,null,null,null,null,null,null,null,null,null,null,null,null,null,null,null,null,null,null,{"$f":"IFERROR(VLOOKUP(L5584,Hoja1!A5623:C5636,2),\"\")","v":""},{"$f":"IFERROR(VLOOKUP(L5584,Hoja1!A5623:C5636,3),\"\")","v":""}]
[null,null,null,null,null,null,null,null,null,null,null,null,null,null,null,null,null,null,null,null,null,null,null,null,null,null,null,null,null,{"$f":"IFERROR(VLOOKUP(L5585,Hoja1!A5624:C5637,2),\"\")","v":""},{"$f":"IFERROR(VLOOKUP(L5585,Hoja1!A5624:C5637,3),\"\")","v":""}]
[null,null,null,null,null,null,null,null,null,null,null,null,null,null,null,null,null,null,null,null,null,null,null,null,null,null,null,null,null,{"$f":"IFERROR(VLOOKUP(L5586,Hoja1!A5625:C5638,2),\"\")","v":""},{"$f":"IFERROR(VLOOKUP(L5586,Hoja1!A5625:C5638,3),\"\")","v":""}]
[null,null,null,null,null,null,null,null,null,null,null,null,null,null,null,null,null,null,null,null,null,null,null,null,null,null,null,null,null,{"$f":"IFERROR(VLOOKUP(L5587,Hoja1!A5626:C5639,2),\"\")","v":""},{"$f":"IFERROR(VLOOKUP(L5587,Hoja1!A5626:C5639,3),\"\")","v":""}]
[null,null,null,null,null,null,null,null,null,null,null,null,null,null,null,null,null,null,null,null,null,null,null,null,null,null,null,null,null,{"$f":"IFERROR(VLOOKUP(L5588,Hoja1!A5627:C5640,2),\"\")","v":""},{"$f":"IFERROR(VLOOKUP(L5588,Hoja1!A5627:C5640,3),\"\")","v":""}]
[null,null,null,null,null,null,null,null,null,null,null,null,null,null,null,null,null,null,null,null,null,null,null,null,null,null,null,null,null,{"$f":"IFERROR(VLOOKUP(L5589,Hoja1!A5628:C5641,2),\"\")","v":""},{"$f":"IFERROR(VLOOKUP(L5589,Hoja1!A5628:C5641,3),\"\")","v":""}]
[null,null,null,null,null,null,null,null,null,null,null,null,null,null,null,null,null,null,null,null,null,null,null,null,null,null,null,null,null,{"$f":"IFERROR(VLOOKUP(L5590,Hoja1!A5629:C5642,2),\"\")","v":""},{"$f":"IFERROR(VLOOKUP(L5590,Hoja1!A5629:C5642,3),\"\")","v":""}]
[null,null,null,null,null,null,null,null,null,null,null,null,null,null,null,null,null,null,null,null,null,null,null,null,null,null,null,null,null,{"$f":"IFERROR(VLOOKUP(L5591,Hoja1!A5630:C5643,2),\"\")","v":""},{"$f":"IFERROR(VLOOKUP(L5591,Hoja1!A5630:C5643,3),\"\")","v":""}]
[null,null,null,null,null,null,null,null,null,null,null,null,null,null,null,null,null,null,null,null,null,null,null,null,null,null,null,null,null,{"$f":"IFERROR(VLOOKUP(L5592,Hoja1!A5631:C5644,2),\"\")","v":""},{"$f":"IFERROR(VLOOKUP(L5592,Hoja1!A5631:C5644,3),\"\")","v":""}]
[null,null,null,null,null,null,null,null,null,null,null,null,null,null,null,null,null,null,null,null,null,null,null,null,null,null,null,null,null,{"$f":"IFERROR(VLOOKUP(L5593,Hoja1!A5632:C5645,2),\"\")","v":""},{"$f":"IFERROR(VLOOKUP(L5593,Hoja1!A5632:C5645,3),\"\")","v":""}]
[null,null,null,null,null,null,null,null,null,null,null,null,null,null,null,null,null,null,null,null,null,null,null,null,null,null,null,null,null,{"$f":"IFERROR(VLOOKUP(L5594,Hoja1!A5633:C5646,2),\"\")","v":""},{"$f":"IFERROR(VLOOKUP(L5594,Hoja1!A5633:C5646,3),\"\")","v":""}]
[null,null,null,null,null,null,null,null,null,null,null,null,null,null,null,null,null,null,null,null,null,null,null,null,null,null,null,null,null,{"$f":"IFERROR(VLOOKUP(L5595,Hoja1!A5634:C5647,2),\"\")","v":""},{"$f":"IFERROR(VLOOKUP(L5595,Hoja1!A5634:C5647,3),\"\")","v":""}]
[null,null,null,null,null,null,null,null,null,null,null,null,null,null,null,null,null,null,null,null,null,null,null,null,null,null,null,null,null,{"$f":"IFERROR(VLOOKUP(L5596,Hoja1!A5635:C5648,2),\"\")","v":""},{"$f":"IFERROR(VLOOKUP(L5596,Hoja1!A5635:C5648,3),\"\")","v":""}]
[null,null,null,null,null,null,null,null,null,null,null,null,null,null,null,null,null,null,null,null,null,null,null,null,null,null,null,null,null,{"$f":"IFERROR(VLOOKUP(L5597,Hoja1!A5636:C5649,2),\"\")","v":""},{"$f":"IFERROR(VLOOKUP(L5597,Hoja1!A5636:C5649,3),\"\")","v":""}]
[null,null,null,null,null,null,null,null,null,null,null,null,null,null,null,null,null,null,null,null,null,null,null,null,null,null,null,null,null,{"$f":"IFERROR(VLOOKUP(L5598,Hoja1!A5637:C5650,2),\"\")","v":""},{"$f":"IFERROR(VLOOKUP(L5598,Hoja1!A5637:C5650,3),\"\")","v":""}]
[null,null,null,null,null,null,null,null,null,null,null,null,null,null,null,null,null,null,null,null,null,null,null,null,null,null,null,null,null,{"$f":"IFERROR(VLOOKUP(L5599,Hoja1!A5638:C5651,2),\"\")","v":""},{"$f":"IFERROR(VLOOKUP(L5599,Hoja1!A5638:C5651,3),\"\")","v":""}]
[null,null,null,null,null,null,null,null,null,null,null,null,null,null,null,null,null,null,null,null,null,null,null,null,null,null,null,null,null,{"$f":"IFERROR(VLOOKUP(L5600,Hoja1!A5639:C5652,2),\"\")","v":""},{"$f":"IFERROR(VLOOKUP(L5600,Hoja1!A5639:C5652,3),\"\")","v":""}]
[null,null,null,null,null,null,null,null,null,null,null,null,null,null,null,null,null,null,null,null,null,null,null,null,null,null,null,null,null,{"$f":"IFERROR(VLOOKUP(L5601,Hoja1!A5640:C5653,2),\"\")","v":""},{"$f":"IFERROR(VLOOKUP(L5601,Hoja1!A5640:C5653,3),\"\")","v":""}]
[null,null,null,null,null,null,null,null,null,null,null,null,null,null,null,null,null,null,null,null,null,null,null,null,null,null,null,null,null,{"$f":"IFERROR(VLOOKUP(L5602,Hoja1!A5641:C5654,2),\"\")","v":""},{"$f":"IFERROR(VLOOKUP(L5602,Hoja1!A5641:C5654,3),\"\")","v":""}]
[null,null,null,null,null,null,null,null,null,null,null,null,null,null,null,null,null,null,null,null,null,null,null,null,null,null,null,null,null,{"$f":"IFERROR(VLOOKUP(L5603,Hoja1!A5642:C5655,2),\"\")","v":""},{"$f":"IFERROR(VLOOKUP(L5603,Hoja1!A5642:C5655,3),\"\")","v":""}]
[null,null,null,null,null,null,null,null,null,null,null,null,null,null,null,null,null,null,null,null,null,null,null,null,null,null,null,null,null,{"$f":"IFERROR(VLOOKUP(L5604,Hoja1!A5643:C5656,2),\"\")","v":""},{"$f":"IFERROR(VLOOKUP(L5604,Hoja1!A5643:C5656,3),\"\")","v":""}]
[null,null,null,null,null,null,null,null,null,null,null,null,null,null,null,null,null,null,null,null,null,null,null,null,null,null,null,null,null,{"$f":"IFERROR(VLOOKUP(L5605,Hoja1!A5644:C5657,2),\"\")","v":""},{"$f":"IFERROR(VLOOKUP(L5605,Hoja1!A5644:C5657,3),\"\")","v":""}]
[null,null,null,null,null,null,null,null,null,null,null,null,null,null,null,null,null,null,null,null,null,null,null,null,null,null,null,null,null,{"$f":"IFERROR(VLOOKUP(L5606,Hoja1!A5645:C5658,2),\"\")","v":""},{"$f":"IFERROR(VLOOKUP(L5606,Hoja1!A5645:C5658,3),\"\")","v":""}]
[null,null,null,null,null,null,null,null,null,null,null,null,null,null,null,null,null,null,null,null,null,null,null,null,null,null,null,null,null,{"$f":"IFERROR(VLOOKUP(L5607,Hoja1!A5646:C5659,2),\"\")","v":""},{"$f":"IFERROR(VLOOKUP(L5607,Hoja1!A5646:C5659,3),\"\")","v":""}]
[null,null,null,null,null,null,null,null,null,null,null,null,null,null,null,null,null,null,null,null,null,null,null,null,null,null,null,null,null,{"$f":"IFERROR(VLOOKUP(L5608,Hoja1!A5647:C5660,2),\"\")","v":""},{"$f":"IFERROR(VLOOKUP(L5608,Hoja1!A5647:C5660,3),\"\")","v":""}]
[null,null,null,null,null,null,null,null,null,null,null,null,null,null,null,null,null,null,null,null,null,null,null,null,null,null,null,null,null,{"$f":"IFERROR(VLOOKUP(L5609,Hoja1!A5648:C5661,2),\"\")","v":""},{"$f":"IFERROR(VLOOKUP(L5609,Hoja1!A5648:C5661,3),\"\")","v":""}]
[null,null,null,null,null,null,null,null,null,null,null,null,null,null,null,null,null,null,null,null,null,null,null,null,null,null,null,null,null,{"$f":"IFERROR(VLOOKUP(L5610,Hoja1!A5649:C5662,2),\"\")","v":""},{"$f":"IFERROR(VLOOKUP(L5610,Hoja1!A5649:C5662,3),\"\")","v":""}]
[null,null,null,null,null,null,null,null,null,null,null,null,null,null,null,null,null,null,null,null,null,null,null,null,null,null,null,null,null,{"$f":"IFERROR(VLOOKUP(L5611,Hoja1!A5650:C5663,2),\"\")","v":""},{"$f":"IFERROR(VLOOKUP(L5611,Hoja1!A5650:C5663,3),\"\")","v":""}]
[null,null,null,null,null,null,null,null,null,null,null,null,null,null,null,null,null,null,null,null,null,null,null,null,null,null,null,null,null,{"$f":"IFERROR(VLOOKUP(L5612,Hoja1!A5651:C5664,2),\"\")","v":""},{"$f":"IFERROR(VLOOKUP(L5612,Hoja1!A5651:C5664,3),\"\")","v":""}]
[null,null,null,null,null,null,null,null,null,null,null,null,null,null,null,null,null,null,null,null,null,null,null,null,null,null,null,null,null,{"$f":"IFERROR(VLOOKUP(L5613,Hoja1!A5652:C5665,2),\"\")","v":""},{"$f":"IFERROR(VLOOKUP(L5613,Hoja1!A5652:C5665,3),\"\")","v":""}]
[null,null,null,null,null,null,null,null,null,null,null,null,null,null,null,null,null,null,null,null,null,null,null,null,null,null,null,null,null,{"$f":"IFERROR(VLOOKUP(L5614,Hoja1!A5653:C5666,2),\"\")","v":""},{"$f":"IFERROR(VLOOKUP(L5614,Hoja1!A5653:C5666,3),\"\")","v":""}]
[null,null,null,null,null,null,null,null,null,null,null,null,null,null,null,null,null,null,null,null,null,null,null,null,null,null,null,null,null,{"$f":"IFERROR(VLOOKUP(L5615,Hoja1!A5654:C5667,2),\"\")","v":""},{"$f":"IFERROR(VLOOKUP(L5615,Hoja1!A5654:C5667,3),\"\")","v":""}]
[null,null,null,null,null,null,null,null,null,null,null,null,null,null,null,null,null,null,null,null,null,null,null,null,null,null,null,null,null,{"$f":"IFERROR(VLOOKUP(L5616,Hoja1!A5655:C5668,2),\"\")","v":""},{"$f":"IFERROR(VLOOKUP(L5616,Hoja1!A5655:C5668,3),\"\")","v":""}]
[null,null,null,null,null,null,null,null,null,null,null,null,null,null,null,null,null,null,null,null,null,null,null,null,null,null,null,null,null,{"$f":"IFERROR(VLOOKUP(L5617,Hoja1!A5656:C5669,2),\"\")","v":""},{"$f":"IFERROR(VLOOKUP(L5617,Hoja1!A5656:C5669,3),\"\")","v":""}]
[null,null,null,null,null,null,null,null,null,null,null,null,null,null,null,null,null,null,null,null,null,null,null,null,null,null,null,null,null,{"$f":"IFERROR(VLOOKUP(L5618,Hoja1!A5657:C5670,2),\"\")","v":""},{"$f":"IFERROR(VLOOKUP(L5618,Hoja1!A5657:C5670,3),\"\")","v":""}]
[null,null,null,null,null,null,null,null,null,null,null,null,null,null,null,null,null,null,null,null,null,null,null,null,null,null,null,null,null,{"$f":"IFERROR(VLOOKUP(L5619,Hoja1!A5658:C5671,2),\"\")","v":""},{"$f":"IFERROR(VLOOKUP(L5619,Hoja1!A5658:C5671,3),\"\")","v":""}]
[null,null,null,null,null,null,null,null,null,null,null,null,null,null,null,null,null,null,null,null,null,null,null,null,null,null,null,null,null,{"$f":"IFERROR(VLOOKUP(L5620,Hoja1!A5659:C5672,2),\"\")","v":""},{"$f":"IFERROR(VLOOKUP(L5620,Hoja1!A5659:C5672,3),\"\")","v":""}]
[null,null,null,null,null,null,null,null,null,null,null,null,null,null,null,null,null,null,null,null,null,null,null,null,null,null,null,null,null,{"$f":"IFERROR(VLOOKUP(L5621,Hoja1!A5660:C5673,2),\"\")","v":""},{"$f":"IFERROR(VLOOKUP(L5621,Hoja1!A5660:C5673,3),\"\")","v":""}]
[null,null,null,null,null,null,null,null,null,null,null,null,null,null,null,null,null,null,null,null,null,null,null,null,null,null,null,null,null,{"$f":"IFERROR(VLOOKUP(L5622,Hoja1!A5661:C5674,2),\"\")","v":""},{"$f":"IFERROR(VLOOKUP(L5622,Hoja1!A5661:C5674,3),\"\")","v":""}]
[null,null,null,null,null,null,null,null,null,null,null,null,null,null,null,null,null,null,null,null,null,null,null,null,null,null,null,null,null,{"$f":"IFERROR(VLOOKUP(L5623,Hoja1!A5662:C5675,2),\"\")","v":""},{"$f":"IFERROR(VLOOKUP(L5623,Hoja1!A5662:C5675,3),\"\")","v":""}]
[null,null,null,null,null,null,null,null,null,null,null,null,null,null,null,null,null,null,null,null,null,null,null,null,null,null,null,null,null,{"$f":"IFERROR(VLOOKUP(L5624,Hoja1!A5663:C5676,2),\"\")","v":""},{"$f":"IFERROR(VLOOKUP(L5624,Hoja1!A5663:C5676,3),\"\")","v":""}]
[null,null,null,null,null,null,null,null,null,null,null,null,null,null,null,null,null,null,null,null,null,null,null,null,null,null,null,null,null,{"$f":"IFERROR(VLOOKUP(L5625,Hoja1!A5664:C5677,2),\"\")","v":""},{"$f":"IFERROR(VLOOKUP(L5625,Hoja1!A5664:C5677,3),\"\")","v":""}]
[null,null,null,null,null,null,null,null,null,null,null,null,null,null,null,null,null,null,null,null,null,null,null,null,null,null,null,null,null,{"$f":"IFERROR(VLOOKUP(L5626,Hoja1!A5665:C5678,2),\"\")","v":""},{"$f":"IFERROR(VLOOKUP(L5626,Hoja1!A5665:C5678,3),\"\")","v":""}]
[null,null,null,null,null,null,null,null,null,null,null,null,null,null,null,null,null,null,null,null,null,null,null,null,null,null,null,null,null,{"$f":"IFERROR(VLOOKUP(L5627,Hoja1!A5666:C5679,2),\"\")","v":""},{"$f":"IFERROR(VLOOKUP(L5627,Hoja1!A5666:C5679,3),\"\")","v":""}]
[null,null,null,null,null,null,null,null,null,null,null,null,null,null,null,null,null,null,null,null,null,null,null,null,null,null,null,null,null,{"$f":"IFERROR(VLOOKUP(L5628,Hoja1!A5667:C5680,2),\"\")","v":""},{"$f":"IFERROR(VLOOKUP(L5628,Hoja1!A5667:C5680,3),\"\")","v":""}]
[null,null,null,null,null,null,null,null,null,null,null,null,null,null,null,null,null,null,null,null,null,null,null,null,null,null,null,null,null,{"$f":"IFERROR(VLOOKUP(L5629,Hoja1!A5668:C5681,2),\"\")","v":""},{"$f":"IFERROR(VLOOKUP(L5629,Hoja1!A5668:C5681,3),\"\")","v":""}]
[null,null,null,null,null,null,null,null,null,null,null,null,null,null,null,null,null,null,null,null,null,null,null,null,null,null,null,null,null,{"$f":"IFERROR(VLOOKUP(L5630,Hoja1!A5669:C5682,2),\"\")","v":""},{"$f":"IFERROR(VLOOKUP(L5630,Hoja1!A5669:C5682,3),\"\")","v":""}]
[null,null,null,null,null,null,null,null,null,null,null,null,null,null,null,null,null,null,null,null,null,null,null,null,null,null,null,null,null,{"$f":"IFERROR(VLOOKUP(L5631,Hoja1!A5670:C5683,2),\"\")","v":""},{"$f":"IFERROR(VLOOKUP(L5631,Hoja1!A5670:C5683,3),\"\")","v":""}]
[null,null,null,null,null,null,null,null,null,null,null,null,null,null,null,null,null,null,null,null,null,null,null,null,null,null,null,null,null,{"$f":"IFERROR(VLOOKUP(L5632,Hoja1!A5671:C5684,2),\"\")","v":""},{"$f":"IFERROR(VLOOKUP(L5632,Hoja1!A5671:C5684,3),\"\")","v":""}]
[null,null,null,null,null,null,null,null,null,null,null,null,null,null,null,null,null,null,null,null,null,null,null,null,null,null,null,null,null,{"$f":"IFERROR(VLOOKUP(L5633,Hoja1!A5672:C5685,2),\"\")","v":""},{"$f":"IFERROR(VLOOKUP(L5633,Hoja1!A5672:C5685,3),\"\")","v":""}]
[null,null,null,null,null,null,null,null,null,null,null,null,null,null,null,null,null,null,null,null,null,null,null,null,null,null,null,null,null,{"$f":"IFERROR(VLOOKUP(L5634,Hoja1!A5673:C5686,2),\"\")","v":""},{"$f":"IFERROR(VLOOKUP(L5634,Hoja1!A5673:C5686,3),\"\")","v":""}]
[null,null,null,null,null,null,null,null,null,null,null,null,null,null,null,null,null,null,null,null,null,null,null,null,null,null,null,null,null,{"$f":"IFERROR(VLOOKUP(L5635,Hoja1!A5674:C5687,2),\"\")","v":""},{"$f":"IFERROR(VLOOKUP(L5635,Hoja1!A5674:C5687,3),\"\")","v":""}]
[null,null,null,null,null,null,null,null,null,null,null,null,null,null,null,null,null,null,null,null,null,null,null,null,null,null,null,null,null,{"$f":"IFERROR(VLOOKUP(L5636,Hoja1!A5675:C5688,2),\"\")","v":""},{"$f":"IFERROR(VLOOKUP(L5636,Hoja1!A5675:C5688,3),\"\")","v":""}]
[null,null,null,null,null,null,null,null,null,null,null,null,null,null,null,null,null,null,null,null,null,null,null,null,null,null,null,null,null,{"$f":"IFERROR(VLOOKUP(L5637,Hoja1!A5676:C5689,2),\"\")","v":""},{"$f":"IFERROR(VLOOKUP(L5637,Hoja1!A5676:C5689,3),\"\")","v":""}]
[null,null,null,null,null,null,null,null,null,null,null,null,null,null,null,null,null,null,null,null,null,null,null,null,null,null,null,null,null,{"$f":"IFERROR(VLOOKUP(L5638,Hoja1!A5677:C5690,2),\"\")","v":""},{"$f":"IFERROR(VLOOKUP(L5638,Hoja1!A5677:C5690,3),\"\")","v":""}]
[null,null,null,null,null,null,null,null,null,null,null,null,null,null,null,null,null,null,null,null,null,null,null,null,null,null,null,null,null,{"$f":"IFERROR(VLOOKUP(L5639,Hoja1!A5678:C5691,2),\"\")","v":""},{"$f":"IFERROR(VLOOKUP(L5639,Hoja1!A5678:C5691,3),\"\")","v":""}]
[null,null,null,null,null,null,null,null,null,null,null,null,null,null,null,null,null,null,null,null,null,null,null,null,null,null,null,null,null,{"$f":"IFERROR(VLOOKUP(L5640,Hoja1!A5679:C5692,2),\"\")","v":""},{"$f":"IFERROR(VLOOKUP(L5640,Hoja1!A5679:C5692,3),\"\")","v":""}]
[null,null,null,null,null,null,null,null,null,null,null,null,null,null,null,null,null,null,null,null,null,null,null,null,null,null,null,null,null,{"$f":"IFERROR(VLOOKUP(L5641,Hoja1!A5680:C5693,2),\"\")","v":""},{"$f":"IFERROR(VLOOKUP(L5641,Hoja1!A5680:C5693,3),\"\")","v":""}]
[null,null,null,null,null,null,null,null,null,null,null,null,null,null,null,null,null,null,null,null,null,null,null,null,null,null,null,null,null,{"$f":"IFERROR(VLOOKUP(L5642,Hoja1!A5681:C5694,2),\"\")","v":""},{"$f":"IFERROR(VLOOKUP(L5642,Hoja1!A5681:C5694,3),\"\")","v":""}]
[null,null,null,null,null,null,null,null,null,null,null,null,null,null,null,null,null,null,null,null,null,null,null,null,null,null,null,null,null,{"$f":"IFERROR(VLOOKUP(L5643,Hoja1!A5682:C5695,2),\"\")","v":""},{"$f":"IFERROR(VLOOKUP(L5643,Hoja1!A5682:C5695,3),\"\")","v":""}]
[null,null,null,null,null,null,null,null,null,null,null,null,null,null,null,null,null,null,null,null,null,null,null,null,null,null,null,null,null,{"$f":"IFERROR(VLOOKUP(L5644,Hoja1!A5683:C5696,2),\"\")","v":""},{"$f":"IFERROR(VLOOKUP(L5644,Hoja1!A5683:C5696,3),\"\")","v":""}]
[null,null,null,null,null,null,null,null,null,null,null,null,null,null,null,null,null,null,null,null,null,null,null,null,null,null,null,null,null,{"$f":"IFERROR(VLOOKUP(L5645,Hoja1!A5684:C5697,2),\"\")","v":""},{"$f":"IFERROR(VLOOKUP(L5645,Hoja1!A5684:C5697,3),\"\")","v":""}]
[null,null,null,null,null,null,null,null,null,null,null,null,null,null,null,null,null,null,null,null,null,null,null,null,null,null,null,null,null,{"$f":"IFERROR(VLOOKUP(L5646,Hoja1!A5685:C5698,2),\"\")","v":""},{"$f":"IFERROR(VLOOKUP(L5646,Hoja1!A5685:C5698,3),\"\")","v":""}]
[null,null,null,null,null,null,null,null,null,null,null,null,null,null,null,null,null,null,null,null,null,null,null,null,null,null,null,null,null,{"$f":"IFERROR(VLOOKUP(L5647,Hoja1!A5686:C5699,2),\"\")","v":""},{"$f":"IFERROR(VLOOKUP(L5647,Hoja1!A5686:C5699,3),\"\")","v":""}]
[null,null,null,null,null,null,null,null,null,null,null,null,null,null,null,null,null,null,null,null,null,null,null,null,null,null,null,null,null,{"$f":"IFERROR(VLOOKUP(L5648,Hoja1!A5687:C5700,2),\"\")","v":""},{"$f":"IFERROR(VLOOKUP(L5648,Hoja1!A5687:C5700,3),\"\")","v":""}]
[null,null,null,null,null,null,null,null,null,null,null,null,null,null,null,null,null,null,null,null,null,null,null,null,null,null,null,null,null,{"$f":"IFERROR(VLOOKUP(L5649,Hoja1!A5688:C5701,2),\"\")","v":""},{"$f":"IFERROR(VLOOKUP(L5649,Hoja1!A5688:C5701,3),\"\")","v":""}]
[null,null,null,null,null,null,null,null,null,null,null,null,null,null,null,null,null,null,null,null,null,null,null,null,null,null,null,null,null,{"$f":"IFERROR(VLOOKUP(L5650,Hoja1!A5689:C5702,2),\"\")","v":""},{"$f":"IFERROR(VLOOKUP(L5650,Hoja1!A5689:C5702,3),\"\")","v":""}]
[null,null,null,null,null,null,null,null,null,null,null,null,null,null,null,null,null,null,null,null,null,null,null,null,null,null,null,null,null,{"$f":"IFERROR(VLOOKUP(L5651,Hoja1!A5690:C5703,2),\"\")","v":""},{"$f":"IFERROR(VLOOKUP(L5651,Hoja1!A5690:C5703,3),\"\")","v":""}]
[null,null,null,null,null,null,null,null,null,null,null,null,null,null,null,null,null,null,null,null,null,null,null,null,null,null,null,null,null,{"$f":"IFERROR(VLOOKUP(L5652,Hoja1!A5691:C5704,2),\"\")","v":""},{"$f":"IFERROR(VLOOKUP(L5652,Hoja1!A5691:C5704,3),\"\")","v":""}]
[null,null,null,null,null,null,null,null,null,null,null,null,null,null,null,null,null,null,null,null,null,null,null,null,null,null,null,null,null,{"$f":"IFERROR(VLOOKUP(L5653,Hoja1!A5692:C5705,2),\"\")","v":""},{"$f":"IFERROR(VLOOKUP(L5653,Hoja1!A5692:C5705,3),\"\")","v":""}]
[null,null,null,null,null,null,null,null,null,null,null,null,null,null,null,null,null,null,null,null,null,null,null,null,null,null,null,null,null,{"$f":"IFERROR(VLOOKUP(L5654,Hoja1!A5693:C5706,2),\"\")","v":""},{"$f":"IFERROR(VLOOKUP(L5654,Hoja1!A5693:C5706,3),\"\")","v":""}]
[null,null,null,null,null,null,null,null,null,null,null,null,null,null,null,null,null,null,null,null,null,null,null,null,null,null,null,null,null,{"$f":"IFERROR(VLOOKUP(L5655,Hoja1!A5694:C5707,2),\"\")","v":""},{"$f":"IFERROR(VLOOKUP(L5655,Hoja1!A5694:C5707,3),\"\")","v":""}]
[null,null,null,null,null,null,null,null,null,null,null,null,null,null,null,null,null,null,null,null,null,null,null,null,null,null,null,null,null,{"$f":"IFERROR(VLOOKUP(L5656,Hoja1!A5695:C5708,2),\"\")","v":""},{"$f":"IFERROR(VLOOKUP(L5656,Hoja1!A5695:C5708,3),\"\")","v":""}]
[null,null,null,null,null,null,null,null,null,null,null,null,null,null,null,null,null,null,null,null,null,null,null,null,null,null,null,null,null,{"$f":"IFERROR(VLOOKUP(L5657,Hoja1!A5696:C5709,2),\"\")","v":""},{"$f":"IFERROR(VLOOKUP(L5657,Hoja1!A5696:C5709,3),\"\")","v":""}]
[null,null,null,null,null,null,null,null,null,null,null,null,null,null,null,null,null,null,null,null,null,null,null,null,null,null,null,null,null,{"$f":"IFERROR(VLOOKUP(L5658,Hoja1!A5697:C5710,2),\"\")","v":""},{"$f":"IFERROR(VLOOKUP(L5658,Hoja1!A5697:C5710,3),\"\")","v":""}]
[null,null,null,null,null,null,null,null,null,null,null,null,null,null,null,null,null,null,null,null,null,null,null,null,null,null,null,null,null,{"$f":"IFERROR(VLOOKUP(L5659,Hoja1!A5698:C5711,2),\"\")","v":""},{"$f":"IFERROR(VLOOKUP(L5659,Hoja1!A5698:C5711,3),\"\")","v":""}]
[null,null,null,null,null,null,null,null,null,null,null,null,null,null,null,null,null,null,null,null,null,null,null,null,null,null,null,null,null,{"$f":"IFERROR(VLOOKUP(L5660,Hoja1!A5699:C5712,2),\"\")","v":""},{"$f":"IFERROR(VLOOKUP(L5660,Hoja1!A5699:C5712,3),\"\")","v":""}]
[null,null,null,null,null,null,null,null,null,null,null,null,null,null,null,null,null,null,null,null,null,null,null,null,null,null,null,null,null,{"$f":"IFERROR(VLOOKUP(L5661,Hoja1!A5700:C5713,2),\"\")","v":""},{"$f":"IFERROR(VLOOKUP(L5661,Hoja1!A5700:C5713,3),\"\")","v":""}]
[null,null,null,null,null,null,null,null,null,null,null,null,null,null,null,null,null,null,null,null,null,null,null,null,null,null,null,null,null,{"$f":"IFERROR(VLOOKUP(L5662,Hoja1!A5701:C5714,2),\"\")","v":""},{"$f":"IFERROR(VLOOKUP(L5662,Hoja1!A5701:C5714,3),\"\")","v":""}]
[null,null,null,null,null,null,null,null,null,null,null,null,null,null,null,null,null,null,null,null,null,null,null,null,null,null,null,null,null,{"$f":"IFERROR(VLOOKUP(L5663,Hoja1!A5702:C5715,2),\"\")","v":""},{"$f":"IFERROR(VLOOKUP(L5663,Hoja1!A5702:C5715,3),\"\")","v":""}]
[null,null,null,null,null,null,null,null,null,null,null,null,null,null,null,null,null,null,null,null,null,null,null,null,null,null,null,null,null,{"$f":"IFERROR(VLOOKUP(L5664,Hoja1!A5703:C5716,2),\"\")","v":""},{"$f":"IFERROR(VLOOKUP(L5664,Hoja1!A5703:C5716,3),\"\")","v":""}]
[null,null,null,null,null,null,null,null,null,null,null,null,null,null,null,null,null,null,null,null,null,null,null,null,null,null,null,null,null,{"$f":"IFERROR(VLOOKUP(L5665,Hoja1!A5704:C5717,2),\"\")","v":""},{"$f":"IFERROR(VLOOKUP(L5665,Hoja1!A5704:C5717,3),\"\")","v":""}]
[null,null,null,null,null,null,null,null,null,null,null,null,null,null,null,null,null,null,null,null,null,null,null,null,null,null,null,null,null,{"$f":"IFERROR(VLOOKUP(L5666,Hoja1!A5705:C5718,2),\"\")","v":""},{"$f":"IFERROR(VLOOKUP(L5666,Hoja1!A5705:C5718,3),\"\")","v":""}]
[null,null,null,null,null,null,null,null,null,null,null,null,null,null,null,null,null,null,null,null,null,null,null,null,null,null,null,null,null,{"$f":"IFERROR(VLOOKUP(L5667,Hoja1!A5706:C5719,2),\"\")","v":""},{"$f":"IFERROR(VLOOKUP(L5667,Hoja1!A5706:C5719,3),\"\")","v":""}]
[null,null,null,null,null,null,null,null,null,null,null,null,null,null,null,null,null,null,null,null,null,null,null,null,null,null,null,null,null,{"$f":"IFERROR(VLOOKUP(L5668,Hoja1!A5707:C5720,2),\"\")","v":""},{"$f":"IFERROR(VLOOKUP(L5668,Hoja1!A5707:C5720,3),\"\")","v":""}]
[null,null,null,null,null,null,null,null,null,null,null,null,null,null,null,null,null,null,null,null,null,null,null,null,null,null,null,null,null,{"$f":"IFERROR(VLOOKUP(L5669,Hoja1!A5708:C5721,2),\"\")","v":""},{"$f":"IFERROR(VLOOKUP(L5669,Hoja1!A5708:C5721,3),\"\")","v":""}]
[null,null,null,null,null,null,null,null,null,null,null,null,null,null,null,null,null,null,null,null,null,null,null,null,null,null,null,null,null,{"$f":"IFERROR(VLOOKUP(L5670,Hoja1!A5709:C5722,2),\"\")","v":""},{"$f":"IFERROR(VLOOKUP(L5670,Hoja1!A5709:C5722,3),\"\")","v":""}]
[null,null,null,null,null,null,null,null,null,null,null,null,null,null,null,null,null,null,null,null,null,null,null,null,null,null,null,null,null,{"$f":"IFERROR(VLOOKUP(L5671,Hoja1!A5710:C5723,2),\"\")","v":""},{"$f":"IFERROR(VLOOKUP(L5671,Hoja1!A5710:C5723,3),\"\")","v":""}]
[null,null,null,null,null,null,null,null,null,null,null,null,null,null,null,null,null,null,null,null,null,null,null,null,null,null,null,null,null,{"$f":"IFERROR(VLOOKUP(L5672,Hoja1!A5711:C5724,2),\"\")","v":""},{"$f":"IFERROR(VLOOKUP(L5672,Hoja1!A5711:C5724,3),\"\")","v":""}]
[null,null,null,null,null,null,null,null,null,null,null,null,null,null,null,null,null,null,null,null,null,null,null,null,null,null,null,null,null,{"$f":"IFERROR(VLOOKUP(L5673,Hoja1!A5712:C5725,2),\"\")","v":""},{"$f":"IFERROR(VLOOKUP(L5673,Hoja1!A5712:C5725,3),\"\")","v":""}]
[null,null,null,null,null,null,null,null,null,null,null,null,null,null,null,null,null,null,null,null,null,null,null,null,null,null,null,null,null,{"$f":"IFERROR(VLOOKUP(L5674,Hoja1!A5713:C5726,2),\"\")","v":""},{"$f":"IFERROR(VLOOKUP(L5674,Hoja1!A5713:C5726,3),\"\")","v":""}]
[null,null,null,null,null,null,null,null,null,null,null,null,null,null,null,null,null,null,null,null,null,null,null,null,null,null,null,null,null,{"$f":"IFERROR(VLOOKUP(L5675,Hoja1!A5714:C5727,2),\"\")","v":""},{"$f":"IFERROR(VLOOKUP(L5675,Hoja1!A5714:C5727,3),\"\")","v":""}]
[null,null,null,null,null,null,null,null,null,null,null,null,null,null,null,null,null,null,null,null,null,null,null,null,null,null,null,null,null,{"$f":"IFERROR(VLOOKUP(L5676,Hoja1!A5715:C5728,2),\"\")","v":""},{"$f":"IFERROR(VLOOKUP(L5676,Hoja1!A5715:C5728,3),\"\")","v":""}]
[null,null,null,null,null,null,null,null,null,null,null,null,null,null,null,null,null,null,null,null,null,null,null,null,null,null,null,null,null,{"$f":"IFERROR(VLOOKUP(L5677,Hoja1!A5716:C5729,2),\"\")","v":""},{"$f":"IFERROR(VLOOKUP(L5677,Hoja1!A5716:C5729,3),\"\")","v":""}]
[null,null,null,null,null,null,null,null,null,null,null,null,null,null,null,null,null,null,null,null,null,null,null,null,null,null,null,null,null,{"$f":"IFERROR(VLOOKUP(L5678,Hoja1!A5717:C5730,2),\"\")","v":""},{"$f":"IFERROR(VLOOKUP(L5678,Hoja1!A5717:C5730,3),\"\")","v":""}]
[null,null,null,null,null,null,null,null,null,null,null,null,null,null,null,null,null,null,null,null,null,null,null,null,null,null,null,null,null,{"$f":"IFERROR(VLOOKUP(L5679,Hoja1!A5718:C5731,2),\"\")","v":""},{"$f":"IFERROR(VLOOKUP(L5679,Hoja1!A5718:C5731,3),\"\")","v":""}]
[null,null,null,null,null,null,null,null,null,null,null,null,null,null,null,null,null,null,null,null,null,null,null,null,null,null,null,null,null,{"$f":"IFERROR(VLOOKUP(L5680,Hoja1!A5719:C5732,2),\"\")","v":""},{"$f":"IFERROR(VLOOKUP(L5680,Hoja1!A5719:C5732,3),\"\")","v":""}]

{"sheet":"Control de cambios ","index":2,"n_rows":7,"n_cols":8,"rows_kept":7,"cut":false,"hidden":false,"merged":[[4,2,4,8],[5,2,5,8],[6,2,6,8],[0,0,2,1],[0,2,1,6],[0,7,0,8],[1,7,1,8],[2,2,2,6],[2,7,2,8]]}
[null,null,"Proceso: Gestión del Servicio al Ciudadano",null,null,null,null,"Código: SGC-F012"]
[null,null,null,null,null,null,null,"Versión: 04"]
[null,null,"Seguimiento y control PQRSDF",null,null,null,null,"Vigencia: 12/09/2024"]
["CONTROL DE CAMBIOS"]
["Versión","Fecha","Cambios Realizados "]
[3,"2022-05-11","Modificación del formato"]
[4,"2024-09-12","Modificación del formato.  \nModificación de código, colores y accesibilidad según el  SGI-P001 Procedimiento para la elaboración y control de documentos"]