{"text_format":"1","workbook":"xlsx","n_sheets":4,"sheets":["Alcance","Conteo y Equivalencias","Cotizacion","Resumen del Alcance"],"not_rendered":{"charts":0,"images":1,"macros":1,"external_links":0,"defined_names":0,"comments":1,"pivot_tables":0},"unopened":[],"bounds":{"document_bytes":16777216,"sheet_cells":100000,"rows_first":2000,"rows_last":500,"rows_between":2000,"halvings":0,"cell_chars":16384,"cell_head_chars":4096},"cells_cut":0,"cells_raw":0,"read":"whole","date_system":"1900"}

{"sheet":"Alcance","index":0,"n_rows":1719,"n_cols":10,"rows_kept":1719,"cut":false,"hidden":false,"merged":[[0,0,3,1],[0,2,3,6],[916,0,916,1],[916,2,916,3],[916,4,916,5],[916,6,916,7],[917,0,917,1],[917,2,917,3],[919,2,919,3],[919,4,919,5],[917,4,917,5],[917,6,917,7],[918,0,918,1],[918,2,918,3],[918,4,918,5],[918,6,918,7],[919,6,919,7],[921,4,921,5],[921,6,921,7],[919,0,919,1],[920,0,920,1],[920,2,920,3],[920,4,920,5],[920,6,920,7],[921,0,921,1],[921,2,921,3],[913,4,913,5],[913,6,913,7],[911,0,911,1],[912,0,912,1],[912,2,912,3],[912,4,912,5],[912,6,912,7],[913,0,913,1],[913,2,913,3],[914,0,914,1],[914,2,914,3],[914,4,914,5],[914,6,914,7],[915,2,915,3],[915,4,915,5],[915,6,915,7],[915,0,915,1],[907,2,907,3],[907,4,907,5],[907,6,907,7],[907,0,907,1],[908,0,908,1],[908,2,908,3],[908,4,908,5],[908,6,908,7],[909,0,909,1],[909,2,909,3],[911,2,911,3],[911,4,911,5],[909,4,909,5],[909,6,909,7],[910,0,910,1],[910,2,910,3],[910,4,910,5],[910,6,910,7],[911,6,911,7],[900,0,900,1],[900,2,900,3],[900,4,900,5],[900,6,900,7],[901,0,901,1],[901,2,901,3],[906,0,906,1],[906,2,906,3],[906,4,906,5],[906,6,906,7],[903,2,903,3],[903,4,903,5],[901,4,901,5],[901,6,901,7],[902,0,902,1],[902,2,902,3],[902,4,902,5],[902,6,902,7],[903,6,903,7],[905,4,905,5],[905,6,905,7],[903,0,903,1],[904,0,904,1],[904,2,904,3],[904,4,904,5],[904,6,904,7],[905,0,905,1],[905,2,905,3],[894,2,894,3],[894,4,894,5],[894,6,894,7],[895,6,895,7],[897,4,897,5],[897,6,897,7],[895,0,895,1],[896,0,896,1],[896,2,896,3],[896,4,896,5],[896,6,896,7],[897,0,897,1],[897,2,897,3],[899,2,899,3],[899,4,899,5],[899,6,899,7],[899,0,899,1],[898,0,898,1],[898,2,898,3],[898,4,898,5],[898,6,898,7],[889,4,889,5],[889,6,889,7],[887,0,887,1],[888,0,888,1],[888,2,888,3],[888,4,888,5],[888,6,888,7],[889,0,889,1],[889,2,889,3],[890,0,890,1],[890,2,890,3],[890,4,890,5],[890,6,890,7],[891,2,891,3],[891,4,891,5],[891,6,891,7],[891,0,891,1],[892,0,892,1],[892,2,892,3],[892,4,892,5],[892,6,892,7],[893,0,893,1],[893,2,893,3],[895,2,895,3],[895,4,895,5],[893,4,893,5],[893,6,893,7],[894,0,894,1],[881,4,881,5],[881,6,881,7],[879,0,879,1],[880,0,880,1],[880,2,880,3],[880,4,880,5],[880,6,880,7],[881,0,881,1],[881,2,881,3],[887,2,887,3],[887,4,887,5],[885,4,885,5],[885,6,885,7],[886,0,886,1],[886,2,886,3],[886,4,886,5],[886,6,886,7],[887,6,887,7],[882,0,882,1],[882,2,882,3],[882,4,882,5],[882,6,882,7],[883,2,883,3],[883,4,883,5],[883,6,883,7],[883,0,883,1],[884,0,884,1],[884,2,884,3],[884,4,884,5],[884,6,884,7],[885,0,885,1],[885,2,885,3],[874,0,874,1],[874,2,874,3],[874,4,874,5],[874,6,874,7],[875,2,875,3],[875,4,875,5],[875,6,875,7],[875,0,875,1],[876,0,876,1],[876,2,876,3],[876,4,876,5],[876,6,876,7],[877,0,877,1],[877,2,877,3],[879,2,879,3],[879,4,879,5],[877,4,877,5],[877,6,877,7],[878,0,878,1],[878,2,878,3],[878,4,878,5],[878,6,878,7],[879,6,879,7],[869,0,869,1],[869,2,869,3],[871,2,871,3],[871,4,871,5],[869,4,869,5],[869,6,869,7],[870,0,870,1],[870,2,870,3],[870,4,870,5],[870,6,870,7],[871,6,871,7],[873,4,873,5],[873,6,873,7],[871,0,871,1],[872,0,872,1],[872,2,872,3],[872,4,872,5],[872,6,872,7],[873,0,873,1],[873,2,873,3],[864,0,864,1],[864,2,864,3],[864,4,864,5],[864,6,864,7],[865,0,865,1],[865,2,865,3],[866,0,866,1],[866,2,866,3],[866,4,866,5],[866,6,866,7],[867,2,867,3],[867,4,867,5],[867,6,867,7],[867,0,867,1],[868,0,868,1],[868,2,868,3],[868,4,868,5],[868,6,868,7],[865,4,865,5],[865,6,865,7],[853,4,853,5],[853,6,853,7],[851,0,851,1],[852,0,852,1],[852,2,852,3],[852,4,852,5],[852,6,852,7],[853,0,853,1],[853,2,853,3],[862,0,862,1],[862,2,862,3],[862,4,862,5],[862,6,862,7],[863,2,863,3],[863,4,863,5],[863,6,863,7],[863,0,863,1],[859,2,859,3],[859,4,859,5],[859,6,859,7],[861,4,861,5],[861,6,861,7],[859,0,859,1],[860,0,860,1],[860,2,860,3],[860,4,860,5],[860,6,860,7],[861,0,861,1],[861,2,861,3],[858,4,858,5],[858,6,858,7],[847,2,847,3],[847,4,847,5],[847,6,847,7],[847,0,847,1],[848,0,848,1],[848,2,848,3],[848,4,848,5],[848,6,848,7],[849,0,849,1],[849,2,849,3],[851,2,851,3],[851,4,851,5],[849,4,849,5],[849,6,849,7],[850,0,850,1],[850,2,850,3],[850,4,850,5],[850,6,850,7],[851,6,851,7],[834,4,834,5],[834,6,834,7],[835,0,835,1],[835,2,835,3],[835,4,835,5],[835,6,835,7],[836,6,836,7],[845,4,845,5],[845,6,845,7],[843,0,843,1],[844,0,844,1],[844,2,844,3],[844,4,844,5],[844,6,844,7],[845,0,845,1],[845,2,845,3],[846,0,846,1],[846,2,846,3],[846,4,846,5],[846,6,846,7],[836,0,836,1],[837,0,837,1],[837,2,837,3],[837,4,837,5],[837,6,837,7],[840,0,840,7],[841,0,841,7],[842,0,842,1],[842,2,842,3],[842,4,842,5],[842,6,842,7],[843,2,843,3],[488,2,488,3],[488,4,488,5],[488,6,488,7],[490,4,490,5],[490,6,490,7],[488,0,488,1],[489,0,489,1],[489,2,489,3],[489,4,489,5],[489,6,489,7],[490,0,490,1],[490,2,490,3],[494,4,494,5],[494,6,494,7],[857,4,857,5],[857,6,857,7],[831,0,831,1],[831,2,831,3],[831,4,831,5],[831,6,831,7],[832,2,832,3],[832,4,832,5],[832,6,832,7],[832,0,832,1],[833,0,833,1],[833,2,833,3],[833,4,833,5],[833,6,833,7],[834,0,834,1],[834,2,834,3],[836,2,836,3],[836,4,836,5],[843,4,843,5],[843,6,843,7],[483,0,483,1],[483,2,483,3],[483,4,483,5],[483,6,483,7],[484,2,484,3],[484,4,484,5],[484,6,484,7],[484,0,484,1],[485,0,485,1],[485,2,485,3],[485,4,485,5],[485,6,485,7],[486,0,486,1],[486,2,486,3],[487,0,487,1],[487,2,487,3],[487,4,487,5],[487,6,487,7],[825,0,825,1],[825,2,825,3],[825,4,825,5],[825,6,825,7],[826,0,826,1],[826,2,826,3],[828,2,828,3],[828,4,828,5],[826,4,826,5],[826,6,826,7],[827,0,827,1],[827,2,827,3],[827,4,827,5],[827,6,827,7],[828,6,828,7],[830,4,830,5],[830,6,830,7],[828,0,828,1],[829,0,829,1],[829,2,829,3],[829,4,829,5],[829,6,829,7],[830,0,830,1],[830,2,830,3],[822,4,822,5],[822,6,822,7],[820,0,820,1],[821,0,821,1],[821,2,821,3],[821,4,821,5],[821,6,821,7],[822,0,822,1],[822,2,822,3],[823,0,823,1],[823,2,823,3],[823,4,823,5],[823,6,823,7],[824,2,824,3],[824,4,824,5],[824,6,824,7],[824,0,824,1],[816,2,816,3],[816,4,816,5],[816,6,816,7],[816,0,816,1],[817,0,817,1],[817,2,817,3],[817,4,817,5],[817,6,817,7],[818,0,818,1],[818,2,818,3],[820,2,820,3],[820,4,820,5],[818,4,818,5],[818,6,818,7],[819,0,819,1],[819,2,819,3],[819,4,819,5],[819,6,819,7],[820,6,820,7],[809,0,809,1],[809,2,809,3],[809,4,809,5],[809,6,809,7],[810,0,810,1],[810,2,810,3],[815,0,815,1],[815,2,815,3],[815,4,815,5],[815,6,815,7],[812,2,812,3],[812,4,812,5],[810,4,810,5],[810,6,810,7],[811,0,811,1],[811,2,811,3],[811,4,811,5],[811,6,811,7],[812,6,812,7],[814,4,814,5],[814,6,814,7],[812,0,812,1],[813,0,813,1],[813,2,813,3],[813,4,813,5],[813,6,813,7],[814,0,814,1],[814,2,814,3],[802,6,802,7],[803,0,803,1],[803,2,803,3],[803,4,803,5],[803,6,803,7],[804,6,804,7],[806,4,806,5],[806,6,806,7],[804,0,804,1],[805,0,805,1],[805,2,805,3],[805,4,805,5],[805,6,805,7],[806,0,806,1],[806,2,806,3],[808,2,808,3],[808,4,808,5],[808,6,808,7],[808,0,808,1],[807,0,807,1],[807,2,807,3],[807,4,807,5],[807,6,807,7],[796,0,796,1],[797,0,797,1],[797,2,797,3],[797,4,797,5],[797,6,797,7],[798,0,798,1],[798,2,798,3],[799,0,799,1],[799,2,799,3],[799,4,799,5],[799,6,799,7],[800,2,800,3],[800,4,800,5],[800,6,800,7],[800,0,800,1],[796,2,796,3],[796,4,796,5],[801,0,801,1],[801,2,801,3],[801,4,801,5],[801,6,801,7],[802,0,802,1],[802,2,802,3],[804,2,804,3],[804,4,804,5],[802,4,802,5],[794,4,794,5],[794,6,794,7],[795,0,795,1],[795,2,795,3],[795,4,795,5],[795,6,795,7],[796,6,796,7],[791,0,791,1],[791,2,791,3],[791,4,791,5],[791,6,791,7],[792,2,792,3],[792,4,792,5],[792,6,792,7],[792,0,792,1],[793,0,793,1],[793,2,793,3],[793,4,793,5],[793,6,793,7],[794,0,794,1],[794,2,794,3],[798,4,798,5],[798,6,798,7],[785,0,785,1],[785,2,785,3],[785,4,785,5],[785,6,785,7],[786,0,786,1],[786,2,786,3],[788,2,788,3],[788,4,788,5],[786,4,786,5],[786,6,786,7],[787,0,787,1],[787,2,787,3],[787,4,787,5],[787,6,787,7],[788,6,788,7],[790,4,790,5],[790,6,790,7],[788,0,788,1],[789,0,789,1],[789,2,789,3],[789,4,789,5],[789,6,789,7],[790,0,790,1],[790,2,790,3],[782,4,782,5],[782,6,782,7],[780,0,780,1],[781,0,781,1],[781,2,781,3],[781,4,781,5],[781,6,781,7],[782,0,782,1],[782,2,782,3],[783,0,783,1],[783,2,783,3],[783,4,783,5],[783,6,783,7],[784,2,784,3],[784,4,784,5],[784,6,784,7],[784,0,784,1],[775,0,775,1],[775,2,775,3],[775,4,775,5],[775,6,775,7],[776,2,776,3],[776,4,776,5],[776,6,776,7],[776,0,776,1],[777,0,777,1],[777,2,777,3],[777,4,777,5],[777,6,777,7],[778,0,778,1],[778,2,778,3],[780,2,780,3],[780,4,780,5],[778,4,778,5],[778,6,778,7],[779,0,779,1],[779,2,779,3],[779,4,779,5],[779,6,779,7],[780,6,780,7],[769,0,769,1],[769,2,769,3],[769,4,769,5],[769,6,769,7],[770,0,770,1],[770,2,770,3],[772,2,772,3],[772,4,772,5],[770,4,770,5],[770,6,770,7],[771,0,771,1],[771,2,771,3],[771,4,771,5],[771,6,771,7],[772,6,772,7],[774,4,774,5],[774,6,774,7],[772,0,772,1],[773,0,773,1],[773,2,773,3],[773,4,773,5],[773,6,773,7],[774,0,774,1],[774,2,774,3],[766,4,766,5],[766,6,766,7],[764,0,764,1],[765,0,765,1],[765,2,765,3],[765,4,765,5],[765,6,765,7],[766,0,766,1],[766,2,766,3],[767,0,767,1],[767,2,767,3],[767,4,767,5],[767,6,767,7],[768,2,768,3],[768,4,768,5],[768,6,768,7],[768,0,768,1],[760,2,760,3],[760,4,760,5],[760,6,760,7],[760,0,760,1],[761,0,761,1],[761,2,761,3],[761,4,761,5],[761,6,761,7],[762,0,762,1],[762,2,762,3],[764,2,764,3],[764,4,764,5],[762,4,762,5],[762,6,762,7],[763,0,763,1],[763,2,763,3],[763,4,763,5],[763,6,763,7],[764,6,764,7],[753,0,753,1],[753,2,753,3],[753,4,753,5],[753,6,753,7],[754,0,754,1],[754,2,754,3],[759,0,759,1],[759,2,759,3],[759,4,759,5],[759,6,759,7],[756,2,756,3],[756,4,756,5],[754,4,754,5],[754,6,754,7],[755,0,755,1],[755,2,755,3],[755,4,755,5],[755,6,755,7],[756,6,756,7],[758,4,758,5],[758,6,758,7],[756,0,756,1],[757,0,757,1],[757,2,757,3],[757,4,757,5],[757,6,757,7],[758,0,758,1],[758,2,758,3],[746,6,746,7],[747,0,747,1],[747,2,747,3],[747,4,747,5],[747,6,747,7],[748,6,748,7],[750,4,750,5],[750,6,750,7],[748,0,748,1],[749,0,749,1],[749,2,749,3],[749,4,749,5],[749,6,749,7],[750,0,750,1],[750,2,750,3],[752,2,752,3],[752,4,752,5],[752,6,752,7],[752,0,752,1],[751,0,751,1],[751,2,751,3],[751,4,751,5],[751,6,751,7],[740,0,740,1],[741,0,741,1],[741,2,741,3],[741,4,741,5],[741,6,741,7],[742,0,742,1],[742,2,742,3],[743,0,743,1],[743,2,743,3],[743,4,743,5],[743,6,743,7],[744,2,744,3],[744,4,744,5],[744,6,744,7],[744,0,744,1],[740,2,740,3],[740,4,740,5],[745,0,745,1],[745,2,745,3],[745,4,745,5],[745,6,745,7],[746,0,746,1],[746,2,746,3],[748,2,748,3],[748,4,748,5],[746,4,746,5],[738,4,738,5],[738,6,738,7],[739,0,739,1],[739,2,739,3],[739,4,739,5],[739,6,739,7],[740,6,740,7],[735,0,735,1],[735,2,735,3],[735,4,735,5],[735,6,735,7],[736,2,736,3],[736,4,736,5],[736,6,736,7],[736,0,736,1],[737,0,737,1],[737,2,737,3],[737,4,737,5],[737,6,737,7],[738,0,738,1],[738,2,738,3],[742,4,742,5],[742,6,742,7],[729,0,729,1],[729,2,729,3],[729,4,729,5],[729,6,729,7],[730,0,730,1],[730,2,730,3],[732,2,732,3],[732,4,732,5],[730,4,730,5],[730,6,730,7],[731,0,731,1],[731,2,731,3],[731,4,731,5],[731,6,731,7],[732,6,732,7],[734,4,734,5],[734,6,734,7],[732,0,732,1],[733,0,733,1],[733,2,733,3],[733,4,733,5],[733,6,733,7],[734,0,734,1],[734,2,734,3],[726,4,726,5],[726,6,726,7],[724,0,724,1],[725,0,725,1],[725,2,725,3],[725,4,725,5],[725,6,725,7],[726,0,726,1],[726,2,726,3],[727,0,727,1],[727,2,727,3],[727,4,727,5],[727,6,727,7],[728,2,728,3],[728,4,728,5],[728,6,728,7],[728,0,728,1],[719,0,719,1],[719,2,719,3],[719,4,719,5],[719,6,719,7],[720,2,720,3],[720,4,720,5],[720,6,720,7],[720,0,720,1],[721,0,721,1],[721,2,721,3],[721,4,721,5],[721,6,721,7],[722,0,722,1],[722,2,722,3],[724,2,724,3],[724,4,724,5],[722,4,722,5],[722,6,722,7],[723,0,723,1],[723,2,723,3],[723,4,723,5],[723,6,723,7],[724,6,724,7],[713,0,713,1],[713,2,713,3],[713,4,713,5],[713,6,713,7],[714,0,714,1],[714,2,714,3],[716,2,716,3],[716,4,716,5],[714,4,714,5],[714,6,714,7],[715,0,715,1],[715,2,715,3],[715,4,715,5],[715,6,715,7],[716,6,716,7],[718,4,718,5],[718,6,718,7],[716,0,716,1],[717,0,717,1],[717,2,717,3],[717,4,717,5],[717,6,717,7],[718,0,718,1],[718,2,718,3],[710,4,710,5],[710,6,710,7],[708,0,708,1],[709,0,709,1],[709,2,709,3],[709,4,709,5],[709,6,709,7],[710,0,710,1],[710,2,710,3],[711,0,711,1],[711,2,711,3],[711,4,711,5],[711,6,711,7],[712,2,712,3],[712,4,712,5],[712,6,712,7],[712,0,712,1],[704,2,704,3],[704,4,704,5],[704,6,704,7],[704,0,704,1],[705,0,705,1],[705,2,705,3],[705,4,705,5],[705,6,705,7],[706,0,706,1],[706,2,706,3],[708,2,708,3],[708,4,708,5],[706,4,706,5],[706,6,706,7],[707,0,707,1],[707,2,707,3],[707,4,707,5],[707,6,707,7],[708,6,708,7],[697,0,697,1],[697,2,697,3],[697,4,697,5],[697,6,697,7],[698,0,698,1],[698,2,698,3],[703,0,703,1],[703,2,703,3],[703,4,703,5],[703,6,703,7],[700,2,700,3],[700,4,700,5],[698,4,698,5],[698,6,698,7],[699,0,699,1],[699,2,699,3],[699,4,699,5],[699,6,699,7],[700,6,700,7],[702,4,702,5],[702,6,702,7],[700,0,700,1],[701,0,701,1],[701,2,701,3],[701,4,701,5],[701,6,701,7],[702,0,702,1],[702,2,702,3],[690,6,690,7],[691,0,691,1],[691,2,691,3],[691,4,691,5],[691,6,691,7],[692,6,692,7],[694,4,694,5],[694,6,694,7],[692,0,692,1],[693,0,693,1],[693,2,693,3],[693,4,693,5],[693,6,693,7],[694,0,694,1],[694,2,694,3],[696,2,696,3],[696,4,696,5],[696,6,696,7],[696,0,696,1],[695,0,695,1],[695,2,695,3],[695,4,695,5],[695,6,695,7],[684,0,684,1],[685,0,685,1],[685,2,685,3],[685,4,685,5],[685,6,685,7],[686,0,686,1],[686,2,686,3],[687,0,687,1],[687,2,687,3],[687,4,687,5],[687,6,687,7],[688,2,688,3],[688,4,688,5],[688,6,688,7],[688,0,688,1],[684,2,684,3],[684,4,684,5],[689,0,689,1],[689,2,689,3],[689,4,689,5],[689,6,689,7],[690,0,690,1],[690,2,690,3],[692,2,692,3],[692,4,692,5],[690,4,690,5],[682,4,682,5],[682,6,682,7],[683,0,683,1],[683,2,683,3],[683,4,683,5],[683,6,683,7],[684,6,684,7],[679,0,679,1],[679,2,679,3],[679,4,679,5],[679,6,679,7],[680,2,680,3],[680,4,680,5],[680,6,680,7],[680,0,680,1],[681,0,681,1],[681,2,681,3],[681,4,681,5],[681,6,681,7],[682,0,682,1],[682,2,682,3],[686,4,686,5],[686,6,686,7],[673,0,673,1],[673,2,673,3],[673,4,673,5],[673,6,673,7],[674,0,674,1],[674,2,674,3],[676,2,676,3],[676,4,676,5],[674,4,674,5],[674,6,674,7],[675,0,675,1],[675,2,675,3],[675,4,675,5],[675,6,675,7],[676,6,676,7],[678,4,678,5],[678,6,678,7],[676,0,676,1],[677,0,677,1],[677,2,677,3],[677,4,677,5],[677,6,677,7],[678,0,678,1],[678,2,678,3]],"merged_total":6901,"flags":["merged_cut"]}
[null,null,"FORMATO COTIZACIÓN\nGRUPO ACREDITACION DE LABORATORIOS\nIDEAM",null,null,null,null,"Código: SAL-F032"]
[null,null,null,null,null,null,null,"Versión: 4"]
[null,null,null,null,null,null,null,"Fecha: 07/07/2025"]
[]
[]
["VARIABLES A EVALUAR"]
["MATRIZ AGUA CONTINENTALES"]
["18. Matriz / Grupo",null,"19. Variable",null,"20. Variables solicitadas con fines de acreditación (Seleccionar las variables para las cuales solicita acreditación, indicando si corresponde a evaluación “INICIAL”, “SEGUIMIENTO”, “RENOVACIÓN” o “EXTENSIÓN”)",null,"21. Método de Referencia (Indicar el código del método de referencia que se solicita acreditar, incluyendo los métodos de procesos preliminares como extracción o digestión , p. ej. SM 3030 y SM 3111 B)"]
["Iones Principales o Minerales",null,"Alcalinidad total"]
["Iones Principales o Minerales",null,"Conductividad a 25ºC"]
["Iones Principales o Minerales",null,"Cloruro"]
["Iones Principales o Minerales",null,"Calcio disuelto"]
["Iones Principales o Minerales",null,"Calcio total"]
["Iones Principales o Minerales",null,"Magnesio disuelto"]
["Iones Principales o Minerales",null,"Magnesio total"]
["Iones Principales o Minerales",null,"Fluoruro"]
["Iones Principales o Minerales",null,"Potasio disuelto"]
["Iones Principales o Minerales",null,"Potasio total"]
["Iones Principales o Minerales",null,"Sodio disuelto"]
["Iones Principales o Minerales",null,"Sodio total"]
["Iones Principales o Minerales",null,"Sulfato"]
["Iones Principales o Minerales",null,"Dureza Total"]
["Iones Principales o Minerales",null,"Dureza Cálcica"]
["Iones Principales o Minerales",null,"Carbonatos, bicarbonatos e hidróxidos "]
["Nutrientes",null,"Nitrato"]
["Nutrientes",null,"Nitrito"]
["Nutrientes",null,"Amonio"]
["Nutrientes",null,"Nitrógeno Amoniacal"]
["Nutrientes",null,"Nitrogeno Organico"]
["Nutrientes",null,"Nitrógeno  Kjeldahl"]
["Nutrientes",null,"Fósforo reactivo total (leído como ortofosfato)"]
["Nutrientes",null,"Fósforo Acido hidrolizable Total (Léido como Ortofosfato)"]
["Nutrientes",null,"Fósforo Orgánico total ( a partir del cálculo del fósforo total y fósforo hidrolizable)"]
["Nutrientes",null,"Fósforo Total "]
["Nutrientes",null,"Fósforo reactivo Disuelto (leído como Ortofosfatos)"]
["Nutrientes",null,"Fósforo Acido Hidrolizable Disuelto (Léido como ortofosfatos)"]
["Nutrientes",null,"Fósforo Orgánico Disuelto (a partir del cálculo del Fósforo Disuelto Total y Fósforo Ácido - Hidrolizable Disuelto)"]
["Nutrientes",null,"Fósforo Disuelto Total (Leìdo como ortofosfatos)"]
["Metales Traza",null,"Aluminio disuelto"]
["Metales Traza",null,"Aluminio total "]
["Metales Traza",null,"Antimonio disuelto"]
["Metales Traza",null,"Antimonio total"]
["Metales Traza",null,"Arsénico disuelto"]
["Metales Traza",null,"Arsénico total"]
["Metales Traza",null,"Berilio disuelto"]
["Metales Traza",null,"Berilio total"]
["Metales Traza",null,"Boro disuelto"]
["Metales Traza",null,"Boro total"]
["Metales Traza",null,"Cadmio disuelto"]
["Metales Traza",null,"Cadmio total"]
["Metales Traza",null,"Cobalto disuelto"]
["Metales Traza",null,"Cobalto total"]
["Metales Traza",null,"Cobre disuelto"]
["Metales Traza",null,"Cobre total"]
["Metales Traza",null,"Cromo disuelto"]
["Metales Traza",null,"Cromo total"]
["Metales Traza",null,"Estroncio disuelto"]
["Metales Traza",null,"Estroncio total"]
["Metales Traza",null,"Hierro disuelto"]
["Metales Traza",null,"Hierro total"]
["Metales Traza",null,"Litio Disuelto"]
["Metales Traza",null,"Litio Total"]
["Metales Traza",null,"Manganeso disuelto"]
["Metales Traza",null,"Manganeso total"]
["Metales Traza",null,"Mercurio disuelto"]
["Metales Traza",null,"Mercurio total"]
["Metales Traza",null,"Molibdeno disuelto"]
["Metales Traza",null,"Molibdeno total"]
["Metales Traza",null,"Níquel disuelto"]
["Metales Traza",null,"Níquel total"]
["Metales Traza",null,"Plata disuelto"]
["Metales Traza",null,"Plata total"]
["Metales Traza",null,"Plomo disuelto"]
["Metales Traza",null,"Plomo total"]
["Metales Traza",null,"Selenio disuelto"]
["Metales Traza",null,"Selenio total"]
["Metales Traza",null,"Talio disuelto"]
["Metales Traza",null,"Talio total "]
["Metales Traza",null,"Titanio disuelto"]
["Metales Traza",null,"Titanio total"]
["Metales Traza",null,"Vanadio disuelto"]
["Metales Traza",null,"Vanadio total"]
["Metales Traza",null,"Zinc disuelto"]
["Metales Traza",null,"Zinc total"]
["Metales Traza",null,"Potasio Disuelto"]
["Metales Traza",null,"Potasio Total"]
["Metales Traza",null,"Sodio disuelto"]
["Metales Traza",null,"Sodio Total"]
["Metales Traza",null,"Calcio disuelto"]
["Metales Traza",null,"Calcio Total"]
["Metales Traza",null,"Magensio Disuelto"]
["Metales Traza",null,"Magensio Total"]
["Cromo VI",null,"Cromo VI"]
["Bario y Estaño",null,"Bario Disuelto"]
["Bario y Estaño",null,"Bario Total"]
["Bario y Estaño",null,"Estaño Disuelto"]
["Bario y Estaño",null,"Estaño Total"]
["Silice",null,"Sílice Disuelto"]
["Silice",null,"Sílice Total"]
["Sólidos o Residuos",null,"Sólidos Suspendidos Totales"]
["Sólidos o Residuos",null,"Sólidos Disueltos Totales"]
["Sólidos o Residuos",null,"Sólidos Totales"]
["Sólidos o Residuos",null,"Sólidos sedimentables"]
["Sólidos o Residuos",null,"Sólidos Fijos"]
["Sólidos o Residuos",null,"Sólidos Suspendidos Volátiles "]
["Sólidos o Residuos",null,"Sólidos Totales Volátiles "]
["Sólidos o Residuos",null,"Sólidos volátiles"]
["Microbiológico",null,"Coliformes Termotolerantes (anteriormente Coliformes fecales)"]
["Microbiológico",null,"Coliformes Totales"]
["Microbiológico",null,"Escherichia coli"]
["Microbiológico",null,"Bacterias Sulfato Reductoras"]
["Microbiológico",null,"Clostridium Sulfito Reductor"]
["Microbiológico",null,"Estreptococos fecal y Enterococcus"]
["Microbiológico",null,"Hongos y Levaduras"]
["Microbiológico",null,"Huevos de Helmintos"]
["Microbiológico",null,"Pseudomonas aeruginosa"]
["Microbiológico",null,"Recuento de Bacterias Heterótrofas"]
["Microbiológico",null,"Salmonella sp"]
["Microbiológico",null,"Giardia y Cryptosporidium"]
["Microbiológico",null,"Mesófilos Aerobios"]
["Demandas",null,"DBO (5 días)"]
["Demandas",null,"DQO"]
["Demandas",null,"COT"]
["Boro (Colorimétrico)",null,"Boro"]
["Sulfuro",null,"Sulfuro"]
["Silicio",null,"Silicio"]
["Turbidez",null,"Turbidez"]
["Acidez",null,"Acidez"]
["Cianuro",null,"Cianuro Total"]
["Cianuro",null," Cianuro disociable en acido debil"]
["Cianuro",null,"Cianuro Disuelto"]
["Fenoles ",null,"Fenoles "]
["Surfactantes",null,"Surfactantes Aniónicos como SAAM"]
["Color",null,"Color ( Longitud de onda simple )"]
["Color",null,"Color  real (3 longitudes de onda)"]
["Salinidad ",null,"Salinidad"]
["Grasas y Aceites",null,"Grasas y Aceites"]
["Compuestos Orgánicos Volátiles",null,"Acetona "]
["Compuestos Orgánicos Volátiles",null,"Acetonitrilo"]
["Compuestos Orgánicos Volátiles",null,"Acroleina "]
["Compuestos Orgánicos Volátiles",null,"Acrilonitrilo"]
["Compuestos Orgánicos Volátiles",null,"Cloruro de bencilo"]
["Compuestos Orgánicos Volátiles",null,"Bromoclorometano"]
["Compuestos Orgánicos Volátiles",null,"Bromodiclorometano"]
["Compuestos Orgánicos Volátiles",null,"4-Bromofluorobenceno"]
["Compuestos Orgánicos Volátiles",null,"Bromoformo "]
["Compuestos Orgánicos Volátiles",null,"Bromometano "]
["Compuestos Orgánicos Volátiles",null,"n-Butanol"]
["Compuestos Orgánicos Volátiles",null,"2-Butanona"]
["Compuestos Orgánicos Volátiles",null,"Disulfuro de carbono"]
["Compuestos Orgánicos Volátiles",null,"Tetracloruro de carbon"]
["Compuestos Orgánicos Volátiles",null,"Clorobenceno "]
["Compuestos Orgánicos Volátiles",null,"Clorodibromometano"]
["Compuestos Orgánicos Volátiles",null,"Cloroetano"]
["Compuestos Orgánicos Volátiles",null,"2-Cloroetanol"]
["Compuestos Orgánicos Volátiles",null,"2-Cloroetil vinil éter"]
["Compuestos Orgánicos Volátiles",null,"Cloroformo "]
["Compuestos Orgánicos Volátiles",null,"Clorometano "]
["Compuestos Orgánicos Volátiles",null,"1,2-Dibromo-3-cloropropano"]
["Compuestos Orgánicos Volátiles",null,"1,2-Dibromoetano"]
["Compuestos Orgánicos Volátiles",null,"Dibromometano"]
["Compuestos Orgánicos Volátiles",null,"1,2-Diclorobenceno"]
["Compuestos Orgánicos Volátiles",null,"1,3-Diclorobenceno "]
["Compuestos Orgánicos Volátiles",null,"1,4-Diclorobenceno"]
["Compuestos Orgánicos Volátiles",null,"cis-1,4-Dicloro-2-butano"]
["Compuestos Orgánicos Volátiles",null,"trans-1,4-Dicloro-2-butano"]
["Compuestos Orgánicos Volátiles",null,"Diclorodifluorometano"]
["Compuestos Orgánicos Volátiles",null,"1,1-Dicloroetano"]
["Compuestos Orgánicos Volátiles",null,"1,2-Dicloroetano"]
["Compuestos Orgánicos Volátiles",null,"trans-1,2-Dicloroetano"]
["Compuestos Orgánicos Volátiles",null,"1,2-Dicloropropano"]
["Compuestos Orgánicos Volátiles",null,"1,3-Dicloro-2-propanol"]
["Compuestos Orgánicos Volátiles",null,"Cis-1,3-Dicloropropano"]
["Compuestos Orgánicos Volátiles",null,"Trans-1,3-Dicloropropano"]
["Compuestos Orgánicos Volátiles",null,"Dietil Eter"]
["Compuestos Orgánicos Volátiles",null,"Etil terc-butil éter"]
["Compuestos Orgánicos Volátiles",null,"Hexaclorobutadieno"]
["Compuestos Orgánicos Volátiles",null,"Hexacloroetano"]
["Compuestos Orgánicos Volátiles",null,"Alcohol Isobutílico"]
["Compuestos Orgánicos Volátiles",null,"Cloruro de metileno"]
["Compuestos Orgánicos Volátiles",null,"4 - Metil - 2 - pentanona"]
["Compuestos Orgánicos Volátiles",null,"Metil terc-butil éter"]
["Compuestos Orgánicos Volátiles",null,"Naftaleno"]
["Compuestos Orgánicos Volátiles",null,"Nitrobenceno"]
["Compuestos Orgánicos Volátiles",null,"n-Nitroso-di-n-butilamina"]
["Compuestos Orgánicos Volátiles",null,"Pentacloroetano"]
["Compuestos Orgánicos Volátiles",null,"2-Pentanona"]
["Compuestos Orgánicos Volátiles",null,"1-Propanol "]
["Compuestos Orgánicos Volátiles",null,"2-Propanol"]
["Compuestos Orgánicos Volátiles",null,"n-Propilamina"]
["Compuestos Orgánicos Volátiles",null,"Piridina"]
["Compuestos Orgánicos Volátiles",null,"Estireno"]
["Compuestos Orgánicos Volátiles",null,"1,1,1,2-Tetracloroetano"]
["Compuestos Orgánicos Volátiles",null,"1,1,2,2-Tetracloroetano"]
["Compuestos Orgánicos Volátiles",null,"Tetracloroetano"]
["Compuestos Orgánicos Volátiles",null,"1,2,4-Triclorobenceno"]
["Compuestos Orgánicos Volátiles",null,"1,1,1-Tricoloetano"]
["Compuestos Orgánicos Volátiles",null,"1,1,2-Tricloroetano"]
["Compuestos Orgánicos Volátiles",null,"Tricloroetano"]
["Compuestos Orgánicos Volátiles",null,"Triclorofluorometano"]
["Compuestos Orgánicos Volátiles",null,"1,2,3-Tricloropropano"]
["Compuestos Orgánicos Volátiles",null,"Acetato de vinilo"]
["Compuestos Orgánicos Volátiles",null,"Cloruro de vinilo"]
["Compuestos Orgánicos Volátiles",null,"1,2,4-Trimetilbenceno"]
["Compuestos Orgánicos Volátiles",null,"1,3,5-Trimetilbenceno"]
["Compuestos Orgánicos Volátiles",null,"Diclorometano"]
["Compuestos Orgánicos Volátiles",null,"Percloroetileno"]
["Compuestos Orgánicos Volátiles",null,"1,1,1-Tricloroetano"]
["Compuestos Orgánicos Volátiles",null,"Tricloroetileno"]
["Compuestos Orgánicos Volátiles - BTEX",null,"Benceno "]
["Compuestos Orgánicos Volátiles - BTEX",null,"Tolueno"]
["Compuestos Orgánicos Volátiles - BTEX",null,"Etilbenceno"]
["Compuestos Orgánicos Volátiles - BTEX",null,"o-Xileno"]
["Compuestos Orgánicos Volátiles - BTEX",null,"m-Xileno"]
["Compuestos Orgánicos Volátiles - BTEX",null,"p-Xileno "]
["Compuestos Orgánicos Volátiles - BTEX",null,"m+p-xileno"]
["Compuestos Orgánicos Volátiles - BTEX",null,"Xileno total"]
["Pesticidas Organoclorados",null,"Aldrín"]
["Pesticidas Organoclorados",null,"4,4'-DDD"]
["Pesticidas Organoclorados",null,"4,4'-DDE"]
["Pesticidas Organoclorados",null,"4,4'-DDT"]
["Pesticidas Organoclorados",null,"Dieldrín"]
["Pesticidas Organoclorados",null,"Heptacloro"]
["Pesticidas Organoclorados",null,"Heptacloro epoxido"]
["Pesticidas Organoclorados",null,"Heptaclorobenceno"]
["Pesticidas Organoclorados",null,"Hexaclorociclopentadieno"]
["Pesticidas Organoclorados",null,"Alfa-BHC"]
["Pesticidas Organoclorados",null,"Beta-BHC"]
["Pesticidas Organoclorados",null,"Gama-BHC"]
["Pesticidas Organoclorados",null,"Delta-BHC"]
["Pesticidas Organoclorados",null,"Alfa-Clordano (Cis -clordano)"]
["Pesticidas Organoclorados",null,"Gama-Clordano (Trans-Clordano)"]
["Pesticidas Organoclorados",null,"Endosulfan I"]
["Pesticidas Organoclorados",null,"Endosulfan II"]
["Pesticidas Organoclorados",null,"Endosulfan sulfato"]
["Pesticidas Organoclorados",null,"Endrín aldehido"]
["Pesticidas Organoclorados",null,"Endrín cetona"]
["Pesticidas Organoclorados",null,"Endrín"]
["Pesticidas Organoclorados",null,"Metoxicloro"]
["Pesticidas Organoclorados",null,"Toxafeno"]
["Pesticidas Oganofosforados",null,"Etil-Azinfos"]
["Pesticidas Oganofosforados",null,"Metil-Azinfos "]
["Pesticidas Oganofosforados",null,"Clorfenvinfos"]
["Pesticidas Oganofosforados",null,"Clorpirifos"]
["Pesticidas Oganofosforados",null,"Metil Clorpirifos"]
["Pesticidas Oganofosforados",null,"Coumaphos"]
["Pesticidas Oganofosforados",null,"Demeton-O"]
["Pesticidas Oganofosforados",null,"Demeton-S"]
["Pesticidas Oganofosforados",null,"Diazinon"]
["Pesticidas Oganofosforados",null,"Diclorvos"]
["Pesticidas Oganofosforados",null,"Dimetoato"]
["Pesticidas Oganofosforados",null,"Dioxatión"]
["Pesticidas Oganofosforados",null,"Disulfoton"]
["Pesticidas Oganofosforados",null,"Fenitrotion"]
["Pesticidas Oganofosforados",null,"Fention"]
["Pesticidas Oganofosforados",null,"Malation"]
["Pesticidas Oganofosforados",null,"Mevinphos"]
["Pesticidas Oganofosforados",null,"Metil paration"]
["Pesticidas Oganofosforados",null,"Etil paration"]
["Pesticidas Oganofosforados",null,"Ronnel"]
["Pesticidas Oganofosforados",null,"Estirofos"]
["Pesticidas Oganofosforados",null,"Atrazina"]
["Pesticidas Oganofosforados",null,"Simazina"]
["Pesticidas Oganofosforados",null,"Metiocarb"]
["Pesticidas Oganofosforados",null,"Profam"]
["Pesticidas Oganofosforados",null,"Etion"]
["Pesticidas Oganofosforados",null,"Etil gution"]
["Pesticidas Oganofosforados",null,"Gution"]
["Pesticidas Oganofosforados",null,"Clorotalonil"]
["Pesticidas Oganofosforados",null,"Penoxalin"]
["Pesticidas Oganofosforados",null,"Primicarb"]
["Pesticidas Oganofosforados",null,"Propetanfos"]
["Pesticidas Oganofosforados",null,"Terbutrin"]
["Pesticidas Oganofosforados",null,"Trietazina"]
["PCBs en Agua",null,"Aroclor 1016"]
["PCBs en Agua",null,"Aroclor 1221"]
["PCB s en Agua",null,"Aroclor 1232"]
["PCB s en Agua",null,"Aroclor 1242"]
["PCB s en Agua",null,"Aroclor 1248"]
["PCB s en Agua",null,"Aroclor 1254"]
["PCB s en Agua",null,"Aroclor 1260"]
["Herbicidas",null,"Pentaclorofenol"]
["Herbicidas",null,"Acifluorfen"]
["Herbicidas",null,"Bentazon"]
["Herbicidas",null,"2,4-D Total"]
["Herbicidas",null,"2,4-DB"]
["Herbicidas",null,"Dicamba"]
["Herbicidas",null,"Acido 3,5-diclorobenzoico"]
["Herbicidas",null,"Dicloroprop"]
["Herbicidas",null,"Dinoseb"]
["Herbicidas",null,"5-Hidroxicamba"]
["Herbicidas",null,"Picloram"]
["Herbicidas",null,"Silvex"]
["Herbicidas",null,"2,4,5-T"]
["Herbicidas",null,"Diquat"]
["Herbicidas",null,"Endotal"]
["Herbicidas",null,"Glifosato"]
["Herbicidas",null,"Paraquat"]
["Toxafeno",null,"Toxafeno"]
["Clordano",null,"Clordano Total"]
["Carbamatos",null,"Aldicarb sulfona"]
["Carbamatos",null,"Aldicarb sulfoxido"]
["Carbamatos",null,"Carbaril (Sevin)"]
["Carbamatos",null,"Carbofurano (Furaden)"]
["Carbamatos",null,"Diuron"]
["Carbamatos",null,"3-Hidroxicarbofurano"]
["Carbamatos",null,"Metiocarb (Mesurol)"]
["Carbamatos",null,"Metomil (Lannate)"]
["Carbamatos",null,"Oxamil"]
["Carbamatos",null,"Profam"]
["Carbamatos",null,"Propoxur (Baygon)"]
["Hidrocarburos Aromáticos Policíclicos (PAHs)",null,"Naftaleno"]
["Hidrocarburos Aromáticos Policíclicos (PAHs)",null,"Acenafteno"]
["Hidrocarburos Aromáticos Policíclicos (PAHs)",null,"Acenaftileno"]
["Hidrocarburos Aromáticos Policíclicos (PAHs)",null,"Antraceno"]
["Hidrocarburos Aromáticos Policíclicos (PAHs)",null,"Benzo (a)antraceno"]
["Hidrocarburos Aromáticos Policíclicos (PAHs)",null,"Benzo (a)pireno"]
["Hidrocarburos Aromáticos Policíclicos (PAHs)",null,"Benzo (b)fluoranteno"]
["Hidrocarburos Aromáticos Policíclicos (PAHs)",null,"Benzo (j)fluoranteno"]
["Hidrocarburos Aromáticos Policíclicos (PAHs)",null,"Benzo (k)fluoranteno"]
["Hidrocarburos Aromáticos Policíclicos (PAHs)",null,"Benzo (g,h,i)perileno"]
["Hidrocarburos Aromáticos Policíclicos (PAHs)",null,"Criseno"]
["Hidrocarburos Aromáticos Policíclicos (PAHs)",null,"Dibenz (a,h)antraceno"]
["Hidrocarburos Aromáticos Policíclicos (PAHs)",null,"Fluoranteno"]
["Hidrocarburos Aromáticos Policíclicos (PAHs)",null,"Fluoreno"]
["Hidrocarburos Aromáticos Policíclicos (PAHs)",null,"Indenol (1,2,3-cd)pireno"]
["Hidrocarburos Aromáticos Policíclicos (PAHs)",null,"3-Metilcolantreno"]
["Hidrocarburos Aromáticos Policíclicos (PAHs)",null,"Fenantreno"]
["Hidrocarburos Aromáticos Policíclicos (PAHs)",null,"Pireno"]
["TPH (Hidrocarburos derivados del petróleo)",null,"Hidrocarburos"]
["TPH (Hidrocarburos derivados del petróleo)",null,"Hidrocarburos del Petróleo (Fracción GRO)"]
["TPH (Hidrocarburos derivados del petróleo)",null,"Hidrocarburos del Petróleo (Fracción DRO)"]
["Compuestos Orgánicos Halogenados Absorbibles",null,"AOX"]
["Haluros Orgánicos Totales",null,"TOX "]
["Toma de muestra simple o puntual",null,"pH"]
["Toma de muestra simple o puntual",null,"Temperatura"]
["Toma de muestra simple o puntual",null,"Conductividad Eléctrica"]
["Toma de muestra simple o puntual",null,"Dióxido de Carbono in situ"]
["Toma de muestra simple o puntual",null,"Oxigeno Disuelto (Membarana y Luminiscencia)"]
["Toma de muestra simple o puntual",null,"Cloro Residual"]
["Toma de muestra simple o puntual",null,"Cloro Total"]
["Toma de muestra simple o puntual",null,"Sólidos Sedimentables"]
["Toma de muestra simple o puntual",null,"Caudal"]
["Toma de muestra compuesta",null,"pH"]
["Toma de muestra compuesta",null,"Temperatura"]
["Toma de muestra compuesta",null,"Conductividad Eléctrica"]
["Toma de muestra compuesta",null,"Dióxido de Carbono in situ"]
["Toma de muestra compuesta",null,"Oxigeno Disuelto"]
["Toma de muestra compuesta",null,"Cloro Residual"]
["Toma de muestra compuesta",null,"Cloro Total"]
["Toma de muestra compuesta",null,"Sólidos Sedimentables"]
["Toma de muestra compuesta",null,"Caudal"]
["Toma de Muestra Integrada en Cuerpo Lótico",null,"pH"]
["Toma de Muestra Integrada en Cuerpo Lótico",null,"Temperatura"]
["Toma de Muestra Integrada en Cuerpo Lótico",null,"Conductividad Eléctrica"]
["Toma de Muestra Integrada en Cuerpo Lótico",null,"Dióxido de Carbono in situ"]
["Toma de Muestra Integrada en Cuerpo Lótico",null,"Oxigeno Disuelto (Membrana y Luminiscencia)"]
["Toma de Muestra Integrada en Cuerpo Lótico",null,"Cloro Residual"]
["Toma de Muestra Integrada en Cuerpo Lótico",null,"Cloro Total"]
["Toma de Muestra Integrada en Cuerpo Lótico",null,"Sólidos Sedimentables"]
["Toma de Muestra Integrada en Cuerpo Lótico",null,"Caudal"]
["Toma de Muestra Integrada en Cuerpo Léntico",null,"pH"]
["Toma de Muestra Integrada en Cuerpo Léntico",null,"Temperatura"]
["Toma de Muestra Integrada en Cuerpo Léntico",null,"Conductividad Eléctrica"]
["Toma de Muestra Integrada en Cuerpo Léntico",null,"Dióxido de Carbono in situ"]
["Toma de Muestra Integrada en Cuerpo Léntico",null,"Oxigeno Disuelto (Membrana y Luminiscencia)"]
["Toma de Muestra Integrada en Cuerpo Léntico",null,"Cloro Residual"]
["Toma de Muestra Integrada en Cuerpo Léntico",null,"Cloro Total"]
["Toma de Muestra Integrada en Cuerpo Léntico",null,"Sólidos Sedimentables"]
["Toma de muestra en aguas subterraneas",null,"pH"]
["Toma de muestras en aguas subterraneas",null,"Temperatura"]
["Toma de muestras en aguas subterraneas",null,"Conductividad Eléctrica"]
["Toma de muestras en aguas subterraneas",null,"Dióxido de Carbono in situ"]
["Toma de muestras en aguas subterraneas",null,"Oxigeno Disuelto (Membrana y Luminiscencia)"]
["Toma de muestras en aguas subterraneas",null,"Cloro Residual"]
["Toma de muestras en aguas subterraneas",null,"Cloro Total"]
["Toma de muestras en aguas subterraneas",null,"Sólidos Sedimentables"]
["Variables adicionales en aguas continentales"]
["Variables adicionales en aguas continentales"]
["Variables adicionales en aguas continentales"]
["Variables adicionales en aguas continentales"]
["Variables adicionales en aguas continentales"]
["Variables adicionales en aguas continentales"]
["Variables adicionales en aguas continentales"]
["Variables adicionales en aguas continentales"]
["Variables adicionales en aguas continentales"]
["Variables adicionales en aguas continentales"]
["Variables adicionales en aguas continentales"]
["Variables adicionales en aguas continentales"]
["Variables adicionales en aguas continentales"]
["Variables adicionales en aguas continentales"]
["Variables adicionales en aguas continentales"]
["Variables adicionales en aguas continentales"]
["Variables adicionales en aguas continentales"]
["Variables adicionales en aguas continentales"]
["Variables adicionales en aguas continentales"]
["Variables adicionales en aguas continentales"]
["Variables adicionales en aguas continentales"]
["Variables adicionales en aguas continentales"]
["Variables adicionales en aguas continentales"]
["Variables adicionales en aguas continentales"]
["Variables adicionales en aguas continentales"]
["Variables adicionales en aguas continentales"]
["Variables adicionales en aguas continentales"]
["Variables adicionales en aguas continentales"]
["Variables adicionales en aguas continentales"]
["Variables adicionales en aguas continentales"]
["Variables adicionales en aguas continentales"]
["Variables adicionales en aguas continentales"]
["Variables adicionales en aguas continentales"]
["Variables adicionales en aguas continentales"]
["Variables adicionales en aguas continentales"]
["Variables adicionales en aguas continentales"]
["Variables adicionales en aguas continentales"]
["Variables adicionales en aguas continentales"]
["Variables adicionales en aguas continentales"]
["Variables adicionales en aguas continentales"]
["Variables adicionales en aguas continentales"]
["Variables adicionales en aguas continentales"]
["Variables adicionales en aguas continentales"]
["Variables adicionales en aguas continentales"]
["Variables adicionales en aguas continentales"]
["Variables adicionales en aguas continentales"]
["Variables adicionales en aguas continentales"]
["Variables adicionales en aguas continentales"]
["Variables adicionales en aguas continentales"]
["Variables adicionales en aguas continentales"]
["Variables adicionales en aguas continentales"]
["Variables adicionales en aguas continentales"]
["Variables adicionales en aguas continentales"]
["Variables adicionales en aguas continentales"]
["Variables adicionales en aguas continentales"]
["Variables adicionales en aguas continentales"]
["Variables adicionales en aguas continentales"]
["Variables adicionales en aguas continentales"]
["Variables adicionales en aguas continentales"]
["Variables adicionales en aguas continentales"]
["Variables adicionales en aguas continentales"]
["Variables adicionales en aguas continentales"]
["Variables adicionales en aguas continentales"]
["Variables adicionales en aguas continentales"]
["Variables adicionales en aguas continentales"]
["Variables adicionales en aguas continentales"]
["Variables adicionales en aguas continentales"]
["Variables adicionales en aguas continentales"]
["Variables adicionales en aguas continentales"]
["Variables adicionales en aguas continentales"]
["Variables adicionales en aguas continentales"]
["Variables adicionales en aguas continentales"]
["Variables adicionales en aguas continentales"]
["Variables adicionales en aguas continentales"]
["Variables adicionales en aguas continentales"]
["Variables adicionales en aguas continentales"]
[]
["VARIABLES A EVALUAR"]
["MATRIZ AGUA MARINAS"]
["18. Matriz / Grupo",null,"19. Variable",null,"20. Variables solicitadas con fines de acreditación (Seleccionar las variables para las cuales solicita acreditación, indicando si corresponde a evaluación “INICIAL”, “SEGUIMIENTO”, “RENOVACIÓN” o “EXTENSIÓN”)",null,"21. Método de Referencia (Indicar el código del método de referencia que se solicita acreditar, incluyendo los métodos de procesos preliminares como extracción o digestión , p. ej. SM 3030 y SM 3111 B)"]
["Iones Principales o Minerales",null,"Alcalinidad total"]
["Iones Principales o Minerales",null,"Conductividad a 25ºC"]
["Iones Principales o Minerales",null,"Cloruro"]
["Iones Principales o Minerales",null,"Calcio disuelto"]
["Iones Principales o Minerales",null,"Calcio total"]
["Iones Principales o Minerales",null,"Magnesio disuelto"]
["Iones Principales o Minerales",null,"Magnesio total"]
["Iones Principales o Minerales",null,"Fluoruro"]
["Iones Principales o Minerales",null,"Potasio disuelto"]
["Iones Principales o Minerales",null,"Potasio total"]
["Iones Principales o Minerales",null,"Sodio disuelto"]
["Iones Principales o Minerales",null,"Sodio total"]
["Iones Principales o Minerales",null,"Sulfato"]
["Iones Principales o Minerales",null,"Dureza Total"]
["Iones Principales o Minerales",null,"Dureza Cálcica"]
["Iones Principales o Minerales",null,"Carbonatos, bicarbonatos e hidróxidos "]
["Nutrientes",null,"Nitrato"]
["Nutrientes",null,"Nitrito"]
["Nutrientes",null,"Amonio"]
["Nutrientes",null,"Nitrógeno Amoniacal"]
["Nutrientes",null,"Nitrogeno Organico"]
["Nutrientes",null,"Nitrógeno  Kjeldahl"]
["Nutrientes",null,"Fósforo reactivo total (leído como ortofosfato)"]
["Nutrientes",null,"Fósforo Acido hidrolizable Total (Léido como Ortofosfato)"]
["Nutrientes",null,"Fósforo Orgánico total ( a partir del cálculo del fósforo total y fósforo hidrolizable)"]
["Nutrientes",null,"Fósforo Total "]
["Nutrientes",null,"Fósforo reactivo Disuelto (leído como Ortofosfatos)"]
["Nutrientes",null,"Fósforo Acido Hidrolizable Disuelto (Léido como ortofosfatos)"]
["Nutrientes",null,"Fósforo Orgánico Disuelto (a partir del cálculo del Fósforo Disuelto Total y Fósforo Ácido - Hidrolizable Disuelto)"]
["Nutrientes",null,"Fósforo Disuelto Total (Leìdo como ortofosfatos)"]
["Metales Traza",null,"Aluminio disuelto"]
["Metales Traza",null,"Aluminio total "]
["Metales Traza",null,"Antimonio disuelto"]
["Metales Traza",null,"Antimonio total"]
["Metales Traza",null,"Arsénico disuelto"]
["Metales Traza",null,"Arsénico total"]
["Metales Traza",null,"Berilio disuelto"]
["Metales Traza",null,"Berilio total"]
["Metales Traza",null,"Boro disuelto"]
["Metales Traza",null,"Boro total"]
["Metales Traza",null,"Cadmio disuelto"]
["Metales Traza",null,"Cadmio total"]
["Metales Traza",null,"Cobalto disuelto"]
["Metales Traza",null,"Cobalto total"]
["Metales Traza",null,"Cobre disuelto"]
["Metales Traza",null,"Cobre total"]
["Metales Traza",null,"Cromo disuelto"]
["Metales Traza",null,"Cromo total"]
["Metales Traza",null,"Estroncio disuelto"]
["Metales Traza",null,"Estroncio total"]
["Metales Traza",null,"Hierro disuelto"]
["Metales Traza",null,"Hierro total"]
["Metales Traza",null,"Litio Disuelto"]
["Metales Traza",null,"Litio Total"]
["Metales Traza",null,"Manganeso disuelto"]
["Metales Traza",null,"Manganeso total"]
["Metales Traza",null,"Mercurio disuelto"]
["Metales Traza",null,"Mercurio total"]
["Metales Traza",null,"Molibdeno disuelto"]
["Metales Traza",null,"Molibdeno total"]
["Metales Traza",null,"Níquel disuelto"]
["Metales Traza",null,"Níquel total"]
["Metales Traza",null,"Plata disuelto"]
["Metales Traza",null,"Plata total"]
["Metales Traza",null,"Plomo disuelto"]
["Metales Traza",null,"Plomo total"]
["Metales Traza",null,"Selenio disuelto"]
["Metales Traza",null,"Selenio total"]
["Metales Traza",null,"Talio disuelto"]
["Metales Traza",null,"Talio total "]
["Metales Traza",null,"Titanio disuelto"]
["Metales Traza",null,"Titanio total"]
["Metales Traza",null,"Vanadio disuelto"]
["Metales Traza",null,"Vanadio total"]
["Metales Traza",null,"Zinc disuelto"]
["Metales Traza",null,"Zinc total"]
["Metales Traza",null,"Potasio Disuelto"]
["Metales Traza",null,"Potasio Total"]
["Metales Traza",null,"Sodio disuelto"]
["Metales Traza",null,"Sodio Total"]
["Metales Traza",null,"Calcio disuelto"]
["Metales Traza",null,"Calcio Total"]
["Metales Traza",null,"Magensio Disuelto"]
["Metales Traza",null,"Magensio Total"]
["Cromo VI",null,"Cromo VI"]
["Bario y Estaño",null,"Bario Disuelto"]
["Bario y Estaño",null,"Bario Total"]
["Bario y Estaño",null,"Estaño Disuelto"]
["Bario y Estaño",null,"Estaño Total"]
["Silice",null,"Sílice Disuelto"]
["Silice",null,"Sílice Total"]
["Sólidos o Residuos",null,"Sólidos Suspendidos Totales"]
["Sólidos o Residuos",null,"Sólidos Disueltos Totales"]
["Sólidos o Residuos",null,"Sólidos Totales"]
["Sólidos o Residuos",null,"Sólidos sedimentables"]
["Sólidos o Residuos",null,"Sólidos Fijos"]
["Sólidos o Residuos",null,"Sólidos Suspendidos Volátiles "]
["Sólidos o Residuos",null,"Sólidos Totales Volátiles "]
["Sólidos o Residuos",null,"Sólidos volátiles"]
["Microbiológico",null,"Coliformes Termotolerantes (anteriormente Coliformes fecales)"]
["Microbiológico",null,"Coliformes Totales"]
["Microbiológico",null,"Escherichia coli"]
["Microbiológico",null,"Bacterias Sulfato Reductoras"]
["Microbiológico",null,"Clostridium Sulfito Reductor"]
["Microbiológico",null,"Estreptococos fecal y Enterococcus"]
["Microbiológico",null,"Hongos y Levaduras"]
["Microbiológico",null,"Huevos de Helmintos"]
["Microbiológico",null,"Pseudomonas aeruginosa"]
["Microbiológico",null,"Recuento de Bacterias Heterótrofas"]
["Microbiológico",null,"Salmonella sp"]
["Microbiológico",null,"Giardia y Cryptosporidium"]
["Microbiológico",null,"Mesófilos Aerobios"]
["Demandas",null,"DBO (5 días)"]
["Demandas",null,"DQO"]
["Demandas",null,"COT"]
["Boro (Colorimétrico)",null,"Boro"]
["Sulfuro",null,"Sulfuro"]
["Silicio",null,"Silicio"]
["Turbidez",null,"Turbidez"]
["Acidez",null,"Acidez"]
["Cianuro",null,"Cianuro Total"]
["Cianuro",null," Cianuro disociable en acido debil"]
["Cianuro",null,"Cianuro Disuelto"]
["Fenoles ",null,"Fenoles "]
["Surfactantes",null,"Surfactantes Aniónicos como SAAM"]
["Color",null,"Color ( Longitud de onda simple )"]
["Color",null,"Color  real (3 longitudes de onda)"]
["Salinidad ",null,"Salinidad"]
["Grasas y Aceites",null,"Grasas y Aceites"]
["Compuestos Orgánicos Volátiles",null,"Acetona "]
["Compuestos Orgánicos Volátiles",null,"Acetonitrilo"]
["Compuestos Orgánicos Volátiles",null,"Acroleina "]
["Compuestos Orgánicos Volátiles",null,"Acrilonitrilo"]
["Compuestos Orgánicos Volátiles",null,"Cloruro de bencilo"]
["Compuestos Orgánicos Volátiles",null,"Bromoclorometano"]
["Compuestos Orgánicos Volátiles",null,"Bromodiclorometano"]
["Compuestos Orgánicos Volátiles",null,"4-Bromofluorobenceno"]
["Compuestos Orgánicos Volátiles",null,"Bromoformo "]
["Compuestos Orgánicos Volátiles",null,"Bromometano "]
["Compuestos Orgánicos Volátiles",null,"n-Butanol"]
["Compuestos Orgánicos Volátiles",null,"2-Butanona"]
["Compuestos Orgánicos Volátiles",null,"Disulfuro de carbono"]
["Compuestos Orgánicos Volátiles",null,"Tetracloruro de carbon"]
["Compuestos Orgánicos Volátiles",null,"Clorobenceno "]
["Compuestos Orgánicos Volátiles",null,"Clorodibromometano"]
["Compuestos Orgánicos Volátiles",null,"Cloroetano"]
["Compuestos Orgánicos Volátiles",null,"2-Cloroetanol"]
["Compuestos Orgánicos Volátiles",null,"2-Cloroetil vinil éter"]
["Compuestos Orgánicos Volátiles",null,"Cloroformo "]
["Compuestos Orgánicos Volátiles",null,"Clorometano "]
["Compuestos Orgánicos Volátiles",null,"1,2-Dibromo-3-cloropropano"]
["Compuestos Orgánicos Volátiles",null,"1,2-Dibromoetano"]
["Compuestos Orgánicos Volátiles",null,"Dibromometano"]
["Compuestos Orgánicos Volátiles",null,"1,2-Diclorobenceno"]
["Compuestos Orgánicos Volátiles",null,"1,3-Diclorobenceno "]
["Compuestos Orgánicos Volátiles",null,"1,4-Diclorobenceno"]
["Compuestos Orgánicos Volátiles",null,"cis-1,4-Dicloro-2-butano"]
["Compuestos Orgánicos Volátiles",null,"trans-1,4-Dicloro-2-butano"]
["Compuestos Orgánicos Volátiles",null,"Diclorodifluorometano"]
["Compuestos Orgánicos Volátiles",null,"1,1-Dicloroetano"]
["Compuestos Orgánicos Volátiles",null,"1,2-Dicloroetano"]
["Compuestos Orgánicos Volátiles",null,"trans-1,2-Dicloroetano"]
["Compuestos Orgánicos Volátiles",null,"1,2-Dicloropropano"]
["Compuestos Orgánicos Volátiles",null,"1,3-Dicloro-2-propanol"]
["Compuestos Orgánicos Volátiles",null,"Cis-1,3-Dicloropropano"]
["Compuestos Orgánicos Volátiles",null,"Trans-1,3-Dicloropropano"]
["Compuestos Orgánicos Volátiles",null,"Dietil Eter"]
["Compuestos Orgánicos Volátiles",null,"Etil terc-butil éter"]
["Compuestos Orgánicos Volátiles",null,"Hexaclorobutadieno"]
["Compuestos Orgánicos Volátiles",null,"Hexacloroetano"]
["Compuestos Orgánicos Volátiles",null,"Alcohol Isobutílico"]
["Compuestos Orgánicos Volátiles",null,"Cloruro de metileno"]
["Compuestos Orgánicos Volátiles",null,"4 - Metil - 2 - pentanona"]
["Compuestos Orgánicos Volátiles",null,"Metil terc-butil éter"]
["Compuestos Orgánicos Volátiles",null,"Naftaleno"]
["Compuestos Orgánicos Volátiles",null,"Nitrobenceno"]
["Compuestos Orgánicos Volátiles",null,"n-Nitroso-di-n-butilamina"]
["Compuestos Orgánicos Volátiles",null,"Pentacloroetano"]
["Compuestos Orgánicos Volátiles",null,"2-Pentanona"]
["Compuestos Orgánicos Volátiles",null,"1-Propanol "]
["Compuestos Orgánicos Volátiles",null,"2-Propanol"]
["Compuestos Orgánicos Volátiles",null,"n-Propilamina"]
["Compuestos Orgánicos Volátiles",null,"Piridina"]
["Compuestos Orgánicos Volátiles",null,"Estireno"]
["Compuestos Orgánicos Volátiles",null,"1,1,1,2-Tetracloroetano"]
["Compuestos Orgánicos Volátiles",null,"1,1,2,2-Tetracloroetano"]
["Compuestos Orgánicos Volátiles",null,"Tetracloroetano"]
["Compuestos Orgánicos Volátiles",null,"1,2,4-Triclorobenceno"]
["Compuestos Orgánicos Volátiles",null,"1,1,1-Tricoloetano"]
["Compuestos Orgánicos Volátiles",null,"1,1,2-Tricloroetano"]
["Compuestos Orgánicos Volátiles",null,"Tricloroetano"]
["Compuestos Orgánicos Volátiles",null,"Triclorofluorometano"]
["Compuestos Orgánicos Volátiles",null,"1,2,3-Tricloropropano"]
["Compuestos Orgánicos Volátiles",null,"Acetato de vinilo"]
["Compuestos Orgánicos Volátiles",null,"Cloruro de vinilo"]
["Compuestos Orgánicos Volátiles",null,"1,2,4-Trimetilbenceno"]
["Compuestos Orgánicos Volátiles",null,"1,3,5-Trimetilbenceno"]
["Compuestos Orgánicos Volátiles",null,"Diclorometano"]
["Compuestos Orgánicos Volátiles",null,"Percloroetileno"]
["Compuestos Orgánicos Volátiles",null,"1,1,1-Tricloroetano"]
["Compuestos Orgánicos Volátiles",null,"Tricloroetileno"]
["Compuestos Orgánicos Volátiles - BTEX",null,"Benceno "]
["Compuestos Orgánicos Volátiles - BTEX",null,"Tolueno"]
["Compuestos Orgánicos Volátiles - BTEX",null,"Etilbenceno"]
["Compuestos Orgánicos Volátiles - BTEX",null,"o-Xileno"]
["Compuestos Orgánicos Volátiles - BTEX",null,"m-Xileno"]
["Compuestos Orgánicos Volátiles - BTEX",null,"p-Xileno "]
["Compuestos Orgánicos Volátiles - BTEX",null,"m+p-xileno"]
["Compuestos Orgánicos Volátiles - BTEX",null,"Xileno total"]
["Pesticidas Organoclorados",null,"Aldrín"]
["Pesticidas Organoclorados",null,"4,4'-DDD"]
["Pesticidas Organoclorados",null,"4,4'-DDE"]
["Pesticidas Organoclorados",null,"4,4'-DDT"]
["Pesticidas Organoclorados",null,"Dieldrín"]
["Pesticidas Organoclorados",null,"Heptacloro"]
["Pesticidas Organoclorados",null,"Heptacloro epoxido"]
["Pesticidas Organoclorados",null,"Heptaclorobenceno"]
["Pesticidas Organoclorados",null,"Hexaclorociclopentadieno"]
["Pesticidas Organoclorados",null,"Alfa-BHC"]
["Pesticidas Organoclorados",null,"Beta-BHC"]
["Pesticidas Organoclorados",null,"Gama-BHC"]
["Pesticidas Organoclorados",null,"Delta-BHC"]
["Pesticidas Organoclorados",null,"Alfa-Clordano (Cis -clordano)"]
["Pesticidas Organoclorados",null,"Gama-Clordano (Trans-Clordano)"]
["Pesticidas Organoclorados",null,"Endosulfan I"]
["Pesticidas Organoclorados",null,"Endosulfan II"]
["Pesticidas Organoclorados",null,"Endosulfan sulfato"]
["Pesticidas Organoclorados",null,"Endrín aldehido"]
["Pesticidas Organoclorados",null,"Endrín cetona"]
["Pesticidas Organoclorados",null,"Endrín"]
["Pesticidas Organoclorados",null,"Metoxicloro"]
["Pesticidas Organoclorados",null,"Toxafeno"]
["Pesticidas Oganofosforados",null,"Etil-Azinfos"]
["Pesticidas Oganofosforados",null,"Metil-Azinfos "]
["Pesticidas Oganofosforados",null,"Clorfenvinfos"]
["Pesticidas Oganofosforados",null,"Clorpirifos"]
["Pesticidas Oganofosforados",null,"Metil Clorpirifos"]
["Pesticidas Oganofosforados",null,"Coumaphos"]
["Pesticidas Oganofosforados",null,"Demeton-O"]
["Pesticidas Oganofosforados",null,"Demeton-S"]
["Pesticidas Oganofosforados",null,"Diazinon"]
["Pesticidas Oganofosforados",null,"Diclorvos"]
["Pesticidas Oganofosforados",null,"Dimetoato"]
["Pesticidas Oganofosforados",null,"Dioxatión"]
["Pesticidas Oganofosforados",null,"Disulfoton"]
["Pesticidas Oganofosforados",null,"Fenitrotion"]
["Pesticidas Oganofosforados",null,"Fention"]
["Pesticidas Oganofosforados",null,"Malation"]
["Pesticidas Oganofosforados",null,"Mevinphos"]
["Pesticidas Oganofosforados",null,"Metil paration"]
["Pesticidas Oganofosforados",null,"Etil paration"]
["Pesticidas Oganofosforados",null,"Ronnel"]
["Pesticidas Oganofosforados",null,"Estirofos"]
["Pesticidas Oganofosforados",null,"Atrazina"]
["Pesticidas Oganofosforados",null,"Simazina"]
["Pesticidas Oganofosforados",null,"Metiocarb"]
["Pesticidas Oganofosforados",null,"Profam"]
["Pesticidas Oganofosforados",null,"Etion"]
["Pesticidas Oganofosforados",null,"Etil gution"]
["Pesticidas Oganofosforados",null,"Gution"]
["Pesticidas Oganofosforados",null,"Clorotalonil"]
["Pesticidas Oganofosforados",null,"Penoxalin"]
["Pesticidas Oganofosforados",null,"Primicarb"]
["Pesticidas Oganofosforados",null,"Propetanfos"]
["Pesticidas Oganofosforados",null,"Terbutrin"]
["Pesticidas Oganofosforados",null,"Trietazina"]
["PCBs en Agua",null,"Aroclor 1016"]
["PCBs en Agua",null,"Aroclor 1221"]
["PCB s en Agua",null,"Aroclor 1232"]
["PCB s en Agua",null,"Aroclor 1242"]
["PCB s en Agua",null,"Aroclor 1248"]
["PCB s en Agua",null,"Aroclor 1254"]
["PCB s en Agua",null,"Aroclor 1260"]
["Herbicidas",null,"Pentaclorofenol"]
["Herbicidas",null,"Acifluorfen"]
["Herbicidas",null,"Bentazon"]
["Herbicidas",null,"2,4-D Total"]
["Herbicidas",null,"2,4-DB"]
["Herbicidas",null,"Dicamba"]
["Herbicidas",null,"Acido 3,5-diclorobenzoico"]
["Herbicidas",null,"Dicloroprop"]
["Herbicidas",null,"Dinoseb"]
["Herbicidas",null,"5-Hidroxicamba"]
["Herbicidas",null,"Picloram"]
["Herbicidas",null,"Silvex"]
["Herbicidas",null,"2,4,5-T"]
["Herbicidas",null,"Diquat"]
["Herbicidas",null,"Endotal"]
["Herbicidas",null,"Glifosato"]
["Herbicidas",null,"Paraquat"]
["Toxafeno",null,"Toxafeno"]
["Clordano",null,"Clordano Total"]
["Carbamatos",null,"Aldicarb sulfona"]
["Carbamatos",null,"Aldicarb sulfoxido"]
["Carbamatos",null,"Carbaril (Sevin)"]
["Carbamatos",null,"Carbofurano (Furaden)"]
["Carbamatos",null,"Diuron"]
["Carbamatos",null,"3-Hidroxicarbofurano"]
["Carbamatos",null,"Metiocarb (Mesurol)"]
["Carbamatos",null,"Metomil (Lannate)"]
["Carbamatos",null,"Oxamil"]
["Carbamatos",null,"Profam"]
["Carbamatos",null,"Propoxur (Baygon)"]
["Hidrocarburos Aromáticos Policíclicos (PAHs)",null,"Naftaleno"]
["Hidrocarburos Aromáticos Policíclicos (PAHs)",null,"Acenafteno"]
["Hidrocarburos Aromáticos Policíclicos (PAHs)",null,"Acenaftileno"]
["Hidrocarburos Aromáticos Policíclicos (PAHs)",null,"Antraceno"]
["Hidrocarburos Aromáticos Policíclicos (PAHs)",null,"Benzo (a)antraceno"]
["Hidrocarburos Aromáticos Policíclicos (PAHs)",null,"Benzo (a)pireno"]
["Hidrocarburos Aromáticos Policíclicos (PAHs)",null,"Benzo (b)fluoranteno"]
["Hidrocarburos Aromáticos Policíclicos (PAHs)",null,"Benzo (j)fluoranteno"]
["Hidrocarburos Aromáticos Policíclicos (PAHs)",null,"Benzo (k)fluoranteno"]
["Hidrocarburos Aromáticos Policíclicos (PAHs)",null,"Benzo (g,h,i)perileno"]
["Hidrocarburos Aromáticos Policíclicos (PAHs)",null,"Criseno"]
["Hidrocarburos Aromáticos Policíclicos (PAHs)",null,"Dibenz (a,h)antraceno"]
["Hidrocarburos Aromáticos Policíclicos (PAHs)",null,"Fluoranteno"]
["Hidrocarburos Aromáticos Policíclicos (PAHs)",null,"Fluoreno"]
["Hidrocarburos Aromáticos Policíclicos (PAHs)",null,"Indenol (1,2,3-cd)pireno"]
["Hidrocarburos Aromáticos Policíclicos (PAHs)",null,"3-Metilcolantreno"]
["Hidrocarburos Aromáticos Policíclicos (PAHs)",null,"Fenantreno"]
["Hidrocarburos Aromáticos Policíclicos (PAHs)",null,"Pireno"]
["TPH (Hidrocarburos derivados del petróleo)",null,"Hidrocarburos"]
["TPH (Hidrocarburos derivados del petróleo)",null,"Hidrocarburos del Petróleo (Fracción GRO)"]
["TPH (Hidrocarburos derivados del petróleo)",null,"Hidrocarburos del Petróleo (Fracción DRO)"]
["Toma de muestra Aguas Marinas",null,"pH"]
["Toma de muestra Aguas Marinas",null,"Temperatura"]
["Toma de muestra Aguas Marinas",null,"Conductividad Eléctrica"]
["Toma de muestra Aguas Marinas",null,"Dióxido de Carbono in situ"]
["Toma de muestra Aguas Marinas",null,"Oxigeno Disuelto (Membarana y Luminiscencia)"]
["Toma de muestra Aguas Marinas",null,"Cloro Residual"]
["Toma de muestra Aguas Marinas",null,"Cloro Total"]
["Toma de muestra Aguas Marinas",null,"Sólidos Sedimentables"]
["Toma de muestra Aguas Marinas",null,"Caudal"]
["Variables adicionales en agua marina"]
["Variables adicionales en agua marina"]
["Variables adicionales en agua marina"]
["Variables adicionales en agua marina"]
["Variables adicionales en agua marina"]
["Variables adicionales en agua marina"]
["Variables adicionales en agua marina"]
["Variables adicionales en agua marina"]
["Variables adicionales en agua marina"]
["Variables adicionales en agua marina"]
["Variables adicionales en agua marina"]
["Variables adicionales en agua marina"]
["Variables adicionales en agua marina"]
["Variables adicionales en agua marina"]
["Variables adicionales en agua marina"]
["Variables adicionales en agua marina"]
["Variables adicionales en agua marina"]
["Variables adicionales en agua marina"]
["Variables adicionales en agua marina"]
["Variables adicionales en agua marina"]
["Variables adicionales en agua marina"]
["Variables adicionales en agua marina"]
["Variables adicionales en agua marina"]
["Variables adicionales en agua marina"]
["Variables adicionales en agua marina"]
["Variables adicionales en agua marina"]
["Variables adicionales en agua marina"]
["Variables adicionales en agua marina"]
["Variables adicionales en agua marina"]
["Variables adicionales en agua marina"]
["Variables adicionales en agua marina"]
["Variables adicionales en agua marina"]
["Variables adicionales en agua marina"]
["Variables adicionales en agua marina"]
["Variables adicionales en agua marina"]
["Variables adicionales en agua marina"]
["Variables adicionales en agua marina"]
["Variables adicionales en agua marina"]
["Variables adicionales en agua marina"]
["Variables adicionales en agua marina"]
["Variables adicionales en agua marina"]
["Variables adicionales en agua marina"]
["Variables adicionales en agua marina"]
["Variables adicionales en agua marina"]
["Variables adicionales en agua marina"]
["Variables adicionales en agua marina"]
["Variables adicionales en agua marina"]
["Variables adicionales en agua marina"]
[]
[]
["VARIABLES A EVALUAR"]
["MATRIZ RESIDUOS PELIGROSOS"]
["18. Matriz / Grupo",null,"19. Variable",null,"20. Variables solicitadas con fines de acreditación (Seleccionar las variables para las cuales solicita acreditación, indicando si corresponde a evaluación “INICIAL”, “SEGUIMIENTO”, “RENOVACIÓN” o “EXTENSIÓN”)",null,"21. Método de Referencia (Indicar el código del método de referencia que se solicita acreditar, incluyendo los métodos de procesos preliminares como extracción o digestión , p. ej. SM 3030 y SM 3111 B)"]
["TCLP - Metales",null,"Antimonio"]
["TCLP - Metales",null,"Arsénico"]
["TCLP - Metales",null,"Bario"]
["TCLP - Metales",null,"Cadmio"]
["TCLP - Metales",null,"Cobre"]
["TCLP - Metales",null,"Cromo"]
["TCLP - Metales",null,"Mercurio"]
["TCLP - Metales",null,"Molibdeno"]
["TCLP - Metales",null,"Níquel"]
["TCLP - Metales",null,"Plata"]
["TCLP - Metales",null,"Plomo"]
["TCLP - Metales",null,"Selenio"]
["TCLP - Metales",null,"Vanadio"]
["TCLP - Metales",null,"Zinc"]
["Ecotoxicidad",null,"Toxicidad Aguda para Daphnias"]
["Ecotoxicidad",null,"Toxicidad aguda para microalgas"]
["Ecotoxicidad",null,"Toxicidad aguda en peces "]
["Cromo VI",null,"Cromo VI"]
["Cianuro",null,"Cianuro"]
["Reactividad",null,"Reactividad (Cianuro)"]
["Reactividad",null,"Reactividad (Sulfuro)"]
["Reactividad",null,"Reactividad - Prueba para Sustancias que en Contacto con Agua Desprenden Gases Inflamables"]
["Reactividad",null,"Reactividad - Combustión espontánea (Sólidos)"]
["Reactividad",null,"Reactividad - Combustión espontánea (Líquidos)"]
["Reactividad",null,"Reactividad - Calentamiento espontáneo (Sólidos)"]
["Reactividad",null,"Reactividad - Calentamiento espontáneo (Líquidos)"]
["Reactividad",null,"Reactividad - Método de Prueba para Sustancias Sólidas Comburentes"]
["Corrosividad",null,"Corrosividad (Medición electrométrica de pH)"]
["Corrosividad",null,"Corrosividad (Reserva Ácido / Álcali)"]
["Corrosividad",null,"Corrosividad (Método de Prueba Corrosión al Acero)"]
["Punto de inflamación",null,"Punto de inflamabilidad (flash point) - Residuos Líquidos"]
["Punto de inflamación",null,"Punto de inflamabilidad (flash point) - Residuos Sólidos"]
["TCLP - Compuestos Orgánicos Semi-Volátiles",null,"1,4-Diclorobenceno"]
["TCLP - Compuestos Orgánicos Semi-Volátiles",null,"Hexaclorobutadieno"]
["TCLP - Compuestos Orgánicos Semi-Volátiles",null,"Hexacloroetano"]
["TCLP - Compuestos Orgánicos Semi-Volátiles",null,"Nitrobenceno"]
["TCLP - Compuestos Orgánicos Semi-Volátiles",null,"Piridina"]
["TCLP - Compuestos Orgánicos Semi-Volátiles",null,"2,4-Dinitrotolueno"]
["TCLP - Compuestos Orgánicos Semi-Volátiles",null,"Hexanoclorobenceno"]
["TCLP - Compuestos Orgánicos Semi-Volátiles",null,"o-Cresol"]
["TCLP - Compuestos Orgánicos Semi-Volátiles",null,"p-Cresol"]
["TCLP - Compuestos Orgánicos Semi-Volátiles",null,"m+p-Cresol"]
["TCLP - Compuestos Orgánicos Semi-Volátiles",null,"Cresol Total"]
["TCLP - Compuestos Orgánicos Semi-Volátiles",null,"Pentaclorofenol"]
["TCLP - Compuestos Orgánicos Semi-Volátiles",null,"2,4,5-Triclorofenol"]
["TCLP - Compuestos Orgánicos Semi-Volátiles",null,"2,4,6-Triclorofenol"]
["TCLP - Compuestos Orgánicos Semi-Volátiles",null,"Gamma-BHC (Lindano)"]
["TCLP - Compuestos Orgánicos Semi-Volátiles",null,"Clordano Total"]
["TCLP - Compuestos Orgánicos Semi-Volátiles",null,"Endrìn"]
["TCLP - Compuestos Orgánicos Semi-Volátiles",null,"Heptacloro"]
["TCLP - Compuestos Orgánicos Semi-Volátiles",null,"Metoxicloro"]
["TCLP - Compuestos Orgánicos Semi-Volátiles",null,"Toxafeno"]
["TCLP - Compuestos Orgánicos Semi-Volátiles",null,"2,4-D"]
["TCLP - Compuestos Orgánicos Semi-Volátiles",null,"Silvex (2,4,5-TP)"]
["Dioxinas  y Furanos",null,"1,2,3,4,6,7,8-Hpcdf"]
["Dioxinas  y Furanos",null,"1,2,3,4,7,8,9-Hpcdf"]
["Dioxinas  y Furanos",null,"1,2,3,4,6,7,8-Hpcdd"]
["Dioxinas  y Furanos",null,"Hpcdd Total"]
["Dioxinas  y Furanos",null,"Hpcdf Total"]
["Dioxinas  y Furanos",null,"1,2,3,4,7,8-Hxcdd"]
["Dioxinas  y Furanos",null,"1,2,3,6,7,8-Hxcdd"]
["Dioxinas  y Furanos",null,"1,2,3,7,8,9-Hxcdd"]
["Dioxinas  y Furanos",null,"Hxcdd Total"]
["Dioxinas  y Furanos",null,"1,2,3,4,7,8-Hxcdf"]
["Dioxinas  y Furanos",null,"1,2,3,6,7,8-Hxcdf"]
["Dioxinas  y Furanos",null,"1,2,3,7,8,9-Hxcdf"]
["Dioxinas  y Furanos",null,"2,3,4,6,7,8-Hxcdf"]
["Dioxinas  y Furanos",null,"Hxcdf Total"]
["Dioxinas  y Furanos",null,"1,2,3,4,6,7,8,9-OCDF"]
["Dioxinas  y Furanos",null,"1,2,3,4,6,7,8,9-OCDD"]
["Dioxinas  y Furanos",null,"1,2,3,7,8-Pecdd"]
["Dioxinas  y Furanos",null,"1,2,3,7,8-Pecdf"]
["Dioxinas  y Furanos",null,"2,3,4,7,8-Pecdf"]
["Dioxinas  y Furanos",null,"Pecdf Total"]
["Dioxinas  y Furanos",null,"Pecdd Total"]
["Dioxinas  y Furanos",null,"2,3,7,8-TCDD"]
["Dioxinas  y Furanos",null,"2,3,7,8-TCDF"]
["Dioxinas  y Furanos",null,"TCDF Total"]
["Dioxinas  y Furanos",null,"TCDD Total"]
["Dioxinas  y Furanos",null,"PCDD Total"]
["Dioxinas  y Furanos",null,"PCDD+PCDF Total"]
["Dioxinas  y Furanos",null,"PCDF Total"]
["PCB Congéneres",null,"PCB 28"]
["PCB Congéneres",null,"PCB 52"]
["PCB Congéneres",null,"PCB 101"]
["PCB Congéneres",null,"PCB 118"]
["PCB Congéneres",null,"PCB 138"]
["PCB Congéneres",null,"PCB 153"]
["PCB Congéneres",null,"PCB 180"]
["TPH (Hidrocarburos derivados del petróleo)",null,"Hidrocarburos"]
["TPH (Hidrocarburos derivados del petróleo)",null,"Hidrocarburos del Petróleo (Fracción GRO)"]
["TPH (Hidrocarburos derivados del petróleo)",null,"Hidrocarburos del Petróleo (Fracción DRO)"]
["Microbiológico",null,"Escehrichia coli"]
["Microbiológico",null,"Hongos  Moniliformes"]
["Microbiológico",null,"Bacillus  subtilis"]
["Microbiológico",null,"Enterococcus Faecalis"]
["Microbiológico",null,"Pseudomonas aeruginosa"]
["Toma de Muestra en Residuos Peligrosos",null,"Toma de muestra Puntual / Compuesta en Residuos Peligrosos"]
["Toma de Muestra en Residuos Peligrosos",null,"Toma de muestra en tanques"]
["Toma de Muestra en Residuos Peligrosos",null,"Toma de muestra en barriles"]
["Toma de Muestra en Residuos Peligrosos",null,"Toma de muestra en pilas de desecho"]
["Toma de Muestra en Residuos Peligrosos",null,"Toma de muestra en sedimentadores"]
["Toma de Muestra en Residuos Peligrosos",null,"Toma de muestra en lonas, costales o bolsas"]
["Toma de Muestra en Residuos Peligrosos",null,"Toma de muestra en suelos, sedimentos y otros materiales geológicos."]
["Toma de Muestra en Residuos Peligrosos",null,"Toma de muestra en bandas transportadoras"]
["Otras variables en Respel"]
["Otras variables en Respel"]
["Otras variables en Respel"]
["Otras variables en Respel"]
["Otras variables en Respel"]
["Otras variables en Respel"]
["Otras variables en Respel"]
["Otras variables en Respel"]
["Otras variables en Respel"]
["Otras variables en Respel"]
["Otras variables en Respel"]
["Otras variables en Respel"]
["Otras variables en Respel"]
["Otras variables en Respel"]
["Otras variables en Respel"]
["Otras variables en Respel"]
["Otras variables en Respel"]
["Otras variables en Respel"]
["Otras variables en Respel"]
["Otras variables en Respel"]
["Otras variables en Respel"]
["Otras variables en Respel"]
["Otras variables en Respel"]
["Otras variables en Respel"]
["Otras variables en Respel"]
["Otras variables en Respel"]
["Otras variables en Respel"]
["Otras variables en Respel"]
["Otras variables en Respel"]
["Otras variables en Respel"]
[]
["VARIABLES A EVALUAR"]
["MATRIZ BIOTA"]
["18. Matriz / Grupo",null,"19. Variable",null,"20. Variables solicitadas con fines de acreditación (Seleccionar las variables para las cuales solicita acreditación, indicando si corresponde a evaluación “INICIAL”, “SEGUIMIENTO”, “RENOVACIÓN” o “EXTENSIÓN”)",null,"21. Método de Referencia (Indicar el código del método de referencia que se solicita acreditar, incluyendo los métodos de procesos preliminares como extracción o digestión , p. ej. SM 3030 y SM 3111 B)"]
["Análisis - Biológico Aguas continentales",null,"Perifiton"]
["Análisis - Biológico Aguas continentales",null,"Bentos"]
["Análisis - Biológico Aguas continentales",null,"Fitoplacton"]
["Análisis - Biológico Aguas continentales",null,"Zooplacton"]
["Análisis - Biológico Aguas continentales",null,"Macrófitas Acuáticas"]
["Análisis - Biológico Aguas continentales",null,"Peces"]
["Análisis - Biológico Aguas continentales",null,"Macroinvertebrados Bénticos"]
["Análisis - Biológico Aguas continentales",null,"Biomasa Zooplantonica"]
["Toma de Muestra en cuerpo Lótico - Aguas Continentales",null,"Fitoplancton"]
["Toma de Muestra en cuerpo Lótico - Aguas Continentales",null,"Zooplancton"]
["Toma de Muestra en cuerpo Lótico - Aguas Continentales",null,"Perifiton"]
["Toma de Muestra en cuerpo Lótico - Aguas Continentales",null,"Macroinvertebrados Bentónicos"]
["Toma de Muestra en cuerpo Lótico - Aguas Continentales",null,"Peces"]
["Toma de Muestra en cuerpo Lótico - Aguas Continentales",null,"Macrófitas"]
["Toma de Muestra en cuerpo Léntico - Aguas Continentales",null,"Fitoplancton"]
["Toma de Muestra en cuerpo Léntico - Aguas Continentales",null,"Zooplancton"]
["Toma de Muestra en cuerpo Léntico - Aguas Continentales",null,"Perifiton"]
["Toma de Muestra en cuerpo Léntico - Aguas Continentales",null,"Macroinvertebrados Bentónicos"]
["Toma de Muestra en cuerpo Léntico - Aguas Continentales",null,"Peces"]
["Toma de Muestra en cuerpo Léntico - Aguas Continentales",null,"Macrófitas"]
["Toma de Muestra  - Aguas Marinas",null,"Fitoplancton"]
["Toma de Muestra  - Aguas Marinas",null,"Zooplancton"]
["Toma de Muestra  - Aguas Marinas",null,"Peces"]
["Toma de Muestra  - Aguas Marinas",null,"Bentos"]
["Toma de Muestra  - Aguas Marinas",null,"Corales"]
["Toma de Muestra  - Aguas Marinas",null,"Pastos Marinos"]
["Toma de Muestra  - Aguas Marinas",null,"Litorales Rocosos"]
["Toma de Muestra  - Aguas Marinas",null,"Litorales Arenosos"]
["Toma de Muestra  - Aguas Marinas",null,"Fondos Blandos"]
["Toma de Muestra  - Aguas Marinas",null,"Macroinvertebrados asociados a macrófitos"]
["Toma de Muestra  - Aguas Marinas",null,"Manglares"]
["Análisis - Agua marina",null,"Fitoplancton"]
["Análisis - Agua marina",null,"Zooplancton"]
["Análisis - Agua marina",null,"Bentos"]
["Análisis - Agua marina",null,"Peces"]
["Análisis - Agua marina",null,"Corales"]
["Análisis - Agua marina",null,"Pastos Marinos"]
["Análisis - Agua marina",null,"Litorales Rocosos"]
["Análisis - Agua marina",null,"Litorales Arenosos"]
["Análisis - Agua marina",null,"Manglares"]
["Otras Variables en Biota"]
["Otras Variables en Biota"]
["Otras Variables en Biota"]
["Otras Variables en Biota"]
["Otras Variables en Biota"]
["Otras Variables en Biota"]
["Otras Variables en Biota"]
["Otras Variables en Biota"]
["Otras Variables en Biota"]
["Otras Variables en Biota"]
["Otras Variables en Biota"]
["Otras Variables en Biota"]
["Otras Variables en Biota"]
["Otras Variables en Biota"]
["Otras Variables en Biota"]
["Otras Variables en Biota"]
["Otras Variables en Biota"]
["Otras Variables en Biota"]
["Otras Variables en Biota"]
["Otras Variables en Biota"]
["Otras Variables en Biota"]
["Otras Variables en Biota"]
["Otras Variables en Biota"]
["Otras Variables en Biota"]
["Otras Variables en Biota"]
["Otras Variables en Biota"]
["Otras Variables en Biota"]
["Otras Variables en Biota"]
["Otras Variables en Biota"]
["Otras Variables en Biota"]
["Otras Variables en Biota"]
["Otras Variables en Biota"]
["Otras Variables en Biota"]
["Otras Variables en Biota"]
["Otras Variables en Biota"]
["Otras Variables en Biota"]
["Otras Variables en Biota"]
["Otras Variables en Biota"]
["Otras Variables en Biota"]
["Otras Variables en Biota"]
["Otras Variables en Biota"]
["Otras Variables en Biota"]
["Otras Variables en Biota"]
["Otras Variables en Biota"]
["Otras Variables en Biota"]
["Otras Variables en Biota"]
[]
["VARIABLES A EVALUAR"]
["MATRIZ ACEITES DE TRANSFORMADOR"]
["18. Matriz / Grupo",null,"19. Variable",null,"20. Variables solicitadas con fines de acreditación (Seleccionar las variables para las cuales solicita acreditación, indicando si corresponde a evaluación “INICIAL”, “SEGUIMIENTO”, “RENOVACIÓN” o “EXTENSIÓN”)",null,"21. Método de Referencia (Indicar el código del método de referencia que se solicita acreditar, incluyendo los métodos de procesos preliminares como extracción o digestión , p. ej. SM 3030 y SM 3111 B)"]
["Análisis - PCB's en Aceite de transformador",null,"Aroclor 1016"]
["Análisis - PCB's en Aceite de transformador",null,"Aroclor 1221"]
["Análisis - PCB's en Aceite de transformador",null,"Aroclor 1232"]
["Análisis - PCB's en Aceite de transformador",null,"Aroclor 1242"]
["Análisis - PCB's en Aceite de transformador",null,"Aroclor 1248"]
["Análisis - PCB's en Aceite de transformador",null,"Aroclor 1254"]
["Análisis - PCB's en Aceite de transformador",null,"Aroclor 1260"]
["Análisis - PCB's en Aceite de transformador",null,"Aroclor Totales o Mezcla [1242,1254,1260]"]
["PCB's en Aceite de transformador",null,"Toma de muestra PCBs "]
[" PCB's en Superficies solidas",null,"Toma de muestra PCBs "]
["Análisis - PCB's en Superficies Sólidas",null,"Aroclor 1016"]
["Análisis - PCB's en Superficies Sólidas",null,"Aroclor 1221"]
["Análisis - PCB's en Superficies Sólidas",null,"Aroclor 1232"]
["Análisis - PCB's en Superficies Sólidas",null,"Aroclor 1242"]
["Análisis - PCB's en Superficies Sólidas",null,"Aroclor 1248"]
["Análisis - PCB's en Superficies Sólidas",null,"Aroclor 1254"]
["Análisis - PCB's en Superficies Sólidas",null,"Aroclor 1260"]
["Análisis - PCB's en Superficies Sólidas",null,"Aroclor Totales o Mezcla  [1242,1254,1260]"]
["Otras variables en Aceites de transformador"]
["Otras variables en Aceites de transformador"]
["Otras variables en Aceites de transformador"]
["Otras variables en Aceites de transformador"]
["Otras variables en Aceites de transformador"]
["Otras variables en Aceites de transformador"]
["Otras variables en Aceites de transformador"]
["Otras variables en Aceites de transformador"]
["Otras variables en Aceites de transformador"]
["Otras variables en Aceites de transformador"]
["Otras variables en Aceites de transformador"]
["Otras variables en Aceites de transformador"]
[]
["VARIABLES A EVALUAR"]
["MATRIZ SUELO"]
["18. Matriz / Grupo",null,"19. Variable",null,"20. Variables solicitadas con fines de acreditación (Seleccionar las variables para las cuales solicita acreditación, indicando si corresponde a evaluación “INICIAL”, “SEGUIMIENTO”, “RENOVACIÓN” o “EXTENSIÓN”)",null,"21. Método de Referencia (Indicar el código del método de referencia que se solicita acreditar, incluyendo los métodos de procesos preliminares como extracción o digestión , p. ej. SM 3030 y SM 3111 B)"]
["Humedad",null,"Humedad de campo"]
["Textura",null,"Textura"]
["pH",null,"pH"]
["Conductividad Eléctrica",null,"Conductividad Eléctrica"]
["Capacidad de Intercambio Catiónico",null,"Capacidad de Intercambio Catiónico"]
["Acidez Intercambiable",null,"Acidez Intercambiable"]
["RAS",null,"Realción de adsorción de Sodio"]
["Sólidos o Residuos",null,"Sólidos Totales"]
["Cenizas",null,"Cenizas"]
["Alcalinidad",null,"Alcalinidad"]
["Densidad Aparente",null,"Toma de muestra y análisis para determinación de densidad aparente"]
["Densidad Real",null,"Toma de muestra y análisis para determinación de densidad real"]
["Aniones",null,"Bromuro"]
["Aniones",null,"Cloruro"]
["Aniones",null,"Fluoruro"]
["Aniones",null,"Nitrato como N"]
["Aniones",null,"Nitrito como N"]
["Aniones",null,"Fosforo disponible"]
["Aniones",null,"Sulfato"]
["Nutrientes",null,"Amonio como N"]
["Nutrientes",null,"Nitrógeno Total Kjeldahl"]
["Nutrientes",null,"Carbono Orgánico Total"]
["Nutrientes",null,"Fósforo Total"]
["Nutrientes",null,"Carbono Orgánico Oxidable"]
["Microbiológico",null,"Escherichia coli"]
["Microbiológico",null,"Coliformes  Totales"]
["Microbiológico",null,"Salmonella sp."]
["Microbiológico",null,"Huevos de Helminto"]
["Microbiológico",null,"Bacterias Sulfato Reductoras"]
["Metales",null,"Aluminio"]
["Metales",null,"Antimonio"]
["Metales",null,"Arsénico"]
["Metales",null,"Bario"]
["Metales",null,"Berilio"]
["Metales",null,"Boro"]
["Metales",null,"Cadmio"]
["Metales",null,"Calcio"]
["Metales",null,"Cobalto"]
["Metales",null,"Cobre"]
["Metales",null,"Cromo"]
["Metales",null,"Estaño"]
["Metales",null,"Estroncio"]
["Metales",null,"Hierro"]
["Metales",null,"Litio"]
["Metales",null,"Magnesio"]
["Metales",null,"Manganeso"]
["Metales",null,"Mercurio"]
["Metales",null,"Molibdeno"]
["Metales",null,"Níquel"]
["Metales",null,"Plata"]
["Metales",null,"Plomo"]
["Metales",null,"Potasio"]
["Metales",null,"Selenio"]
["Metales",null,"Sodio"]
["Metales",null,"Talio"]
["Metales",null,"Titanio"]
["Metales",null,"Vanadio"]
["Metales",null,"Zinc"]
["Pesticidas Organoclorados",null,"Aldrín"]
["Pesticidas Organoclorados",null,"4,4'-DDD"]
["Pesticidas Organoclorados",null,"4,4'-DDE"]
["Pesticidas Organoclorados",null,"4,4'-DDT"]
["Pesticidas Organoclorados",null,"Dieldrín"]
["Pesticidas Organoclorados",null,"Heptacloro"]
["Pesticidas Organoclorados",null,"Alfa-BHC"]
["Pesticidas Organoclorados",null,"Beta-BHC"]
["Pesticidas Organoclorados",null,"Gama-BHC (Lindano)"]
["Pesticidas Organoclorados",null,"Endosulfan I"]
["Pesticidas Organoclorados",null,"Endosulfan II"]
["Pesticidas Organoclorados",null,"Endosulfan sulfato"]
["Pesticidas Organoclorados",null,"Endrín"]
["Pesticidas Organoclorados",null,"Metoxicloro"]
["Pesticidas Organofosforados",null,"Metil azinfos (Gutión)"]
["Pesticidas Organofosforados",null,"Demetón-O"]
["Pesticidas Organofosforados",null,"Demetón-S"]
["Pesticidas Organofosforados",null,"Diazinon"]
["Pesticidas Organofosforados",null,"Diclorvos (DDVP)"]
["Pesticidas Organofosforados",null,"Malation"]
["Pesticidas Organofosforados",null,"Etil paration"]
["Pesticidas Organofosforados",null,"Forato"]
["Pesticidas Organofosforados",null,"Ronnel"]
["Pesticidas Organofosforados",null,"Tetraclorvinfos"]
["Herbicidas",null,"2,4-D"]
["Herbicidas",null,"2,4-DB"]
["Herbicidas",null,"Dalapon"]
["Herbicidas",null,"Dicamba"]
["Herbicidas",null,"Disulfoton"]
["Herbicidas",null,"MCPA"]
["Herbicidas",null,"MCPP"]
["Herbicidas",null,"Pentaclorofenol"]
["Herbicidas",null,"Silvex (2,4,5-TP)"]
["Herbicidas",null,"2,4,5-T"]
["Dioxinas  y Furanos",null,"1,2,3,4,6,7,8-Hpcdf"]
["Dioxinas  y Furanos",null,"1,2,3,4,7,8,9-Hpcdf"]
["Dioxinas  y Furanos",null,"1,2,3,4,6,7,8-Hpcdd"]
["Dioxinas  y Furanos",null,"Hpcdd Total"]
["Dioxinas  y Furanos",null,"Hpcdf Total"]
["Dioxinas  y Furanos",null,"1,2,3,4,7,8-Hxcdd"]
["Dioxinas  y Furanos",null,"1,2,3,6,7,8-Hxcdd"]
["Dioxinas  y Furanos",null,"1,2,3,7,8,9-Hxcdd"]
["Dioxinas  y Furanos",null,"Hxcdd Total"]
["Dioxinas  y Furanos",null,"1,2,3,4,7,8-Hxcdf"]
["Dioxinas  y Furanos",null,"1,2,3,6,7,8-Hxcdf"]
["Dioxinas  y Furanos",null,"1,2,3,7,8,9-Hxcdf"]
["Dioxinas  y Furanos",null,"2,3,4,6,7,8-Hxcdf"]
["Dioxinas  y Furanos",null,"Hxcdf Total"]
["Dioxinas  y Furanos",null,"1,2,3,4,6,7,8,9-OCDF"]
["Dioxinas  y Furanos",null,"1,2,3,4,6,7,8,9-OCDD"]
["Dioxinas  y Furanos",null,"1,2,3,7,8-Pecdd"]
["Dioxinas  y Furanos",null,"1,2,3,7,8-Pecdf"]
["Dioxinas  y Furanos",null,"2,3,4,7,8-Pecdf"]
["Dioxinas  y Furanos",null,"Pecdf Total"]
["Dioxinas  y Furanos",null,"Pecdd Total"]
["Dioxinas  y Furanos",null,"2,3,7,8-TCDD"]
["Dioxinas  y Furanos",null,"2,3,7,8-TCDF"]
["Dioxinas  y Furanos",null,"TCDF Total"]
["Dioxinas  y Furanos",null,"TCDD Total"]
["Dioxinas  y Furanos",null,"PCDD Total"]
["Dioxinas  y Furanos",null,"PCDD+PCDF Total"]
["Dioxinas  y Furanos",null,"PCDF Total"]
["PCB Congéneres",null,"PCB 28"]
["PCB Congéneres",null,"PCB 52"]
["PCB Congéneres",null,"PCB 101"]
["PCB Congéneres",null,"PCB 118"]
["PCB Congéneres",null,"PCB 138"]
["PCB Congéneres",null,"PCB 153"]
["PCB Congéneres",null,"PCB 180"]
["TPH (Hidrocarburos derivados del petróleo)",null,"Hidrocarburos"]
["TPH (Hidrocarburos derivados del petróleo)",null,"Hidrocarburos del Petróleo (Fracción GRO)"]
["TPH (Hidrocarburos derivados del petróleo)",null,"Hidrocarburos del Petróleo (Fracción DRO)"]
["Toma de Muestra en Suelo",null,"Toma de Muestra"]
["Otras variables en Suelo"]
["Otras variables en Suelo"]
["Otras variables en Suelo"]
["Otras variables en Suelo"]
["Otras variables en Suelo"]
["Otras variables en Suelo"]
["Otras variables en Suelo"]
["Otras variables en Suelo"]
["Otras variables en Suelo"]
["Otras variables en Suelo"]
["Otras variables en Suelo"]
["Otras variables en Suelo"]
["Otras variables en Suelo"]
["Otras variables en Suelo"]
["Otras variables en Suelo"]
["Otras variables en Suelo"]
["Otras variables en Suelo"]
["Otras variables en Suelo"]
["Otras variables en Suelo"]
["Otras variables en Suelo"]
["Otras variables en Suelo"]
["Otras variables en Suelo"]
["Otras variables en Suelo"]
["Otras variables en Suelo"]
["Otras variables en Suelo"]
["Otras variables en Suelo"]
["Otras variables en Suelo"]
["Otras variables en Suelo"]
["Otras variables en Suelo"]
["Otras variables en Suelo"]
["Otras variables en Suelo"]
["Otras variables en Suelo"]
["Otras variables en Suelo"]
["Otras variables en Suelo"]
["Otras variables en Suelo"]
["Otras variables en Suelo"]
["Otras variables en Suelo"]
["Otras variables en Suelo"]
["Otras variables en Suelo"]
["Otras variables en Suelo"]
["Otras variables en Suelo"]
[]
["VARIABLES A EVALUAR"]
["MATRIZ LODO"]
["18. Matriz / Grupo",null,"19. Variable",null,"20. Variables solicitadas con fines de acreditación (Seleccionar las variables para las cuales solicita acreditación, indicando si corresponde a evaluación “INICIAL”, “SEGUIMIENTO”, “RENOVACIÓN” o “EXTENSIÓN”)",null,"21. Método de Referencia (Indicar el código del método de referencia que se solicita acreditar, incluyendo los métodos de procesos preliminares como extracción o digestión , p. ej. SM 3030 y SM 3111 B)"]
["Metales",null,"Aluminio"]
["Metales",null,"Antimonio"]
["Metales",null,"Arsénico"]
["Metales",null,"Bario"]
["Metales",null,"Berilio"]
["Metales",null,"Boro"]
["Metales",null,"Cadmio"]
["Metales",null,"Calcio"]
["Metales",null,"Cobalto"]
["Metales",null,"Cobre"]
["Metales",null,"Cromo"]
["Metales",null,"Litio"]
["Metales",null,"Estaño"]
["Metales",null,"Estroncio"]
["Metales",null,"Hierro"]
["Metales",null,"Magnesio"]
["Metales",null,"Manganeso"]
["Metales",null,"Mercurio"]
["Metales",null,"Molibdeno"]
["Metales",null,"Níquel"]
["Metales",null,"Plata"]
["Metales",null,"Plomo"]
["Metales",null,"Potasio"]
["Metales",null,"Selenio"]
["Metales",null,"Sodio"]
["Metales",null,"Talio"]
["Metales",null,"Titanio"]
["Metales",null,"Vanadio"]
["Metales",null,"Zinc"]
["Microbiológico",null,"Huevos de Helminto"]
["Microbiológico",null,"Coliformes Termotolerantes"]
["Microbiológico",null,"Salmonella sp."]
["Otras variables en Lodos",null,"Especificado por el Usuario"]
["Otras variables en Lodos",null,"Especificado por el Usuario"]
["Otras variables en Lodos",null,"Especificado por el Usuario"]
["Otras variables en Lodos",null,"Especificado por el Usuario"]
["Otras variables en Lodos",null,"Especificado por el Usuario"]
["Otras variables en Lodos",null,"Especificado por el Usuario"]
["Otras variables en Lodos",null,"Especificado por el Usuario"]
["Otras variables en Lodos",null,"Especificado por el Usuario"]
["Otras variables en Lodos",null,"Especificado por el Usuario"]
["Otras variables en Lodos",null,"Especificado por el Usuario"]
["Otras variables en Lodos",null,"Especificado por el Usuario"]
["Otras variables en Lodos",null,"Especificado por el Usuario"]
["Otras variables en Lodos",null,"Especificado por el Usuario"]
["Otras variables en Lodos",null,"Especificado por el Usuario"]
["Otras variables en Lodos",null,"Especificado por el Usuario"]
["Otras variables en Lodos",null,"Especificado por el Usuario"]
["Otras variables en Lodos",null,"Especificado por el Usuario"]
["Otras variables en Lodos",null,"Especificado por el Usuario"]
["Otras variables en Lodos",null,"Especificado por el Usuario"]
["Otras variables en Lodos",null,"Especificado por el Usuario"]
["Otras variables en Lodos",null,"Especificado por el Usuario"]
["Otras variables en Lodos",null,"Especificado por el Usuario"]
["Otras variables en Lodos",null,"Especificado por el Usuario"]
["Otras variables en Lodos",null,"Especificado por el Usuario"]
["Otras variables en Lodos",null,"Especificado por el Usuario"]
["Otras variables en Lodos",null,"Especificado por el Usuario"]
["Otras variables en Lodos",null,"Especificado por el Usuario"]
["Otras variables en Lodos",null,"Especificado por el Usuario"]
["Otras variables en Lodos",null,"Especificado por el Usuario"]
["Otras variables en Lodos",null,"Especificado por el Usuario"]
["Otras variables en Lodos",null,"Especificado por el Usuario"]
["Otras variables en Lodos",null,"Especificado por el Usuario"]
["Otras variables en Lodos",null,"Especificado por el Usuario"]
["Otras variables en Lodos",null,"Especificado por el Usuario"]
[]
["VARIABLES A EVALUAR"]
["MATRIZ SEDIMENTO"]
["18. Matriz / Grupo",null,"19. Variable",null,"20. Variables solicitadas con fines de acreditación (Seleccionar las variables para las cuales solicita acreditación, indicando si corresponde a evaluación “INICIAL”, “SEGUIMIENTO”, “RENOVACIÓN” o “EXTENSIÓN”)",null,"21. Método de Referencia (Indicar el código del método de referencia que se solicita acreditar, incluyendo los métodos de procesos preliminares como extracción o digestión , p. ej. SM 3030 y SM 3111 B)"]
["Metales",null,"Aluminio"]
["Metales",null,"Antimonio"]
["Metales",null,"Arsénico"]
["Metales",null,"Bario"]
["Metales",null,"Berilio"]
["Metales",null,"Boro"]
["Metales",null,"Cadmio"]
["Metales",null,"Calcio"]
["Metales",null,"Cobalto"]
["Metales",null,"Cobre"]
["Metales",null,"Cromo"]
["Metales",null,"Litio"]
["Metales",null,"Estaño"]
["Metales",null,"Estroncio"]
["Metales",null,"Hierro"]
["Metales",null,"Magnesio"]
["Metales",null,"Manganeso"]
["Metales",null,"Mercurio"]
["Metales",null,"Molibdeno"]
["Metales",null,"Níquel"]
["Metales",null,"Plata"]
["Metales",null,"Plomo"]
["Metales",null,"Potasio"]
["Metales",null,"Selenio"]
["Metales",null,"Sodio"]
["Metales",null,"Talio"]
["Metales",null,"Titanio"]
["Metales",null,"Vanadio"]
["Metales",null,"Zinc"]
["Granulometría",null,"Granulometría"]
["Grasas y Aceites",null,"Grasas y Aceites"]
["Hidrocarburos",null,"Hidrocarburos"]
["Toma de muestra de Sedimento",null,"Toma de Muestra de Sedimento"]
["Toma de muestra de Sedimento",null,"Toma de Muestra de Sedimento Marino"]
["Toma de muestra de Sedimento",null,"Toma de Muestra de Sedimento en Cuerpo Lénticos"]
["Toma de muestra de Sedimento",null,"Toma de Muestra de Sedimento en Cuerpo Lóticos"]
["PCB Congéneres en Sedimento",null,"PCB 28"]
["PCB Congéneres en Sedimento",null,"PCB 52"]
["PCB Congéneres en Sedimento",null,"PCB 101"]
["PCB Congéneres en Sedimento",null,"PCB 118"]
["PCB Congéneres en Sedimento",null,"PCB 138"]
["PCB Congéneres en Sedimento",null,"PCB 153"]
["PCB Congéneres en Sedimento",null,"PCB 180"]
["Otras variables en Sedimentos"]
["Otras variables en Sedimentos"]
["Otras variables en Sedimentos"]
["Otras variables en Sedimentos"]
["Otras variables en Sedimentos"]
["Otras variables en Sedimentos"]
["Otras variables en Sedimentos"]
["Otras variables en Sedimentos"]
["Otras variables en Sedimentos"]
["Otras variables en Sedimentos"]
["Otras variables en Sedimentos"]
["Otras variables en Sedimentos"]
["Otras variables en Sedimentos"]
[]
["VARIABLES A EVALUAR"]
["MATRIZ SEDIMENTO MARINOS"]
["18. Matriz / Grupo",null,"19. Variable",null,"20. Variables solicitadas con fines de acreditación (Seleccionar las variables para las cuales solicita acreditación, indicando si corresponde a evaluación “INICIAL”, “SEGUIMIENTO”, “RENOVACIÓN” o “EXTENSIÓN”)",null,"21. Método de Referencia (Indicar el código del método de referencia que se solicita acreditar, incluyendo los métodos de procesos preliminares como extracción o digestión , p. ej. SM 3030 y SM 3111 B)"]
["Metales",null,"Aluminio"]
["Metales",null,"Antimonio"]
["Metales",null,"Arsénico"]
["Metales",null,"Bario"]
["Metales",null,"Berilio"]
["Metales",null,"Boro"]
["Metales",null,"Cadmio"]
["Metales",null,"Calcio"]
["Metales",null,"Cobalto"]
["Metales",null,"Cobre"]
["Metales",null,"Cromo"]
["Metales",null,"Litio"]
["Metales",null,"Estaño"]
["Metales",null,"Estroncio"]
["Metales",null,"Hierro"]
["Metales",null,"Magnesio"]
["Metales",null,"Manganeso"]
["Metales",null,"Mercurio"]
["Metales",null,"Molibdeno"]
["Metales",null,"Níquel"]
["Metales",null,"Plata"]
["Metales",null,"Plomo"]
["Metales",null,"Potasio"]
["Metales",null,"Selenio"]
["Metales",null,"Sodio"]
["Metales",null,"Talio"]
["Metales",null,"Titanio"]
["Metales",null,"Vanadio"]
["Metales",null,"Zinc"]
["Granulometría",null,"Granulometría"]
["Grasas y Aceites",null,"Grasas y Aceites"]
["Hidrocarburos",null,"Hidrocarburos"]
["Toma de muestra de Sedimento",null,"Toma de Muestra de Sedimento"]
["Toma de muestra de Sedimento",null,"Toma de Muestra de Sedimento Marino"]
["Toma de muestra de Sedimento",null,"Toma de Muestra de Sedimento en Cuerpo Lénticos"]
["Toma de muestra de Sedimento",null,"Toma de Muestra de Sedimento en Cuerpo Lóticos"]
["Otras variables en Sedimentos Marinos"]
["Otras variables en Sedimentos Marinos"]
["Otras variables en Sedimentos Marinos"]
["Otras variables en Sedimentos Marinos"]
["Otras variables en Sedimentos Marinos"]
["Otras variables en Sedimentos Marinos"]
["Otras variables en Sedimentos Marinos"]
["Otras variables en Sedimentos Marinos"]
["Otras variables en Sedimentos Marinos"]
["Otras variables en Sedimentos Marinos"]
["Otras variables en Sedimentos Marinos"]
["Otras variables en Sedimentos Marinos"]
["Otras variables en Sedimentos Marinos"]
["Otras variables en Sedimentos Marinos"]
["Otras variables en Sedimentos Marinos"]
["Otras variables en Sedimentos Marinos"]
["Otras variables en Sedimentos Marinos"]
["Otras variables en Sedimentos Marinos"]
["Otras variables en Sedimentos Marinos"]
["Otras variables en Sedimentos Marinos"]
[]
["VARIABLES A EVALUAR"]
["MATRIZ BIOSOLIDOS"]
["18. Matriz / Grupo",null,"19. Variable",null,"20. Variables solicitadas con fines de acreditación (Seleccionar las variables para las cuales solicita acreditación, indicando si corresponde a evaluación “INICIAL”, “SEGUIMIENTO”, “RENOVACIÓN” o “EXTENSIÓN”)",null,"21. Método de Referencia (Indicar el código del método de referencia que se solicita acreditar, incluyendo los métodos de procesos preliminares como extracción o digestión , p. ej. SM 3030 y SM 3111 B)"]
["Microbiológico",null,"Coliformes Totales"]
["Microbiológico",null,"Coliformes Termotolerantes"]
["Microbiológico",null,"Huevos de Helminto"]
["Microbiológico",null,"Salmonella sp. "]
["Microbiológico",null,"Escherichia coli"]
["Otras variables en Biosólido"]
["Otras variables en Biosólido"]
["Otras variables en Biosólido"]
["Otras variables en Biosólido"]
["Otras variables en Biosólido"]
["Otras variables en Biosólido"]
["Otras variables en Biosólido"]
["Otras variables en Biosólido"]
["Otras variables en Biosólido"]
[null,null,null,null,null,null,null,null,null,"INICIAL - ANÁLISIS DE LABORATORIO"]
["VARIABLES A EVALUAR",null,null,null,null,null,null,null,null,"INICIAL - TOMA DE MUESTRA"]
["MATRIZ AIRE - EMISIONES GENERADAS POR FUENTES FIJAS",null,null,null,null,null,null,null,null,"INICIAL - TOMA DE MUESTRA Y ANÁLISIS"]
["18. Matriz / Grupo",null,"Si el metodo de referencia solicitado por el OEC es diferente al que aparece a continuación (USEPA), este se debe indicar en la última columna a la derecha, de lo contrario confirme si aplica el metodo USEPA enunciado",null,"Variables solicitadas con fines de acreditación (Seleccionar las variables para las cuales solicita acreditación, indicando si corresponde a evaluación “INICIAL”, “SEGUIMIENTO”, “RENOVACIÓN” o “EXTENSIÓN”.)",null,"Método de Referencia",null,null,"SEGUIMIENTO - ANÁLISIS DE LABORATORIO"]
["Fuentes Fijas",null,"Punto y velocidad de toma de muestra (USEPA 1)",null,null,null,null,null,null,"SEGUIMIENTO - TOMA DE MUESTRA"]
["Fuentes Fijas",null,"Punto y velocidad de toma de muestra para fuentes fijas con ductos o chimeneas pequeñas (USEPA 1A)",null,null,null,null,null,null,"SEGUIMIENTO - TOMA DE MUESTRA Y ANÁLISIS"]
["Fuentes Fijas",null,"Velocidad y tasa de flujo volumétrica de gases en chimenea (Tubo Pitot tipo S) (USEPA 2)",null,null,null,null,null,null,"RENOVACIÓN - ANÁLISIS DE LABORATORIO"]
["Fuentes Fijas",null,"Velocidad y tasa de flujo volumétrica del gas en ductos o chimeneas pequeñas (Tubo Pitot estándar) (USEPA 2C)",null,null,null,null,null,null,"RENOVACIÓN - TOMA DE MUESTRA"]
["Fuentes Fijas",null,"Análisis de gases para la determinación del peso molecular base seca (USEPA 3)",null,null,null,null,null,null,"RENOVACIÓN - TOMA DE MUESTRA Y ANÁLISIS"]
["Fuentes Fijas",null,"Concentraciones de oxígeno en emisiones de fuentes fijas (Procedimiento del analizador instrumental) (USEPA 3A)",null,null,null,null,null,null,"EXTENSIÓN - ANÁLISIS DE LABORATORIO"]
["Fuentes Fijas",null,"Concentraciones de dióxido de carbono en emisiones de fuentes fijas (Procedimiento del analizador instrumental) (USEPA 3A)",null,null,null,null,null,null,"EXTENSIÓN - TOMA DE MUESTRA"]
["Fuentes Fijas",null,"Análisis de gases para la determinación del factor de corrección de tasa de emisión o exceso de aire (USEPA 3B)",null,null,null,null,null,null,"EXTENSIÓN - TOMA DE MUESTRA Y ANÁLISIS"]
["Fuentes Fijas",null,"Contenido de humedad en gases de chimenea (USEPA 4)"]
["Fuentes Fijas",null,"Material Particulado (USEPA 5)"]
["Fuentes Fijas",null,"Material Particulado en la industria de Procesamiento de asfalto y manto asfáltico (USEPA 5A)"]
["Fuentes Fijas",null,"Material Particulado diferente al ácido sulfúrico (USEPA 5B)"]
["Fuentes Fijas",null,"Material Particulado en filtros de manga que operan a presión positiva (USEPA 5D)"]
["Fuentes Fijas",null,"Material Particulado en industrias de manufactura de fibra de lana de vidrio aislante (USEPA 5E)"]
["Fuentes Fijas",null,"Material Particulado, diferente al sulfato (USEPA 5F)"]
["Fuentes Fijas",null,"Material Particulado en calentadores de madera (toma de muestra en túnel de dilución) (USEPA 5G)"]
["Fuentes Fijas",null,"Material Particulado en calentadores de madera (localizado en la chimenea) (USEPA 5H)"]
["Fuentes Fijas",null,"Material Particulado de bajo nivel (USEPA 5I)"]
["Fuentes Fijas",null,"Dióxido de azufre (USEPA 6)"]
["Fuentes Fijas",null,"Dióxido de azufre, humedad y Dióxido de carbono  en fuentes de combustión de combustible fósil (USEPA 6A)"]
["Fuentes Fijas",null,"Emisiones promedio diarias de dióxido de azufre y dióxido de carbono en fuentes de combustión de combustible fósil (USEPA 6B)"]
["Fuentes Fijas",null,"Dióxido de azufre (Procedimiento del analizador instrumental) (USEPA 6C)"]
["Fuentes Fijas",null,"Óxidos de nitrógeno (USEPA 7)"]
["Fuentes Fijas",null,"Óxidos de nitrógeno (Método de cromatografía iónica) (USEPA 7A)"]
["Fuentes Fijas",null,"Óxidos de nitrógeno (Método de espectrofotometría ultravioleta) (USEPA 7B)"]
["Fuentes Fijas",null,"Óxidos de nitrógeno Método colorimétrico de permanganato alcalino) (USEPA 7C)"]
["Fuentes Fijas",null,"Óxidos de nitrógeno Procedimiento del analizador instrumental) (USEPA 7E)"]
["Fuentes Fijas",null,"Ácido sulfúrico y Dióxido de azufre, Trióxido de Azufre (USEPA 8)"]
["Fuentes Fijas",null,"Monóxido de carbono (Procedimiento del analizador instrumental) (USEPA 10)"]
["Fuentes Fijas",null,"Monóxido de carbono en la certificación de sistemas de medición continua de emisiones en refinerías de petróleo (USEPA 10A)"]
["Fuentes Fijas",null,"Determinación de emisiones de Monóxido de carbono en fuentes fijas (USEPA 10B)"]
["Fuentes Fijas",null,"Sulfuro de hidrógeno (H2S) en corrientes de gas combustible en refinerías de petróleo (USEPA 11)"]
["Fuentes Fijas",null,"Plomo inorgánico (USEPA 12)"]
["Fuentes Fijas",null,"Fluoruro total (Método del reactivo SPADNS) (USEPA 13A)"]
["Fuentes Fijas",null,"Fluoruro total (Método del Ion electrodo específico) (USEPA 13B)"]
["Fuentes Fijas",null,"Fluoruro para plantas de producción de aluminio primario (USEPA 14)"]
["Fuentes Fijas",null,"Fluoruro total en fuentes fijas específicas en instalaciones de producción de aluminio primario (USEPA 14A)"]
["Fuentes Fijas",null,"Sulfuro de hidrógeno (H2S), Carbonilo sulfhídrico y Bisulfuro de Carbono en fuentes fijas (USEPA 15)"]
["Fuentes Fijas",null,"Azufre total reducido en plantas de recuperación de azufre de refinerías de petróleo (USEPA 15A)"]
["Fuentes Fijas",null,"Determinación semicontinua de las emisiones de azufre (USEPA 16)"]
["Fuentes Fijas",null,"Azufre total reducido (Técnica del impactador) (USEPA 16A)"]
["Fuentes Fijas",null,"Azufre total reducido (USEPA 16B)"]
["Fuentes Fijas",null,"Material Particulado (USEPA 17)"]
["Fuentes Fijas",null,"Compuestos Orgánicos Gaseosos por cromatografía de gases (USEPA 18)"]
["Fuentes Fijas",null,"Eficiencia de remoción de Dióxido de azufre y las Tasas de emisión de material particulado, dióxido de azufre y óxidos de nitrógeno (USEPA 19)"]
["Fuentes Fijas",null,"Óxidos de nitrógeno, Dióxido de azufre y diluyentes en turbinas de gas estacionarias (USEPA 20)"]
["Fuentes Fijas",null,"Dibenzo–p–Dioxinas Policloradas y Dibenzofuranos policlorados en incineradores de residuos (USEPA 23)"]
["Fuentes Fijas",null,"Dibenzo (a,h) Antraceno y Benzo (a) Pireno"]
["Fuentes Fijas",null,"Contenido de material volátil, contenido de agua, densidad, volumen de sólidos y peso de sólidos en la actividad de recubrimiento de superficies (USEPA 24)"]
["Fuentes Fijas",null,"Contenido y densidad del material volátil en la actividad de recubrimiento de tintas por rotograbado y publicaciones rotograbadas relacionadas (USEPA 24A)"]
["Fuentes Fijas",null,"Emisiones gaseosas orgánicas totales diferentes al metano dadas como carbón (USEPA 25)"]
["Fuentes Fijas",null,"Concentración gaseosa orgánica total empleando un analizador de ionización de llama (USEPA 25A)"]
["Fuentes Fijas",null,"Concentración gaseosa orgánica total empleando unanalizador de infrarrojo no dispersivo (USEPA 25B)"]
["Fuentes Fijas",null,"Compuestos orgánicos diferentes al metano en gases de rellenos sanitarios (USEPA 25C)"]
["Fuentes Fijas",null,"Haluros de hidrógeno y Halógenos (Método no isocinético) (USEPA 26)"]
["Fuentes Fijas",null,"Haluros de hidrógeno y Halógenos  (Método isocinético) (USEPA 26A)"]
["Fuentes Fijas",null,"Metales (USEPA 29). Análisis Indicar cuáles"]
["Fuentes Fijas",null,"Antimonio"]
["Fuentes Fijas",null,"Arsenico"]
["Fuentes Fijas",null,"Bario"]
["Fuentes Fijas",null,"Beriliio"]
["Fuentes Fijas",null,"Cadmio"]
["Fuentes Fijas",null,"Cromo"]
["Fuentes Fijas",null,"Cobalto"]
["Fuentes Fijas",null,"Cobre"]
["Fuentes Fijas",null,"Plomo"]
["Fuentes Fijas",null,"Manganeso"]
["Fuentes Fijas",null,"Mercurio"]
["Fuentes Fijas",null,"Niquel "]
["Fuentes Fijas",null,"Fosforo"]
["Fuentes Fijas",null,"Selenio "]
["Fuentes Fijas",null,"Plata "]
["Fuentes Fijas",null,"Talio"]
["Fuentes Fijas",null,"Zinc"]
["Fuentes Fijas",null,"Recolección y análisis de Amonio"]
["Fuentes Fijas",null,"PM10 (USEPA 201A)"]
["Fuentes fijas Analitos USEPA 18"]
["Fuentes fijas Analitos USEPA 18"]
["Fuentes fijas Analitos USEPA 19"]
["Fuentes fijas Analitos USEPA 20"]
["Fuentes fijas Analitos USEPA 21"]
["Fuentes fijas Analitos USEPA 22"]
["Fuentes fijas Analitos USEPA 23"]
["Fuentes fijas Analitos USEPA 24"]
["Fuentes fijas Analitos USEPA 25"]
["Fuentes fijas Analitos USEPA 26"]
["Fuentes fijas Analitos USEPA 27"]
["Fuentes fijas Analitos USEPA 28"]
["Fuentes fijas Analitos USEPA 29"]
["Fuentes fijas Analitos USEPA 30"]
["Fuentes fijas Analitos USEPA 31"]
["Fuentes fijas Analitos USEPA 32"]
["Fuentes fijas Analitos USEPA 33"]
["Fuentes fijas Analitos USEPA 34"]
["Fuentes fijas Analitos USEPA 35"]
["Fuentes fijas Analitos USEPA 36"]
["Fuentes fijas Analitos USEPA 37"]
["Fuentes fijas Analitos USEPA 38"]
["Fuentes fijas Analitos USEPA 39"]
["Fuentes fijas Analitos USEPA 40"]
["Fuentes fijas Analitos USEPA 41"]
["Otras variables en Fuentes Fijas"]
["Otras variables en Fuentes Fijas"]
["Otras variables en Fuentes Fijas"]
["Otras variables en Fuentes Fijas"]
["Otras variables en Fuentes Fijas"]
["Otras variables en Fuentes Fijas"]
["Otras variables en Fuentes Fijas"]
["Otras variables en Fuentes Fijas"]
["Otras variables en Fuentes Fijas"]
["Otras variables en Fuentes Fijas"]
["Otras variables en Fuentes Fijas"]
["Otras variables en Fuentes Fijas"]
["Otras variables en Fuentes Fijas"]
["Otras variables en Fuentes Fijas"]
["Otras variables en Fuentes Fijas"]
["Otras variables en Fuentes Fijas"]
["Otras variables en Fuentes Fijas",null,null,null,null,null,null,null,"Número de Equipos a acreditar"]
[]
["VARIABLES A EVALUAR"]
["MATRIZ AIRE - INMISIONES O CALIDAD DEL AIRE"]
["Matriz / Grupo",null,"Si el metodo de referencia solicitado por el OEC es diferente al que aparece a continuación (USEPA), este se debe indicar en la última columna a la derecha, de lo contrario confirme si aplica el metodo USEPA enunciado",null,"Variables solicitadas con fines de acreditación (Seleccionar las variables para las cuales solicita acreditación, indicando si corresponde a evaluación “INICIAL”, “SEGUIMIENTO”, “RENOVACIÓN” o “EXTENSIÓN”)",null,"Método de Referencia"]
["Calidad de Aire",null,"Partículas Suspendidas Totales"]
["Calidad de Aire",null,"Material Particulado como PM10"]
["Calidad de Aire",null,"Material Particulado menor a 2,5 µm -  PM2,5"]
["Calidad de Aire",null,"SO2"]
["Calidad de Aire",null,"NO2"]
["Calidad de Aire",null,"Monóxido de Carbono, CO"]
["Calidad de Aire",null,"H2S"]
["Calidad de Aire",null,"Plomo"]
["Calidad de Aire",null,"Compuestos Orgánicos Volátiles, COVs (Incluidos Hidrocarburos)"]
["Calidad de Aire",null,"Olfatometría Dinámica"]
["Calidad de Aire",null,"Mercaptanos (Determinación directa)"]
["Calidad de Aire",null,"Azufre Total Reducido (Determinación directa)"]
["Calidad de Aire",null,"Amoniaco (Determinación directa)"]
["Analitos de COVs (incluidos hidrocarburos)"]
["Analitos de COVs (incluidos hidrocarburos)"]
["Analitos de COVs (incluidos hidrocarburos)"]
["Analitos de COVs (incluidos hidrocarburos)"]
["Analitos de COVs (incluidos hidrocarburos)"]
["Analitos de COVs (incluidos hidrocarburos)"]
["Analitos de COVs (incluidos hidrocarburos)"]
["Analitos de COVs (incluidos hidrocarburos)"]
["Analitos de COVs (incluidos hidrocarburos)"]
["Analitos de COVs (incluidos hidrocarburos)"]
["Analitos de COVs (incluidos hidrocarburos)"]
["Analitos de COVs (incluidos hidrocarburos)"]
["Analitos de COVs (incluidos hidrocarburos)"]
["Analitos de COVs (incluidos hidrocarburos)"]
["Analitos de COVs (incluidos hidrocarburos)"]
["Analitos de COVs (incluidos hidrocarburos)"]
["Analitos de COVs (incluidos hidrocarburos)"]
["Analitos de COVs (incluidos hidrocarburos)"]
["Analitos de COVs (incluidos hidrocarburos)"]
["Analitos de COVs (incluidos hidrocarburos)"]
["Analitos de COVs (incluidos hidrocarburos)"]
["Analitos de COVs (incluidos hidrocarburos)"]
["Analitos de COVs (incluidos hidrocarburos)"]
["Analitos de COVs (incluidos hidrocarburos)"]
["Analitos de COVs (incluidos hidrocarburos)"]
["Analitos de COVs (incluidos hidrocarburos)"]
["Analitos de COVs (incluidos hidrocarburos)"]
["Analitos de COVs (incluidos hidrocarburos)"]
["Analitos de COVs (incluidos hidrocarburos)"]
["Analitos de COVs (incluidos hidrocarburos)"]
["Analitos de COVs (incluidos hidrocarburos)"]
["Otras variables en Calidad del Aire"]
["Otras variables en Calidad del Aire"]
["Otras variables en Calidad del Aire"]
["Otras variables en Calidad del Aire"]
["Otras variables en Calidad del Aire"]
["Otras variables en Calidad del Aire"]
["Otras variables en Calidad del Aire"]
["Otras variables en Calidad del Aire"]
["Otras variables en Calidad del Aire"]
["Otras variables en Calidad del Aire"]
["Otras variables en Calidad del Aire"]
["Otras variables en Calidad del Aire"]
["Otras variables en Calidad del Aire"]
["Otras variables en Calidad del Aire"]
["Otras variables en Calidad del Aire"]
["Otras variables en Calidad del Aire"]
["Otras variables en Calidad del Aire"]
["Otras variables en Calidad del Aire"]
["Otras variables en Calidad del Aire"]
["Otras variables en Calidad del Aire"]
["Otras variables en Calidad del Aire"]
["Otras variables en Calidad del Aire"]
["Otras variables en Calidad del Aire"]
["Otras variables en Calidad del Aire"]
["Otras variables en Calidad del Aire"]
["Otras variables en Calidad del Aire"]
["Otras variables en Calidad del Aire"]
["Otras variables en Calidad del Aire"]
["Otras variables en Calidad del Aire"]
["Otras variables en Calidad del Aire"]
["Otras variables en Calidad del Aire"]
["Otras variables en Calidad del Aire"]
[]
["VARIABLES A EVALUAR"]
["MATRIZ RUIDO"]
["18. Matriz / Grupo",null,"19. Variable",null,"20. Variables solicitadas con fines de acreditación (Seleccionar las variables para las cuales solicita acreditación, indicando si corresponde a evaluación “INICIAL”, “SEGUIMIENTO”, “RENOVACIÓN” o “EXTENSIÓN”)",null,"21. Método de Referencia (Indicar el código del método de referencia que se solicita acreditar, incluyendo los métodos de procesos preliminares como extracción o digestión , p. ej. SM 3030 y SM 3111 B)"]
["Calidad de Aire",null,"Emisión de Ruido"]
["Calidad de Aire",null,"Ruido Ambiental"]
["Calidad de Aire",null,"Ruido Ambiental (ISO 1996)",null,null,null,null,null,"Número de Estaciones a acreditar"]
[]
["VARIABLES A EVALUAR"]
["MATRIZ AIRE - INMISIONES O CALIDAD DEL AIRE - ESTACIONES AUTOMÁTICAS"]
["Matriz / Grupo",null,"Si el metodo de referencia solicitado por el OEC es diferente al que aparece a continuación (USEPA), este se debe indicar en la última columna a la derecha, de lo contrario confirme si aplica el metodo USEPA enunciado",null,"Variables solicitadas con fines de acreditación (Seleccionar las variables para las cuales solicita acreditación, indicando si corresponde a evaluación “INICIAL”, “SEGUIMIENTO”, “RENOVACIÓN” o “EXTENSIÓN”)",null,"Método de Referencia"]
["Estaciones Automáticas de Calidad del Aire",null,"Monóxido de Carbono Medición Directa en campo de CO"]
["Estaciones Automáticas de Calidad del Aire",null,"Óxidos de Azufre medición directa en campo de SO2"]
["Estaciones Automáticas de Calidad del Aire",null,"Óxidos de Nitrógeno Medición Directa en campo de NO/NO2/NOX"]
["Estaciones Automáticas de Calidad del Aire",null,"Ozono Medición directa en campo de O3"]
["Estaciones Automáticas de Calidad del Aire",null,"Material Particulado menor a 10 µm - PM10 automático "]
["Estaciones Automáticas de Calidad del Aire",null,"Material Particulado menor a 2,5 µm - PM2,5 automático "]
["Variables adicionales para Estaciones Automáticas de Calidad del Aire"]
["Variables adicionales para Estaciones Automáticas de Calidad del Aire"]
["Variables adicionales para Estaciones Automáticas de Calidad del Aire"]
["Variables adicionales para Estaciones Automáticas de Calidad del Aire"]
["Variables adicionales para Estaciones Automáticas de Calidad del Aire"]
["Variables adicionales para Estaciones Automáticas de Calidad del Aire"]
["Variables adicionales para Estaciones Automáticas de Calidad del Aire"]
["Variables adicionales para Estaciones Automáticas de Calidad del Aire"]
["Variables adicionales para Estaciones Automáticas de Calidad del Aire"]
["Variables adicionales para Estaciones Automáticas de Calidad del Aire"]
["Variables adicionales para Estaciones Automáticas de Calidad del Aire"]
["Variables adicionales para Estaciones Automáticas de Calidad del Aire"]
["Variables adicionales para Estaciones Automáticas de Calidad del Aire"]
["Variables adicionales para Estaciones Automáticas de Calidad del Aire"]

{"sheet":"Conteo y Equivalencias","index":1,"n_rows":1287,"n_cols":24,"rows_kept":1287,"cut":false,"hidden":false,"merged":[[0,0,3,1],[0,2,3,6],[769,0,769,1],[770,0,770,1],[771,0,771,1],[772,0,772,1],[772,2,772,3],[773,0,773,1],[773,2,773,3],[759,0,759,1],[760,0,760,1],[761,0,761,1],[756,2,756,3],[757,2,757,3],[758,2,758,3],[759,2,759,3],[760,2,760,3],[761,2,761,3],[762,2,762,3],[762,0,762,1],[763,0,763,1],[764,0,764,1],[765,0,765,1],[766,0,766,1],[767,0,767,1],[768,0,768,1],[748,0,748,1],[749,0,749,1],[750,0,750,1],[750,2,750,3],[751,0,751,1],[751,2,751,3],[752,0,752,1],[752,2,752,3],[753,0,753,1],[753,2,753,3],[754,0,754,1],[754,2,754,3],[755,2,755,3],[755,0,755,1],[756,0,756,1],[757,0,757,1],[758,0,758,1],[748,2,748,3],[749,2,749,3],[514,2,514,3],[514,0,514,1],[515,0,515,1],[516,0,516,1],[517,0,517,1],[518,0,518,1],[519,0,519,1],[520,0,520,1],[521,0,521,1],[522,0,522,1],[523,0,523,1],[524,0,524,1],[524,2,524,3],[525,0,525,1],[525,2,525,3],[770,2,770,3],[771,2,771,3],[763,2,763,3],[764,2,764,3],[765,2,765,3],[766,2,766,3],[767,2,767,3],[768,2,768,3],[769,2,769,3],[743,2,743,3],[744,2,744,3],[745,0,745,1],[745,2,745,3],[746,0,746,1],[746,2,746,3],[747,2,747,3],[747,0,747,1],[503,2,503,3],[504,2,504,3],[505,2,505,3],[506,2,506,3],[507,2,507,3],[507,0,507,1],[508,0,508,1],[509,0,509,1],[510,0,510,1],[511,0,511,1],[512,0,512,1],[513,0,513,1],[508,2,508,3],[509,2,509,3],[510,2,510,3],[511,2,511,3],[512,2,512,3],[513,2,513,3],[492,0,492,1],[493,0,493,1],[494,0,494,1],[495,0,495,1],[495,2,495,3],[496,0,496,1],[496,2,496,3],[522,2,522,3],[523,2,523,3],[515,2,515,3],[516,2,516,3],[517,2,517,3],[518,2,518,3],[519,2,519,3],[520,2,520,3],[521,2,521,3],[497,0,497,1],[497,2,497,3],[498,0,498,1],[498,2,498,3],[499,0,499,1],[499,2,499,3],[500,2,500,3],[500,0,500,1],[501,0,501,1],[502,0,502,1],[503,0,503,1],[504,0,504,1],[505,0,505,1],[506,0,506,1],[501,2,501,3],[502,2,502,3],[482,0,482,1],[483,0,483,1],[484,0,484,1],[479,2,479,3],[480,2,480,3],[481,2,481,3],[482,2,482,3],[483,2,483,3],[484,2,484,3],[485,2,485,3],[485,0,485,1],[486,0,486,1],[487,0,487,1],[488,0,488,1],[489,0,489,1],[490,0,490,1],[491,0,491,1],[372,0,372,1],[373,0,373,1],[374,0,374,1],[375,0,375,1],[376,0,376,1],[377,0,377,1],[378,0,378,3],[493,2,493,3],[494,2,494,3],[486,2,486,3],[487,2,487,3],[488,2,488,3],[489,2,489,3],[490,2,490,3],[491,2,491,3],[492,2,492,3],[468,0,468,1],[468,2,468,3],[469,0,469,1],[469,2,469,3],[470,0,470,1],[470,2,470,3],[471,2,471,3],[471,0,471,1],[472,0,472,1],[473,0,473,1],[474,0,474,1],[475,0,475,1],[476,0,476,1],[477,0,477,1],[472,2,472,3],[473,2,473,3],[355,0,355,1],[356,0,356,1],[357,0,357,1],[358,0,358,1],[359,0,359,1],[360,0,360,1],[361,0,361,1],[362,0,362,1],[363,0,363,1],[364,0,364,1],[365,0,365,1],[366,0,366,1],[367,0,367,1],[368,0,368,1],[369,0,369,1],[370,0,370,1],[371,0,371,1],[338,0,338,1],[339,0,339,1],[340,0,340,1],[341,0,341,1],[342,0,342,1],[343,0,343,1],[344,0,344,1],[345,0,345,1],[346,0,346,1],[347,0,347,1],[348,0,348,1],[349,0,349,1],[350,0,350,1],[351,0,351,1],[352,0,352,1],[353,0,353,1],[354,0,354,1],[322,2,322,3],[323,2,323,3],[324,2,324,3],[325,2,325,3],[326,2,326,3],[327,2,327,3],[328,2,328,3],[329,2,329,3],[330,2,330,3],[336,2,336,3],[337,2,337,3],[330,0,330,1],[331,0,331,1],[332,0,332,1],[333,0,333,1],[334,0,334,1],[335,0,335,1],[336,0,336,1],[337,0,337,1],[305,2,305,3],[306,2,306,3],[307,2,307,3],[308,2,308,3],[309,2,309,3],[310,2,310,3],[311,2,311,3],[312,2,312,3],[313,2,313,3],[314,2,314,3],[315,2,315,3],[316,2,316,3],[317,2,317,3],[318,2,318,3],[319,2,319,3],[320,2,320,3],[321,2,321,3],[314,0,314,1],[315,0,315,1],[316,0,316,1],[317,0,317,1],[318,0,318,1],[319,0,319,1],[320,0,320,1],[321,0,321,1],[322,0,322,1],[323,0,323,1],[324,0,324,1],[325,0,325,1],[326,0,326,1],[327,0,327,1],[328,0,328,1],[329,0,329,1],[289,2,289,3],[290,2,290,3],[291,2,291,3],[292,2,292,3],[293,2,293,3],[294,2,294,3],[295,2,295,3],[296,2,296,3],[297,2,297,3],[298,2,298,3],[299,2,299,3],[300,2,300,3],[301,2,301,3],[302,2,302,3],[303,2,303,3],[304,2,304,3],[297,0,297,1],[298,0,298,1],[299,0,299,1],[300,0,300,1],[301,0,301,1],[302,0,302,1],[303,0,303,1],[304,0,304,1],[305,0,305,1],[306,0,306,1],[307,0,307,1],[308,0,308,1],[309,0,309,1],[310,0,310,1],[311,0,311,1],[312,0,312,1],[313,0,313,1],[288,2,288,3],[281,0,281,1],[282,0,282,1],[283,0,283,1],[284,0,284,1],[285,0,285,1],[286,0,286,1],[287,0,287,1],[288,0,288,1],[289,0,289,1],[290,0,290,1],[291,0,291,1],[292,0,292,1],[293,0,293,1],[294,0,294,1],[295,0,295,1],[296,0,296,1],[271,2,271,3],[272,2,272,3],[273,2,273,3],[274,2,274,3],[275,2,275,3],[276,2,276,3],[277,2,277,3],[278,2,278,3],[279,2,279,3],[280,2,280,3],[281,2,281,3],[282,2,282,3],[283,2,283,3],[284,2,284,3],[285,2,285,3],[286,2,286,3],[287,2,287,3],[280,0,280,1],[240,2,240,3],[241,2,241,3],[242,2,242,3],[243,2,243,3],[244,2,244,3],[245,2,245,3],[246,2,246,3],[247,2,247,3],[248,2,248,3],[249,2,249,3],[250,2,250,3],[251,2,251,3],[252,2,252,3],[253,2,253,3],[254,2,254,3],[255,2,255,3],[256,2,256,3],[257,2,257,3],[258,2,258,3],[259,2,259,3],[260,2,260,3],[261,2,261,3],[262,2,262,3],[263,2,263,3],[264,2,264,3],[265,2,265,3],[266,2,266,3],[267,2,267,3],[268,2,268,3],[269,2,269,3],[270,2,270,3],[263,0,263,1],[264,0,264,1],[265,0,265,1],[266,0,266,1],[267,0,267,1],[268,0,268,1],[269,0,269,1],[270,0,270,1],[271,0,271,1],[272,0,272,1],[273,0,273,1],[274,0,274,1],[275,0,275,1],[276,0,276,1],[277,0,277,1],[278,0,278,1],[279,0,279,1],[246,0,246,1],[247,0,247,1],[248,0,248,1],[249,0,249,1],[250,0,250,1],[251,0,251,1],[252,0,252,1],[253,0,253,1],[254,0,254,1],[255,0,255,1],[256,0,256,1],[257,0,257,1],[258,0,258,1],[259,0,259,1],[260,0,260,1],[261,0,261,1],[262,0,262,1],[237,2,237,3],[238,2,238,3],[239,2,239,3],[232,0,232,1],[233,0,233,1],[234,0,234,1],[235,0,235,1],[236,0,236,1],[237,0,237,1],[238,0,238,1],[239,0,239,1],[240,0,240,1],[241,0,241,1],[242,0,242,1],[243,0,243,1],[244,0,244,1],[245,0,245,1],[226,0,226,1],[227,0,227,1],[228,0,228,1],[229,0,229,1],[230,0,230,1],[231,0,231,1],[226,2,226,3],[227,2,227,3],[228,2,228,3],[229,2,229,3],[230,2,230,3],[231,2,231,3],[232,2,232,3],[233,2,233,3],[234,2,234,3],[235,2,235,3],[236,2,236,3],[215,0,215,1],[216,0,216,1],[217,0,217,1],[218,0,218,1],[219,0,219,1],[220,0,220,1],[220,2,220,3],[221,0,221,1],[221,2,221,3],[222,0,222,1],[222,2,222,3],[223,0,223,1],[223,2,223,3],[224,0,224,1],[224,2,224,3],[225,2,225,3],[225,0,225,1],[206,2,206,3],[207,2,207,3],[208,2,208,3],[209,2,209,3],[210,2,210,3],[203,0,203,1],[204,0,204,1],[205,0,205,1],[206,0,206,1],[207,0,207,1],[208,0,208,1],[209,0,209,1],[210,0,210,1],[211,0,211,1],[212,0,212,1],[213,0,213,1],[214,0,214,1],[196,2,196,3],[196,0,196,1],[197,0,197,1],[198,0,198,1],[199,0,199,1],[200,0,200,1],[201,0,201,1],[202,0,202,1],[197,2,197,3],[198,2,198,3],[199,2,199,3],[200,2,200,3],[201,2,201,3],[202,2,202,3],[203,2,203,3],[204,2,204,3],[205,2,205,3],[369,9,376,9],[369,10,376,10],[374,11,377,11],[334,9,342,9],[343,9,351,9],[343,10,351,10],[352,9,360,9],[352,10,360,10],[361,9,368,9],[361,10,368,10],[379,0,379,10],[380,0,380,10],[174,0,174,1],[175,0,175,1],[176,0,176,1],[177,0,177,1],[178,0,178,1],[179,0,179,1],[180,0,180,1],[181,0,181,1],[182,0,182,1],[183,0,183,1],[184,0,184,1],[185,0,185,1],[186,0,186,1],[187,0,187,1],[188,0,188,1],[189,0,189,1],[190,0,190,1],[191,0,191,1],[191,2,191,3],[192,0,192,1],[334,10,342,10],[335,2,335,3],[342,2,342,3],[340,2,340,3],[341,2,341,3],[343,2,343,3],[344,2,344,3],[345,2,345,3],[346,2,346,3],[347,2,347,3],[348,2,348,3],[349,2,349,3],[350,2,350,3],[351,2,351,3],[352,2,352,3],[353,2,353,3],[354,2,354,3],[173,0,173,1],[218,2,218,3],[219,2,219,3],[211,2,211,3],[212,2,212,3],[213,2,213,3],[214,2,214,3],[215,2,215,3],[216,2,216,3],[217,2,217,3],[369,2,369,3],[370,2,370,3],[362,2,362,3],[363,2,363,3],[364,2,364,3],[365,2,365,3],[366,2,366,3],[367,2,367,3],[368,2,368,3],[355,2,355,3],[356,2,356,3],[357,2,357,3],[358,2,358,3],[359,2,359,3],[360,2,360,3],[361,2,361,3],[338,2,338,3],[339,2,339,3],[331,2,331,3],[332,2,332,3],[333,2,333,3],[334,2,334,3],[156,0,156,1],[157,0,157,1],[158,0,158,1],[159,0,159,1],[160,0,160,1],[161,0,161,1],[162,0,162,1],[163,0,163,1],[164,0,164,1],[165,0,165,1],[166,0,166,1],[167,0,167,1],[168,0,168,1],[169,0,169,1],[170,0,170,1],[171,0,171,1],[172,0,172,1],[139,0,139,1],[140,0,140,1],[141,0,141,1],[142,0,142,1],[143,0,143,1],[144,0,144,1],[145,0,145,1],[146,0,146,1],[147,0,147,1],[148,0,148,1],[149,0,149,1],[150,0,150,1],[151,0,151,1],[152,0,152,1],[153,0,153,1],[154,0,154,1],[155,0,155,1],[130,2,130,3],[131,2,131,3],[132,2,132,3],[125,0,125,1],[126,0,126,1],[127,0,127,1],[128,0,128,1],[129,0,129,1],[130,0,130,1],[131,0,131,1],[132,0,132,1],[133,0,133,1],[134,0,134,1],[135,0,135,1],[136,0,136,1],[137,0,137,1],[138,0,138,1],[113,2,113,3],[114,2,114,3],[115,2,115,3],[116,2,116,3],[117,2,117,3],[118,2,118,3],[119,2,119,3],[120,2,120,3],[121,2,121,3],[122,2,122,3],[123,2,123,3],[124,2,124,3],[125,2,125,3],[126,2,126,3],[127,2,127,3],[128,2,128,3],[129,2,129,3],[122,0,122,1],[123,0,123,1],[124,0,124,1],[84,2,84,3],[85,2,85,3],[86,2,86,3],[87,2,87,3],[88,2,88,3],[89,2,89,3],[90,2,90,3],[91,2,91,3],[92,2,92,3],[93,2,93,3],[94,2,94,3],[95,2,95,3],[96,2,96,3],[97,2,97,3],[98,2,98,3],[99,2,99,3],[100,2,100,3],[101,2,101,3],[102,2,102,3],[103,2,103,3],[104,2,104,3],[105,2,105,3],[106,2,106,3],[107,2,107,3],[108,2,108,3],[109,2,109,3],[110,2,110,3],[111,2,111,3],[112,2,112,3],[105,0,105,1],[106,0,106,1],[107,0,107,1],[108,0,108,1],[109,0,109,1],[110,0,110,1],[111,0,111,1],[112,0,112,1],[113,0,113,1],[114,0,114,1],[115,0,115,1],[116,0,116,1],[117,0,117,1],[118,0,118,1],[119,0,119,1],[120,0,120,1],[121,0,121,1],[88,0,88,1],[89,0,89,1],[90,0,90,1],[91,0,91,1],[92,0,92,1],[93,0,93,1],[94,0,94,1],[95,0,95,1],[96,0,96,1],[97,0,97,1],[98,0,98,1],[99,0,99,1],[100,0,100,1],[101,0,101,1],[102,0,102,1],[103,0,103,1],[104,0,104,1],[79,2,79,3],[80,2,80,3],[81,2,81,3],[82,2,82,3],[83,2,83,3],[76,0,76,1],[77,0,77,1],[78,0,78,1],[79,0,79,1],[80,0,80,1],[81,0,81,1],[82,0,82,1],[83,0,83,1],[84,0,84,1],[85,0,85,1],[86,0,86,1],[87,0,87,1],[62,2,62,3],[63,2,63,3],[64,2,64,3],[65,2,65,3],[66,2,66,3],[67,2,67,3],[68,2,68,3],[69,2,69,3],[70,2,70,3],[71,2,71,3],[72,2,72,3],[73,2,73,3],[74,2,74,3],[75,2,75,3],[76,2,76,3],[77,2,77,3],[78,2,78,3],[71,0,71,1],[72,0,72,1],[73,0,73,1],[74,0,74,1],[75,0,75,1],[35,2,35,3],[36,2,36,3],[37,2,37,3],[38,2,38,3],[39,2,39,3],[40,2,40,3],[41,2,41,3],[42,2,42,3],[43,2,43,3],[44,2,44,3],[45,2,45,3],[46,2,46,3],[47,2,47,3],[48,2,48,3],[49,2,49,3],[50,2,50,3],[51,2,51,3],[52,2,52,3],[53,2,53,3],[54,2,54,3],[55,2,55,3],[56,2,56,3],[57,2,57,3],[58,2,58,3],[59,2,59,3],[60,2,60,3],[61,2,61,3],[54,0,54,1],[55,0,55,1],[56,0,56,1],[57,0,57,1],[58,0,58,1],[59,0,59,1],[60,0,60,1],[61,0,61,1],[62,0,62,1],[63,0,63,1],[64,0,64,1],[65,0,65,1],[66,0,66,1],[67,0,67,1],[68,0,68,1],[69,0,69,1],[70,0,70,1],[37,0,37,1],[38,0,38,1],[39,0,39,1],[40,0,40,1],[41,0,41,1],[42,0,42,1],[43,0,43,1],[44,0,44,1],[45,0,45,1],[46,0,46,1],[47,0,47,1],[48,0,48,1],[49,0,49,1],[50,0,50,1],[51,0,51,1],[52,0,52,1],[53,0,53,1],[28,2,28,3],[29,2,29,3],[30,2,30,3],[31,2,31,3],[32,2,32,3],[33,2,33,3],[34,2,34,3],[27,0,27,1],[28,0,28,1],[29,0,29,1],[30,0,30,1],[31,0,31,1],[32,0,32,1],[33,0,33,1],[34,0,34,1],[35,0,35,1],[36,0,36,1],[18,2,18,3],[19,2,19,3],[20,2,20,3],[20,0,20,1],[21,0,21,1],[22,0,22,1],[23,0,23,1],[24,0,24,1],[25,0,25,1],[26,0,26,1],[21,2,21,3],[22,2,22,3],[23,2,23,3],[24,2,24,3],[25,2,25,3],[26,2,26,3],[27,2,27,3],[175,2,175,3],[176,2,176,3],[177,2,177,3],[178,2,178,3],[179,2,179,3],[180,2,180,3],[181,2,181,3],[6,0,6,10],[7,0,7,1],[7,2,7,3],[8,0,8,1],[8,2,8,3],[9,0,9,1],[9,2,9,3],[10,0,10,1],[10,2,10,3],[11,0,11,1],[11,2,11,3],[12,0,12,1],[12,2,12,3],[13,2,13,3],[13,0,13,1],[14,0,14,1],[15,0,15,1],[16,0,16,1],[17,0,17,1],[18,0,18,1],[19,0,19,1],[14,2,14,3],[15,2,15,3],[16,2,16,3],[17,2,17,3],[158,2,158,3],[159,2,159,3],[160,2,160,3],[161,2,161,3],[162,2,162,3],[163,2,163,3],[164,2,164,3],[165,2,165,3],[166,2,166,3],[167,2,167,3],[168,2,168,3],[169,2,169,3],[170,2,170,3],[171,2,171,3],[172,2,172,3],[173,2,173,3],[174,2,174,3],[182,2,182,3],[183,2,183,3],[184,2,184,3],[185,2,185,3],[186,2,186,3],[187,2,187,3],[188,2,188,3],[133,2,133,3],[134,2,134,3],[135,2,135,3],[136,2,136,3],[137,2,137,3],[138,2,138,3],[139,2,139,3],[140,2,140,3],[141,2,141,3],[142,2,142,3],[143,2,143,3],[144,2,144,3],[145,2,145,3],[146,2,146,3],[147,2,147,3],[148,2,148,3],[149,2,149,3],[150,2,150,3],[151,2,151,3],[152,2,152,3],[153,2,153,3],[154,2,154,3],[155,2,155,3],[156,2,156,3],[157,2,157,3],[1214,0,1214,1],[1215,0,1215,1],[1227,0,1227,1],[1227,2,1227,3],[1228,0,1228,1],[1228,2,1228,3],[1229,0,1229,1],[1229,2,1229,3],[1230,2,1230,3],[1230,0,1230,1],[1231,0,1231,1],[1232,0,1232,1],[1233,0,1233,1],[1233,2,1233,3],[1234,0,1234,1],[1234,2,1234,3],[189,2,189,3],[190,2,190,3],[371,2,371,3],[372,2,372,3],[373,2,373,3],[374,2,374,3],[375,2,375,3],[376,2,376,3],[377,2,377,3],[192,2,192,3],[193,0,193,1],[193,2,193,3],[194,0,194,1],[194,2,194,3],[195,0,195,1],[195,2,195,3],[1197,0,1197,1],[1198,0,1198,1],[1199,0,1199,1],[1200,0,1200,1],[1201,0,1201,1],[1202,0,1202,1],[1203,0,1203,1],[1204,0,1204,1],[1205,0,1205,1],[1206,0,1206,1],[1207,0,1207,1],[1208,0,1208,1],[1209,0,1209,1],[1210,0,1210,1],[1211,0,1211,1],[1212,0,1212,1],[1213,0,1213,1],[1180,0,1180,1],[1181,0,1181,1],[1182,0,1182,1],[1183,0,1183,1],[1184,0,1184,1],[1185,0,1185,1],[1186,0,1186,1],[1187,0,1187,1],[1188,0,1188,1],[1189,0,1189,1],[1190,0,1190,1],[1191,0,1191,1],[1192,0,1192,1],[1193,0,1193,1],[1194,0,1194,1],[1195,0,1195,1],[1196,0,1196,1],[1170,19,1178,19],[1170,20,1178,20],[1171,2,1171,3],[1178,2,1178,3],[1153,0,1153,1],[1154,0,1154,1],[1155,0,1155,1],[1159,0,1159,1],[1160,0,1160,1],[1161,0,1161,1],[1162,0,1162,1],[1163,0,1163,1],[1164,0,1164,1],[1165,0,1165,1],[1169,0,1169,1],[1170,0,1170,1],[1179,0,1179,1],[1153,2,1153,3],[1154,2,1154,3],[1155,2,1155,3],[1156,0,1156,3],[1157,0,1157,10],[1158,0,1158,10],[1159,2,1159,3]],"merged_total":2581,"flags":["merged_cut"]}
[null,null,"FORMATO COTIZACIÓN\nGRUPO ACREDITACION DE LABORATORIOS\nIDEAM",null,null,null,null,"Código: SAL-F032"]
[null,null,null,null,null,null,null,"Versión: 4"]
[null,null,null,null,null,null,null,"Fecha: 07/07/2025"]
[]
[]
[]
["MATRIZ AGUA CONTINENTALES"]
["18. Matriz / Grupo",null,"19. Variable",null,"INICIAL","SEGUIMIENTO","RENOVACIÓN","EXTENSIÓN","Total Variables","Equivalencia en Parámetros","Parámetros Calculados"]
["Iones Principales o Minerales",null,"Alcalinidad total",null,{"$f":"COUNTIF(Alcance!E9,E$8)","v":0},{"$f":"COUNTIF(Alcance!E9,F$8)","v":0},{"$f":"COUNTIF(Alcance!E9,G$8)","v":0},{"$f":"COUNTIF(Alcance!E9,H$8)","v":0},{"$f":"SUM(E9:H9)","v":0},1,{"$f":"I9*J9","v":0}]
["Iones Principales o Minerales",null,"Conductividad a 25ºC",null,{"$f":"COUNTIF(Alcance!E10,E$8)","v":0},{"$f":"COUNTIF(Alcance!E10,F$8)","v":0},{"$f":"COUNTIF(Alcance!E10,G$8)","v":0},{"$f":"COUNTIF(Alcance!E10,H$8)","v":0},0,1,0]
["Iones Principales o Minerales",null,"Cloruro",null,{"$f":"COUNTIF(Alcance!E11,E$8)","v":0},{"$f":"COUNTIF(Alcance!E11,F$8)","v":0},{"$f":"COUNTIF(Alcance!E11,G$8)","v":0},{"$f":"COUNTIF(Alcance!E11,H$8)","v":0},0,1,0]
["Iones Principales o Minerales",null,"Calcio disuelto",null,{"$f":"COUNTIF(Alcance!E12,E$8)","v":0},{"$f":"COUNTIF(Alcance!E12,F$8)","v":0},{"$f":"COUNTIF(Alcance!E12,G$8)","v":0},{"$f":"COUNTIF(Alcance!E12,H$8)","v":0},0,1,0]
["Iones Principales o Minerales",null,"Calcio total",null,{"$f":"COUNTIF(Alcance!E13,E$8)","v":0},{"$f":"COUNTIF(Alcance!E13,F$8)","v":0},{"$f":"COUNTIF(Alcance!E13,G$8)","v":0},{"$f":"COUNTIF(Alcance!E13,H$8)","v":0},0,1,0]
["Iones Principales o Minerales",null,"Magnesio disuelto",null,{"$f":"COUNTIF(Alcance!E14,E$8)","v":0},{"$f":"COUNTIF(Alcance!E14,F$8)","v":0},{"$f":"COUNTIF(Alcance!E14,G$8)","v":0},{"$f":"COUNTIF(Alcance!E14,H$8)","v":0},0,1,0]
["Iones Principales o Minerales",null,"Magnesio total",null,{"$f":"COUNTIF(Alcance!E15,E$8)","v":0},{"$f":"COUNTIF(Alcance!E15,F$8)","v":0},{"$f":"COUNTIF(Alcance!E15,G$8)","v":0},{"$f":"COUNTIF(Alcance!E15,H$8)","v":0},0,1,0]
["Iones Principales o Minerales",null,"Fluoruro",null,{"$f":"COUNTIF(Alcance!E16,E$8)","v":0},{"$f":"COUNTIF(Alcance!E16,F$8)","v":0},{"$f":"COUNTIF(Alcance!E16,G$8)","v":0},{"$f":"COUNTIF(Alcance!E16,H$8)","v":0},0,1,0]
["Iones Principales o Minerales",null,"Potasio disuelto",null,{"$f":"COUNTIF(Alcance!E17,E$8)","v":0},{"$f":"COUNTIF(Alcance!E17,F$8)","v":0},{"$f":"COUNTIF(Alcance!E17,G$8)","v":0},{"$f":"COUNTIF(Alcance!E17,H$8)","v":0},0,1,0]
["Iones Principales o Minerales",null,"Potasio total",null,{"$f":"COUNTIF(Alcance!E18,E$8)","v":0},{"$f":"COUNTIF(Alcance!E18,F$8)","v":0},{"$f":"COUNTIF(Alcance!E18,G$8)","v":0},{"$f":"COUNTIF(Alcance!E18,H$8)","v":0},0,1,0]
["Iones Principales o Minerales",null,"Sodio disuelto",null,{"$f":"COUNTIF(Alcance!E19,E$8)","v":0},{"$f":"COUNTIF(Alcance!E19,F$8)","v":0},{"$f":"COUNTIF(Alcance!E19,G$8)","v":0},{"$f":"COUNTIF(Alcance!E19,H$8)","v":0},0,1,0]
["Iones Principales o Minerales",null,"Sodio total",null,{"$f":"COUNTIF(Alcance!E20,E$8)","v":0},{"$f":"COUNTIF(Alcance!E20,F$8)","v":0},{"$f":"COUNTIF(Alcance!E20,G$8)","v":0},{"$f":"COUNTIF(Alcance!E20,H$8)","v":0},0,1,0]
["Iones Principales o Minerales",null,"Sulfato",null,{"$f":"COUNTIF(Alcance!E21,E$8)","v":0},{"$f":"COUNTIF(Alcance!E21,F$8)","v":0},{"$f":"COUNTIF(Alcance!E21,G$8)","v":0},{"$f":"COUNTIF(Alcance!E21,H$8)","v":0},0,1,0]
["Iones Principales o Minerales",null,"Dureza Total",null,{"$f":"COUNTIF(Alcance!E22,E$8)","v":0},{"$f":"COUNTIF(Alcance!E22,F$8)","v":0},{"$f":"COUNTIF(Alcance!E22,G$8)","v":0},{"$f":"COUNTIF(Alcance!E22,H$8)","v":0},0,1,0]
["Iones Principales o Minerales",null,"Dureza Cálcica",null,{"$f":"COUNTIF(Alcance!E23,E$8)","v":0},{"$f":"COUNTIF(Alcance!E23,F$8)","v":0},{"$f":"COUNTIF(Alcance!E23,G$8)","v":0},{"$f":"COUNTIF(Alcance!E23,H$8)","v":0},0,1,0]
["Iones Principales o Minerales",null,"Carbonatos, bicarbonatos e hidróxidos ",null,{"$f":"COUNTIF(Alcance!E24,E$8)","v":0},{"$f":"COUNTIF(Alcance!E24,F$8)","v":0},{"$f":"COUNTIF(Alcance!E24,G$8)","v":0},{"$f":"COUNTIF(Alcance!E24,H$8)","v":0},0,1,0]
["Nutrientes",null,"Nitrato",null,{"$f":"COUNTIF(Alcance!E25,E$8)","v":0},{"$f":"COUNTIF(Alcance!E25,F$8)","v":0},{"$f":"COUNTIF(Alcance!E25,G$8)","v":0},{"$f":"COUNTIF(Alcance!E25,H$8)","v":0},0,1,0]
["Nutrientes",null,"Nitrito",null,{"$f":"COUNTIF(Alcance!E26,E$8)","v":0},{"$f":"COUNTIF(Alcance!E26,F$8)","v":0},{"$f":"COUNTIF(Alcance!E26,G$8)","v":0},{"$f":"COUNTIF(Alcance!E26,H$8)","v":0},0,1,0]
["Nutrientes",null,"Amonio",null,{"$f":"COUNTIF(Alcance!E27,E$8)","v":0},{"$f":"COUNTIF(Alcance!E27,F$8)","v":0},{"$f":"COUNTIF(Alcance!E27,G$8)","v":0},{"$f":"COUNTIF(Alcance!E27,H$8)","v":0},0,1,0]
["Nutrientes",null,"Nitrógeno Amoniacal",null,{"$f":"COUNTIF(Alcance!E28,E$8)","v":0},{"$f":"COUNTIF(Alcance!E28,F$8)","v":0},{"$f":"COUNTIF(Alcance!E28,G$8)","v":0},{"$f":"COUNTIF(Alcance!E28,H$8)","v":0},0,1,0]
["Nutrientes",null,"Nitrogeno Organico",null,{"$f":"COUNTIF(Alcance!E29,E$8)","v":0},{"$f":"COUNTIF(Alcance!E29,F$8)","v":0},{"$f":"COUNTIF(Alcance!E29,G$8)","v":0},{"$f":"COUNTIF(Alcance!E29,H$8)","v":0},0,1,0]
["Nutrientes",null,"Nitrógeno  Kjeldahl",null,{"$f":"COUNTIF(Alcance!E30,E$8)","v":0},{"$f":"COUNTIF(Alcance!E30,F$8)","v":0},{"$f":"COUNTIF(Alcance!E30,G$8)","v":0},{"$f":"COUNTIF(Alcance!E30,H$8)","v":0},0,2,0]
["Nutrientes",null,"Fósforo reactivo total (leído como ortofosfato)",null,{"$f":"COUNTIF(Alcance!E31,E$8)","v":0},{"$f":"COUNTIF(Alcance!E31,F$8)","v":0},{"$f":"COUNTIF(Alcance!E31,G$8)","v":0},{"$f":"COUNTIF(Alcance!E31,H$8)","v":0},0,1,0]
["Nutrientes",null,"Fósforo Acido hidrolizable Total (Léido como Ortofosfato)",null,{"$f":"COUNTIF(Alcance!E32,E$8)","v":0},{"$f":"COUNTIF(Alcance!E32,F$8)","v":0},{"$f":"COUNTIF(Alcance!E32,G$8)","v":0},{"$f":"COUNTIF(Alcance!E32,H$8)","v":0},0,1,0]
["Nutrientes",null,"Fósforo Orgánico total ( a partir del cálculo del fósforo total y fósforo hidrolizable)",null,{"$f":"COUNTIF(Alcance!E33,E$8)","v":0},{"$f":"COUNTIF(Alcance!E33,F$8)","v":0},{"$f":"COUNTIF(Alcance!E33,G$8)","v":0},{"$f":"COUNTIF(Alcance!E33,H$8)","v":0},0,1,0]
["Nutrientes",null,"Fósforo Total ",null,{"$f":"COUNTIF(Alcance!E34,E$8)","v":0},{"$f":"COUNTIF(Alcance!E34,F$8)","v":0},{"$f":"COUNTIF(Alcance!E34,G$8)","v":0},{"$f":"COUNTIF(Alcance!E34,H$8)","v":0},0,1,0]
["Nutrientes",null,"Fósforo reactivo Disuelto (leído como Ortofosfatos)",null,{"$f":"COUNTIF(Alcance!E35,E$8)","v":0},{"$f":"COUNTIF(Alcance!E35,F$8)","v":0},{"$f":"COUNTIF(Alcance!E35,G$8)","v":0},{"$f":"COUNTIF(Alcance!E35,H$8)","v":0},0,1,0]
["Nutrientes",null,"Fósforo Acido Hidrolizable Disuelto (Léido como ortofosfatos)",null,{"$f":"COUNTIF(Alcance!E36,E$8)","v":0},{"$f":"COUNTIF(Alcance!E36,F$8)","v":0},{"$f":"COUNTIF(Alcance!E36,G$8)","v":0},{"$f":"COUNTIF(Alcance!E36,H$8)","v":0},0,1,0]
["Nutrientes",null,"Fósforo Orgánico Disuelto (a partir del cálculo del Fósforo Disuelto Total y Fósforo Ácido - Hidrolizable Disuelto)",null,{"$f":"COUNTIF(Alcance!E37,E$8)","v":0},{"$f":"COUNTIF(Alcance!E37,F$8)","v":0},{"$f":"COUNTIF(Alcance!E37,G$8)","v":0},{"$f":"COUNTIF(Alcance!E37,H$8)","v":0},0,1,0]
["Nutrientes",null,"Fósforo Disuelto Total (Leìdo como ortofosfatos)",null,{"$f":"COUNTIF(Alcance!E38,E$8)","v":0},{"$f":"COUNTIF(Alcance!E38,F$8)","v":0},{"$f":"COUNTIF(Alcance!E38,G$8)","v":0},{"$f":"COUNTIF(Alcance!E38,H$8)","v":0},0,1,0]
["Metales Traza",null,"Aluminio disuelto",null,{"$f":"COUNTIF(Alcance!E39,E$8)","v":0},{"$f":"COUNTIF(Alcance!E39,F$8)","v":0},{"$f":"COUNTIF(Alcance!E39,G$8)","v":0},{"$f":"COUNTIF(Alcance!E39,H$8)","v":0},0,0.5,0]
["Metales Traza",null,"Aluminio total ",null,{"$f":"COUNTIF(Alcance!E40,E$8)","v":0},{"$f":"COUNTIF(Alcance!E40,F$8)","v":0},{"$f":"COUNTIF(Alcance!E40,G$8)","v":0},{"$f":"COUNTIF(Alcance!E40,H$8)","v":0},0,0.5,0]
["Metales Traza",null,"Antimonio disuelto",null,{"$f":"COUNTIF(Alcance!E41,E$8)","v":0},{"$f":"COUNTIF(Alcance!E41,F$8)","v":0},{"$f":"COUNTIF(Alcance!E41,G$8)","v":0},{"$f":"COUNTIF(Alcance!E41,H$8)","v":0},0,0.5,0]
["Metales Traza",null,"Antimonio total",null,{"$f":"COUNTIF(Alcance!E42,E$8)","v":0},{"$f":"COUNTIF(Alcance!E42,F$8)","v":0},{"$f":"COUNTIF(Alcance!E42,G$8)","v":0},{"$f":"COUNTIF(Alcance!E42,H$8)","v":0},0,0.5,0]
["Metales Traza",null,"Arsénico disuelto",null,{"$f":"COUNTIF(Alcance!E43,E$8)","v":0},{"$f":"COUNTIF(Alcance!E43,F$8)","v":0},{"$f":"COUNTIF(Alcance!E43,G$8)","v":0},{"$f":"COUNTIF(Alcance!E43,H$8)","v":0},0,1,0]
["Metales Traza",null,"Arsénico total",null,{"$f":"COUNTIF(Alcance!E44,E$8)","v":0},{"$f":"COUNTIF(Alcance!E44,F$8)","v":0},{"$f":"COUNTIF(Alcance!E44,G$8)","v":0},{"$f":"COUNTIF(Alcance!E44,H$8)","v":0},0,1,0]
["Metales Traza",null,"Berilio disuelto",null,{"$f":"COUNTIF(Alcance!E45,E$8)","v":0},{"$f":"COUNTIF(Alcance!E45,F$8)","v":0},{"$f":"COUNTIF(Alcance!E45,G$8)","v":0},{"$f":"COUNTIF(Alcance!E45,H$8)","v":0},0,0.5,0]
["Metales Traza",null,"Berilio total",null,{"$f":"COUNTIF(Alcance!E46,E$8)","v":0},{"$f":"COUNTIF(Alcance!E46,F$8)","v":0},{"$f":"COUNTIF(Alcance!E46,G$8)","v":0},{"$f":"COUNTIF(Alcance!E46,H$8)","v":0},0,0.5,0]
["Metales Traza",null,"Boro disuelto",null,{"$f":"COUNTIF(Alcance!E47,E$8)","v":0},{"$f":"COUNTIF(Alcance!E47,F$8)","v":0},{"$f":"COUNTIF(Alcance!E47,G$8)","v":0},{"$f":"COUNTIF(Alcance!E47,H$8)","v":0},0,0.5,0]
["Metales Traza",null,"Boro total",null,{"$f":"COUNTIF(Alcance!E48,E$8)","v":0},{"$f":"COUNTIF(Alcance!E48,F$8)","v":0},{"$f":"COUNTIF(Alcance!E48,G$8)","v":0},{"$f":"COUNTIF(Alcance!E48,H$8)","v":0},0,0.5,0]
["Metales Traza",null,"Cadmio disuelto",null,{"$f":"COUNTIF(Alcance!E49,E$8)","v":0},{"$f":"COUNTIF(Alcance!E49,F$8)","v":0},{"$f":"COUNTIF(Alcance!E49,G$8)","v":0},{"$f":"COUNTIF(Alcance!E49,H$8)","v":0},0,0.5,0]
["Metales Traza",null,"Cadmio total",null,{"$f":"COUNTIF(Alcance!E50,E$8)","v":0},{"$f":"COUNTIF(Alcance!E50,F$8)","v":0},{"$f":"COUNTIF(Alcance!E50,G$8)","v":0},{"$f":"COUNTIF(Alcance!E50,H$8)","v":0},0,0.5,0]
["Metales Traza",null,"Cobalto disuelto",null,{"$f":"COUNTIF(Alcance!E51,E$8)","v":0},{"$f":"COUNTIF(Alcance!E51,F$8)","v":0},{"$f":"COUNTIF(Alcance!E51,G$8)","v":0},{"$f":"COUNTIF(Alcance!E51,H$8)","v":0},0,0.5,0]
["Metales Traza",null,"Cobalto total",null,{"$f":"COUNTIF(Alcance!E52,E$8)","v":0},{"$f":"COUNTIF(Alcance!E52,F$8)","v":0},{"$f":"COUNTIF(Alcance!E52,G$8)","v":0},{"$f":"COUNTIF(Alcance!E52,H$8)","v":0},0,0.5,0]
["Metales Traza",null,"Cobre disuelto",null,{"$f":"COUNTIF(Alcance!E53,E$8)","v":0},{"$f":"COUNTIF(Alcance!E53,F$8)","v":0},{"$f":"COUNTIF(Alcance!E53,G$8)","v":0},{"$f":"COUNTIF(Alcance!E53,H$8)","v":0},0,0.5,0]
["Metales Traza",null,"Cobre total",null,{"$f":"COUNTIF(Alcance!E54,E$8)","v":0},{"$f":"COUNTIF(Alcance!E54,F$8)","v":0},{"$f":"COUNTIF(Alcance!E54,G$8)","v":0},{"$f":"COUNTIF(Alcance!E54,H$8)","v":0},0,0.5,0]
["Metales Traza",null,"Cromo disuelto",null,{"$f":"COUNTIF(Alcance!E55,E$8)","v":0},{"$f":"COUNTIF(Alcance!E55,F$8)","v":0},{"$f":"COUNTIF(Alcance!E55,G$8)","v":0},{"$f":"COUNTIF(Alcance!E55,H$8)","v":0},0,0.5,0]
["Metales Traza",null,"Cromo total",null,{"$f":"COUNTIF(Alcance!E56,E$8)","v":0},{"$f":"COUNTIF(Alcance!E56,F$8)","v":0},{"$f":"COUNTIF(Alcance!E56,G$8)","v":0},{"$f":"COUNTIF(Alcance!E56,H$8)","v":0},0,0.5,0]
["Metales Traza",null,"Estroncio disuelto",null,{"$f":"COUNTIF(Alcance!E57,E$8)","v":0},{"$f":"COUNTIF(Alcance!E57,F$8)","v":0},{"$f":"COUNTIF(Alcance!E57,G$8)","v":0},{"$f":"COUNTIF(Alcance!E57,H$8)","v":0},0,0.5,0]
["Metales Traza",null,"Estroncio total",null,{"$f":"COUNTIF(Alcance!E58,E$8)","v":0},{"$f":"COUNTIF(Alcance!E58,F$8)","v":0},{"$f":"COUNTIF(Alcance!E58,G$8)","v":0},{"$f":"COUNTIF(Alcance!E58,H$8)","v":0},0,0.5,0]
["Metales Traza",null,"Hierro disuelto",null,{"$f":"COUNTIF(Alcance!E59,E$8)","v":0},{"$f":"COUNTIF(Alcance!E59,F$8)","v":0},{"$f":"COUNTIF(Alcance!E59,G$8)","v":0},{"$f":"COUNTIF(Alcance!E59,H$8)","v":0},0,0.5,0]
["Metales Traza",null,"Hierro total",null,{"$f":"COUNTIF(Alcance!E60,E$8)","v":0},{"$f":"COUNTIF(Alcance!E60,F$8)","v":0},{"$f":"COUNTIF(Alcance!E60,G$8)","v":0},{"$f":"COUNTIF(Alcance!E60,H$8)","v":0},0,0.5,0]
["Metales Traza",null,"Litio Disuelto",null,{"$f":"COUNTIF(Alcance!E61,E$8)","v":0},{"$f":"COUNTIF(Alcance!E61,F$8)","v":0},{"$f":"COUNTIF(Alcance!E61,G$8)","v":0},{"$f":"COUNTIF(Alcance!E61,H$8)","v":0},0,0.5,0]
["Metales Traza",null,"Litio Total",null,{"$f":"COUNTIF(Alcance!E62,E$8)","v":0},{"$f":"COUNTIF(Alcance!E62,F$8)","v":0},{"$f":"COUNTIF(Alcance!E62,G$8)","v":0},{"$f":"COUNTIF(Alcance!E62,H$8)","v":0},0,0.5,0]
["Metales Traza",null,"Manganeso disuelto",null,{"$f":"COUNTIF(Alcance!E63,E$8)","v":0},{"$f":"COUNTIF(Alcance!E63,F$8)","v":0},{"$f":"COUNTIF(Alcance!E63,G$8)","v":0},{"$f":"COUNTIF(Alcance!E63,H$8)","v":0},0,0.5,0]
["Metales Traza",null,"Manganeso total",null,{"$f":"COUNTIF(Alcance!E64,E$8)","v":0},{"$f":"COUNTIF(Alcance!E64,F$8)","v":0},{"$f":"COUNTIF(Alcance!E64,G$8)","v":0},{"$f":"COUNTIF(Alcance!E64,H$8)","v":0},0,0.5,0]
["Metales Traza",null,"Mercurio disuelto",null,{"$f":"COUNTIF(Alcance!E65,E$8)","v":0},{"$f":"COUNTIF(Alcance!E65,F$8)","v":0},{"$f":"COUNTIF(Alcance!E65,G$8)","v":0},{"$f":"COUNTIF(Alcance!E65,H$8)","v":0},0,1,0]
["Metales Traza",null,"Mercurio total",null,{"$f":"COUNTIF(Alcance!E66,E$8)","v":0},{"$f":"COUNTIF(Alcance!E66,F$8)","v":0},{"$f":"COUNTIF(Alcance!E66,G$8)","v":0},{"$f":"COUNTIF(Alcance!E66,H$8)","v":0},0,1,0]
["Metales Traza",null,"Molibdeno disuelto",null,{"$f":"COUNTIF(Alcance!E67,E$8)","v":0},{"$f":"COUNTIF(Alcance!E67,F$8)","v":0},{"$f":"COUNTIF(Alcance!E67,G$8)","v":0},{"$f":"COUNTIF(Alcance!E67,H$8)","v":0},0,0.5,0]
["Metales Traza",null,"Molibdeno total",null,{"$f":"COUNTIF(Alcance!E68,E$8)","v":0},{"$f":"COUNTIF(Alcance!E68,F$8)","v":0},{"$f":"COUNTIF(Alcance!E68,G$8)","v":0},{"$f":"COUNTIF(Alcance!E68,H$8)","v":0},0,0.5,0]
["Metales Traza",null,"Níquel disuelto",null,{"$f":"COUNTIF(Alcance!E69,E$8)","v":0},{"$f":"COUNTIF(Alcance!E69,F$8)","v":0},{"$f":"COUNTIF(Alcance!E69,G$8)","v":0},{"$f":"COUNTIF(Alcance!E69,H$8)","v":0},0,0.5,0]
["Metales Traza",null,"Níquel total",null,{"$f":"COUNTIF(Alcance!E70,E$8)","v":0},{"$f":"COUNTIF(Alcance!E70,F$8)","v":0},{"$f":"COUNTIF(Alcance!E70,G$8)","v":0},{"$f":"COUNTIF(Alcance!E70,H$8)","v":0},0,0.5,0]
["Metales Traza",null,"Plata disuelto",null,{"$f":"COUNTIF(Alcance!E71,E$8)","v":0},{"$f":"COUNTIF(Alcance!E71,F$8)","v":0},{"$f":"COUNTIF(Alcance!E71,G$8)","v":0},{"$f":"COUNTIF(Alcance!E71,H$8)","v":0},0,0.5,0]
["Metales Traza",null,"Plata total",null,{"$f":"COUNTIF(Alcance!E72,E$8)","v":0},{"$f":"COUNTIF(Alcance!E72,F$8)","v":0},{"$f":"COUNTIF(Alcance!E72,G$8)","v":0},{"$f":"COUNTIF(Alcance!E72,H$8)","v":0},0,0.5,0]
["Metales Traza",null,"Plomo disuelto",null,{"$f":"COUNTIF(Alcance!E73,E$8)","v":0},{"$f":"COUNTIF(Alcance!E73,F$8)","v":0},{"$f":"COUNTIF(Alcance!E73,G$8)","v":0},{"$f":"COUNTIF(Alcance!E73,H$8)","v":0},0,0.5,0]
["Metales Traza",null,"Plomo total",null,{"$f":"COUNTIF(Alcance!E74,E$8)","v":0},{"$f":"COUNTIF(Alcance!E74,F$8)","v":0},{"$f":"COUNTIF(Alcance!E74,G$8)","v":0},{"$f":"COUNTIF(Alcance!E74,H$8)","v":0},0,0.5,0]
["Metales Traza",null,"Selenio disuelto",null,{"$f":"COUNTIF(Alcance!E75,E$8)","v":0},{"$f":"COUNTIF(Alcance!E75,F$8)","v":0},{"$f":"COUNTIF(Alcance!E75,G$8)","v":0},{"$f":"COUNTIF(Alcance!E75,H$8)","v":0},0,1,0]
["Metales Traza",null,"Selenio total",null,{"$f":"COUNTIF(Alcance!E76,E$8)","v":0},{"$f":"COUNTIF(Alcance!E76,F$8)","v":0},{"$f":"COUNTIF(Alcance!E76,G$8)","v":0},{"$f":"COUNTIF(Alcance!E76,H$8)","v":0},0,1,0]
["Metales Traza",null,"Talio disuelto",null,{"$f":"COUNTIF(Alcance!E77,E$8)","v":0},{"$f":"COUNTIF(Alcance!E77,F$8)","v":0},{"$f":"COUNTIF(Alcance!E77,G$8)","v":0},{"$f":"COUNTIF(Alcance!E77,H$8)","v":0},0,0.5,0]
["Metales Traza",null,"Talio total ",null,{"$f":"COUNTIF(Alcance!E78,E$8)","v":0},{"$f":"COUNTIF(Alcance!E78,F$8)","v":0},{"$f":"COUNTIF(Alcance!E78,G$8)","v":0},{"$f":"COUNTIF(Alcance!E78,H$8)","v":0},0,0.5,0]
["Metales Traza",null,"Titanio disuelto",null,{"$f":"COUNTIF(Alcance!E79,E$8)","v":0},{"$f":"COUNTIF(Alcance!E79,F$8)","v":0},{"$f":"COUNTIF(Alcance!E79,G$8)","v":0},{"$f":"COUNTIF(Alcance!E79,H$8)","v":0},0,0.5,0]
["Metales Traza",null,"Titanio total",null,{"$f":"COUNTIF(Alcance!E80,E$8)","v":0},{"$f":"COUNTIF(Alcance!E80,F$8)","v":0},{"$f":"COUNTIF(Alcance!E80,G$8)","v":0},{"$f":"COUNTIF(Alcance!E80,H$8)","v":0},0,0.5,0]
["Metales Traza",null,"Vanadio disuelto",null,{"$f":"COUNTIF(Alcance!E81,E$8)","v":0},{"$f":"COUNTIF(Alcance!E81,F$8)","v":0},{"$f":"COUNTIF(Alcance!E81,G$8)","v":0},{"$f":"COUNTIF(Alcance!E81,H$8)","v":0},0,0.5,0]
["Metales Traza",null,"Vanadio total",null,{"$f":"COUNTIF(Alcance!E82,E$8)","v":0},{"$f":"COUNTIF(Alcance!E82,F$8)","v":0},{"$f":"COUNTIF(Alcance!E82,G$8)","v":0},{"$f":"COUNTIF(Alcance!E82,H$8)","v":0},0,0.5,0]
["Metales Traza",null,"Zinc disuelto",null,{"$f":"COUNTIF(Alcance!E83,E$8)","v":0},{"$f":"COUNTIF(Alcance!E83,F$8)","v":0},{"$f":"COUNTIF(Alcance!E83,G$8)","v":0},{"$f":"COUNTIF(Alcance!E83,H$8)","v":0},0,0.5,0]
["Metales Traza",null,"Zinc total",null,{"$f":"COUNTIF(Alcance!E84,E$8)","v":0},{"$f":"COUNTIF(Alcance!E84,F$8)","v":0},{"$f":"COUNTIF(Alcance!E84,G$8)","v":0},{"$f":"COUNTIF(Alcance!E84,H$8)","v":0},0,0.5,0]
["Metales Traza",null,"Potasio Disuelto",null,{"$f":"COUNTIF(Alcance!E85,E$8)","v":0},{"$f":"COUNTIF(Alcance!E85,F$8)","v":0},{"$f":"COUNTIF(Alcance!E85,G$8)","v":0},{"$f":"COUNTIF(Alcance!E85,H$8)","v":0},0,0.5,0]
["Metales Traza",null,"Potasio Total",null,{"$f":"COUNTIF(Alcance!E86,E$8)","v":0},{"$f":"COUNTIF(Alcance!E86,F$8)","v":0},{"$f":"COUNTIF(Alcance!E86,G$8)","v":0},{"$f":"COUNTIF(Alcance!E86,H$8)","v":0},0,0.5,0]
["Metales Traza",null,"Sodio disuelto",null,{"$f":"COUNTIF(Alcance!E87,E$8)","v":0},{"$f":"COUNTIF(Alcance!E87,F$8)","v":0},{"$f":"COUNTIF(Alcance!E87,G$8)","v":0},{"$f":"COUNTIF(Alcance!E87,H$8)","v":0},0,0.5,0]
["Metales Traza",null,"Sodio Total",null,{"$f":"COUNTIF(Alcance!E88,E$8)","v":0},{"$f":"COUNTIF(Alcance!E88,F$8)","v":0},{"$f":"COUNTIF(Alcance!E88,G$8)","v":0},{"$f":"COUNTIF(Alcance!E88,H$8)","v":0},0,0.5,0]
["Metales Traza",null,"Calcio Disuelto",null,{"$f":"COUNTIF(Alcance!E89,E$8)","v":0},{"$f":"COUNTIF(Alcance!E89,F$8)","v":0},{"$f":"COUNTIF(Alcance!E89,G$8)","v":0},{"$f":"COUNTIF(Alcance!E89,H$8)","v":0},0,0.5,0]
["Metales Traza",null,"Calcio Total",null,{"$f":"COUNTIF(Alcance!E90,E$8)","v":0},{"$f":"COUNTIF(Alcance!E90,F$8)","v":0},{"$f":"COUNTIF(Alcance!E90,G$8)","v":0},{"$f":"COUNTIF(Alcance!E90,H$8)","v":0},0,0.5,0]
["Metales Traza",null,"Magnesio Disuelto",null,{"$f":"COUNTIF(Alcance!E91,E$8)","v":0},{"$f":"COUNTIF(Alcance!E91,F$8)","v":0},{"$f":"COUNTIF(Alcance!E91,G$8)","v":0},{"$f":"COUNTIF(Alcance!E91,H$8)","v":0},0,0.5,0]
["Metales Traza",null,"Magnesio Total",null,{"$f":"COUNTIF(Alcance!E92,E$8)","v":0},{"$f":"COUNTIF(Alcance!E92,F$8)","v":0},{"$f":"COUNTIF(Alcance!E92,G$8)","v":0},{"$f":"COUNTIF(Alcance!E92,H$8)","v":0},0,0.5,0]
["Cromo VI",null,"Cromo VI",null,{"$f":"COUNTIF(Alcance!E93,E$8)","v":0},{"$f":"COUNTIF(Alcance!E93,F$8)","v":0},{"$f":"COUNTIF(Alcance!E93,G$8)","v":0},{"$f":"COUNTIF(Alcance!E93,H$8)","v":0},0,1,0]
["Bario y Estaño",null,"Bario Disuelto",null,{"$f":"COUNTIF(Alcance!E94,E$8)","v":0},{"$f":"COUNTIF(Alcance!E94,F$8)","v":0},{"$f":"COUNTIF(Alcance!E94,G$8)","v":0},{"$f":"COUNTIF(Alcance!E94,H$8)","v":0},0,0.5,0]
["Bario y Estaño",null,"Bario Total",null,{"$f":"COUNTIF(Alcance!E95,E$8)","v":0},{"$f":"COUNTIF(Alcance!E95,F$8)","v":0},{"$f":"COUNTIF(Alcance!E95,G$8)","v":0},{"$f":"COUNTIF(Alcance!E95,H$8)","v":0},0,1,0]
["Bario y Estaño",null,"Estaño Disuelto",null,{"$f":"COUNTIF(Alcance!E96,E$8)","v":0},{"$f":"COUNTIF(Alcance!E96,F$8)","v":0},{"$f":"COUNTIF(Alcance!E96,G$8)","v":0},{"$f":"COUNTIF(Alcance!E96,H$8)","v":0},0,0.5,0]
["Bario y Estaño",null,"Estaño Total",null,{"$f":"COUNTIF(Alcance!E97,E$8)","v":0},{"$f":"COUNTIF(Alcance!E97,F$8)","v":0},{"$f":"COUNTIF(Alcance!E97,G$8)","v":0},{"$f":"COUNTIF(Alcance!E97,H$8)","v":0},0,1,0]
["Silice",null,"Silice Disuelto",null,{"$f":"COUNTIF(Alcance!E98,E$8)","v":0},{"$f":"COUNTIF(Alcance!E98,F$8)","v":0},{"$f":"COUNTIF(Alcance!E98,G$8)","v":0},{"$f":"COUNTIF(Alcance!E98,H$8)","v":0},0,0.5,0]
["Silice",null,"Silicie Total",null,{"$f":"COUNTIF(Alcance!E99,E$8)","v":0},{"$f":"COUNTIF(Alcance!E99,F$8)","v":0},{"$f":"COUNTIF(Alcance!E99,G$8)","v":0},{"$f":"COUNTIF(Alcance!E99,H$8)","v":0},0,1,0]
["Sólidos o Residuos",null,"Sólidos Suspendidos Totales",null,{"$f":"COUNTIF(Alcance!E100,E$8)","v":0},{"$f":"COUNTIF(Alcance!E100,F$8)","v":0},{"$f":"COUNTIF(Alcance!E100,G$8)","v":0},{"$f":"COUNTIF(Alcance!E100,H$8)","v":0},0,1,0]
["Sólidos o Residuos",null,"Sólidos Disueltos Totales",null,{"$f":"COUNTIF(Alcance!E101,E$8)","v":0},{"$f":"COUNTIF(Alcance!E101,F$8)","v":0},{"$f":"COUNTIF(Alcance!E101,G$8)","v":0},{"$f":"COUNTIF(Alcance!E101,H$8)","v":0},0,1,0]
["Sólidos o Residuos",null,"Sólidos Totales",null,{"$f":"COUNTIF(Alcance!E102,E$8)","v":0},{"$f":"COUNTIF(Alcance!E102,F$8)","v":0},{"$f":"COUNTIF(Alcance!E102,G$8)","v":0},{"$f":"COUNTIF(Alcance!E102,H$8)","v":0},0,1,0]
["Sólidos o Residuos",null,"Sólidos sedimentables",null,{"$f":"COUNTIF(Alcance!E103,E$8)","v":0},{"$f":"COUNTIF(Alcance!E103,F$8)","v":0},{"$f":"COUNTIF(Alcance!E103,G$8)","v":0},{"$f":"COUNTIF(Alcance!E103,H$8)","v":0},0,1,0]
["Sólidos o Residuos",null,"Sólidos Fijos",null,{"$f":"COUNTIF(Alcance!E104,E$8)","v":0},{"$f":"COUNTIF(Alcance!E104,F$8)","v":0},{"$f":"COUNTIF(Alcance!E104,G$8)","v":0},{"$f":"COUNTIF(Alcance!E104,H$8)","v":0},0,1,0]
["Sólidos o Residuos",null,"Sólidos Suspendidos Volátiles ",null,{"$f":"COUNTIF(Alcance!E105,E$8)","v":0},{"$f":"COUNTIF(Alcance!E105,F$8)","v":0},{"$f":"COUNTIF(Alcance!E105,G$8)","v":0},{"$f":"COUNTIF(Alcance!E105,H$8)","v":0},0,1,0]
["Sólidos o Residuos",null,"Sólidos Totales Volátiles ",null,{"$f":"COUNTIF(Alcance!E106,E$8)","v":0},{"$f":"COUNTIF(Alcance!E106,F$8)","v":0},{"$f":"COUNTIF(Alcance!E106,G$8)","v":0},{"$f":"COUNTIF(Alcance!E106,H$8)","v":0},0,1,0]
["Sólidos o Residuos",null,"Sólidos volátiles",null,{"$f":"COUNTIF(Alcance!E107,E$8)","v":0},{"$f":"COUNTIF(Alcance!E107,F$8)","v":0},{"$f":"COUNTIF(Alcance!E107,G$8)","v":0},{"$f":"COUNTIF(Alcance!E107,H$8)","v":0},0,1,0]
["Microbiológico",null,"Coliformes Termotolerantes (anteriormente Coliformes fecales)",null,{"$f":"COUNTIF(Alcance!E108,E$8)","v":0},{"$f":"COUNTIF(Alcance!E108,F$8)","v":0},{"$f":"COUNTIF(Alcance!E108,G$8)","v":0},{"$f":"COUNTIF(Alcance!E108,H$8)","v":0},0,1.5,0]
["Microbiológico",null,"Coliformes Totales",null,{"$f":"COUNTIF(Alcance!E109,E$8)","v":0},{"$f":"COUNTIF(Alcance!E109,F$8)","v":0},{"$f":"COUNTIF(Alcance!E109,G$8)","v":0},{"$f":"COUNTIF(Alcance!E109,H$8)","v":0},0,1.5,0]
["Microbiológico",null,"Escherichia coli",null,{"$f":"COUNTIF(Alcance!E110,E$8)","v":0},{"$f":"COUNTIF(Alcance!E110,F$8)","v":0},{"$f":"COUNTIF(Alcance!E110,G$8)","v":0},{"$f":"COUNTIF(Alcance!E110,H$8)","v":0},0,1.5,0]
["Microbiológico",null,"Bacterias Sulfato Reductoras",null,{"$f":"COUNTIF(Alcance!E111,E$8)","v":0},{"$f":"COUNTIF(Alcance!E111,F$8)","v":0},{"$f":"COUNTIF(Alcance!E111,G$8)","v":0},{"$f":"COUNTIF(Alcance!E111,H$8)","v":0},0,1.5,0]
["Microbiológico",null,"Clostridium Sulfito Reductor",null,{"$f":"COUNTIF(Alcance!E112,E$8)","v":0},{"$f":"COUNTIF(Alcance!E112,F$8)","v":0},{"$f":"COUNTIF(Alcance!E112,G$8)","v":0},{"$f":"COUNTIF(Alcance!E112,H$8)","v":0},0,1.5,0]
["Microbiológico",null,"Estreptococos fecal y Enterococcus",null,{"$f":"COUNTIF(Alcance!E113,E$8)","v":0},{"$f":"COUNTIF(Alcance!E113,F$8)","v":0},{"$f":"COUNTIF(Alcance!E113,G$8)","v":0},{"$f":"COUNTIF(Alcance!E113,H$8)","v":0},0,1.5,0]
["Microbiológico",null,"Hongos y Levaduras",null,{"$f":"COUNTIF(Alcance!E114,E$8)","v":0},{"$f":"COUNTIF(Alcance!E114,F$8)","v":0},{"$f":"COUNTIF(Alcance!E114,G$8)","v":0},{"$f":"COUNTIF(Alcance!E114,H$8)","v":0},0,1.5,0]
["Microbiológico",null,"Huevos de Helmintos",null,{"$f":"COUNTIF(Alcance!E115,E$8)","v":0},{"$f":"COUNTIF(Alcance!E115,F$8)","v":0},{"$f":"COUNTIF(Alcance!E115,G$8)","v":0},{"$f":"COUNTIF(Alcance!E115,H$8)","v":0},0,1.5,0]
["Microbiológico",null,"Pseudomonas aeruginosa",null,{"$f":"COUNTIF(Alcance!E116,E$8)","v":0},{"$f":"COUNTIF(Alcance!E116,F$8)","v":0},{"$f":"COUNTIF(Alcance!E116,G$8)","v":0},{"$f":"COUNTIF(Alcance!E116,H$8)","v":0},0,1.5,0]
["Microbiológico",null,"Recuento de Bacterias Heterótrofas",null,{"$f":"COUNTIF(Alcance!E117,E$8)","v":0},{"$f":"COUNTIF(Alcance!E117,F$8)","v":0},{"$f":"COUNTIF(Alcance!E117,G$8)","v":0},{"$f":"COUNTIF(Alcance!E117,H$8)","v":0},0,1.5,0]
["Microbiológico",null,"Salmonella sp",null,{"$f":"COUNTIF(Alcance!E118,E$8)","v":0},{"$f":"COUNTIF(Alcance!E118,F$8)","v":0},{"$f":"COUNTIF(Alcance!E118,G$8)","v":0},{"$f":"COUNTIF(Alcance!E118,H$8)","v":0},0,1.5,0]
["Microbiológico",null,"Giardia y Cryptosporidium",null,{"$f":"COUNTIF(Alcance!E119,E$8)","v":0},{"$f":"COUNTIF(Alcance!E119,F$8)","v":0},{"$f":"COUNTIF(Alcance!E119,G$8)","v":0},{"$f":"COUNTIF(Alcance!E119,H$8)","v":0},0,1.5,0]
["Microbiológico",null,"Mesófilos Aerobios",null,{"$f":"COUNTIF(Alcance!E120,E$8)","v":0},{"$f":"COUNTIF(Alcance!E120,F$8)","v":0},{"$f":"COUNTIF(Alcance!E120,G$8)","v":0},{"$f":"COUNTIF(Alcance!E120,H$8)","v":0},0,1.5,0]
["Demandas",null,"DBO (5 días)",null,{"$f":"COUNTIF(Alcance!E121,E$8)","v":0},{"$f":"COUNTIF(Alcance!E121,F$8)","v":0},{"$f":"COUNTIF(Alcance!E121,G$8)","v":0},{"$f":"COUNTIF(Alcance!E121,H$8)","v":0},0,1,0]
["Demandas",null,"DQO",null,{"$f":"COUNTIF(Alcance!E122,E$8)","v":0},{"$f":"COUNTIF(Alcance!E122,F$8)","v":0},{"$f":"COUNTIF(Alcance!E122,G$8)","v":0},{"$f":"COUNTIF(Alcance!E122,H$8)","v":0},0,1,0]
["Demandas",null,"COT",null,{"$f":"COUNTIF(Alcance!E123,E$8)","v":0},{"$f":"COUNTIF(Alcance!E123,F$8)","v":0},{"$f":"COUNTIF(Alcance!E123,G$8)","v":0},{"$f":"COUNTIF(Alcance!E123,H$8)","v":0},0,1,0]
["Boro (Colorimétrico)",null,"Boro",null,{"$f":"COUNTIF(Alcance!E124,E$8)","v":0},{"$f":"COUNTIF(Alcance!E124,F$8)","v":0},{"$f":"COUNTIF(Alcance!E124,G$8)","v":0},{"$f":"COUNTIF(Alcance!E124,H$8)","v":0},0,1,0]
["Sulfuro",null,"Sulfuro",null,{"$f":"COUNTIF(Alcance!E125,E$8)","v":0},{"$f":"COUNTIF(Alcance!E125,F$8)","v":0},{"$f":"COUNTIF(Alcance!E125,G$8)","v":0},{"$f":"COUNTIF(Alcance!E125,H$8)","v":0},0,1,0]
["Silicio",null,"Silicio",null,{"$f":"COUNTIF(Alcance!E126,E$8)","v":0},{"$f":"COUNTIF(Alcance!E126,F$8)","v":0},{"$f":"COUNTIF(Alcance!E126,G$8)","v":0},{"$f":"COUNTIF(Alcance!E126,H$8)","v":0},0,1,0]
["Turbidez",null,"Turbidez",null,{"$f":"COUNTIF(Alcance!E127,E$8)","v":0},{"$f":"COUNTIF(Alcance!E127,F$8)","v":0},{"$f":"COUNTIF(Alcance!E127,G$8)","v":0},{"$f":"COUNTIF(Alcance!E127,H$8)","v":0},0,1,0]
["Acidez",null,"Acidez",null,{"$f":"COUNTIF(Alcance!E128,E$8)","v":0},{"$f":"COUNTIF(Alcance!E128,F$8)","v":0},{"$f":"COUNTIF(Alcance!E128,G$8)","v":0},{"$f":"COUNTIF(Alcance!E128,H$8)","v":0},0,1,0]
["Cianuro",null,"Cianuro Total",null,{"$f":"COUNTIF(Alcance!E129,E$8)","v":0},{"$f":"COUNTIF(Alcance!E129,F$8)","v":0},{"$f":"COUNTIF(Alcance!E129,G$8)","v":0},{"$f":"COUNTIF(Alcance!E129,H$8)","v":0},0,2,0]
["Cianuro",null," Cianuro disociable en acido debil",null,{"$f":"COUNTIF(Alcance!E130,E$8)","v":0},{"$f":"COUNTIF(Alcance!E130,F$8)","v":0},{"$f":"COUNTIF(Alcance!E130,G$8)","v":0},{"$f":"COUNTIF(Alcance!E130,H$8)","v":0},0,2,0]
["Cianuro",null,"Cianuro Disuelto",null,{"$f":"COUNTIF(Alcance!E131,E$8)","v":0},{"$f":"COUNTIF(Alcance!E131,F$8)","v":0},{"$f":"COUNTIF(Alcance!E131,G$8)","v":0},{"$f":"COUNTIF(Alcance!E131,H$8)","v":0},0,2,0]
["Fenoles ",null,"Fenoles ",null,{"$f":"COUNTIF(Alcance!E132,E$8)","v":0},{"$f":"COUNTIF(Alcance!E132,F$8)","v":0},{"$f":"COUNTIF(Alcance!E132,G$8)","v":0},{"$f":"COUNTIF(Alcance!E132,H$8)","v":0},0,2,0]
["Surfactantes",null,"Surfactantes Aniónicos como SAAM",null,{"$f":"COUNTIF(Alcance!E133,E$8)","v":0},{"$f":"COUNTIF(Alcance!E133,F$8)","v":0},{"$f":"COUNTIF(Alcance!E133,G$8)","v":0},{"$f":"COUNTIF(Alcance!E133,H$8)","v":0},0,1,0]
["Color",null,"Color ( Longitud de onda simple )",null,{"$f":"COUNTIF(Alcance!E134,E$8)","v":0},{"$f":"COUNTIF(Alcance!E134,F$8)","v":0},{"$f":"COUNTIF(Alcance!E134,G$8)","v":0},{"$f":"COUNTIF(Alcance!E134,H$8)","v":0},0,1,0]
["Color",null,"Color  real (3 longitudes de onda)",null,{"$f":"COUNTIF(Alcance!E135,E$8)","v":0},{"$f":"COUNTIF(Alcance!E135,F$8)","v":0},{"$f":"COUNTIF(Alcance!E135,G$8)","v":0},{"$f":"COUNTIF(Alcance!E135,H$8)","v":0},0,1,0]
["Salinidad",null,"Salinidad",null,{"$f":"COUNTIF(Alcance!E136,E$8)","v":0},{"$f":"COUNTIF(Alcance!E136,F$8)","v":0},{"$f":"COUNTIF(Alcance!E136,G$8)","v":0},{"$f":"COUNTIF(Alcance!E136,H$8)","v":0},0,1,0]
["Grasas y Aceites",null,"Grasas y Aceites",null,{"$f":"COUNTIF(Alcance!E137,E$8)","v":0},{"$f":"COUNTIF(Alcance!E137,F$8)","v":0},{"$f":"COUNTIF(Alcance!E137,G$8)","v":0},{"$f":"COUNTIF(Alcance!E137,H$8)","v":0},0,1,0]
["Compuestos Orgánicos Volátiles",null,"Acetona ",null,{"$f":"COUNTIF(Alcance!E138,E$8)","v":0},{"$f":"COUNTIF(Alcance!E138,F$8)","v":0},{"$f":"COUNTIF(Alcance!E138,G$8)","v":0},{"$f":"COUNTIF(Alcance!E138,H$8)","v":0},0,0.5,0]
["Compuestos Orgánicos Volátiles",null,"Acetonitrilo",null,{"$f":"COUNTIF(Alcance!E139,E$8)","v":0},{"$f":"COUNTIF(Alcance!E139,F$8)","v":0},{"$f":"COUNTIF(Alcance!E139,G$8)","v":0},{"$f":"COUNTIF(Alcance!E139,H$8)","v":0},0,0.5,0]
["Compuestos Orgánicos Volátiles",null,"Acroleina ",null,{"$f":"COUNTIF(Alcance!E140,E$8)","v":0},{"$f":"COUNTIF(Alcance!E140,F$8)","v":0},{"$f":"COUNTIF(Alcance!E140,G$8)","v":0},{"$f":"COUNTIF(Alcance!E140,H$8)","v":0},0,0.5,0]
["Compuestos Orgánicos Volátiles",null,"Acrilonitrilo",null,{"$f":"COUNTIF(Alcance!E141,E$8)","v":0},{"$f":"COUNTIF(Alcance!E141,F$8)","v":0},{"$f":"COUNTIF(Alcance!E141,G$8)","v":0},{"$f":"COUNTIF(Alcance!E141,H$8)","v":0},0,0.5,0]
["Compuestos Orgánicos Volátiles",null,"Cloruro de bencilo",null,{"$f":"COUNTIF(Alcance!E142,E$8)","v":0},{"$f":"COUNTIF(Alcance!E142,F$8)","v":0},{"$f":"COUNTIF(Alcance!E142,G$8)","v":0},{"$f":"COUNTIF(Alcance!E142,H$8)","v":0},0,0.5,0]
["Compuestos Orgánicos Volátiles",null,"Bromoclorometano",null,{"$f":"COUNTIF(Alcance!E143,E$8)","v":0},{"$f":"COUNTIF(Alcance!E143,F$8)","v":0},{"$f":"COUNTIF(Alcance!E143,G$8)","v":0},{"$f":"COUNTIF(Alcance!E143,H$8)","v":0},0,0.5,0]
["Compuestos Orgánicos Volátiles",null,"Bromodiclorometano",null,{"$f":"COUNTIF(Alcance!E144,E$8)","v":0},{"$f":"COUNTIF(Alcance!E144,F$8)","v":0},{"$f":"COUNTIF(Alcance!E144,G$8)","v":0},{"$f":"COUNTIF(Alcance!E144,H$8)","v":0},0,0.5,0]
["Compuestos Orgánicos Volátiles",null,"4-Bromofluorobenceno",null,{"$f":"COUNTIF(Alcance!E145,E$8)","v":0},{"$f":"COUNTIF(Alcance!E145,F$8)","v":0},{"$f":"COUNTIF(Alcance!E145,G$8)","v":0},{"$f":"COUNTIF(Alcance!E145,H$8)","v":0},0,0.5,0]
["Compuestos Orgánicos Volátiles",null,"Bromoformo ",null,{"$f":"COUNTIF(Alcance!E146,E$8)","v":0},{"$f":"COUNTIF(Alcance!E146,F$8)","v":0},{"$f":"COUNTIF(Alcance!E146,G$8)","v":0},{"$f":"COUNTIF(Alcance!E146,H$8)","v":0},0,0.5,0]
["Compuestos Orgánicos Volátiles",null,"Bromometano ",null,{"$f":"COUNTIF(Alcance!E147,E$8)","v":0},{"$f":"COUNTIF(Alcance!E147,F$8)","v":0},{"$f":"COUNTIF(Alcance!E147,G$8)","v":0},{"$f":"COUNTIF(Alcance!E147,H$8)","v":0},0,0.5,0]
["Compuestos Orgánicos Volátiles",null,"n-Butanol",null,{"$f":"COUNTIF(Alcance!E148,E$8)","v":0},{"$f":"COUNTIF(Alcance!E148,F$8)","v":0},{"$f":"COUNTIF(Alcance!E148,G$8)","v":0},{"$f":"COUNTIF(Alcance!E148,H$8)","v":0},0,0.5,0]
["Compuestos Orgánicos Volátiles",null,"2-Butanona",null,{"$f":"COUNTIF(Alcance!E149,E$8)","v":0},{"$f":"COUNTIF(Alcance!E149,F$8)","v":0},{"$f":"COUNTIF(Alcance!E149,G$8)","v":0},{"$f":"COUNTIF(Alcance!E149,H$8)","v":0},0,0.5,0]
["Compuestos Orgánicos Volátiles",null,"Disulfuro de carbono",null,{"$f":"COUNTIF(Alcance!E150,E$8)","v":0},{"$f":"COUNTIF(Alcance!E150,F$8)","v":0},{"$f":"COUNTIF(Alcance!E150,G$8)","v":0},{"$f":"COUNTIF(Alcance!E150,H$8)","v":0},0,0.5,0]
["Compuestos Orgánicos Volátiles",null,"Tetracloruro de carbon",null,{"$f":"COUNTIF(Alcance!E151,E$8)","v":0},{"$f":"COUNTIF(Alcance!E151,F$8)","v":0},{"$f":"COUNTIF(Alcance!E151,G$8)","v":0},{"$f":"COUNTIF(Alcance!E151,H$8)","v":0},0,0.5,0]
["Compuestos Orgánicos Volátiles",null,"Clorobenceno ",null,{"$f":"COUNTIF(Alcance!E152,E$8)","v":0},{"$f":"COUNTIF(Alcance!E152,F$8)","v":0},{"$f":"COUNTIF(Alcance!E152,G$8)","v":0},{"$f":"COUNTIF(Alcance!E152,H$8)","v":0},0,0.5,0]
["Compuestos Orgánicos Volátiles",null,"Clorodibromometano",null,{"$f":"COUNTIF(Alcance!E153,E$8)","v":0},{"$f":"COUNTIF(Alcance!E153,F$8)","v":0},{"$f":"COUNTIF(Alcance!E153,G$8)","v":0},{"$f":"COUNTIF(Alcance!E153,H$8)","v":0},0,0.5,0]
["Compuestos Orgánicos Volátiles",null,"Cloroetano",null,{"$f":"COUNTIF(Alcance!E154,E$8)","v":0},{"$f":"COUNTIF(Alcance!E154,F$8)","v":0},{"$f":"COUNTIF(Alcance!E154,G$8)","v":0},{"$f":"COUNTIF(Alcance!E154,H$8)","v":0},0,0.5,0]
["Compuestos Orgánicos Volátiles",null,"2-Cloroetanol",null,{"$f":"COUNTIF(Alcance!E155,E$8)","v":0},{"$f":"COUNTIF(Alcance!E155,F$8)","v":0},{"$f":"COUNTIF(Alcance!E155,G$8)","v":0},{"$f":"COUNTIF(Alcance!E155,H$8)","v":0},0,0.5,0]
["Compuestos Orgánicos Volátiles",null,"2-Cloroetil vinil éter",null,{"$f":"COUNTIF(Alcance!E156,E$8)","v":0},{"$f":"COUNTIF(Alcance!E156,F$8)","v":0},{"$f":"COUNTIF(Alcance!E156,G$8)","v":0},{"$f":"COUNTIF(Alcance!E156,H$8)","v":0},0,0.5,0]
["Compuestos Orgánicos Volátiles",null,"Cloroformo ",null,{"$f":"COUNTIF(Alcance!E157,E$8)","v":0},{"$f":"COUNTIF(Alcance!E157,F$8)","v":0},{"$f":"COUNTIF(Alcance!E157,G$8)","v":0},{"$f":"COUNTIF(Alcance!E157,H$8)","v":0},0,0.5,0]
["Compuestos Orgánicos Volátiles",null,"Clorometano ",null,{"$f":"COUNTIF(Alcance!E158,E$8)","v":0},{"$f":"COUNTIF(Alcance!E158,F$8)","v":0},{"$f":"COUNTIF(Alcance!E158,G$8)","v":0},{"$f":"COUNTIF(Alcance!E158,H$8)","v":0},0,0.5,0]
["Compuestos Orgánicos Volátiles",null,"1,2-Dibromo-3-cloropropano",null,{"$f":"COUNTIF(Alcance!E159,E$8)","v":0},{"$f":"COUNTIF(Alcance!E159,F$8)","v":0},{"$f":"COUNTIF(Alcance!E159,G$8)","v":0},{"$f":"COUNTIF(Alcance!E159,H$8)","v":0},0,0.5,0]
["Compuestos Orgánicos Volátiles",null,"1,2-Dibromoetano",null,{"$f":"COUNTIF(Alcance!E160,E$8)","v":0},{"$f":"COUNTIF(Alcance!E160,F$8)","v":0},{"$f":"COUNTIF(Alcance!E160,G$8)","v":0},{"$f":"COUNTIF(Alcance!E160,H$8)","v":0},0,0.5,0]
["Compuestos Orgánicos Volátiles",null,"Dibromometano",null,{"$f":"COUNTIF(Alcance!E161,E$8)","v":0},{"$f":"COUNTIF(Alcance!E161,F$8)","v":0},{"$f":"COUNTIF(Alcance!E161,G$8)","v":0},{"$f":"COUNTIF(Alcance!E161,H$8)","v":0},0,0.5,0]
["Compuestos Orgánicos Volátiles",null,"1,2-Diclorobenceno",null,{"$f":"COUNTIF(Alcance!E162,E$8)","v":0},{"$f":"COUNTIF(Alcance!E162,F$8)","v":0},{"$f":"COUNTIF(Alcance!E162,G$8)","v":0},{"$f":"COUNTIF(Alcance!E162,H$8)","v":0},0,0.5,0]
["Compuestos Orgánicos Volátiles",null,"1,3-Diclorobenceno ",null,{"$f":"COUNTIF(Alcance!E163,E$8)","v":0},{"$f":"COUNTIF(Alcance!E163,F$8)","v":0},{"$f":"COUNTIF(Alcance!E163,G$8)","v":0},{"$f":"COUNTIF(Alcance!E163,H$8)","v":0},0,0.5,0]
["Compuestos Orgánicos Volátiles",null,"1,4-Diclorobenceno",null,{"$f":"COUNTIF(Alcance!E164,E$8)","v":0},{"$f":"COUNTIF(Alcance!E164,F$8)","v":0},{"$f":"COUNTIF(Alcance!E164,G$8)","v":0},{"$f":"COUNTIF(Alcance!E164,H$8)","v":0},0,0.5,0]
["Compuestos Orgánicos Volátiles",null,"cis-1,4-Dicloro-2-butano",null,{"$f":"COUNTIF(Alcance!E165,E$8)","v":0},{"$f":"COUNTIF(Alcance!E165,F$8)","v":0},{"$f":"COUNTIF(Alcance!E165,G$8)","v":0},{"$f":"COUNTIF(Alcance!E165,H$8)","v":0},0,0.5,0]
["Compuestos Orgánicos Volátiles",null,"trans-1,4-Dicloro-2-butano",null,{"$f":"COUNTIF(Alcance!E166,E$8)","v":0},{"$f":"COUNTIF(Alcance!E166,F$8)","v":0},{"$f":"COUNTIF(Alcance!E166,G$8)","v":0},{"$f":"COUNTIF(Alcance!E166,H$8)","v":0},0,0.5,0]
["Compuestos Orgánicos Volátiles",null,"Diclorodifluorometano",null,{"$f":"COUNTIF(Alcance!E167,E$8)","v":0},{"$f":"COUNTIF(Alcance!E167,F$8)","v":0},{"$f":"COUNTIF(Alcance!E167,G$8)","v":0},{"$f":"COUNTIF(Alcance!E167,H$8)","v":0},0,0.5,0]
["Compuestos Orgánicos Volátiles",null,"1,1-Dicloroetano",null,{"$f":"COUNTIF(Alcance!E168,E$8)","v":0},{"$f":"COUNTIF(Alcance!E168,F$8)","v":0},{"$f":"COUNTIF(Alcance!E168,G$8)","v":0},{"$f":"COUNTIF(Alcance!E168,H$8)","v":0},0,0.5,0]
["Compuestos Orgánicos Volátiles",null,"1,2-Dicloroetano",null,{"$f":"COUNTIF(Alcance!E169,E$8)","v":0},{"$f":"COUNTIF(Alcance!E169,F$8)","v":0},{"$f":"COUNTIF(Alcance!E169,G$8)","v":0},{"$f":"COUNTIF(Alcance!E169,H$8)","v":0},0,0.5,0]
["Compuestos Orgánicos Volátiles",null,"trans-1,2-Dicloroetano",null,{"$f":"COUNTIF(Alcance!E170,E$8)","v":0},{"$f":"COUNTIF(Alcance!E170,F$8)","v":0},{"$f":"COUNTIF(Alcance!E170,G$8)","v":0},{"$f":"COUNTIF(Alcance!E170,H$8)","v":0},0,0.5,0]
["Compuestos Orgánicos Volátiles",null,"1,2-Dicloropropano",null,{"$f":"COUNTIF(Alcance!E171,E$8)","v":0},{"$f":"COUNTIF(Alcance!E171,F$8)","v":0},{"$f":"COUNTIF(Alcance!E171,G$8)","v":0},{"$f":"COUNTIF(Alcance!E171,H$8)","v":0},0,0.5,0]
["Compuestos Orgánicos Volátiles",null,"1,3-Dicloro-2-propanol",null,{"$f":"COUNTIF(Alcance!E172,E$8)","v":0},{"$f":"COUNTIF(Alcance!E172,F$8)","v":0},{"$f":"COUNTIF(Alcance!E172,G$8)","v":0},{"$f":"COUNTIF(Alcance!E172,H$8)","v":0},0,0.5,0]
["Compuestos Orgánicos Volátiles",null,"Cis-1,3-Dicloropropano",null,{"$f":"COUNTIF(Alcance!E173,E$8)","v":0},{"$f":"COUNTIF(Alcance!E173,F$8)","v":0},{"$f":"COUNTIF(Alcance!E173,G$8)","v":0},{"$f":"COUNTIF(Alcance!E173,H$8)","v":0},0,0.5,0]
["Compuestos Orgánicos Volátiles",null,"Trans-1,3-Dicloropropano",null,{"$f":"COUNTIF(Alcance!E174,E$8)","v":0},{"$f":"COUNTIF(Alcance!E174,F$8)","v":0},{"$f":"COUNTIF(Alcance!E174,G$8)","v":0},{"$f":"COUNTIF(Alcance!E174,H$8)","v":0},0,0.5,0]
["Compuestos Orgánicos Volátiles",null,"Dietil Eter",null,{"$f":"COUNTIF(Alcance!E175,E$8)","v":0},{"$f":"COUNTIF(Alcance!E175,F$8)","v":0},{"$f":"COUNTIF(Alcance!E175,G$8)","v":0},{"$f":"COUNTIF(Alcance!E175,H$8)","v":0},0,0.5,0]
["Compuestos Orgánicos Volátiles",null,"Etil terc-butil éter",null,{"$f":"COUNTIF(Alcance!E176,E$8)","v":0},{"$f":"COUNTIF(Alcance!E176,F$8)","v":0},{"$f":"COUNTIF(Alcance!E176,G$8)","v":0},{"$f":"COUNTIF(Alcance!E176,H$8)","v":0},0,0.5,0]
["Compuestos Orgánicos Volátiles",null,"Hexaclorobutadieno",null,{"$f":"COUNTIF(Alcance!E177,E$8)","v":0},{"$f":"COUNTIF(Alcance!E177,F$8)","v":0},{"$f":"COUNTIF(Alcance!E177,G$8)","v":0},{"$f":"COUNTIF(Alcance!E177,H$8)","v":0},0,0.5,0]
["Compuestos Orgánicos Volátiles",null,"Hexacloroetano",null,{"$f":"COUNTIF(Alcance!E178,E$8)","v":0},{"$f":"COUNTIF(Alcance!E178,F$8)","v":0},{"$f":"COUNTIF(Alcance!E178,G$8)","v":0},{"$f":"COUNTIF(Alcance!E178,H$8)","v":0},0,0.5,0]
["Compuestos Orgánicos Volátiles",null,"Alcohol Isobutílico",null,{"$f":"COUNTIF(Alcance!E179,E$8)","v":0},{"$f":"COUNTIF(Alcance!E179,F$8)","v":0},{"$f":"COUNTIF(Alcance!E179,G$8)","v":0},{"$f":"COUNTIF(Alcance!E179,H$8)","v":0},0,0.5,0]
["Compuestos Orgánicos Volátiles",null,"Cloruro de metileno",null,{"$f":"COUNTIF(Alcance!E180,E$8)","v":0},{"$f":"COUNTIF(Alcance!E180,F$8)","v":0},{"$f":"COUNTIF(Alcance!E180,G$8)","v":0},{"$f":"COUNTIF(Alcance!E180,H$8)","v":0},0,0.5,0]
["Compuestos Orgánicos Volátiles",null,"4 - Metil - 2 - pentanona",null,{"$f":"COUNTIF(Alcance!E181,E$8)","v":0},{"$f":"COUNTIF(Alcance!E181,F$8)","v":0},{"$f":"COUNTIF(Alcance!E181,G$8)","v":0},{"$f":"COUNTIF(Alcance!E181,H$8)","v":0},0,0.5,0]
["Compuestos Orgánicos Volátiles",null,"Metil terc-butil éter",null,{"$f":"COUNTIF(Alcance!E182,E$8)","v":0},{"$f":"COUNTIF(Alcance!E182,F$8)","v":0},{"$f":"COUNTIF(Alcance!E182,G$8)","v":0},{"$f":"COUNTIF(Alcance!E182,H$8)","v":0},0,0.5,0]
["Compuestos Orgánicos Volátiles",null,"Naftaleno",null,{"$f":"COUNTIF(Alcance!E183,E$8)","v":0},{"$f":"COUNTIF(Alcance!E183,F$8)","v":0},{"$f":"COUNTIF(Alcance!E183,G$8)","v":0},{"$f":"COUNTIF(Alcance!E183,H$8)","v":0},0,0.5,0]
["Compuestos Orgánicos Volátiles",null,"Nitrobenceno",null,{"$f":"COUNTIF(Alcance!E184,E$8)","v":0},{"$f":"COUNTIF(Alcance!E184,F$8)","v":0},{"$f":"COUNTIF(Alcance!E184,G$8)","v":0},{"$f":"COUNTIF(Alcance!E184,H$8)","v":0},0,0.5,0]
["Compuestos Orgánicos Volátiles",null,"n-Nitroso-di-n-butilamina",null,{"$f":"COUNTIF(Alcance!E185,E$8)","v":0},{"$f":"COUNTIF(Alcance!E185,F$8)","v":0},{"$f":"COUNTIF(Alcance!E185,G$8)","v":0},{"$f":"COUNTIF(Alcance!E185,H$8)","v":0},0,0.5,0]
["Compuestos Orgánicos Volátiles",null,"Pentacloroetano",null,{"$f":"COUNTIF(Alcance!E186,E$8)","v":0},{"$f":"COUNTIF(Alcance!E186,F$8)","v":0},{"$f":"COUNTIF(Alcance!E186,G$8)","v":0},{"$f":"COUNTIF(Alcance!E186,H$8)","v":0},0,0.5,0]
["Compuestos Orgánicos Volátiles",null,"2-Pentanona",null,{"$f":"COUNTIF(Alcance!E187,E$8)","v":0},{"$f":"COUNTIF(Alcance!E187,F$8)","v":0},{"$f":"COUNTIF(Alcance!E187,G$8)","v":0},{"$f":"COUNTIF(Alcance!E187,H$8)","v":0},0,0.5,0]
["Compuestos Orgánicos Volátiles",null,"1-Propanol ",null,{"$f":"COUNTIF(Alcance!E188,E$8)","v":0},{"$f":"COUNTIF(Alcance!E188,F$8)","v":0},{"$f":"COUNTIF(Alcance!E188,G$8)","v":0},{"$f":"COUNTIF(Alcance!E188,H$8)","v":0},0,0.5,0]
["Compuestos Orgánicos Volátiles",null,"2-Propanol",null,{"$f":"COUNTIF(Alcance!E189,E$8)","v":0},{"$f":"COUNTIF(Alcance!E189,F$8)","v":0},{"$f":"COUNTIF(Alcance!E189,G$8)","v":0},{"$f":"COUNTIF(Alcance!E189,H$8)","v":0},0,0.5,0]
["Compuestos Orgánicos Volátiles",null,"n-Propilamina",null,{"$f":"COUNTIF(Alcance!E190,E$8)","v":0},{"$f":"COUNTIF(Alcance!E190,F$8)","v":0},{"$f":"COUNTIF(Alcance!E190,G$8)","v":0},{"$f":"COUNTIF(Alcance!E190,H$8)","v":0},0,0.5,0]
["Compuestos Orgánicos Volátiles",null,"Piridina",null,{"$f":"COUNTIF(Alcance!E191,E$8)","v":0},{"$f":"COUNTIF(Alcance!E191,F$8)","v":0},{"$f":"COUNTIF(Alcance!E191,G$8)","v":0},{"$f":"COUNTIF(Alcance!E191,H$8)","v":0},0,0.5,0]
["Compuestos Orgánicos Volátiles",null,"Estireno",null,{"$f":"COUNTIF(Alcance!E192,E$8)","v":0},{"$f":"COUNTIF(Alcance!E192,F$8)","v":0},{"$f":"COUNTIF(Alcance!E192,G$8)","v":0},{"$f":"COUNTIF(Alcance!E192,H$8)","v":0},0,0.5,0]
["Compuestos Orgánicos Volátiles",null,"1,1,1,2-Tetracloroetano",null,{"$f":"COUNTIF(Alcance!E193,E$8)","v":0},{"$f":"COUNTIF(Alcance!E193,F$8)","v":0},{"$f":"COUNTIF(Alcance!E193,G$8)","v":0},{"$f":"COUNTIF(Alcance!E193,H$8)","v":0},0,0.5,0]
["Compuestos Orgánicos Volátiles",null,"1,1,2,2-Tetracloroetano",null,{"$f":"COUNTIF(Alcance!E194,E$8)","v":0},{"$f":"COUNTIF(Alcance!E194,F$8)","v":0},{"$f":"COUNTIF(Alcance!E194,G$8)","v":0},{"$f":"COUNTIF(Alcance!E194,H$8)","v":0},0,0.5,0]
["Compuestos Orgánicos Volátiles",null,"Tetracloroetano",null,{"$f":"COUNTIF(Alcance!E195,E$8)","v":0},{"$f":"COUNTIF(Alcance!E195,F$8)","v":0},{"$f":"COUNTIF(Alcance!E195,G$8)","v":0},{"$f":"COUNTIF(Alcance!E195,H$8)","v":0},0,0.5,0]
["Compuestos Orgánicos Volátiles",null,"1,2,4-Triclorobenceno",null,{"$f":"COUNTIF(Alcance!E196,E$8)","v":0},{"$f":"COUNTIF(Alcance!E196,F$8)","v":0},{"$f":"COUNTIF(Alcance!E196,G$8)","v":0},{"$f":"COUNTIF(Alcance!E196,H$8)","v":0},0,0.5,0]
["Compuestos Orgánicos Volátiles",null,"1,1,1-Tricoloetano",null,{"$f":"COUNTIF(Alcance!E197,E$8)","v":0},{"$f":"COUNTIF(Alcance!E197,F$8)","v":0},{"$f":"COUNTIF(Alcance!E197,G$8)","v":0},{"$f":"COUNTIF(Alcance!E197,H$8)","v":0},0,0.5,0]
["Compuestos Orgánicos Volátiles",null,"1,1,2-Tricloroetano",null,{"$f":"COUNTIF(Alcance!E198,E$8)","v":0},{"$f":"COUNTIF(Alcance!E198,F$8)","v":0},{"$f":"COUNTIF(Alcance!E198,G$8)","v":0},{"$f":"COUNTIF(Alcance!E198,H$8)","v":0},0,0.5,0]
["Compuestos Orgánicos Volátiles",null,"Tricloroetano",null,{"$f":"COUNTIF(Alcance!E199,E$8)","v":0},{"$f":"COUNTIF(Alcance!E199,F$8)","v":0},{"$f":"COUNTIF(Alcance!E199,G$8)","v":0},{"$f":"COUNTIF(Alcance!E199,H$8)","v":0},0,0.5,0]
["Compuestos Orgánicos Volátiles",null,"Triclorofluorometano",null,{"$f":"COUNTIF(Alcance!E200,E$8)","v":0},{"$f":"COUNTIF(Alcance!E200,F$8)","v":0},{"$f":"COUNTIF(Alcance!E200,G$8)","v":0},{"$f":"COUNTIF(Alcance!E200,H$8)","v":0},0,0.5,0]
["Compuestos Orgánicos Volátiles",null,"1,2,3-Tricloropropano",null,{"$f":"COUNTIF(Alcance!E201,E$8)","v":0},{"$f":"COUNTIF(Alcance!E201,F$8)","v":0},{"$f":"COUNTIF(Alcance!E201,G$8)","v":0},{"$f":"COUNTIF(Alcance!E201,H$8)","v":0},0,0.5,0]
["Compuestos Orgánicos Volátiles",null,"Acetato de vinilo",null,{"$f":"COUNTIF(Alcance!E202,E$8)","v":0},{"$f":"COUNTIF(Alcance!E202,F$8)","v":0},{"$f":"COUNTIF(Alcance!E202,G$8)","v":0},{"$f":"COUNTIF(Alcance!E202,H$8)","v":0},0,0.5,0]
["Compuestos Orgánicos Volátiles",null,"Cloruro de vinilo",null,{"$f":"COUNTIF(Alcance!E203,E$8)","v":0},{"$f":"COUNTIF(Alcance!E203,F$8)","v":0},{"$f":"COUNTIF(Alcance!E203,G$8)","v":0},{"$f":"COUNTIF(Alcance!E203,H$8)","v":0},0,0.5,0]
["Compuestos Orgánicos Volátiles",null,"1,2,4-Trimetilbenceno",null,{"$f":"COUNTIF(Alcance!E204,E$8)","v":0},{"$f":"COUNTIF(Alcance!E204,F$8)","v":0},{"$f":"COUNTIF(Alcance!E204,G$8)","v":0},{"$f":"COUNTIF(Alcance!E204,H$8)","v":0},0,0.5,0]
["Compuestos Orgánicos Volátiles",null,"1,3,5-Trimetilbenceno",null,{"$f":"COUNTIF(Alcance!E205,E$8)","v":0},{"$f":"COUNTIF(Alcance!E205,F$8)","v":0},{"$f":"COUNTIF(Alcance!E205,G$8)","v":0},{"$f":"COUNTIF(Alcance!E205,H$8)","v":0},0,0.5,0]
["Compuestos Orgánicos Volátiles",null,"Diclorometano",null,{"$f":"COUNTIF(Alcance!E206,E$8)","v":0},{"$f":"COUNTIF(Alcance!E206,F$8)","v":0},{"$f":"COUNTIF(Alcance!E206,G$8)","v":0},{"$f":"COUNTIF(Alcance!E206,H$8)","v":0},0,0.5,0]
["Compuestos Orgánicos Volátiles",null,"Percloroetileno",null,{"$f":"COUNTIF(Alcance!E207,E$8)","v":0},{"$f":"COUNTIF(Alcance!E207,F$8)","v":0},{"$f":"COUNTIF(Alcance!E207,G$8)","v":0},{"$f":"COUNTIF(Alcance!E207,H$8)","v":0},0,0.5,0]
["Compuestos Orgánicos Volátiles",null,"1,1,1-Tricloroetano",null,{"$f":"COUNTIF(Alcance!E208,E$8)","v":0},{"$f":"COUNTIF(Alcance!E208,F$8)","v":0},{"$f":"COUNTIF(Alcance!E208,G$8)","v":0},{"$f":"COUNTIF(Alcance!E208,H$8)","v":0},0,0.5,0]
["Compuestos Orgánicos Volátiles",null,"Tricloroetileno",null,{"$f":"COUNTIF(Alcance!E209,E$8)","v":0},{"$f":"COUNTIF(Alcance!E209,F$8)","v":0},{"$f":"COUNTIF(Alcance!E209,G$8)","v":0},{"$f":"COUNTIF(Alcance!E209,H$8)","v":0},0,0.5,0]
["Compuestos Orgánicos Volátiles - BTEX",null,"Benceno ",null,{"$f":"COUNTIF(Alcance!E210,E$8)","v":0},{"$f":"COUNTIF(Alcance!E210,F$8)","v":0},{"$f":"COUNTIF(Alcance!E210,G$8)","v":0},{"$f":"COUNTIF(Alcance!E210,H$8)","v":0},0,0.5,0]
["Compuestos Orgánicos Volátiles - BTEX",null,"Tolueno",null,{"$f":"COUNTIF(Alcance!E211,E$8)","v":0},{"$f":"COUNTIF(Alcance!E211,F$8)","v":0},{"$f":"COUNTIF(Alcance!E211,G$8)","v":0},{"$f":"COUNTIF(Alcance!E211,H$8)","v":0},0,0.5,0]
["Compuestos Orgánicos Volátiles - BTEX",null,"Etilbenceno",null,{"$f":"COUNTIF(Alcance!E212,E$8)","v":0},{"$f":"COUNTIF(Alcance!E212,F$8)","v":0},{"$f":"COUNTIF(Alcance!E212,G$8)","v":0},{"$f":"COUNTIF(Alcance!E212,H$8)","v":0},0,0.5,0]
["Compuestos Orgánicos Volátiles - BTEX",null,"o-Xileno",null,{"$f":"COUNTIF(Alcance!E213,E$8)","v":0},{"$f":"COUNTIF(Alcance!E213,F$8)","v":0},{"$f":"COUNTIF(Alcance!E213,G$8)","v":0},{"$f":"COUNTIF(Alcance!E213,H$8)","v":0},0,0.5,0]
["Compuestos Orgánicos Volátiles - BTEX",null,"m-Xileno",null,{"$f":"COUNTIF(Alcance!E214,E$8)","v":0},{"$f":"COUNTIF(Alcance!E214,F$8)","v":0},{"$f":"COUNTIF(Alcance!E214,G$8)","v":0},{"$f":"COUNTIF(Alcance!E214,H$8)","v":0},0,0.5,0]
["Compuestos Orgánicos Volátiles - BTEX",null,"p-Xileno ",null,{"$f":"COUNTIF(Alcance!E215,E$8)","v":0},{"$f":"COUNTIF(Alcance!E215,F$8)","v":0},{"$f":"COUNTIF(Alcance!E215,G$8)","v":0},{"$f":"COUNTIF(Alcance!E215,H$8)","v":0},0,0.5,0]
["Compuestos Orgánicos Volátiles - BTEX",null,"m+p-xileno",null,{"$f":"COUNTIF(Alcance!E216,E$8)","v":0},{"$f":"COUNTIF(Alcance!E216,F$8)","v":0},{"$f":"COUNTIF(Alcance!E216,G$8)","v":0},{"$f":"COUNTIF(Alcance!E216,H$8)","v":0},0,0.5,0]
["Compuestos Orgánicos Volátiles - BTEX",null,"Xileno total",null,{"$f":"COUNTIF(Alcance!E217,E$8)","v":0},{"$f":"COUNTIF(Alcance!E217,F$8)","v":0},{"$f":"COUNTIF(Alcance!E217,G$8)","v":0},{"$f":"COUNTIF(Alcance!E217,H$8)","v":0},0,0.5,0]
["Pesticidas Organoclorados",null,"Aldrín",null,{"$f":"COUNTIF(Alcance!E218,E$8)","v":0},{"$f":"COUNTIF(Alcance!E218,F$8)","v":0},{"$f":"COUNTIF(Alcance!E218,G$8)","v":0},{"$f":"COUNTIF(Alcance!E218,H$8)","v":0},0,0.5,0]
["Pesticidas Organoclorados",null,"4,4'-DDD",null,{"$f":"COUNTIF(Alcance!E219,E$8)","v":0},{"$f":"COUNTIF(Alcance!E219,F$8)","v":0},{"$f":"COUNTIF(Alcance!E219,G$8)","v":0},{"$f":"COUNTIF(Alcance!E219,H$8)","v":0},0,0.5,0]
["Pesticidas Organoclorados",null,"4,4'-DDE",null,{"$f":"COUNTIF(Alcance!E220,E$8)","v":0},{"$f":"COUNTIF(Alcance!E220,F$8)","v":0},{"$f":"COUNTIF(Alcance!E220,G$8)","v":0},{"$f":"COUNTIF(Alcance!E220,H$8)","v":0},0,0.5,0]
["Pesticidas Organoclorados",null,"4,4'-DDT",null,{"$f":"COUNTIF(Alcance!E221,E$8)","v":0},{"$f":"COUNTIF(Alcance!E221,F$8)","v":0},{"$f":"COUNTIF(Alcance!E221,G$8)","v":0},{"$f":"COUNTIF(Alcance!E221,H$8)","v":0},0,0.5,0]
["Pesticidas Organoclorados",null,"Dieldrín",null,{"$f":"COUNTIF(Alcance!E222,E$8)","v":0},{"$f":"COUNTIF(Alcance!E222,F$8)","v":0},{"$f":"COUNTIF(Alcance!E222,G$8)","v":0},{"$f":"COUNTIF(Alcance!E222,H$8)","v":0},0,0.5,0]
["Pesticidas Organoclorados",null,"Heptacloro",null,{"$f":"COUNTIF(Alcance!E223,E$8)","v":0},{"$f":"COUNTIF(Alcance!E223,F$8)","v":0},{"$f":"COUNTIF(Alcance!E223,G$8)","v":0},{"$f":"COUNTIF(Alcance!E223,H$8)","v":0},0,0.5,0]
["Pesticidas Organoclorados",null,"Heptacloro epoxido",null,{"$f":"COUNTIF(Alcance!E224,E$8)","v":0},{"$f":"COUNTIF(Alcance!E224,F$8)","v":0},{"$f":"COUNTIF(Alcance!E224,G$8)","v":0},{"$f":"COUNTIF(Alcance!E224,H$8)","v":0},0,0.5,0]
["Pesticidas Organoclorados",null,"Heptacloro benceno",null,{"$f":"COUNTIF(Alcance!E225,E$8)","v":0},{"$f":"COUNTIF(Alcance!E225,F$8)","v":0},{"$f":"COUNTIF(Alcance!E225,G$8)","v":0},{"$f":"COUNTIF(Alcance!E225,H$8)","v":0},0,0.5,0]
["Pesticidas Organoclorados",null,"Hexaclorociclopentadieno",null,{"$f":"COUNTIF(Alcance!E226,E$8)","v":0},{"$f":"COUNTIF(Alcance!E226,F$8)","v":0},{"$f":"COUNTIF(Alcance!E226,G$8)","v":0},{"$f":"COUNTIF(Alcance!E226,H$8)","v":0},0,0.5,0]
["Pesticidas Organoclorados",null,"Alfa-BHC",null,{"$f":"COUNTIF(Alcance!E227,E$8)","v":0},{"$f":"COUNTIF(Alcance!E227,F$8)","v":0},{"$f":"COUNTIF(Alcance!E227,G$8)","v":0},{"$f":"COUNTIF(Alcance!E227,H$8)","v":0},0,0.5,0]
["Pesticidas Organoclorados",null,"Beta-BHC",null,{"$f":"COUNTIF(Alcance!E228,E$8)","v":0},{"$f":"COUNTIF(Alcance!E228,F$8)","v":0},{"$f":"COUNTIF(Alcance!E228,G$8)","v":0},{"$f":"COUNTIF(Alcance!E228,H$8)","v":0},0,0.5,0]
["Pesticidas Organoclorados",null,"Gama-BHC",null,{"$f":"COUNTIF(Alcance!E229,E$8)","v":0},{"$f":"COUNTIF(Alcance!E229,F$8)","v":0},{"$f":"COUNTIF(Alcance!E229,G$8)","v":0},{"$f":"COUNTIF(Alcance!E229,H$8)","v":0},0,0.5,0]
["Pesticidas Organoclorados",null,"Delta-BHC",null,{"$f":"COUNTIF(Alcance!E230,E$8)","v":0},{"$f":"COUNTIF(Alcance!E230,F$8)","v":0},{"$f":"COUNTIF(Alcance!E230,G$8)","v":0},{"$f":"COUNTIF(Alcance!E230,H$8)","v":0},0,0.5,0]
["Pesticidas Organoclorados",null,"Alfa-Clordano (Cis-clordano)",null,{"$f":"COUNTIF(Alcance!E231,E$8)","v":0},{"$f":"COUNTIF(Alcance!E231,F$8)","v":0},{"$f":"COUNTIF(Alcance!E231,G$8)","v":0},{"$f":"COUNTIF(Alcance!E231,H$8)","v":0},0,0.5,0]
["Pesticidas Organoclorados",null,"Gama-Clordano (Trans-Clordano)",null,{"$f":"COUNTIF(Alcance!E232,E$8)","v":0},{"$f":"COUNTIF(Alcance!E232,F$8)","v":0},{"$f":"COUNTIF(Alcance!E232,G$8)","v":0},{"$f":"COUNTIF(Alcance!E232,H$8)","v":0},0,0.5,0]
["Pesticidas Organoclorados",null,"Endosulfan I",null,{"$f":"COUNTIF(Alcance!E233,E$8)","v":0},{"$f":"COUNTIF(Alcance!E233,F$8)","v":0},{"$f":"COUNTIF(Alcance!E233,G$8)","v":0},{"$f":"COUNTIF(Alcance!E233,H$8)","v":0},0,0.5,0]
["Pesticidas Organoclorados",null,"Endosulfan II",null,{"$f":"COUNTIF(Alcance!E234,E$8)","v":0},{"$f":"COUNTIF(Alcance!E234,F$8)","v":0},{"$f":"COUNTIF(Alcance!E234,G$8)","v":0},{"$f":"COUNTIF(Alcance!E234,H$8)","v":0},0,0.5,0]
["Pesticidas Organoclorados",null,"Endosulfan sulfato",null,{"$f":"COUNTIF(Alcance!E235,E$8)","v":0},{"$f":"COUNTIF(Alcance!E235,F$8)","v":0},{"$f":"COUNTIF(Alcance!E235,G$8)","v":0},{"$f":"COUNTIF(Alcance!E235,H$8)","v":0},0,0.5,0]
["Pesticidas Organoclorados",null,"Endrín aldehido",null,{"$f":"COUNTIF(Alcance!E236,E$8)","v":0},{"$f":"COUNTIF(Alcance!E236,F$8)","v":0},{"$f":"COUNTIF(Alcance!E236,G$8)","v":0},{"$f":"COUNTIF(Alcance!E236,H$8)","v":0},0,0.5,0]
["Pesticidas Organoclorados",null,"Endrín cetona",null,{"$f":"COUNTIF(Alcance!E237,E$8)","v":0},{"$f":"COUNTIF(Alcance!E237,F$8)","v":0},{"$f":"COUNTIF(Alcance!E237,G$8)","v":0},{"$f":"COUNTIF(Alcance!E237,H$8)","v":0},0,0.5,0]
["Pesticidas Organoclorados",null,"Endrín",null,{"$f":"COUNTIF(Alcance!E238,E$8)","v":0},{"$f":"COUNTIF(Alcance!E238,F$8)","v":0},{"$f":"COUNTIF(Alcance!E238,G$8)","v":0},{"$f":"COUNTIF(Alcance!E238,H$8)","v":0},0,0.5,0]
["Pesticidas Organoclorados",null,"Metoxicloro",null,{"$f":"COUNTIF(Alcance!E239,E$8)","v":0},{"$f":"COUNTIF(Alcance!E239,F$8)","v":0},{"$f":"COUNTIF(Alcance!E239,G$8)","v":0},{"$f":"COUNTIF(Alcance!E239,H$8)","v":0},0,0.5,0]
["Pesticidas Organoclorados",null,"Toxafeno",null,{"$f":"COUNTIF(Alcance!E240,E$8)","v":0},{"$f":"COUNTIF(Alcance!E240,F$8)","v":0},{"$f":"COUNTIF(Alcance!E240,G$8)","v":0},{"$f":"COUNTIF(Alcance!E240,H$8)","v":0},0,0.5,0]
["Pesticidas Oganofosforados",null,"Etil-Azinfos",null,{"$f":"COUNTIF(Alcance!E241,E$8)","v":0},{"$f":"COUNTIF(Alcance!E241,F$8)","v":0},{"$f":"COUNTIF(Alcance!E241,G$8)","v":0},{"$f":"COUNTIF(Alcance!E241,H$8)","v":0},0,0.5,0]
["Pesticidas Oganofosforados",null,"Metil-Azinfos ",null,{"$f":"COUNTIF(Alcance!E242,E$8)","v":0},{"$f":"COUNTIF(Alcance!E242,F$8)","v":0},{"$f":"COUNTIF(Alcance!E242,G$8)","v":0},{"$f":"COUNTIF(Alcance!E242,H$8)","v":0},0,0.5,0]
["Pesticidas Oganofosforados",null,"Clorfenvinfos",null,{"$f":"COUNTIF(Alcance!E243,E$8)","v":0},{"$f":"COUNTIF(Alcance!E243,F$8)","v":0},{"$f":"COUNTIF(Alcance!E243,G$8)","v":0},{"$f":"COUNTIF(Alcance!E243,H$8)","v":0},0,0.5,0]
["Pesticidas Oganofosforados",null,"Clorpirifos",null,{"$f":"COUNTIF(Alcance!E244,E$8)","v":0},{"$f":"COUNTIF(Alcance!E244,F$8)","v":0},{"$f":"COUNTIF(Alcance!E244,G$8)","v":0},{"$f":"COUNTIF(Alcance!E244,H$8)","v":0},0,0.5,0]
["Pesticidas Oganofosforados",null,"Metil Clorpirifos",null,{"$f":"COUNTIF(Alcance!E245,E$8)","v":0},{"$f":"COUNTIF(Alcance!E245,F$8)","v":0},{"$f":"COUNTIF(Alcance!E245,G$8)","v":0},{"$f":"COUNTIF(Alcance!E245,H$8)","v":0},0,0.5,0]
["Pesticidas Oganofosforados",null,"Coumaphos",null,{"$f":"COUNTIF(Alcance!E246,E$8)","v":0},{"$f":"COUNTIF(Alcance!E246,F$8)","v":0},{"$f":"COUNTIF(Alcance!E246,G$8)","v":0},{"$f":"COUNTIF(Alcance!E246,H$8)","v":0},0,0.5,0]
["Pesticidas Oganofosforados",null,"Demeton-O",null,{"$f":"COUNTIF(Alcance!E247,E$8)","v":0},{"$f":"COUNTIF(Alcance!E247,F$8)","v":0},{"$f":"COUNTIF(Alcance!E247,G$8)","v":0},{"$f":"COUNTIF(Alcance!E247,H$8)","v":0},0,0.5,0]
["Pesticidas Oganofosforados",null,"Demeton-S",null,{"$f":"COUNTIF(Alcance!E248,E$8)","v":0},{"$f":"COUNTIF(Alcance!E248,F$8)","v":0},{"$f":"COUNTIF(Alcance!E248,G$8)","v":0},{"$f":"COUNTIF(Alcance!E248,H$8)","v":0},0,0.5,0]
["Pesticidas Oganofosforados",null,"Diazinon",null,{"$f":"COUNTIF(Alcance!E249,E$8)","v":0},{"$f":"COUNTIF(Alcance!E249,F$8)","v":0},{"$f":"COUNTIF(Alcance!E249,G$8)","v":0},{"$f":"COUNTIF(Alcance!E249,H$8)","v":0},0,0.5,0]
["Pesticidas Oganofosforados",null,"Diclorvos",null,{"$f":"COUNTIF(Alcance!E250,E$8)","v":0},{"$f":"COUNTIF(Alcance!E250,F$8)","v":0},{"$f":"COUNTIF(Alcance!E250,G$8)","v":0},{"$f":"COUNTIF(Alcance!E250,H$8)","v":0},0,0.5,0]
["Pesticidas Oganofosforados",null,"Dimetoato",null,{"$f":"COUNTIF(Alcance!E251,E$8)","v":0},{"$f":"COUNTIF(Alcance!E251,F$8)","v":0},{"$f":"COUNTIF(Alcance!E251,G$8)","v":0},{"$f":"COUNTIF(Alcance!E251,H$8)","v":0},0,0.5,0]
["Pesticidas Oganofosforados",null,"Dioxatión",null,{"$f":"COUNTIF(Alcance!E252,E$8)","v":0},{"$f":"COUNTIF(Alcance!E252,F$8)","v":0},{"$f":"COUNTIF(Alcance!E252,G$8)","v":0},{"$f":"COUNTIF(Alcance!E252,H$8)","v":0},0,0.5,0]
["Pesticidas Oganofosforados",null,"Disulfoton",null,{"$f":"COUNTIF(Alcance!E253,E$8)","v":0},{"$f":"COUNTIF(Alcance!E253,F$8)","v":0},{"$f":"COUNTIF(Alcance!E253,G$8)","v":0},{"$f":"COUNTIF(Alcance!E253,H$8)","v":0},0,0.5,0]
["Pesticidas Oganofosforados",null,"Fenitrotion",null,{"$f":"COUNTIF(Alcance!E254,E$8)","v":0},{"$f":"COUNTIF(Alcance!E254,F$8)","v":0},{"$f":"COUNTIF(Alcance!E254,G$8)","v":0},{"$f":"COUNTIF(Alcance!E254,H$8)","v":0},0,0.5,0]
["Pesticidas Oganofosforados",null,"Fention",null,{"$f":"COUNTIF(Alcance!E255,E$8)","v":0},{"$f":"COUNTIF(Alcance!E255,F$8)","v":0},{"$f":"COUNTIF(Alcance!E255,G$8)","v":0},{"$f":"COUNTIF(Alcance!E255,H$8)","v":0},0,0.5,0]
["Pesticidas Oganofosforados",null,"Malation",null,{"$f":"COUNTIF(Alcance!E256,E$8)","v":0},{"$f":"COUNTIF(Alcance!E256,F$8)","v":0},{"$f":"COUNTIF(Alcance!E256,G$8)","v":0},{"$f":"COUNTIF(Alcance!E256,H$8)","v":0},0,0.5,0]
["Pesticidas Oganofosforados",null,"Mevinphos",null,{"$f":"COUNTIF(Alcance!E257,E$8)","v":0},{"$f":"COUNTIF(Alcance!E257,F$8)","v":0},{"$f":"COUNTIF(Alcance!E257,G$8)","v":0},{"$f":"COUNTIF(Alcance!E257,H$8)","v":0},0,0.5,0]
["Pesticidas Oganofosforados",null,"Metil paration",null,{"$f":"COUNTIF(Alcance!E258,E$8)","v":0},{"$f":"COUNTIF(Alcance!E258,F$8)","v":0},{"$f":"COUNTIF(Alcance!E258,G$8)","v":0},{"$f":"COUNTIF(Alcance!E258,H$8)","v":0},0,0.5,0]
["Pesticidas Oganofosforados",null,"Etil paration",null,{"$f":"COUNTIF(Alcance!E259,E$8)","v":0},{"$f":"COUNTIF(Alcance!E259,F$8)","v":0},{"$f":"COUNTIF(Alcance!E259,G$8)","v":0},{"$f":"COUNTIF(Alcance!E259,H$8)","v":0},0,0.5,0]
["Pesticidas Oganofosforados",null,"Ronnel",null,{"$f":"COUNTIF(Alcance!E260,E$8)","v":0},{"$f":"COUNTIF(Alcance!E260,F$8)","v":0},{"$f":"COUNTIF(Alcance!E260,G$8)","v":0},{"$f":"COUNTIF(Alcance!E260,H$8)","v":0},0,0.5,0]
["Pesticidas Oganofosforados",null,"Estirofos",null,{"$f":"COUNTIF(Alcance!E261,E$8)","v":0},{"$f":"COUNTIF(Alcance!E261,F$8)","v":0},{"$f":"COUNTIF(Alcance!E261,G$8)","v":0},{"$f":"COUNTIF(Alcance!E261,H$8)","v":0},0,0.5,0]
["Pesticidas Oganofosforados",null,"Atrazina",null,{"$f":"COUNTIF(Alcance!E262,E$8)","v":0},{"$f":"COUNTIF(Alcance!E262,F$8)","v":0},{"$f":"COUNTIF(Alcance!E262,G$8)","v":0},{"$f":"COUNTIF(Alcance!E262,H$8)","v":0},0,0.5,0]
["Pesticidas Oganofosforados",null,"Simazina",null,{"$f":"COUNTIF(Alcance!E263,E$8)","v":0},{"$f":"COUNTIF(Alcance!E263,F$8)","v":0},{"$f":"COUNTIF(Alcance!E263,G$8)","v":0},{"$f":"COUNTIF(Alcance!E263,H$8)","v":0},0,0.5,0]
["Pesticidas Oganofosforados",null,"Metiocarb",null,{"$f":"COUNTIF(Alcance!E264,E$8)","v":0},{"$f":"COUNTIF(Alcance!E264,F$8)","v":0},{"$f":"COUNTIF(Alcance!E264,G$8)","v":0},{"$f":"COUNTIF(Alcance!E264,H$8)","v":0},{"$f":"SUM(E264:H264)","v":0},0.5,{"$f":"I264*J264","v":0}]
["Pesticidas Oganofosforados",null,"Profam",null,{"$f":"COUNTIF(Alcance!E265,E$8)","v":0},{"$f":"COUNTIF(Alcance!E265,F$8)","v":0},{"$f":"COUNTIF(Alcance!E265,G$8)","v":0},{"$f":"COUNTIF(Alcance!E265,H$8)","v":0},0,0.5,0]
["Pesticidas Oganofosforados",null,"Etion",null,{"$f":"COUNTIF(Alcance!E266,E$8)","v":0},{"$f":"COUNTIF(Alcance!E266,F$8)","v":0},{"$f":"COUNTIF(Alcance!E266,G$8)","v":0},{"$f":"COUNTIF(Alcance!E266,H$8)","v":0},0,0.5,0]
["Pesticidas Oganofosforados",null,"Etil gution",null,{"$f":"COUNTIF(Alcance!E267,E$8)","v":0},{"$f":"COUNTIF(Alcance!E267,F$8)","v":0},{"$f":"COUNTIF(Alcance!E267,G$8)","v":0},{"$f":"COUNTIF(Alcance!E267,H$8)","v":0},0,0.5,0]
["Pesticidas Oganofosforados",null,"Gution",null,{"$f":"COUNTIF(Alcance!E268,E$8)","v":0},{"$f":"COUNTIF(Alcance!E268,F$8)","v":0},{"$f":"COUNTIF(Alcance!E268,G$8)","v":0},{"$f":"COUNTIF(Alcance!E268,H$8)","v":0},0,0.5,0]
["Pesticidas Oganofosforados",null,"Clorotalonil",null,{"$f":"COUNTIF(Alcance!E269,E$8)","v":0},{"$f":"COUNTIF(Alcance!E269,F$8)","v":0},{"$f":"COUNTIF(Alcance!E269,G$8)","v":0},{"$f":"COUNTIF(Alcance!E269,H$8)","v":0},0,0.5,0]
["Pesticidas Oganofosforados",null,"Penoxalin",null,{"$f":"COUNTIF(Alcance!E270,E$8)","v":0},{"$f":"COUNTIF(Alcance!E270,F$8)","v":0},{"$f":"COUNTIF(Alcance!E270,G$8)","v":0},{"$f":"COUNTIF(Alcance!E270,H$8)","v":0},0,0.5,0]
["Pesticidas Oganofosforados",null,"Primicarb",null,{"$f":"COUNTIF(Alcance!E271,E$8)","v":0},{"$f":"COUNTIF(Alcance!E271,F$8)","v":0},{"$f":"COUNTIF(Alcance!E271,G$8)","v":0},{"$f":"COUNTIF(Alcance!E271,H$8)","v":0},0,0.5,0]
["Pesticidas Oganofosforados",null,"Propetanfos",null,{"$f":"COUNTIF(Alcance!E272,E$8)","v":0},{"$f":"COUNTIF(Alcance!E272,F$8)","v":0},{"$f":"COUNTIF(Alcance!E272,G$8)","v":0},{"$f":"COUNTIF(Alcance!E272,H$8)","v":0},0,0.5,0]
["Pesticidas Oganofosforados",null,"Terbutrin",null,{"$f":"COUNTIF(Alcance!E273,E$8)","v":0},{"$f":"COUNTIF(Alcance!E273,F$8)","v":0},{"$f":"COUNTIF(Alcance!E273,G$8)","v":0},{"$f":"COUNTIF(Alcance!E273,H$8)","v":0},0,0.5,0]
["Pesticidas Oganofosforados",null,"Trietazina",null,{"$f":"COUNTIF(Alcance!E274,E$8)","v":0},{"$f":"COUNTIF(Alcance!E274,F$8)","v":0},{"$f":"COUNTIF(Alcance!E274,G$8)","v":0},{"$f":"COUNTIF(Alcance!E274,H$8)","v":0},0,0.5,0]
["PCBs en Agua",null,"Aroclor 1016",null,{"$f":"COUNTIF(Alcance!E275,E$8)","v":0},{"$f":"COUNTIF(Alcance!E275,F$8)","v":0},{"$f":"COUNTIF(Alcance!E275,G$8)","v":0},{"$f":"COUNTIF(Alcance!E275,H$8)","v":0},0,1,0]
["PCB s en Agua",null,"Aroclor 1221",null,{"$f":"COUNTIF(Alcance!E276,E$8)","v":0},{"$f":"COUNTIF(Alcance!E276,F$8)","v":0},{"$f":"COUNTIF(Alcance!E276,G$8)","v":0},{"$f":"COUNTIF(Alcance!E276,H$8)","v":0},0,1,0]
["PCB s en Agua",null,"Aroclor 1232",null,{"$f":"COUNTIF(Alcance!E277,E$8)","v":0},{"$f":"COUNTIF(Alcance!E277,F$8)","v":0},{"$f":"COUNTIF(Alcance!E277,G$8)","v":0},{"$f":"COUNTIF(Alcance!E277,H$8)","v":0},0,1,0]
["PCB s en Agua",null,"Aroclor 1242",null,{"$f":"COUNTIF(Alcance!E278,E$8)","v":0},{"$f":"COUNTIF(Alcance!E278,F$8)","v":0},{"$f":"COUNTIF(Alcance!E278,G$8)","v":0},{"$f":"COUNTIF(Alcance!E278,H$8)","v":0},0,1,0]
["PCB s en Agua",null,"Aroclor 1248",null,{"$f":"COUNTIF(Alcance!E279,E$8)","v":0},{"$f":"COUNTIF(Alcance!E279,F$8)","v":0},{"$f":"COUNTIF(Alcance!E279,G$8)","v":0},{"$f":"COUNTIF(Alcance!E279,H$8)","v":0},0,1,0]
["PCB s en Agua",null,"Aroclor 1254",null,{"$f":"COUNTIF(Alcance!E280,E$8)","v":0},{"$f":"COUNTIF(Alcance!E280,F$8)","v":0},{"$f":"COUNTIF(Alcance!E280,G$8)","v":0},{"$f":"COUNTIF(Alcance!E280,H$8)","v":0},0,1,0]
["PCB s en Agua",null,"Aroclor 1260",null,{"$f":"COUNTIF(Alcance!E281,E$8)","v":0},{"$f":"COUNTIF(Alcance!E281,F$8)","v":0},{"$f":"COUNTIF(Alcance!E281,G$8)","v":0},{"$f":"COUNTIF(Alcance!E281,H$8)","v":0},0,1,0]
["Herbicidas",null,"Pentaclorofenol",null,{"$f":"COUNTIF(Alcance!E282,E$8)","v":0},{"$f":"COUNTIF(Alcance!E282,F$8)","v":0},{"$f":"COUNTIF(Alcance!E282,G$8)","v":0},{"$f":"COUNTIF(Alcance!E282,H$8)","v":0},0,0.5,0]
["Herbicidas",null,"Acifluorfen",null,{"$f":"COUNTIF(Alcance!E283,E$8)","v":0},{"$f":"COUNTIF(Alcance!E283,F$8)","v":0},{"$f":"COUNTIF(Alcance!E283,G$8)","v":0},{"$f":"COUNTIF(Alcance!E283,H$8)","v":0},0,0.5,0]
["Herbicidas",null,"Bentazon",null,{"$f":"COUNTIF(Alcance!E284,E$8)","v":0},{"$f":"COUNTIF(Alcance!E284,F$8)","v":0},{"$f":"COUNTIF(Alcance!E284,G$8)","v":0},{"$f":"COUNTIF(Alcance!E284,H$8)","v":0},0,0.5,0]
["Herbicidas",null,"2,4-D Total",null,{"$f":"COUNTIF(Alcance!E285,E$8)","v":0},{"$f":"COUNTIF(Alcance!E285,F$8)","v":0},{"$f":"COUNTIF(Alcance!E285,G$8)","v":0},{"$f":"COUNTIF(Alcance!E285,H$8)","v":0},0,0.5,0]
["Herbicidas",null,"2,4-DB",null,{"$f":"COUNTIF(Alcance!E286,E$8)","v":0},{"$f":"COUNTIF(Alcance!E286,F$8)","v":0},{"$f":"COUNTIF(Alcance!E286,G$8)","v":0},{"$f":"COUNTIF(Alcance!E286,H$8)","v":0},0,0.5,0]
["Herbicidas",null,"Dicamba",null,{"$f":"COUNTIF(Alcance!E287,E$8)","v":0},{"$f":"COUNTIF(Alcance!E287,F$8)","v":0},{"$f":"COUNTIF(Alcance!E287,G$8)","v":0},{"$f":"COUNTIF(Alcance!E287,H$8)","v":0},0,0.5,0]
["Herbicidas",null,"Acido 3,5-diclorobenzoico",null,{"$f":"COUNTIF(Alcance!E288,E$8)","v":0},{"$f":"COUNTIF(Alcance!E288,F$8)","v":0},{"$f":"COUNTIF(Alcance!E288,G$8)","v":0},{"$f":"COUNTIF(Alcance!E288,H$8)","v":0},0,0.5,0]
["Herbicidas",null,"Dicloroprop",null,{"$f":"COUNTIF(Alcance!E289,E$8)","v":0},{"$f":"COUNTIF(Alcance!E289,F$8)","v":0},{"$f":"COUNTIF(Alcance!E289,G$8)","v":0},{"$f":"COUNTIF(Alcance!E289,H$8)","v":0},0,0.5,0]
["Herbicidas",null,"Dinoseb",null,{"$f":"COUNTIF(Alcance!E290,E$8)","v":0},{"$f":"COUNTIF(Alcance!E290,F$8)","v":0},{"$f":"COUNTIF(Alcance!E290,G$8)","v":0},{"$f":"COUNTIF(Alcance!E290,H$8)","v":0},0,0.5,0]
["Herbicidas",null,"5-Hidroxicamba",null,{"$f":"COUNTIF(Alcance!E291,E$8)","v":0},{"$f":"COUNTIF(Alcance!E291,F$8)","v":0},{"$f":"COUNTIF(Alcance!E291,G$8)","v":0},{"$f":"COUNTIF(Alcance!E291,H$8)","v":0},0,0.5,0]
["Herbicidas",null,"Picloram",null,{"$f":"COUNTIF(Alcance!E292,E$8)","v":0},{"$f":"COUNTIF(Alcance!E292,F$8)","v":0},{"$f":"COUNTIF(Alcance!E292,G$8)","v":0},{"$f":"COUNTIF(Alcance!E292,H$8)","v":0},0,0.5,0]
["Herbicidas",null,"Silvex",null,{"$f":"COUNTIF(Alcance!E293,E$8)","v":0},{"$f":"COUNTIF(Alcance!E293,F$8)","v":0},{"$f":"COUNTIF(Alcance!E293,G$8)","v":0},{"$f":"COUNTIF(Alcance!E293,H$8)","v":0},0,0.5,0]
["Herbicidas",null,"2,4,5-T",null,{"$f":"COUNTIF(Alcance!E294,E$8)","v":0},{"$f":"COUNTIF(Alcance!E294,F$8)","v":0},{"$f":"COUNTIF(Alcance!E294,G$8)","v":0},{"$f":"COUNTIF(Alcance!E294,H$8)","v":0},0,0.5,0]
["Herbicidas",null,"Diquat",null,{"$f":"COUNTIF(Alcance!E295,E$8)","v":0},{"$f":"COUNTIF(Alcance!E295,F$8)","v":0},{"$f":"COUNTIF(Alcance!E295,G$8)","v":0},{"$f":"COUNTIF(Alcance!E295,H$8)","v":0},0,0.5,0]
["Herbicidas",null,"Endotal",null,{"$f":"COUNTIF(Alcance!E296,E$8)","v":0},{"$f":"COUNTIF(Alcance!E296,F$8)","v":0},{"$f":"COUNTIF(Alcance!E296,G$8)","v":0},{"$f":"COUNTIF(Alcance!E296,H$8)","v":0},0,0.5,0]
["Herbicidas",null,"Glifosato",null,{"$f":"COUNTIF(Alcance!E297,E$8)","v":0},{"$f":"COUNTIF(Alcance!E297,F$8)","v":0},{"$f":"COUNTIF(Alcance!E297,G$8)","v":0},{"$f":"COUNTIF(Alcance!E297,H$8)","v":0},0,0.5,0]
["Herbicidas",null,"Paraquat",null,{"$f":"COUNTIF(Alcance!E298,E$8)","v":0},{"$f":"COUNTIF(Alcance!E298,F$8)","v":0},{"$f":"COUNTIF(Alcance!E298,G$8)","v":0},{"$f":"COUNTIF(Alcance!E298,H$8)","v":0},0,0.5,0]
["Toxafeno",null,"Toxafeno",null,{"$f":"COUNTIF(Alcance!E299,E$8)","v":0},{"$f":"COUNTIF(Alcance!E299,F$8)","v":0},{"$f":"COUNTIF(Alcance!E299,G$8)","v":0},{"$f":"COUNTIF(Alcance!E299,H$8)","v":0},0,1,0]
["Clordano",null,"Clordano Total",null,{"$f":"COUNTIF(Alcance!E300,E$8)","v":0},{"$f":"COUNTIF(Alcance!E300,F$8)","v":0},{"$f":"COUNTIF(Alcance!E300,G$8)","v":0},{"$f":"COUNTIF(Alcance!E300,H$8)","v":0},0,1,0]
["Carbamatos",null,"Aldicarb sulfona",null,{"$f":"COUNTIF(Alcance!E301,E$8)","v":0},{"$f":"COUNTIF(Alcance!E301,F$8)","v":0},{"$f":"COUNTIF(Alcance!E301,G$8)","v":0},{"$f":"COUNTIF(Alcance!E301,H$8)","v":0},0,0.5,0]
["Carbamatos",null,"Aldicarb sulfoxido",null,{"$f":"COUNTIF(Alcance!E302,E$8)","v":0},{"$f":"COUNTIF(Alcance!E302,F$8)","v":0},{"$f":"COUNTIF(Alcance!E302,G$8)","v":0},{"$f":"COUNTIF(Alcance!E302,H$8)","v":0},0,0.5,0]
["Carbamatos",null,"Carbaril (Sevin)",null,{"$f":"COUNTIF(Alcance!E303,E$8)","v":0},{"$f":"COUNTIF(Alcance!E303,F$8)","v":0},{"$f":"COUNTIF(Alcance!E303,G$8)","v":0},{"$f":"COUNTIF(Alcance!E303,H$8)","v":0},0,0.5,0]
["Carbamatos",null,"Carbofurano (Furaden)",null,{"$f":"COUNTIF(Alcance!E304,E$8)","v":0},{"$f":"COUNTIF(Alcance!E304,F$8)","v":0},{"$f":"COUNTIF(Alcance!E304,G$8)","v":0},{"$f":"COUNTIF(Alcance!E304,H$8)","v":0},0,0.5,0]
["Carbamatos",null,"Diuron",null,{"$f":"COUNTIF(Alcance!E305,E$8)","v":0},{"$f":"COUNTIF(Alcance!E305,F$8)","v":0},{"$f":"COUNTIF(Alcance!E305,G$8)","v":0},{"$f":"COUNTIF(Alcance!E305,H$8)","v":0},0,0.5,0]
["Carbamatos",null,"3-Hidroxicarbofurano",null,{"$f":"COUNTIF(Alcance!E306,E$8)","v":0},{"$f":"COUNTIF(Alcance!E306,F$8)","v":0},{"$f":"COUNTIF(Alcance!E306,G$8)","v":0},{"$f":"COUNTIF(Alcance!E306,H$8)","v":0},0,0.5,0]
["Carbamatos",null,"Metiocarb (Mesurol)",null,{"$f":"COUNTIF(Alcance!E307,E$8)","v":0},{"$f":"COUNTIF(Alcance!E307,F$8)","v":0},{"$f":"COUNTIF(Alcance!E307,G$8)","v":0},{"$f":"COUNTIF(Alcance!E307,H$8)","v":0},0,0.5,0]
["Carbamatos",null,"Metomil (Lannate)",null,{"$f":"COUNTIF(Alcance!E308,E$8)","v":0},{"$f":"COUNTIF(Alcance!E308,F$8)","v":0},{"$f":"COUNTIF(Alcance!E308,G$8)","v":0},{"$f":"COUNTIF(Alcance!E308,H$8)","v":0},0,0.5,0]
["Carbamatos",null,"Oxamil",null,{"$f":"COUNTIF(Alcance!E309,E$8)","v":0},{"$f":"COUNTIF(Alcance!E309,F$8)","v":0},{"$f":"COUNTIF(Alcance!E309,G$8)","v":0},{"$f":"COUNTIF(Alcance!E309,H$8)","v":0},0,0.5,0]
["Carbamatos",null,"Profam",null,{"$f":"COUNTIF(Alcance!E310,E$8)","v":0},{"$f":"COUNTIF(Alcance!E310,F$8)","v":0},{"$f":"COUNTIF(Alcance!E310,G$8)","v":0},{"$f":"COUNTIF(Alcance!E310,H$8)","v":0},0,0.5,0]
["Carbamatos",null,"Propoxur (Baygon)",null,{"$f":"COUNTIF(Alcance!E311,E$8)","v":0},{"$f":"COUNTIF(Alcance!E311,F$8)","v":0},{"$f":"COUNTIF(Alcance!E311,G$8)","v":0},{"$f":"COUNTIF(Alcance!E311,H$8)","v":0},0,0.5,0]
["Hidrocarburos Aromáticos Policíclicos (PAHs)",null,"Naftaleno",null,{"$f":"COUNTIF(Alcance!E312,E$8)","v":0},{"$f":"COUNTIF(Alcance!E312,F$8)","v":0},{"$f":"COUNTIF(Alcance!E312,G$8)","v":0},{"$f":"COUNTIF(Alcance!E312,H$8)","v":0},0,0.5,0]
["Hidrocarburos Aromáticos Policíclicos (PAHs)",null,"Acenafteno",null,{"$f":"COUNTIF(Alcance!E313,E$8)","v":0},{"$f":"COUNTIF(Alcance!E313,F$8)","v":0},{"$f":"COUNTIF(Alcance!E313,G$8)","v":0},{"$f":"COUNTIF(Alcance!E313,H$8)","v":0},0,0.5,0]
["Hidrocarburos Aromáticos Policíclicos (PAHs)",null,"Acenaftileno",null,{"$f":"COUNTIF(Alcance!E314,E$8)","v":0},{"$f":"COUNTIF(Alcance!E314,F$8)","v":0},{"$f":"COUNTIF(Alcance!E314,G$8)","v":0},{"$f":"COUNTIF(Alcance!E314,H$8)","v":0},0,0.5,0]
["Hidrocarburos Aromáticos Policíclicos (PAHs)",null,"Antraceno",null,{"$f":"COUNTIF(Alcance!E315,E$8)","v":0},{"$f":"COUNTIF(Alcance!E315,F$8)","v":0},{"$f":"COUNTIF(Alcance!E315,G$8)","v":0},{"$f":"COUNTIF(Alcance!E315,H$8)","v":0},0,0.5,0]
["Hidrocarburos Aromáticos Policíclicos (PAHs)",null,"Benzo (a)antraceno",null,{"$f":"COUNTIF(Alcance!E316,E$8)","v":0},{"$f":"COUNTIF(Alcance!E316,F$8)","v":0},{"$f":"COUNTIF(Alcance!E316,G$8)","v":0},{"$f":"COUNTIF(Alcance!E316,H$8)","v":0},0,0.5,0]
["Hidrocarburos Aromáticos Policíclicos (PAHs)",null,"Benzo (a)pireno",null,{"$f":"COUNTIF(Alcance!E317,E$8)","v":0},{"$f":"COUNTIF(Alcance!E317,F$8)","v":0},{"$f":"COUNTIF(Alcance!E317,G$8)","v":0},{"$f":"COUNTIF(Alcance!E317,H$8)","v":0},0,0.5,0]
["Hidrocarburos Aromáticos Policíclicos (PAHs)",null,"Benzo (b)fluoranteno",null,{"$f":"COUNTIF(Alcance!E318,E$8)","v":0},{"$f":"COUNTIF(Alcance!E318,F$8)","v":0},{"$f":"COUNTIF(Alcance!E318,G$8)","v":0},{"$f":"COUNTIF(Alcance!E318,H$8)","v":0},0,0.5,0]
["Hidrocarburos Aromáticos Policíclicos (PAHs)",null,"Benzo (j)fluoranteno",null,{"$f":"COUNTIF(Alcance!E319,E$8)","v":0},{"$f":"COUNTIF(Alcance!E319,F$8)","v":0},{"$f":"COUNTIF(Alcance!E319,G$8)","v":0},{"$f":"COUNTIF(Alcance!E319,H$8)","v":0},0,0.5,0]
["Hidrocarburos Aromáticos Policíclicos (PAHs)",null,"Benzo (k)fluoranteno",null,{"$f":"COUNTIF(Alcance!E320,E$8)","v":0},{"$f":"COUNTIF(Alcance!E320,F$8)","v":0},{"$f":"COUNTIF(Alcance!E320,G$8)","v":0},{"$f":"COUNTIF(Alcance!E320,H$8)","v":0},0,0.5,0]
["Hidrocarburos Aromáticos Policíclicos (PAHs)",null,"Benzo (g,h,i) perileno",null,{"$f":"COUNTIF(Alcance!E321,E$8)","v":0},{"$f":"COUNTIF(Alcance!E321,F$8)","v":0},{"$f":"COUNTIF(Alcance!E321,G$8)","v":0},{"$f":"COUNTIF(Alcance!E321,H$8)","v":0},0,0.5,0]
["Hidrocarburos Aromáticos Policíclicos (PAHs)",null,"Criseno",null,{"$f":"COUNTIF(Alcance!E322,E$8)","v":0},{"$f":"COUNTIF(Alcance!E322,F$8)","v":0},{"$f":"COUNTIF(Alcance!E322,G$8)","v":0},{"$f":"COUNTIF(Alcance!E322,H$8)","v":0},0,0.5,0]
["Hidrocarburos Aromáticos Policíclicos (PAHs)",null,"Dibenz (a,h)antraceno",null,{"$f":"COUNTIF(Alcance!E323,E$8)","v":0},{"$f":"COUNTIF(Alcance!E323,F$8)","v":0},{"$f":"COUNTIF(Alcance!E323,G$8)","v":0},{"$f":"COUNTIF(Alcance!E323,H$8)","v":0},0,0.5,0]
["Hidrocarburos Aromáticos Policíclicos (PAHs)",null,"Fluoranteno",null,{"$f":"COUNTIF(Alcance!E324,E$8)","v":0},{"$f":"COUNTIF(Alcance!E324,F$8)","v":0},{"$f":"COUNTIF(Alcance!E324,G$8)","v":0},{"$f":"COUNTIF(Alcance!E324,H$8)","v":0},0,0.5,0]
["Hidrocarburos Aromáticos Policíclicos (PAHs)",null,"Fluoreno",null,{"$f":"COUNTIF(Alcance!E325,E$8)","v":0},{"$f":"COUNTIF(Alcance!E325,F$8)","v":0},{"$f":"COUNTIF(Alcance!E325,G$8)","v":0},{"$f":"COUNTIF(Alcance!E325,H$8)","v":0},0,0.5,0]
["Hidrocarburos Aromáticos Policíclicos (PAHs)",null,"Indenol (1,2,3-cd)pireno",null,{"$f":"COUNTIF(Alcance!E326,E$8)","v":0},{"$f":"COUNTIF(Alcance!E326,F$8)","v":0},{"$f":"COUNTIF(Alcance!E326,G$8)","v":0},{"$f":"COUNTIF(Alcance!E326,H$8)","v":0},0,0.5,0]
["Hidrocarburos Aromáticos Policíclicos (PAHs)",null,"3-Metilcolantreno",null,{"$f":"COUNTIF(Alcance!E327,E$8)","v":0},{"$f":"COUNTIF(Alcance!E327,F$8)","v":0},{"$f":"COUNTIF(Alcance!E327,G$8)","v":0},{"$f":"COUNTIF(Alcance!E327,H$8)","v":0},0,0.5,0]
["Hidrocarburos Aromáticos Policíclicos (PAHs)",null,"Fenantreno",null,{"$f":"COUNTIF(Alcance!E328,E$8)","v":0},{"$f":"COUNTIF(Alcance!E328,F$8)","v":0},{"$f":"COUNTIF(Alcance!E328,G$8)","v":0},{"$f":"COUNTIF(Alcance!E328,H$8)","v":0},0,0.5,0]
["Hidrocarburos Aromáticos Policíclicos (PAHs)",null,"Pireno",null,{"$f":"COUNTIF(Alcance!E329,E$8)","v":0},{"$f":"COUNTIF(Alcance!E329,F$8)","v":0},{"$f":"COUNTIF(Alcance!E329,G$8)","v":0},{"$f":"COUNTIF(Alcance!E329,H$8)","v":0},0,0.5,0]
["TPH (Hidrocarburos derivados del petróleo)",null,"Hidrocarburos",null,{"$f":"COUNTIF(Alcance!E330,E$8)","v":0},{"$f":"COUNTIF(Alcance!E330,F$8)","v":0},{"$f":"COUNTIF(Alcance!E330,G$8)","v":0},{"$f":"COUNTIF(Alcance!E330,H$8)","v":0},0,1,0]
["TPH (Hidrocarburos derivados del petróleo)",null,"Hidrocarburos del Petróleo (Fracción GRO)",null,{"$f":"COUNTIF(Alcance!E331,E$8)","v":0},{"$f":"COUNTIF(Alcance!E331,F$8)","v":0},{"$f":"COUNTIF(Alcance!E331,G$8)","v":0},{"$f":"COUNTIF(Alcance!E331,H$8)","v":0},0,5,0]
["TPH (Hidrocarburos derivados del petróleo)",null,"Hidrocarburos del Petróleo (Fracción DRO)",null,{"$f":"COUNTIF(Alcance!E332,E$8)","v":0},{"$f":"COUNTIF(Alcance!E332,F$8)","v":0},{"$f":"COUNTIF(Alcance!E332,G$8)","v":0},{"$f":"COUNTIF(Alcance!E332,H$8)","v":0},0,5,0]
["Compuestos Orgánicos Halogenados Absorbibles",null,"AOX",null,{"$f":"COUNTIF(Alcance!E333,E$8)","v":0},{"$f":"COUNTIF(Alcance!E333,F$8)","v":0},{"$f":"COUNTIF(Alcance!E333,G$8)","v":0},{"$f":"COUNTIF(Alcance!E333,H$8)","v":0},0,1,0]
["Haluros Orgánicos Totales",null,"TOX ",null,{"$f":"COUNTIF(Alcance!E334,E$8)","v":0},{"$f":"COUNTIF(Alcance!E334,F$8)","v":0},{"$f":"COUNTIF(Alcance!E334,G$8)","v":0},{"$f":"COUNTIF(Alcance!E334,H$8)","v":0},0,1,0]
["Toma de muestra simple o puntual",null,"pH",null,{"$f":"COUNTIF(Alcance!E335,E$8)","v":0},{"$f":"COUNTIF(Alcance!E335,F$8)","v":0},{"$f":"COUNTIF(Alcance!E335,G$8)","v":0},{"$f":"COUNTIF(Alcance!E335,H$8)","v":0},0,2.5,{"$f":"IF(I335+I344>1,0,IF(I335>0,J335,IF(I336+I345>1,0,IF(I336>0,J335,IF(I337+I346>1,0,IF(I337>0,J335,IF(I338+I347>1,0,IF(I338>0,J335,IF(I339+I348>1,0,IF(I339>0,J335,IF(I340+I349>1,0,IF(I340>0,J335,IF(I341+I350>1,0,IF(I341>0,J335,IF(I342+I351>1,0,IF(I342>0,J335,IF(I343+I352>1,0,IF(I343>0,J335,0))))))))))))))))))","v":0}]
["Toma de muestra simple o puntual",null,"Temperatura",null,{"$f":"COUNTIF(Alcance!E336,E$8)","v":0},{"$f":"COUNTIF(Alcance!E336,F$8)","v":0},{"$f":"COUNTIF(Alcance!E336,G$8)","v":0},{"$f":"COUNTIF(Alcance!E336,H$8)","v":0},0]
["Toma de muestra simple o puntual",null,"Conductividad Eléctrica",null,{"$f":"COUNTIF(Alcance!E337,E$8)","v":0},{"$f":"COUNTIF(Alcance!E337,F$8)","v":0},{"$f":"COUNTIF(Alcance!E337,G$8)","v":0},{"$f":"COUNTIF(Alcance!E337,H$8)","v":0},0]
["Toma de muestra simple o puntual",null,"Dióxido de Carbono in situ",null,{"$f":"COUNTIF(Alcance!E338,E$8)","v":0},{"$f":"COUNTIF(Alcance!E338,F$8)","v":0},{"$f":"COUNTIF(Alcance!E338,G$8)","v":0},{"$f":"COUNTIF(Alcance!E338,H$8)","v":0},0]
["Toma de muestra simple o puntual",null,"Oxigeno Disuelto (Membarana y Luminiscencia)",null,{"$f":"COUNTIF(Alcance!E339,E$8)","v":0},{"$f":"COUNTIF(Alcance!E339,F$8)","v":0},{"$f":"COUNTIF(Alcance!E339,G$8)","v":0},{"$f":"COUNTIF(Alcance!E339,H$8)","v":0},0]
["Toma de muestra simple o puntual",null,"Cloro Residual",null,{"$f":"COUNTIF(Alcance!E340,E$8)","v":0},{"$f":"COUNTIF(Alcance!E340,F$8)","v":0},{"$f":"COUNTIF(Alcance!E340,G$8)","v":0},{"$f":"COUNTIF(Alcance!E340,H$8)","v":0},0]
["Toma de muestra simple o puntual",null,"Cloro Total",null,{"$f":"COUNTIF(Alcance!E341,E$8)","v":0},{"$f":"COUNTIF(Alcance!E341,F$8)","v":0},{"$f":"COUNTIF(Alcance!E341,G$8)","v":0},{"$f":"COUNTIF(Alcance!E341,H$8)","v":0},0]
["Toma de muestra simple o puntual",null,"Sólidos Sedimentables",null,{"$f":"COUNTIF(Alcance!E342,E$8)","v":0},{"$f":"COUNTIF(Alcance!E342,F$8)","v":0},{"$f":"COUNTIF(Alcance!E342,G$8)","v":0},{"$f":"COUNTIF(Alcance!E342,H$8)","v":0},0]
["Toma de muestra simple o puntual",null,"Caudal",null,{"$f":"COUNTIF(Alcance!E343,E$8)","v":0},{"$f":"COUNTIF(Alcance!E343,F$8)","v":0},{"$f":"COUNTIF(Alcance!E343,G$8)","v":0},{"$f":"COUNTIF(Alcance!E343,H$8)","v":0},0]
["Toma de muestra compuesta",null,"pH",null,{"$f":"COUNTIF(Alcance!E344,E$8)","v":0},{"$f":"COUNTIF(Alcance!E344,F$8)","v":0},{"$f":"COUNTIF(Alcance!E344,G$8)","v":0},{"$f":"COUNTIF(Alcance!E344,H$8)","v":0},0,5,{"$f":"IF(SUM(I344:I352)>0,J344,0)","v":0}]
["Toma de muestra compuesta",null,"Temperatura",null,{"$f":"COUNTIF(Alcance!E345,E$8)","v":0},{"$f":"COUNTIF(Alcance!E345,F$8)","v":0},{"$f":"COUNTIF(Alcance!E345,G$8)","v":0},{"$f":"COUNTIF(Alcance!E345,H$8)","v":0},0]
["Toma de muestra compuesta",null,"Conductividad Eléctrica",null,{"$f":"COUNTIF(Alcance!E346,E$8)","v":0},{"$f":"COUNTIF(Alcance!E346,F$8)","v":0},{"$f":"COUNTIF(Alcance!E346,G$8)","v":0},{"$f":"COUNTIF(Alcance!E346,H$8)","v":0},0]
["Toma de muestra compuesta",null,"Dióxido de Carbono in situ",null,{"$f":"COUNTIF(Alcance!E347,E$8)","v":0},{"$f":"COUNTIF(Alcance!E347,F$8)","v":0},{"$f":"COUNTIF(Alcance!E347,G$8)","v":0},{"$f":"COUNTIF(Alcance!E347,H$8)","v":0},0]
["Toma de muestra compuesta",null,"Oxigeno Disuelto",null,{"$f":"COUNTIF(Alcance!E348,E$8)","v":0},{"$f":"COUNTIF(Alcance!E348,F$8)","v":0},{"$f":"COUNTIF(Alcance!E348,G$8)","v":0},{"$f":"COUNTIF(Alcance!E348,H$8)","v":0},0]
["Toma de muestra compuesta",null,"Cloro Residual",null,{"$f":"COUNTIF(Alcance!E349,E$8)","v":0},{"$f":"COUNTIF(Alcance!E349,F$8)","v":0},{"$f":"COUNTIF(Alcance!E349,G$8)","v":0},{"$f":"COUNTIF(Alcance!E349,H$8)","v":0},0]
["Toma de muestra compuesta",null,"Cloro Total",null,{"$f":"COUNTIF(Alcance!E350,E$8)","v":0},{"$f":"COUNTIF(Alcance!E350,F$8)","v":0},{"$f":"COUNTIF(Alcance!E350,G$8)","v":0},{"$f":"COUNTIF(Alcance!E350,H$8)","v":0},0]
["Toma de muestra compuesta",null,"Sólidos Sedimentables",null,{"$f":"COUNTIF(Alcance!E351,E$8)","v":0},{"$f":"COUNTIF(Alcance!E351,F$8)","v":0},{"$f":"COUNTIF(Alcance!E351,G$8)","v":0},{"$f":"COUNTIF(Alcance!E351,H$8)","v":0},0]
["Toma de muestra compuesta",null,"Caudal",null,{"$f":"COUNTIF(Alcance!E352,E$8)","v":0},{"$f":"COUNTIF(Alcance!E352,F$8)","v":0},{"$f":"COUNTIF(Alcance!E352,G$8)","v":0},{"$f":"COUNTIF(Alcance!E352,H$8)","v":0},0]
["Toma de Muestra Integrada en Cuerpo Lótico",null,"pH",null,{"$f":"COUNTIF(Alcance!E353,E$8)","v":0},{"$f":"COUNTIF(Alcance!E353,F$8)","v":0},{"$f":"COUNTIF(Alcance!E353,G$8)","v":0},{"$f":"COUNTIF(Alcance!E353,H$8)","v":0},0,5,{"$f":"IF(SUM(I353:I361)>0,J353,0)","v":0}]
["Toma de Muestra Integrada en Cuerpo Lótico",null,"Temperatura",null,{"$f":"COUNTIF(Alcance!E354,E$8)","v":0},{"$f":"COUNTIF(Alcance!E354,F$8)","v":0},{"$f":"COUNTIF(Alcance!E354,G$8)","v":0},{"$f":"COUNTIF(Alcance!E354,H$8)","v":0},0]
["Toma de Muestra Integrada en Cuerpo Lótico",null,"Conductividad Eléctrica",null,{"$f":"COUNTIF(Alcance!E355,E$8)","v":0},{"$f":"COUNTIF(Alcance!E355,F$8)","v":0},{"$f":"COUNTIF(Alcance!E355,G$8)","v":0},{"$f":"COUNTIF(Alcance!E355,H$8)","v":0},0]
["Toma de Muestra Integrada en Cuerpo Lótico",null,"Dióxido de Carbono in situ",null,{"$f":"COUNTIF(Alcance!E356,E$8)","v":0},{"$f":"COUNTIF(Alcance!E356,F$8)","v":0},{"$f":"COUNTIF(Alcance!E356,G$8)","v":0},{"$f":"COUNTIF(Alcance!E356,H$8)","v":0},0]
["Toma de Muestra Integrada en Cuerpo Lótico",null,"Oxigeno Disuelto (Membrana y Luminiscencia)",null,{"$f":"COUNTIF(Alcance!E357,E$8)","v":0},{"$f":"COUNTIF(Alcance!E357,F$8)","v":0},{"$f":"COUNTIF(Alcance!E357,G$8)","v":0},{"$f":"COUNTIF(Alcance!E357,H$8)","v":0},0]
["Toma de Muestra Integrada en Cuerpo Lótico",null,"Cloro Residual",null,{"$f":"COUNTIF(Alcance!E358,E$8)","v":0},{"$f":"COUNTIF(Alcance!E358,F$8)","v":0},{"$f":"COUNTIF(Alcance!E358,G$8)","v":0},{"$f":"COUNTIF(Alcance!E358,H$8)","v":0},0]
["Toma de Muestra Integrada en Cuerpo Lótico",null,"Cloro Total",null,{"$f":"COUNTIF(Alcance!E359,E$8)","v":0},{"$f":"COUNTIF(Alcance!E359,F$8)","v":0},{"$f":"COUNTIF(Alcance!E359,G$8)","v":0},{"$f":"COUNTIF(Alcance!E359,H$8)","v":0},0]
["Toma de Muestra Integrada en Cuerpo Lótico",null,"Sólidos Sedimentables",null,{"$f":"COUNTIF(Alcance!E360,E$8)","v":0},{"$f":"COUNTIF(Alcance!E360,F$8)","v":0},{"$f":"COUNTIF(Alcance!E360,G$8)","v":0},{"$f":"COUNTIF(Alcance!E360,H$8)","v":0},0]
["Toma de Muestra Integrada en Cuerpo Lótico",null,"Caudal",null,{"$f":"COUNTIF(Alcance!E361,E$8)","v":0},{"$f":"COUNTIF(Alcance!E361,F$8)","v":0},{"$f":"COUNTIF(Alcance!E361,G$8)","v":0},{"$f":"COUNTIF(Alcance!E361,H$8)","v":0},0]
["Toma de Muestra Integrada en Cuerpo Léntico",null,"pH",null,{"$f":"COUNTIF(Alcance!E362,E$8)","v":0},{"$f":"COUNTIF(Alcance!E362,F$8)","v":0},{"$f":"COUNTIF(Alcance!E362,G$8)","v":0},{"$f":"COUNTIF(Alcance!E362,H$8)","v":0},0,5,{"$f":"IF(SUM(I362:I369)>0,J362,0)","v":0}]
["Toma de Muestra Integrada en Cuerpo Léntico",null,"Temperatura",null,{"$f":"COUNTIF(Alcance!E363,E$8)","v":0},{"$f":"COUNTIF(Alcance!E363,F$8)","v":0},{"$f":"COUNTIF(Alcance!E363,G$8)","v":0},{"$f":"COUNTIF(Alcance!E363,H$8)","v":0},0]
["Toma de Muestra Integrada en Cuerpo Léntico",null,"Conductividad Eléctrica",null,{"$f":"COUNTIF(Alcance!E364,E$8)","v":0},{"$f":"COUNTIF(Alcance!E364,F$8)","v":0},{"$f":"COUNTIF(Alcance!E364,G$8)","v":0},{"$f":"COUNTIF(Alcance!E364,H$8)","v":0},0]
["Toma de Muestra Integrada en Cuerpo Léntico",null,"Dióxido de Carbono in situ",null,{"$f":"COUNTIF(Alcance!E365,E$8)","v":0},{"$f":"COUNTIF(Alcance!E365,F$8)","v":0},{"$f":"COUNTIF(Alcance!E365,G$8)","v":0},{"$f":"COUNTIF(Alcance!E365,H$8)","v":0},0]
["Toma de Muestra Integrada en Cuerpo Léntico",null,"Oxigeno Disuelto (Membrana y Luminiscencia)",null,{"$f":"COUNTIF(Alcance!E366,E$8)","v":0},{"$f":"COUNTIF(Alcance!E366,F$8)","v":0},{"$f":"COUNTIF(Alcance!E366,G$8)","v":0},{"$f":"COUNTIF(Alcance!E366,H$8)","v":0},0]
["Toma de Muestra Integrada en Cuerpo Léntico",null,"Cloro Residual",null,{"$f":"COUNTIF(Alcance!E367,E$8)","v":0},{"$f":"COUNTIF(Alcance!E367,F$8)","v":0},{"$f":"COUNTIF(Alcance!E367,G$8)","v":0},{"$f":"COUNTIF(Alcance!E367,H$8)","v":0},0]
["Toma de Muestra Integrada en Cuerpo Léntico",null,"Cloro Total",null,{"$f":"COUNTIF(Alcance!E368,E$8)","v":0},{"$f":"COUNTIF(Alcance!E368,F$8)","v":0},{"$f":"COUNTIF(Alcance!E368,G$8)","v":0},{"$f":"COUNTIF(Alcance!E368,H$8)","v":0},0]
["Toma de Muestra Integrada en Cuerpo Léntico",null,"Sólidos Sedimentables",null,{"$f":"COUNTIF(Alcance!E369,E$8)","v":0},{"$f":"COUNTIF(Alcance!E369,F$8)","v":0},{"$f":"COUNTIF(Alcance!E369,G$8)","v":0},{"$f":"COUNTIF(Alcance!E369,H$8)","v":0},0]
["Toma de muestra en aguas subterraneas",null,"pH",null,{"$f":"COUNTIF(Alcance!E370,E$8)","v":0},{"$f":"COUNTIF(Alcance!E370,F$8)","v":0},{"$f":"COUNTIF(Alcance!E370,G$8)","v":0},{"$f":"COUNTIF(Alcance!E370,H$8)","v":0},0,5,{"$f":"IF(SUM(I370:I377)>0,J370,0)","v":0}]
["Toma de muestra en aguas subterraneas",null,"Temperatura",null,{"$f":"COUNTIF(Alcance!E371,E$8)","v":0},{"$f":"COUNTIF(Alcance!E371,F$8)","v":0},{"$f":"COUNTIF(Alcance!E371,G$8)","v":0},{"$f":"COUNTIF(Alcance!E371,H$8)","v":0},0]
["Toma de muestra en aguas subterraneas",null,"Conductividad Eléctrica",null,{"$f":"COUNTIF(Alcance!E372,E$8)","v":0},{"$f":"COUNTIF(Alcance!E372,F$8)","v":0},{"$f":"COUNTIF(Alcance!E372,G$8)","v":0},{"$f":"COUNTIF(Alcance!E372,H$8)","v":0},0]
["Toma de muestra en aguas subterraneas",null,"Dióxido de Carbono in situ",null,{"$f":"COUNTIF(Alcance!E373,E$8)","v":0},{"$f":"COUNTIF(Alcance!E373,F$8)","v":0},{"$f":"COUNTIF(Alcance!E373,G$8)","v":0},{"$f":"COUNTIF(Alcance!E373,H$8)","v":0},0]
["Toma de muestra en aguas subterraneas",null,"Oxigeno Disuelto (Membrana y Luminiscencia)",null,{"$f":"COUNTIF(Alcance!E374,E$8)","v":0},{"$f":"COUNTIF(Alcance!E374,F$8)","v":0},{"$f":"COUNTIF(Alcance!E374,G$8)","v":0},{"$f":"COUNTIF(Alcance!E374,H$8)","v":0},0]
["Toma de muestra en aguas subterraneas",null,"Cloro Residual",null,{"$f":"COUNTIF(Alcance!E375,E$8)","v":0},{"$f":"COUNTIF(Alcance!E375,F$8)","v":0},{"$f":"COUNTIF(Alcance!E375,G$8)","v":0},{"$f":"COUNTIF(Alcance!E375,H$8)","v":0},0,null,null,"Total Parámetros Calculados"]
["Toma de muestra en aguas subterraneas",null,"Cloro Total",null,{"$f":"COUNTIF(Alcance!E376,E$8)","v":0},{"$f":"COUNTIF(Alcance!E376,F$8)","v":0},{"$f":"COUNTIF(Alcance!E376,G$8)","v":0},{"$f":"COUNTIF(Alcance!E376,H$8)","v":0},0]
["Toma de muestra en aguas subterraneas",null,"Sólidos Sedimentables",null,{"$f":"COUNTIF(Alcance!E377,E$8)","v":0},{"$f":"COUNTIF(Alcance!E377,F$8)","v":0},{"$f":"COUNTIF(Alcance!E377,G$8)","v":0},{"$f":"COUNTIF(Alcance!E377,H$8)","v":0},0]
["Variables adicionales en aguas continentales",null,"Especificado por el usuario",null,{"$f":"COUNTIF(Alcance!$E$378:$F$453,'Conteo y Equivalencias'!E$8)","v":0},{"$f":"COUNTIF(Alcance!$E$378:$F$453,'Conteo y Equivalencias'!F$8)","v":0},{"$f":"COUNTIF(Alcance!$E$378:$F$453,'Conteo y Equivalencias'!G$8)","v":0},{"$f":"COUNTIF(Alcance!$E$378:$F$453,'Conteo y Equivalencias'!H$8)","v":0},0,1,{"$f":"I378*J378","v":0},null,{"$f":"SUM(K9:K378)","v":0}]
["TOTALES",null,null,null,{"$f":"SUM(E9:E378)","v":0},0,0,0,0]
[]
["MATRIZ AGUA MARINAS"]
["18. Matriz / Grupo",null,"19. Variable",null,"INICIAL","SEGUIMIENTO","RENOVACIÓN","EXTENSIÓN","Total Variables","Equivalencia en Parámetros","Parámetros Calculados"]
["Iones Principales o Minerales",null,"Alcalinidad total",null,{"$f":"COUNTIF(Alcance!$C458,E$382)","v":0},{"$f":"COUNTIF(Alcance!$E458,F$382)","v":0},{"$f":"COUNTIF(Alcance!$E458,G$382)","v":0},{"$f":"COUNTIF(Alcance!$E458,H$382)","v":0},{"$f":"SUM(E383:H383)","v":0},1,{"$f":"I383*J383","v":0}]
["Iones Principales o Minerales",null,"Conductividad a 25ºC",null,{"$f":"COUNTIF(Alcance!$E459,E$382)","v":0},{"$f":"COUNTIF(Alcance!$E459,F$382)","v":0},{"$f":"COUNTIF(Alcance!$E459,G$382)","v":0},{"$f":"COUNTIF(Alcance!$E459,H$382)","v":0},0,1,0]
["Iones Principales o Minerales",null,"Cloruro",null,{"$f":"COUNTIF(Alcance!$E460,E$382)","v":0},{"$f":"COUNTIF(Alcance!$E460,F$382)","v":0},{"$f":"COUNTIF(Alcance!$E460,G$382)","v":0},{"$f":"COUNTIF(Alcance!$E460,H$382)","v":0},0,1,0]
["Iones Principales o Minerales",null,"Calcio disuelto",null,{"$f":"COUNTIF(Alcance!$E461,E$382)","v":0},{"$f":"COUNTIF(Alcance!$E461,F$382)","v":0},{"$f":"COUNTIF(Alcance!$E461,G$382)","v":0},{"$f":"COUNTIF(Alcance!$E461,H$382)","v":0},0,1,0]
["Iones Principales o Minerales",null,"Calcio total",null,{"$f":"COUNTIF(Alcance!$E462,E$382)","v":0},{"$f":"COUNTIF(Alcance!$E462,F$382)","v":0},{"$f":"COUNTIF(Alcance!$E462,G$382)","v":0},{"$f":"COUNTIF(Alcance!$E462,H$382)","v":0},0,1,0]
["Iones Principales o Minerales",null,"Magnesio disuelto",null,{"$f":"COUNTIF(Alcance!$E463,E$382)","v":0},{"$f":"COUNTIF(Alcance!$E463,F$382)","v":0},{"$f":"COUNTIF(Alcance!$E463,G$382)","v":0},{"$f":"COUNTIF(Alcance!$E463,H$382)","v":0},0,1,0]
["Iones Principales o Minerales",null,"Magnesio total",null,{"$f":"COUNTIF(Alcance!$E464,E$382)","v":0},{"$f":"COUNTIF(Alcance!$E464,F$382)","v":0},{"$f":"COUNTIF(Alcance!$E464,G$382)","v":0},{"$f":"COUNTIF(Alcance!$E464,H$382)","v":0},0,1,0]
["Iones Principales o Minerales",null,"Fluoruro",null,{"$f":"COUNTIF(Alcance!$E465,E$382)","v":0},{"$f":"COUNTIF(Alcance!$E465,F$382)","v":0},{"$f":"COUNTIF(Alcance!$E465,G$382)","v":0},{"$f":"COUNTIF(Alcance!$E465,H$382)","v":0},0,1,0]
["Iones Principales o Minerales",null,"Potasio disuelto",null,{"$f":"COUNTIF(Alcance!$E466,E$382)","v":0},{"$f":"COUNTIF(Alcance!$E466,F$382)","v":0},{"$f":"COUNTIF(Alcance!$E466,G$382)","v":0},{"$f":"COUNTIF(Alcance!$E466,H$382)","v":0},0,1,0]
["Iones Principales o Minerales",null,"Potasio total",null,{"$f":"COUNTIF(Alcance!$E467,E$382)","v":0},{"$f":"COUNTIF(Alcance!$E467,F$382)","v":0},{"$f":"COUNTIF(Alcance!$E467,G$382)","v":0},{"$f":"COUNTIF(Alcance!$E467,H$382)","v":0},0,1,0]
["Iones Principales o Minerales",null,"Sodio disuelto",null,{"$f":"COUNTIF(Alcance!$E468,E$382)","v":0},{"$f":"COUNTIF(Alcance!$E468,F$382)","v":0},{"$f":"COUNTIF(Alcance!$E468,G$382)","v":0},{"$f":"COUNTIF(Alcance!$E468,H$382)","v":0},0,1,0]
["Iones Principales o Minerales",null,"Sodio total",null,{"$f":"COUNTIF(Alcance!$E469,E$382)","v":0},{"$f":"COUNTIF(Alcance!$E469,F$382)","v":0},{"$f":"COUNTIF(Alcance!$E469,G$382)","v":0},{"$f":"COUNTIF(Alcance!$E469,H$382)","v":0},0,1,0]
["Iones Principales o Minerales",null,"Sulfato",null,{"$f":"COUNTIF(Alcance!$E470,E$382)","v":0},{"$f":"COUNTIF(Alcance!$E470,F$382)","v":0},{"$f":"COUNTIF(Alcance!$E470,G$382)","v":0},{"$f":"COUNTIF(Alcance!$E470,H$382)","v":0},0,1,0]
["Iones Principales o Minerales",null,"Dureza Total",null,{"$f":"COUNTIF(Alcance!$E471,E$382)","v":0},{"$f":"COUNTIF(Alcance!$E471,F$382)","v":0},{"$f":"COUNTIF(Alcance!$E471,G$382)","v":0},{"$f":"COUNTIF(Alcance!$E471,H$382)","v":0},0,1,0]
["Iones Principales o Minerales",null,"Dureza Cálcica",null,{"$f":"COUNTIF(Alcance!$E472,E$382)","v":0},{"$f":"COUNTIF(Alcance!$E472,F$382)","v":0},{"$f":"COUNTIF(Alcance!$E472,G$382)","v":0},{"$f":"COUNTIF(Alcance!$E472,H$382)","v":0},0,1,0]
["Iones Principales o Minerales",null,"Carbonatos, bicarbonatos e hidróxidos ",null,{"$f":"COUNTIF(Alcance!$E473,E$382)","v":0},{"$f":"COUNTIF(Alcance!$E473,F$382)","v":0},{"$f":"COUNTIF(Alcance!$E473,G$382)","v":0},{"$f":"COUNTIF(Alcance!$E473,H$382)","v":0},0,1,0]
["Nutrientes",null,"Nitrato",null,{"$f":"COUNTIF(Alcance!$E474,E$382)","v":0},{"$f":"COUNTIF(Alcance!$E474,F$382)","v":0},{"$f":"COUNTIF(Alcance!$E474,G$382)","v":0},{"$f":"COUNTIF(Alcance!$E474,H$382)","v":0},0,1,0]
["Nutrientes",null,"Nitrito",null,{"$f":"COUNTIF(Alcance!$E475,E$382)","v":0},{"$f":"COUNTIF(Alcance!$E475,F$382)","v":0},{"$f":"COUNTIF(Alcance!$E475,G$382)","v":0},{"$f":"COUNTIF(Alcance!$E475,H$382)","v":0},0,1,0]
["Nutrientes",null,"Amonio",null,{"$f":"COUNTIF(Alcance!$E476,E$382)","v":0},{"$f":"COUNTIF(Alcance!$E476,F$382)","v":0},{"$f":"COUNTIF(Alcance!$E476,G$382)","v":0},{"$f":"COUNTIF(Alcance!$E476,H$382)","v":0},0,1,0]
["Nutrientes",null,"Nitrógeno Amoniacal",null,{"$f":"COUNTIF(Alcance!$E477,E$382)","v":0},{"$f":"COUNTIF(Alcance!$E477,F$382)","v":0},{"$f":"COUNTIF(Alcance!$E477,G$382)","v":0},{"$f":"COUNTIF(Alcance!$E477,H$382)","v":0},0,1,0]
["Nutrientes",null,"Nitrogeno Organico",null,{"$f":"COUNTIF(Alcance!$E478,E$382)","v":0},{"$f":"COUNTIF(Alcance!$E478,F$382)","v":0},{"$f":"COUNTIF(Alcance!$E478,G$382)","v":0},{"$f":"COUNTIF(Alcance!$E478,H$382)","v":0},0,1,0]
["Nutrientes",null,"Nitrógeno  Kjeldahl",null,{"$f":"COUNTIF(Alcance!$E479,E$382)","v":0},{"$f":"COUNTIF(Alcance!$E479,F$382)","v":0},{"$f":"COUNTIF(Alcance!$E479,G$382)","v":0},{"$f":"COUNTIF(Alcance!$E479,H$382)","v":0},0,2,0]
["Nutrientes",null,"Fósforo reactivo total (leído como ortofosfato)",null,{"$f":"COUNTIF(Alcance!$E480,E$382)","v":0},{"$f":"COUNTIF(Alcance!$E480,F$382)","v":0},{"$f":"COUNTIF(Alcance!$E480,G$382)","v":0},{"$f":"COUNTIF(Alcance!$E480,H$382)","v":0},0,1,0]
["Nutrientes",null,"Fósforo Acido hidrolizable Total (Léido como Ortofosfato)",null,{"$f":"COUNTIF(Alcance!$E481,E$382)","v":0},{"$f":"COUNTIF(Alcance!$E481,F$382)","v":0},{"$f":"COUNTIF(Alcance!$E481,G$382)","v":0},{"$f":"COUNTIF(Alcance!$E481,H$382)","v":0},0,1,0]
["Nutrientes",null,"Fósforo Orgánico total ( a partir del cálculo del fósforo total y fósforo hidrolizable)",null,{"$f":"COUNTIF(Alcance!$E482,E$382)","v":0},{"$f":"COUNTIF(Alcance!$E482,F$382)","v":0},{"$f":"COUNTIF(Alcance!$E482,G$382)","v":0},{"$f":"COUNTIF(Alcance!$E482,H$382)","v":0},0,1,0]
["Nutrientes",null,"Fósforo Total ",null,{"$f":"COUNTIF(Alcance!$E483,E$382)","v":0},{"$f":"COUNTIF(Alcance!$E483,F$382)","v":0},{"$f":"COUNTIF(Alcance!$E483,G$382)","v":0},{"$f":"COUNTIF(Alcance!$E483,H$382)","v":0},0,1,0]
["Nutrientes",null,"Fósforo reactivo Disuelto (leído como Ortofosfatos)",null,{"$f":"COUNTIF(Alcance!$E484,E$382)","v":0},{"$f":"COUNTIF(Alcance!$E484,F$382)","v":0},{"$f":"COUNTIF(Alcance!$E484,G$382)","v":0},{"$f":"COUNTIF(Alcance!$E484,H$382)","v":0},0,1,0]
["Nutrientes",null,"Fósforo Acido Hidrolizable Disuelto (Léido como ortofosfatos)",null,{"$f":"COUNTIF(Alcance!$E485,E$382)","v":0},{"$f":"COUNTIF(Alcance!$E485,F$382)","v":0},{"$f":"COUNTIF(Alcance!$E485,G$382)","v":0},{"$f":"COUNTIF(Alcance!$E485,H$382)","v":0},0,1,0]
["Nutrientes",null,"Fósforo Orgánico Disuelto (a partir del cálculo del Fósforo Disuelto Total y Fósforo Ácido - Hidrolizable Disuelto)",null,{"$f":"COUNTIF(Alcance!$E486,E$382)","v":0},{"$f":"COUNTIF(Alcance!$E486,F$382)","v":0},{"$f":"COUNTIF(Alcance!$E486,G$382)","v":0},{"$f":"COUNTIF(Alcance!$E486,H$382)","v":0},0,1,0]
["Nutrientes",null,"Fósforo Disuelto Total (Leìdo como ortofosfatos)",null,{"$f":"COUNTIF(Alcance!$E487,E$382)","v":0},{"$f":"COUNTIF(Alcance!$E487,F$382)","v":0},{"$f":"COUNTIF(Alcance!$E487,G$382)","v":0},{"$f":"COUNTIF(Alcance!$E487,H$382)","v":0},0,1,0]
["Metales Traza",null,"Aluminio disuelto",null,{"$f":"COUNTIF(Alcance!$E488,E$382)","v":0},{"$f":"COUNTIF(Alcance!$E488,F$382)","v":0},{"$f":"COUNTIF(Alcance!$E488,G$382)","v":0},{"$f":"COUNTIF(Alcance!$E488,H$382)","v":0},0,0.5,0]
["Metales Traza",null,"Aluminio total ",null,{"$f":"COUNTIF(Alcance!$E489,E$382)","v":0},{"$f":"COUNTIF(Alcance!$E489,F$382)","v":0},{"$f":"COUNTIF(Alcance!$E489,G$382)","v":0},{"$f":"COUNTIF(Alcance!$E489,H$382)","v":0},0,0.5,0]
["Metales Traza",null,"Antimonio disuelto",null,{"$f":"COUNTIF(Alcance!$E490,E$382)","v":0},{"$f":"COUNTIF(Alcance!$E490,F$382)","v":0},{"$f":"COUNTIF(Alcance!$E490,G$382)","v":0},{"$f":"COUNTIF(Alcance!$E490,H$382)","v":0},0,0.5,0]
["Metales Traza",null,"Antimonio total",null,{"$f":"COUNTIF(Alcance!$E491,E$382)","v":0},{"$f":"COUNTIF(Alcance!$E491,F$382)","v":0},{"$f":"COUNTIF(Alcance!$E491,G$382)","v":0},{"$f":"COUNTIF(Alcance!$E491,H$382)","v":0},0,0.5,0]
["Metales Traza",null,"Arsénico disuelto",null,{"$f":"COUNTIF(Alcance!$E492,E$382)","v":0},{"$f":"COUNTIF(Alcance!$E492,F$382)","v":0},{"$f":"COUNTIF(Alcance!$E492,G$382)","v":0},{"$f":"COUNTIF(Alcance!$E492,H$382)","v":0},0,1,0]
["Metales Traza",null,"Arsénico total",null,{"$f":"COUNTIF(Alcance!$E493,E$382)","v":0},{"$f":"COUNTIF(Alcance!$E493,F$382)","v":0},{"$f":"COUNTIF(Alcance!$E493,G$382)","v":0},{"$f":"COUNTIF(Alcance!$E493,H$382)","v":0},0,1,0]
["Metales Traza",null,"Berilio disuelto",null,{"$f":"COUNTIF(Alcance!$E494,E$382)","v":0},{"$f":"COUNTIF(Alcance!$E494,F$382)","v":0},{"$f":"COUNTIF(Alcance!$E494,G$382)","v":0},{"$f":"COUNTIF(Alcance!$E494,H$382)","v":0},0,0.5,0]
["Metales Traza",null,"Berilio total",null,{"$f":"COUNTIF(Alcance!$E495,E$382)","v":0},{"$f":"COUNTIF(Alcance!$E495,F$382)","v":0},{"$f":"COUNTIF(Alcance!$E495,G$382)","v":0},{"$f":"COUNTIF(Alcance!$E495,H$382)","v":0},0,0.5,0]
["Metales Traza",null,"Boro disuelto",null,{"$f":"COUNTIF(Alcance!$E496,E$382)","v":0},{"$f":"COUNTIF(Alcance!$E496,F$382)","v":0},{"$f":"COUNTIF(Alcance!$E496,G$382)","v":0},{"$f":"COUNTIF(Alcance!$E496,H$382)","v":0},0,0.5,0]
["Metales Traza",null,"Boro total",null,{"$f":"COUNTIF(Alcance!$E497,E$382)","v":0},{"$f":"COUNTIF(Alcance!$E497,F$382)","v":0},{"$f":"COUNTIF(Alcance!$E497,G$382)","v":0},{"$f":"COUNTIF(Alcance!$E497,H$382)","v":0},0,0.5,0]
["Metales Traza",null,"Cadmio disuelto",null,{"$f":"COUNTIF(Alcance!$E498,E$382)","v":0},{"$f":"COUNTIF(Alcance!$E498,F$382)","v":0},{"$f":"COUNTIF(Alcance!$E498,G$382)","v":0},{"$f":"COUNTIF(Alcance!$E498,H$382)","v":0},0,0.5,0]
["Metales Traza",null,"Cadmio total",null,{"$f":"COUNTIF(Alcance!$E499,E$382)","v":0},{"$f":"COUNTIF(Alcance!$E499,F$382)","v":0},{"$f":"COUNTIF(Alcance!$E499,G$382)","v":0},{"$f":"COUNTIF(Alcance!$E499,H$382)","v":0},0,0.5,0]
["Metales Traza",null,"Cobalto disuelto",null,{"$f":"COUNTIF(Alcance!$E500,E$382)","v":0},{"$f":"COUNTIF(Alcance!$E500,F$382)","v":0},{"$f":"COUNTIF(Alcance!$E500,G$382)","v":0},{"$f":"COUNTIF(Alcance!$E500,H$382)","v":0},0,0.5,0]
["Metales Traza",null,"Cobalto total",null,{"$f":"COUNTIF(Alcance!$E501,E$382)","v":0},{"$f":"COUNTIF(Alcance!$E501,F$382)","v":0},{"$f":"COUNTIF(Alcance!$E501,G$382)","v":0},{"$f":"COUNTIF(Alcance!$E501,H$382)","v":0},0,0.5,0]
["Metales Traza",null,"Cobre disuelto",null,{"$f":"COUNTIF(Alcance!$E502,E$382)","v":0},{"$f":"COUNTIF(Alcance!$E502,F$382)","v":0},{"$f":"COUNTIF(Alcance!$E502,G$382)","v":0},{"$f":"COUNTIF(Alcance!$E502,H$382)","v":0},0,0.5,0]
["Metales Traza",null,"Cobre total",null,{"$f":"COUNTIF(Alcance!$E503,E$382)","v":0},{"$f":"COUNTIF(Alcance!$E503,F$382)","v":0},{"$f":"COUNTIF(Alcance!$E503,G$382)","v":0},{"$f":"COUNTIF(Alcance!$E503,H$382)","v":0},0,0.5,0]
["Metales Traza",null,"Cromo disuelto",null,{"$f":"COUNTIF(Alcance!$E504,E$382)","v":0},{"$f":"COUNTIF(Alcance!$E504,F$382)","v":0},{"$f":"COUNTIF(Alcance!$E504,G$382)","v":0},{"$f":"COUNTIF(Alcance!$E504,H$382)","v":0},0,0.5,0]
["Metales Traza",null,"Cromo total",null,{"$f":"COUNTIF(Alcance!$E505,E$382)","v":0},{"$f":"COUNTIF(Alcance!$E505,F$382)","v":0},{"$f":"COUNTIF(Alcance!$E505,G$382)","v":0},{"$f":"COUNTIF(Alcance!$E505,H$382)","v":0},0,0.5,0]
["Metales Traza",null,"Estroncio disuelto",null,{"$f":"COUNTIF(Alcance!$E506,E$382)","v":0},{"$f":"COUNTIF(Alcance!$E506,F$382)","v":0},{"$f":"COUNTIF(Alcance!$E506,G$382)","v":0},{"$f":"COUNTIF(Alcance!$E506,H$382)","v":0},0,0.5,0]
["Metales Traza",null,"Estroncio total",null,{"$f":"COUNTIF(Alcance!$E507,E$382)","v":0},{"$f":"COUNTIF(Alcance!$E507,F$382)","v":0},{"$f":"COUNTIF(Alcance!$E507,G$382)","v":0},{"$f":"COUNTIF(Alcance!$E507,H$382)","v":0},0,0.5,0]
["Metales Traza",null,"Hierro disuelto",null,{"$f":"COUNTIF(Alcance!$E508,E$382)","v":0},{"$f":"COUNTIF(Alcance!$E508,F$382)","v":0},{"$f":"COUNTIF(Alcance!$E508,G$382)","v":0},{"$f":"COUNTIF(Alcance!$E508,H$382)","v":0},0,0.5,0]
["Metales Traza",null,"Hierro total",null,{"$f":"COUNTIF(Alcance!$E509,E$382)","v":0},{"$f":"COUNTIF(Alcance!$E509,F$382)","v":0},{"$f":"COUNTIF(Alcance!$E509,G$382)","v":0},{"$f":"COUNTIF(Alcance!$E509,H$382)","v":0},0,0.5,0]
["Metales Traza",null,"Litio Disuelto",null,{"$f":"COUNTIF(Alcance!$E510,E$382)","v":0},{"$f":"COUNTIF(Alcance!$E510,F$382)","v":0},{"$f":"COUNTIF(Alcance!$E510,G$382)","v":0},{"$f":"COUNTIF(Alcance!$E510,H$382)","v":0},0,0.5,0]
["Metales Traza",null,"Litio Total",null,{"$f":"COUNTIF(Alcance!$E511,E$382)","v":0},{"$f":"COUNTIF(Alcance!$E511,F$382)","v":0},{"$f":"COUNTIF(Alcance!$E511,G$382)","v":0},{"$f":"COUNTIF(Alcance!$E511,H$382)","v":0},0,0.5,0]
["Metales Traza",null,"Manganeso disuelto",null,{"$f":"COUNTIF(Alcance!$E512,E$382)","v":0},{"$f":"COUNTIF(Alcance!$E512,F$382)","v":0},{"$f":"COUNTIF(Alcance!$E512,G$382)","v":0},{"$f":"COUNTIF(Alcance!$E512,H$382)","v":0},0,0.5,0]
["Metales Traza",null,"Manganeso total",null,{"$f":"COUNTIF(Alcance!$E513,E$382)","v":0},{"$f":"COUNTIF(Alcance!$E513,F$382)","v":0},{"$f":"COUNTIF(Alcance!$E513,G$382)","v":0},{"$f":"COUNTIF(Alcance!$E513,H$382)","v":0},0,0.5,0]
["Metales Traza",null,"Mercurio disuelto",null,{"$f":"COUNTIF(Alcance!$E514,E$382)","v":0},{"$f":"COUNTIF(Alcance!$E514,F$382)","v":0},{"$f":"COUNTIF(Alcance!$E514,G$382)","v":0},{"$f":"COUNTIF(Alcance!$E514,H$382)","v":0},0,1,0]
["Metales Traza",null,"Mercurio total",null,{"$f":"COUNTIF(Alcance!$E515,E$382)","v":0},{"$f":"COUNTIF(Alcance!$E515,F$382)","v":0},{"$f":"COUNTIF(Alcance!$E515,G$382)","v":0},{"$f":"COUNTIF(Alcance!$E515,H$382)","v":0},0,1,0]
["Metales Traza",null,"Molibdeno disuelto",null,{"$f":"COUNTIF(Alcance!$E516,E$382)","v":0},{"$f":"COUNTIF(Alcance!$E516,F$382)","v":0},{"$f":"COUNTIF(Alcance!$E516,G$382)","v":0},{"$f":"COUNTIF(Alcance!$E516,H$382)","v":0},0,0.5,0]
["Metales Traza",null,"Molibdeno total",null,{"$f":"COUNTIF(Alcance!$E517,E$382)","v":0},{"$f":"COUNTIF(Alcance!$E517,F$382)","v":0},{"$f":"COUNTIF(Alcance!$E517,G$382)","v":0},{"$f":"COUNTIF(Alcance!$E517,H$382)","v":0},0,2,0]
["Metales Traza",null,"Níquel disuelto",null,{"$f":"COUNTIF(Alcance!$E518,E$382)","v":0},{"$f":"COUNTIF(Alcance!$E518,F$382)","v":0},{"$f":"COUNTIF(Alcance!$E518,G$382)","v":0},{"$f":"COUNTIF(Alcance!$E518,H$382)","v":0},0,2,0]
["Metales Traza",null,"Níquel total",null,{"$f":"COUNTIF(Alcance!$E519,E$382)","v":0},{"$f":"COUNTIF(Alcance!$E519,F$382)","v":0},{"$f":"COUNTIF(Alcance!$E519,G$382)","v":0},{"$f":"COUNTIF(Alcance!$E519,H$382)","v":0},0,0.5,0]
["Metales Traza",null,"Plata disuelto",null,{"$f":"COUNTIF(Alcance!$E520,E$382)","v":0},{"$f":"COUNTIF(Alcance!$E520,F$382)","v":0},{"$f":"COUNTIF(Alcance!$E520,G$382)","v":0},{"$f":"COUNTIF(Alcance!$E520,H$382)","v":0},0,0.5,0]
["Metales Traza",null,"Plata total",null,{"$f":"COUNTIF(Alcance!$E521,E$382)","v":0},{"$f":"COUNTIF(Alcance!$E521,F$382)","v":0},{"$f":"COUNTIF(Alcance!$E521,G$382)","v":0},{"$f":"COUNTIF(Alcance!$E521,H$382)","v":0},0,0.5,0]
["Metales Traza",null,"Plomo disuelto",null,{"$f":"COUNTIF(Alcance!$E522,E$382)","v":0},{"$f":"COUNTIF(Alcance!$E522,F$382)","v":0},{"$f":"COUNTIF(Alcance!$E522,G$382)","v":0},{"$f":"COUNTIF(Alcance!$E522,H$382)","v":0},0,0.5,0]
["Metales Traza",null,"Plomo total",null,{"$f":"COUNTIF(Alcance!$E523,E$382)","v":0},{"$f":"COUNTIF(Alcance!$E523,F$382)","v":0},{"$f":"COUNTIF(Alcance!$E523,G$382)","v":0},{"$f":"COUNTIF(Alcance!$E523,H$382)","v":0},0,0.5,0]
["Metales Traza",null,"Selenio disuelto",null,{"$f":"COUNTIF(Alcance!$E524,E$382)","v":0},{"$f":"COUNTIF(Alcance!$E524,F$382)","v":0},{"$f":"COUNTIF(Alcance!$E524,G$382)","v":0},{"$f":"COUNTIF(Alcance!$E524,H$382)","v":0},0,1,0]
["Metales Traza",null,"Selenio total",null,{"$f":"COUNTIF(Alcance!$E525,E$382)","v":0},{"$f":"COUNTIF(Alcance!$E525,F$382)","v":0},{"$f":"COUNTIF(Alcance!$E525,G$382)","v":0},{"$f":"COUNTIF(Alcance!$E525,H$382)","v":0},0,1,0]
["Metales Traza",null,"Talio disuelto",null,{"$f":"COUNTIF(Alcance!$E526,E$382)","v":0},{"$f":"COUNTIF(Alcance!$E526,F$382)","v":0},{"$f":"COUNTIF(Alcance!$E526,G$382)","v":0},{"$f":"COUNTIF(Alcance!$E526,H$382)","v":0},0,0.5,0]
["Metales Traza",null,"Talio total ",null,{"$f":"COUNTIF(Alcance!$E527,E$382)","v":0},{"$f":"COUNTIF(Alcance!$E527,F$382)","v":0},{"$f":"COUNTIF(Alcance!$E527,G$382)","v":0},{"$f":"COUNTIF(Alcance!$E527,H$382)","v":0},0,0.5,0]
["Metales Traza",null,"Titanio disuelto",null,{"$f":"COUNTIF(Alcance!$E528,E$382)","v":0},{"$f":"COUNTIF(Alcance!$E528,F$382)","v":0},{"$f":"COUNTIF(Alcance!$E528,G$382)","v":0},{"$f":"COUNTIF(Alcance!$E528,H$382)","v":0},0,0.5,0]
["Metales Traza",null,"Titanio total",null,{"$f":"COUNTIF(Alcance!$E529,E$382)","v":0},{"$f":"COUNTIF(Alcance!$E529,F$382)","v":0},{"$f":"COUNTIF(Alcance!$E529,G$382)","v":0},{"$f":"COUNTIF(Alcance!$E529,H$382)","v":0},0,0.5,0]
["Metales Traza",null,"Vanadio disuelto",null,{"$f":"COUNTIF(Alcance!$E530,E$382)","v":0},{"$f":"COUNTIF(Alcance!$E530,F$382)","v":0},{"$f":"COUNTIF(Alcance!$E530,G$382)","v":0},{"$f":"COUNTIF(Alcance!$E530,H$382)","v":0},0,0.5,0]
["Metales Traza",null,"Vanadio total",null,{"$f":"COUNTIF(Alcance!$E531,E$382)","v":0},{"$f":"COUNTIF(Alcance!$E531,F$382)","v":0},{"$f":"COUNTIF(Alcance!$E531,G$382)","v":0},{"$f":"COUNTIF(Alcance!$E531,H$382)","v":0},0,0.5,0]
["Metales Traza",null,"Zinc disuelto",null,{"$f":"COUNTIF(Alcance!$E532,E$382)","v":0},{"$f":"COUNTIF(Alcance!$E532,F$382)","v":0},{"$f":"COUNTIF(Alcance!$E532,G$382)","v":0},{"$f":"COUNTIF(Alcance!$E532,H$382)","v":0},0,0.5,0]
["Metales Traza",null,"Zinc total",null,{"$f":"COUNTIF(Alcance!$E533,E$382)","v":0},{"$f":"COUNTIF(Alcance!$E533,F$382)","v":0},{"$f":"COUNTIF(Alcance!$E533,G$382)","v":0},{"$f":"COUNTIF(Alcance!$E533,H$382)","v":0},0,0.5,0]
["Metales Traza",null,"Potasio Disuelto",null,{"$f":"COUNTIF(Alcance!$E534,E$382)","v":0},{"$f":"COUNTIF(Alcance!$E534,F$382)","v":0},{"$f":"COUNTIF(Alcance!$E534,G$382)","v":0},{"$f":"COUNTIF(Alcance!$E534,H$382)","v":0},0,0.5,0]
["Metales Traza",null,"Potasio Total",null,{"$f":"COUNTIF(Alcance!$E535,E$382)","v":0},{"$f":"COUNTIF(Alcance!$E535,F$382)","v":0},{"$f":"COUNTIF(Alcance!$E535,G$382)","v":0},{"$f":"COUNTIF(Alcance!$E535,H$382)","v":0},0,0.5,0]
["Metales Traza",null,"Sodio disuelto",null,{"$f":"COUNTIF(Alcance!$E536,E$382)","v":0},{"$f":"COUNTIF(Alcance!$E536,F$382)","v":0},{"$f":"COUNTIF(Alcance!$E536,G$382)","v":0},{"$f":"COUNTIF(Alcance!$E536,H$382)","v":0},0,0.5,0]
["Metales Traza",null,"Sodio Total",null,{"$f":"COUNTIF(Alcance!$E537,E$382)","v":0},{"$f":"COUNTIF(Alcance!$E537,F$382)","v":0},{"$f":"COUNTIF(Alcance!$E537,G$382)","v":0},{"$f":"COUNTIF(Alcance!$E537,H$382)","v":0},0,0.5,0]
["Metales Traza",null,"Calcio Disuelto",null,{"$f":"COUNTIF(Alcance!$E538,E$382)","v":0},{"$f":"COUNTIF(Alcance!$E538,F$382)","v":0},{"$f":"COUNTIF(Alcance!$E538,G$382)","v":0},{"$f":"COUNTIF(Alcance!$E538,H$382)","v":0},0,0.5,0]
["Metales Traza",null,"Calcio Total",null,{"$f":"COUNTIF(Alcance!$E539,E$382)","v":0},{"$f":"COUNTIF(Alcance!$E539,F$382)","v":0},{"$f":"COUNTIF(Alcance!$E539,G$382)","v":0},{"$f":"COUNTIF(Alcance!$E539,H$382)","v":0},0,0.5,0]
["Metales Traza",null,"Magnesio Disuelto",null,{"$f":"COUNTIF(Alcance!$E540,E$382)","v":0},{"$f":"COUNTIF(Alcance!$E540,F$382)","v":0},{"$f":"COUNTIF(Alcance!$E540,G$382)","v":0},{"$f":"COUNTIF(Alcance!$E540,H$382)","v":0},0,0.5,0]
["Metales Traza",null,"Magnesio Total",null,{"$f":"COUNTIF(Alcance!$E541,E$382)","v":0},{"$f":"COUNTIF(Alcance!$E541,F$382)","v":0},{"$f":"COUNTIF(Alcance!$E541,G$382)","v":0},{"$f":"COUNTIF(Alcance!$E541,H$382)","v":0},0,0.5,0]
["Cromo VI",null,"Cromo VI",null,{"$f":"COUNTIF(Alcance!$E542,E$382)","v":0},{"$f":"COUNTIF(Alcance!$E542,F$382)","v":0},{"$f":"COUNTIF(Alcance!$E542,G$382)","v":0},{"$f":"COUNTIF(Alcance!$E542,H$382)","v":0},0,1,0]
["Bario y Estaño",null,"Bario Disuelto",null,{"$f":"COUNTIF(Alcance!$E543,E$382)","v":0},{"$f":"COUNTIF(Alcance!$E543,F$382)","v":0},{"$f":"COUNTIF(Alcance!$E543,G$382)","v":0},{"$f":"COUNTIF(Alcance!$E543,H$382)","v":0},0,0.5,0]
["Bario y Estaño",null,"Bario Total",null,{"$f":"COUNTIF(Alcance!$E544,E$382)","v":0},{"$f":"COUNTIF(Alcance!$E544,F$382)","v":0},{"$f":"COUNTIF(Alcance!$E544,G$382)","v":0},{"$f":"COUNTIF(Alcance!$E544,H$382)","v":0},0,1,0]
["Bario y Estaño",null,"Estaño Disuelto",null,{"$f":"COUNTIF(Alcance!$E545,E$382)","v":0},{"$f":"COUNTIF(Alcance!$E545,F$382)","v":0},{"$f":"COUNTIF(Alcance!$E545,G$382)","v":0},{"$f":"COUNTIF(Alcance!$E545,H$382)","v":0},0,0.5,0]
["Bario y Estaño",null,"Estaño Total",null,{"$f":"COUNTIF(Alcance!$E546,E$382)","v":0},{"$f":"COUNTIF(Alcance!$E546,F$382)","v":0},{"$f":"COUNTIF(Alcance!$E546,G$382)","v":0},{"$f":"COUNTIF(Alcance!$E546,H$382)","v":0},0,1,0]
["Silice",null,"Silice Disuelto",null,{"$f":"COUNTIF(Alcance!$E547,E$382)","v":0},{"$f":"COUNTIF(Alcance!$E547,F$382)","v":0},{"$f":"COUNTIF(Alcance!$E547,G$382)","v":0},{"$f":"COUNTIF(Alcance!$E547,H$382)","v":0},0,0.5,0]
["Silice",null,"Silicie Total",null,{"$f":"COUNTIF(Alcance!$E548,E$382)","v":0},{"$f":"COUNTIF(Alcance!$E548,F$382)","v":0},{"$f":"COUNTIF(Alcance!$E548,G$382)","v":0},{"$f":"COUNTIF(Alcance!$E548,H$382)","v":0},0,1,0]
["Sólidos o Residuos",null,"Sólidos Suspendidos Totales",null,{"$f":"COUNTIF(Alcance!$E549,E$382)","v":0},{"$f":"COUNTIF(Alcance!$E549,F$382)","v":0},{"$f":"COUNTIF(Alcance!$E549,G$382)","v":0},{"$f":"COUNTIF(Alcance!$E549,H$382)","v":0},0,1,0]
["Sólidos o Residuos",null,"Sólidos Disueltos Totales",null,{"$f":"COUNTIF(Alcance!$E550,E$382)","v":0},{"$f":"COUNTIF(Alcance!$E550,F$382)","v":0},{"$f":"COUNTIF(Alcance!$E550,G$382)","v":0},{"$f":"COUNTIF(Alcance!$E550,H$382)","v":0},0,1,0]
["Sólidos o Residuos",null,"Sólidos Totales",null,{"$f":"COUNTIF(Alcance!$E551,E$382)","v":0},{"$f":"COUNTIF(Alcance!$E551,F$382)","v":0},{"$f":"COUNTIF(Alcance!$E551,G$382)","v":0},{"$f":"COUNTIF(Alcance!$E551,H$382)","v":0},0,1,0]
["Sólidos o Residuos",null,"Sólidos sedimentables",null,{"$f":"COUNTIF(Alcance!$E552,E$382)","v":0},{"$f":"COUNTIF(Alcance!$E552,F$382)","v":0},{"$f":"COUNTIF(Alcance!$E552,G$382)","v":0},{"$f":"COUNTIF(Alcance!$E552,H$382)","v":0},0,1,0]
["Sólidos o Residuos",null,"Sólidos Fijos",null,{"$f":"COUNTIF(Alcance!$E553,E$382)","v":0},{"$f":"COUNTIF(Alcance!$E553,F$382)","v":0},{"$f":"COUNTIF(Alcance!$E553,G$382)","v":0},{"$f":"COUNTIF(Alcance!$E553,H$382)","v":0},0,1,0]
["Sólidos o Residuos",null,"Sólidos Suspendidos Volátiles ",null,{"$f":"COUNTIF(Alcance!$E554,E$382)","v":0},{"$f":"COUNTIF(Alcance!$E554,F$382)","v":0},{"$f":"COUNTIF(Alcance!$E554,G$382)","v":0},{"$f":"COUNTIF(Alcance!$E554,H$382)","v":0},0,1,0]
["Sólidos o Residuos",null,"Sólidos Totales Volátiles ",null,{"$f":"COUNTIF(Alcance!$E555,E$382)","v":0},{"$f":"COUNTIF(Alcance!$E555,F$382)","v":0},{"$f":"COUNTIF(Alcance!$E555,G$382)","v":0},{"$f":"COUNTIF(Alcance!$E555,H$382)","v":0},0,1,0]
["Sólidos o Residuos",null,"Sólidos volátiles",null,{"$f":"COUNTIF(Alcance!$E556,E$382)","v":0},{"$f":"COUNTIF(Alcance!$E556,F$382)","v":0},{"$f":"COUNTIF(Alcance!$E556,G$382)","v":0},{"$f":"COUNTIF(Alcance!$E556,H$382)","v":0},0,1,0]
["Microbiológico",null,"Coliformes Termotolerantes (anteriormente Coliformes fecales)",null,{"$f":"COUNTIF(Alcance!$E557,E$382)","v":0},{"$f":"COUNTIF(Alcance!$E557,F$382)","v":0},{"$f":"COUNTIF(Alcance!$E557,G$382)","v":0},{"$f":"COUNTIF(Alcance!$E557,H$382)","v":0},0,1.5,0]
["Microbiológico",null,"Coliformes Totales",null,{"$f":"COUNTIF(Alcance!$E558,E$382)","v":0},{"$f":"COUNTIF(Alcance!$E558,F$382)","v":0},{"$f":"COUNTIF(Alcance!$E558,G$382)","v":0},{"$f":"COUNTIF(Alcance!$E558,H$382)","v":0},0,1.5,0]
["Microbiológico",null,"Escherichia coli",null,{"$f":"COUNTIF(Alcance!$E559,E$382)","v":0},{"$f":"COUNTIF(Alcance!$E559,F$382)","v":0},{"$f":"COUNTIF(Alcance!$E559,G$382)","v":0},{"$f":"COUNTIF(Alcance!$E559,H$382)","v":0},0,1.5,0]
["Microbiológico",null,"Bacterias Sulfato Reductoras",null,{"$f":"COUNTIF(Alcance!$E560,E$382)","v":0},{"$f":"COUNTIF(Alcance!$E560,F$382)","v":0},{"$f":"COUNTIF(Alcance!$E560,G$382)","v":0},{"$f":"COUNTIF(Alcance!$E560,H$382)","v":0},0,1.5,0]
["Microbiológico",null,"Clostridium Sulfito Reductor",null,{"$f":"COUNTIF(Alcance!$E561,E$382)","v":0},{"$f":"COUNTIF(Alcance!$E561,F$382)","v":0},{"$f":"COUNTIF(Alcance!$E561,G$382)","v":0},{"$f":"COUNTIF(Alcance!$E561,H$382)","v":0},0,1.5,0]
["Microbiológico",null,"Estreptococos fecal y Enterococcus",null,{"$f":"COUNTIF(Alcance!$E562,E$382)","v":0},{"$f":"COUNTIF(Alcance!$E562,F$382)","v":0},{"$f":"COUNTIF(Alcance!$E562,G$382)","v":0},{"$f":"COUNTIF(Alcance!$E562,H$382)","v":0},0,1.5,0]
["Microbiológico",null,"Hongos y Levaduras",null,{"$f":"COUNTIF(Alcance!$E563,E$382)","v":0},{"$f":"COUNTIF(Alcance!$E563,F$382)","v":0},{"$f":"COUNTIF(Alcance!$E563,G$382)","v":0},{"$f":"COUNTIF(Alcance!$E563,H$382)","v":0},0,1.5,0]
["Microbiológico",null,"Huevos de Helmintos",null,{"$f":"COUNTIF(Alcance!$E564,E$382)","v":0},{"$f":"COUNTIF(Alcance!$E564,F$382)","v":0},{"$f":"COUNTIF(Alcance!$E564,G$382)","v":0},{"$f":"COUNTIF(Alcance!$E564,H$382)","v":0},0,1.5,0]
["Microbiológico",null,"Pseudomonas aeruginosa",null,{"$f":"COUNTIF(Alcance!$E565,E$382)","v":0},{"$f":"COUNTIF(Alcance!$E565,F$382)","v":0},{"$f":"COUNTIF(Alcance!$E565,G$382)","v":0},{"$f":"COUNTIF(Alcance!$E565,H$382)","v":0},0,1.5,0]
["Microbiológico",null,"Recuento de Bacterias Heterótrofas",null,{"$f":"COUNTIF(Alcance!$E566,E$382)","v":0},{"$f":"COUNTIF(Alcance!$E566,F$382)","v":0},{"$f":"COUNTIF(Alcance!$E566,G$382)","v":0},{"$f":"COUNTIF(Alcance!$E566,H$382)","v":0},0,1.5,0]
["Microbiológico",null,"Salmonella sp",null,{"$f":"COUNTIF(Alcance!$E567,E$382)","v":0},{"$f":"COUNTIF(Alcance!$E567,F$382)","v":0},{"$f":"COUNTIF(Alcance!$E567,G$382)","v":0},{"$f":"COUNTIF(Alcance!$E567,H$382)","v":0},0,1.5,0]
["Microbiológico",null,"Giardia y Cryptosporidium",null,{"$f":"COUNTIF(Alcance!$E568,E$382)","v":0},{"$f":"COUNTIF(Alcance!$E568,F$382)","v":0},{"$f":"COUNTIF(Alcance!$E568,G$382)","v":0},{"$f":"COUNTIF(Alcance!$E568,H$382)","v":0},0,1.5,0]
["Microbiológico",null,"Mesófilos Aerobios",null,{"$f":"COUNTIF(Alcance!$E569,E$382)","v":0},{"$f":"COUNTIF(Alcance!$E569,F$382)","v":0},{"$f":"COUNTIF(Alcance!$E569,G$382)","v":0},{"$f":"COUNTIF(Alcance!$E569,H$382)","v":0},0,1.5,0]
["Demandas",null,"DBO (5 días)",null,{"$f":"COUNTIF(Alcance!$E570,E$382)","v":0},{"$f":"COUNTIF(Alcance!$E570,F$382)","v":0},{"$f":"COUNTIF(Alcance!$E570,G$382)","v":0},{"$f":"COUNTIF(Alcance!$E570,H$382)","v":0},0,1,0]
["Demandas",null,"DQO",null,{"$f":"COUNTIF(Alcance!$E571,E$382)","v":0},{"$f":"COUNTIF(Alcance!$E571,F$382)","v":0},{"$f":"COUNTIF(Alcance!$E571,G$382)","v":0},{"$f":"COUNTIF(Alcance!$E571,H$382)","v":0},0,1,0]
["Demandas",null,"COT",null,{"$f":"COUNTIF(Alcance!$E572,E$382)","v":0},{"$f":"COUNTIF(Alcance!$E572,F$382)","v":0},{"$f":"COUNTIF(Alcance!$E572,G$382)","v":0},{"$f":"COUNTIF(Alcance!$E572,H$382)","v":0},0,1,0]
["Boro (Colorimétrico)",null,"Boro",null,{"$f":"COUNTIF(Alcance!$E573,E$382)","v":0},{"$f":"COUNTIF(Alcance!$E573,F$382)","v":0},{"$f":"COUNTIF(Alcance!$E573,G$382)","v":0},{"$f":"COUNTIF(Alcance!$E573,H$382)","v":0},0,1,0]
["Sulfuro",null,"Sulfuro",null,{"$f":"COUNTIF(Alcance!$E574,E$382)","v":0},{"$f":"COUNTIF(Alcance!$E574,F$382)","v":0},{"$f":"COUNTIF(Alcance!$E574,G$382)","v":0},{"$f":"COUNTIF(Alcance!$E574,H$382)","v":0},0,1,0]
["Silicio",null,"Silicio",null,{"$f":"COUNTIF(Alcance!$E575,E$382)","v":0},{"$f":"COUNTIF(Alcance!$E575,F$382)","v":0},{"$f":"COUNTIF(Alcance!$E575,G$382)","v":0},{"$f":"COUNTIF(Alcance!$E575,H$382)","v":0},0,1,0]
["Turbidez",null,"Turbidez",null,{"$f":"COUNTIF(Alcance!$E576,E$382)","v":0},{"$f":"COUNTIF(Alcance!$E576,F$382)","v":0},{"$f":"COUNTIF(Alcance!$E576,G$382)","v":0},{"$f":"COUNTIF(Alcance!$E576,H$382)","v":0},0,1,0]
["Acidez",null,"Acidez",null,{"$f":"COUNTIF(Alcance!$E577,E$382)","v":0},{"$f":"COUNTIF(Alcance!$E577,F$382)","v":0},{"$f":"COUNTIF(Alcance!$E577,G$382)","v":0},{"$f":"COUNTIF(Alcance!$E577,H$382)","v":0},0,1,0]
["Cianuro",null,"Cianuro Total",null,{"$f":"COUNTIF(Alcance!$E578,E$382)","v":0},{"$f":"COUNTIF(Alcance!$E578,F$382)","v":0},{"$f":"COUNTIF(Alcance!$E578,G$382)","v":0},{"$f":"COUNTIF(Alcance!$E578,H$382)","v":0},0,2,0]
["Cianuro",null," Cianuro disociable en acido debil",null,{"$f":"COUNTIF(Alcance!$E579,E$382)","v":0},{"$f":"COUNTIF(Alcance!$E579,F$382)","v":0},{"$f":"COUNTIF(Alcance!$E579,G$382)","v":0},{"$f":"COUNTIF(Alcance!$E579,H$382)","v":0},0,2,0]
["Cianuro",null,"Cianuro Disuelto",null,{"$f":"COUNTIF(Alcance!$E580,E$382)","v":0},{"$f":"COUNTIF(Alcance!$E580,F$382)","v":0},{"$f":"COUNTIF(Alcance!$E580,G$382)","v":0},{"$f":"COUNTIF(Alcance!$E580,H$382)","v":0},0,2,0]
["Fenoles ",null,"Fenoles ",null,{"$f":"COUNTIF(Alcance!$E581,E$382)","v":0},{"$f":"COUNTIF(Alcance!$E581,F$382)","v":0},{"$f":"COUNTIF(Alcance!$E581,G$382)","v":0},{"$f":"COUNTIF(Alcance!$E581,H$382)","v":0},0,2,0]
["Surfactantes",null,"Surfactantes Aniónicos como SAAM",null,{"$f":"COUNTIF(Alcance!$E582,E$382)","v":0},{"$f":"COUNTIF(Alcance!$E582,F$382)","v":0},{"$f":"COUNTIF(Alcance!$E582,G$382)","v":0},{"$f":"COUNTIF(Alcance!$E582,H$382)","v":0},0,1,0]
["Color",null,"Color ( Longitud de onda simple )",null,{"$f":"COUNTIF(Alcance!$E583,E$382)","v":0},{"$f":"COUNTIF(Alcance!$E583,F$382)","v":0},{"$f":"COUNTIF(Alcance!$E583,G$382)","v":0},{"$f":"COUNTIF(Alcance!$E583,H$382)","v":0},0,1,0]
["Color",null,"Color  real (3 longitudes de onda)",null,{"$f":"COUNTIF(Alcance!$E584,E$382)","v":0},{"$f":"COUNTIF(Alcance!$E584,F$382)","v":0},{"$f":"COUNTIF(Alcance!$E584,G$382)","v":0},{"$f":"COUNTIF(Alcance!$E584,H$382)","v":0},0,1,0]
["Salinidad",null,"Salinidad",null,{"$f":"COUNTIF(Alcance!$E585,E$382)","v":0},{"$f":"COUNTIF(Alcance!$E585,F$382)","v":0},{"$f":"COUNTIF(Alcance!$E585,G$382)","v":0},{"$f":"COUNTIF(Alcance!$E585,H$382)","v":0},0,1,0]
["Grasas y Aceites",null,"Grasas y Aceites",null,{"$f":"COUNTIF(Alcance!$E586,E$382)","v":0},{"$f":"COUNTIF(Alcance!$E586,F$382)","v":0},{"$f":"COUNTIF(Alcance!$E586,G$382)","v":0},{"$f":"COUNTIF(Alcance!$E586,H$382)","v":0},0,1,0]
["Compuestos Orgánicos Volátiles",null,"Acetona ",null,{"$f":"COUNTIF(Alcance!$E587,E$382)","v":0},{"$f":"COUNTIF(Alcance!$E587,F$382)","v":0},{"$f":"COUNTIF(Alcance!$E587,G$382)","v":0},{"$f":"COUNTIF(Alcance!$E587,H$382)","v":0},0,0.5,0]
["Compuestos Orgánicos Volátiles",null,"Acetonitrilo",null,{"$f":"COUNTIF(Alcance!$E588,E$382)","v":0},{"$f":"COUNTIF(Alcance!$E588,F$382)","v":0},{"$f":"COUNTIF(Alcance!$E588,G$382)","v":0},{"$f":"COUNTIF(Alcance!$E588,H$382)","v":0},0,0.5,0]
["Compuestos Orgánicos Volátiles",null,"Acroleina ",null,{"$f":"COUNTIF(Alcance!$E589,E$382)","v":0},{"$f":"COUNTIF(Alcance!$E589,F$382)","v":0},{"$f":"COUNTIF(Alcance!$E589,G$382)","v":0},{"$f":"COUNTIF(Alcance!$E589,H$382)","v":0},0,0.5,0]
["Compuestos Orgánicos Volátiles",null,"Acrilonitrilo",null,{"$f":"COUNTIF(Alcance!$E590,E$382)","v":0},{"$f":"COUNTIF(Alcance!$E590,F$382)","v":0},{"$f":"COUNTIF(Alcance!$E590,G$382)","v":0},{"$f":"COUNTIF(Alcance!$E590,H$382)","v":0},0,0.5,0]
["Compuestos Orgánicos Volátiles",null,"Cloruro de bencilo",null,{"$f":"COUNTIF(Alcance!$E591,E$382)","v":0},{"$f":"COUNTIF(Alcance!$E591,F$382)","v":0},{"$f":"COUNTIF(Alcance!$E591,G$382)","v":0},{"$f":"COUNTIF(Alcance!$E591,H$382)","v":0},0,0.5,0]
["Compuestos Orgánicos Volátiles",null,"Bromoclorometano",null,{"$f":"COUNTIF(Alcance!$E592,E$382)","v":0},{"$f":"COUNTIF(Alcance!$E592,F$382)","v":0},{"$f":"COUNTIF(Alcance!$E592,G$382)","v":0},{"$f":"COUNTIF(Alcance!$E592,H$382)","v":0},0,0.5,0]
["Compuestos Orgánicos Volátiles",null,"Bromodiclorometano",null,{"$f":"COUNTIF(Alcance!$E593,E$382)","v":0},{"$f":"COUNTIF(Alcance!$E593,F$382)","v":0},{"$f":"COUNTIF(Alcance!$E593,G$382)","v":0},{"$f":"COUNTIF(Alcance!$E593,H$382)","v":0},0,0.5,0]
["Compuestos Orgánicos Volátiles",null,"4-Bromofluorobenceno",null,{"$f":"COUNTIF(Alcance!$E594,E$382)","v":0},{"$f":"COUNTIF(Alcance!$E594,F$382)","v":0},{"$f":"COUNTIF(Alcance!$E594,G$382)","v":0},{"$f":"COUNTIF(Alcance!$E594,H$382)","v":0},0,0.5,0]
["Compuestos Orgánicos Volátiles",null,"Bromoformo ",null,{"$f":"COUNTIF(Alcance!$E595,E$382)","v":0},{"$f":"COUNTIF(Alcance!$E595,F$382)","v":0},{"$f":"COUNTIF(Alcance!$E595,G$382)","v":0},{"$f":"COUNTIF(Alcance!$E595,H$382)","v":0},0,0.5,0]
["Compuestos Orgánicos Volátiles",null,"Bromometano ",null,{"$f":"COUNTIF(Alcance!$E596,E$382)","v":0},{"$f":"COUNTIF(Alcance!$E596,F$382)","v":0},{"$f":"COUNTIF(Alcance!$E596,G$382)","v":0},{"$f":"COUNTIF(Alcance!$E596,H$382)","v":0},0,0.5,0]
["Compuestos Orgánicos Volátiles",null,"n-Butanol",null,{"$f":"COUNTIF(Alcance!$E597,E$382)","v":0},{"$f":"COUNTIF(Alcance!$E597,F$382)","v":0},{"$f":"COUNTIF(Alcance!$E597,G$382)","v":0},{"$f":"COUNTIF(Alcance!$E597,H$382)","v":0},0,0.5,0]
["Compuestos Orgánicos Volátiles",null,"2-Butanona",null,{"$f":"COUNTIF(Alcance!$E598,E$382)","v":0},{"$f":"COUNTIF(Alcance!$E598,F$382)","v":0},{"$f":"COUNTIF(Alcance!$E598,G$382)","v":0},{"$f":"COUNTIF(Alcance!$E598,H$382)","v":0},0,0.5,0]
["Compuestos Orgánicos Volátiles",null,"Disulfuro de carbono",null,{"$f":"COUNTIF(Alcance!$E599,E$382)","v":0},{"$f":"COUNTIF(Alcance!$E599,F$382)","v":0},{"$f":"COUNTIF(Alcance!$E599,G$382)","v":0},{"$f":"COUNTIF(Alcance!$E599,H$382)","v":0},0,0.5,0]
["Compuestos Orgánicos Volátiles",null,"Tetracloruro de carbon",null,{"$f":"COUNTIF(Alcance!$E600,E$382)","v":0},{"$f":"COUNTIF(Alcance!$E600,F$382)","v":0},{"$f":"COUNTIF(Alcance!$E600,G$382)","v":0},{"$f":"COUNTIF(Alcance!$E600,H$382)","v":0},0,0.5,0]
["Compuestos Orgánicos Volátiles",null,"Clorobenceno ",null,{"$f":"COUNTIF(Alcance!$E601,E$382)","v":0},{"$f":"COUNTIF(Alcance!$E601,F$382)","v":0},{"$f":"COUNTIF(Alcance!$E601,G$382)","v":0},{"$f":"COUNTIF(Alcance!$E601,H$382)","v":0},0,0.5,0]
["Compuestos Orgánicos Volátiles",null,"Clorodibromometano",null,{"$f":"COUNTIF(Alcance!$E602,E$382)","v":0},{"$f":"COUNTIF(Alcance!$E602,F$382)","v":0},{"$f":"COUNTIF(Alcance!$E602,G$382)","v":0},{"$f":"COUNTIF(Alcance!$E602,H$382)","v":0},0,0.5,0]
["Compuestos Orgánicos Volátiles",null,"Cloroetano",null,{"$f":"COUNTIF(Alcance!$E603,E$382)","v":0},{"$f":"COUNTIF(Alcance!$E603,F$382)","v":0},{"$f":"COUNTIF(Alcance!$E603,G$382)","v":0},{"$f":"COUNTIF(Alcance!$E603,H$382)","v":0},0,0.5,0]
["Compuestos Orgánicos Volátiles",null,"2-Cloroetanol",null,{"$f":"COUNTIF(Alcance!$E604,E$382)","v":0},{"$f":"COUNTIF(Alcance!$E604,F$382)","v":0},{"$f":"COUNTIF(Alcance!$E604,G$382)","v":0},{"$f":"COUNTIF(Alcance!$E604,H$382)","v":0},0,0.5,0]
["Compuestos Orgánicos Volátiles",null,"2-Cloroetil vinil éter",null,{"$f":"COUNTIF(Alcance!$E605,E$382)","v":0},{"$f":"COUNTIF(Alcance!$E605,F$382)","v":0},{"$f":"COUNTIF(Alcance!$E605,G$382)","v":0},{"$f":"COUNTIF(Alcance!$E605,H$382)","v":0},0,0.5,0]
["Compuestos Orgánicos Volátiles",null,"Cloroformo ",null,{"$f":"COUNTIF(Alcance!$E606,E$382)","v":0},{"$f":"COUNTIF(Alcance!$E606,F$382)","v":0},{"$f":"COUNTIF(Alcance!$E606,G$382)","v":0},{"$f":"COUNTIF(Alcance!$E606,H$382)","v":0},0,0.5,0]
["Compuestos Orgánicos Volátiles",null,"Clorometano ",null,{"$f":"COUNTIF(Alcance!$E607,E$382)","v":0},{"$f":"COUNTIF(Alcance!$E607,F$382)","v":0},{"$f":"COUNTIF(Alcance!$E607,G$382)","v":0},{"$f":"COUNTIF(Alcance!$E607,H$382)","v":0},0,0.5,0]
["Compuestos Orgánicos Volátiles",null,"1,2-Dibromo-3-cloropropano",null,{"$f":"COUNTIF(Alcance!$E608,E$382)","v":0},{"$f":"COUNTIF(Alcance!$E608,F$382)","v":0},{"$f":"COUNTIF(Alcance!$E608,G$382)","v":0},{"$f":"COUNTIF(Alcance!$E608,H$382)","v":0},0,0.5,0]
["Compuestos Orgánicos Volátiles",null,"1,2-Dibromoetano",null,{"$f":"COUNTIF(Alcance!$E609,E$382)","v":0},{"$f":"COUNTIF(Alcance!$E609,F$382)","v":0},{"$f":"COUNTIF(Alcance!$E609,G$382)","v":0},{"$f":"COUNTIF(Alcance!$E609,H$382)","v":0},0,0.5,0]
["Compuestos Orgánicos Volátiles",null,"Dibromometano",null,{"$f":"COUNTIF(Alcance!$E610,E$382)","v":0},{"$f":"COUNTIF(Alcance!$E610,F$382)","v":0},{"$f":"COUNTIF(Alcance!$E610,G$382)","v":0},{"$f":"COUNTIF(Alcance!$E610,H$382)","v":0},0,0.5,0]
["Compuestos Orgánicos Volátiles",null,"1,2-Diclorobenceno",null,{"$f":"COUNTIF(Alcance!$E611,E$382)","v":0},{"$f":"COUNTIF(Alcance!$E611,F$382)","v":0},{"$f":"COUNTIF(Alcance!$E611,G$382)","v":0},{"$f":"COUNTIF(Alcance!$E611,H$382)","v":0},0,0.5,0]
["Compuestos Orgánicos Volátiles",null,"1,3-Diclorobenceno ",null,{"$f":"COUNTIF(Alcance!$E612,E$382)","v":0},{"$f":"COUNTIF(Alcance!$E612,F$382)","v":0},{"$f":"COUNTIF(Alcance!$E612,G$382)","v":0},{"$f":"COUNTIF(Alcance!$E612,H$382)","v":0},0,0.5,0]
["Compuestos Orgánicos Volátiles",null,"1,4-Diclorobenceno",null,{"$f":"COUNTIF(Alcance!$E613,E$382)","v":0},{"$f":"COUNTIF(Alcance!$E613,F$382)","v":0},{"$f":"COUNTIF(Alcance!$E613,G$382)","v":0},{"$f":"COUNTIF(Alcance!$E613,H$382)","v":0},0,0.5,0]
["Compuestos Orgánicos Volátiles",null,"cis-1,4-Dicloro-2-butano",null,{"$f":"COUNTIF(Alcance!$E614,E$382)","v":0},{"$f":"COUNTIF(Alcance!$E614,F$382)","v":0},{"$f":"COUNTIF(Alcance!$E614,G$382)","v":0},{"$f":"COUNTIF(Alcance!$E614,H$382)","v":0},0,0.5,0]
["Compuestos Orgánicos Volátiles",null,"trans-1,4-Dicloro-2-butano",null,{"$f":"COUNTIF(Alcance!$E615,E$382)","v":0},{"$f":"COUNTIF(Alcance!$E615,F$382)","v":0},{"$f":"COUNTIF(Alcance!$E615,G$382)","v":0},{"$f":"COUNTIF(Alcance!$E615,H$382)","v":0},0,0.5,0]
["Compuestos Orgánicos Volátiles",null,"Diclorodifluorometano",null,{"$f":"COUNTIF(Alcance!$E616,E$382)","v":0},{"$f":"COUNTIF(Alcance!$E616,F$382)","v":0},{"$f":"COUNTIF(Alcance!$E616,G$382)","v":0},{"$f":"COUNTIF(Alcance!$E616,H$382)","v":0},0,0.5,0]
["Compuestos Orgánicos Volátiles",null,"1,1-Dicloroetano",null,{"$f":"COUNTIF(Alcance!$E617,E$382)","v":0},{"$f":"COUNTIF(Alcance!$E617,F$382)","v":0},{"$f":"COUNTIF(Alcance!$E617,G$382)","v":0},{"$f":"COUNTIF(Alcance!$E617,H$382)","v":0},0,0.5,0]
["Compuestos Orgánicos Volátiles",null,"1,2-Dicloroetano",null,{"$f":"COUNTIF(Alcance!$E618,E$382)","v":0},{"$f":"COUNTIF(Alcance!$E618,F$382)","v":0},{"$f":"COUNTIF(Alcance!$E618,G$382)","v":0},{"$f":"COUNTIF(Alcance!$E618,H$382)","v":0},0,0.5,0]
["Compuestos Orgánicos Volátiles",null,"trans-1,2-Dicloroetano",null,{"$f":"COUNTIF(Alcance!$E619,E$382)","v":0},{"$f":"COUNTIF(Alcance!$E619,F$382)","v":0},{"$f":"COUNTIF(Alcance!$E619,G$382)","v":0},{"$f":"COUNTIF(Alcance!$E619,H$382)","v":0},0,0.5,0]
["Compuestos Orgánicos Volátiles",null,"1,2-Dicloropropano",null,{"$f":"COUNTIF(Alcance!$E620,E$382)","v":0},{"$f":"COUNTIF(Alcance!$E620,F$382)","v":0},{"$f":"COUNTIF(Alcance!$E620,G$382)","v":0},{"$f":"COUNTIF(Alcance!$E620,H$382)","v":0},0,0.5,0]
["Compuestos Orgánicos Volátiles",null,"1,3-Dicloro-2-propanol",null,{"$f":"COUNTIF(Alcance!$E621,E$382)","v":0},{"$f":"COUNTIF(Alcance!$E621,F$382)","v":0},{"$f":"COUNTIF(Alcance!$E621,G$382)","v":0},{"$f":"COUNTIF(Alcance!$E621,H$382)","v":0},0,0.5,0]
["Compuestos Orgánicos Volátiles",null,"Cis-1,3-Dicloropropano",null,{"$f":"COUNTIF(Alcance!$E622,E$382)","v":0},{"$f":"COUNTIF(Alcance!$E622,F$382)","v":0},{"$f":"COUNTIF(Alcance!$E622,G$382)","v":0},{"$f":"COUNTIF(Alcance!$E622,H$382)","v":0},0,0.5,0]
["Compuestos Orgánicos Volátiles",null,"Trans-1,3-Dicloropropano",null,{"$f":"COUNTIF(Alcance!$E623,E$382)","v":0},{"$f":"COUNTIF(Alcance!$E623,F$382)","v":0},{"$f":"COUNTIF(Alcance!$E623,G$382)","v":0},{"$f":"COUNTIF(Alcance!$E623,H$382)","v":0},0,0.5,0]
["Compuestos Orgánicos Volátiles",null,"Dietil Eter",null,{"$f":"COUNTIF(Alcance!$E624,E$382)","v":0},{"$f":"COUNTIF(Alcance!$E624,F$382)","v":0},{"$f":"COUNTIF(Alcance!$E624,G$382)","v":0},{"$f":"COUNTIF(Alcance!$E624,H$382)","v":0},0,0.5,0]
["Compuestos Orgánicos Volátiles",null,"Etil terc-butil éter",null,{"$f":"COUNTIF(Alcance!$E625,E$382)","v":0},{"$f":"COUNTIF(Alcance!$E625,F$382)","v":0},{"$f":"COUNTIF(Alcance!$E625,G$382)","v":0},{"$f":"COUNTIF(Alcance!$E625,H$382)","v":0},0,0.5,0]
["Compuestos Orgánicos Volátiles",null,"Hexaclorobutadieno",null,{"$f":"COUNTIF(Alcance!$E626,E$382)","v":0},{"$f":"COUNTIF(Alcance!$E626,F$382)","v":0},{"$f":"COUNTIF(Alcance!$E626,G$382)","v":0},{"$f":"COUNTIF(Alcance!$E626,H$382)","v":0},0,0.5,0]
["Compuestos Orgánicos Volátiles",null,"Hexacloroetano",null,{"$f":"COUNTIF(Alcance!$E627,E$382)","v":0},{"$f":"COUNTIF(Alcance!$E627,F$382)","v":0},{"$f":"COUNTIF(Alcance!$E627,G$382)","v":0},{"$f":"COUNTIF(Alcance!$E627,H$382)","v":0},0,0.5,0]
["Compuestos Orgánicos Volátiles",null,"Alcohol Isobutílico",null,{"$f":"COUNTIF(Alcance!$E628,E$382)","v":0},{"$f":"COUNTIF(Alcance!$E628,F$382)","v":0},{"$f":"COUNTIF(Alcance!$E628,G$382)","v":0},{"$f":"COUNTIF(Alcance!$E628,H$382)","v":0},0,0.5,0]
["Compuestos Orgánicos Volátiles",null,"Cloruro de metileno",null,{"$f":"COUNTIF(Alcance!$E629,E$382)","v":0},{"$f":"COUNTIF(Alcance!$E629,F$382)","v":0},{"$f":"COUNTIF(Alcance!$E629,G$382)","v":0},{"$f":"COUNTIF(Alcance!$E629,H$382)","v":0},0,0.5,0]
["Compuestos Orgánicos Volátiles",null,"4 - Metil - 2 - pentanona",null,{"$f":"COUNTIF(Alcance!$E630,E$382)","v":0},{"$f":"COUNTIF(Alcance!$E630,F$382)","v":0},{"$f":"COUNTIF(Alcance!$E630,G$382)","v":0},{"$f":"COUNTIF(Alcance!$E630,H$382)","v":0},0,0.5,0]
["Compuestos Orgánicos Volátiles",null,"Metil terc-butil éter",null,{"$f":"COUNTIF(Alcance!$E631,E$382)","v":0},{"$f":"COUNTIF(Alcance!$E631,F$382)","v":0},{"$f":"COUNTIF(Alcance!$E631,G$382)","v":0},{"$f":"COUNTIF(Alcance!$E631,H$382)","v":0},0,0.5,0]
["Compuestos Orgánicos Volátiles",null,"Naftaleno",null,{"$f":"COUNTIF(Alcance!$E632,E$382)","v":0},{"$f":"COUNTIF(Alcance!$E632,F$382)","v":0},{"$f":"COUNTIF(Alcance!$E632,G$382)","v":0},{"$f":"COUNTIF(Alcance!$E632,H$382)","v":0},0,0.5,0]
["Compuestos Orgánicos Volátiles",null,"Nitrobenceno",null,{"$f":"COUNTIF(Alcance!$E633,E$382)","v":0},{"$f":"COUNTIF(Alcance!$E633,F$382)","v":0},{"$f":"COUNTIF(Alcance!$E633,G$382)","v":0},{"$f":"COUNTIF(Alcance!$E633,H$382)","v":0},0,0.5,0]
["Compuestos Orgánicos Volátiles",null,"n-Nitroso-di-n-butilamina",null,{"$f":"COUNTIF(Alcance!$E634,E$382)","v":0},{"$f":"COUNTIF(Alcance!$E634,F$382)","v":0},{"$f":"COUNTIF(Alcance!$E634,G$382)","v":0},{"$f":"COUNTIF(Alcance!$E634,H$382)","v":0},0,0.5,0]
["Compuestos Orgánicos Volátiles",null,"Pentacloroetano",null,{"$f":"COUNTIF(Alcance!$E635,E$382)","v":0},{"$f":"COUNTIF(Alcance!$E635,F$382)","v":0},{"$f":"COUNTIF(Alcance!$E635,G$382)","v":0},{"$f":"COUNTIF(Alcance!$E635,H$382)","v":0},0,0.5,0]
["Compuestos Orgánicos Volátiles",null,"2-Pentanona",null,{"$f":"COUNTIF(Alcance!$E636,E$382)","v":0},{"$f":"COUNTIF(Alcance!$E636,F$382)","v":0},{"$f":"COUNTIF(Alcance!$E636,G$382)","v":0},{"$f":"COUNTIF(Alcance!$E636,H$382)","v":0},0,0.5,0]
["Compuestos Orgánicos Volátiles",null,"1-Propanol ",null,{"$f":"COUNTIF(Alcance!$E637,E$382)","v":0},{"$f":"COUNTIF(Alcance!$E637,F$382)","v":0},{"$f":"COUNTIF(Alcance!$E637,G$382)","v":0},{"$f":"COUNTIF(Alcance!$E637,H$382)","v":0},0,0.5,0]
["Compuestos Orgánicos Volátiles",null,"2-Propanol",null,{"$f":"COUNTIF(Alcance!$E638,E$382)","v":0},{"$f":"COUNTIF(Alcance!$E638,F$382)","v":0},{"$f":"COUNTIF(Alcance!$E638,G$382)","v":0},{"$f":"COUNTIF(Alcance!$E638,H$382)","v":0},0,0.5,0]
["Compuestos Orgánicos Volátiles",null,"n-Propilamina",null,{"$f":"COUNTIF(Alcance!$E639,E$382)","v":0},{"$f":"COUNTIF(Alcance!$E639,F$382)","v":0},{"$f":"COUNTIF(Alcance!$E639,G$382)","v":0},{"$f":"COUNTIF(Alcance!$E639,H$382)","v":0},0,0.5,0]
["Compuestos Orgánicos Volátiles",null,"Piridina",null,{"$f":"COUNTIF(Alcance!$E640,E$382)","v":0},{"$f":"COUNTIF(Alcance!$E640,F$382)","v":0},{"$f":"COUNTIF(Alcance!$E640,G$382)","v":0},{"$f":"COUNTIF(Alcance!$E640,H$382)","v":0},0,0.5,0]
["Compuestos Orgánicos Volátiles",null,"Estireno",null,{"$f":"COUNTIF(Alcance!$E641,E$382)","v":0},{"$f":"COUNTIF(Alcance!$E641,F$382)","v":0},{"$f":"COUNTIF(Alcance!$E641,G$382)","v":0},{"$f":"COUNTIF(Alcance!$E641,H$382)","v":0},0,0.5,0]
["Compuestos Orgánicos Volátiles",null,"1,1,1,2-Tetracloroetano",null,{"$f":"COUNTIF(Alcance!$E642,E$382)","v":0},{"$f":"COUNTIF(Alcance!$E642,F$382)","v":0},{"$f":"COUNTIF(Alcance!$E642,G$382)","v":0},{"$f":"COUNTIF(Alcance!$E642,H$382)","v":0},0,0.5,0]
["Compuestos Orgánicos Volátiles",null,"1,1,2,2-Tetracloroetano",null,{"$f":"COUNTIF(Alcance!$E643,E$382)","v":0},{"$f":"COUNTIF(Alcance!$E643,F$382)","v":0},{"$f":"COUNTIF(Alcance!$E643,G$382)","v":0},{"$f":"COUNTIF(Alcance!$E643,H$382)","v":0},0,0.5,0]
["Compuestos Orgánicos Volátiles",null,"Tetracloroetano",null,{"$f":"COUNTIF(Alcance!$E644,E$382)","v":0},{"$f":"COUNTIF(Alcance!$E644,F$382)","v":0},{"$f":"COUNTIF(Alcance!$E644,G$382)","v":0},{"$f":"COUNTIF(Alcance!$E644,H$382)","v":0},0,0.5,0]
["Compuestos Orgánicos Volátiles",null,"1,2,4-Triclorobenceno",null,{"$f":"COUNTIF(Alcance!$E645,E$382)","v":0},{"$f":"COUNTIF(Alcance!$E645,F$382)","v":0},{"$f":"COUNTIF(Alcance!$E645,G$382)","v":0},{"$f":"COUNTIF(Alcance!$E645,H$382)","v":0},0,0.5,0]
["Compuestos Orgánicos Volátiles",null,"1,1,1-Tricoloetano",null,{"$f":"COUNTIF(Alcance!$E646,E$382)","v":0},{"$f":"COUNTIF(Alcance!$E646,F$382)","v":0},{"$f":"COUNTIF(Alcance!$E646,G$382)","v":0},{"$f":"COUNTIF(Alcance!$E646,H$382)","v":0},0,0.5,0]
["Compuestos Orgánicos Volátiles",null,"1,1,2-Tricloroetano",null,{"$f":"COUNTIF(Alcance!$E647,E$382)","v":0},{"$f":"COUNTIF(Alcance!$E647,F$382)","v":0},{"$f":"COUNTIF(Alcance!$E647,G$382)","v":0},{"$f":"COUNTIF(Alcance!$E647,H$382)","v":0},0,0.5,0]
["Compuestos Orgánicos Volátiles",null,"Tricloroetano",null,{"$f":"COUNTIF(Alcance!$E648,E$382)","v":0},{"$f":"COUNTIF(Alcance!$E648,F$382)","v":0},{"$f":"COUNTIF(Alcance!$E648,G$382)","v":0},{"$f":"COUNTIF(Alcance!$E648,H$382)","v":0},0,0.5,0]
["Compuestos Orgánicos Volátiles",null,"Triclorofluorometano",null,{"$f":"COUNTIF(Alcance!$E649,E$382)","v":0},{"$f":"COUNTIF(Alcance!$E649,F$382)","v":0},{"$f":"COUNTIF(Alcance!$E649,G$382)","v":0},{"$f":"COUNTIF(Alcance!$E649,H$382)","v":0},0,0.5,0]
["Compuestos Orgánicos Volátiles",null,"1,2,3-Tricloropropano",null,{"$f":"COUNTIF(Alcance!$E650,E$382)","v":0},{"$f":"COUNTIF(Alcance!$E650,F$382)","v":0},{"$f":"COUNTIF(Alcance!$E650,G$382)","v":0},{"$f":"COUNTIF(Alcance!$E650,H$382)","v":0},0,0.5,0]
["Compuestos Orgánicos Volátiles",null,"Acetato de vinilo",null,{"$f":"COUNTIF(Alcance!$E651,E$382)","v":0},{"$f":"COUNTIF(Alcance!$E651,F$382)","v":0},{"$f":"COUNTIF(Alcance!$E651,G$382)","v":0},{"$f":"COUNTIF(Alcance!$E651,H$382)","v":0},0,0.5,0]
["Compuestos Orgánicos Volátiles",null,"Cloruro de vinilo",null,{"$f":"COUNTIF(Alcance!$E652,E$382)","v":0},{"$f":"COUNTIF(Alcance!$E652,F$382)","v":0},{"$f":"COUNTIF(Alcance!$E652,G$382)","v":0},{"$f":"COUNTIF(Alcance!$E652,H$382)","v":0},0,0.5,0]
["Compuestos Orgánicos Volátiles",null,"1,2,4-Trimetilbenceno",null,{"$f":"COUNTIF(Alcance!$E653,E$382)","v":0},{"$f":"COUNTIF(Alcance!$E653,F$382)","v":0},{"$f":"COUNTIF(Alcance!$E653,G$382)","v":0},{"$f":"COUNTIF(Alcance!$E653,H$382)","v":0},0,0.5,0]
["Compuestos Orgánicos Volátiles",null,"1,3,5-Trimetilbenceno",null,{"$f":"COUNTIF(Alcance!$E654,E$382)","v":0},{"$f":"COUNTIF(Alcance!$E654,F$382)","v":0},{"$f":"COUNTIF(Alcance!$E654,G$382)","v":0},{"$f":"COUNTIF(Alcance!$E654,H$382)","v":0},0,0.5,0]
["Compuestos Orgánicos Volátiles",null,"Diclorometano",null,{"$f":"COUNTIF(Alcance!$E655,E$382)","v":0},{"$f":"COUNTIF(Alcance!$E655,F$382)","v":0},{"$f":"COUNTIF(Alcance!$E655,G$382)","v":0},{"$f":"COUNTIF(Alcance!$E655,H$382)","v":0},0,0.5,0]
["Compuestos Orgánicos Volátiles",null,"Percloroetileno",null,{"$f":"COUNTIF(Alcance!$E656,E$382)","v":0},{"$f":"COUNTIF(Alcance!$E656,F$382)","v":0},{"$f":"COUNTIF(Alcance!$E656,G$382)","v":0},{"$f":"COUNTIF(Alcance!$E656,H$382)","v":0},0,0.5,0]
["Compuestos Orgánicos Volátiles",null,"1,1,1-Tricloroetano",null,{"$f":"COUNTIF(Alcance!$E657,E$382)","v":0},{"$f":"COUNTIF(Alcance!$E657,F$382)","v":0},{"$f":"COUNTIF(Alcance!$E657,G$382)","v":0},{"$f":"COUNTIF(Alcance!$E657,H$382)","v":0},0,0.5,0]
["Compuestos Orgánicos Volátiles",null,"Tricloroetileno",null,{"$f":"COUNTIF(Alcance!$E658,E$382)","v":0},{"$f":"COUNTIF(Alcance!$E658,F$382)","v":0},{"$f":"COUNTIF(Alcance!$E658,G$382)","v":0},{"$f":"COUNTIF(Alcance!$E658,H$382)","v":0},0,0.5,0]
["Compuestos Orgánicos Volátiles - BTEX",null,"Benceno ",null,{"$f":"COUNTIF(Alcance!$E659,E$382)","v":0},{"$f":"COUNTIF(Alcance!$E659,F$382)","v":0},{"$f":"COUNTIF(Alcance!$E659,G$382)","v":0},{"$f":"COUNTIF(Alcance!$E659,H$382)","v":0},0,0.5,0]
["Compuestos Orgánicos Volátiles - BTEX",null,"Tolueno",null,{"$f":"COUNTIF(Alcance!$E660,E$382)","v":0},{"$f":"COUNTIF(Alcance!$E660,F$382)","v":0},{"$f":"COUNTIF(Alcance!$E660,G$382)","v":0},{"$f":"COUNTIF(Alcance!$E660,H$382)","v":0},0,0.5,0]
["Compuestos Orgánicos Volátiles - BTEX",null,"Etilbenceno",null,{"$f":"COUNTIF(Alcance!$E661,E$382)","v":0},{"$f":"COUNTIF(Alcance!$E661,F$382)","v":0},{"$f":"COUNTIF(Alcance!$E661,G$382)","v":0},{"$f":"COUNTIF(Alcance!$E661,H$382)","v":0},0,0.5,0]
["Compuestos Orgánicos Volátiles - BTEX",null,"o-Xileno",null,{"$f":"COUNTIF(Alcance!$E662,E$382)","v":0},{"$f":"COUNTIF(Alcance!$E662,F$382)","v":0},{"$f":"COUNTIF(Alcance!$E662,G$382)","v":0},{"$f":"COUNTIF(Alcance!$E662,H$382)","v":0},0,0.5,0]
["Compuestos Orgánicos Volátiles - BTEX",null,"m-Xileno",null,{"$f":"COUNTIF(Alcance!$E663,E$382)","v":0},{"$f":"COUNTIF(Alcance!$E663,F$382)","v":0},{"$f":"COUNTIF(Alcance!$E663,G$382)","v":0},{"$f":"COUNTIF(Alcance!$E663,H$382)","v":0},0,0.5,0]
["Compuestos Orgánicos Volátiles - BTEX",null,"p-Xileno ",null,{"$f":"COUNTIF(Alcance!$E664,E$382)","v":0},{"$f":"COUNTIF(Alcance!$E664,F$382)","v":0},{"$f":"COUNTIF(Alcance!$E664,G$382)","v":0},{"$f":"COUNTIF(Alcance!$E664,H$382)","v":0},0,0.5,0]
["Compuestos Orgánicos Volátiles - BTEX",null,"m+p-xileno",null,{"$f":"COUNTIF(Alcance!$E665,E$382)","v":0},{"$f":"COUNTIF(Alcance!$E665,F$382)","v":0},{"$f":"COUNTIF(Alcance!$E665,G$382)","v":0},{"$f":"COUNTIF(Alcance!$E665,H$382)","v":0},0,0.5,0]
["Compuestos Orgánicos Volátiles - BTEX",null,"Xileno total",null,{"$f":"COUNTIF(Alcance!$E666,E$382)","v":0},{"$f":"COUNTIF(Alcance!$E666,F$382)","v":0},{"$f":"COUNTIF(Alcance!$E666,G$382)","v":0},{"$f":"COUNTIF(Alcance!$E666,H$382)","v":0},0,0.5,0]
["Pesticidas Organoclorados",null,"Aldrín",null,{"$f":"COUNTIF(Alcance!$E667,E$382)","v":0},{"$f":"COUNTIF(Alcance!$E667,F$382)","v":0},{"$f":"COUNTIF(Alcance!$E667,G$382)","v":0},{"$f":"COUNTIF(Alcance!$E667,H$382)","v":0},0,0.5,0]
["Pesticidas Organoclorados",null,"4,4'-DDD",null,{"$f":"COUNTIF(Alcance!$E668,E$382)","v":0},{"$f":"COUNTIF(Alcance!$E668,F$382)","v":0},{"$f":"COUNTIF(Alcance!$E668,G$382)","v":0},{"$f":"COUNTIF(Alcance!$E668,H$382)","v":0},0,0.5,0]
["Pesticidas Organoclorados",null,"4,4'-DDE",null,{"$f":"COUNTIF(Alcance!$E669,E$382)","v":0},{"$f":"COUNTIF(Alcance!$E669,F$382)","v":0},{"$f":"COUNTIF(Alcance!$E669,G$382)","v":0},{"$f":"COUNTIF(Alcance!$E669,H$382)","v":0},0,0.5,0]
["Pesticidas Organoclorados",null,"4,4'-DDT",null,{"$f":"COUNTIF(Alcance!$E670,E$382)","v":0},{"$f":"COUNTIF(Alcance!$E670,F$382)","v":0},{"$f":"COUNTIF(Alcance!$E670,G$382)","v":0},{"$f":"COUNTIF(Alcance!$E670,H$382)","v":0},0,0.5,0]
["Pesticidas Organoclorados",null,"Dieldrín",null,{"$f":"COUNTIF(Alcance!$E671,E$382)","v":0},{"$f":"COUNTIF(Alcance!$E671,F$382)","v":0},{"$f":"COUNTIF(Alcance!$E671,G$382)","v":0},{"$f":"COUNTIF(Alcance!$E671,H$382)","v":0},0,0.5,0]
["Pesticidas Organoclorados",null,"Heptacloro",null,{"$f":"COUNTIF(Alcance!$E672,E$382)","v":0},{"$f":"COUNTIF(Alcance!$E672,F$382)","v":0},{"$f":"COUNTIF(Alcance!$E672,G$382)","v":0},{"$f":"COUNTIF(Alcance!$E672,H$382)","v":0},0,0.5,0]
["Pesticidas Organoclorados",null,"Heptacloro epoxido",null,{"$f":"COUNTIF(Alcance!$E673,E$382)","v":0},{"$f":"COUNTIF(Alcance!$E673,F$382)","v":0},{"$f":"COUNTIF(Alcance!$E673,G$382)","v":0},{"$f":"COUNTIF(Alcance!$E673,H$382)","v":0},0,0.5,0]
["Pesticidas Organoclorados",null,"Heptacloro benceno",null,{"$f":"COUNTIF(Alcance!$E674,E$382)","v":0},{"$f":"COUNTIF(Alcance!$E674,F$382)","v":0},{"$f":"COUNTIF(Alcance!$E674,G$382)","v":0},{"$f":"COUNTIF(Alcance!$E674,H$382)","v":0},0,0.5,0]
["Pesticidas Organoclorados",null,"Hexaclorociclopentadieno",null,{"$f":"COUNTIF(Alcance!$E675,E$382)","v":0},{"$f":"COUNTIF(Alcance!$E675,F$382)","v":0},{"$f":"COUNTIF(Alcance!$E675,G$382)","v":0},{"$f":"COUNTIF(Alcance!$E675,H$382)","v":0},0,0.5,0]
["Pesticidas Organoclorados",null,"Alfa-BHC",null,{"$f":"COUNTIF(Alcance!$E676,E$382)","v":0},{"$f":"COUNTIF(Alcance!$E676,F$382)","v":0},{"$f":"COUNTIF(Alcance!$E676,G$382)","v":0},{"$f":"COUNTIF(Alcance!$E676,H$382)","v":0},0,0.5,0]
["Pesticidas Organoclorados",null,"Beta-BHC",null,{"$f":"COUNTIF(Alcance!$E677,E$382)","v":0},{"$f":"COUNTIF(Alcance!$E677,F$382)","v":0},{"$f":"COUNTIF(Alcance!$E677,G$382)","v":0},{"$f":"COUNTIF(Alcance!$E677,H$382)","v":0},0,0.5,0]
["Pesticidas Organoclorados",null,"Gama-BHC",null,{"$f":"COUNTIF(Alcance!$E678,E$382)","v":0},{"$f":"COUNTIF(Alcance!$E678,F$382)","v":0},{"$f":"COUNTIF(Alcance!$E678,G$382)","v":0},{"$f":"COUNTIF(Alcance!$E678,H$382)","v":0},0,0.5,0]
["Pesticidas Organoclorados",null,"Delta-BHC",null,{"$f":"COUNTIF(Alcance!$E679,E$382)","v":0},{"$f":"COUNTIF(Alcance!$E679,F$382)","v":0},{"$f":"COUNTIF(Alcance!$E679,G$382)","v":0},{"$f":"COUNTIF(Alcance!$E679,H$382)","v":0},0,0.5,0]
["Pesticidas Organoclorados",null,"Alfa-Clordano (Cis-clordano)",null,{"$f":"COUNTIF(Alcance!$E680,E$382)","v":0},{"$f":"COUNTIF(Alcance!$E680,F$382)","v":0},{"$f":"COUNTIF(Alcance!$E680,G$382)","v":0},{"$f":"COUNTIF(Alcance!$E680,H$382)","v":0},0,0.5,0]
["Pesticidas Organoclorados",null,"Gama-Clordano (Trans-Clordano)",null,{"$f":"COUNTIF(Alcance!$E681,E$382)","v":0},{"$f":"COUNTIF(Alcance!$E681,F$382)","v":0},{"$f":"COUNTIF(Alcance!$E681,G$382)","v":0},{"$f":"COUNTIF(Alcance!$E681,H$382)","v":0},0,0.5,0]
["Pesticidas Organoclorados",null,"Endosulfan I",null,{"$f":"COUNTIF(Alcance!$E682,E$382)","v":0},{"$f":"COUNTIF(Alcance!$E682,F$382)","v":0},{"$f":"COUNTIF(Alcance!$E682,G$382)","v":0},{"$f":"COUNTIF(Alcance!$E682,H$382)","v":0},0,0.5,0]
["Pesticidas Organoclorados",null,"Endosulfan II",null,{"$f":"COUNTIF(Alcance!$E683,E$382)","v":0},{"$f":"COUNTIF(Alcance!$E683,F$382)","v":0},{"$f":"COUNTIF(Alcance!$E683,G$382)","v":0},{"$f":"COUNTIF(Alcance!$E683,H$382)","v":0},0,0.5,0]
["Pesticidas Organoclorados",null,"Endosulfan sulfato",null,{"$f":"COUNTIF(Alcance!$E684,E$382)","v":0},{"$f":"COUNTIF(Alcance!$E684,F$382)","v":0},{"$f":"COUNTIF(Alcance!$E684,G$382)","v":0},{"$f":"COUNTIF(Alcance!$E684,H$382)","v":0},0,0.5,0]
["Pesticidas Organoclorados",null,"Endrín aldehido",null,{"$f":"COUNTIF(Alcance!$E685,E$382)","v":0},{"$f":"COUNTIF(Alcance!$E685,F$382)","v":0},{"$f":"COUNTIF(Alcance!$E685,G$382)","v":0},{"$f":"COUNTIF(Alcance!$E685,H$382)","v":0},0,0.5,0]
["Pesticidas Organoclorados",null,"Endrín cetona",null,{"$f":"COUNTIF(Alcance!$E686,E$382)","v":0},{"$f":"COUNTIF(Alcance!$E686,F$382)","v":0},{"$f":"COUNTIF(Alcance!$E686,G$382)","v":0},{"$f":"COUNTIF(Alcance!$E686,H$382)","v":0},0,0.5,0]
["Pesticidas Organoclorados",null,"Endrín",null,{"$f":"COUNTIF(Alcance!$E687,E$382)","v":0},{"$f":"COUNTIF(Alcance!$E687,F$382)","v":0},{"$f":"COUNTIF(Alcance!$E687,G$382)","v":0},{"$f":"COUNTIF(Alcance!$E687,H$382)","v":0},0,0.5,0]
["Pesticidas Organoclorados",null,"Metoxicloro",null,{"$f":"COUNTIF(Alcance!$E688,E$382)","v":0},{"$f":"COUNTIF(Alcance!$E688,F$382)","v":0},{"$f":"COUNTIF(Alcance!$E688,G$382)","v":0},{"$f":"COUNTIF(Alcance!$E688,H$382)","v":0},0,0.5,0]
["Pesticidas Organoclorados",null,"Toxafeno",null,{"$f":"COUNTIF(Alcance!$E689,E$382)","v":0},{"$f":"COUNTIF(Alcance!$E689,F$382)","v":0},{"$f":"COUNTIF(Alcance!$E689,G$382)","v":0},{"$f":"COUNTIF(Alcance!$E689,H$382)","v":0},0,0.5,0]
["Pesticidas Oganofosforados",null,"Etil-Azinfos",null,{"$f":"COUNTIF(Alcance!$E690,E$382)","v":0},{"$f":"COUNTIF(Alcance!$E690,F$382)","v":0},{"$f":"COUNTIF(Alcance!$E690,G$382)","v":0},{"$f":"COUNTIF(Alcance!$E690,H$382)","v":0},0,0.5,0]
["Pesticidas Oganofosforados",null,"Metil-Azinfos ",null,{"$f":"COUNTIF(Alcance!$E691,E$382)","v":0},{"$f":"COUNTIF(Alcance!$E691,F$382)","v":0},{"$f":"COUNTIF(Alcance!$E691,G$382)","v":0},{"$f":"COUNTIF(Alcance!$E691,H$382)","v":0},0,0.5,0]
["Pesticidas Oganofosforados",null,"Clorfenvinfos",null,{"$f":"COUNTIF(Alcance!$E692,E$382)","v":0},{"$f":"COUNTIF(Alcance!$E692,F$382)","v":0},{"$f":"COUNTIF(Alcance!$E692,G$382)","v":0},{"$f":"COUNTIF(Alcance!$E692,H$382)","v":0},0,0.5,0]
["Pesticidas Oganofosforados",null,"Clorpirifos",null,{"$f":"COUNTIF(Alcance!$E693,E$382)","v":0},{"$f":"COUNTIF(Alcance!$E693,F$382)","v":0},{"$f":"COUNTIF(Alcance!$E693,G$382)","v":0},{"$f":"COUNTIF(Alcance!$E693,H$382)","v":0},0,0.5,0]
["Pesticidas Oganofosforados",null,"Metil Clorpirifos",null,{"$f":"COUNTIF(Alcance!$E694,E$382)","v":0},{"$f":"COUNTIF(Alcance!$E694,F$382)","v":0},{"$f":"COUNTIF(Alcance!$E694,G$382)","v":0},{"$f":"COUNTIF(Alcance!$E694,H$382)","v":0},0,0.5,0]
["Pesticidas Oganofosforados",null,"Coumaphos",null,{"$f":"COUNTIF(Alcance!$E695,E$382)","v":0},{"$f":"COUNTIF(Alcance!$E695,F$382)","v":0},{"$f":"COUNTIF(Alcance!$E695,G$382)","v":0},{"$f":"COUNTIF(Alcance!$E695,H$382)","v":0},0,0.5,0]
["Pesticidas Oganofosforados",null,"Demeton-O",null,{"$f":"COUNTIF(Alcance!$E696,E$382)","v":0},{"$f":"COUNTIF(Alcance!$E696,F$382)","v":0},{"$f":"COUNTIF(Alcance!$E696,G$382)","v":0},{"$f":"COUNTIF(Alcance!$E696,H$382)","v":0},0,0.5,0]
["Pesticidas Oganofosforados",null,"Demeton-S",null,{"$f":"COUNTIF(Alcance!$E697,E$382)","v":0},{"$f":"COUNTIF(Alcance!$E697,F$382)","v":0},{"$f":"COUNTIF(Alcance!$E697,G$382)","v":0},{"$f":"COUNTIF(Alcance!$E697,H$382)","v":0},0,0.5,0]
["Pesticidas Oganofosforados",null,"Diazinon",null,{"$f":"COUNTIF(Alcance!$E698,E$382)","v":0},{"$f":"COUNTIF(Alcance!$E698,F$382)","v":0},{"$f":"COUNTIF(Alcance!$E698,G$382)","v":0},{"$f":"COUNTIF(Alcance!$E698,H$382)","v":0},0,0.5,0]
["Pesticidas Oganofosforados",null,"Diclorvos",null,{"$f":"COUNTIF(Alcance!$E699,E$382)","v":0},{"$f":"COUNTIF(Alcance!$E699,F$382)","v":0},{"$f":"COUNTIF(Alcance!$E699,G$382)","v":0},{"$f":"COUNTIF(Alcance!$E699,H$382)","v":0},0,0.5,0]
["Pesticidas Oganofosforados",null,"Dimetoato",null,{"$f":"COUNTIF(Alcance!$E700,E$382)","v":0},{"$f":"COUNTIF(Alcance!$E700,F$382)","v":0},{"$f":"COUNTIF(Alcance!$E700,G$382)","v":0},{"$f":"COUNTIF(Alcance!$E700,H$382)","v":0},0,0.5,0]
["Pesticidas Oganofosforados",null,"Dioxatión",null,{"$f":"COUNTIF(Alcance!$E701,E$382)","v":0},{"$f":"COUNTIF(Alcance!$E701,F$382)","v":0},{"$f":"COUNTIF(Alcance!$E701,G$382)","v":0},{"$f":"COUNTIF(Alcance!$E701,H$382)","v":0},0,0.5,0]
["Pesticidas Oganofosforados",null,"Disulfoton",null,{"$f":"COUNTIF(Alcance!$E702,E$382)","v":0},{"$f":"COUNTIF(Alcance!$E702,F$382)","v":0},{"$f":"COUNTIF(Alcance!$E702,G$382)","v":0},{"$f":"COUNTIF(Alcance!$E702,H$382)","v":0},0,0.5,0]
["Pesticidas Oganofosforados",null,"Fenitrotion",null,{"$f":"COUNTIF(Alcance!$E703,E$382)","v":0},{"$f":"COUNTIF(Alcance!$E703,F$382)","v":0},{"$f":"COUNTIF(Alcance!$E703,G$382)","v":0},{"$f":"COUNTIF(Alcance!$E703,H$382)","v":0},0,0.5,0]
["Pesticidas Oganofosforados",null,"Fention",null,{"$f":"COUNTIF(Alcance!$E704,E$382)","v":0},{"$f":"COUNTIF(Alcance!$E704,F$382)","v":0},{"$f":"COUNTIF(Alcance!$E704,G$382)","v":0},{"$f":"COUNTIF(Alcance!$E704,H$382)","v":0},0,0.5,0]
["Pesticidas Oganofosforados",null,"Malation",null,{"$f":"COUNTIF(Alcance!$E705,E$382)","v":0},{"$f":"COUNTIF(Alcance!$E705,F$382)","v":0},{"$f":"COUNTIF(Alcance!$E705,G$382)","v":0},{"$f":"COUNTIF(Alcance!$E705,H$382)","v":0},0,0.5,0]
["Pesticidas Oganofosforados",null,"Mevinphos",null,{"$f":"COUNTIF(Alcance!$E706,E$382)","v":0},{"$f":"COUNTIF(Alcance!$E706,F$382)","v":0},{"$f":"COUNTIF(Alcance!$E706,G$382)","v":0},{"$f":"COUNTIF(Alcance!$E706,H$382)","v":0},0,0.5,0]
["Pesticidas Oganofosforados",null,"Metil paration",null,{"$f":"COUNTIF(Alcance!$E707,E$382)","v":0},{"$f":"COUNTIF(Alcance!$E707,F$382)","v":0},{"$f":"COUNTIF(Alcance!$E707,G$382)","v":0},{"$f":"COUNTIF(Alcance!$E707,H$382)","v":0},0,0.5,0]
["Pesticidas Oganofosforados",null,"Etil paration",null,{"$f":"COUNTIF(Alcance!$E708,E$382)","v":0},{"$f":"COUNTIF(Alcance!$E708,F$382)","v":0},{"$f":"COUNTIF(Alcance!$E708,G$382)","v":0},{"$f":"COUNTIF(Alcance!$E708,H$382)","v":0},0,0.5,0]
["Pesticidas Oganofosforados",null,"Ronnel",null,{"$f":"COUNTIF(Alcance!$E709,E$382)","v":0},{"$f":"COUNTIF(Alcance!$E709,F$382)","v":0},{"$f":"COUNTIF(Alcance!$E709,G$382)","v":0},{"$f":"COUNTIF(Alcance!$E709,H$382)","v":0},0,0.5,0]
["Pesticidas Oganofosforados",null,"Estirofos",null,{"$f":"COUNTIF(Alcance!$E710,E$382)","v":0},{"$f":"COUNTIF(Alcance!$E710,F$382)","v":0},{"$f":"COUNTIF(Alcance!$E710,G$382)","v":0},{"$f":"COUNTIF(Alcance!$E710,H$382)","v":0},0,0.5,0]
["Pesticidas Oganofosforados",null,"Atrazina",null,{"$f":"COUNTIF(Alcance!$E711,E$382)","v":0},{"$f":"COUNTIF(Alcance!$E711,F$382)","v":0},{"$f":"COUNTIF(Alcance!$E711,G$382)","v":0},{"$f":"COUNTIF(Alcance!$E711,H$382)","v":0},0,0.5,0]
["Pesticidas Oganofosforados",null,"Simazina",null,{"$f":"COUNTIF(Alcance!$E712,E$382)","v":0},{"$f":"COUNTIF(Alcance!$E712,F$382)","v":0},{"$f":"COUNTIF(Alcance!$E712,G$382)","v":0},{"$f":"COUNTIF(Alcance!$E712,H$382)","v":0},0,0.5,0]
["Pesticidas Oganofosforados",null,"Metiocarb",null,{"$f":"COUNTIF(Alcance!$E713,E$382)","v":0},{"$f":"COUNTIF(Alcance!$E713,F$382)","v":0},{"$f":"COUNTIF(Alcance!$E713,G$382)","v":0},{"$f":"COUNTIF(Alcance!$E713,H$382)","v":0},{"$f":"SUM(E638:H638)","v":0},0.5,{"$f":"I638*J638","v":0}]
["Pesticidas Oganofosforados",null,"Profam",null,{"$f":"COUNTIF(Alcance!$E714,E$382)","v":0},{"$f":"COUNTIF(Alcance!$E714,F$382)","v":0},{"$f":"COUNTIF(Alcance!$E714,G$382)","v":0},{"$f":"COUNTIF(Alcance!$E714,H$382)","v":0},0,0.5,0]
["Pesticidas Oganofosforados",null,"Etion",null,{"$f":"COUNTIF(Alcance!$E715,E$382)","v":0},{"$f":"COUNTIF(Alcance!$E715,F$382)","v":0},{"$f":"COUNTIF(Alcance!$E715,G$382)","v":0},{"$f":"COUNTIF(Alcance!$E715,H$382)","v":0},0,0.5,0]
["Pesticidas Oganofosforados",null,"Etil gution",null,{"$f":"COUNTIF(Alcance!$E716,E$382)","v":0},{"$f":"COUNTIF(Alcance!$E716,F$382)","v":0},{"$f":"COUNTIF(Alcance!$E716,G$382)","v":0},{"$f":"COUNTIF(Alcance!$E716,H$382)","v":0},0,0.5,0]
["Pesticidas Oganofosforados",null,"Gution",null,{"$f":"COUNTIF(Alcance!$E717,E$382)","v":0},{"$f":"COUNTIF(Alcance!$E717,F$382)","v":0},{"$f":"COUNTIF(Alcance!$E717,G$382)","v":0},{"$f":"COUNTIF(Alcance!$E717,H$382)","v":0},0,0.5,0]
["Pesticidas Oganofosforados",null,"Clorotalonil",null,{"$f":"COUNTIF(Alcance!$E718,E$382)","v":0},{"$f":"COUNTIF(Alcance!$E718,F$382)","v":0},{"$f":"COUNTIF(Alcance!$E718,G$382)","v":0},{"$f":"COUNTIF(Alcance!$E718,H$382)","v":0},0,0.5,0]
["Pesticidas Oganofosforados",null,"Penoxalin",null,{"$f":"COUNTIF(Alcance!$E719,E$382)","v":0},{"$f":"COUNTIF(Alcance!$E719,F$382)","v":0},{"$f":"COUNTIF(Alcance!$E719,G$382)","v":0},{"$f":"COUNTIF(Alcance!$E719,H$382)","v":0},0,0.5,0]
["Pesticidas Oganofosforados",null,"Primicarb",null,{"$f":"COUNTIF(Alcance!$E720,E$382)","v":0},{"$f":"COUNTIF(Alcance!$E720,F$382)","v":0},{"$f":"COUNTIF(Alcance!$E720,G$382)","v":0},{"$f":"COUNTIF(Alcance!$E720,H$382)","v":0},0,0.5,0]
["Pesticidas Oganofosforados",null,"Propetanfos",null,{"$f":"COUNTIF(Alcance!$E721,E$382)","v":0},{"$f":"COUNTIF(Alcance!$E721,F$382)","v":0},{"$f":"COUNTIF(Alcance!$E721,G$382)","v":0},{"$f":"COUNTIF(Alcance!$E721,H$382)","v":0},0,0.5,0]
["Pesticidas Oganofosforados",null,"Terbutrin",null,{"$f":"COUNTIF(Alcance!$E722,E$382)","v":0},{"$f":"COUNTIF(Alcance!$E722,F$382)","v":0},{"$f":"COUNTIF(Alcance!$E722,G$382)","v":0},{"$f":"COUNTIF(Alcance!$E722,H$382)","v":0},0,0.5,0]
["Pesticidas Oganofosforados",null,"Trietazina",null,{"$f":"COUNTIF(Alcance!$E723,E$382)","v":0},{"$f":"COUNTIF(Alcance!$E723,F$382)","v":0},{"$f":"COUNTIF(Alcance!$E723,G$382)","v":0},{"$f":"COUNTIF(Alcance!$E723,H$382)","v":0},0,0.5,0]
["PCBs en Agua",null,"Aroclor 1016",null,{"$f":"COUNTIF(Alcance!$E724,E$382)","v":0},{"$f":"COUNTIF(Alcance!$E724,F$382)","v":0},{"$f":"COUNTIF(Alcance!$E724,G$382)","v":0},{"$f":"COUNTIF(Alcance!$E724,H$382)","v":0},0,1,0]
["PCB s en Agua",null,"Aroclor 1221",null,{"$f":"COUNTIF(Alcance!$E725,E$382)","v":0},{"$f":"COUNTIF(Alcance!$E725,F$382)","v":0},{"$f":"COUNTIF(Alcance!$E725,G$382)","v":0},{"$f":"COUNTIF(Alcance!$E725,H$382)","v":0},0,1,0]
["PCB s en Agua",null,"Aroclor 1232",null,{"$f":"COUNTIF(Alcance!$E726,E$382)","v":0},{"$f":"COUNTIF(Alcance!$E726,F$382)","v":0},{"$f":"COUNTIF(Alcance!$E726,G$382)","v":0},{"$f":"COUNTIF(Alcance!$E726,H$382)","v":0},0,1,0]
["PCB s en Agua",null,"Aroclor 1242",null,{"$f":"COUNTIF(Alcance!$E727,E$382)","v":0},{"$f":"COUNTIF(Alcance!$E727,F$382)","v":0},{"$f":"COUNTIF(Alcance!$E727,G$382)","v":0},{"$f":"COUNTIF(Alcance!$E727,H$382)","v":0},0,1,0]
["PCB s en Agua",null,"Aroclor 1248",null,{"$f":"COUNTIF(Alcance!$E728,E$382)","v":0},{"$f":"COUNTIF(Alcance!$E728,F$382)","v":0},{"$f":"COUNTIF(Alcance!$E728,G$382)","v":0},{"$f":"COUNTIF(Alcance!$E728,H$382)","v":0},0,1,0]
["PCB s en Agua",null,"Aroclor 1254",null,{"$f":"COUNTIF(Alcance!$E729,E$382)","v":0},{"$f":"COUNTIF(Alcance!$E729,F$382)","v":0},{"$f":"COUNTIF(Alcance!$E729,G$382)","v":0},{"$f":"COUNTIF(Alcance!$E729,H$382)","v":0},0,1,0]
["PCB s en Agua",null,"Aroclor 1260",null,{"$f":"COUNTIF(Alcance!$E730,E$382)","v":0},{"$f":"COUNTIF(Alcance!$E730,F$382)","v":0},{"$f":"COUNTIF(Alcance!$E730,G$382)","v":0},{"$f":"COUNTIF(Alcance!$E730,H$382)","v":0},0,1,0]
["Herbicidas",null,"Pentaclorofenol",null,{"$f":"COUNTIF(Alcance!$E731,E$382)","v":0},{"$f":"COUNTIF(Alcance!$E731,F$382)","v":0},{"$f":"COUNTIF(Alcance!$E731,G$382)","v":0},{"$f":"COUNTIF(Alcance!$E731,H$382)","v":0},0,0.5,0]
["Herbicidas",null,"Acifluorfen",null,{"$f":"COUNTIF(Alcance!$E732,E$382)","v":0},{"$f":"COUNTIF(Alcance!$E732,F$382)","v":0},{"$f":"COUNTIF(Alcance!$E732,G$382)","v":0},{"$f":"COUNTIF(Alcance!$E732,H$382)","v":0},0,0.5,0]
["Herbicidas",null,"Bentazon",null,{"$f":"COUNTIF(Alcance!$E733,E$382)","v":0},{"$f":"COUNTIF(Alcance!$E733,F$382)","v":0},{"$f":"COUNTIF(Alcance!$E733,G$382)","v":0},{"$f":"COUNTIF(Alcance!$E733,H$382)","v":0},0,0.5,0]
["Herbicidas",null,"2,4-D Total",null,{"$f":"COUNTIF(Alcance!$E734,E$382)","v":0},{"$f":"COUNTIF(Alcance!$E734,F$382)","v":0},{"$f":"COUNTIF(Alcance!$E734,G$382)","v":0},{"$f":"COUNTIF(Alcance!$E734,H$382)","v":0},0,0.5,0]
["Herbicidas",null,"2,4-DB",null,{"$f":"COUNTIF(Alcance!$E735,E$382)","v":0},{"$f":"COUNTIF(Alcance!$E735,F$382)","v":0},{"$f":"COUNTIF(Alcance!$E735,G$382)","v":0},{"$f":"COUNTIF(Alcance!$E735,H$382)","v":0},0,0.5,0]
["Herbicidas",null,"Dicamba",null,{"$f":"COUNTIF(Alcance!$E736,E$382)","v":0},{"$f":"COUNTIF(Alcance!$E736,F$382)","v":0},{"$f":"COUNTIF(Alcance!$E736,G$382)","v":0},{"$f":"COUNTIF(Alcance!$E736,H$382)","v":0},0,0.5,0]
["Herbicidas",null,"Acido 3,5-diclorobenzoico",null,{"$f":"COUNTIF(Alcance!$E737,E$382)","v":0},{"$f":"COUNTIF(Alcance!$E737,F$382)","v":0},{"$f":"COUNTIF(Alcance!$E737,G$382)","v":0},{"$f":"COUNTIF(Alcance!$E737,H$382)","v":0},0,0.5,0]
["Herbicidas",null,"Dicloroprop",null,{"$f":"COUNTIF(Alcance!$E738,E$382)","v":0},{"$f":"COUNTIF(Alcance!$E738,F$382)","v":0},{"$f":"COUNTIF(Alcance!$E738,G$382)","v":0},{"$f":"COUNTIF(Alcance!$E738,H$382)","v":0},0,0.5,0]
["Herbicidas",null,"Dinoseb",null,{"$f":"COUNTIF(Alcance!$E739,E$382)","v":0},{"$f":"COUNTIF(Alcance!$E739,F$382)","v":0},{"$f":"COUNTIF(Alcance!$E739,G$382)","v":0},{"$f":"COUNTIF(Alcance!$E739,H$382)","v":0},0,0.5,0]
["Herbicidas",null,"5-Hidroxicamba",null,{"$f":"COUNTIF(Alcance!$E740,E$382)","v":0},{"$f":"COUNTIF(Alcance!$E740,F$382)","v":0},{"$f":"COUNTIF(Alcance!$E740,G$382)","v":0},{"$f":"COUNTIF(Alcance!$E740,H$382)","v":0},0,0.5,0]
["Herbicidas",null,"Picloram",null,{"$f":"COUNTIF(Alcance!$E741,E$382)","v":0},{"$f":"COUNTIF(Alcance!$E741,F$382)","v":0},{"$f":"COUNTIF(Alcance!$E741,G$382)","v":0},{"$f":"COUNTIF(Alcance!$E741,H$382)","v":0},0,0.5,0]
["Herbicidas",null,"Silvex",null,{"$f":"COUNTIF(Alcance!$E742,E$382)","v":0},{"$f":"COUNTIF(Alcance!$E742,F$382)","v":0},{"$f":"COUNTIF(Alcance!$E742,G$382)","v":0},{"$f":"COUNTIF(Alcance!$E742,H$382)","v":0},0,0.5,0]
["Herbicidas",null,"2,4,5-T",null,{"$f":"COUNTIF(Alcance!$E743,E$382)","v":0},{"$f":"COUNTIF(Alcance!$E743,F$382)","v":0},{"$f":"COUNTIF(Alcance!$E743,G$382)","v":0},{"$f":"COUNTIF(Alcance!$E743,H$382)","v":0},0,0.5,0]
["Herbicidas",null,"Diquat",null,{"$f":"COUNTIF(Alcance!$E744,E$382)","v":0},{"$f":"COUNTIF(Alcance!$E744,F$382)","v":0},{"$f":"COUNTIF(Alcance!$E744,G$382)","v":0},{"$f":"COUNTIF(Alcance!$E744,H$382)","v":0},0,0.5,0]
["Herbicidas",null,"Endotal",null,{"$f":"COUNTIF(Alcance!$E745,E$382)","v":0},{"$f":"COUNTIF(Alcance!$E745,F$382)","v":0},{"$f":"COUNTIF(Alcance!$E745,G$382)","v":0},{"$f":"COUNTIF(Alcance!$E745,H$382)","v":0},0,0.5,0]
["Herbicidas",null,"Glifosato",null,{"$f":"COUNTIF(Alcance!$E746,E$382)","v":0},{"$f":"COUNTIF(Alcance!$E746,F$382)","v":0},{"$f":"COUNTIF(Alcance!$E746,G$382)","v":0},{"$f":"COUNTIF(Alcance!$E746,H$382)","v":0},0,0.5,0]
["Herbicidas",null,"Paraquat",null,{"$f":"COUNTIF(Alcance!$E747,E$382)","v":0},{"$f":"COUNTIF(Alcance!$E747,F$382)","v":0},{"$f":"COUNTIF(Alcance!$E747,G$382)","v":0},{"$f":"COUNTIF(Alcance!$E747,H$382)","v":0},0,0.5,0]
["Toxafeno",null,"Toxafeno",null,{"$f":"COUNTIF(Alcance!$E748,E$382)","v":0},{"$f":"COUNTIF(Alcance!$E748,F$382)","v":0},{"$f":"COUNTIF(Alcance!$E748,G$382)","v":0},{"$f":"COUNTIF(Alcance!$E748,H$382)","v":0},0,1,0]
["Clordano",null,"Clordano Total",null,{"$f":"COUNTIF(Alcance!$E749,E$382)","v":0},{"$f":"COUNTIF(Alcance!$E749,F$382)","v":0},{"$f":"COUNTIF(Alcance!$E749,G$382)","v":0},{"$f":"COUNTIF(Alcance!$E749,H$382)","v":0},0,1,0]
["Carbamatos",null,"Aldicarb sulfona",null,{"$f":"COUNTIF(Alcance!$E750,E$382)","v":0},{"$f":"COUNTIF(Alcance!$E750,F$382)","v":0},{"$f":"COUNTIF(Alcance!$E750,G$382)","v":0},{"$f":"COUNTIF(Alcance!$E750,H$382)","v":0},0,0.5,0]
["Carbamatos",null,"Aldicarb sulfoxido",null,{"$f":"COUNTIF(Alcance!$E751,E$382)","v":0},{"$f":"COUNTIF(Alcance!$E751,F$382)","v":0},{"$f":"COUNTIF(Alcance!$E751,G$382)","v":0},{"$f":"COUNTIF(Alcance!$E751,H$382)","v":0},0,0.5,0]
["Carbamatos",null,"Carbaril (Sevin)",null,{"$f":"COUNTIF(Alcance!$E752,E$382)","v":0},{"$f":"COUNTIF(Alcance!$E752,F$382)","v":0},{"$f":"COUNTIF(Alcance!$E752,G$382)","v":0},{"$f":"COUNTIF(Alcance!$E752,H$382)","v":0},0,0.5,0]
["Carbamatos",null,"Carbofurano (Furaden)",null,{"$f":"COUNTIF(Alcance!$E753,E$382)","v":0},{"$f":"COUNTIF(Alcance!$E753,F$382)","v":0},{"$f":"COUNTIF(Alcance!$E753,G$382)","v":0},{"$f":"COUNTIF(Alcance!$E753,H$382)","v":0},0,0.5,0]
["Carbamatos",null,"Diuron",null,{"$f":"COUNTIF(Alcance!$E754,E$382)","v":0},{"$f":"COUNTIF(Alcance!$E754,F$382)","v":0},{"$f":"COUNTIF(Alcance!$E754,G$382)","v":0},{"$f":"COUNTIF(Alcance!$E754,H$382)","v":0},0,0.5,0]
["Carbamatos",null,"3-Hidroxicarbofurano",null,{"$f":"COUNTIF(Alcance!$E755,E$382)","v":0},{"$f":"COUNTIF(Alcance!$E755,F$382)","v":0},{"$f":"COUNTIF(Alcance!$E755,G$382)","v":0},{"$f":"COUNTIF(Alcance!$E755,H$382)","v":0},0,0.5,0]
["Carbamatos",null,"Metiocarb (Mesurol)",null,{"$f":"COUNTIF(Alcance!$E756,E$382)","v":0},{"$f":"COUNTIF(Alcance!$E756,F$382)","v":0},{"$f":"COUNTIF(Alcance!$E756,G$382)","v":0},{"$f":"COUNTIF(Alcance!$E756,H$382)","v":0},0,0.5,0]
["Carbamatos",null,"Metomil (Lannate)",null,{"$f":"COUNTIF(Alcance!$E757,E$382)","v":0},{"$f":"COUNTIF(Alcance!$E757,F$382)","v":0},{"$f":"COUNTIF(Alcance!$E757,G$382)","v":0},{"$f":"COUNTIF(Alcance!$E757,H$382)","v":0},0,0.5,0]
["Carbamatos",null,"Oxamil",null,{"$f":"COUNTIF(Alcance!$E758,E$382)","v":0},{"$f":"COUNTIF(Alcance!$E758,F$382)","v":0},{"$f":"COUNTIF(Alcance!$E758,G$382)","v":0},{"$f":"COUNTIF(Alcance!$E758,H$382)","v":0},0,0.5,0]
["Carbamatos",null,"Profam",null,{"$f":"COUNTIF(Alcance!$E759,E$382)","v":0},{"$f":"COUNTIF(Alcance!$E759,F$382)","v":0},{"$f":"COUNTIF(Alcance!$E759,G$382)","v":0},{"$f":"COUNTIF(Alcance!$E759,H$382)","v":0},0,0.5,0]
["Carbamatos",null,"Propoxur (Baygon)",null,{"$f":"COUNTIF(Alcance!$E760,E$382)","v":0},{"$f":"COUNTIF(Alcance!$E760,F$382)","v":0},{"$f":"COUNTIF(Alcance!$E760,G$382)","v":0},{"$f":"COUNTIF(Alcance!$E760,H$382)","v":0},0,0.5,0]
["Hidrocarburos Aromáticos Policíclicos (PAHs)",null,"Naftaleno",null,{"$f":"COUNTIF(Alcance!$E761,E$382)","v":0},{"$f":"COUNTIF(Alcance!$E761,F$382)","v":0},{"$f":"COUNTIF(Alcance!$E761,G$382)","v":0},{"$f":"COUNTIF(Alcance!$E761,H$382)","v":0},0,0.5,0]
["Hidrocarburos Aromáticos Policíclicos (PAHs)",null,"Acenafteno",null,{"$f":"COUNTIF(Alcance!$E762,E$382)","v":0},{"$f":"COUNTIF(Alcance!$E762,F$382)","v":0},{"$f":"COUNTIF(Alcance!$E762,G$382)","v":0},{"$f":"COUNTIF(Alcance!$E762,H$382)","v":0},0,0.5,0]
["Hidrocarburos Aromáticos Policíclicos (PAHs)",null,"Acenaftileno",null,{"$f":"COUNTIF(Alcance!$E763,E$382)","v":0},{"$f":"COUNTIF(Alcance!$E763,F$382)","v":0},{"$f":"COUNTIF(Alcance!$E763,G$382)","v":0},{"$f":"COUNTIF(Alcance!$E763,H$382)","v":0},0,0.5,0]
["Hidrocarburos Aromáticos Policíclicos (PAHs)",null,"Antraceno",null,{"$f":"COUNTIF(Alcance!$E764,E$382)","v":0},{"$f":"COUNTIF(Alcance!$E764,F$382)","v":0},{"$f":"COUNTIF(Alcance!$E764,G$382)","v":0},{"$f":"COUNTIF(Alcance!$E764,H$382)","v":0},0,0.5,0]
["Hidrocarburos Aromáticos Policíclicos (PAHs)",null,"Benzo (a)antraceno",null,{"$f":"COUNTIF(Alcance!$E765,E$382)","v":0},{"$f":"COUNTIF(Alcance!$E765,F$382)","v":0},{"$f":"COUNTIF(Alcance!$E765,G$382)","v":0},{"$f":"COUNTIF(Alcance!$E765,H$382)","v":0},0,0.5,0]
["Hidrocarburos Aromáticos Policíclicos (PAHs)",null,"Benzo (a)pireno",null,{"$f":"COUNTIF(Alcance!$E766,E$382)","v":0},{"$f":"COUNTIF(Alcance!$E766,F$382)","v":0},{"$f":"COUNTIF(Alcance!$E766,G$382)","v":0},{"$f":"COUNTIF(Alcance!$E766,H$382)","v":0},0,0.5,0]
["Hidrocarburos Aromáticos Policíclicos (PAHs)",null,"Benzo (b)fluoranteno",null,{"$f":"COUNTIF(Alcance!$E767,E$382)","v":0},{"$f":"COUNTIF(Alcance!$E767,F$382)","v":0},{"$f":"COUNTIF(Alcance!$E767,G$382)","v":0},{"$f":"COUNTIF(Alcance!$E767,H$382)","v":0},0,0.5,0]
["Hidrocarburos Aromáticos Policíclicos (PAHs)",null,"Benzo (j)fluoranteno",null,{"$f":"COUNTIF(Alcance!$E768,E$382)","v":0},{"$f":"COUNTIF(Alcance!$E768,F$382)","v":0},{"$f":"COUNTIF(Alcance!$E768,G$382)","v":0},{"$f":"COUNTIF(Alcance!$E768,H$382)","v":0},0,0.5,0]
["Hidrocarburos Aromáticos Policíclicos (PAHs)",null,"Benzo (k)fluoranteno",null,{"$f":"COUNTIF(Alcance!$E769,E$382)","v":0},{"$f":"COUNTIF(Alcance!$E769,F$382)","v":0},{"$f":"COUNTIF(Alcance!$E769,G$382)","v":0},{"$f":"COUNTIF(Alcance!$E769,H$382)","v":0},0,0.5,0]
["Hidrocarburos Aromáticos Policíclicos (PAHs)",null,"Benzo (g,h,i)perileno",null,{"$f":"COUNTIF(Alcance!$E770,E$382)","v":0},{"$f":"COUNTIF(Alcance!$E770,F$382)","v":0},{"$f":"COUNTIF(Alcance!$E770,G$382)","v":0},{"$f":"COUNTIF(Alcance!$E770,H$382)","v":0},0,0.5,0]
["Hidrocarburos Aromáticos Policíclicos (PAHs)",null,"Criseno",null,{"$f":"COUNTIF(Alcance!$E771,E$382)","v":0},{"$f":"COUNTIF(Alcance!$E771,F$382)","v":0},{"$f":"COUNTIF(Alcance!$E771,G$382)","v":0},{"$f":"COUNTIF(Alcance!$E771,H$382)","v":0},0,0.5,0]
["Hidrocarburos Aromáticos Policíclicos (PAHs)",null,"Dibenz (a,h)antraceno",null,{"$f":"COUNTIF(Alcance!$E772,E$382)","v":0},{"$f":"COUNTIF(Alcance!$E772,F$382)","v":0},{"$f":"COUNTIF(Alcance!$E772,G$382)","v":0},{"$f":"COUNTIF(Alcance!$E772,H$382)","v":0},0,0.5,0]
["Hidrocarburos Aromáticos Policíclicos (PAHs)",null,"Fluoranteno",null,{"$f":"COUNTIF(Alcance!$E773,E$382)","v":0},{"$f":"COUNTIF(Alcance!$E773,F$382)","v":0},{"$f":"COUNTIF(Alcance!$E773,G$382)","v":0},{"$f":"COUNTIF(Alcance!$E773,H$382)","v":0},0,0.5,0]
["Hidrocarburos Aromáticos Policíclicos (PAHs)",null,"Fluoreno",null,{"$f":"COUNTIF(Alcance!$E774,E$382)","v":0},{"$f":"COUNTIF(Alcance!$E774,F$382)","v":0},{"$f":"COUNTIF(Alcance!$E774,G$382)","v":0},{"$f":"COUNTIF(Alcance!$E774,H$382)","v":0},0,0.5,0]
["Hidrocarburos Aromáticos Policíclicos (PAHs)",null,"Indenol (1,2,3-cd)pireno",null,{"$f":"COUNTIF(Alcance!$E775,E$382)","v":0},{"$f":"COUNTIF(Alcance!$E775,F$382)","v":0},{"$f":"COUNTIF(Alcance!$E775,G$382)","v":0},{"$f":"COUNTIF(Alcance!$E775,H$382)","v":0},0,0.5,0]
["Hidrocarburos Aromáticos Policíclicos (PAHs)",null,"3-Metilcolantreno",null,{"$f":"COUNTIF(Alcance!$E776,E$382)","v":0},{"$f":"COUNTIF(Alcance!$E776,F$382)","v":0},{"$f":"COUNTIF(Alcance!$E776,G$382)","v":0},{"$f":"COUNTIF(Alcance!$E776,H$382)","v":0},0,0.5,0]
["Hidrocarburos Aromáticos Policíclicos (PAHs)",null,"Fenantreno",null,{"$f":"COUNTIF(Alcance!$E777,E$382)","v":0},{"$f":"COUNTIF(Alcance!$E777,F$382)","v":0},{"$f":"COUNTIF(Alcance!$E777,G$382)","v":0},{"$f":"COUNTIF(Alcance!$E777,H$382)","v":0},0,0.5,0]
["Hidrocarburos Aromáticos Policíclicos (PAHs)",null,"Pireno",null,{"$f":"COUNTIF(Alcance!$E778,E$382)","v":0},{"$f":"COUNTIF(Alcance!$E778,F$382)","v":0},{"$f":"COUNTIF(Alcance!$E778,G$382)","v":0},{"$f":"COUNTIF(Alcance!$E778,H$382)","v":0},0,0.5,0]
["TPH (Hidrocarburos derivados del petróleo)",null,"Hidrocarburos",null,{"$f":"COUNTIF(Alcance!$E779,E$382)","v":0},{"$f":"COUNTIF(Alcance!$E779,F$382)","v":0},{"$f":"COUNTIF(Alcance!$E779,G$382)","v":0},{"$f":"COUNTIF(Alcance!$E779,H$382)","v":0},0,1,0]
["TPH (Hidrocarburos derivados del petróleo)",null,"Hidrocarburos del Petróleo (Fracción GRO)",null,{"$f":"COUNTIF(Alcance!$E780,E$382)","v":0},{"$f":"COUNTIF(Alcance!$E780,F$382)","v":0},{"$f":"COUNTIF(Alcance!$E780,G$382)","v":0},{"$f":"COUNTIF(Alcance!$E780,H$382)","v":0},0,5,0]
["TPH (Hidrocarburos derivados del petróleo)",null,"Hidrocarburos del Petróleo (Fracción DRO)",null,{"$f":"COUNTIF(Alcance!$E781,E$382)","v":0},{"$f":"COUNTIF(Alcance!$E781,F$382)","v":0},{"$f":"COUNTIF(Alcance!$E781,G$382)","v":0},{"$f":"COUNTIF(Alcance!$E781,H$382)","v":0},0,5,0]
["Toma de muestra simple o puntual aguas marinas",null,"pH",null,{"$f":"COUNTIF(Alcance!$E782,E$382)","v":0},{"$f":"COUNTIF(Alcance!$E782,F$382)","v":0},{"$f":"COUNTIF(Alcance!$E782,G$382)","v":0},{"$f":"COUNTIF(Alcance!$E782,H$382)","v":0},0,2.5,{"$f":"IF(SUM(I707:I715)>0,J707,0)","v":0}]
["Toma de muestra simple o puntual aguas marinas",null,"Temperatura",null,{"$f":"COUNTIF(Alcance!$E783,E$382)","v":0},{"$f":"COUNTIF(Alcance!$E783,F$382)","v":0},{"$f":"COUNTIF(Alcance!$E783,G$382)","v":0},{"$f":"COUNTIF(Alcance!$E783,H$382)","v":0},0]
["Toma de muestra simple o puntual aguas marinas",null,"Conductividad Eléctrica",null,{"$f":"COUNTIF(Alcance!$E784,E$382)","v":0},{"$f":"COUNTIF(Alcance!$E784,F$382)","v":0},{"$f":"COUNTIF(Alcance!$E784,G$382)","v":0},{"$f":"COUNTIF(Alcance!$E784,H$382)","v":0},0]
["Toma de muestra simple o puntual aguas marinas",null,"Dióxido de Carbono in situ",null,{"$f":"COUNTIF(Alcance!$E785,E$382)","v":0},{"$f":"COUNTIF(Alcance!$E785,F$382)","v":0},{"$f":"COUNTIF(Alcance!$E785,G$382)","v":0},{"$f":"COUNTIF(Alcance!$E785,H$382)","v":0},0]
["Toma de muestra simple o puntual aguas marinas",null,"Oxigeno Disuelto (Membarana y Luminiscencia)",null,{"$f":"COUNTIF(Alcance!$E786,E$382)","v":0},{"$f":"COUNTIF(Alcance!$E786,F$382)","v":0},{"$f":"COUNTIF(Alcance!$E786,G$382)","v":0},{"$f":"COUNTIF(Alcance!$E786,H$382)","v":0},0]
["Toma de muestra simple o puntual aguas marinas",null,"Cloro Residual",null,{"$f":"COUNTIF(Alcance!$E787,E$382)","v":0},{"$f":"COUNTIF(Alcance!$E787,F$382)","v":0},{"$f":"COUNTIF(Alcance!$E787,G$382)","v":0},{"$f":"COUNTIF(Alcance!$E787,H$382)","v":0},0]
["Toma de muestra simple o puntual aguas marinas",null,"Cloro Total",null,{"$f":"COUNTIF(Alcance!$E788,E$382)","v":0},{"$f":"COUNTIF(Alcance!$E788,F$382)","v":0},{"$f":"COUNTIF(Alcance!$E788,G$382)","v":0},{"$f":"COUNTIF(Alcance!$E788,H$382)","v":0},0]
["Toma de muestra simple o puntual aguas marinas",null,"Sólidos Sedimentables",null,{"$f":"COUNTIF(Alcance!$E789,E$382)","v":0},{"$f":"COUNTIF(Alcance!$E789,F$382)","v":0},{"$f":"COUNTIF(Alcance!$E789,G$382)","v":0},{"$f":"COUNTIF(Alcance!$E789,H$382)","v":0},0]
["Toma de muestra simple o puntual aguas marinas",null,"Caudal",null,{"$f":"COUNTIF(Alcance!$E790,E$382)","v":0},{"$f":"COUNTIF(Alcance!$E790,F$382)","v":0},{"$f":"COUNTIF(Alcance!$E790,G$382)","v":0},{"$f":"COUNTIF(Alcance!$E790,H$382)","v":0},0]
["Variables adicionales en aguas marinas",null,"Especificado por el usuario",null,{"$f":"COUNTIF(Alcance!$E$791:$F$838,E$382)","v":0},{"$f":"COUNTIF(Alcance!$E$791:$F$838,F$382)","v":0},{"$f":"COUNTIF(Alcance!$E$791:$F$838,G$382)","v":0},{"$f":"COUNTIF(Alcance!$E$791:$F$838,H$382)","v":0},0,1,{"$f":"I716*J716","v":0},"Total Parámetros Calculados",{"$f":"SUM(K383:K716)","v":0}]
["TOTALES",null,null,null,{"$f":"SUM(E383:E716)","v":0},0,0,0,0]
[]
["MATRIZ RESIDUOS PELIGROSOS"]
["18. Matriz / Grupo",null,"19. Variable",null,"INICIAL","SEGUIMIENTO","RENOVACIÓN","EXTENSIÓN","Total Variables","Equivalencia en Parámetros","Parámetros Calculados"]
["TCLP - Metales",null,"Antimonio",null,{"$f":"COUNTIF(Alcance!$E844,E$720)","v":0},{"$f":"COUNTIF(Alcance!$E844,F$720)","v":0},{"$f":"COUNTIF(Alcance!$E844,G$720)","v":0},{"$f":"COUNTIF(Alcance!$E844,H$720)","v":0},{"$f":"SUM(E721:H721)","v":0},1,{"$f":"I721*J721","v":0}]
["TCLP - Metales",null,"Arsénico",null,{"$f":"COUNTIF(Alcance!$E845,E$720)","v":0},{"$f":"COUNTIF(Alcance!$E845,F$720)","v":0},{"$f":"COUNTIF(Alcance!$E845,G$720)","v":0},{"$f":"COUNTIF(Alcance!$E845,H$720)","v":0},0,3,0]
["TCLP - Metales",null,"Bario",null,{"$f":"COUNTIF(Alcance!$E846,E$720)","v":0},{"$f":"COUNTIF(Alcance!$E846,F$720)","v":0},{"$f":"COUNTIF(Alcance!$E846,G$720)","v":0},{"$f":"COUNTIF(Alcance!$E846,H$720)","v":0},0,1,0]
["TCLP - Metales",null,"Cadmio",null,{"$f":"COUNTIF(Alcance!$E847,E$720)","v":0},{"$f":"COUNTIF(Alcance!$E847,F$720)","v":0},{"$f":"COUNTIF(Alcance!$E847,G$720)","v":0},{"$f":"COUNTIF(Alcance!$E847,H$720)","v":0},0,1,0]
["TCLP - Metales",null,"Cobre",null,{"$f":"COUNTIF(Alcance!$E848,E$720)","v":0},{"$f":"COUNTIF(Alcance!$E848,F$720)","v":0},{"$f":"COUNTIF(Alcance!$E848,G$720)","v":0},{"$f":"COUNTIF(Alcance!$E848,H$720)","v":0},0,1,0]
["TCLP - Metales",null,"Cromo",null,{"$f":"COUNTIF(Alcance!$E849,E$720)","v":0},{"$f":"COUNTIF(Alcance!$E849,F$720)","v":0},{"$f":"COUNTIF(Alcance!$E849,G$720)","v":0},{"$f":"COUNTIF(Alcance!$E849,H$720)","v":0},0,1,0]
["TCLP - Metales",null,"Mercurio",null,{"$f":"COUNTIF(Alcance!$E850,E$720)","v":0},{"$f":"COUNTIF(Alcance!$E850,F$720)","v":0},{"$f":"COUNTIF(Alcance!$E850,G$720)","v":0},{"$f":"COUNTIF(Alcance!$E850,H$720)","v":0},0,2,0]
["TCLP - Metales",null,"Molibdeno",null,{"$f":"COUNTIF(Alcance!$E851,E$720)","v":0},{"$f":"COUNTIF(Alcance!$E851,F$720)","v":0},{"$f":"COUNTIF(Alcance!$E851,G$720)","v":0},{"$f":"COUNTIF(Alcance!$E851,H$720)","v":0},0,1,0]
["TCLP - Metales",null,"Níquel",null,{"$f":"COUNTIF(Alcance!$E852,E$720)","v":0},{"$f":"COUNTIF(Alcance!$E852,F$720)","v":0},{"$f":"COUNTIF(Alcance!$E852,G$720)","v":0},{"$f":"COUNTIF(Alcance!$E852,H$720)","v":0},0,1,0]
["TCLP - Metales",null,"Plata",null,{"$f":"COUNTIF(Alcance!$E853,E$720)","v":0},{"$f":"COUNTIF(Alcance!$E853,F$720)","v":0},{"$f":"COUNTIF(Alcance!$E853,G$720)","v":0},{"$f":"COUNTIF(Alcance!$E853,H$720)","v":0},0,1,0]
["TCLP - Metales",null,"Plomo",null,{"$f":"COUNTIF(Alcance!$E854,E$720)","v":0},{"$f":"COUNTIF(Alcance!$E854,F$720)","v":0},{"$f":"COUNTIF(Alcance!$E854,G$720)","v":0},{"$f":"COUNTIF(Alcance!$E854,H$720)","v":0},0,1,0]
["TCLP - Metales",null,"Selenio",null,{"$f":"COUNTIF(Alcance!$E855,E$720)","v":0},{"$f":"COUNTIF(Alcance!$E855,F$720)","v":0},{"$f":"COUNTIF(Alcance!$E855,G$720)","v":0},{"$f":"COUNTIF(Alcance!$E855,H$720)","v":0},0,1,0]
["TCLP - Metales",null,"Vanadio",null,{"$f":"COUNTIF(Alcance!$E856,E$720)","v":0},{"$f":"COUNTIF(Alcance!$E856,F$720)","v":0},{"$f":"COUNTIF(Alcance!$E856,G$720)","v":0},{"$f":"COUNTIF(Alcance!$E856,H$720)","v":0},0,1,0]
["TCLP - Metales",null,"Zinc",null,{"$f":"COUNTIF(Alcance!$E857,E$720)","v":0},{"$f":"COUNTIF(Alcance!$E857,F$720)","v":0},{"$f":"COUNTIF(Alcance!$E857,G$720)","v":0},{"$f":"COUNTIF(Alcance!$E857,H$720)","v":0},0,1,0]
["Ecotoxicidad",null,"Toxicidad Aguda para Daphnias",null,{"$f":"COUNTIF(Alcance!$E858,E$720)","v":0},{"$f":"COUNTIF(Alcance!$E858,F$720)","v":0},{"$f":"COUNTIF(Alcance!$E858,G$720)","v":0},{"$f":"COUNTIF(Alcance!$E858,H$720)","v":0},0,2.5,0]
["Ecotoxicidad",null,"Toxicidad aguda para microalgas",null,{"$f":"COUNTIF(Alcance!$E859,E$720)","v":0},{"$f":"COUNTIF(Alcance!$E859,F$720)","v":0},{"$f":"COUNTIF(Alcance!$E859,G$720)","v":0},{"$f":"COUNTIF(Alcance!$E859,H$720)","v":0},0,2.5,0]
["Ecotoxicidad",null,"Toxicidad aguda en peces ",null,{"$f":"COUNTIF(Alcance!$E860,E$720)","v":0},{"$f":"COUNTIF(Alcance!$E860,F$720)","v":0},{"$f":"COUNTIF(Alcance!$E860,G$720)","v":0},{"$f":"COUNTIF(Alcance!$E860,H$720)","v":0},0,2.5,0]
["Cromo VI",null,"Cromo VI",null,{"$f":"COUNTIF(Alcance!$E861,E$720)","v":0},{"$f":"COUNTIF(Alcance!$E861,F$720)","v":0},{"$f":"COUNTIF(Alcance!$E861,G$720)","v":0},{"$f":"COUNTIF(Alcance!$E861,H$720)","v":0},0,1,0]
["Cianuro",null,"Cianuro",null,{"$f":"COUNTIF(Alcance!$E862,E$720)","v":0},{"$f":"COUNTIF(Alcance!$E862,F$720)","v":0},{"$f":"COUNTIF(Alcance!$E862,G$720)","v":0},{"$f":"COUNTIF(Alcance!$E862,H$720)","v":0},0,1,0]
["Reactividad",null,"Reactividad (Cianuro)",null,{"$f":"COUNTIF(Alcance!$E863,E$720)","v":0},{"$f":"COUNTIF(Alcance!$E863,F$720)","v":0},{"$f":"COUNTIF(Alcance!$E863,G$720)","v":0},{"$f":"COUNTIF(Alcance!$E863,H$720)","v":0},0,1,0]
["Reactividad",null,"Reactividad (Sulfuro)",null,{"$f":"COUNTIF(Alcance!$E864,E$720)","v":0},{"$f":"COUNTIF(Alcance!$E864,F$720)","v":0},{"$f":"COUNTIF(Alcance!$E864,G$720)","v":0},{"$f":"COUNTIF(Alcance!$E864,H$720)","v":0},0,1,0]
["Reactividad",null,"Reactividad - Prueba para Sustancias que en Contacto con Agua Desprenden Gases Inflamables",null,{"$f":"COUNTIF(Alcance!$E865,E$720)","v":0},{"$f":"COUNTIF(Alcance!$E865,F$720)","v":0},{"$f":"COUNTIF(Alcance!$E865,G$720)","v":0},{"$f":"COUNTIF(Alcance!$E865,H$720)","v":0},0,1,0]
["Reactividad",null,"Reactividad - Combustión espontánea (Sólidos)",null,{"$f":"COUNTIF(Alcance!$E866,E$720)","v":0},{"$f":"COUNTIF(Alcance!$E866,F$720)","v":0},{"$f":"COUNTIF(Alcance!$E866,G$720)","v":0},{"$f":"COUNTIF(Alcance!$E866,H$720)","v":0},0,1,0]
["Reactividad",null,"Reactividad - Combustión espontánea (Líquidos)",null,{"$f":"COUNTIF(Alcance!$E867,E$720)","v":0},{"$f":"COUNTIF(Alcance!$E867,F$720)","v":0},{"$f":"COUNTIF(Alcance!$E867,G$720)","v":0},{"$f":"COUNTIF(Alcance!$E867,H$720)","v":0},0,1,0]
["Reactividad",null,"Reactividad - Calentamiento espontáneo (Sólidos)",null,{"$f":"COUNTIF(Alcance!$E868,E$720)","v":0},{"$f":"COUNTIF(Alcance!$E868,F$720)","v":0},{"$f":"COUNTIF(Alcance!$E868,G$720)","v":0},{"$f":"COUNTIF(Alcance!$E868,H$720)","v":0},0,1,0]
["Reactividad",null,"Reactividad - Calentamiento espontáneo (Líquidos)",null,{"$f":"COUNTIF(Alcance!$E869,E$720)","v":0},{"$f":"COUNTIF(Alcance!$E869,F$720)","v":0},{"$f":"COUNTIF(Alcance!$E869,G$720)","v":0},{"$f":"COUNTIF(Alcance!$E869,H$720)","v":0},0,1,0]
["Reactividad",null,"Reactividad - Método de Prueba para Sustancias Sólidas Comburentes",null,{"$f":"COUNTIF(Alcance!$E870,E$720)","v":0},{"$f":"COUNTIF(Alcance!$E870,F$720)","v":0},{"$f":"COUNTIF(Alcance!$E870,G$720)","v":0},{"$f":"COUNTIF(Alcance!$E870,H$720)","v":0},0,1,0]
["Corrosividad",null,"Corrosividad (Medición electrométrica de pH)",null,{"$f":"COUNTIF(Alcance!$E871,E$720)","v":0},{"$f":"COUNTIF(Alcance!$E871,F$720)","v":0},{"$f":"COUNTIF(Alcance!$E871,G$720)","v":0},{"$f":"COUNTIF(Alcance!$E871,H$720)","v":0},0,1,0]
["Corrosividad",null,"Corrosividad (Reserva Ácido / Álcali)",null,{"$f":"COUNTIF(Alcance!$E872,E$720)","v":0},{"$f":"COUNTIF(Alcance!$E872,F$720)","v":0},{"$f":"COUNTIF(Alcance!$E872,G$720)","v":0},{"$f":"COUNTIF(Alcance!$E872,H$720)","v":0},0,1,0]
["Corrosividad",null,"Corrosividad (Método de Prueba Corrosión al Acero)",null,{"$f":"COUNTIF(Alcance!$E873,E$720)","v":0},{"$f":"COUNTIF(Alcance!$E873,F$720)","v":0},{"$f":"COUNTIF(Alcance!$E873,G$720)","v":0},{"$f":"COUNTIF(Alcance!$E873,H$720)","v":0},0,1,0]
["Punto de inflamación",null,"Punto de inflamabilidad (flash point) - Residuos Líquidos",null,{"$f":"COUNTIF(Alcance!$E874,E$720)","v":0},{"$f":"COUNTIF(Alcance!$E874,F$720)","v":0},{"$f":"COUNTIF(Alcance!$E874,G$720)","v":0},{"$f":"COUNTIF(Alcance!$E874,H$720)","v":0},0,1,0]
["Punto de inflamación",null,"Punto de inflamabilidad (flash point) - Residuos Sólidos",null,{"$f":"COUNTIF(Alcance!$E875,E$720)","v":0},{"$f":"COUNTIF(Alcance!$E875,F$720)","v":0},{"$f":"COUNTIF(Alcance!$E875,G$720)","v":0},{"$f":"COUNTIF(Alcance!$E875,H$720)","v":0},0,1,0]
["TCLP - Compuestos Orgánicos Semi-Volátiles",null,"1,4-Diclorobenceno",null,{"$f":"COUNTIF(Alcance!$E876,E$720)","v":0},{"$f":"COUNTIF(Alcance!$E876,F$720)","v":0},{"$f":"COUNTIF(Alcance!$E876,G$720)","v":0},{"$f":"COUNTIF(Alcance!$E876,H$720)","v":0},0,1,0]
["TCLP - Compuestos Orgánicos Semi-Volátiles",null,"Hexaclorobutadieno",null,{"$f":"COUNTIF(Alcance!$E877,E$720)","v":0},{"$f":"COUNTIF(Alcance!$E877,F$720)","v":0},{"$f":"COUNTIF(Alcance!$E877,G$720)","v":0},{"$f":"COUNTIF(Alcance!$E877,H$720)","v":0},0,1,0]
["TCLP - Compuestos Orgánicos Semi-Volátiles",null,"Hexacloroetano",null,{"$f":"COUNTIF(Alcance!$E878,E$720)","v":0},{"$f":"COUNTIF(Alcance!$E878,F$720)","v":0},{"$f":"COUNTIF(Alcance!$E878,G$720)","v":0},{"$f":"COUNTIF(Alcance!$E878,H$720)","v":0},0,1,0]
["TCLP - Compuestos Orgánicos Semi-Volátiles",null,"Nitrobenceno",null,{"$f":"COUNTIF(Alcance!$E879,E$720)","v":0},{"$f":"COUNTIF(Alcance!$E879,F$720)","v":0},{"$f":"COUNTIF(Alcance!$E879,G$720)","v":0},{"$f":"COUNTIF(Alcance!$E879,H$720)","v":0},0,1,0]
["TCLP - Compuestos Orgánicos Semi-Volátiles",null,"Piridina",null,{"$f":"COUNTIF(Alcance!$E880,E$720)","v":0},{"$f":"COUNTIF(Alcance!$E880,F$720)","v":0},{"$f":"COUNTIF(Alcance!$E880,G$720)","v":0},{"$f":"COUNTIF(Alcance!$E880,H$720)","v":0},0,1,0]
["TCLP - Compuestos Orgánicos Semi-Volátiles",null,"2,4-Dinitrotolueno",null,{"$f":"COUNTIF(Alcance!$E881,E$720)","v":0},{"$f":"COUNTIF(Alcance!$E881,F$720)","v":0},{"$f":"COUNTIF(Alcance!$E881,G$720)","v":0},{"$f":"COUNTIF(Alcance!$E881,H$720)","v":0},0,1,0]
["TCLP - Compuestos Orgánicos Semi-Volátiles",null,"Hexanoclorobenceno",null,{"$f":"COUNTIF(Alcance!$E882,E$720)","v":0},{"$f":"COUNTIF(Alcance!$E882,F$720)","v":0},{"$f":"COUNTIF(Alcance!$E882,G$720)","v":0},{"$f":"COUNTIF(Alcance!$E882,H$720)","v":0},0,1,0]
["TCLP - Compuestos Orgánicos Semi-Volátiles",null,"o-Cresol",null,{"$f":"COUNTIF(Alcance!$E883,E$720)","v":0},{"$f":"COUNTIF(Alcance!$E883,F$720)","v":0},{"$f":"COUNTIF(Alcance!$E883,G$720)","v":0},{"$f":"COUNTIF(Alcance!$E883,H$720)","v":0},0,1,0]
["TCLP - Compuestos Orgánicos Semi-Volátiles",null,"p-Cresol",null,{"$f":"COUNTIF(Alcance!$E884,E$720)","v":0},{"$f":"COUNTIF(Alcance!$E884,F$720)","v":0},{"$f":"COUNTIF(Alcance!$E884,G$720)","v":0},{"$f":"COUNTIF(Alcance!$E884,H$720)","v":0},0,1,0]
["TCLP - Compuestos Orgánicos Semi-Volátiles",null,"m+p-Cresol",null,{"$f":"COUNTIF(Alcance!$E885,E$720)","v":0},{"$f":"COUNTIF(Alcance!$E885,F$720)","v":0},{"$f":"COUNTIF(Alcance!$E885,G$720)","v":0},{"$f":"COUNTIF(Alcance!$E885,H$720)","v":0},0,1,0]
["TCLP - Compuestos Orgánicos Semi-Volátiles",null,"Cresol Total",null,{"$f":"COUNTIF(Alcance!$E886,E$720)","v":0},{"$f":"COUNTIF(Alcance!$E886,F$720)","v":0},{"$f":"COUNTIF(Alcance!$E886,G$720)","v":0},{"$f":"COUNTIF(Alcance!$E886,H$720)","v":0},0,1,0]
["TCLP - Compuestos Orgánicos Semi-Volátiles",null,"Pentaclorofenol",null,{"$f":"COUNTIF(Alcance!$E887,E$720)","v":0},{"$f":"COUNTIF(Alcance!$E887,F$720)","v":0},{"$f":"COUNTIF(Alcance!$E887,G$720)","v":0},{"$f":"COUNTIF(Alcance!$E887,H$720)","v":0},0,1,0]
["TCLP - Compuestos Orgánicos Semi-Volátiles",null,"2,4,5-Triclorofenol",null,{"$f":"COUNTIF(Alcance!$E888,E$720)","v":0},{"$f":"COUNTIF(Alcance!$E888,F$720)","v":0},{"$f":"COUNTIF(Alcance!$E888,G$720)","v":0},{"$f":"COUNTIF(Alcance!$E888,H$720)","v":0},0,1,0]
["TCLP - Compuestos Orgánicos Semi-Volátiles",null,"2,4,6-Triclorofenol",null,{"$f":"COUNTIF(Alcance!$E889,E$720)","v":0},{"$f":"COUNTIF(Alcance!$E889,F$720)","v":0},{"$f":"COUNTIF(Alcance!$E889,G$720)","v":0},{"$f":"COUNTIF(Alcance!$E889,H$720)","v":0},0,1,0]
["TCLP - Compuestos Orgánicos Semi-Volátiles",null,"Gamma-BHC (Lindano)",null,{"$f":"COUNTIF(Alcance!$E890,E$720)","v":0},{"$f":"COUNTIF(Alcance!$E890,F$720)","v":0},{"$f":"COUNTIF(Alcance!$E890,G$720)","v":0},{"$f":"COUNTIF(Alcance!$E890,H$720)","v":0},0,1,0]
["TCLP - Compuestos Orgánicos Semi-Volátiles",null,"Clordano Total",null,{"$f":"COUNTIF(Alcance!$E891,E$720)","v":0},{"$f":"COUNTIF(Alcance!$E891,F$720)","v":0},{"$f":"COUNTIF(Alcance!$E891,G$720)","v":0},{"$f":"COUNTIF(Alcance!$E891,H$720)","v":0},0,1,0]
["TCLP - Compuestos Orgánicos Semi-Volátiles",null,"Endrìn",null,{"$f":"COUNTIF(Alcance!$E892,E$720)","v":0},{"$f":"COUNTIF(Alcance!$E892,F$720)","v":0},{"$f":"COUNTIF(Alcance!$E892,G$720)","v":0},{"$f":"COUNTIF(Alcance!$E892,H$720)","v":0},0,1,0]
["TCLP - Compuestos Orgánicos Semi-Volátiles",null,"Heptacloro",null,{"$f":"COUNTIF(Alcance!$E893,E$720)","v":0},{"$f":"COUNTIF(Alcance!$E893,F$720)","v":0},{"$f":"COUNTIF(Alcance!$E893,G$720)","v":0},{"$f":"COUNTIF(Alcance!$E893,H$720)","v":0},0,1,0]
["TCLP - Compuestos Orgánicos Semi-Volátiles",null,"Metoxicloro",null,{"$f":"COUNTIF(Alcance!$E894,E$720)","v":0},{"$f":"COUNTIF(Alcance!$E894,F$720)","v":0},{"$f":"COUNTIF(Alcance!$E894,G$720)","v":0},{"$f":"COUNTIF(Alcance!$E894,H$720)","v":0},0,1,0]
["TCLP - Compuestos Orgánicos Semi-Volátiles",null,"Toxafeno",null,{"$f":"COUNTIF(Alcance!$E895,E$720)","v":0},{"$f":"COUNTIF(Alcance!$E895,F$720)","v":0},{"$f":"COUNTIF(Alcance!$E895,G$720)","v":0},{"$f":"COUNTIF(Alcance!$E895,H$720)","v":0},0,1,0]
["TCLP - Compuestos Orgánicos Semi-Volátiles",null,"2,4-D",null,{"$f":"COUNTIF(Alcance!$E896,E$720)","v":0},{"$f":"COUNTIF(Alcance!$E896,F$720)","v":0},{"$f":"COUNTIF(Alcance!$E896,G$720)","v":0},{"$f":"COUNTIF(Alcance!$E896,H$720)","v":0},0,1,0]
["TCLP - Compuestos Orgánicos Semi-Volátiles",null,"Silvex (2,4,5-TP)",null,{"$f":"COUNTIF(Alcance!$E897,E$720)","v":0},{"$f":"COUNTIF(Alcance!$E897,F$720)","v":0},{"$f":"COUNTIF(Alcance!$E897,G$720)","v":0},{"$f":"COUNTIF(Alcance!$E897,H$720)","v":0},0,1,0]
["Dioxinas  y Furanos",null,"1,2,3,4,6,7,8-Hpcdf",null,{"$f":"COUNTIF(Alcance!$E898,E$720)","v":0},{"$f":"COUNTIF(Alcance!$E898,F$720)","v":0},{"$f":"COUNTIF(Alcance!$E898,G$720)","v":0},{"$f":"COUNTIF(Alcance!$E898,H$720)","v":0},0,0.5,0]
["Dioxinas  y Furanos",null,"1,2,3,4,7,8,9-Hpcdf",null,{"$f":"COUNTIF(Alcance!$E899,E$720)","v":0},{"$f":"COUNTIF(Alcance!$E899,F$720)","v":0},{"$f":"COUNTIF(Alcance!$E899,G$720)","v":0},{"$f":"COUNTIF(Alcance!$E899,H$720)","v":0},0,0.5,0]
["Dioxinas  y Furanos",null,"1,2,3,4,6,7,8-Hpcdd",null,{"$f":"COUNTIF(Alcance!$E900,E$720)","v":0},{"$f":"COUNTIF(Alcance!$E900,F$720)","v":0},{"$f":"COUNTIF(Alcance!$E900,G$720)","v":0},{"$f":"COUNTIF(Alcance!$E900,H$720)","v":0},0,0.5,0]
["Dioxinas  y Furanos",null,"Hpcdd Total",null,{"$f":"COUNTIF(Alcance!$E901,E$720)","v":0},{"$f":"COUNTIF(Alcance!$E901,F$720)","v":0},{"$f":"COUNTIF(Alcance!$E901,G$720)","v":0},{"$f":"COUNTIF(Alcance!$E901,H$720)","v":0},0,0.5,0]
["Dioxinas  y Furanos",null,"Hpcdf Total",null,{"$f":"COUNTIF(Alcance!$E902,E$720)","v":0},{"$f":"COUNTIF(Alcance!$E902,F$720)","v":0},{"$f":"COUNTIF(Alcance!$E902,G$720)","v":0},{"$f":"COUNTIF(Alcance!$E902,H$720)","v":0},0,0.5,0]
["Dioxinas  y Furanos",null,"1,2,3,4,7,8-Hxcdd",null,{"$f":"COUNTIF(Alcance!$E903,E$720)","v":0},{"$f":"COUNTIF(Alcance!$E903,F$720)","v":0},{"$f":"COUNTIF(Alcance!$E903,G$720)","v":0},{"$f":"COUNTIF(Alcance!$E903,H$720)","v":0},0,0.5,0]
["Dioxinas  y Furanos",null,"1,2,3,6,7,8-Hxcdd",null,{"$f":"COUNTIF(Alcance!$E904,E$720)","v":0},{"$f":"COUNTIF(Alcance!$E904,F$720)","v":0},{"$f":"COUNTIF(Alcance!$E904,G$720)","v":0},{"$f":"COUNTIF(Alcance!$E904,H$720)","v":0},0,0.5,0]
["Dioxinas  y Furanos",null,"1,2,3,7,8,9-Hxcdd",null,{"$f":"COUNTIF(Alcance!$E905,E$720)","v":0},{"$f":"COUNTIF(Alcance!$E905,F$720)","v":0},{"$f":"COUNTIF(Alcance!$E905,G$720)","v":0},{"$f":"COUNTIF(Alcance!$E905,H$720)","v":0},0,0.5,0]
["Dioxinas  y Furanos",null,"Hxcdd Total",null,{"$f":"COUNTIF(Alcance!$E906,E$720)","v":0},{"$f":"COUNTIF(Alcance!$E906,F$720)","v":0},{"$f":"COUNTIF(Alcance!$E906,G$720)","v":0},{"$f":"COUNTIF(Alcance!$E906,H$720)","v":0},0,0.5,0]
["Dioxinas  y Furanos",null,"1,2,3,4,7,8-Hxcdf",null,{"$f":"COUNTIF(Alcance!$E907,E$720)","v":0},{"$f":"COUNTIF(Alcance!$E907,F$720)","v":0},{"$f":"COUNTIF(Alcance!$E907,G$720)","v":0},{"$f":"COUNTIF(Alcance!$E907,H$720)","v":0},0,0.5,0]
["Dioxinas  y Furanos",null,"1,2,3,6,7,8-Hxcdf",null,{"$f":"COUNTIF(Alcance!$E908,E$720)","v":0},{"$f":"COUNTIF(Alcance!$E908,F$720)","v":0},{"$f":"COUNTIF(Alcance!$E908,G$720)","v":0},{"$f":"COUNTIF(Alcance!$E908,H$720)","v":0},0,0.5,0]
["Dioxinas  y Furanos",null,"1,2,3,7,8,9-Hxcdf",null,{"$f":"COUNTIF(Alcance!$E909,E$720)","v":0},{"$f":"COUNTIF(Alcance!$E909,F$720)","v":0},{"$f":"COUNTIF(Alcance!$E909,G$720)","v":0},{"$f":"COUNTIF(Alcance!$E909,H$720)","v":0},0,0.5,0]
["Dioxinas  y Furanos",null,"2,3,4,6,7,8-Hxcdf",null,{"$f":"COUNTIF(Alcance!$E910,E$720)","v":0},{"$f":"COUNTIF(Alcance!$E910,F$720)","v":0},{"$f":"COUNTIF(Alcance!$E910,G$720)","v":0},{"$f":"COUNTIF(Alcance!$E910,H$720)","v":0},0,0.5,0]
["Dioxinas  y Furanos",null,"Hxcdf Total",null,{"$f":"COUNTIF(Alcance!$E911,E$720)","v":0},{"$f":"COUNTIF(Alcance!$E911,F$720)","v":0},{"$f":"COUNTIF(Alcance!$E911,G$720)","v":0},{"$f":"COUNTIF(Alcance!$E911,H$720)","v":0},0,0.5,0]
["Dioxinas  y Furanos",null,"1,2,3,4,6,7,8,9-OCDF",null,{"$f":"COUNTIF(Alcance!$E912,E$720)","v":0},{"$f":"COUNTIF(Alcance!$E912,F$720)","v":0},{"$f":"COUNTIF(Alcance!$E912,G$720)","v":0},{"$f":"COUNTIF(Alcance!$E912,H$720)","v":0},0,0.5,0]
["Dioxinas  y Furanos",null,"1,2,3,4,6,7,8,9-OCDD",null,{"$f":"COUNTIF(Alcance!$E913,E$720)","v":0},{"$f":"COUNTIF(Alcance!$E913,F$720)","v":0},{"$f":"COUNTIF(Alcance!$E913,G$720)","v":0},{"$f":"COUNTIF(Alcance!$E913,H$720)","v":0},0,0.5,0]
["Dioxinas  y Furanos",null,"1,2,3,7,8-Pecdd",null,{"$f":"COUNTIF(Alcance!$E914,E$720)","v":0},{"$f":"COUNTIF(Alcance!$E914,F$720)","v":0},{"$f":"COUNTIF(Alcance!$E914,G$720)","v":0},{"$f":"COUNTIF(Alcance!$E914,H$720)","v":0},0,0.5,0]
["Dioxinas  y Furanos",null,"1,2,3,7,8-Pecdf",null,{"$f":"COUNTIF(Alcance!$E915,E$720)","v":0},{"$f":"COUNTIF(Alcance!$E915,F$720)","v":0},{"$f":"COUNTIF(Alcance!$E915,G$720)","v":0},{"$f":"COUNTIF(Alcance!$E915,H$720)","v":0},0,0.5,0]
["Dioxinas  y Furanos",null,"2,3,4,7,8-Pecdf",null,{"$f":"COUNTIF(Alcance!$E916,E$720)","v":0},{"$f":"COUNTIF(Alcance!$E916,F$720)","v":0},{"$f":"COUNTIF(Alcance!$E916,G$720)","v":0},{"$f":"COUNTIF(Alcance!$E916,H$720)","v":0},0,0.5,0]
["Dioxinas  y Furanos",null,"Pecdf Total",null,{"$f":"COUNTIF(Alcance!$E917,E$720)","v":0},{"$f":"COUNTIF(Alcance!$E917,F$720)","v":0},{"$f":"COUNTIF(Alcance!$E917,G$720)","v":0},{"$f":"COUNTIF(Alcance!$E917,H$720)","v":0},0,0.5,0]
["Dioxinas  y Furanos",null,"Pecdd Total",null,{"$f":"COUNTIF(Alcance!$E918,E$720)","v":0},{"$f":"COUNTIF(Alcance!$E918,F$720)","v":0},{"$f":"COUNTIF(Alcance!$E918,G$720)","v":0},{"$f":"COUNTIF(Alcance!$E918,H$720)","v":0},0,0.5,0]
["Dioxinas  y Furanos",null,"2,3,7,8-TCDD",null,{"$f":"COUNTIF(Alcance!$E919,E$720)","v":0},{"$f":"COUNTIF(Alcance!$E919,F$720)","v":0},{"$f":"COUNTIF(Alcance!$E919,G$720)","v":0},{"$f":"COUNTIF(Alcance!$E919,H$720)","v":0},0,0.5,0]
["Dioxinas  y Furanos",null,"2,3,7,8-TCDF",null,{"$f":"COUNTIF(Alcance!$E920,E$720)","v":0},{"$f":"COUNTIF(Alcance!$E920,F$720)","v":0},{"$f":"COUNTIF(Alcance!$E920,G$720)","v":0},{"$f":"COUNTIF(Alcance!$E920,H$720)","v":0},0,0.5,0]
["Dioxinas  y Furanos",null,"TCDF Total",null,{"$f":"COUNTIF(Alcance!$E921,E$720)","v":0},{"$f":"COUNTIF(Alcance!$E921,F$720)","v":0},{"$f":"COUNTIF(Alcance!$E921,G$720)","v":0},{"$f":"COUNTIF(Alcance!$E921,H$720)","v":0},0,0.5,0]
["Dioxinas  y Furanos",null,"TCDD Total",null,{"$f":"COUNTIF(Alcance!$E922,E$720)","v":0},{"$f":"COUNTIF(Alcance!$E922,F$720)","v":0},{"$f":"COUNTIF(Alcance!$E922,G$720)","v":0},{"$f":"COUNTIF(Alcance!$E922,H$720)","v":0},0,0.5,0]
["Dioxinas  y Furanos",null,"PCDD Total",null,{"$f":"COUNTIF(Alcance!$E923,E$720)","v":0},{"$f":"COUNTIF(Alcance!$E923,F$720)","v":0},{"$f":"COUNTIF(Alcance!$E923,G$720)","v":0},{"$f":"COUNTIF(Alcance!$E923,H$720)","v":0},0,0.5,0]
["Dioxinas  y Furanos",null,"PCDD+PCDF Total",null,{"$f":"COUNTIF(Alcance!$E924,E$720)","v":0},{"$f":"COUNTIF(Alcance!$E924,F$720)","v":0},{"$f":"COUNTIF(Alcance!$E924,G$720)","v":0},{"$f":"COUNTIF(Alcance!$E924,H$720)","v":0},0,0.5,0]
["Dioxinas  y Furanos",null,"PCDF Total",null,{"$f":"COUNTIF(Alcance!$E925,E$720)","v":0},{"$f":"COUNTIF(Alcance!$E925,F$720)","v":0},{"$f":"COUNTIF(Alcance!$E925,G$720)","v":0},{"$f":"COUNTIF(Alcance!$E925,H$720)","v":0},0,0.5,0]
["PCB Congéneres",null,"PCB 28",null,{"$f":"COUNTIF(Alcance!$E926,E$720)","v":0},{"$f":"COUNTIF(Alcance!$E926,F$720)","v":0},{"$f":"COUNTIF(Alcance!$E926,G$720)","v":0},{"$f":"COUNTIF(Alcance!$E926,H$720)","v":0},0,1,0]
["PCB Congéneres",null,"PCB 52",null,{"$f":"COUNTIF(Alcance!$E927,E$720)","v":0},{"$f":"COUNTIF(Alcance!$E927,F$720)","v":0},{"$f":"COUNTIF(Alcance!$E927,G$720)","v":0},{"$f":"COUNTIF(Alcance!$E927,H$720)","v":0},0,1,0]
["PCB Congéneres",null,"PCB 101",null,{"$f":"COUNTIF(Alcance!$E928,E$720)","v":0},{"$f":"COUNTIF(Alcance!$E928,F$720)","v":0},{"$f":"COUNTIF(Alcance!$E928,G$720)","v":0},{"$f":"COUNTIF(Alcance!$E928,H$720)","v":0},0,1,0]
["PCB Congéneres",null,"PCB 118",null,{"$f":"COUNTIF(Alcance!$E929,E$720)","v":0},{"$f":"COUNTIF(Alcance!$E929,F$720)","v":0},{"$f":"COUNTIF(Alcance!$E929,G$720)","v":0},{"$f":"COUNTIF(Alcance!$E929,H$720)","v":0},0,1,0]
["PCB Congéneres",null,"PCB 138",null,{"$f":"COUNTIF(Alcance!$E930,E$720)","v":0},{"$f":"COUNTIF(Alcance!$E930,F$720)","v":0},{"$f":"COUNTIF(Alcance!$E930,G$720)","v":0},{"$f":"COUNTIF(Alcance!$E930,H$720)","v":0},0,1,0]
["PCB Congéneres",null,"PCB 153",null,{"$f":"COUNTIF(Alcance!$E931,E$720)","v":0},{"$f":"COUNTIF(Alcance!$E931,F$720)","v":0},{"$f":"COUNTIF(Alcance!$E931,G$720)","v":0},{"$f":"COUNTIF(Alcance!$E931,H$720)","v":0},0,1,0]
["PCB Congéneres",null,"PCB 180",null,{"$f":"COUNTIF(Alcance!$E932,E$720)","v":0},{"$f":"COUNTIF(Alcance!$E932,F$720)","v":0},{"$f":"COUNTIF(Alcance!$E932,G$720)","v":0},{"$f":"COUNTIF(Alcance!$E932,H$720)","v":0},0,1,0]
["TPH (Hidrocarburos derivados del petróleo)",null,"Hidrocarburos",null,{"$f":"COUNTIF(Alcance!$E933,E$720)","v":0},{"$f":"COUNTIF(Alcance!$E933,F$720)","v":0},{"$f":"COUNTIF(Alcance!$E933,G$720)","v":0},{"$f":"COUNTIF(Alcance!$E933,H$720)","v":0},0,1,0]
["TPH (Hidrocarburos derivados del petróleo)",null,"Hidrocarburos del Petróleo (Fracción GRO)",null,{"$f":"COUNTIF(Alcance!$E934,E$720)","v":0},{"$f":"COUNTIF(Alcance!$E934,F$720)","v":0},{"$f":"COUNTIF(Alcance!$E934,G$720)","v":0},{"$f":"COUNTIF(Alcance!$E934,H$720)","v":0},0,5,0]
["TPH (Hidrocarburos derivados del petróleo)",null,"Hidrocarburos del Petróleo (Fracción DRO)",null,{"$f":"COUNTIF(Alcance!$E935,E$720)","v":0},{"$f":"COUNTIF(Alcance!$E935,F$720)","v":0},{"$f":"COUNTIF(Alcance!$E935,G$720)","v":0},{"$f":"COUNTIF(Alcance!$E935,H$720)","v":0},0,5,0]
["Microbiológico",null,"Escherichia coli",null,{"$f":"COUNTIF(Alcance!$E936,E$720)","v":0},{"$f":"COUNTIF(Alcance!$E936,F$720)","v":0},{"$f":"COUNTIF(Alcance!$E936,G$720)","v":0},{"$f":"COUNTIF(Alcance!$E936,H$720)","v":0},0,1.5,0]
["Microbiológico",null,"Hongos  Moniliformes",null,{"$f":"COUNTIF(Alcance!$E937,E$720)","v":0},{"$f":"COUNTIF(Alcance!$E937,F$720)","v":0},{"$f":"COUNTIF(Alcance!$E937,G$720)","v":0},{"$f":"COUNTIF(Alcance!$E937,H$720)","v":0},0,1.5,0]
["Microbiológico",null,"Bacillus  subtilis",null,{"$f":"COUNTIF(Alcance!$E938,E$720)","v":0},{"$f":"COUNTIF(Alcance!$E938,F$720)","v":0},{"$f":"COUNTIF(Alcance!$E938,G$720)","v":0},{"$f":"COUNTIF(Alcance!$E938,H$720)","v":0},0,1.5,0]
["Microbiológico",null,"Enterococcus Faecalis",null,{"$f":"COUNTIF(Alcance!$E939,E$720)","v":0},{"$f":"COUNTIF(Alcance!$E939,F$720)","v":0},{"$f":"COUNTIF(Alcance!$E939,G$720)","v":0},{"$f":"COUNTIF(Alcance!$E939,H$720)","v":0},0,1.5,0]
["Microbiológico",null,"Pseudomonas aeruginosa",null,{"$f":"COUNTIF(Alcance!$E940,E$720)","v":0},{"$f":"COUNTIF(Alcance!$E940,F$720)","v":0},{"$f":"COUNTIF(Alcance!$E940,G$720)","v":0},{"$f":"COUNTIF(Alcance!$E940,H$720)","v":0},0,1.5,0]
["Toma de Muestra en Residuos Peligrosos",null,"Toma de muestra Puntual / Compuesta en Residuos Peligrosos",null,{"$f":"COUNTIF(Alcance!$E941,E$720)","v":0},{"$f":"COUNTIF(Alcance!$E941,F$720)","v":0},{"$f":"COUNTIF(Alcance!$E941,G$720)","v":0},{"$f":"COUNTIF(Alcance!$E941,H$720)","v":0},0,2.5,0]
["Toma de Muestra en Residuos Peligrosos",null,"Toma de muestra en tanques",null,{"$f":"COUNTIF(Alcance!$E942,E$720)","v":0},{"$f":"COUNTIF(Alcance!$E942,F$720)","v":0},{"$f":"COUNTIF(Alcance!$E942,G$720)","v":0},{"$f":"COUNTIF(Alcance!$E942,H$720)","v":0},0,2.5,0]
["Toma de Muestra en Residuos Peligrosos",null,"Toma de muestra en barriles",null,{"$f":"COUNTIF(Alcance!$E943,E$720)","v":0},{"$f":"COUNTIF(Alcance!$E943,F$720)","v":0},{"$f":"COUNTIF(Alcance!$E943,G$720)","v":0},{"$f":"COUNTIF(Alcance!$E943,H$720)","v":0},0,2.5,0]
["Toma de Muestra en Residuos Peligrosos",null,"Toma de muestra en pilas de desecho",null,{"$f":"COUNTIF(Alcance!$E944,E$720)","v":0},{"$f":"COUNTIF(Alcance!$E944,F$720)","v":0},{"$f":"COUNTIF(Alcance!$E944,G$720)","v":0},{"$f":"COUNTIF(Alcance!$E944,H$720)","v":0},0,2.5,0]
["Toma de Muestra en Residuos Peligrosos",null,"Toma de muestra en sedimentadores",null,{"$f":"COUNTIF(Alcance!$E945,E$720)","v":0},{"$f":"COUNTIF(Alcance!$E945,F$720)","v":0},{"$f":"COUNTIF(Alcance!$E945,G$720)","v":0},{"$f":"COUNTIF(Alcance!$E945,H$720)","v":0},0,2.5,0]
["Toma de Muestra en Residuos Peligrosos",null,"Toma de muestra en lonas, costales o bolsas",null,{"$f":"COUNTIF(Alcance!$E946,E$720)","v":0},{"$f":"COUNTIF(Alcance!$E946,F$720)","v":0},{"$f":"COUNTIF(Alcance!$E946,G$720)","v":0},{"$f":"COUNTIF(Alcance!$E946,H$720)","v":0},0,2.5,0]
["Toma de Muestra en Residuos Peligrosos",null,"Toma de muestra en suelos, sedimentos y otros materiales geológicos.",null,{"$f":"COUNTIF(Alcance!$E947,E$720)","v":0},{"$f":"COUNTIF(Alcance!$E947,F$720)","v":0},{"$f":"COUNTIF(Alcance!$E947,G$720)","v":0},{"$f":"COUNTIF(Alcance!$E947,H$720)","v":0},0,2.5,0]
["Toma de Muestra en Residuos Peligrosos",null,"Toma de muestra en bandas transportadoras",null,{"$f":"COUNTIF(Alcance!$E948,E$720)","v":0},{"$f":"COUNTIF(Alcance!$E948,F$720)","v":0},{"$f":"COUNTIF(Alcance!$E948,G$720)","v":0},{"$f":"COUNTIF(Alcance!$E948,H$720)","v":0},0,2.5,0,"Total Parámetros Calculados",{"$f":"SUM(K721:K826)","v":0}]
["Otras variables en Respel",null,"Especificado por el usuario",null,{"$f":"COUNTIF(Alcance!$E$949:$F$978,E$720)","v":0},{"$f":"COUNTIF(Alcance!$E$949:$F$978,F$720)","v":0},{"$f":"COUNTIF(Alcance!$E$949:$F$978,G$720)","v":0},{"$f":"COUNTIF(Alcance!$E$949:$F$978,H$720)","v":0},0,1,0]
["TOTALES",null,null,null,{"$f":"SUM(E721:E826)","v":0},0,0,0,0]
[]
["MATRIZ BIOTA"]
["18. Matriz / Grupo",null,"19. Variable",null,"INICIAL","SEGUIMIENTO","RENOVACIÓN","EXTENSIÓN","Total Variables","Equivalencia en Parámetros","Parámetros Calculados"]
["Análisis - Biológico Aguas continentales",null,"Perifiton",null,{"$f":"COUNTIF(Alcance!$E983,E$830)","v":0},{"$f":"COUNTIF(Alcance!$E983,F$830)","v":0},{"$f":"COUNTIF(Alcance!$E983,G$830)","v":0},{"$f":"COUNTIF(Alcance!$E983,H$830)","v":0},{"$f":"SUM(E831:H831)","v":0},1,{"$f":"J831*I831","v":0}]
["Análisis - Biológico Aguas continentales",null,"Bentos",null,{"$f":"COUNTIF(Alcance!$E984,E$830)","v":0},{"$f":"COUNTIF(Alcance!$E984,F$830)","v":0},{"$f":"COUNTIF(Alcance!$E984,G$830)","v":0},{"$f":"COUNTIF(Alcance!$E984,H$830)","v":0},0,1,0]
["Análisis - Biológico Aguas continentales",null,"Fitoplacton",null,{"$f":"COUNTIF(Alcance!$E985,E$830)","v":0},{"$f":"COUNTIF(Alcance!$E985,F$830)","v":0},{"$f":"COUNTIF(Alcance!$E985,G$830)","v":0},{"$f":"COUNTIF(Alcance!$E985,H$830)","v":0},0,1,0]
["Análisis - Biológico Aguas continentales",null,"Zooplacton",null,{"$f":"COUNTIF(Alcance!$E986,E$830)","v":0},{"$f":"COUNTIF(Alcance!$E986,F$830)","v":0},{"$f":"COUNTIF(Alcance!$E986,G$830)","v":0},{"$f":"COUNTIF(Alcance!$E986,H$830)","v":0},0,1,0]
["Análisis - Biológico Aguas continentales",null,"Macrófitas Acuáticas",null,{"$f":"COUNTIF(Alcance!$E987,E$830)","v":0},{"$f":"COUNTIF(Alcance!$E987,F$830)","v":0},{"$f":"COUNTIF(Alcance!$E987,G$830)","v":0},{"$f":"COUNTIF(Alcance!$E987,H$830)","v":0},0,1,0]
["Análisis - Biológico Aguas continentales",null,"Peces",null,{"$f":"COUNTIF(Alcance!$E988,E$830)","v":0},{"$f":"COUNTIF(Alcance!$E988,F$830)","v":0},{"$f":"COUNTIF(Alcance!$E988,G$830)","v":0},{"$f":"COUNTIF(Alcance!$E988,H$830)","v":0},0,1,0]
["Análisis - Biológico Aguas continentales",null,"Macroinvertebrados Bénticos",null,{"$f":"COUNTIF(Alcance!$E989,E$830)","v":0},{"$f":"COUNTIF(Alcance!$E989,F$830)","v":0},{"$f":"COUNTIF(Alcance!$E989,G$830)","v":0},{"$f":"COUNTIF(Alcance!$E989,H$830)","v":0},0,1,0]
["Análisis - Biológico Aguas continentales",null,"Biomasa Zooplantonica",null,{"$f":"COUNTIF(Alcance!$E990,E$830)","v":0},{"$f":"COUNTIF(Alcance!$E990,F$830)","v":0},{"$f":"COUNTIF(Alcance!$E990,G$830)","v":0},{"$f":"COUNTIF(Alcance!$E990,H$830)","v":0},0,1,0]
["Toma de Muestra en cuerpo Lótico - Aguas Continentales",null,"Fitoplancton",null,{"$f":"COUNTIF(Alcance!$E991,E$830)","v":0},{"$f":"COUNTIF(Alcance!$E991,F$830)","v":0},{"$f":"COUNTIF(Alcance!$E991,G$830)","v":0},{"$f":"COUNTIF(Alcance!$E991,H$830)","v":0},0,5,{"$f":"IF((I839+I840+I841+I842+I843+I844)>2,J839,IF(I839>0,2.5,IF(I840>0,2.5,IF(I841>0,2.5,IF(I842>0,2.5,IF(I843>0,2.5,IF(I844>0,2.5,0)))))))","v":0}]
["Toma de Muestra en cuerpo Lótico - Aguas Continentales",null,"Zooplancton",null,{"$f":"COUNTIF(Alcance!$E992,E$830)","v":0},{"$f":"COUNTIF(Alcance!$E992,F$830)","v":0},{"$f":"COUNTIF(Alcance!$E992,G$830)","v":0},{"$f":"COUNTIF(Alcance!$E992,H$830)","v":0},0]
["Toma de Muestra en cuerpo Lótico - Aguas Continentales",null,"Perifiton",null,{"$f":"COUNTIF(Alcance!$E993,E$830)","v":0},{"$f":"COUNTIF(Alcance!$E993,F$830)","v":0},{"$f":"COUNTIF(Alcance!$E993,G$830)","v":0},{"$f":"COUNTIF(Alcance!$E993,H$830)","v":0},0]
["Toma de Muestra en cuerpo Lótico - Aguas Continentales",null,"Macroinvertebrados Bentónicos",null,{"$f":"COUNTIF(Alcance!$E994,E$830)","v":0},{"$f":"COUNTIF(Alcance!$E994,F$830)","v":0},{"$f":"COUNTIF(Alcance!$E994,G$830)","v":0},{"$f":"COUNTIF(Alcance!$E994,H$830)","v":0},0]
["Toma de Muestra en cuerpo Lótico - Aguas Continentales",null,"Peces",null,{"$f":"COUNTIF(Alcance!$E995,E$830)","v":0},{"$f":"COUNTIF(Alcance!$E995,F$830)","v":0},{"$f":"COUNTIF(Alcance!$E995,G$830)","v":0},{"$f":"COUNTIF(Alcance!$E995,H$830)","v":0},0]
["Toma de Muestra en cuerpo Lótico - Aguas Continentales",null,"Macrófitas",null,{"$f":"COUNTIF(Alcance!$E996,E$830)","v":0},{"$f":"COUNTIF(Alcance!$E996,F$830)","v":0},{"$f":"COUNTIF(Alcance!$E996,G$830)","v":0},{"$f":"COUNTIF(Alcance!$E996,H$830)","v":0},0]
["Toma de Muestra en cuerpo Lético - Aguas Continentales",null,"Fitoplancton",null,{"$f":"COUNTIF(Alcance!$E997,E$830)","v":0},{"$f":"COUNTIF(Alcance!$E997,F$830)","v":0},{"$f":"COUNTIF(Alcance!$E997,G$830)","v":0},{"$f":"COUNTIF(Alcance!$E997,H$830)","v":0},0,5,{"$f":"IF((I845+I846+I847+I848+I849+I850)>2,J845,IF(I845>0,2.5,IF(I846>0,2.5,IF(I847>0,2.5,IF(I848>0,2.5,IF(I849>0,2.5,IF(I850>0,2.5,0)))))))","v":0}]
["Toma de Muestra en cuerpo Lético - Aguas Continentales",null,"Zooplancton",null,{"$f":"COUNTIF(Alcance!$E998,E$830)","v":0},{"$f":"COUNTIF(Alcance!$E998,F$830)","v":0},{"$f":"COUNTIF(Alcance!$E998,G$830)","v":0},{"$f":"COUNTIF(Alcance!$E998,H$830)","v":0},0]
["Toma de Muestra en cuerpo Lético - Aguas Continentales",null,"Perifiton",null,{"$f":"COUNTIF(Alcance!$E999,E$830)","v":0},{"$f":"COUNTIF(Alcance!$E999,F$830)","v":0},{"$f":"COUNTIF(Alcance!$E999,G$830)","v":0},{"$f":"COUNTIF(Alcance!$E999,H$830)","v":0},0]
["Toma de Muestra en cuerpo Lético - Aguas Continentales",null,"Macroinvertebrados Bentónicos",null,{"$f":"COUNTIF(Alcance!$E1000,E$830)","v":0},{"$f":"COUNTIF(Alcance!$E1000,F$830)","v":0},{"$f":"COUNTIF(Alcance!$E1000,G$830)","v":0},{"$f":"COUNTIF(Alcance!$E1000,H$830)","v":0},0]
["Toma de Muestra en cuerpo Lético - Aguas Continentales",null,"Peces",null,{"$f":"COUNTIF(Alcance!$E1001,E$830)","v":0},{"$f":"COUNTIF(Alcance!$E1001,F$830)","v":0},{"$f":"COUNTIF(Alcance!$E1001,G$830)","v":0},{"$f":"COUNTIF(Alcance!$E1001,H$830)","v":0},0]
["Toma de Muestra en cuerpo Lético - Aguas Continentales",null,"Macrófitas",null,{"$f":"COUNTIF(Alcance!$E1002,E$830)","v":0},{"$f":"COUNTIF(Alcance!$E1002,F$830)","v":0},{"$f":"COUNTIF(Alcance!$E1002,G$830)","v":0},{"$f":"COUNTIF(Alcance!$E1002,H$830)","v":0},0]
["Toma de Muestra  - Aguas Marinas",null,"Fitoplancton ",null,{"$f":"COUNTIF(Alcance!$E1003,E$830)","v":0},{"$f":"COUNTIF(Alcance!$E1003,F$830)","v":0},{"$f":"COUNTIF(Alcance!$E1003,G$830)","v":0},{"$f":"COUNTIF(Alcance!$E1003,H$830)","v":0},0,5,{"$f":"IF(I851>0,J851,IF(I852>0,J851,IF(I853>0,J851,0)))","v":0}]
["Toma de Muestra  - Aguas Marinas",null,"Zooplancton ",null,{"$f":"COUNTIF(Alcance!$E1004,E$830)","v":0},{"$f":"COUNTIF(Alcance!$E1004,F$830)","v":0},{"$f":"COUNTIF(Alcance!$E1004,G$830)","v":0},{"$f":"COUNTIF(Alcance!$E1004,H$830)","v":0},0]
["Toma de Muestra  - Aguas Marinas",null,"Peces ",null,{"$f":"COUNTIF(Alcance!$E1005,E$830)","v":0},{"$f":"COUNTIF(Alcance!$E1005,F$830)","v":0},{"$f":"COUNTIF(Alcance!$E1005,G$830)","v":0},{"$f":"COUNTIF(Alcance!$E1005,H$830)","v":0},0]
["Toma de Muestra  - Aguas Marinas",null,"Bentos",null,{"$f":"COUNTIF(Alcance!$E1006,E$830)","v":0},{"$f":"COUNTIF(Alcance!$E1006,F$830)","v":0},{"$f":"COUNTIF(Alcance!$E1006,G$830)","v":0},{"$f":"COUNTIF(Alcance!$E1006,H$830)","v":0},0,4,{"$f":"J854*I854","v":0}]
["Toma de Muestra  - Aguas Marinas",null,"Corales",null,{"$f":"COUNTIF(Alcance!$E1007,E$830)","v":0},{"$f":"COUNTIF(Alcance!$E1007,F$830)","v":0},{"$f":"COUNTIF(Alcance!$E1007,G$830)","v":0},{"$f":"COUNTIF(Alcance!$E1007,H$830)","v":0},0,5,0]
["Toma de Muestra  - Aguas Marinas",null,"Pastos Marinos",null,{"$f":"COUNTIF(Alcance!$E1008,E$830)","v":0},{"$f":"COUNTIF(Alcance!$E1008,F$830)","v":0},{"$f":"COUNTIF(Alcance!$E1008,G$830)","v":0},{"$f":"COUNTIF(Alcance!$E1008,H$830)","v":0},0,5,0]
["Toma de Muestra  - Aguas Marinas",null,"Litorales Rocosos",null,{"$f":"COUNTIF(Alcance!$E1009,E$830)","v":0},{"$f":"COUNTIF(Alcance!$E1009,F$830)","v":0},{"$f":"COUNTIF(Alcance!$E1009,G$830)","v":0},{"$f":"COUNTIF(Alcance!$E1009,H$830)","v":0},0,2,0]
["Toma de Muestra  - Aguas Marinas",null,"Litorales Arenosos",null,{"$f":"COUNTIF(Alcance!$E1010,E$830)","v":0},{"$f":"COUNTIF(Alcance!$E1010,F$830)","v":0},{"$f":"COUNTIF(Alcance!$E1010,G$830)","v":0},{"$f":"COUNTIF(Alcance!$E1010,H$830)","v":0},0,2,0]
["Toma de Muestra  - Aguas Marinas",null,"Fondos Blandos",null,{"$f":"COUNTIF(Alcance!$E1011,E$830)","v":0},{"$f":"COUNTIF(Alcance!$E1011,F$830)","v":0},{"$f":"COUNTIF(Alcance!$E1011,G$830)","v":0},{"$f":"COUNTIF(Alcance!$E1011,H$830)","v":0},0,1,0]
["Toma de Muestra  - Aguas Marinas",null,"Macroinvertebrados asociados a macrófitos",null,{"$f":"COUNTIF(Alcance!$E1012,E$830)","v":0},{"$f":"COUNTIF(Alcance!$E1012,F$830)","v":0},{"$f":"COUNTIF(Alcance!$E1012,G$830)","v":0},{"$f":"COUNTIF(Alcance!$E1012,H$830)","v":0},0,1,0]
["Toma de Muestra  - Aguas Marinas",null,"Manglares",null,{"$f":"COUNTIF(Alcance!$E1013,E$830)","v":0},{"$f":"COUNTIF(Alcance!$E1013,F$830)","v":0},{"$f":"COUNTIF(Alcance!$E1013,G$830)","v":0},{"$f":"COUNTIF(Alcance!$E1013,H$830)","v":0},0,5,0]
["Análisis - Agua marina",null,"Fitoplancton",null,{"$f":"COUNTIF(Alcance!$E1014,E$830)","v":0},{"$f":"COUNTIF(Alcance!$E1014,F$830)","v":0},{"$f":"COUNTIF(Alcance!$E1014,G$830)","v":0},{"$f":"COUNTIF(Alcance!$E1014,H$830)","v":0},0,1,0]
["Análisis - Agua marina",null,"Zooplancton",null,{"$f":"COUNTIF(Alcance!$E1015,E$830)","v":0},{"$f":"COUNTIF(Alcance!$E1015,F$830)","v":0},{"$f":"COUNTIF(Alcance!$E1015,G$830)","v":0},{"$f":"COUNTIF(Alcance!$E1015,H$830)","v":0},0,1,0]
["Análisis - Agua marina",null,"Bentos",null,{"$f":"COUNTIF(Alcance!$E1016,E$830)","v":0},{"$f":"COUNTIF(Alcance!$E1016,F$830)","v":0},{"$f":"COUNTIF(Alcance!$E1016,G$830)","v":0},{"$f":"COUNTIF(Alcance!$E1016,H$830)","v":0},0,1,0]
["Análisis - Agua marina",null,"Peces",null,{"$f":"COUNTIF(Alcance!$E1017,E$830)","v":0},{"$f":"COUNTIF(Alcance!$E1017,F$830)","v":0},{"$f":"COUNTIF(Alcance!$E1017,G$830)","v":0},{"$f":"COUNTIF(Alcance!$E1017,H$830)","v":0},0,1,0]
["Análisis - Agua marina",null,"Corales",null,{"$f":"COUNTIF(Alcance!$E1018,E$830)","v":0},{"$f":"COUNTIF(Alcance!$E1018,F$830)","v":0},{"$f":"COUNTIF(Alcance!$E1018,G$830)","v":0},{"$f":"COUNTIF(Alcance!$E1018,H$830)","v":0},0,1,0]
["Análisis - Agua marina",null,"Pastos Marinos",null,{"$f":"COUNTIF(Alcance!$E1019,E$830)","v":0},{"$f":"COUNTIF(Alcance!$E1019,F$830)","v":0},{"$f":"COUNTIF(Alcance!$E1019,G$830)","v":0},{"$f":"COUNTIF(Alcance!$E1019,H$830)","v":0},0,1,0]
["Análisis - Agua marina",null,"Litorales Rocosos",null,{"$f":"COUNTIF(Alcance!$E1020,E$830)","v":0},{"$f":"COUNTIF(Alcance!$E1020,F$830)","v":0},{"$f":"COUNTIF(Alcance!$E1020,G$830)","v":0},{"$f":"COUNTIF(Alcance!$E1020,H$830)","v":0},0,0.5,0]
["Análisis - Agua marina",null,"Litorales Arenosos",null,{"$f":"COUNTIF(Alcance!$E1021,E$830)","v":0},{"$f":"COUNTIF(Alcance!$E1021,F$830)","v":0},{"$f":"COUNTIF(Alcance!$E1021,G$830)","v":0},{"$f":"COUNTIF(Alcance!$E1021,H$830)","v":0},0,0.5,0]
["Análisis - Agua marina",null,"Manglares",null,{"$f":"COUNTIF(Alcance!$E1022,E$830)","v":0},{"$f":"COUNTIF(Alcance!$E1022,F$830)","v":0},{"$f":"COUNTIF(Alcance!$E1022,G$830)","v":0},{"$f":"COUNTIF(Alcance!$E1022,H$830)","v":0},0,1,0]
["Otras Variables en Biota",null,"Especificado por el usuario",null,{"$f":"COUNTIF(Alcance!$E$1023:$F$1068,E$830)","v":0},{"$f":"COUNTIF(Alcance!$E$1023:$F$1068,F$830)","v":0},{"$f":"COUNTIF(Alcance!$E$1023:$F$1068,G$830)","v":0},{"$f":"COUNTIF(Alcance!$E$1023:$F$1068,H$830)","v":0},0,1,0,"Total Parámetros Calculados",{"$f":"SUM(K831:K871)","v":0}]
["TOTALES",null,null,null,{"$f":"SUM(E831:E871)","v":0},0,0,0,0]
[]
["MATRIZ ACEITES DE TRANSFORMADOR"]
["18. Matriz / Grupo",null,"19. Variable",null,"INICIAL","SEGUIMIENTO","RENOVACIÓN","EXTENSIÓN","Total Variables","Equivalencia en Parámetros","Parámetros Calculados"]
["Análisis - PCB's en Aceite de transformador",null,"Aroclor 1016",null,{"$f":"COUNTIF(Alcance!$E1073,E$875)","v":0},{"$f":"COUNTIF(Alcance!$E1073,F$875)","v":0},{"$f":"COUNTIF(Alcance!$E1073,G$875)","v":0},{"$f":"COUNTIF(Alcance!$E1073,H$875)","v":0},{"$f":"SUM(E876:H876)","v":0},5,{"$f":"IF(((I876+I877+I878+I879+I880+I881+I882+I883)>1),J876,IF(I876>0,J876,IF(I877>0,J876,IF(I878>0,J876,IF(I879>0,J876,IF(I880>0,J876,IF(I881>0,J876,IF(I882>0,J876,IF(I883>0,J876,0)))))))))","v":0}]
["Análisis - PCB's en Aceite de transformador",null,"Aroclor 1221",null,{"$f":"COUNTIF(Alcance!$E1074,E$875)","v":0},{"$f":"COUNTIF(Alcance!$E1074,F$875)","v":0},{"$f":"COUNTIF(Alcance!$E1074,G$875)","v":0},{"$f":"COUNTIF(Alcance!$E1074,H$875)","v":0},0]
["Análisis - PCB's en Aceite de transformador",null,"Aroclor 1232",null,{"$f":"COUNTIF(Alcance!$E1075,E$875)","v":0},{"$f":"COUNTIF(Alcance!$E1075,F$875)","v":0},{"$f":"COUNTIF(Alcance!$E1075,G$875)","v":0},{"$f":"COUNTIF(Alcance!$E1075,H$875)","v":0},0]
["Análisis - PCB's en Aceite de transformador",null,"Aroclor 1242",null,{"$f":"COUNTIF(Alcance!$E1076,E$875)","v":0},{"$f":"COUNTIF(Alcance!$E1076,F$875)","v":0},{"$f":"COUNTIF(Alcance!$E1076,G$875)","v":0},{"$f":"COUNTIF(Alcance!$E1076,H$875)","v":0},0]
["Análisis - PCB's en Aceite de transformador",null,"Aroclor 1248",null,{"$f":"COUNTIF(Alcance!$E1077,E$875)","v":0},{"$f":"COUNTIF(Alcance!$E1077,F$875)","v":0},{"$f":"COUNTIF(Alcance!$E1077,G$875)","v":0},{"$f":"COUNTIF(Alcance!$E1077,H$875)","v":0},0]
["Análisis - PCB's en Aceite de transformador",null,"Aroclor 1254",null,{"$f":"COUNTIF(Alcance!$E1078,E$875)","v":0},{"$f":"COUNTIF(Alcance!$E1078,F$875)","v":0},{"$f":"COUNTIF(Alcance!$E1078,G$875)","v":0},{"$f":"COUNTIF(Alcance!$E1078,H$875)","v":0},0]
["Análisis - PCB's en Aceite de transformador",null,"Aroclor 1260",null,{"$f":"COUNTIF(Alcance!$E1079,E$875)","v":0},{"$f":"COUNTIF(Alcance!$E1079,F$875)","v":0},{"$f":"COUNTIF(Alcance!$E1079,G$875)","v":0},{"$f":"COUNTIF(Alcance!$E1079,H$875)","v":0},0]
["Análisis - PCB's en Aceite de transformador",null,"Aroclors Totales o Mezcla",null,{"$f":"COUNTIF(Alcance!$E1080,E$875)","v":0},{"$f":"COUNTIF(Alcance!$E1080,F$875)","v":0},{"$f":"COUNTIF(Alcance!$E1080,G$875)","v":0},{"$f":"COUNTIF(Alcance!$E1080,H$875)","v":0},0]
["PCB's en Aceite de transformador",null,"Toma de muestra PCBs ",null,{"$f":"COUNTIF(Alcance!$E1081,E$875)","v":0},{"$f":"COUNTIF(Alcance!$E1081,F$875)","v":0},{"$f":"COUNTIF(Alcance!$E1081,G$875)","v":0},{"$f":"COUNTIF(Alcance!$E1081,H$875)","v":0},0,5,{"$f":"IF(($I$884+$I$885>1),$J$884,IF($I$884>0,$J$884,IF($I$885>0,$J$884,0)))","v":0}]
["PCB's en Superficies solidas",null,"Toma de muestra PCBs ",null,{"$f":"COUNTIF(Alcance!$E1082,E$875)","v":0},{"$f":"COUNTIF(Alcance!$E1082,F$875)","v":0},{"$f":"COUNTIF(Alcance!$E1082,G$875)","v":0},{"$f":"COUNTIF(Alcance!$E1082,H$875)","v":0},0]
["Análisis - PCB's en Superficies sólidas",null,"Aroclor 1016",null,{"$f":"COUNTIF(Alcance!$E1083,E$875)","v":0},{"$f":"COUNTIF(Alcance!$E1083,F$875)","v":0},{"$f":"COUNTIF(Alcance!$E1083,G$875)","v":0},{"$f":"COUNTIF(Alcance!$E1083,H$875)","v":0},0,5,{"$f":"IF(((I886+I887+I888+I889+I890+I891+I892+I893)>1),J886,IF(I886>0,J886,IF(I887>0,J886,IF(I888>0,J886,IF(I889>0,J886,IF(I890>0,J886,IF(I891>0,J886,IF(I892>0,J886,IF(I893>0,J886,0)))))))))","v":0}]
["Análisis - PCB's en Superficies sólidas",null,"Aroclor 1221",null,{"$f":"COUNTIF(Alcance!$E1084,E$875)","v":0},{"$f":"COUNTIF(Alcance!$E1084,F$875)","v":0},{"$f":"COUNTIF(Alcance!$E1084,G$875)","v":0},{"$f":"COUNTIF(Alcance!$E1084,H$875)","v":0},0]
["Análisis - PCB's en Superficies sólidas",null,"Aroclor 1232",null,{"$f":"COUNTIF(Alcance!$E1085,E$875)","v":0},{"$f":"COUNTIF(Alcance!$E1085,F$875)","v":0},{"$f":"COUNTIF(Alcance!$E1085,G$875)","v":0},{"$f":"COUNTIF(Alcance!$E1085,H$875)","v":0},0]
["Análisis - PCB's en Superficies sólidas",null,"Aroclor 1242",null,{"$f":"COUNTIF(Alcance!$E1086,E$875)","v":0},{"$f":"COUNTIF(Alcance!$E1086,F$875)","v":0},{"$f":"COUNTIF(Alcance!$E1086,G$875)","v":0},{"$f":"COUNTIF(Alcance!$E1086,H$875)","v":0},0]
["Análisis - PCB's en Superficies sólidas",null,"Aroclor 1248",null,{"$f":"COUNTIF(Alcance!$E1087,E$875)","v":0},{"$f":"COUNTIF(Alcance!$E1087,F$875)","v":0},{"$f":"COUNTIF(Alcance!$E1087,G$875)","v":0},{"$f":"COUNTIF(Alcance!$E1087,H$875)","v":0},0]
["Análisis - PCB's en Superficies sólidas",null,"Aroclor 1254",null,{"$f":"COUNTIF(Alcance!$E1088,E$875)","v":0},{"$f":"COUNTIF(Alcance!$E1088,F$875)","v":0},{"$f":"COUNTIF(Alcance!$E1088,G$875)","v":0},{"$f":"COUNTIF(Alcance!$E1088,H$875)","v":0},0]
["Análisis - PCB's en Superficies sólidas",null,"Aroclor 1260",null,{"$f":"COUNTIF(Alcance!$E1089,E$875)","v":0},{"$f":"COUNTIF(Alcance!$E1089,F$875)","v":0},{"$f":"COUNTIF(Alcance!$E1089,G$875)","v":0},{"$f":"COUNTIF(Alcance!$E1089,H$875)","v":0},0]
["Análisis - PCB's en Superficies sólidas",null,"Aroclors Totales o Mezcla",null,{"$f":"COUNTIF(Alcance!$E1090,E$875)","v":0},{"$f":"COUNTIF(Alcance!$E1090,F$875)","v":0},{"$f":"COUNTIF(Alcance!$E1090,G$875)","v":0},{"$f":"COUNTIF(Alcance!$E1090,H$875)","v":0},0,null,null,"Total Parámetros Calculados",{"$f":"SUM(K876:K894)","v":0}]
["Otras variables en Aceites de transformador",null,"Especificado por el usuario",null,{"$f":"COUNTIF(Alcance!$E$1091:$F$1102,E$875)","v":0},{"$f":"COUNTIF(Alcance!$E$1091:$F$1102,F$875)","v":0},{"$f":"COUNTIF(Alcance!$E$1091:$F$1102,G$875)","v":0},{"$f":"COUNTIF(Alcance!$E$1091:$F$1102,H$875)","v":0},0,1,{"$f":"J894*I894","v":0}]
["TOTALES",null,null,null,{"$f":"SUM(E876:E894)","v":0},0,0,0,0]
[]
["MATRIZ SUELO"]
["18. Matriz / Grupo",null,"19. Variable",null,"INICIAL","SEGUIMIENTO","RENOVACIÓN","EXTENSIÓN","Total Variables","Equivalencia en Parámetros","Parámetros Calculados"]
["Humedad",null,"Humedad",null,{"$f":"COUNTIF(Alcance!$E1107,E$898)","v":0},{"$f":"COUNTIF(Alcance!$E1107,F$898)","v":0},{"$f":"COUNTIF(Alcance!$E1107,G$898)","v":0},{"$f":"COUNTIF(Alcance!$E1107,H$898)","v":0},{"$f":"SUM(E899:H899)","v":0},1,{"$f":"J899*I899","v":0}]
["Textura",null,"Textura",null,{"$f":"COUNTIF(Alcance!$E1108,E$898)","v":0},{"$f":"COUNTIF(Alcance!$E1108,F$898)","v":0},{"$f":"COUNTIF(Alcance!$E1108,G$898)","v":0},{"$f":"COUNTIF(Alcance!$E1108,H$898)","v":0},0,1,0]
["pH",null,"pH",null,{"$f":"COUNTIF(Alcance!$E1109,E$898)","v":0},{"$f":"COUNTIF(Alcance!$E1109,F$898)","v":0},{"$f":"COUNTIF(Alcance!$E1109,G$898)","v":0},{"$f":"COUNTIF(Alcance!$E1109,H$898)","v":0},0,1,0]
["Conductividad Eléctrica",null,"Conductividad Eléctrica",null,{"$f":"COUNTIF(Alcance!$E1110,E$898)","v":0},{"$f":"COUNTIF(Alcance!$E1110,F$898)","v":0},{"$f":"COUNTIF(Alcance!$E1110,G$898)","v":0},{"$f":"COUNTIF(Alcance!$E1110,H$898)","v":0},0,1,0]
["Capacidad de Intercambio Catiónico",null,"Capacidad de Intercambio Catiónico",null,{"$f":"COUNTIF(Alcance!$E1111,E$898)","v":0},{"$f":"COUNTIF(Alcance!$E1111,F$898)","v":0},{"$f":"COUNTIF(Alcance!$E1111,G$898)","v":0},{"$f":"COUNTIF(Alcance!$E1111,H$898)","v":0},0,1,0]
["Acidez Intercambiable",null,"Acidez Intercambiable",null,{"$f":"COUNTIF(Alcance!$E1112,E$898)","v":0},{"$f":"COUNTIF(Alcance!$E1112,F$898)","v":0},{"$f":"COUNTIF(Alcance!$E1112,G$898)","v":0},{"$f":"COUNTIF(Alcance!$E1112,H$898)","v":0},0,1,0]
["RAS",null,"Realción de adsorción de Sodio",null,{"$f":"COUNTIF(Alcance!$E1113,E$898)","v":0},{"$f":"COUNTIF(Alcance!$E1113,F$898)","v":0},{"$f":"COUNTIF(Alcance!$E1113,G$898)","v":0},{"$f":"COUNTIF(Alcance!$E1113,H$898)","v":0},0,1,0]
["Sólidos o Residuos",null,"Sólidos Totales",null,{"$f":"COUNTIF(Alcance!$E1114,E$898)","v":0},{"$f":"COUNTIF(Alcance!$E1114,F$898)","v":0},{"$f":"COUNTIF(Alcance!$E1114,G$898)","v":0},{"$f":"COUNTIF(Alcance!$E1114,H$898)","v":0},0,1,0]
["Cenizas",null,"Cenizas",null,{"$f":"COUNTIF(Alcance!$E1115,E$898)","v":0},{"$f":"COUNTIF(Alcance!$E1115,F$898)","v":0},{"$f":"COUNTIF(Alcance!$E1115,G$898)","v":0},{"$f":"COUNTIF(Alcance!$E1115,H$898)","v":0},0,1,0]
["Alcalinidad",null,"Alcalinidad",null,{"$f":"COUNTIF(Alcance!$E1116,E$898)","v":0},{"$f":"COUNTIF(Alcance!$E1116,F$898)","v":0},{"$f":"COUNTIF(Alcance!$E1116,G$898)","v":0},{"$f":"COUNTIF(Alcance!$E1116,H$898)","v":0},0,1,0]
["Densidad Aparente",null,"Toma de muestra y análisis para determinación de densidad aparente",null,{"$f":"COUNTIF(Alcance!$E1117,E$898)","v":0},{"$f":"COUNTIF(Alcance!$E1117,F$898)","v":0},{"$f":"COUNTIF(Alcance!$E1117,G$898)","v":0},{"$f":"COUNTIF(Alcance!$E1117,H$898)","v":0},0,1,0]
["Densidad Real",null,"Toma de muestra y análisis para determinación de densidad real",null,{"$f":"COUNTIF(Alcance!$E1118,E$898)","v":0},{"$f":"COUNTIF(Alcance!$E1118,F$898)","v":0},{"$f":"COUNTIF(Alcance!$E1118,G$898)","v":0},{"$f":"COUNTIF(Alcance!$E1118,H$898)","v":0},0,1,0]
["Aniones",null,"Bromuro",null,{"$f":"COUNTIF(Alcance!$E1119,E$898)","v":0},{"$f":"COUNTIF(Alcance!$E1119,F$898)","v":0},{"$f":"COUNTIF(Alcance!$E1119,G$898)","v":0},{"$f":"COUNTIF(Alcance!$E1119,H$898)","v":0},0,1,0]
["Aniones",null,"Cloruro",null,{"$f":"COUNTIF(Alcance!$E1120,E$898)","v":0},{"$f":"COUNTIF(Alcance!$E1120,F$898)","v":0},{"$f":"COUNTIF(Alcance!$E1120,G$898)","v":0},{"$f":"COUNTIF(Alcance!$E1120,H$898)","v":0},0,1,0]
["Aniones",null,"Fluoruro",null,{"$f":"COUNTIF(Alcance!$E1121,E$898)","v":0},{"$f":"COUNTIF(Alcance!$E1121,F$898)","v":0},{"$f":"COUNTIF(Alcance!$E1121,G$898)","v":0},{"$f":"COUNTIF(Alcance!$E1121,H$898)","v":0},0,1,0]
["Aniones",null,"Nitrato como N",null,{"$f":"COUNTIF(Alcance!$E1122,E$898)","v":0},{"$f":"COUNTIF(Alcance!$E1122,F$898)","v":0},{"$f":"COUNTIF(Alcance!$E1122,G$898)","v":0},{"$f":"COUNTIF(Alcance!$E1122,H$898)","v":0},0,1,0]
["Aniones",null,"Nitrito como N",null,{"$f":"COUNTIF(Alcance!$E1123,E$898)","v":0},{"$f":"COUNTIF(Alcance!$E1123,F$898)","v":0},{"$f":"COUNTIF(Alcance!$E1123,G$898)","v":0},{"$f":"COUNTIF(Alcance!$E1123,H$898)","v":0},0,1,0]
["Aniones",null,"Fosforo disponible",null,{"$f":"COUNTIF(Alcance!$E1124,E$898)","v":0},{"$f":"COUNTIF(Alcance!$E1124,F$898)","v":0},{"$f":"COUNTIF(Alcance!$E1124,G$898)","v":0},{"$f":"COUNTIF(Alcance!$E1124,H$898)","v":0},0,1,0]
["Aniones",null,"Sulfato",null,{"$f":"COUNTIF(Alcance!$E1125,E$898)","v":0},{"$f":"COUNTIF(Alcance!$E1125,F$898)","v":0},{"$f":"COUNTIF(Alcance!$E1125,G$898)","v":0},{"$f":"COUNTIF(Alcance!$E1125,H$898)","v":0},0,1,0]
["Nutrientes",null,"Amonio como N",null,{"$f":"COUNTIF(Alcance!$E1126,E$898)","v":0},{"$f":"COUNTIF(Alcance!$E1126,F$898)","v":0},{"$f":"COUNTIF(Alcance!$E1126,G$898)","v":0},{"$f":"COUNTIF(Alcance!$E1126,H$898)","v":0},0,1,0]
["Nutrientes",null,"Nitrógeno Total Kjeldahl",null,{"$f":"COUNTIF(Alcance!$E1127,E$898)","v":0},{"$f":"COUNTIF(Alcance!$E1127,F$898)","v":0},{"$f":"COUNTIF(Alcance!$E1127,G$898)","v":0},{"$f":"COUNTIF(Alcance!$E1127,H$898)","v":0},0,1,0]
["Nutrientes",null,"Carbono Orgánico Total",null,{"$f":"COUNTIF(Alcance!$E1128,E$898)","v":0},{"$f":"COUNTIF(Alcance!$E1128,F$898)","v":0},{"$f":"COUNTIF(Alcance!$E1128,G$898)","v":0},{"$f":"COUNTIF(Alcance!$E1128,H$898)","v":0},0,1,0]
["Nutrientes",null,"Fósforo Total",null,{"$f":"COUNTIF(Alcance!$E1129,E$898)","v":0},{"$f":"COUNTIF(Alcance!$E1129,F$898)","v":0},{"$f":"COUNTIF(Alcance!$E1129,G$898)","v":0},{"$f":"COUNTIF(Alcance!$E1129,H$898)","v":0},0,1,0]
["Nutrientes",null,"Carbono Orgánico Oxidable",null,{"$f":"COUNTIF(Alcance!$E1130,E$898)","v":0},{"$f":"COUNTIF(Alcance!$E1130,F$898)","v":0},{"$f":"COUNTIF(Alcance!$E1130,G$898)","v":0},{"$f":"COUNTIF(Alcance!$E1130,H$898)","v":0},0,1,0]
["Microbiológico",null,"Escherichia coli",null,{"$f":"COUNTIF(Alcance!$E1131,E$898)","v":0},{"$f":"COUNTIF(Alcance!$E1131,F$898)","v":0},{"$f":"COUNTIF(Alcance!$E1131,G$898)","v":0},{"$f":"COUNTIF(Alcance!$E1131,H$898)","v":0},0,1.5,0]
["Microbiológico",null,"Coliformes  Totales",null,{"$f":"COUNTIF(Alcance!$E1132,E$898)","v":0},{"$f":"COUNTIF(Alcance!$E1132,F$898)","v":0},{"$f":"COUNTIF(Alcance!$E1132,G$898)","v":0},{"$f":"COUNTIF(Alcance!$E1132,H$898)","v":0},0,1.5,0]
["Microbiológico",null,"Salmonella sp.",null,{"$f":"COUNTIF(Alcance!$E1133,E$898)","v":0},{"$f":"COUNTIF(Alcance!$E1133,F$898)","v":0},{"$f":"COUNTIF(Alcance!$E1133,G$898)","v":0},{"$f":"COUNTIF(Alcance!$E1133,H$898)","v":0},0,1.5,0]
["Microbiológico",null,"Huevos de Helminto",null,{"$f":"COUNTIF(Alcance!$E1134,E$898)","v":0},{"$f":"COUNTIF(Alcance!$E1134,F$898)","v":0},{"$f":"COUNTIF(Alcance!$E1134,G$898)","v":0},{"$f":"COUNTIF(Alcance!$E1134,H$898)","v":0},0,1.5,0]
["Microbiológico",null,"Bacterias Sulfato Reductoras",null,{"$f":"COUNTIF(Alcance!$E1135,E$898)","v":0},{"$f":"COUNTIF(Alcance!$E1135,F$898)","v":0},{"$f":"COUNTIF(Alcance!$E1135,G$898)","v":0},{"$f":"COUNTIF(Alcance!$E1135,H$898)","v":0},0,1.5,0]
["Metales",null,"Aluminio",null,{"$f":"COUNTIF(Alcance!$E1136,E$898)","v":0},{"$f":"COUNTIF(Alcance!$E1136,F$898)","v":0},{"$f":"COUNTIF(Alcance!$E1136,G$898)","v":0},{"$f":"COUNTIF(Alcance!$E1136,H$898)","v":0},0,0.5,0]
["Metales",null,"Antimonio",null,{"$f":"COUNTIF(Alcance!$E1137,E$898)","v":0},{"$f":"COUNTIF(Alcance!$E1137,F$898)","v":0},{"$f":"COUNTIF(Alcance!$E1137,G$898)","v":0},{"$f":"COUNTIF(Alcance!$E1137,H$898)","v":0},0,0.5,0]
["Metales",null,"Arsénico",null,{"$f":"COUNTIF(Alcance!$E1138,E$898)","v":0},{"$f":"COUNTIF(Alcance!$E1138,F$898)","v":0},{"$f":"COUNTIF(Alcance!$E1138,G$898)","v":0},{"$f":"COUNTIF(Alcance!$E1138,H$898)","v":0},0,1,0]
["Metales",null,"Bario",null,{"$f":"COUNTIF(Alcance!$E1139,E$898)","v":0},{"$f":"COUNTIF(Alcance!$E1139,F$898)","v":0},{"$f":"COUNTIF(Alcance!$E1139,G$898)","v":0},{"$f":"COUNTIF(Alcance!$E1139,H$898)","v":0},0,0.5,0]
["Metales",null,"Berilio",null,{"$f":"COUNTIF(Alcance!$E1140,E$898)","v":0},{"$f":"COUNTIF(Alcance!$E1140,F$898)","v":0},{"$f":"COUNTIF(Alcance!$E1140,G$898)","v":0},{"$f":"COUNTIF(Alcance!$E1140,H$898)","v":0},0,0.5,0]
["Metales",null,"Boro",null,{"$f":"COUNTIF(Alcance!$E1141,E$898)","v":0},{"$f":"COUNTIF(Alcance!$E1141,F$898)","v":0},{"$f":"COUNTIF(Alcance!$E1141,G$898)","v":0},{"$f":"COUNTIF(Alcance!$E1141,H$898)","v":0},0,0.5,0]
["Metales",null,"Cadmio",null,{"$f":"COUNTIF(Alcance!$E1142,E$898)","v":0},{"$f":"COUNTIF(Alcance!$E1142,F$898)","v":0},{"$f":"COUNTIF(Alcance!$E1142,G$898)","v":0},{"$f":"COUNTIF(Alcance!$E1142,H$898)","v":0},0,0.5,0]
["Metales",null,"Calcio",null,{"$f":"COUNTIF(Alcance!$E1143,E$898)","v":0},{"$f":"COUNTIF(Alcance!$E1143,F$898)","v":0},{"$f":"COUNTIF(Alcance!$E1143,G$898)","v":0},{"$f":"COUNTIF(Alcance!$E1143,H$898)","v":0},0,0.5,0]
["Metales",null,"Cobalto",null,{"$f":"COUNTIF(Alcance!$E1144,E$898)","v":0},{"$f":"COUNTIF(Alcance!$E1144,F$898)","v":0},{"$f":"COUNTIF(Alcance!$E1144,G$898)","v":0},{"$f":"COUNTIF(Alcance!$E1144,H$898)","v":0},0,0.5,0]
["Metales",null,"Cobre",null,{"$f":"COUNTIF(Alcance!$E1145,E$898)","v":0},{"$f":"COUNTIF(Alcance!$E1145,F$898)","v":0},{"$f":"COUNTIF(Alcance!$E1145,G$898)","v":0},{"$f":"COUNTIF(Alcance!$E1145,H$898)","v":0},0,0.5,0]
["Metales",null,"Cromo",null,{"$f":"COUNTIF(Alcance!$E1146,E$898)","v":0},{"$f":"COUNTIF(Alcance!$E1146,F$898)","v":0},{"$f":"COUNTIF(Alcance!$E1146,G$898)","v":0},{"$f":"COUNTIF(Alcance!$E1146,H$898)","v":0},0,0.5,0]
["Metales",null,"Estaño",null,{"$f":"COUNTIF(Alcance!$E1147,E$898)","v":0},{"$f":"COUNTIF(Alcance!$E1147,F$898)","v":0},{"$f":"COUNTIF(Alcance!$E1147,G$898)","v":0},{"$f":"COUNTIF(Alcance!$E1147,H$898)","v":0},0,0.5,0]
["Metales",null,"Estroncio",null,{"$f":"COUNTIF(Alcance!$E1148,E$898)","v":0},{"$f":"COUNTIF(Alcance!$E1148,F$898)","v":0},{"$f":"COUNTIF(Alcance!$E1148,G$898)","v":0},{"$f":"COUNTIF(Alcance!$E1148,H$898)","v":0},0,0.5,0]
["Metales",null,"Hierro",null,{"$f":"COUNTIF(Alcance!$E1149,E$898)","v":0},{"$f":"COUNTIF(Alcance!$E1149,F$898)","v":0},{"$f":"COUNTIF(Alcance!$E1149,G$898)","v":0},{"$f":"COUNTIF(Alcance!$E1149,H$898)","v":0},0,0.5,0]
["Metales",null,"Litio",null,{"$f":"COUNTIF(Alcance!$E1150,E$898)","v":0},{"$f":"COUNTIF(Alcance!$E1150,F$898)","v":0},{"$f":"COUNTIF(Alcance!$E1150,G$898)","v":0},{"$f":"COUNTIF(Alcance!$E1150,H$898)","v":0},0,0.5,0]
["Metales",null,"Magnesio",null,{"$f":"COUNTIF(Alcance!$E1151,E$898)","v":0},{"$f":"COUNTIF(Alcance!$E1151,F$898)","v":0},{"$f":"COUNTIF(Alcance!$E1151,G$898)","v":0},{"$f":"COUNTIF(Alcance!$E1151,H$898)","v":0},0,0.5,0]
["Metales",null,"Manganeso",null,{"$f":"COUNTIF(Alcance!$E1152,E$898)","v":0},{"$f":"COUNTIF(Alcance!$E1152,F$898)","v":0},{"$f":"COUNTIF(Alcance!$E1152,G$898)","v":0},{"$f":"COUNTIF(Alcance!$E1152,H$898)","v":0},0,0.5,0]
["Metales",null,"Mercurio",null,{"$f":"COUNTIF(Alcance!$E1153,E$898)","v":0},{"$f":"COUNTIF(Alcance!$E1153,F$898)","v":0},{"$f":"COUNTIF(Alcance!$E1153,G$898)","v":0},{"$f":"COUNTIF(Alcance!$E1153,H$898)","v":0},0,1,0]
["Metales",null,"Molibdeno",null,{"$f":"COUNTIF(Alcance!$E1154,E$898)","v":0},{"$f":"COUNTIF(Alcance!$E1154,F$898)","v":0},{"$f":"COUNTIF(Alcance!$E1154,G$898)","v":0},{"$f":"COUNTIF(Alcance!$E1154,H$898)","v":0},0,0.5,0]
["Metales",null,"Níquel",null,{"$f":"COUNTIF(Alcance!$E1155,E$898)","v":0},{"$f":"COUNTIF(Alcance!$E1155,F$898)","v":0},{"$f":"COUNTIF(Alcance!$E1155,G$898)","v":0},{"$f":"COUNTIF(Alcance!$E1155,H$898)","v":0},0,0.5,0]
["Metales",null,"Plata",null,{"$f":"COUNTIF(Alcance!$E1156,E$898)","v":0},{"$f":"COUNTIF(Alcance!$E1156,F$898)","v":0},{"$f":"COUNTIF(Alcance!$E1156,G$898)","v":0},{"$f":"COUNTIF(Alcance!$E1156,H$898)","v":0},0,0.5,0]
["Metales",null,"Plomo",null,{"$f":"COUNTIF(Alcance!$E1157,E$898)","v":0},{"$f":"COUNTIF(Alcance!$E1157,F$898)","v":0},{"$f":"COUNTIF(Alcance!$E1157,G$898)","v":0},{"$f":"COUNTIF(Alcance!$E1157,H$898)","v":0},0,0.5,0]
["Metales",null,"Potasio",null,{"$f":"COUNTIF(Alcance!$E1158,E$898)","v":0},{"$f":"COUNTIF(Alcance!$E1158,F$898)","v":0},{"$f":"COUNTIF(Alcance!$E1158,G$898)","v":0},{"$f":"COUNTIF(Alcance!$E1158,H$898)","v":0},0,0.5,0]
["Metales",null,"Selenio",null,{"$f":"COUNTIF(Alcance!$E1159,E$898)","v":0},{"$f":"COUNTIF(Alcance!$E1159,F$898)","v":0},{"$f":"COUNTIF(Alcance!$E1159,G$898)","v":0},{"$f":"COUNTIF(Alcance!$E1159,H$898)","v":0},0,1,0]
["Metales",null,"Sodio",null,{"$f":"COUNTIF(Alcance!$E1160,E$898)","v":0},{"$f":"COUNTIF(Alcance!$E1160,F$898)","v":0},{"$f":"COUNTIF(Alcance!$E1160,G$898)","v":0},{"$f":"COUNTIF(Alcance!$E1160,H$898)","v":0},0,0.5,0]
["Metales",null,"Talio",null,{"$f":"COUNTIF(Alcance!$E1161,E$898)","v":0},{"$f":"COUNTIF(Alcance!$E1161,F$898)","v":0},{"$f":"COUNTIF(Alcance!$E1161,G$898)","v":0},{"$f":"COUNTIF(Alcance!$E1161,H$898)","v":0},0,0.5,0]
["Metales",null,"Titanio",null,{"$f":"COUNTIF(Alcance!$E1162,E$898)","v":0},{"$f":"COUNTIF(Alcance!$E1162,F$898)","v":0},{"$f":"COUNTIF(Alcance!$E1162,G$898)","v":0},{"$f":"COUNTIF(Alcance!$E1162,H$898)","v":0},0,0.5,0]
["Metales",null,"Vanadio",null,{"$f":"COUNTIF(Alcance!$E1163,E$898)","v":0},{"$f":"COUNTIF(Alcance!$E1163,F$898)","v":0},{"$f":"COUNTIF(Alcance!$E1163,G$898)","v":0},{"$f":"COUNTIF(Alcance!$E1163,H$898)","v":0},0,0.5,0]
["Metales",null,"Zinc",null,{"$f":"COUNTIF(Alcance!$E1164,E$898)","v":0},{"$f":"COUNTIF(Alcance!$E1164,F$898)","v":0},{"$f":"COUNTIF(Alcance!$E1164,G$898)","v":0},{"$f":"COUNTIF(Alcance!$E1164,H$898)","v":0},0,0.5,0]
["Pesticidas Organoclorados",null,"Aldrín",null,{"$f":"COUNTIF(Alcance!$E1165,E$898)","v":0},{"$f":"COUNTIF(Alcance!$E1165,F$898)","v":0},{"$f":"COUNTIF(Alcance!$E1165,G$898)","v":0},{"$f":"COUNTIF(Alcance!$E1165,H$898)","v":0},0,0.5,0]
["Pesticidas Organoclorados",null,"4,4'-DDD",null,{"$f":"COUNTIF(Alcance!$E1166,E$898)","v":0},{"$f":"COUNTIF(Alcance!$E1166,F$898)","v":0},{"$f":"COUNTIF(Alcance!$E1166,G$898)","v":0},{"$f":"COUNTIF(Alcance!$E1166,H$898)","v":0},0,0.5,0]
["Pesticidas Organoclorados",null,"4,4'-DDE",null,{"$f":"COUNTIF(Alcance!$E1167,E$898)","v":0},{"$f":"COUNTIF(Alcance!$E1167,F$898)","v":0},{"$f":"COUNTIF(Alcance!$E1167,G$898)","v":0},{"$f":"COUNTIF(Alcance!$E1167,H$898)","v":0},0,0.5,0]
["Pesticidas Organoclorados",null,"4,4'-DDT",null,{"$f":"COUNTIF(Alcance!$E1168,E$898)","v":0},{"$f":"COUNTIF(Alcance!$E1168,F$898)","v":0},{"$f":"COUNTIF(Alcance!$E1168,G$898)","v":0},{"$f":"COUNTIF(Alcance!$E1168,H$898)","v":0},0,0.5,0]
["Pesticidas Organoclorados",null,"Dieldrín",null,{"$f":"COUNTIF(Alcance!$E1169,E$898)","v":0},{"$f":"COUNTIF(Alcance!$E1169,F$898)","v":0},{"$f":"COUNTIF(Alcance!$E1169,G$898)","v":0},{"$f":"COUNTIF(Alcance!$E1169,H$898)","v":0},0,0.5,0]
["Pesticidas Organoclorados",null,"Heptacloro",null,{"$f":"COUNTIF(Alcance!$E1170,E$898)","v":0},{"$f":"COUNTIF(Alcance!$E1170,F$898)","v":0},{"$f":"COUNTIF(Alcance!$E1170,G$898)","v":0},{"$f":"COUNTIF(Alcance!$E1170,H$898)","v":0},0,0.5,0]
["Pesticidas Organoclorados",null,"Alfa-BHC",null,{"$f":"COUNTIF(Alcance!$E1171,E$898)","v":0},{"$f":"COUNTIF(Alcance!$E1171,F$898)","v":0},{"$f":"COUNTIF(Alcance!$E1171,G$898)","v":0},{"$f":"COUNTIF(Alcance!$E1171,H$898)","v":0},0,0.5,0]
["Pesticidas Organoclorados",null,"Beta-BHC",null,{"$f":"COUNTIF(Alcance!$E1172,E$898)","v":0},{"$f":"COUNTIF(Alcance!$E1172,F$898)","v":0},{"$f":"COUNTIF(Alcance!$E1172,G$898)","v":0},{"$f":"COUNTIF(Alcance!$E1172,H$898)","v":0},0,0.5,0]
["Pesticidas Organoclorados",null,"Gama-BHC (Lindano)",null,{"$f":"COUNTIF(Alcance!$E1173,E$898)","v":0},{"$f":"COUNTIF(Alcance!$E1173,F$898)","v":0},{"$f":"COUNTIF(Alcance!$E1173,G$898)","v":0},{"$f":"COUNTIF(Alcance!$E1173,H$898)","v":0},0,0.5,0]
["Pesticidas Organoclorados",null,"Endosulfan I",null,{"$f":"COUNTIF(Alcance!$E1174,E$898)","v":0},{"$f":"COUNTIF(Alcance!$E1174,F$898)","v":0},{"$f":"COUNTIF(Alcance!$E1174,G$898)","v":0},{"$f":"COUNTIF(Alcance!$E1174,H$898)","v":0},0,0.5,0]
["Pesticidas Organoclorados",null,"Endosulfan II",null,{"$f":"COUNTIF(Alcance!$E1175,E$898)","v":0},{"$f":"COUNTIF(Alcance!$E1175,F$898)","v":0},{"$f":"COUNTIF(Alcance!$E1175,G$898)","v":0},{"$f":"COUNTIF(Alcance!$E1175,H$898)","v":0},0,0.5,0]
["Pesticidas Organoclorados",null,"Endosulfan sulfato",null,{"$f":"COUNTIF(Alcance!$E1176,E$898)","v":0},{"$f":"COUNTIF(Alcance!$E1176,F$898)","v":0},{"$f":"COUNTIF(Alcance!$E1176,G$898)","v":0},{"$f":"COUNTIF(Alcance!$E1176,H$898)","v":0},0,0.5,0]
["Pesticidas Organoclorados",null,"Endrín",null,{"$f":"COUNTIF(Alcance!$E1177,E$898)","v":0},{"$f":"COUNTIF(Alcance!$E1177,F$898)","v":0},{"$f":"COUNTIF(Alcance!$E1177,G$898)","v":0},{"$f":"COUNTIF(Alcance!$E1177,H$898)","v":0},0,0.5,0]
["Pesticidas Organoclorados",null,"Metoxicloro",null,{"$f":"COUNTIF(Alcance!$E1178,E$898)","v":0},{"$f":"COUNTIF(Alcance!$E1178,F$898)","v":0},{"$f":"COUNTIF(Alcance!$E1178,G$898)","v":0},{"$f":"COUNTIF(Alcance!$E1178,H$898)","v":0},0,0.5,0]
["Pesticidas Organofosforados",null,"Metil azinfos (Gutión)",null,{"$f":"COUNTIF(Alcance!$E1179,E$898)","v":0},{"$f":"COUNTIF(Alcance!$E1179,F$898)","v":0},{"$f":"COUNTIF(Alcance!$E1179,G$898)","v":0},{"$f":"COUNTIF(Alcance!$E1179,H$898)","v":0},0,0.5,0]
["Pesticidas Organofosforados",null,"Demetón-O",null,{"$f":"COUNTIF(Alcance!$E1180,E$898)","v":0},{"$f":"COUNTIF(Alcance!$E1180,F$898)","v":0},{"$f":"COUNTIF(Alcance!$E1180,G$898)","v":0},{"$f":"COUNTIF(Alcance!$E1180,H$898)","v":0},0,0.5,0]
["Pesticidas Organofosforados",null,"Demetón-S",null,{"$f":"COUNTIF(Alcance!$E1181,E$898)","v":0},{"$f":"COUNTIF(Alcance!$E1181,F$898)","v":0},{"$f":"COUNTIF(Alcance!$E1181,G$898)","v":0},{"$f":"COUNTIF(Alcance!$E1181,H$898)","v":0},0,0.5,0]
["Pesticidas Organofosforados",null,"Diazinon",null,{"$f":"COUNTIF(Alcance!$E1182,E$898)","v":0},{"$f":"COUNTIF(Alcance!$E1182,F$898)","v":0},{"$f":"COUNTIF(Alcance!$E1182,G$898)","v":0},{"$f":"COUNTIF(Alcance!$E1182,H$898)","v":0},0,0.5,0]
["Pesticidas Organofosforados",null,"Diclorvos (DDVP)",null,{"$f":"COUNTIF(Alcance!$E1183,E$898)","v":0},{"$f":"COUNTIF(Alcance!$E1183,F$898)","v":0},{"$f":"COUNTIF(Alcance!$E1183,G$898)","v":0},{"$f":"COUNTIF(Alcance!$E1183,H$898)","v":0},0,0.5,0]
["Pesticidas Organofosforados",null,"Malation",null,{"$f":"COUNTIF(Alcance!$E1184,E$898)","v":0},{"$f":"COUNTIF(Alcance!$E1184,F$898)","v":0},{"$f":"COUNTIF(Alcance!$E1184,G$898)","v":0},{"$f":"COUNTIF(Alcance!$E1184,H$898)","v":0},0,0.5,0]
["Pesticidas Organofosforados",null,"Etil paration",null,{"$f":"COUNTIF(Alcance!$E1185,E$898)","v":0},{"$f":"COUNTIF(Alcance!$E1185,F$898)","v":0},{"$f":"COUNTIF(Alcance!$E1185,G$898)","v":0},{"$f":"COUNTIF(Alcance!$E1185,H$898)","v":0},0,0.5,0]
["Pesticidas Organofosforados",null,"Forato",null,{"$f":"COUNTIF(Alcance!$E1186,E$898)","v":0},{"$f":"COUNTIF(Alcance!$E1186,F$898)","v":0},{"$f":"COUNTIF(Alcance!$E1186,G$898)","v":0},{"$f":"COUNTIF(Alcance!$E1186,H$898)","v":0},0,0.5,0]
["Pesticidas Organofosforados",null,"Ronnel",null,{"$f":"COUNTIF(Alcance!$E1187,E$898)","v":0},{"$f":"COUNTIF(Alcance!$E1187,F$898)","v":0},{"$f":"COUNTIF(Alcance!$E1187,G$898)","v":0},{"$f":"COUNTIF(Alcance!$E1187,H$898)","v":0},0,0.5,0]
["Pesticidas Organofosforados",null,"Tetraclorvinfos",null,{"$f":"COUNTIF(Alcance!$E1188,E$898)","v":0},{"$f":"COUNTIF(Alcance!$E1188,F$898)","v":0},{"$f":"COUNTIF(Alcance!$E1188,G$898)","v":0},{"$f":"COUNTIF(Alcance!$E1188,H$898)","v":0},0,0.5,0]
["Herbicidas",null,"2,4-D",null,{"$f":"COUNTIF(Alcance!$E1189,E$898)","v":0},{"$f":"COUNTIF(Alcance!$E1189,F$898)","v":0},{"$f":"COUNTIF(Alcance!$E1189,G$898)","v":0},{"$f":"COUNTIF(Alcance!$E1189,H$898)","v":0},0,0.5,0]
["Herbicidas",null,"2,4-DB",null,{"$f":"COUNTIF(Alcance!$E1190,E$898)","v":0},{"$f":"COUNTIF(Alcance!$E1190,F$898)","v":0},{"$f":"COUNTIF(Alcance!$E1190,G$898)","v":0},{"$f":"COUNTIF(Alcance!$E1190,H$898)","v":0},0,0.5,0]
["Herbicidas",null,"Dalapon",null,{"$f":"COUNTIF(Alcance!$E1191,E$898)","v":0},{"$f":"COUNTIF(Alcance!$E1191,F$898)","v":0},{"$f":"COUNTIF(Alcance!$E1191,G$898)","v":0},{"$f":"COUNTIF(Alcance!$E1191,H$898)","v":0},0,0.5,0]
["Herbicidas",null,"Dicamba",null,{"$f":"COUNTIF(Alcance!$E1192,E$898)","v":0},{"$f":"COUNTIF(Alcance!$E1192,F$898)","v":0},{"$f":"COUNTIF(Alcance!$E1192,G$898)","v":0},{"$f":"COUNTIF(Alcance!$E1192,H$898)","v":0},0,0.5,0]
["Herbicidas",null,"Disulfoton",null,{"$f":"COUNTIF(Alcance!$E1193,E$898)","v":0},{"$f":"COUNTIF(Alcance!$E1193,F$898)","v":0},{"$f":"COUNTIF(Alcance!$E1193,G$898)","v":0},{"$f":"COUNTIF(Alcance!$E1193,H$898)","v":0},0,0.5,0]
["Herbicidas",null,"MCPA",null,{"$f":"COUNTIF(Alcance!$E1194,E$898)","v":0},{"$f":"COUNTIF(Alcance!$E1194,F$898)","v":0},{"$f":"COUNTIF(Alcance!$E1194,G$898)","v":0},{"$f":"COUNTIF(Alcance!$E1194,H$898)","v":0},0,0.5,0]
["Herbicidas",null,"MCPP",null,{"$f":"COUNTIF(Alcance!$E1195,E$898)","v":0},{"$f":"COUNTIF(Alcance!$E1195,F$898)","v":0},{"$f":"COUNTIF(Alcance!$E1195,G$898)","v":0},{"$f":"COUNTIF(Alcance!$E1195,H$898)","v":0},0,0.5,0]
["Herbicidas",null,"Pentaclorofenol",null,{"$f":"COUNTIF(Alcance!$E1196,E$898)","v":0},{"$f":"COUNTIF(Alcance!$E1196,F$898)","v":0},{"$f":"COUNTIF(Alcance!$E1196,G$898)","v":0},{"$f":"COUNTIF(Alcance!$E1196,H$898)","v":0},0,0.5,0]
["Herbicidas",null,"Silvex (2,4,5-TP)",null,{"$f":"COUNTIF(Alcance!$E1197,E$898)","v":0},{"$f":"COUNTIF(Alcance!$E1197,F$898)","v":0},{"$f":"COUNTIF(Alcance!$E1197,G$898)","v":0},{"$f":"COUNTIF(Alcance!$E1197,H$898)","v":0},0,0.5,0]
["Herbicidas",null,"2,4,5-T",null,{"$f":"COUNTIF(Alcance!$E1198,E$898)","v":0},{"$f":"COUNTIF(Alcance!$E1198,F$898)","v":0},{"$f":"COUNTIF(Alcance!$E1198,G$898)","v":0},{"$f":"COUNTIF(Alcance!$E1198,H$898)","v":0},0,0.5,0]
["Dioxinas  y Furanos",null,"1,2,3,4,6,7,8-Hpcdf",null,{"$f":"COUNTIF(Alcance!$E1199,E$898)","v":0},{"$f":"COUNTIF(Alcance!$E1199,F$898)","v":0},{"$f":"COUNTIF(Alcance!$E1199,G$898)","v":0},{"$f":"COUNTIF(Alcance!$E1199,H$898)","v":0},0,0.5,0]
["Dioxinas  y Furanos",null,"1,2,3,4,7,8,9-Hpcdf",null,{"$f":"COUNTIF(Alcance!$E1200,E$898)","v":0},{"$f":"COUNTIF(Alcance!$E1200,F$898)","v":0},{"$f":"COUNTIF(Alcance!$E1200,G$898)","v":0},{"$f":"COUNTIF(Alcance!$E1200,H$898)","v":0},0,0.5,0]
["Dioxinas  y Furanos",null,"1,2,3,4,6,7,8-Hpcdd",null,{"$f":"COUNTIF(Alcance!$E1201,E$898)","v":0},{"$f":"COUNTIF(Alcance!$E1201,F$898)","v":0},{"$f":"COUNTIF(Alcance!$E1201,G$898)","v":0},{"$f":"COUNTIF(Alcance!$E1201,H$898)","v":0},0,0.5,0]
["Dioxinas  y Furanos",null,"Hpcdd Total",null,{"$f":"COUNTIF(Alcance!$E1202,E$898)","v":0},{"$f":"COUNTIF(Alcance!$E1202,F$898)","v":0},{"$f":"COUNTIF(Alcance!$E1202,G$898)","v":0},{"$f":"COUNTIF(Alcance!$E1202,H$898)","v":0},0,0.5,0]
["Dioxinas  y Furanos",null,"Hpcdf Total",null,{"$f":"COUNTIF(Alcance!$E1203,E$898)","v":0},{"$f":"COUNTIF(Alcance!$E1203,F$898)","v":0},{"$f":"COUNTIF(Alcance!$E1203,G$898)","v":0},{"$f":"COUNTIF(Alcance!$E1203,H$898)","v":0},0,0.5,0]
["Dioxinas  y Furanos",null,"1,2,3,4,7,8-Hxcdd",null,{"$f":"COUNTIF(Alcance!$E1204,E$898)","v":0},{"$f":"COUNTIF(Alcance!$E1204,F$898)","v":0},{"$f":"COUNTIF(Alcance!$E1204,G$898)","v":0},{"$f":"COUNTIF(Alcance!$E1204,H$898)","v":0},0,0.5,0]
["Dioxinas  y Furanos",null,"1,2,3,6,7,8-Hxcdd",null,{"$f":"COUNTIF(Alcance!$E1205,E$898)","v":0},{"$f":"COUNTIF(Alcance!$E1205,F$898)","v":0},{"$f":"COUNTIF(Alcance!$E1205,G$898)","v":0},{"$f":"COUNTIF(Alcance!$E1205,H$898)","v":0},0,0.5,0]
["Dioxinas  y Furanos",null,"1,2,3,7,8,9-Hxcdd",null,{"$f":"COUNTIF(Alcance!$E1206,E$898)","v":0},{"$f":"COUNTIF(Alcance!$E1206,F$898)","v":0},{"$f":"COUNTIF(Alcance!$E1206,G$898)","v":0},{"$f":"COUNTIF(Alcance!$E1206,H$898)","v":0},0,0.5,0]
["Dioxinas  y Furanos",null,"Hxcdd Total",null,{"$f":"COUNTIF(Alcance!$E1207,E$898)","v":0},{"$f":"COUNTIF(Alcance!$E1207,F$898)","v":0},{"$f":"COUNTIF(Alcance!$E1207,G$898)","v":0},{"$f":"COUNTIF(Alcance!$E1207,H$898)","v":0},0,0.5,0]
["Dioxinas  y Furanos",null,"1,2,3,4,7,8-Hxcdf",null,{"$f":"COUNTIF(Alcance!$E1208,E$898)","v":0},{"$f":"COUNTIF(Alcance!$E1208,F$898)","v":0},{"$f":"COUNTIF(Alcance!$E1208,G$898)","v":0},{"$f":"COUNTIF(Alcance!$E1208,H$898)","v":0},0,0.5,0]
["Dioxinas  y Furanos",null,"1,2,3,6,7,8-Hxcdf",null,{"$f":"COUNTIF(Alcance!$E1209,E$898)","v":0},{"$f":"COUNTIF(Alcance!$E1209,F$898)","v":0},{"$f":"COUNTIF(Alcance!$E1209,G$898)","v":0},{"$f":"COUNTIF(Alcance!$E1209,H$898)","v":0},0,0.5,0]
["Dioxinas  y Furanos",null,"1,2,3,7,8,9-Hxcdf",null,{"$f":"COUNTIF(Alcance!$E1210,E$898)","v":0},{"$f":"COUNTIF(Alcance!$E1210,F$898)","v":0},{"$f":"COUNTIF(Alcance!$E1210,G$898)","v":0},{"$f":"COUNTIF(Alcance!$E1210,H$898)","v":0},0,0.5,0]
["Dioxinas  y Furanos",null,"2,3,4,6,7,8-Hxcdf",null,{"$f":"COUNTIF(Alcance!$E1211,E$898)","v":0},{"$f":"COUNTIF(Alcance!$E1211,F$898)","v":0},{"$f":"COUNTIF(Alcance!$E1211,G$898)","v":0},{"$f":"COUNTIF(Alcance!$E1211,H$898)","v":0},0,0.5,0]
["Dioxinas  y Furanos",null,"Hxcdf Total",null,{"$f":"COUNTIF(Alcance!$E1212,E$898)","v":0},{"$f":"COUNTIF(Alcance!$E1212,F$898)","v":0},{"$f":"COUNTIF(Alcance!$E1212,G$898)","v":0},{"$f":"COUNTIF(Alcance!$E1212,H$898)","v":0},0,0.5,0]
["Dioxinas  y Furanos",null,"1,2,3,4,6,7,8,9-OCDF",null,{"$f":"COUNTIF(Alcance!$E1213,E$898)","v":0},{"$f":"COUNTIF(Alcance!$E1213,F$898)","v":0},{"$f":"COUNTIF(Alcance!$E1213,G$898)","v":0},{"$f":"COUNTIF(Alcance!$E1213,H$898)","v":0},0,0.5,0]
["Dioxinas  y Furanos",null,"1,2,3,4,6,7,8,9-OCDD",null,{"$f":"COUNTIF(Alcance!$E1214,E$898)","v":0},{"$f":"COUNTIF(Alcance!$E1214,F$898)","v":0},{"$f":"COUNTIF(Alcance!$E1214,G$898)","v":0},{"$f":"COUNTIF(Alcance!$E1214,H$898)","v":0},0,0.5,0]
["Dioxinas  y Furanos",null,"1,2,3,7,8-Pecdd",null,{"$f":"COUNTIF(Alcance!$E1215,E$898)","v":0},{"$f":"COUNTIF(Alcance!$E1215,F$898)","v":0},{"$f":"COUNTIF(Alcance!$E1215,G$898)","v":0},{"$f":"COUNTIF(Alcance!$E1215,H$898)","v":0},0,0.5,0]
["Dioxinas  y Furanos",null,"1,2,3,7,8-Pecdf",null,{"$f":"COUNTIF(Alcance!$E1216,E$898)","v":0},{"$f":"COUNTIF(Alcance!$E1216,F$898)","v":0},{"$f":"COUNTIF(Alcance!$E1216,G$898)","v":0},{"$f":"COUNTIF(Alcance!$E1216,H$898)","v":0},0,0.5,0]
["Dioxinas  y Furanos",null,"2,3,4,7,8-Pecdf",null,{"$f":"COUNTIF(Alcance!$E1217,E$898)","v":0},{"$f":"COUNTIF(Alcance!$E1217,F$898)","v":0},{"$f":"COUNTIF(Alcance!$E1217,G$898)","v":0},{"$f":"COUNTIF(Alcance!$E1217,H$898)","v":0},0,0.5,0]
["Dioxinas  y Furanos",null,"Pecdf Total",null,{"$f":"COUNTIF(Alcance!$E1218,E$898)","v":0},{"$f":"COUNTIF(Alcance!$E1218,F$898)","v":0},{"$f":"COUNTIF(Alcance!$E1218,G$898)","v":0},{"$f":"COUNTIF(Alcance!$E1218,H$898)","v":0},0,0.5,0]
["Dioxinas  y Furanos",null,"Pecdd Total",null,{"$f":"COUNTIF(Alcance!$E1219,E$898)","v":0},{"$f":"COUNTIF(Alcance!$E1219,F$898)","v":0},{"$f":"COUNTIF(Alcance!$E1219,G$898)","v":0},{"$f":"COUNTIF(Alcance!$E1219,H$898)","v":0},0,0.5,0]
["Dioxinas  y Furanos",null,"2,3,7,8-TCDD",null,{"$f":"COUNTIF(Alcance!$E1220,E$898)","v":0},{"$f":"COUNTIF(Alcance!$E1220,F$898)","v":0},{"$f":"COUNTIF(Alcance!$E1220,G$898)","v":0},{"$f":"COUNTIF(Alcance!$E1220,H$898)","v":0},0,0.5,0]
["Dioxinas  y Furanos",null,"2,3,7,8-TCDF",null,{"$f":"COUNTIF(Alcance!$E1221,E$898)","v":0},{"$f":"COUNTIF(Alcance!$E1221,F$898)","v":0},{"$f":"COUNTIF(Alcance!$E1221,G$898)","v":0},{"$f":"COUNTIF(Alcance!$E1221,H$898)","v":0},0,0.5,0]
["Dioxinas  y Furanos",null,"TCDF Total",null,{"$f":"COUNTIF(Alcance!$E1222,E$898)","v":0},{"$f":"COUNTIF(Alcance!$E1222,F$898)","v":0},{"$f":"COUNTIF(Alcance!$E1222,G$898)","v":0},{"$f":"COUNTIF(Alcance!$E1222,H$898)","v":0},0,0.5,0]
["Dioxinas  y Furanos",null,"TCDD Total",null,{"$f":"COUNTIF(Alcance!$E1223,E$898)","v":0},{"$f":"COUNTIF(Alcance!$E1223,F$898)","v":0},{"$f":"COUNTIF(Alcance!$E1223,G$898)","v":0},{"$f":"COUNTIF(Alcance!$E1223,H$898)","v":0},0,0.5,0]
["Dioxinas  y Furanos",null,"PCDD Total",null,{"$f":"COUNTIF(Alcance!$E1224,E$898)","v":0},{"$f":"COUNTIF(Alcance!$E1224,F$898)","v":0},{"$f":"COUNTIF(Alcance!$E1224,G$898)","v":0},{"$f":"COUNTIF(Alcance!$E1224,H$898)","v":0},0,0.5,0]
["Dioxinas  y Furanos",null,"PCDD+PCDF Total",null,{"$f":"COUNTIF(Alcance!$E1225,E$898)","v":0},{"$f":"COUNTIF(Alcance!$E1225,F$898)","v":0},{"$f":"COUNTIF(Alcance!$E1225,G$898)","v":0},{"$f":"COUNTIF(Alcance!$E1225,H$898)","v":0},0,0.5,0]
["Dioxinas  y Furanos",null,"PCDF Total",null,{"$f":"COUNTIF(Alcance!$E1226,E$898)","v":0},{"$f":"COUNTIF(Alcance!$E1226,F$898)","v":0},{"$f":"COUNTIF(Alcance!$E1226,G$898)","v":0},{"$f":"COUNTIF(Alcance!$E1226,H$898)","v":0},0,0.5,0]
["PCB Congéneres",null,"PCB 28",null,{"$f":"COUNTIF(Alcance!$E1227,E$898)","v":0},{"$f":"COUNTIF(Alcance!$E1227,F$898)","v":0},{"$f":"COUNTIF(Alcance!$E1227,G$898)","v":0},{"$f":"COUNTIF(Alcance!$E1227,H$898)","v":0},0,1,0]
["PCB Congéneres",null,"PCB 52",null,{"$f":"COUNTIF(Alcance!$E1228,E$898)","v":0},{"$f":"COUNTIF(Alcance!$E1228,F$898)","v":0},{"$f":"COUNTIF(Alcance!$E1228,G$898)","v":0},{"$f":"COUNTIF(Alcance!$E1228,H$898)","v":0},0,1,0]
["PCB Congéneres",null,"PCB 101",null,{"$f":"COUNTIF(Alcance!$E1229,E$898)","v":0},{"$f":"COUNTIF(Alcance!$E1229,F$898)","v":0},{"$f":"COUNTIF(Alcance!$E1229,G$898)","v":0},{"$f":"COUNTIF(Alcance!$E1229,H$898)","v":0},0,1,0]
["PCB Congéneres",null,"PCB 118",null,{"$f":"COUNTIF(Alcance!$E1230,E$898)","v":0},{"$f":"COUNTIF(Alcance!$E1230,F$898)","v":0},{"$f":"COUNTIF(Alcance!$E1230,G$898)","v":0},{"$f":"COUNTIF(Alcance!$E1230,H$898)","v":0},0,1,0]
["PCB Congéneres",null,"PCB 138",null,{"$f":"COUNTIF(Alcance!$E1231,E$898)","v":0},{"$f":"COUNTIF(Alcance!$E1231,F$898)","v":0},{"$f":"COUNTIF(Alcance!$E1231,G$898)","v":0},{"$f":"COUNTIF(Alcance!$E1231,H$898)","v":0},0,1,0]
["PCB Congéneres",null,"PCB 153",null,{"$f":"COUNTIF(Alcance!$E1232,E$898)","v":0},{"$f":"COUNTIF(Alcance!$E1232,F$898)","v":0},{"$f":"COUNTIF(Alcance!$E1232,G$898)","v":0},{"$f":"COUNTIF(Alcance!$E1232,H$898)","v":0},0,1,0]
["PCB Congéneres",null,"PCB 180",null,{"$f":"COUNTIF(Alcance!$E1233,E$898)","v":0},{"$f":"COUNTIF(Alcance!$E1233,F$898)","v":0},{"$f":"COUNTIF(Alcance!$E1233,G$898)","v":0},{"$f":"COUNTIF(Alcance!$E1233,H$898)","v":0},0,1,0]
["TPH (Hidrocarburos derivados del petróleo)",null,"Hidrocarburos",null,{"$f":"COUNTIF(Alcance!$E1234,E$898)","v":0},{"$f":"COUNTIF(Alcance!$E1234,F$898)","v":0},{"$f":"COUNTIF(Alcance!$E1234,G$898)","v":0},{"$f":"COUNTIF(Alcance!$E1234,H$898)","v":0},0,1,0]
["TPH (Hidrocarburos derivados del petróleo)",null,"Hidrocarburos del Petróleo (Fracción GRO)",null,{"$f":"COUNTIF(Alcance!$E1235,E$898)","v":0},{"$f":"COUNTIF(Alcance!$E1235,F$898)","v":0},{"$f":"COUNTIF(Alcance!$E1235,G$898)","v":0},{"$f":"COUNTIF(Alcance!$E1235,H$898)","v":0},0,5,0]
["TPH (Hidrocarburos derivados del petróleo)",null,"Hidrocarburos del Petróleo (Fracción DRO)",null,{"$f":"COUNTIF(Alcance!$E1236,E$898)","v":0},{"$f":"COUNTIF(Alcance!$E1236,F$898)","v":0},{"$f":"COUNTIF(Alcance!$E1236,G$898)","v":0},{"$f":"COUNTIF(Alcance!$E1236,H$898)","v":0},0,5,0]
["Toma de Muestra en Suelo",null,"Toma de Muestra",null,{"$f":"COUNTIF(Alcance!$E1237,E$898)","v":0},{"$f":"COUNTIF(Alcance!$E1237,F$898)","v":0},{"$f":"COUNTIF(Alcance!$E1237,G$898)","v":0},{"$f":"COUNTIF(Alcance!$E1237,H$898)","v":0},0,3,0,"Total Parámetros Calculados",{"$f":"SUM(K899:K1030)","v":0}]
["Otras variables en Suelo",null,"Especificado por el usuario",null,{"$f":"COUNTIF(Alcance!$E$1238:$F$1278,E$898)","v":0},{"$f":"COUNTIF(Alcance!$E$1238:$F$1278,F$898)","v":0},{"$f":"COUNTIF(Alcance!$E$1238:$F$1278,G$898)","v":0},{"$f":"COUNTIF(Alcance!$E$1238:$F$1278,H$898)","v":0},0,1,0]
["TOTALES",null,null,null,{"$f":"SUM(E899:E1030)","v":0},0,0,0,0]
[]
["MATRIZ LODO"]
["18. Matriz / Grupo",null,"19. Variable",null,"INICIAL","SEGUIMIENTO","RENOVACIÓN","EXTENSIÓN","Total Variables","Equivalencia en Parámetros","Parámetros Calculados"]
["Metales",null,"Aluminio",null,{"$f":"COUNTIF(Alcance!$E1283,E$1034)","v":0},{"$f":"COUNTIF(Alcance!$E1283,F$1034)","v":0},{"$f":"COUNTIF(Alcance!$E1283,G$1034)","v":0},{"$f":"COUNTIF(Alcance!$E1283,H$1034)","v":0},{"$f":"SUM(E1035:H1035)","v":0},0.5,{"$f":"I1035*J1035","v":0}]
["Metales",null,"Antimonio",null,{"$f":"COUNTIF(Alcance!$E1284,E$1034)","v":0},{"$f":"COUNTIF(Alcance!$E1284,F$1034)","v":0},{"$f":"COUNTIF(Alcance!$E1284,G$1034)","v":0},{"$f":"COUNTIF(Alcance!$E1284,H$1034)","v":0},0,0.5,0]
["Metales",null,"Arsénico",null,{"$f":"COUNTIF(Alcance!$E1285,E$1034)","v":0},{"$f":"COUNTIF(Alcance!$E1285,F$1034)","v":0},{"$f":"COUNTIF(Alcance!$E1285,G$1034)","v":0},{"$f":"COUNTIF(Alcance!$E1285,H$1034)","v":0},0,1,0]
["Metales",null,"Bario",null,{"$f":"COUNTIF(Alcance!$E1286,E$1034)","v":0},{"$f":"COUNTIF(Alcance!$E1286,F$1034)","v":0},{"$f":"COUNTIF(Alcance!$E1286,G$1034)","v":0},{"$f":"COUNTIF(Alcance!$E1286,H$1034)","v":0},0,0.5,0]
["Metales",null,"Berilio",null,{"$f":"COUNTIF(Alcance!$E1287,E$1034)","v":0},{"$f":"COUNTIF(Alcance!$E1287,F$1034)","v":0},{"$f":"COUNTIF(Alcance!$E1287,G$1034)","v":0},{"$f":"COUNTIF(Alcance!$E1287,H$1034)","v":0},0,0.5,0]
["Metales",null,"Boro",null,{"$f":"COUNTIF(Alcance!$E1288,E$1034)","v":0},{"$f":"COUNTIF(Alcance!$E1288,F$1034)","v":0},{"$f":"COUNTIF(Alcance!$E1288,G$1034)","v":0},{"$f":"COUNTIF(Alcance!$E1288,H$1034)","v":0},0,0.5,0]
["Metales",null,"Cadmio",null,{"$f":"COUNTIF(Alcance!$E1289,E$1034)","v":0},{"$f":"COUNTIF(Alcance!$E1289,F$1034)","v":0},{"$f":"COUNTIF(Alcance!$E1289,G$1034)","v":0},{"$f":"COUNTIF(Alcance!$E1289,H$1034)","v":0},0,0.5,0]
["Metales",null,"Calcio",null,{"$f":"COUNTIF(Alcance!$E1290,E$1034)","v":0},{"$f":"COUNTIF(Alcance!$E1290,F$1034)","v":0},{"$f":"COUNTIF(Alcance!$E1290,G$1034)","v":0},{"$f":"COUNTIF(Alcance!$E1290,H$1034)","v":0},0,0.5,0]
["Metales",null,"Cobalto",null,{"$f":"COUNTIF(Alcance!$E1291,E$1034)","v":0},{"$f":"COUNTIF(Alcance!$E1291,F$1034)","v":0},{"$f":"COUNTIF(Alcance!$E1291,G$1034)","v":0},{"$f":"COUNTIF(Alcance!$E1291,H$1034)","v":0},0,0.5,0]
["Metales",null,"Cobre",null,{"$f":"COUNTIF(Alcance!$E1292,E$1034)","v":0},{"$f":"COUNTIF(Alcance!$E1292,F$1034)","v":0},{"$f":"COUNTIF(Alcance!$E1292,G$1034)","v":0},{"$f":"COUNTIF(Alcance!$E1292,H$1034)","v":0},0,0.5,0]
["Metales",null,"Cromo",null,{"$f":"COUNTIF(Alcance!$E1293,E$1034)","v":0},{"$f":"COUNTIF(Alcance!$E1293,F$1034)","v":0},{"$f":"COUNTIF(Alcance!$E1293,G$1034)","v":0},{"$f":"COUNTIF(Alcance!$E1293,H$1034)","v":0},0,0.5,0]
["Metales",null,"Litio",null,{"$f":"COUNTIF(Alcance!$E1294,E$1034)","v":0},{"$f":"COUNTIF(Alcance!$E1294,F$1034)","v":0},{"$f":"COUNTIF(Alcance!$E1294,G$1034)","v":0},{"$f":"COUNTIF(Alcance!$E1294,H$1034)","v":0},0,0.5,0]
["Metales",null,"Estaño",null,{"$f":"COUNTIF(Alcance!$E1295,E$1034)","v":0},{"$f":"COUNTIF(Alcance!$E1295,F$1034)","v":0},{"$f":"COUNTIF(Alcance!$E1295,G$1034)","v":0},{"$f":"COUNTIF(Alcance!$E1295,H$1034)","v":0},0,0.5,0]
["Metales",null,"Estroncio",null,{"$f":"COUNTIF(Alcance!$E1296,E$1034)","v":0},{"$f":"COUNTIF(Alcance!$E1296,F$1034)","v":0},{"$f":"COUNTIF(Alcance!$E1296,G$1034)","v":0},{"$f":"COUNTIF(Alcance!$E1296,H$1034)","v":0},0,0.5,0]
["Metales",null,"Hierro",null,{"$f":"COUNTIF(Alcance!$E1297,E$1034)","v":0},{"$f":"COUNTIF(Alcance!$E1297,F$1034)","v":0},{"$f":"COUNTIF(Alcance!$E1297,G$1034)","v":0},{"$f":"COUNTIF(Alcance!$E1297,H$1034)","v":0},0,0.5,0]
["Metales",null,"Magnesio",null,{"$f":"COUNTIF(Alcance!$E1298,E$1034)","v":0},{"$f":"COUNTIF(Alcance!$E1298,F$1034)","v":0},{"$f":"COUNTIF(Alcance!$E1298,G$1034)","v":0},{"$f":"COUNTIF(Alcance!$E1298,H$1034)","v":0},0,0.5,0]
["Metales",null,"Manganeso",null,{"$f":"COUNTIF(Alcance!$E1299,E$1034)","v":0},{"$f":"COUNTIF(Alcance!$E1299,F$1034)","v":0},{"$f":"COUNTIF(Alcance!$E1299,G$1034)","v":0},{"$f":"COUNTIF(Alcance!$E1299,H$1034)","v":0},0,0.5,0]
["Metales",null,"Mercurio",null,{"$f":"COUNTIF(Alcance!$E1300,E$1034)","v":0},{"$f":"COUNTIF(Alcance!$E1300,F$1034)","v":0},{"$f":"COUNTIF(Alcance!$E1300,G$1034)","v":0},{"$f":"COUNTIF(Alcance!$E1300,H$1034)","v":0},0,1,0]
["Metales",null,"Molibdeno",null,{"$f":"COUNTIF(Alcance!$E1301,E$1034)","v":0},{"$f":"COUNTIF(Alcance!$E1301,F$1034)","v":0},{"$f":"COUNTIF(Alcance!$E1301,G$1034)","v":0},{"$f":"COUNTIF(Alcance!$E1301,H$1034)","v":0},0,0.5,0]
["Metales",null,"Níquel",null,{"$f":"COUNTIF(Alcance!$E1302,E$1034)","v":0},{"$f":"COUNTIF(Alcance!$E1302,F$1034)","v":0},{"$f":"COUNTIF(Alcance!$E1302,G$1034)","v":0},{"$f":"COUNTIF(Alcance!$E1302,H$1034)","v":0},0,0.5,0]
["Metales",null,"Plata",null,{"$f":"COUNTIF(Alcance!$E1303,E$1034)","v":0},{"$f":"COUNTIF(Alcance!$E1303,F$1034)","v":0},{"$f":"COUNTIF(Alcance!$E1303,G$1034)","v":0},{"$f":"COUNTIF(Alcance!$E1303,H$1034)","v":0},0,0.5,0]
["Metales",null,"Plomo",null,{"$f":"COUNTIF(Alcance!$E1304,E$1034)","v":0},{"$f":"COUNTIF(Alcance!$E1304,F$1034)","v":0},{"$f":"COUNTIF(Alcance!$E1304,G$1034)","v":0},{"$f":"COUNTIF(Alcance!$E1304,H$1034)","v":0},0,0.5,0]
["Metales",null,"Potasio",null,{"$f":"COUNTIF(Alcance!$E1305,E$1034)","v":0},{"$f":"COUNTIF(Alcance!$E1305,F$1034)","v":0},{"$f":"COUNTIF(Alcance!$E1305,G$1034)","v":0},{"$f":"COUNTIF(Alcance!$E1305,H$1034)","v":0},0,0.5,0]
["Metales",null,"Selenio",null,{"$f":"COUNTIF(Alcance!$E1306,E$1034)","v":0},{"$f":"COUNTIF(Alcance!$E1306,F$1034)","v":0},{"$f":"COUNTIF(Alcance!$E1306,G$1034)","v":0},{"$f":"COUNTIF(Alcance!$E1306,H$1034)","v":0},0,1,0]
["Metales",null,"Sodio",null,{"$f":"COUNTIF(Alcance!$E1307,E$1034)","v":0},{"$f":"COUNTIF(Alcance!$E1307,F$1034)","v":0},{"$f":"COUNTIF(Alcance!$E1307,G$1034)","v":0},{"$f":"COUNTIF(Alcance!$E1307,H$1034)","v":0},0,0.5,0]
["Metales",null,"Talio",null,{"$f":"COUNTIF(Alcance!$E1308,E$1034)","v":0},{"$f":"COUNTIF(Alcance!$E1308,F$1034)","v":0},{"$f":"COUNTIF(Alcance!$E1308,G$1034)","v":0},{"$f":"COUNTIF(Alcance!$E1308,H$1034)","v":0},0,0.5,0]
["Metales",null,"Titanio",null,{"$f":"COUNTIF(Alcance!$E1309,E$1034)","v":0},{"$f":"COUNTIF(Alcance!$E1309,F$1034)","v":0},{"$f":"COUNTIF(Alcance!$E1309,G$1034)","v":0},{"$f":"COUNTIF(Alcance!$E1309,H$1034)","v":0},0,0.5,0]
["Metales",null,"Vanadio",null,{"$f":"COUNTIF(Alcance!$E1310,E$1034)","v":0},{"$f":"COUNTIF(Alcance!$E1310,F$1034)","v":0},{"$f":"COUNTIF(Alcance!$E1310,G$1034)","v":0},{"$f":"COUNTIF(Alcance!$E1310,H$1034)","v":0},0,0.5,0]
["Metales",null,"Zinc",null,{"$f":"COUNTIF(Alcance!$E1311,E$1034)","v":0},{"$f":"COUNTIF(Alcance!$E1311,F$1034)","v":0},{"$f":"COUNTIF(Alcance!$E1311,G$1034)","v":0},{"$f":"COUNTIF(Alcance!$E1311,H$1034)","v":0},0,0.5,0]
["Microbiológico",null,"Huevos de Helminto",null,{"$f":"COUNTIF(Alcance!$E1312,E$1034)","v":0},{"$f":"COUNTIF(Alcance!$E1312,F$1034)","v":0},{"$f":"COUNTIF(Alcance!$E1312,G$1034)","v":0},{"$f":"COUNTIF(Alcance!$E1312,H$1034)","v":0},0,1.5,0]
["Microbiológico",null,"Coliformes Termotolerantes",null,{"$f":"COUNTIF(Alcance!$E1313,E$1034)","v":0},{"$f":"COUNTIF(Alcance!$E1313,F$1034)","v":0},{"$f":"COUNTIF(Alcance!$E1313,G$1034)","v":0},{"$f":"COUNTIF(Alcance!$E1313,H$1034)","v":0},0,1.5,0]
["Microbiológico",null,"Salmonella sp.",null,{"$f":"COUNTIF(Alcance!$E1314,E$1034)","v":0},{"$f":"COUNTIF(Alcance!$E1314,F$1034)","v":0},{"$f":"COUNTIF(Alcance!$E1314,G$1034)","v":0},{"$f":"COUNTIF(Alcance!$E1314,H$1034)","v":0},0,1.5,0]
["Otras variables en Lodos",null,"Especificado por el Usuario",null,{"$f":"COUNTIF(Alcance!$E$1315:$F$1348,E$1034)","v":0},{"$f":"COUNTIF(Alcance!$E$1315:$F$1348,F$1034)","v":0},{"$f":"COUNTIF(Alcance!$E$1315:$F$1348,G$1034)","v":0},{"$f":"COUNTIF(Alcance!$E$1315:$F$1348,H$1034)","v":0},0,1,0,"Total Parámetros Calculados",{"$f":"SUM(K1035:K1067)","v":0}]
["TOTALES",null,null,null,{"$f":"SUM(E1035:E1067)","v":0},0,0,0,0]
[]
["MATRIZ SEDIMENTO"]
["18. Matriz / Grupo",null,"19. Variable",null,"INICIAL","SEGUIMIENTO","RENOVACIÓN","EXTENSIÓN","Total Variables","Equivalencia en Parámetros","Parámetros Calculados"]
["Metales",null,"Aluminio",null,{"$f":"COUNTIF(Alcance!$E1353,E$1071)","v":0},{"$f":"COUNTIF(Alcance!$E1353,F$1071)","v":0},{"$f":"COUNTIF(Alcance!$E1353,G$1071)","v":0},{"$f":"COUNTIF(Alcance!$E1353,H$1071)","v":0},{"$f":"SUM(E1072:H1072)","v":0},0.5,{"$f":"I1072*J1072","v":0}]
["Metales",null,"Antimonio",null,{"$f":"COUNTIF(Alcance!$E1354,E$1071)","v":0},{"$f":"COUNTIF(Alcance!$E1354,F$1071)","v":0},{"$f":"COUNTIF(Alcance!$E1354,G$1071)","v":0},{"$f":"COUNTIF(Alcance!$E1354,H$1071)","v":0},0,0.5,0]
["Metales",null,"Arsénico",null,{"$f":"COUNTIF(Alcance!$E1355,E$1071)","v":0},{"$f":"COUNTIF(Alcance!$E1355,F$1071)","v":0},{"$f":"COUNTIF(Alcance!$E1355,G$1071)","v":0},{"$f":"COUNTIF(Alcance!$E1355,H$1071)","v":0},0,1,0]
["Metales",null,"Bario",null,{"$f":"COUNTIF(Alcance!$E1356,E$1071)","v":0},{"$f":"COUNTIF(Alcance!$E1356,F$1071)","v":0},{"$f":"COUNTIF(Alcance!$E1356,G$1071)","v":0},{"$f":"COUNTIF(Alcance!$E1356,H$1071)","v":0},0,0.5,0]
["Metales",null,"Berilio",null,{"$f":"COUNTIF(Alcance!$E1357,E$1071)","v":0},{"$f":"COUNTIF(Alcance!$E1357,F$1071)","v":0},{"$f":"COUNTIF(Alcance!$E1357,G$1071)","v":0},{"$f":"COUNTIF(Alcance!$E1357,H$1071)","v":0},0,0.5,0]
["Metales",null,"Boro",null,{"$f":"COUNTIF(Alcance!$E1358,E$1071)","v":0},{"$f":"COUNTIF(Alcance!$E1358,F$1071)","v":0},{"$f":"COUNTIF(Alcance!$E1358,G$1071)","v":0},{"$f":"COUNTIF(Alcance!$E1358,H$1071)","v":0},0,0.5,0]
["Metales",null,"Cadmio",null,{"$f":"COUNTIF(Alcance!$E1359,E$1071)","v":0},{"$f":"COUNTIF(Alcance!$E1359,F$1071)","v":0},{"$f":"COUNTIF(Alcance!$E1359,G$1071)","v":0},{"$f":"COUNTIF(Alcance!$E1359,H$1071)","v":0},0,0.5,0]
["Metales",null,"Calcio",null,{"$f":"COUNTIF(Alcance!$E1360,E$1071)","v":0},{"$f":"COUNTIF(Alcance!$E1360,F$1071)","v":0},{"$f":"COUNTIF(Alcance!$E1360,G$1071)","v":0},{"$f":"COUNTIF(Alcance!$E1360,H$1071)","v":0},0,0.5,0]
["Metales",null,"Cobalto",null,{"$f":"COUNTIF(Alcance!$E1361,E$1071)","v":0},{"$f":"COUNTIF(Alcance!$E1361,F$1071)","v":0},{"$f":"COUNTIF(Alcance!$E1361,G$1071)","v":0},{"$f":"COUNTIF(Alcance!$E1361,H$1071)","v":0},0,0.5,0]
["Metales",null,"Cobre",null,{"$f":"COUNTIF(Alcance!$E1362,E$1071)","v":0},{"$f":"COUNTIF(Alcance!$E1362,F$1071)","v":0},{"$f":"COUNTIF(Alcance!$E1362,G$1071)","v":0},{"$f":"COUNTIF(Alcance!$E1362,H$1071)","v":0},0,0.5,0]
["Metales",null,"Cromo",null,{"$f":"COUNTIF(Alcance!$E1363,E$1071)","v":0},{"$f":"COUNTIF(Alcance!$E1363,F$1071)","v":0},{"$f":"COUNTIF(Alcance!$E1363,G$1071)","v":0},{"$f":"COUNTIF(Alcance!$E1363,H$1071)","v":0},0,0.5,0]
["Metales",null,"Litio",null,{"$f":"COUNTIF(Alcance!$E1364,E$1071)","v":0},{"$f":"COUNTIF(Alcance!$E1364,F$1071)","v":0},{"$f":"COUNTIF(Alcance!$E1364,G$1071)","v":0},{"$f":"COUNTIF(Alcance!$E1364,H$1071)","v":0},0,0.5,0]
["Metales",null,"Estaño",null,{"$f":"COUNTIF(Alcance!$E1365,E$1071)","v":0},{"$f":"COUNTIF(Alcance!$E1365,F$1071)","v":0},{"$f":"COUNTIF(Alcance!$E1365,G$1071)","v":0},{"$f":"COUNTIF(Alcance!$E1365,H$1071)","v":0},0,0.5,0]
["Metales",null,"Estroncio",null,{"$f":"COUNTIF(Alcance!$E1366,E$1071)","v":0},{"$f":"COUNTIF(Alcance!$E1366,F$1071)","v":0},{"$f":"COUNTIF(Alcance!$E1366,G$1071)","v":0},{"$f":"COUNTIF(Alcance!$E1366,H$1071)","v":0},0,0.5,0]
["Metales",null,"Hierro",null,{"$f":"COUNTIF(Alcance!$E1367,E$1071)","v":0},{"$f":"COUNTIF(Alcance!$E1367,F$1071)","v":0},{"$f":"COUNTIF(Alcance!$E1367,G$1071)","v":0},{"$f":"COUNTIF(Alcance!$E1367,H$1071)","v":0},0,0.5,0]
["Metales",null,"Magnesio",null,{"$f":"COUNTIF(Alcance!$E1368,E$1071)","v":0},{"$f":"COUNTIF(Alcance!$E1368,F$1071)","v":0},{"$f":"COUNTIF(Alcance!$E1368,G$1071)","v":0},{"$f":"COUNTIF(Alcance!$E1368,H$1071)","v":0},0,0.5,0]
["Metales",null,"Manganeso",null,{"$f":"COUNTIF(Alcance!$E1369,E$1071)","v":0},{"$f":"COUNTIF(Alcance!$E1369,F$1071)","v":0},{"$f":"COUNTIF(Alcance!$E1369,G$1071)","v":0},{"$f":"COUNTIF(Alcance!$E1369,H$1071)","v":0},0,0.5,0]
["Metales",null,"Mercurio",null,{"$f":"COUNTIF(Alcance!$E1370,E$1071)","v":0},{"$f":"COUNTIF(Alcance!$E1370,F$1071)","v":0},{"$f":"COUNTIF(Alcance!$E1370,G$1071)","v":0},{"$f":"COUNTIF(Alcance!$E1370,H$1071)","v":0},0,1,0]
["Metales",null,"Molibdeno",null,{"$f":"COUNTIF(Alcance!$E1371,E$1071)","v":0},{"$f":"COUNTIF(Alcance!$E1371,F$1071)","v":0},{"$f":"COUNTIF(Alcance!$E1371,G$1071)","v":0},{"$f":"COUNTIF(Alcance!$E1371,H$1071)","v":0},0,0.5,0]
["Metales",null,"Níquel",null,{"$f":"COUNTIF(Alcance!$E1372,E$1071)","v":0},{"$f":"COUNTIF(Alcance!$E1372,F$1071)","v":0},{"$f":"COUNTIF(Alcance!$E1372,G$1071)","v":0},{"$f":"COUNTIF(Alcance!$E1372,H$1071)","v":0},0,0.5,0]
["Metales",null,"Plata",null,{"$f":"COUNTIF(Alcance!$E1373,E$1071)","v":0},{"$f":"COUNTIF(Alcance!$E1373,F$1071)","v":0},{"$f":"COUNTIF(Alcance!$E1373,G$1071)","v":0},{"$f":"COUNTIF(Alcance!$E1373,H$1071)","v":0},0,0.5,0]
["Metales",null,"Plomo",null,{"$f":"COUNTIF(Alcance!$E1374,E$1071)","v":0},{"$f":"COUNTIF(Alcance!$E1374,F$1071)","v":0},{"$f":"COUNTIF(Alcance!$E1374,G$1071)","v":0},{"$f":"COUNTIF(Alcance!$E1374,H$1071)","v":0},0,0.5,0]
["Metales",null,"Potasio",null,{"$f":"COUNTIF(Alcance!$E1375,E$1071)","v":0},{"$f":"COUNTIF(Alcance!$E1375,F$1071)","v":0},{"$f":"COUNTIF(Alcance!$E1375,G$1071)","v":0},{"$f":"COUNTIF(Alcance!$E1375,H$1071)","v":0},0,0.5,0]
["Metales",null,"Selenio",null,{"$f":"COUNTIF(Alcance!$E1376,E$1071)","v":0},{"$f":"COUNTIF(Alcance!$E1376,F$1071)","v":0},{"$f":"COUNTIF(Alcance!$E1376,G$1071)","v":0},{"$f":"COUNTIF(Alcance!$E1376,H$1071)","v":0},0,1,0]
["Metales",null,"Sodio",null,{"$f":"COUNTIF(Alcance!$E1377,E$1071)","v":0},{"$f":"COUNTIF(Alcance!$E1377,F$1071)","v":0},{"$f":"COUNTIF(Alcance!$E1377,G$1071)","v":0},{"$f":"COUNTIF(Alcance!$E1377,H$1071)","v":0},0,0.5,0]
["Metales",null,"Talio",null,{"$f":"COUNTIF(Alcance!$E1378,E$1071)","v":0},{"$f":"COUNTIF(Alcance!$E1378,F$1071)","v":0},{"$f":"COUNTIF(Alcance!$E1378,G$1071)","v":0},{"$f":"COUNTIF(Alcance!$E1378,H$1071)","v":0},0,0.5,0]
["Metales",null,"Titanio",null,{"$f":"COUNTIF(Alcance!$E1379,E$1071)","v":0},{"$f":"COUNTIF(Alcance!$E1379,F$1071)","v":0},{"$f":"COUNTIF(Alcance!$E1379,G$1071)","v":0},{"$f":"COUNTIF(Alcance!$E1379,H$1071)","v":0},0,0.5,0]
["Metales",null,"Vanadio",null,{"$f":"COUNTIF(Alcance!$E1380,E$1071)","v":0},{"$f":"COUNTIF(Alcance!$E1380,F$1071)","v":0},{"$f":"COUNTIF(Alcance!$E1380,G$1071)","v":0},{"$f":"COUNTIF(Alcance!$E1380,H$1071)","v":0},0,0.5,0]
["Metales",null,"Zinc",null,{"$f":"COUNTIF(Alcance!$E1381,E$1071)","v":0},{"$f":"COUNTIF(Alcance!$E1381,F$1071)","v":0},{"$f":"COUNTIF(Alcance!$E1381,G$1071)","v":0},{"$f":"COUNTIF(Alcance!$E1381,H$1071)","v":0},0,0.5,0]
["Granulometría",null,"Granulometría",null,{"$f":"COUNTIF(Alcance!$E1382,E$1071)","v":0},{"$f":"COUNTIF(Alcance!$E1382,F$1071)","v":0},{"$f":"COUNTIF(Alcance!$E1382,G$1071)","v":0},{"$f":"COUNTIF(Alcance!$E1382,H$1071)","v":0},0,1,0]
["Grasas y Aceites",null,"Grasas y Aceites",null,{"$f":"COUNTIF(Alcance!$E1383,E$1071)","v":0},{"$f":"COUNTIF(Alcance!$E1383,F$1071)","v":0},{"$f":"COUNTIF(Alcance!$E1383,G$1071)","v":0},{"$f":"COUNTIF(Alcance!$E1383,H$1071)","v":0},0,1,0]
["Hidrocarburos",null,"Hidrocarburos",null,{"$f":"COUNTIF(Alcance!$E1384,E$1071)","v":0},{"$f":"COUNTIF(Alcance!$E1384,F$1071)","v":0},{"$f":"COUNTIF(Alcance!$E1384,G$1071)","v":0},{"$f":"COUNTIF(Alcance!$E1384,H$1071)","v":0},0,1,0]
["Toma de muestra de Sedimento",null,"Toma de Muestra de Sedimento",null,{"$f":"COUNTIF(Alcance!$E1385,E$1071)","v":0},{"$f":"COUNTIF(Alcance!$E1385,F$1071)","v":0},{"$f":"COUNTIF(Alcance!$E1385,G$1071)","v":0},{"$f":"COUNTIF(Alcance!$E1385,H$1071)","v":0},0,3,0]
["Toma de muestra de Sedimento",null,"Toma de Muestra de Sedimento Marino",null,{"$f":"COUNTIF(Alcance!$E1386,E$1071)","v":0},{"$f":"COUNTIF(Alcance!$E1386,F$1071)","v":0},{"$f":"COUNTIF(Alcance!$E1386,G$1071)","v":0},{"$f":"COUNTIF(Alcance!$E1386,H$1071)","v":0},0,3,0]
["Toma de muestra de Sedimento",null,"Toma de Muestra de Sedimento en Cuerpo Lénticos",null,{"$f":"COUNTIF(Alcance!$E1387,E$1071)","v":0},{"$f":"COUNTIF(Alcance!$E1387,F$1071)","v":0},{"$f":"COUNTIF(Alcance!$E1387,G$1071)","v":0},{"$f":"COUNTIF(Alcance!$E1387,H$1071)","v":0},0,3,0]
["Toma de muestra de Sedimento",null,"Toma de Muestra de Sedimento en Cuerpo Lóticos",null,{"$f":"COUNTIF(Alcance!$E1388,E$1071)","v":0},{"$f":"COUNTIF(Alcance!$E1388,F$1071)","v":0},{"$f":"COUNTIF(Alcance!$E1388,G$1071)","v":0},{"$f":"COUNTIF(Alcance!$E1388,H$1071)","v":0},0,3,0]
["PCB Congéneres en Sedimento",null,"PCB 28",null,{"$f":"COUNTIF(Alcance!$E1389,E$1071)","v":0},{"$f":"COUNTIF(Alcance!$E1389,F$1071)","v":0},{"$f":"COUNTIF(Alcance!$E1389,G$1071)","v":0},{"$f":"COUNTIF(Alcance!$E1389,H$1071)","v":0},0,1,0]
["PCB Congéneres en Sedimento",null,"PCB 52",null,{"$f":"COUNTIF(Alcance!$E1390,E$1071)","v":0},{"$f":"COUNTIF(Alcance!$E1390,F$1071)","v":0},{"$f":"COUNTIF(Alcance!$E1390,G$1071)","v":0},{"$f":"COUNTIF(Alcance!$E1390,H$1071)","v":0},0,1,0]
["PCB Congéneres en Sedimento",null,"PCB 101",null,{"$f":"COUNTIF(Alcance!$E1391,E$1071)","v":0},{"$f":"COUNTIF(Alcance!$E1391,F$1071)","v":0},{"$f":"COUNTIF(Alcance!$E1391,G$1071)","v":0},{"$f":"COUNTIF(Alcance!$E1391,H$1071)","v":0},0,1,0]
["PCB Congéneres en Sedimento",null,"PCB 118",null,{"$f":"COUNTIF(Alcance!$E1392,E$1071)","v":0},{"$f":"COUNTIF(Alcance!$E1392,F$1071)","v":0},{"$f":"COUNTIF(Alcance!$E1392,G$1071)","v":0},{"$f":"COUNTIF(Alcance!$E1392,H$1071)","v":0},0,1,0]
["PCB Congéneres en Sedimento",null,"PCB 138",null,{"$f":"COUNTIF(Alcance!$E1393,E$1071)","v":0},{"$f":"COUNTIF(Alcance!$E1393,F$1071)","v":0},{"$f":"COUNTIF(Alcance!$E1393,G$1071)","v":0},{"$f":"COUNTIF(Alcance!$E1393,H$1071)","v":0},0,1,0]
["PCB Congéneres en Sedimento",null,"PCB 153",null,{"$f":"COUNTIF(Alcance!$E1394,E$1071)","v":0},{"$f":"COUNTIF(Alcance!$E1394,F$1071)","v":0},{"$f":"COUNTIF(Alcance!$E1394,G$1071)","v":0},{"$f":"COUNTIF(Alcance!$E1394,H$1071)","v":0},0,1,0]
["PCB Congéneres en Sedimento",null,"PCB 180",null,{"$f":"COUNTIF(Alcance!$E1395,E$1071)","v":0},{"$f":"COUNTIF(Alcance!$E1395,F$1071)","v":0},{"$f":"COUNTIF(Alcance!$E1395,G$1071)","v":0},{"$f":"COUNTIF(Alcance!$E1395,H$1071)","v":0},0,1,0]
["Otras variables en Sedimentos",null,"Especificado por el usuario",null,{"$f":"COUNTIF(Alcance!$E$1396:$F$1408,E$1071)","v":0},{"$f":"COUNTIF(Alcance!$E$1396:$F$1408,F$1071)","v":0},{"$f":"COUNTIF(Alcance!$E$1396:$F$1408,G$1071)","v":0},{"$f":"COUNTIF(Alcance!$E$1396:$F$1408,H$1071)","v":0},0,1,0,"Total de parametros",{"$f":"SUM(K1072:K1115)","v":0}]
["TOTALES",null,null,null,{"$f":"SUM(E1072:E1115)","v":0},0,0,0,0]
[]
["MATRIZ SEDIMENTO MARINOS"]
["18. Matriz / Grupo",null,"19. Variable",null,"INICIAL","SEGUIMIENTO","RENOVACIÓN","EXTENSIÓN","Total Variables","Equivalencia en Parámetros","Parámetros Calculados"]
["Metales",null,"Aluminio",null,{"$f":"COUNTIF(Alcance!$E1413,E$1119)","v":0},{"$f":"COUNTIF(Alcance!$E1413,F$1119)","v":0},{"$f":"COUNTIF(Alcance!$E1413,G$1119)","v":0},{"$f":"COUNTIF(Alcance!$E1413,H$1119)","v":0},{"$f":"SUM(E1120:H1120)","v":0},0.5,{"$f":"I1120*J1120","v":0}]
["Metales",null,"Antimonio",null,{"$f":"COUNTIF(Alcance!$E1414,E$1119)","v":0},{"$f":"COUNTIF(Alcance!$E1414,F$1119)","v":0},{"$f":"COUNTIF(Alcance!$E1414,G$1119)","v":0},{"$f":"COUNTIF(Alcance!$E1414,H$1119)","v":0},{"$f":"COUNTIF(Alcance!$E1414,I$1119)","v":0},0.5,0]
["Metales",null,"Arsénico",null,{"$f":"COUNTIF(Alcance!$E1415,E$1119)","v":0},{"$f":"COUNTIF(Alcance!$E1415,F$1119)","v":0},{"$f":"COUNTIF(Alcance!$E1415,G$1119)","v":0},{"$f":"COUNTIF(Alcance!$E1415,H$1119)","v":0},{"$f":"SUM(E1122:H1122)","v":0},1,0]
["Metales",null,"Bario",null,{"$f":"COUNTIF(Alcance!$E1416,E$1119)","v":0},{"$f":"COUNTIF(Alcance!$E1416,F$1119)","v":0},{"$f":"COUNTIF(Alcance!$E1416,G$1119)","v":0},{"$f":"COUNTIF(Alcance!$E1416,H$1119)","v":0},0,0.5,0]
["Metales",null,"Berilio",null,{"$f":"COUNTIF(Alcance!$E1417,E$1119)","v":0},{"$f":"COUNTIF(Alcance!$E1417,F$1119)","v":0},{"$f":"COUNTIF(Alcance!$E1417,G$1119)","v":0},{"$f":"COUNTIF(Alcance!$E1417,H$1119)","v":0},0,0.5,0]
["Metales",null,"Boro",null,{"$f":"COUNTIF(Alcance!$E1418,E$1119)","v":0},{"$f":"COUNTIF(Alcance!$E1418,F$1119)","v":0},{"$f":"COUNTIF(Alcance!$E1418,G$1119)","v":0},{"$f":"COUNTIF(Alcance!$E1418,H$1119)","v":0},0,0.5,0]
["Metales",null,"Cadmio",null,{"$f":"COUNTIF(Alcance!$E1419,E$1119)","v":0},{"$f":"COUNTIF(Alcance!$E1419,F$1119)","v":0},{"$f":"COUNTIF(Alcance!$E1419,G$1119)","v":0},{"$f":"COUNTIF(Alcance!$E1419,H$1119)","v":0},0,0.5,0]
["Metales",null,"Calcio",null,{"$f":"COUNTIF(Alcance!$E1420,E$1119)","v":0},{"$f":"COUNTIF(Alcance!$E1420,F$1119)","v":0},{"$f":"COUNTIF(Alcance!$E1420,G$1119)","v":0},{"$f":"COUNTIF(Alcance!$E1420,H$1119)","v":0},0,0.5,0]
["Metales",null,"Cobalto",null,{"$f":"COUNTIF(Alcance!$E1421,E$1119)","v":0},{"$f":"COUNTIF(Alcance!$E1421,F$1119)","v":0},{"$f":"COUNTIF(Alcance!$E1421,G$1119)","v":0},{"$f":"COUNTIF(Alcance!$E1421,H$1119)","v":0},0,0.5,0]
["Metales",null,"Cobre",null,{"$f":"COUNTIF(Alcance!$E1422,E$1119)","v":0},{"$f":"COUNTIF(Alcance!$E1422,F$1119)","v":0},{"$f":"COUNTIF(Alcance!$E1422,G$1119)","v":0},{"$f":"COUNTIF(Alcance!$E1422,H$1119)","v":0},0,0.5,0]
["Metales",null,"Cromo",null,{"$f":"COUNTIF(Alcance!$E1423,E$1119)","v":0},{"$f":"COUNTIF(Alcance!$E1423,F$1119)","v":0},{"$f":"COUNTIF(Alcance!$E1423,G$1119)","v":0},{"$f":"COUNTIF(Alcance!$E1423,H$1119)","v":0},0,0.5,0]
["Metales",null,"Litio",null,{"$f":"COUNTIF(Alcance!$E1424,E$1119)","v":0},{"$f":"COUNTIF(Alcance!$E1424,F$1119)","v":0},{"$f":"COUNTIF(Alcance!$E1424,G$1119)","v":0},{"$f":"COUNTIF(Alcance!$E1424,H$1119)","v":0},0,0.5,0]
["Metales",null,"Estaño",null,{"$f":"COUNTIF(Alcance!$E1425,E$1119)","v":0},{"$f":"COUNTIF(Alcance!$E1425,F$1119)","v":0},{"$f":"COUNTIF(Alcance!$E1425,G$1119)","v":0},{"$f":"COUNTIF(Alcance!$E1425,H$1119)","v":0},0,0.5,0]
["Metales",null,"Estroncio",null,{"$f":"COUNTIF(Alcance!$E1426,E$1119)","v":0},{"$f":"COUNTIF(Alcance!$E1426,F$1119)","v":0},{"$f":"COUNTIF(Alcance!$E1426,G$1119)","v":0},{"$f":"COUNTIF(Alcance!$E1426,H$1119)","v":0},0,0.5,0]
["Metales",null,"Hierro",null,{"$f":"COUNTIF(Alcance!$E1427,E$1119)","v":0},{"$f":"COUNTIF(Alcance!$E1427,F$1119)","v":0},{"$f":"COUNTIF(Alcance!$E1427,G$1119)","v":0},{"$f":"COUNTIF(Alcance!$E1427,H$1119)","v":0},0,0.5,0]
["Metales",null,"Magnesio",null,{"$f":"COUNTIF(Alcance!$E1428,E$1119)","v":0},{"$f":"COUNTIF(Alcance!$E1428,F$1119)","v":0},{"$f":"COUNTIF(Alcance!$E1428,G$1119)","v":0},{"$f":"COUNTIF(Alcance!$E1428,H$1119)","v":0},0,0.5,0]
["Metales",null,"Manganeso",null,{"$f":"COUNTIF(Alcance!$E1429,E$1119)","v":0},{"$f":"COUNTIF(Alcance!$E1429,F$1119)","v":0},{"$f":"COUNTIF(Alcance!$E1429,G$1119)","v":0},{"$f":"COUNTIF(Alcance!$E1429,H$1119)","v":0},0,0.5,0]
["Metales",null,"Mercurio",null,{"$f":"COUNTIF(Alcance!$E1430,E$1119)","v":0},{"$f":"COUNTIF(Alcance!$E1430,F$1119)","v":0},{"$f":"COUNTIF(Alcance!$E1430,G$1119)","v":0},{"$f":"COUNTIF(Alcance!$E1430,H$1119)","v":0},0,1,0]
["Metales",null,"Molibdeno",null,{"$f":"COUNTIF(Alcance!$E1431,E$1119)","v":0},{"$f":"COUNTIF(Alcance!$E1431,F$1119)","v":0},{"$f":"COUNTIF(Alcance!$E1431,G$1119)","v":0},{"$f":"COUNTIF(Alcance!$E1431,H$1119)","v":0},0,0.5,0]
["Metales",null,"Níquel",null,{"$f":"COUNTIF(Alcance!$E1432,E$1119)","v":0},{"$f":"COUNTIF(Alcance!$E1432,F$1119)","v":0},{"$f":"COUNTIF(Alcance!$E1432,G$1119)","v":0},{"$f":"COUNTIF(Alcance!$E1432,H$1119)","v":0},0,0.5,0]
["Metales",null,"Plata",null,{"$f":"COUNTIF(Alcance!$E1433,E$1119)","v":0},{"$f":"COUNTIF(Alcance!$E1433,F$1119)","v":0},{"$f":"COUNTIF(Alcance!$E1433,G$1119)","v":0},{"$f":"COUNTIF(Alcance!$E1433,H$1119)","v":0},0,0.5,0]
["Metales",null,"Plomo",null,{"$f":"COUNTIF(Alcance!$E1434,E$1119)","v":0},{"$f":"COUNTIF(Alcance!$E1434,F$1119)","v":0},{"$f":"COUNTIF(Alcance!$E1434,G$1119)","v":0},{"$f":"COUNTIF(Alcance!$E1434,H$1119)","v":0},0,0.5,0]
["Metales",null,"Potasio",null,{"$f":"COUNTIF(Alcance!$E1435,E$1119)","v":0},{"$f":"COUNTIF(Alcance!$E1435,F$1119)","v":0},{"$f":"COUNTIF(Alcance!$E1435,G$1119)","v":0},{"$f":"COUNTIF(Alcance!$E1435,H$1119)","v":0},0,0.5,0]
["Metales",null,"Selenio",null,{"$f":"COUNTIF(Alcance!$E1436,E$1119)","v":0},{"$f":"COUNTIF(Alcance!$E1436,F$1119)","v":0},{"$f":"COUNTIF(Alcance!$E1436,G$1119)","v":0},{"$f":"COUNTIF(Alcance!$E1436,H$1119)","v":0},0,1,0]
["Metales",null,"Sodio",null,{"$f":"COUNTIF(Alcance!$E1437,E$1119)","v":0},{"$f":"COUNTIF(Alcance!$E1437,F$1119)","v":0},{"$f":"COUNTIF(Alcance!$E1437,G$1119)","v":0},{"$f":"COUNTIF(Alcance!$E1437,H$1119)","v":0},0,0.5,0]
["Metales",null,"Talio",null,{"$f":"COUNTIF(Alcance!$E1438,E$1119)","v":0},{"$f":"COUNTIF(Alcance!$E1438,F$1119)","v":0},{"$f":"COUNTIF(Alcance!$E1438,G$1119)","v":0},{"$f":"COUNTIF(Alcance!$E1438,H$1119)","v":0},0,0.5,0]
["Metales",null,"Titanio",null,{"$f":"COUNTIF(Alcance!$E1439,E$1119)","v":0},{"$f":"COUNTIF(Alcance!$E1439,F$1119)","v":0},{"$f":"COUNTIF(Alcance!$E1439,G$1119)","v":0},{"$f":"COUNTIF(Alcance!$E1439,H$1119)","v":0},0,0.5,0]
["Metales",null,"Vanadio",null,{"$f":"COUNTIF(Alcance!$E1440,E$1119)","v":0},{"$f":"COUNTIF(Alcance!$E1440,F$1119)","v":0},{"$f":"COUNTIF(Alcance!$E1440,G$1119)","v":0},{"$f":"COUNTIF(Alcance!$E1440,H$1119)","v":0},0,0.5,0]
["Metales",null,"Zinc",null,{"$f":"COUNTIF(Alcance!$E1441,E$1119)","v":0},{"$f":"COUNTIF(Alcance!$E1441,F$1119)","v":0},{"$f":"COUNTIF(Alcance!$E1441,G$1119)","v":0},{"$f":"COUNTIF(Alcance!$E1441,H$1119)","v":0},0,0.5,0]
["Granulometría",null,"Granulometría",null,{"$f":"COUNTIF(Alcance!$E1442,E$1119)","v":0},{"$f":"COUNTIF(Alcance!$E1442,F$1119)","v":0},{"$f":"COUNTIF(Alcance!$E1442,G$1119)","v":0},{"$f":"COUNTIF(Alcance!$E1442,H$1119)","v":0},0,1,0]
["Grasas y Aceites",null,"Grasas y Aceites",null,{"$f":"COUNTIF(Alcance!$E1443,E$1119)","v":0},{"$f":"COUNTIF(Alcance!$E1443,F$1119)","v":0},{"$f":"COUNTIF(Alcance!$E1443,G$1119)","v":0},{"$f":"COUNTIF(Alcance!$E1443,H$1119)","v":0},0,1,0]
["Hidrocarburos",null,"Hidrocarburos",null,{"$f":"COUNTIF(Alcance!$E1444,E$1119)","v":0},{"$f":"COUNTIF(Alcance!$E1444,F$1119)","v":0},{"$f":"COUNTIF(Alcance!$E1444,G$1119)","v":0},{"$f":"COUNTIF(Alcance!$E1444,H$1119)","v":0},0,1,0]
["Toma de muestra de Sedimento",null,"Toma de Muestra de Sedimento",null,{"$f":"COUNTIF(Alcance!$E1445,E$1119)","v":0},{"$f":"COUNTIF(Alcance!$E1445,F$1119)","v":0},{"$f":"COUNTIF(Alcance!$E1445,G$1119)","v":0},{"$f":"COUNTIF(Alcance!$E1445,H$1119)","v":0},0,3,0]
["Toma de muestra de Sedimento",null,"Toma de Muestra de Sedimento Marino",null,{"$f":"COUNTIF(Alcance!$E1446,E$1119)","v":0},{"$f":"COUNTIF(Alcance!$E1446,F$1119)","v":0},{"$f":"COUNTIF(Alcance!$E1446,G$1119)","v":0},{"$f":"COUNTIF(Alcance!$E1446,H$1119)","v":0},0,3,0]
["Toma de muestra de Sedimento",null,"Toma de Muestra de Sedimento en Cuerpo Lénticos",null,{"$f":"COUNTIF(Alcance!$E1447,E$1119)","v":0},{"$f":"COUNTIF(Alcance!$E1447,F$1119)","v":0},{"$f":"COUNTIF(Alcance!$E1447,G$1119)","v":0},{"$f":"COUNTIF(Alcance!$E1447,H$1119)","v":0},0,3,0]
["Toma de muestra de Sedimento",null,"Toma de Muestra de Sedimento en Cuerpo Lóticos",null,{"$f":"COUNTIF(Alcance!$E1448,E$1119)","v":0},{"$f":"COUNTIF(Alcance!$E1448,F$1119)","v":0},{"$f":"COUNTIF(Alcance!$E1448,G$1119)","v":0},{"$f":"COUNTIF(Alcance!$E1448,H$1119)","v":0},0,3,0]
["Otras variables en Sedimentos",null,"Especificado por el usuario",null,{"$f":"COUNTIF(Alcance!$E$1449:$F$1468,E$1071)","v":0},{"$f":"COUNTIF(Alcance!$E$1449:$F$1468,F$1071)","v":0},{"$f":"COUNTIF(Alcance!$E$1449:$F$1468,G$1071)","v":0},{"$f":"COUNTIF(Alcance!$E$1449:$F$1468,H$1071)","v":0},{"$f":"COUNTIF(Alcance!$E$1449:$F$1468,I$1071)","v":0},1,0,"Total de parametros",{"$f":"SUM(K1120:K1156)","v":0}]
["TOTALES",null,null,null,{"$f":"SUM(E1120:E1156)","v":0},0,0,0,0]
[]
["MATRIZ BIOSÓLIDOS"]
["18. Matriz / Grupo",null,"19. Variable",null,"INICIAL","SEGUIMIENTO","RENOVACIÓN","EXTENSIÓN","Total Variables","Equivalencia en Parámetros","Parámetros Calculados"]
["Microbiológico",null,"Microbiológico",null,{"$f":"COUNTIF(Alcance!$E1473,E$1160)","v":0},{"$f":"COUNTIF(Alcance!$E1473,F$1160)","v":0},{"$f":"COUNTIF(Alcance!$E1473,G$1160)","v":0},{"$f":"COUNTIF(Alcance!$E1473,H$1160)","v":0},{"$f":"SUM(E1161:H1161)","v":0},1.8,{"$f":"I1161*J1161","v":0}]
["Microbiológico",null,"Microbiológico",null,{"$f":"COUNTIF(Alcance!$E1474,E$1160)","v":0},{"$f":"COUNTIF(Alcance!$E1474,F$1160)","v":0},{"$f":"COUNTIF(Alcance!$E1474,G$1160)","v":0},{"$f":"COUNTIF(Alcance!$E1474,H$1160)","v":0},0,1.8,0]
["Microbiológico",null,"Microbiológico",null,{"$f":"COUNTIF(Alcance!$E1475,E$1160)","v":0},{"$f":"COUNTIF(Alcance!$E1475,F$1160)","v":0},{"$f":"COUNTIF(Alcance!$E1475,G$1160)","v":0},{"$f":"COUNTIF(Alcance!$E1475,H$1160)","v":0},0,1.8,0]
["Microbiológico",null,"Microbiológico",null,{"$f":"COUNTIF(Alcance!$E1476,E$1160)","v":0},{"$f":"COUNTIF(Alcance!$E1476,F$1160)","v":0},{"$f":"COUNTIF(Alcance!$E1476,G$1160)","v":0},{"$f":"COUNTIF(Alcance!$E1476,H$1160)","v":0},0,1.8,0]
["Microbiológico",null,"Microbiológico",null,{"$f":"COUNTIF(Alcance!$E1477,E$1160)","v":0},{"$f":"COUNTIF(Alcance!$E1477,F$1160)","v":0},{"$f":"COUNTIF(Alcance!$E1477,G$1160)","v":0},{"$f":"COUNTIF(Alcance!$E1477,H$1160)","v":0},0,1.8,0]
["Otras variables en Biosólido",null,"Otras variables en Biosólido",null,{"$f":"COUNTIF(Alcance!$E$1478:$F$1486,E$1160)","v":0},{"$f":"COUNTIF(Alcance!$E$1478:$F$1486,F$1160)","v":0},{"$f":"COUNTIF(Alcance!$E$1478:$F$1486,G$1160)","v":0},{"$f":"COUNTIF(Alcance!$E$1478:$F$1486,H$1160)","v":0},0,1,0,"Total de parametros",{"$f":"SUM(K1161:K1166)","v":0}]
["TOTALES",null,null,null,{"$f":"SUM(E1161:E1166)","v":0},0,0,0,0]
[]
["MATRIZ AIRE - EMISIONES GENERADAS POR FUENTES FIJAS"]
["18. Matriz / Grupo",null,"19. Variable",null,"INICIAL - ANÁLISIS DE LABORATORIO","INICIAL - TOMA DE MUESTRA","INICIAL - TOMA DE MUESTRA Y ANÁLISIS","SEGUIMIENTO - ANÁLISIS DE LABORATORIO","SEGUIMIENTO - TOMA DE MUESTRA","SEGUIMIENTO - TOMA DE MUESTRA Y ANÁLISIS","RENOVACIÓN - ANÁLISIS DE LABORATORIO","RENOVACIÓN - TOMA DE MUESTRA","RENOVACIÓN - TOMA DE MUESTRA Y ANÁLISIS","EXTENSIÓN - ANÁLISIS DE LABORATORIO","EXTENSIÓN - TOMA DE MUESTRA","EXTENSIÓN - TOMA DE MUESTRA Y ANÁLISIS","Total Variables","Equivalencia en Parámetros /toma de muestra","Equivalencia solo análisis",null,"Parámetros Calculados"]
["Fuentes Fijas",null,"Punto y velocidad de toma de muestra (USEPA 1)",null,{"$f":"COUNTIF(Alcance!$E1491,E$1170)","v":0},{"$f":"COUNTIF(Alcance!$E1491,F$1170)","v":0},{"$f":"COUNTIF(Alcance!$E1491,G$1170)","v":0},{"$f":"COUNTIF(Alcance!$E1491,H$1170)","v":0},{"$f":"COUNTIF(Alcance!$E1491,I$1170)","v":0},{"$f":"COUNTIF(Alcance!$E1491,J$1170)","v":0},{"$f":"COUNTIF(Alcance!$E1491,K$1170)","v":0},{"$f":"COUNTIF(Alcance!$E1491,L$1170)","v":0},{"$f":"COUNTIF(Alcance!$E1491,M$1170)","v":0},{"$f":"COUNTIF(Alcance!$E1491,N$1170)","v":0},{"$f":"COUNTIF(Alcance!$E1491,O$1170)","v":0},{"$f":"COUNTIF(Alcance!$E1491,P$1170)","v":0},{"$f":"SUM(E1171:P1171)","v":0},5,null,null,{"$f":"IF(SUM(Q1171:Q1179)>0,R1171,0)","v":0}]
["Fuentes Fijas",null,"Punto y velocidad de toma de muestra para fuentes fijas con ductos o chimeneas pequeñas (USEPA 1A)",null,{"$f":"COUNTIF(Alcance!$E1492,E$1170)","v":0},{"$f":"COUNTIF(Alcance!$E1492,F$1170)","v":0},{"$f":"COUNTIF(Alcance!$E1492,G$1170)","v":0},{"$f":"COUNTIF(Alcance!$E1492,H$1170)","v":0},{"$f":"COUNTIF(Alcance!$E1492,I$1170)","v":0},{"$f":"COUNTIF(Alcance!$E1492,J$1170)","v":0},{"$f":"COUNTIF(Alcance!$E1492,K$1170)","v":0},{"$f":"COUNTIF(Alcance!$E1492,L$1170)","v":0},{"$f":"COUNTIF(Alcance!$E1492,M$1170)","v":0},{"$f":"COUNTIF(Alcance!$E1492,N$1170)","v":0},{"$f":"COUNTIF(Alcance!$E1492,O$1170)","v":0},{"$f":"COUNTIF(Alcance!$E1492,P$1170)","v":0},0]
["Fuentes Fijas",null,"Velocidad y tasa de flujo volumétrica de gases en chimenea (Tubo Pitot tipo S) (USEPA 2)",null,{"$f":"COUNTIF(Alcance!$E1493,E$1170)","v":0},{"$f":"COUNTIF(Alcance!$E1493,F$1170)","v":0},{"$f":"COUNTIF(Alcance!$E1493,G$1170)","v":0},{"$f":"COUNTIF(Alcance!$E1493,H$1170)","v":0},{"$f":"COUNTIF(Alcance!$E1493,I$1170)","v":0},{"$f":"COUNTIF(Alcance!$E1493,J$1170)","v":0},{"$f":"COUNTIF(Alcance!$E1493,K$1170)","v":0},{"$f":"COUNTIF(Alcance!$E1493,L$1170)","v":0},{"$f":"COUNTIF(Alcance!$E1493,M$1170)","v":0},{"$f":"COUNTIF(Alcance!$E1493,N$1170)","v":0},{"$f":"COUNTIF(Alcance!$E1493,O$1170)","v":0},{"$f":"COUNTIF(Alcance!$E1493,P$1170)","v":0},0]
["Fuentes Fijas",null,"Velocidad y tasa de flujo volumétrica del gas en ductos o chimeneas pequeñas (Tubo Pitot estándar) (USEPA 2C)",null,{"$f":"COUNTIF(Alcance!$E1494,E$1170)","v":0},{"$f":"COUNTIF(Alcance!$E1494,F$1170)","v":0},{"$f":"COUNTIF(Alcance!$E1494,G$1170)","v":0},{"$f":"COUNTIF(Alcance!$E1494,H$1170)","v":0},{"$f":"COUNTIF(Alcance!$E1494,I$1170)","v":0},{"$f":"COUNTIF(Alcance!$E1494,J$1170)","v":0},{"$f":"COUNTIF(Alcance!$E1494,K$1170)","v":0},{"$f":"COUNTIF(Alcance!$E1494,L$1170)","v":0},{"$f":"COUNTIF(Alcance!$E1494,M$1170)","v":0},{"$f":"COUNTIF(Alcance!$E1494,N$1170)","v":0},{"$f":"COUNTIF(Alcance!$E1494,O$1170)","v":0},{"$f":"COUNTIF(Alcance!$E1494,P$1170)","v":0},0]
["Fuentes Fijas",null,"Análisis de gases para la determinación del peso molecular base seca (USEPA 3)",null,{"$f":"COUNTIF(Alcance!$E1495,E$1170)","v":0},{"$f":"COUNTIF(Alcance!$E1495,F$1170)","v":0},{"$f":"COUNTIF(Alcance!$E1495,G$1170)","v":0},{"$f":"COUNTIF(Alcance!$E1495,H$1170)","v":0},{"$f":"COUNTIF(Alcance!$E1495,I$1170)","v":0},{"$f":"COUNTIF(Alcance!$E1495,J$1170)","v":0},{"$f":"COUNTIF(Alcance!$E1495,K$1170)","v":0},{"$f":"COUNTIF(Alcance!$E1495,L$1170)","v":0},{"$f":"COUNTIF(Alcance!$E1495,M$1170)","v":0},{"$f":"COUNTIF(Alcance!$E1495,N$1170)","v":0},{"$f":"COUNTIF(Alcance!$E1495,O$1170)","v":0},{"$f":"COUNTIF(Alcance!$E1495,P$1170)","v":0},0]
["Fuentes Fijas",null,"Concentraciones de oxígeno en emisiones de fuentes fijas (Procedimiento del analizador instrumental) (USEPA 3A)",null,{"$f":"COUNTIF(Alcance!$E1496,E$1170)","v":0},{"$f":"COUNTIF(Alcance!$E1496,F$1170)","v":0},{"$f":"COUNTIF(Alcance!$E1496,G$1170)","v":0},{"$f":"COUNTIF(Alcance!$E1496,H$1170)","v":0},{"$f":"COUNTIF(Alcance!$E1496,I$1170)","v":0},{"$f":"COUNTIF(Alcance!$E1496,J$1170)","v":0},{"$f":"COUNTIF(Alcance!$E1496,K$1170)","v":0},{"$f":"COUNTIF(Alcance!$E1496,L$1170)","v":0},{"$f":"COUNTIF(Alcance!$E1496,M$1170)","v":0},{"$f":"COUNTIF(Alcance!$E1496,N$1170)","v":0},{"$f":"COUNTIF(Alcance!$E1496,O$1170)","v":0},{"$f":"COUNTIF(Alcance!$E1496,P$1170)","v":0},0]
["Fuentes Fijas",null,"Concentraciones de dióxido de carbono en emisiones de fuentes fijas (Procedimiento del analizador instrumental) (USEPA 3A)",null,{"$f":"COUNTIF(Alcance!$E1497,E$1170)","v":0},{"$f":"COUNTIF(Alcance!$E1497,F$1170)","v":0},{"$f":"COUNTIF(Alcance!$E1497,G$1170)","v":0},{"$f":"COUNTIF(Alcance!$E1497,H$1170)","v":0},{"$f":"COUNTIF(Alcance!$E1497,I$1170)","v":0},{"$f":"COUNTIF(Alcance!$E1497,J$1170)","v":0},{"$f":"COUNTIF(Alcance!$E1497,K$1170)","v":0},{"$f":"COUNTIF(Alcance!$E1497,L$1170)","v":0},{"$f":"COUNTIF(Alcance!$E1497,M$1170)","v":0},{"$f":"COUNTIF(Alcance!$E1497,N$1170)","v":0},{"$f":"COUNTIF(Alcance!$E1497,O$1170)","v":0},{"$f":"COUNTIF(Alcance!$E1497,P$1170)","v":0},0]
["Fuentes Fijas",null,"Análisis de gases para la determinación del factor de corrección de tasa de emisión o exceso de aire (USEPA 3B)",null,{"$f":"COUNTIF(Alcance!$E1498,E$1170)","v":0},{"$f":"COUNTIF(Alcance!$E1498,F$1170)","v":0},{"$f":"COUNTIF(Alcance!$E1498,G$1170)","v":0},{"$f":"COUNTIF(Alcance!$E1498,H$1170)","v":0},{"$f":"COUNTIF(Alcance!$E1498,I$1170)","v":0},{"$f":"COUNTIF(Alcance!$E1498,J$1170)","v":0},{"$f":"COUNTIF(Alcance!$E1498,K$1170)","v":0},{"$f":"COUNTIF(Alcance!$E1498,L$1170)","v":0},{"$f":"COUNTIF(Alcance!$E1498,M$1170)","v":0},{"$f":"COUNTIF(Alcance!$E1498,N$1170)","v":0},{"$f":"COUNTIF(Alcance!$E1498,O$1170)","v":0},{"$f":"COUNTIF(Alcance!$E1498,P$1170)","v":0},0]
["Fuentes Fijas",null,"Contenido de humedad en gases de chimenea (USEPA 4)",null,{"$f":"COUNTIF(Alcance!$E1499,E$1170)","v":0},{"$f":"COUNTIF(Alcance!$E1499,F$1170)","v":0},{"$f":"COUNTIF(Alcance!$E1499,G$1170)","v":0},{"$f":"COUNTIF(Alcance!$E1499,H$1170)","v":0},{"$f":"COUNTIF(Alcance!$E1499,I$1170)","v":0},{"$f":"COUNTIF(Alcance!$E1499,J$1170)","v":0},{"$f":"COUNTIF(Alcance!$E1499,K$1170)","v":0},{"$f":"COUNTIF(Alcance!$E1499,L$1170)","v":0},{"$f":"COUNTIF(Alcance!$E1499,M$1170)","v":0},{"$f":"COUNTIF(Alcance!$E1499,N$1170)","v":0},{"$f":"COUNTIF(Alcance!$E1499,O$1170)","v":0},{"$f":"COUNTIF(Alcance!$E1499,P$1170)","v":0},0]
["Fuentes Fijas",null,"Material Particulado (USEPA 5)",null,{"$f":"COUNTIF(Alcance!$E1500,E$1170)","v":0},{"$f":"COUNTIF(Alcance!$E1500,F$1170)","v":0},{"$f":"COUNTIF(Alcance!$E1500,G$1170)","v":0},{"$f":"COUNTIF(Alcance!$E1500,H$1170)","v":0},{"$f":"COUNTIF(Alcance!$E1500,I$1170)","v":0},{"$f":"COUNTIF(Alcance!$E1500,J$1170)","v":0},{"$f":"COUNTIF(Alcance!$E1500,K$1170)","v":0},{"$f":"COUNTIF(Alcance!$E1500,L$1170)","v":0},{"$f":"COUNTIF(Alcance!$E1500,M$1170)","v":0},{"$f":"COUNTIF(Alcance!$E1500,N$1170)","v":0},{"$f":"COUNTIF(Alcance!$E1500,O$1170)","v":0},{"$f":"COUNTIF(Alcance!$E1500,P$1170)","v":0},0,1.25,1,null,{"$f":"S1180*(E1180+H1180+K1180+N1180+G1180+J1180+M1180+P1180)+ R1180*(F1180+I1180+L1180+O1180+G1180+J1180+M1180+P1180)","v":0}]
["Fuentes Fijas",null,"Material Particulado en la industria de Procesamiento de asfalto y manto asfáltico (USEPA 5A)",null,{"$f":"COUNTIF(Alcance!$E1501,E$1170)","v":0},{"$f":"COUNTIF(Alcance!$E1501,F$1170)","v":0},{"$f":"COUNTIF(Alcance!$E1501,G$1170)","v":0},{"$f":"COUNTIF(Alcance!$E1501,H$1170)","v":0},{"$f":"COUNTIF(Alcance!$E1501,I$1170)","v":0},{"$f":"COUNTIF(Alcance!$E1501,J$1170)","v":0},{"$f":"COUNTIF(Alcance!$E1501,K$1170)","v":0},{"$f":"COUNTIF(Alcance!$E1501,L$1170)","v":0},{"$f":"COUNTIF(Alcance!$E1501,M$1170)","v":0},{"$f":"COUNTIF(Alcance!$E1501,N$1170)","v":0},{"$f":"COUNTIF(Alcance!$E1501,O$1170)","v":0},{"$f":"COUNTIF(Alcance!$E1501,P$1170)","v":0},0,1.25,1,null,0]
["Fuentes Fijas",null,"Material Particulado diferente al ácido sulfúrico (USEPA 5B)",null,{"$f":"COUNTIF(Alcance!$E1502,E$1170)","v":0},{"$f":"COUNTIF(Alcance!$E1502,F$1170)","v":0},{"$f":"COUNTIF(Alcance!$E1502,G$1170)","v":0},{"$f":"COUNTIF(Alcance!$E1502,H$1170)","v":0},{"$f":"COUNTIF(Alcance!$E1502,I$1170)","v":0},{"$f":"COUNTIF(Alcance!$E1502,J$1170)","v":0},{"$f":"COUNTIF(Alcance!$E1502,K$1170)","v":0},{"$f":"COUNTIF(Alcance!$E1502,L$1170)","v":0},{"$f":"COUNTIF(Alcance!$E1502,M$1170)","v":0},{"$f":"COUNTIF(Alcance!$E1502,N$1170)","v":0},{"$f":"COUNTIF(Alcance!$E1502,O$1170)","v":0},{"$f":"COUNTIF(Alcance!$E1502,P$1170)","v":0},0,1.25,1,null,0]
["Fuentes Fijas",null,"Material Particulado en filtros de manga que operan a presión positiva (USEPA 5D)",null,{"$f":"COUNTIF(Alcance!$E1503,E$1170)","v":0},{"$f":"COUNTIF(Alcance!$E1503,F$1170)","v":0},{"$f":"COUNTIF(Alcance!$E1503,G$1170)","v":0},{"$f":"COUNTIF(Alcance!$E1503,H$1170)","v":0},{"$f":"COUNTIF(Alcance!$E1503,I$1170)","v":0},{"$f":"COUNTIF(Alcance!$E1503,J$1170)","v":0},{"$f":"COUNTIF(Alcance!$E1503,K$1170)","v":0},{"$f":"COUNTIF(Alcance!$E1503,L$1170)","v":0},{"$f":"COUNTIF(Alcance!$E1503,M$1170)","v":0},{"$f":"COUNTIF(Alcance!$E1503,N$1170)","v":0},{"$f":"COUNTIF(Alcance!$E1503,O$1170)","v":0},{"$f":"COUNTIF(Alcance!$E1503,P$1170)","v":0},0,1.25,1,null,0]
["Fuentes Fijas",null,"Material Particulado en industrias de manufactura de fibra de lana de vidrio aislante (USEPA 5E)",null,{"$f":"COUNTIF(Alcance!$E1504,E$1170)","v":0},{"$f":"COUNTIF(Alcance!$E1504,F$1170)","v":0},{"$f":"COUNTIF(Alcance!$E1504,G$1170)","v":0},{"$f":"COUNTIF(Alcance!$E1504,H$1170)","v":0},{"$f":"COUNTIF(Alcance!$E1504,I$1170)","v":0},{"$f":"COUNTIF(Alcance!$E1504,J$1170)","v":0},{"$f":"COUNTIF(Alcance!$E1504,K$1170)","v":0},{"$f":"COUNTIF(Alcance!$E1504,L$1170)","v":0},{"$f":"COUNTIF(Alcance!$E1504,M$1170)","v":0},{"$f":"COUNTIF(Alcance!$E1504,N$1170)","v":0},{"$f":"COUNTIF(Alcance!$E1504,O$1170)","v":0},{"$f":"COUNTIF(Alcance!$E1504,P$1170)","v":0},0,1.25,1,null,0]
["Fuentes Fijas",null,"Material Particulado, diferente al sulfato (USEPA 5F)",null,{"$f":"COUNTIF(Alcance!$E1505,E$1170)","v":0},{"$f":"COUNTIF(Alcance!$E1505,F$1170)","v":0},{"$f":"COUNTIF(Alcance!$E1505,G$1170)","v":0},{"$f":"COUNTIF(Alcance!$E1505,H$1170)","v":0},{"$f":"COUNTIF(Alcance!$E1505,I$1170)","v":0},{"$f":"COUNTIF(Alcance!$E1505,J$1170)","v":0},{"$f":"COUNTIF(Alcance!$E1505,K$1170)","v":0},{"$f":"COUNTIF(Alcance!$E1505,L$1170)","v":0},{"$f":"COUNTIF(Alcance!$E1505,M$1170)","v":0},{"$f":"COUNTIF(Alcance!$E1505,N$1170)","v":0},{"$f":"COUNTIF(Alcance!$E1505,O$1170)","v":0},{"$f":"COUNTIF(Alcance!$E1505,P$1170)","v":0},0,1.25,1,null,0]
["Fuentes Fijas",null,"Material Particulado en calentadores de madera (toma de muestra en túnel de dilución) (USEPA 5G)",null,{"$f":"COUNTIF(Alcance!$E1506,E$1170)","v":0},{"$f":"COUNTIF(Alcance!$E1506,F$1170)","v":0},{"$f":"COUNTIF(Alcance!$E1506,G$1170)","v":0},{"$f":"COUNTIF(Alcance!$E1506,H$1170)","v":0},{"$f":"COUNTIF(Alcance!$E1506,I$1170)","v":0},{"$f":"COUNTIF(Alcance!$E1506,J$1170)","v":0},{"$f":"COUNTIF(Alcance!$E1506,K$1170)","v":0},{"$f":"COUNTIF(Alcance!$E1506,L$1170)","v":0},{"$f":"COUNTIF(Alcance!$E1506,M$1170)","v":0},{"$f":"COUNTIF(Alcance!$E1506,N$1170)","v":0},{"$f":"COUNTIF(Alcance!$E1506,O$1170)","v":0},{"$f":"COUNTIF(Alcance!$E1506,P$1170)","v":0},0,1.25,1,null,0]
["Fuentes Fijas",null,"Material Particulado en calentadores de madera (localizado en la chimenea) (USEPA 5H)",null,{"$f":"COUNTIF(Alcance!$E1507,E$1170)","v":0},{"$f":"COUNTIF(Alcance!$E1507,F$1170)","v":0},{"$f":"COUNTIF(Alcance!$E1507,G$1170)","v":0},{"$f":"COUNTIF(Alcance!$E1507,H$1170)","v":0},{"$f":"COUNTIF(Alcance!$E1507,I$1170)","v":0},{"$f":"COUNTIF(Alcance!$E1507,J$1170)","v":0},{"$f":"COUNTIF(Alcance!$E1507,K$1170)","v":0},{"$f":"COUNTIF(Alcance!$E1507,L$1170)","v":0},{"$f":"COUNTIF(Alcance!$E1507,M$1170)","v":0},{"$f":"COUNTIF(Alcance!$E1507,N$1170)","v":0},{"$f":"COUNTIF(Alcance!$E1507,O$1170)","v":0},{"$f":"COUNTIF(Alcance!$E1507,P$1170)","v":0},0,1.25,1,null,0]
["Fuentes Fijas",null,"Material Particulado de bajo nivel (USEPA 5I)",null,{"$f":"COUNTIF(Alcance!$E1508,E$1170)","v":0},{"$f":"COUNTIF(Alcance!$E1508,F$1170)","v":0},{"$f":"COUNTIF(Alcance!$E1508,G$1170)","v":0},{"$f":"COUNTIF(Alcance!$E1508,H$1170)","v":0},{"$f":"COUNTIF(Alcance!$E1508,I$1170)","v":0},{"$f":"COUNTIF(Alcance!$E1508,J$1170)","v":0},{"$f":"COUNTIF(Alcance!$E1508,K$1170)","v":0},{"$f":"COUNTIF(Alcance!$E1508,L$1170)","v":0},{"$f":"COUNTIF(Alcance!$E1508,M$1170)","v":0},{"$f":"COUNTIF(Alcance!$E1508,N$1170)","v":0},{"$f":"COUNTIF(Alcance!$E1508,O$1170)","v":0},{"$f":"COUNTIF(Alcance!$E1508,P$1170)","v":0},0,1.25,1,null,0]
["Fuentes Fijas",null,"Dióxido de azufre (USEPA 6)",null,{"$f":"COUNTIF(Alcance!$E1509,E$1170)","v":0},{"$f":"COUNTIF(Alcance!$E1509,F$1170)","v":0},{"$f":"COUNTIF(Alcance!$E1509,G$1170)","v":0},{"$f":"COUNTIF(Alcance!$E1509,H$1170)","v":0},{"$f":"COUNTIF(Alcance!$E1509,I$1170)","v":0},{"$f":"COUNTIF(Alcance!$E1509,J$1170)","v":0},{"$f":"COUNTIF(Alcance!$E1509,K$1170)","v":0},{"$f":"COUNTIF(Alcance!$E1509,L$1170)","v":0},{"$f":"COUNTIF(Alcance!$E1509,M$1170)","v":0},{"$f":"COUNTIF(Alcance!$E1509,N$1170)","v":0},{"$f":"COUNTIF(Alcance!$E1509,O$1170)","v":0},{"$f":"COUNTIF(Alcance!$E1509,P$1170)","v":0},0,1.25,1,null,0]
["Fuentes Fijas",null,"Dióxido de azufre, humedad y Dióxido de carbono  en fuentes de combustión de combustible fósil (USEPA 6A)",null,{"$f":"COUNTIF(Alcance!$E1510,E$1170)","v":0},{"$f":"COUNTIF(Alcance!$E1510,F$1170)","v":0},{"$f":"COUNTIF(Alcance!$E1510,G$1170)","v":0},{"$f":"COUNTIF(Alcance!$E1510,H$1170)","v":0},{"$f":"COUNTIF(Alcance!$E1510,I$1170)","v":0},{"$f":"COUNTIF(Alcance!$E1510,J$1170)","v":0},{"$f":"COUNTIF(Alcance!$E1510,K$1170)","v":0},{"$f":"COUNTIF(Alcance!$E1510,L$1170)","v":0},{"$f":"COUNTIF(Alcance!$E1510,M$1170)","v":0},{"$f":"COUNTIF(Alcance!$E1510,N$1170)","v":0},{"$f":"COUNTIF(Alcance!$E1510,O$1170)","v":0},{"$f":"COUNTIF(Alcance!$E1510,P$1170)","v":0},0,1.25,1,null,0]
["Fuentes Fijas",null,"Emisiones promedio diarias de dióxido de azufre y dióxido de carbono en fuentes de combustión de combustible fósil (USEPA 6B)",null,{"$f":"COUNTIF(Alcance!$E1511,E$1170)","v":0},{"$f":"COUNTIF(Alcance!$E1511,F$1170)","v":0},{"$f":"COUNTIF(Alcance!$E1511,G$1170)","v":0},{"$f":"COUNTIF(Alcance!$E1511,H$1170)","v":0},{"$f":"COUNTIF(Alcance!$E1511,I$1170)","v":0},{"$f":"COUNTIF(Alcance!$E1511,J$1170)","v":0},{"$f":"COUNTIF(Alcance!$E1511,K$1170)","v":0},{"$f":"COUNTIF(Alcance!$E1511,L$1170)","v":0},{"$f":"COUNTIF(Alcance!$E1511,M$1170)","v":0},{"$f":"COUNTIF(Alcance!$E1511,N$1170)","v":0},{"$f":"COUNTIF(Alcance!$E1511,O$1170)","v":0},{"$f":"COUNTIF(Alcance!$E1511,P$1170)","v":0},0,1.25,1,null,0]
["Fuentes Fijas",null,"Dióxido de azufre (Procedimiento del analizador instrumental) (USEPA 6C)",null,{"$f":"COUNTIF(Alcance!$E1512,E$1170)","v":0},{"$f":"COUNTIF(Alcance!$E1512,F$1170)","v":0},{"$f":"COUNTIF(Alcance!$E1512,G$1170)","v":0},{"$f":"COUNTIF(Alcance!$E1512,H$1170)","v":0},{"$f":"COUNTIF(Alcance!$E1512,I$1170)","v":0},{"$f":"COUNTIF(Alcance!$E1512,J$1170)","v":0},{"$f":"COUNTIF(Alcance!$E1512,K$1170)","v":0},{"$f":"COUNTIF(Alcance!$E1512,L$1170)","v":0},{"$f":"COUNTIF(Alcance!$E1512,M$1170)","v":0},{"$f":"COUNTIF(Alcance!$E1512,N$1170)","v":0},{"$f":"COUNTIF(Alcance!$E1512,O$1170)","v":0},{"$f":"COUNTIF(Alcance!$E1512,P$1170)","v":0},0,1.25,0,null,0]
["Fuentes Fijas",null,"Óxidos de nitrógeno (USEPA 7)",null,{"$f":"COUNTIF(Alcance!$E1513,E$1170)","v":0},{"$f":"COUNTIF(Alcance!$E1513,F$1170)","v":0},{"$f":"COUNTIF(Alcance!$E1513,G$1170)","v":0},{"$f":"COUNTIF(Alcance!$E1513,H$1170)","v":0},{"$f":"COUNTIF(Alcance!$E1513,I$1170)","v":0},{"$f":"COUNTIF(Alcance!$E1513,J$1170)","v":0},{"$f":"COUNTIF(Alcance!$E1513,K$1170)","v":0},{"$f":"COUNTIF(Alcance!$E1513,L$1170)","v":0},{"$f":"COUNTIF(Alcance!$E1513,M$1170)","v":0},{"$f":"COUNTIF(Alcance!$E1513,N$1170)","v":0},{"$f":"COUNTIF(Alcance!$E1513,O$1170)","v":0},{"$f":"COUNTIF(Alcance!$E1513,P$1170)","v":0},0,1.25,1,null,0]
["Fuentes Fijas",null,"Óxidos de nitrógeno (Método de cromatografía iónica) (USEPA 7A)",null,{"$f":"COUNTIF(Alcance!$E1514,E$1170)","v":0},{"$f":"COUNTIF(Alcance!$E1514,F$1170)","v":0},{"$f":"COUNTIF(Alcance!$E1514,G$1170)","v":0},{"$f":"COUNTIF(Alcance!$E1514,H$1170)","v":0},{"$f":"COUNTIF(Alcance!$E1514,I$1170)","v":0},{"$f":"COUNTIF(Alcance!$E1514,J$1170)","v":0},{"$f":"COUNTIF(Alcance!$E1514,K$1170)","v":0},{"$f":"COUNTIF(Alcance!$E1514,L$1170)","v":0},{"$f":"COUNTIF(Alcance!$E1514,M$1170)","v":0},{"$f":"COUNTIF(Alcance!$E1514,N$1170)","v":0},{"$f":"COUNTIF(Alcance!$E1514,O$1170)","v":0},{"$f":"COUNTIF(Alcance!$E1514,P$1170)","v":0},0,1.25,1,null,0]
["Fuentes Fijas",null,"Óxidos de nitrógeno (Método de espectrofotometría ultravioleta) (USEPA 7B)",null,{"$f":"COUNTIF(Alcance!$E1515,E$1170)","v":0},{"$f":"COUNTIF(Alcance!$E1515,F$1170)","v":0},{"$f":"COUNTIF(Alcance!$E1515,G$1170)","v":0},{"$f":"COUNTIF(Alcance!$E1515,H$1170)","v":0},{"$f":"COUNTIF(Alcance!$E1515,I$1170)","v":0},{"$f":"COUNTIF(Alcance!$E1515,J$1170)","v":0},{"$f":"COUNTIF(Alcance!$E1515,K$1170)","v":0},{"$f":"COUNTIF(Alcance!$E1515,L$1170)","v":0},{"$f":"COUNTIF(Alcance!$E1515,M$1170)","v":0},{"$f":"COUNTIF(Alcance!$E1515,N$1170)","v":0},{"$f":"COUNTIF(Alcance!$E1515,O$1170)","v":0},{"$f":"COUNTIF(Alcance!$E1515,P$1170)","v":0},0,1.25,1,null,0]
["Fuentes Fijas",null,"Óxidos de nitrógeno Método colorimétrico de permanganato alcalino) (USEPA 7C)",null,{"$f":"COUNTIF(Alcance!$E1516,E$1170)","v":0},{"$f":"COUNTIF(Alcance!$E1516,F$1170)","v":0},{"$f":"COUNTIF(Alcance!$E1516,G$1170)","v":0},{"$f":"COUNTIF(Alcance!$E1516,H$1170)","v":0},{"$f":"COUNTIF(Alcance!$E1516,I$1170)","v":0},{"$f":"COUNTIF(Alcance!$E1516,J$1170)","v":0},{"$f":"COUNTIF(Alcance!$E1516,K$1170)","v":0},{"$f":"COUNTIF(Alcance!$E1516,L$1170)","v":0},{"$f":"COUNTIF(Alcance!$E1516,M$1170)","v":0},{"$f":"COUNTIF(Alcance!$E1516,N$1170)","v":0},{"$f":"COUNTIF(Alcance!$E1516,O$1170)","v":0},{"$f":"COUNTIF(Alcance!$E1516,P$1170)","v":0},0,1.25,1,null,0]
["Fuentes Fijas",null,"Óxidos de nitrógeno Procedimiento del analizador instrumental) (USEPA 7E)",null,{"$f":"COUNTIF(Alcance!$E1517,E$1170)","v":0},{"$f":"COUNTIF(Alcance!$E1517,F$1170)","v":0},{"$f":"COUNTIF(Alcance!$E1517,G$1170)","v":0},{"$f":"COUNTIF(Alcance!$E1517,H$1170)","v":0},{"$f":"COUNTIF(Alcance!$E1517,I$1170)","v":0},{"$f":"COUNTIF(Alcance!$E1517,J$1170)","v":0},{"$f":"COUNTIF(Alcance!$E1517,K$1170)","v":0},{"$f":"COUNTIF(Alcance!$E1517,L$1170)","v":0},{"$f":"COUNTIF(Alcance!$E1517,M$1170)","v":0},{"$f":"COUNTIF(Alcance!$E1517,N$1170)","v":0},{"$f":"COUNTIF(Alcance!$E1517,O$1170)","v":0},{"$f":"COUNTIF(Alcance!$E1517,P$1170)","v":0},0,1.25,0,null,0]
["Fuentes Fijas",null,"Ácido sulfúrico y Dióxido de azufre, Trióxido de Azufre (USEPA 8)",null,{"$f":"COUNTIF(Alcance!$E1518,E$1170)","v":0},{"$f":"COUNTIF(Alcance!$E1518,F$1170)","v":0},{"$f":"COUNTIF(Alcance!$E1518,G$1170)","v":0},{"$f":"COUNTIF(Alcance!$E1518,H$1170)","v":0},{"$f":"COUNTIF(Alcance!$E1518,I$1170)","v":0},{"$f":"COUNTIF(Alcance!$E1518,J$1170)","v":0},{"$f":"COUNTIF(Alcance!$E1518,K$1170)","v":0},{"$f":"COUNTIF(Alcance!$E1518,L$1170)","v":0},{"$f":"COUNTIF(Alcance!$E1518,M$1170)","v":0},{"$f":"COUNTIF(Alcance!$E1518,N$1170)","v":0},{"$f":"COUNTIF(Alcance!$E1518,O$1170)","v":0},{"$f":"COUNTIF(Alcance!$E1518,P$1170)","v":0},0,1.25,1,null,0]
["Fuentes Fijas",null,"Monóxido de carbono (Procedimiento del analizador instrumental) (USEPA 10)",null,{"$f":"COUNTIF(Alcance!$E1519,E$1170)","v":0},{"$f":"COUNTIF(Alcance!$E1519,F$1170)","v":0},{"$f":"COUNTIF(Alcance!$E1519,G$1170)","v":0},{"$f":"COUNTIF(Alcance!$E1519,H$1170)","v":0},{"$f":"COUNTIF(Alcance!$E1519,I$1170)","v":0},{"$f":"COUNTIF(Alcance!$E1519,J$1170)","v":0},{"$f":"COUNTIF(Alcance!$E1519,K$1170)","v":0},{"$f":"COUNTIF(Alcance!$E1519,L$1170)","v":0},{"$f":"COUNTIF(Alcance!$E1519,M$1170)","v":0},{"$f":"COUNTIF(Alcance!$E1519,N$1170)","v":0},{"$f":"COUNTIF(Alcance!$E1519,O$1170)","v":0},{"$f":"COUNTIF(Alcance!$E1519,P$1170)","v":0},0,1.25,1,null,0]
["Fuentes Fijas",null,"Monóxido de carbono en la certificación de sistemas de medición continua de emisiones en refinerías de petróleo (USEPA 10A)",null,{"$f":"COUNTIF(Alcance!$E1520,E$1170)","v":0},{"$f":"COUNTIF(Alcance!$E1520,F$1170)","v":0},{"$f":"COUNTIF(Alcance!$E1520,G$1170)","v":0},{"$f":"COUNTIF(Alcance!$E1520,H$1170)","v":0},{"$f":"COUNTIF(Alcance!$E1520,I$1170)","v":0},{"$f":"COUNTIF(Alcance!$E1520,J$1170)","v":0},{"$f":"COUNTIF(Alcance!$E1520,K$1170)","v":0},{"$f":"COUNTIF(Alcance!$E1520,L$1170)","v":0},{"$f":"COUNTIF(Alcance!$E1520,M$1170)","v":0},{"$f":"COUNTIF(Alcance!$E1520,N$1170)","v":0},{"$f":"COUNTIF(Alcance!$E1520,O$1170)","v":0},{"$f":"COUNTIF(Alcance!$E1520,P$1170)","v":0},0,1.25,1,null,0]
["Fuentes Fijas",null,"Determinación de emisiones de Monóxido de carbono en fuentes fijas (USEPA 10B)",null,{"$f":"COUNTIF(Alcance!$E1521,E$1170)","v":0},{"$f":"COUNTIF(Alcance!$E1521,F$1170)","v":0},{"$f":"COUNTIF(Alcance!$E1521,G$1170)","v":0},{"$f":"COUNTIF(Alcance!$E1521,H$1170)","v":0},{"$f":"COUNTIF(Alcance!$E1521,I$1170)","v":0},{"$f":"COUNTIF(Alcance!$E1521,J$1170)","v":0},{"$f":"COUNTIF(Alcance!$E1521,K$1170)","v":0},{"$f":"COUNTIF(Alcance!$E1521,L$1170)","v":0},{"$f":"COUNTIF(Alcance!$E1521,M$1170)","v":0},{"$f":"COUNTIF(Alcance!$E1521,N$1170)","v":0},{"$f":"COUNTIF(Alcance!$E1521,O$1170)","v":0},{"$f":"COUNTIF(Alcance!$E1521,P$1170)","v":0},0,1.25,1,null,0]
["Fuentes Fijas",null,"Sulfuro de hidrógeno (H2S) en corrientes de gas combustible en refinerías de petróleo (USEPA 11)",null,{"$f":"COUNTIF(Alcance!$E1522,E$1170)","v":0},{"$f":"COUNTIF(Alcance!$E1522,F$1170)","v":0},{"$f":"COUNTIF(Alcance!$E1522,G$1170)","v":0},{"$f":"COUNTIF(Alcance!$E1522,H$1170)","v":0},{"$f":"COUNTIF(Alcance!$E1522,I$1170)","v":0},{"$f":"COUNTIF(Alcance!$E1522,J$1170)","v":0},{"$f":"COUNTIF(Alcance!$E1522,K$1170)","v":0},{"$f":"COUNTIF(Alcance!$E1522,L$1170)","v":0},{"$f":"COUNTIF(Alcance!$E1522,M$1170)","v":0},{"$f":"COUNTIF(Alcance!$E1522,N$1170)","v":0},{"$f":"COUNTIF(Alcance!$E1522,O$1170)","v":0},{"$f":"COUNTIF(Alcance!$E1522,P$1170)","v":0},0,1.25,1,null,0]
["Fuentes Fijas",null,"Plomo inorgánico (USEPA 12)",null,{"$f":"COUNTIF(Alcance!$E1523,E$1170)","v":0},{"$f":"COUNTIF(Alcance!$E1523,F$1170)","v":0},{"$f":"COUNTIF(Alcance!$E1523,G$1170)","v":0},{"$f":"COUNTIF(Alcance!$E1523,H$1170)","v":0},{"$f":"COUNTIF(Alcance!$E1523,I$1170)","v":0},{"$f":"COUNTIF(Alcance!$E1523,J$1170)","v":0},{"$f":"COUNTIF(Alcance!$E1523,K$1170)","v":0},{"$f":"COUNTIF(Alcance!$E1523,L$1170)","v":0},{"$f":"COUNTIF(Alcance!$E1523,M$1170)","v":0},{"$f":"COUNTIF(Alcance!$E1523,N$1170)","v":0},{"$f":"COUNTIF(Alcance!$E1523,O$1170)","v":0},{"$f":"COUNTIF(Alcance!$E1523,P$1170)","v":0},0,1.25,1,null,0]
["Fuentes Fijas",null,"Fluoruro total (Método del reactivo SPADNS) (USEPA 13A)",null,{"$f":"COUNTIF(Alcance!$E1524,E$1170)","v":0},{"$f":"COUNTIF(Alcance!$E1524,F$1170)","v":0},{"$f":"COUNTIF(Alcance!$E1524,G$1170)","v":0},{"$f":"COUNTIF(Alcance!$E1524,H$1170)","v":0},{"$f":"COUNTIF(Alcance!$E1524,I$1170)","v":0},{"$f":"COUNTIF(Alcance!$E1524,J$1170)","v":0},{"$f":"COUNTIF(Alcance!$E1524,K$1170)","v":0},{"$f":"COUNTIF(Alcance!$E1524,L$1170)","v":0},{"$f":"COUNTIF(Alcance!$E1524,M$1170)","v":0},{"$f":"COUNTIF(Alcance!$E1524,N$1170)","v":0},{"$f":"COUNTIF(Alcance!$E1524,O$1170)","v":0},{"$f":"COUNTIF(Alcance!$E1524,P$1170)","v":0},0,1.25,1,null,0]
["Fuentes Fijas",null,"Fluoruro total (Método del Ion electrodo específico) (USEPA 13B)",null,{"$f":"COUNTIF(Alcance!$E1525,E$1170)","v":0},{"$f":"COUNTIF(Alcance!$E1525,F$1170)","v":0},{"$f":"COUNTIF(Alcance!$E1525,G$1170)","v":0},{"$f":"COUNTIF(Alcance!$E1525,H$1170)","v":0},{"$f":"COUNTIF(Alcance!$E1525,I$1170)","v":0},{"$f":"COUNTIF(Alcance!$E1525,J$1170)","v":0},{"$f":"COUNTIF(Alcance!$E1525,K$1170)","v":0},{"$f":"COUNTIF(Alcance!$E1525,L$1170)","v":0},{"$f":"COUNTIF(Alcance!$E1525,M$1170)","v":0},{"$f":"COUNTIF(Alcance!$E1525,N$1170)","v":0},{"$f":"COUNTIF(Alcance!$E1525,O$1170)","v":0},{"$f":"COUNTIF(Alcance!$E1525,P$1170)","v":0},0,1.25,1,null,0]
["Fuentes Fijas",null,"Fluoruro para plantas de producción de aluminio primario (USEPA 14)",null,{"$f":"COUNTIF(Alcance!$E1526,E$1170)","v":0},{"$f":"COUNTIF(Alcance!$E1526,F$1170)","v":0},{"$f":"COUNTIF(Alcance!$E1526,G$1170)","v":0},{"$f":"COUNTIF(Alcance!$E1526,H$1170)","v":0},{"$f":"COUNTIF(Alcance!$E1526,I$1170)","v":0},{"$f":"COUNTIF(Alcance!$E1526,J$1170)","v":0},{"$f":"COUNTIF(Alcance!$E1526,K$1170)","v":0},{"$f":"COUNTIF(Alcance!$E1526,L$1170)","v":0},{"$f":"COUNTIF(Alcance!$E1526,M$1170)","v":0},{"$f":"COUNTIF(Alcance!$E1526,N$1170)","v":0},{"$f":"COUNTIF(Alcance!$E1526,O$1170)","v":0},{"$f":"COUNTIF(Alcance!$E1526,P$1170)","v":0},0,1.25,1,null,0]
["Fuentes Fijas",null,"Fluoruro total en fuentes fijas específicas en instalaciones de producción de aluminio primario (USEPA 14A)",null,{"$f":"COUNTIF(Alcance!$E1527,E$1170)","v":0},{"$f":"COUNTIF(Alcance!$E1527,F$1170)","v":0},{"$f":"COUNTIF(Alcance!$E1527,G$1170)","v":0},{"$f":"COUNTIF(Alcance!$E1527,H$1170)","v":0},{"$f":"COUNTIF(Alcance!$E1527,I$1170)","v":0},{"$f":"COUNTIF(Alcance!$E1527,J$1170)","v":0},{"$f":"COUNTIF(Alcance!$E1527,K$1170)","v":0},{"$f":"COUNTIF(Alcance!$E1527,L$1170)","v":0},{"$f":"COUNTIF(Alcance!$E1527,M$1170)","v":0},{"$f":"COUNTIF(Alcance!$E1527,N$1170)","v":0},{"$f":"COUNTIF(Alcance!$E1527,O$1170)","v":0},{"$f":"COUNTIF(Alcance!$E1527,P$1170)","v":0},0,1.25,1,null,0]
["Fuentes Fijas",null,"Sulfuro de hidrógeno (H2S), Carbonilo sulfhídrico y Bisulfuro de Carbono en fuentes fijas (USEPA 15)",null,{"$f":"COUNTIF(Alcance!$E1528,E$1170)","v":0},{"$f":"COUNTIF(Alcance!$E1528,F$1170)","v":0},{"$f":"COUNTIF(Alcance!$E1528,G$1170)","v":0},{"$f":"COUNTIF(Alcance!$E1528,H$1170)","v":0},{"$f":"COUNTIF(Alcance!$E1528,I$1170)","v":0},{"$f":"COUNTIF(Alcance!$E1528,J$1170)","v":0},{"$f":"COUNTIF(Alcance!$E1528,K$1170)","v":0},{"$f":"COUNTIF(Alcance!$E1528,L$1170)","v":0},{"$f":"COUNTIF(Alcance!$E1528,M$1170)","v":0},{"$f":"COUNTIF(Alcance!$E1528,N$1170)","v":0},{"$f":"COUNTIF(Alcance!$E1528,O$1170)","v":0},{"$f":"COUNTIF(Alcance!$E1528,P$1170)","v":0},0,1.25,1,null,0]
["Fuentes Fijas",null,"Azufre total reducido en plantas de recuperación de azufre de refinerías de petróleo (USEPA 15A)",null,{"$f":"COUNTIF(Alcance!$E1529,E$1170)","v":0},{"$f":"COUNTIF(Alcance!$E1529,F$1170)","v":0},{"$f":"COUNTIF(Alcance!$E1529,G$1170)","v":0},{"$f":"COUNTIF(Alcance!$E1529,H$1170)","v":0},{"$f":"COUNTIF(Alcance!$E1529,I$1170)","v":0},{"$f":"COUNTIF(Alcance!$E1529,J$1170)","v":0},{"$f":"COUNTIF(Alcance!$E1529,K$1170)","v":0},{"$f":"COUNTIF(Alcance!$E1529,L$1170)","v":0},{"$f":"COUNTIF(Alcance!$E1529,M$1170)","v":0},{"$f":"COUNTIF(Alcance!$E1529,N$1170)","v":0},{"$f":"COUNTIF(Alcance!$E1529,O$1170)","v":0},{"$f":"COUNTIF(Alcance!$E1529,P$1170)","v":0},0,1.25,1,null,0]
["Fuentes Fijas",null,"Determinación semicontinua de las emisiones de azufre (USEPA 16)",null,{"$f":"COUNTIF(Alcance!$E1530,E$1170)","v":0},{"$f":"COUNTIF(Alcance!$E1530,F$1170)","v":0},{"$f":"COUNTIF(Alcance!$E1530,G$1170)","v":0},{"$f":"COUNTIF(Alcance!$E1530,H$1170)","v":0},{"$f":"COUNTIF(Alcance!$E1530,I$1170)","v":0},{"$f":"COUNTIF(Alcance!$E1530,J$1170)","v":0},{"$f":"COUNTIF(Alcance!$E1530,K$1170)","v":0},{"$f":"COUNTIF(Alcance!$E1530,L$1170)","v":0},{"$f":"COUNTIF(Alcance!$E1530,M$1170)","v":0},{"$f":"COUNTIF(Alcance!$E1530,N$1170)","v":0},{"$f":"COUNTIF(Alcance!$E1530,O$1170)","v":0},{"$f":"COUNTIF(Alcance!$E1530,P$1170)","v":0},0,1.25,1,null,0]
["Fuentes Fijas",null,"Azufre total reducido (Técnica del impactador) (USEPA 16A)",null,{"$f":"COUNTIF(Alcance!$E1531,E$1170)","v":0},{"$f":"COUNTIF(Alcance!$E1531,F$1170)","v":0},{"$f":"COUNTIF(Alcance!$E1531,G$1170)","v":0},{"$f":"COUNTIF(Alcance!$E1531,H$1170)","v":0},{"$f":"COUNTIF(Alcance!$E1531,I$1170)","v":0},{"$f":"COUNTIF(Alcance!$E1531,J$1170)","v":0},{"$f":"COUNTIF(Alcance!$E1531,K$1170)","v":0},{"$f":"COUNTIF(Alcance!$E1531,L$1170)","v":0},{"$f":"COUNTIF(Alcance!$E1531,M$1170)","v":0},{"$f":"COUNTIF(Alcance!$E1531,N$1170)","v":0},{"$f":"COUNTIF(Alcance!$E1531,O$1170)","v":0},{"$f":"COUNTIF(Alcance!$E1531,P$1170)","v":0},0,1.25,1,null,0]
["Fuentes Fijas",null,"Azufre total reducido (USEPA 16B)",null,{"$f":"COUNTIF(Alcance!$E1532,E$1170)","v":0},{"$f":"COUNTIF(Alcance!$E1532,F$1170)","v":0},{"$f":"COUNTIF(Alcance!$E1532,G$1170)","v":0},{"$f":"COUNTIF(Alcance!$E1532,H$1170)","v":0},{"$f":"COUNTIF(Alcance!$E1532,I$1170)","v":0},{"$f":"COUNTIF(Alcance!$E1532,J$1170)","v":0},{"$f":"COUNTIF(Alcance!$E1532,K$1170)","v":0},{"$f":"COUNTIF(Alcance!$E1532,L$1170)","v":0},{"$f":"COUNTIF(Alcance!$E1532,M$1170)","v":0},{"$f":"COUNTIF(Alcance!$E1532,N$1170)","v":0},{"$f":"COUNTIF(Alcance!$E1532,O$1170)","v":0},{"$f":"COUNTIF(Alcance!$E1532,P$1170)","v":0},0,1.25,1,null,0]
["Fuentes Fijas",null,"Material Particulado (USEPA 17)",null,{"$f":"COUNTIF(Alcance!$E1533,E$1170)","v":0},{"$f":"COUNTIF(Alcance!$E1533,F$1170)","v":0},{"$f":"COUNTIF(Alcance!$E1533,G$1170)","v":0},{"$f":"COUNTIF(Alcance!$E1533,H$1170)","v":0},{"$f":"COUNTIF(Alcance!$E1533,I$1170)","v":0},{"$f":"COUNTIF(Alcance!$E1533,J$1170)","v":0},{"$f":"COUNTIF(Alcance!$E1533,K$1170)","v":0},{"$f":"COUNTIF(Alcance!$E1533,L$1170)","v":0},{"$f":"COUNTIF(Alcance!$E1533,M$1170)","v":0},{"$f":"COUNTIF(Alcance!$E1533,N$1170)","v":0},{"$f":"COUNTIF(Alcance!$E1533,O$1170)","v":0},{"$f":"COUNTIF(Alcance!$E1533,P$1170)","v":0},0,1.25,1,null,0]
["Fuentes Fijas",null,"Compuestos Orgánicos Gaseosos por cromatografía de gases (USEPA 18)",null,{"$f":"COUNTIF(Alcance!$E1534,E$1170)","v":0},{"$f":"COUNTIF(Alcance!$E1534,F$1170)","v":0},{"$f":"COUNTIF(Alcance!$E1534,G$1170)","v":0},{"$f":"COUNTIF(Alcance!$E1534,H$1170)","v":0},{"$f":"COUNTIF(Alcance!$E1534,I$1170)","v":0},{"$f":"COUNTIF(Alcance!$E1534,J$1170)","v":0},{"$f":"COUNTIF(Alcance!$E1534,K$1170)","v":0},{"$f":"COUNTIF(Alcance!$E1534,L$1170)","v":0},{"$f":"COUNTIF(Alcance!$E1534,M$1170)","v":0},{"$f":"COUNTIF(Alcance!$E1534,N$1170)","v":0},{"$f":"COUNTIF(Alcance!$E1534,O$1170)","v":0},{"$f":"COUNTIF(Alcance!$E1534,P$1170)","v":0},0,2.5,null,null,{"$f":"IF((F1214+I1214+L1214+O1214)>0,R1214,0)","v":0}]
["Fuentes Fijas",null,"Eficiencia de remoción de Dióxido de azufre y las Tasas de emisión de material particulado, dióxido de azufre y óxidos de nitrógeno (USEPA 19)",null,{"$f":"COUNTIF(Alcance!$E1535,E$1170)","v":0},{"$f":"COUNTIF(Alcance!$E1535,F$1170)","v":0},{"$f":"COUNTIF(Alcance!$E1535,G$1170)","v":0},{"$f":"COUNTIF(Alcance!$E1535,H$1170)","v":0},{"$f":"COUNTIF(Alcance!$E1535,I$1170)","v":0},{"$f":"COUNTIF(Alcance!$E1535,J$1170)","v":0},{"$f":"COUNTIF(Alcance!$E1535,K$1170)","v":0},{"$f":"COUNTIF(Alcance!$E1535,L$1170)","v":0},{"$f":"COUNTIF(Alcance!$E1535,M$1170)","v":0},{"$f":"COUNTIF(Alcance!$E1535,N$1170)","v":0},{"$f":"COUNTIF(Alcance!$E1535,O$1170)","v":0},{"$f":"COUNTIF(Alcance!$E1535,P$1170)","v":0},0,1.25,1,null,{"$f":"S1215*(E1215+H1215+K1215+N1215+G1215+J1215+M1215+P1215)+ R1215*(F1215+I1215+L1215+O1215+G1215+J1215+M1215+P1215)","v":0}]
["Fuentes Fijas",null,"Óxidos de nitrógeno, Dióxido de azufre y diluyentes en turbinas de gas estacionarias (USEPA 20)",null,{"$f":"COUNTIF(Alcance!$E1536,E$1170)","v":0},{"$f":"COUNTIF(Alcance!$E1536,F$1170)","v":0},{"$f":"COUNTIF(Alcance!$E1536,G$1170)","v":0},{"$f":"COUNTIF(Alcance!$E1536,H$1170)","v":0},{"$f":"COUNTIF(Alcance!$E1536,I$1170)","v":0},{"$f":"COUNTIF(Alcance!$E1536,J$1170)","v":0},{"$f":"COUNTIF(Alcance!$E1536,K$1170)","v":0},{"$f":"COUNTIF(Alcance!$E1536,L$1170)","v":0},{"$f":"COUNTIF(Alcance!$E1536,M$1170)","v":0},{"$f":"COUNTIF(Alcance!$E1536,N$1170)","v":0},{"$f":"COUNTIF(Alcance!$E1536,O$1170)","v":0},{"$f":"COUNTIF(Alcance!$E1536,P$1170)","v":0},0,1.25,1,null,0]
["Fuentes Fijas",null,"Dibenzo–p–Dioxinas Policloradas y Dibenzofuranos policlorados en incineradores de residuos (USEPA 23)",null,{"$f":"COUNTIF(Alcance!$E1537,E$1170)","v":0},{"$f":"COUNTIF(Alcance!$E1537,F$1170)","v":0},{"$f":"COUNTIF(Alcance!$E1537,G$1170)","v":0},{"$f":"COUNTIF(Alcance!$E1537,H$1170)","v":0},{"$f":"COUNTIF(Alcance!$E1537,I$1170)","v":0},{"$f":"COUNTIF(Alcance!$E1537,J$1170)","v":0},{"$f":"COUNTIF(Alcance!$E1537,K$1170)","v":0},{"$f":"COUNTIF(Alcance!$E1537,L$1170)","v":0},{"$f":"COUNTIF(Alcance!$E1537,M$1170)","v":0},{"$f":"COUNTIF(Alcance!$E1537,N$1170)","v":0},{"$f":"COUNTIF(Alcance!$E1537,O$1170)","v":0},{"$f":"COUNTIF(Alcance!$E1537,P$1170)","v":0},0,1.25,1,null,0]
["Fuentes Fijas",null,"Dibenzo (a,h) Antraceno y Benzo (a) Pireno",null,{"$f":"COUNTIF(Alcance!$E1538,E$1170)","v":0},{"$f":"COUNTIF(Alcance!$E1538,F$1170)","v":0},{"$f":"COUNTIF(Alcance!$E1538,G$1170)","v":0},{"$f":"COUNTIF(Alcance!$E1538,H$1170)","v":0},{"$f":"COUNTIF(Alcance!$E1538,I$1170)","v":0},{"$f":"COUNTIF(Alcance!$E1538,J$1170)","v":0},{"$f":"COUNTIF(Alcance!$E1538,K$1170)","v":0},{"$f":"COUNTIF(Alcance!$E1538,L$1170)","v":0},{"$f":"COUNTIF(Alcance!$E1538,M$1170)","v":0},{"$f":"COUNTIF(Alcance!$E1538,N$1170)","v":0},{"$f":"COUNTIF(Alcance!$E1538,O$1170)","v":0},{"$f":"COUNTIF(Alcance!$E1538,P$1170)","v":0},0,1.25,1,null,0]
["Fuentes Fijas",null,"Contenido de material volátil, contenido de agua, densidad, volumen de sólidos y peso de sólidos en la actividad de recubrimiento de superficies (USEPA 24)",null,{"$f":"COUNTIF(Alcance!$E1539,E$1170)","v":0},{"$f":"COUNTIF(Alcance!$E1539,F$1170)","v":0},{"$f":"COUNTIF(Alcance!$E1539,G$1170)","v":0},{"$f":"COUNTIF(Alcance!$E1539,H$1170)","v":0},{"$f":"COUNTIF(Alcance!$E1539,I$1170)","v":0},{"$f":"COUNTIF(Alcance!$E1539,J$1170)","v":0},{"$f":"COUNTIF(Alcance!$E1539,K$1170)","v":0},{"$f":"COUNTIF(Alcance!$E1539,L$1170)","v":0},{"$f":"COUNTIF(Alcance!$E1539,M$1170)","v":0},{"$f":"COUNTIF(Alcance!$E1539,N$1170)","v":0},{"$f":"COUNTIF(Alcance!$E1539,O$1170)","v":0},{"$f":"COUNTIF(Alcance!$E1539,P$1170)","v":0},0,1.25,1,null,0]
["Fuentes Fijas",null,"Contenido y densidad del material volátil en la actividad de recubrimiento de tintas por rotograbado y publicaciones rotograbadas relacionadas (USEPA 24A)",null,{"$f":"COUNTIF(Alcance!$E1540,E$1170)","v":0},{"$f":"COUNTIF(Alcance!$E1540,F$1170)","v":0},{"$f":"COUNTIF(Alcance!$E1540,G$1170)","v":0},{"$f":"COUNTIF(Alcance!$E1540,H$1170)","v":0},{"$f":"COUNTIF(Alcance!$E1540,I$1170)","v":0},{"$f":"COUNTIF(Alcance!$E1540,J$1170)","v":0},{"$f":"COUNTIF(Alcance!$E1540,K$1170)","v":0},{"$f":"COUNTIF(Alcance!$E1540,L$1170)","v":0},{"$f":"COUNTIF(Alcance!$E1540,M$1170)","v":0},{"$f":"COUNTIF(Alcance!$E1540,N$1170)","v":0},{"$f":"COUNTIF(Alcance!$E1540,O$1170)","v":0},{"$f":"COUNTIF(Alcance!$E1540,P$1170)","v":0},0,1.25,1,null,0]
["Fuentes Fijas",null,"Emisiones gaseosas orgánicas totales diferentes al metano dadas como carbón (USEPA 25)",null,{"$f":"COUNTIF(Alcance!$E1541,E$1170)","v":0},{"$f":"COUNTIF(Alcance!$E1541,F$1170)","v":0},{"$f":"COUNTIF(Alcance!$E1541,G$1170)","v":0},{"$f":"COUNTIF(Alcance!$E1541,H$1170)","v":0},{"$f":"COUNTIF(Alcance!$E1541,I$1170)","v":0},{"$f":"COUNTIF(Alcance!$E1541,J$1170)","v":0},{"$f":"COUNTIF(Alcance!$E1541,K$1170)","v":0},{"$f":"COUNTIF(Alcance!$E1541,L$1170)","v":0},{"$f":"COUNTIF(Alcance!$E1541,M$1170)","v":0},{"$f":"COUNTIF(Alcance!$E1541,N$1170)","v":0},{"$f":"COUNTIF(Alcance!$E1541,O$1170)","v":0},{"$f":"COUNTIF(Alcance!$E1541,P$1170)","v":0},0,1.25,1,null,0]
["Fuentes Fijas",null,"Concentración gaseosa orgánica total empleando un analizador de ionización de llama (USEPA 25A)",null,{"$f":"COUNTIF(Alcance!$E1542,E$1170)","v":0},{"$f":"COUNTIF(Alcance!$E1542,F$1170)","v":0},{"$f":"COUNTIF(Alcance!$E1542,G$1170)","v":0},{"$f":"COUNTIF(Alcance!$E1542,H$1170)","v":0},{"$f":"COUNTIF(Alcance!$E1542,I$1170)","v":0},{"$f":"COUNTIF(Alcance!$E1542,J$1170)","v":0},{"$f":"COUNTIF(Alcance!$E1542,K$1170)","v":0},{"$f":"COUNTIF(Alcance!$E1542,L$1170)","v":0},{"$f":"COUNTIF(Alcance!$E1542,M$1170)","v":0},{"$f":"COUNTIF(Alcance!$E1542,N$1170)","v":0},{"$f":"COUNTIF(Alcance!$E1542,O$1170)","v":0},{"$f":"COUNTIF(Alcance!$E1542,P$1170)","v":0},0,1.25,0,null,0]
["Fuentes Fijas",null,"Concentración gaseosa orgánica total empleando unanalizador de infrarrojo no dispersivo (USEPA 25B)",null,{"$f":"COUNTIF(Alcance!$E1543,E$1170)","v":0},{"$f":"COUNTIF(Alcance!$E1543,F$1170)","v":0},{"$f":"COUNTIF(Alcance!$E1543,G$1170)","v":0},{"$f":"COUNTIF(Alcance!$E1543,H$1170)","v":0},{"$f":"COUNTIF(Alcance!$E1543,I$1170)","v":0},{"$f":"COUNTIF(Alcance!$E1543,J$1170)","v":0},{"$f":"COUNTIF(Alcance!$E1543,K$1170)","v":0},{"$f":"COUNTIF(Alcance!$E1543,L$1170)","v":0},{"$f":"COUNTIF(Alcance!$E1543,M$1170)","v":0},{"$f":"COUNTIF(Alcance!$E1543,N$1170)","v":0},{"$f":"COUNTIF(Alcance!$E1543,O$1170)","v":0},{"$f":"COUNTIF(Alcance!$E1543,P$1170)","v":0},0,1.25,0,null,0]
["Fuentes Fijas",null,"Compuestos orgánicos diferentes al metano en gases de rellenos sanitarios (USEPA 25C)",null,{"$f":"COUNTIF(Alcance!$E1544,E$1170)","v":0},{"$f":"COUNTIF(Alcance!$E1544,F$1170)","v":0},{"$f":"COUNTIF(Alcance!$E1544,G$1170)","v":0},{"$f":"COUNTIF(Alcance!$E1544,H$1170)","v":0},{"$f":"COUNTIF(Alcance!$E1544,I$1170)","v":0},{"$f":"COUNTIF(Alcance!$E1544,J$1170)","v":0},{"$f":"COUNTIF(Alcance!$E1544,K$1170)","v":0},{"$f":"COUNTIF(Alcance!$E1544,L$1170)","v":0},{"$f":"COUNTIF(Alcance!$E1544,M$1170)","v":0},{"$f":"COUNTIF(Alcance!$E1544,N$1170)","v":0},{"$f":"COUNTIF(Alcance!$E1544,O$1170)","v":0},{"$f":"COUNTIF(Alcance!$E1544,P$1170)","v":0},0,1.25,1,null,0]
["Fuentes Fijas",null,"Haluros de hidrógeno y Halógenos (Método no isocinético) (USEPA 26)",null,{"$f":"COUNTIF(Alcance!$E1545,E$1170)","v":0},{"$f":"COUNTIF(Alcance!$E1545,F$1170)","v":0},{"$f":"COUNTIF(Alcance!$E1545,G$1170)","v":0},{"$f":"COUNTIF(Alcance!$E1545,H$1170)","v":0},{"$f":"COUNTIF(Alcance!$E1545,I$1170)","v":0},{"$f":"COUNTIF(Alcance!$E1545,J$1170)","v":0},{"$f":"COUNTIF(Alcance!$E1545,K$1170)","v":0},{"$f":"COUNTIF(Alcance!$E1545,L$1170)","v":0},{"$f":"COUNTIF(Alcance!$E1545,M$1170)","v":0},{"$f":"COUNTIF(Alcance!$E1545,N$1170)","v":0},{"$f":"COUNTIF(Alcance!$E1545,O$1170)","v":0},{"$f":"COUNTIF(Alcance!$E1545,P$1170)","v":0},0,1.25,1,null,0]
["Fuentes Fijas",null,"Haluros de hidrógeno y Halógenos  (Método isocinético) (USEPA 26A)",null,{"$f":"COUNTIF(Alcance!$E1546,E$1170)","v":0},{"$f":"COUNTIF(Alcance!$E1546,F$1170)","v":0},{"$f":"COUNTIF(Alcance!$E1546,G$1170)","v":0},{"$f":"COUNTIF(Alcance!$E1546,H$1170)","v":0},{"$f":"COUNTIF(Alcance!$E1546,I$1170)","v":0},{"$f":"COUNTIF(Alcance!$E1546,J$1170)","v":0},{"$f":"COUNTIF(Alcance!$E1546,K$1170)","v":0},{"$f":"COUNTIF(Alcance!$E1546,L$1170)","v":0},{"$f":"COUNTIF(Alcance!$E1546,M$1170)","v":0},{"$f":"COUNTIF(Alcance!$E1546,N$1170)","v":0},{"$f":"COUNTIF(Alcance!$E1546,O$1170)","v":0},{"$f":"COUNTIF(Alcance!$E1546,P$1170)","v":0},0,1.25,1,null,0]
["Fuentes Fijas",null,"Metales (USEPA 29). Indicar cuáles",null,{"$f":"COUNTIF(Alcance!$E1547,E$1170)","v":0},{"$f":"COUNTIF(Alcance!$E1547,F$1170)","v":0},{"$f":"COUNTIF(Alcance!$E1547,G$1170)","v":0},{"$f":"COUNTIF(Alcance!$E1547,H$1170)","v":0},{"$f":"COUNTIF(Alcance!$E1547,I$1170)","v":0},{"$f":"COUNTIF(Alcance!$E1547,J$1170)","v":0},{"$f":"COUNTIF(Alcance!$E1547,K$1170)","v":0},{"$f":"COUNTIF(Alcance!$E1547,L$1170)","v":0},{"$f":"COUNTIF(Alcance!$E1547,M$1170)","v":0},{"$f":"COUNTIF(Alcance!$E1547,N$1170)","v":0},{"$f":"COUNTIF(Alcance!$E1547,O$1170)","v":0},{"$f":"COUNTIF(Alcance!$E1547,P$1170)","v":0},0,1.25,null,null,{"$f":"IF((F1227+I1227+L1227+O1227)>0,R1227,0)","v":0}]
["Fuentes Fijas",null,"Antimonio",null,{"$f":"COUNTIF(Alcance!$E1548,E$1170)","v":0},{"$f":"COUNTIF(Alcance!$E1548,F$1170)","v":0},{"$f":"COUNTIF(Alcance!$E1548,G$1170)","v":0},{"$f":"COUNTIF(Alcance!$E1548,H$1170)","v":0},{"$f":"COUNTIF(Alcance!$E1548,I$1170)","v":0},{"$f":"COUNTIF(Alcance!$E1548,J$1170)","v":0},{"$f":"COUNTIF(Alcance!$E1548,K$1170)","v":0},{"$f":"COUNTIF(Alcance!$E1548,L$1170)","v":0},{"$f":"COUNTIF(Alcance!$E1548,M$1170)","v":0},{"$f":"COUNTIF(Alcance!$E1548,N$1170)","v":0},{"$f":"COUNTIF(Alcance!$E1548,O$1170)","v":0},{"$f":"COUNTIF(Alcance!$E1548,P$1170)","v":0},0,0.5,null,null,{"$f":"IF((E1228+H1228+K1228+N1228)>0,R1228,0)","v":0}]
["Fuentes Fijas",null,"Arsenico",null,{"$f":"COUNTIF(Alcance!$E1549,E$1170)","v":0},{"$f":"COUNTIF(Alcance!$E1549,F$1170)","v":0},{"$f":"COUNTIF(Alcance!$E1549,G$1170)","v":0},{"$f":"COUNTIF(Alcance!$E1549,H$1170)","v":0},{"$f":"COUNTIF(Alcance!$E1549,I$1170)","v":0},{"$f":"COUNTIF(Alcance!$E1549,J$1170)","v":0},{"$f":"COUNTIF(Alcance!$E1549,K$1170)","v":0},{"$f":"COUNTIF(Alcance!$E1549,L$1170)","v":0},{"$f":"COUNTIF(Alcance!$E1549,M$1170)","v":0},{"$f":"COUNTIF(Alcance!$E1549,N$1170)","v":0},{"$f":"COUNTIF(Alcance!$E1549,O$1170)","v":0},{"$f":"COUNTIF(Alcance!$E1549,P$1170)","v":0},0,0.5,null,null,0]
["Fuentes Fijas",null,"Bario ",null,{"$f":"COUNTIF(Alcance!$E1550,E$1170)","v":0},{"$f":"COUNTIF(Alcance!$E1550,F$1170)","v":0},{"$f":"COUNTIF(Alcance!$E1550,G$1170)","v":0},{"$f":"COUNTIF(Alcance!$E1550,H$1170)","v":0},{"$f":"COUNTIF(Alcance!$E1550,I$1170)","v":0},{"$f":"COUNTIF(Alcance!$E1550,J$1170)","v":0},{"$f":"COUNTIF(Alcance!$E1550,K$1170)","v":0},{"$f":"COUNTIF(Alcance!$E1550,L$1170)","v":0},{"$f":"COUNTIF(Alcance!$E1550,M$1170)","v":0},{"$f":"COUNTIF(Alcance!$E1550,N$1170)","v":0},{"$f":"COUNTIF(Alcance!$E1550,O$1170)","v":0},{"$f":"COUNTIF(Alcance!$E1550,P$1170)","v":0},0,0.5,null,null,0]
["Fuentes Fijas",null,"Berilio",null,{"$f":"COUNTIF(Alcance!$E1551,E$1170)","v":0},{"$f":"COUNTIF(Alcance!$E1551,F$1170)","v":0},{"$f":"COUNTIF(Alcance!$E1551,G$1170)","v":0},{"$f":"COUNTIF(Alcance!$E1551,H$1170)","v":0},{"$f":"COUNTIF(Alcance!$E1551,I$1170)","v":0},{"$f":"COUNTIF(Alcance!$E1551,J$1170)","v":0},{"$f":"COUNTIF(Alcance!$E1551,K$1170)","v":0},{"$f":"COUNTIF(Alcance!$E1551,L$1170)","v":0},{"$f":"COUNTIF(Alcance!$E1551,M$1170)","v":0},{"$f":"COUNTIF(Alcance!$E1551,N$1170)","v":0},{"$f":"COUNTIF(Alcance!$E1551,O$1170)","v":0},{"$f":"COUNTIF(Alcance!$E1551,P$1170)","v":0},0,0.5,null,null,0]
["Fuentes Fijas",null,"Cadmio ",null,{"$f":"COUNTIF(Alcance!$E1552,E$1170)","v":0},{"$f":"COUNTIF(Alcance!$E1552,F$1170)","v":0},{"$f":"COUNTIF(Alcance!$E1552,G$1170)","v":0},{"$f":"COUNTIF(Alcance!$E1552,H$1170)","v":0},{"$f":"COUNTIF(Alcance!$E1552,I$1170)","v":0},{"$f":"COUNTIF(Alcance!$E1552,J$1170)","v":0},{"$f":"COUNTIF(Alcance!$E1552,K$1170)","v":0},{"$f":"COUNTIF(Alcance!$E1552,L$1170)","v":0},{"$f":"COUNTIF(Alcance!$E1552,M$1170)","v":0},{"$f":"COUNTIF(Alcance!$E1552,N$1170)","v":0},{"$f":"COUNTIF(Alcance!$E1552,O$1170)","v":0},{"$f":"COUNTIF(Alcance!$E1552,P$1170)","v":0},0,0.5,null,null,0]
["Fuentes Fijas",null,"Cromo ",null,{"$f":"COUNTIF(Alcance!$E1553,E$1170)","v":0},{"$f":"COUNTIF(Alcance!$E1553,F$1170)","v":0},{"$f":"COUNTIF(Alcance!$E1553,G$1170)","v":0},{"$f":"COUNTIF(Alcance!$E1553,H$1170)","v":0},{"$f":"COUNTIF(Alcance!$E1553,I$1170)","v":0},{"$f":"COUNTIF(Alcance!$E1553,J$1170)","v":0},{"$f":"COUNTIF(Alcance!$E1553,K$1170)","v":0},{"$f":"COUNTIF(Alcance!$E1553,L$1170)","v":0},{"$f":"COUNTIF(Alcance!$E1553,M$1170)","v":0},{"$f":"COUNTIF(Alcance!$E1553,N$1170)","v":0},{"$f":"COUNTIF(Alcance!$E1553,O$1170)","v":0},{"$f":"COUNTIF(Alcance!$E1553,P$1170)","v":0},0,0.5,null,null,0]
["Fuentes Fijas",null,"Cobalto ",null,{"$f":"COUNTIF(Alcance!$E1554,E$1170)","v":0},{"$f":"COUNTIF(Alcance!$E1554,F$1170)","v":0},{"$f":"COUNTIF(Alcance!$E1554,G$1170)","v":0},{"$f":"COUNTIF(Alcance!$E1554,H$1170)","v":0},{"$f":"COUNTIF(Alcance!$E1554,I$1170)","v":0},{"$f":"COUNTIF(Alcance!$E1554,J$1170)","v":0},{"$f":"COUNTIF(Alcance!$E1554,K$1170)","v":0},{"$f":"COUNTIF(Alcance!$E1554,L$1170)","v":0},{"$f":"COUNTIF(Alcance!$E1554,M$1170)","v":0},{"$f":"COUNTIF(Alcance!$E1554,N$1170)","v":0},{"$f":"COUNTIF(Alcance!$E1554,O$1170)","v":0},{"$f":"COUNTIF(Alcance!$E1554,P$1170)","v":0},0,0.5,null,null,0]
["Fuentes Fijas",null,"Cobre",null,{"$f":"COUNTIF(Alcance!$E1555,E$1170)","v":0},{"$f":"COUNTIF(Alcance!$E1555,F$1170)","v":0},{"$f":"COUNTIF(Alcance!$E1555,G$1170)","v":0},{"$f":"COUNTIF(Alcance!$E1555,H$1170)","v":0},{"$f":"COUNTIF(Alcance!$E1555,I$1170)","v":0},{"$f":"COUNTIF(Alcance!$E1555,J$1170)","v":0},{"$f":"COUNTIF(Alcance!$E1555,K$1170)","v":0},{"$f":"COUNTIF(Alcance!$E1555,L$1170)","v":0},{"$f":"COUNTIF(Alcance!$E1555,M$1170)","v":0},{"$f":"COUNTIF(Alcance!$E1555,N$1170)","v":0},{"$f":"COUNTIF(Alcance!$E1555,O$1170)","v":0},{"$f":"COUNTIF(Alcance!$E1555,P$1170)","v":0},0,0.5,null,null,0]
["Fuentes Fijas",null,"Plomo",null,{"$f":"COUNTIF(Alcance!$E1556,E$1170)","v":0},{"$f":"COUNTIF(Alcance!$E1556,F$1170)","v":0},{"$f":"COUNTIF(Alcance!$E1556,G$1170)","v":0},{"$f":"COUNTIF(Alcance!$E1556,H$1170)","v":0},{"$f":"COUNTIF(Alcance!$E1556,I$1170)","v":0},{"$f":"COUNTIF(Alcance!$E1556,J$1170)","v":0},{"$f":"COUNTIF(Alcance!$E1556,K$1170)","v":0},{"$f":"COUNTIF(Alcance!$E1556,L$1170)","v":0},{"$f":"COUNTIF(Alcance!$E1556,M$1170)","v":0},{"$f":"COUNTIF(Alcance!$E1556,N$1170)","v":0},{"$f":"COUNTIF(Alcance!$E1556,O$1170)","v":0},{"$f":"COUNTIF(Alcance!$E1556,P$1170)","v":0},0,0.5,null,null,0]
["Fuentes Fijas",null,"Manganeso ",null,{"$f":"COUNTIF(Alcance!$E1557,E$1170)","v":0},{"$f":"COUNTIF(Alcance!$E1557,F$1170)","v":0},{"$f":"COUNTIF(Alcance!$E1557,G$1170)","v":0},{"$f":"COUNTIF(Alcance!$E1557,H$1170)","v":0},{"$f":"COUNTIF(Alcance!$E1557,I$1170)","v":0},{"$f":"COUNTIF(Alcance!$E1557,J$1170)","v":0},{"$f":"COUNTIF(Alcance!$E1557,K$1170)","v":0},{"$f":"COUNTIF(Alcance!$E1557,L$1170)","v":0},{"$f":"COUNTIF(Alcance!$E1557,M$1170)","v":0},{"$f":"COUNTIF(Alcance!$E1557,N$1170)","v":0},{"$f":"COUNTIF(Alcance!$E1557,O$1170)","v":0},{"$f":"COUNTIF(Alcance!$E1557,P$1170)","v":0},0,0.5,null,null,0]
["Fuentes Fijas",null,"Mercurio",null,{"$f":"COUNTIF(Alcance!$E1558,E$1170)","v":0},{"$f":"COUNTIF(Alcance!$E1558,F$1170)","v":0},{"$f":"COUNTIF(Alcance!$E1558,G$1170)","v":0},{"$f":"COUNTIF(Alcance!$E1558,H$1170)","v":0},{"$f":"COUNTIF(Alcance!$E1558,I$1170)","v":0},{"$f":"COUNTIF(Alcance!$E1558,J$1170)","v":0},{"$f":"COUNTIF(Alcance!$E1558,K$1170)","v":0},{"$f":"COUNTIF(Alcance!$E1558,L$1170)","v":0},{"$f":"COUNTIF(Alcance!$E1558,M$1170)","v":0},{"$f":"COUNTIF(Alcance!$E1558,N$1170)","v":0},{"$f":"COUNTIF(Alcance!$E1558,O$1170)","v":0},{"$f":"COUNTIF(Alcance!$E1558,P$1170)","v":0},0,0.5,null,null,0]
["Fuentes Fijas",null,"Niquel ",null,{"$f":"COUNTIF(Alcance!$E1559,E$1170)","v":0},{"$f":"COUNTIF(Alcance!$E1559,F$1170)","v":0},{"$f":"COUNTIF(Alcance!$E1559,G$1170)","v":0},{"$f":"COUNTIF(Alcance!$E1559,H$1170)","v":0},{"$f":"COUNTIF(Alcance!$E1559,I$1170)","v":0},{"$f":"COUNTIF(Alcance!$E1559,J$1170)","v":0},{"$f":"COUNTIF(Alcance!$E1559,K$1170)","v":0},{"$f":"COUNTIF(Alcance!$E1559,L$1170)","v":0},{"$f":"COUNTIF(Alcance!$E1559,M$1170)","v":0},{"$f":"COUNTIF(Alcance!$E1559,N$1170)","v":0},{"$f":"COUNTIF(Alcance!$E1559,O$1170)","v":0},{"$f":"COUNTIF(Alcance!$E1559,P$1170)","v":0},0,0.5,null,null,0]
["Fuentes Fijas",null,"Fosforo ",null,{"$f":"COUNTIF(Alcance!$E1560,E$1170)","v":0},{"$f":"COUNTIF(Alcance!$E1560,F$1170)","v":0},{"$f":"COUNTIF(Alcance!$E1560,G$1170)","v":0},{"$f":"COUNTIF(Alcance!$E1560,H$1170)","v":0},{"$f":"COUNTIF(Alcance!$E1560,I$1170)","v":0},{"$f":"COUNTIF(Alcance!$E1560,J$1170)","v":0},{"$f":"COUNTIF(Alcance!$E1560,K$1170)","v":0},{"$f":"COUNTIF(Alcance!$E1560,L$1170)","v":0},{"$f":"COUNTIF(Alcance!$E1560,M$1170)","v":0},{"$f":"COUNTIF(Alcance!$E1560,N$1170)","v":0},{"$f":"COUNTIF(Alcance!$E1560,O$1170)","v":0},{"$f":"COUNTIF(Alcance!$E1560,P$1170)","v":0},0,0.5,null,null,0]
["Fuentes Fijas",null,"Selenio",null,{"$f":"COUNTIF(Alcance!$E1561,E$1170)","v":0},{"$f":"COUNTIF(Alcance!$E1561,F$1170)","v":0},{"$f":"COUNTIF(Alcance!$E1561,G$1170)","v":0},{"$f":"COUNTIF(Alcance!$E1561,H$1170)","v":0},{"$f":"COUNTIF(Alcance!$E1561,I$1170)","v":0},{"$f":"COUNTIF(Alcance!$E1561,J$1170)","v":0},{"$f":"COUNTIF(Alcance!$E1561,K$1170)","v":0},{"$f":"COUNTIF(Alcance!$E1561,L$1170)","v":0},{"$f":"COUNTIF(Alcance!$E1561,M$1170)","v":0},{"$f":"COUNTIF(Alcance!$E1561,N$1170)","v":0},{"$f":"COUNTIF(Alcance!$E1561,O$1170)","v":0},{"$f":"COUNTIF(Alcance!$E1561,P$1170)","v":0},0,0.5,null,null,0]
["Fuentes Fijas",null,"Plata",null,{"$f":"COUNTIF(Alcance!$E1562,E$1170)","v":0},{"$f":"COUNTIF(Alcance!$E1562,F$1170)","v":0},{"$f":"COUNTIF(Alcance!$E1562,G$1170)","v":0},{"$f":"COUNTIF(Alcance!$E1562,H$1170)","v":0},{"$f":"COUNTIF(Alcance!$E1562,I$1170)","v":0},{"$f":"COUNTIF(Alcance!$E1562,J$1170)","v":0},{"$f":"COUNTIF(Alcance!$E1562,K$1170)","v":0},{"$f":"COUNTIF(Alcance!$E1562,L$1170)","v":0},{"$f":"COUNTIF(Alcance!$E1562,M$1170)","v":0},{"$f":"COUNTIF(Alcance!$E1562,N$1170)","v":0},{"$f":"COUNTIF(Alcance!$E1562,O$1170)","v":0},{"$f":"COUNTIF(Alcance!$E1562,P$1170)","v":0},0,0.5,null,null,0]
["Fuentes Fijas",null,"Talio",null,{"$f":"COUNTIF(Alcance!$E1563,E$1170)","v":0},{"$f":"COUNTIF(Alcance!$E1563,F$1170)","v":0},{"$f":"COUNTIF(Alcance!$E1563,G$1170)","v":0},{"$f":"COUNTIF(Alcance!$E1563,H$1170)","v":0},{"$f":"COUNTIF(Alcance!$E1563,I$1170)","v":0},{"$f":"COUNTIF(Alcance!$E1563,J$1170)","v":0},{"$f":"COUNTIF(Alcance!$E1563,K$1170)","v":0},{"$f":"COUNTIF(Alcance!$E1563,L$1170)","v":0},{"$f":"COUNTIF(Alcance!$E1563,M$1170)","v":0},{"$f":"COUNTIF(Alcance!$E1563,N$1170)","v":0},{"$f":"COUNTIF(Alcance!$E1563,O$1170)","v":0},{"$f":"COUNTIF(Alcance!$E1563,P$1170)","v":0},0,0.5,null,null,0]
["Fuentes Fijas",null,"Zinc",null,{"$f":"COUNTIF(Alcance!$E1564,E$1170)","v":0},{"$f":"COUNTIF(Alcance!$E1564,F$1170)","v":0},{"$f":"COUNTIF(Alcance!$E1564,G$1170)","v":0},{"$f":"COUNTIF(Alcance!$E1564,H$1170)","v":0},{"$f":"COUNTIF(Alcance!$E1564,I$1170)","v":0},{"$f":"COUNTIF(Alcance!$E1564,J$1170)","v":0},{"$f":"COUNTIF(Alcance!$E1564,K$1170)","v":0},{"$f":"COUNTIF(Alcance!$E1564,L$1170)","v":0},{"$f":"COUNTIF(Alcance!$E1564,M$1170)","v":0},{"$f":"COUNTIF(Alcance!$E1564,N$1170)","v":0},{"$f":"COUNTIF(Alcance!$E1564,O$1170)","v":0},{"$f":"COUNTIF(Alcance!$E1564,P$1170)","v":0},0,0.5,null,null,0]
["Fuentes Fijas",null,"Recolección y análisis de Amonio",null,{"$f":"COUNTIF(Alcance!$E1565,E$1170)","v":0},{"$f":"COUNTIF(Alcance!$E1565,F$1170)","v":0},{"$f":"COUNTIF(Alcance!$E1565,G$1170)","v":0},{"$f":"COUNTIF(Alcance!$E1565,H$1170)","v":0},{"$f":"COUNTIF(Alcance!$E1565,I$1170)","v":0},{"$f":"COUNTIF(Alcance!$E1565,J$1170)","v":0},{"$f":"COUNTIF(Alcance!$E1565,K$1170)","v":0},{"$f":"COUNTIF(Alcance!$E1565,L$1170)","v":0},{"$f":"COUNTIF(Alcance!$E1565,M$1170)","v":0},{"$f":"COUNTIF(Alcance!$E1565,N$1170)","v":0},{"$f":"COUNTIF(Alcance!$E1565,O$1170)","v":0},{"$f":"COUNTIF(Alcance!$E1565,P$1170)","v":0},0,1.25,1,null,{"$f":"S1245*(E1245+H1245+K1245+N1245+G1245+J1245+M1245+P1245)+ R1245*(F1245+I1245+L1245+O1245+G1245+J1245+M1245+P1245)","v":0}]
["Fuentes Fijas",null,"PM10 (USEPA 201A)",null,{"$f":"COUNTIF(Alcance!$E1566,E$1170)","v":0},{"$f":"COUNTIF(Alcance!$E1566,F$1170)","v":0},{"$f":"COUNTIF(Alcance!$E1566,G$1170)","v":0},{"$f":"COUNTIF(Alcance!$E1566,H$1170)","v":0},{"$f":"COUNTIF(Alcance!$E1566,I$1170)","v":0},{"$f":"COUNTIF(Alcance!$E1566,J$1170)","v":0},{"$f":"COUNTIF(Alcance!$E1566,K$1170)","v":0},{"$f":"COUNTIF(Alcance!$E1566,L$1170)","v":0},{"$f":"COUNTIF(Alcance!$E1566,M$1170)","v":0},{"$f":"COUNTIF(Alcance!$E1566,N$1170)","v":0},{"$f":"COUNTIF(Alcance!$E1566,O$1170)","v":0},{"$f":"COUNTIF(Alcance!$E1566,P$1170)","v":0},0,1.25,1,null,0,"Total Parámetros Calculados",{"$f":"SUM(U1171:U1248)","v":0}]
["Fuentes Fijas Analitos USEPA 18",null,"Analitos usepa 18",null,{"$f":"COUNTIF(Alcance!$E$1567:$F$1591,E$1170)","v":0},{"$f":"COUNTIF(Alcance!$E$1567:$F$1591,F$1170)","v":0},{"$f":"COUNTIF(Alcance!$E$1567:$F$1591,G$1170)","v":0},{"$f":"COUNTIF(Alcance!$E$1567:$F$1591,H$1170)","v":0},{"$f":"COUNTIF(Alcance!$E$1567:$F$1591,I$1170)","v":0},{"$f":"COUNTIF(Alcance!$E$1567:$F$1591,J$1170)","v":0},{"$f":"COUNTIF(Alcance!$E$1567:$F$1591,K$1170)","v":0},{"$f":"COUNTIF(Alcance!$E$1567:$F$1591,L$1170)","v":0},{"$f":"COUNTIF(Alcance!$E$1567:$F$1591,M$1170)","v":0},{"$f":"COUNTIF(Alcance!$E$1567:$F$1591,N$1170)","v":0},{"$f":"COUNTIF(Alcance!$E$1567:$F$1591,O$1170)","v":0},{"$f":"COUNTIF(Alcance!$E$1567:$F$1591,P$1170)","v":0},0,0.5,null,null,{"$f":"Q1247*R1247","v":0}]
["Otras variables en Fuentes Fijas",null,"Especificado por el usuario",null,{"$f":"COUNTIF(Alcance!$E$1592:$F$1608,E$1170)","v":0},{"$f":"COUNTIF(Alcance!$E$1592:$F$1608,F$1170)","v":0},{"$f":"COUNTIF(Alcance!$E$1592:$F$1608,G$1170)","v":0},{"$f":"COUNTIF(Alcance!$E$1592:$F$1608,H$1170)","v":0},{"$f":"COUNTIF(Alcance!$E$1592:$F$1608,I$1170)","v":0},{"$f":"COUNTIF(Alcance!$E$1592:$F$1608,J$1170)","v":0},{"$f":"COUNTIF(Alcance!$E$1592:$F$1608,K$1170)","v":0},{"$f":"COUNTIF(Alcance!$E$1592:$F$1608,L$1170)","v":0},{"$f":"COUNTIF(Alcance!$E$1592:$F$1608,M$1170)","v":0},{"$f":"COUNTIF(Alcance!$E$1592:$F$1608,N$1170)","v":0},{"$f":"COUNTIF(Alcance!$E$1592:$F$1608,O$1170)","v":0},{"$f":"COUNTIF(Alcance!$E$1592:$F$1608,P$1170)","v":0},0,1.25,1,null,{"$f":"S1248*(E1248+H1248+K1248+N1248+G1248+J1248+M1248+P1248)+R1248*(F1248+I1248+L1248+O1248+G1248+J1248+M1248+P1248)","v":0}]
["TOTALES",null,null,null,{"$f":"SUM(E1171:E1248)","v":0},0,0,0,0,0,0,0,0,0,0,0,0]
[]
["MATRIZ AIRE - INMISIONES O CALIDAD DEL AIRE"]
["18. Matriz / Grupo",null,"19. Variable",null,"INICIAL - ANÁLISIS DE LABORATORIO","INICIAL - TOMA DE MUESTRA","INICIAL - TOMA DE MUESTRA Y ANÁLISIS","SEGUIMIENTO - ANÁLISIS DE LABORATORIO","SEGUIMIENTO - TOMA DE MUESTRA","SEGUIMIENTO - TOMA DE MUESTRA Y ANÁLISIS","RENOVACIÓN - ANÁLISIS DE LABORATORIO","RENOVACIÓN - TOMA DE MUESTRA","RENOVACIÓN - TOMA DE MUESTRA Y ANÁLISIS","EXTENSIÓN - ANÁLISIS DE LABORATORIO","EXTENSIÓN - TOMA DE MUESTRA","EXTENSIÓN - TOMA DE MUESTRA Y ANÁLISIS","Total Variables","Equivalencia en Parámetros /toma de muestra","Equivalencia solo análisis",null,"Parámetros Calculados","No. De Equipos"]
["Calidad de Aire",null,"Partículas Suspendidas Totales",null,{"$f":"COUNTIF(Alcance!$E1613,E$1252)","v":0},{"$f":"COUNTIF(Alcance!$E1613,F$1252)","v":0},{"$f":"COUNTIF(Alcance!$E1613,G$1252)","v":0},{"$f":"COUNTIF(Alcance!$E1613,H$1252)","v":0},{"$f":"COUNTIF(Alcance!$E1613,I$1252)","v":0},{"$f":"COUNTIF(Alcance!$E1613,J$1252)","v":0},{"$f":"COUNTIF(Alcance!$E1613,K$1252)","v":0},{"$f":"COUNTIF(Alcance!$E1613,L$1252)","v":0},{"$f":"COUNTIF(Alcance!$E1613,M$1252)","v":0},{"$f":"COUNTIF(Alcance!$E1613,N$1252)","v":0},{"$f":"COUNTIF(Alcance!$E1613,O$1252)","v":0},{"$f":"COUNTIF(Alcance!$E1613,P$1252)","v":0},{"$f":"SUM(E1253:P1253)","v":0},0.8,1,null,{"$f":"S1253*(E1253+H1253+K1253+N1253+G1253+J1253+M1253+P1253)+R1253*V1253*(F1253+I1253+L1253+O1253+G1253+J1253+M1253+P1253)","v":0},{"$f":"Alcance!I1609","v":0}]
["Calidad de Aire",null,"Material Particulado como PM10",null,{"$f":"COUNTIF(Alcance!$E1614,E$1252)","v":0},{"$f":"COUNTIF(Alcance!$E1614,F$1252)","v":0},{"$f":"COUNTIF(Alcance!$E1614,G$1252)","v":0},{"$f":"COUNTIF(Alcance!$E1614,H$1252)","v":0},{"$f":"COUNTIF(Alcance!$E1614,I$1252)","v":0},{"$f":"COUNTIF(Alcance!$E1614,J$1252)","v":0},{"$f":"COUNTIF(Alcance!$E1614,K$1252)","v":0},{"$f":"COUNTIF(Alcance!$E1614,L$1252)","v":0},{"$f":"COUNTIF(Alcance!$E1614,M$1252)","v":0},{"$f":"COUNTIF(Alcance!$E1614,N$1252)","v":0},{"$f":"COUNTIF(Alcance!$E1614,O$1252)","v":0},{"$f":"COUNTIF(Alcance!$E1614,P$1252)","v":0},0,0.8,1,null,0,{"$f":"Alcance!I1610","v":0}]
["Calidad de Aire",null,"Material Particulado menor a 2,5 µm -  PM2,5",null,{"$f":"COUNTIF(Alcance!$E1615,E$1252)","v":0},{"$f":"COUNTIF(Alcance!$E1615,F$1252)","v":0},{"$f":"COUNTIF(Alcance!$E1615,G$1252)","v":0},{"$f":"COUNTIF(Alcance!$E1615,H$1252)","v":0},{"$f":"COUNTIF(Alcance!$E1615,I$1252)","v":0},{"$f":"COUNTIF(Alcance!$E1615,J$1252)","v":0},{"$f":"COUNTIF(Alcance!$E1615,K$1252)","v":0},{"$f":"COUNTIF(Alcance!$E1615,L$1252)","v":0},{"$f":"COUNTIF(Alcance!$E1615,M$1252)","v":0},{"$f":"COUNTIF(Alcance!$E1615,N$1252)","v":0},{"$f":"COUNTIF(Alcance!$E1615,O$1252)","v":0},{"$f":"COUNTIF(Alcance!$E1615,P$1252)","v":0},0,0.8,1,null,0,{"$f":"Alcance!I1611","v":0}]
["Calidad de Aire",null,"SO2",null,{"$f":"COUNTIF(Alcance!$E1616,E$1252)","v":0},{"$f":"COUNTIF(Alcance!$E1616,F$1252)","v":0},{"$f":"COUNTIF(Alcance!$E1616,G$1252)","v":0},{"$f":"COUNTIF(Alcance!$E1616,H$1252)","v":0},{"$f":"COUNTIF(Alcance!$E1616,I$1252)","v":0},{"$f":"COUNTIF(Alcance!$E1616,J$1252)","v":0},{"$f":"COUNTIF(Alcance!$E1616,K$1252)","v":0},{"$f":"COUNTIF(Alcance!$E1616,L$1252)","v":0},{"$f":"COUNTIF(Alcance!$E1616,M$1252)","v":0},{"$f":"COUNTIF(Alcance!$E1616,N$1252)","v":0},{"$f":"COUNTIF(Alcance!$E1616,O$1252)","v":0},{"$f":"COUNTIF(Alcance!$E1616,P$1252)","v":0},0,0.8,1,null,0,{"$f":"Alcance!I1612","v":0}]
["Calidad de Aire",null,"NO2",null,{"$f":"COUNTIF(Alcance!$E1617,E$1252)","v":0},{"$f":"COUNTIF(Alcance!$E1617,F$1252)","v":0},{"$f":"COUNTIF(Alcance!$E1617,G$1252)","v":0},{"$f":"COUNTIF(Alcance!$E1617,H$1252)","v":0},{"$f":"COUNTIF(Alcance!$E1617,I$1252)","v":0},{"$f":"COUNTIF(Alcance!$E1617,J$1252)","v":0},{"$f":"COUNTIF(Alcance!$E1617,K$1252)","v":0},{"$f":"COUNTIF(Alcance!$E1617,L$1252)","v":0},{"$f":"COUNTIF(Alcance!$E1617,M$1252)","v":0},{"$f":"COUNTIF(Alcance!$E1617,N$1252)","v":0},{"$f":"COUNTIF(Alcance!$E1617,O$1252)","v":0},{"$f":"COUNTIF(Alcance!$E1617,P$1252)","v":0},0,0.8,1,null,0,{"$f":"Alcance!I1613","v":0}]
["Calidad de Aire",null,"Monóxido de Carbono, CO",null,{"$f":"COUNTIF(Alcance!$E1618,E$1252)","v":0},{"$f":"COUNTIF(Alcance!$E1618,F$1252)","v":0},{"$f":"COUNTIF(Alcance!$E1618,G$1252)","v":0},{"$f":"COUNTIF(Alcance!$E1618,H$1252)","v":0},{"$f":"COUNTIF(Alcance!$E1618,I$1252)","v":0},{"$f":"COUNTIF(Alcance!$E1618,J$1252)","v":0},{"$f":"COUNTIF(Alcance!$E1618,K$1252)","v":0},{"$f":"COUNTIF(Alcance!$E1618,L$1252)","v":0},{"$f":"COUNTIF(Alcance!$E1618,M$1252)","v":0},{"$f":"COUNTIF(Alcance!$E1618,N$1252)","v":0},{"$f":"COUNTIF(Alcance!$E1618,O$1252)","v":0},{"$f":"COUNTIF(Alcance!$E1618,P$1252)","v":0},0,0.8,1,null,0,{"$f":"Alcance!I1614","v":0}]
["Calidad de Aire",null,"H2S",null,{"$f":"COUNTIF(Alcance!$E1619,E$1252)","v":0},{"$f":"COUNTIF(Alcance!$E1619,F$1252)","v":0},{"$f":"COUNTIF(Alcance!$E1619,G$1252)","v":0},{"$f":"COUNTIF(Alcance!$E1619,H$1252)","v":0},{"$f":"COUNTIF(Alcance!$E1619,I$1252)","v":0},{"$f":"COUNTIF(Alcance!$E1619,J$1252)","v":0},{"$f":"COUNTIF(Alcance!$E1619,K$1252)","v":0},{"$f":"COUNTIF(Alcance!$E1619,L$1252)","v":0},{"$f":"COUNTIF(Alcance!$E1619,M$1252)","v":0},{"$f":"COUNTIF(Alcance!$E1619,N$1252)","v":0},{"$f":"COUNTIF(Alcance!$E1619,O$1252)","v":0},{"$f":"COUNTIF(Alcance!$E1619,P$1252)","v":0},0,0.8,1,null,0,{"$f":"Alcance!I1615","v":0}]
["Calidad de Aire",null,"Plomo",null,{"$f":"COUNTIF(Alcance!$E1620,E$1252)","v":0},{"$f":"COUNTIF(Alcance!$E1620,F$1252)","v":0},{"$f":"COUNTIF(Alcance!$E1620,G$1252)","v":0},{"$f":"COUNTIF(Alcance!$E1620,H$1252)","v":0},{"$f":"COUNTIF(Alcance!$E1620,I$1252)","v":0},{"$f":"COUNTIF(Alcance!$E1620,J$1252)","v":0},{"$f":"COUNTIF(Alcance!$E1620,K$1252)","v":0},{"$f":"COUNTIF(Alcance!$E1620,L$1252)","v":0},{"$f":"COUNTIF(Alcance!$E1620,M$1252)","v":0},{"$f":"COUNTIF(Alcance!$E1620,N$1252)","v":0},{"$f":"COUNTIF(Alcance!$E1620,O$1252)","v":0},{"$f":"COUNTIF(Alcance!$E1620,P$1252)","v":0},0,0.8,1,null,0,{"$f":"Alcance!I1616","v":0}]
["Calidad de Aire",null,"Compuestos Orgánicos Volátiles, COVs (Incluidos Hidrocarburos)",null,{"$f":"COUNTIF(Alcance!$E1621,E$1252)","v":0},{"$f":"COUNTIF(Alcance!$E1621,F$1252)","v":0},{"$f":"COUNTIF(Alcance!$E1621,G$1252)","v":0},{"$f":"COUNTIF(Alcance!$E1621,H$1252)","v":0},{"$f":"COUNTIF(Alcance!$E1621,I$1252)","v":0},{"$f":"COUNTIF(Alcance!$E1621,J$1252)","v":0},{"$f":"COUNTIF(Alcance!$E1621,K$1252)","v":0},{"$f":"COUNTIF(Alcance!$E1621,L$1252)","v":0},{"$f":"COUNTIF(Alcance!$E1621,M$1252)","v":0},{"$f":"COUNTIF(Alcance!$E1621,N$1252)","v":0},{"$f":"COUNTIF(Alcance!$E1621,O$1252)","v":0},{"$f":"COUNTIF(Alcance!$E1621,P$1252)","v":0},0,0.8,null,null,0,{"$f":"Alcance!I1617","v":0}]
["Calidad de Aire",null,"Olfatometría Dinámica",null,{"$f":"COUNTIF(Alcance!$E1622,E$1252)","v":0},{"$f":"COUNTIF(Alcance!$E1622,F$1252)","v":0},{"$f":"COUNTIF(Alcance!$E1622,G$1252)","v":0},{"$f":"COUNTIF(Alcance!$E1622,H$1252)","v":0},{"$f":"COUNTIF(Alcance!$E1622,I$1252)","v":0},{"$f":"COUNTIF(Alcance!$E1622,J$1252)","v":0},{"$f":"COUNTIF(Alcance!$E1622,K$1252)","v":0},{"$f":"COUNTIF(Alcance!$E1622,L$1252)","v":0},{"$f":"COUNTIF(Alcance!$E1622,M$1252)","v":0},{"$f":"COUNTIF(Alcance!$E1622,N$1252)","v":0},{"$f":"COUNTIF(Alcance!$E1622,O$1252)","v":0},{"$f":"COUNTIF(Alcance!$E1622,P$1252)","v":0},{"$f":"G1262+J1262+M1262+P1262","v":0},2.5,null,null,{"$f":"Q1262*R1262*V1262","v":0},{"$f":"Alcance!I1618","v":0}]
["Calidad de Aire",null,"Mercaptanos",null,{"$f":"COUNTIF(Alcance!$E1623,E$1252)","v":0},{"$f":"COUNTIF(Alcance!$E1623,F$1252)","v":0},{"$f":"COUNTIF(Alcance!$E1623,G$1252)","v":0},{"$f":"COUNTIF(Alcance!$E1623,H$1252)","v":0},{"$f":"COUNTIF(Alcance!$E1623,I$1252)","v":0},{"$f":"COUNTIF(Alcance!$E1623,J$1252)","v":0},{"$f":"COUNTIF(Alcance!$E1623,K$1252)","v":0},{"$f":"COUNTIF(Alcance!$E1623,L$1252)","v":0},{"$f":"COUNTIF(Alcance!$E1623,M$1252)","v":0},{"$f":"COUNTIF(Alcance!$E1623,N$1252)","v":0},{"$f":"COUNTIF(Alcance!$E1623,O$1252)","v":0},{"$f":"COUNTIF(Alcance!$E1623,P$1252)","v":0},0,2,null,null,0,{"$f":"Alcance!I1619","v":0}]
["Calidad de Aire",null,"Azufre Total Reducido",null,{"$f":"COUNTIF(Alcance!$E1624,E$1252)","v":0},{"$f":"COUNTIF(Alcance!$E1624,F$1252)","v":0},{"$f":"COUNTIF(Alcance!$E1624,G$1252)","v":0},{"$f":"COUNTIF(Alcance!$E1624,H$1252)","v":0},{"$f":"COUNTIF(Alcance!$E1624,I$1252)","v":0},{"$f":"COUNTIF(Alcance!$E1624,J$1252)","v":0},{"$f":"COUNTIF(Alcance!$E1624,K$1252)","v":0},{"$f":"COUNTIF(Alcance!$E1624,L$1252)","v":0},{"$f":"COUNTIF(Alcance!$E1624,M$1252)","v":0},{"$f":"COUNTIF(Alcance!$E1624,N$1252)","v":0},{"$f":"COUNTIF(Alcance!$E1624,O$1252)","v":0},{"$f":"COUNTIF(Alcance!$E1624,P$1252)","v":0},0,2,null,null,0,{"$f":"Alcance!I1620","v":0}]
["Calidad de Aire",null,"Amoniaco ",null,{"$f":"COUNTIF(Alcance!$E1625,E$1252)","v":0},{"$f":"COUNTIF(Alcance!$E1625,F$1252)","v":0},{"$f":"COUNTIF(Alcance!$E1625,G$1252)","v":0},{"$f":"COUNTIF(Alcance!$E1625,H$1252)","v":0},{"$f":"COUNTIF(Alcance!$E1625,I$1252)","v":0},{"$f":"COUNTIF(Alcance!$E1625,J$1252)","v":0},{"$f":"COUNTIF(Alcance!$E1625,K$1252)","v":0},{"$f":"COUNTIF(Alcance!$E1625,L$1252)","v":0},{"$f":"COUNTIF(Alcance!$E1625,M$1252)","v":0},{"$f":"COUNTIF(Alcance!$E1625,N$1252)","v":0},{"$f":"COUNTIF(Alcance!$E1625,O$1252)","v":0},{"$f":"COUNTIF(Alcance!$E1625,P$1252)","v":0},0,2,null,null,0,{"$f":"Alcance!I1621","v":0},"Total Parámetros Calculados",{"$f":"SUM(U1253:U1267)","v":0}]
["Calidad de Aire",null,"Analitos de COVs (incluidos hidrocarburos)",null,{"$f":"IF((F1261+I1261+L1261+O1261)>0,0,COUNTIF(Alcance!$E$1626:$F$1656,E$1252))","v":0},null,null,{"$f":"IF((F1261+I1261+L1261+O1261)>0,0,COUNTIF(Alcance!$E$1626:$F$1656,H$1252))","v":0},null,null,{"$f":"IF((F1261+I1261+L1261+O1261)>0,0,COUNTIF(Alcance!$E$1626:$F$1656,K$1252))","v":0},null,null,{"$f":"IF((F1261+I1261+L1261+O1261)>0,0,COUNTIF(Alcance!$E$1626:$F$1656,N$1252))","v":0},null,null,{"$f":"SUM(E1266:P1266)","v":0},0.5,null,null,{"$f":"Q1266*R1266","v":0}]
["Otras variables en Calidad del Aire",null,"Especificado por el usuario",null,{"$f":"COUNTIF(Alcance!$E$1657:$F$1688,E$1252)","v":0},{"$f":"COUNTIF(Alcance!$E$1657:$F$1688,F$1252)","v":0},{"$f":"COUNTIF(Alcance!$E$1657:$F$1688,G$1252)","v":0},{"$f":"COUNTIF(Alcance!$E$1657:$F$1688,H$1252)","v":0},{"$f":"COUNTIF(Alcance!$E$1657:$F$1688,I$1252)","v":0},{"$f":"COUNTIF(Alcance!$E$1657:$F$1688,J$1252)","v":0},{"$f":"COUNTIF(Alcance!$E$1657:$F$1688,K$1252)","v":0},{"$f":"COUNTIF(Alcance!$E$1657:$F$1688,L$1252)","v":0},{"$f":"COUNTIF(Alcance!$E$1657:$F$1688,M$1252)","v":0},{"$f":"COUNTIF(Alcance!$E$1657:$F$1688,N$1252)","v":0},{"$f":"COUNTIF(Alcance!$E$1657:$F$1688,O$1252)","v":0},{"$f":"COUNTIF(Alcance!$E$1657:$F$1688,P$1252)","v":0},{"$f":"E1267+H1267+K1267+N1267+G1267+J1267+M1267+P1267","v":0},0.8,1,null,{"$f":"S1267*Q1267+R1267*Q1268","v":0}]
[null,null,"No. De Equipos",null,{"$f":"IF(Alcance!E1657=E1252,0,IF(Alcance!E1658=E1252,0,IF(Alcance!E1659=E1252,0,IF(Alcance!E1660=E1252,0,IF(Alcance!E1661=E1252,0,IF(Alcance!E1662=E1252,0,IF(Alcance!E1663=E1252,0,IF(Alcance!E1664=E1252,0,IF(Alcance!E1665=E1252,0,IF(Alcance!E1666=E1252,0,IF(Alcance!E1667=E1252,0,IF(Alcance!E1668=E1252,0,IF(Alcance!E1669=E1252,0,IF(Alcance!E1670=E1252,0,IF(Alcance!E1671=E1252,0,IF(Alcance!E1672=E1252,0,IF(Alcance!E1673=E1252,0,IF(Alcance!E1674=E1252,0,IF(Alcance!E1675=E1252,0,IF(Alcance!E1676=E1252,0,IF(Alcance!E1677=E1252,0,IF(Alcance!E1678=E1252,0,IF(Alcance!E1679=E1252,0,IF(Alcance!E1680=E1252,0,IF(Alcance!E1681=E1252,0,IF(Alcance!E1682=E1252,0,IF(Alcance!E1683=E1252,0,IF(Alcance!E1684=E1252,0,IF(Alcance!E1685=E1252,0,IF(Alcance!E1686=E1252,0,IF(Alcance!E1687=E1252,0,IF(Alcance!E1688=E1252,0,0))))))))))))))))))))))))))))))))","v":0},{"$f":"IF(Alcance!E1657=F1252,Alcance!I1653,0)+IF(Alcance!E1658=F1252,Alcance!I1654,0)+IF(Alcance!E1659=F1252,Alcance!I1655,0)+IF(Alcance!E1660=F1252,Alcance!I1656,0)+IF(Alcance!E1661=F1252,Alcance!I1657,0)+IF(Alcance!E1662=F1252,Alcance!I1658,0)+IF(Alcance!E1663=F1252,Alcance!I1659,0)+IF(Alcance!E1664=F1252,Alcance!I1660,0)+IF(Alcance!E1665=F1252,Alcance!I1661,0)+IF(Alcance!E1666=F1252,Alcance!I1662,0)+IF(Alcance!E1667=F1252,Alcance!I1663,0)+IF(Alcance!E1668=F1252,Alcance!I1664,0)+IF(Alcance!E1669=F1252,Alcance!I1665,0)+IF(Alcance!E1670=F1252,Alcance!I1666,0)+IF(Alcance!E1671=F1252,Alcance!I1667,0)+IF(Alcance!E1672=F1252,Alcance!I1668,0)+IF(Alcance!E1673=F1252,Alcance!I1669,0)+IF(Alcance!E1674=F1252,Alcance!I1670,0)+IF(Alcance!E1675=F1252,Alcance!I1671,0)+IF(Alcance!E1676=F1252,Alcance!I1672,0)+IF(Alcance!E1677=F1252,Alcance!I1673,0)+IF(Alcance!E1678=F1252,Alcance!I1674,0)+IF(Alcance!E1679=F1252,Alcance!I1675,0)+IF(Alcance!E1680=F1252,Alcance!I1676,0)+IF(Alcance!E1681=F1252,Alcance!I1677,0)+IF(Alcance!E1682=F1252,Alcance!I1678,0)+IF(Alcance!E1683=F1252,Alcance!I1679,0)+IF(Alcance!E1684=F1252,Alcance!I1680,0)+IF(Alcance!E1685=F1252,Alcance!I1681,0)+IF(Alcance!E1686=F1252,Alcance!I1682,0)+IF(Alcance!E1687=F1252,Alcance!I1683,0)+IF(Alcance!E1688=F1252,Alcance!I1684,0)","v":0},{"$f":"IF(Alcance!E1657=G1252,Alcance!I1653,0)+IF(Alcance!E1658=G1252,Alcance!I1654,0)+IF(Alcance!E1659=G1252,Alcance!I1655,0)+IF(Alcance!E1660=G1252,Alcance!I1656,0)+IF(Alcance!E1661=G1252,Alcance!I1657,0)+IF(Alcance!E1662=G1252,Alcance!I1658,0)+IF(Alcance!E1663=G1252,Alcance!I1659,0)+IF(Alcance!E1664=G1252,Alcance!I1660,0)+IF(Alcance!E1665=G1252,Alcance!I1661,0)+IF(Alcance!E1666=G1252,Alcance!I1662,0)+IF(Alcance!E1667=G1252,Alcance!I1663,0)+IF(Alcance!E1668=G1252,Alcance!I1664,0)+IF(Alcance!E1669=G1252,Alcance!I1665,0)+IF(Alcance!E1670=G1252,Alcance!I1666,0)+IF(Alcance!E1671=G1252,Alcance!I1667,0)+IF(Alcance!E1672=G1252,Alcance!I1668,0)+IF(Alcance!E1673=G1252,Alcance!I1669,0)+IF(Alcance!E1674=G1252,Alcance!I1670,0)+IF(Alcance!E1675=G1252,Alcance!I1671,0)+IF(Alcance!E1676=G1252,Alcance!I1672,0)+IF(Alcance!E1677=G1252,Alcance!I1673,0)+IF(Alcance!E1678=G1252,Alcance!I1674,0)+IF(Alcance!E1679=G1252,Alcance!I1675,0)+IF(Alcance!E1680=G1252,Alcance!I1676,0)+IF(Alcance!E1681=G1252,Alcance!I1677,0)+IF(Alcance!E1682=G1252,Alcance!I1678,0)+IF(Alcance!E1683=G1252,Alcance!I1679,0)+IF(Alcance!E1684=G1252,Alcance!I1680,0)+IF(Alcance!E1685=G1252,Alcance!I1681,0)+IF(Alcance!E1686=G1252,Alcance!I1682,0)+IF(Alcance!E1687=G1252,Alcance!I1683,0)+IF(Alcance!E1688=G1252,Alcance!I1684,0)","v":0},{"$f":"IF(Alcance!E1657=H1252,0,IF(Alcance!E1658=H1252,0,IF(Alcance!E1659=H1252,0,IF(Alcance!E1660=H1252,0,IF(Alcance!E1661=H1252,0,IF(Alcance!E1662=H1252,0,IF(Alcance!E1663=H1252,0,IF(Alcance!E1664=H1252,0,IF(Alcance!E1665=H1252,0,IF(Alcance!E1666=H1252,0,IF(Alcance!E1667=H1252,0,IF(Alcance!E1668=H1252,0,IF(Alcance!E1669=H1252,0,IF(Alcance!E1670=H1252,0,IF(Alcance!E1671=H1252,0,IF(Alcance!E1672=H1252,0,IF(Alcance!E1673=H1252,0,IF(Alcance!E1674=H1252,0,IF(Alcance!E1675=H1252,0,IF(Alcance!E1676=H1252,0,IF(Alcance!E1677=H1252,0,IF(Alcance!E1678=H1252,0,IF(Alcance!E1679=H1252,0,IF(Alcance!E1680=H1252,0,IF(Alcance!E1681=H1252,0,IF(Alcance!E1682=H1252,0,IF(Alcance!E1683=H1252,0,IF(Alcance!E1684=H1252,0,IF(Alcance!E1685=H1252,0,IF(Alcance!E1686=H1252,0,IF(Alcance!E1687=H1252,0,IF(Alcance!E1688=H1252,0,0))))))))))))))))))))))))))))))))","v":0},{"$f":"IF(Alcance!E1657=I1252,Alcance!I1653,0)+IF(Alcance!E1658=I1252,Alcance!I1654,0)+IF(Alcance!E1659=I1252,Alcance!I1655,0)+IF(Alcance!E1660=I1252,Alcance!I1656,0)+IF(Alcance!E1661=I1252,Alcance!I1657,0)+IF(Alcance!E1662=I1252,Alcance!I1658,0)+IF(Alcance!E1663=I1252,Alcance!I1659,0)+IF(Alcance!E1664=I1252,Alcance!I1660,0)+IF(Alcance!E1665=I1252,Alcance!I1661,0)+IF(Alcance!E1666=I1252,Alcance!I1662,0)+IF(Alcance!E1667=I1252,Alcance!I1663,0)+IF(Alcance!E1668=I1252,Alcance!I1664,0)+IF(Alcance!E1669=I1252,Alcance!I1665,0)+IF(Alcance!E1670=I1252,Alcance!I1666,0)+IF(Alcance!E1671=I1252,Alcance!I1667,0)+IF(Alcance!E1672=I1252,Alcance!I1668,0)+IF(Alcance!E1673=I1252,Alcance!I1669,0)+IF(Alcance!E1674=I1252,Alcance!I1670,0)+IF(Alcance!E1675=I1252,Alcance!I1671,0)+IF(Alcance!E1676=I1252,Alcance!I1672,0)+IF(Alcance!E1677=I1252,Alcance!I1673,0)+IF(Alcance!E1678=I1252,Alcance!I1674,0)+IF(Alcance!E1679=I1252,Alcance!I1675,0)+IF(Alcance!E1680=I1252,Alcance!I1676,0)+IF(Alcance!E1681=I1252,Alcance!I1677,0)+IF(Alcance!E1682=I1252,Alcance!I1678,0)+IF(Alcance!E1683=I1252,Alcance!I1679,0)+IF(Alcance!E1684=I1252,Alcance!I1680,0)+IF(Alcance!E1685=I1252,Alcance!I1681,0)+IF(Alcance!E1686=I1252,Alcance!I1682,0)+IF(Alcance!E1687=I1252,Alcance!I1683,0)+IF(Alcance!E1688=I1252,Alcance!I1684,0)","v":0},{"$f":"IF(Alcance!E1657=J1252,Alcance!I1653,0)+IF(Alcance!E1658=J1252,Alcance!I1654,0)+IF(Alcance!E1659=J1252,Alcance!I1655,0)+IF(Alcance!E1660=J1252,Alcance!I1656,0)+IF(Alcance!E1661=J1252,Alcance!I1657,0)+IF(Alcance!E1662=J1252,Alcance!I1658,0)+IF(Alcance!E1663=J1252,Alcance!I1659,0)+IF(Alcance!E1664=J1252,Alcance!I1660,0)+IF(Alcance!E1665=J1252,Alcance!I1661,0)+IF(Alcance!E1666=J1252,Alcance!I1662,0)+IF(Alcance!E1667=J1252,Alcance!I1663,0)+IF(Alcance!E1668=J1252,Alcance!I1664,0)+IF(Alcance!E1669=J1252,Alcance!I1665,0)+IF(Alcance!E1670=J1252,Alcance!I1666,0)+IF(Alcance!E1671=J1252,Alcance!I1667,0)+IF(Alcance!E1672=J1252,Alcance!I1668,0)+IF(Alcance!E1673=J1252,Alcance!I1669,0)+IF(Alcance!E1674=J1252,Alcance!I1670,0)+IF(Alcance!E1675=J1252,Alcance!I1671,0)+IF(Alcance!E1676=J1252,Alcance!I1672,0)+IF(Alcance!E1677=J1252,Alcance!I1673,0)+IF(Alcance!E1678=J1252,Alcance!I1674,0)+IF(Alcance!E1679=J1252,Alcance!I1675,0)+IF(Alcance!E1680=J1252,Alcance!I1676,0)+IF(Alcance!E1681=J1252,Alcance!I1677,0)+IF(Alcance!E1682=J1252,Alcance!I1678,0)+IF(Alcance!E1683=J1252,Alcance!I1679,0)+IF(Alcance!E1684=J1252,Alcance!I1680,0)+IF(Alcance!E1685=J1252,Alcance!I1681,0)+IF(Alcance!E1686=J1252,Alcance!I1682,0)+IF(Alcance!E1687=J1252,Alcance!I1683,0)+IF(Alcance!E1688=J1252,Alcance!I1684,0)","v":0},{"$f":"IF(Alcance!E1657=K1252,0,IF(Alcance!E1658=K1252,0,IF(Alcance!E1659=K1252,0,IF(Alcance!E1660=K1252,0,IF(Alcance!E1661=K1252,0,IF(Alcance!E1662=K1252,0,IF(Alcance!E1663=K1252,0,IF(Alcance!E1664=K1252,0,IF(Alcance!E1665=K1252,0,IF(Alcance!E1666=K1252,0,IF(Alcance!E1667=K1252,0,IF(Alcance!E1668=K1252,0,IF(Alcance!E1669=K1252,0,IF(Alcance!E1670=K1252,0,IF(Alcance!E1671=K1252,0,IF(Alcance!E1672=K1252,0,IF(Alcance!E1673=K1252,0,IF(Alcance!E1674=K1252,0,IF(Alcance!E1675=K1252,0,IF(Alcance!E1676=K1252,0,IF(Alcance!E1677=K1252,0,IF(Alcance!E1678=K1252,0,IF(Alcance!E1679=K1252,0,IF(Alcance!E1680=K1252,0,IF(Alcance!E1681=K1252,0,IF(Alcance!E1682=K1252,0,IF(Alcance!E1683=K1252,0,IF(Alcance!E1684=K1252,0,IF(Alcance!E1685=K1252,0,IF(Alcance!E1686=K1252,0,IF(Alcance!E1687=K1252,0,IF(Alcance!E1688=K1252,0,0))))))))))))))))))))))))))))))))","v":0},{"$f":"IF(Alcance!E1657=L1252,Alcance!I1653,0)+IF(Alcance!E1658=L1252,Alcance!I1654,0)+IF(Alcance!E1659=L1252,Alcance!I1655,0)+IF(Alcance!E1660=L1252,Alcance!I1656,0)+IF(Alcance!E1661=L1252,Alcance!I1657,0)+IF(Alcance!E1662=L1252,Alcance!I1658,0)+IF(Alcance!E1663=L1252,Alcance!I1659,0)+IF(Alcance!E1664=L1252,Alcance!I1660,0)+IF(Alcance!E1665=L1252,Alcance!I1661,0)+IF(Alcance!E1666=L1252,Alcance!I1662,0)+IF(Alcance!E1667=L1252,Alcance!I1663,0)+IF(Alcance!E1668=L1252,Alcance!I1664,0)+IF(Alcance!E1669=L1252,Alcance!I1665,0)+IF(Alcance!E1670=L1252,Alcance!I1666,0)+IF(Alcance!E1671=L1252,Alcance!I1667,0)+IF(Alcance!E1672=L1252,Alcance!I1668,0)+IF(Alcance!E1673=L1252,Alcance!I1669,0)+IF(Alcance!E1674=L1252,Alcance!I1670,0)+IF(Alcance!E1675=L1252,Alcance!I1671,0)+IF(Alcance!E1676=L1252,Alcance!I1672,0)+IF(Alcance!E1677=L1252,Alcance!I1673,0)+IF(Alcance!E1678=L1252,Alcance!I1674,0)+IF(Alcance!E1679=L1252,Alcance!I1675,0)+IF(Alcance!E1680=L1252,Alcance!I1676,0)+IF(Alcance!E1681=L1252,Alcance!I1677,0)+IF(Alcance!E1682=L1252,Alcance!I1678,0)+IF(Alcance!E1683=L1252,Alcance!I1679,0)+IF(Alcance!E1684=L1252,Alcance!I1680,0)+IF(Alcance!E1685=L1252,Alcance!I1681,0)+IF(Alcance!E1686=L1252,Alcance!I1682,0)+IF(Alcance!E1687=L1252,Alcance!I1683,0)+IF(Alcance!E1688=L1252,Alcance!I1684,0)","v":0},{"$f":"IF(Alcance!E1657=M1252,Alcance!I1653,0)+IF(Alcance!E1658=M1252,Alcance!I1654,0)+IF(Alcance!E1659=M1252,Alcance!I1655,0)+IF(Alcance!E1660=M1252,Alcance!I1656,0)+IF(Alcance!E1661=M1252,Alcance!I1657,0)+IF(Alcance!E1662=M1252,Alcance!I1658,0)+IF(Alcance!E1663=M1252,Alcance!I1659,0)+IF(Alcance!E1664=M1252,Alcance!I1660,0)+IF(Alcance!E1665=M1252,Alcance!I1661,0)+IF(Alcance!E1666=M1252,Alcance!I1662,0)+IF(Alcance!E1667=M1252,Alcance!I1663,0)+IF(Alcance!E1668=M1252,Alcance!I1664,0)+IF(Alcance!E1669=M1252,Alcance!I1665,0)+IF(Alcance!E1670=M1252,Alcance!I1666,0)+IF(Alcance!E1671=M1252,Alcance!I1667,0)+IF(Alcance!E1672=M1252,Alcance!I1668,0)+IF(Alcance!E1673=M1252,Alcance!I1669,0)+IF(Alcance!E1674=M1252,Alcance!I1670,0)+IF(Alcance!E1675=M1252,Alcance!I1671,0)+IF(Alcance!E1676=M1252,Alcance!I1672,0)+IF(Alcance!E1677=M1252,Alcance!I1673,0)+IF(Alcance!E1678=M1252,Alcance!I1674,0)+IF(Alcance!E1679=M1252,Alcance!I1675,0)+IF(Alcance!E1680=M1252,Alcance!I1676,0)+IF(Alcance!E1681=M1252,Alcance!I1677,0)+IF(Alcance!E1682=M1252,Alcance!I1678,0)+IF(Alcance!E1683=M1252,Alcance!I1679,0)+IF(Alcance!E1684=M1252,Alcance!I1680,0)+IF(Alcance!E1685=M1252,Alcance!I1681,0)+IF(Alcance!E1686=M1252,Alcance!I1682,0)+IF(Alcance!E1687=M1252,Alcance!I1683,0)+IF(Alcance!E1688=M1252,Alcance!I1684,0)","v":0},{"$f":"IF(Alcance!E1657=N1252,0,IF(Alcance!E1658=N1252,0,IF(Alcance!E1659=N1252,0,IF(Alcance!E1660=N1252,0,IF(Alcance!E1661=N1252,0,IF(Alcance!E1662=N1252,0,IF(Alcance!E1663=N1252,0,IF(Alcance!E1664=N1252,0,IF(Alcance!E1665=N1252,0,IF(Alcance!E1666=N1252,0,IF(Alcance!E1667=N1252,0,IF(Alcance!E1668=N1252,0,IF(Alcance!E1669=N1252,0,IF(Alcance!E1670=N1252,0,IF(Alcance!E1671=N1252,0,IF(Alcance!E1672=N1252,0,IF(Alcance!E1673=N1252,0,IF(Alcance!E1674=N1252,0,IF(Alcance!E1675=N1252,0,IF(Alcance!E1676=N1252,0,IF(Alcance!E1677=N1252,0,IF(Alcance!E1678=N1252,0,IF(Alcance!E1679=N1252,0,IF(Alcance!E1680=N1252,0,IF(Alcance!E1681=N1252,0,IF(Alcance!E1682=N1252,0,IF(Alcance!E1683=N1252,0,IF(Alcance!E1684=N1252,0,IF(Alcance!E1685=N1252,0,IF(Alcance!E1686=N1252,0,IF(Alcance!E1687=N1252,0,IF(Alcance!E1688=N1252,0,0))))))))))))))))))))))))))))))))","v":0},{"$f":"IF(Alcance!E1657=O1252,Alcance!I1653,0)+IF(Alcance!E1658=O1252,Alcance!I1654,0)+IF(Alcance!E1659=O1252,Alcance!I1655,0)+IF(Alcance!E1660=O1252,Alcance!I1656,0)+IF(Alcance!E1661=O1252,Alcance!I1657,0)+IF(Alcance!E1662=O1252,Alcance!I1658,0)+IF(Alcance!E1663=O1252,Alcance!I1659,0)+IF(Alcance!E1664=O1252,Alcance!I1660,0)+IF(Alcance!E1665=O1252,Alcance!I1661,0)+IF(Alcance!E1666=O1252,Alcance!I1662,0)+IF(Alcance!E1667=O1252,Alcance!I1663,0)+IF(Alcance!E1668=O1252,Alcance!I1664,0)+IF(Alcance!E1669=O1252,Alcance!I1665,0)+IF(Alcance!E1670=O1252,Alcance!I1666,0)+IF(Alcance!E1671=O1252,Alcance!I1667,0)+IF(Alcance!E1672=O1252,Alcance!I1668,0)+IF(Alcance!E1673=O1252,Alcance!I1669,0)+IF(Alcance!E1674=O1252,Alcance!I1670,0)+IF(Alcance!E1675=O1252,Alcance!I1671,0)+IF(Alcance!E1676=O1252,Alcance!I1672,0)+IF(Alcance!E1677=O1252,Alcance!I1673,0)+IF(Alcance!E1678=O1252,Alcance!I1674,0)+IF(Alcance!E1679=O1252,Alcance!I1675,0)+IF(Alcance!E1680=O1252,Alcance!I1676,0)+IF(Alcance!E1681=O1252,Alcance!I1677,0)+IF(Alcance!E1682=O1252,Alcance!I1678,0)+IF(Alcance!E1683=O1252,Alcance!I1679,0)+IF(Alcance!E1684=O1252,Alcance!I1680,0)+IF(Alcance!E1685=O1252,Alcance!I1681,0)+IF(Alcance!E1686=O1252,Alcance!I1682,0)+IF(Alcance!E1687=O1252,Alcance!I1683,0)+IF(Alcance!E1688=O1252,Alcance!I1684,0)","v":0},{"$f":"IF(Alcance!E1657=P1252,Alcance!I1653,0)+IF(Alcance!E1658=P1252,Alcance!I1654,0)+IF(Alcance!E1659=P1252,Alcance!I1655,0)+IF(Alcance!E1660=P1252,Alcance!I1656,0)+IF(Alcance!E1661=P1252,Alcance!I1657,0)+IF(Alcance!E1662=P1252,Alcance!I1658,0)+IF(Alcance!E1663=P1252,Alcance!I1659,0)+IF(Alcance!E1664=P1252,Alcance!I1660,0)+IF(Alcance!E1665=P1252,Alcance!I1661,0)+IF(Alcance!E1666=P1252,Alcance!I1662,0)+IF(Alcance!E1667=P1252,Alcance!I1663,0)+IF(Alcance!E1668=P1252,Alcance!I1664,0)+IF(Alcance!E1669=P1252,Alcance!I1665,0)+IF(Alcance!E1670=P1252,Alcance!I1666,0)+IF(Alcance!E1671=P1252,Alcance!I1667,0)+IF(Alcance!E1672=P1252,Alcance!I1668,0)+IF(Alcance!E1673=P1252,Alcance!I1669,0)+IF(Alcance!E1674=P1252,Alcance!I1670,0)+IF(Alcance!E1675=P1252,Alcance!I1671,0)+IF(Alcance!E1676=P1252,Alcance!I1672,0)+IF(Alcance!E1677=P1252,Alcance!I1673,0)+IF(Alcance!E1678=P1252,Alcance!I1674,0)+IF(Alcance!E1679=P1252,Alcance!I1675,0)+IF(Alcance!E1680=P1252,Alcance!I1676,0)+IF(Alcance!E1681=P1252,Alcance!I1677,0)+IF(Alcance!E1682=P1252,Alcance!I1678,0)+IF(Alcance!E1683=P1252,Alcance!I1679,0)+IF(Alcance!E1684=P1252,Alcance!I1680,0)+IF(Alcance!E1685=P1252,Alcance!I1681,0)+IF(Alcance!E1686=P1252,Alcance!I1682,0)+IF(Alcance!E1687=P1252,Alcance!I1683,0)+IF(Alcance!E1688=P1252,Alcance!I1684,0)","v":0},{"$f":"F1268+I1268+L1268+O1268+G1268+J1268+M1268+P1268","v":0}]
["TOTALES",null,null,null,{"$f":"SUM(E1253:E1267)","v":0},0,0,0,0,0,0,0,0,0,0,0,0]
[]
["MATRIZ RUIDO"]
["18. Matriz / Grupo",null,"19. Variable",null,"INICIAL","SEGUIMIENTO","RENOVACIÓN","EXTENSIÓN","Total Variables","Equivalencia en Parámetros","Parámetros Calculados"]
["Calidad de Aire",null,"Emisión de Ruido",null,{"$f":"COUNTIF(Alcance!$E1693,E$1272)","v":0},{"$f":"COUNTIF(Alcance!$E1693,F$1272)","v":0},{"$f":"COUNTIF(Alcance!$E1693,G$1272)","v":0},{"$f":"COUNTIF(Alcance!$E1693,H$1272)","v":0},{"$f":"SUM(E1273:H1273)","v":0},2.5,{"$f":"IF(I1273>0,J1273,0)","v":0}]
["Calidad de Aire",null,"Ruido Ambiental",null,{"$f":"COUNTIF(Alcance!$E1694,E$1272)","v":0},{"$f":"COUNTIF(Alcance!$E1694,F$1272)","v":0},{"$f":"COUNTIF(Alcance!$E1694,G$1272)","v":0},{"$f":"COUNTIF(Alcance!$E1694,H$1272)","v":0},0,2.5,0]
["Calidad de Aire",null,"Ruido Ambiental",null,{"$f":"COUNTIF(Alcance!$E1695,E$1272)","v":0},{"$f":"COUNTIF(Alcance!$E1695,F$1272)","v":0},{"$f":"COUNTIF(Alcance!$E1695,G$1272)","v":0},{"$f":"COUNTIF(Alcance!$E1695,H$1272)","v":0},0,10,0]
["Totales",null,null,null,{"$f":"SUM(E1273:E1275)","v":0},0,0,0,0]
[]
["MATRIZ AIRE - INMISIONES O CALIDAD DEL AIRE - MÉTODOS AUTOMATIZADOS – SISTEMAS DE VIGILANCIA DE CALIDAD DEL AIRE"]
["18. Matriz / Grupo",null,"19. Variable",null,"INICIAL - ANÁLISIS DE LABORATORIO","INICIAL - TOMA DE MUESTRA","INICIAL - TOMA DE MUESTRA Y ANÁLISIS","SEGUIMIENTO - ANÁLISIS DE LABORATORIO","SEGUIMIENTO - TOMA DE MUESTRA","SEGUIMIENTO - TOMA DE MUESTRA Y ANÁLISIS","RENOVACIÓN - ANÁLISIS DE LABORATORIO","RENOVACIÓN - TOMA DE MUESTRA","RENOVACIÓN - TOMA DE MUESTRA Y ANÁLISIS","EXTENSIÓN - ANÁLISIS DE LABORATORIO","EXTENSIÓN - TOMA DE MUESTRA","EXTENSIÓN - TOMA DE MUESTRA Y ANÁLISIS","Total Variables","Equivalencia en Parámetros",null,null,"Parámetros Calculados"]
["Estaciones Automáticas de Calidad del Aire",null,"Monóxido de Carbono Medición Directa en campo de CO",null,{"$f":"COUNTIF(Alcance!$E1700,E$1279)","v":0},{"$f":"COUNTIF(Alcance!$E1700,F$1279)","v":0},{"$f":"COUNTIF(Alcance!$E1700,G$1279)","v":0},{"$f":"COUNTIF(Alcance!$E1700,H$1279)","v":0},{"$f":"COUNTIF(Alcance!$E1700,I$1279)","v":0},{"$f":"COUNTIF(Alcance!$E1700,J$1279)","v":0},{"$f":"COUNTIF(Alcance!$E1700,K$1279)","v":0},{"$f":"COUNTIF(Alcance!$E1700,L$1279)","v":0},{"$f":"COUNTIF(Alcance!$E1700,M$1279)","v":0},{"$f":"COUNTIF(Alcance!$E1700,N$1279)","v":0},{"$f":"COUNTIF(Alcance!$E1700,O$1279)","v":0},{"$f":"COUNTIF(Alcance!$E1700,P$1279)","v":0},{"$f":"SUM(E1280:P1280)*Alcance!I1696","v":0},1.8,null,null,{"$f":"Q1280*R1280","v":0}]
["Estaciones Automáticas de Calidad del Aire",null,"Óxidos de Azufre medición directa en campo de SO2",null,{"$f":"COUNTIF(Alcance!$E1701,E$1279)","v":0},{"$f":"COUNTIF(Alcance!$E1701,F$1279)","v":0},{"$f":"COUNTIF(Alcance!$E1701,G$1279)","v":0},{"$f":"COUNTIF(Alcance!$E1701,H$1279)","v":0},{"$f":"COUNTIF(Alcance!$E1701,I$1279)","v":0},{"$f":"COUNTIF(Alcance!$E1701,J$1279)","v":0},{"$f":"COUNTIF(Alcance!$E1701,K$1279)","v":0},{"$f":"COUNTIF(Alcance!$E1701,L$1279)","v":0},{"$f":"COUNTIF(Alcance!$E1701,M$1279)","v":0},{"$f":"COUNTIF(Alcance!$E1701,N$1279)","v":0},{"$f":"COUNTIF(Alcance!$E1701,O$1279)","v":0},{"$f":"COUNTIF(Alcance!$E1701,P$1279)","v":0},{"$f":"SUM(E1281:P1281)*Alcance!I1697","v":0},1.8,null,null,0]
["Estaciones Automáticas de Calidad del Aire",null,"Óxidos de Nitrógeno Medición Directa en campo de NO/NO2/NOX",null,{"$f":"COUNTIF(Alcance!$E1702,E$1279)","v":0},{"$f":"COUNTIF(Alcance!$E1702,F$1279)","v":0},{"$f":"COUNTIF(Alcance!$E1702,G$1279)","v":0},{"$f":"COUNTIF(Alcance!$E1702,H$1279)","v":0},{"$f":"COUNTIF(Alcance!$E1702,I$1279)","v":0},{"$f":"COUNTIF(Alcance!$E1702,J$1279)","v":0},{"$f":"COUNTIF(Alcance!$E1702,K$1279)","v":0},{"$f":"COUNTIF(Alcance!$E1702,L$1279)","v":0},{"$f":"COUNTIF(Alcance!$E1702,M$1279)","v":0},{"$f":"COUNTIF(Alcance!$E1702,N$1279)","v":0},{"$f":"COUNTIF(Alcance!$E1702,O$1279)","v":0},{"$f":"COUNTIF(Alcance!$E1702,P$1279)","v":0},{"$f":"SUM(E1282:P1282)*Alcance!I1698","v":0},1.8,null,null,0]
["Estaciones Automáticas de Calidad del Aire",null,"Ozono Medición directa en campo de O3",null,{"$f":"COUNTIF(Alcance!$E1703,E$1279)","v":0},{"$f":"COUNTIF(Alcance!$E1703,F$1279)","v":0},{"$f":"COUNTIF(Alcance!$E1703,G$1279)","v":0},{"$f":"COUNTIF(Alcance!$E1703,H$1279)","v":0},{"$f":"COUNTIF(Alcance!$E1703,I$1279)","v":0},{"$f":"COUNTIF(Alcance!$E1703,J$1279)","v":0},{"$f":"COUNTIF(Alcance!$E1703,K$1279)","v":0},{"$f":"COUNTIF(Alcance!$E1703,L$1279)","v":0},{"$f":"COUNTIF(Alcance!$E1703,M$1279)","v":0},{"$f":"COUNTIF(Alcance!$E1703,N$1279)","v":0},{"$f":"COUNTIF(Alcance!$E1703,O$1279)","v":0},{"$f":"COUNTIF(Alcance!$E1703,P$1279)","v":0},{"$f":"SUM(E1283:P1283)*Alcance!I1699","v":0},1.8,null,null,0]
["Estaciones Automáticas de Calidad del Aire",null,"Material Particulado menor a 10 µm - PM10 automático ",null,{"$f":"COUNTIF(Alcance!$E1704,E$1279)","v":0},{"$f":"COUNTIF(Alcance!$E1704,F$1279)","v":0},{"$f":"COUNTIF(Alcance!$E1704,G$1279)","v":0},{"$f":"COUNTIF(Alcance!$E1704,H$1279)","v":0},{"$f":"COUNTIF(Alcance!$E1704,I$1279)","v":0},{"$f":"COUNTIF(Alcance!$E1704,J$1279)","v":0},{"$f":"COUNTIF(Alcance!$E1704,K$1279)","v":0},{"$f":"COUNTIF(Alcance!$E1704,L$1279)","v":0},{"$f":"COUNTIF(Alcance!$E1704,M$1279)","v":0},{"$f":"COUNTIF(Alcance!$E1704,N$1279)","v":0},{"$f":"COUNTIF(Alcance!$E1704,O$1279)","v":0},{"$f":"COUNTIF(Alcance!$E1704,P$1279)","v":0},{"$f":"SUM(E1284:P1284)*Alcance!I1700","v":0},1.8,null,null,0]
["Estaciones Automáticas de Calidad del Aire",null,"Material Particulado menor a 2,5 µm - PM2,5 automático ",null,{"$f":"COUNTIF(Alcance!$E1705,E$1279)","v":0},{"$f":"COUNTIF(Alcance!$E1705,F$1279)","v":0},{"$f":"COUNTIF(Alcance!$E1705,G$1279)","v":0},{"$f":"COUNTIF(Alcance!$E1705,H$1279)","v":0},{"$f":"COUNTIF(Alcance!$E1705,I$1279)","v":0},{"$f":"COUNTIF(Alcance!$E1705,J$1279)","v":0},{"$f":"COUNTIF(Alcance!$E1705,K$1279)","v":0},{"$f":"COUNTIF(Alcance!$E1705,L$1279)","v":0},{"$f":"COUNTIF(Alcance!$E1705,M$1279)","v":0},{"$f":"COUNTIF(Alcance!$E1705,N$1279)","v":0},{"$f":"COUNTIF(Alcance!$E1705,O$1279)","v":0},{"$f":"COUNTIF(Alcance!$E1705,P$1279)","v":0},{"$f":"SUM(E1285:P1285)*Alcance!I1701","v":0},1.8,null,null,0,"Total Parámetros Calculados",{"$f":"SUM(U1280:U1286)","v":0}]
["Variables adicionales para Estaciones Automáticas de Calidad del Aire",null,"Especificado por el usuario",null,{"$f":"COUNTIF(Alcance!$E$1706:$F$1719,E$1279)","v":0},{"$f":"COUNTIF(Alcance!$E$1706:$F$1719,F$1279)","v":0},{"$f":"COUNTIF(Alcance!$E$1706:$F$1719,G$1279)","v":0},{"$f":"COUNTIF(Alcance!$E$1706:$F$1719,H$1279)","v":0},{"$f":"COUNTIF(Alcance!$E$1706:$F$1719,I$1279)","v":0},{"$f":"COUNTIF(Alcance!$E$1706:$F$1719,J$1279)","v":0},{"$f":"COUNTIF(Alcance!$E$1706:$F$1719,K$1279)","v":0},{"$f":"COUNTIF(Alcance!$E$1706:$F$1719,L$1279)","v":0},{"$f":"COUNTIF(Alcance!$E$1706:$F$1719,M$1279)","v":0},{"$f":"COUNTIF(Alcance!$E$1706:$F$1719,N$1279)","v":0},{"$f":"COUNTIF(Alcance!$E$1706:$F$1719,O$1279)","v":0},{"$f":"COUNTIF(Alcance!$E$1706:$F$1719,P$1279)","v":0},{"$f":"SUM(Alcance!I1702:I1715)","v":0},1.8,null,null,0]
["TOTALES",null,null,null,{"$f":"SUM(E1280:E1286)","v":0},0,0,0,0,0,0,0,0,0,0,0,0]

{"sheet":"Cotizacion","index":2,"n_rows":191,"n_cols":52,"rows_kept":191,"cut":false,"hidden":false,"merged":[[187,3,187,6],[182,0,182,6],[183,3,183,6],[184,3,184,6],[185,3,185,6],[186,3,186,6],[24,4,27,4],[24,5,27,5],[24,6,27,6],[24,7,27,7],[29,4,32,4],[29,7,32,7],[59,0,62,1],[65,0,68,1],[71,0,74,1],[71,4,74,4],[71,5,74,5],[71,6,74,6],[71,7,74,7],[35,5,38,5],[35,6,38,6],[35,7,38,7],[41,4,44,4],[41,7,44,7],[41,5,44,5],[41,6,44,6],[13,6,13,7],[13,0,13,5],[14,0,14,5],[14,6,14,7],[15,0,15,7],[17,0,17,7],[19,4,22,4],[19,7,22,7],[19,5,22,5],[19,6,22,6],[9,0,9,5],[9,6,9,7],[10,0,10,5],[10,6,10,7],[11,0,11,2],[11,3,11,5],[11,6,11,7],[12,0,12,2],[12,3,12,5],[12,6,12,7],[0,0,3,1],[0,2,3,6],[4,0,4,7],[5,0,5,3],[5,4,5,7],[6,0,6,7],[7,6,7,7],[7,0,7,5],[8,0,8,5],[8,6,8,7],[77,0,80,1],[83,0,86,1],[89,0,92,1],[103,1,105,1],[19,0,22,1],[24,0,27,1],[29,0,32,1],[35,0,38,1],[41,0,44,1],[47,0,50,1],[53,0,56,1],[100,0,100,2],[80,2,80,4],[92,2,92,4],[95,0,95,7],[97,0,97,2],[97,5,97,6],[65,4,68,4],[65,7,68,7],[65,5,68,5],[65,6,68,6],[29,5,32,5],[29,6,32,6],[35,4,38,4],[174,2,174,3],[188,2,188,3],[188,4,188,5],[189,0,189,1],[189,2,189,3],[189,4,189,5],[190,0,190,1],[190,2,190,3],[190,4,190,5],[183,1,183,2],[184,1,184,2],[185,1,185,2],[188,0,188,1],[186,1,186,2],[187,1,187,2],[166,0,166,1],[166,4,166,5],[166,7,167,7],[167,0,167,1],[167,4,167,5],[168,0,168,1],[171,2,171,4],[172,2,172,3],[173,2,173,3],[92,8,92,9],[128,0,134,7],[150,0,156,7],[165,0,165,2],[165,4,165,7],[98,5,98,6],[99,5,99,6],[92,6,92,7],[80,8,80,9],[83,4,86,4],[83,5,86,5],[83,6,86,6],[83,7,86,7],[80,6,80,7],[47,4,50,4],[47,5,50,5],[47,6,50,6],[47,7,50,7],[53,4,56,4],[53,7,56,7],[53,5,56,5],[53,6,56,6],[59,4,62,4],[59,5,62,5],[59,6,62,6],[59,7,62,7]]}
[null,null,"FORMATO COTIZACIÓN\nGRUPO ACREDITACION DE LABORATORIOS\nIDEAM",null,null,null,null,"Código: SAL-F032"]
[null,null,null,null,null,null,null,"Versión: 4"]
[null,null,null,null,null,null,null,"Fecha: 07/07/2025"]
[]
[]
["Radicado No.                                                      ",null,null,null,"  Auto de Inicio No. "]
["A.           IDENTIFICACION DEL ORGANISMO DE EVALUACION DE LA CONFORMIDAD – OEC"]
["1. Razón Social:",null,null,null,null,null,"2. NIT:"]
[]
["3. Dirección",null,null,null,null,null,"4. Ciudad / Municipio"]
[]
["5. Departamento:",null,null,"6. Teléfono / FAX:",null,null,"7. Correo Electrónico:"]
[]
["8. Representante Legal:",null,null,null,null,null,"9. C.C.:"]
[" "]
["B.           TIPO DE SOLICITUD: "]
["Acreditación Inicial:",null,"Seguimiento de Acreditación:",null,"Renovación de Acreditación:",null,"Extensión de Acreditación:"]
["C.           VARIABLES A ACREDITAR"]
[]
["Número Variables en Agua Continentales",null,"INICIAL",{"$f":"'Conteo y Equivalencias'!E379","v":0},"TOTAL",{"$f":"'Conteo y Equivalencias'!I379","v":0},"Número Total de Parámetros",{"$f":"'Conteo y Equivalencias'!M378","v":0}]
[null,null,"SEGUIMIENTO",{"$f":"'Conteo y Equivalencias'!F379","v":0}]
[null,null,"RENOVACIÓN",{"$f":"'Conteo y Equivalencias'!G379","v":0}]
[null,null,"EXTENSIÓN",{"$f":"'Conteo y Equivalencias'!H379","v":0}]
[]
["Número Variables en Agua Marinas",null,"INICIAL",{"$f":"'Conteo y Equivalencias'!E717","v":0},"TOTAL",{"$f":"'Conteo y Equivalencias'!I717","v":0},"Número Total de Parámetros",{"$f":"'Conteo y Equivalencias'!M716","v":0}]
[null,null,"SEGUIMIENTO",{"$f":"'Conteo y Equivalencias'!F717","v":0}]
[null,null,"RENOVACIÓN",{"$f":"'Conteo y Equivalencias'!G717","v":0}]
[null,null,"EXTENSIÓN",{"$f":"'Conteo y Equivalencias'!H717","v":0}]
[]
["Número de Variables en Residuos Peligrosos",null,"INICIAL",{"$f":"'Conteo y Equivalencias'!E827","v":0},"TOTAL",{"$f":"'Conteo y Equivalencias'!I827","v":0},"Número Total de Parámetros",{"$f":"'Conteo y Equivalencias'!M825","v":0}]
[null,null,"SEGUIMIENTO",{"$f":"'Conteo y Equivalencias'!F827","v":0}]
[null,null,"RENOVACIÓN",{"$f":"'Conteo y Equivalencias'!G827","v":0}]
[null,null,"EXTENSIÓN",{"$f":"'Conteo y Equivalencias'!H827","v":0}]
[]
[]
["Número de Variables en Biota",null,"INICIAL",{"$f":"'Conteo y Equivalencias'!E872","v":0},"TOTAL",{"$f":"'Conteo y Equivalencias'!I872","v":0},"Número Total de Parámetros",{"$f":"'Conteo y Equivalencias'!M871","v":0}]
[null,null,"SEGUIMIENTO",{"$f":"'Conteo y Equivalencias'!F872","v":0}]
[null,null,"RENOVACIÓN",{"$f":"'Conteo y Equivalencias'!G872","v":0}]
[null,null,"EXTENSIÓN",{"$f":"'Conteo y Equivalencias'!H872","v":0}]
[]
[]
["Número de Variables en Aceites de Transformador y/o Superficies sólidas",null,"INICIAL",{"$f":"'Conteo y Equivalencias'!E895","v":0},"TOTAL",{"$f":"'Conteo y Equivalencias'!I895","v":0},"Número Total de Parámetros",{"$f":"'Conteo y Equivalencias'!M893","v":0}]
[null,null,"SEGUIMIENTO",{"$f":"'Conteo y Equivalencias'!F895","v":0}]
[null,null,"RENOVACIÓN",{"$f":"'Conteo y Equivalencias'!G895","v":0}]
[null,null,"EXTENSIÓN",{"$f":"'Conteo y Equivalencias'!H895","v":0}]
[]
[]
["Número de Variables en Suelo",null,"INICIAL",{"$f":"'Conteo y Equivalencias'!E1031","v":0},"TOTAL",{"$f":"'Conteo y Equivalencias'!I1031","v":0},"Número Total de Parámetros",{"$f":"'Conteo y Equivalencias'!M1029","v":0}]
[null,null,"SEGUIMIENTO",{"$f":"'Conteo y Equivalencias'!F1031","v":0}]
[null,null,"RENOVACIÓN",{"$f":"'Conteo y Equivalencias'!G1031","v":0}]
[null,null,"EXTENSIÓN",{"$f":"'Conteo y Equivalencias'!H1031","v":0}]
[]
[]
["Número de Variables en Lodo",null,"INICIAL",{"$f":"'Conteo y Equivalencias'!E1068","v":0},"TOTAL",{"$f":"'Conteo y Equivalencias'!I1068","v":0},"Número Total de Parámetros",{"$f":"'Conteo y Equivalencias'!M1067","v":0}]
[null,null,"SEGUIMIENTO",{"$f":"'Conteo y Equivalencias'!F1068","v":0}]
[null,null,"RENOVACIÓN",{"$f":"'Conteo y Equivalencias'!G1068","v":0}]
[null,null,"EXTENSIÓN",{"$f":"'Conteo y Equivalencias'!H1068","v":0}]
[]
[]
["Número de Variables en Sedimento",null,"INICIAL",{"$f":"'Conteo y Equivalencias'!E1116","v":0},"TOTAL",{"$f":"'Conteo y Equivalencias'!I1116","v":0},"Número Total de Parámetros",{"$f":"'Conteo y Equivalencias'!M1115","v":0}]
[null,null,"SEGUIMIENTO",{"$f":"'Conteo y Equivalencias'!F1116","v":0}]
[null,null,"RENOVACIÓN",{"$f":"'Conteo y Equivalencias'!G1116","v":0}]
[null,null,"EXTENSIÓN",{"$f":"'Conteo y Equivalencias'!H1116","v":0}]
[]
[]
["Número de Variables en Sedimento Marinos",null,"INICIAL",{"$f":"'Conteo y Equivalencias'!E1157","v":0},"TOTAL",{"$f":"'Conteo y Equivalencias'!I1157","v":0},"Número Total de Parámetros",{"$f":"'Conteo y Equivalencias'!M1156","v":0}]
[null,null,"SEGUIMIENTO",{"$f":"'Conteo y Equivalencias'!F1157","v":0}]
[null,null,"RENOVACIÓN",{"$f":"'Conteo y Equivalencias'!G1157","v":0}]
[null,null,"EXTENSIÓN",{"$f":"'Conteo y Equivalencias'!H1157","v":0}]
[]
[]
["Número de Variables en Biósolidos",null,"INICIAL",{"$f":"'Conteo y Equivalencias'!E1167","v":0},"TOTAL",{"$f":"'Conteo y Equivalencias'!I1167","v":0},"Número Total de Parámetros",{"$f":"'Conteo y Equivalencias'!M1166","v":0}]
[null,null,"SEGUIMIENTO",{"$f":"'Conteo y Equivalencias'!F1167","v":0}]
[null,null,"RENOVACIÓN",{"$f":"'Conteo y Equivalencias'!G1167","v":0}]
[null,null,"EXTENSIÓN",{"$f":"'Conteo y Equivalencias'!H1167","v":0}]
[]
[]
["Número de Variables en Fuentes Fijas",null,"INICIAL - TOMA DE MUESTRA",{"$f":"'Conteo y Equivalencias'!F1249","v":0},"SEGUIMIENTO - TOMA DE MUESTRA",{"$f":"'Conteo y Equivalencias'!I1249","v":0},"RENOVACIÓN - TOMA DE MUESTRA",{"$f":"'Conteo y Equivalencias'!L1249","v":0},"EXTENSIÓN - TOMA DE MUESTRA",{"$f":"'Conteo y Equivalencias'!O1249","v":0}]
[null,null,"INICIAL - ANÁLISIS DE LABORATORIO",{"$f":"'Conteo y Equivalencias'!E1249","v":0},"SEGUIMIENTO - ANÁLISIS DE LABORATORIO",{"$f":"'Conteo y Equivalencias'!H1249","v":0},"RENOVACIÓN - ANÁLISIS DE LABORATORIO",{"$f":"'Conteo y Equivalencias'!K1249","v":0},"EXTENSIÓN - ANÁLISIS DE LABORATORIO",{"$f":"'Conteo y Equivalencias'!N1249","v":0}]
[null,null,"INICIAL - TOMA DE MUESTRA Y ANÁLISIS",{"$f":"'Conteo y Equivalencias'!G1249","v":0},"SEGUIMIENTO - TOMA DE MUESTRA Y ANÁLISIS",{"$f":"'Conteo y Equivalencias'!J1249","v":0},"RENOVACIÓN - TOMA DE MUESTRA Y ANÁLISIS",{"$f":"'Conteo y Equivalencias'!M1249","v":0},"EXTENSIÓN - TOMA DE MUESTRA Y ANÁLISIS",{"$f":"'Conteo y Equivalencias'!P1249","v":0}]
[null,null,"TOTAL",null,null,{"$f":"'Conteo y Equivalencias'!Q1249","v":0},"Número Total de Parámetros",null,{"$f":"'Conteo y Equivalencias'!W1246","v":0}]
[]
[]
["Número de Variables en Ruido",null,"INICIAL",{"$f":"'Conteo y Equivalencias'!E1276","v":0},"TOTAL",{"$f":"'Conteo y Equivalencias'!I1276","v":0},"Número Total de Parámetros",{"$f":"SUM('Conteo y Equivalencias'!K1273:K1275)","v":0}]
[null,null,"SEGUIMIENTO",{"$f":"'Conteo y Equivalencias'!F1276","v":0}]
[null,null,"RENOVACIÓN",{"$f":"'Conteo y Equivalencias'!G1276","v":0}]
[null,null,"EXTENSIÓN",{"$f":"'Conteo y Equivalencias'!H1276","v":0}]
[]
[]
["Número de Variables en Calidad del Aire (Incluye Olores Ofensivos)",null,"INICIAL - TOMA DE MUESTRA",{"$f":"'Conteo y Equivalencias'!F1269+'Conteo y Equivalencias'!F1287","v":0},"SEGUIMIENTO - TOMA DE MUESTRA",{"$f":"'Conteo y Equivalencias'!I1269+'Conteo y Equivalencias'!I1287","v":0},"RENOVACIÓN - TOMA DE MUESTRA",{"$f":"'Conteo y Equivalencias'!L1269+'Conteo y Equivalencias'!L1287","v":0},"EXTENSIÓN - TOMA DE MUESTRA",{"$f":"'Conteo y Equivalencias'!O1269+'Conteo y Equivalencias'!O1287","v":0}]
[null,null,"INICIAL - ANÁLISIS DE LABORATORIO",{"$f":"'Conteo y Equivalencias'!E1269+'Conteo y Equivalencias'!E1287","v":0},"SEGUIMIENTO - ANÁLISIS DE LABORATORIO",{"$f":"'Conteo y Equivalencias'!H1269+'Conteo y Equivalencias'!H1287","v":0},"RENOVACIÓN - ANÁLISIS DE LABORATORIO",{"$f":"'Conteo y Equivalencias'!K1269+'Conteo y Equivalencias'!K1287","v":0},"EXTENSIÓN - ANÁLISIS DE LABORATORIO",{"$f":"'Conteo y Equivalencias'!N1269+'Conteo y Equivalencias'!N1287","v":0}]
[null,null,"INICIAL - TOMA DE MUESTRA Y ANÁLISIS",{"$f":"'Conteo y Equivalencias'!G1269+'Conteo y Equivalencias'!G1287","v":0},"SEGUIMIENTO - TOMA DE MUESTRA Y ANÁLISIS",{"$f":"'Conteo y Equivalencias'!J1269+'Conteo y Equivalencias'!J1287","v":0},"RENOVACIÓN - TOMA DE MUESTRA Y ANÁLISIS",{"$f":"'Conteo y Equivalencias'!M1269+'Conteo y Equivalencias'!M1287","v":0},"EXTENSIÓN - TOMA DE MUESTRA Y ANÁLISIS",{"$f":"'Conteo y Equivalencias'!P1269+'Conteo y Equivalencias'!P1287","v":0}]
[null,null,"TOTAL",null,null,{"$f":"'Conteo y Equivalencias'!Q1269+'Conteo y Equivalencias'!Q1287","v":0},"Número Total de Parámetros",null,{"$f":"'Conteo y Equivalencias'!X1265+'Conteo y Equivalencias'!W1285","v":0}]
[]
[]
["D.           DURACIÓN Y COSTOS DE LA EVALUACIÓN"]
[]
["Número Total de Parámetros a evaluar",null,null,{"$f":"ROUNDUP($I$93+$I$81+$H$60+$H$54+$H$48+$H$42+$H$36+$H$30+$H$20+$H$84+$H$72+$H$66+$H$25,0)","v":0},null,"Número de días de evaluación in situ",null,{"$f":"IF($D$98<=10,2,IF($D$98<=20,3,IF($D$98<=30,4,ROUNDUP(($D$98/10)+1,1))))","v":2}]
[null,null,null,null,null,"Número Total de Días de Evaluación",null,{"$f":"$H$98+2","v":4}]
[null,null,null,null,null,"Costo Total de la Evaluación",null,{"$f":"HLOOKUP($H$98+2,$C$105:$AZ$115,11)","v":0}]
["¿La visita se desarrollará fuera de Bogotá D.C.?",null,null,"Sí"]
[]
["COSTO DE LA EVALUACIÓN"]
["Nº Parámetros","VALOR DIARIO","1-10","11-20","21-30","31-40","41-50","51-60","61-70","71-80","81-90","91-100","101-110","111-120","121-130","131-140","141-150","151-160","161-170","171-180","181-190","191-200","201-210","211-220","221-230","231-240","241-250","251-260","261-270","271-280","281-290","291-300","301-310","311-320","321-330","331-340","341-350","351-360","361-370","371-380","381-390","391-400","401-410","411-420","421-430","431-440","441-450","451-460","461-470","471-480","481-490","491-500"]
["Días totales de evaluación",null,4,5,6,7,8,9,10,11,12,13,14,15,16,17,18,19,20,21,22,23,24,25,26,27,28,29,30,31,32,33,34,35,36,37,38,39,40,41,42,43,44,45,46,47,48,49,50,51,52,52]
["Días de visita (In Situ)",null,2,3,4,5,6,7,8,9,10,11,12,13,14,15,16,17,18,19,20,21,22,23,24,25,26,27,28,29,30,31,32,33,34,35,36,37,38,39,40,41,42,43,44,45,46,47,48,49,50,50]
["Honorarios líder",null,{"$f":"$B$107*C105","v":0},0,0,0,0,0,0,0,0,0,0,0,0,0,0,0,0,0,0,0,0,0,0,0,0,0,0,0,0,0,0,0,0,0,0,0,0,0,0,0,0,0,0,0,0,0,0,0,0,0]
["Honorarios asistente 1",null,{"$f":"$B$108*C105","v":0},0,0,0,0,0,0,0,0,0,0,0,0,0,0,0,0,0,0,0,0,0,0,0,0,0,0,0,0,0,0,0,0,0,0,0,0,0,0,0,0,0,0,0,0,0,0,0,0,0]
["Viáticos líder",null,0,0,0,0,0,0,0,0,0,0,0,0,0,0,0,0,0,0,0,0,0,0,0,0,0,0,0,0,0,0,0,0,0,0,0,0,0,0,0,0,0,0,0,0,0,0,0,0,0,0]
["Viáticos asistente 1",null,0,0,0,0,0,0,0,0,0,0,0,0,0,0,0,0,0,0,0,0,0,0,0,0,0,0,0,0,0,0,0,0,0,0,0,0,0,0,0,0,0,0,0,0,0,0,0,0,0,0]
["Sub-total",{"$f":"SUM(B107:B110)","v":0},0,0,0,0,0,0,0,0,0,0,0,0,0,0,0,0,0,0,0,0,0,0,0,0,0,0,0,0,0,0,0,0,0,0,0,0,0,0,0,0,0,0,0,0,0,0,0,0,0,0]
["Costo administrativo 20%",{"$f":"+B111*0.2","v":0},{"$f":"C111*0.2","v":0},0,0,0,0,0,0,0,0,0,0,0,0,0,0,0,0,0,0,0,0,0,0,0,0,0,0,0,0,0,0,0,0,0,0,0,0,0,0,0,0,0,0,0,0,0,0,0,0,0]
["Total",{"$f":"MROUND(SUM(B111:B112),1)","v":0},{"$f":"IF($D$101=\"Sí\",MROUND(C116*$B$113,1),MROUND(SUM(C111:C112),1))","v":0},0,0,0,0,0,0,0,0,0,0,0,0,0,0,0,0,0,0,0,0,0,0,0,0,0,0,0,0,0,0,0,0,0,0,0,0,0,0,0,0,0,0,0,0,0,0,0,0,0]
["IVA 16% (SIIF Nación)",{"$f":"MROUND(B113*0.16,10)","v":0},0,0,0,0,0,0,0,0,0,0,0,0,0,0,0,0,0,0,0,0,0,0,0,0,0,0,0,0,0,0,0,0,0,0,0,0,0,0,0,0,0,0,0,0,0,0,0,0,0,0]
["GRAN TOTAL",{"$f":"SUM(B113:B114)","v":0},0,0,0,0,0,0,0,0,0,0,0,0,0,0,0,0,0,0,0,0,0,0,0,0,0,0,0,0,0,0,0,0,0,0,0,0,0,0,0,0,0,0,0,0,0,0,0,0,0,0]
["Factor Equivalencia",0.57999999999999996,{"$f":"C105-$B$116","v":3.42},4.42,5.42,6.42,7.42,8.42,9.42,10.42,11.42,12.42,13.42,14.42,15.42,16.420000000000002,17.420000000000002,18.420000000000002,19.420000000000002,20.420000000000002,21.42,22.42,23.42,24.42,25.42,26.42,27.42,28.42,29.42,30.42,31.42,32.42,33.42,34.42,35.42,36.42,37.42,38.42,39.42,40.42,41.42,42.42,43.42,44.42,45.42,46.42,47.42,48.42,49.42,50.42,51.42,51.42]
[]
["E.          CONSIDERACIONES PARA ADICIONAR TIEMPO A LA COTIZACIÓN"]
[]
["Teniendo en cuenta los desplazamientos necesarios para la realización de las actividades de toma de muestra / muestreo se considera necesario adicionar:",null,null,null,null,null,null,0,"días."]
[]
["Con base en las consideraciones realizadas en el Acto de Inicio se considera necesario adicionar:",null,null,null,null,null,null,0,"días."]
[]
["Considerando la capacidad operativa del OEC se hace necesaria la adición de:",null,null,null,null,null,null,0,"días."]
[]
["Por solicitud propia realizada mediante el radicado No.",null,null,null,"con fecha:",null,"Se realiza la adición de:",0,"días."]
[]
["Consideraciones/ Observaciones del Evaluador de la cotización:"]
[]
[]
[]
[]
[]
[]
[]
[]
["Con base en lo anterior se hace necesaria la adición de:",null,null,null,null,null,null,null,"días."]
[]
[]
["F.          CONSIDERACIONES PARA RETIRAR TIEMPO A LA COTIZACIÓN"]
[]
["Teniendo en cuenta los desplazamientos necesarios para la realización de las actividades de toma de muestra / muestreo se considera necesario retirar:",null,null,null,null,null,null,0,"días."]
[]
["Con base en las consideraciones realizadas en el Acto de Inicio se considera necesario retirar:",null,null,null,null,null,null,0,"días."]
[]
["Considerando la capacidad operativa del OEC se hace necesario retirar de la cotización:",null,null,null,null,null,null,0,"días."]
[]
["Por solicitud propia realizada mediante el radicado No.",null,null,null,"con fecha:",null,"Se retiran de la cotización:",0,"días."]
[]
["Consideraciones/ Observaciones del Evaluador de la cotización:"]
[]
[]
[]
[]
[]
[]
[]
[]
["Con base en lo anterior se hace necesario retirar de la cotización:",null,null,null,null,null,null,null,"días."]
[]
[]
[]
["G.         COSTOS Y DURACIÓN DE LA EVALUACIÓN  CONSIDERANDO LOS CAMBIOS PLANTEADOS"]
[]
[]
["Costos y Duración Inicial de la Evaluación",null,null,null,"Resumen de Cambios Planteados"]
["Número de días de evaluación in situ",null,{"$f":"H98","v":2},null,"Número de días que se deben adicionar",null,{"$f":"H137+H126+H124+H122+H120","v":0},"Días"]
["Número Total de Días de Evaluación",null,4,null,"Número de días que se deben retirar",null,{"$f":"H159+H148+H146+H144+H142","v":0}]
["Costo Total de la Evaluación",null,0]
[]
[]
[null,null,"Costos y Duración de la Evaluación Considerando los Cambios Planteados"]
[null,null,"Nuevo Número de Días de evaluación in situ",null,{"$f":"IF(ROUNDUP(C167+(G167-G168),0)<2,2,ROUNDUP(C167+G167-G168,0))","v":2}]
[null,null,"Nuevo Número Total de Días de evaluación",null,{"$f":"E173+2","v":4}]
[null,null,"Nuevo Costo de la Evaluación",null,{"$f":"HLOOKUP($E$173+2,$C$105:$AZ$115,11)","v":0}]
[]
["PROYECTADO POR:"]
["REVISADO POR:"]
["FECHA:"]
[]
["CONTROL DE AJUSTES","V 5.2  revisada en febrero de 2021"]
[]
["HISTORIAL DE CAMBIOS (Esta parte no debe diligenciarse. Hace parte permanente del formato)"]
["VERSIÓN","FECHA",null,"DESCRIPCIÓN"]
[1,"3/27/2019",null,"Oficialización del documento en el SGI del Instituto."]
[2,"2021-08-27",null,"Incluir control de ajustes de las macros con fecha"]
[3,"2022-07-28",null,"Cambio de código por reasignación del Grupo de Acreditación al proceso de Servicios"]
[4,"2025-07-07",null,"Se actualiza el Formato de acuerdo con el memorando enviado por la OAP memorando 20251100097283 lineamientos para la actualización documental en el marco de la implementación del aplicativo suite visión. El código pasa de M-S-A-F032 a SAL-F032"]
["ELABORÓ",null,"REVISÓ:",null,"APROBÓ:"]
["Diana Faride Fandiño Herran",null,"Leonardo Alfredo Pineda Pardo",null,"Leonardo Alfredo Pineda Pardo"]
["Grupo de Acreditación",null,"Coordinador Grupo de Acreditación",null,"Coordinador Grupo de Acreditación"]

{"sheet":"Resumen del Alcance","index":3,"n_rows":63,"n_cols":9,"rows_kept":63,"cut":false,"hidden":false,"merged":[[0,0,3,1],[0,2,3,6],[25,0,25,7],[26,0,26,7],[27,0,27,1],[27,2,27,3],[27,4,27,5],[27,6,27,7],[17,0,17,7],[18,0,18,7],[23,2,23,3],[23,4,23,5],[19,0,19,1],[19,2,19,3],[19,4,19,5],[19,6,19,7],[21,0,21,7],[22,0,22,7],[23,0,23,1],[23,6,23,7],[13,0,13,7],[14,0,14,7],[15,0,15,1],[15,2,15,3],[15,4,15,5],[15,6,15,7],[7,0,7,7],[8,0,8,7],[9,0,9,7],[10,0,10,1],[10,2,10,3],[10,4,10,5],[10,6,10,7],[4,0,4,7],[5,0,5,7],[6,0,6,1],[6,2,6,3],[6,4,6,5],[6,6,6,7],[57,0,57,1],[57,2,57,3],[57,4,57,5],[57,6,57,7],[58,0,58,1],[58,2,58,3],[58,4,58,5],[58,6,58,7],[59,0,59,8],[62,0,62,1],[62,2,62,3],[62,4,62,5],[62,6,62,7],[56,4,56,5],[56,6,56,7],[54,0,54,7],[55,0,55,1],[55,2,55,3],[55,4,55,5],[55,6,55,7],[56,0,56,1],[56,2,56,3],[51,0,51,1],[51,2,51,3],[51,4,51,5],[51,6,51,7],[53,0,53,7],[44,0,44,7],[45,0,45,7],[46,0,46,7],[49,0,49,8],[50,0,50,8],[47,0,47,1],[47,2,47,3],[47,4,47,5],[47,6,47,7],[40,0,40,7],[41,0,41,7],[42,0,42,7],[43,0,43,1],[43,2,43,3],[43,4,43,5],[43,6,43,7],[37,0,37,7],[38,0,38,7],[39,0,39,1],[39,2,39,3],[39,4,39,5],[39,6,39,7],[33,0,33,7],[34,0,34,7],[35,0,35,1],[35,2,35,3],[35,4,35,5],[35,6,35,7],[29,0,29,7],[30,0,30,7],[31,0,31,1],[31,2,31,3],[31,4,31,5],[31,6,31,7]]}
[null,null,"FORMATO COTIZACIÓN\nGRUPO ACREDITACION DE LABORATORIOS\nIDEAM",null,null,null,null,"Código: SAL-F032"]
[null,null,null,null,null,null,null,"Versión: 4"]
[null,null,null,null,null,null,null,"Fecha: 07/07/2025"]
[]
["VARIABLES A EVALUAR"]
["MATRIZ AGUA CONTINENTALES"]
["18. Matriz / Grupo",null,"19. Variable",null,"20. Variables solicitadas con fines de acreditación (Seleccionar las variables para las cuales solicita acreditación, indicando si corresponde a evaluación “INICIAL”, “SEGUIMIENTO”, “RENOVACIÓN” o “EXTENSIÓN”)",null,"21. Método de Referencia (Indicar el código del método de referencia que se solicita acreditar, incluyendo los métodos de procesos preliminares como extracción o digestión , p. ej. SM 3030 y SM 3111 B)"]
[]
["VARIABLES A EVALUAR"]
["MATRIZ AGUA MARINAS"]
["18. Matriz / Grupo",null,"19. Variable",null,"20. Variables solicitadas con fines de acreditación (Seleccionar las variables para las cuales solicita acreditación, indicando si corresponde a evaluación “INICIAL”, “SEGUIMIENTO”, “RENOVACIÓN” o “EXTENSIÓN”)",null,"21. Método de Referencia (Indicar el código del método de referencia que se solicita acreditar, incluyendo los métodos de procesos preliminares como extracción o digestión , p. ej. SM 3030 y SM 3111 B)"]
[]
[]
["VARIABLES A EVALUAR"]
["MATRIZ RESIDUOS PELIGROSOS"]
["18. Matriz / Grupo",null,"19. Variable",null,"20. Variables solicitadas con fines de acreditación (Seleccionar las variables para las cuales solicita acreditación, indicando si corresponde a evaluación “INICIAL”, “SEGUIMIENTO”, “RENOVACIÓN” o “EXTENSIÓN”)",null,"21. Método de Referencia (Indicar el código del método de referencia que se solicita acreditar, incluyendo los métodos de procesos preliminares como extracción o digestión , p. ej. SM 3030 y SM 3111 B)"]
[]
["VARIABLES A EVALUAR"]
["MATRIZ BIOTA"]
["18. Matriz / Grupo",null,"19. Variable",null,"20. Variables solicitadas con fines de acreditación (Seleccionar las variables para las cuales solicita acreditación, indicando si corresponde a evaluación “INICIAL”, “SEGUIMIENTO”, “RENOVACIÓN” o “EXTENSIÓN”)",null,"21. Método de Referencia (Indicar el código del método de referencia que se solicita acreditar, incluyendo los métodos de procesos preliminares como extracción o digestión , p. ej. SM 3030 y SM 3111 B)"]
[]
["VARIABLES A EVALUAR"]
["MATRIZ ACEITES DE TRANSFORMADOR"]
["18. Matriz / Grupo",null,"19. Variable",null,"20. Variables solicitadas con fines de acreditación (Seleccionar las variables para las cuales solicita acreditación, indicando si corresponde a evaluación “INICIAL”, “SEGUIMIENTO”, “RENOVACIÓN” o “EXTENSIÓN”)",null,"21. Método de Referencia (Indicar el código del método de referencia que se solicita acreditar, incluyendo los métodos de procesos preliminares como extracción o digestión , p. ej. SM 3030 y SM 3111 B)"]
[]
["VARIABLES A EVALUAR"]
["MATRIZ SUELO"]
["18. Matriz / Grupo",null,"19. Variable",null,"20. Variables solicitadas con fines de acreditación (Seleccionar las variables para las cuales solicita acreditación, indicando si corresponde a evaluación “INICIAL”, “SEGUIMIENTO”, “RENOVACIÓN” o “EXTENSIÓN”)",null,"21. Método de Referencia (Indicar el código del método de referencia que se solicita acreditar, incluyendo los métodos de procesos preliminares como extracción o digestión , p. ej. SM 3030 y SM 3111 B)"]
[]
["VARIABLES A EVALUAR"]
["MATRIZ LODO"]
["18. Matriz / Grupo",null,"19. Variable",null,"20. Variables solicitadas con fines de acreditación (Seleccionar las variables para las cuales solicita acreditación, indicando si corresponde a evaluación “INICIAL”, “SEGUIMIENTO”, “RENOVACIÓN” o “EXTENSIÓN”)",null,"21. Método de Referencia (Indicar el código del método de referencia que se solicita acreditar, incluyendo los métodos de procesos preliminares como extracción o digestión , p. ej. SM 3030 y SM 3111 B)"]
[]
["VARIABLES A EVALUAR"]
["MATRIZ SEDIMENTO"]
["18. Matriz / Grupo",null,"19. Variable",null,"20. Variables solicitadas con fines de acreditación (Seleccionar las variables para las cuales solicita acreditación, indicando si corresponde a evaluación “INICIAL”, “SEGUIMIENTO”, “RENOVACIÓN” o “EXTENSIÓN”)",null,"21. Método de Referencia (Indicar el código del método de referencia que se solicita acreditar, incluyendo los métodos de procesos preliminares como extracción o digestión , p. ej. SM 3030 y SM 3111 B)"]
[]
["VARIABLES A EVALUAR"]
["MATRIZ SEDIMENTO MARINOS"]
["18. Matriz / Grupo",null,"19. Variable",null,"20. Variables solicitadas con fines de acreditación (Seleccionar las variables para las cuales solicita acreditación, indicando si corresponde a evaluación “INICIAL”, “SEGUIMIENTO”, “RENOVACIÓN” o “EXTENSIÓN”)",null,"21. Método de Referencia (Indicar el código del método de referencia que se solicita acreditar, incluyendo los métodos de procesos preliminares como extracción o digestión , p. ej. SM 3030 y SM 3111 B)"]
[]
["VARIABLES A EVALUAR"]
["MATRIZ BIOSOLIDOS"]
["18. Matriz / Grupo",null,"19. Variable",null,"20. Variables solicitadas con fines de acreditación (Seleccionar las variables para las cuales solicita acreditación, indicando si corresponde a evaluación “INICIAL”, “SEGUIMIENTO”, “RENOVACIÓN” o “EXTENSIÓN”)",null,"21. Método de Referencia (Indicar el código del método de referencia que se solicita acreditar, incluyendo los métodos de procesos preliminares como extracción o digestión , p. ej. SM 3030 y SM 3111 B)"]
[]
["VARIABLES A EVALUAR"]
["MATRIZ AIRE - EMISIONES GENERADAS POR FUENTES FIJAS"]
["18. Matriz / Grupo",null,"Si el metodo de referencia solicitado por el OEC es diferente al que aparece a continuación (USEPA), este se debe indicar en la última columna a la derecha, de lo contrario confirme si aplica el metodo USEPA enunciado",null,"Variables solicitadas con fines de acreditación (Seleccionar las variables para las cuales solicita acreditación, indicando si corresponde a evaluación “INICIAL”, “SEGUIMIENTO”, “RENOVACIÓN” o “EXTENSIÓN”.)",null,"Método de Referencia"]
[]
["VARIABLES A EVALUAR"]
["MATRIZ AIRE - INMISIONES O CALIDAD DEL AIRE"]
["Matriz / Grupo",null,"Si el metodo de referencia solicitado por el OEC es diferente al que aparece a continuación (USEPA), este se debe indicar en la última columna a la derecha, de lo contrario confirme si aplica el metodo USEPA enunciado",null,"Variables solicitadas con fines de acreditación (Seleccionar las variables para las cuales solicita acreditación, indicando si corresponde a evaluación “INICIAL”, “SEGUIMIENTO”, “RENOVACIÓN” o “EXTENSIÓN”)",null,"Método de Referencia",null,"Número de Equipos a acreditar"]
[]
["VARIABLES A EVALUAR"]
["MATRIZ RUIDO"]
["18. Matriz / Grupo",null,"19. Variable",null,"20. Variables solicitadas con fines de acreditación (Seleccionar las variables para las cuales solicita acreditación, indicando si corresponde a evaluación “INICIAL”, “SEGUIMIENTO”, “RENOVACIÓN” o “EXTENSIÓN”)",null,"21. Método de Referencia (Indicar el código del método de referencia que se solicita acreditar, incluyendo los métodos de procesos preliminares como extracción o digestión , p. ej. SM 3030 y SM 3111 B)"]
["Calidad de Aire",null,"Emisión de Ruido",null,{"$f":"IF('Conteo y Equivalencias'!K1683>=1,Alcance!E1693,Alcance!E1693)","v":0}]
["Calidad de Aire",null,"Emisión de Ruido",null,{"$f":"IF('Conteo y Equivalencias'!K1684>=1,Alcance!E1694,Alcance!E1694)","v":0}]
["Calidad de Aire",null,"Ruido Ambiental",null,"SEGUIMIENTO"]
[]
["VARIABLES A EVALUAR"]
["MATRIZ AIRE - INMISIONES O CALIDAD DEL AIRE - ESTACIONES AUTOMÁTICAS"]
["Matriz / Grupo",null,"Si el metodo de referencia solicitado por el OEC es diferente al que aparece a continuación (USEPA), este se debe indicar en la última columna a la derecha, de lo contrario confirme si aplica el metodo USEPA enunciado",null,{"$f":"IF('Conteo y Equivalencias'!K1689>=1,Alcance!E1699,Alcance!E1699)","v":"Variables solicitadas con fines de acreditación (Seleccionar las variables para las cuales solicita acreditación, indicando si corresponde a evaluación “INICIAL”, “SEGUIMIENTO”, “RENOVACIÓN” o “EXTENSIÓN”)"},null,"Método de Referencia",null,"Número de Estaciones a acreditar"]