{"text_format":"1","workbook":"xlsx","n_sheets":1,"sheets":["Hoja1"],"not_rendered":{"charts":0,"images":0,"macros":0,"external_links":6,"defined_names":18,"comments":1,"pivot_tables":0},"unopened":[],"bounds":{"document_bytes":16777216,"sheet_cells":100000,"rows_first":2000,"rows_last":500,"rows_between":2000,"halvings":0,"cell_chars":16384,"cell_head_chars":4096},"cells_cut":0,"cells_raw":0,"read":"whole","date_system":"1900"}

{"sheet":"Hoja1","index":0,"n_rows":3107,"n_cols":32,"rows_kept":3107,"cut":false,"hidden":false,"merged":[[0,0,3,2],[0,3,3,13],[0,14,0,15],[1,14,1,15],[2,14,2,15],[3,14,3,15],[9,12,9,15],[9,4,9,6],[9,7,9,10],[5,1,5,2],[7,1,7,2],[9,0,9,2]]}
[null,null,null,null,null,null,null,null,null,null,null,null,null,null,"Código: M-AC-F012"]
[null,null,null,null,null,null,null,null,null,null,null,null,null,null,"Versión: 01",null,null,null,null,null,null,null,null,null,null,null,"TIPO DE ENTIDAD O USUARIO",null,null,null,null,"DÍAS NO  LABORABLES "]
[null,null,null,null,null,null,null,null,null,null,null,null,null,null,"Fecha: 15/01/2017",null,null,null,null,null,null,null,null,null,null,null,"CIUDADANO",null,null,null,null,"2021-01-01"]
[null,null,null,null,null,null,null,null,null,null,null,null,null,null,"Página: 1 de 1",null,null,null,null,null,null,null,null,null,null,null,"ACADEMIA ",null,null,null,null,"2021-01-02"]
[null,null,null,null,null,null,null,null,null,null,null,null,null,null,null,null,null,null,null,null,null,null,null,null,null,null,"EMPRESA PRIVADA",null,null,null,null,"2021-01-03"]
[null,"Dependencia:",null,null,null,null,null,null,null,null,null,null,null,null,null,null,null,null,null,null,null,null,null,null,null,null,"ENTIDAD PÚBLICA",null,null,null,null,"2021-01-09"]
[null,null,null,null,null,null,null,null,null,null,null,null,null,null,null,null,null,null,null,null,null,null,null,null,null,null,"EXTRANJERO",null,null,null,null,"2021-01-10"]
[null,"Período de Reporte",null,null,null,null,null,null,null,null,null,null,null,null,null,null,null,null,null,null,null,null,null,null,null,null,"FUNCIONARIO IDEAM",null,null,null,null,"2021-01-11"]
[null,null,null,null,null,null,null,null,null,null,null,null,null,null,null,null,null,null,null,null,null,null,null,null,null,null,"ONG/ORG",null,null,null,null,"2021-01-16"]
["DATOS DEL REQUERIMIENTO",null,null,null,"POSTURA DE REQUERIMIENTO",null,null,"RESOLUCION DEL REQUERIMIENTO",null,null,null,null,"ANÁLISIS DE RESPUESTAS",null,null,null,null,null,null,null,null,null,null,null,null,null,null,null,null,null,null,"2021-01-17"]
["No.","No.  DE REQUERIMIENTO","FECHA DE REQUERIMIENTO\n(dd/mm/aaaa)","TIPO DE ENTIDAD O USUARIO","MEDIO RECEPCIÓN","TIPO DE REQUERIMIENTO","PRODUCTO O SERVICIO AL CUAL SE REFIERE EL REQUERIMIENTO","¿ EL REQUERIMIENTO FUE ESCALADO?","DEPENDENCIA QUE DA RESPUESTA O A LA QUE SE DIRECCIONA","FECHA DE RESOLUCIÓN DEL REQUERIMIENTO\n(dd/mm/aaaa)","CANAL POR EL CUAL FUE RESUELTO EL REQUERIMIENTO","OBSERVACIONES","FECHA OPORTUNA DE RESPUESTA","ESTADO (A TIEMPO, FUERA DE TIEMPO, SIN RESPUESTA)","TIEMPO QUE TARDÓ EN  DAR RESPUESTA","DÍAS VENCIDOS CON RESPECTO A FECHA OPORTUNA DE RESPUESTA",null,null,null,null,null,null,null,null,null,null,"GÉNERO",null,null,null,null,"2021-01-23"]
[{"$f":"IF(B12<>\"\",1,\"\")","v":1},20219050039332,"2021-04-01","CIUDADANO","MODULO CONTACTENOS","SOLICITUD DE INFORMACIÓN Y DOCUMENTOS","SOLICITUD DE INFORMACIÓN HIDROMETEOROLÓGICA","SI","SUBDIRECCIÓN DE HIDROLOGÍA","2021-04-26","CORREO ELECTRÓNICO",null,{"$f":"IFERROR(WORKDAY(C12,S12,DiasNOLaborables),\"\")","v":"2021-04-30"},{"$f":"+IF(C12=\"\",\"\",IF(J12=\"\",\"SIN RESPUESTA\",(IF(J12<=M12,\"A TIEMPO\",\"FUERA DE TIEMPO\"))))","v":"A TIEMPO"},{"$f":"IF(J12=\"\",\"\",NETWORKDAYS(C12+1,J12,DiasNOLaborables))","v":16},{"$f":"IF(NETWORKDAYS(M12+1,J12,DiasNOLaborables)<=0,\"\",NETWORKDAYS(M12+1,J12,DiasNOLaborables))","v":""},null,null,{"$f":"IFERROR(VLOOKUP(F13,$AA$51:$AB$64,2),\"\")","v":20}]
[{"$f":"IF(B13<>\"\",A12+1,\"\")","v":2},20219050039342,"2021-04-01","CIUDADANO","MODULO CONTACTENOS","SOLICITUD DE INFORMACIÓN Y DOCUMENTOS","SOLICITUD DE INFORMACIÓN HIDROMETEOROLÓGICA","NO","GRUPO DE SERVICIO AL CIUDADANO ","2021-04-26","CORREO ELECTRÓNICO",null,{"$f":"IFERROR(WORKDAY(C13,S13,DiasNOLaborables),\"\")","v":"2021-04-30"},{"$f":"+IF(C13=\"\",\"\",IF(J13=\"\",\"SIN RESPUESTA\",(IF(J13<=M13,\"A TIEMPO\",\"FUERA DE TIEMPO\"))))","v":"A TIEMPO"},{"$f":"IF(J13=\"\",\"\",NETWORKDAYS(C13+1,J13,DiasNOLaborables))","v":16},{"$f":"IF(NETWORKDAYS(M13+1,J13,DiasNOLaborables)<=0,\"\",NETWORKDAYS(M13+1,J13,DiasNOLaborables))","v":""},null,null,20,null,null,null,null,null,null,null,"FEMENINO",null,null,null,null,"2021-01-24"]
[{"$f":"IF(B14<>\"\",A13+1,\"\")","v":3},20219050039392,"2021-04-01","ACADEMIA ","MODULO CONTACTENOS","SOLICITUD DE INFORMACIÓN Y DOCUMENTOS","SOLICITUD DE INFORMACIÓN HIDROMETEOROLÓGICA","NO","GRUPO DE SERVICIO AL CIUDADANO ","2021-04-26","CORREO ELECTRÓNICO",null,{"$f":"IFERROR(WORKDAY(C14,S13,DiasNOLaborables),\"\")","v":"2021-04-30"},{"$f":"+IF(C14=\"\",\"\",IF(J14=\"\",\"SIN RESPUESTA\",(IF(J14<=M14,\"A TIEMPO\",\"FUERA DE TIEMPO\"))))","v":"A TIEMPO"},{"$f":"IF(J14=\"\",\"\",NETWORKDAYS(C14+1,J14,DiasNOLaborables))","v":16},{"$f":"IF(NETWORKDAYS(M14+1,J14,DiasNOLaborables)<=0,\"\",NETWORKDAYS(M14+1,J14,DiasNOLaborables))","v":""},null,null,20,null,null,null,null,null,null,null,"MASCULINO",null,null,null,null,"2021-01-30"]
[4,20219050039422,"2021-04-01","ACADEMIA ","MODULO CONTACTENOS","SOLICITUD DE INFORMACIÓN Y DOCUMENTOS","SOLICITUD DE INFORMACIÓN HIDROMETEOROLÓGICA","NO","GRUPO DE SERVICIO AL CIUDADANO ","2021-04-26","CORREO ELECTRÓNICO",null,{"$f":"IFERROR(WORKDAY(C15,S14,DiasNOLaborables),\"\")","v":"2021-04-30"},{"$f":"+IF(C15=\"\",\"\",IF(J15=\"\",\"SIN RESPUESTA\",(IF(J15<=M15,\"A TIEMPO\",\"FUERA DE TIEMPO\"))))","v":"A TIEMPO"},{"$f":"IF(J15=\"\",\"\",NETWORKDAYS(C15+1,J15,DiasNOLaborables))","v":16},{"$f":"IF(NETWORKDAYS(M15+1,J15,DiasNOLaborables)<=0,\"\",NETWORKDAYS(M15+1,J15,DiasNOLaborables))","v":""},null,null,20,null,null,null,null,null,null,null,"PERSONA JURÍDICA",null,null,null,null,"2021-01-31"]
[5,20219050039452,"2021-04-01","CIUDADANO","MODULO CONTACTENOS","SOLICITUD DE INFORMACIÓN Y DOCUMENTOS","SOLICITUD DE INFORMACIÓN HIDROMETEOROLÓGICA","NO","GRUPO DE SERVICIO AL CIUDADANO ","2021-04-26","CORREO ELECTRÓNICO",null,{"$f":"IFERROR(WORKDAY(C16,S15,DiasNOLaborables),\"\")","v":"2021-04-30"},{"$f":"+IF(C16=\"\",\"\",IF(J16=\"\",\"SIN RESPUESTA\",(IF(J16<=M16,\"A TIEMPO\",\"FUERA DE TIEMPO\"))))","v":"A TIEMPO"},{"$f":"IF(J16=\"\",\"\",NETWORKDAYS(C16+1,J16,DiasNOLaborables))","v":16},{"$f":"IF(NETWORKDAYS(M16+1,J16,DiasNOLaborables)<=0,\"\",NETWORKDAYS(M16+1,J16,DiasNOLaborables))","v":""},null,null,20,null,null,null,null,null,null,null,null,null,null,null,null,"2021-02-06"]
[6,20219050039462,"2021-04-01","CIUDADANO","MODULO CONTACTENOS","SOLICITUD DE INFORMACIÓN Y DOCUMENTOS","SOLICITUD DE INFORMACIÓN HIDROMETEOROLÓGICA","NO","GRUPO DE SERVICIO AL CIUDADANO ","2021-04-26","CORREO ELECTRÓNICO",null,{"$f":"IFERROR(WORKDAY(C17,S16,DiasNOLaborables),\"\")","v":"2021-04-30"},{"$f":"+IF(C17=\"\",\"\",IF(J17=\"\",\"SIN RESPUESTA\",(IF(J17<=M17,\"A TIEMPO\",\"FUERA DE TIEMPO\"))))","v":"A TIEMPO"},{"$f":"IF(J17=\"\",\"\",NETWORKDAYS(C17+1,J17,DiasNOLaborables))","v":16},"",null,null,20,null,null,null,null,null,null,null,"DEPENDENCIA QUE DA RESPUESTA O LA QUE SE DIRECCIONA",null,null,null,null,"2021-02-07"]
[7,20219050039472,"2021-04-01","ACADEMIA ","MODULO CONTACTENOS","SOLICITUD DE INFORMACIÓN Y DOCUMENTOS","SOLICITUD DE INFORMACIÓN HIDROMETEOROLÓGICA","SI","SUBDIRECCIÓN DE HIDROLOGÍA","2021-04-26","CORREO ELECTRÓNICO",null,{"$f":"IFERROR(WORKDAY(C18,S17,DiasNOLaborables),\"\")","v":"2021-04-30"},{"$f":"+IF(C18=\"\",\"\",IF(J18=\"\",\"SIN RESPUESTA\",(IF(J18<=M18,\"A TIEMPO\",\"FUERA DE TIEMPO\"))))","v":"A TIEMPO"},{"$f":"IF(J18=\"\",\"\",NETWORKDAYS(C18+1,J18,DiasNOLaborables))","v":16},"",null,null,35,null,null,null,null,null,null,null,"AREA OPERATIVA No. 1",null,null,null,null,"2021-02-13"]
[8,20219050039412,"2021-04-01","EMPRESA PRIVADA","MODULO CONTACTENOS","CERTIFICACIONES DE TIEMPO, CLIMA Y EVENTOS HIDROLÓGICOS","CERTIFICACIONES DE TIEMPO Y CLIMA","SI","SUBDIRECCIÓN DE METEOROLOGÍA","2021-04-14","CORREO ELECTRÓNICO",null,{"$f":"IFERROR(WORKDAY(C19,S18,DiasNOLaborables),\"\")","v":"2021-05-24"},{"$f":"+IF(C19=\"\",\"\",IF(J19=\"\",\"SIN RESPUESTA\",(IF(J19<=M19,\"A TIEMPO\",\"FUERA DE TIEMPO\"))))","v":"A TIEMPO"},{"$f":"IF(J19=\"\",\"\",NETWORKDAYS(C19+1,J19,DiasNOLaborables))","v":8},"",null,null,20,null,null,null,null,null,null,null,"AREA OPERATIVA No. 2",null,null,null,null,"2021-02-14"]
[9,20219050039482,"2021-04-02","CIUDADANO","MODULO CONTACTENOS","SOLICITUD DE INFORMACIÓN Y DOCUMENTOS","BOSQUES","SI","SUBDIRECCIÓN DE ECOSISTEMAS E INFORMACIÓN AMBIENTAL","2021-04-16","CORREO ELECTRÓNICO",null,{"$f":"IFERROR(WORKDAY(C20,S19,DiasNOLaborables),\"\")","v":"2021-04-30"},{"$f":"+IF(C20=\"\",\"\",IF(J20=\"\",\"SIN RESPUESTA\",(IF(J20<=M20,\"A TIEMPO\",\"FUERA DE TIEMPO\"))))","v":"A TIEMPO"},{"$f":"IF(J20=\"\",\"\",NETWORKDAYS(C20+1,J20,DiasNOLaborables))","v":10},"",null,null,20,null,null,null,null,null,null,null,"AREA OPERATIVA No. 3",null,null,null,null,"2021-01-20"]
[10,20219050039512,"2021-04-02","CIUDADANO","MODULO CONTACTENOS","SOLICITUD DE INFORMACIÓN Y DOCUMENTOS","SOLICITUD DE INFORMACIÓN HIDROMETEOROLÓGICA","NO","GRUPO DE SERVICIO AL CIUDADANO ","2021-04-26","CORREO ELECTRÓNICO",null,{"$f":"IFERROR(WORKDAY(C21,S20,DiasNOLaborables),\"\")","v":"2021-04-30"},{"$f":"+IF(C21=\"\",\"\",IF(J21=\"\",\"SIN RESPUESTA\",(IF(J21<=M21,\"A TIEMPO\",\"FUERA DE TIEMPO\"))))","v":"A TIEMPO"},{"$f":"IF(J21=\"\",\"\",NETWORKDAYS(C21+1,J21,DiasNOLaborables))","v":16},"",null,null,20,null,null,null,null,null,null,null,"AREA OPERATIVA No. 4",null,null,null,null,"2021-02-21"]
[11,20219050039522,"2021-04-02","ACADEMIA ","MODULO CONTACTENOS","SOLICITUD DE INFORMACIÓN Y DOCUMENTOS","SOLICITUD DE INFORMACIÓN HIDROMETEOROLÓGICA","NO","GRUPO DE SERVICIO AL CIUDADANO ","2021-04-26","CORREO ELECTRÓNICO",null,{"$f":"IFERROR(WORKDAY(C22,S21,DiasNOLaborables),\"\")","v":"2021-04-30"},{"$f":"+IF(C22=\"\",\"\",IF(J22=\"\",\"SIN RESPUESTA\",(IF(J22<=M22,\"A TIEMPO\",\"FUERA DE TIEMPO\"))))","v":"A TIEMPO"},{"$f":"IF(J22=\"\",\"\",NETWORKDAYS(C22+1,J22,DiasNOLaborables))","v":16},"",null,null,20,null,null,null,null,null,null,null,"AREA OPERATIVA No. 5",null,null,null,null,"2021-02-27"]
[12,20219050039542,"2021-04-02","ACADEMIA ","MODULO CONTACTENOS","SOLICITUD DE INFORMACIÓN Y DOCUMENTOS","SOLICITUD DE INFORMACIÓN HIDROMETEOROLÓGICA","NO","GRUPO DE SERVICIO AL CIUDADANO ","2021-04-27","CORREO ELECTRÓNICO",null,{"$f":"IFERROR(WORKDAY(C23,S22,DiasNOLaborables),\"\")","v":"2021-04-30"},{"$f":"+IF(C23=\"\",\"\",IF(J23=\"\",\"SIN RESPUESTA\",(IF(J23<=M23,\"A TIEMPO\",\"FUERA DE TIEMPO\"))))","v":"A TIEMPO"},{"$f":"IF(J23=\"\",\"\",NETWORKDAYS(C23+1,J23,DiasNOLaborables))","v":17},"",null,null,20,null,null,null,null,null,null,null,"AREA OPERATIVA No. 6",null,null,null,null,"2021-02-28"]
[13,20219050039552,"2021-04-02","ACADEMIA ","MODULO CONTACTENOS","SOLICITUD DE INFORMACIÓN Y DOCUMENTOS","SOLICITUD DE INFORMACIÓN HIDROMETEOROLÓGICA","NO","GRUPO DE SERVICIO AL CIUDADANO ","2021-04-27","CORREO ELECTRÓNICO",null,{"$f":"IFERROR(WORKDAY(C24,S23,DiasNOLaborables),\"\")","v":"2021-04-30"},{"$f":"+IF(C24=\"\",\"\",IF(J24=\"\",\"SIN RESPUESTA\",(IF(J24<=M24,\"A TIEMPO\",\"FUERA DE TIEMPO\"))))","v":"A TIEMPO"},{"$f":"IF(J24=\"\",\"\",NETWORKDAYS(C24+1,J24,DiasNOLaborables))","v":17},"",null,null,20,null,null,null,null,null,null,null,"AREA OPERATIVA No. 7",null,null,null,null,"2021-03-06"]
[14,20219050039562,"2021-04-02","ACADEMIA ","MODULO CONTACTENOS","SOLICITUD DE INFORMACIÓN Y DOCUMENTOS","SOLICITUD DE INFORMACIÓN HIDROMETEOROLÓGICA","NO","GRUPO DE SERVICIO AL CIUDADANO ","2021-04-27","CORREO ELECTRÓNICO",null,{"$f":"IFERROR(WORKDAY(C25,S24,DiasNOLaborables),\"\")","v":"2021-04-30"},{"$f":"+IF(C25=\"\",\"\",IF(J25=\"\",\"SIN RESPUESTA\",(IF(J25<=M25,\"A TIEMPO\",\"FUERA DE TIEMPO\"))))","v":"A TIEMPO"},{"$f":"IF(J25=\"\",\"\",NETWORKDAYS(C25+1,J25,DiasNOLaborables))","v":17},"",null,null,20,null,null,null,null,null,null,null,"AREA OPERATIVA No. 8",null,null,null,null,"2021-03-07"]
[15,20219050039572,"2021-04-02","CIUDADANO","MODULO CONTACTENOS","SOLICITUD DE INFORMACIÓN Y DOCUMENTOS","SOLICITUD DE INFORMACIÓN HIDROMETEOROLÓGICA","NO","GRUPO DE SERVICIO AL CIUDADANO ","2021-04-27","CORREO ELECTRÓNICO",null,{"$f":"IFERROR(WORKDAY(C26,S25,DiasNOLaborables),\"\")","v":"2021-04-30"},{"$f":"+IF(C26=\"\",\"\",IF(J26=\"\",\"SIN RESPUESTA\",(IF(J26<=M26,\"A TIEMPO\",\"FUERA DE TIEMPO\"))))","v":"A TIEMPO"},{"$f":"IF(J26=\"\",\"\",NETWORKDAYS(C26+1,J26,DiasNOLaborables))","v":17},"",null,null,20,null,null,null,null,null,null,null,"AREA OPERATIVA No. 9",null,null,null,null,"2021-03-13"]
[16,20219050039582,"2021-04-02","ACADEMIA ","MODULO CONTACTENOS","SOLICITUD DE INFORMACIÓN Y DOCUMENTOS","SOLICITUD DE INFORMACIÓN HIDROMETEOROLÓGICA","NO","GRUPO DE SERVICIO AL CIUDADANO ","2021-04-27","CORREO ELECTRÓNICO",null,{"$f":"IFERROR(WORKDAY(C27,S26,DiasNOLaborables),\"\")","v":"2021-04-30"},{"$f":"+IF(C27=\"\",\"\",IF(J27=\"\",\"SIN RESPUESTA\",(IF(J27<=M27,\"A TIEMPO\",\"FUERA DE TIEMPO\"))))","v":"A TIEMPO"},{"$f":"IF(J27=\"\",\"\",NETWORKDAYS(C27+1,J27,DiasNOLaborables))","v":17},"",null,null,20,null,null,null,null,null,null,null,"AREA OPERATIVA No. 10",null,null,null,null,"2021-03-14"]
[17,20219050039642,"2021-04-02","CIUDADANO","CORREO ELECTRÓNICO","SOLICITUD DE INFORMACIÓN Y DOCUMENTOS","SOLICITUD DE INFORMACIÓN HIDROMETEOROLÓGICA","NO","GRUPO DE SERVICIO AL CIUDADANO ","2021-04-27","CORREO ELECTRÓNICO",null,{"$f":"IFERROR(WORKDAY(C28,S27,DiasNOLaborables),\"\")","v":"2021-04-30"},{"$f":"+IF(C28=\"\",\"\",IF(J28=\"\",\"SIN RESPUESTA\",(IF(J28<=M28,\"A TIEMPO\",\"FUERA DE TIEMPO\"))))","v":"A TIEMPO"},{"$f":"IF(J28=\"\",\"\",NETWORKDAYS(C28+1,J28,DiasNOLaborables))","v":17},"",null,null,20,null,null,null,null,null,null,null,"AREA OPERATIVA No. 11",null,null,null,null,"2021-03-20"]
[18,20219050039652,"2021-04-02","CIUDADANO","CORREO ELECTRÓNICO","SOLICITUD DE INFORMACIÓN Y DOCUMENTOS","SOLICITUD DE INFORMACIÓN HIDROMETEOROLÓGICA","NO","GRUPO DE SERVICIO AL CIUDADANO ","2021-04-27","CORREO ELECTRÓNICO",null,{"$f":"IFERROR(WORKDAY(C29,S28,DiasNOLaborables),\"\")","v":"2021-04-30"},{"$f":"+IF(C29=\"\",\"\",IF(J29=\"\",\"SIN RESPUESTA\",(IF(J29<=M29,\"A TIEMPO\",\"FUERA DE TIEMPO\"))))","v":"A TIEMPO"},{"$f":"IF(J29=\"\",\"\",NETWORKDAYS(C29+1,J29,DiasNOLaborables))","v":17},"",null,null,20,null,null,null,null,null,null,null,"DIRECCIÓN GENERAL",null,null,null,null,"2021-03-21"]
[19,20219050039662,"2021-04-02","CIUDADANO","CORREO ELECTRÓNICO","SOLICITUD DE INFORMACIÓN Y DOCUMENTOS","SOLICITUD DE INFORMACIÓN HIDROMETEOROLÓGICA","NO","GRUPO DE SERVICIO AL CIUDADANO ","2021-04-27","CORREO ELECTRÓNICO",null,{"$f":"IFERROR(WORKDAY(C30,S29,DiasNOLaborables),\"\")","v":"2021-04-30"},{"$f":"+IF(C30=\"\",\"\",IF(J30=\"\",\"SIN RESPUESTA\",(IF(J30<=M30,\"A TIEMPO\",\"FUERA DE TIEMPO\"))))","v":"A TIEMPO"},{"$f":"IF(J30=\"\",\"\",NETWORKDAYS(C30+1,J30,DiasNOLaborables))","v":17},"",null,null,20,null,null,null,null,null,null,null,"GRUPO DE ADMINISTRACIÓN Y DESARROLLO DEL TALENTO HUMANO",null,null,null,null,"2021-03-22"]
[20,20219050039692,"2021-04-03","CIUDADANO","MODULO CONTACTENOS","SOLICITUD DE INFORMACIÓN Y DOCUMENTOS","SOLICITUD DE INFORMACIÓN HIDROMETEOROLÓGICA","NO","GRUPO DE SERVICIO AL CIUDADANO ","2021-04-27","CORREO ELECTRÓNICO",null,{"$f":"IFERROR(WORKDAY(C31,S30,DiasNOLaborables),\"\")","v":"2021-04-30"},{"$f":"+IF(C31=\"\",\"\",IF(J31=\"\",\"SIN RESPUESTA\",(IF(J31<=M31,\"A TIEMPO\",\"FUERA DE TIEMPO\"))))","v":"A TIEMPO"},{"$f":"IF(J31=\"\",\"\",NETWORKDAYS(C31+1,J31,DiasNOLaborables))","v":17},"",null,null,35,null,null,null,null,null,null,null,"GRUPO DE COMUNICACIONES",null,null,null,null,"2021-03-27"]
[21,20219050039672,"2021-04-03","EMPRESA PRIVADA","MODULO CONTACTENOS","CERTIFICACIONES DE TIEMPO, CLIMA Y EVENTOS HIDROLÓGICOS","CERTIFICACIONES DE TIEMPO Y CLIMA","SI","SUBDIRECCIÓN DE METEOROLOGÍA","2021-04-09","CORREO ELECTRÓNICO",null,{"$f":"IFERROR(WORKDAY(C32,S31,DiasNOLaborables),\"\")","v":"2021-05-24"},{"$f":"+IF(C32=\"\",\"\",IF(J32=\"\",\"SIN RESPUESTA\",(IF(J32<=M32,\"A TIEMPO\",\"FUERA DE TIEMPO\"))))","v":"A TIEMPO"},{"$f":"IF(J32=\"\",\"\",NETWORKDAYS(C32+1,J32,DiasNOLaborables))","v":5},"",null,null,35,null,null,null,null,null,null,null,"GRUPO DE CONTABILIDAD",null,null,null,null,"2021-03-28"]
[22,20219050039682,"2021-04-03","EMPRESA PRIVADA","MODULO CONTACTENOS","CERTIFICACIONES DE TIEMPO, CLIMA Y EVENTOS HIDROLÓGICOS","CERTIFICACIONES DE TIEMPO Y CLIMA","SI","SUBDIRECCIÓN DE METEOROLOGÍA","2021-04-30","CORREO ELECTRÓNICO",null,{"$f":"IFERROR(WORKDAY(C33,S32,DiasNOLaborables),\"\")","v":"2021-05-24"},{"$f":"+IF(C33=\"\",\"\",IF(J33=\"\",\"SIN RESPUESTA\",(IF(J33<=M33,\"A TIEMPO\",\"FUERA DE TIEMPO\"))))","v":"A TIEMPO"},{"$f":"IF(J33=\"\",\"\",NETWORKDAYS(C33+1,J33,DiasNOLaborables))","v":20},"",null,null,20,null,null,null,null,null,null,null,"GRUPO DE CONTROL DISCIPLINARIO INTERNO",null,null,null,null,"2021-04-01"]
[23,20219050039902,"2021-04-03","CIUDADANO","MODULO CONTACTENOS","SOLICITUD DE INFORMACIÓN Y DOCUMENTOS","SUELOS Y TIERRAS","SI","GRUPO DE GESTIÓN DOCUMENTAL Y CENTRO DE DOCUMENTACIÓN","2021-04-14","CORREO ELECTRÓNICO",null,{"$f":"IFERROR(WORKDAY(C34,S33,DiasNOLaborables),\"\")","v":"2021-04-30"},{"$f":"+IF(C34=\"\",\"\",IF(J34=\"\",\"SIN RESPUESTA\",(IF(J34<=M34,\"A TIEMPO\",\"FUERA DE TIEMPO\"))))","v":"A TIEMPO"},{"$f":"IF(J34=\"\",\"\",NETWORKDAYS(C34+1,J34,DiasNOLaborables))","v":8},"",null,null,20,null,null,null,null,null,null,null,"GRUPO DE GESTIÓN DOCUMENTAL Y CENTRO DE DOCUMENTACIÓN",null,null,null,null,"2021-04-02"]
[24,20219050039852,"2021-04-03","EMPRESA PRIVADA","CORREO ELECTRÓNICO","SOLICITUD DE INFORMACIÓN Y DOCUMENTOS","REGISTROS AMBIENTALES","SI","SUBDIRECCIÓN DE ESTUDIOS AMBIENTALES","2021-04-07","CORREO ELECTRÓNICO",null,{"$f":"IFERROR(WORKDAY(C35,S34,DiasNOLaborables),\"\")","v":"2021-04-30"},{"$f":"+IF(C35=\"\",\"\",IF(J35=\"\",\"SIN RESPUESTA\",(IF(J35<=M35,\"A TIEMPO\",\"FUERA DE TIEMPO\"))))","v":"A TIEMPO"},{"$f":"IF(J35=\"\",\"\",NETWORKDAYS(C35+1,J35,DiasNOLaborables))","v":3},"",null,null,20,null,null,null,null,null,null,null,"GRUPO DE PRESUPUESTO",null,null,null,null,"2021-04-03"]
[25,20219050039862,"2021-04-03","EMPRESA PRIVADA","CORREO ELECTRÓNICO","SOLICITUD DE INFORMACIÓN Y DOCUMENTOS","REGISTROS AMBIENTALES","SI","SUBDIRECCIÓN DE ESTUDIOS AMBIENTALES","2021-04-14","CORREO ELECTRÓNICO",null,{"$f":"IFERROR(WORKDAY(C36,S35,DiasNOLaborables),\"\")","v":"2021-04-30"},{"$f":"+IF(C36=\"\",\"\",IF(J36=\"\",\"SIN RESPUESTA\",(IF(J36<=M36,\"A TIEMPO\",\"FUERA DE TIEMPO\"))))","v":"A TIEMPO"},{"$f":"IF(J36=\"\",\"\",NETWORKDAYS(C36+1,J36,DiasNOLaborables))","v":8},"",null,null,20,null,null,null,null,null,null,null,"GRUPO DE SERVICIO AL CIUDADANO",null,null,null,null,"2021-04-04"]
[26,20219050039872,"2021-04-03","CIUDADANO","CORREO ELECTRÓNICO","SOLICITUD DE INFORMACIÓN Y DOCUMENTOS","REGISTROS AMBIENTALES","SI","SUBDIRECCIÓN DE ESTUDIOS AMBIENTALES","2021-04-12","CORREO ELECTRÓNICO",null,{"$f":"IFERROR(WORKDAY(C37,S36,DiasNOLaborables),\"\")","v":"2021-04-30"},{"$f":"+IF(C37=\"\",\"\",IF(J37=\"\",\"SIN RESPUESTA\",(IF(J37<=M37,\"A TIEMPO\",\"FUERA DE TIEMPO\"))))","v":"A TIEMPO"},{"$f":"IF(J37=\"\",\"\",NETWORKDAYS(C37+1,J37,DiasNOLaborables))","v":6},"",null,null,20,null,null,null,null,null,null,null,"GRUPO DE SERVICIOS ADMINISTRATIVOS",null,null,null,null,"2021-04-10"]
[27,20219050039882,"2021-04-03","EMPRESA PRIVADA","CORREO ELECTRÓNICO","SOLICITUD DE INFORMACIÓN Y DOCUMENTOS","REGISTROS AMBIENTALES","SI","SUBDIRECCIÓN DE ESTUDIOS AMBIENTALES","2021-04-12","CORREO ELECTRÓNICO",null,{"$f":"IFERROR(WORKDAY(C38,S37,DiasNOLaborables),\"\")","v":"2021-04-30"},{"$f":"+IF(C38=\"\",\"\",IF(J38=\"\",\"SIN RESPUESTA\",(IF(J38<=M38,\"A TIEMPO\",\"FUERA DE TIEMPO\"))))","v":"A TIEMPO"},{"$f":"IF(J38=\"\",\"\",NETWORKDAYS(C38+1,J38,DiasNOLaborables))","v":6},"",null,null,20,null,null,null,null,null,null,null,"GRUPO DE TESORERÍA",null,null,null,null,"2021-04-11"]
[28,20219050039892,"2021-04-03","EMPRESA PRIVADA","CORREO ELECTRÓNICO","SOLICITUD DE INFORMACIÓN Y DOCUMENTOS","REGISTROS AMBIENTALES","SI","SUBDIRECCIÓN DE ESTUDIOS AMBIENTALES","2021-04-12","CORREO ELECTRÓNICO",null,{"$f":"IFERROR(WORKDAY(C39,S38,DiasNOLaborables),\"\")","v":"2021-04-30"},{"$f":"+IF(C39=\"\",\"\",IF(J39=\"\",\"SIN RESPUESTA\",(IF(J39<=M39,\"A TIEMPO\",\"FUERA DE TIEMPO\"))))","v":"A TIEMPO"},{"$f":"IF(J39=\"\",\"\",NETWORKDAYS(C39+1,J39,DiasNOLaborables))","v":6},"",null,null,20,null,null,null,null,null,null,null,"OFICINA ASESORA DE PLANEACIÓN",null,null,null,null,"2021-04-17"]
[29,20219050039702,"2021-04-03","CIUDADANO","MODULO CONTACTENOS","SOLICITUD DE INFORMACIÓN Y DOCUMENTOS","SOLICITUD DE INFORMACIÓN HIDROMETEOROLÓGICA","NO","GRUPO DE SERVICIO AL CIUDADANO ","2021-04-30","CORREO ELECTRÓNICO",null,{"$f":"IFERROR(WORKDAY(C40,S39,DiasNOLaborables),\"\")","v":"2021-04-30"},{"$f":"+IF(C40=\"\",\"\",IF(J40=\"\",\"SIN RESPUESTA\",(IF(J40<=M40,\"A TIEMPO\",\"FUERA DE TIEMPO\"))))","v":"A TIEMPO"},{"$f":"IF(J40=\"\",\"\",NETWORKDAYS(C40+1,J40,DiasNOLaborables))","v":20},"",null,null,20,null,null,null,null,null,null,null,"OFICINA ASESORA JURÍDICA",null,null,null,null,"2021-04-18"]
[30,20219050039732,"2021-04-03","ACADEMIA","MODULO CONTACTENOS","SOLICITUD DE INFORMACIÓN Y DOCUMENTOS","SOLICITUD DE INFORMACIÓN HIDROMETEOROLÓGICA","NO","GRUPO DE SERVICIO AL CIUDADANO ","2021-04-30","CORREO ELECTRÓNICO",null,{"$f":"IFERROR(WORKDAY(C41,S40,DiasNOLaborables),\"\")","v":"2021-04-30"},{"$f":"+IF(C41=\"\",\"\",IF(J41=\"\",\"SIN RESPUESTA\",(IF(J41<=M41,\"A TIEMPO\",\"FUERA DE TIEMPO\"))))","v":"A TIEMPO"},{"$f":"IF(J41=\"\",\"\",NETWORKDAYS(C41+1,J41,DiasNOLaborables))","v":20},"",null,null,20,null,null,null,null,null,null,null,"OFICINA DE CONTROL INTERNO",null,null,null,null,"2021-04-24"]
[31,20219050039742,"2021-04-03","CIUDADANO","MODULO CONTACTENOS","SOLICITUD DE INFORMACIÓN Y DOCUMENTOS","SOLICITUD DE INFORMACIÓN HIDROMETEOROLÓGICA","NO","GRUPO DE SERVICIO AL CIUDADANO ","2021-04-30","CORREO ELECTRÓNICO",null,{"$f":"IFERROR(WORKDAY(C42,S41,DiasNOLaborables),\"\")","v":"2021-04-30"},{"$f":"+IF(C42=\"\",\"\",IF(J42=\"\",\"SIN RESPUESTA\",(IF(J42<=M42,\"A TIEMPO\",\"FUERA DE TIEMPO\"))))","v":"A TIEMPO"},{"$f":"IF(J42=\"\",\"\",NETWORKDAYS(C42+1,J42,DiasNOLaborables))","v":20},"",null,null,20,null,null,null,null,null,null,null,"OFICINA DE INFORMÁTICA",null,null,null,null,"2021-04-25"]
[32,20219050039752,"2021-04-03","ACADEMIA","MODULO CONTACTENOS","SOLICITUD DE INFORMACIÓN Y DOCUMENTOS","SOLICITUD DE INFORMACIÓN HIDROMETEOROLÓGICA","NO","GRUPO DE SERVICIO AL CIUDADANO ","2021-04-30","CORREO ELECTRÓNICO",null,{"$f":"IFERROR(WORKDAY(C43,S42,DiasNOLaborables),\"\")","v":"2021-04-30"},{"$f":"+IF(C43=\"\",\"\",IF(J43=\"\",\"SIN RESPUESTA\",(IF(J43<=M43,\"A TIEMPO\",\"FUERA DE TIEMPO\"))))","v":"A TIEMPO"},{"$f":"IF(J43=\"\",\"\",NETWORKDAYS([5]Hoja1!C41+1,[5]Hoja1!P41,DiasNOLaborables))","v":6},"",null,null,20,null,null,null,null,null,null,null,"OFICINA DEL SERVICIO DE PRONÓSTICOS Y ALERTAS",null,null,null,null,"2021-05-01"]
[33,20219050039792,"2021-04-03","CIUDADANO","MODULO CONTACTENOS","SOLICITUD DE INFORMACIÓN Y DOCUMENTOS","SOLICITUD DE INFORMACIÓN HIDROMETEOROLÓGICA","NO","GRUPO DE SERVICIO AL CIUDADANO ","2021-04-30","CORREO ELECTRÓNICO",null,{"$f":"IFERROR(WORKDAY(C44,S43,DiasNOLaborables),\"\")","v":"2021-04-30"},{"$f":"+IF(C44=\"\",\"\",IF(J44=\"\",\"SIN RESPUESTA\",(IF(J44<=M44,\"A TIEMPO\",\"FUERA DE TIEMPO\"))))","v":"A TIEMPO"},{"$f":"IF(J44=\"\",\"\",NETWORKDAYS(C44+1,J44,DiasNOLaborables))","v":20},"",null,null,20,null,null,null,null,null,null,null,"SECRETARÍA GENERAL",null,null,null,null,"2021-05-02"]
[34,20219050039832,"2021-04-03","ACADEMIA","MODULO CONTACTENOS","SOLICITUD DE INFORMACIÓN Y DOCUMENTOS","SOLICITUD DE INFORMACIÓN HIDROMETEOROLÓGICA","NO","GRUPO DE SERVICIO AL CIUDADANO ","2021-04-30","CORREO ELECTRÓNICO",null,{"$f":"IFERROR(WORKDAY(C45,S44,DiasNOLaborables),\"\")","v":"2021-04-30"},{"$f":"+IF(C45=\"\",\"\",IF(J45=\"\",\"SIN RESPUESTA\",(IF(J45<=M45,\"A TIEMPO\",\"FUERA DE TIEMPO\"))))","v":"A TIEMPO"},{"$f":"IF(J45=\"\",\"\",NETWORKDAYS(C45+1,J45,DiasNOLaborables))","v":20},"",null,null,20,null,null,null,null,null,null,null,"SUBDIRECCIÓN DE ECOSISTEMAS E INFORMACIÓN AMBIENTAL",null,null,null,null,"2021-05-08"]
[35,20219050039842,"2021-04-03","CIUDADANO","MODULO CONTACTENOS","SOLICITUD DE INFORMACIÓN Y DOCUMENTOS","SOLICITUD DE INFORMACIÓN HIDROMETEOROLÓGICA","NO","GRUPO DE SERVICIO AL CIUDADANO ","2021-04-30","CORREO ELECTRÓNICO",null,{"$f":"IFERROR(WORKDAY(C46,S45,DiasNOLaborables),\"\")","v":"2021-04-30"},{"$f":"+IF(C46=\"\",\"\",IF(J46=\"\",\"SIN RESPUESTA\",(IF(J46<=M46,\"A TIEMPO\",\"FUERA DE TIEMPO\"))))","v":"A TIEMPO"},{"$f":"IF(J46=\"\",\"\",NETWORKDAYS(C46+1,J46,DiasNOLaborables))","v":20},"",null,null,20,null,null,null,null,null,null,null,"SUBDIRECCIÓN DE ESTUDIOS AMBIENTALES",null,null,null,null,"2021-05-09"]
[36,20219050040352,"2021-04-04","CIUDADANO","MODULO CONTACTENOS","SOLICITUD DE INFORMACIÓN Y DOCUMENTOS","SOLICITUD DE INFORMACIÓN HIDROMETEOROLÓGICA","NO","GRUPO DE SERVICIO AL CIUDADANO ","2021-04-30","CORREO ELECTRÓNICO",null,{"$f":"IFERROR(WORKDAY(C47,S46,DiasNOLaborables),\"\")","v":"2021-04-30"},{"$f":"+IF(C47=\"\",\"\",IF(J47=\"\",\"SIN RESPUESTA\",(IF(J47<=M47,\"A TIEMPO\",\"FUERA DE TIEMPO\"))))","v":"A TIEMPO"},{"$f":"IF(J47=\"\",\"\",NETWORKDAYS(C47+1,J47,DiasNOLaborables))","v":20},"",null,null,20,null,null,null,null,null,null,null,"SUBDIRECCIÓN DE HIDROLOGÍA",null,null,null,null,"2021-05-15"]
[37,20219050040372,"2021-04-04","CIUDADANO","MODULO CONTACTENOS","SOLICITUD DE INFORMACIÓN Y DOCUMENTOS","SOLICITUD DE INFORMACIÓN HIDROMETEOROLÓGICA","NO","GRUPO DE SERVICIO AL CIUDADANO ","2021-04-30","CORREO ELECTRÓNICO",null,{"$f":"IFERROR(WORKDAY(C48,S47,DiasNOLaborables),\"\")","v":"2021-04-30"},{"$f":"+IF(C48=\"\",\"\",IF(J48=\"\",\"SIN RESPUESTA\",(IF(J48<=M48,\"A TIEMPO\",\"FUERA DE TIEMPO\"))))","v":"A TIEMPO"},{"$f":"IF(J48=\"\",\"\",NETWORKDAYS(C48+1,J48,DiasNOLaborables))","v":20},"",null,null,20,null,null,null,null,null,null,null,"SUBDIRECCIÓN DE METEOROLOGÍA",null,null,null,null,"2021-05-16"]
[38,20219050040412,"2021-04-04","CIUDADANO","MODULO CONTACTENOS","SOLICITUD DE INFORMACIÓN Y DOCUMENTOS","SOLICITUD DE INFORMACIÓN HIDROMETEOROLÓGICA","NO","GRUPO DE SERVICIO AL CIUDADANO ","2021-04-30","CORREO ELECTRÓNICO",null,{"$f":"IFERROR(WORKDAY(C49,S48,DiasNOLaborables),\"\")","v":"2021-04-30"},{"$f":"+IF(C49=\"\",\"\",IF(J49=\"\",\"SIN RESPUESTA\",(IF(J49<=M49,\"A TIEMPO\",\"FUERA DE TIEMPO\"))))","v":"A TIEMPO"},{"$f":"IF(J49=\"\",\"\",NETWORKDAYS(C49+1,J49,DiasNOLaborables))","v":20},"",null,null,20,null,null,null,null,null,null,null,null,null,null,null,null,"2021-05-17"]
[39,20219050040462,"2021-04-04","CIUDADANO","MODULO CONTACTENOS","SOLICITUD DE INFORMACIÓN Y DOCUMENTOS","SOLICITUD DE INFORMACIÓN HIDROMETEOROLÓGICA","NO","GRUPO DE SERVICIO AL CIUDADANO ","2021-04-30","CORREO ELECTRÓNICO",null,{"$f":"IFERROR(WORKDAY(C50,S49,DiasNOLaborables),\"\")","v":"2021-04-30"},{"$f":"+IF(C50=\"\",\"\",IF(J50=\"\",\"SIN RESPUESTA\",(IF(J50<=M50,\"A TIEMPO\",\"FUERA DE TIEMPO\"))))","v":"A TIEMPO"},{"$f":"IF(J50=\"\",\"\",NETWORKDAYS(C50+1,J50,DiasNOLaborables))","v":20},"",null,null,20,null,null,null,null,null,null,null,"TIPO DE REQUERIMIENTO","Término ",null,null,null,"2021-05-22"]
[40,20219050039912,"2021-04-04","ACADEMIA","MODULO CONTACTENOS","SOLICITUD DE INFORMACIÓN Y DOCUMENTOS","SOLICITUD DE INFORMACIÓN HIDROMETEOROLÓGICA","NO","GRUPO DE SERVICIO AL CIUDADANO ","2021-04-30","CORREO ELECTRÓNICO",null,{"$f":"IFERROR(WORKDAY(C51,S50,DiasNOLaborables),\"\")","v":"2021-04-30"},{"$f":"+IF(C51=\"\",\"\",IF(J51=\"\",\"SIN RESPUESTA\",(IF(J51<=M51,\"A TIEMPO\",\"FUERA DE TIEMPO\"))))","v":"A TIEMPO"},{"$f":"IF(J51=\"\",\"\",NETWORKDAYS(C51+1,J51,DiasNOLaborables))","v":20},"",null,null,20,null,null,null,null,null,null,null,"AGRADECIMIENTO/FELICITACION",15,null,null,null,"2021-05-23"]
[41,20219050040032,"2021-04-04","CIUDADANO","MODULO CONTACTENOS","SOLICITUD DE INFORMACIÓN Y DOCUMENTOS","SOLICITUD DE INFORMACIÓN HIDROMETEOROLÓGICA","NO","GRUPO DE SERVICIO AL CIUDADANO ","2021-04-30","CORREO ELECTRÓNICO",null,{"$f":"IFERROR(WORKDAY(C52,S51,DiasNOLaborables),\"\")","v":"2021-04-30"},{"$f":"+IF(C52=\"\",\"\",IF(J52=\"\",\"SIN RESPUESTA\",(IF(J52<=M52,\"A TIEMPO\",\"FUERA DE TIEMPO\"))))","v":"A TIEMPO"},{"$f":"IF(J52=\"\",\"\",NETWORKDAYS(C52+1,J52,DiasNOLaborables))","v":20},"",null,null,20,null,null,null,null,null,null,null,"CERTIFICACIONES DE TIEMPO, CLIMA Y EVENTOS HIDROLÓGICOS",35,null,null,null,"2021-05-29"]
[42,20219050040072,"2021-04-04","ACADEMIA","MODULO CONTACTENOS","SOLICITUD DE INFORMACIÓN Y DOCUMENTOS","SOLICITUD DE INFORMACIÓN HIDROMETEOROLÓGICA","NO","GRUPO DE SERVICIO AL CIUDADANO ","2021-04-30","CORREO ELECTRÓNICO",null,{"$f":"IFERROR(WORKDAY(C53,S52,DiasNOLaborables),\"\")","v":"2021-04-30"},{"$f":"+IF(C53=\"\",\"\",IF(J53=\"\",\"SIN RESPUESTA\",(IF(J53<=M53,\"A TIEMPO\",\"FUERA DE TIEMPO\"))))","v":"A TIEMPO"},{"$f":"IF(J53=\"\",\"\",NETWORKDAYS(C53+1,J53,DiasNOLaborables))","v":20},"",null,null,20,null,null,null,null,null,null,null,"CONSULTA",35,null,null,null,"2021-05-30"]
[43,20219050040082,"2021-04-04","ACADEMIA","MODULO CONTACTENOS","SOLICITUD DE INFORMACIÓN Y DOCUMENTOS","SOLICITUD DE INFORMACIÓN HIDROMETEOROLÓGICA","NO","GRUPO DE SERVICIO AL CIUDADANO ","2021-04-30","CORREO ELECTRÓNICO",null,{"$f":"IFERROR(WORKDAY(C54,S53,DiasNOLaborables),\"\")","v":"2021-04-30"},{"$f":"+IF(C54=\"\",\"\",IF(J54=\"\",\"SIN RESPUESTA\",(IF(J54<=M54,\"A TIEMPO\",\"FUERA DE TIEMPO\"))))","v":"A TIEMPO"},{"$f":"IF(J54=\"\",\"\",NETWORKDAYS(C54+1,J54,DiasNOLaborables))","v":20},"",null,null,20,null,null,null,null,null,null,null,"DENUNCIA",15,null,null,null,"2021-06-05"]
[44,20219050040132,"2021-04-04","ACADEMIA","MODULO CONTACTENOS","SOLICITUD DE INFORMACIÓN Y DOCUMENTOS","SOLICITUD DE INFORMACIÓN HIDROMETEOROLÓGICA","NO","GRUPO DE SERVICIO AL CIUDADANO ","2021-04-30","CORREO ELECTRÓNICO",null,{"$f":"IFERROR(WORKDAY(C55,S54,DiasNOLaborables),\"\")","v":"2021-04-30"},{"$f":"+IF(C55=\"\",\"\",IF(J55=\"\",\"SIN RESPUESTA\",(IF(J55<=M55,\"A TIEMPO\",\"FUERA DE TIEMPO\"))))","v":"A TIEMPO"},{"$f":"IF(J55=\"\",\"\",NETWORKDAYS(C55+1,J55,DiasNOLaborables))","v":20},"",null,null,20,null,null,null,null,null,null,null,"PETICIÓN",30,null,null,null,"2021-06-06"]
[45,20219050040142,"2021-04-04","ACADEMIA","MODULO CONTACTENOS","SOLICITUD DE INFORMACIÓN Y DOCUMENTOS","SOLICITUD DE INFORMACIÓN HIDROMETEOROLÓGICA","NO","GRUPO DE SERVICIO AL CIUDADANO ","2021-04-30","CORREO ELECTRÓNICO",null,{"$f":"IFERROR(WORKDAY(C56,S55,DiasNOLaborables),\"\")","v":"2021-04-30"},{"$f":"+IF(C56=\"\",\"\",IF(J56=\"\",\"SIN RESPUESTA\",(IF(J56<=M56,\"A TIEMPO\",\"FUERA DE TIEMPO\"))))","v":"A TIEMPO"},{"$f":"IF(J56=\"\",\"\",NETWORKDAYS(C56+1,J56,DiasNOLaborables))","v":20},"",null,null,20,null,null,null,null,null,null,null,"PETICIÓN ENTRE AUTORIDADES",10,null,null,null,"2021-06-07"]
[46,20219050040162,"2021-04-04","ACADEMIA","MODULO CONTACTENOS","SOLICITUD DE INFORMACIÓN Y DOCUMENTOS","SOLICITUD DE INFORMACIÓN HIDROMETEOROLÓGICA","NO","GRUPO DE SERVICIO AL CIUDADANO ","2021-04-30","CORREO ELECTRÓNICO",null,{"$f":"IFERROR(WORKDAY(C57,S56,DiasNOLaborables),\"\")","v":"2021-04-30"},{"$f":"+IF(C57=\"\",\"\",IF(J57=\"\",\"SIN RESPUESTA\",(IF(J57<=M57,\"A TIEMPO\",\"FUERA DE TIEMPO\"))))","v":"A TIEMPO"},{"$f":"IF(J57=\"\",\"\",NETWORKDAYS(C57+1,J57,DiasNOLaborables))","v":20},"",null,null,20,null,null,null,null,null,null,null,"PETICION VERBAL",15,null,null,null,"2021-06-12"]
[47,20219050040242,"2021-04-04","CIUDADANO","MODULO CONTACTENOS","SOLICITUD DE INFORMACIÓN Y DOCUMENTOS","SOLICITUD DE INFORMACIÓN HIDROMETEOROLÓGICA","NO","GRUPO DE SERVICIO AL CIUDADANO ","2021-04-30","CORREO ELECTRÓNICO",null,{"$f":"IFERROR(WORKDAY(C58,S57,DiasNOLaborables),\"\")","v":"2021-04-30"},{"$f":"+IF(C58=\"\",\"\",IF(J58=\"\",\"SIN RESPUESTA\",(IF(J58<=M58,\"A TIEMPO\",\"FUERA DE TIEMPO\"))))","v":"A TIEMPO"},{"$f":"IF(J58=\"\",\"\",NETWORKDAYS(C58+1,J58,DiasNOLaborables))","v":20},"",null,null,20,null,null,null,null,null,null,null,"QUEJA",15,null,null,null,"2021-06-13"]
[48,20219050040442,"2021-04-04","ACADEMIA","MODULO CONTACTENOS","SOLICITUD DE INFORMACIÓN Y DOCUMENTOS","SOLICITUD DE INFORMACIÓN HIDROMETEOROLÓGICA","NO","GRUPO DE SERVICIO AL CIUDADANO ","2021-04-30","CORREO ELECTRÓNICO",null,{"$f":"IFERROR(WORKDAY(C59,S58,DiasNOLaborables),\"\")","v":"2021-04-30"},{"$f":"+IF(C59=\"\",\"\",IF(J59=\"\",\"SIN RESPUESTA\",(IF(J59<=M59,\"A TIEMPO\",\"FUERA DE TIEMPO\"))))","v":"A TIEMPO"},{"$f":"IF(J59=\"\",\"\",NETWORKDAYS(C59+1,J59,DiasNOLaborables))","v":20},"",null,null,20,null,null,null,null,null,null,null,"RECLAMO",15,null,null,null,"2021-06-14"]
[49,20219050040452,"2021-04-04","ACADEMIA","MODULO CONTACTENOS","SOLICITUD DE INFORMACIÓN Y DOCUMENTOS","SOLICITUD DE INFORMACIÓN HIDROMETEOROLÓGICA","NO","GRUPO DE SERVICIO AL CIUDADANO ","2021-04-30","CORREO ELECTRÓNICO",null,{"$f":"IFERROR(WORKDAY(C60,S59,DiasNOLaborables),\"\")","v":"2021-04-30"},{"$f":"+IF(C60=\"\",\"\",IF(J60=\"\",\"SIN RESPUESTA\",(IF(J60<=M60,\"A TIEMPO\",\"FUERA DE TIEMPO\"))))","v":"A TIEMPO"},{"$f":"IF(J60=\"\",\"\",NETWORKDAYS(C60+1,J60,DiasNOLaborables))","v":20},"",null,null,20,null,null,null,null,null,null,null,"REMISIÓN POR COMPETENCIA",5,null,null,null,"2021-06-19"]
[50,20219050039922,"2021-04-04","EMPRESA PRIVADA","CORREO ELECTRÓNICO","SOLICITUD DE INFORMACIÓN Y DOCUMENTOS","REGISTROS AMBIENTALES","SI","SUBDIRECCIÓN DE ESTUDIOS AMBIENTALES","2021-04-05","CORREO ELECTRÓNICO",null,{"$f":"IFERROR(WORKDAY(C61,S60,DiasNOLaborables),\"\")","v":"2021-04-30"},{"$f":"+IF(C61=\"\",\"\",IF(J61=\"\",\"SIN RESPUESTA\",(IF(J61<=M61,\"A TIEMPO\",\"FUERA DE TIEMPO\"))))","v":"A TIEMPO"},{"$f":"IF(J61=\"\",\"\",NETWORKDAYS(C61+1,J61,DiasNOLaborables))","v":1},"",null,null,20,null,null,null,null,null,null,null,"SOLICITUD CONGRESITAS",5,null,null,null,"2021-06-20"]
[51,20219050039932,"2021-04-04","EMPRESA PRIVADA","CORREO ELECTRÓNICO","SOLICITUD DE INFORMACIÓN Y DOCUMENTOS","REGISTROS AMBIENTALES","SI","SUBDIRECCIÓN DE ESTUDIOS AMBIENTALES","2021-04-12","CORREO ELECTRÓNICO",null,{"$f":"IFERROR(WORKDAY(C62,S61,DiasNOLaborables),\"\")","v":"2021-04-30"},{"$f":"+IF(C62=\"\",\"\",IF(J62=\"\",\"SIN RESPUESTA\",(IF(J62<=M62,\"A TIEMPO\",\"FUERA DE TIEMPO\"))))","v":"A TIEMPO"},{"$f":"IF(J62=\"\",\"\",NETWORKDAYS(C62+1,J62,DiasNOLaborables))","v":6},"",null,null,20,null,null,null,null,null,null,null,"SOLICITUD DE INFORMACIÓN Y DOCUMENTOS",20,null,null,null,"2021-06-26"]
[52,20219050039942,"2021-04-04","EMPRESA PRIVADA","CORREO ELECTRÓNICO","SOLICITUD DE INFORMACIÓN Y DOCUMENTOS","REGISTROS AMBIENTALES","SI","SUBDIRECCIÓN DE ESTUDIOS AMBIENTALES","2021-04-05","CORREO ELECTRÓNICO",null,{"$f":"IFERROR(WORKDAY(C63,S62,DiasNOLaborables),\"\")","v":"2021-04-30"},{"$f":"+IF(C63=\"\",\"\",IF(J63=\"\",\"SIN RESPUESTA\",(IF(J63<=M63,\"A TIEMPO\",\"FUERA DE TIEMPO\"))))","v":"A TIEMPO"},{"$f":"IF(J63=\"\",\"\",NETWORKDAYS(C63+1,J63,DiasNOLaborables))","v":1},"",null,null,20,null,null,null,null,null,null,null,"SOLICITUD JUDICIAL",5,null,null,null,"2021-06-27"]
[53,20219050039952,"2021-04-04","EMPRESA PRIVADA","CORREO ELECTRÓNICO","SOLICITUD DE INFORMACIÓN Y DOCUMENTOS","REGISTROS AMBIENTALES","SI","SUBDIRECCIÓN DE ESTUDIOS AMBIENTALES","2021-04-12","CORREO ELECTRÓNICO",null,{"$f":"IFERROR(WORKDAY(C64,S63,DiasNOLaborables),\"\")","v":"2021-04-30"},{"$f":"+IF(C64=\"\",\"\",IF(J64=\"\",\"SIN RESPUESTA\",(IF(J64<=M64,\"A TIEMPO\",\"FUERA DE TIEMPO\"))))","v":"A TIEMPO"},{"$f":"IF(J64=\"\",\"\",NETWORKDAYS(C64+1,J64,DiasNOLaborables))","v":6},"",null,null,20,null,null,null,null,null,null,null,"SUGERENCIA",15,null,null,null,"2021-07-03"]
[54,20219050039962,"2021-04-04","EMPRESA PRIVADA","CORREO ELECTRÓNICO","SOLICITUD DE INFORMACIÓN Y DOCUMENTOS","REGISTROS AMBIENTALES","SI","SUBDIRECCIÓN DE ESTUDIOS AMBIENTALES","2021-04-07","CORREO ELECTRÓNICO",null,{"$f":"IFERROR(WORKDAY(C65,S64,DiasNOLaborables),\"\")","v":"2021-04-30"},{"$f":"+IF(C65=\"\",\"\",IF(J65=\"\",\"SIN RESPUESTA\",(IF(J65<=M65,\"A TIEMPO\",\"FUERA DE TIEMPO\"))))","v":"A TIEMPO"},{"$f":"IF(J65=\"\",\"\",NETWORKDAYS(C65+1,J65,DiasNOLaborables))","v":3},"",null,null,20,null,null,null,null,null,null,null,null,null,null,null,null,"2021-07-04"]
[55,20219050039972,"2021-04-04","EMPRESA PRIVADA","CORREO ELECTRÓNICO","SOLICITUD DE INFORMACIÓN Y DOCUMENTOS","REGISTROS AMBIENTALES","SI","SUBDIRECCIÓN DE ESTUDIOS AMBIENTALES","2021-04-07","CORREO ELECTRÓNICO",null,{"$f":"IFERROR(WORKDAY(C66,S65,DiasNOLaborables),\"\")","v":"2021-04-30"},{"$f":"+IF(C66=\"\",\"\",IF(J66=\"\",\"SIN RESPUESTA\",(IF(J66<=M66,\"A TIEMPO\",\"FUERA DE TIEMPO\"))))","v":"A TIEMPO"},{"$f":"IF(J66=\"\",\"\",NETWORKDAYS(C66+1,J66,DiasNOLaborables))","v":3},"",null,null,20,null,null,null,null,null,null,null,"PRODUCTO O SERVICIO",null,null,null,null,"2021-07-05"]
[56,20219050039982,"2021-04-04","EMPRESA PRIVADA","CORREO ELECTRÓNICO","SOLICITUD DE INFORMACIÓN Y DOCUMENTOS","REGISTROS AMBIENTALES","SI","SUBDIRECCIÓN DE ESTUDIOS AMBIENTALES","2021-04-12","CORREO ELECTRÓNICO",null,{"$f":"IFERROR(WORKDAY(C67,S66,DiasNOLaborables),\"\")","v":"2021-04-30"},{"$f":"+IF(C67=\"\",\"\",IF(J67=\"\",\"SIN RESPUESTA\",(IF(J67<=M67,\"A TIEMPO\",\"FUERA DE TIEMPO\"))))","v":"A TIEMPO"},{"$f":"IF(J67=\"\",\"\",NETWORKDAYS(C67+1,J67,DiasNOLaborables))","v":6},"",null,null,20,null,null,null,null,null,null,null,"ACREDITACIÓN DE LABORATORIOS",null,null,null,null,"2021-07-10"]
[57,20219050039992,"2021-04-04","EMPRESA PRIVADA","CORREO ELECTRÓNICO","SOLICITUD DE INFORMACIÓN Y DOCUMENTOS","REGISTROS AMBIENTALES","SI","SUBDIRECCIÓN DE ESTUDIOS AMBIENTALES","2021-04-07","CORREO ELECTRÓNICO",null,{"$f":"IFERROR(WORKDAY(C68,S67,DiasNOLaborables),\"\")","v":"2021-04-30"},{"$f":"+IF(C68=\"\",\"\",IF(J68=\"\",\"SIN RESPUESTA\",(IF(J68<=M68,\"A TIEMPO\",\"FUERA DE TIEMPO\"))))","v":"A TIEMPO"},{"$f":"IF(J68=\"\",\"\",NETWORKDAYS(C68+1,J68,DiasNOLaborables))","v":3},"",null,null,20,null,null,null,null,null,null,null,"ADMINISTRATIVA",null,null,null,null,"2021-07-11"]
[58,20219050040002,"2021-04-04","EMPRESA PRIVADA","CORREO ELECTRÓNICO","SOLICITUD DE INFORMACIÓN Y DOCUMENTOS","REGISTROS AMBIENTALES","SI","SUBDIRECCIÓN DE ESTUDIOS AMBIENTALES","2021-04-12","CORREO ELECTRÓNICO",null,{"$f":"IFERROR(WORKDAY(C69,S68,DiasNOLaborables),\"\")","v":"2021-04-30"},{"$f":"+IF(C69=\"\",\"\",IF(J69=\"\",\"SIN RESPUESTA\",(IF(J69<=M69,\"A TIEMPO\",\"FUERA DE TIEMPO\"))))","v":"A TIEMPO"},{"$f":"IF(J69=\"\",\"\",NETWORKDAYS(C69+1,J69,DiasNOLaborables))","v":6},"",null,null,20,null,null,null,null,null,null,null,"AGUAS SUBTERRANEAS",null,null,null,null,"2021-07-17"]
[59,20219050040012,"2021-04-04","EMPRESA PRIVADA","CORREO ELECTRÓNICO","SOLICITUD DE INFORMACIÓN Y DOCUMENTOS","REGISTROS AMBIENTALES","SI","SUBDIRECCIÓN DE ESTUDIOS AMBIENTALES","2021-04-07","CORREO ELECTRÓNICO",null,{"$f":"IFERROR(WORKDAY(C70,S69,DiasNOLaborables),\"\")","v":"2021-04-30"},{"$f":"+IF(C70=\"\",\"\",IF(J70=\"\",\"SIN RESPUESTA\",(IF(J70<=M70,\"A TIEMPO\",\"FUERA DE TIEMPO\"))))","v":"A TIEMPO"},{"$f":"IF(J70=\"\",\"\",NETWORKDAYS(C70+1,J70,DiasNOLaborables))","v":3},"",null,null,20,null,null,null,null,null,null,null,"ASESORÍAS Y CHARLAS",null,null,null,null,"2021-07-18"]
[60,20219050040022,"2021-04-04","ENTIDAD PÚBLICA","CORREO ELECTRÓNICO","SOLICITUD DE INFORMACIÓN Y DOCUMENTOS","REGISTROS AMBIENTALES","SI","SUBDIRECCIÓN DE ESTUDIOS AMBIENTALES","2021-04-07","CORREO ELECTRÓNICO",null,{"$f":"IFERROR(WORKDAY(C71,S70,DiasNOLaborables),\"\")","v":"2021-04-30"},{"$f":"+IF(C71=\"\",\"\",IF(J71=\"\",\"SIN RESPUESTA\",(IF(J71<=M71,\"A TIEMPO\",\"FUERA DE TIEMPO\"))))","v":"A TIEMPO"},{"$f":"IF(J71=\"\",\"\",NETWORKDAYS(C71+1,J71,DiasNOLaborables))","v":3},"",null,null,20,null,null,null,null,null,null,null,"BOSQUES",null,null,null,null,"2021-07-20"]
[61,20219050040092,"2021-04-04","ONG/ORG","CORREO ELECTRÓNICO","SOLICITUD DE INFORMACIÓN Y DOCUMENTOS","BOSQUES","SI","SUBDIRECCIÓN DE ECOSISTEMAS E INFORMACIÓN AMBIENTAL","2021-04-15","CORREO ELECTRÓNICO",null,{"$f":"IFERROR(WORKDAY(C72,S71,DiasNOLaborables),\"\")","v":"2021-04-30"},{"$f":"+IF(C72=\"\",\"\",IF(J72=\"\",\"SIN RESPUESTA\",(IF(J72<=M72,\"A TIEMPO\",\"FUERA DE TIEMPO\"))))","v":"A TIEMPO"},{"$f":"IF(J72=\"\",\"\",NETWORKDAYS(C72+1,J72,DiasNOLaborables))","v":9},"",null,null,20,null,null,null,null,null,null,null,"CAMBIO CLIMÁTICO",null,null,null,null,"2021-07-24"]
[62,20219050040102,"2021-04-04","EMPRESA PRIVADA","CORREO ELECTRÓNICO","SOLICITUD DE INFORMACIÓN Y DOCUMENTOS","REGISTROS AMBIENTALES","SI","SUBDIRECCIÓN DE ESTUDIOS AMBIENTALES","2021-04-04","CORREO ELECTRÓNICO",null,{"$f":"IFERROR(WORKDAY(C73,S72,DiasNOLaborables),\"\")","v":"2021-04-30"},{"$f":"+IF(C73=\"\",\"\",IF(J73=\"\",\"SIN RESPUESTA\",(IF(J73<=M73,\"A TIEMPO\",\"FUERA DE TIEMPO\"))))","v":"A TIEMPO"},{"$f":"IF(J73=\"\",\"\",NETWORKDAYS(C73+1,J73,DiasNOLaborables))","v":-1},"",null,null,20,null,null,null,null,null,null,null,"CERTIFICACIONES DE TIEMPO Y CLIMA",null,null,null,null,"2021-07-25"]
[63,20219050040112,"2021-04-04","ENTIDAD PÚBLICA","CORREO ELECTRÓNICO","SOLICITUD DE INFORMACIÓN Y DOCUMENTOS","AGUAS SUBTERRANEAS","SI","SUBDIRECCIÓN DE HIDROLOGÍA","2021-04-21","CORREO ELECTRÓNICO",null,{"$f":"IFERROR(WORKDAY(C74,S73,DiasNOLaborables),\"\")","v":"2021-04-30"},{"$f":"+IF(C74=\"\",\"\",IF(J74=\"\",\"SIN RESPUESTA\",(IF(J74<=M74,\"A TIEMPO\",\"FUERA DE TIEMPO\"))))","v":"A TIEMPO"},{"$f":"IF(J74=\"\",\"\",NETWORKDAYS([5]Hoja1!C72+1,[5]Hoja1!P72,DiasNOLaborables))","v":10},"",null,null,20,null,null,null,null,null,null,null,"CERTIFICACIONES HIDROLOGICAS",null,null,null,null,"2021-07-31"]
[64,20219050040122,"2021-04-04","ENTIDAD PÚBLICA","CORREO ELECTRÓNICO","SOLICITUD DE INFORMACIÓN Y DOCUMENTOS","PRONÓSTICOS Y ALERTAS","SI","DIRECCIÓN GENERAL","2021-04-04","CORREO ELECTRÓNICO",null,{"$f":"IFERROR(WORKDAY(C75,S74,DiasNOLaborables),\"\")","v":"2021-04-30"},{"$f":"+IF(C75=\"\",\"\",IF(J75=\"\",\"SIN RESPUESTA\",(IF(J75<=M75,\"A TIEMPO\",\"FUERA DE TIEMPO\"))))","v":"A TIEMPO"},{"$f":"IF(J75=\"\",\"\",NETWORKDAYS(C75+1,J75,DiasNOLaborables))","v":-1},"",null,null,35,null,null,null,null,null,null,null,"CLIMATOLOGÍA",null,null,null,null,"2021-08-01"]
[65,20219050040152,"2021-04-04","EMPRESA PRIVADA","CORREO ELECTRÓNICO","CERTIFICACIONES DE TIEMPO, CLIMA Y EVENTOS HIDROLÓGICOS","CERTIFICACIONES DE TIEMPO Y CLIMA","SI","SUBDIRECCIÓN DE METEOROLOGÍA","2021-04-14","CORREO ELECTRÓNICO",null,{"$f":"IFERROR(WORKDAY(C76,S75,DiasNOLaborables),\"\")","v":"2021-05-24"},{"$f":"+IF(C76=\"\",\"\",IF(J76=\"\",\"SIN RESPUESTA\",(IF(J76<=M76,\"A TIEMPO\",\"FUERA DE TIEMPO\"))))","v":"A TIEMPO"},{"$f":"IF(J76=\"\",\"\",NETWORKDAYS(C76+1,J76,DiasNOLaborables))","v":8},"",null,null,20,null,null,null,null,null,null,null,"ERA","EVALUACIÓN REGIONAL DEL AGUA",null,null,null,"2021-08-07"]
[66,20219050040172,"2021-04-04","ENTIDAD PÚBLICA","CORREO ELECTRÓNICO","SOLICITUD DE INFORMACIÓN Y DOCUMENTOS","REGISTROS AMBIENTALES","SI","SUBDIRECCIÓN DE ESTUDIOS AMBIENTALES","2021-04-08","CORREO ELECTRÓNICO",null,{"$f":"IFERROR(WORKDAY(C77,S76,DiasNOLaborables),\"\")","v":"2021-04-30"},{"$f":"+IF(C77=\"\",\"\",IF(J77=\"\",\"SIN RESPUESTA\",(IF(J77<=M77,\"A TIEMPO\",\"FUERA DE TIEMPO\"))))","v":"A TIEMPO"},{"$f":"IF(J77=\"\",\"\",NETWORKDAYS(C77+1,J77,DiasNOLaborables))","v":4},"",null,null,{"$f":"IFERROR(VLOOKUP(F78,$AA$51:$AB$64,2),\"\")","v":35},null,null,null,null,null,null,null,"ESTUDIO NACIONAL DEL AGUA",null,null,null,null,"2021-08-08"]
[{"$f":"IF(B78<>\"\",A77+1,\"\")","v":67},20219050040182,"2021-04-04","EMPRESA PRIVADA","CORREO ELECTRÓNICO","CERTIFICACIONES DE TIEMPO, CLIMA Y EVENTOS HIDROLÓGICOS","CERTIFICACIONES DE TIEMPO Y CLIMA","SI","SUBDIRECCIÓN DE METEOROLOGÍA","2021-04-14","CORREO ELECTRÓNICO",null,{"$f":"IFERROR(WORKDAY(C78,S77,DiasNOLaborables),\"\")","v":"2021-05-24"},{"$f":"+IF(C78=\"\",\"\",IF(J78=\"\",\"SIN RESPUESTA\",(IF(J78<=M78,\"A TIEMPO\",\"FUERA DE TIEMPO\"))))","v":"A TIEMPO"},{"$f":"IF(J78=\"\",\"\",NETWORKDAYS(C78+1,J78,DiasNOLaborables))","v":8},"",null,null,20,null,null,null,null,null,null,null,"INFORMES AMBIENTALES",null,null,null,null,"2021-08-14"]
[68,20219050040192,"2021-04-04","ENTIDAD PÚBLICA","CORREO ELECTRÓNICO","SOLICITUD DE INFORMACIÓN Y DOCUMENTOS","REGISTROS AMBIENTALES","SI","SUBDIRECCIÓN DE ESTUDIOS AMBIENTALES","2021-04-08","CORREO ELECTRÓNICO",null,{"$f":"IFERROR(WORKDAY(C79,S78,DiasNOLaborables),\"\")","v":"2021-04-30"},{"$f":"+IF(C79=\"\",\"\",IF(J79=\"\",\"SIN RESPUESTA\",(IF(J79<=M79,\"A TIEMPO\",\"FUERA DE TIEMPO\"))))","v":"A TIEMPO"},{"$f":"IF(J79=\"\",\"\",NETWORKDAYS(C79+1,J79,DiasNOLaborables))","v":4},"",null,null,20,null,null,null,null,null,null,null,"JURIDICO",null,null,null,null,"2021-08-15"]
[69,20219050040202,"2021-04-04","EMPRESA PRIVADA","CORREO ELECTRÓNICO","SOLICITUD DE INFORMACIÓN Y DOCUMENTOS","REGISTROS AMBIENTALES","SI","SUBDIRECCIÓN DE ESTUDIOS AMBIENTALES","2021-04-08","CORREO ELECTRÓNICO",null,{"$f":"IFERROR(WORKDAY(C80,S79,DiasNOLaborables),\"\")","v":"2021-04-30"},{"$f":"+IF(C80=\"\",\"\",IF(J80=\"\",\"SIN RESPUESTA\",(IF(J80<=M80,\"A TIEMPO\",\"FUERA DE TIEMPO\"))))","v":"A TIEMPO"},{"$f":"IF(J80=\"\",\"\",NETWORKDAYS(C80+1,J80,DiasNOLaborables))","v":4},{"$f":"IF(NETWORKDAYS(M80+1,J80,DiasNOLaborables)<=0,\"\",NETWORKDAYS(M80+1,J80,DiasNOLaborables))","v":""},null,null,20,null,null,null,null,null,null,null,"LABORATORIO DE CALIDAD AMBIENTAL",null,null,null,null,"2021-08-16"]
[70,20219050040212,"2021-04-04","EMPRESA PRIVADA","CORREO ELECTRÓNICO","SOLICITUD DE INFORMACIÓN Y DOCUMENTOS","REGISTROS AMBIENTALES","SI","SUBDIRECCIÓN DE ESTUDIOS AMBIENTALES","2021-04-08","CORREO ELECTRÓNICO",null,{"$f":"IFERROR(WORKDAY(C81,S80,DiasNOLaborables),\"\")","v":"2021-04-30"},{"$f":"+IF(C81=\"\",\"\",IF(J81=\"\",\"SIN RESPUESTA\",(IF(J81<=M81,\"A TIEMPO\",\"FUERA DE TIEMPO\"))))","v":"A TIEMPO"},{"$f":"IF(J81=\"\",\"\",NETWORKDAYS(C81+1,J81,DiasNOLaborables))","v":4},"",null,null,30,null,null,null,null,null,null,null,"MEDIOS DE COMUNICACIÓN",null,null,null,null,"2021-08-21"]
[71,20219050040232,"2021-04-04","EMPRESA PRIVADA","CORREO ELECTRÓNICO","PETICIÓN","ADMINISTRATIVA","SI","OFICINA ASESORA JURÍDICA","2021-04-04","CORREO ELECTRÓNICO",null,{"$f":"IFERROR(WORKDAY(C82,S81,DiasNOLaborables),\"\")","v":"2021-05-14"},{"$f":"+IF(C82=\"\",\"\",IF(J82=\"\",\"SIN RESPUESTA\",(IF(J82<=M82,\"A TIEMPO\",\"FUERA DE TIEMPO\"))))","v":"A TIEMPO"},{"$f":"IF(J82=\"\",\"\",NETWORKDAYS(C82+1,J82,DiasNOLaborables))","v":-1},"",null,null,20,null,null,null,null,null,null,null,"METEOROLOGÍA AERONAÚTICA",null,null,null,null,"2021-08-22"]
[72,20219050040252,"2021-04-04","CIUDADANO","CORREO ELECTRÓNICO","SOLICITUD DE INFORMACIÓN Y DOCUMENTOS","ADMINISTRATIVA","SI","GRUPO DE GESTIÓN DOCUMENTAL Y CENTRO DE DOCUMENTACIÓN","2021-04-15","CORREO ELECTRÓNICO",null,{"$f":"IFERROR(WORKDAY(C83,S82,DiasNOLaborables),\"\")","v":"2021-04-30"},{"$f":"+IF(C83=\"\",\"\",IF(J83=\"\",\"SIN RESPUESTA\",(IF(J83<=M83,\"A TIEMPO\",\"FUERA DE TIEMPO\"))))","v":"A TIEMPO"},{"$f":"IF(J83=\"\",\"\",NETWORKDAYS(C83+1,J83,DiasNOLaborables))","v":9},"",null,null,35,null,null,null,null,null,null,null,"MODELACIÓN HIDROLÓGICA",null,null,null,null,"2021-08-28"]
[73,20219050040262,"2021-04-04","ENTIDAD PÚBLICA","CORREO ELECTRÓNICO","CERTIFICACIONES DE TIEMPO, CLIMA Y EVENTOS HIDROLÓGICOS","CERTIFICACIONES DE TIEMPO Y CLIMA","SI","SUBDIRECCIÓN DE METEOROLOGÍA","2021-04-14","CORREO ELECTRÓNICO",null,{"$f":"IFERROR(WORKDAY(C84,S83,DiasNOLaborables),\"\")","v":"2021-05-24"},{"$f":"+IF(C84=\"\",\"\",IF(J84=\"\",\"SIN RESPUESTA\",(IF(J84<=M84,\"A TIEMPO\",\"FUERA DE TIEMPO\"))))","v":"A TIEMPO"},{"$f":"IF(J84=\"\",\"\",NETWORKDAYS(C84+1,J84,DiasNOLaborables))","v":8},"",null,null,20,null,null,null,null,null,null,null,"MODELAMIENTO METEOROLÓGICO",null,null,null,null,"2021-08-29"]
[74,20219050040272,"2021-04-04","EMPRESA PRIVADA","CORREO ELECTRÓNICO","SOLICITUD DE INFORMACIÓN Y DOCUMENTOS","REGISTROS AMBIENTALES","SI","SUBDIRECCIÓN DE ESTUDIOS AMBIENTALES","2021-04-08","CORREO ELECTRÓNICO",null,{"$f":"IFERROR(WORKDAY(C85,S84,DiasNOLaborables),\"\")","v":"2021-04-30"},{"$f":"+IF(C85=\"\",\"\",IF(J85=\"\",\"SIN RESPUESTA\",(IF(J85<=M85,\"A TIEMPO\",\"FUERA DE TIEMPO\"))))","v":"A TIEMPO"},{"$f":"IF(J85=\"\",\"\",NETWORKDAYS(C85+1,J85,DiasNOLaborables))","v":4},"",null,null,20,null,null,null,null,null,null,null,"OPERACIÓN DE REDES",null,null,null,null,"2021-09-04"]
[75,20219050040282,"2021-04-04","ENTIDAD PÚBLICA","CORREO ELECTRÓNICO","SOLICITUD DE INFORMACIÓN Y DOCUMENTOS","REGISTROS AMBIENTALES","SI","SUBDIRECCIÓN DE ESTUDIOS AMBIENTALES","2021-04-08","CORREO ELECTRÓNICO",null,{"$f":"IFERROR(WORKDAY(C86,S85,DiasNOLaborables),\"\")","v":"2021-04-30"},{"$f":"+IF(C86=\"\",\"\",IF(J86=\"\",\"SIN RESPUESTA\",(IF(J86<=M86,\"A TIEMPO\",\"FUERA DE TIEMPO\"))))","v":"A TIEMPO"},{"$f":"IF(J86=\"\",\"\",NETWORKDAYS(C86+1,J86,DiasNOLaborables))","v":4},"",null,null,20,null,null,null,null,null,null,null,"PRONÓSTICOS Y ALERTAS",null,null,null,null,"2021-09-05"]
[76,20219050040292,"2021-04-04","EMPRESA PRIVADA","CORREO ELECTRÓNICO","SOLICITUD DE INFORMACIÓN Y DOCUMENTOS","REGISTROS AMBIENTALES","SI","SUBDIRECCIÓN DE ESTUDIOS AMBIENTALES","2021-04-08","CORREO ELECTRÓNICO",null,{"$f":"IFERROR(WORKDAY(C87,S86,DiasNOLaborables),\"\")","v":"2021-04-30"},{"$f":"+IF(C87=\"\",\"\",IF(J87=\"\",\"SIN RESPUESTA\",(IF(J87<=M87,\"A TIEMPO\",\"FUERA DE TIEMPO\"))))","v":"A TIEMPO"},{"$f":"IF(J87=\"\",\"\",NETWORKDAYS(C87+1,J87,DiasNOLaborables))","v":4},"",null,null,20,null,null,null,null,null,null,null,"REGISTROS AMBIENTALES",null,null,null,null,"2021-09-11"]
[77,20219050040302,"2021-04-04","EMPRESA PRIVADA","CORREO ELECTRÓNICO","SOLICITUD DE INFORMACIÓN Y DOCUMENTOS","REGISTROS AMBIENTALES","SI","SUBDIRECCIÓN DE ESTUDIOS AMBIENTALES","2021-04-06","CORREO ELECTRÓNICO",null,{"$f":"IFERROR(WORKDAY(C88,S87,DiasNOLaborables),\"\")","v":"2021-04-30"},{"$f":"+IF(C88=\"\",\"\",IF(J88=\"\",\"SIN RESPUESTA\",(IF(J88<=M88,\"A TIEMPO\",\"FUERA DE TIEMPO\"))))","v":"A TIEMPO"},{"$f":"IF(J88=\"\",\"\",NETWORKDAYS(C88+1,J88,DiasNOLaborables))","v":2},"",null,null,35,null,null,null,null,null,null,null,"SEDIMENTOS",null,null,null,null,"2021-09-12"]
[78,20219050040322,"2021-04-04","EMPRESA PRIVADA","CORREO ELECTRÓNICO","CERTIFICACIONES DE TIEMPO, CLIMA Y EVENTOS HIDROLÓGICOS","CERTIFICACIONES DE TIEMPO Y CLIMA","SI","SUBDIRECCIÓN DE METEOROLOGÍA","2021-04-16","CORREO ELECTRÓNICO",null,{"$f":"IFERROR(WORKDAY(C89,S88,DiasNOLaborables),\"\")","v":"2021-05-24"},{"$f":"+IF(C89=\"\",\"\",IF(J89=\"\",\"SIN RESPUESTA\",(IF(J89<=M89,\"A TIEMPO\",\"FUERA DE TIEMPO\"))))","v":"A TIEMPO"},{"$f":"IF(J89=\"\",\"\",NETWORKDAYS(C89+1,J89,DiasNOLaborables))","v":10},"",null,null,35,null,null,null,null,null,null,null,"SIA","SISTEMA DE INFORMACIÓN AMBIENTAL",null,null,null,"2021-09-18"]
[79,20219050040332,"2021-04-04","EMPRESA PRIVADA","CORREO ELECTRÓNICO","CERTIFICACIONES DE TIEMPO, CLIMA Y EVENTOS HIDROLÓGICOS","CERTIFICACIONES DE TIEMPO Y CLIMA","SI","SUBDIRECCIÓN DE METEOROLOGÍA","2021-04-16","CORREO ELECTRÓNICO",null,{"$f":"IFERROR(WORKDAY(C90,S89,DiasNOLaborables),\"\")","v":"2021-05-24"},{"$f":"+IF(C90=\"\",\"\",IF(J90=\"\",\"SIN RESPUESTA\",(IF(J90<=M90,\"A TIEMPO\",\"FUERA DE TIEMPO\"))))","v":"A TIEMPO"},{"$f":"IF(J90=\"\",\"\",NETWORKDAYS(C90+1,J90,DiasNOLaborables))","v":10},"",null,null,20,null,null,null,null,null,null,null,"SIRH","SISTEMA DE INFORMACIÓN DEL RECURDO HÍDRICO",null,null,null,"2021-09-19"]
[80,20219050040342,"2021-04-04","EMPRESA PRIVADA","CORREO ELECTRÓNICO","SOLICITUD DE INFORMACIÓN Y DOCUMENTOS","BOSQUES","SI","SUBDIRECCIÓN DE ECOSISTEMAS E INFORMACIÓN AMBIENTAL","2021-04-14","CORREO ELECTRÓNICO",null,{"$f":"IFERROR(WORKDAY(C91,S90,DiasNOLaborables),\"\")","v":"2021-04-30"},{"$f":"+IF(C91=\"\",\"\",IF(J91=\"\",\"SIN RESPUESTA\",(IF(J91<=M91,\"A TIEMPO\",\"FUERA DE TIEMPO\"))))","v":"A TIEMPO"},{"$f":"IF(J91=\"\",\"\",NETWORKDAYS(C91+1,J91,DiasNOLaborables))","v":8},"",null,null,5,null,null,null,null,null,null,null,"SOLICITUD DE INFORMACIÓN HIDROMETEOROLÓGICA",null,null,null,null,"2021-09-25"]
[81,20219050040362,"2021-04-04","ENTIDAD PÚBLICA","CORREO ELECTRÓNICO","SOLICITUD JUDICIAL","CAMBIO CLIMÁTICO","SI","DIRECCIÓN GENERAL","2021-04-07","CORREO ELECTRÓNICO",null,{"$f":"IFERROR(WORKDAY(C92,S91,DiasNOLaborables),\"\")","v":"2021-04-09"},{"$f":"+IF(C92=\"\",\"\",IF(J92=\"\",\"SIN RESPUESTA\",(IF(J92<=M92,\"A TIEMPO\",\"FUERA DE TIEMPO\"))))","v":"A TIEMPO"},{"$f":"IF(J92=\"\",\"\",NETWORKDAYS(C92+1,J92,DiasNOLaborables))","v":3},"",null,null,35,null,null,null,null,null,null,null,"SUELOS Y TIERRAS",null,null,null,null,"2021-09-26"]
[82,20219050040382,"2021-04-04","EMPRESA PRIVADA","CORREO ELECTRÓNICO","CERTIFICACIONES DE TIEMPO, CLIMA Y EVENTOS HIDROLÓGICOS","CERTIFICACIONES DE TIEMPO Y CLIMA","SI","SUBDIRECCIÓN DE METEOROLOGÍA","2021-04-13","CORREO ELECTRÓNICO",null,{"$f":"IFERROR(WORKDAY(C93,S92,DiasNOLaborables),\"\")","v":"2021-05-24"},{"$f":"+IF(C93=\"\",\"\",IF(J93=\"\",\"SIN RESPUESTA\",(IF(J93<=M93,\"A TIEMPO\",\"FUERA DE TIEMPO\"))))","v":"A TIEMPO"},{"$f":"IF(J93=\"\",\"\",NETWORKDAYS(C93+1,J93,DiasNOLaborables))","v":7},"",null,null,20,null,null,null,null,null,null,null,"VISITAS ACADÉMICAS",null,null,null,null,"2021-10-02"]
[83,20219050040392,"2021-04-04","CIUDADANO","CORREO ELECTRÓNICO","SOLICITUD DE INFORMACIÓN Y DOCUMENTOS","ADMINISTRATIVA","SI","GRUPO DE ADMINISTRACIÓN Y DESARROLLO DEL TALENTO HUMANO","2021-04-05","CORREO ELECTRÓNICO",null,{"$f":"IFERROR(WORKDAY(C94,S93,DiasNOLaborables),\"\")","v":"2021-04-30"},{"$f":"+IF(C94=\"\",\"\",IF(J94=\"\",\"SIN RESPUESTA\",(IF(J94<=M94,\"A TIEMPO\",\"FUERA DE TIEMPO\"))))","v":"A TIEMPO"},{"$f":"IF(J94=\"\",\"\",NETWORKDAYS(C94+1,J94,DiasNOLaborables))","v":1},"",null,null,5,null,null,null,null,null,null,null,"WEB Y CORREO",null,null,null,null,"2021-10-03"]
[84,20219050040402,"2021-04-04","ENTIDAD PÚBLICA","CORREO ELECTRÓNICO","SOLICITUD JUDICIAL","CERTIFICACIONES DE TIEMPO Y CLIMA","SI","SUBDIRECCIÓN DE METEOROLOGÍA","2021-04-09","CORREO ELECTRÓNICO",null,{"$f":"IFERROR(WORKDAY(C95,S94,DiasNOLaborables),\"\")","v":"2021-04-09"},{"$f":"+IF(C95=\"\",\"\",IF(J95=\"\",\"SIN RESPUESTA\",(IF(J95<=M95,\"A TIEMPO\",\"FUERA DE TIEMPO\"))))","v":"A TIEMPO"},{"$f":"IF(J95=\"\",\"\",NETWORKDAYS(C95+1,J95,DiasNOLaborables))","v":5},"",null,null,20,null,null,null,null,null,null,null,"ZONIFICACIÓN HIDROGRÁFICA",null,null,null,null,"2021-10-09"]
[85,20219050040422,"2021-04-04","CIUDADANO","CORREO ELECTRÓNICO","SOLICITUD DE INFORMACIÓN Y DOCUMENTOS","PRONÓSTICOS Y ALERTAS","SI","OFICINA DEL SERVICIO DE PRONÓSTICOS Y ALERTAS","2021-04-28","CORREO ELECTRÓNICO",null,{"$f":"IFERROR(WORKDAY(C96,S95,DiasNOLaborables),\"\")","v":"2021-04-30"},{"$f":"+IF(C96=\"\",\"\",IF(J96=\"\",\"SIN RESPUESTA\",(IF(J96<=M96,\"A TIEMPO\",\"FUERA DE TIEMPO\"))))","v":"A TIEMPO"},{"$f":"IF(J96=\"\",\"\",NETWORKDAYS(C96+1,J96,DiasNOLaborables))","v":18},"",null,null,20,null,null,null,null,null,null,null,null,null,null,null,null,"2021-10-10"]
[86,20219050040432,"2021-04-04","EMPRESA PRIVADA","CORREO ELECTRÓNICO","SOLICITUD DE INFORMACIÓN Y DOCUMENTOS","ADMINISTRATIVA","SI","GRUPO DE TESORERÍA","2021-04-05","CORREO ELECTRÓNICO",null,{"$f":"IFERROR(WORKDAY(C97,S96,DiasNOLaborables),\"\")","v":"2021-04-30"},{"$f":"+IF(C97=\"\",\"\",IF(J97=\"\",\"SIN RESPUESTA\",(IF(J97<=M97,\"A TIEMPO\",\"FUERA DE TIEMPO\"))))","v":"A TIEMPO"},{"$f":"IF(J97=\"\",\"\",NETWORKDAYS(C97+1,J97,DiasNOLaborables))","v":1},"",null,null,20,null,null,null,null,null,null,null,"MEDIO DE RECEPCIÓN",null,null,null,null,"2021-10-16"]
[87,20219050040312,"2021-04-04","CIUDADANO","MODULO CONTACTENOS","SOLICITUD DE INFORMACIÓN Y DOCUMENTOS","SIRH","SI","SUBDIRECCIÓN DE HIDROLOGÍA","2021-04-08","CORREO ELECTRÓNICO",null,{"$f":"IFERROR(WORKDAY(C98,S97,DiasNOLaborables),\"\")","v":"2021-04-30"},{"$f":"+IF(C98=\"\",\"\",IF(J98=\"\",\"SIN RESPUESTA\",(IF(J98<=M98,\"A TIEMPO\",\"FUERA DE TIEMPO\"))))","v":"A TIEMPO"},{"$f":"IF(J98=\"\",\"\",NETWORKDAYS(C98+1,J98,DiasNOLaborables))","v":4},"",null,null,20,null,null,null,null,null,null,null,"ATENCIÓN PRESENCIAL",null,null,null,null,"2021-10-17"]
[88,20219050040502,"2021-04-05","FUNCIONARIO IDEAM","MODULO CONTACTENOS","SOLICITUD DE INFORMACIÓN Y DOCUMENTOS","ADMINISTRATIVA","SI","GRUPO DE ADMINISTRACIÓN Y DESARROLLO DEL TALENTO HUMANO","2021-04-21","CORREO ELECTRÓNICO",null,{"$f":"IFERROR(WORKDAY(C99,S98,DiasNOLaborables),\"\")","v":"2021-05-03"},{"$f":"+IF(C99=\"\",\"\",IF(J99=\"\",\"SIN RESPUESTA\",(IF(J99<=M99,\"A TIEMPO\",\"FUERA DE TIEMPO\"))))","v":"A TIEMPO"},{"$f":"IF(J99=\"\",\"\",NETWORKDAYS(C99+1,J99,DiasNOLaborables))","v":12},"",null,null,35,null,null,null,null,null,null,null,"ATENCIÓN TELEFÓNICA",null,null,null,null,"2021-10-18"]
[89,20219050040562,"2021-04-05","EMPRESA PRIVADA","MODULO CONTACTENOS","CERTIFICACIONES DE TIEMPO, CLIMA Y EVENTOS HIDROLÓGICOS","CERTIFICACIONES DE TIEMPO Y CLIMA","SI","SUBDIRECCIÓN DE METEOROLOGÍA","2021-04-14","CORREO ELECTRÓNICO",null,{"$f":"IFERROR(WORKDAY(C100,S99,DiasNOLaborables),\"\")","v":"2021-05-25"},{"$f":"+IF(C100=\"\",\"\",IF(J100=\"\",\"SIN RESPUESTA\",(IF(J100<=M100,\"A TIEMPO\",\"FUERA DE TIEMPO\"))))","v":"A TIEMPO"},{"$f":"IF(J100=\"\",\"\",NETWORKDAYS(C100+1,J100,DiasNOLaborables))","v":7},"",null,null,5,null,null,null,null,null,null,null,"BUZÓN DE SUGERENCIAS",null,null,null,null,"2021-10-23"]
[90,20219050040822,"2021-04-05","ENTIDAD PÚBLICA","CORREO ELECTRÓNICO","SOLICITUD JUDICIAL","INFORMES AMBIENTALES","SI","DIRECCIÓN GENERAL","2021-04-07","CORREO ELECTRÓNICO",null,{"$f":"IFERROR(WORKDAY(C101,S100,DiasNOLaborables),\"\")","v":"2021-04-12"},{"$f":"+IF(C101=\"\",\"\",IF(J101=\"\",\"SIN RESPUESTA\",(IF(J101<=M101,\"A TIEMPO\",\"FUERA DE TIEMPO\"))))","v":"A TIEMPO"},{"$f":"IF(J101=\"\",\"\",NETWORKDAYS(C101+1,J101,DiasNOLaborables))","v":2},"",null,null,20,null,null,null,null,null,null,null,"CHAT",null,null,null,null,"2021-10-24"]
[91,20219050040842,"2021-04-05","CIUDADANO","CORREO ELECTRÓNICO","SOLICITUD DE INFORMACIÓN Y DOCUMENTOS","ACREDITACIÓN DE LABORATORIOS","SI","SUBDIRECCIÓN DE ESTUDIOS AMBIENTALES","2021-04-05","CORREO ELECTRÓNICO",null,{"$f":"IFERROR(WORKDAY(C102,S101,DiasNOLaborables),\"\")","v":"2021-05-03"},{"$f":"+IF(C102=\"\",\"\",IF(J102=\"\",\"SIN RESPUESTA\",(IF(J102<=M102,\"A TIEMPO\",\"FUERA DE TIEMPO\"))))","v":"A TIEMPO"},{"$f":"IF(J102=\"\",\"\",NETWORKDAYS(C102+1,J102,DiasNOLaborables))","v":-2},"",null,null,30,null,null,null,null,null,null,null,"CORREO CERTIFICADO",null,null,null,null,"2021-10-30"]
[92,20219050040932,"2021-04-05","CIUDADANO","CORREO ELECTRÓNICO","PETICIÓN","CERTIFICACIONES DE TIEMPO Y CLIMA","SI","SUBDIRECCIÓN DE METEOROLOGÍA","2021-04-12","CORREO ELECTRÓNICO",null,{"$f":"IFERROR(WORKDAY(C103,S102,DiasNOLaborables),\"\")","v":"2021-05-18"},{"$f":"+IF(C103=\"\",\"\",IF(J103=\"\",\"SIN RESPUESTA\",(IF(J103<=M103,\"A TIEMPO\",\"FUERA DE TIEMPO\"))))","v":"A TIEMPO"},{"$f":"IF(J103=\"\",\"\",NETWORKDAYS(C103+1,J103,DiasNOLaborables))","v":5},"",null,null,20,null,null,null,null,null,null,null,"CORREO ELECTRÓNICO",null,null,null,null,"2021-10-31"]
[93,20219050040972,"2021-04-05","CIUDADANO","CORREO ELECTRÓNICO","SOLICITUD DE INFORMACIÓN Y DOCUMENTOS","SIA","SI","SUBDIRECCIÓN DE ECOSISTEMAS E INFORMACIÓN AMBIENTAL","2021-04-14","CORREO ELECTRÓNICO",null,{"$f":"IFERROR(WORKDAY(C104,S103,DiasNOLaborables),\"\")","v":"2021-05-03"},{"$f":"+IF(C104=\"\",\"\",IF(J104=\"\",\"SIN RESPUESTA\",(IF(J104<=M104,\"A TIEMPO\",\"FUERA DE TIEMPO\"))))","v":"A TIEMPO"},{"$f":"IF(J104=\"\",\"\",NETWORKDAYS(C104+1,J104,DiasNOLaborables))","v":7},"",null,null,30,null,null,null,null,null,null,null,"FAX",null,null,null,null,"2021-11-01"]
[94,20219050041052,"2021-04-05","CIUDADANO","CORREO ELECTRÓNICO","PETICIÓN","ADMINISTRATIVA","SI","GRUPO DE ADMINISTRACIÓN Y DESARROLLO DEL TALENTO HUMANO","2021-04-26","CORREO ELECTRÓNICO",null,{"$f":"IFERROR(WORKDAY(C105,S104,DiasNOLaborables),\"\")","v":"2021-05-18"},{"$f":"+IF(C105=\"\",\"\",IF(J105=\"\",\"SIN RESPUESTA\",(IF(J105<=M105,\"A TIEMPO\",\"FUERA DE TIEMPO\"))))","v":"A TIEMPO"},{"$f":"IF(J105=\"\",\"\",NETWORKDAYS(C105+1,J105,DiasNOLaborables))","v":15},"",null,null,35,null,null,null,null,null,null,null,"INTERNO",null,null,null,null,"2021-11-06"]
[95,20219050041082,"2021-04-05","CIUDADANO","CORREO ELECTRÓNICO","CERTIFICACIONES DE TIEMPO, CLIMA Y EVENTOS HIDROLÓGICOS","CERTIFICACIONES DE TIEMPO Y CLIMA","SI","SUBDIRECCIÓN DE METEOROLOGÍA","2021-04-16","CORREO ELECTRÓNICO",null,{"$f":"IFERROR(WORKDAY(C106,S105,DiasNOLaborables),\"\")","v":"2021-05-25"},{"$f":"+IF(C106=\"\",\"\",IF(J106=\"\",\"SIN RESPUESTA\",(IF(J106<=M106,\"A TIEMPO\",\"FUERA DE TIEMPO\"))))","v":"A TIEMPO"},{"$f":"IF(J106=\"\",\"\",NETWORKDAYS(C106+1,J106,DiasNOLaborables))","v":9},"",null,null,35,null,null,null,null,null,null,null,"MODULO CONTACTENOS",null,null,null,null,"2021-11-07"]
[96,20219050041122,"2021-04-05","CIUDADANO","CORREO ELECTRÓNICO","CERTIFICACIONES DE TIEMPO, CLIMA Y EVENTOS HIDROLÓGICOS","CERTIFICACIONES DE TIEMPO Y CLIMA","SI","SUBDIRECCIÓN DE METEOROLOGÍA","2021-04-16","CORREO ELECTRÓNICO",null,{"$f":"IFERROR(WORKDAY(C107,S106,DiasNOLaborables),\"\")","v":"2021-05-25"},{"$f":"+IF(C107=\"\",\"\",IF(J107=\"\",\"SIN RESPUESTA\",(IF(J107<=M107,\"A TIEMPO\",\"FUERA DE TIEMPO\"))))","v":"A TIEMPO"},{"$f":"IF(J107=\"\",\"\",NETWORKDAYS([5]Hoja1!C105+1,[5]Hoja1!P105,DiasNOLaborables))","v":8},"",null,null,20,null,null,null,null,null,null,null,"WEB (MÓDULO DE SOLICITUD DE INFORMACIÓN HIDROMETEOROLÓGICA)",null,null,null,null,"2021-11-13"]
[97,20219050041132,"2021-04-05","CIUDADANO","CORREO ELECTRÓNICO","SOLICITUD DE INFORMACIÓN Y DOCUMENTOS","ACREDITACIÓN DE LABORATORIOS","SI","SUBDIRECCIÓN DE ESTUDIOS AMBIENTALES","2021-04-12","CORREO ELECTRÓNICO",null,{"$f":"IFERROR(WORKDAY(C108,S107,DiasNOLaborables),\"\")","v":"2021-05-03"},{"$f":"+IF(C108=\"\",\"\",IF(J108=\"\",\"SIN RESPUESTA\",(IF(J108<=M108,\"A TIEMPO\",\"FUERA DE TIEMPO\"))))","v":"A TIEMPO"},{"$f":"IF(J108=\"\",\"\",NETWORKDAYS(C108+1,J108,DiasNOLaborables))","v":5},"",null,null,20,null,null,null,null,null,null,null,null,null,null,null,null,"2021-11-14"]
[98,20219050041182,"2021-04-05","CIUDADANO","CORREO ELECTRÓNICO","SOLICITUD DE INFORMACIÓN Y DOCUMENTOS","REGISTROS AMBIENTALES","SI","SUBDIRECCIÓN DE ESTUDIOS AMBIENTALES","2021-04-05","CORREO ELECTRÓNICO",null,{"$f":"IFERROR(WORKDAY(C109,S108,DiasNOLaborables),\"\")","v":"2021-05-03"},{"$f":"+IF(C109=\"\",\"\",IF(J109=\"\",\"SIN RESPUESTA\",(IF(J109<=M109,\"A TIEMPO\",\"FUERA DE TIEMPO\"))))","v":"A TIEMPO"},{"$f":"IF(J109=\"\",\"\",NETWORKDAYS(C109+1,J109,DiasNOLaborables))","v":-2},"",null,null,20,null,null,null,null,null,null,null,"¿REQUERIMIENTO FUE ESCALADO?",null,null,null,null,"2021-11-15"]
[99,20219050041212,"2021-04-05","CIUDADANO","CORREO ELECTRÓNICO","SOLICITUD DE INFORMACIÓN Y DOCUMENTOS","ADMINISTRATIVA","SI","GRUPO DE TESORERÍA","2021-04-06","CORREO ELECTRÓNICO",null,{"$f":"IFERROR(WORKDAY(C110,S109,DiasNOLaborables),\"\")","v":"2021-05-03"},{"$f":"+IF(C110=\"\",\"\",IF(J110=\"\",\"SIN RESPUESTA\",(IF(J110<=M110,\"A TIEMPO\",\"FUERA DE TIEMPO\"))))","v":"A TIEMPO"},{"$f":"IF(J110=\"\",\"\",NETWORKDAYS(C110+1,J110,DiasNOLaborables))","v":1},"",null,null,20,null,null,null,null,null,null,null,"SI",null,null,null,null,"2021-11-20"]
[100,20219050041242,"2021-04-05","CIUDADANO","CORREO ELECTRÓNICO","SOLICITUD DE INFORMACIÓN Y DOCUMENTOS","BOSQUES","SI","SUBDIRECCIÓN DE ECOSISTEMAS E INFORMACIÓN AMBIENTAL","2021-04-19","CORREO ELECTRÓNICO",null,{"$f":"IFERROR(WORKDAY(C111,S110,DiasNOLaborables),\"\")","v":"2021-05-03"},{"$f":"+IF(C111=\"\",\"\",IF(J111=\"\",\"SIN RESPUESTA\",(IF(J111<=M111,\"A TIEMPO\",\"FUERA DE TIEMPO\"))))","v":"A TIEMPO"},{"$f":"IF(J111=\"\",\"\",NETWORKDAYS(C111+1,J111,DiasNOLaborables))","v":10},"",null,null,20,null,null,null,null,null,null,null,"NO",null,null,null,null,"2021-11-21"]
[101,20219050041252,"2021-04-05","CIUDADANO","CORREO ELECTRÓNICO","SOLICITUD DE INFORMACIÓN Y DOCUMENTOS","BOSQUES","SI","SUBDIRECCIÓN DE ECOSISTEMAS E INFORMACIÓN AMBIENTAL","2021-04-14","CORREO ELECTRÓNICO",null,{"$f":"IFERROR(WORKDAY(C112,S111,DiasNOLaborables),\"\")","v":"2021-05-03"},{"$f":"+IF(C112=\"\",\"\",IF(J112=\"\",\"SIN RESPUESTA\",(IF(J112<=M112,\"A TIEMPO\",\"FUERA DE TIEMPO\"))))","v":"A TIEMPO"},{"$f":"IF(J112=\"\",\"\",NETWORKDAYS(C112+1,J112,DiasNOLaborables))","v":7},"",null,null,20,null,null,null,null,null,null,null,null,null,null,null,null,"2021-11-27"]
[102,20219050041262,"2021-04-05","CIUDADANO","CORREO ELECTRÓNICO","SOLICITUD DE INFORMACIÓN Y DOCUMENTOS","REGISTROS AMBIENTALES","SI","SUBDIRECCIÓN DE ESTUDIOS AMBIENTALES","2021-04-05","CORREO ELECTRÓNICO",null,{"$f":"IFERROR(WORKDAY(C113,S112,DiasNOLaborables),\"\")","v":"2021-05-03"},{"$f":"+IF(C113=\"\",\"\",IF(J113=\"\",\"SIN RESPUESTA\",(IF(J113<=M113,\"A TIEMPO\",\"FUERA DE TIEMPO\"))))","v":"A TIEMPO"},{"$f":"IF(J113=\"\",\"\",NETWORKDAYS(C113+1,J113,DiasNOLaborables))","v":-2},"",null,null,20,null,null,null,null,null,null,null,"CANAL POR EL CUAL FUE RESUELTO EL REQUERIMIENTO",null,null,null,null,"2021-11-28"]
[103,20219050041272,"2021-04-05","CIUDADANO","CORREO ELECTRÓNICO","SOLICITUD DE INFORMACIÓN Y DOCUMENTOS","REGISTROS AMBIENTALES","SI","SUBDIRECCIÓN DE ESTUDIOS AMBIENTALES","2021-04-05","CORREO ELECTRÓNICO",null,{"$f":"IFERROR(WORKDAY(C114,S113,DiasNOLaborables),\"\")","v":"2021-05-03"},{"$f":"+IF(C114=\"\",\"\",IF(J114=\"\",\"SIN RESPUESTA\",(IF(J114<=M114,\"A TIEMPO\",\"FUERA DE TIEMPO\"))))","v":"A TIEMPO"},{"$f":"IF(J114=\"\",\"\",NETWORKDAYS(C114+1,J114,DiasNOLaborables))","v":-2},"",null,null,35,null,null,null,null,null,null,null,"CORREO ELECTRÓNICO",null,null,null,null,"2021-12-04"]
[104,20219050040612,"2021-04-05","EMPRESA PRIVADA","MODULO CONTACTENOS","CERTIFICACIONES DE TIEMPO, CLIMA Y EVENTOS HIDROLÓGICOS","CERTIFICACIONES DE TIEMPO Y CLIMA","SI","SUBDIRECCIÓN DE METEOROLOGÍA","2021-04-14","CORREO ELECTRÓNICO",null,{"$f":"IFERROR(WORKDAY(C115,S114,DiasNOLaborables),\"\")","v":"2021-05-25"},{"$f":"+IF(C115=\"\",\"\",IF(J115=\"\",\"SIN RESPUESTA\",(IF(J115<=M115,\"A TIEMPO\",\"FUERA DE TIEMPO\"))))","v":"A TIEMPO"},{"$f":"IF(J115=\"\",\"\",NETWORKDAYS(C115+1,J115,DiasNOLaborables))","v":7},"",null,null,20,null,null,null,null,null,null,null,"CORREO CERTIFICADO",null,null,null,null,"2021-12-05"]
[105,20219050040752,"2021-04-05","CIUDADANO","MODULO CONTACTENOS","SOLICITUD DE INFORMACIÓN Y DOCUMENTOS","SUELOS Y TIERRAS","SI","SUBDIRECCIÓN DE ECOSISTEMAS E INFORMACIÓN AMBIENTAL","2021-04-15","CORREO ELECTRÓNICO",null,{"$f":"IFERROR(WORKDAY(C116,S115,DiasNOLaborables),\"\")","v":"2021-05-03"},{"$f":"+IF(C116=\"\",\"\",IF(J116=\"\",\"SIN RESPUESTA\",(IF(J116<=M116,\"A TIEMPO\",\"FUERA DE TIEMPO\"))))","v":"A TIEMPO"},{"$f":"IF(J116=\"\",\"\",NETWORKDAYS(C116+1,J116,DiasNOLaborables))","v":8},"",null,null,20,null,null,null,null,null,null,null,null,null,null,null,null,"2021-12-08"]
[106,20219050040792,"2021-04-05","FUNCIONARIO IDEAM","MODULO CONTACTENOS","SOLICITUD DE INFORMACIÓN Y DOCUMENTOS","ADMINISTRATIVA","SI","GRUPO DE ADMINISTRACIÓN Y DESARROLLO DEL TALENTO HUMANO","2021-04-06","CORREO ELECTRÓNICO",null,{"$f":"IFERROR(WORKDAY(C117,S116,DiasNOLaborables),\"\")","v":"2021-05-03"},{"$f":"+IF(C117=\"\",\"\",IF(J117=\"\",\"SIN RESPUESTA\",(IF(J117<=M117,\"A TIEMPO\",\"FUERA DE TIEMPO\"))))","v":"A TIEMPO"},{"$f":"IF(J117=\"\",\"\",NETWORKDAYS(C117+1,J117,DiasNOLaborables))","v":1},"",null,null,20,null,null,null,null,null,null,null,null,null,null,null,null,"2021-12-11"]
[107,20219050040812,"2021-04-05","CIUDADANO","MODULO CONTACTENOS","SOLICITUD DE INFORMACIÓN Y DOCUMENTOS","ADMINISTRATIVA","SI","GRUPO DE TESORERÍA","2021-04-06","CORREO ELECTRÓNICO",null,{"$f":"IFERROR(WORKDAY(C118,S117,DiasNOLaborables),\"\")","v":"2021-05-03"},{"$f":"+IF(C118=\"\",\"\",IF(J118=\"\",\"SIN RESPUESTA\",(IF(J118<=M118,\"A TIEMPO\",\"FUERA DE TIEMPO\"))))","v":"A TIEMPO"},{"$f":"IF(J118=\"\",\"\",NETWORKDAYS(C118+1,J118,DiasNOLaborables))","v":1},"",null,null,20,null,null,null,null,null,null,null,null,null,null,null,null,"2021-12-12"]
[108,20219050041192,"2021-04-05","FUNCIONARIO IDEAM","MODULO CONTACTENOS","SOLICITUD DE INFORMACIÓN Y DOCUMENTOS","ADMINISTRATIVA","SI","GRUPO DE ADMINISTRACIÓN Y DESARROLLO DEL TALENTO HUMANO","2021-04-08","CORREO ELECTRÓNICO",null,{"$f":"IFERROR(WORKDAY(C119,S118,DiasNOLaborables),\"\")","v":"2021-05-03"},{"$f":"+IF(C119=\"\",\"\",IF(J119=\"\",\"SIN RESPUESTA\",(IF(J119<=M119,\"A TIEMPO\",\"FUERA DE TIEMPO\"))))","v":"A TIEMPO"},{"$f":"IF(J119=\"\",\"\",NETWORKDAYS(C119+1,J119,DiasNOLaborables))","v":3},"",null,null,20,null,null,null,null,null,null,null,null,null,null,null,null,"2021-12-18"]
[109,20219050041222,"2021-04-05","CIUDADANO","MODULO CONTACTENOS","SOLICITUD DE INFORMACIÓN Y DOCUMENTOS","ZONIFICACIÓN HIDROGRÁFICA","SI","SUBDIRECCIÓN DE ECOSISTEMAS E INFORMACIÓN AMBIENTAL","2021-04-09","CORREO ELECTRÓNICO",null,{"$f":"IFERROR(WORKDAY(C120,S119,DiasNOLaborables),\"\")","v":"2021-05-03"},{"$f":"+IF(C120=\"\",\"\",IF(J120=\"\",\"SIN RESPUESTA\",(IF(J120<=M120,\"A TIEMPO\",\"FUERA DE TIEMPO\"))))","v":"A TIEMPO"},{"$f":"IF(J120=\"\",\"\",NETWORKDAYS(C120+1,J120,DiasNOLaborables))","v":4},"",null,null,20,null,null,null,null,null,null,null,null,null,null,null,null,"2021-12-19"]
[110,20219050041342,"2021-04-05","FUNCIONARIO IDEAM","MODULO CONTACTENOS","SOLICITUD DE INFORMACIÓN Y DOCUMENTOS","ADMINISTRATIVA","SI","GRUPO DE ADMINISTRACIÓN Y DESARROLLO DEL TALENTO HUMANO","2021-04-09","CORREO ELECTRÓNICO",null,{"$f":"IFERROR(WORKDAY(C121,S120,DiasNOLaborables),\"\")","v":"2021-05-03"},{"$f":"+IF(C121=\"\",\"\",IF(J121=\"\",\"SIN RESPUESTA\",(IF(J121<=M121,\"A TIEMPO\",\"FUERA DE TIEMPO\"))))","v":"A TIEMPO"},{"$f":"IF(J121=\"\",\"\",NETWORKDAYS(C121+1,J121,DiasNOLaborables))","v":4},"",null,null,20,null,null,null,null,null,null,null,null,null,null,null,null,"2021-12-25"]
[111,20219050041522,"2021-04-05","CIUDADANO","MODULO CONTACTENOS","SOLICITUD DE INFORMACIÓN Y DOCUMENTOS","SIA","SI","SUBDIRECCIÓN DE ECOSISTEMAS E INFORMACIÓN AMBIENTAL","2021-04-16","CORREO ELECTRÓNICO",null,{"$f":"IFERROR(WORKDAY(C122,S121,DiasNOLaborables),\"\")","v":"2021-05-03"},{"$f":"+IF(C122=\"\",\"\",IF(J122=\"\",\"SIN RESPUESTA\",(IF(J122<=M122,\"A TIEMPO\",\"FUERA DE TIEMPO\"))))","v":"A TIEMPO"},{"$f":"IF(J122=\"\",\"\",NETWORKDAYS(C122+1,J122,DiasNOLaborables))","v":9},"",null,null,20,null,null,null,null,null,null,null,null,null,null,null,null,"2021-12-26"]
[112,20219050040632,"2021-04-05","CIUDADANO","MODULO CONTACTENOS","SOLICITUD DE INFORMACIÓN Y DOCUMENTOS","SOLICITUD DE INFORMACIÓN HIDROMETEOROLÓGICA","NO","GRUPO DE SERVICIO AL CIUDADANO ","2021-04-27","CORREO ELECTRÓNICO",null,{"$f":"IFERROR(WORKDAY(C123,S122,DiasNOLaborables),\"\")","v":"2021-05-03"},{"$f":"+IF(C123=\"\",\"\",IF(J123=\"\",\"SIN RESPUESTA\",(IF(J123<=M123,\"A TIEMPO\",\"FUERA DE TIEMPO\"))))","v":"A TIEMPO"},{"$f":"IF(J123=\"\",\"\",NETWORKDAYS(C123+1,J123,DiasNOLaborables))","v":16},"",null,null,20]
[113,20219050040672,"2021-04-05","CIUDADANO","MODULO CONTACTENOS","SOLICITUD DE INFORMACIÓN Y DOCUMENTOS","SOLICITUD DE INFORMACIÓN HIDROMETEOROLÓGICA","NO","GRUPO DE SERVICIO AL CIUDADANO ","2021-04-27","CORREO ELECTRÓNICO",null,{"$f":"IFERROR(WORKDAY(C124,S123,DiasNOLaborables),\"\")","v":"2021-05-03"},{"$f":"+IF(C124=\"\",\"\",IF(J124=\"\",\"SIN RESPUESTA\",(IF(J124<=M124,\"A TIEMPO\",\"FUERA DE TIEMPO\"))))","v":"A TIEMPO"},{"$f":"IF(J124=\"\",\"\",NETWORKDAYS(C124+1,J124,DiasNOLaborables))","v":16},"",null,null,20]
[114,20219050040692,"2021-04-05","CIUDADANO","MODULO CONTACTENOS","SOLICITUD DE INFORMACIÓN Y DOCUMENTOS","SOLICITUD DE INFORMACIÓN HIDROMETEOROLÓGICA","NO","GRUPO DE SERVICIO AL CIUDADANO ","2021-04-27","CORREO ELECTRÓNICO",null,{"$f":"IFERROR(WORKDAY(C125,S124,DiasNOLaborables),\"\")","v":"2021-05-03"},{"$f":"+IF(C125=\"\",\"\",IF(J125=\"\",\"SIN RESPUESTA\",(IF(J125<=M125,\"A TIEMPO\",\"FUERA DE TIEMPO\"))))","v":"A TIEMPO"},{"$f":"IF(J125=\"\",\"\",NETWORKDAYS(C125+1,J125,DiasNOLaborables))","v":16},"",null,null,20]
[115,20219050040702,"2021-04-05","CIUDADANO","MODULO CONTACTENOS","SOLICITUD DE INFORMACIÓN Y DOCUMENTOS","SOLICITUD DE INFORMACIÓN HIDROMETEOROLÓGICA","SI","SUBDIRECCIÓN DE METEOROLOGÍA","2021-04-27","CORREO ELECTRÓNICO",null,{"$f":"IFERROR(WORKDAY(C126,S125,DiasNOLaborables),\"\")","v":"2021-05-03"},{"$f":"+IF(C126=\"\",\"\",IF(J126=\"\",\"SIN RESPUESTA\",(IF(J126<=M126,\"A TIEMPO\",\"FUERA DE TIEMPO\"))))","v":"A TIEMPO"},{"$f":"IF(J126=\"\",\"\",NETWORKDAYS(C126+1,J126,DiasNOLaborables))","v":16},"",null,null,20]
[116,20219050040802,"2021-04-05","EMPRESA PRIVADA","MODULO CONTACTENOS","SOLICITUD DE INFORMACIÓN Y DOCUMENTOS","SOLICITUD DE INFORMACIÓN HIDROMETEOROLÓGICA","NO","GRUPO DE SERVICIO AL CIUDADANO ","2021-04-27","CORREO ELECTRÓNICO",null,{"$f":"IFERROR(WORKDAY(C127,S126,DiasNOLaborables),\"\")","v":"2021-05-03"},{"$f":"+IF(C127=\"\",\"\",IF(J127=\"\",\"SIN RESPUESTA\",(IF(J127<=M127,\"A TIEMPO\",\"FUERA DE TIEMPO\"))))","v":"A TIEMPO"},{"$f":"IF(J127=\"\",\"\",NETWORKDAYS(C127+1,J127,DiasNOLaborables))","v":16},"",null,null,20]
[117,20219050041002,"2021-04-05","CIUDADANO","MODULO CONTACTENOS","SOLICITUD DE INFORMACIÓN Y DOCUMENTOS","SOLICITUD DE INFORMACIÓN HIDROMETEOROLÓGICA","NO","GRUPO DE SERVICIO AL CIUDADANO ","2021-04-27","CORREO ELECTRÓNICO",null,{"$f":"IFERROR(WORKDAY(C128,S127,DiasNOLaborables),\"\")","v":"2021-05-03"},{"$f":"+IF(C128=\"\",\"\",IF(J128=\"\",\"SIN RESPUESTA\",(IF(J128<=M128,\"A TIEMPO\",\"FUERA DE TIEMPO\"))))","v":"A TIEMPO"},{"$f":"IF(J128=\"\",\"\",NETWORKDAYS(C128+1,J128,DiasNOLaborables))","v":16},"",null,null,20]
[118,20219050041042,"2021-04-05","CIUDADANO","MODULO CONTACTENOS","SOLICITUD DE INFORMACIÓN Y DOCUMENTOS","SOLICITUD DE INFORMACIÓN HIDROMETEOROLÓGICA","NO","GRUPO DE SERVICIO AL CIUDADANO ","2021-04-28","CORREO ELECTRÓNICO",null,{"$f":"IFERROR(WORKDAY(C129,S128,DiasNOLaborables),\"\")","v":"2021-05-03"},{"$f":"+IF(C129=\"\",\"\",IF(J129=\"\",\"SIN RESPUESTA\",(IF(J129<=M129,\"A TIEMPO\",\"FUERA DE TIEMPO\"))))","v":"A TIEMPO"},{"$f":"IF(J129=\"\",\"\",NETWORKDAYS(C129+1,J129,DiasNOLaborables))","v":17},"",null,null,20]
[119,20219050041152,"2021-04-05","CIUDADANO","MODULO CONTACTENOS","SOLICITUD DE INFORMACIÓN Y DOCUMENTOS","SOLICITUD DE INFORMACIÓN HIDROMETEOROLÓGICA","NO","GRUPO DE SERVICIO AL CIUDADANO ","2021-04-28","CORREO ELECTRÓNICO",null,{"$f":"IFERROR(WORKDAY(C130,S129,DiasNOLaborables),\"\")","v":"2021-05-03"},{"$f":"+IF(C130=\"\",\"\",IF(J130=\"\",\"SIN RESPUESTA\",(IF(J130<=M130,\"A TIEMPO\",\"FUERA DE TIEMPO\"))))","v":"A TIEMPO"},{"$f":"IF(J130=\"\",\"\",NETWORKDAYS(C130+1,J130,DiasNOLaborables))","v":17},"",null,null,20]
[120,20219050041172,"2021-04-05","CIUDADANO","MODULO CONTACTENOS","SOLICITUD DE INFORMACIÓN Y DOCUMENTOS","SOLICITUD DE INFORMACIÓN HIDROMETEOROLÓGICA","NO","GRUPO DE SERVICIO AL CIUDADANO ","2021-04-28","CORREO ELECTRÓNICO",null,{"$f":"IFERROR(WORKDAY(C131,S130,DiasNOLaborables),\"\")","v":"2021-05-03"},{"$f":"+IF(C131=\"\",\"\",IF(J131=\"\",\"SIN RESPUESTA\",(IF(J131<=M131,\"A TIEMPO\",\"FUERA DE TIEMPO\"))))","v":"A TIEMPO"},{"$f":"IF(J131=\"\",\"\",NETWORKDAYS(C131+1,J131,DiasNOLaborables))","v":17},"",null,null,20]
[121,20219050041292,"2021-04-05","CIUDADANO","MODULO CONTACTENOS","SOLICITUD DE INFORMACIÓN Y DOCUMENTOS","SOLICITUD DE INFORMACIÓN HIDROMETEOROLÓGICA","NO","GRUPO DE SERVICIO AL CIUDADANO ","2021-04-28","CORREO ELECTRÓNICO",null,{"$f":"IFERROR(WORKDAY(C132,S131,DiasNOLaborables),\"\")","v":"2021-05-03"},{"$f":"+IF(C132=\"\",\"\",IF(J132=\"\",\"SIN RESPUESTA\",(IF(J132<=M132,\"A TIEMPO\",\"FUERA DE TIEMPO\"))))","v":"A TIEMPO"},{"$f":"IF(J132=\"\",\"\",NETWORKDAYS(C132+1,J132,DiasNOLaborables))","v":17},"",null,null,20]
[122,20219050041402,"2021-04-05","CIUDADANO","MODULO CONTACTENOS","SOLICITUD DE INFORMACIÓN Y DOCUMENTOS","SOLICITUD DE INFORMACIÓN HIDROMETEOROLÓGICA","NO","GRUPO DE SERVICIO AL CIUDADANO ","2021-04-28","CORREO ELECTRÓNICO",null,{"$f":"IFERROR(WORKDAY(C133,S132,DiasNOLaborables),\"\")","v":"2021-05-03"},{"$f":"+IF(C133=\"\",\"\",IF(J133=\"\",\"SIN RESPUESTA\",(IF(J133<=M133,\"A TIEMPO\",\"FUERA DE TIEMPO\"))))","v":"A TIEMPO"},{"$f":"IF(J133=\"\",\"\",NETWORKDAYS(C133+1,J133,DiasNOLaborables))","v":17},"",null,null,20]
[123,20219050041482,"2021-04-05","CIUDADANO","MODULO CONTACTENOS","SOLICITUD DE INFORMACIÓN Y DOCUMENTOS","SOLICITUD DE INFORMACIÓN HIDROMETEOROLÓGICA","NO","GRUPO DE SERVICIO AL CIUDADANO ","2021-04-28","CORREO ELECTRÓNICO",null,{"$f":"IFERROR(WORKDAY(C134,S133,DiasNOLaborables),\"\")","v":"2021-05-03"},{"$f":"+IF(C134=\"\",\"\",IF(J134=\"\",\"SIN RESPUESTA\",(IF(J134<=M134,\"A TIEMPO\",\"FUERA DE TIEMPO\"))))","v":"A TIEMPO"},{"$f":"IF(J134=\"\",\"\",NETWORKDAYS(C134+1,J134,DiasNOLaborables))","v":17},"",null,null,20]
[124,20219050041492,"2021-04-05","CIUDADANO","MODULO CONTACTENOS","SOLICITUD DE INFORMACIÓN Y DOCUMENTOS","SOLICITUD DE INFORMACIÓN HIDROMETEOROLÓGICA","NO","GRUPO DE SERVICIO AL CIUDADANO ","2021-04-28","CORREO ELECTRÓNICO",null,{"$f":"IFERROR(WORKDAY(C135,S134,DiasNOLaborables),\"\")","v":"2021-05-03"},{"$f":"+IF(C135=\"\",\"\",IF(J135=\"\",\"SIN RESPUESTA\",(IF(J135<=M135,\"A TIEMPO\",\"FUERA DE TIEMPO\"))))","v":"A TIEMPO"},{"$f":"IF(J135=\"\",\"\",NETWORKDAYS(C135+1,J135,DiasNOLaborables))","v":17},"",null,null,20]
[125,20219050041502,"2021-04-05","CIUDADANO","MODULO CONTACTENOS","SOLICITUD DE INFORMACIÓN Y DOCUMENTOS","SOLICITUD DE INFORMACIÓN HIDROMETEOROLÓGICA","NO","GRUPO DE SERVICIO AL CIUDADANO ","2021-04-28","CORREO ELECTRÓNICO",null,{"$f":"IFERROR(WORKDAY(C136,S135,DiasNOLaborables),\"\")","v":"2021-05-03"},{"$f":"+IF(C136=\"\",\"\",IF(J136=\"\",\"SIN RESPUESTA\",(IF(J136<=M136,\"A TIEMPO\",\"FUERA DE TIEMPO\"))))","v":"A TIEMPO"},{"$f":"IF(J136=\"\",\"\",NETWORKDAYS(C136+1,J136,DiasNOLaborables))","v":17},"",null,null,20]
[126,20219050041512,"2021-04-05","CIUDADANO","MODULO CONTACTENOS","SOLICITUD DE INFORMACIÓN Y DOCUMENTOS","SOLICITUD DE INFORMACIÓN HIDROMETEOROLÓGICA","SI","SUBDIRECCIÓN DE ECOSISTEMAS E INFORMACIÓN AMBIENTAL","2021-04-28","CORREO ELECTRÓNICO",null,{"$f":"IFERROR(WORKDAY(C137,S136,DiasNOLaborables),\"\")","v":"2021-05-03"},{"$f":"+IF(C137=\"\",\"\",IF(J137=\"\",\"SIN RESPUESTA\",(IF(J137<=M137,\"A TIEMPO\",\"FUERA DE TIEMPO\"))))","v":"A TIEMPO"},{"$f":"IF(J137=\"\",\"\",NETWORKDAYS(C137+1,J137,DiasNOLaborables))","v":17},"",null,null,20]
[127,20219050040492,"2021-04-05","CIUDADANO","MODULO CONTACTENOS","SOLICITUD DE INFORMACIÓN Y DOCUMENTOS","SOLICITUD DE INFORMACIÓN HIDROMETEOROLÓGICA","NO","GRUPO DE SERVICIO AL CIUDADANO ","2021-05-03","CORREO ELECTRÓNICO",null,{"$f":"IFERROR(WORKDAY(C138,S137,DiasNOLaborables),\"\")","v":"2021-05-03"},{"$f":"+IF(C138=\"\",\"\",IF(J138=\"\",\"SIN RESPUESTA\",(IF(J138<=M138,\"A TIEMPO\",\"FUERA DE TIEMPO\"))))","v":"A TIEMPO"},{"$f":"IF(J138=\"\",\"\",NETWORKDAYS(C138+1,J138,DiasNOLaborables))","v":20},"",null,null,20]
[128,20219050040532,"2021-04-05","CIUDADANO","MODULO CONTACTENOS","SOLICITUD DE INFORMACIÓN Y DOCUMENTOS","SOLICITUD DE INFORMACIÓN HIDROMETEOROLÓGICA","NO","GRUPO DE SERVICIO AL CIUDADANO ","2021-05-03","CORREO ELECTRÓNICO",null,{"$f":"IFERROR(WORKDAY(C139,S138,DiasNOLaborables),\"\")","v":"2021-05-03"},{"$f":"+IF(C139=\"\",\"\",IF(J139=\"\",\"SIN RESPUESTA\",(IF(J139<=M139,\"A TIEMPO\",\"FUERA DE TIEMPO\"))))","v":"A TIEMPO"},{"$f":"IF(J139=\"\",\"\",NETWORKDAYS(C139+1,J139,DiasNOLaborables))","v":20},"",null,null,20]
[129,20219050040572,"2021-04-05","CIUDADANO","MODULO CONTACTENOS","SOLICITUD DE INFORMACIÓN Y DOCUMENTOS","SOLICITUD DE INFORMACIÓN HIDROMETEOROLÓGICA","NO","GRUPO DE SERVICIO AL CIUDADANO ","2021-05-03","CORREO ELECTRÓNICO",null,{"$f":"IFERROR(WORKDAY(C140,S139,DiasNOLaborables),\"\")","v":"2021-05-03"},{"$f":"+IF(C140=\"\",\"\",IF(J140=\"\",\"SIN RESPUESTA\",(IF(J140<=M140,\"A TIEMPO\",\"FUERA DE TIEMPO\"))))","v":"A TIEMPO"},{"$f":"IF(J140=\"\",\"\",NETWORKDAYS(C140+1,J140,DiasNOLaborables))","v":20},"",null,null,20]
[130,20219050040592,"2021-04-05","CIUDADANO","MODULO CONTACTENOS","SOLICITUD DE INFORMACIÓN Y DOCUMENTOS","SOLICITUD DE INFORMACIÓN HIDROMETEOROLÓGICA","NO","GRUPO DE SERVICIO AL CIUDADANO ","2021-05-03","CORREO ELECTRÓNICO",null,{"$f":"IFERROR(WORKDAY(C141,S140,DiasNOLaborables),\"\")","v":"2021-05-03"},{"$f":"+IF(C141=\"\",\"\",IF(J141=\"\",\"SIN RESPUESTA\",(IF(J141<=M141,\"A TIEMPO\",\"FUERA DE TIEMPO\"))))","v":"A TIEMPO"},{"$f":"IF(J141=\"\",\"\",NETWORKDAYS(C141+1,J141,DiasNOLaborables))","v":20},"",null,null,{"$f":"IFERROR(VLOOKUP(F142,$AA$51:$AB$64,2),\"\")","v":20}]
[{"$f":"IF(B142<>\"\",A141+1,\"\")","v":131},20219050040602,"2021-04-05","ACADEMIA","MODULO CONTACTENOS","SOLICITUD DE INFORMACIÓN Y DOCUMENTOS","SOLICITUD DE INFORMACIÓN HIDROMETEOROLÓGICA","NO","GRUPO DE SERVICIO AL CIUDADANO ","2021-05-03","CORREO ELECTRÓNICO",null,{"$f":"IFERROR(WORKDAY(C142,S141,DiasNOLaborables),\"\")","v":"2021-05-03"},{"$f":"+IF(C142=\"\",\"\",IF(J142=\"\",\"SIN RESPUESTA\",(IF(J142<=M142,\"A TIEMPO\",\"FUERA DE TIEMPO\"))))","v":"A TIEMPO"},{"$f":"IF(J142=\"\",\"\",NETWORKDAYS(C142+1,J142,DiasNOLaborables))","v":20},"",null,null,20]
[132,20219050040652,"2021-04-05","CIUDADANO","MODULO CONTACTENOS","SOLICITUD DE INFORMACIÓN Y DOCUMENTOS","SOLICITUD DE INFORMACIÓN HIDROMETEOROLÓGICA","NO","GRUPO DE SERVICIO AL CIUDADANO ","2021-05-03","CORREO ELECTRÓNICO",null,{"$f":"IFERROR(WORKDAY(C143,S142,DiasNOLaborables),\"\")","v":"2021-05-03"},{"$f":"+IF(C143=\"\",\"\",IF(J143=\"\",\"SIN RESPUESTA\",(IF(J143<=M143,\"A TIEMPO\",\"FUERA DE TIEMPO\"))))","v":"A TIEMPO"},{"$f":"IF(J143=\"\",\"\",NETWORKDAYS(C143+1,J143,DiasNOLaborables))","v":20},"",null,null,20]
[133,20219050040922,"2021-04-05","ACADEMIA","MODULO CONTACTENOS","SOLICITUD DE INFORMACIÓN Y DOCUMENTOS","SOLICITUD DE INFORMACIÓN HIDROMETEOROLÓGICA","NO","GRUPO DE SERVICIO AL CIUDADANO ","2021-05-03","CORREO ELECTRÓNICO",null,{"$f":"IFERROR(WORKDAY(C144,S143,DiasNOLaborables),\"\")","v":"2021-05-03"},{"$f":"+IF(C144=\"\",\"\",IF(J144=\"\",\"SIN RESPUESTA\",(IF(J144<=M144,\"A TIEMPO\",\"FUERA DE TIEMPO\"))))","v":"A TIEMPO"},{"$f":"IF(J144=\"\",\"\",NETWORKDAYS(C144+1,J144,DiasNOLaborables))","v":20},{"$f":"IF(NETWORKDAYS(M144+1,J144,DiasNOLaborables)<=0,\"\",NETWORKDAYS(M144+1,J144,DiasNOLaborables))","v":""},null,null,20]
[134,20219050041072,"2021-04-05","ACADEMIA","MODULO CONTACTENOS","SOLICITUD DE INFORMACIÓN Y DOCUMENTOS","SOLICITUD DE INFORMACIÓN HIDROMETEOROLÓGICA","NO","GRUPO DE SERVICIO AL CIUDADANO ","2021-05-03","CORREO ELECTRÓNICO",null,{"$f":"IFERROR(WORKDAY(C145,S144,DiasNOLaborables),\"\")","v":"2021-05-03"},{"$f":"+IF(C145=\"\",\"\",IF(J145=\"\",\"SIN RESPUESTA\",(IF(J145<=M145,\"A TIEMPO\",\"FUERA DE TIEMPO\"))))","v":"A TIEMPO"},{"$f":"IF(J145=\"\",\"\",NETWORKDAYS(C145+1,J145,DiasNOLaborables))","v":20},"",null,null,20]
[135,20219050041092,"2021-04-05","ACADEMIA","MODULO CONTACTENOS","SOLICITUD DE INFORMACIÓN Y DOCUMENTOS","SOLICITUD DE INFORMACIÓN HIDROMETEOROLÓGICA","NO","GRUPO DE SERVICIO AL CIUDADANO ","2021-05-03","CORREO ELECTRÓNICO",null,{"$f":"IFERROR(WORKDAY(C146,S145,DiasNOLaborables),\"\")","v":"2021-05-03"},{"$f":"+IF(C146=\"\",\"\",IF(J146=\"\",\"SIN RESPUESTA\",(IF(J146<=M146,\"A TIEMPO\",\"FUERA DE TIEMPO\"))))","v":"A TIEMPO"},{"$f":"IF(J146=\"\",\"\",NETWORKDAYS(C146+1,J146,DiasNOLaborables))","v":20},"",null,null,20]
[136,20219050041102,"2021-04-05","CIUDADANO","MODULO CONTACTENOS","SOLICITUD DE INFORMACIÓN Y DOCUMENTOS","SOLICITUD DE INFORMACIÓN HIDROMETEOROLÓGICA","NO","GRUPO DE SERVICIO AL CIUDADANO ","2021-05-03","CORREO ELECTRÓNICO",null,{"$f":"IFERROR(WORKDAY(C147,S146,DiasNOLaborables),\"\")","v":"2021-05-03"},{"$f":"+IF(C147=\"\",\"\",IF(J147=\"\",\"SIN RESPUESTA\",(IF(J147<=M147,\"A TIEMPO\",\"FUERA DE TIEMPO\"))))","v":"A TIEMPO"},{"$f":"IF(J147=\"\",\"\",NETWORKDAYS(C147+1,J147,DiasNOLaborables))","v":20},"",null,null,20]
[137,20219050041142,"2021-04-05","ACADEMIA","MODULO CONTACTENOS","SOLICITUD DE INFORMACIÓN Y DOCUMENTOS","SOLICITUD DE INFORMACIÓN HIDROMETEOROLÓGICA","NO","GRUPO DE SERVICIO AL CIUDADANO ","2021-05-03","CORREO ELECTRÓNICO",null,{"$f":"IFERROR(WORKDAY(C148,S147,DiasNOLaborables),\"\")","v":"2021-05-03"},{"$f":"+IF(C148=\"\",\"\",IF(J148=\"\",\"SIN RESPUESTA\",(IF(J148<=M148,\"A TIEMPO\",\"FUERA DE TIEMPO\"))))","v":"A TIEMPO"},{"$f":"IF(J148=\"\",\"\",NETWORKDAYS(C148+1,J148,DiasNOLaborables))","v":20},"",null,null,20]
[138,20219050041162,"2021-04-05","ACADEMIA","MODULO CONTACTENOS","SOLICITUD DE INFORMACIÓN Y DOCUMENTOS","SOLICITUD DE INFORMACIÓN HIDROMETEOROLÓGICA","NO","GRUPO DE SERVICIO AL CIUDADANO ","2021-05-03","CORREO ELECTRÓNICO",null,{"$f":"IFERROR(WORKDAY(C149,S148,DiasNOLaborables),\"\")","v":"2021-05-03"},{"$f":"+IF(C149=\"\",\"\",IF(J149=\"\",\"SIN RESPUESTA\",(IF(J149<=M149,\"A TIEMPO\",\"FUERA DE TIEMPO\"))))","v":"A TIEMPO"},{"$f":"IF(J149=\"\",\"\",NETWORKDAYS(C149+1,J149,DiasNOLaborables))","v":20},"",null,null,20]
[139,20219050041412,"2021-04-05","ACADEMIA","MODULO CONTACTENOS","SOLICITUD DE INFORMACIÓN Y DOCUMENTOS","SOLICITUD DE INFORMACIÓN HIDROMETEOROLÓGICA","NO","GRUPO DE SERVICIO AL CIUDADANO ","2021-05-03","CORREO ELECTRÓNICO",null,{"$f":"IFERROR(WORKDAY(C150,S149,DiasNOLaborables),\"\")","v":"2021-05-03"},{"$f":"+IF(C150=\"\",\"\",IF(J150=\"\",\"SIN RESPUESTA\",(IF(J150<=M150,\"A TIEMPO\",\"FUERA DE TIEMPO\"))))","v":"A TIEMPO"},{"$f":"IF(J150=\"\",\"\",NETWORKDAYS(C150+1,J150,DiasNOLaborables))","v":20},"",null,null,20]
[140,20219050041422,"2021-04-05","ACADEMIA","MODULO CONTACTENOS","SOLICITUD DE INFORMACIÓN Y DOCUMENTOS","SOLICITUD DE INFORMACIÓN HIDROMETEOROLÓGICA","NO","GRUPO DE SERVICIO AL CIUDADANO ","2021-05-03","CORREO ELECTRÓNICO",null,{"$f":"IFERROR(WORKDAY(C151,S150,DiasNOLaborables),\"\")","v":"2021-05-03"},{"$f":"+IF(C151=\"\",\"\",IF(J151=\"\",\"SIN RESPUESTA\",(IF(J151<=M151,\"A TIEMPO\",\"FUERA DE TIEMPO\"))))","v":"A TIEMPO"},{"$f":"IF(J151=\"\",\"\",NETWORKDAYS(C151+1,J151,DiasNOLaborables))","v":20},"",null,null,20]
[141,20219050041442,"2021-04-05","CIUDADANO","MODULO CONTACTENOS","SOLICITUD DE INFORMACIÓN Y DOCUMENTOS","SOLICITUD DE INFORMACIÓN HIDROMETEOROLÓGICA","NO","GRUPO DE SERVICIO AL CIUDADANO ","2021-05-03","CORREO ELECTRÓNICO",null,{"$f":"IFERROR(WORKDAY(C152,S151,DiasNOLaborables),\"\")","v":"2021-05-03"},{"$f":"+IF(C152=\"\",\"\",IF(J152=\"\",\"SIN RESPUESTA\",(IF(J152<=M152,\"A TIEMPO\",\"FUERA DE TIEMPO\"))))","v":"A TIEMPO"},{"$f":"IF(J152=\"\",\"\",NETWORKDAYS(C152+1,J152,DiasNOLaborables))","v":20},"",null,null,20]
[142,20219050041632,"2021-04-06","CIUDADANO","MODULO CONTACTENOS","SOLICITUD DE INFORMACIÓN Y DOCUMENTOS","SOLICITUD DE INFORMACIÓN HIDROMETEOROLÓGICA","NO","GRUPO DE SERVICIO AL CIUDADANO ","2021-05-04","CORREO ELECTRÓNICO",null,{"$f":"IFERROR(WORKDAY(C153,S152,DiasNOLaborables),\"\")","v":"2021-05-04"},{"$f":"+IF(C153=\"\",\"\",IF(J153=\"\",\"SIN RESPUESTA\",(IF(J153<=M153,\"A TIEMPO\",\"FUERA DE TIEMPO\"))))","v":"A TIEMPO"},{"$f":"IF(J153=\"\",\"\",NETWORKDAYS(C153+1,J153,DiasNOLaborables))","v":20},"",null,null,20]
[143,20219050041682,"2021-04-06","CIUDADANO","MODULO CONTACTENOS","SOLICITUD DE INFORMACIÓN Y DOCUMENTOS","SOLICITUD DE INFORMACIÓN HIDROMETEOROLÓGICA","NO","GRUPO DE SERVICIO AL CIUDADANO ","2021-05-04","CORREO ELECTRÓNICO",null,{"$f":"IFERROR(WORKDAY(C154,S153,DiasNOLaborables),\"\")","v":"2021-05-04"},{"$f":"+IF(C154=\"\",\"\",IF(J154=\"\",\"SIN RESPUESTA\",(IF(J154<=M154,\"A TIEMPO\",\"FUERA DE TIEMPO\"))))","v":"A TIEMPO"},{"$f":"IF(J154=\"\",\"\",NETWORKDAYS(C154+1,J154,DiasNOLaborables))","v":20},"",null,null,20]
[144,20219050041692,"2021-04-06","ACADEMIA","MODULO CONTACTENOS","SOLICITUD DE INFORMACIÓN Y DOCUMENTOS","SOLICITUD DE INFORMACIÓN HIDROMETEOROLÓGICA","NO","GRUPO DE SERVICIO AL CIUDADANO ","2021-05-04","CORREO ELECTRÓNICO",null,{"$f":"IFERROR(WORKDAY(C155,S154,DiasNOLaborables),\"\")","v":"2021-05-04"},{"$f":"+IF(C155=\"\",\"\",IF(J155=\"\",\"SIN RESPUESTA\",(IF(J155<=M155,\"A TIEMPO\",\"FUERA DE TIEMPO\"))))","v":"A TIEMPO"},{"$f":"IF(J155=\"\",\"\",NETWORKDAYS(C155+1,J155,DiasNOLaborables))","v":20},"",null,null,20]
[145,20219050041712,"2021-04-06","CIUDADANO","MODULO CONTACTENOS","SOLICITUD DE INFORMACIÓN Y DOCUMENTOS","SOLICITUD DE INFORMACIÓN HIDROMETEOROLÓGICA","NO","GRUPO DE SERVICIO AL CIUDADANO ","2021-05-04","CORREO ELECTRÓNICO",null,{"$f":"IFERROR(WORKDAY(C156,S155,DiasNOLaborables),\"\")","v":"2021-05-04"},{"$f":"+IF(C156=\"\",\"\",IF(J156=\"\",\"SIN RESPUESTA\",(IF(J156<=M156,\"A TIEMPO\",\"FUERA DE TIEMPO\"))))","v":"A TIEMPO"},{"$f":"IF(J156=\"\",\"\",NETWORKDAYS(C156+1,J156,DiasNOLaborables))","v":20},"",null,null,20]
[146,20219050041722,"2021-04-06","CIUDADANO","MODULO CONTACTENOS","SOLICITUD DE INFORMACIÓN Y DOCUMENTOS","SOLICITUD DE INFORMACIÓN HIDROMETEOROLÓGICA","NO","GRUPO DE SERVICIO AL CIUDADANO ","2021-05-04","CORREO ELECTRÓNICO",null,{"$f":"IFERROR(WORKDAY(C157,S156,DiasNOLaborables),\"\")","v":"2021-05-04"},{"$f":"+IF(C157=\"\",\"\",IF(J157=\"\",\"SIN RESPUESTA\",(IF(J157<=M157,\"A TIEMPO\",\"FUERA DE TIEMPO\"))))","v":"A TIEMPO"},{"$f":"IF(J157=\"\",\"\",NETWORKDAYS(C157+1,J157,DiasNOLaborables))","v":20},"",null,null,20]
[147,20219050041732,"2021-04-06","CIUDADANO","MODULO CONTACTENOS","SOLICITUD DE INFORMACIÓN Y DOCUMENTOS","SOLICITUD DE INFORMACIÓN HIDROMETEOROLÓGICA","NO","GRUPO DE SERVICIO AL CIUDADANO ","2021-05-04","CORREO ELECTRÓNICO",null,{"$f":"IFERROR(WORKDAY(C158,S157,DiasNOLaborables),\"\")","v":"2021-05-04"},{"$f":"+IF(C158=\"\",\"\",IF(J158=\"\",\"SIN RESPUESTA\",(IF(J158<=M158,\"A TIEMPO\",\"FUERA DE TIEMPO\"))))","v":"A TIEMPO"},{"$f":"IF(J158=\"\",\"\",NETWORKDAYS(C158+1,J158,DiasNOLaborables))","v":20},"",null,null,20]
[148,20219050041742,"2021-04-06","CIUDADANO","MODULO CONTACTENOS","SOLICITUD DE INFORMACIÓN Y DOCUMENTOS","SOLICITUD DE INFORMACIÓN HIDROMETEOROLÓGICA","NO","GRUPO DE SERVICIO AL CIUDADANO ","2021-05-04","CORREO ELECTRÓNICO",null,{"$f":"IFERROR(WORKDAY(C159,S158,DiasNOLaborables),\"\")","v":"2021-05-04"},{"$f":"+IF(C159=\"\",\"\",IF(J159=\"\",\"SIN RESPUESTA\",(IF(J159<=M159,\"A TIEMPO\",\"FUERA DE TIEMPO\"))))","v":"A TIEMPO"},{"$f":"IF(J159=\"\",\"\",NETWORKDAYS(C159+1,J159,DiasNOLaborables))","v":20},"",null,null,20]
[149,20219050041752,"2021-04-06","CIUDADANO","MODULO CONTACTENOS","SOLICITUD DE INFORMACIÓN Y DOCUMENTOS","SOLICITUD DE INFORMACIÓN HIDROMETEOROLÓGICA","NO","GRUPO DE SERVICIO AL CIUDADANO ","2021-05-04","CORREO ELECTRÓNICO",null,{"$f":"IFERROR(WORKDAY(C160,S159,DiasNOLaborables),\"\")","v":"2021-05-04"},{"$f":"+IF(C160=\"\",\"\",IF(J160=\"\",\"SIN RESPUESTA\",(IF(J160<=M160,\"A TIEMPO\",\"FUERA DE TIEMPO\"))))","v":"A TIEMPO"},{"$f":"IF(J160=\"\",\"\",NETWORKDAYS(C160+1,J160,DiasNOLaborables))","v":20},"",null,null,20]
[150,20219050041762,"2021-04-06","ACADEMIA","MODULO CONTACTENOS","SOLICITUD DE INFORMACIÓN Y DOCUMENTOS","SOLICITUD DE INFORMACIÓN HIDROMETEOROLÓGICA","NO","GRUPO DE SERVICIO AL CIUDADANO ","2021-05-04","CORREO ELECTRÓNICO",null,{"$f":"IFERROR(WORKDAY(C161,S160,DiasNOLaborables),\"\")","v":"2021-05-04"},{"$f":"+IF(C161=\"\",\"\",IF(J161=\"\",\"SIN RESPUESTA\",(IF(J161<=M161,\"A TIEMPO\",\"FUERA DE TIEMPO\"))))","v":"A TIEMPO"},{"$f":"IF(J161=\"\",\"\",NETWORKDAYS(C161+1,J161,DiasNOLaborables))","v":20},"",null,null,20]
[151,20219050041772,"2021-04-06","CIUDADANO","MODULO CONTACTENOS","SOLICITUD DE INFORMACIÓN Y DOCUMENTOS","SOLICITUD DE INFORMACIÓN HIDROMETEOROLÓGICA","NO","GRUPO DE SERVICIO AL CIUDADANO ","2021-05-04","CORREO ELECTRÓNICO",null,{"$f":"IFERROR(WORKDAY(C162,S161,DiasNOLaborables),\"\")","v":"2021-05-04"},{"$f":"+IF(C162=\"\",\"\",IF(J162=\"\",\"SIN RESPUESTA\",(IF(J162<=M162,\"A TIEMPO\",\"FUERA DE TIEMPO\"))))","v":"A TIEMPO"},{"$f":"IF(J162=\"\",\"\",NETWORKDAYS(C162+1,J162,DiasNOLaborables))","v":20},"",null,null,20]
[152,20219050041782,"2021-04-06","ACADEMIA","MODULO CONTACTENOS","SOLICITUD DE INFORMACIÓN Y DOCUMENTOS","SOLICITUD DE INFORMACIÓN HIDROMETEOROLÓGICA","NO","GRUPO DE SERVICIO AL CIUDADANO ","2021-05-04","CORREO ELECTRÓNICO",null,{"$f":"IFERROR(WORKDAY(C163,S162,DiasNOLaborables),\"\")","v":"2021-05-04"},{"$f":"+IF(C163=\"\",\"\",IF(J163=\"\",\"SIN RESPUESTA\",(IF(J163<=M163,\"A TIEMPO\",\"FUERA DE TIEMPO\"))))","v":"A TIEMPO"},{"$f":"IF(J163=\"\",\"\",NETWORKDAYS(C163+1,J163,DiasNOLaborables))","v":20},"",null,null,20]
[153,20219050041792,"2021-04-06","CIUDADANO","MODULO CONTACTENOS","SOLICITUD DE INFORMACIÓN Y DOCUMENTOS","SOLICITUD DE INFORMACIÓN HIDROMETEOROLÓGICA","NO","GRUPO DE SERVICIO AL CIUDADANO ","2021-05-04","CORREO ELECTRÓNICO",null,{"$f":"IFERROR(WORKDAY(C164,S163,DiasNOLaborables),\"\")","v":"2021-05-04"},{"$f":"+IF(C164=\"\",\"\",IF(J164=\"\",\"SIN RESPUESTA\",(IF(J164<=M164,\"A TIEMPO\",\"FUERA DE TIEMPO\"))))","v":"A TIEMPO"},{"$f":"IF(J164=\"\",\"\",NETWORKDAYS(C164+1,J164,DiasNOLaborables))","v":20},"",null,null,20]
[154,20219050041802,"2021-04-06","CIUDADANO","MODULO CONTACTENOS","SOLICITUD DE INFORMACIÓN Y DOCUMENTOS","SOLICITUD DE INFORMACIÓN HIDROMETEOROLÓGICA","NO","GRUPO DE SERVICIO AL CIUDADANO ","2021-05-04","CORREO ELECTRÓNICO",null,{"$f":"IFERROR(WORKDAY(C165,S164,DiasNOLaborables),\"\")","v":"2021-05-04"},{"$f":"+IF(C165=\"\",\"\",IF(J165=\"\",\"SIN RESPUESTA\",(IF(J165<=M165,\"A TIEMPO\",\"FUERA DE TIEMPO\"))))","v":"A TIEMPO"},{"$f":"IF(J165=\"\",\"\",NETWORKDAYS(C165+1,J165,DiasNOLaborables))","v":20},"",null,null,20]
[155,20219050041532,"2021-04-06","CIUDADANO","MODULO CONTACTENOS","SOLICITUD DE INFORMACIÓN Y DOCUMENTOS","SOLICITUD DE INFORMACIÓN HIDROMETEOROLÓGICA","NO","GRUPO DE SERVICIO AL CIUDADANO ","2021-04-28","CORREO ELECTRÓNICO",null,{"$f":"IFERROR(WORKDAY(C166,S165,DiasNOLaborables),\"\")","v":"2021-05-04"},{"$f":"+IF(C166=\"\",\"\",IF(J166=\"\",\"SIN RESPUESTA\",(IF(J166<=M166,\"A TIEMPO\",\"FUERA DE TIEMPO\"))))","v":"A TIEMPO"},{"$f":"IF(J166=\"\",\"\",NETWORKDAYS(C166+1,J166,DiasNOLaborables))","v":16},"",null,null,20]
[156,20219050041542,"2021-04-06","CIUDADANO","MODULO CONTACTENOS","SOLICITUD DE INFORMACIÓN Y DOCUMENTOS","SOLICITUD DE INFORMACIÓN HIDROMETEOROLÓGICA","NO","GRUPO DE SERVICIO AL CIUDADANO ","2021-04-29","CORREO ELECTRÓNICO",null,{"$f":"IFERROR(WORKDAY(C167,S166,DiasNOLaborables),\"\")","v":"2021-05-04"},{"$f":"+IF(C167=\"\",\"\",IF(J167=\"\",\"SIN RESPUESTA\",(IF(J167<=M167,\"A TIEMPO\",\"FUERA DE TIEMPO\"))))","v":"A TIEMPO"},{"$f":"IF(J167=\"\",\"\",NETWORKDAYS(C167+1,J167,DiasNOLaborables))","v":17},"",null,null,20]
[157,20219050041552,"2021-04-06","CIUDADANO","MODULO CONTACTENOS","SOLICITUD DE INFORMACIÓN Y DOCUMENTOS","SOLICITUD DE INFORMACIÓN HIDROMETEOROLÓGICA","NO","GRUPO DE SERVICIO AL CIUDADANO ","2021-04-28","CORREO ELECTRÓNICO",null,{"$f":"IFERROR(WORKDAY(C168,S167,DiasNOLaborables),\"\")","v":"2021-05-04"},{"$f":"+IF(C168=\"\",\"\",IF(J168=\"\",\"SIN RESPUESTA\",(IF(J168<=M168,\"A TIEMPO\",\"FUERA DE TIEMPO\"))))","v":"A TIEMPO"},{"$f":"IF(J168=\"\",\"\",NETWORKDAYS(C168+1,J168,DiasNOLaborables))","v":16},"",null,null,20]
[158,20219050041842,"2021-04-06","CIUDADANO","MODULO CONTACTENOS","SOLICITUD DE INFORMACIÓN Y DOCUMENTOS","SOLICITUD DE INFORMACIÓN HIDROMETEOROLÓGICA","NO","GRUPO DE SERVICIO AL CIUDADANO ","2021-04-29","CORREO ELECTRÓNICO",null,{"$f":"IFERROR(WORKDAY(C169,S168,DiasNOLaborables),\"\")","v":"2021-05-04"},{"$f":"+IF(C169=\"\",\"\",IF(J169=\"\",\"SIN RESPUESTA\",(IF(J169<=M169,\"A TIEMPO\",\"FUERA DE TIEMPO\"))))","v":"A TIEMPO"},{"$f":"IF(J169=\"\",\"\",NETWORKDAYS(C169+1,J169,DiasNOLaborables))","v":17},"",null,null,20]
[159,20219050041932,"2021-04-06","CIUDADANO","MODULO CONTACTENOS","SOLICITUD DE INFORMACIÓN Y DOCUMENTOS","SOLICITUD DE INFORMACIÓN HIDROMETEOROLÓGICA","NO","GRUPO DE SERVICIO AL CIUDADANO ","2021-04-29","CORREO ELECTRÓNICO",null,{"$f":"IFERROR(WORKDAY(C170,S169,DiasNOLaborables),\"\")","v":"2021-05-04"},{"$f":"+IF(C170=\"\",\"\",IF(J170=\"\",\"SIN RESPUESTA\",(IF(J170<=M170,\"A TIEMPO\",\"FUERA DE TIEMPO\"))))","v":"A TIEMPO"},{"$f":"IF(J170=\"\",\"\",NETWORKDAYS(C170+1,J170,DiasNOLaborables))","v":17},"",null,null,20]
[160,20219050041952,"2021-04-06","CIUDADANO","MODULO CONTACTENOS","SOLICITUD DE INFORMACIÓN Y DOCUMENTOS","SOLICITUD DE INFORMACIÓN HIDROMETEOROLÓGICA","NO","GRUPO DE SERVICIO AL CIUDADANO ","2021-04-29","CORREO ELECTRÓNICO",null,{"$f":"IFERROR(WORKDAY(C171,S170,DiasNOLaborables),\"\")","v":"2021-05-04"},{"$f":"+IF(C171=\"\",\"\",IF(J171=\"\",\"SIN RESPUESTA\",(IF(J171<=M171,\"A TIEMPO\",\"FUERA DE TIEMPO\"))))","v":"A TIEMPO"},{"$f":"IF(J171=\"\",\"\",NETWORKDAYS(C171+1,J171,DiasNOLaborables))","v":17},"",null,null,20]
[161,20219050041962,"2021-04-06","CIUDADANO","MODULO CONTACTENOS","SOLICITUD DE INFORMACIÓN Y DOCUMENTOS","SOLICITUD DE INFORMACIÓN HIDROMETEOROLÓGICA","NO","GRUPO DE SERVICIO AL CIUDADANO ","2021-04-29","CORREO ELECTRÓNICO",null,{"$f":"IFERROR(WORKDAY(C172,S171,DiasNOLaborables),\"\")","v":"2021-05-04"},{"$f":"+IF(C172=\"\",\"\",IF(J172=\"\",\"SIN RESPUESTA\",(IF(J172<=M172,\"A TIEMPO\",\"FUERA DE TIEMPO\"))))","v":"A TIEMPO"},{"$f":"IF(J172=\"\",\"\",NETWORKDAYS(C172+1,J172,DiasNOLaborables))","v":17},"",null,null,20]
[162,20219050041562,"2021-04-06","CIUDADANO","MODULO CONTACTENOS","SOLICITUD DE INFORMACIÓN Y DOCUMENTOS","SIA","SI","SUBDIRECCIÓN DE ECOSISTEMAS E INFORMACIÓN AMBIENTAL","2021-04-07","CORREO ELECTRÓNICO",null,{"$f":"IFERROR(WORKDAY(C173,S172,DiasNOLaborables),\"\")","v":"2021-05-04"},{"$f":"+IF(C173=\"\",\"\",IF(J173=\"\",\"SIN RESPUESTA\",(IF(J173<=M173,\"A TIEMPO\",\"FUERA DE TIEMPO\"))))","v":"A TIEMPO"},{"$f":"IF(J173=\"\",\"\",NETWORKDAYS(C173+1,J173,DiasNOLaborables))","v":1},"",null,null,20]
[163,20219050041582,"2021-04-06","CIUDADANO","MODULO CONTACTENOS","SOLICITUD DE INFORMACIÓN Y DOCUMENTOS","ADMINISTRATIVA","SI","GRUPO DE TESORERÍA","2021-04-06","CORREO ELECTRÓNICO",null,{"$f":"IFERROR(WORKDAY(C174,S173,DiasNOLaborables),\"\")","v":"2021-05-04"},{"$f":"+IF(C174=\"\",\"\",IF(J174=\"\",\"SIN RESPUESTA\",(IF(J174<=M174,\"A TIEMPO\",\"FUERA DE TIEMPO\"))))","v":"A TIEMPO"},{"$f":"IF(J174=\"\",\"\",NETWORKDAYS(C174+1,J174,DiasNOLaborables))","v":-2},"",null,null,20]
[164,20219050041612,"2021-04-06","CIUDADANO","MODULO CONTACTENOS","SOLICITUD DE INFORMACIÓN Y DOCUMENTOS","ADMINISTRATIVA","SI","GRUPO DE ADMINISTRACIÓN Y DESARROLLO DEL TALENTO HUMANO","2021-04-23","CORREO ELECTRÓNICO",null,{"$f":"IFERROR(WORKDAY(C175,S174,DiasNOLaborables),\"\")","v":"2021-05-04"},{"$f":"+IF(C175=\"\",\"\",IF(J175=\"\",\"SIN RESPUESTA\",(IF(J175<=M175,\"A TIEMPO\",\"FUERA DE TIEMPO\"))))","v":"A TIEMPO"},{"$f":"IF(J175=\"\",\"\",NETWORKDAYS(C175+1,J175,DiasNOLaborables))","v":13},"",null,null,20]
[165,20219050041652,"2021-04-06","FUNCIONARIO IDEAM","MODULO CONTACTENOS","SOLICITUD DE INFORMACIÓN Y DOCUMENTOS","ADMINISTRATIVA","SI","GRUPO DE ADMINISTRACIÓN Y DESARROLLO DEL TALENTO HUMANO","2021-04-20","CORREO ELECTRÓNICO",null,{"$f":"IFERROR(WORKDAY(C176,S175,DiasNOLaborables),\"\")","v":"2021-05-04"},{"$f":"+IF(C176=\"\",\"\",IF(J176=\"\",\"SIN RESPUESTA\",(IF(J176<=M176,\"A TIEMPO\",\"FUERA DE TIEMPO\"))))","v":"A TIEMPO"},{"$f":"IF(J176=\"\",\"\",NETWORKDAYS(C176+1,J176,DiasNOLaborables))","v":10},"",null,null,20]
[166,20219050041832,"2021-04-06","CIUDADANO","MODULO CONTACTENOS","SOLICITUD DE INFORMACIÓN Y DOCUMENTOS","REGISTROS AMBIENTALES","SI","SUBDIRECCIÓN DE ESTUDIOS AMBIENTALES","2021-04-14","CORREO ELECTRÓNICO",null,{"$f":"IFERROR(WORKDAY(C177,S176,DiasNOLaborables),\"\")","v":"2021-05-04"},{"$f":"+IF(C177=\"\",\"\",IF(J177=\"\",\"SIN RESPUESTA\",(IF(J177<=M177,\"A TIEMPO\",\"FUERA DE TIEMPO\"))))","v":"A TIEMPO"},{"$f":"IF(J177=\"\",\"\",NETWORKDAYS(C177+1,J177,DiasNOLaborables))","v":6},"",null,null,20]
[167,20219050041892,"2021-04-06","CIUDADANO","MODULO CONTACTENOS","SOLICITUD DE INFORMACIÓN Y DOCUMENTOS","CLIMATOLOGÍA","SI","SUBDIRECCIÓN DE METEOROLOGÍA","2021-04-22","CORREO ELECTRÓNICO",null,{"$f":"IFERROR(WORKDAY(C178,S177,DiasNOLaborables),\"\")","v":"2021-05-04"},{"$f":"+IF(C178=\"\",\"\",IF(J178=\"\",\"SIN RESPUESTA\",(IF(J178<=M178,\"A TIEMPO\",\"FUERA DE TIEMPO\"))))","v":"A TIEMPO"},{"$f":"IF(J178=\"\",\"\",NETWORKDAYS(C178+1,J178,DiasNOLaborables))","v":12},"",null,null,30]
[168,20219910018962,"2021-04-06","EMPRESA PRIVADA","CORREO ELECTRÓNICO","PETICIÓN","ADMINISTRATIVA","SI","GRUPO DE SERVICIOS ADMINISTRATIVOS","2021-05-10","CORREO ELECTRÓNICO",null,{"$f":"IFERROR(WORKDAY(C179,S178,DiasNOLaborables),\"\")","v":"2021-05-19"},{"$f":"+IF(C179=\"\",\"\",IF(J179=\"\",\"SIN RESPUESTA\",(IF(J179<=M179,\"A TIEMPO\",\"FUERA DE TIEMPO\"))))","v":"A TIEMPO"},{"$f":"IF(J179=\"\",\"\",NETWORKDAYS(C179+1,J179,DiasNOLaborables))","v":24},"",null,null,5]
[169,20219050041852,"2021-04-06","CIUDADANO","CORREO ELECTRÓNICO","REMISIÓN POR COMPETENCIA","BOSQUES","NO","GRUPO DE SERVICIO AL CIUDADANO ","2021-04-12","CORREO ELECTRÓNICO",null,{"$f":"IFERROR(WORKDAY(C180,S179,DiasNOLaborables),\"\")","v":"2021-04-13"},{"$f":"+IF(C180=\"\",\"\",IF(J180=\"\",\"SIN RESPUESTA\",(IF(J180<=M180,\"A TIEMPO\",\"FUERA DE TIEMPO\"))))","v":"A TIEMPO"},{"$f":"IF(J180=\"\",\"\",NETWORKDAYS(C180+1,J180,DiasNOLaborables))","v":4},"",null,null,20]
[170,20219050041862,"2021-04-06","CIUDADANO","CORREO ELECTRÓNICO","SOLICITUD DE INFORMACIÓN Y DOCUMENTOS","AGUAS SUBTERRANEAS","SI","SUBDIRECCIÓN DE HIDROLOGÍA","2021-04-19","CORREO ELECTRÓNICO",null,{"$f":"IFERROR(WORKDAY(C181,S180,DiasNOLaborables),\"\")","v":"2021-05-04"},{"$f":"+IF(C181=\"\",\"\",IF(J181=\"\",\"SIN RESPUESTA\",(IF(J181<=M181,\"A TIEMPO\",\"FUERA DE TIEMPO\"))))","v":"A TIEMPO"},{"$f":"IF(J181=\"\",\"\",NETWORKDAYS(C181+1,J181,DiasNOLaborables))","v":9},"",null,null,20]
[171,20219050041872,"2021-04-06","EMPRESA PRIVADA","CORREO ELECTRÓNICO","SOLICITUD DE INFORMACIÓN Y DOCUMENTOS","REGISTROS AMBIENTALES","SI","SUBDIRECCIÓN DE ESTUDIOS AMBIENTALES","2021-04-06","CORREO ELECTRÓNICO",null,{"$f":"IFERROR(WORKDAY(C182,S181,DiasNOLaborables),\"\")","v":"2021-05-04"},{"$f":"+IF(C182=\"\",\"\",IF(J182=\"\",\"SIN RESPUESTA\",(IF(J182<=M182,\"A TIEMPO\",\"FUERA DE TIEMPO\"))))","v":"A TIEMPO"},{"$f":"IF(J182=\"\",\"\",NETWORKDAYS(C182+1,J182,DiasNOLaborables))","v":-2},"",null,null,35]
[172,20219050041882,"2021-04-06","CIUDADANO","CORREO ELECTRÓNICO","CERTIFICACIONES DE TIEMPO, CLIMA Y EVENTOS HIDROLÓGICOS","CERTIFICACIONES DE TIEMPO Y CLIMA","SI","SUBDIRECCIÓN DE METEOROLOGÍA","2021-04-16","CORREO ELECTRÓNICO",null,{"$f":"IFERROR(WORKDAY(C183,S182,DiasNOLaborables),\"\")","v":"2021-05-26"},{"$f":"+IF(C183=\"\",\"\",IF(J183=\"\",\"SIN RESPUESTA\",(IF(J183<=M183,\"A TIEMPO\",\"FUERA DE TIEMPO\"))))","v":"A TIEMPO"},{"$f":"IF(J183=\"\",\"\",NETWORKDAYS(C183+1,J183,DiasNOLaborables))","v":8},"",null,null,20]
[173,20219050041902,"2021-04-06","CIUDADANO","CORREO ELECTRÓNICO","SOLICITUD DE INFORMACIÓN Y DOCUMENTOS","SOLICITUD DE INFORMACIÓN HIDROMETEOROLÓGICA","SI","OFICINA DE INFORMÁTICA","2021-04-16","CORREO ELECTRÓNICO",null,{"$f":"IFERROR(WORKDAY(C184,S183,DiasNOLaborables),\"\")","v":"2021-05-04"},{"$f":"+IF(C184=\"\",\"\",IF(J184=\"\",\"SIN RESPUESTA\",(IF(J184<=M184,\"A TIEMPO\",\"FUERA DE TIEMPO\"))))","v":"A TIEMPO"},{"$f":"IF(J184=\"\",\"\",NETWORKDAYS(C184+1,J184,DiasNOLaborables))","v":8},"",null,null,20]
[174,20219050041912,"2021-04-06","EMPRESA PRIVADA","CORREO ELECTRÓNICO","SOLICITUD DE INFORMACIÓN Y DOCUMENTOS","REGISTROS AMBIENTALES","SI","SUBDIRECCIÓN DE ESTUDIOS AMBIENTALES","2021-04-07","CORREO ELECTRÓNICO",null,{"$f":"IFERROR(WORKDAY(C185,S184,DiasNOLaborables),\"\")","v":"2021-05-04"},{"$f":"+IF(C185=\"\",\"\",IF(J185=\"\",\"SIN RESPUESTA\",(IF(J185<=M185,\"A TIEMPO\",\"FUERA DE TIEMPO\"))))","v":"A TIEMPO"},{"$f":"IF(J185=\"\",\"\",NETWORKDAYS(C185+1,J185,DiasNOLaborables))","v":1},"",null,null,30]
[175,20219050041922,"2021-04-06","ENTIDAD PÚBLICA","CORREO ELECTRÓNICO","PETICIÓN","ADMINISTRATIVA","SI","DIRECCIÓN GENERAL","2021-04-14","CORREO ELECTRÓNICO",null,{"$f":"IFERROR(WORKDAY(C186,S185,DiasNOLaborables),\"\")","v":"2021-05-19"},{"$f":"+IF(C186=\"\",\"\",IF(J186=\"\",\"SIN RESPUESTA\",(IF(J186<=M186,\"A TIEMPO\",\"FUERA DE TIEMPO\"))))","v":"A TIEMPO"},{"$f":"IF(J186=\"\",\"\",NETWORKDAYS(C186+1,J186,DiasNOLaborables))","v":6},"",null,null,35]
[176,20219050042352,"2021-04-07","EMPRESA PRIVADA","CORREO ELECTRÓNICO","CERTIFICACIONES DE TIEMPO, CLIMA Y EVENTOS HIDROLÓGICOS","CERTIFICACIONES DE TIEMPO Y CLIMA","SI","SUBDIRECCIÓN DE METEOROLOGÍA","2021-04-15","CORREO ELECTRÓNICO",null,{"$f":"IFERROR(WORKDAY(C187,S186,DiasNOLaborables),\"\")","v":"2021-05-27"},{"$f":"+IF(C187=\"\",\"\",IF(J187=\"\",\"SIN RESPUESTA\",(IF(J187<=M187,\"A TIEMPO\",\"FUERA DE TIEMPO\"))))","v":"A TIEMPO"},{"$f":"IF(J187=\"\",\"\",NETWORKDAYS(C187+1,J187,DiasNOLaborables))","v":6},"",null,null,30]
[177,20219050042372,"2021-04-07","CIUDADANO","CORREO ELECTRÓNICO","PETICIÓN","CAMBIO CLIMÁTICO","SI","SUBDIRECCIÓN DE ESTUDIOS AMBIENTALES","2021-05-04","CORREO ELECTRÓNICO",null,{"$f":"IFERROR(WORKDAY(C188,S187,DiasNOLaborables),\"\")","v":"2021-05-20"},{"$f":"+IF(C188=\"\",\"\",IF(J188=\"\",\"SIN RESPUESTA\",(IF(J188<=M188,\"A TIEMPO\",\"FUERA DE TIEMPO\"))))","v":"A TIEMPO"},{"$f":"IF(J188=\"\",\"\",NETWORKDAYS(C188+1,J188,DiasNOLaborables))","v":19},"",null,null,20]
[178,20219050042382,"2021-04-07","EMPRESA PRIVADA","CORREO ELECTRÓNICO","SOLICITUD DE INFORMACIÓN Y DOCUMENTOS","REGISTROS AMBIENTALES","SI","SUBDIRECCIÓN DE ESTUDIOS AMBIENTALES","2021-04-08","CORREO ELECTRÓNICO",null,{"$f":"IFERROR(WORKDAY(C189,S188,DiasNOLaborables),\"\")","v":"2021-05-05"},{"$f":"+IF(C189=\"\",\"\",IF(J189=\"\",\"SIN RESPUESTA\",(IF(J189<=M189,\"A TIEMPO\",\"FUERA DE TIEMPO\"))))","v":"A TIEMPO"},{"$f":"IF(J189=\"\",\"\",NETWORKDAYS(C189+1,J189,DiasNOLaborables))","v":1},"",null,null,20]
[179,20219050041982,"2021-04-07","FUNCIONARIO IDEAM","MODULO CONTACTENOS","SOLICITUD DE INFORMACIÓN Y DOCUMENTOS","ADMINISTRATIVA","SI","GRUPO DE ADMINISTRACIÓN Y DESARROLLO DEL TALENTO HUMANO","2021-04-19","CORREO ELECTRÓNICO",null,{"$f":"IFERROR(WORKDAY(C190,S189,DiasNOLaborables),\"\")","v":"2021-05-05"},{"$f":"+IF(C190=\"\",\"\",IF(J190=\"\",\"SIN RESPUESTA\",(IF(J190<=M190,\"A TIEMPO\",\"FUERA DE TIEMPO\"))))","v":"A TIEMPO"},{"$f":"IF(J190=\"\",\"\",NETWORKDAYS(C190+1,J190,DiasNOLaborables))","v":8},"",null,null,20]
[180,20219050042172,"2021-04-07","CIUDADANO","CORREO ELECTRÓNICO","SOLICITUD DE INFORMACIÓN Y DOCUMENTOS","REGISTROS AMBIENTALES","SI","SUBDIRECCIÓN DE ESTUDIOS AMBIENTALES","2021-04-08","CORREO ELECTRÓNICO",null,{"$f":"IFERROR(WORKDAY(C191,S190,DiasNOLaborables),\"\")","v":"2021-05-05"},{"$f":"+IF(C191=\"\",\"\",IF(J191=\"\",\"SIN RESPUESTA\",(IF(J191<=M191,\"A TIEMPO\",\"FUERA DE TIEMPO\"))))","v":"A TIEMPO"},{"$f":"IF(J191=\"\",\"\",NETWORKDAYS(C191+1,J191,DiasNOLaborables))","v":1},"",null,null,20]
[181,20219050042202,"2021-04-07","CIUDADANO","CORREO ELECTRÓNICO","SOLICITUD DE INFORMACIÓN Y DOCUMENTOS","REGISTROS AMBIENTALES","SI","SUBDIRECCIÓN DE ESTUDIOS AMBIENTALES","2021-04-08","CORREO ELECTRÓNICO",null,{"$f":"IFERROR(WORKDAY(C192,S191,DiasNOLaborables),\"\")","v":"2021-05-05"},{"$f":"+IF(C192=\"\",\"\",IF(J192=\"\",\"SIN RESPUESTA\",(IF(J192<=M192,\"A TIEMPO\",\"FUERA DE TIEMPO\"))))","v":"A TIEMPO"},{"$f":"IF(J192=\"\",\"\",NETWORKDAYS(C192+1,J192,DiasNOLaborables))","v":1},"",null,null,20]
[182,20219050042262,"2021-04-07","CIUDADANO","CORREO ELECTRÓNICO","SOLICITUD DE INFORMACIÓN Y DOCUMENTOS","REGISTROS AMBIENTALES","SI","SUBDIRECCIÓN DE ESTUDIOS AMBIENTALES","2021-04-08","CORREO ELECTRÓNICO",null,{"$f":"IFERROR(WORKDAY(C193,S192,DiasNOLaborables),\"\")","v":"2021-05-05"},{"$f":"+IF(C193=\"\",\"\",IF(J193=\"\",\"SIN RESPUESTA\",(IF(J193<=M193,\"A TIEMPO\",\"FUERA DE TIEMPO\"))))","v":"A TIEMPO"},{"$f":"IF(J193=\"\",\"\",NETWORKDAYS(C193+1,J193,DiasNOLaborables))","v":1},"",null,null,20]
[183,20219050042272,"2021-04-07","CIUDADANO","CORREO ELECTRÓNICO","SOLICITUD DE INFORMACIÓN Y DOCUMENTOS","REGISTROS AMBIENTALES","SI","SUBDIRECCIÓN DE ESTUDIOS AMBIENTALES","2021-04-08","CORREO ELECTRÓNICO",null,{"$f":"IFERROR(WORKDAY(C194,S193,DiasNOLaborables),\"\")","v":"2021-05-05"},{"$f":"+IF(C194=\"\",\"\",IF(J194=\"\",\"SIN RESPUESTA\",(IF(J194<=M194,\"A TIEMPO\",\"FUERA DE TIEMPO\"))))","v":"A TIEMPO"},{"$f":"IF(J194=\"\",\"\",NETWORKDAYS(C194+1,J194,DiasNOLaborables))","v":1},"",null,null,20]
[184,20219050042292,"2021-04-07","CIUDADANO","CORREO ELECTRÓNICO","SOLICITUD DE INFORMACIÓN Y DOCUMENTOS","REGISTROS AMBIENTALES","SI","SUBDIRECCIÓN DE ESTUDIOS AMBIENTALES","2021-04-08","CORREO ELECTRÓNICO",null,{"$f":"IFERROR(WORKDAY(C195,S194,DiasNOLaborables),\"\")","v":"2021-05-05"},{"$f":"+IF(C195=\"\",\"\",IF(J195=\"\",\"SIN RESPUESTA\",(IF(J195<=M195,\"A TIEMPO\",\"FUERA DE TIEMPO\"))))","v":"A TIEMPO"},{"$f":"IF(J195=\"\",\"\",NETWORKDAYS(C195+1,J195,DiasNOLaborables))","v":1},"",null,null,20]
[185,20219050042312,"2021-04-07","CIUDADANO","CORREO ELECTRÓNICO","SOLICITUD DE INFORMACIÓN Y DOCUMENTOS","REGISTROS AMBIENTALES","SI","SUBDIRECCIÓN DE ESTUDIOS AMBIENTALES","2021-04-08","CORREO ELECTRÓNICO",null,{"$f":"IFERROR(WORKDAY(C196,S195,DiasNOLaborables),\"\")","v":"2021-05-05"},{"$f":"+IF(C196=\"\",\"\",IF(J196=\"\",\"SIN RESPUESTA\",(IF(J196<=M196,\"A TIEMPO\",\"FUERA DE TIEMPO\"))))","v":"A TIEMPO"},{"$f":"IF(J196=\"\",\"\",NETWORKDAYS(C196+1,J196,DiasNOLaborables))","v":1},"",null,null,20]
[186,20219050042332,"2021-04-07","CIUDADANO","CORREO ELECTRÓNICO","SOLICITUD DE INFORMACIÓN Y DOCUMENTOS","REGISTROS AMBIENTALES","SI","SUBDIRECCIÓN DE ESTUDIOS AMBIENTALES","2021-04-08","CORREO ELECTRÓNICO",null,{"$f":"IFERROR(WORKDAY(C197,S196,DiasNOLaborables),\"\")","v":"2021-05-05"},{"$f":"+IF(C197=\"\",\"\",IF(J197=\"\",\"SIN RESPUESTA\",(IF(J197<=M197,\"A TIEMPO\",\"FUERA DE TIEMPO\"))))","v":"A TIEMPO"},{"$f":"IF(J197=\"\",\"\",NETWORKDAYS(C197+1,J197,DiasNOLaborables))","v":1},"",null,null,20]
[187,20219050042012,"2021-04-07","CIUDADANO","MODULO CONTACTENOS","SOLICITUD DE INFORMACIÓN Y DOCUMENTOS","ADMINISTRATIVA","SI","GRUPO DE ADMINISTRACIÓN Y DESARROLLO DEL TALENTO HUMANO","2021-04-13","CORREO ELECTRÓNICO",null,{"$f":"IFERROR(WORKDAY(C198,S197,DiasNOLaborables),\"\")","v":"2021-05-05"},{"$f":"+IF(C198=\"\",\"\",IF(J198=\"\",\"SIN RESPUESTA\",(IF(J198<=M198,\"A TIEMPO\",\"FUERA DE TIEMPO\"))))","v":"A TIEMPO"},{"$f":"IF(J198=\"\",\"\",NETWORKDAYS(C198+1,J198,DiasNOLaborables))","v":4},"",null,null,35]
[188,20219050042032,"2021-04-07","CIUDADANO","MODULO CONTACTENOS","CERTIFICACIONES DE TIEMPO, CLIMA Y EVENTOS HIDROLÓGICOS","CERTIFICACIONES DE TIEMPO Y CLIMA","SI","SUBDIRECCIÓN DE METEOROLOGÍA","2021-04-15","CORREO ELECTRÓNICO",null,{"$f":"IFERROR(WORKDAY(C199,S198,DiasNOLaborables),\"\")","v":"2021-05-27"},{"$f":"+IF(C199=\"\",\"\",IF(J199=\"\",\"SIN RESPUESTA\",(IF(J199<=M199,\"A TIEMPO\",\"FUERA DE TIEMPO\"))))","v":"A TIEMPO"},{"$f":"IF(J199=\"\",\"\",NETWORKDAYS(C199+1,J199,DiasNOLaborables))","v":6},"",null,null,20]
[189,20219050042062,"2021-04-07","CIUDADANO","MODULO CONTACTENOS","SOLICITUD DE INFORMACIÓN Y DOCUMENTOS","ADMINISTRATIVA","SI","OFICINA ASESORA JURÍDICA","2021-04-13","CORREO ELECTRÓNICO",null,{"$f":"IFERROR(WORKDAY(C200,S199,DiasNOLaborables),\"\")","v":"2021-05-05"},{"$f":"+IF(C200=\"\",\"\",IF(J200=\"\",\"SIN RESPUESTA\",(IF(J200<=M200,\"A TIEMPO\",\"FUERA DE TIEMPO\"))))","v":"A TIEMPO"},{"$f":"IF(J200=\"\",\"\",NETWORKDAYS(C200+1,J200,DiasNOLaborables))","v":4},"",null,null,20]
[190,20219050042212,"2021-04-07","CIUDADANO","MODULO CONTACTENOS","SOLICITUD DE INFORMACIÓN Y DOCUMENTOS","ADMINISTRATIVA","SI","GRUPO DE ADMINISTRACIÓN Y DESARROLLO DEL TALENTO HUMANO","2021-04-20","CORREO ELECTRÓNICO",null,{"$f":"IFERROR(WORKDAY(C201,S200,DiasNOLaborables),\"\")","v":"2021-05-05"},{"$f":"+IF(C201=\"\",\"\",IF(J201=\"\",\"SIN RESPUESTA\",(IF(J201<=M201,\"A TIEMPO\",\"FUERA DE TIEMPO\"))))","v":"A TIEMPO"},{"$f":"IF(J201=\"\",\"\",NETWORKDAYS(C201+1,J201,DiasNOLaborables))","v":9},"",null,null,35]
[191,20219050042242,"2021-04-07","EMPRESA PRIVADA","MODULO CONTACTENOS","CERTIFICACIONES DE TIEMPO, CLIMA Y EVENTOS HIDROLÓGICOS","CERTIFICACIONES DE TIEMPO Y CLIMA","SI","SUBDIRECCIÓN DE METEOROLOGÍA","2021-04-15","CORREO ELECTRÓNICO",null,{"$f":"IFERROR(WORKDAY(C202,S201,DiasNOLaborables),\"\")","v":"2021-05-27"},{"$f":"+IF(C202=\"\",\"\",IF(J202=\"\",\"SIN RESPUESTA\",(IF(J202<=M202,\"A TIEMPO\",\"FUERA DE TIEMPO\"))))","v":"A TIEMPO"},{"$f":"IF(J202=\"\",\"\",NETWORKDAYS(C202+1,J202,DiasNOLaborables))","v":6},"",null,null,20]
[192,20219050042362,"2021-04-07","EMPRESA PRIVADA","MODULO CONTACTENOS","SOLICITUD DE INFORMACIÓN Y DOCUMENTOS","REGISTROS AMBIENTALES","SI","SUBDIRECCIÓN DE ESTUDIOS AMBIENTALES","2021-04-08","CORREO ELECTRÓNICO",null,{"$f":"IFERROR(WORKDAY(C203,S202,DiasNOLaborables),\"\")","v":"2021-05-05"},{"$f":"+IF(C203=\"\",\"\",IF(J203=\"\",\"SIN RESPUESTA\",(IF(J203<=M203,\"A TIEMPO\",\"FUERA DE TIEMPO\"))))","v":"A TIEMPO"},{"$f":"IF(J203=\"\",\"\",NETWORKDAYS(C203+1,J203,DiasNOLaborables))","v":1},"",null,null,20]
[193,20219050041972,"2021-04-07","CIUDADANO","MODULO CONTACTENOS","SOLICITUD DE INFORMACIÓN Y DOCUMENTOS","SOLICITUD DE INFORMACIÓN HIDROMETEOROLÓGICA","NO","GRUPO DE SERVICIO AL CIUDADANO ","2021-04-29","CORREO ELECTRÓNICO",null,{"$f":"IFERROR(WORKDAY(C204,S203,DiasNOLaborables),\"\")","v":"2021-05-05"},{"$f":"+IF(C204=\"\",\"\",IF(J204=\"\",\"SIN RESPUESTA\",(IF(J204<=M204,\"A TIEMPO\",\"FUERA DE TIEMPO\"))))","v":"A TIEMPO"},{"$f":"IF(J204=\"\",\"\",NETWORKDAYS(C204+1,J204,DiasNOLaborables))","v":16},"",null,null,20]
[194,20219050042022,"2021-04-07","ACADEMIA ","MODULO CONTACTENOS","SOLICITUD DE INFORMACIÓN Y DOCUMENTOS","SOLICITUD DE INFORMACIÓN HIDROMETEOROLÓGICA","NO","GRUPO DE SERVICIO AL CIUDADANO ","2021-04-29","CORREO ELECTRÓNICO",null,{"$f":"IFERROR(WORKDAY(C205,S204,DiasNOLaborables),\"\")","v":"2021-05-05"},{"$f":"+IF(C205=\"\",\"\",IF(J205=\"\",\"SIN RESPUESTA\",(IF(J205<=M205,\"A TIEMPO\",\"FUERA DE TIEMPO\"))))","v":"A TIEMPO"},{"$f":"IF(J205=\"\",\"\",NETWORKDAYS(C205+1,J205,DiasNOLaborables))","v":16},"",null,null,{"$f":"IFERROR(VLOOKUP(F206,$AA$51:$AB$64,2),\"\")","v":20}]
[{"$f":"IF(B206<>\"\",A205+1,\"\")","v":195},20219050042042,"2021-04-07","ACADEMIA ","MODULO CONTACTENOS","SOLICITUD DE INFORMACIÓN Y DOCUMENTOS","SOLICITUD DE INFORMACIÓN HIDROMETEOROLÓGICA","NO","GRUPO DE SERVICIO AL CIUDADANO ","2021-04-29","CORREO ELECTRÓNICO",null,{"$f":"IFERROR(WORKDAY(C206,S205,DiasNOLaborables),\"\")","v":"2021-05-05"},{"$f":"+IF(C206=\"\",\"\",IF(J206=\"\",\"SIN RESPUESTA\",(IF(J206<=M206,\"A TIEMPO\",\"FUERA DE TIEMPO\"))))","v":"A TIEMPO"},{"$f":"IF(J206=\"\",\"\",NETWORKDAYS(C206+1,J206,DiasNOLaborables))","v":16},"",null,null,20]
[196,20219050042302,"2021-04-07","ACADEMIA ","MODULO CONTACTENOS","SOLICITUD DE INFORMACIÓN Y DOCUMENTOS","SOLICITUD DE INFORMACIÓN HIDROMETEOROLÓGICA","NO","GRUPO DE SERVICIO AL CIUDADANO ","2021-04-29","CORREO ELECTRÓNICO",null,{"$f":"IFERROR(WORKDAY(C207,S206,DiasNOLaborables),\"\")","v":"2021-05-05"},{"$f":"+IF(C207=\"\",\"\",IF(J207=\"\",\"SIN RESPUESTA\",(IF(J207<=M207,\"A TIEMPO\",\"FUERA DE TIEMPO\"))))","v":"A TIEMPO"},{"$f":"IF(J207=\"\",\"\",NETWORKDAYS(C207+1,J207,DiasNOLaborables))","v":16},"",null,null,20]
[197,20219050042342,"2021-04-07","CIUDADANO","CORREO ELECTRÓNICO","SOLICITUD DE INFORMACIÓN Y DOCUMENTOS","SOLICITUD DE INFORMACIÓN HIDROMETEOROLÓGICA","NO","GRUPO DE SERVICIO AL CIUDADANO ","2021-04-30","CORREO ELECTRÓNICO",null,{"$f":"IFERROR(WORKDAY(C208,S207,DiasNOLaborables),\"\")","v":"2021-05-05"},{"$f":"+IF(C208=\"\",\"\",IF(J208=\"\",\"SIN RESPUESTA\",(IF(J208<=M208,\"A TIEMPO\",\"FUERA DE TIEMPO\"))))","v":"A TIEMPO"},{"$f":"IF(J208=\"\",\"\",NETWORKDAYS(C208+1,J208,DiasNOLaborables))","v":17},{"$f":"IF(NETWORKDAYS(M208+1,J208,DiasNOLaborables)<=0,\"\",NETWORKDAYS(M208+1,J208,DiasNOLaborables))","v":""},null,null,20]
[198,20219050042392,"2021-04-07","CIUDADANO","CORREO ELECTRÓNICO","SOLICITUD DE INFORMACIÓN Y DOCUMENTOS","SOLICITUD DE INFORMACIÓN HIDROMETEOROLÓGICA","NO","GRUPO DE SERVICIO AL CIUDADANO ","2021-04-30","CORREO ELECTRÓNICO",null,{"$f":"IFERROR(WORKDAY(C209,S208,DiasNOLaborables),\"\")","v":"2021-05-05"},{"$f":"+IF(C209=\"\",\"\",IF(J209=\"\",\"SIN RESPUESTA\",(IF(J209<=M209,\"A TIEMPO\",\"FUERA DE TIEMPO\"))))","v":"A TIEMPO"},{"$f":"IF(J209=\"\",\"\",NETWORKDAYS(C209+1,J209,DiasNOLaborables))","v":17},"",null,null,20]
[199,20219050042092,"2021-04-07","CIUDADANO","CORREO ELECTRÓNICO","SOLICITUD DE INFORMACIÓN Y DOCUMENTOS","REGISTROS AMBIENTALES","SI","SUBDIRECCIÓN DE ESTUDIOS AMBIENTALES","2021-04-07","CORREO ELECTRÓNICO",null,{"$f":"IFERROR(WORKDAY(C210,S209,DiasNOLaborables),\"\")","v":"2021-05-05"},{"$f":"+IF(C210=\"\",\"\",IF(J210=\"\",\"SIN RESPUESTA\",(IF(J210<=M210,\"A TIEMPO\",\"FUERA DE TIEMPO\"))))","v":"A TIEMPO"},{"$f":"IF(J210=\"\",\"\",NETWORKDAYS(C210+1,J210,DiasNOLaborables))","v":-2},"",null,null,20]
[200,20219050042102,"2021-04-07","CIUDADANO","CORREO ELECTRÓNICO","SOLICITUD DE INFORMACIÓN Y DOCUMENTOS","REGISTROS AMBIENTALES","SI","SUBDIRECCIÓN DE ESTUDIOS AMBIENTALES","2021-04-07","CORREO ELECTRÓNICO",null,{"$f":"IFERROR(WORKDAY(C211,S210,DiasNOLaborables),\"\")","v":"2021-05-05"},{"$f":"+IF(C211=\"\",\"\",IF(J211=\"\",\"SIN RESPUESTA\",(IF(J211<=M211,\"A TIEMPO\",\"FUERA DE TIEMPO\"))))","v":"A TIEMPO"},{"$f":"IF(J211=\"\",\"\",NETWORKDAYS(C211+1,J211,DiasNOLaborables))","v":-2},"",null,null,20]
[201,20219050042112,"2021-04-07","EMPRESA PRIVADA","CORREO ELECTRÓNICO","SOLICITUD DE INFORMACIÓN Y DOCUMENTOS","REGISTROS AMBIENTALES","SI","SUBDIRECCIÓN DE ESTUDIOS AMBIENTALES","2021-04-08","CORREO ELECTRÓNICO",null,{"$f":"IFERROR(WORKDAY(C212,S211,DiasNOLaborables),\"\")","v":"2021-05-05"},{"$f":"+IF(C212=\"\",\"\",IF(J212=\"\",\"SIN RESPUESTA\",(IF(J212<=M212,\"A TIEMPO\",\"FUERA DE TIEMPO\"))))","v":"A TIEMPO"},{"$f":"IF(J212=\"\",\"\",NETWORKDAYS(C212+1,J212,DiasNOLaborables))","v":1},"",null,null,20]
[202,20219050042122,"2021-04-07","CIUDADANO","CORREO ELECTRÓNICO","SOLICITUD DE INFORMACIÓN Y DOCUMENTOS","REGISTROS AMBIENTALES","SI","SUBDIRECCIÓN DE ESTUDIOS AMBIENTALES","2021-04-07","CORREO ELECTRÓNICO",null,{"$f":"IFERROR(WORKDAY(C213,S212,DiasNOLaborables),\"\")","v":"2021-05-05"},{"$f":"+IF(C213=\"\",\"\",IF(J213=\"\",\"SIN RESPUESTA\",(IF(J213<=M213,\"A TIEMPO\",\"FUERA DE TIEMPO\"))))","v":"A TIEMPO"},{"$f":"IF(J213=\"\",\"\",NETWORKDAYS(C213+1,J213,DiasNOLaborables))","v":-2},"",null,null,20]
[203,20219050042132,"2021-04-07","CIUDADANO","CORREO ELECTRÓNICO","SOLICITUD DE INFORMACIÓN Y DOCUMENTOS","REGISTROS AMBIENTALES","SI","SUBDIRECCIÓN DE ESTUDIOS AMBIENTALES","2021-04-07","CORREO ELECTRÓNICO",null,{"$f":"IFERROR(WORKDAY(C214,S213,DiasNOLaborables),\"\")","v":"2021-05-05"},{"$f":"+IF(C214=\"\",\"\",IF(J214=\"\",\"SIN RESPUESTA\",(IF(J214<=M214,\"A TIEMPO\",\"FUERA DE TIEMPO\"))))","v":"A TIEMPO"},{"$f":"IF(J214=\"\",\"\",NETWORKDAYS(C214+1,J214,DiasNOLaborables))","v":-2},"",null,null,20]
[204,20219050042152,"2021-04-07","CIUDADANO","CORREO ELECTRÓNICO","SOLICITUD DE INFORMACIÓN Y DOCUMENTOS","REGISTROS AMBIENTALES","SI","SUBDIRECCIÓN DE ESTUDIOS AMBIENTALES","2021-04-08","CORREO ELECTRÓNICO",null,{"$f":"IFERROR(WORKDAY(C215,S214,DiasNOLaborables),\"\")","v":"2021-05-05"},{"$f":"+IF(C215=\"\",\"\",IF(J215=\"\",\"SIN RESPUESTA\",(IF(J215<=M215,\"A TIEMPO\",\"FUERA DE TIEMPO\"))))","v":"A TIEMPO"},{"$f":"IF(J215=\"\",\"\",NETWORKDAYS(C215+1,J215,DiasNOLaborables))","v":1},"",null,null,20]
[205,20219050042052,"2021-04-07","CIUDADANO","MODULO CONTACTENOS","SOLICITUD DE INFORMACIÓN Y DOCUMENTOS","SOLICITUD DE INFORMACIÓN HIDROMETEOROLÓGICA","NO","GRUPO DE SERVICIO AL CIUDADANO ","2021-05-04","CORREO ELECTRÓNICO",null,{"$f":"IFERROR(WORKDAY(C216,S215,DiasNOLaborables),\"\")","v":"2021-05-05"},{"$f":"+IF(C216=\"\",\"\",IF(J216=\"\",\"SIN RESPUESTA\",(IF(J216<=M216,\"A TIEMPO\",\"FUERA DE TIEMPO\"))))","v":"A TIEMPO"},{"$f":"IF(J216=\"\",\"\",NETWORKDAYS(C216+1,J216,DiasNOLaborables))","v":19},"",null,null,20]
[206,20219050042072,"2021-04-07","CIUDADANO","MODULO CONTACTENOS","SOLICITUD DE INFORMACIÓN Y DOCUMENTOS","SOLICITUD DE INFORMACIÓN HIDROMETEOROLÓGICA","NO","GRUPO DE SERVICIO AL CIUDADANO ","2021-05-04","CORREO ELECTRÓNICO",null,{"$f":"IFERROR(WORKDAY(C217,S216,DiasNOLaborables),\"\")","v":"2021-05-05"},{"$f":"+IF(C217=\"\",\"\",IF(J217=\"\",\"SIN RESPUESTA\",(IF(J217<=M217,\"A TIEMPO\",\"FUERA DE TIEMPO\"))))","v":"A TIEMPO"},{"$f":"IF(J217=\"\",\"\",NETWORKDAYS(C217+1,J217,DiasNOLaborables))","v":19},"",null,null,20]
[207,20219050042082,"2021-04-07","CIUDADANO","MODULO CONTACTENOS","SOLICITUD DE INFORMACIÓN Y DOCUMENTOS","SOLICITUD DE INFORMACIÓN HIDROMETEOROLÓGICA","NO","GRUPO DE SERVICIO AL CIUDADANO ","2021-05-04","CORREO ELECTRÓNICO",null,{"$f":"IFERROR(WORKDAY(C218,S217,DiasNOLaborables),\"\")","v":"2021-05-05"},{"$f":"+IF(C218=\"\",\"\",IF(J218=\"\",\"SIN RESPUESTA\",(IF(J218<=M218,\"A TIEMPO\",\"FUERA DE TIEMPO\"))))","v":"A TIEMPO"},{"$f":"IF(J218=\"\",\"\",NETWORKDAYS(C218+1,J218,DiasNOLaborables))","v":19},"",null,null,20]
[208,20219050042222,"2021-04-07","ACADEMIA","MODULO CONTACTENOS","SOLICITUD DE INFORMACIÓN Y DOCUMENTOS","SOLICITUD DE INFORMACIÓN HIDROMETEOROLÓGICA","NO","GRUPO DE SERVICIO AL CIUDADANO ","2021-05-04","CORREO ELECTRÓNICO",null,{"$f":"IFERROR(WORKDAY(C219,S218,DiasNOLaborables),\"\")","v":"2021-05-05"},{"$f":"+IF(C219=\"\",\"\",IF(J219=\"\",\"SIN RESPUESTA\",(IF(J219<=M219,\"A TIEMPO\",\"FUERA DE TIEMPO\"))))","v":"A TIEMPO"},{"$f":"IF(J219=\"\",\"\",NETWORKDAYS(C219+1,J219,DiasNOLaborables))","v":19},"",null,null,20]
[209,20219050042232,"2021-04-07","CIUDADANO","MODULO CONTACTENOS","SOLICITUD DE INFORMACIÓN Y DOCUMENTOS","SOLICITUD DE INFORMACIÓN HIDROMETEOROLÓGICA","NO","GRUPO DE SERVICIO AL CIUDADANO ","2021-05-04","CORREO ELECTRÓNICO",null,{"$f":"IFERROR(WORKDAY(C220,S219,DiasNOLaborables),\"\")","v":"2021-05-05"},{"$f":"+IF(C220=\"\",\"\",IF(J220=\"\",\"SIN RESPUESTA\",(IF(J220<=M220,\"A TIEMPO\",\"FUERA DE TIEMPO\"))))","v":"A TIEMPO"},{"$f":"IF(J220=\"\",\"\",NETWORKDAYS(C220+1,J220,DiasNOLaborables))","v":19},"",null,null,20]
[210,20219050042252,"2021-04-07","CIUDADANO","MODULO CONTACTENOS","SOLICITUD DE INFORMACIÓN Y DOCUMENTOS","SOLICITUD DE INFORMACIÓN HIDROMETEOROLÓGICA","NO","GRUPO DE SERVICIO AL CIUDADANO ","2021-05-04","CORREO ELECTRÓNICO",null,{"$f":"IFERROR(WORKDAY(C221,S220,DiasNOLaborables),\"\")","v":"2021-05-05"},{"$f":"+IF(C221=\"\",\"\",IF(J221=\"\",\"SIN RESPUESTA\",(IF(J221<=M221,\"A TIEMPO\",\"FUERA DE TIEMPO\"))))","v":"A TIEMPO"},{"$f":"IF(J221=\"\",\"\",NETWORKDAYS(C221+1,J221,DiasNOLaborables))","v":19},"",null,null,20]
[211,20219050042402,"2021-04-07","CIUDADANO","MODULO CONTACTENOS","SOLICITUD DE INFORMACIÓN Y DOCUMENTOS","SOLICITUD DE INFORMACIÓN HIDROMETEOROLÓGICA","NO","GRUPO DE SERVICIO AL CIUDADANO ","2021-05-04","CORREO ELECTRÓNICO",null,{"$f":"IFERROR(WORKDAY(C222,S221,DiasNOLaborables),\"\")","v":"2021-05-05"},{"$f":"+IF(C222=\"\",\"\",IF(J222=\"\",\"SIN RESPUESTA\",(IF(J222<=M222,\"A TIEMPO\",\"FUERA DE TIEMPO\"))))","v":"A TIEMPO"},{"$f":"IF(J222=\"\",\"\",NETWORKDAYS(C222+1,J222,DiasNOLaborables))","v":19},"",null,null,20]
[212,20219050042412,"2021-04-07","CIUDADANO","MODULO CONTACTENOS","SOLICITUD DE INFORMACIÓN Y DOCUMENTOS","SOLICITUD DE INFORMACIÓN HIDROMETEOROLÓGICA","NO","GRUPO DE SERVICIO AL CIUDADANO ","2021-05-04","CORREO ELECTRÓNICO",null,{"$f":"IFERROR(WORKDAY(C223,S222,DiasNOLaborables),\"\")","v":"2021-05-05"},{"$f":"+IF(C223=\"\",\"\",IF(J223=\"\",\"SIN RESPUESTA\",(IF(J223<=M223,\"A TIEMPO\",\"FUERA DE TIEMPO\"))))","v":"A TIEMPO"},{"$f":"IF(J223=\"\",\"\",NETWORKDAYS(C223+1,J223,DiasNOLaborables))","v":19},"",null,null,20]
[213,20219050042432,"2021-04-07","CIUDADANO","MODULO CONTACTENOS","SOLICITUD DE INFORMACIÓN Y DOCUMENTOS","SOLICITUD DE INFORMACIÓN HIDROMETEOROLÓGICA","NO","GRUPO DE SERVICIO AL CIUDADANO ","2021-05-04","CORREO ELECTRÓNICO",null,{"$f":"IFERROR(WORKDAY(C224,S223,DiasNOLaborables),\"\")","v":"2021-05-05"},{"$f":"+IF(C224=\"\",\"\",IF(J224=\"\",\"SIN RESPUESTA\",(IF(J224<=M224,\"A TIEMPO\",\"FUERA DE TIEMPO\"))))","v":"A TIEMPO"},{"$f":"IF(J224=\"\",\"\",NETWORKDAYS(C224+1,J224,DiasNOLaborables))","v":19},"",null,null,20]
[214,20219050042442,"2021-04-07","CIUDADANO","MODULO CONTACTENOS","SOLICITUD DE INFORMACIÓN Y DOCUMENTOS","SOLICITUD DE INFORMACIÓN HIDROMETEOROLÓGICA","NO","GRUPO DE SERVICIO AL CIUDADANO ","2021-05-04","CORREO ELECTRÓNICO",null,{"$f":"IFERROR(WORKDAY(C225,S224,DiasNOLaborables),\"\")","v":"2021-05-05"},{"$f":"+IF(C225=\"\",\"\",IF(J225=\"\",\"SIN RESPUESTA\",(IF(J225<=M225,\"A TIEMPO\",\"FUERA DE TIEMPO\"))))","v":"A TIEMPO"},{"$f":"IF(J225=\"\",\"\",NETWORKDAYS(C225+1,J225,DiasNOLaborables))","v":19},"",null,null,20]
[215,20219050042452,"2021-04-07","CIUDADANO","MODULO CONTACTENOS","SOLICITUD DE INFORMACIÓN Y DOCUMENTOS","SOLICITUD DE INFORMACIÓN HIDROMETEOROLÓGICA","NO","GRUPO DE SERVICIO AL CIUDADANO ","2021-05-04","CORREO ELECTRÓNICO",null,{"$f":"IFERROR(WORKDAY(C226,S225,DiasNOLaborables),\"\")","v":"2021-05-05"},{"$f":"+IF(C226=\"\",\"\",IF(J226=\"\",\"SIN RESPUESTA\",(IF(J226<=M226,\"A TIEMPO\",\"FUERA DE TIEMPO\"))))","v":"A TIEMPO"},{"$f":"IF(J226=\"\",\"\",NETWORKDAYS(C226+1,J226,DiasNOLaborables))","v":19},"",null,null,20]
[216,20219050042462,"2021-04-07","ACADEMIA","MODULO CONTACTENOS","SOLICITUD DE INFORMACIÓN Y DOCUMENTOS","SOLICITUD DE INFORMACIÓN HIDROMETEOROLÓGICA","NO","GRUPO DE SERVICIO AL CIUDADANO ","2021-05-04","CORREO ELECTRÓNICO",null,{"$f":"IFERROR(WORKDAY(C227,S226,DiasNOLaborables),\"\")","v":"2021-05-05"},{"$f":"+IF(C227=\"\",\"\",IF(J227=\"\",\"SIN RESPUESTA\",(IF(J227<=M227,\"A TIEMPO\",\"FUERA DE TIEMPO\"))))","v":"A TIEMPO"},{"$f":"IF(J227=\"\",\"\",NETWORKDAYS(C227+1,J227,DiasNOLaborables))","v":19},"",null,null,20]
[217,20219050042472,"2021-04-07","CIUDADANO","MODULO CONTACTENOS","SOLICITUD DE INFORMACIÓN Y DOCUMENTOS","SOLICITUD DE INFORMACIÓN HIDROMETEOROLÓGICA","NO","GRUPO DE SERVICIO AL CIUDADANO ","2021-05-04","CORREO ELECTRÓNICO",null,{"$f":"IFERROR(WORKDAY(C228,S227,DiasNOLaborables),\"\")","v":"2021-05-05"},{"$f":"+IF(C228=\"\",\"\",IF(J228=\"\",\"SIN RESPUESTA\",(IF(J228<=M228,\"A TIEMPO\",\"FUERA DE TIEMPO\"))))","v":"A TIEMPO"},{"$f":"IF(J228=\"\",\"\",NETWORKDAYS(C228+1,J228,DiasNOLaborables))","v":19},"",null,null,20]
[218,20219050042482,"2021-04-08","CIUDADANO","MODULO CONTACTENOS","SOLICITUD DE INFORMACIÓN Y DOCUMENTOS","SOLICITUD DE INFORMACIÓN HIDROMETEOROLÓGICA","NO","GRUPO DE SERVICIO AL CIUDADANO ","2021-05-06","CORREO ELECTRÓNICO",null,{"$f":"IFERROR(WORKDAY(C229,S228,DiasNOLaborables),\"\")","v":"2021-05-06"},{"$f":"+IF(C229=\"\",\"\",IF(J229=\"\",\"SIN RESPUESTA\",(IF(J229<=M229,\"A TIEMPO\",\"FUERA DE TIEMPO\"))))","v":"A TIEMPO"},{"$f":"IF(J229=\"\",\"\",NETWORKDAYS(C229+1,J229,DiasNOLaborables))","v":20},"",null,null,20]
[219,20219050042492,"2021-04-08","CIUDADANO","MODULO CONTACTENOS","SOLICITUD DE INFORMACIÓN Y DOCUMENTOS","SOLICITUD DE INFORMACIÓN HIDROMETEOROLÓGICA","NO","GRUPO DE SERVICIO AL CIUDADANO ","2021-05-06","CORREO ELECTRÓNICO",null,{"$f":"IFERROR(WORKDAY(C230,S229,DiasNOLaborables),\"\")","v":"2021-05-06"},{"$f":"+IF(C230=\"\",\"\",IF(J230=\"\",\"SIN RESPUESTA\",(IF(J230<=M230,\"A TIEMPO\",\"FUERA DE TIEMPO\"))))","v":"A TIEMPO"},{"$f":"IF(J230=\"\",\"\",NETWORKDAYS(C230+1,J230,DiasNOLaborables))","v":20},"",null,null,20]
[220,20219050042522,"2021-04-08","CIUDADANO","MODULO CONTACTENOS","SOLICITUD DE INFORMACIÓN Y DOCUMENTOS","SOLICITUD DE INFORMACIÓN HIDROMETEOROLÓGICA","NO","GRUPO DE SERVICIO AL CIUDADANO ","2021-05-06","CORREO ELECTRÓNICO",null,{"$f":"IFERROR(WORKDAY(C231,S230,DiasNOLaborables),\"\")","v":"2021-05-06"},{"$f":"+IF(C231=\"\",\"\",IF(J231=\"\",\"SIN RESPUESTA\",(IF(J231<=M231,\"A TIEMPO\",\"FUERA DE TIEMPO\"))))","v":"A TIEMPO"},{"$f":"IF(J231=\"\",\"\",NETWORKDAYS(C231+1,J231,DiasNOLaborables))","v":20},"",null,null,20]
[221,20219050042552,"2021-04-08","CIUDADANO","MODULO CONTACTENOS","SOLICITUD DE INFORMACIÓN Y DOCUMENTOS","SOLICITUD DE INFORMACIÓN HIDROMETEOROLÓGICA","NO","GRUPO DE SERVICIO AL CIUDADANO ","2021-05-06","CORREO ELECTRÓNICO",null,{"$f":"IFERROR(WORKDAY(C232,S231,DiasNOLaborables),\"\")","v":"2021-05-06"},{"$f":"+IF(C232=\"\",\"\",IF(J232=\"\",\"SIN RESPUESTA\",(IF(J232<=M232,\"A TIEMPO\",\"FUERA DE TIEMPO\"))))","v":"A TIEMPO"},{"$f":"IF(J232=\"\",\"\",NETWORKDAYS(C232+1,J232,DiasNOLaborables))","v":20},"",null,null,20]
[222,20219050042622,"2021-04-08","CIUDADANO","MODULO CONTACTENOS","SOLICITUD DE INFORMACIÓN Y DOCUMENTOS","SOLICITUD DE INFORMACIÓN HIDROMETEOROLÓGICA","NO","GRUPO DE SERVICIO AL CIUDADANO ","2021-05-06","CORREO ELECTRÓNICO",null,{"$f":"IFERROR(WORKDAY(C233,S232,DiasNOLaborables),\"\")","v":"2021-05-06"},{"$f":"+IF(C233=\"\",\"\",IF(J233=\"\",\"SIN RESPUESTA\",(IF(J233<=M233,\"A TIEMPO\",\"FUERA DE TIEMPO\"))))","v":"A TIEMPO"},{"$f":"IF(J233=\"\",\"\",NETWORKDAYS(C233+1,J233,DiasNOLaborables))","v":20},"",null,null,20]
[223,20219050042632,"2021-04-08","CIUDADANO","MODULO CONTACTENOS","SOLICITUD DE INFORMACIÓN Y DOCUMENTOS","SOLICITUD DE INFORMACIÓN HIDROMETEOROLÓGICA","NO","GRUPO DE SERVICIO AL CIUDADANO ","2021-05-06","CORREO ELECTRÓNICO",null,{"$f":"IFERROR(WORKDAY(C234,S233,DiasNOLaborables),\"\")","v":"2021-05-06"},{"$f":"+IF(C234=\"\",\"\",IF(J234=\"\",\"SIN RESPUESTA\",(IF(J234<=M234,\"A TIEMPO\",\"FUERA DE TIEMPO\"))))","v":"A TIEMPO"},{"$f":"IF(J234=\"\",\"\",NETWORKDAYS(C234+1,J234,DiasNOLaborables))","v":20},"",null,null,20]
[224,20219050042882,"2021-04-08","CIUDADANO","MODULO CONTACTENOS","SOLICITUD DE INFORMACIÓN Y DOCUMENTOS","SOLICITUD DE INFORMACIÓN HIDROMETEOROLÓGICA","NO","GRUPO DE SERVICIO AL CIUDADANO ","2021-05-06","CORREO ELECTRÓNICO",null,{"$f":"IFERROR(WORKDAY(C235,S234,DiasNOLaborables),\"\")","v":"2021-05-06"},{"$f":"+IF(C235=\"\",\"\",IF(J235=\"\",\"SIN RESPUESTA\",(IF(J235<=M235,\"A TIEMPO\",\"FUERA DE TIEMPO\"))))","v":"A TIEMPO"},{"$f":"IF(J235=\"\",\"\",NETWORKDAYS(C235+1,J235,DiasNOLaborables))","v":20},"",null,null,20]
[225,20219050042892,"2021-04-08","CIUDADANO","MODULO CONTACTENOS","SOLICITUD DE INFORMACIÓN Y DOCUMENTOS","SOLICITUD DE INFORMACIÓN HIDROMETEOROLÓGICA","NO","GRUPO DE SERVICIO AL CIUDADANO ","2021-05-06","CORREO ELECTRÓNICO",null,{"$f":"IFERROR(WORKDAY(C236,S235,DiasNOLaborables),\"\")","v":"2021-05-06"},{"$f":"+IF(C236=\"\",\"\",IF(J236=\"\",\"SIN RESPUESTA\",(IF(J236<=M236,\"A TIEMPO\",\"FUERA DE TIEMPO\"))))","v":"A TIEMPO"},{"$f":"IF(J236=\"\",\"\",NETWORKDAYS(C236+1,J236,DiasNOLaborables))","v":20},"",null,null,20]
[226,20219050042932,"2021-04-08","ACADEMIA","MODULO CONTACTENOS","SOLICITUD DE INFORMACIÓN Y DOCUMENTOS","SOLICITUD DE INFORMACIÓN HIDROMETEOROLÓGICA","NO","GRUPO DE SERVICIO AL CIUDADANO ","2021-05-06","CORREO ELECTRÓNICO",null,{"$f":"IFERROR(WORKDAY(C237,S236,DiasNOLaborables),\"\")","v":"2021-05-06"},{"$f":"+IF(C237=\"\",\"\",IF(J237=\"\",\"SIN RESPUESTA\",(IF(J237<=M237,\"A TIEMPO\",\"FUERA DE TIEMPO\"))))","v":"A TIEMPO"},{"$f":"IF(J237=\"\",\"\",NETWORKDAYS(C237+1,J237,DiasNOLaborables))","v":20},"",null,null,20]
[227,20217090001012,"2021-04-08","CIUDADANO","MODULO CONTACTENOS","SOLICITUD DE INFORMACIÓN Y DOCUMENTOS","SOLICITUD DE INFORMACIÓN HIDROMETEOROLÓGICA","NO","GRUPO DE SERVICIO AL CIUDADANO ","2021-05-06","CORREO ELECTRÓNICO",null,{"$f":"IFERROR(WORKDAY(C238,S237,DiasNOLaborables),\"\")","v":"2021-05-06"},{"$f":"+IF(C238=\"\",\"\",IF(J238=\"\",\"SIN RESPUESTA\",(IF(J238<=M238,\"A TIEMPO\",\"FUERA DE TIEMPO\"))))","v":"A TIEMPO"},{"$f":"IF(J238=\"\",\"\",NETWORKDAYS(C238+1,J238,DiasNOLaborables))","v":20},"",null,null,20]
[228,20219050043062,"2021-04-08","CIUDADANO","MODULO CONTACTENOS","SOLICITUD DE INFORMACIÓN Y DOCUMENTOS","SOLICITUD DE INFORMACIÓN HIDROMETEOROLÓGICA","NO","GRUPO DE SERVICIO AL CIUDADANO ","2021-05-06","CORREO ELECTRÓNICO",null,{"$f":"IFERROR(WORKDAY(C239,S238,DiasNOLaborables),\"\")","v":"2021-05-06"},{"$f":"+IF(C239=\"\",\"\",IF(J239=\"\",\"SIN RESPUESTA\",(IF(J239<=M239,\"A TIEMPO\",\"FUERA DE TIEMPO\"))))","v":"A TIEMPO"},{"$f":"IF(J239=\"\",\"\",NETWORKDAYS(C239+1,J239,DiasNOLaborables))","v":20},"",null,null,20]
[229,20219050043142,"2021-04-08","CIUDADANO","MODULO CONTACTENOS","SOLICITUD DE INFORMACIÓN Y DOCUMENTOS","SOLICITUD DE INFORMACIÓN HIDROMETEOROLÓGICA","NO","GRUPO DE SERVICIO AL CIUDADANO ","2021-05-06","CORREO ELECTRÓNICO",null,{"$f":"IFERROR(WORKDAY(C240,S239,DiasNOLaborables),\"\")","v":"2021-05-06"},{"$f":"+IF(C240=\"\",\"\",IF(J240=\"\",\"SIN RESPUESTA\",(IF(J240<=M240,\"A TIEMPO\",\"FUERA DE TIEMPO\"))))","v":"A TIEMPO"},{"$f":"IF(J240=\"\",\"\",NETWORKDAYS(C240+1,J240,DiasNOLaborables))","v":20},"",null,null,20]
[230,20219050043162,"2021-04-08","CIUDADANO","MODULO CONTACTENOS","SOLICITUD DE INFORMACIÓN Y DOCUMENTOS","SOLICITUD DE INFORMACIÓN HIDROMETEOROLÓGICA","NO","GRUPO DE SERVICIO AL CIUDADANO ","2021-05-06","CORREO ELECTRÓNICO",null,{"$f":"IFERROR(WORKDAY(C241,S240,DiasNOLaborables),\"\")","v":"2021-05-06"},{"$f":"+IF(C241=\"\",\"\",IF(J241=\"\",\"SIN RESPUESTA\",(IF(J241<=M241,\"A TIEMPO\",\"FUERA DE TIEMPO\"))))","v":"A TIEMPO"},{"$f":"IF(J241=\"\",\"\",NETWORKDAYS(C241+1,J241,DiasNOLaborables))","v":20},"",null,null,20]
[231,20219050043182,"2021-04-08","CIUDADANO","MODULO CONTACTENOS","SOLICITUD DE INFORMACIÓN Y DOCUMENTOS","SOLICITUD DE INFORMACIÓN HIDROMETEOROLÓGICA","NO","GRUPO DE SERVICIO AL CIUDADANO ","2021-05-06","CORREO ELECTRÓNICO",null,{"$f":"IFERROR(WORKDAY(C242,S241,DiasNOLaborables),\"\")","v":"2021-05-06"},{"$f":"+IF(C242=\"\",\"\",IF(J242=\"\",\"SIN RESPUESTA\",(IF(J242<=M242,\"A TIEMPO\",\"FUERA DE TIEMPO\"))))","v":"A TIEMPO"},{"$f":"IF(J242=\"\",\"\",NETWORKDAYS(C242+1,J242,DiasNOLaborables))","v":20},"",null,null,20]
[232,20219050042872,"2021-04-08","CIUDADANO","MODULO CONTACTENOS","SOLICITUD DE INFORMACIÓN Y DOCUMENTOS","SOLICITUD DE INFORMACIÓN HIDROMETEOROLÓGICA","NO","GRUPO DE SERVICIO AL CIUDADANO ","2021-05-05","CORREO ELECTRÓNICO",null,{"$f":"IFERROR(WORKDAY(C243,S242,DiasNOLaborables),\"\")","v":"2021-05-06"},{"$f":"+IF(C243=\"\",\"\",IF(J243=\"\",\"SIN RESPUESTA\",(IF(J243<=M243,\"A TIEMPO\",\"FUERA DE TIEMPO\"))))","v":"A TIEMPO"},{"$f":"IF(J243=\"\",\"\",NETWORKDAYS(C243+1,J243,DiasNOLaborables))","v":19},"",null,null,20]
[233,20219050043042,"2021-04-08","CIUDADANO","MODULO CONTACTENOS","SOLICITUD DE INFORMACIÓN Y DOCUMENTOS","SOLICITUD DE INFORMACIÓN HIDROMETEOROLÓGICA","NO","GRUPO DE SERVICIO AL CIUDADANO ","2021-05-05","CORREO ELECTRÓNICO",null,{"$f":"IFERROR(WORKDAY(C244,S243,DiasNOLaborables),\"\")","v":"2021-05-06"},{"$f":"+IF(C244=\"\",\"\",IF(J244=\"\",\"SIN RESPUESTA\",(IF(J244<=M244,\"A TIEMPO\",\"FUERA DE TIEMPO\"))))","v":"A TIEMPO"},{"$f":"IF(J244=\"\",\"\",NETWORKDAYS(C244+1,J244,DiasNOLaborables))","v":19},"",null,null,20]
[234,20219050043052,"2021-04-08","CIUDADANO","MODULO CONTACTENOS","SOLICITUD DE INFORMACIÓN Y DOCUMENTOS","SOLICITUD DE INFORMACIÓN HIDROMETEOROLÓGICA","NO","GRUPO DE SERVICIO AL CIUDADANO ","2021-05-05","CORREO ELECTRÓNICO",null,{"$f":"IFERROR(WORKDAY(C245,S244,DiasNOLaborables),\"\")","v":"2021-05-06"},{"$f":"+IF(C245=\"\",\"\",IF(J245=\"\",\"SIN RESPUESTA\",(IF(J245<=M245,\"A TIEMPO\",\"FUERA DE TIEMPO\"))))","v":"A TIEMPO"},{"$f":"IF(J245=\"\",\"\",NETWORKDAYS(C245+1,J245,DiasNOLaborables))","v":19},"",null,null,20]
[235,20219050043072,"2021-04-08","CIUDADANO","MODULO CONTACTENOS","SOLICITUD DE INFORMACIÓN Y DOCUMENTOS","SOLICITUD DE INFORMACIÓN HIDROMETEOROLÓGICA","NO","GRUPO DE SERVICIO AL CIUDADANO ","2021-05-06","CORREO ELECTRÓNICO",null,{"$f":"IFERROR(WORKDAY(C246,S245,DiasNOLaborables),\"\")","v":"2021-05-06"},{"$f":"+IF(C246=\"\",\"\",IF(J246=\"\",\"SIN RESPUESTA\",(IF(J246<=M246,\"A TIEMPO\",\"FUERA DE TIEMPO\"))))","v":"A TIEMPO"},{"$f":"IF(J246=\"\",\"\",NETWORKDAYS(C246+1,J246,DiasNOLaborables))","v":20},"",null,null,20]
[236,20219050043152,"2021-04-08","EMPRESA PRIVADA","CORREO ELECTRÓNICO","SOLICITUD DE INFORMACIÓN Y DOCUMENTOS","REGISTROS AMBIENTALES","SI","SUBDIRECCIÓN DE ESTUDIOS AMBIENTALES","2021-04-08","CORREO ELECTRÓNICO",null,{"$f":"IFERROR(WORKDAY(C247,S246,DiasNOLaborables),\"\")","v":"2021-05-06"},{"$f":"+IF(C247=\"\",\"\",IF(J247=\"\",\"SIN RESPUESTA\",(IF(J247<=M247,\"A TIEMPO\",\"FUERA DE TIEMPO\"))))","v":"A TIEMPO"},{"$f":"IF(J247=\"\",\"\",NETWORKDAYS(C247+1,J247,DiasNOLaborables))","v":-2},"",null,null,20]
[237,20219050043172,"2021-04-08","EMPRESA PRIVADA","CORREO ELECTRÓNICO","SOLICITUD DE INFORMACIÓN Y DOCUMENTOS","REGISTROS AMBIENTALES","SI","SUBDIRECCIÓN DE ESTUDIOS AMBIENTALES","2021-04-08","CORREO ELECTRÓNICO",null,{"$f":"IFERROR(WORKDAY(C248,S247,DiasNOLaborables),\"\")","v":"2021-05-06"},{"$f":"+IF(C248=\"\",\"\",IF(J248=\"\",\"SIN RESPUESTA\",(IF(J248<=M248,\"A TIEMPO\",\"FUERA DE TIEMPO\"))))","v":"A TIEMPO"},{"$f":"IF(J248=\"\",\"\",NETWORKDAYS(C248+1,J248,DiasNOLaborables))","v":-2},"",null,null,20]
[238,20219050043192,"2021-04-08","ACADEMIA ","CORREO ELECTRÓNICO","SOLICITUD DE INFORMACIÓN Y DOCUMENTOS","INFORMES AMBIENTALES","SI","SUBDIRECCIÓN DE ECOSISTEMAS E INFORMACIÓN AMBIENTAL","2021-04-16","CORREO ELECTRÓNICO",null,{"$f":"IFERROR(WORKDAY(C249,S248,DiasNOLaborables),\"\")","v":"2021-05-06"},{"$f":"+IF(C249=\"\",\"\",IF(J249=\"\",\"SIN RESPUESTA\",(IF(J249<=M249,\"A TIEMPO\",\"FUERA DE TIEMPO\"))))","v":"A TIEMPO"},{"$f":"IF(J249=\"\",\"\",NETWORKDAYS(C249+1,J249,DiasNOLaborables))","v":6},"",null,null,35]
[239,20219050043202,"2021-04-08","EMPRESA PRIVADA","CORREO ELECTRÓNICO","CERTIFICACIONES DE TIEMPO, CLIMA Y EVENTOS HIDROLÓGICOS","CERTIFICACIONES DE TIEMPO Y CLIMA","SI","SUBDIRECCIÓN DE METEOROLOGÍA","2021-04-19","CORREO ELECTRÓNICO",null,{"$f":"IFERROR(WORKDAY(C250,S249,DiasNOLaborables),\"\")","v":"2021-05-28"},{"$f":"+IF(C250=\"\",\"\",IF(J250=\"\",\"SIN RESPUESTA\",(IF(J250<=M250,\"A TIEMPO\",\"FUERA DE TIEMPO\"))))","v":"A TIEMPO"},{"$f":"IF(J250=\"\",\"\",NETWORKDAYS(C250+1,J250,DiasNOLaborables))","v":7},"",null,null,35]
[240,20219050043212,"2021-04-08","EMPRESA PRIVADA","CORREO ELECTRÓNICO","CERTIFICACIONES DE TIEMPO, CLIMA Y EVENTOS HIDROLÓGICOS","CERTIFICACIONES DE TIEMPO Y CLIMA","SI","SUBDIRECCIÓN DE METEOROLOGÍA","2021-04-19","CORREO ELECTRÓNICO",null,{"$f":"IFERROR(WORKDAY(C251,S250,DiasNOLaborables),\"\")","v":"2021-05-28"},{"$f":"+IF(C251=\"\",\"\",IF(J251=\"\",\"SIN RESPUESTA\",(IF(J251<=M251,\"A TIEMPO\",\"FUERA DE TIEMPO\"))))","v":"A TIEMPO"},{"$f":"IF(J251=\"\",\"\",NETWORKDAYS(C251+1,J251,DiasNOLaborables))","v":7},"",null,null,20]
[241,20219050043222,"2021-04-08","CIUDADANO","CORREO ELECTRÓNICO","SOLICITUD DE INFORMACIÓN Y DOCUMENTOS","SOLICITUD DE INFORMACIÓN HIDROMETEOROLÓGICA","SI","OFICINA DE INFORMÁTICA","2021-04-19","CORREO ELECTRÓNICO",null,{"$f":"IFERROR(WORKDAY(C252,S251,DiasNOLaborables),\"\")","v":"2021-05-06"},{"$f":"+IF(C252=\"\",\"\",IF(J252=\"\",\"SIN RESPUESTA\",(IF(J252<=M252,\"A TIEMPO\",\"FUERA DE TIEMPO\"))))","v":"A TIEMPO"},{"$f":"IF(J252=\"\",\"\",NETWORKDAYS(C252+1,J252,DiasNOLaborables))","v":7},"",null,null,30]
[242,20219050043242,"2021-04-08","EMPRESA PRIVADA","CORREO ELECTRÓNICO","PETICIÓN","WEB Y CORREO","SI","AREA OPERATIVA No. 9","2021-04-13","CORREO ELECTRÓNICO",null,{"$f":"IFERROR(WORKDAY(C253,S252,DiasNOLaborables),\"\")","v":"2021-05-21"},{"$f":"+IF(C253=\"\",\"\",IF(J253=\"\",\"SIN RESPUESTA\",(IF(J253<=M253,\"A TIEMPO\",\"FUERA DE TIEMPO\"))))","v":"A TIEMPO"},{"$f":"IF(J253=\"\",\"\",NETWORKDAYS(C253+1,J253,DiasNOLaborables))","v":3},"",null,null,20]
[243,20219050042502,"2021-04-08","CIUDADANO","MODULO CONTACTENOS","SOLICITUD DE INFORMACIÓN Y DOCUMENTOS","ADMINISTRATIVA","SI","OFICINA ASESORA JURÍDICA","2021-04-09","CORREO ELECTRÓNICO",null,{"$f":"IFERROR(WORKDAY(C254,S253,DiasNOLaborables),\"\")","v":"2021-05-06"},{"$f":"+IF(C254=\"\",\"\",IF(J254=\"\",\"SIN RESPUESTA\",(IF(J254<=M254,\"A TIEMPO\",\"FUERA DE TIEMPO\"))))","v":"A TIEMPO"},{"$f":"IF(J254=\"\",\"\",NETWORKDAYS(C254+1,J254,DiasNOLaborables))","v":1},"",null,null,20]
[244,20219050042512,"2021-04-08","EMPRESA PRIVADA","MODULO CONTACTENOS","SOLICITUD DE INFORMACIÓN Y DOCUMENTOS","ADMINISTRATIVA","SI","GRUPO DE TESORERÍA","2021-04-21","CORREO ELECTRÓNICO",null,{"$f":"IFERROR(WORKDAY(C255,S254,DiasNOLaborables),\"\")","v":"2021-05-06"},{"$f":"+IF(C255=\"\",\"\",IF(J255=\"\",\"SIN RESPUESTA\",(IF(J255<=M255,\"A TIEMPO\",\"FUERA DE TIEMPO\"))))","v":"A TIEMPO"},{"$f":"IF(J255=\"\",\"\",NETWORKDAYS(C255+1,J255,DiasNOLaborables))","v":9},"",null,null,20]
[245,20219050042542,"2021-04-08","FUNCIONARIO IDEAM","MODULO CONTACTENOS","SOLICITUD DE INFORMACIÓN Y DOCUMENTOS","ADMINISTRATIVA","SI","GRUPO DE ADMINISTRACIÓN Y DESARROLLO DEL TALENTO HUMANO","2021-04-27","CORREO ELECTRÓNICO",null,{"$f":"IFERROR(WORKDAY(C256,S255,DiasNOLaborables),\"\")","v":"2021-05-06"},{"$f":"+IF(C256=\"\",\"\",IF(J256=\"\",\"SIN RESPUESTA\",(IF(J256<=M256,\"A TIEMPO\",\"FUERA DE TIEMPO\"))))","v":"A TIEMPO"},{"$f":"IF(J256=\"\",\"\",NETWORKDAYS(C256+1,J256,DiasNOLaborables))","v":13},"",null,null,35]
[246,20219050042582,"2021-04-08","EMPRESA PRIVADA","MODULO CONTACTENOS","CERTIFICACIONES DE TIEMPO, CLIMA Y EVENTOS HIDROLÓGICOS","CERTIFICACIONES DE TIEMPO Y CLIMA","SI","SUBDIRECCIÓN DE METEOROLOGÍA","2021-04-15","CORREO ELECTRÓNICO",null,{"$f":"IFERROR(WORKDAY(C257,S256,DiasNOLaborables),\"\")","v":"2021-05-28"},{"$f":"+IF(C257=\"\",\"\",IF(J257=\"\",\"SIN RESPUESTA\",(IF(J257<=M257,\"A TIEMPO\",\"FUERA DE TIEMPO\"))))","v":"A TIEMPO"},{"$f":"IF(J257=\"\",\"\",NETWORKDAYS(C257+1,J257,DiasNOLaborables))","v":5},"",null,null,20]
[247,20219050042592,"2021-04-08","CIUDADANO","MODULO CONTACTENOS","SOLICITUD DE INFORMACIÓN Y DOCUMENTOS","CAMBIO CLIMÁTICO","SI","SUBDIRECCIÓN DE ESTUDIOS AMBIENTALES","2021-04-20","CORREO ELECTRÓNICO",null,{"$f":"IFERROR(WORKDAY(C258,S257,DiasNOLaborables),\"\")","v":"2021-05-06"},{"$f":"+IF(C258=\"\",\"\",IF(J258=\"\",\"SIN RESPUESTA\",(IF(J258<=M258,\"A TIEMPO\",\"FUERA DE TIEMPO\"))))","v":"A TIEMPO"},{"$f":"IF(J258=\"\",\"\",NETWORKDAYS(C258+1,J258,DiasNOLaborables))","v":8},"",null,null,30]
[248,20219050042682,"2021-04-08","CIUDADANO","MODULO CONTACTENOS","PETICIÓN","ADMINISTRATIVA","SI","GRUPO DE ADMINISTRACIÓN Y DESARROLLO DEL TALENTO HUMANO","2021-04-20","CORREO ELECTRÓNICO",null,{"$f":"IFERROR(WORKDAY(C259,S258,DiasNOLaborables),\"\")","v":"2021-05-21"},{"$f":"+IF(C259=\"\",\"\",IF(J259=\"\",\"SIN RESPUESTA\",(IF(J259<=M259,\"A TIEMPO\",\"FUERA DE TIEMPO\"))))","v":"A TIEMPO"},{"$f":"IF(J259=\"\",\"\",NETWORKDAYS(C259+1,J259,DiasNOLaborables))","v":8},"",null,null,20]
[249,20219050042832,"2021-04-08","EMPRESA PRIVADA","MODULO CONTACTENOS","SOLICITUD DE INFORMACIÓN Y DOCUMENTOS","CAMBIO CLIMÁTICO","SI","SUBDIRECCIÓN DE ESTUDIOS AMBIENTALES","2021-04-08","CORREO ELECTRÓNICO",null,{"$f":"IFERROR(WORKDAY(C260,S259,DiasNOLaborables),\"\")","v":"2021-05-06"},{"$f":"+IF(C260=\"\",\"\",IF(J260=\"\",\"SIN RESPUESTA\",(IF(J260<=M260,\"A TIEMPO\",\"FUERA DE TIEMPO\"))))","v":"A TIEMPO"},{"$f":"IF(J260=\"\",\"\",NETWORKDAYS(C260+1,J260,DiasNOLaborables))","v":-2},"",null,null,35]
[250,20219050042602,"2021-04-08","CIUDADANO","MODULO CONTACTENOS","CERTIFICACIONES DE TIEMPO, CLIMA Y EVENTOS HIDROLÓGICOS","CERTIFICACIONES DE TIEMPO Y CLIMA","SI","SUBDIRECCIÓN DE METEOROLOGÍA","2021-04-23","CORREO ELECTRÓNICO",null,{"$f":"IFERROR(WORKDAY(C261,S260,DiasNOLaborables),\"\")","v":"2021-05-28"},{"$f":"+IF(C261=\"\",\"\",IF(J261=\"\",\"SIN RESPUESTA\",(IF(J261<=M261,\"A TIEMPO\",\"FUERA DE TIEMPO\"))))","v":"A TIEMPO"},{"$f":"IF(J261=\"\",\"\",NETWORKDAYS(C261+1,J261,DiasNOLaborables))","v":11},"",null,null,20]
[251,20219050042902,"2021-04-08","CIUDADANO","CORREO ELECTRÓNICO","SOLICITUD DE INFORMACIÓN Y DOCUMENTOS","REGISTROS AMBIENTALES","SI","SUBDIRECCIÓN DE ESTUDIOS AMBIENTALES","2021-04-15","CORREO ELECTRÓNICO",null,{"$f":"IFERROR(WORKDAY(C262,S261,DiasNOLaborables),\"\")","v":"2021-05-06"},{"$f":"+IF(C262=\"\",\"\",IF(J262=\"\",\"SIN RESPUESTA\",(IF(J262<=M262,\"A TIEMPO\",\"FUERA DE TIEMPO\"))))","v":"A TIEMPO"},{"$f":"IF(J262=\"\",\"\",NETWORKDAYS(C262+1,J262,DiasNOLaborables))","v":5},"",null,null,20]
[252,20219050042922,"2021-04-08","CIUDADANO","CORREO ELECTRÓNICO","SOLICITUD DE INFORMACIÓN Y DOCUMENTOS","REGISTROS AMBIENTALES","SI","SUBDIRECCIÓN DE ESTUDIOS AMBIENTALES","2021-04-15","CORREO ELECTRÓNICO",null,{"$f":"IFERROR(WORKDAY(C263,S262,DiasNOLaborables),\"\")","v":"2021-05-06"},{"$f":"+IF(C263=\"\",\"\",IF(J263=\"\",\"SIN RESPUESTA\",(IF(J263<=M263,\"A TIEMPO\",\"FUERA DE TIEMPO\"))))","v":"A TIEMPO"},{"$f":"IF(J263=\"\",\"\",NETWORKDAYS(C263+1,J263,DiasNOLaborables))","v":5},"",null,null,20]
[253,20219050042942,"2021-04-08","CIUDADANO","CORREO ELECTRÓNICO","SOLICITUD DE INFORMACIÓN Y DOCUMENTOS","REGISTROS AMBIENTALES","SI","SUBDIRECCIÓN DE ESTUDIOS AMBIENTALES","2021-04-08","CORREO ELECTRÓNICO",null,{"$f":"IFERROR(WORKDAY(C264,S263,DiasNOLaborables),\"\")","v":"2021-05-06"},{"$f":"+IF(C264=\"\",\"\",IF(J264=\"\",\"SIN RESPUESTA\",(IF(J264<=M264,\"A TIEMPO\",\"FUERA DE TIEMPO\"))))","v":"A TIEMPO"},{"$f":"IF(J264=\"\",\"\",NETWORKDAYS(C264+1,J264,DiasNOLaborables))","v":-2},"",null,null,20]
[254,20219050042952,"2021-04-08","CIUDADANO","CORREO ELECTRÓNICO","SOLICITUD DE INFORMACIÓN Y DOCUMENTOS","REGISTROS AMBIENTALES","SI","SUBDIRECCIÓN DE ESTUDIOS AMBIENTALES","2021-04-08","CORREO ELECTRÓNICO",null,{"$f":"IFERROR(WORKDAY(C265,S264,DiasNOLaborables),\"\")","v":"2021-05-06"},{"$f":"+IF(C265=\"\",\"\",IF(J265=\"\",\"SIN RESPUESTA\",(IF(J265<=M265,\"A TIEMPO\",\"FUERA DE TIEMPO\"))))","v":"A TIEMPO"},{"$f":"IF(J265=\"\",\"\",NETWORKDAYS(C265+1,J265,DiasNOLaborables))","v":-2},"",null,null,20]
[255,20219050042962,"2021-04-08","CIUDADANO","CORREO ELECTRÓNICO","SOLICITUD DE INFORMACIÓN Y DOCUMENTOS","REGISTROS AMBIENTALES","SI","SUBDIRECCIÓN DE ESTUDIOS AMBIENTALES","2021-04-08","CORREO ELECTRÓNICO",null,{"$f":"IFERROR(WORKDAY(C266,S265,DiasNOLaborables),\"\")","v":"2021-05-06"},{"$f":"+IF(C266=\"\",\"\",IF(J266=\"\",\"SIN RESPUESTA\",(IF(J266<=M266,\"A TIEMPO\",\"FUERA DE TIEMPO\"))))","v":"A TIEMPO"},{"$f":"IF(J266=\"\",\"\",NETWORKDAYS(C266+1,J266,DiasNOLaborables))","v":-2},"",null,null,20]
[256,20219050042972,"2021-04-08","EMPRESA PRIVADA","CORREO ELECTRÓNICO","SOLICITUD DE INFORMACIÓN Y DOCUMENTOS","REGISTROS AMBIENTALES","SI","SUBDIRECCIÓN DE ESTUDIOS AMBIENTALES","2021-04-08","CORREO ELECTRÓNICO",null,{"$f":"IFERROR(WORKDAY(C267,S266,DiasNOLaborables),\"\")","v":"2021-05-06"},{"$f":"+IF(C267=\"\",\"\",IF(J267=\"\",\"SIN RESPUESTA\",(IF(J267<=M267,\"A TIEMPO\",\"FUERA DE TIEMPO\"))))","v":"A TIEMPO"},{"$f":"IF(J267=\"\",\"\",NETWORKDAYS(C267+1,J267,DiasNOLaborables))","v":-2},"",null,null,20]
[257,20219050042982,"2021-04-08","CIUDADANO","CORREO ELECTRÓNICO","SOLICITUD DE INFORMACIÓN Y DOCUMENTOS","REGISTROS AMBIENTALES","SI","SUBDIRECCIÓN DE ESTUDIOS AMBIENTALES","2021-04-08","CORREO ELECTRÓNICO",null,{"$f":"IFERROR(WORKDAY(C268,S267,DiasNOLaborables),\"\")","v":"2021-05-06"},{"$f":"+IF(C268=\"\",\"\",IF(J268=\"\",\"SIN RESPUESTA\",(IF(J268<=M268,\"A TIEMPO\",\"FUERA DE TIEMPO\"))))","v":"A TIEMPO"},{"$f":"IF(J268=\"\",\"\",NETWORKDAYS(C268+1,J268,DiasNOLaborables))","v":-2},"",null,null,35]
[258,20219050042992,"2021-04-08","EMPRESA PRIVADA","CORREO ELECTRÓNICO","CERTIFICACIONES DE TIEMPO, CLIMA Y EVENTOS HIDROLÓGICOS","CERTIFICACIONES DE TIEMPO Y CLIMA","SI","SUBDIRECCIÓN DE METEOROLOGÍA","2021-04-20","CORREO ELECTRÓNICO",null,{"$f":"IFERROR(WORKDAY(C269,S268,DiasNOLaborables),\"\")","v":"2021-05-28"},{"$f":"+IF(C269=\"\",\"\",IF(J269=\"\",\"SIN RESPUESTA\",(IF(J269<=M269,\"A TIEMPO\",\"FUERA DE TIEMPO\"))))","v":"A TIEMPO"},{"$f":"IF(J269=\"\",\"\",NETWORKDAYS([5]Hoja1!C267+1,[5]Hoja1!P267,DiasNOLaborables))","v":4},"",null,null,{"$f":"IFERROR(VLOOKUP(F270,$AA$51:$AB$64,2),\"\")","v":35}]
[{"$f":"IF(B270<>\"\",A269+1,\"\")","v":259},20219050043002,"2021-04-08","CIUDADANO","CORREO ELECTRÓNICO","CERTIFICACIONES DE TIEMPO, CLIMA Y EVENTOS HIDROLÓGICOS","CERTIFICACIONES DE TIEMPO Y CLIMA","SI","SUBDIRECCIÓN DE METEOROLOGÍA","2021-04-15","CORREO ELECTRÓNICO",null,{"$f":"IFERROR(WORKDAY(C270,S269,DiasNOLaborables),\"\")","v":"2021-05-28"},{"$f":"+IF(C270=\"\",\"\",IF(J270=\"\",\"SIN RESPUESTA\",(IF(J270<=M270,\"A TIEMPO\",\"FUERA DE TIEMPO\"))))","v":"A TIEMPO"},{"$f":"IF(J270=\"\",\"\",NETWORKDAYS(C270+1,J270,DiasNOLaborables))","v":5},"",null,null,35]
[260,20219050043012,"2021-04-08","EMPRESA PRIVADA","CORREO ELECTRÓNICO","CERTIFICACIONES DE TIEMPO, CLIMA Y EVENTOS HIDROLÓGICOS","CERTIFICACIONES DE TIEMPO Y CLIMA","SI","SUBDIRECCIÓN DE METEOROLOGÍA","2021-04-19","CORREO ELECTRÓNICO",null,{"$f":"IFERROR(WORKDAY(C271,S270,DiasNOLaborables),\"\")","v":"2021-05-28"},{"$f":"+IF(C271=\"\",\"\",IF(J271=\"\",\"SIN RESPUESTA\",(IF(J271<=M271,\"A TIEMPO\",\"FUERA DE TIEMPO\"))))","v":"A TIEMPO"},{"$f":"IF(J271=\"\",\"\",NETWORKDAYS(C271+1,J271,DiasNOLaborables))","v":7},"",null,null,20]
[261,20219050043022,"2021-04-08","CIUDADANO","CORREO ELECTRÓNICO","SOLICITUD DE INFORMACIÓN Y DOCUMENTOS","BOSQUES","SI","SUBDIRECCIÓN DE ECOSISTEMAS E INFORMACIÓN AMBIENTAL","2021-04-13","CORREO ELECTRÓNICO",null,{"$f":"IFERROR(WORKDAY(C272,S271,DiasNOLaborables),\"\")","v":"2021-05-06"},{"$f":"+IF(C272=\"\",\"\",IF(J272=\"\",\"SIN RESPUESTA\",(IF(J272<=M272,\"A TIEMPO\",\"FUERA DE TIEMPO\"))))","v":"A TIEMPO"},{"$f":"IF(J272=\"\",\"\",NETWORKDAYS(C272+1,J272,DiasNOLaborables))","v":3},{"$f":"IF(NETWORKDAYS(M272+1,J272,DiasNOLaborables)<=0,\"\",NETWORKDAYS(M272+1,J272,DiasNOLaborables))","v":""},null,null,20]
[262,20219050043032,"2021-04-08","CIUDADANO","CORREO ELECTRÓNICO","SOLICITUD DE INFORMACIÓN Y DOCUMENTOS","ADMINISTRATIVA","SI","GRUPO DE ADMINISTRACIÓN Y DESARROLLO DEL TALENTO HUMANO","2021-04-22","CORREO ELECTRÓNICO",null,{"$f":"IFERROR(WORKDAY(C273,S272,DiasNOLaborables),\"\")","v":"2021-05-06"},{"$f":"+IF(C273=\"\",\"\",IF(J273=\"\",\"SIN RESPUESTA\",(IF(J273<=M273,\"A TIEMPO\",\"FUERA DE TIEMPO\"))))","v":"A TIEMPO"},{"$f":"IF(J273=\"\",\"\",NETWORKDAYS(C273+1,J273,DiasNOLaborables))","v":10},"",null,null,20]
[263,20219050043232,"2021-04-08","CIUDADANO","MODULO CONTACTENOS","SOLICITUD DE INFORMACIÓN Y DOCUMENTOS","SIA","SI","GRUPO DE GESTIÓN DOCUMENTAL Y CENTRO DE DOCUMENTACIÓN","2021-04-22","CORREO ELECTRÓNICO",null,{"$f":"IFERROR(WORKDAY(C274,S273,DiasNOLaborables),\"\")","v":"2021-05-06"},{"$f":"+IF(C274=\"\",\"\",IF(J274=\"\",\"SIN RESPUESTA\",(IF(J274<=M274,\"A TIEMPO\",\"FUERA DE TIEMPO\"))))","v":"A TIEMPO"},{"$f":"IF(J274=\"\",\"\",NETWORKDAYS(C274+1,J274,DiasNOLaborables))","v":10},"",null,null,30]
[264,20219910019512,"2021-04-08","EMPRESA PRIVADA","CORREO ELECTRÓNICO","PETICIÓN","ADMINISTRATIVA","SI","GRUPO DE ADMINISTRACIÓN Y DESARROLLO DEL TALENTO HUMANO","2021-05-21","CORREO ELECTRÓNICO",null,{"$f":"IFERROR(WORKDAY(C275,S274,DiasNOLaborables),\"\")","v":"2021-05-21"},{"$f":"+IF(C275=\"\",\"\",IF(J275=\"\",\"SIN RESPUESTA\",(IF(J275<=M275,\"A TIEMPO\",\"FUERA DE TIEMPO\"))))","v":"A TIEMPO"},{"$f":"IF(J275=\"\",\"\",NETWORKDAYS(C275+1,J275,DiasNOLaborables))","v":30},"",null,null,20]
[265,20217030000542,"2021-04-09","ENTIDAD PÚBLICA","CORREO CERTIFICADO","SOLICITUD DE INFORMACIÓN Y DOCUMENTOS","SIA","SI","GRUPO DE GESTIÓN DOCUMENTAL Y CENTRO DE DOCUMENTACIÓN","2021-04-26","CORREO ELECTRÓNICO",null,{"$f":"IFERROR(WORKDAY(C276,S275,DiasNOLaborables),\"\")","v":"2021-05-07"},{"$f":"+IF(C276=\"\",\"\",IF(J276=\"\",\"SIN RESPUESTA\",(IF(J276<=M276,\"A TIEMPO\",\"FUERA DE TIEMPO\"))))","v":"A TIEMPO"},{"$f":"IF(J276=\"\",\"\",NETWORKDAYS(C276+1,J276,DiasNOLaborables))","v":11},"",null,null,20]
[266,20219050043272,"2021-04-09","EMPRESA PRIVADA","MODULO CONTACTENOS","SOLICITUD DE INFORMACIÓN Y DOCUMENTOS","ADMINISTRATIVA","SI","GRUPO DE TESORERÍA","2021-04-21","CORREO ELECTRÓNICO",null,{"$f":"IFERROR(WORKDAY(C277,S276,DiasNOLaborables),\"\")","v":"2021-05-07"},{"$f":"+IF(C277=\"\",\"\",IF(J277=\"\",\"SIN RESPUESTA\",(IF(J277<=M277,\"A TIEMPO\",\"FUERA DE TIEMPO\"))))","v":"A TIEMPO"},{"$f":"IF(J277=\"\",\"\",NETWORKDAYS(C277+1,J277,DiasNOLaborables))","v":8},"",null,null,35]
[267,20219050043462,"2021-04-09","CIUDADANO","CORREO ELECTRÓNICO","CERTIFICACIONES DE TIEMPO, CLIMA Y EVENTOS HIDROLÓGICOS","CERTIFICACIONES DE TIEMPO Y CLIMA","SI","SUBDIRECCIÓN DE METEOROLOGÍA","2021-04-19","CORREO ELECTRÓNICO",null,{"$f":"IFERROR(WORKDAY(C278,S277,DiasNOLaborables),\"\")","v":"2021-05-31"},{"$f":"+IF(C278=\"\",\"\",IF(J278=\"\",\"SIN RESPUESTA\",(IF(J278<=M278,\"A TIEMPO\",\"FUERA DE TIEMPO\"))))","v":"A TIEMPO"},{"$f":"IF(J278=\"\",\"\",NETWORKDAYS(C278+1,J278,DiasNOLaborables))","v":6},"",null,null,35]
[268,20219050043512,"2021-04-09","CIUDADANO","CORREO ELECTRÓNICO","CERTIFICACIONES DE TIEMPO, CLIMA Y EVENTOS HIDROLÓGICOS","CERTIFICACIONES DE TIEMPO Y CLIMA","SI","SUBDIRECCIÓN DE METEOROLOGÍA","2021-04-19","CORREO ELECTRÓNICO",null,{"$f":"IFERROR(WORKDAY(C279,S278,DiasNOLaborables),\"\")","v":"2021-05-31"},{"$f":"+IF(C279=\"\",\"\",IF(J279=\"\",\"SIN RESPUESTA\",(IF(J279<=M279,\"A TIEMPO\",\"FUERA DE TIEMPO\"))))","v":"A TIEMPO"},{"$f":"IF(J279=\"\",\"\",NETWORKDAYS(C279+1,J279,DiasNOLaborables))","v":6},"",null,null,35]
[269,20219050043532,"2021-04-09","CIUDADANO","CORREO ELECTRÓNICO","CERTIFICACIONES DE TIEMPO, CLIMA Y EVENTOS HIDROLÓGICOS","CERTIFICACIONES DE TIEMPO Y CLIMA","SI","SUBDIRECCIÓN DE METEOROLOGÍA","2021-04-20","CORREO ELECTRÓNICO",null,{"$f":"IFERROR(WORKDAY(C280,S279,DiasNOLaborables),\"\")","v":"2021-05-31"},{"$f":"+IF(C280=\"\",\"\",IF(J280=\"\",\"SIN RESPUESTA\",(IF(J280<=M280,\"A TIEMPO\",\"FUERA DE TIEMPO\"))))","v":"A TIEMPO"},{"$f":"IF(J280=\"\",\"\",NETWORKDAYS(C280+1,J280,DiasNOLaborables))","v":7},"",null,null,35]
[270,20219050043552,"2021-04-09","EMPRESA PRIVADA","CORREO ELECTRÓNICO","CERTIFICACIONES DE TIEMPO, CLIMA Y EVENTOS HIDROLÓGICOS","CERTIFICACIONES DE TIEMPO Y CLIMA","SI","SUBDIRECCIÓN DE METEOROLOGÍA","2021-04-23","CORREO ELECTRÓNICO",null,{"$f":"IFERROR(WORKDAY(C281,S280,DiasNOLaborables),\"\")","v":"2021-05-31"},{"$f":"+IF(C281=\"\",\"\",IF(J281=\"\",\"SIN RESPUESTA\",(IF(J281<=M281,\"A TIEMPO\",\"FUERA DE TIEMPO\"))))","v":"A TIEMPO"},{"$f":"IF(J281=\"\",\"\",NETWORKDAYS(C281+1,J281,DiasNOLaborables))","v":10},"",null,null,20]
[271,20219050043452,"2021-04-09","FUNCIONARIO IDEAM","MODULO CONTACTENOS","SOLICITUD DE INFORMACIÓN Y DOCUMENTOS","ADMINISTRATIVA","SI","GRUPO DE ADMINISTRACIÓN Y DESARROLLO DEL TALENTO HUMANO","2021-04-14","CORREO ELECTRÓNICO",null,{"$f":"IFERROR(WORKDAY(C282,S281,DiasNOLaborables),\"\")","v":"2021-05-07"},{"$f":"+IF(C282=\"\",\"\",IF(J282=\"\",\"SIN RESPUESTA\",(IF(J282<=M282,\"A TIEMPO\",\"FUERA DE TIEMPO\"))))","v":"A TIEMPO"},{"$f":"IF(J282=\"\",\"\",NETWORKDAYS(C282+1,J282,DiasNOLaborables))","v":3},"",null,null,35]
[272,20219050043602,"2021-04-09","CIUDADANO","MODULO CONTACTENOS","CERTIFICACIONES DE TIEMPO, CLIMA Y EVENTOS HIDROLÓGICOS","CERTIFICACIONES DE TIEMPO Y CLIMA","SI","SUBDIRECCIÓN DE METEOROLOGÍA","2021-04-19","CORREO ELECTRÓNICO",null,{"$f":"IFERROR(WORKDAY(C283,S282,DiasNOLaborables),\"\")","v":"2021-05-31"},{"$f":"+IF(C283=\"\",\"\",IF(J283=\"\",\"SIN RESPUESTA\",(IF(J283<=M283,\"A TIEMPO\",\"FUERA DE TIEMPO\"))))","v":"A TIEMPO"},{"$f":"IF(J283=\"\",\"\",NETWORKDAYS(C283+1,J283,DiasNOLaborables))","v":6},"",null,null,20]
[273,20219050043782,"2021-04-09","EMPRESA PRIVADA","CORREO ELECTRÓNICO","SOLICITUD DE INFORMACIÓN Y DOCUMENTOS","SOLICITUD DE INFORMACIÓN HIDROMETEOROLÓGICA","NO","GRUPO DE SERVICIO AL CIUDADANO ","2021-04-29","CORREO ELECTRÓNICO",null,{"$f":"IFERROR(WORKDAY(C284,S283,DiasNOLaborables),\"\")","v":"2021-05-07"},{"$f":"+IF(C284=\"\",\"\",IF(J284=\"\",\"SIN RESPUESTA\",(IF(J284<=M284,\"A TIEMPO\",\"FUERA DE TIEMPO\"))))","v":"A TIEMPO"},{"$f":"IF(J284=\"\",\"\",NETWORKDAYS(C284+1,J284,DiasNOLaborables))","v":14},"",null,null,20]
[274,20219050043652,"2021-04-09","FUNCIONARIO IDEAM","MODULO CONTACTENOS","SOLICITUD DE INFORMACIÓN Y DOCUMENTOS","ADMINISTRATIVA","SI","GRUPO DE ADMINISTRACIÓN Y DESARROLLO DEL TALENTO HUMANO","2021-04-14","CORREO ELECTRÓNICO",null,{"$f":"IFERROR(WORKDAY(C285,S284,DiasNOLaborables),\"\")","v":"2021-05-07"},{"$f":"+IF(C285=\"\",\"\",IF(J285=\"\",\"SIN RESPUESTA\",(IF(J285<=M285,\"A TIEMPO\",\"FUERA DE TIEMPO\"))))","v":"A TIEMPO"},{"$f":"IF(J285=\"\",\"\",NETWORKDAYS(C285+1,J285,DiasNOLaborables))","v":3},"",null,null,20]
[275,20219050043692,"2021-04-09","FUNCIONARIO IDEAM","MODULO CONTACTENOS","SOLICITUD DE INFORMACIÓN Y DOCUMENTOS","ADMINISTRATIVA","SI","GRUPO DE ADMINISTRACIÓN Y DESARROLLO DEL TALENTO HUMANO","2021-04-14","CORREO ELECTRÓNICO",null,{"$f":"IFERROR(WORKDAY(C286,S285,DiasNOLaborables),\"\")","v":"2021-05-07"},{"$f":"+IF(C286=\"\",\"\",IF(J286=\"\",\"SIN RESPUESTA\",(IF(J286<=M286,\"A TIEMPO\",\"FUERA DE TIEMPO\"))))","v":"A TIEMPO"},{"$f":"IF(J286=\"\",\"\",NETWORKDAYS(C286+1,J286,DiasNOLaborables))","v":3},"",null,null,35]
[276,20219050043732,"2021-04-09","EMPRESA PRIVADA","MODULO CONTACTENOS","CERTIFICACIONES DE TIEMPO, CLIMA Y EVENTOS HIDROLÓGICOS","CERTIFICACIONES DE TIEMPO Y CLIMA","SI","SUBDIRECCIÓN DE METEOROLOGÍA","2021-04-23","CORREO ELECTRÓNICO",null,{"$f":"IFERROR(WORKDAY(C287,S286,DiasNOLaborables),\"\")","v":"2021-05-31"},{"$f":"+IF(C287=\"\",\"\",IF(J287=\"\",\"SIN RESPUESTA\",(IF(J287<=M287,\"A TIEMPO\",\"FUERA DE TIEMPO\"))))","v":"A TIEMPO"},{"$f":"IF(J287=\"\",\"\",NETWORKDAYS(C287+1,J287,DiasNOLaborables))","v":10},"",null,null,35]
[277,20219050043742,"2021-04-09","EMPRESA PRIVADA","MODULO CONTACTENOS","CERTIFICACIONES DE TIEMPO, CLIMA Y EVENTOS HIDROLÓGICOS","CERTIFICACIONES DE TIEMPO Y CLIMA","SI","SUBDIRECCIÓN DE METEOROLOGÍA","2021-04-20","CORREO ELECTRÓNICO",null,{"$f":"IFERROR(WORKDAY(C288,S287,DiasNOLaborables),\"\")","v":"2021-05-31"},{"$f":"+IF(C288=\"\",\"\",IF(J288=\"\",\"SIN RESPUESTA\",(IF(J288<=M288,\"A TIEMPO\",\"FUERA DE TIEMPO\"))))","v":"A TIEMPO"},{"$f":"IF(J288=\"\",\"\",NETWORKDAYS(C288+1,J288,DiasNOLaborables))","v":7},"",null,null,20]
[278,20219050043322,"2021-04-09","CIUDADANO","CORREO ELECTRÓNICO","SOLICITUD DE INFORMACIÓN Y DOCUMENTOS","REGISTROS AMBIENTALES","SI","SUBDIRECCIÓN DE ESTUDIOS AMBIENTALES","2021-04-09","CORREO ELECTRÓNICO",null,{"$f":"IFERROR(WORKDAY(C289,S288,DiasNOLaborables),\"\")","v":"2021-05-07"},{"$f":"+IF(C289=\"\",\"\",IF(J289=\"\",\"SIN RESPUESTA\",(IF(J289<=M289,\"A TIEMPO\",\"FUERA DE TIEMPO\"))))","v":"A TIEMPO"},{"$f":"IF(J289=\"\",\"\",NETWORKDAYS(C289+1,J289,DiasNOLaborables))","v":-1},"",null,null,20]
[279,20219050043382,"2021-04-09","CIUDADANO","CORREO ELECTRÓNICO","SOLICITUD DE INFORMACIÓN Y DOCUMENTOS","OPERACIÓN DE REDES","SI","SUBDIRECCIÓN DE HIDROLOGÍA","2021-04-28","CORREO ELECTRÓNICO",null,{"$f":"IFERROR(WORKDAY(C290,S289,DiasNOLaborables),\"\")","v":"2021-05-07"},{"$f":"+IF(C290=\"\",\"\",IF(J290=\"\",\"SIN RESPUESTA\",(IF(J290<=M290,\"A TIEMPO\",\"FUERA DE TIEMPO\"))))","v":"A TIEMPO"},{"$f":"IF(J290=\"\",\"\",NETWORKDAYS(C290+1,J290,DiasNOLaborables))","v":13},"",null,null,20]
[280,20219050043432,"2021-04-09","CIUDADANO","CORREO ELECTRÓNICO","SOLICITUD DE INFORMACIÓN Y DOCUMENTOS","REGISTROS AMBIENTALES","SI","SUBDIRECCIÓN DE ESTUDIOS AMBIENTALES","2021-04-09","CORREO ELECTRÓNICO",null,{"$f":"IFERROR(WORKDAY(C291,S290,DiasNOLaborables),\"\")","v":"2021-05-07"},{"$f":"+IF(C291=\"\",\"\",IF(J291=\"\",\"SIN RESPUESTA\",(IF(J291<=M291,\"A TIEMPO\",\"FUERA DE TIEMPO\"))))","v":"A TIEMPO"},{"$f":"IF(J291=\"\",\"\",NETWORKDAYS(C291+1,J291,DiasNOLaborables))","v":-1},"",null,null,20]
[281,20219050043482,"2021-04-09","CIUDADANO","CORREO ELECTRÓNICO","SOLICITUD DE INFORMACIÓN Y DOCUMENTOS","ADMINISTRATIVA","SI","GRUPO DE TESORERÍA","2021-04-21","CORREO ELECTRÓNICO",null,{"$f":"IFERROR(WORKDAY(C292,S291,DiasNOLaborables),\"\")","v":"2021-05-07"},{"$f":"+IF(C292=\"\",\"\",IF(J292=\"\",\"SIN RESPUESTA\",(IF(J292<=M292,\"A TIEMPO\",\"FUERA DE TIEMPO\"))))","v":"A TIEMPO"},{"$f":"IF(J292=\"\",\"\",NETWORKDAYS(C292+1,J292,DiasNOLaborables))","v":8},"",null,null,20]
[282,20219050043502,"2021-04-09","CIUDADANO","CORREO ELECTRÓNICO","SOLICITUD DE INFORMACIÓN Y DOCUMENTOS","REGISTROS AMBIENTALES","SI","SUBDIRECCIÓN DE ESTUDIOS AMBIENTALES","2021-04-09","CORREO ELECTRÓNICO",null,{"$f":"IFERROR(WORKDAY(C293,S292,DiasNOLaborables),\"\")","v":"2021-05-07"},{"$f":"+IF(C293=\"\",\"\",IF(J293=\"\",\"SIN RESPUESTA\",(IF(J293<=M293,\"A TIEMPO\",\"FUERA DE TIEMPO\"))))","v":"A TIEMPO"},{"$f":"IF(J293=\"\",\"\",NETWORKDAYS(C293+1,J293,DiasNOLaborables))","v":-1},"",null,null,30]
[283,20219050043522,"2021-04-09","CIUDADANO","CORREO ELECTRÓNICO","PETICIÓN","ADMINISTRATIVA","SI","GRUPO DE ADMINISTRACIÓN Y DESARROLLO DEL TALENTO HUMANO","2021-04-20","CORREO ELECTRÓNICO",null,{"$f":"IFERROR(WORKDAY(C294,S293,DiasNOLaborables),\"\")","v":"2021-05-24"},{"$f":"+IF(C294=\"\",\"\",IF(J294=\"\",\"SIN RESPUESTA\",(IF(J294<=M294,\"A TIEMPO\",\"FUERA DE TIEMPO\"))))","v":"A TIEMPO"},{"$f":"IF(J294=\"\",\"\",NETWORKDAYS(C294+1,J294,DiasNOLaborables))","v":7},"",null,null,35]
[284,20219050043572,"2021-04-09","CIUDADANO","CORREO ELECTRÓNICO","CERTIFICACIONES DE TIEMPO, CLIMA Y EVENTOS HIDROLÓGICOS","CERTIFICACIONES DE TIEMPO Y CLIMA","SI","SUBDIRECCIÓN DE METEOROLOGÍA","2021-04-16","CORREO ELECTRÓNICO",null,{"$f":"IFERROR(WORKDAY(C295,S294,DiasNOLaborables),\"\")","v":"2021-05-31"},{"$f":"+IF(C295=\"\",\"\",IF(J295=\"\",\"SIN RESPUESTA\",(IF(J295<=M295,\"A TIEMPO\",\"FUERA DE TIEMPO\"))))","v":"A TIEMPO"},{"$f":"IF(J295=\"\",\"\",NETWORKDAYS(C295+1,J295,DiasNOLaborables))","v":5},"",null,null,20]
[285,20219050043612,"2021-04-09","ACADEMIA ","CORREO ELECTRÓNICO","SOLICITUD DE INFORMACIÓN Y DOCUMENTOS","LABORATORIO DE CALIDAD AMBIENTAL","SI","SUBDIRECCIÓN DE ESTUDIOS AMBIENTALES","2021-04-13","CORREO ELECTRÓNICO",null,{"$f":"IFERROR(WORKDAY(C296,S295,DiasNOLaborables),\"\")","v":"2021-05-07"},{"$f":"+IF(C296=\"\",\"\",IF(J296=\"\",\"SIN RESPUESTA\",(IF(J296<=M296,\"A TIEMPO\",\"FUERA DE TIEMPO\"))))","v":"A TIEMPO"},{"$f":"IF(J296=\"\",\"\",NETWORKDAYS(C296+1,J296,DiasNOLaborables))","v":2},"",null,null,20]
[286,20219050043622,"2021-04-09","CIUDADANO","CORREO ELECTRÓNICO","SOLICITUD DE INFORMACIÓN Y DOCUMENTOS","LABORATORIO DE CALIDAD AMBIENTAL","SI","SUBDIRECCIÓN DE ESTUDIOS AMBIENTALES","2021-04-13","CORREO ELECTRÓNICO",null,{"$f":"IFERROR(WORKDAY(C297,S296,DiasNOLaborables),\"\")","v":"2021-05-07"},{"$f":"+IF(C297=\"\",\"\",IF(J297=\"\",\"SIN RESPUESTA\",(IF(J297<=M297,\"A TIEMPO\",\"FUERA DE TIEMPO\"))))","v":"A TIEMPO"},{"$f":"IF(J297=\"\",\"\",NETWORKDAYS(C297+1,J297,DiasNOLaborables))","v":2},"",null,null,20]
[287,20219050043632,"2021-04-09","CIUDADANO","CORREO ELECTRÓNICO","SOLICITUD DE INFORMACIÓN Y DOCUMENTOS","ADMINISTRATIVA","SI","GRUPO DE ADMINISTRACIÓN Y DESARROLLO DEL TALENTO HUMANO","2021-04-12","CORREO ELECTRÓNICO",null,{"$f":"IFERROR(WORKDAY(C298,S297,DiasNOLaborables),\"\")","v":"2021-05-07"},{"$f":"+IF(C298=\"\",\"\",IF(J298=\"\",\"SIN RESPUESTA\",(IF(J298<=M298,\"A TIEMPO\",\"FUERA DE TIEMPO\"))))","v":"A TIEMPO"},{"$f":"IF(J298=\"\",\"\",NETWORKDAYS(C298+1,J298,DiasNOLaborables))","v":1},"",null,null,20]
[288,20219050043682,"2021-04-09","ACADEMIA ","MODULO CONTACTENOS","SOLICITUD DE INFORMACIÓN Y DOCUMENTOS","SOLICITUD DE INFORMACIÓN HIDROMETEOROLÓGICA","NO","GRUPO DE SERVICIO AL CIUDADANO ","2021-04-30","CORREO ELECTRÓNICO",null,{"$f":"IFERROR(WORKDAY(C299,S298,DiasNOLaborables),\"\")","v":"2021-05-07"},{"$f":"+IF(C299=\"\",\"\",IF(J299=\"\",\"SIN RESPUESTA\",(IF(J299<=M299,\"A TIEMPO\",\"FUERA DE TIEMPO\"))))","v":"A TIEMPO"},{"$f":"IF(J299=\"\",\"\",NETWORKDAYS(C299+1,J299,DiasNOLaborables))","v":15},"",null,null,20]
[289,20219050043262,"2021-04-09","ACADEMIA","MODULO CONTACTENOS","SOLICITUD DE INFORMACIÓN Y DOCUMENTOS","SOLICITUD DE INFORMACIÓN HIDROMETEOROLÓGICA","NO","GRUPO DE SERVICIO AL CIUDADANO ","2021-05-07","CORREO ELECTRÓNICO",null,{"$f":"IFERROR(WORKDAY(C300,S299,DiasNOLaborables),\"\")","v":"2021-05-07"},{"$f":"+IF(C300=\"\",\"\",IF(J300=\"\",\"SIN RESPUESTA\",(IF(J300<=M300,\"A TIEMPO\",\"FUERA DE TIEMPO\"))))","v":"A TIEMPO"},{"$f":"IF(J300=\"\",\"\",NETWORKDAYS(C300+1,J300,DiasNOLaborables))","v":20},"",null,null,20]
[290,20219050043282,"2021-04-09","CIUDADANO","MODULO CONTACTENOS","SOLICITUD DE INFORMACIÓN Y DOCUMENTOS","SOLICITUD DE INFORMACIÓN HIDROMETEOROLÓGICA","NO","GRUPO DE SERVICIO AL CIUDADANO ","2021-05-07","CORREO ELECTRÓNICO",null,{"$f":"IFERROR(WORKDAY(C301,S300,DiasNOLaborables),\"\")","v":"2021-05-07"},{"$f":"+IF(C301=\"\",\"\",IF(J301=\"\",\"SIN RESPUESTA\",(IF(J301<=M301,\"A TIEMPO\",\"FUERA DE TIEMPO\"))))","v":"A TIEMPO"},{"$f":"IF(J301=\"\",\"\",NETWORKDAYS(C301+1,J301,DiasNOLaborables))","v":20},"",null,null,20]
[291,20219050043292,"2021-04-09","CIUDADANO","MODULO CONTACTENOS","SOLICITUD DE INFORMACIÓN Y DOCUMENTOS","SOLICITUD DE INFORMACIÓN HIDROMETEOROLÓGICA","NO","GRUPO DE SERVICIO AL CIUDADANO ","2021-05-07","CORREO ELECTRÓNICO",null,{"$f":"IFERROR(WORKDAY(C302,S301,DiasNOLaborables),\"\")","v":"2021-05-07"},{"$f":"+IF(C302=\"\",\"\",IF(J302=\"\",\"SIN RESPUESTA\",(IF(J302<=M302,\"A TIEMPO\",\"FUERA DE TIEMPO\"))))","v":"A TIEMPO"},{"$f":"IF(J302=\"\",\"\",NETWORKDAYS(C302+1,J302,DiasNOLaborables))","v":20},"",null,null,20]
[292,20219050043302,"2021-04-09","CIUDADANO","MODULO CONTACTENOS","SOLICITUD DE INFORMACIÓN Y DOCUMENTOS","SOLICITUD DE INFORMACIÓN HIDROMETEOROLÓGICA","NO","GRUPO DE SERVICIO AL CIUDADANO ","2021-05-07","CORREO ELECTRÓNICO",null,{"$f":"IFERROR(WORKDAY(C303,S302,DiasNOLaborables),\"\")","v":"2021-05-07"},{"$f":"+IF(C303=\"\",\"\",IF(J303=\"\",\"SIN RESPUESTA\",(IF(J303<=M303,\"A TIEMPO\",\"FUERA DE TIEMPO\"))))","v":"A TIEMPO"},{"$f":"IF(J303=\"\",\"\",NETWORKDAYS(C303+1,J303,DiasNOLaborables))","v":20},"",null,null,20]
[293,20219050043312,"2021-04-09","CIUDADANO","MODULO CONTACTENOS","SOLICITUD DE INFORMACIÓN Y DOCUMENTOS","SOLICITUD DE INFORMACIÓN HIDROMETEOROLÓGICA","NO","GRUPO DE SERVICIO AL CIUDADANO ","2021-05-07","CORREO ELECTRÓNICO",null,{"$f":"IFERROR(WORKDAY(C304,S303,DiasNOLaborables),\"\")","v":"2021-05-07"},{"$f":"+IF(C304=\"\",\"\",IF(J304=\"\",\"SIN RESPUESTA\",(IF(J304<=M304,\"A TIEMPO\",\"FUERA DE TIEMPO\"))))","v":"A TIEMPO"},{"$f":"IF(J304=\"\",\"\",NETWORKDAYS(C304+1,J304,DiasNOLaborables))","v":20},"",null,null,20]
[294,20219050043342,"2021-04-09","CIUDADANO","MODULO CONTACTENOS","SOLICITUD DE INFORMACIÓN Y DOCUMENTOS","SOLICITUD DE INFORMACIÓN HIDROMETEOROLÓGICA","NO","GRUPO DE SERVICIO AL CIUDADANO ","2021-05-07","CORREO ELECTRÓNICO",null,{"$f":"IFERROR(WORKDAY(C305,S304,DiasNOLaborables),\"\")","v":"2021-05-07"},{"$f":"+IF(C305=\"\",\"\",IF(J305=\"\",\"SIN RESPUESTA\",(IF(J305<=M305,\"A TIEMPO\",\"FUERA DE TIEMPO\"))))","v":"A TIEMPO"},{"$f":"IF(J305=\"\",\"\",NETWORKDAYS(C305+1,J305,DiasNOLaborables))","v":20},"",null,null,20]
[295,20219050043332,"2021-04-09","CIUDADANO","MODULO CONTACTENOS","SOLICITUD DE INFORMACIÓN Y DOCUMENTOS","SOLICITUD DE INFORMACIÓN HIDROMETEOROLÓGICA","NO","GRUPO DE SERVICIO AL CIUDADANO ","2021-05-07","CORREO ELECTRÓNICO",null,{"$f":"IFERROR(WORKDAY(C306,S305,DiasNOLaborables),\"\")","v":"2021-05-07"},{"$f":"+IF(C306=\"\",\"\",IF(J306=\"\",\"SIN RESPUESTA\",(IF(J306<=M306,\"A TIEMPO\",\"FUERA DE TIEMPO\"))))","v":"A TIEMPO"},{"$f":"IF(J306=\"\",\"\",NETWORKDAYS(C306+1,J306,DiasNOLaborables))","v":20},"",null,null,20]
[296,20219050043352,"2021-04-09","CIUDADANO","MODULO CONTACTENOS","SOLICITUD DE INFORMACIÓN Y DOCUMENTOS","SOLICITUD DE INFORMACIÓN HIDROMETEOROLÓGICA","NO","GRUPO DE SERVICIO AL CIUDADANO ","2021-05-07","CORREO ELECTRÓNICO",null,{"$f":"IFERROR(WORKDAY(C307,S306,DiasNOLaborables),\"\")","v":"2021-05-07"},{"$f":"+IF(C307=\"\",\"\",IF(J307=\"\",\"SIN RESPUESTA\",(IF(J307<=M307,\"A TIEMPO\",\"FUERA DE TIEMPO\"))))","v":"A TIEMPO"},{"$f":"IF(J307=\"\",\"\",NETWORKDAYS(C307+1,J307,DiasNOLaborables))","v":20},"",null,null,20]
[297,20219050043372,"2021-04-09","CIUDADANO","MODULO CONTACTENOS","SOLICITUD DE INFORMACIÓN Y DOCUMENTOS","SOLICITUD DE INFORMACIÓN HIDROMETEOROLÓGICA","NO","GRUPO DE SERVICIO AL CIUDADANO ","2021-05-07","CORREO ELECTRÓNICO",null,{"$f":"IFERROR(WORKDAY(C308,S307,DiasNOLaborables),\"\")","v":"2021-05-07"},{"$f":"+IF(C308=\"\",\"\",IF(J308=\"\",\"SIN RESPUESTA\",(IF(J308<=M308,\"A TIEMPO\",\"FUERA DE TIEMPO\"))))","v":"A TIEMPO"},{"$f":"IF(J308=\"\",\"\",NETWORKDAYS(C308+1,J308,DiasNOLaborables))","v":20},"",null,null,20]
[298,20219050043752,"2021-04-09","CIUDADANO","MODULO CONTACTENOS","SOLICITUD DE INFORMACIÓN Y DOCUMENTOS","SOLICITUD DE INFORMACIÓN HIDROMETEOROLÓGICA","NO","GRUPO DE SERVICIO AL CIUDADANO ","2021-05-07","CORREO ELECTRÓNICO",null,{"$f":"IFERROR(WORKDAY(C309,S308,DiasNOLaborables),\"\")","v":"2021-05-07"},{"$f":"+IF(C309=\"\",\"\",IF(J309=\"\",\"SIN RESPUESTA\",(IF(J309<=M309,\"A TIEMPO\",\"FUERA DE TIEMPO\"))))","v":"A TIEMPO"},{"$f":"IF(J309=\"\",\"\",NETWORKDAYS(C309+1,J309,DiasNOLaborables))","v":20},"",null,null,20]
[299,20219050043412,"2021-04-09","CIUDADANO","MODULO CONTACTENOS","SOLICITUD DE INFORMACIÓN Y DOCUMENTOS","SOLICITUD DE INFORMACIÓN HIDROMETEOROLÓGICA","NO","GRUPO DE SERVICIO AL CIUDADANO ","2021-05-07","CORREO ELECTRÓNICO",null,{"$f":"IFERROR(WORKDAY(C310,S309,DiasNOLaborables),\"\")","v":"2021-05-07"},{"$f":"+IF(C310=\"\",\"\",IF(J310=\"\",\"SIN RESPUESTA\",(IF(J310<=M310,\"A TIEMPO\",\"FUERA DE TIEMPO\"))))","v":"A TIEMPO"},{"$f":"IF(J310=\"\",\"\",NETWORKDAYS(C310+1,J310,DiasNOLaborables))","v":20},"",null,null,20]
[300,20219050043442,"2021-04-09","ACADEMIA","MODULO CONTACTENOS","SOLICITUD DE INFORMACIÓN Y DOCUMENTOS","SOLICITUD DE INFORMACIÓN HIDROMETEOROLÓGICA","NO","GRUPO DE SERVICIO AL CIUDADANO ","2021-05-07","CORREO ELECTRÓNICO",null,{"$f":"IFERROR(WORKDAY(C311,S310,DiasNOLaborables),\"\")","v":"2021-05-07"},{"$f":"+IF(C311=\"\",\"\",IF(J311=\"\",\"SIN RESPUESTA\",(IF(J311<=M311,\"A TIEMPO\",\"FUERA DE TIEMPO\"))))","v":"A TIEMPO"},{"$f":"IF(J311=\"\",\"\",NETWORKDAYS(C311+1,J311,DiasNOLaborables))","v":20},"",null,null,20]
[301,20219050043472,"2021-04-09","CIUDADANO","MODULO CONTACTENOS","SOLICITUD DE INFORMACIÓN Y DOCUMENTOS","SOLICITUD DE INFORMACIÓN HIDROMETEOROLÓGICA","NO","GRUPO DE SERVICIO AL CIUDADANO ","2021-05-07","CORREO ELECTRÓNICO",null,{"$f":"IFERROR(WORKDAY(C312,S311,DiasNOLaborables),\"\")","v":"2021-05-07"},{"$f":"+IF(C312=\"\",\"\",IF(J312=\"\",\"SIN RESPUESTA\",(IF(J312<=M312,\"A TIEMPO\",\"FUERA DE TIEMPO\"))))","v":"A TIEMPO"},{"$f":"IF(J312=\"\",\"\",NETWORKDAYS(C312+1,J312,DiasNOLaborables))","v":20},"",null,null,20]
[302,20219050043542,"2021-04-09","ACADEMIA","MODULO CONTACTENOS","SOLICITUD DE INFORMACIÓN Y DOCUMENTOS","SOLICITUD DE INFORMACIÓN HIDROMETEOROLÓGICA","NO","GRUPO DE SERVICIO AL CIUDADANO ","2021-05-07","CORREO ELECTRÓNICO",null,{"$f":"IFERROR(WORKDAY(C313,S312,DiasNOLaborables),\"\")","v":"2021-05-07"},{"$f":"+IF(C313=\"\",\"\",IF(J313=\"\",\"SIN RESPUESTA\",(IF(J313<=M313,\"A TIEMPO\",\"FUERA DE TIEMPO\"))))","v":"A TIEMPO"},{"$f":"IF(J313=\"\",\"\",NETWORKDAYS(C313+1,J313,DiasNOLaborables))","v":20},"",null,null,20]
[303,20219050043562,"2021-04-09","CIUDADANO","MODULO CONTACTENOS","SOLICITUD DE INFORMACIÓN Y DOCUMENTOS","SOLICITUD DE INFORMACIÓN HIDROMETEOROLÓGICA","NO","GRUPO DE SERVICIO AL CIUDADANO ","2021-05-07","CORREO ELECTRÓNICO",null,{"$f":"IFERROR(WORKDAY(C314,S313,DiasNOLaborables),\"\")","v":"2021-05-07"},{"$f":"+IF(C314=\"\",\"\",IF(J314=\"\",\"SIN RESPUESTA\",(IF(J314<=M314,\"A TIEMPO\",\"FUERA DE TIEMPO\"))))","v":"A TIEMPO"},{"$f":"IF(J314=\"\",\"\",NETWORKDAYS(C314+1,J314,DiasNOLaborables))","v":20},"",null,null,20]
[304,20219050043582,"2021-04-09","ACADEMIA","MODULO CONTACTENOS","SOLICITUD DE INFORMACIÓN Y DOCUMENTOS","SOLICITUD DE INFORMACIÓN HIDROMETEOROLÓGICA","NO","GRUPO DE SERVICIO AL CIUDADANO ","2021-05-07","CORREO ELECTRÓNICO",null,{"$f":"IFERROR(WORKDAY(C315,S314,DiasNOLaborables),\"\")","v":"2021-05-07"},{"$f":"+IF(C315=\"\",\"\",IF(J315=\"\",\"SIN RESPUESTA\",(IF(J315<=M315,\"A TIEMPO\",\"FUERA DE TIEMPO\"))))","v":"A TIEMPO"},{"$f":"IF(J315=\"\",\"\",NETWORKDAYS(C315+1,J315,DiasNOLaborables))","v":20},"",null,null,20]
[305,20219050043592,"2021-04-09","CIUDADANO","MODULO CONTACTENOS","SOLICITUD DE INFORMACIÓN Y DOCUMENTOS","SOLICITUD DE INFORMACIÓN HIDROMETEOROLÓGICA","NO","GRUPO DE SERVICIO AL CIUDADANO ","2021-05-07","CORREO ELECTRÓNICO",null,{"$f":"IFERROR(WORKDAY(C316,S315,DiasNOLaborables),\"\")","v":"2021-05-07"},{"$f":"+IF(C316=\"\",\"\",IF(J316=\"\",\"SIN RESPUESTA\",(IF(J316<=M316,\"A TIEMPO\",\"FUERA DE TIEMPO\"))))","v":"A TIEMPO"},{"$f":"IF(J316=\"\",\"\",NETWORKDAYS(C316+1,J316,DiasNOLaborables))","v":20},"",null,null,20]
[306,20219910019752,"2021-04-09","CIUDADANO","MODULO CONTACTENOS","SOLICITUD DE INFORMACIÓN Y DOCUMENTOS","SOLICITUD DE INFORMACIÓN HIDROMETEOROLÓGICA","NO","GRUPO DE SERVICIO AL CIUDADANO ","2021-05-07","CORREO ELECTRÓNICO",null,{"$f":"IFERROR(WORKDAY(C317,S316,DiasNOLaborables),\"\")","v":"2021-05-07"},{"$f":"+IF(C317=\"\",\"\",IF(J317=\"\",\"SIN RESPUESTA\",(IF(J317<=M317,\"A TIEMPO\",\"FUERA DE TIEMPO\"))))","v":"A TIEMPO"},{"$f":"IF(J317=\"\",\"\",NETWORKDAYS(C317+1,J317,DiasNOLaborables))","v":20},"",null,null,20]
[307,20219050043832,"2021-04-09","CIUDADANO","MODULO CONTACTENOS","SOLICITUD DE INFORMACIÓN Y DOCUMENTOS","SOLICITUD DE INFORMACIÓN HIDROMETEOROLÓGICA","NO","GRUPO DE SERVICIO AL CIUDADANO ","2021-05-07","CORREO ELECTRÓNICO",null,{"$f":"IFERROR(WORKDAY(C318,S317,DiasNOLaborables),\"\")","v":"2021-05-07"},{"$f":"+IF(C318=\"\",\"\",IF(J318=\"\",\"SIN RESPUESTA\",(IF(J318<=M318,\"A TIEMPO\",\"FUERA DE TIEMPO\"))))","v":"A TIEMPO"},{"$f":"IF(J318=\"\",\"\",NETWORKDAYS(C318+1,J318,DiasNOLaborables))","v":20},"",null,null,20]
[308,20219050043772,"2021-04-09","CIUDADANO","MODULO CONTACTENOS","SOLICITUD DE INFORMACIÓN Y DOCUMENTOS","SOLICITUD DE INFORMACIÓN HIDROMETEOROLÓGICA","NO","GRUPO DE SERVICIO AL CIUDADANO ","2021-05-07","CORREO ELECTRÓNICO",null,{"$f":"IFERROR(WORKDAY(C319,S318,DiasNOLaborables),\"\")","v":"2021-05-07"},{"$f":"+IF(C319=\"\",\"\",IF(J319=\"\",\"SIN RESPUESTA\",(IF(J319<=M319,\"A TIEMPO\",\"FUERA DE TIEMPO\"))))","v":"A TIEMPO"},{"$f":"IF(J319=\"\",\"\",NETWORKDAYS(C319+1,J319,DiasNOLaborables))","v":20},"",null,null,20]
[309,20219050043762,"2021-04-09","CIUDADANO","MODULO CONTACTENOS","SOLICITUD DE INFORMACIÓN Y DOCUMENTOS","SOLICITUD DE INFORMACIÓN HIDROMETEOROLÓGICA","NO","GRUPO DE SERVICIO AL CIUDADANO ","2021-05-07","CORREO ELECTRÓNICO",null,{"$f":"IFERROR(WORKDAY(C320,S319,DiasNOLaborables),\"\")","v":"2021-05-07"},{"$f":"+IF(C320=\"\",\"\",IF(J320=\"\",\"SIN RESPUESTA\",(IF(J320<=M320,\"A TIEMPO\",\"FUERA DE TIEMPO\"))))","v":"A TIEMPO"},{"$f":"IF(J320=\"\",\"\",NETWORKDAYS(C320+1,J320,DiasNOLaborables))","v":20},"",null,null,20]
[310,20219050043842,"2021-04-10","CIUDADANO","MODULO CONTACTENOS","SOLICITUD DE INFORMACIÓN Y DOCUMENTOS","SOLICITUD DE INFORMACIÓN HIDROMETEOROLÓGICA","NO","GRUPO DE SERVICIO AL CIUDADANO ","2021-05-07","CORREO ELECTRÓNICO",null,{"$f":"IFERROR(WORKDAY(C321,S320,DiasNOLaborables),\"\")","v":"2021-05-07"},{"$f":"+IF(C321=\"\",\"\",IF(J321=\"\",\"SIN RESPUESTA\",(IF(J321<=M321,\"A TIEMPO\",\"FUERA DE TIEMPO\"))))","v":"A TIEMPO"},{"$f":"IF(J321=\"\",\"\",NETWORKDAYS(C321+1,J321,DiasNOLaborables))","v":20},"",null,null,20]
[311,20219050043872,"2021-04-10","ACADEMIA","MODULO CONTACTENOS","SOLICITUD DE INFORMACIÓN Y DOCUMENTOS","SOLICITUD DE INFORMACIÓN HIDROMETEOROLÓGICA","NO","GRUPO DE SERVICIO AL CIUDADANO ","2021-05-07","CORREO ELECTRÓNICO",null,{"$f":"IFERROR(WORKDAY(C322,S321,DiasNOLaborables),\"\")","v":"2021-05-07"},{"$f":"+IF(C322=\"\",\"\",IF(J322=\"\",\"SIN RESPUESTA\",(IF(J322<=M322,\"A TIEMPO\",\"FUERA DE TIEMPO\"))))","v":"A TIEMPO"},{"$f":"IF(J322=\"\",\"\",NETWORKDAYS(C322+1,J322,DiasNOLaborables))","v":20},"",null,null,20]
[312,20219050043882,"2021-04-10","CIUDADANO","MODULO CONTACTENOS","SOLICITUD DE INFORMACIÓN Y DOCUMENTOS","SOLICITUD DE INFORMACIÓN HIDROMETEOROLÓGICA","NO","GRUPO DE SERVICIO AL CIUDADANO ","2021-05-07","CORREO ELECTRÓNICO",null,{"$f":"IFERROR(WORKDAY(C323,S322,DiasNOLaborables),\"\")","v":"2021-05-07"},{"$f":"+IF(C323=\"\",\"\",IF(J323=\"\",\"SIN RESPUESTA\",(IF(J323<=M323,\"A TIEMPO\",\"FUERA DE TIEMPO\"))))","v":"A TIEMPO"},{"$f":"IF(J323=\"\",\"\",NETWORKDAYS(C323+1,J323,DiasNOLaborables))","v":20},"",null,null,20]
[313,20219050043892,"2021-04-10","CIUDADANO","MODULO CONTACTENOS","SOLICITUD DE INFORMACIÓN Y DOCUMENTOS","SOLICITUD DE INFORMACIÓN HIDROMETEOROLÓGICA","NO","GRUPO DE SERVICIO AL CIUDADANO ","2021-05-07","CORREO ELECTRÓNICO",null,{"$f":"IFERROR(WORKDAY(C324,S323,DiasNOLaborables),\"\")","v":"2021-05-07"},{"$f":"+IF(C324=\"\",\"\",IF(J324=\"\",\"SIN RESPUESTA\",(IF(J324<=M324,\"A TIEMPO\",\"FUERA DE TIEMPO\"))))","v":"A TIEMPO"},{"$f":"IF(J324=\"\",\"\",NETWORKDAYS(C324+1,J324,DiasNOLaborables))","v":20},"",null,null,20]
[314,20219050043902,"2021-04-10","ACADEMIA","MODULO CONTACTENOS","SOLICITUD DE INFORMACIÓN Y DOCUMENTOS","SOLICITUD DE INFORMACIÓN HIDROMETEOROLÓGICA","NO","GRUPO DE SERVICIO AL CIUDADANO ","2021-05-07","CORREO ELECTRÓNICO",null,{"$f":"IFERROR(WORKDAY(C325,S324,DiasNOLaborables),\"\")","v":"2021-05-07"},{"$f":"+IF(C325=\"\",\"\",IF(J325=\"\",\"SIN RESPUESTA\",(IF(J325<=M325,\"A TIEMPO\",\"FUERA DE TIEMPO\"))))","v":"A TIEMPO"},{"$f":"IF(J325=\"\",\"\",NETWORKDAYS(C325+1,J325,DiasNOLaborables))","v":20},"",null,null,20]
[315,20219050043912,"2021-04-10","ACADEMIA","MODULO CONTACTENOS","SOLICITUD DE INFORMACIÓN Y DOCUMENTOS","SOLICITUD DE INFORMACIÓN HIDROMETEOROLÓGICA","NO","GRUPO DE SERVICIO AL CIUDADANO ","2021-05-07","CORREO ELECTRÓNICO",null,{"$f":"IFERROR(WORKDAY(C326,S325,DiasNOLaborables),\"\")","v":"2021-05-07"},{"$f":"+IF(C326=\"\",\"\",IF(J326=\"\",\"SIN RESPUESTA\",(IF(J326<=M326,\"A TIEMPO\",\"FUERA DE TIEMPO\"))))","v":"A TIEMPO"},{"$f":"IF(J326=\"\",\"\",NETWORKDAYS(C326+1,J326,DiasNOLaborables))","v":20},"",null,null,20]
[316,20219050044042,"2021-04-10","CIUDADANO","MODULO CONTACTENOS","SOLICITUD DE INFORMACIÓN Y DOCUMENTOS","SOLICITUD DE INFORMACIÓN HIDROMETEOROLÓGICA","NO","GRUPO DE SERVICIO AL CIUDADANO ","2021-05-07","CORREO ELECTRÓNICO",null,{"$f":"IFERROR(WORKDAY(C327,S326,DiasNOLaborables),\"\")","v":"2021-05-07"},{"$f":"+IF(C327=\"\",\"\",IF(J327=\"\",\"SIN RESPUESTA\",(IF(J327<=M327,\"A TIEMPO\",\"FUERA DE TIEMPO\"))))","v":"A TIEMPO"},{"$f":"IF(J327=\"\",\"\",NETWORKDAYS(C327+1,J327,DiasNOLaborables))","v":20},"",null,null,20]
[317,20219050043942,"2021-04-10","CIUDADANO","MODULO CONTACTENOS","SOLICITUD DE INFORMACIÓN Y DOCUMENTOS","SOLICITUD DE INFORMACIÓN HIDROMETEOROLÓGICA","NO","GRUPO DE SERVICIO AL CIUDADANO ","2021-05-07","CORREO ELECTRÓNICO",null,{"$f":"IFERROR(WORKDAY(C328,S327,DiasNOLaborables),\"\")","v":"2021-05-07"},{"$f":"+IF(C328=\"\",\"\",IF(J328=\"\",\"SIN RESPUESTA\",(IF(J328<=M328,\"A TIEMPO\",\"FUERA DE TIEMPO\"))))","v":"A TIEMPO"},{"$f":"IF(J328=\"\",\"\",NETWORKDAYS(C328+1,J328,DiasNOLaborables))","v":20},"",null,null,20]
[318,20219050043952,"2021-04-10","ACADEMIA","MODULO CONTACTENOS","SOLICITUD DE INFORMACIÓN Y DOCUMENTOS","SOLICITUD DE INFORMACIÓN HIDROMETEOROLÓGICA","NO","GRUPO DE SERVICIO AL CIUDADANO ","2021-05-07","CORREO ELECTRÓNICO",null,{"$f":"IFERROR(WORKDAY(C329,S328,DiasNOLaborables),\"\")","v":"2021-05-07"},{"$f":"+IF(C329=\"\",\"\",IF(J329=\"\",\"SIN RESPUESTA\",(IF(J329<=M329,\"A TIEMPO\",\"FUERA DE TIEMPO\"))))","v":"A TIEMPO"},{"$f":"IF(J329=\"\",\"\",NETWORKDAYS(C329+1,J329,DiasNOLaborables))","v":20},"",null,null,20]
[319,20219050043962,"2021-04-10","ACADEMIA","MODULO CONTACTENOS","SOLICITUD DE INFORMACIÓN Y DOCUMENTOS","SOLICITUD DE INFORMACIÓN HIDROMETEOROLÓGICA","NO","GRUPO DE SERVICIO AL CIUDADANO ","2021-05-07","CORREO ELECTRÓNICO",null,{"$f":"IFERROR(WORKDAY(C330,S329,DiasNOLaborables),\"\")","v":"2021-05-07"},{"$f":"+IF(C330=\"\",\"\",IF(J330=\"\",\"SIN RESPUESTA\",(IF(J330<=M330,\"A TIEMPO\",\"FUERA DE TIEMPO\"))))","v":"A TIEMPO"},{"$f":"IF(J330=\"\",\"\",NETWORKDAYS(C330+1,J330,DiasNOLaborables))","v":20},"",null,null,20]
[320,20219050043972,"2021-04-10","CIUDADANO","MODULO CONTACTENOS","SOLICITUD DE INFORMACIÓN Y DOCUMENTOS","SOLICITUD DE INFORMACIÓN HIDROMETEOROLÓGICA","NO","GRUPO DE SERVICIO AL CIUDADANO ","2021-05-07","CORREO ELECTRÓNICO",null,{"$f":"IFERROR(WORKDAY(C331,S330,DiasNOLaborables),\"\")","v":"2021-05-07"},{"$f":"+IF(C331=\"\",\"\",IF(J331=\"\",\"SIN RESPUESTA\",(IF(J331<=M331,\"A TIEMPO\",\"FUERA DE TIEMPO\"))))","v":"A TIEMPO"},{"$f":"IF(J331=\"\",\"\",NETWORKDAYS(C331+1,J331,DiasNOLaborables))","v":20},"",null,null,20]
[321,20219050044012,"2021-04-10","CIUDADANO","MODULO CONTACTENOS","SOLICITUD DE INFORMACIÓN Y DOCUMENTOS","SOLICITUD DE INFORMACIÓN HIDROMETEOROLÓGICA","NO","GRUPO DE SERVICIO AL CIUDADANO ","2021-05-07","CORREO ELECTRÓNICO",null,{"$f":"IFERROR(WORKDAY(C332,S331,DiasNOLaborables),\"\")","v":"2021-05-07"},{"$f":"+IF(C332=\"\",\"\",IF(J332=\"\",\"SIN RESPUESTA\",(IF(J332<=M332,\"A TIEMPO\",\"FUERA DE TIEMPO\"))))","v":"A TIEMPO"},{"$f":"IF(J332=\"\",\"\",NETWORKDAYS(C332+1,J332,DiasNOLaborables))","v":20},"",null,null,20]
[322,20219050044022,"2021-04-10","CIUDADANO","MODULO CONTACTENOS","SOLICITUD DE INFORMACIÓN Y DOCUMENTOS","SOLICITUD DE INFORMACIÓN HIDROMETEOROLÓGICA","NO","GRUPO DE SERVICIO AL CIUDADANO ","2021-05-07","CORREO ELECTRÓNICO",null,{"$f":"IFERROR(WORKDAY(C333,S332,DiasNOLaborables),\"\")","v":"2021-05-07"},{"$f":"+IF(C333=\"\",\"\",IF(J333=\"\",\"SIN RESPUESTA\",(IF(J333<=M333,\"A TIEMPO\",\"FUERA DE TIEMPO\"))))","v":"A TIEMPO"},{"$f":"IF(J333=\"\",\"\",NETWORKDAYS(C333+1,J333,DiasNOLaborables))","v":20},"",null,null,{"$f":"IFERROR(VLOOKUP(F334,$AA$51:$AB$64,2),\"\")","v":20}]
[{"$f":"IF(B334<>\"\",A333+1,\"\")","v":323},20219050044102,"2021-04-10","ACADEMIA ","MODULO CONTACTENOS","SOLICITUD DE INFORMACIÓN Y DOCUMENTOS","SOLICITUD DE INFORMACIÓN HIDROMETEOROLÓGICA","NO","GRUPO DE SERVICIO AL CIUDADANO ","2021-04-30","CORREO ELECTRÓNICO",null,{"$f":"IFERROR(WORKDAY(C334,S333,DiasNOLaborables),\"\")","v":"2021-05-07"},{"$f":"+IF(C334=\"\",\"\",IF(J334=\"\",\"SIN RESPUESTA\",(IF(J334<=M334,\"A TIEMPO\",\"FUERA DE TIEMPO\"))))","v":"A TIEMPO"},{"$f":"IF(J334=\"\",\"\",NETWORKDAYS(C334+1,J334,DiasNOLaborables))","v":15},"",null,null,35]
[324,20219050044032,"2021-04-10","CIUDADANO","CORREO ELECTRÓNICO","CERTIFICACIONES DE TIEMPO, CLIMA Y EVENTOS HIDROLÓGICOS","CERTIFICACIONES DE TIEMPO Y CLIMA","SI","SUBDIRECCIÓN DE METEOROLOGÍA","2021-04-20","CORREO ELECTRÓNICO",null,{"$f":"IFERROR(WORKDAY(C335,S334,DiasNOLaborables),\"\")","v":"2021-05-31"},{"$f":"+IF(C335=\"\",\"\",IF(J335=\"\",\"SIN RESPUESTA\",(IF(J335<=M335,\"A TIEMPO\",\"FUERA DE TIEMPO\"))))","v":"A TIEMPO"},{"$f":"IF(J335=\"\",\"\",NETWORKDAYS(C335+1,J335,DiasNOLaborables))","v":7},{"$f":"IF(NETWORKDAYS(M335+1,J335,DiasNOLaborables)<=0,\"\",NETWORKDAYS(M335+1,J335,DiasNOLaborables))","v":""},null,null,20]
[325,20219050044052,"2021-04-10","CIUDADANO","CORREO ELECTRÓNICO","SOLICITUD DE INFORMACIÓN Y DOCUMENTOS","CAMBIO CLIMÁTICO","SI","SUBDIRECCIÓN DE ESTUDIOS AMBIENTALES","2021-04-25","CORREO ELECTRÓNICO",null,{"$f":"IFERROR(WORKDAY(C336,S335,DiasNOLaborables),\"\")","v":"2021-05-07"},{"$f":"+IF(C336=\"\",\"\",IF(J336=\"\",\"SIN RESPUESTA\",(IF(J336<=M336,\"A TIEMPO\",\"FUERA DE TIEMPO\"))))","v":"A TIEMPO"},{"$f":"IF(J336=\"\",\"\",NETWORKDAYS(C336+1,J336,DiasNOLaborables))","v":10},"",null,null,20]
[326,20219050044062,"2021-04-10","CIUDADANO","CORREO ELECTRÓNICO","SOLICITUD DE INFORMACIÓN Y DOCUMENTOS","AGUAS SUBTERRANEAS","SI","SUBDIRECCIÓN DE HIDROLOGÍA","2021-04-20","CORREO ELECTRÓNICO",null,{"$f":"IFERROR(WORKDAY(C337,S336,DiasNOLaborables),\"\")","v":"2021-05-07"},{"$f":"+IF(C337=\"\",\"\",IF(J337=\"\",\"SIN RESPUESTA\",(IF(J337<=M337,\"A TIEMPO\",\"FUERA DE TIEMPO\"))))","v":"A TIEMPO"},{"$f":"IF(J337=\"\",\"\",NETWORKDAYS(C337+1,J337,DiasNOLaborables))","v":7},"",null,null,35]
[327,20219050044112,"2021-04-11","EMPRESA PRIVADA","CORREO ELECTRÓNICO","CERTIFICACIONES DE TIEMPO, CLIMA Y EVENTOS HIDROLÓGICOS","CERTIFICACIONES DE TIEMPO Y CLIMA","SI","SUBDIRECCIÓN DE METEOROLOGÍA","2021-04-28","CORREO ELECTRÓNICO",null,{"$f":"IFERROR(WORKDAY(C338,S337,DiasNOLaborables),\"\")","v":"2021-05-31"},{"$f":"+IF(C338=\"\",\"\",IF(J338=\"\",\"SIN RESPUESTA\",(IF(J338<=M338,\"A TIEMPO\",\"FUERA DE TIEMPO\"))))","v":"A TIEMPO"},{"$f":"IF(J338=\"\",\"\",NETWORKDAYS(C338+1,J338,DiasNOLaborables))","v":13},"",null,null,20]
[328,20219050044122,"2021-04-11","CIUDADANO","CORREO ELECTRÓNICO","SOLICITUD DE INFORMACIÓN Y DOCUMENTOS","AGUAS SUBTERRANEAS","SI","SUBDIRECCIÓN DE HIDROLOGÍA","2021-04-26","CORREO ELECTRÓNICO",null,{"$f":"IFERROR(WORKDAY(C339,S338,DiasNOLaborables),\"\")","v":"2021-05-07"},{"$f":"+IF(C339=\"\",\"\",IF(J339=\"\",\"SIN RESPUESTA\",(IF(J339<=M339,\"A TIEMPO\",\"FUERA DE TIEMPO\"))))","v":"A TIEMPO"},{"$f":"IF(J339=\"\",\"\",NETWORKDAYS(C339+1,J339,DiasNOLaborables))","v":11},"",null,null,20]
[329,20219050044132,"2021-04-11","CIUDADANO","CORREO ELECTRÓNICO","SOLICITUD DE INFORMACIÓN Y DOCUMENTOS","INFORMES AMBIENTALES","SI","SUBDIRECCIÓN DE ESTUDIOS AMBIENTALES","2021-04-21","CORREO ELECTRÓNICO",null,{"$f":"IFERROR(WORKDAY(C340,S339,DiasNOLaborables),\"\")","v":"2021-05-07"},{"$f":"+IF(C340=\"\",\"\",IF(J340=\"\",\"SIN RESPUESTA\",(IF(J340<=M340,\"A TIEMPO\",\"FUERA DE TIEMPO\"))))","v":"A TIEMPO"},{"$f":"IF(J340=\"\",\"\",NETWORKDAYS(C340+1,J340,DiasNOLaborables))","v":8},"",null,null,30]
[330,20219050044142,"2021-04-11","CIUDADANO","CORREO ELECTRÓNICO","PETICIÓN","ADMINISTRATIVA","SI","OFICINA ASESORA JURÍDICA","2021-04-30","CORREO ELECTRÓNICO",null,{"$f":"IFERROR(WORKDAY(C341,S340,DiasNOLaborables),\"\")","v":"2021-05-24"},{"$f":"+IF(C341=\"\",\"\",IF(J341=\"\",\"SIN RESPUESTA\",(IF(J341<=M341,\"A TIEMPO\",\"FUERA DE TIEMPO\"))))","v":"A TIEMPO"},{"$f":"IF(J341=\"\",\"\",NETWORKDAYS(C341+1,J341,DiasNOLaborables))","v":15},"",null,null,30]
[331,20219050044152,"2021-04-11","ENTIDAD PÚBLICA","CORREO ELECTRÓNICO","PETICIÓN","OPERACIÓN DE REDES","SI","DIRECCIÓN GENERAL","2021-04-28","CORREO ELECTRÓNICO",null,{"$f":"IFERROR(WORKDAY(C342,S341,DiasNOLaborables),\"\")","v":"2021-05-24"},{"$f":"+IF(C342=\"\",\"\",IF(J342=\"\",\"SIN RESPUESTA\",(IF(J342<=M342,\"A TIEMPO\",\"FUERA DE TIEMPO\"))))","v":"A TIEMPO"},{"$f":"IF(J342=\"\",\"\",NETWORKDAYS(C342+1,J342,DiasNOLaborables))","v":13},"",null,null,20]
[332,20219050044182,"2021-04-11","ENTIDAD PÚBLICA","CORREO ELECTRÓNICO","SOLICITUD DE INFORMACIÓN Y DOCUMENTOS","JURIDICO","SI","OFICINA ASESORA JURÍDICA","2021-05-26","CORREO ELECTRÓNICO",null,{"$f":"IFERROR(WORKDAY(C343,S342,DiasNOLaborables),\"\")","v":"2021-05-07"},{"$f":"+IF(C343=\"\",\"\",IF(J343=\"\",\"SIN RESPUESTA\",(IF(J343<=M343,\"A TIEMPO\",\"FUERA DE TIEMPO\"))))","v":"FUERA DE TIEMPO"},{"$f":"IF(J343=\"\",\"\",NETWORKDAYS(C343+1,J343,DiasNOLaborables))","v":32},12,null,null,20]
[333,20219050044192,"2021-04-11","CIUDADANO","CORREO ELECTRÓNICO","SOLICITUD DE INFORMACIÓN Y DOCUMENTOS","ACREDITACIÓN DE LABORATORIOS","SI","SUBDIRECCIÓN DE ESTUDIOS AMBIENTALES","2021-04-26","CORREO ELECTRÓNICO",null,{"$f":"IFERROR(WORKDAY(C344,S343,DiasNOLaborables),\"\")","v":"2021-05-07"},{"$f":"+IF(C344=\"\",\"\",IF(J344=\"\",\"SIN RESPUESTA\",(IF(J344<=M344,\"A TIEMPO\",\"FUERA DE TIEMPO\"))))","v":"A TIEMPO"},{"$f":"IF(J344=\"\",\"\",NETWORKDAYS(C344+1,J344,DiasNOLaborables))","v":11},"",null,null,35]
[334,20219050044202,"2021-04-11","EMPRESA PRIVADA","CORREO ELECTRÓNICO","CERTIFICACIONES DE TIEMPO, CLIMA Y EVENTOS HIDROLÓGICOS","CERTIFICACIONES DE TIEMPO Y CLIMA","SI","SUBDIRECCIÓN DE METEOROLOGÍA","2021-04-22","CORREO ELECTRÓNICO",null,{"$f":"IFERROR(WORKDAY(C345,S344,DiasNOLaborables),\"\")","v":"2021-05-31"},{"$f":"+IF(C345=\"\",\"\",IF(J345=\"\",\"SIN RESPUESTA\",(IF(J345<=M345,\"A TIEMPO\",\"FUERA DE TIEMPO\"))))","v":"A TIEMPO"},{"$f":"IF(J345=\"\",\"\",NETWORKDAYS(C345+1,J345,DiasNOLaborables))","v":9},"",null,null,35]
[335,20219050044222,"2021-04-11","EMPRESA PRIVADA","CORREO ELECTRÓNICO","CERTIFICACIONES DE TIEMPO, CLIMA Y EVENTOS HIDROLÓGICOS","CERTIFICACIONES DE TIEMPO Y CLIMA","SI","SUBDIRECCIÓN DE METEOROLOGÍA","2021-04-22","CORREO ELECTRÓNICO",null,{"$f":"IFERROR(WORKDAY(C346,S345,DiasNOLaborables),\"\")","v":"2021-05-31"},{"$f":"+IF(C346=\"\",\"\",IF(J346=\"\",\"SIN RESPUESTA\",(IF(J346<=M346,\"A TIEMPO\",\"FUERA DE TIEMPO\"))))","v":"A TIEMPO"},{"$f":"IF(J346=\"\",\"\",NETWORKDAYS(C346+1,J346,DiasNOLaborables))","v":9},"",null,null,35]
[336,20219050044232,"2021-04-11","EMPRESA PRIVADA","CORREO ELECTRÓNICO","CERTIFICACIONES DE TIEMPO, CLIMA Y EVENTOS HIDROLÓGICOS","CERTIFICACIONES DE TIEMPO Y CLIMA","SI","SUBDIRECCIÓN DE METEOROLOGÍA","2021-04-22","CORREO ELECTRÓNICO",null,{"$f":"IFERROR(WORKDAY(C347,S346,DiasNOLaborables),\"\")","v":"2021-05-31"},{"$f":"+IF(C347=\"\",\"\",IF(J347=\"\",\"SIN RESPUESTA\",(IF(J347<=M347,\"A TIEMPO\",\"FUERA DE TIEMPO\"))))","v":"A TIEMPO"},{"$f":"IF(J347=\"\",\"\",NETWORKDAYS(C347+1,J347,DiasNOLaborables))","v":9},"",null,null,20]
[337,20219050044282,"2021-04-11","ENTIDAD PÚBLICA","CORREO ELECTRÓNICO","SOLICITUD DE INFORMACIÓN Y DOCUMENTOS","REGISTROS AMBIENTALES","SI","SUBDIRECCIÓN DE ESTUDIOS AMBIENTALES","2021-04-12","CORREO ELECTRÓNICO",null,{"$f":"IFERROR(WORKDAY(C348,S347,DiasNOLaborables),\"\")","v":"2021-05-07"},{"$f":"+IF(C348=\"\",\"\",IF(J348=\"\",\"SIN RESPUESTA\",(IF(J348<=M348,\"A TIEMPO\",\"FUERA DE TIEMPO\"))))","v":"A TIEMPO"},{"$f":"IF(J348=\"\",\"\",NETWORKDAYS(C348+1,J348,DiasNOLaborables))","v":1},"",null,null,20]
[338,20219050044292,"2021-04-11","EMPRESA PRIVADA","CORREO ELECTRÓNICO","SOLICITUD DE INFORMACIÓN Y DOCUMENTOS","SUELOS Y TIERRAS","SI","SUBDIRECCIÓN DE ECOSISTEMAS E INFORMACIÓN AMBIENTAL","2021-04-16","CORREO ELECTRÓNICO",null,{"$f":"IFERROR(WORKDAY(C349,S348,DiasNOLaborables),\"\")","v":"2021-05-07"},{"$f":"+IF(C349=\"\",\"\",IF(J349=\"\",\"SIN RESPUESTA\",(IF(J349<=M349,\"A TIEMPO\",\"FUERA DE TIEMPO\"))))","v":"A TIEMPO"},{"$f":"IF(J349=\"\",\"\",NETWORKDAYS(C349+1,J349,DiasNOLaborables))","v":5},"",null,null,20]
[339,20219050044302,"2021-04-11","FUNCIONARIO IDEAM","CORREO ELECTRÓNICO","SOLICITUD DE INFORMACIÓN Y DOCUMENTOS","ADMINISTRATIVA","SI","GRUPO DE ADMINISTRACIÓN Y DESARROLLO DEL TALENTO HUMANO","2021-04-14","CORREO ELECTRÓNICO",null,{"$f":"IFERROR(WORKDAY(C350,S349,DiasNOLaborables),\"\")","v":"2021-05-07"},{"$f":"+IF(C350=\"\",\"\",IF(J350=\"\",\"SIN RESPUESTA\",(IF(J350<=M350,\"A TIEMPO\",\"FUERA DE TIEMPO\"))))","v":"A TIEMPO"},{"$f":"IF(J350=\"\",\"\",NETWORKDAYS(C350+1,J350,DiasNOLaborables))","v":3},"",null,null,35]
[340,20219050044322,"2021-04-11","EMPRESA PRIVADA","CORREO ELECTRÓNICO","CERTIFICACIONES DE TIEMPO, CLIMA Y EVENTOS HIDROLÓGICOS","CERTIFICACIONES DE TIEMPO Y CLIMA","SI","SUBDIRECCIÓN DE METEOROLOGÍA","2021-04-22","CORREO ELECTRÓNICO",null,{"$f":"IFERROR(WORKDAY(C351,S350,DiasNOLaborables),\"\")","v":"2021-05-31"},{"$f":"+IF(C351=\"\",\"\",IF(J351=\"\",\"SIN RESPUESTA\",(IF(J351<=M351,\"A TIEMPO\",\"FUERA DE TIEMPO\"))))","v":"A TIEMPO"},{"$f":"IF(J351=\"\",\"\",NETWORKDAYS(C351+1,J351,DiasNOLaborables))","v":9},"",null,null,20]
[341,20219050044332,"2021-04-11","EMPRESA PRIVADA","CORREO ELECTRÓNICO","SOLICITUD DE INFORMACIÓN Y DOCUMENTOS","REGISTROS AMBIENTALES","SI","SUBDIRECCIÓN DE ESTUDIOS AMBIENTALES","2021-04-12","CORREO ELECTRÓNICO",null,{"$f":"IFERROR(WORKDAY(C352,S351,DiasNOLaborables),\"\")","v":"2021-05-07"},{"$f":"+IF(C352=\"\",\"\",IF(J352=\"\",\"SIN RESPUESTA\",(IF(J352<=M352,\"A TIEMPO\",\"FUERA DE TIEMPO\"))))","v":"A TIEMPO"},{"$f":"IF(J352=\"\",\"\",NETWORKDAYS(C352+1,J352,DiasNOLaborables))","v":1},"",null,null,35]
[342,20219050044392,"2021-04-11","CIUDADANO","MODULO CONTACTENOS","CERTIFICACIONES DE TIEMPO, CLIMA Y EVENTOS HIDROLÓGICOS","CERTIFICACIONES DE TIEMPO Y CLIMA","SI","SUBDIRECCIÓN DE METEOROLOGÍA","2021-04-16","CORREO ELECTRÓNICO",null,{"$f":"IFERROR(WORKDAY(C353,S352,DiasNOLaborables),\"\")","v":"2021-05-31"},{"$f":"+IF(C353=\"\",\"\",IF(J353=\"\",\"SIN RESPUESTA\",(IF(J353<=M353,\"A TIEMPO\",\"FUERA DE TIEMPO\"))))","v":"A TIEMPO"},{"$f":"IF(J353=\"\",\"\",NETWORKDAYS(C353+1,J353,DiasNOLaborables))","v":5},"",null,null,20]
[343,20219050044172,"2021-04-11","ACADEMIA ","MODULO CONTACTENOS","SOLICITUD DE INFORMACIÓN Y DOCUMENTOS","SOLICITUD DE INFORMACIÓN HIDROMETEOROLÓGICA","SI","SUBDIRECCIÓN DE HIDROLOGÍA","2021-05-02","CORREO ELECTRÓNICO",null,{"$f":"IFERROR(WORKDAY(C354,S353,DiasNOLaborables),\"\")","v":"2021-05-07"},{"$f":"+IF(C354=\"\",\"\",IF(J354=\"\",\"SIN RESPUESTA\",(IF(J354<=M354,\"A TIEMPO\",\"FUERA DE TIEMPO\"))))","v":"A TIEMPO"},{"$f":"IF(J354=\"\",\"\",NETWORKDAYS(C354+1,J354,DiasNOLaborables))","v":15},"",null,null,20]
[344,20219050044212,"2021-04-11","CIUDADANO","MODULO CONTACTENOS","SOLICITUD DE INFORMACIÓN Y DOCUMENTOS","SOLICITUD DE INFORMACIÓN HIDROMETEOROLÓGICA","NO","GRUPO DE SERVICIO AL CIUDADANO ","2021-04-30","CORREO ELECTRÓNICO",null,{"$f":"IFERROR(WORKDAY(C355,S354,DiasNOLaborables),\"\")","v":"2021-05-07"},{"$f":"+IF(C355=\"\",\"\",IF(J355=\"\",\"SIN RESPUESTA\",(IF(J355<=M355,\"A TIEMPO\",\"FUERA DE TIEMPO\"))))","v":"A TIEMPO"},{"$f":"IF(J355=\"\",\"\",NETWORKDAYS(C355+1,J355,DiasNOLaborables))","v":15},"",null,null,20]
[345,20219050044252,"2021-04-11","ACADEMIA ","MODULO CONTACTENOS","SOLICITUD DE INFORMACIÓN Y DOCUMENTOS","SOLICITUD DE INFORMACIÓN HIDROMETEOROLÓGICA","NO","GRUPO DE SERVICIO AL CIUDADANO ","2021-04-30","CORREO ELECTRÓNICO",null,{"$f":"IFERROR(WORKDAY(C356,S355,DiasNOLaborables),\"\")","v":"2021-05-07"},{"$f":"+IF(C356=\"\",\"\",IF(J356=\"\",\"SIN RESPUESTA\",(IF(J356<=M356,\"A TIEMPO\",\"FUERA DE TIEMPO\"))))","v":"A TIEMPO"},{"$f":"IF(J356=\"\",\"\",NETWORKDAYS(C356+1,J356,DiasNOLaborables))","v":15},"",null,null,20]
[346,20219050044262,"2021-04-11","ACADEMIA ","MODULO CONTACTENOS","SOLICITUD DE INFORMACIÓN Y DOCUMENTOS","SOLICITUD DE INFORMACIÓN HIDROMETEOROLÓGICA","SI","SUBDIRECCIÓN DE ESTUDIOS AMBIENTALES","2021-05-02","CORREO ELECTRÓNICO",null,{"$f":"IFERROR(WORKDAY(C357,S356,DiasNOLaborables),\"\")","v":"2021-05-07"},{"$f":"+IF(C357=\"\",\"\",IF(J357=\"\",\"SIN RESPUESTA\",(IF(J357<=M357,\"A TIEMPO\",\"FUERA DE TIEMPO\"))))","v":"A TIEMPO"},{"$f":"IF(J357=\"\",\"\",NETWORKDAYS(C357+1,J357,DiasNOLaborables))","v":15},"",null,null,20]
[347,20219050044352,"2021-04-11","CIUDADANO","MODULO CONTACTENOS","SOLICITUD DE INFORMACIÓN Y DOCUMENTOS","SOLICITUD DE INFORMACIÓN HIDROMETEOROLÓGICA","SI","SUBDIRECCIÓN DE ESTUDIOS AMBIENTALES","2021-05-02","CORREO ELECTRÓNICO",null,{"$f":"IFERROR(WORKDAY(C358,S357,DiasNOLaborables),\"\")","v":"2021-05-07"},{"$f":"+IF(C358=\"\",\"\",IF(J358=\"\",\"SIN RESPUESTA\",(IF(J358<=M358,\"A TIEMPO\",\"FUERA DE TIEMPO\"))))","v":"A TIEMPO"},{"$f":"IF(J358=\"\",\"\",NETWORKDAYS(C358+1,J358,DiasNOLaborables))","v":15},"",null,null,20]
[348,20219050044362,"2021-04-11","ACADEMIA ","MODULO CONTACTENOS","SOLICITUD DE INFORMACIÓN Y DOCUMENTOS","SOLICITUD DE INFORMACIÓN HIDROMETEOROLÓGICA","NO","GRUPO DE SERVICIO AL CIUDADANO ","2021-05-02","CORREO ELECTRÓNICO",null,{"$f":"IFERROR(WORKDAY(C359,S358,DiasNOLaborables),\"\")","v":"2021-05-07"},{"$f":"+IF(C359=\"\",\"\",IF(J359=\"\",\"SIN RESPUESTA\",(IF(J359<=M359,\"A TIEMPO\",\"FUERA DE TIEMPO\"))))","v":"A TIEMPO"},{"$f":"IF(J359=\"\",\"\",NETWORKDAYS(C359+1,J359,DiasNOLaborables))","v":15},"",null,null,20]
[349,20219050044382,"2021-04-11","ACADEMIA ","MODULO CONTACTENOS","SOLICITUD DE INFORMACIÓN Y DOCUMENTOS","SOLICITUD DE INFORMACIÓN HIDROMETEOROLÓGICA","NO","GRUPO DE SERVICIO AL CIUDADANO ","2021-05-02","CORREO ELECTRÓNICO",null,{"$f":"IFERROR(WORKDAY(C360,S359,DiasNOLaborables),\"\")","v":"2021-05-07"},{"$f":"+IF(C360=\"\",\"\",IF(J360=\"\",\"SIN RESPUESTA\",(IF(J360<=M360,\"A TIEMPO\",\"FUERA DE TIEMPO\"))))","v":"A TIEMPO"},{"$f":"IF(J360=\"\",\"\",NETWORKDAYS(C360+1,J360,DiasNOLaborables))","v":15},"",null,null,20]
[350,20219050044402,"2021-04-11","CIUDADANO","MODULO CONTACTENOS","SOLICITUD DE INFORMACIÓN Y DOCUMENTOS","SOLICITUD DE INFORMACIÓN HIDROMETEOROLÓGICA","NO","GRUPO DE SERVICIO AL CIUDADANO ","2021-05-02","CORREO ELECTRÓNICO",null,{"$f":"IFERROR(WORKDAY(C361,S360,DiasNOLaborables),\"\")","v":"2021-05-07"},{"$f":"+IF(C361=\"\",\"\",IF(J361=\"\",\"SIN RESPUESTA\",(IF(J361<=M361,\"A TIEMPO\",\"FUERA DE TIEMPO\"))))","v":"A TIEMPO"},{"$f":"IF(J361=\"\",\"\",NETWORKDAYS(C361+1,J361,DiasNOLaborables))","v":15},"",null,null,20]
[351,20219050044422,"2021-04-11","ACADEMIA ","MODULO CONTACTENOS","SOLICITUD DE INFORMACIÓN Y DOCUMENTOS","SOLICITUD DE INFORMACIÓN HIDROMETEOROLÓGICA","SI","OFICINA DE INFORMÁTICA","2021-05-02","CORREO ELECTRÓNICO",null,{"$f":"IFERROR(WORKDAY(C362,S361,DiasNOLaborables),\"\")","v":"2021-05-07"},{"$f":"+IF(C362=\"\",\"\",IF(J362=\"\",\"SIN RESPUESTA\",(IF(J362<=M362,\"A TIEMPO\",\"FUERA DE TIEMPO\"))))","v":"A TIEMPO"},{"$f":"IF(J362=\"\",\"\",NETWORKDAYS(C362+1,J362,DiasNOLaborables))","v":15},"",null,null,20]
[352,20219050044432,"2021-04-11","ACADEMIA ","MODULO CONTACTENOS","SOLICITUD DE INFORMACIÓN Y DOCUMENTOS","SOLICITUD DE INFORMACIÓN HIDROMETEOROLÓGICA","NO","GRUPO DE SERVICIO AL CIUDADANO ","2021-05-02","CORREO ELECTRÓNICO",null,{"$f":"IFERROR(WORKDAY(C363,S362,DiasNOLaborables),\"\")","v":"2021-05-07"},{"$f":"+IF(C363=\"\",\"\",IF(J363=\"\",\"SIN RESPUESTA\",(IF(J363<=M363,\"A TIEMPO\",\"FUERA DE TIEMPO\"))))","v":"A TIEMPO"},{"$f":"IF(J363=\"\",\"\",NETWORKDAYS(C363+1,J363,DiasNOLaborables))","v":15},"",null,null,20]
[353,20219050044162,"2021-04-11","ACADEMIA","MODULO CONTACTENOS","SOLICITUD DE INFORMACIÓN Y DOCUMENTOS","SOLICITUD DE INFORMACIÓN HIDROMETEOROLÓGICA","NO","GRUPO DE SERVICIO AL CIUDADANO ","2021-05-07","CORREO ELECTRÓNICO",null,{"$f":"IFERROR(WORKDAY(C364,S363,DiasNOLaborables),\"\")","v":"2021-05-07"},{"$f":"+IF(C364=\"\",\"\",IF(J364=\"\",\"SIN RESPUESTA\",(IF(J364<=M364,\"A TIEMPO\",\"FUERA DE TIEMPO\"))))","v":"A TIEMPO"},{"$f":"IF(J364=\"\",\"\",NETWORKDAYS(C364+1,J364,DiasNOLaborables))","v":20},"",null,null,20]
[354,20219050044272,"2021-04-11","ACADEMIA","MODULO CONTACTENOS","SOLICITUD DE INFORMACIÓN Y DOCUMENTOS","SOLICITUD DE INFORMACIÓN HIDROMETEOROLÓGICA","NO","GRUPO DE SERVICIO AL CIUDADANO ","2021-05-07","CORREO ELECTRÓNICO",null,{"$f":"IFERROR(WORKDAY(C365,S364,DiasNOLaborables),\"\")","v":"2021-05-07"},{"$f":"+IF(C365=\"\",\"\",IF(J365=\"\",\"SIN RESPUESTA\",(IF(J365<=M365,\"A TIEMPO\",\"FUERA DE TIEMPO\"))))","v":"A TIEMPO"},{"$f":"IF(J365=\"\",\"\",NETWORKDAYS(C365+1,J365,DiasNOLaborables))","v":20},"",null,null,20]
[355,20219050044312,"2021-04-11","ACADEMIA","MODULO CONTACTENOS","SOLICITUD DE INFORMACIÓN Y DOCUMENTOS","SOLICITUD DE INFORMACIÓN HIDROMETEOROLÓGICA","NO","GRUPO DE SERVICIO AL CIUDADANO ","2021-05-07","CORREO ELECTRÓNICO",null,{"$f":"IFERROR(WORKDAY(C366,S365,DiasNOLaborables),\"\")","v":"2021-05-07"},{"$f":"+IF(C366=\"\",\"\",IF(J366=\"\",\"SIN RESPUESTA\",(IF(J366<=M366,\"A TIEMPO\",\"FUERA DE TIEMPO\"))))","v":"A TIEMPO"},{"$f":"IF(J366=\"\",\"\",NETWORKDAYS(C366+1,J366,DiasNOLaborables))","v":20},"",null,null,20]
[356,20219050044872,"2021-04-12","CIUDADANO","MODULO CONTACTENOS","SOLICITUD DE INFORMACIÓN Y DOCUMENTOS","SOLICITUD DE INFORMACIÓN HIDROMETEOROLÓGICA","NO","GRUPO DE SERVICIO AL CIUDADANO ","2021-05-10","CORREO ELECTRÓNICO",null,{"$f":"IFERROR(WORKDAY(C367,S366,DiasNOLaborables),\"\")","v":"2021-05-10"},{"$f":"+IF(C367=\"\",\"\",IF(J367=\"\",\"SIN RESPUESTA\",(IF(J367<=M367,\"A TIEMPO\",\"FUERA DE TIEMPO\"))))","v":"A TIEMPO"},{"$f":"IF(J367=\"\",\"\",NETWORKDAYS(C367+1,J367,DiasNOLaborables))","v":20},"",null,null,20]
[357,20219050044822,"2021-04-12","ACADEMIA","MODULO CONTACTENOS","SOLICITUD DE INFORMACIÓN Y DOCUMENTOS","SOLICITUD DE INFORMACIÓN HIDROMETEOROLÓGICA","NO","GRUPO DE SERVICIO AL CIUDADANO ","2021-05-10","CORREO ELECTRÓNICO",null,{"$f":"IFERROR(WORKDAY(C368,S367,DiasNOLaborables),\"\")","v":"2021-05-10"},{"$f":"+IF(C368=\"\",\"\",IF(J368=\"\",\"SIN RESPUESTA\",(IF(J368<=M368,\"A TIEMPO\",\"FUERA DE TIEMPO\"))))","v":"A TIEMPO"},{"$f":"IF(J368=\"\",\"\",NETWORKDAYS(C368+1,J368,DiasNOLaborables))","v":20},"",null,null,20]
[358,20219050044802,"2021-04-12","CIUDADANO","MODULO CONTACTENOS","SOLICITUD DE INFORMACIÓN Y DOCUMENTOS","SOLICITUD DE INFORMACIÓN HIDROMETEOROLÓGICA","NO","GRUPO DE SERVICIO AL CIUDADANO ","2021-05-10","CORREO ELECTRÓNICO",null,{"$f":"IFERROR(WORKDAY(C369,S368,DiasNOLaborables),\"\")","v":"2021-05-10"},{"$f":"+IF(C369=\"\",\"\",IF(J369=\"\",\"SIN RESPUESTA\",(IF(J369<=M369,\"A TIEMPO\",\"FUERA DE TIEMPO\"))))","v":"A TIEMPO"},{"$f":"IF(J369=\"\",\"\",NETWORKDAYS(C369+1,J369,DiasNOLaborables))","v":20},"",null,null,20]
[359,20219050044772,"2021-04-12","ACADEMIA","MODULO CONTACTENOS","SOLICITUD DE INFORMACIÓN Y DOCUMENTOS","SOLICITUD DE INFORMACIÓN HIDROMETEOROLÓGICA","NO","GRUPO DE SERVICIO AL CIUDADANO ","2021-05-10","CORREO ELECTRÓNICO",null,{"$f":"IFERROR(WORKDAY(C370,S369,DiasNOLaborables),\"\")","v":"2021-05-10"},{"$f":"+IF(C370=\"\",\"\",IF(J370=\"\",\"SIN RESPUESTA\",(IF(J370<=M370,\"A TIEMPO\",\"FUERA DE TIEMPO\"))))","v":"A TIEMPO"},{"$f":"IF(J370=\"\",\"\",NETWORKDAYS(C370+1,J370,DiasNOLaborables))","v":20},"",null,null,20]
[360,20219050045802,"2021-04-12","ACADEMIA","MODULO CONTACTENOS","SOLICITUD DE INFORMACIÓN Y DOCUMENTOS","SOLICITUD DE INFORMACIÓN HIDROMETEOROLÓGICA","NO","GRUPO DE SERVICIO AL CIUDADANO ","2021-05-10","CORREO ELECTRÓNICO",null,{"$f":"IFERROR(WORKDAY(C371,S370,DiasNOLaborables),\"\")","v":"2021-05-10"},{"$f":"+IF(C371=\"\",\"\",IF(J371=\"\",\"SIN RESPUESTA\",(IF(J371<=M371,\"A TIEMPO\",\"FUERA DE TIEMPO\"))))","v":"A TIEMPO"},{"$f":"IF(J371=\"\",\"\",NETWORKDAYS(C371+1,J371,DiasNOLaborables))","v":20},"",null,null,20]
[361,20219050044592,"2021-04-12","CIUDADANO","MODULO CONTACTENOS","SOLICITUD DE INFORMACIÓN Y DOCUMENTOS","SOLICITUD DE INFORMACIÓN HIDROMETEOROLÓGICA","NO","GRUPO DE SERVICIO AL CIUDADANO ","2021-05-05","CORREO ELECTRÓNICO",null,{"$f":"IFERROR(WORKDAY(C372,S371,DiasNOLaborables),\"\")","v":"2021-05-10"},{"$f":"+IF(C372=\"\",\"\",IF(J372=\"\",\"SIN RESPUESTA\",(IF(J372<=M372,\"A TIEMPO\",\"FUERA DE TIEMPO\"))))","v":"A TIEMPO"},{"$f":"IF(J372=\"\",\"\",NETWORKDAYS(C372+1,J372,DiasNOLaborables))","v":17},"",null,null,20]
[362,20219050044602,"2021-04-12","ACADEMIA","MODULO CONTACTENOS","SOLICITUD DE INFORMACIÓN Y DOCUMENTOS","SOLICITUD DE INFORMACIÓN HIDROMETEOROLÓGICA","NO","GRUPO DE SERVICIO AL CIUDADANO ","2021-05-10","CORREO ELECTRÓNICO",null,{"$f":"IFERROR(WORKDAY(C373,S372,DiasNOLaborables),\"\")","v":"2021-05-10"},{"$f":"+IF(C373=\"\",\"\",IF(J373=\"\",\"SIN RESPUESTA\",(IF(J373<=M373,\"A TIEMPO\",\"FUERA DE TIEMPO\"))))","v":"A TIEMPO"},{"$f":"IF(J373=\"\",\"\",NETWORKDAYS(C373+1,J373,DiasNOLaborables))","v":20},"",null,null,20]
[363,20219050044612,"2021-04-12","CIUDADANO","MODULO CONTACTENOS","SOLICITUD DE INFORMACIÓN Y DOCUMENTOS","SOLICITUD DE INFORMACIÓN HIDROMETEOROLÓGICA","NO","GRUPO DE SERVICIO AL CIUDADANO ","2021-05-10","CORREO ELECTRÓNICO",null,{"$f":"IFERROR(WORKDAY(C374,S373,DiasNOLaborables),\"\")","v":"2021-05-10"},{"$f":"+IF(C374=\"\",\"\",IF(J374=\"\",\"SIN RESPUESTA\",(IF(J374<=M374,\"A TIEMPO\",\"FUERA DE TIEMPO\"))))","v":"A TIEMPO"},{"$f":"IF(J374=\"\",\"\",NETWORKDAYS(C374+1,J374,DiasNOLaborables))","v":20},"",null,null,20]
[364,20219050044622,"2021-04-12","CIUDADANO","MODULO CONTACTENOS","SOLICITUD DE INFORMACIÓN Y DOCUMENTOS","SOLICITUD DE INFORMACIÓN HIDROMETEOROLÓGICA","NO","GRUPO DE SERVICIO AL CIUDADANO ","2021-05-10","CORREO ELECTRÓNICO",null,{"$f":"IFERROR(WORKDAY(C375,S374,DiasNOLaborables),\"\")","v":"2021-05-10"},{"$f":"+IF(C375=\"\",\"\",IF(J375=\"\",\"SIN RESPUESTA\",(IF(J375<=M375,\"A TIEMPO\",\"FUERA DE TIEMPO\"))))","v":"A TIEMPO"},{"$f":"IF(J375=\"\",\"\",NETWORKDAYS(C375+1,J375,DiasNOLaborables))","v":20},"",null,null,20]
[365,20219050044632,"2021-04-12","CIUDADANO","MODULO CONTACTENOS","SOLICITUD DE INFORMACIÓN Y DOCUMENTOS","SOLICITUD DE INFORMACIÓN HIDROMETEOROLÓGICA","NO","GRUPO DE SERVICIO AL CIUDADANO ","2021-05-10","CORREO ELECTRÓNICO",null,{"$f":"IFERROR(WORKDAY(C376,S375,DiasNOLaborables),\"\")","v":"2021-05-10"},{"$f":"+IF(C376=\"\",\"\",IF(J376=\"\",\"SIN RESPUESTA\",(IF(J376<=M376,\"A TIEMPO\",\"FUERA DE TIEMPO\"))))","v":"A TIEMPO"},{"$f":"IF(J376=\"\",\"\",NETWORKDAYS(C376+1,J376,DiasNOLaborables))","v":20},"",null,null,20]
[366,20219050044742,"2021-04-12","CIUDADANO","MODULO CONTACTENOS","SOLICITUD DE INFORMACIÓN Y DOCUMENTOS","SOLICITUD DE INFORMACIÓN HIDROMETEOROLÓGICA","NO","GRUPO DE SERVICIO AL CIUDADANO ","2021-05-10","CORREO ELECTRÓNICO",null,{"$f":"IFERROR(WORKDAY(C377,S376,DiasNOLaborables),\"\")","v":"2021-05-10"},{"$f":"+IF(C377=\"\",\"\",IF(J377=\"\",\"SIN RESPUESTA\",(IF(J377<=M377,\"A TIEMPO\",\"FUERA DE TIEMPO\"))))","v":"A TIEMPO"},{"$f":"IF(J377=\"\",\"\",NETWORKDAYS(C377+1,J377,DiasNOLaborables))","v":20},"",null,null,20]
[367,20219050044672,"2021-04-12","CIUDADANO","MODULO CONTACTENOS","SOLICITUD DE INFORMACIÓN Y DOCUMENTOS","SOLICITUD DE INFORMACIÓN HIDROMETEOROLÓGICA","NO","GRUPO DE SERVICIO AL CIUDADANO ","2021-05-10","CORREO ELECTRÓNICO",null,{"$f":"IFERROR(WORKDAY(C378,S377,DiasNOLaborables),\"\")","v":"2021-05-10"},{"$f":"+IF(C378=\"\",\"\",IF(J378=\"\",\"SIN RESPUESTA\",(IF(J378<=M378,\"A TIEMPO\",\"FUERA DE TIEMPO\"))))","v":"A TIEMPO"},{"$f":"IF(J378=\"\",\"\",NETWORKDAYS(C378+1,J378,DiasNOLaborables))","v":20},"",null,null,20]
[368,20219050044752,"2021-04-12","CIUDADANO","MODULO CONTACTENOS","SOLICITUD DE INFORMACIÓN Y DOCUMENTOS","SOLICITUD DE INFORMACIÓN HIDROMETEOROLÓGICA","NO","GRUPO DE SERVICIO AL CIUDADANO ","2021-05-10","CORREO ELECTRÓNICO",null,{"$f":"IFERROR(WORKDAY(C379,S378,DiasNOLaborables),\"\")","v":"2021-05-10"},{"$f":"+IF(C379=\"\",\"\",IF(J379=\"\",\"SIN RESPUESTA\",(IF(J379<=M379,\"A TIEMPO\",\"FUERA DE TIEMPO\"))))","v":"A TIEMPO"},{"$f":"IF(J379=\"\",\"\",NETWORKDAYS(C379+1,J379,DiasNOLaborables))","v":20},"",null,null,20]
[369,20219050044762,"2021-04-12","CIUDADANO","MODULO CONTACTENOS","SOLICITUD DE INFORMACIÓN Y DOCUMENTOS","SOLICITUD DE INFORMACIÓN HIDROMETEOROLÓGICA","NO","GRUPO DE SERVICIO AL CIUDADANO ","2021-05-10","CORREO ELECTRÓNICO",null,{"$f":"IFERROR(WORKDAY(C380,S379,DiasNOLaborables),\"\")","v":"2021-05-10"},{"$f":"+IF(C380=\"\",\"\",IF(J380=\"\",\"SIN RESPUESTA\",(IF(J380<=M380,\"A TIEMPO\",\"FUERA DE TIEMPO\"))))","v":"A TIEMPO"},{"$f":"IF(J380=\"\",\"\",NETWORKDAYS(C380+1,J380,DiasNOLaborables))","v":20},"",null,null,20]
[370,20219050044442,"2021-04-12","CIUDADANO","MODULO CONTACTENOS","SOLICITUD DE INFORMACIÓN Y DOCUMENTOS","SOLICITUD DE INFORMACIÓN HIDROMETEOROLÓGICA","NO","GRUPO DE SERVICIO AL CIUDADANO ","2021-05-02","CORREO ELECTRÓNICO",null,{"$f":"IFERROR(WORKDAY(C381,S380,DiasNOLaborables),\"\")","v":"2021-05-10"},{"$f":"+IF(C381=\"\",\"\",IF(J381=\"\",\"SIN RESPUESTA\",(IF(J381<=M381,\"A TIEMPO\",\"FUERA DE TIEMPO\"))))","v":"A TIEMPO"},{"$f":"IF(J381=\"\",\"\",NETWORKDAYS(C381+1,J381,DiasNOLaborables))","v":14},"",null,null,20]
[371,20219050044452,"2021-04-12","ONG/ORG","MODULO CONTACTENOS","SOLICITUD DE INFORMACIÓN Y DOCUMENTOS","SOLICITUD DE INFORMACIÓN HIDROMETEOROLÓGICA","NO","GRUPO DE SERVICIO AL CIUDADANO ","2021-05-02","CORREO ELECTRÓNICO",null,{"$f":"IFERROR(WORKDAY(C382,S381,DiasNOLaborables),\"\")","v":"2021-05-10"},{"$f":"+IF(C382=\"\",\"\",IF(J382=\"\",\"SIN RESPUESTA\",(IF(J382<=M382,\"A TIEMPO\",\"FUERA DE TIEMPO\"))))","v":"A TIEMPO"},{"$f":"IF(J382=\"\",\"\",NETWORKDAYS(C382+1,J382,DiasNOLaborables))","v":14},"",null,null,20]
[372,20219050044472,"2021-04-12","CIUDADANO","MODULO CONTACTENOS","SOLICITUD DE INFORMACIÓN Y DOCUMENTOS","REGISTROS AMBIENTALES","SI","SUBDIRECCIÓN DE ESTUDIOS AMBIENTALES","2021-04-12","CORREO ELECTRÓNICO",null,{"$f":"IFERROR(WORKDAY(C383,S382,DiasNOLaborables),\"\")","v":"2021-05-10"},{"$f":"+IF(C383=\"\",\"\",IF(J383=\"\",\"SIN RESPUESTA\",(IF(J383<=M383,\"A TIEMPO\",\"FUERA DE TIEMPO\"))))","v":"A TIEMPO"},{"$f":"IF(J383=\"\",\"\",NETWORKDAYS(C383+1,J383,DiasNOLaborables))","v":-2},"",null,null,35]
[373,20219050044482,"2021-04-12","CIUDADANO","MODULO CONTACTENOS","CERTIFICACIONES DE TIEMPO, CLIMA Y EVENTOS HIDROLÓGICOS","CERTIFICACIONES DE TIEMPO Y CLIMA","SI","SUBDIRECCIÓN DE METEOROLOGÍA","2021-04-20","CORREO ELECTRÓNICO",null,{"$f":"IFERROR(WORKDAY(C384,S383,DiasNOLaborables),\"\")","v":"2021-06-01"},{"$f":"+IF(C384=\"\",\"\",IF(J384=\"\",\"SIN RESPUESTA\",(IF(J384<=M384,\"A TIEMPO\",\"FUERA DE TIEMPO\"))))","v":"A TIEMPO"},{"$f":"IF(J384=\"\",\"\",NETWORKDAYS(C384+1,J384,DiasNOLaborables))","v":6},"",null,null,35]
[374,20219050044582,"2021-04-12","EMPRESA PRIVADA","MODULO CONTACTENOS","CERTIFICACIONES DE TIEMPO, CLIMA Y EVENTOS HIDROLÓGICOS","CERTIFICACIONES DE TIEMPO Y CLIMA","SI","SUBDIRECCIÓN DE METEOROLOGÍA","2021-04-20","CORREO ELECTRÓNICO",null,{"$f":"IFERROR(WORKDAY(C385,S384,DiasNOLaborables),\"\")","v":"2021-06-01"},{"$f":"+IF(C385=\"\",\"\",IF(J385=\"\",\"SIN RESPUESTA\",(IF(J385<=M385,\"A TIEMPO\",\"FUERA DE TIEMPO\"))))","v":"A TIEMPO"},{"$f":"IF(J385=\"\",\"\",NETWORKDAYS(C385+1,J385,DiasNOLaborables))","v":6},"",null,null,20]
[375,20219050045082,"2021-04-12","ENTIDAD PÚBLICA","CORREO ELECTRÓNICO","SOLICITUD DE INFORMACIÓN Y DOCUMENTOS","ADMINISTRATIVA","SI","OFICINA ASESORA JURÍDICA","2021-05-07","CORREO ELECTRÓNICO",null,{"$f":"IFERROR(WORKDAY(C386,S385,DiasNOLaborables),\"\")","v":"2021-05-10"},{"$f":"+IF(C386=\"\",\"\",IF(J386=\"\",\"SIN RESPUESTA\",(IF(J386<=M386,\"A TIEMPO\",\"FUERA DE TIEMPO\"))))","v":"A TIEMPO"},{"$f":"IF(J386=\"\",\"\",NETWORKDAYS(C386+1,J386,DiasNOLaborables))","v":19},"",null,null,20]
[376,20219050045112,"2021-04-12","EMPRESA PRIVADA","CORREO ELECTRÓNICO","SOLICITUD DE INFORMACIÓN Y DOCUMENTOS","REGISTROS AMBIENTALES","SI","SUBDIRECCIÓN DE ESTUDIOS AMBIENTALES","2021-04-12","CORREO ELECTRÓNICO",null,{"$f":"IFERROR(WORKDAY(C387,S386,DiasNOLaborables),\"\")","v":"2021-05-10"},{"$f":"+IF(C387=\"\",\"\",IF(J387=\"\",\"SIN RESPUESTA\",(IF(J387<=M387,\"A TIEMPO\",\"FUERA DE TIEMPO\"))))","v":"A TIEMPO"},{"$f":"IF(J387=\"\",\"\",NETWORKDAYS(C387+1,J387,DiasNOLaborables))","v":-2},"",null,null,20]
[377,20219050045122,"2021-04-12","ENTIDAD PÚBLICA","CORREO ELECTRÓNICO","SOLICITUD DE INFORMACIÓN Y DOCUMENTOS","REGISTROS AMBIENTALES","SI","SUBDIRECCIÓN DE ESTUDIOS AMBIENTALES","2021-04-12","CORREO ELECTRÓNICO",null,{"$f":"IFERROR(WORKDAY(C388,S387,DiasNOLaborables),\"\")","v":"2021-05-10"},{"$f":"+IF(C388=\"\",\"\",IF(J388=\"\",\"SIN RESPUESTA\",(IF(J388<=M388,\"A TIEMPO\",\"FUERA DE TIEMPO\"))))","v":"A TIEMPO"},{"$f":"IF(J388=\"\",\"\",NETWORKDAYS(C388+1,J388,DiasNOLaborables))","v":-2},"",null,null,20]
[378,20219050044462,"2021-04-12","CIUDADANO","MODULO CONTACTENOS","SOLICITUD DE INFORMACIÓN Y DOCUMENTOS","SOLICITUD DE INFORMACIÓN HIDROMETEOROLÓGICA","NO","GRUPO DE SERVICIO AL CIUDADANO ","2021-05-03","CORREO ELECTRÓNICO",null,{"$f":"IFERROR(WORKDAY(C389,S388,DiasNOLaborables),\"\")","v":"2021-05-10"},{"$f":"+IF(C389=\"\",\"\",IF(J389=\"\",\"SIN RESPUESTA\",(IF(J389<=M389,\"A TIEMPO\",\"FUERA DE TIEMPO\"))))","v":"A TIEMPO"},{"$f":"IF(J389=\"\",\"\",NETWORKDAYS(C389+1,J389,DiasNOLaborables))","v":15},"",null,null,20]
[379,20219050044502,"2021-04-12","CIUDADANO","MODULO CONTACTENOS","SOLICITUD DE INFORMACIÓN Y DOCUMENTOS","SOLICITUD DE INFORMACIÓN HIDROMETEOROLÓGICA","NO","GRUPO DE SERVICIO AL CIUDADANO ","2021-05-03","CORREO ELECTRÓNICO",null,{"$f":"IFERROR(WORKDAY(C390,S389,DiasNOLaborables),\"\")","v":"2021-05-10"},{"$f":"+IF(C390=\"\",\"\",IF(J390=\"\",\"SIN RESPUESTA\",(IF(J390<=M390,\"A TIEMPO\",\"FUERA DE TIEMPO\"))))","v":"A TIEMPO"},{"$f":"IF(J390=\"\",\"\",NETWORKDAYS(C390+1,J390,DiasNOLaborables))","v":15},"",null,null,20]
[380,20219050044512,"2021-04-12","CIUDADANO","MODULO CONTACTENOS","SOLICITUD DE INFORMACIÓN Y DOCUMENTOS","SOLICITUD DE INFORMACIÓN HIDROMETEOROLÓGICA","SI","OFICINA DE INFORMÁTICA","2021-05-03","CORREO ELECTRÓNICO",null,{"$f":"IFERROR(WORKDAY(C391,S390,DiasNOLaborables),\"\")","v":"2021-05-10"},{"$f":"+IF(C391=\"\",\"\",IF(J391=\"\",\"SIN RESPUESTA\",(IF(J391<=M391,\"A TIEMPO\",\"FUERA DE TIEMPO\"))))","v":"A TIEMPO"},{"$f":"IF(J391=\"\",\"\",NETWORKDAYS(C391+1,J391,DiasNOLaborables))","v":15},"",null,null,20]
[381,20219050044522,"2021-04-12","CIUDADANO","MODULO CONTACTENOS","SOLICITUD DE INFORMACIÓN Y DOCUMENTOS","SOLICITUD DE INFORMACIÓN HIDROMETEOROLÓGICA","NO","GRUPO DE SERVICIO AL CIUDADANO ","2021-05-03","CORREO ELECTRÓNICO",null,{"$f":"IFERROR(WORKDAY(C392,S391,DiasNOLaborables),\"\")","v":"2021-05-10"},{"$f":"+IF(C392=\"\",\"\",IF(J392=\"\",\"SIN RESPUESTA\",(IF(J392<=M392,\"A TIEMPO\",\"FUERA DE TIEMPO\"))))","v":"A TIEMPO"},{"$f":"IF(J392=\"\",\"\",NETWORKDAYS(C392+1,J392,DiasNOLaborables))","v":15},"",null,null,20]
[382,20219050044562,"2021-04-12","CIUDADANO","MODULO CONTACTENOS","SOLICITUD DE INFORMACIÓN Y DOCUMENTOS","SOLICITUD DE INFORMACIÓN HIDROMETEOROLÓGICA","NO","GRUPO DE SERVICIO AL CIUDADANO ","2021-05-03","CORREO ELECTRÓNICO",null,{"$f":"IFERROR(WORKDAY(C393,S392,DiasNOLaborables),\"\")","v":"2021-05-10"},{"$f":"+IF(C393=\"\",\"\",IF(J393=\"\",\"SIN RESPUESTA\",(IF(J393<=M393,\"A TIEMPO\",\"FUERA DE TIEMPO\"))))","v":"A TIEMPO"},{"$f":"IF(J393=\"\",\"\",NETWORKDAYS(C393+1,J393,DiasNOLaborables))","v":15},"",null,null,20]
[383,20219050045222,"2021-04-12","CIUDADANO","MODULO CONTACTENOS","SOLICITUD DE INFORMACIÓN Y DOCUMENTOS","SOLICITUD DE INFORMACIÓN HIDROMETEOROLÓGICA","NO","GRUPO DE SERVICIO AL CIUDADANO ","2021-05-03","CORREO ELECTRÓNICO",null,{"$f":"IFERROR(WORKDAY(C394,S393,DiasNOLaborables),\"\")","v":"2021-05-10"},{"$f":"+IF(C394=\"\",\"\",IF(J394=\"\",\"SIN RESPUESTA\",(IF(J394<=M394,\"A TIEMPO\",\"FUERA DE TIEMPO\"))))","v":"A TIEMPO"},{"$f":"IF(J394=\"\",\"\",NETWORKDAYS(C394+1,J394,DiasNOLaborables))","v":15},"",null,null,20]
[384,20219050044572,"2021-04-12","EMPRESA PRIVADA","MODULO CONTACTENOS","SOLICITUD DE INFORMACIÓN Y DOCUMENTOS","SOLICITUD DE INFORMACIÓN HIDROMETEOROLÓGICA","NO","GRUPO DE SERVICIO AL CIUDADANO ","2021-05-03","CORREO ELECTRÓNICO",null,{"$f":"IFERROR(WORKDAY(C395,S394,DiasNOLaborables),\"\")","v":"2021-05-10"},{"$f":"+IF(C395=\"\",\"\",IF(J395=\"\",\"SIN RESPUESTA\",(IF(J395<=M395,\"A TIEMPO\",\"FUERA DE TIEMPO\"))))","v":"A TIEMPO"},{"$f":"IF(J395=\"\",\"\",NETWORKDAYS(C395+1,J395,DiasNOLaborables))","v":15},"",null,null,20]
[385,20219050044912,"2021-04-12","ACADEMIA ","MODULO CONTACTENOS","SOLICITUD DE INFORMACIÓN Y DOCUMENTOS","SOLICITUD DE INFORMACIÓN HIDROMETEOROLÓGICA","NO","GRUPO DE SERVICIO AL CIUDADANO ","2021-05-03","CORREO ELECTRÓNICO",null,{"$f":"IFERROR(WORKDAY(C396,S395,DiasNOLaborables),\"\")","v":"2021-05-10"},{"$f":"+IF(C396=\"\",\"\",IF(J396=\"\",\"SIN RESPUESTA\",(IF(J396<=M396,\"A TIEMPO\",\"FUERA DE TIEMPO\"))))","v":"A TIEMPO"},{"$f":"IF(J396=\"\",\"\",NETWORKDAYS(C396+1,J396,DiasNOLaborables))","v":15},"",null,null,20]
[386,20219050044952,"2021-04-12",null,"MODULO CONTACTENOS","SOLICITUD DE INFORMACIÓN Y DOCUMENTOS","SOLICITUD DE INFORMACIÓN HIDROMETEOROLÓGICA","NO","GRUPO DE SERVICIO AL CIUDADANO ","2021-05-04","CORREO ELECTRÓNICO",null,{"$f":"IFERROR(WORKDAY(C397,S396,DiasNOLaborables),\"\")","v":"2021-05-10"},{"$f":"+IF(C397=\"\",\"\",IF(J397=\"\",\"SIN RESPUESTA\",(IF(J397<=M397,\"A TIEMPO\",\"FUERA DE TIEMPO\"))))","v":"A TIEMPO"},{"$f":"IF(J397=\"\",\"\",NETWORKDAYS(C397+1,J397,DiasNOLaborables))","v":16},{"$f":"IF(NETWORKDAYS(M397+1,J397,DiasNOLaborables)<=0,\"\",NETWORKDAYS(M397+1,J397,DiasNOLaborables))","v":""},null,null,{"$f":"IFERROR(VLOOKUP(F398,$AA$51:$AB$64,2),\"\")","v":20}]
[{"$f":"IF(B398<>\"\",A397+1,\"\")","v":387},20219050044972,"2021-04-12","CIUDADANO","MODULO CONTACTENOS","SOLICITUD DE INFORMACIÓN Y DOCUMENTOS","SOLICITUD DE INFORMACIÓN HIDROMETEOROLÓGICA","NO","GRUPO DE SERVICIO AL CIUDADANO ","2021-05-04","CORREO ELECTRÓNICO",null,{"$f":"IFERROR(WORKDAY(C398,S397,DiasNOLaborables),\"\")","v":"2021-05-10"},{"$f":"+IF(C398=\"\",\"\",IF(J398=\"\",\"SIN RESPUESTA\",(IF(J398<=M398,\"A TIEMPO\",\"FUERA DE TIEMPO\"))))","v":"A TIEMPO"},{"$f":"IF(J398=\"\",\"\",NETWORKDAYS(C398+1,J398,DiasNOLaborables))","v":16},"",null,null,20]
[388,20219050045032,"2021-04-12","CIUDADANO","MODULO CONTACTENOS","SOLICITUD DE INFORMACIÓN Y DOCUMENTOS","SOLICITUD DE INFORMACIÓN HIDROMETEOROLÓGICA","NO","GRUPO DE SERVICIO AL CIUDADANO ","2021-05-04","CORREO ELECTRÓNICO",null,{"$f":"IFERROR(WORKDAY(C399,S398,DiasNOLaborables),\"\")","v":"2021-05-10"},{"$f":"+IF(C399=\"\",\"\",IF(J399=\"\",\"SIN RESPUESTA\",(IF(J399<=M399,\"A TIEMPO\",\"FUERA DE TIEMPO\"))))","v":"A TIEMPO"},{"$f":"IF(J399=\"\",\"\",NETWORKDAYS(C399+1,J399,DiasNOLaborables))","v":16},"",null,null,20]
[389,20219050045062,"2021-04-12","CIUDADANO","MODULO CONTACTENOS","SOLICITUD DE INFORMACIÓN Y DOCUMENTOS","SOLICITUD DE INFORMACIÓN HIDROMETEOROLÓGICA","NO","GRUPO DE SERVICIO AL CIUDADANO ","2021-05-04","CORREO ELECTRÓNICO",null,{"$f":"IFERROR(WORKDAY(C400,S399,DiasNOLaborables),\"\")","v":"2021-05-10"},{"$f":"+IF(C400=\"\",\"\",IF(J400=\"\",\"SIN RESPUESTA\",(IF(J400<=M400,\"A TIEMPO\",\"FUERA DE TIEMPO\"))))","v":"A TIEMPO"},{"$f":"IF(J400=\"\",\"\",NETWORKDAYS(C400+1,J400,DiasNOLaborables))","v":16},"",null,null,20]
[390,20219050045072,"2021-04-12","CIUDADANO","MODULO CONTACTENOS","SOLICITUD DE INFORMACIÓN Y DOCUMENTOS","SOLICITUD DE INFORMACIÓN HIDROMETEOROLÓGICA","NO","GRUPO DE SERVICIO AL CIUDADANO ","2021-05-04","CORREO ELECTRÓNICO",null,{"$f":"IFERROR(WORKDAY(C401,S400,DiasNOLaborables),\"\")","v":"2021-05-10"},{"$f":"+IF(C401=\"\",\"\",IF(J401=\"\",\"SIN RESPUESTA\",(IF(J401<=M401,\"A TIEMPO\",\"FUERA DE TIEMPO\"))))","v":"A TIEMPO"},{"$f":"IF(J401=\"\",\"\",NETWORKDAYS(C401+1,J401,DiasNOLaborables))","v":16},"",null,null,20]
[391,20219050045092,"2021-04-12","CIUDADANO","MODULO CONTACTENOS","SOLICITUD DE INFORMACIÓN Y DOCUMENTOS","SOLICITUD DE INFORMACIÓN HIDROMETEOROLÓGICA","NO","GRUPO DE SERVICIO AL CIUDADANO ","2021-05-04","CORREO ELECTRÓNICO",null,{"$f":"IFERROR(WORKDAY(C402,S401,DiasNOLaborables),\"\")","v":"2021-05-10"},{"$f":"+IF(C402=\"\",\"\",IF(J402=\"\",\"SIN RESPUESTA\",(IF(J402<=M402,\"A TIEMPO\",\"FUERA DE TIEMPO\"))))","v":"A TIEMPO"},{"$f":"IF(J402=\"\",\"\",NETWORKDAYS(C402+1,J402,DiasNOLaborables))","v":16},"",null,null,20]
[392,20219050045102,"2021-04-12","CIUDADANO","CORREO ELECTRÓNICO","SOLICITUD DE INFORMACIÓN Y DOCUMENTOS","SOLICITUD DE INFORMACIÓN HIDROMETEOROLÓGICA","NO","GRUPO DE SERVICIO AL CIUDADANO ","2021-05-04","CORREO ELECTRÓNICO",null,{"$f":"IFERROR(WORKDAY(C403,S402,DiasNOLaborables),\"\")","v":"2021-05-10"},{"$f":"+IF(C403=\"\",\"\",IF(J403=\"\",\"SIN RESPUESTA\",(IF(J403<=M403,\"A TIEMPO\",\"FUERA DE TIEMPO\"))))","v":"A TIEMPO"},{"$f":"IF(J403=\"\",\"\",NETWORKDAYS(C403+1,J403,DiasNOLaborables))","v":16},"",null,null,20]
[393,20219050045132,"2021-04-12","CIUDADANO","CORREO ELECTRÓNICO","SOLICITUD DE INFORMACIÓN Y DOCUMENTOS","WEB Y CORREO","SI","OFICINA DE INFORMÁTICA","2021-04-19","CORREO ELECTRÓNICO",null,{"$f":"IFERROR(WORKDAY(C404,S403,DiasNOLaborables),\"\")","v":"2021-05-10"},{"$f":"+IF(C404=\"\",\"\",IF(J404=\"\",\"SIN RESPUESTA\",(IF(J404<=M404,\"A TIEMPO\",\"FUERA DE TIEMPO\"))))","v":"A TIEMPO"},{"$f":"IF(J404=\"\",\"\",NETWORKDAYS(C404+1,J404,DiasNOLaborables))","v":5},"",null,null,20]
[394,20219050045142,"2021-04-12","FUNCIONARIO IDEAM","CORREO ELECTRÓNICO","SOLICITUD DE INFORMACIÓN Y DOCUMENTOS","ADMINISTRATIVA","SI","GRUPO DE ADMINISTRACIÓN Y DESARROLLO DEL TALENTO HUMANO","2021-04-13","CORREO ELECTRÓNICO",null,{"$f":"IFERROR(WORKDAY(C405,S404,DiasNOLaborables),\"\")","v":"2021-05-10"},{"$f":"+IF(C405=\"\",\"\",IF(J405=\"\",\"SIN RESPUESTA\",(IF(J405<=M405,\"A TIEMPO\",\"FUERA DE TIEMPO\"))))","v":"A TIEMPO"},{"$f":"IF(J405=\"\",\"\",NETWORKDAYS(C405+1,J405,DiasNOLaborables))","v":1},"",null,null,20]
[395,20219050045152,"2021-04-12","ENTIDAD PÚBLICA","CORREO ELECTRÓNICO","SOLICITUD DE INFORMACIÓN Y DOCUMENTOS","CAMBIO CLIMÁTICO","SI","DIRECCIÓN GENERAL","2021-04-26","CORREO ELECTRÓNICO",null,{"$f":"IFERROR(WORKDAY(C406,S405,DiasNOLaborables),\"\")","v":"2021-05-10"},{"$f":"+IF(C406=\"\",\"\",IF(J406=\"\",\"SIN RESPUESTA\",(IF(J406<=M406,\"A TIEMPO\",\"FUERA DE TIEMPO\"))))","v":"A TIEMPO"},{"$f":"IF(J406=\"\",\"\",NETWORKDAYS(C406+1,J406,DiasNOLaborables))","v":10},"",null,null,30]
[396,20219050045162,"2021-04-12","ENTIDAD PÚBLICA","CORREO ELECTRÓNICO","PETICIÓN","CAMBIO CLIMÁTICO","SI","SUBDIRECCIÓN DE ESTUDIOS AMBIENTALES","2021-05-11","CORREO ELECTRÓNICO",null,{"$f":"IFERROR(WORKDAY(C407,S406,DiasNOLaborables),\"\")","v":"2021-05-25"},{"$f":"+IF(C407=\"\",\"\",IF(J407=\"\",\"SIN RESPUESTA\",(IF(J407<=M407,\"A TIEMPO\",\"FUERA DE TIEMPO\"))))","v":"A TIEMPO"},{"$f":"IF(J407=\"\",\"\",NETWORKDAYS(C407+1,J407,DiasNOLaborables))","v":21},"",null,null,30]
[397,20219050045172,"2021-04-12","EMPRESA PRIVADA","CORREO ELECTRÓNICO","PETICIÓN","ADMINISTRATIVA","SI","GRUPO DE ADMINISTRACIÓN Y DESARROLLO DEL TALENTO HUMANO","2021-04-15","CORREO ELECTRÓNICO",null,{"$f":"IFERROR(WORKDAY(C408,S407,DiasNOLaborables),\"\")","v":"2021-05-25"},{"$f":"+IF(C408=\"\",\"\",IF(J408=\"\",\"SIN RESPUESTA\",(IF(J408<=M408,\"A TIEMPO\",\"FUERA DE TIEMPO\"))))","v":"A TIEMPO"},{"$f":"IF(J408=\"\",\"\",NETWORKDAYS(C408+1,J408,DiasNOLaborables))","v":3},"",null,null,35]
[398,20219050044652,"2021-04-12","EMPRESA PRIVADA","MODULO CONTACTENOS","CERTIFICACIONES DE TIEMPO, CLIMA Y EVENTOS HIDROLÓGICOS","CERTIFICACIONES DE TIEMPO Y CLIMA","SI","SUBDIRECCIÓN DE METEOROLOGÍA","2021-04-28","CORREO ELECTRÓNICO",null,{"$f":"IFERROR(WORKDAY(C409,S408,DiasNOLaborables),\"\")","v":"2021-06-01"},{"$f":"+IF(C409=\"\",\"\",IF(J409=\"\",\"SIN RESPUESTA\",(IF(J409<=M409,\"A TIEMPO\",\"FUERA DE TIEMPO\"))))","v":"A TIEMPO"},{"$f":"IF(J409=\"\",\"\",NETWORKDAYS(C409+1,J409,DiasNOLaborables))","v":12},"",null,null,35]
[399,20219050044662,"2021-04-12","EMPRESA PRIVADA","MODULO CONTACTENOS","CERTIFICACIONES DE TIEMPO, CLIMA Y EVENTOS HIDROLÓGICOS","CERTIFICACIONES DE TIEMPO Y CLIMA","SI","SUBDIRECCIÓN DE METEOROLOGÍA","2021-04-28","CORREO ELECTRÓNICO",null,{"$f":"IFERROR(WORKDAY(C410,S409,DiasNOLaborables),\"\")","v":"2021-06-01"},{"$f":"+IF(C410=\"\",\"\",IF(J410=\"\",\"SIN RESPUESTA\",(IF(J410<=M410,\"A TIEMPO\",\"FUERA DE TIEMPO\"))))","v":"A TIEMPO"},{"$f":"IF(J410=\"\",\"\",NETWORKDAYS(C410+1,J410,DiasNOLaborables))","v":12},"",null,null,35]
[400,20219050044682,"2021-04-12","CIUDADANO","MODULO CONTACTENOS","CERTIFICACIONES DE TIEMPO, CLIMA Y EVENTOS HIDROLÓGICOS","CERTIFICACIONES DE TIEMPO Y CLIMA","SI","SUBDIRECCIÓN DE METEOROLOGÍA","2021-04-28","CORREO ELECTRÓNICO",null,{"$f":"IFERROR(WORKDAY(C411,S410,DiasNOLaborables),\"\")","v":"2021-06-01"},{"$f":"+IF(C411=\"\",\"\",IF(J411=\"\",\"SIN RESPUESTA\",(IF(J411<=M411,\"A TIEMPO\",\"FUERA DE TIEMPO\"))))","v":"A TIEMPO"},{"$f":"IF(J411=\"\",\"\",NETWORKDAYS(C411+1,J411,DiasNOLaborables))","v":12},"",null,null,35]
[401,20219050044692,"2021-04-12","CIUDADANO","MODULO CONTACTENOS","CERTIFICACIONES DE TIEMPO, CLIMA Y EVENTOS HIDROLÓGICOS","CERTIFICACIONES DE TIEMPO Y CLIMA","SI","SUBDIRECCIÓN DE METEOROLOGÍA","2021-04-28","CORREO ELECTRÓNICO",null,{"$f":"IFERROR(WORKDAY(C412,S411,DiasNOLaborables),\"\")","v":"2021-06-01"},{"$f":"+IF(C412=\"\",\"\",IF(J412=\"\",\"SIN RESPUESTA\",(IF(J412<=M412,\"A TIEMPO\",\"FUERA DE TIEMPO\"))))","v":"A TIEMPO"},{"$f":"IF(J412=\"\",\"\",NETWORKDAYS(C412+1,J412,DiasNOLaborables))","v":12},"",null,null,35]
[402,20219050044702,"2021-04-12","CIUDADANO","MODULO CONTACTENOS","CERTIFICACIONES DE TIEMPO, CLIMA Y EVENTOS HIDROLÓGICOS","CERTIFICACIONES DE TIEMPO Y CLIMA","SI","SUBDIRECCIÓN DE METEOROLOGÍA","2021-04-28","CORREO ELECTRÓNICO",null,{"$f":"IFERROR(WORKDAY(C413,S412,DiasNOLaborables),\"\")","v":"2021-06-01"},{"$f":"+IF(C413=\"\",\"\",IF(J413=\"\",\"SIN RESPUESTA\",(IF(J413<=M413,\"A TIEMPO\",\"FUERA DE TIEMPO\"))))","v":"A TIEMPO"},{"$f":"IF(J413=\"\",\"\",NETWORKDAYS(C413+1,J413,DiasNOLaborables))","v":12},"",null,null,35]
[403,20219050044712,"2021-04-12","CIUDADANO","MODULO CONTACTENOS","CERTIFICACIONES DE TIEMPO, CLIMA Y EVENTOS HIDROLÓGICOS","CERTIFICACIONES DE TIEMPO Y CLIMA","SI","SUBDIRECCIÓN DE METEOROLOGÍA","2021-04-28","CORREO ELECTRÓNICO",null,{"$f":"IFERROR(WORKDAY(C414,S413,DiasNOLaborables),\"\")","v":"2021-06-01"},{"$f":"+IF(C414=\"\",\"\",IF(J414=\"\",\"SIN RESPUESTA\",(IF(J414<=M414,\"A TIEMPO\",\"FUERA DE TIEMPO\"))))","v":"A TIEMPO"},{"$f":"IF(J414=\"\",\"\",NETWORKDAYS(C414+1,J414,DiasNOLaborables))","v":12},"",null,null,35]
[404,20219050044722,"2021-04-12","CIUDADANO","MODULO CONTACTENOS","CERTIFICACIONES DE TIEMPO, CLIMA Y EVENTOS HIDROLÓGICOS","CERTIFICACIONES DE TIEMPO Y CLIMA","SI","SUBDIRECCIÓN DE METEOROLOGÍA","2021-04-27","CORREO ELECTRÓNICO",null,{"$f":"IFERROR(WORKDAY(C415,S414,DiasNOLaborables),\"\")","v":"2021-06-01"},{"$f":"+IF(C415=\"\",\"\",IF(J415=\"\",\"SIN RESPUESTA\",(IF(J415<=M415,\"A TIEMPO\",\"FUERA DE TIEMPO\"))))","v":"A TIEMPO"},{"$f":"IF(J415=\"\",\"\",NETWORKDAYS(C415+1,J415,DiasNOLaborables))","v":11},"",null,null,35]
[405,20219050044732,"2021-04-12","CIUDADANO","MODULO CONTACTENOS","CERTIFICACIONES DE TIEMPO, CLIMA Y EVENTOS HIDROLÓGICOS","CERTIFICACIONES DE TIEMPO Y CLIMA","SI","SUBDIRECCIÓN DE METEOROLOGÍA","2021-04-27","CORREO ELECTRÓNICO",null,{"$f":"IFERROR(WORKDAY(C416,S415,DiasNOLaborables),\"\")","v":"2021-06-01"},{"$f":"+IF(C416=\"\",\"\",IF(J416=\"\",\"SIN RESPUESTA\",(IF(J416<=M416,\"A TIEMPO\",\"FUERA DE TIEMPO\"))))","v":"A TIEMPO"},{"$f":"IF(J416=\"\",\"\",NETWORKDAYS(C416+1,J416,DiasNOLaborables))","v":11},"",null,null,20]
[406,20219050044792,"2021-04-12","CIUDADANO","MODULO CONTACTENOS","SOLICITUD DE INFORMACIÓN Y DOCUMENTOS","SUELOS Y TIERRAS","SI","SUBDIRECCIÓN DE ECOSISTEMAS E INFORMACIÓN AMBIENTAL","2021-04-27","CORREO ELECTRÓNICO",null,{"$f":"IFERROR(WORKDAY(C417,S416,DiasNOLaborables),\"\")","v":"2021-05-10"},{"$f":"+IF(C417=\"\",\"\",IF(J417=\"\",\"SIN RESPUESTA\",(IF(J417<=M417,\"A TIEMPO\",\"FUERA DE TIEMPO\"))))","v":"A TIEMPO"},{"$f":"IF(J417=\"\",\"\",NETWORKDAYS(C417+1,J417,DiasNOLaborables))","v":11},"",null,null,15]
[407,20219050044852,"2021-04-12","CIUDADANO","MODULO CONTACTENOS","RECLAMO","SIRH","SI","SUBDIRECCIÓN DE HIDROLOGÍA","2021-04-26","CORREO ELECTRÓNICO",null,{"$f":"IFERROR(WORKDAY(C418,S417,DiasNOLaborables),\"\")","v":"2021-05-03"},{"$f":"+IF(C418=\"\",\"\",IF(J418=\"\",\"SIN RESPUESTA\",(IF(J418<=M418,\"A TIEMPO\",\"FUERA DE TIEMPO\"))))","v":"A TIEMPO"},{"$f":"IF(J418=\"\",\"\",NETWORKDAYS(C418+1,J418,DiasNOLaborables))","v":10},"",null,null,20]
[408,20219050044882,"2021-04-12","EMPRESA PRIVADA","MODULO CONTACTENOS","SOLICITUD DE INFORMACIÓN Y DOCUMENTOS","REGISTROS AMBIENTALES","SI","SUBDIRECCIÓN DE ESTUDIOS AMBIENTALES","2021-04-18","CORREO ELECTRÓNICO",null,{"$f":"IFERROR(WORKDAY(C419,S418,DiasNOLaborables),\"\")","v":"2021-05-10"},{"$f":"+IF(C419=\"\",\"\",IF(J419=\"\",\"SIN RESPUESTA\",(IF(J419<=M419,\"A TIEMPO\",\"FUERA DE TIEMPO\"))))","v":"A TIEMPO"},{"$f":"IF(J419=\"\",\"\",NETWORKDAYS(C419+1,J419,DiasNOLaborables))","v":4},"",null,null,20]
[409,20219050045192,"2021-04-12","FUNCIONARIO IDEAM","MODULO CONTACTENOS","SOLICITUD DE INFORMACIÓN Y DOCUMENTOS","SOLICITUD DE INFORMACIÓN HIDROMETEOROLÓGICA","NO","GRUPO DE SERVICIO AL CIUDADANO ","2021-04-14","CORREO ELECTRÓNICO",null,{"$f":"IFERROR(WORKDAY(C420,S419,DiasNOLaborables),\"\")","v":"2021-05-10"},{"$f":"+IF(C420=\"\",\"\",IF(J420=\"\",\"SIN RESPUESTA\",(IF(J420<=M420,\"A TIEMPO\",\"FUERA DE TIEMPO\"))))","v":"A TIEMPO"},{"$f":"IF(J420=\"\",\"\",NETWORKDAYS(C420+1,J420,DiasNOLaborables))","v":2},"",null,null,20]
[410,20219050044962,"2021-04-12","FUNCIONARIO IDEAM","MODULO CONTACTENOS","SOLICITUD DE INFORMACIÓN Y DOCUMENTOS","ADMINISTRATIVA","SI","GRUPO DE ADMINISTRACIÓN Y DESARROLLO DEL TALENTO HUMANO","2021-04-15","CORREO ELECTRÓNICO",null,{"$f":"IFERROR(WORKDAY(C421,S420,DiasNOLaborables),\"\")","v":"2021-05-10"},{"$f":"+IF(C421=\"\",\"\",IF(J421=\"\",\"SIN RESPUESTA\",(IF(J421<=M421,\"A TIEMPO\",\"FUERA DE TIEMPO\"))))","v":"A TIEMPO"},{"$f":"IF(J421=\"\",\"\",NETWORKDAYS(C421+1,J421,DiasNOLaborables))","v":3},"",null,null,35]
[411,20219050045002,"2021-04-12","EMPRESA PRIVADA","MODULO CONTACTENOS","CERTIFICACIONES DE TIEMPO, CLIMA Y EVENTOS HIDROLÓGICOS","CERTIFICACIONES DE TIEMPO Y CLIMA","SI","SUBDIRECCIÓN DE METEOROLOGÍA","2021-04-20","CORREO ELECTRÓNICO",null,{"$f":"IFERROR(WORKDAY(C422,S421,DiasNOLaborables),\"\")","v":"2021-06-01"},{"$f":"+IF(C422=\"\",\"\",IF(J422=\"\",\"SIN RESPUESTA\",(IF(J422<=M422,\"A TIEMPO\",\"FUERA DE TIEMPO\"))))","v":"A TIEMPO"},{"$f":"IF(J422=\"\",\"\",NETWORKDAYS(C422+1,J422,DiasNOLaborables))","v":6},"",null,null,35]
[412,20219050045052,"2021-04-12","ENTIDAD PÚBLICA","MODULO CONTACTENOS","CONSULTA","JURIDICO","SI","OFICINA ASESORA JURÍDICA","2021-05-07","CORREO ELECTRÓNICO",null,{"$f":"IFERROR(WORKDAY(C423,S422,DiasNOLaborables),\"\")","v":"2021-06-01"},{"$f":"+IF(C423=\"\",\"\",IF(J423=\"\",\"SIN RESPUESTA\",(IF(J423<=M423,\"A TIEMPO\",\"FUERA DE TIEMPO\"))))","v":"A TIEMPO"},{"$f":"IF(J423=\"\",\"\",NETWORKDAYS(C423+1,J423,DiasNOLaborables))","v":19},"",null,null,20]
[413,20219050045212,"2021-04-12","CIUDADANO","MODULO CONTACTENOS","SOLICITUD DE INFORMACIÓN Y DOCUMENTOS","SUELOS Y TIERRAS","SI","SUBDIRECCIÓN DE ECOSISTEMAS E INFORMACIÓN AMBIENTAL","2021-04-22","CORREO ELECTRÓNICO",null,{"$f":"IFERROR(WORKDAY(C424,S423,DiasNOLaborables),\"\")","v":"2021-05-10"},{"$f":"+IF(C424=\"\",\"\",IF(J424=\"\",\"SIN RESPUESTA\",(IF(J424<=M424,\"A TIEMPO\",\"FUERA DE TIEMPO\"))))","v":"A TIEMPO"},{"$f":"IF(J424=\"\",\"\",NETWORKDAYS(C424+1,J424,DiasNOLaborables))","v":8},"",null,null,20]
[414,20219050045182,"2021-04-12","CIUDADANO","CORREO ELECTRÓNICO","SOLICITUD DE INFORMACIÓN Y DOCUMENTOS","SOLICITUD DE INFORMACIÓN HIDROMETEOROLÓGICA","NO","GRUPO DE SERVICIO AL CIUDADANO ","2021-05-04","CORREO ELECTRÓNICO",null,{"$f":"IFERROR(WORKDAY(C425,S424,DiasNOLaborables),\"\")","v":"2021-05-10"},{"$f":"+IF(C425=\"\",\"\",IF(J425=\"\",\"SIN RESPUESTA\",(IF(J425<=M425,\"A TIEMPO\",\"FUERA DE TIEMPO\"))))","v":"A TIEMPO"},{"$f":"IF(J425=\"\",\"\",NETWORKDAYS(C425+1,J425,DiasNOLaborables))","v":16},"",null,null,20]
[415,20219050045202,"2021-04-12","ACADEMIA ","CORREO ELECTRÓNICO","SOLICITUD DE INFORMACIÓN Y DOCUMENTOS","SOLICITUD DE INFORMACIÓN HIDROMETEOROLÓGICA","SI","OFICINA DE INFORMÁTICA","2021-05-05","CORREO ELECTRÓNICO",null,{"$f":"IFERROR(WORKDAY(C426,S425,DiasNOLaborables),\"\")","v":"2021-05-10"},{"$f":"+IF(C426=\"\",\"\",IF(J426=\"\",\"SIN RESPUESTA\",(IF(J426<=M426,\"A TIEMPO\",\"FUERA DE TIEMPO\"))))","v":"A TIEMPO"},{"$f":"IF(J426=\"\",\"\",NETWORKDAYS(C426+1,J426,DiasNOLaborables))","v":17},"",null,null,20]
[416,20219050045232,"2021-04-12","CIUDADANO","MODULO CONTACTENOS","SOLICITUD DE INFORMACIÓN Y DOCUMENTOS","SOLICITUD DE INFORMACIÓN HIDROMETEOROLÓGICA","NO","GRUPO DE SERVICIO AL CIUDADANO ","2021-05-05","CORREO ELECTRÓNICO",null,{"$f":"IFERROR(WORKDAY(C427,S426,DiasNOLaborables),\"\")","v":"2021-05-10"},{"$f":"+IF(C427=\"\",\"\",IF(J427=\"\",\"SIN RESPUESTA\",(IF(J427<=M427,\"A TIEMPO\",\"FUERA DE TIEMPO\"))))","v":"A TIEMPO"},{"$f":"IF(J427=\"\",\"\",NETWORKDAYS(C427+1,J427,DiasNOLaborables))","v":17},"",null,null,20]
[417,20219050045252,"2021-04-13","CIUDADANO","MODULO CONTACTENOS","SOLICITUD DE INFORMACIÓN Y DOCUMENTOS","SOLICITUD DE INFORMACIÓN HIDROMETEOROLÓGICA","NO","GRUPO DE SERVICIO AL CIUDADANO ","2021-05-05","CORREO ELECTRÓNICO",null,{"$f":"IFERROR(WORKDAY(C428,S427,DiasNOLaborables),\"\")","v":"2021-05-11"},{"$f":"+IF(C428=\"\",\"\",IF(J428=\"\",\"SIN RESPUESTA\",(IF(J428<=M428,\"A TIEMPO\",\"FUERA DE TIEMPO\"))))","v":"A TIEMPO"},{"$f":"IF(J428=\"\",\"\",NETWORKDAYS(C428+1,J428,DiasNOLaborables))","v":16},"",null,null,20]
[418,20219050045412,"2021-04-13","ACADEMIA ","MODULO CONTACTENOS","SOLICITUD DE INFORMACIÓN Y DOCUMENTOS","SOLICITUD DE INFORMACIÓN HIDROMETEOROLÓGICA","NO","GRUPO DE SERVICIO AL CIUDADANO ","2021-05-05","CORREO ELECTRÓNICO",null,{"$f":"IFERROR(WORKDAY(C429,S428,DiasNOLaborables),\"\")","v":"2021-05-11"},{"$f":"+IF(C429=\"\",\"\",IF(J429=\"\",\"SIN RESPUESTA\",(IF(J429<=M429,\"A TIEMPO\",\"FUERA DE TIEMPO\"))))","v":"A TIEMPO"},{"$f":"IF(J429=\"\",\"\",NETWORKDAYS(C429+1,J429,DiasNOLaborables))","v":16},"",null,null,20]
[419,20219050045452,"2021-04-13","CIUDADANO","MODULO CONTACTENOS","SOLICITUD DE INFORMACIÓN Y DOCUMENTOS","SOLICITUD DE INFORMACIÓN HIDROMETEOROLÓGICA","NO","GRUPO DE SERVICIO AL CIUDADANO ","2021-05-05","CORREO ELECTRÓNICO",null,{"$f":"IFERROR(WORKDAY(C430,S429,DiasNOLaborables),\"\")","v":"2021-05-11"},{"$f":"+IF(C430=\"\",\"\",IF(J430=\"\",\"SIN RESPUESTA\",(IF(J430<=M430,\"A TIEMPO\",\"FUERA DE TIEMPO\"))))","v":"A TIEMPO"},{"$f":"IF(J430=\"\",\"\",NETWORKDAYS(C430+1,J430,DiasNOLaborables))","v":16},"",null,null,20]
[420,20219050045482,"2021-04-13","CIUDADANO","MODULO CONTACTENOS","SOLICITUD DE INFORMACIÓN Y DOCUMENTOS","SOLICITUD DE INFORMACIÓN HIDROMETEOROLÓGICA","NO","GRUPO DE SERVICIO AL CIUDADANO ","2021-05-05","CORREO ELECTRÓNICO",null,{"$f":"IFERROR(WORKDAY(C431,S430,DiasNOLaborables),\"\")","v":"2021-05-11"},{"$f":"+IF(C431=\"\",\"\",IF(J431=\"\",\"SIN RESPUESTA\",(IF(J431<=M431,\"A TIEMPO\",\"FUERA DE TIEMPO\"))))","v":"A TIEMPO"},{"$f":"IF(J431=\"\",\"\",NETWORKDAYS(C431+1,J431,DiasNOLaborables))","v":16},"",null,null,20]
[421,20219050045492,"2021-04-13","ACADEMIA ","MODULO CONTACTENOS","SOLICITUD DE INFORMACIÓN Y DOCUMENTOS","SOLICITUD DE INFORMACIÓN HIDROMETEOROLÓGICA","NO","GRUPO DE SERVICIO AL CIUDADANO ","2021-05-05","CORREO ELECTRÓNICO",null,{"$f":"IFERROR(WORKDAY(C432,S431,DiasNOLaborables),\"\")","v":"2021-05-11"},{"$f":"+IF(C432=\"\",\"\",IF(J432=\"\",\"SIN RESPUESTA\",(IF(J432<=M432,\"A TIEMPO\",\"FUERA DE TIEMPO\"))))","v":"A TIEMPO"},{"$f":"IF(J432=\"\",\"\",NETWORKDAYS(C432+1,J432,DiasNOLaborables))","v":16},"",null,null,20]
[422,20219050045522,"2021-04-13","CIUDADANO","MODULO CONTACTENOS","SOLICITUD DE INFORMACIÓN Y DOCUMENTOS","SOLICITUD DE INFORMACIÓN HIDROMETEOROLÓGICA","NO","GRUPO DE SERVICIO AL CIUDADANO ","2021-05-05","CORREO ELECTRÓNICO",null,{"$f":"IFERROR(WORKDAY(C433,S432,DiasNOLaborables),\"\")","v":"2021-05-11"},{"$f":"+IF(C433=\"\",\"\",IF(J433=\"\",\"SIN RESPUESTA\",(IF(J433<=M433,\"A TIEMPO\",\"FUERA DE TIEMPO\"))))","v":"A TIEMPO"},{"$f":"IF(J433=\"\",\"\",NETWORKDAYS(C433+1,J433,DiasNOLaborables))","v":16},"",null,null,20]
[423,20219050045432,"2021-04-13","CIUDADANO","MODULO CONTACTENOS","SOLICITUD DE INFORMACIÓN Y DOCUMENTOS","SOLICITUD DE INFORMACIÓN HIDROMETEOROLÓGICA","SI","SUBDIRECCIÓN DE METEOROLOGÍA","2021-05-06","CORREO ELECTRÓNICO",null,{"$f":"IFERROR(WORKDAY(C434,S433,DiasNOLaborables),\"\")","v":"2021-05-11"},{"$f":"+IF(C434=\"\",\"\",IF(J434=\"\",\"SIN RESPUESTA\",(IF(J434<=M434,\"A TIEMPO\",\"FUERA DE TIEMPO\"))))","v":"A TIEMPO"},{"$f":"IF(J434=\"\",\"\",NETWORKDAYS(C434+1,J434,DiasNOLaborables))","v":17},"",null,null,30]
[424,20219910020172,"2021-04-13","CIUDADANO","MODULO CONTACTENOS","PETICIÓN","SOLICITUD DE INFORMACIÓN HIDROMETEOROLÓGICA","SI","GRUPO DE SERVICIO AL CIUDADANO ","2021-05-06","CORREO ELECTRÓNICO",null,{"$f":"IFERROR(WORKDAY(C435,S434,DiasNOLaborables),\"\")","v":"2021-05-26"},{"$f":"+IF(C435=\"\",\"\",IF(J435=\"\",\"SIN RESPUESTA\",(IF(J435<=M435,\"A TIEMPO\",\"FUERA DE TIEMPO\"))))","v":"A TIEMPO"},{"$f":"IF(J435=\"\",\"\",NETWORKDAYS(C435+1,J435,DiasNOLaborables))","v":17},"",null,null,20]
[425,20219050045592,"2021-04-13","CIUDADANO","MODULO CONTACTENOS","SOLICITUD DE INFORMACIÓN Y DOCUMENTOS","SOLICITUD DE INFORMACIÓN HIDROMETEOROLÓGICA","NO","GRUPO DE SERVICIO AL CIUDADANO ","2021-05-06","CORREO ELECTRÓNICO",null,{"$f":"IFERROR(WORKDAY(C436,S435,DiasNOLaborables),\"\")","v":"2021-05-11"},{"$f":"+IF(C436=\"\",\"\",IF(J436=\"\",\"SIN RESPUESTA\",(IF(J436<=M436,\"A TIEMPO\",\"FUERA DE TIEMPO\"))))","v":"A TIEMPO"},{"$f":"IF(J436=\"\",\"\",NETWORKDAYS(C436+1,J436,DiasNOLaborables))","v":17},"",null,null,20]
[426,20219050045612,"2021-04-13","CIUDADANO","MODULO CONTACTENOS","SOLICITUD DE INFORMACIÓN Y DOCUMENTOS","SOLICITUD DE INFORMACIÓN HIDROMETEOROLÓGICA","NO","GRUPO DE SERVICIO AL CIUDADANO ","2021-05-06","CORREO ELECTRÓNICO",null,{"$f":"IFERROR(WORKDAY(C437,S436,DiasNOLaborables),\"\")","v":"2021-05-11"},{"$f":"+IF(C437=\"\",\"\",IF(J437=\"\",\"SIN RESPUESTA\",(IF(J437<=M437,\"A TIEMPO\",\"FUERA DE TIEMPO\"))))","v":"A TIEMPO"},{"$f":"IF(J437=\"\",\"\",NETWORKDAYS(C437+1,J437,DiasNOLaborables))","v":17},"",null,null,20]
[427,20219050045622,"2021-04-13","EMPRESA PRIVADA","MODULO CONTACTENOS","SOLICITUD DE INFORMACIÓN Y DOCUMENTOS","SOLICITUD DE INFORMACIÓN HIDROMETEOROLÓGICA","SI","OFICINA DE INFORMÁTICA","2021-05-06","CORREO ELECTRÓNICO",null,{"$f":"IFERROR(WORKDAY(C438,S437,DiasNOLaborables),\"\")","v":"2021-05-11"},{"$f":"+IF(C438=\"\",\"\",IF(J438=\"\",\"SIN RESPUESTA\",(IF(J438<=M438,\"A TIEMPO\",\"FUERA DE TIEMPO\"))))","v":"A TIEMPO"},{"$f":"IF(J438=\"\",\"\",NETWORKDAYS(C438+1,J438,DiasNOLaborables))","v":17},"",null,null,20]
[428,20219050045652,"2021-04-13","ENTIDAD PÚBLICA","MODULO CONTACTENOS","SOLICITUD DE INFORMACIÓN Y DOCUMENTOS","SOLICITUD DE INFORMACIÓN HIDROMETEOROLÓGICA","NO","GRUPO DE SERVICIO AL CIUDADANO ","2021-05-06","CORREO ELECTRÓNICO",null,{"$f":"IFERROR(WORKDAY(C439,S438,DiasNOLaborables),\"\")","v":"2021-05-11"},{"$f":"+IF(C439=\"\",\"\",IF(J439=\"\",\"SIN RESPUESTA\",(IF(J439<=M439,\"A TIEMPO\",\"FUERA DE TIEMPO\"))))","v":"A TIEMPO"},{"$f":"IF(J439=\"\",\"\",NETWORKDAYS(C439+1,J439,DiasNOLaborables))","v":17},"",null,null,20]
[429,20219050045682,"2021-04-13","ACADEMIA ","MODULO CONTACTENOS","SOLICITUD DE INFORMACIÓN Y DOCUMENTOS","SOLICITUD DE INFORMACIÓN HIDROMETEOROLÓGICA","NO","GRUPO DE SERVICIO AL CIUDADANO ","2021-05-06","CORREO ELECTRÓNICO",null,{"$f":"IFERROR(WORKDAY(C440,S439,DiasNOLaborables),\"\")","v":"2021-05-11"},{"$f":"+IF(C440=\"\",\"\",IF(J440=\"\",\"SIN RESPUESTA\",(IF(J440<=M440,\"A TIEMPO\",\"FUERA DE TIEMPO\"))))","v":"A TIEMPO"},{"$f":"IF(J440=\"\",\"\",NETWORKDAYS(C440+1,J440,DiasNOLaborables))","v":17},"",null,null,20]
[430,20219050045692,"2021-04-13","CIUDADANO","MODULO CONTACTENOS","SOLICITUD DE INFORMACIÓN Y DOCUMENTOS","SOLICITUD DE INFORMACIÓN HIDROMETEOROLÓGICA","NO","GRUPO DE SERVICIO AL CIUDADANO ","2021-05-06","CORREO ELECTRÓNICO",null,{"$f":"IFERROR(WORKDAY(C441,S440,DiasNOLaborables),\"\")","v":"2021-05-11"},{"$f":"+IF(C441=\"\",\"\",IF(J441=\"\",\"SIN RESPUESTA\",(IF(J441<=M441,\"A TIEMPO\",\"FUERA DE TIEMPO\"))))","v":"A TIEMPO"},{"$f":"IF(J441=\"\",\"\",NETWORKDAYS(C441+1,J441,DiasNOLaborables))","v":17},"",null,null,20]
[431,20219050045712,"2021-04-13","CIUDADANO","MODULO CONTACTENOS","SOLICITUD DE INFORMACIÓN Y DOCUMENTOS","SOLICITUD DE INFORMACIÓN HIDROMETEOROLÓGICA","NO","GRUPO DE SERVICIO AL CIUDADANO ","2021-05-06","CORREO ELECTRÓNICO",null,{"$f":"IFERROR(WORKDAY(C442,S441,DiasNOLaborables),\"\")","v":"2021-05-11"},{"$f":"+IF(C442=\"\",\"\",IF(J442=\"\",\"SIN RESPUESTA\",(IF(J442<=M442,\"A TIEMPO\",\"FUERA DE TIEMPO\"))))","v":"A TIEMPO"},{"$f":"IF(J442=\"\",\"\",NETWORKDAYS(C442+1,J442,DiasNOLaborables))","v":17},"",null,null,20]
[432,20219050045722,"2021-04-13","CIUDADANO","MODULO CONTACTENOS","SOLICITUD DE INFORMACIÓN Y DOCUMENTOS","SOLICITUD DE INFORMACIÓN HIDROMETEOROLÓGICA","NO","GRUPO DE SERVICIO AL CIUDADANO ","2021-05-07","CORREO ELECTRÓNICO",null,{"$f":"IFERROR(WORKDAY(C443,S442,DiasNOLaborables),\"\")","v":"2021-05-11"},{"$f":"+IF(C443=\"\",\"\",IF(J443=\"\",\"SIN RESPUESTA\",(IF(J443<=M443,\"A TIEMPO\",\"FUERA DE TIEMPO\"))))","v":"A TIEMPO"},{"$f":"IF(J443=\"\",\"\",NETWORKDAYS(C443+1,J443,DiasNOLaborables))","v":18},"",null,null,20]
[433,20219050045642,"2021-04-13","ENTIDAD PÚBLICA","MODULO CONTACTENOS","SOLICITUD DE INFORMACIÓN Y DOCUMENTOS","SOLICITUD DE INFORMACIÓN HIDROMETEOROLÓGICA","NO","GRUPO DE SERVICIO AL CIUDADANO ","2021-05-07","CORREO ELECTRÓNICO",null,{"$f":"IFERROR(WORKDAY(C444,S443,DiasNOLaborables),\"\")","v":"2021-05-11"},{"$f":"+IF(C444=\"\",\"\",IF(J444=\"\",\"SIN RESPUESTA\",(IF(J444<=M444,\"A TIEMPO\",\"FUERA DE TIEMPO\"))))","v":"A TIEMPO"},{"$f":"IF(J444=\"\",\"\",NETWORKDAYS(C444+1,J444,DiasNOLaborables))","v":18},"",null,null,20]
[434,20219050045752,"2021-04-13","ACADEMIA ","MODULO CONTACTENOS","SOLICITUD DE INFORMACIÓN Y DOCUMENTOS","SOLICITUD DE INFORMACIÓN HIDROMETEOROLÓGICA","NO","GRUPO DE SERVICIO AL CIUDADANO ","2021-05-07","CORREO ELECTRÓNICO",null,{"$f":"IFERROR(WORKDAY(C445,S444,DiasNOLaborables),\"\")","v":"2021-05-11"},{"$f":"+IF(C445=\"\",\"\",IF(J445=\"\",\"SIN RESPUESTA\",(IF(J445<=M445,\"A TIEMPO\",\"FUERA DE TIEMPO\"))))","v":"A TIEMPO"},{"$f":"IF(J445=\"\",\"\",NETWORKDAYS(C445+1,J445,DiasNOLaborables))","v":18},"",null,null,20]
[435,20219050045742,"2021-04-13","ACADEMIA ","MODULO CONTACTENOS","SOLICITUD DE INFORMACIÓN Y DOCUMENTOS","SOLICITUD DE INFORMACIÓN HIDROMETEOROLÓGICA","SI","SUBDIRECCIÓN DE METEOROLOGÍA","2021-05-07","CORREO ELECTRÓNICO",null,{"$f":"IFERROR(WORKDAY(C446,S445,DiasNOLaborables),\"\")","v":"2021-05-11"},{"$f":"+IF(C446=\"\",\"\",IF(J446=\"\",\"SIN RESPUESTA\",(IF(J446<=M446,\"A TIEMPO\",\"FUERA DE TIEMPO\"))))","v":"A TIEMPO"},{"$f":"IF(J446=\"\",\"\",NETWORKDAYS(C446+1,J446,DiasNOLaborables))","v":18},"",null,null,20]
[436,20219050045762,"2021-04-13","CIUDADANO","MODULO CONTACTENOS","SOLICITUD DE INFORMACIÓN Y DOCUMENTOS","SOLICITUD DE INFORMACIÓN HIDROMETEOROLÓGICA","NO","GRUPO DE SERVICIO AL CIUDADANO ","2021-05-07","CORREO ELECTRÓNICO",null,{"$f":"IFERROR(WORKDAY(C447,S446,DiasNOLaborables),\"\")","v":"2021-05-11"},{"$f":"+IF(C447=\"\",\"\",IF(J447=\"\",\"SIN RESPUESTA\",(IF(J447<=M447,\"A TIEMPO\",\"FUERA DE TIEMPO\"))))","v":"A TIEMPO"},{"$f":"IF(J447=\"\",\"\",NETWORKDAYS(C447+1,J447,DiasNOLaborables))","v":18},"",null,null,20]
[437,20219050045782,"2021-04-13","CIUDADANO","CORREO ELECTRÓNICO","SOLICITUD DE INFORMACIÓN Y DOCUMENTOS","SOLICITUD DE INFORMACIÓN HIDROMETEOROLÓGICA","NO","GRUPO DE SERVICIO AL CIUDADANO ","2021-05-07","CORREO ELECTRÓNICO",null,{"$f":"IFERROR(WORKDAY(C448,S447,DiasNOLaborables),\"\")","v":"2021-05-11"},{"$f":"+IF(C448=\"\",\"\",IF(J448=\"\",\"SIN RESPUESTA\",(IF(J448<=M448,\"A TIEMPO\",\"FUERA DE TIEMPO\"))))","v":"A TIEMPO"},{"$f":"IF(J448=\"\",\"\",NETWORKDAYS(C448+1,J448,DiasNOLaborables))","v":18},"",null,null,20]
[438,20219050045282,"2021-04-13","CIUDADANO","MODULO CONTACTENOS","SOLICITUD DE INFORMACIÓN Y DOCUMENTOS","SIRH","SI","SUBDIRECCIÓN DE HIDROLOGÍA","2021-04-20","CORREO ELECTRÓNICO",null,{"$f":"IFERROR(WORKDAY(C449,S448,DiasNOLaborables),\"\")","v":"2021-05-11"},{"$f":"+IF(C449=\"\",\"\",IF(J449=\"\",\"SIN RESPUESTA\",(IF(J449<=M449,\"A TIEMPO\",\"FUERA DE TIEMPO\"))))","v":"A TIEMPO"},{"$f":"IF(J449=\"\",\"\",NETWORKDAYS(C449+1,J449,DiasNOLaborables))","v":5},"",null,null,30]
[439,20219050045312,"2021-04-13","CIUDADANO","MODULO CONTACTENOS","PETICIÓN","INFORMES AMBIENTALES","SI","SUBDIRECCIÓN DE ESTUDIOS AMBIENTALES","2021-04-21","CORREO ELECTRÓNICO",null,{"$f":"IFERROR(WORKDAY(C450,S449,DiasNOLaborables),\"\")","v":"2021-05-26"},{"$f":"+IF(C450=\"\",\"\",IF(J450=\"\",\"SIN RESPUESTA\",(IF(J450<=M450,\"A TIEMPO\",\"FUERA DE TIEMPO\"))))","v":"A TIEMPO"},{"$f":"IF(J450=\"\",\"\",NETWORKDAYS(C450+1,J450,DiasNOLaborables))","v":6},"",null,null,20]
[440,20219050045322,"2021-04-13","CIUDADANO","MODULO CONTACTENOS","SOLICITUD DE INFORMACIÓN Y DOCUMENTOS","PRONÓSTICOS Y ALERTAS","SI","SUBDIRECCIÓN DE METEOROLOGÍA","2021-05-03","CORREO ELECTRÓNICO",null,{"$f":"IFERROR(WORKDAY(C451,S450,DiasNOLaborables),\"\")","v":"2021-05-11"},{"$f":"+IF(C451=\"\",\"\",IF(J451=\"\",\"SIN RESPUESTA\",(IF(J451<=M451,\"A TIEMPO\",\"FUERA DE TIEMPO\"))))","v":"A TIEMPO"},{"$f":"IF(J451=\"\",\"\",NETWORKDAYS(C451+1,J451,DiasNOLaborables))","v":14},"",null,null,20]
[441,20219050045372,"2021-04-13","ENTIDAD PÚBLICA","CORREO ELECTRÓNICO","SOLICITUD DE INFORMACIÓN Y DOCUMENTOS","INFORMES AMBIENTALES","SI","DIRECCIÓN GENERAL","2021-04-20","CORREO ELECTRÓNICO",null,{"$f":"IFERROR(WORKDAY(C452,S451,DiasNOLaborables),\"\")","v":"2021-05-11"},{"$f":"+IF(C452=\"\",\"\",IF(J452=\"\",\"SIN RESPUESTA\",(IF(J452<=M452,\"A TIEMPO\",\"FUERA DE TIEMPO\"))))","v":"A TIEMPO"},{"$f":"IF(J452=\"\",\"\",NETWORKDAYS(C452+1,J452,DiasNOLaborables))","v":5},"",null,null,35]
[442,20219050045422,"2021-04-13","CIUDADANO","CORREO ELECTRÓNICO","CERTIFICACIONES DE TIEMPO, CLIMA Y EVENTOS HIDROLÓGICOS","CERTIFICACIONES DE TIEMPO Y CLIMA","SI","SUBDIRECCIÓN DE METEOROLOGÍA","2021-04-21","CORREO ELECTRÓNICO",null,{"$f":"IFERROR(WORKDAY(C453,S452,DiasNOLaborables),\"\")","v":"2021-06-02"},{"$f":"+IF(C453=\"\",\"\",IF(J453=\"\",\"SIN RESPUESTA\",(IF(J453<=M453,\"A TIEMPO\",\"FUERA DE TIEMPO\"))))","v":"A TIEMPO"},{"$f":"IF(J453=\"\",\"\",NETWORKDAYS(C453+1,J453,DiasNOLaborables))","v":6},"",null,null,35]
[443,20219050045442,"2021-04-13","CIUDADANO","CORREO ELECTRÓNICO","CERTIFICACIONES DE TIEMPO, CLIMA Y EVENTOS HIDROLÓGICOS","CERTIFICACIONES DE TIEMPO Y CLIMA","SI","SUBDIRECCIÓN DE METEOROLOGÍA","2021-04-20","CORREO ELECTRÓNICO",null,{"$f":"IFERROR(WORKDAY(C454,S453,DiasNOLaborables),\"\")","v":"2021-06-02"},{"$f":"+IF(C454=\"\",\"\",IF(J454=\"\",\"SIN RESPUESTA\",(IF(J454<=M454,\"A TIEMPO\",\"FUERA DE TIEMPO\"))))","v":"A TIEMPO"},{"$f":"IF(J454=\"\",\"\",NETWORKDAYS(C454+1,J454,DiasNOLaborables))","v":5},"",null,null,30]
[444,20219050045462,"2021-04-13","CIUDADANO","CORREO ELECTRÓNICO","PETICIÓN","CERTIFICACIONES DE TIEMPO Y CLIMA","SI","SUBDIRECCIÓN DE METEOROLOGÍA","2021-04-21","CORREO ELECTRÓNICO",null,{"$f":"IFERROR(WORKDAY(C455,S454,DiasNOLaborables),\"\")","v":"2021-05-26"},{"$f":"+IF(C455=\"\",\"\",IF(J455=\"\",\"SIN RESPUESTA\",(IF(J455<=M455,\"A TIEMPO\",\"FUERA DE TIEMPO\"))))","v":"A TIEMPO"},{"$f":"IF(J455=\"\",\"\",NETWORKDAYS(C455+1,J455,DiasNOLaborables))","v":6},"",null,null,20]
[445,20219050045472,"2021-04-13","CIUDADANO","CORREO ELECTRÓNICO","SOLICITUD DE INFORMACIÓN Y DOCUMENTOS","ADMINISTRATIVA","SI","GRUPO DE ADMINISTRACIÓN Y DESARROLLO DEL TALENTO HUMANO","2021-04-14","CORREO ELECTRÓNICO",null,{"$f":"IFERROR(WORKDAY(C456,S455,DiasNOLaborables),\"\")","v":"2021-05-11"},{"$f":"+IF(C456=\"\",\"\",IF(J456=\"\",\"SIN RESPUESTA\",(IF(J456<=M456,\"A TIEMPO\",\"FUERA DE TIEMPO\"))))","v":"A TIEMPO"},{"$f":"IF(J456=\"\",\"\",NETWORKDAYS(C456+1,J456,DiasNOLaborables))","v":1},"",null,null,20]
[446,20219050045502,"2021-04-13","CIUDADANO","CORREO ELECTRÓNICO","SOLICITUD DE INFORMACIÓN Y DOCUMENTOS","ADMINISTRATIVA","SI","GRUPO DE ADMINISTRACIÓN Y DESARROLLO DEL TALENTO HUMANO","2021-04-14","CORREO ELECTRÓNICO",null,{"$f":"IFERROR(WORKDAY(C457,S456,DiasNOLaborables),\"\")","v":"2021-05-11"},{"$f":"+IF(C457=\"\",\"\",IF(J457=\"\",\"SIN RESPUESTA\",(IF(J457<=M457,\"A TIEMPO\",\"FUERA DE TIEMPO\"))))","v":"A TIEMPO"},{"$f":"IF(J457=\"\",\"\",NETWORKDAYS(C457+1,J457,DiasNOLaborables))","v":1},"",null,null,20]
[447,20219050045512,"2021-04-13","CIUDADANO","CORREO ELECTRÓNICO","SOLICITUD DE INFORMACIÓN Y DOCUMENTOS","REGISTROS AMBIENTALES","SI","SUBDIRECCIÓN DE ESTUDIOS AMBIENTALES","2021-04-13","CORREO ELECTRÓNICO",null,{"$f":"IFERROR(WORKDAY(C458,S457,DiasNOLaborables),\"\")","v":"2021-05-11"},{"$f":"+IF(C458=\"\",\"\",IF(J458=\"\",\"SIN RESPUESTA\",(IF(J458<=M458,\"A TIEMPO\",\"FUERA DE TIEMPO\"))))","v":"A TIEMPO"},{"$f":"IF(J458=\"\",\"\",NETWORKDAYS(C458+1,J458,DiasNOLaborables))","v":-2},"",null,null,35]
[448,20219910020272,"2021-04-13","EMPRESA PRIVADA","CORREO ELECTRÓNICO","CERTIFICACIONES DE TIEMPO, CLIMA Y EVENTOS HIDROLÓGICOS","CERTIFICACIONES DE TIEMPO Y CLIMA","SI","SUBDIRECCIÓN DE METEOROLOGÍA","2021-04-30","CORREO ELECTRÓNICO",null,{"$f":"IFERROR(WORKDAY(C459,S458,DiasNOLaborables),\"\")","v":"2021-06-02"},{"$f":"+IF(C459=\"\",\"\",IF(J459=\"\",\"SIN RESPUESTA\",(IF(J459<=M459,\"A TIEMPO\",\"FUERA DE TIEMPO\"))))","v":"A TIEMPO"},{"$f":"IF(J459=\"\",\"\",NETWORKDAYS(C459+1,J459,DiasNOLaborables))","v":13},"",null,null,35]
[449,20219910020282,"2021-04-13","EMPRESA PRIVADA","CORREO ELECTRÓNICO","CERTIFICACIONES DE TIEMPO, CLIMA Y EVENTOS HIDROLÓGICOS","CERTIFICACIONES DE TIEMPO Y CLIMA","SI","SUBDIRECCIÓN DE METEOROLOGÍA","2021-04-30","CORREO ELECTRÓNICO",null,{"$f":"IFERROR(WORKDAY(C460,S459,DiasNOLaborables),\"\")","v":"2021-06-02"},{"$f":"+IF(C460=\"\",\"\",IF(J460=\"\",\"SIN RESPUESTA\",(IF(J460<=M460,\"A TIEMPO\",\"FUERA DE TIEMPO\"))))","v":"A TIEMPO"},{"$f":"IF(J460=\"\",\"\",NETWORKDAYS(C460+1,J460,DiasNOLaborables))","v":13},"",null,null,35]
[450,20219910020292,"2021-04-13","EMPRESA PRIVADA","CORREO ELECTRÓNICO","CERTIFICACIONES DE TIEMPO, CLIMA Y EVENTOS HIDROLÓGICOS","CERTIFICACIONES DE TIEMPO Y CLIMA","SI","SUBDIRECCIÓN DE METEOROLOGÍA","2021-04-21","CORREO ELECTRÓNICO",null,{"$f":"IFERROR(WORKDAY(C461,S460,DiasNOLaborables),\"\")","v":"2021-06-02"},{"$f":"+IF(C461=\"\",\"\",IF(J461=\"\",\"SIN RESPUESTA\",(IF(J461<=M461,\"A TIEMPO\",\"FUERA DE TIEMPO\"))))","v":"A TIEMPO"},{"$f":"IF(J461=\"\",\"\",NETWORKDAYS(C461+1,J461,DiasNOLaborables))","v":6},{"$f":"IF(NETWORKDAYS(M461+1,J461,DiasNOLaborables)<=0,\"\",NETWORKDAYS(M461+1,J461,DiasNOLaborables))","v":""},null,null,{"$f":"IFERROR(VLOOKUP(F462,$AA$51:$AB$64,2),\"\")","v":35}]
[{"$f":"IF(B462<>\"\",A461+1,\"\")","v":451},20219910020312,"2021-04-13","EMPRESA PRIVADA","CORREO ELECTRÓNICO","CERTIFICACIONES DE TIEMPO, CLIMA Y EVENTOS HIDROLÓGICOS","CERTIFICACIONES DE TIEMPO Y CLIMA","SI","SUBDIRECCIÓN DE METEOROLOGÍA","2021-04-21","CORREO ELECTRÓNICO",null,{"$f":"IFERROR(WORKDAY(C462,S461,DiasNOLaborables),\"\")","v":"2021-06-02"},{"$f":"+IF(C462=\"\",\"\",IF(J462=\"\",\"SIN RESPUESTA\",(IF(J462<=M462,\"A TIEMPO\",\"FUERA DE TIEMPO\"))))","v":"A TIEMPO"},{"$f":"IF(J462=\"\",\"\",NETWORKDAYS(C462+1,J462,DiasNOLaborables))","v":6},"",null,null,35]
[452,20219910020332,"2021-04-13","EMPRESA PRIVADA","CORREO ELECTRÓNICO","CERTIFICACIONES DE TIEMPO, CLIMA Y EVENTOS HIDROLÓGICOS","CERTIFICACIONES DE TIEMPO Y CLIMA","SI","SUBDIRECCIÓN DE METEOROLOGÍA","2021-04-22","CORREO ELECTRÓNICO",null,{"$f":"IFERROR(WORKDAY(C463,S462,DiasNOLaborables),\"\")","v":"2021-06-02"},{"$f":"+IF(C463=\"\",\"\",IF(J463=\"\",\"SIN RESPUESTA\",(IF(J463<=M463,\"A TIEMPO\",\"FUERA DE TIEMPO\"))))","v":"A TIEMPO"},{"$f":"IF(J463=\"\",\"\",NETWORKDAYS(C463+1,J463,DiasNOLaborables))","v":7},"",null,null,20]
[453,20219050045352,"2021-04-13","CIUDADANO","MODULO CONTACTENOS","SOLICITUD DE INFORMACIÓN Y DOCUMENTOS","CLIMATOLOGÍA","SI","SUBDIRECCIÓN DE METEOROLOGÍA","2021-05-05","CORREO ELECTRÓNICO",null,{"$f":"IFERROR(WORKDAY(C464,S463,DiasNOLaborables),\"\")","v":"2021-05-11"},{"$f":"+IF(C464=\"\",\"\",IF(J464=\"\",\"SIN RESPUESTA\",(IF(J464<=M464,\"A TIEMPO\",\"FUERA DE TIEMPO\"))))","v":"A TIEMPO"},{"$f":"IF(J464=\"\",\"\",NETWORKDAYS(C464+1,J464,DiasNOLaborables))","v":16},"",null,null,35]
[454,20219050045382,"2021-04-13","CIUDADANO","MODULO CONTACTENOS","CERTIFICACIONES DE TIEMPO, CLIMA Y EVENTOS HIDROLÓGICOS","CERTIFICACIONES DE TIEMPO Y CLIMA","SI","SUBDIRECCIÓN DE METEOROLOGÍA","2021-04-22","CORREO ELECTRÓNICO",null,{"$f":"IFERROR(WORKDAY(C465,S464,DiasNOLaborables),\"\")","v":"2021-06-02"},{"$f":"+IF(C465=\"\",\"\",IF(J465=\"\",\"SIN RESPUESTA\",(IF(J465<=M465,\"A TIEMPO\",\"FUERA DE TIEMPO\"))))","v":"A TIEMPO"},{"$f":"IF(J465=\"\",\"\",NETWORKDAYS(C465+1,J465,DiasNOLaborables))","v":7},"",null,null,20]
[455,20219050045532,"2021-04-13","CIUDADANO","MODULO CONTACTENOS","SOLICITUD DE INFORMACIÓN Y DOCUMENTOS","ADMINISTRATIVA","SI","OFICINA ASESORA JURÍDICA","2021-04-19","CORREO ELECTRÓNICO",null,{"$f":"IFERROR(WORKDAY(C466,S465,DiasNOLaborables),\"\")","v":"2021-05-11"},{"$f":"+IF(C466=\"\",\"\",IF(J466=\"\",\"SIN RESPUESTA\",(IF(J466<=M466,\"A TIEMPO\",\"FUERA DE TIEMPO\"))))","v":"A TIEMPO"},{"$f":"IF(J466=\"\",\"\",NETWORKDAYS(C466+1,J466,DiasNOLaborables))","v":4},"",null,null,20]
[456,20219050045552,"2021-04-13","CIUDADANO","MODULO CONTACTENOS","SOLICITUD DE INFORMACIÓN Y DOCUMENTOS","ADMINISTRATIVA","SI","GRUPO DE TESORERÍA","2021-04-23","CORREO ELECTRÓNICO",null,{"$f":"IFERROR(WORKDAY(C467,S466,DiasNOLaborables),\"\")","v":"2021-05-11"},{"$f":"+IF(C467=\"\",\"\",IF(J467=\"\",\"SIN RESPUESTA\",(IF(J467<=M467,\"A TIEMPO\",\"FUERA DE TIEMPO\"))))","v":"A TIEMPO"},{"$f":"IF(J467=\"\",\"\",NETWORKDAYS(C467+1,J467,DiasNOLaborables))","v":8},"",null,null,20]
[457,20219050045562,"2021-04-13","CIUDADANO","MODULO CONTACTENOS","SOLICITUD DE INFORMACIÓN Y DOCUMENTOS","REGISTROS AMBIENTALES","SI","SUBDIRECCIÓN DE ESTUDIOS AMBIENTALES","2021-04-21","CORREO ELECTRÓNICO",null,{"$f":"IFERROR(WORKDAY(C468,S467,DiasNOLaborables),\"\")","v":"2021-05-11"},{"$f":"+IF(C468=\"\",\"\",IF(J468=\"\",\"SIN RESPUESTA\",(IF(J468<=M468,\"A TIEMPO\",\"FUERA DE TIEMPO\"))))","v":"A TIEMPO"},{"$f":"IF(J468=\"\",\"\",NETWORKDAYS(C468+1,J468,DiasNOLaborables))","v":6},"",null,null,20]
[458,20219050045582,"2021-04-13","FUNCIONARIO IDEAM","MODULO CONTACTENOS","SOLICITUD DE INFORMACIÓN Y DOCUMENTOS","ADMINISTRATIVA","SI","GRUPO DE ADMINISTRACIÓN Y DESARROLLO DEL TALENTO HUMANO","2021-04-15","CORREO ELECTRÓNICO",null,{"$f":"IFERROR(WORKDAY(C469,S468,DiasNOLaborables),\"\")","v":"2021-05-11"},{"$f":"+IF(C469=\"\",\"\",IF(J469=\"\",\"SIN RESPUESTA\",(IF(J469<=M469,\"A TIEMPO\",\"FUERA DE TIEMPO\"))))","v":"A TIEMPO"},{"$f":"IF(J469=\"\",\"\",NETWORKDAYS(C469+1,J469,DiasNOLaborables))","v":2},"",null,null,20]
[459,20219050045602,"2021-04-13","FUNCIONARIO IDEAM","MODULO CONTACTENOS","SOLICITUD DE INFORMACIÓN Y DOCUMENTOS","ADMINISTRATIVA","SI","GRUPO DE ADMINISTRACIÓN Y DESARROLLO DEL TALENTO HUMANO","2021-04-23","CORREO ELECTRÓNICO",null,{"$f":"IFERROR(WORKDAY(C470,S469,DiasNOLaborables),\"\")","v":"2021-05-11"},{"$f":"+IF(C470=\"\",\"\",IF(J470=\"\",\"SIN RESPUESTA\",(IF(J470<=M470,\"A TIEMPO\",\"FUERA DE TIEMPO\"))))","v":"A TIEMPO"},{"$f":"IF(J470=\"\",\"\",NETWORKDAYS(C470+1,J470,DiasNOLaborables))","v":8},"",null,null,20]
[460,20219050045632,"2021-04-13","EMPRESA PRIVADA","MODULO CONTACTENOS","SOLICITUD DE INFORMACIÓN Y DOCUMENTOS","ADMINISTRATIVA","SI","GRUPO DE TESORERÍA","2021-04-27","CORREO ELECTRÓNICO",null,{"$f":"IFERROR(WORKDAY(C471,S470,DiasNOLaborables),\"\")","v":"2021-05-11"},{"$f":"+IF(C471=\"\",\"\",IF(J471=\"\",\"SIN RESPUESTA\",(IF(J471<=M471,\"A TIEMPO\",\"FUERA DE TIEMPO\"))))","v":"A TIEMPO"},{"$f":"IF(J471=\"\",\"\",NETWORKDAYS(C471+1,J471,DiasNOLaborables))","v":10},"",null,null,20]
[461,20219050045702,"2021-04-13","FUNCIONARIO IDEAM","MODULO CONTACTENOS","SOLICITUD DE INFORMACIÓN Y DOCUMENTOS","ADMINISTRATIVA","SI","GRUPO DE ADMINISTRACIÓN Y DESARROLLO DEL TALENTO HUMANO","2021-04-26","CORREO ELECTRÓNICO",null,{"$f":"IFERROR(WORKDAY(C472,S471,DiasNOLaborables),\"\")","v":"2021-05-11"},{"$f":"+IF(C472=\"\",\"\",IF(J472=\"\",\"SIN RESPUESTA\",(IF(J472<=M472,\"A TIEMPO\",\"FUERA DE TIEMPO\"))))","v":"A TIEMPO"},{"$f":"IF(J472=\"\",\"\",NETWORKDAYS(C472+1,J472,DiasNOLaborables))","v":9},"",null,null,20]
[462,20219050045812,"2021-04-13","CIUDADANO","CORREO ELECTRÓNICO","SOLICITUD DE INFORMACIÓN Y DOCUMENTOS","ASESORÍAS Y CHARLAS","SI","SUBDIRECCIÓN DE HIDROLOGÍA","2021-04-29","CORREO ELECTRÓNICO",null,{"$f":"IFERROR(WORKDAY(C473,S472,DiasNOLaborables),\"\")","v":"2021-05-11"},{"$f":"+IF(C473=\"\",\"\",IF(J473=\"\",\"SIN RESPUESTA\",(IF(J473<=M473,\"A TIEMPO\",\"FUERA DE TIEMPO\"))))","v":"A TIEMPO"},{"$f":"IF(J473=\"\",\"\",NETWORKDAYS(C473+1,J473,DiasNOLaborables))","v":12},"",null,null,20]
[463,20219050045832,"2021-04-13","CIUDADANO","CORREO ELECTRÓNICO","SOLICITUD DE INFORMACIÓN Y DOCUMENTOS","CAMBIO CLIMÁTICO","SI","SUBDIRECCIÓN DE ESTUDIOS AMBIENTALES","2021-04-21","CORREO ELECTRÓNICO",null,{"$f":"IFERROR(WORKDAY(C474,S473,DiasNOLaborables),\"\")","v":"2021-05-11"},{"$f":"+IF(C474=\"\",\"\",IF(J474=\"\",\"SIN RESPUESTA\",(IF(J474<=M474,\"A TIEMPO\",\"FUERA DE TIEMPO\"))))","v":"A TIEMPO"},{"$f":"IF(J474=\"\",\"\",NETWORKDAYS(C474+1,J474,DiasNOLaborables))","v":6},"",null,null,20]
[464,20219050045872,"2021-04-13","CIUDADANO","CORREO ELECTRÓNICO","SOLICITUD DE INFORMACIÓN Y DOCUMENTOS","LABORATORIO DE CALIDAD AMBIENTAL","SI","SUBDIRECCIÓN DE ESTUDIOS AMBIENTALES","2021-04-26","CORREO ELECTRÓNICO",null,{"$f":"IFERROR(WORKDAY(C475,S474,DiasNOLaborables),\"\")","v":"2021-05-11"},{"$f":"+IF(C475=\"\",\"\",IF(J475=\"\",\"SIN RESPUESTA\",(IF(J475<=M475,\"A TIEMPO\",\"FUERA DE TIEMPO\"))))","v":"A TIEMPO"},{"$f":"IF(J475=\"\",\"\",NETWORKDAYS(C475+1,J475,DiasNOLaborables))","v":9},"",null,null,35]
[465,20219050045892,"2021-04-13","CIUDADANO","CORREO ELECTRÓNICO","CERTIFICACIONES DE TIEMPO, CLIMA Y EVENTOS HIDROLÓGICOS","CERTIFICACIONES DE TIEMPO Y CLIMA","SI","SUBDIRECCIÓN DE METEOROLOGÍA","2021-04-15","CORREO ELECTRÓNICO",null,{"$f":"IFERROR(WORKDAY(C476,S475,DiasNOLaborables),\"\")","v":"2021-06-02"},{"$f":"+IF(C476=\"\",\"\",IF(J476=\"\",\"SIN RESPUESTA\",(IF(J476<=M476,\"A TIEMPO\",\"FUERA DE TIEMPO\"))))","v":"A TIEMPO"},{"$f":"IF(J476=\"\",\"\",NETWORKDAYS(C476+1,J476,DiasNOLaborables))","v":2},"",null,null,20]
[466,20219050045902,"2021-04-13","ENTIDAD PÚBLICA","CORREO ELECTRÓNICO","SOLICITUD DE INFORMACIÓN Y DOCUMENTOS","PRONÓSTICOS Y ALERTAS","SI","OFICINA DEL SERVICIO DE PRONÓSTICOS Y ALERTAS","2021-04-29","CORREO ELECTRÓNICO",null,{"$f":"IFERROR(WORKDAY(C477,S476,DiasNOLaborables),\"\")","v":"2021-05-11"},{"$f":"+IF(C477=\"\",\"\",IF(J477=\"\",\"SIN RESPUESTA\",(IF(J477<=M477,\"A TIEMPO\",\"FUERA DE TIEMPO\"))))","v":"A TIEMPO"},{"$f":"IF(J477=\"\",\"\",NETWORKDAYS(C477+1,J477,DiasNOLaborables))","v":12},"",null,null,20]
[467,20219050045242,"2021-04-13","ACADEMIA ","MODULO CONTACTENOS","SOLICITUD DE INFORMACIÓN Y DOCUMENTOS","SOLICITUD DE INFORMACIÓN HIDROMETEOROLÓGICA","NO","GRUPO DE SERVICIO AL CIUDADANO ","2021-05-04","CORREO ELECTRÓNICO",null,{"$f":"IFERROR(WORKDAY(C478,S477,DiasNOLaborables),\"\")","v":"2021-05-11"},{"$f":"+IF(C478=\"\",\"\",IF(J478=\"\",\"SIN RESPUESTA\",(IF(J478<=M478,\"A TIEMPO\",\"FUERA DE TIEMPO\"))))","v":"A TIEMPO"},{"$f":"IF(J478=\"\",\"\",NETWORKDAYS(C478+1,J478,DiasNOLaborables))","v":15},"",null,null,20]
[468,20219050045262,"2021-04-13","CIUDADANO","MODULO CONTACTENOS","SOLICITUD DE INFORMACIÓN Y DOCUMENTOS","SOLICITUD DE INFORMACIÓN HIDROMETEOROLÓGICA","NO","GRUPO DE SERVICIO AL CIUDADANO ","2021-05-05","CORREO ELECTRÓNICO",null,{"$f":"IFERROR(WORKDAY(C479,S478,DiasNOLaborables),\"\")","v":"2021-05-11"},{"$f":"+IF(C479=\"\",\"\",IF(J479=\"\",\"SIN RESPUESTA\",(IF(J479<=M479,\"A TIEMPO\",\"FUERA DE TIEMPO\"))))","v":"A TIEMPO"},{"$f":"IF(J479=\"\",\"\",NETWORKDAYS(C479+1,J479,DiasNOLaborables))","v":16},"",null,null,20]
[469,20219050045292,"2021-04-13","CIUDADANO","MODULO CONTACTENOS","SOLICITUD DE INFORMACIÓN Y DOCUMENTOS","SOLICITUD DE INFORMACIÓN HIDROMETEOROLÓGICA","SI","OFICINA DE INFORMÁTICA","2021-05-05","CORREO ELECTRÓNICO",null,{"$f":"IFERROR(WORKDAY(C480,S479,DiasNOLaborables),\"\")","v":"2021-05-11"},{"$f":"+IF(C480=\"\",\"\",IF(J480=\"\",\"SIN RESPUESTA\",(IF(J480<=M480,\"A TIEMPO\",\"FUERA DE TIEMPO\"))))","v":"A TIEMPO"},{"$f":"IF(J480=\"\",\"\",NETWORKDAYS(C480+1,J480,DiasNOLaborables))","v":16},"",null,null,20]
[470,20219050045772,"2021-04-13","CIUDADANO","CORREO ELECTRÓNICO","SOLICITUD DE INFORMACIÓN Y DOCUMENTOS","BOSQUES","SI","SUBDIRECCIÓN DE ECOSISTEMAS E INFORMACIÓN AMBIENTAL","2021-04-19","CORREO ELECTRÓNICO",null,{"$f":"IFERROR(WORKDAY(C481,S480,DiasNOLaborables),\"\")","v":"2021-05-11"},{"$f":"+IF(C481=\"\",\"\",IF(J481=\"\",\"SIN RESPUESTA\",(IF(J481<=M481,\"A TIEMPO\",\"FUERA DE TIEMPO\"))))","v":"A TIEMPO"},{"$f":"IF(J481=\"\",\"\",NETWORKDAYS(C481+1,J481,DiasNOLaborables))","v":4},"",null,null,20]
[471,20219050045792,"2021-04-13","ENTIDAD PÚBLICA","CORREO ELECTRÓNICO","SOLICITUD DE INFORMACIÓN Y DOCUMENTOS","REGISTROS AMBIENTALES","SI","SUBDIRECCIÓN DE ESTUDIOS AMBIENTALES","2021-04-21","CORREO ELECTRÓNICO",null,{"$f":"IFERROR(WORKDAY(C482,S481,DiasNOLaborables),\"\")","v":"2021-05-11"},{"$f":"+IF(C482=\"\",\"\",IF(J482=\"\",\"SIN RESPUESTA\",(IF(J482<=M482,\"A TIEMPO\",\"FUERA DE TIEMPO\"))))","v":"A TIEMPO"},{"$f":"IF(J482=\"\",\"\",NETWORKDAYS(C482+1,J482,DiasNOLaborables))","v":6},"",null,null,20]
[472,20219050045822,"2021-04-13","ACADEMIA","MODULO CONTACTENOS","SOLICITUD DE INFORMACIÓN Y DOCUMENTOS","SOLICITUD DE INFORMACIÓN HIDROMETEOROLÓGICA","NO","GRUPO DE SERVICIO AL CIUDADANO ","2021-05-11","CORREO ELECTRÓNICO",null,{"$f":"IFERROR(WORKDAY(C483,S482,DiasNOLaborables),\"\")","v":"2021-05-11"},{"$f":"+IF(C483=\"\",\"\",IF(J483=\"\",\"SIN RESPUESTA\",(IF(J483<=M483,\"A TIEMPO\",\"FUERA DE TIEMPO\"))))","v":"A TIEMPO"},{"$f":"IF(J483=\"\",\"\",NETWORKDAYS(C483+1,J483,DiasNOLaborables))","v":20},"",null,null,20]
[473,20219050045842,"2021-04-13","ACADEMIA","MODULO CONTACTENOS","SOLICITUD DE INFORMACIÓN Y DOCUMENTOS","SOLICITUD DE INFORMACIÓN HIDROMETEOROLÓGICA","NO","GRUPO DE SERVICIO AL CIUDADANO ","2021-05-11","CORREO ELECTRÓNICO",null,{"$f":"IFERROR(WORKDAY(C484,S483,DiasNOLaborables),\"\")","v":"2021-05-11"},{"$f":"+IF(C484=\"\",\"\",IF(J484=\"\",\"SIN RESPUESTA\",(IF(J484<=M484,\"A TIEMPO\",\"FUERA DE TIEMPO\"))))","v":"A TIEMPO"},{"$f":"IF(J484=\"\",\"\",NETWORKDAYS(C484+1,J484,DiasNOLaborables))","v":20},"",null,null,20]
[474,20219050045852,"2021-04-13","CIUDADANO","MODULO CONTACTENOS","SOLICITUD DE INFORMACIÓN Y DOCUMENTOS","SOLICITUD DE INFORMACIÓN HIDROMETEOROLÓGICA","NO","GRUPO DE SERVICIO AL CIUDADANO ","2021-05-11","CORREO ELECTRÓNICO",null,{"$f":"IFERROR(WORKDAY(C485,S484,DiasNOLaborables),\"\")","v":"2021-05-11"},{"$f":"+IF(C485=\"\",\"\",IF(J485=\"\",\"SIN RESPUESTA\",(IF(J485<=M485,\"A TIEMPO\",\"FUERA DE TIEMPO\"))))","v":"A TIEMPO"},{"$f":"IF(J485=\"\",\"\",NETWORKDAYS(C485+1,J485,DiasNOLaborables))","v":20},"",null,null,20]
[475,20219050045862,"2021-04-13","CIUDADANO","MODULO CONTACTENOS","SOLICITUD DE INFORMACIÓN Y DOCUMENTOS","SOLICITUD DE INFORMACIÓN HIDROMETEOROLÓGICA","NO","GRUPO DE SERVICIO AL CIUDADANO ","2021-05-11","CORREO ELECTRÓNICO",null,{"$f":"IFERROR(WORKDAY(C486,S485,DiasNOLaborables),\"\")","v":"2021-05-11"},{"$f":"+IF(C486=\"\",\"\",IF(J486=\"\",\"SIN RESPUESTA\",(IF(J486<=M486,\"A TIEMPO\",\"FUERA DE TIEMPO\"))))","v":"A TIEMPO"},{"$f":"IF(J486=\"\",\"\",NETWORKDAYS(C486+1,J486,DiasNOLaborables))","v":20},"",null,null,20]
[476,20219050045882,"2021-04-13","CIUDADANO","MODULO CONTACTENOS","SOLICITUD DE INFORMACIÓN Y DOCUMENTOS","SOLICITUD DE INFORMACIÓN HIDROMETEOROLÓGICA","NO","GRUPO DE SERVICIO AL CIUDADANO ","2021-05-11","CORREO ELECTRÓNICO",null,{"$f":"IFERROR(WORKDAY(C487,S486,DiasNOLaborables),\"\")","v":"2021-05-11"},{"$f":"+IF(C487=\"\",\"\",IF(J487=\"\",\"SIN RESPUESTA\",(IF(J487<=M487,\"A TIEMPO\",\"FUERA DE TIEMPO\"))))","v":"A TIEMPO"},{"$f":"IF(J487=\"\",\"\",NETWORKDAYS(C487+1,J487,DiasNOLaborables))","v":20},"",null,null,20]
[477,20219050045912,"2021-04-13","CIUDADANO","MODULO CONTACTENOS","SOLICITUD DE INFORMACIÓN Y DOCUMENTOS","SOLICITUD DE INFORMACIÓN HIDROMETEOROLÓGICA","NO","GRUPO DE SERVICIO AL CIUDADANO ","2021-05-11","CORREO ELECTRÓNICO",null,{"$f":"IFERROR(WORKDAY(C488,S487,DiasNOLaborables),\"\")","v":"2021-05-11"},{"$f":"+IF(C488=\"\",\"\",IF(J488=\"\",\"SIN RESPUESTA\",(IF(J488<=M488,\"A TIEMPO\",\"FUERA DE TIEMPO\"))))","v":"A TIEMPO"},{"$f":"IF(J488=\"\",\"\",NETWORKDAYS(C488+1,J488,DiasNOLaborables))","v":20},"",null,null,20]
[478,20219050045922,"2021-04-13","CIUDADANO","MODULO CONTACTENOS","SOLICITUD DE INFORMACIÓN Y DOCUMENTOS","SOLICITUD DE INFORMACIÓN HIDROMETEOROLÓGICA","NO","GRUPO DE SERVICIO AL CIUDADANO ","2021-05-11","CORREO ELECTRÓNICO",null,{"$f":"IFERROR(WORKDAY(C489,S488,DiasNOLaborables),\"\")","v":"2021-05-11"},{"$f":"+IF(C489=\"\",\"\",IF(J489=\"\",\"SIN RESPUESTA\",(IF(J489<=M489,\"A TIEMPO\",\"FUERA DE TIEMPO\"))))","v":"A TIEMPO"},{"$f":"IF(J489=\"\",\"\",NETWORKDAYS(C489+1,J489,DiasNOLaborables))","v":20},"",null,null,20]
[479,20219050045932,"2021-04-13","ACADEMIA","MODULO CONTACTENOS","SOLICITUD DE INFORMACIÓN Y DOCUMENTOS","SOLICITUD DE INFORMACIÓN HIDROMETEOROLÓGICA","NO","GRUPO DE SERVICIO AL CIUDADANO ","2021-05-11","CORREO ELECTRÓNICO",null,{"$f":"IFERROR(WORKDAY(C490,S489,DiasNOLaborables),\"\")","v":"2021-05-11"},{"$f":"+IF(C490=\"\",\"\",IF(J490=\"\",\"SIN RESPUESTA\",(IF(J490<=M490,\"A TIEMPO\",\"FUERA DE TIEMPO\"))))","v":"A TIEMPO"},{"$f":"IF(J490=\"\",\"\",NETWORKDAYS(C490+1,J490,DiasNOLaborables))","v":20},"",null,null,20]
[480,20219050046612,"2021-04-14","EMPRESA PRIVADA","CORREO ELECTRÓNICO","SOLICITUD DE INFORMACIÓN Y DOCUMENTOS","REGISTROS AMBIENTALES","SI","SUBDIRECCIÓN DE ESTUDIOS AMBIENTALES","2021-04-18","CORREO ELECTRÓNICO",null,{"$f":"IFERROR(WORKDAY(C491,S490,DiasNOLaborables),\"\")","v":"2021-05-12"},{"$f":"+IF(C491=\"\",\"\",IF(J491=\"\",\"SIN RESPUESTA\",(IF(J491<=M491,\"A TIEMPO\",\"FUERA DE TIEMPO\"))))","v":"A TIEMPO"},{"$f":"IF(J491=\"\",\"\",NETWORKDAYS(C491+1,J491,DiasNOLaborables))","v":2},"",null,null,20]
[481,20219050046632,"2021-04-14","EMPRESA PRIVADA","CORREO ELECTRÓNICO","SOLICITUD DE INFORMACIÓN Y DOCUMENTOS","REGISTROS AMBIENTALES","SI","SUBDIRECCIÓN DE ESTUDIOS AMBIENTALES","2021-04-14","CORREO ELECTRÓNICO",null,{"$f":"IFERROR(WORKDAY(C492,S491,DiasNOLaborables),\"\")","v":"2021-05-12"},{"$f":"+IF(C492=\"\",\"\",IF(J492=\"\",\"SIN RESPUESTA\",(IF(J492<=M492,\"A TIEMPO\",\"FUERA DE TIEMPO\"))))","v":"A TIEMPO"},{"$f":"IF(J492=\"\",\"\",NETWORKDAYS(C492+1,J492,DiasNOLaborables))","v":-2},"",null,null,20]
[482,20219050046652,"2021-04-14","ENTIDAD PÚBLICA","CORREO ELECTRÓNICO","SOLICITUD DE INFORMACIÓN Y DOCUMENTOS","INFORMES AMBIENTALES","SI","SUBDIRECCIÓN DE ECOSISTEMAS E INFORMACIÓN AMBIENTAL","2021-05-11","CORREO ELECTRÓNICO",null,{"$f":"IFERROR(WORKDAY(C493,S492,DiasNOLaborables),\"\")","v":"2021-05-12"},{"$f":"+IF(C493=\"\",\"\",IF(J493=\"\",\"SIN RESPUESTA\",(IF(J493<=M493,\"A TIEMPO\",\"FUERA DE TIEMPO\"))))","v":"A TIEMPO"},{"$f":"IF(J493=\"\",\"\",NETWORKDAYS(C493+1,J493,DiasNOLaborables))","v":19},"",null,null,20]
[483,20219050046662,"2021-04-14","CIUDADANO","CORREO ELECTRÓNICO","SOLICITUD DE INFORMACIÓN Y DOCUMENTOS","WEB Y CORREO","SI","OFICINA DE INFORMÁTICA","2021-04-22","CORREO ELECTRÓNICO",null,{"$f":"IFERROR(WORKDAY(C494,S493,DiasNOLaborables),\"\")","v":"2021-05-12"},{"$f":"+IF(C494=\"\",\"\",IF(J494=\"\",\"SIN RESPUESTA\",(IF(J494<=M494,\"A TIEMPO\",\"FUERA DE TIEMPO\"))))","v":"A TIEMPO"},{"$f":"IF(J494=\"\",\"\",NETWORKDAYS(C494+1,J494,DiasNOLaborables))","v":6},"",null,null,20]
[484,20219050046052,"2021-04-14","ENTIDAD PÚBLICA","MODULO CONTACTENOS","SOLICITUD DE INFORMACIÓN Y DOCUMENTOS","SOLICITUD DE INFORMACIÓN HIDROMETEOROLÓGICA","NO","GRUPO DE SERVICIO AL CIUDADANO ","2021-05-07","CORREO ELECTRÓNICO",null,{"$f":"IFERROR(WORKDAY(C495,S494,DiasNOLaborables),\"\")","v":"2021-05-12"},{"$f":"+IF(C495=\"\",\"\",IF(J495=\"\",\"SIN RESPUESTA\",(IF(J495<=M495,\"A TIEMPO\",\"FUERA DE TIEMPO\"))))","v":"A TIEMPO"},{"$f":"IF(J495=\"\",\"\",NETWORKDAYS(C495+1,J495,DiasNOLaborables))","v":17},"",null,null,20]
[485,20219050046072,"2021-04-14","CIUDADANO","MODULO CONTACTENOS","SOLICITUD DE INFORMACIÓN Y DOCUMENTOS","SOLICITUD DE INFORMACIÓN HIDROMETEOROLÓGICA","NO","GRUPO DE SERVICIO AL CIUDADANO ","2021-05-07","CORREO ELECTRÓNICO",null,{"$f":"IFERROR(WORKDAY(C496,S495,DiasNOLaborables),\"\")","v":"2021-05-12"},{"$f":"+IF(C496=\"\",\"\",IF(J496=\"\",\"SIN RESPUESTA\",(IF(J496<=M496,\"A TIEMPO\",\"FUERA DE TIEMPO\"))))","v":"A TIEMPO"},{"$f":"IF(J496=\"\",\"\",NETWORKDAYS(C496+1,J496,DiasNOLaborables))","v":17},"",null,null,20]
[486,20219050046092,"2021-04-14","CIUDADANO","MODULO CONTACTENOS","SOLICITUD DE INFORMACIÓN Y DOCUMENTOS","SOLICITUD DE INFORMACIÓN HIDROMETEOROLÓGICA","NO","GRUPO DE SERVICIO AL CIUDADANO ","2021-05-07","CORREO ELECTRÓNICO",null,{"$f":"IFERROR(WORKDAY(C497,S496,DiasNOLaborables),\"\")","v":"2021-05-12"},{"$f":"+IF(C497=\"\",\"\",IF(J497=\"\",\"SIN RESPUESTA\",(IF(J497<=M497,\"A TIEMPO\",\"FUERA DE TIEMPO\"))))","v":"A TIEMPO"},{"$f":"IF(J497=\"\",\"\",NETWORKDAYS(C497+1,J497,DiasNOLaborables))","v":17},"",null,null,20]
[487,20219050046202,"2021-04-14","CIUDADANO","MODULO CONTACTENOS","SOLICITUD DE INFORMACIÓN Y DOCUMENTOS","SOLICITUD DE INFORMACIÓN HIDROMETEOROLÓGICA","NO","GRUPO DE SERVICIO AL CIUDADANO ","2021-05-07","CORREO ELECTRÓNICO",null,{"$f":"IFERROR(WORKDAY(C498,S497,DiasNOLaborables),\"\")","v":"2021-05-12"},{"$f":"+IF(C498=\"\",\"\",IF(J498=\"\",\"SIN RESPUESTA\",(IF(J498<=M498,\"A TIEMPO\",\"FUERA DE TIEMPO\"))))","v":"A TIEMPO"},{"$f":"IF(J498=\"\",\"\",NETWORKDAYS(C498+1,J498,DiasNOLaborables))","v":17},"",null,null,20]
[488,20219050046242,"2021-04-14","CIUDADANO","MODULO CONTACTENOS","SOLICITUD DE INFORMACIÓN Y DOCUMENTOS","SOLICITUD DE INFORMACIÓN HIDROMETEOROLÓGICA","NO","GRUPO DE SERVICIO AL CIUDADANO ","2021-05-07","CORREO ELECTRÓNICO",null,{"$f":"IFERROR(WORKDAY(C499,S498,DiasNOLaborables),\"\")","v":"2021-05-12"},{"$f":"+IF(C499=\"\",\"\",IF(J499=\"\",\"SIN RESPUESTA\",(IF(J499<=M499,\"A TIEMPO\",\"FUERA DE TIEMPO\"))))","v":"A TIEMPO"},{"$f":"IF(J499=\"\",\"\",NETWORKDAYS(C499+1,J499,DiasNOLaborables))","v":17},"",null,null,20]
[489,20219050046272,"2021-04-14","CIUDADANO","MODULO CONTACTENOS","SOLICITUD DE INFORMACIÓN Y DOCUMENTOS","SOLICITUD DE INFORMACIÓN HIDROMETEOROLÓGICA","NO","GRUPO DE SERVICIO AL CIUDADANO ","2021-05-08","CORREO ELECTRÓNICO",null,{"$f":"IFERROR(WORKDAY(C500,S499,DiasNOLaborables),\"\")","v":"2021-05-12"},{"$f":"+IF(C500=\"\",\"\",IF(J500=\"\",\"SIN RESPUESTA\",(IF(J500<=M500,\"A TIEMPO\",\"FUERA DE TIEMPO\"))))","v":"A TIEMPO"},{"$f":"IF(J500=\"\",\"\",NETWORKDAYS(C500+1,J500,DiasNOLaborables))","v":17},"",null,null,35]
[490,20219050046672,"2021-04-14","EMPRESA PRIVADA","CORREO ELECTRÓNICO","CERTIFICACIONES DE TIEMPO, CLIMA Y EVENTOS HIDROLÓGICOS","CERTIFICACIONES DE TIEMPO Y CLIMA","SI","SUBDIRECCIÓN DE METEOROLOGÍA","2021-04-22","CORREO ELECTRÓNICO",null,{"$f":"IFERROR(WORKDAY(C501,S500,DiasNOLaborables),\"\")","v":"2021-06-03"},{"$f":"+IF(C501=\"\",\"\",IF(J501=\"\",\"SIN RESPUESTA\",(IF(J501<=M501,\"A TIEMPO\",\"FUERA DE TIEMPO\"))))","v":"A TIEMPO"},{"$f":"IF(J501=\"\",\"\",NETWORKDAYS([5]Hoja1!C499+1,[5]Hoja1!P499,DiasNOLaborables))","v":6},"",null,null,35]
[491,20219050046682,"2021-04-14","EMPRESA PRIVADA","CORREO ELECTRÓNICO","CERTIFICACIONES DE TIEMPO, CLIMA Y EVENTOS HIDROLÓGICOS","CERTIFICACIONES DE TIEMPO Y CLIMA","SI","SUBDIRECCIÓN DE METEOROLOGÍA","2021-05-10","CORREO ELECTRÓNICO",null,{"$f":"IFERROR(WORKDAY(C502,S501,DiasNOLaborables),\"\")","v":"2021-06-03"},{"$f":"+IF(C502=\"\",\"\",IF(J502=\"\",\"SIN RESPUESTA\",(IF(J502<=M502,\"A TIEMPO\",\"FUERA DE TIEMPO\"))))","v":"A TIEMPO"},{"$f":"IF(J502=\"\",\"\",NETWORKDAYS(C502+1,J502,DiasNOLaborables))","v":18},"",null,null,35]
[492,20219050046692,"2021-04-14","EMPRESA PRIVADA","CORREO ELECTRÓNICO","CERTIFICACIONES DE TIEMPO, CLIMA Y EVENTOS HIDROLÓGICOS","CERTIFICACIONES DE TIEMPO Y CLIMA","SI","SUBDIRECCIÓN DE METEOROLOGÍA","2021-04-29","CORREO ELECTRÓNICO",null,{"$f":"IFERROR(WORKDAY(C503,S502,DiasNOLaborables),\"\")","v":"2021-06-03"},{"$f":"+IF(C503=\"\",\"\",IF(J503=\"\",\"SIN RESPUESTA\",(IF(J503<=M503,\"A TIEMPO\",\"FUERA DE TIEMPO\"))))","v":"A TIEMPO"},{"$f":"IF(J503=\"\",\"\",NETWORKDAYS(C503+1,J503,DiasNOLaborables))","v":11},"",null,null,35]
[493,20219050046702,"2021-04-14","EMPRESA PRIVADA","CORREO ELECTRÓNICO","CERTIFICACIONES DE TIEMPO, CLIMA Y EVENTOS HIDROLÓGICOS","CERTIFICACIONES DE TIEMPO Y CLIMA","SI","SUBDIRECCIÓN DE METEOROLOGÍA","2021-05-03","CORREO ELECTRÓNICO",null,{"$f":"IFERROR(WORKDAY(C504,S503,DiasNOLaborables),\"\")","v":"2021-06-03"},{"$f":"+IF(C504=\"\",\"\",IF(J504=\"\",\"SIN RESPUESTA\",(IF(J504<=M504,\"A TIEMPO\",\"FUERA DE TIEMPO\"))))","v":"A TIEMPO"},{"$f":"IF(J504=\"\",\"\",NETWORKDAYS(C504+1,J504,DiasNOLaborables))","v":13},"",null,null,35]
[494,20219050046712,"2021-04-14","EMPRESA PRIVADA","CORREO ELECTRÓNICO","CERTIFICACIONES DE TIEMPO, CLIMA Y EVENTOS HIDROLÓGICOS","CERTIFICACIONES DE TIEMPO Y CLIMA","SI","SUBDIRECCIÓN DE METEOROLOGÍA","2021-05-06","CORREO ELECTRÓNICO",null,{"$f":"IFERROR(WORKDAY(C505,S504,DiasNOLaborables),\"\")","v":"2021-06-03"},{"$f":"+IF(C505=\"\",\"\",IF(J505=\"\",\"SIN RESPUESTA\",(IF(J505<=M505,\"A TIEMPO\",\"FUERA DE TIEMPO\"))))","v":"A TIEMPO"},{"$f":"IF(J505=\"\",\"\",NETWORKDAYS(C505+1,J505,DiasNOLaborables))","v":16},"",null,null,30]
[495,20219050046232,"2021-04-14","CIUDADANO","CORREO ELECTRÓNICO","PETICIÓN","SOLICITUD DE INFORMACIÓN HIDROMETEOROLÓGICA","SI","OFICINA DE INFORMÁTICA","2021-04-26","CORREO ELECTRÓNICO",null,{"$f":"IFERROR(WORKDAY(C506,S505,DiasNOLaborables),\"\")","v":"2021-05-27"},{"$f":"+IF(C506=\"\",\"\",IF(J506=\"\",\"SIN RESPUESTA\",(IF(J506<=M506,\"A TIEMPO\",\"FUERA DE TIEMPO\"))))","v":"A TIEMPO"},{"$f":"IF(J506=\"\",\"\",NETWORKDAYS(C506+1,J506,DiasNOLaborables))","v":8},"",null,null,20]
[496,20219050046252,"2021-04-14","CIUDADANO","CORREO ELECTRÓNICO","SOLICITUD DE INFORMACIÓN Y DOCUMENTOS","REGISTROS AMBIENTALES","SI","SUBDIRECCIÓN DE ESTUDIOS AMBIENTALES","2021-04-23","CORREO ELECTRÓNICO",null,{"$f":"IFERROR(WORKDAY(C507,S506,DiasNOLaborables),\"\")","v":"2021-05-12"},{"$f":"+IF(C507=\"\",\"\",IF(J507=\"\",\"SIN RESPUESTA\",(IF(J507<=M507,\"A TIEMPO\",\"FUERA DE TIEMPO\"))))","v":"A TIEMPO"},{"$f":"IF(J507=\"\",\"\",NETWORKDAYS(C507+1,J507,DiasNOLaborables))","v":7},"",null,null,20]
[497,20219050046482,"2021-04-14","CIUDADANO","CORREO ELECTRÓNICO","SOLICITUD DE INFORMACIÓN Y DOCUMENTOS","CAMBIO CLIMÁTICO","SI","SUBDIRECCIÓN DE METEOROLOGÍA","2021-05-05","CORREO ELECTRÓNICO",null,{"$f":"IFERROR(WORKDAY(C508,S507,DiasNOLaborables),\"\")","v":"2021-05-12"},{"$f":"+IF(C508=\"\",\"\",IF(J508=\"\",\"SIN RESPUESTA\",(IF(J508<=M508,\"A TIEMPO\",\"FUERA DE TIEMPO\"))))","v":"A TIEMPO"},{"$f":"IF(J508=\"\",\"\",NETWORKDAYS(C508+1,J508,DiasNOLaborables))","v":15},"",null,null,20]
[498,20219050046542,"2021-04-14","FUNCIONARIO IDEAM","CORREO ELECTRÓNICO","SOLICITUD DE INFORMACIÓN Y DOCUMENTOS","ADMINISTRATIVA","SI","GRUPO DE ADMINISTRACIÓN Y DESARROLLO DEL TALENTO HUMANO","2021-04-26","CORREO ELECTRÓNICO",null,{"$f":"IFERROR(WORKDAY(C509,S508,DiasNOLaborables),\"\")","v":"2021-05-12"},{"$f":"+IF(C509=\"\",\"\",IF(J509=\"\",\"SIN RESPUESTA\",(IF(J509<=M509,\"A TIEMPO\",\"FUERA DE TIEMPO\"))))","v":"A TIEMPO"},{"$f":"IF(J509=\"\",\"\",NETWORKDAYS(C509+1,J509,DiasNOLaborables))","v":8},"",null,null,20]
[499,20219050046552,"2021-04-14","CIUDADANO","CORREO ELECTRÓNICO","SOLICITUD DE INFORMACIÓN Y DOCUMENTOS","ADMINISTRATIVA","SI","GRUPO DE ADMINISTRACIÓN Y DESARROLLO DEL TALENTO HUMANO","2021-04-16","CORREO ELECTRÓNICO",null,{"$f":"IFERROR(WORKDAY(C510,S509,DiasNOLaborables),\"\")","v":"2021-05-12"},{"$f":"+IF(C510=\"\",\"\",IF(J510=\"\",\"SIN RESPUESTA\",(IF(J510<=M510,\"A TIEMPO\",\"FUERA DE TIEMPO\"))))","v":"A TIEMPO"},{"$f":"IF(J510=\"\",\"\",NETWORKDAYS(C510+1,J510,DiasNOLaborables))","v":2},"",null,null,20]
[500,20219050046572,"2021-04-14","CIUDADANO","CORREO ELECTRÓNICO","SOLICITUD DE INFORMACIÓN Y DOCUMENTOS","ADMINISTRATIVA","SI","GRUPO DE ADMINISTRACIÓN Y DESARROLLO DEL TALENTO HUMANO","2021-04-19","CORREO ELECTRÓNICO",null,{"$f":"IFERROR(WORKDAY(C511,S510,DiasNOLaborables),\"\")","v":"2021-05-12"},{"$f":"+IF(C511=\"\",\"\",IF(J511=\"\",\"SIN RESPUESTA\",(IF(J511<=M511,\"A TIEMPO\",\"FUERA DE TIEMPO\"))))","v":"A TIEMPO"},{"$f":"IF(J511=\"\",\"\",NETWORKDAYS(C511+1,J511,DiasNOLaborables))","v":3},"",null,null,20]
[501,20219050045982,"2021-04-14","CIUDADANO","MODULO CONTACTENOS","SOLICITUD DE INFORMACIÓN Y DOCUMENTOS","SIRH","SI","SUBDIRECCIÓN DE HIDROLOGÍA","2021-04-22","CORREO ELECTRÓNICO",null,{"$f":"IFERROR(WORKDAY(C512,S511,DiasNOLaborables),\"\")","v":"2021-05-12"},{"$f":"+IF(C512=\"\",\"\",IF(J512=\"\",\"SIN RESPUESTA\",(IF(J512<=M512,\"A TIEMPO\",\"FUERA DE TIEMPO\"))))","v":"A TIEMPO"},{"$f":"IF(J512=\"\",\"\",NETWORKDAYS(C512+1,J512,DiasNOLaborables))","v":6},"",null,null,20]
[502,20219050045992,"2021-04-14","EMPRESA PRIVADA","MODULO CONTACTENOS","SOLICITUD DE INFORMACIÓN Y DOCUMENTOS","SIA","SI","SUBDIRECCIÓN DE ECOSISTEMAS E INFORMACIÓN AMBIENTAL","2021-04-23","CORREO ELECTRÓNICO",null,{"$f":"IFERROR(WORKDAY(C513,S512,DiasNOLaborables),\"\")","v":"2021-05-12"},{"$f":"+IF(C513=\"\",\"\",IF(J513=\"\",\"SIN RESPUESTA\",(IF(J513<=M513,\"A TIEMPO\",\"FUERA DE TIEMPO\"))))","v":"A TIEMPO"},{"$f":"IF(J513=\"\",\"\",NETWORKDAYS(C513+1,J513,DiasNOLaborables))","v":7},"",null,null,30]
[503,20219050046032,"2021-04-14","CIUDADANO","CORREO ELECTRÓNICO","PETICIÓN","ADMINISTRATIVA","SI","GRUPO DE ADMINISTRACIÓN Y DESARROLLO DEL TALENTO HUMANO","2021-04-15","CORREO ELECTRÓNICO",null,{"$f":"IFERROR(WORKDAY(C514,S513,DiasNOLaborables),\"\")","v":"2021-05-27"},{"$f":"+IF(C514=\"\",\"\",IF(J514=\"\",\"SIN RESPUESTA\",(IF(J514<=M514,\"A TIEMPO\",\"FUERA DE TIEMPO\"))))","v":"A TIEMPO"},{"$f":"IF(J514=\"\",\"\",NETWORKDAYS(C514+1,J514,DiasNOLaborables))","v":1},"",null,null,30]
[504,20219050046042,"2021-04-14","EMPRESA PRIVADA","MODULO CONTACTENOS","PETICIÓN","SIA","SI","SUBDIRECCIÓN DE ECOSISTEMAS E INFORMACIÓN AMBIENTAL","2021-04-23","CORREO ELECTRÓNICO",null,{"$f":"IFERROR(WORKDAY(C515,S514,DiasNOLaborables),\"\")","v":"2021-05-27"},{"$f":"+IF(C515=\"\",\"\",IF(J515=\"\",\"SIN RESPUESTA\",(IF(J515<=M515,\"A TIEMPO\",\"FUERA DE TIEMPO\"))))","v":"A TIEMPO"},{"$f":"IF(J515=\"\",\"\",NETWORKDAYS(C515+1,J515,DiasNOLaborables))","v":7},"",null,null,20]
[505,20219050046152,"2021-04-14","CIUDADANO","CORREO ELECTRÓNICO","SOLICITUD DE INFORMACIÓN Y DOCUMENTOS","REGISTROS AMBIENTALES","SI","SUBDIRECCIÓN DE ECOSISTEMAS E INFORMACIÓN AMBIENTAL","2021-04-26","CORREO ELECTRÓNICO",null,{"$f":"IFERROR(WORKDAY(C516,S515,DiasNOLaborables),\"\")","v":"2021-05-12"},{"$f":"+IF(C516=\"\",\"\",IF(J516=\"\",\"SIN RESPUESTA\",(IF(J516<=M516,\"A TIEMPO\",\"FUERA DE TIEMPO\"))))","v":"A TIEMPO"},{"$f":"IF(J516=\"\",\"\",NETWORKDAYS(C516+1,J516,DiasNOLaborables))","v":8},"",null,null,20]
[506,20219050046322,"2021-04-14","CIUDADANO","CORREO ELECTRÓNICO","SOLICITUD DE INFORMACIÓN Y DOCUMENTOS","REGISTROS AMBIENTALES","SI","SUBDIRECCIÓN DE ECOSISTEMAS E INFORMACIÓN AMBIENTAL","2021-04-14","CORREO ELECTRÓNICO",null,{"$f":"IFERROR(WORKDAY(C517,S516,DiasNOLaborables),\"\")","v":"2021-05-12"},{"$f":"+IF(C517=\"\",\"\",IF(J517=\"\",\"SIN RESPUESTA\",(IF(J517<=M517,\"A TIEMPO\",\"FUERA DE TIEMPO\"))))","v":"A TIEMPO"},{"$f":"IF(J517=\"\",\"\",NETWORKDAYS(C517+1,J517,DiasNOLaborables))","v":-2},"",null,null,20]
[507,20219050046332,"2021-04-14","CIUDADANO","CORREO ELECTRÓNICO","SOLICITUD DE INFORMACIÓN Y DOCUMENTOS","REGISTROS AMBIENTALES","SI","OFICINA DE INFORMÁTICA","2021-04-19","CORREO ELECTRÓNICO",null,{"$f":"IFERROR(WORKDAY(C518,S517,DiasNOLaborables),\"\")","v":"2021-05-12"},{"$f":"+IF(C518=\"\",\"\",IF(J518=\"\",\"SIN RESPUESTA\",(IF(J518<=M518,\"A TIEMPO\",\"FUERA DE TIEMPO\"))))","v":"A TIEMPO"},{"$f":"IF(J518=\"\",\"\",NETWORKDAYS(C518+1,J518,DiasNOLaborables))","v":3},"",null,null,20]
[508,20219050046342,"2021-04-14","CIUDADANO","CORREO ELECTRÓNICO","SOLICITUD DE INFORMACIÓN Y DOCUMENTOS","REGISTROS AMBIENTALES","SI","SUBDIRECCIÓN DE ESTUDIOS AMBIENTALES","2021-04-19","CORREO ELECTRÓNICO",null,{"$f":"IFERROR(WORKDAY(C519,S518,DiasNOLaborables),\"\")","v":"2021-05-12"},{"$f":"+IF(C519=\"\",\"\",IF(J519=\"\",\"SIN RESPUESTA\",(IF(J519<=M519,\"A TIEMPO\",\"FUERA DE TIEMPO\"))))","v":"A TIEMPO"},{"$f":"IF(J519=\"\",\"\",NETWORKDAYS(C519+1,J519,DiasNOLaborables))","v":3},"",null,null,20]
[509,20219050046352,"2021-04-14","CIUDADANO","CORREO ELECTRÓNICO","SOLICITUD DE INFORMACIÓN Y DOCUMENTOS","REGISTROS AMBIENTALES","SI","SUBDIRECCIÓN DE HIDROLOGÍA","2021-05-03","CORREO ELECTRÓNICO",null,{"$f":"IFERROR(WORKDAY(C520,S519,DiasNOLaborables),\"\")","v":"2021-05-12"},{"$f":"+IF(C520=\"\",\"\",IF(J520=\"\",\"SIN RESPUESTA\",(IF(J520<=M520,\"A TIEMPO\",\"FUERA DE TIEMPO\"))))","v":"A TIEMPO"},{"$f":"IF(J520=\"\",\"\",NETWORKDAYS(C520+1,J520,DiasNOLaborables))","v":13},"",null,null,20]
[510,20219050046362,"2021-04-14","CIUDADANO","CORREO ELECTRÓNICO","SOLICITUD DE INFORMACIÓN Y DOCUMENTOS","REGISTROS AMBIENTALES","SI","SUBDIRECCIÓN DE ESTUDIOS AMBIENTALES","2021-05-05","CORREO ELECTRÓNICO",null,{"$f":"IFERROR(WORKDAY(C521,S520,DiasNOLaborables),\"\")","v":"2021-05-12"},{"$f":"+IF(C521=\"\",\"\",IF(J521=\"\",\"SIN RESPUESTA\",(IF(J521<=M521,\"A TIEMPO\",\"FUERA DE TIEMPO\"))))","v":"A TIEMPO"},{"$f":"IF(J521=\"\",\"\",NETWORKDAYS(C521+1,J521,DiasNOLaborables))","v":15},"",null,null,20]
[511,20219050046392,"2021-04-14","CIUDADANO","CORREO ELECTRÓNICO","SOLICITUD DE INFORMACIÓN Y DOCUMENTOS","SIA","SI","SUBDIRECCIÓN DE ECOSISTEMAS E INFORMACIÓN AMBIENTAL","2021-04-26","CORREO ELECTRÓNICO",null,{"$f":"IFERROR(WORKDAY(C522,S521,DiasNOLaborables),\"\")","v":"2021-05-12"},{"$f":"+IF(C522=\"\",\"\",IF(J522=\"\",\"SIN RESPUESTA\",(IF(J522<=M522,\"A TIEMPO\",\"FUERA DE TIEMPO\"))))","v":"A TIEMPO"},{"$f":"IF(J522=\"\",\"\",NETWORKDAYS(C522+1,J522,DiasNOLaborables))","v":8},"",null,null,20]
[512,20219050046412,"2021-04-14","ENTIDAD PÚBLICA","CORREO ELECTRÓNICO","SOLICITUD DE INFORMACIÓN Y DOCUMENTOS","INFORMES AMBIENTALES","SI","SUBDIRECCIÓN DE ESTUDIOS AMBIENTALES","2021-04-22","CORREO ELECTRÓNICO",null,{"$f":"IFERROR(WORKDAY(C523,S522,DiasNOLaborables),\"\")","v":"2021-05-12"},{"$f":"+IF(C523=\"\",\"\",IF(J523=\"\",\"SIN RESPUESTA\",(IF(J523<=M523,\"A TIEMPO\",\"FUERA DE TIEMPO\"))))","v":"A TIEMPO"},{"$f":"IF(J523=\"\",\"\",NETWORKDAYS(C523+1,J523,DiasNOLaborables))","v":6},"",null,null,20]
[513,20219050046432,"2021-04-14","CIUDADANO","CORREO ELECTRÓNICO","SOLICITUD DE INFORMACIÓN Y DOCUMENTOS","REGISTROS AMBIENTALES","SI","SUBDIRECCIÓN DE ESTUDIOS AMBIENTALES","2021-04-12","CORREO ELECTRÓNICO",null,{"$f":"IFERROR(WORKDAY(C524,S523,DiasNOLaborables),\"\")","v":"2021-05-12"},{"$f":"+IF(C524=\"\",\"\",IF(J524=\"\",\"SIN RESPUESTA\",(IF(J524<=M524,\"A TIEMPO\",\"FUERA DE TIEMPO\"))))","v":"A TIEMPO"},{"$f":"IF(J524=\"\",\"\",NETWORKDAYS(C524+1,J524,DiasNOLaborables))","v":-4},"",null,null,20]
[514,20219050046022,"2021-04-14","FUNCIONARIO IDEAM","MODULO CONTACTENOS","SOLICITUD DE INFORMACIÓN Y DOCUMENTOS","ADMINISTRATIVA","SI","GRUPO DE ADMINISTRACIÓN Y DESARROLLO DEL TALENTO HUMANO","2021-04-26","CORREO ELECTRÓNICO",null,{"$f":"IFERROR(WORKDAY(C525,S524,DiasNOLaborables),\"\")","v":"2021-05-12"},{"$f":"+IF(C525=\"\",\"\",IF(J525=\"\",\"SIN RESPUESTA\",(IF(J525<=M525,\"A TIEMPO\",\"FUERA DE TIEMPO\"))))","v":"A TIEMPO"},{"$f":"IF(J525=\"\",\"\",NETWORKDAYS(C525+1,J525,DiasNOLaborables))","v":8},{"$f":"IF(NETWORKDAYS(M525+1,J525,DiasNOLaborables)<=0,\"\",NETWORKDAYS(M525+1,J525,DiasNOLaborables))","v":""},null,null,{"$f":"IFERROR(VLOOKUP(F526,$AA$51:$AB$64,2),\"\")","v":20}]
[{"$f":"IF(B526<>\"\",A525+1,\"\")","v":515},20219050046192,"2021-04-14","EMPRESA PRIVADA","MODULO CONTACTENOS","SOLICITUD DE INFORMACIÓN Y DOCUMENTOS","ADMINISTRATIVA","SI","GRUPO DE TESORERÍA","2021-04-27","CORREO ELECTRÓNICO",null,{"$f":"IFERROR(WORKDAY(C526,S525,DiasNOLaborables),\"\")","v":"2021-05-12"},{"$f":"+IF(C526=\"\",\"\",IF(J526=\"\",\"SIN RESPUESTA\",(IF(J526<=M526,\"A TIEMPO\",\"FUERA DE TIEMPO\"))))","v":"A TIEMPO"},{"$f":"IF(J526=\"\",\"\",NETWORKDAYS(C526+1,J526,DiasNOLaborables))","v":9},"",null,null,20]
[516,20219050046302,"2021-04-14","EMPRESA PRIVADA","MODULO CONTACTENOS","SOLICITUD DE INFORMACIÓN Y DOCUMENTOS","CLIMATOLOGÍA","SI","SUBDIRECCIÓN DE METEOROLOGÍA","2021-04-30","CORREO ELECTRÓNICO",null,{"$f":"IFERROR(WORKDAY(C527,S526,DiasNOLaborables),\"\")","v":"2021-05-12"},{"$f":"+IF(C527=\"\",\"\",IF(J527=\"\",\"SIN RESPUESTA\",(IF(J527<=M527,\"A TIEMPO\",\"FUERA DE TIEMPO\"))))","v":"A TIEMPO"},{"$f":"IF(J527=\"\",\"\",NETWORKDAYS(C527+1,J527,DiasNOLaborables))","v":12},"",null,null,20]
[517,20219050046292,"2021-04-14","CIUDADANO","MODULO CONTACTENOS","SOLICITUD DE INFORMACIÓN Y DOCUMENTOS","ADMINISTRATIVA","SI","GRUPO DE ADMINISTRACIÓN Y DESARROLLO DEL TALENTO HUMANO","2021-04-15","CORREO ELECTRÓNICO",null,{"$f":"IFERROR(WORKDAY(C528,S527,DiasNOLaborables),\"\")","v":"2021-05-12"},{"$f":"+IF(C528=\"\",\"\",IF(J528=\"\",\"SIN RESPUESTA\",(IF(J528<=M528,\"A TIEMPO\",\"FUERA DE TIEMPO\"))))","v":"A TIEMPO"},{"$f":"IF(J528=\"\",\"\",NETWORKDAYS(C528+1,J528,DiasNOLaborables))","v":1},"",null,null,35]
[518,20219050046382,"2021-04-14","CIUDADANO","MODULO CONTACTENOS","CERTIFICACIONES DE TIEMPO, CLIMA Y EVENTOS HIDROLÓGICOS","CERTIFICACIONES DE TIEMPO Y CLIMA","SI","SUBDIRECCIÓN DE METEOROLOGÍA","2021-05-03","CORREO ELECTRÓNICO",null,{"$f":"IFERROR(WORKDAY(C529,S528,DiasNOLaborables),\"\")","v":"2021-06-03"},{"$f":"+IF(C529=\"\",\"\",IF(J529=\"\",\"SIN RESPUESTA\",(IF(J529<=M529,\"A TIEMPO\",\"FUERA DE TIEMPO\"))))","v":"A TIEMPO"},{"$f":"IF(J529=\"\",\"\",NETWORKDAYS(C529+1,J529,DiasNOLaborables))","v":13},"",null,null,20]
[519,20219050046422,"2021-04-14","CIUDADANO","MODULO CONTACTENOS","SOLICITUD DE INFORMACIÓN Y DOCUMENTOS","ACREDITACIÓN DE LABORATORIOS","SI","SUBDIRECCIÓN DE ESTUDIOS AMBIENTALES","2021-04-23","CORREO ELECTRÓNICO",null,{"$f":"IFERROR(WORKDAY(C530,S529,DiasNOLaborables),\"\")","v":"2021-05-12"},{"$f":"+IF(C530=\"\",\"\",IF(J530=\"\",\"SIN RESPUESTA\",(IF(J530<=M530,\"A TIEMPO\",\"FUERA DE TIEMPO\"))))","v":"A TIEMPO"},{"$f":"IF(J530=\"\",\"\",NETWORKDAYS(C530+1,J530,DiasNOLaborables))","v":7},"",null,null,20]
[520,20219050046472,"2021-04-14","EMPRESA PRIVADA","MODULO CONTACTENOS","SOLICITUD DE INFORMACIÓN Y DOCUMENTOS","ADMINISTRATIVA","SI","GRUPO DE TESORERÍA","2021-04-27","CORREO ELECTRÓNICO",null,{"$f":"IFERROR(WORKDAY(C531,S530,DiasNOLaborables),\"\")","v":"2021-05-12"},{"$f":"+IF(C531=\"\",\"\",IF(J531=\"\",\"SIN RESPUESTA\",(IF(J531<=M531,\"A TIEMPO\",\"FUERA DE TIEMPO\"))))","v":"A TIEMPO"},{"$f":"IF(J531=\"\",\"\",NETWORKDAYS(C531+1,J531,DiasNOLaborables))","v":9},"",null,null,20]
[521,20219050046592,"2021-04-14","CIUDADANO","MODULO CONTACTENOS","SOLICITUD DE INFORMACIÓN Y DOCUMENTOS","SUELOS Y TIERRAS","SI","SUBDIRECCIÓN DE ECOSISTEMAS E INFORMACIÓN AMBIENTAL","2021-04-19","CORREO ELECTRÓNICO",null,{"$f":"IFERROR(WORKDAY(C532,S531,DiasNOLaborables),\"\")","v":"2021-05-12"},{"$f":"+IF(C532=\"\",\"\",IF(J532=\"\",\"SIN RESPUESTA\",(IF(J532<=M532,\"A TIEMPO\",\"FUERA DE TIEMPO\"))))","v":"A TIEMPO"},{"$f":"IF(J532=\"\",\"\",NETWORKDAYS(C532+1,J532,DiasNOLaborables))","v":3},"",null,null,10]
[522,20219050046222,"2021-04-14","ENTIDAD PÚBLICA","MODULO CONTACTENOS","PETICIÓN ENTRE AUTORIDADES","CERTIFICACIONES DE TIEMPO Y CLIMA","SI","SUBDIRECCIÓN DE METEOROLOGÍA","2021-04-20","CORREO ELECTRÓNICO",null,{"$f":"IFERROR(WORKDAY(C533,S532,DiasNOLaborables),\"\")","v":"2021-04-28"},{"$f":"+IF(C533=\"\",\"\",IF(J533=\"\",\"SIN RESPUESTA\",(IF(J533<=M533,\"A TIEMPO\",\"FUERA DE TIEMPO\"))))","v":"A TIEMPO"},{"$f":"IF(J533=\"\",\"\",NETWORKDAYS(C533+1,J533,DiasNOLaborables))","v":4},"",null,null,20]
[523,20219050046312,"2021-04-14","ACADEMIA ","CORREO ELECTRÓNICO","SOLICITUD DE INFORMACIÓN Y DOCUMENTOS","SOLICITUD DE INFORMACIÓN HIDROMETEOROLÓGICA","NO","GRUPO DE SERVICIO AL CIUDADANO ","2021-05-10","CORREO ELECTRÓNICO",null,{"$f":"IFERROR(WORKDAY(C534,S533,DiasNOLaborables),\"\")","v":"2021-05-12"},{"$f":"+IF(C534=\"\",\"\",IF(J534=\"\",\"SIN RESPUESTA\",(IF(J534<=M534,\"A TIEMPO\",\"FUERA DE TIEMPO\"))))","v":"A TIEMPO"},{"$f":"IF(J534=\"\",\"\",NETWORKDAYS(C534+1,J534,DiasNOLaborables))","v":18},"",null,null,20]
[524,20219050046372,"2021-04-14","ACADEMIA ","MODULO CONTACTENOS","SOLICITUD DE INFORMACIÓN Y DOCUMENTOS","SOLICITUD DE INFORMACIÓN HIDROMETEOROLÓGICA","NO","GRUPO DE SERVICIO AL CIUDADANO ","2021-05-10","CORREO ELECTRÓNICO",null,{"$f":"IFERROR(WORKDAY(C535,S534,DiasNOLaborables),\"\")","v":"2021-05-12"},{"$f":"+IF(C535=\"\",\"\",IF(J535=\"\",\"SIN RESPUESTA\",(IF(J535<=M535,\"A TIEMPO\",\"FUERA DE TIEMPO\"))))","v":"A TIEMPO"},{"$f":"IF(J535=\"\",\"\",NETWORKDAYS(C535+1,J535,DiasNOLaborables))","v":18},"",null,null,20]
[525,20219050046442,"2021-04-14","ACADEMIA ","MODULO CONTACTENOS","SOLICITUD DE INFORMACIÓN Y DOCUMENTOS","SOLICITUD DE INFORMACIÓN HIDROMETEOROLÓGICA","NO","GRUPO DE SERVICIO AL CIUDADANO ","2021-05-10","CORREO ELECTRÓNICO",null,{"$f":"IFERROR(WORKDAY(C536,S535,DiasNOLaborables),\"\")","v":"2021-05-12"},{"$f":"+IF(C536=\"\",\"\",IF(J536=\"\",\"SIN RESPUESTA\",(IF(J536<=M536,\"A TIEMPO\",\"FUERA DE TIEMPO\"))))","v":"A TIEMPO"},{"$f":"IF(J536=\"\",\"\",NETWORKDAYS(C536+1,J536,DiasNOLaborables))","v":18},"",null,null,20]
[526,20219050046562,"2021-04-14","ACADEMIA ","CORREO ELECTRÓNICO","SOLICITUD DE INFORMACIÓN Y DOCUMENTOS","SOLICITUD DE INFORMACIÓN HIDROMETEOROLÓGICA","NO","GRUPO DE SERVICIO AL CIUDADANO ","2021-05-10","CORREO ELECTRÓNICO",null,{"$f":"IFERROR(WORKDAY(C537,S536,DiasNOLaborables),\"\")","v":"2021-05-12"},{"$f":"+IF(C537=\"\",\"\",IF(J537=\"\",\"SIN RESPUESTA\",(IF(J537<=M537,\"A TIEMPO\",\"FUERA DE TIEMPO\"))))","v":"A TIEMPO"},{"$f":"IF(J537=\"\",\"\",NETWORKDAYS(C537+1,J537,DiasNOLaborables))","v":18},"",null,null,20]
[527,20219050046122,"2021-04-14","ACADEMIA ","MODULO CONTACTENOS","SOLICITUD DE INFORMACIÓN Y DOCUMENTOS","SOLICITUD DE INFORMACIÓN HIDROMETEOROLÓGICA","NO","GRUPO DE SERVICIO AL CIUDADANO ","2021-05-10","CORREO ELECTRÓNICO",null,{"$f":"IFERROR(WORKDAY(C538,S537,DiasNOLaborables),\"\")","v":"2021-05-12"},{"$f":"+IF(C538=\"\",\"\",IF(J538=\"\",\"SIN RESPUESTA\",(IF(J538<=M538,\"A TIEMPO\",\"FUERA DE TIEMPO\"))))","v":"A TIEMPO"},{"$f":"IF(J538=\"\",\"\",NETWORKDAYS(C538+1,J538,DiasNOLaborables))","v":18},"",null,null,20]
[528,20219050046602,"2021-04-14","CIUDADANO","MODULO CONTACTENOS","SOLICITUD DE INFORMACIÓN Y DOCUMENTOS","SOLICITUD DE INFORMACIÓN HIDROMETEOROLÓGICA","NO","GRUPO DE SERVICIO AL CIUDADANO ","2021-05-10","CORREO ELECTRÓNICO",null,{"$f":"IFERROR(WORKDAY(C539,S538,DiasNOLaborables),\"\")","v":"2021-05-12"},{"$f":"+IF(C539=\"\",\"\",IF(J539=\"\",\"SIN RESPUESTA\",(IF(J539<=M539,\"A TIEMPO\",\"FUERA DE TIEMPO\"))))","v":"A TIEMPO"},{"$f":"IF(J539=\"\",\"\",NETWORKDAYS(C539+1,J539,DiasNOLaborables))","v":18},"",null,null,20]
[529,20219050046622,"2021-04-14","CIUDADANO","MODULO CONTACTENOS","SOLICITUD DE INFORMACIÓN Y DOCUMENTOS","SOLICITUD DE INFORMACIÓN HIDROMETEOROLÓGICA","NO","GRUPO DE SERVICIO AL CIUDADANO ","2021-05-10","CORREO ELECTRÓNICO",null,{"$f":"IFERROR(WORKDAY(C540,S539,DiasNOLaborables),\"\")","v":"2021-05-12"},{"$f":"+IF(C540=\"\",\"\",IF(J540=\"\",\"SIN RESPUESTA\",(IF(J540<=M540,\"A TIEMPO\",\"FUERA DE TIEMPO\"))))","v":"A TIEMPO"},{"$f":"IF(J540=\"\",\"\",NETWORKDAYS(C540+1,J540,DiasNOLaborables))","v":18},"",null,null,20]
[530,20219050046722,"2021-04-14","CIUDADANO","MODULO CONTACTENOS","SOLICITUD DE INFORMACIÓN Y DOCUMENTOS","SOLICITUD DE INFORMACIÓN HIDROMETEOROLÓGICA","NO","GRUPO DE SERVICIO AL CIUDADANO ","2021-05-10","CORREO ELECTRÓNICO",null,{"$f":"IFERROR(WORKDAY(C541,S540,DiasNOLaborables),\"\")","v":"2021-05-12"},{"$f":"+IF(C541=\"\",\"\",IF(J541=\"\",\"SIN RESPUESTA\",(IF(J541<=M541,\"A TIEMPO\",\"FUERA DE TIEMPO\"))))","v":"A TIEMPO"},{"$f":"IF(J541=\"\",\"\",NETWORKDAYS(C541+1,J541,DiasNOLaborables))","v":18},"",null,null,20]
[531,20219050046732,"2021-04-14","ACADEMIA ","MODULO CONTACTENOS","SOLICITUD DE INFORMACIÓN Y DOCUMENTOS","SOLICITUD DE INFORMACIÓN HIDROMETEOROLÓGICA","NO","GRUPO DE SERVICIO AL CIUDADANO ","2021-05-10","CORREO ELECTRÓNICO",null,{"$f":"IFERROR(WORKDAY(C542,S541,DiasNOLaborables),\"\")","v":"2021-05-12"},{"$f":"+IF(C542=\"\",\"\",IF(J542=\"\",\"SIN RESPUESTA\",(IF(J542<=M542,\"A TIEMPO\",\"FUERA DE TIEMPO\"))))","v":"A TIEMPO"},{"$f":"IF(J542=\"\",\"\",NETWORKDAYS(C542+1,J542,DiasNOLaborables))","v":18},"",null,null,20]
[532,20219050045962,"2021-04-14","ACADEMIA","MODULO CONTACTENOS","SOLICITUD DE INFORMACIÓN Y DOCUMENTOS","SOLICITUD DE INFORMACIÓN HIDROMETEOROLÓGICA","NO","GRUPO DE SERVICIO AL CIUDADANO ","2021-05-11","CORREO ELECTRÓNICO",null,{"$f":"IFERROR(WORKDAY(C543,S542,DiasNOLaborables),\"\")","v":"2021-05-12"},{"$f":"+IF(C543=\"\",\"\",IF(J543=\"\",\"SIN RESPUESTA\",(IF(J543<=M543,\"A TIEMPO\",\"FUERA DE TIEMPO\"))))","v":"A TIEMPO"},{"$f":"IF(J543=\"\",\"\",NETWORKDAYS(C543+1,J543,DiasNOLaborables))","v":19},"",null,null,20]
[533,20219050046002,"2021-04-14","CIUDADANO","MODULO CONTACTENOS","SOLICITUD DE INFORMACIÓN Y DOCUMENTOS","SOLICITUD DE INFORMACIÓN HIDROMETEOROLÓGICA","NO","GRUPO DE SERVICIO AL CIUDADANO ","2021-05-11","CORREO ELECTRÓNICO",null,{"$f":"IFERROR(WORKDAY(C544,S543,DiasNOLaborables),\"\")","v":"2021-05-12"},{"$f":"+IF(C544=\"\",\"\",IF(J544=\"\",\"SIN RESPUESTA\",(IF(J544<=M544,\"A TIEMPO\",\"FUERA DE TIEMPO\"))))","v":"A TIEMPO"},{"$f":"IF(J544=\"\",\"\",NETWORKDAYS(C544+1,J544,DiasNOLaborables))","v":19},"",null,null,20]
[534,20219050046012,"2021-04-14","CIUDADANO","MODULO CONTACTENOS","SOLICITUD DE INFORMACIÓN Y DOCUMENTOS","SOLICITUD DE INFORMACIÓN HIDROMETEOROLÓGICA","NO","GRUPO DE SERVICIO AL CIUDADANO ","2021-05-11","CORREO ELECTRÓNICO",null,{"$f":"IFERROR(WORKDAY(C545,S544,DiasNOLaborables),\"\")","v":"2021-05-12"},{"$f":"+IF(C545=\"\",\"\",IF(J545=\"\",\"SIN RESPUESTA\",(IF(J545<=M545,\"A TIEMPO\",\"FUERA DE TIEMPO\"))))","v":"A TIEMPO"},{"$f":"IF(J545=\"\",\"\",NETWORKDAYS(C545+1,J545,DiasNOLaborables))","v":19},"",null,null,20]
[535,20219050046082,"2021-04-14","CIUDADANO","MODULO CONTACTENOS","SOLICITUD DE INFORMACIÓN Y DOCUMENTOS","SOLICITUD DE INFORMACIÓN HIDROMETEOROLÓGICA","NO","GRUPO DE SERVICIO AL CIUDADANO ","2021-05-11","CORREO ELECTRÓNICO",null,{"$f":"IFERROR(WORKDAY(C546,S545,DiasNOLaborables),\"\")","v":"2021-05-12"},{"$f":"+IF(C546=\"\",\"\",IF(J546=\"\",\"SIN RESPUESTA\",(IF(J546<=M546,\"A TIEMPO\",\"FUERA DE TIEMPO\"))))","v":"A TIEMPO"},{"$f":"IF(J546=\"\",\"\",NETWORKDAYS(C546+1,J546,DiasNOLaborables))","v":19},"",null,null,20]
[536,20219050046062,"2021-04-14","CIUDADANO","MODULO CONTACTENOS","SOLICITUD DE INFORMACIÓN Y DOCUMENTOS","SOLICITUD DE INFORMACIÓN HIDROMETEOROLÓGICA","NO","GRUPO DE SERVICIO AL CIUDADANO ","2021-05-11","CORREO ELECTRÓNICO",null,{"$f":"IFERROR(WORKDAY(C547,S546,DiasNOLaborables),\"\")","v":"2021-05-12"},{"$f":"+IF(C547=\"\",\"\",IF(J547=\"\",\"SIN RESPUESTA\",(IF(J547<=M547,\"A TIEMPO\",\"FUERA DE TIEMPO\"))))","v":"A TIEMPO"},{"$f":"IF(J547=\"\",\"\",NETWORKDAYS(C547+1,J547,DiasNOLaborables))","v":19},"",null,null,20]
[537,20219050046102,"2021-04-14","CIUDADANO","MODULO CONTACTENOS","SOLICITUD DE INFORMACIÓN Y DOCUMENTOS","SOLICITUD DE INFORMACIÓN HIDROMETEOROLÓGICA","NO","GRUPO DE SERVICIO AL CIUDADANO ","2021-05-11","CORREO ELECTRÓNICO",null,{"$f":"IFERROR(WORKDAY(C548,S547,DiasNOLaborables),\"\")","v":"2021-05-12"},{"$f":"+IF(C548=\"\",\"\",IF(J548=\"\",\"SIN RESPUESTA\",(IF(J548<=M548,\"A TIEMPO\",\"FUERA DE TIEMPO\"))))","v":"A TIEMPO"},{"$f":"IF(J548=\"\",\"\",NETWORKDAYS(C548+1,J548,DiasNOLaborables))","v":19},"",null,null,20]
[538,20219050046132,"2021-04-14","ACADEMIA","MODULO CONTACTENOS","SOLICITUD DE INFORMACIÓN Y DOCUMENTOS","SOLICITUD DE INFORMACIÓN HIDROMETEOROLÓGICA","NO","GRUPO DE SERVICIO AL CIUDADANO ","2021-05-11","CORREO ELECTRÓNICO",null,{"$f":"IFERROR(WORKDAY(C549,S548,DiasNOLaborables),\"\")","v":"2021-05-12"},{"$f":"+IF(C549=\"\",\"\",IF(J549=\"\",\"SIN RESPUESTA\",(IF(J549<=M549,\"A TIEMPO\",\"FUERA DE TIEMPO\"))))","v":"A TIEMPO"},{"$f":"IF(J549=\"\",\"\",NETWORKDAYS(C549+1,J549,DiasNOLaborables))","v":19},"",null,null,20]
[539,20219050046142,"2021-04-14","ACADEMIA","MODULO CONTACTENOS","SOLICITUD DE INFORMACIÓN Y DOCUMENTOS","SOLICITUD DE INFORMACIÓN HIDROMETEOROLÓGICA","NO","GRUPO DE SERVICIO AL CIUDADANO ","2021-05-11","CORREO ELECTRÓNICO",null,{"$f":"IFERROR(WORKDAY(C550,S549,DiasNOLaborables),\"\")","v":"2021-05-12"},{"$f":"+IF(C550=\"\",\"\",IF(J550=\"\",\"SIN RESPUESTA\",(IF(J550<=M550,\"A TIEMPO\",\"FUERA DE TIEMPO\"))))","v":"A TIEMPO"},{"$f":"IF(J550=\"\",\"\",NETWORKDAYS(C550+1,J550,DiasNOLaborables))","v":19},"",null,null,20]
[540,20219050046162,"2021-04-14","CIUDADANO","MODULO CONTACTENOS","SOLICITUD DE INFORMACIÓN Y DOCUMENTOS","SOLICITUD DE INFORMACIÓN HIDROMETEOROLÓGICA","NO","GRUPO DE SERVICIO AL CIUDADANO ","2021-05-11","CORREO ELECTRÓNICO",null,{"$f":"IFERROR(WORKDAY(C551,S550,DiasNOLaborables),\"\")","v":"2021-05-12"},{"$f":"+IF(C551=\"\",\"\",IF(J551=\"\",\"SIN RESPUESTA\",(IF(J551<=M551,\"A TIEMPO\",\"FUERA DE TIEMPO\"))))","v":"A TIEMPO"},{"$f":"IF(J551=\"\",\"\",NETWORKDAYS(C551+1,J551,DiasNOLaborables))","v":19},"",null,null,20]
[541,20219050046212,"2021-04-14","CIUDADANO","MODULO CONTACTENOS","SOLICITUD DE INFORMACIÓN Y DOCUMENTOS","SOLICITUD DE INFORMACIÓN HIDROMETEOROLÓGICA","NO","GRUPO DE SERVICIO AL CIUDADANO ","2021-05-11","CORREO ELECTRÓNICO",null,{"$f":"IFERROR(WORKDAY(C552,S551,DiasNOLaborables),\"\")","v":"2021-05-12"},{"$f":"+IF(C552=\"\",\"\",IF(J552=\"\",\"SIN RESPUESTA\",(IF(J552<=M552,\"A TIEMPO\",\"FUERA DE TIEMPO\"))))","v":"A TIEMPO"},{"$f":"IF(J552=\"\",\"\",NETWORKDAYS(C552+1,J552,DiasNOLaborables))","v":19},"",null,null,20]
[542,20219050046262,"2021-04-14","ACADEMIA","MODULO CONTACTENOS","SOLICITUD DE INFORMACIÓN Y DOCUMENTOS","SOLICITUD DE INFORMACIÓN HIDROMETEOROLÓGICA","NO","GRUPO DE SERVICIO AL CIUDADANO ","2021-05-11","CORREO ELECTRÓNICO",null,{"$f":"IFERROR(WORKDAY(C553,S552,DiasNOLaborables),\"\")","v":"2021-05-12"},{"$f":"+IF(C553=\"\",\"\",IF(J553=\"\",\"SIN RESPUESTA\",(IF(J553<=M553,\"A TIEMPO\",\"FUERA DE TIEMPO\"))))","v":"A TIEMPO"},{"$f":"IF(J553=\"\",\"\",NETWORKDAYS(C553+1,J553,DiasNOLaborables))","v":19},"",null,null,20]
[543,20219050047042,"2021-04-15","CIUDADANO","MODULO CONTACTENOS","SOLICITUD DE INFORMACIÓN Y DOCUMENTOS","SOLICITUD DE INFORMACIÓN HIDROMETEOROLÓGICA","NO","GRUPO DE SERVICIO AL CIUDADANO ","2021-05-13","CORREO ELECTRÓNICO",null,{"$f":"IFERROR(WORKDAY(C554,S553,DiasNOLaborables),\"\")","v":"2021-05-13"},{"$f":"+IF(C554=\"\",\"\",IF(J554=\"\",\"SIN RESPUESTA\",(IF(J554<=M554,\"A TIEMPO\",\"FUERA DE TIEMPO\"))))","v":"A TIEMPO"},{"$f":"IF(J554=\"\",\"\",NETWORKDAYS(C554+1,J554,DiasNOLaborables))","v":20},"",null,null,20]
[544,20219050047062,"2021-04-15","ACADEMIA","MODULO CONTACTENOS","SOLICITUD DE INFORMACIÓN Y DOCUMENTOS","SOLICITUD DE INFORMACIÓN HIDROMETEOROLÓGICA","NO","GRUPO DE SERVICIO AL CIUDADANO ","2021-05-13","CORREO ELECTRÓNICO",null,{"$f":"IFERROR(WORKDAY(C555,S554,DiasNOLaborables),\"\")","v":"2021-05-13"},{"$f":"+IF(C555=\"\",\"\",IF(J555=\"\",\"SIN RESPUESTA\",(IF(J555<=M555,\"A TIEMPO\",\"FUERA DE TIEMPO\"))))","v":"A TIEMPO"},{"$f":"IF(J555=\"\",\"\",NETWORKDAYS(C555+1,J555,DiasNOLaborables))","v":20},"",null,null,20]
[545,20219050047072,"2021-04-15","ACADEMIA","MODULO CONTACTENOS","SOLICITUD DE INFORMACIÓN Y DOCUMENTOS","SOLICITUD DE INFORMACIÓN HIDROMETEOROLÓGICA","NO","GRUPO DE SERVICIO AL CIUDADANO ","2021-05-13","CORREO ELECTRÓNICO",null,{"$f":"IFERROR(WORKDAY(C556,S555,DiasNOLaborables),\"\")","v":"2021-05-13"},{"$f":"+IF(C556=\"\",\"\",IF(J556=\"\",\"SIN RESPUESTA\",(IF(J556<=M556,\"A TIEMPO\",\"FUERA DE TIEMPO\"))))","v":"A TIEMPO"},{"$f":"IF(J556=\"\",\"\",NETWORKDAYS(C556+1,J556,DiasNOLaborables))","v":20},"",null,null,20]
[546,20219050047152,"2021-04-15","CIUDADANO","MODULO CONTACTENOS","SOLICITUD DE INFORMACIÓN Y DOCUMENTOS","SOLICITUD DE INFORMACIÓN HIDROMETEOROLÓGICA","NO","GRUPO DE SERVICIO AL CIUDADANO ","2021-05-13","CORREO ELECTRÓNICO",null,{"$f":"IFERROR(WORKDAY(C557,S556,DiasNOLaborables),\"\")","v":"2021-05-13"},{"$f":"+IF(C557=\"\",\"\",IF(J557=\"\",\"SIN RESPUESTA\",(IF(J557<=M557,\"A TIEMPO\",\"FUERA DE TIEMPO\"))))","v":"A TIEMPO"},{"$f":"IF(J557=\"\",\"\",NETWORKDAYS(C557+1,J557,DiasNOLaborables))","v":20},"",null,null,20]
[547,20219050047352,"2021-04-15","CIUDADANO","MODULO CONTACTENOS","SOLICITUD DE INFORMACIÓN Y DOCUMENTOS","SOLICITUD DE INFORMACIÓN HIDROMETEOROLÓGICA","NO","GRUPO DE SERVICIO AL CIUDADANO ","2021-05-13","CORREO ELECTRÓNICO",null,{"$f":"IFERROR(WORKDAY(C558,S557,DiasNOLaborables),\"\")","v":"2021-05-13"},{"$f":"+IF(C558=\"\",\"\",IF(J558=\"\",\"SIN RESPUESTA\",(IF(J558<=M558,\"A TIEMPO\",\"FUERA DE TIEMPO\"))))","v":"A TIEMPO"},{"$f":"IF(J558=\"\",\"\",NETWORKDAYS(C558+1,J558,DiasNOLaborables))","v":20},"",null,null,20]
[548,20219050047372,"2021-04-15","CIUDADANO","MODULO CONTACTENOS","SOLICITUD DE INFORMACIÓN Y DOCUMENTOS","SOLICITUD DE INFORMACIÓN HIDROMETEOROLÓGICA","NO","GRUPO DE SERVICIO AL CIUDADANO ","2021-05-13","CORREO ELECTRÓNICO",null,{"$f":"IFERROR(WORKDAY(C559,S558,DiasNOLaborables),\"\")","v":"2021-05-13"},{"$f":"+IF(C559=\"\",\"\",IF(J559=\"\",\"SIN RESPUESTA\",(IF(J559<=M559,\"A TIEMPO\",\"FUERA DE TIEMPO\"))))","v":"A TIEMPO"},{"$f":"IF(J559=\"\",\"\",NETWORKDAYS(C559+1,J559,DiasNOLaborables))","v":20},"",null,null,20]
[549,20219050047402,"2021-04-15","ACADEMIA","MODULO CONTACTENOS","SOLICITUD DE INFORMACIÓN Y DOCUMENTOS","SOLICITUD DE INFORMACIÓN HIDROMETEOROLÓGICA","NO","GRUPO DE SERVICIO AL CIUDADANO ","2021-05-13","CORREO ELECTRÓNICO",null,{"$f":"IFERROR(WORKDAY(C560,S559,DiasNOLaborables),\"\")","v":"2021-05-13"},{"$f":"+IF(C560=\"\",\"\",IF(J560=\"\",\"SIN RESPUESTA\",(IF(J560<=M560,\"A TIEMPO\",\"FUERA DE TIEMPO\"))))","v":"A TIEMPO"},{"$f":"IF(J560=\"\",\"\",NETWORKDAYS(C560+1,J560,DiasNOLaborables))","v":20},"",null,null,20]
[550,20219050047412,"2021-04-15","CIUDADANO","MODULO CONTACTENOS","SOLICITUD DE INFORMACIÓN Y DOCUMENTOS","SOLICITUD DE INFORMACIÓN HIDROMETEOROLÓGICA","NO","GRUPO DE SERVICIO AL CIUDADANO ","2021-05-13","CORREO ELECTRÓNICO",null,{"$f":"IFERROR(WORKDAY(C561,S560,DiasNOLaborables),\"\")","v":"2021-05-13"},{"$f":"+IF(C561=\"\",\"\",IF(J561=\"\",\"SIN RESPUESTA\",(IF(J561<=M561,\"A TIEMPO\",\"FUERA DE TIEMPO\"))))","v":"A TIEMPO"},{"$f":"IF(J561=\"\",\"\",NETWORKDAYS(C561+1,J561,DiasNOLaborables))","v":20},"",null,null,20]
[551,20219050047442,"2021-04-15","CIUDADANO","MODULO CONTACTENOS","SOLICITUD DE INFORMACIÓN Y DOCUMENTOS","SOLICITUD DE INFORMACIÓN HIDROMETEOROLÓGICA","NO","GRUPO DE SERVICIO AL CIUDADANO ","2021-05-13","CORREO ELECTRÓNICO",null,{"$f":"IFERROR(WORKDAY(C562,S561,DiasNOLaborables),\"\")","v":"2021-05-13"},{"$f":"+IF(C562=\"\",\"\",IF(J562=\"\",\"SIN RESPUESTA\",(IF(J562<=M562,\"A TIEMPO\",\"FUERA DE TIEMPO\"))))","v":"A TIEMPO"},{"$f":"IF(J562=\"\",\"\",NETWORKDAYS(C562+1,J562,DiasNOLaborables))","v":20},"",null,null,20]
[552,20219050047482,"2021-04-15","ACADEMIA","MODULO CONTACTENOS","SOLICITUD DE INFORMACIÓN Y DOCUMENTOS","SOLICITUD DE INFORMACIÓN HIDROMETEOROLÓGICA","NO","GRUPO DE SERVICIO AL CIUDADANO ","2021-05-13","CORREO ELECTRÓNICO",null,{"$f":"IFERROR(WORKDAY(C563,S562,DiasNOLaborables),\"\")","v":"2021-05-13"},{"$f":"+IF(C563=\"\",\"\",IF(J563=\"\",\"SIN RESPUESTA\",(IF(J563<=M563,\"A TIEMPO\",\"FUERA DE TIEMPO\"))))","v":"A TIEMPO"},{"$f":"IF(J563=\"\",\"\",NETWORKDAYS(C563+1,J563,DiasNOLaborables))","v":20},"",null,null,20]
[553,20219050047492,"2021-04-15","ACADEMIA","MODULO CONTACTENOS","SOLICITUD DE INFORMACIÓN Y DOCUMENTOS","SOLICITUD DE INFORMACIÓN HIDROMETEOROLÓGICA","NO","GRUPO DE SERVICIO AL CIUDADANO ","2021-05-13","CORREO ELECTRÓNICO",null,{"$f":"IFERROR(WORKDAY(C564,S563,DiasNOLaborables),\"\")","v":"2021-05-13"},{"$f":"+IF(C564=\"\",\"\",IF(J564=\"\",\"SIN RESPUESTA\",(IF(J564<=M564,\"A TIEMPO\",\"FUERA DE TIEMPO\"))))","v":"A TIEMPO"},{"$f":"IF(J564=\"\",\"\",NETWORKDAYS(C564+1,J564,DiasNOLaborables))","v":20},"",null,null,20]
[554,20219050047502,"2021-04-15","ACADEMIA","MODULO CONTACTENOS","SOLICITUD DE INFORMACIÓN Y DOCUMENTOS","SOLICITUD DE INFORMACIÓN HIDROMETEOROLÓGICA","NO","GRUPO DE SERVICIO AL CIUDADANO ","2021-05-13","CORREO ELECTRÓNICO",null,{"$f":"IFERROR(WORKDAY(C565,S564,DiasNOLaborables),\"\")","v":"2021-05-13"},{"$f":"+IF(C565=\"\",\"\",IF(J565=\"\",\"SIN RESPUESTA\",(IF(J565<=M565,\"A TIEMPO\",\"FUERA DE TIEMPO\"))))","v":"A TIEMPO"},{"$f":"IF(J565=\"\",\"\",NETWORKDAYS(C565+1,J565,DiasNOLaborables))","v":20},"",null,null,20]
[555,20219050047522,"2021-04-15","ACADEMIA","MODULO CONTACTENOS","SOLICITUD DE INFORMACIÓN Y DOCUMENTOS","SOLICITUD DE INFORMACIÓN HIDROMETEOROLÓGICA","NO","GRUPO DE SERVICIO AL CIUDADANO ","2021-05-13","CORREO ELECTRÓNICO",null,{"$f":"IFERROR(WORKDAY(C566,S565,DiasNOLaborables),\"\")","v":"2021-05-13"},{"$f":"+IF(C566=\"\",\"\",IF(J566=\"\",\"SIN RESPUESTA\",(IF(J566<=M566,\"A TIEMPO\",\"FUERA DE TIEMPO\"))))","v":"A TIEMPO"},{"$f":"IF(J566=\"\",\"\",NETWORKDAYS(C566+1,J566,DiasNOLaborables))","v":20},"",null,null,20]
[556,20219050047542,"2021-04-15","ACADEMIA","MODULO CONTACTENOS","SOLICITUD DE INFORMACIÓN Y DOCUMENTOS","SOLICITUD DE INFORMACIÓN HIDROMETEOROLÓGICA","NO","GRUPO DE SERVICIO AL CIUDADANO ","2021-05-13","CORREO ELECTRÓNICO",null,{"$f":"IFERROR(WORKDAY(C567,S566,DiasNOLaborables),\"\")","v":"2021-05-13"},{"$f":"+IF(C567=\"\",\"\",IF(J567=\"\",\"SIN RESPUESTA\",(IF(J567<=M567,\"A TIEMPO\",\"FUERA DE TIEMPO\"))))","v":"A TIEMPO"},{"$f":"IF(J567=\"\",\"\",NETWORKDAYS(C567+1,J567,DiasNOLaborables))","v":20},"",null,null,20]
[557,20219050047562,"2021-04-15","CIUDADANO","MODULO CONTACTENOS","SOLICITUD DE INFORMACIÓN Y DOCUMENTOS","SOLICITUD DE INFORMACIÓN HIDROMETEOROLÓGICA","NO","GRUPO DE SERVICIO AL CIUDADANO ","2021-05-13","CORREO ELECTRÓNICO",null,{"$f":"IFERROR(WORKDAY(C568,S567,DiasNOLaborables),\"\")","v":"2021-05-13"},{"$f":"+IF(C568=\"\",\"\",IF(J568=\"\",\"SIN RESPUESTA\",(IF(J568<=M568,\"A TIEMPO\",\"FUERA DE TIEMPO\"))))","v":"A TIEMPO"},{"$f":"IF(J568=\"\",\"\",NETWORKDAYS(C568+1,J568,DiasNOLaborables))","v":20},"",null,null,20]
[558,20219050047582,"2021-04-15","CIUDADANO","MODULO CONTACTENOS","SOLICITUD DE INFORMACIÓN Y DOCUMENTOS","SOLICITUD DE INFORMACIÓN HIDROMETEOROLÓGICA","NO","GRUPO DE SERVICIO AL CIUDADANO ","2021-05-13","CORREO ELECTRÓNICO",null,{"$f":"IFERROR(WORKDAY(C569,S568,DiasNOLaborables),\"\")","v":"2021-05-13"},{"$f":"+IF(C569=\"\",\"\",IF(J569=\"\",\"SIN RESPUESTA\",(IF(J569<=M569,\"A TIEMPO\",\"FUERA DE TIEMPO\"))))","v":"A TIEMPO"},{"$f":"IF(J569=\"\",\"\",NETWORKDAYS(C569+1,J569,DiasNOLaborables))","v":20},"",null,null,20]
[559,20219050047592,"2021-04-15","CIUDADANO","MODULO CONTACTENOS","SOLICITUD DE INFORMACIÓN Y DOCUMENTOS","SOLICITUD DE INFORMACIÓN HIDROMETEOROLÓGICA","NO","GRUPO DE SERVICIO AL CIUDADANO ","2021-05-13","CORREO ELECTRÓNICO",null,{"$f":"IFERROR(WORKDAY(C570,S569,DiasNOLaborables),\"\")","v":"2021-05-13"},{"$f":"+IF(C570=\"\",\"\",IF(J570=\"\",\"SIN RESPUESTA\",(IF(J570<=M570,\"A TIEMPO\",\"FUERA DE TIEMPO\"))))","v":"A TIEMPO"},{"$f":"IF(J570=\"\",\"\",NETWORKDAYS(C570+1,J570,DiasNOLaborables))","v":20},"",null,null,20]
[560,20219050046832,"2021-04-15","ACADEMIA ","MODULO CONTACTENOS","SOLICITUD DE INFORMACIÓN Y DOCUMENTOS","SOLICITUD DE INFORMACIÓN HIDROMETEOROLÓGICA","NO","GRUPO DE SERVICIO AL CIUDADANO ","2021-05-11","CORREO ELECTRÓNICO",null,{"$f":"IFERROR(WORKDAY(C571,S570,DiasNOLaborables),\"\")","v":"2021-05-13"},{"$f":"+IF(C571=\"\",\"\",IF(J571=\"\",\"SIN RESPUESTA\",(IF(J571<=M571,\"A TIEMPO\",\"FUERA DE TIEMPO\"))))","v":"A TIEMPO"},{"$f":"IF(J571=\"\",\"\",NETWORKDAYS(C571+1,J571,DiasNOLaborables))","v":18},"",null,null,20]
[561,20219050046892,"2021-04-15","ENTIDAD PÚBLICA","CORREO ELECTRÓNICO","SOLICITUD DE INFORMACIÓN Y DOCUMENTOS","SOLICITUD DE INFORMACIÓN HIDROMETEOROLÓGICA","NO","GRUPO DE SERVICIO AL CIUDADANO ","2021-05-11","CORREO ELECTRÓNICO",null,{"$f":"IFERROR(WORKDAY(C572,S571,DiasNOLaborables),\"\")","v":"2021-05-13"},{"$f":"+IF(C572=\"\",\"\",IF(J572=\"\",\"SIN RESPUESTA\",(IF(J572<=M572,\"A TIEMPO\",\"FUERA DE TIEMPO\"))))","v":"A TIEMPO"},{"$f":"IF(J572=\"\",\"\",NETWORKDAYS(C572+1,J572,DiasNOLaborables))","v":18},"",null,null,20]
[562,20219050046902,"2021-04-15","ACADEMIA ","MODULO CONTACTENOS","SOLICITUD DE INFORMACIÓN Y DOCUMENTOS","SOLICITUD DE INFORMACIÓN HIDROMETEOROLÓGICA","NO","GRUPO DE SERVICIO AL CIUDADANO ","2021-05-11","CORREO ELECTRÓNICO",null,{"$f":"IFERROR(WORKDAY(C573,S572,DiasNOLaborables),\"\")","v":"2021-05-13"},{"$f":"+IF(C573=\"\",\"\",IF(J573=\"\",\"SIN RESPUESTA\",(IF(J573<=M573,\"A TIEMPO\",\"FUERA DE TIEMPO\"))))","v":"A TIEMPO"},{"$f":"IF(J573=\"\",\"\",NETWORKDAYS(C573+1,J573,DiasNOLaborables))","v":18},"",null,null,20]
[563,20219050046942,"2021-04-15","ACADEMIA ","MODULO CONTACTENOS","SOLICITUD DE INFORMACIÓN Y DOCUMENTOS","SOLICITUD DE INFORMACIÓN HIDROMETEOROLÓGICA","NO","GRUPO DE SERVICIO AL CIUDADANO ","2021-05-11","CORREO ELECTRÓNICO",null,{"$f":"IFERROR(WORKDAY(C574,S573,DiasNOLaborables),\"\")","v":"2021-05-13"},{"$f":"+IF(C574=\"\",\"\",IF(J574=\"\",\"SIN RESPUESTA\",(IF(J574<=M574,\"A TIEMPO\",\"FUERA DE TIEMPO\"))))","v":"A TIEMPO"},{"$f":"IF(J574=\"\",\"\",NETWORKDAYS(C574+1,J574,DiasNOLaborables))","v":18},"",null,null,20]
[564,20219050046982,"2021-04-15","ACADEMIA ","MODULO CONTACTENOS","SOLICITUD DE INFORMACIÓN Y DOCUMENTOS","SOLICITUD DE INFORMACIÓN HIDROMETEOROLÓGICA","NO","GRUPO DE SERVICIO AL CIUDADANO ","2021-05-11","CORREO ELECTRÓNICO",null,{"$f":"IFERROR(WORKDAY(C575,S574,DiasNOLaborables),\"\")","v":"2021-05-13"},{"$f":"+IF(C575=\"\",\"\",IF(J575=\"\",\"SIN RESPUESTA\",(IF(J575<=M575,\"A TIEMPO\",\"FUERA DE TIEMPO\"))))","v":"A TIEMPO"},{"$f":"IF(J575=\"\",\"\",NETWORKDAYS(C575+1,J575,DiasNOLaborables))","v":18},"",null,null,20]
[565,20219050047002,"2021-04-15","ACADEMIA ","MODULO CONTACTENOS","SOLICITUD DE INFORMACIÓN Y DOCUMENTOS","SOLICITUD DE INFORMACIÓN HIDROMETEOROLÓGICA","NO","GRUPO DE SERVICIO AL CIUDADANO ","2021-05-11","CORREO ELECTRÓNICO",null,{"$f":"IFERROR(WORKDAY(C576,S575,DiasNOLaborables),\"\")","v":"2021-05-13"},{"$f":"+IF(C576=\"\",\"\",IF(J576=\"\",\"SIN RESPUESTA\",(IF(J576<=M576,\"A TIEMPO\",\"FUERA DE TIEMPO\"))))","v":"A TIEMPO"},{"$f":"IF(J576=\"\",\"\",NETWORKDAYS(C576+1,J576,DiasNOLaborables))","v":18},"",null,null,20]
[566,20219050047032,"2021-04-15","ACADEMIA ","MODULO CONTACTENOS","SOLICITUD DE INFORMACIÓN Y DOCUMENTOS","SOLICITUD DE INFORMACIÓN HIDROMETEOROLÓGICA","NO","GRUPO DE SERVICIO AL CIUDADANO ","2021-05-11","CORREO ELECTRÓNICO",null,{"$f":"IFERROR(WORKDAY(C577,S576,DiasNOLaborables),\"\")","v":"2021-05-13"},{"$f":"+IF(C577=\"\",\"\",IF(J577=\"\",\"SIN RESPUESTA\",(IF(J577<=M577,\"A TIEMPO\",\"FUERA DE TIEMPO\"))))","v":"A TIEMPO"},{"$f":"IF(J577=\"\",\"\",NETWORKDAYS(C577+1,J577,DiasNOLaborables))","v":18},"",null,null,20]
[567,20219050047122,"2021-04-15","CIUDADANO","CORREO ELECTRÓNICO","SOLICITUD DE INFORMACIÓN Y DOCUMENTOS","SOLICITUD DE INFORMACIÓN HIDROMETEOROLÓGICA","NO","GRUPO DE SERVICIO AL CIUDADANO ","2021-05-11","CORREO ELECTRÓNICO",null,{"$f":"IFERROR(WORKDAY(C578,S577,DiasNOLaborables),\"\")","v":"2021-05-13"},{"$f":"+IF(C578=\"\",\"\",IF(J578=\"\",\"SIN RESPUESTA\",(IF(J578<=M578,\"A TIEMPO\",\"FUERA DE TIEMPO\"))))","v":"A TIEMPO"},{"$f":"IF(J578=\"\",\"\",NETWORKDAYS(C578+1,J578,DiasNOLaborables))","v":18},"",null,null,30]
[568,20219050047232,"2021-04-15","CIUDADANO","CORREO ELECTRÓNICO","PETICIÓN","SOLICITUD DE INFORMACIÓN HIDROMETEOROLÓGICA","NO","GRUPO DE SERVICIO AL CIUDADANO ","2021-05-11","CORREO ELECTRÓNICO",null,{"$f":"IFERROR(WORKDAY(C579,S578,DiasNOLaborables),\"\")","v":"2021-05-28"},{"$f":"+IF(C579=\"\",\"\",IF(J579=\"\",\"SIN RESPUESTA\",(IF(J579<=M579,\"A TIEMPO\",\"FUERA DE TIEMPO\"))))","v":"A TIEMPO"},{"$f":"IF(J579=\"\",\"\",NETWORKDAYS(C579+1,J579,DiasNOLaborables))","v":18},"",null,null,20]
[569,20219050046862,"2021-04-15","CIUDADANO","MODULO CONTACTENOS","SOLICITUD DE INFORMACIÓN Y DOCUMENTOS","SOLICITUD DE INFORMACIÓN HIDROMETEOROLÓGICA","NO","GRUPO DE SERVICIO AL CIUDADANO ","2021-03-19","CORREO ELECTRÓNICO",null,{"$f":"IFERROR(WORKDAY(C580,S579,DiasNOLaborables),\"\")","v":"2021-05-13"},{"$f":"+IF(C580=\"\",\"\",IF(J580=\"\",\"SIN RESPUESTA\",(IF(J580<=M580,\"A TIEMPO\",\"FUERA DE TIEMPO\"))))","v":"A TIEMPO"},{"$f":"IF(J580=\"\",\"\",NETWORKDAYS(C580+1,J580,DiasNOLaborables))","v":-18},"",null,null,20]
[570,20219050047362,"2021-04-15","CIUDADANO","MODULO CONTACTENOS","SOLICITUD DE INFORMACIÓN Y DOCUMENTOS","SOLICITUD DE INFORMACIÓN HIDROMETEOROLÓGICA","NO","GRUPO DE SERVICIO AL CIUDADANO ","2021-03-19","CORREO ELECTRÓNICO",null,{"$f":"IFERROR(WORKDAY(C581,S580,DiasNOLaborables),\"\")","v":"2021-05-13"},{"$f":"+IF(C581=\"\",\"\",IF(J581=\"\",\"SIN RESPUESTA\",(IF(J581<=M581,\"A TIEMPO\",\"FUERA DE TIEMPO\"))))","v":"A TIEMPO"},{"$f":"IF(J581=\"\",\"\",NETWORKDAYS(C581+1,J581,DiasNOLaborables))","v":-18},"",null,null,20]
[571,20219050046752,"2021-04-15","FUNCIONARIO IDEAM","MODULO CONTACTENOS","SOLICITUD DE INFORMACIÓN Y DOCUMENTOS","ADMINISTRATIVA","SI","GRUPO DE ADMINISTRACIÓN Y DESARROLLO DEL TALENTO HUMANO","2021-04-16","CORREO ELECTRÓNICO",null,{"$f":"IFERROR(WORKDAY(C582,S581,DiasNOLaborables),\"\")","v":"2021-05-13"},{"$f":"+IF(C582=\"\",\"\",IF(J582=\"\",\"SIN RESPUESTA\",(IF(J582<=M582,\"A TIEMPO\",\"FUERA DE TIEMPO\"))))","v":"A TIEMPO"},{"$f":"IF(J582=\"\",\"\",NETWORKDAYS(C582+1,J582,DiasNOLaborables))","v":1},"",null,null,20]
[572,20219050046782,"2021-04-15","EMPRESA PRIVADA","MODULO CONTACTENOS","SOLICITUD DE INFORMACIÓN Y DOCUMENTOS","ADMINISTRATIVA","SI","GRUPO DE TESORERÍA","2021-04-27","CORREO ELECTRÓNICO",null,{"$f":"IFERROR(WORKDAY(C583,S582,DiasNOLaborables),\"\")","v":"2021-05-13"},{"$f":"+IF(C583=\"\",\"\",IF(J583=\"\",\"SIN RESPUESTA\",(IF(J583<=M583,\"A TIEMPO\",\"FUERA DE TIEMPO\"))))","v":"A TIEMPO"},{"$f":"IF(J583=\"\",\"\",NETWORKDAYS(C583+1,J583,DiasNOLaborables))","v":8},"",null,null,20]
[573,20219050046812,"2021-04-15","EMPRESA PRIVADA","MODULO CONTACTENOS","SOLICITUD DE INFORMACIÓN Y DOCUMENTOS","REGISTROS AMBIENTALES","SI","SUBDIRECCIÓN DE ESTUDIOS AMBIENTALES","2021-04-18","CORREO ELECTRÓNICO",null,{"$f":"IFERROR(WORKDAY(C584,S583,DiasNOLaborables),\"\")","v":"2021-05-13"},{"$f":"+IF(C584=\"\",\"\",IF(J584=\"\",\"SIN RESPUESTA\",(IF(J584<=M584,\"A TIEMPO\",\"FUERA DE TIEMPO\"))))","v":"A TIEMPO"},{"$f":"IF(J584=\"\",\"\",NETWORKDAYS(C584+1,J584,DiasNOLaborables))","v":1},"",null,null,35]
[574,20219050046852,"2021-04-15","CIUDADANO","MODULO CONTACTENOS","CERTIFICACIONES DE TIEMPO, CLIMA Y EVENTOS HIDROLÓGICOS","CERTIFICACIONES DE TIEMPO Y CLIMA","SI","SUBDIRECCIÓN DE METEOROLOGÍA","2021-05-18","CORREO ELECTRÓNICO",null,{"$f":"IFERROR(WORKDAY(C585,S584,DiasNOLaborables),\"\")","v":"2021-06-04"},{"$f":"+IF(C585=\"\",\"\",IF(J585=\"\",\"SIN RESPUESTA\",(IF(J585<=M585,\"A TIEMPO\",\"FUERA DE TIEMPO\"))))","v":"A TIEMPO"},{"$f":"IF(J585=\"\",\"\",NETWORKDAYS(C585+1,J585,DiasNOLaborables))","v":22},"",null,null,35]
[575,20219050046842,"2021-04-15","EMPRESA PRIVADA","MODULO CONTACTENOS","CERTIFICACIONES DE TIEMPO, CLIMA Y EVENTOS HIDROLÓGICOS","CERTIFICACIONES DE TIEMPO Y CLIMA","SI","SUBDIRECCIÓN DE METEOROLOGÍA","2021-05-03","CORREO ELECTRÓNICO",null,{"$f":"IFERROR(WORKDAY(C586,S585,DiasNOLaborables),\"\")","v":"2021-06-04"},{"$f":"+IF(C586=\"\",\"\",IF(J586=\"\",\"SIN RESPUESTA\",(IF(J586<=M586,\"A TIEMPO\",\"FUERA DE TIEMPO\"))))","v":"A TIEMPO"},{"$f":"IF(J586=\"\",\"\",NETWORKDAYS(C586+1,J586,DiasNOLaborables))","v":12},"",null,null,20]
[576,20219050046882,"2021-04-15","CIUDADANO","CORREO ELECTRÓNICO","SOLICITUD DE INFORMACIÓN Y DOCUMENTOS","SIRH","SI","SUBDIRECCIÓN DE HIDROLOGÍA","2021-04-20","CORREO ELECTRÓNICO",null,{"$f":"IFERROR(WORKDAY(C587,S586,DiasNOLaborables),\"\")","v":"2021-05-13"},{"$f":"+IF(C587=\"\",\"\",IF(J587=\"\",\"SIN RESPUESTA\",(IF(J587<=M587,\"A TIEMPO\",\"FUERA DE TIEMPO\"))))","v":"A TIEMPO"},{"$f":"IF(J587=\"\",\"\",NETWORKDAYS(C587+1,J587,DiasNOLaborables))","v":3},"",null,null,20]
[577,20219050046952,"2021-04-15","CIUDADANO","CORREO ELECTRÓNICO","SOLICITUD DE INFORMACIÓN Y DOCUMENTOS","ADMINISTRATIVA","SI","GRUPO DE TESORERÍA","2021-04-21","CORREO ELECTRÓNICO",null,{"$f":"IFERROR(WORKDAY(C588,S587,DiasNOLaborables),\"\")","v":"2021-05-13"},{"$f":"+IF(C588=\"\",\"\",IF(J588=\"\",\"SIN RESPUESTA\",(IF(J588<=M588,\"A TIEMPO\",\"FUERA DE TIEMPO\"))))","v":"A TIEMPO"},{"$f":"IF(J588=\"\",\"\",NETWORKDAYS(C588+1,J588,DiasNOLaborables))","v":4},{"$f":"IF(NETWORKDAYS(M588+1,J588,DiasNOLaborables)<=0,\"\",NETWORKDAYS(M588+1,J588,DiasNOLaborables))","v":""},null,null,35]
[578,20219050046962,"2021-04-15","ENTIDAD PÚBLICA","CORREO ELECTRÓNICO","CERTIFICACIONES DE TIEMPO, CLIMA Y EVENTOS HIDROLÓGICOS","CERTIFICACIONES DE TIEMPO Y CLIMA","SI","SUBDIRECCIÓN DE METEOROLOGÍA","2021-05-05","CORREO ELECTRÓNICO",null,{"$f":"IFERROR(WORKDAY(C589,S588,DiasNOLaborables),\"\")","v":"2021-06-04"},{"$f":"+IF(C589=\"\",\"\",IF(J589=\"\",\"SIN RESPUESTA\",(IF(J589<=M589,\"A TIEMPO\",\"FUERA DE TIEMPO\"))))","v":"A TIEMPO"},{"$f":"IF(J589=\"\",\"\",NETWORKDAYS(C589+1,J589,DiasNOLaborables))","v":14},"",null,null,{"$f":"IFERROR(VLOOKUP(F590,$AA$51:$AB$64,2),\"\")","v":35}]
[{"$f":"IF(B590<>\"\",A589+1,\"\")","v":579},20219050046972,"2021-04-15","EMPRESA PRIVADA","CORREO ELECTRÓNICO","CERTIFICACIONES DE TIEMPO, CLIMA Y EVENTOS HIDROLÓGICOS","CERTIFICACIONES DE TIEMPO Y CLIMA","SI","SUBDIRECCIÓN DE METEOROLOGÍA","2021-05-06","CORREO ELECTRÓNICO",null,{"$f":"IFERROR(WORKDAY(C590,S589,DiasNOLaborables),\"\")","v":"2021-06-04"},{"$f":"+IF(C590=\"\",\"\",IF(J590=\"\",\"SIN RESPUESTA\",(IF(J590<=M590,\"A TIEMPO\",\"FUERA DE TIEMPO\"))))","v":"A TIEMPO"},{"$f":"IF(J590=\"\",\"\",NETWORKDAYS(C590+1,J590,DiasNOLaborables))","v":15},"",null,null,20]
[580,20219050047012,"2021-04-15","CIUDADANO","CORREO ELECTRÓNICO","SOLICITUD DE INFORMACIÓN Y DOCUMENTOS","BOSQUES","SI","SUBDIRECCIÓN DE ECOSISTEMAS E INFORMACIÓN AMBIENTAL","2021-04-28","CORREO ELECTRÓNICO",null,{"$f":"IFERROR(WORKDAY(C591,S590,DiasNOLaborables),\"\")","v":"2021-05-13"},{"$f":"+IF(C591=\"\",\"\",IF(J591=\"\",\"SIN RESPUESTA\",(IF(J591<=M591,\"A TIEMPO\",\"FUERA DE TIEMPO\"))))","v":"A TIEMPO"},{"$f":"IF(J591=\"\",\"\",NETWORKDAYS(C591+1,J591,DiasNOLaborables))","v":9},"",null,null,20]
[581,20219050047022,"2021-04-15","CIUDADANO","CORREO ELECTRÓNICO","SOLICITUD DE INFORMACIÓN Y DOCUMENTOS","ADMINISTRATIVA","SI","OFICINA ASESORA JURÍDICA","2021-04-19","CORREO ELECTRÓNICO",null,{"$f":"IFERROR(WORKDAY(C592,S591,DiasNOLaborables),\"\")","v":"2021-05-13"},{"$f":"+IF(C592=\"\",\"\",IF(J592=\"\",\"SIN RESPUESTA\",(IF(J592<=M592,\"A TIEMPO\",\"FUERA DE TIEMPO\"))))","v":"A TIEMPO"},{"$f":"IF(J592=\"\",\"\",NETWORKDAYS(C592+1,J592,DiasNOLaborables))","v":2},"",null,null,20]
[582,20219050047052,"2021-04-15","CIUDADANO","CORREO ELECTRÓNICO","SOLICITUD DE INFORMACIÓN Y DOCUMENTOS","INFORMES AMBIENTALES","SI","SUBDIRECCIÓN DE ESTUDIOS AMBIENTALES","2021-04-21","CORREO ELECTRÓNICO",null,{"$f":"IFERROR(WORKDAY(C593,S592,DiasNOLaborables),\"\")","v":"2021-05-13"},{"$f":"+IF(C593=\"\",\"\",IF(J593=\"\",\"SIN RESPUESTA\",(IF(J593<=M593,\"A TIEMPO\",\"FUERA DE TIEMPO\"))))","v":"A TIEMPO"},{"$f":"IF(J593=\"\",\"\",NETWORKDAYS(C593+1,J593,DiasNOLaborables))","v":4},"",null,null,20]
[583,20219050047092,"2021-04-15","CIUDADANO","CORREO ELECTRÓNICO","SOLICITUD DE INFORMACIÓN Y DOCUMENTOS","REGISTROS AMBIENTALES","SI","SUBDIRECCIÓN DE ESTUDIOS AMBIENTALES","2021-04-18","CORREO ELECTRÓNICO",null,{"$f":"IFERROR(WORKDAY(C594,S593,DiasNOLaborables),\"\")","v":"2021-05-13"},{"$f":"+IF(C594=\"\",\"\",IF(J594=\"\",\"SIN RESPUESTA\",(IF(J594<=M594,\"A TIEMPO\",\"FUERA DE TIEMPO\"))))","v":"A TIEMPO"},{"$f":"IF(J594=\"\",\"\",NETWORKDAYS(C594+1,J594,DiasNOLaborables))","v":1},"",null,null,35]
[584,20219050047112,"2021-04-15","EMPRESA PRIVADA","CORREO ELECTRÓNICO","CERTIFICACIONES DE TIEMPO, CLIMA Y EVENTOS HIDROLÓGICOS","CERTIFICACIONES DE TIEMPO Y CLIMA","SI","SUBDIRECCIÓN DE METEOROLOGÍA","2021-04-23","CORREO ELECTRÓNICO",null,{"$f":"IFERROR(WORKDAY(C595,S594,DiasNOLaborables),\"\")","v":"2021-06-04"},{"$f":"+IF(C595=\"\",\"\",IF(J595=\"\",\"SIN RESPUESTA\",(IF(J595<=M595,\"A TIEMPO\",\"FUERA DE TIEMPO\"))))","v":"A TIEMPO"},{"$f":"IF(J595=\"\",\"\",NETWORKDAYS(C595+1,J595,DiasNOLaborables))","v":6},"",null,null,20]
[585,20219050047132,"2021-04-15","EMPRESA PRIVADA","CORREO ELECTRÓNICO","SOLICITUD DE INFORMACIÓN Y DOCUMENTOS","ADMINISTRATIVA","SI","GRUPO DE TESORERÍA","2021-04-29","CORREO ELECTRÓNICO",null,{"$f":"IFERROR(WORKDAY(C596,S595,DiasNOLaborables),\"\")","v":"2021-05-13"},{"$f":"+IF(C596=\"\",\"\",IF(J596=\"\",\"SIN RESPUESTA\",(IF(J596<=M596,\"A TIEMPO\",\"FUERA DE TIEMPO\"))))","v":"A TIEMPO"},{"$f":"IF(J596=\"\",\"\",NETWORKDAYS(C596+1,J596,DiasNOLaborables))","v":10},"",null,null,35]
[586,20219050047142,"2021-04-15","EMPRESA PRIVADA","CORREO ELECTRÓNICO","CERTIFICACIONES DE TIEMPO, CLIMA Y EVENTOS HIDROLÓGICOS","CERTIFICACIONES DE TIEMPO Y CLIMA","SI","SUBDIRECCIÓN DE METEOROLOGÍA","2021-05-06","CORREO ELECTRÓNICO",null,{"$f":"IFERROR(WORKDAY(C597,S596,DiasNOLaborables),\"\")","v":"2021-06-04"},{"$f":"+IF(C597=\"\",\"\",IF(J597=\"\",\"SIN RESPUESTA\",(IF(J597<=M597,\"A TIEMPO\",\"FUERA DE TIEMPO\"))))","v":"A TIEMPO"},{"$f":"IF(J597=\"\",\"\",NETWORKDAYS(C597+1,J597,DiasNOLaborables))","v":15},"",null,null,20]
[587,20219050047162,"2021-04-15","CIUDADANO","CORREO ELECTRÓNICO","SOLICITUD DE INFORMACIÓN Y DOCUMENTOS","OPERACIÓN DE REDES","SI","SUBDIRECCIÓN DE HIDROLOGÍA","2021-04-22","CORREO ELECTRÓNICO",null,{"$f":"IFERROR(WORKDAY(C598,S597,DiasNOLaborables),\"\")","v":"2021-05-13"},{"$f":"+IF(C598=\"\",\"\",IF(J598=\"\",\"SIN RESPUESTA\",(IF(J598<=M598,\"A TIEMPO\",\"FUERA DE TIEMPO\"))))","v":"A TIEMPO"},{"$f":"IF(J598=\"\",\"\",NETWORKDAYS(C598+1,J598,DiasNOLaborables))","v":5},"",null,null,35]
[588,20219050047212,"2021-04-15","CIUDADANO","CORREO ELECTRÓNICO","CERTIFICACIONES DE TIEMPO, CLIMA Y EVENTOS HIDROLÓGICOS","CERTIFICACIONES DE TIEMPO Y CLIMA","SI","SUBDIRECCIÓN DE METEOROLOGÍA","2021-05-06","CORREO ELECTRÓNICO",null,{"$f":"IFERROR(WORKDAY(C599,S598,DiasNOLaborables),\"\")","v":"2021-06-04"},{"$f":"+IF(C599=\"\",\"\",IF(J599=\"\",\"SIN RESPUESTA\",(IF(J599<=M599,\"A TIEMPO\",\"FUERA DE TIEMPO\"))))","v":"A TIEMPO"},{"$f":"IF(J599=\"\",\"\",NETWORKDAYS(C599+1,J599,DiasNOLaborables))","v":15},"",null,null,35]
[589,20219050047252,"2021-04-15","EMPRESA PRIVADA","CORREO ELECTRÓNICO","CERTIFICACIONES DE TIEMPO, CLIMA Y EVENTOS HIDROLÓGICOS","CERTIFICACIONES DE TIEMPO Y CLIMA","SI","SUBDIRECCIÓN DE METEOROLOGÍA","2021-05-06","CORREO ELECTRÓNICO",null,{"$f":"IFERROR(WORKDAY(C600,S599,DiasNOLaborables),\"\")","v":"2021-06-04"},{"$f":"+IF(C600=\"\",\"\",IF(J600=\"\",\"SIN RESPUESTA\",(IF(J600<=M600,\"A TIEMPO\",\"FUERA DE TIEMPO\"))))","v":"A TIEMPO"},{"$f":"IF(J600=\"\",\"\",NETWORKDAYS(C600+1,J600,DiasNOLaborables))","v":15},"",null,null,35]
[590,20219050047272,"2021-04-15","CIUDADANO","CORREO ELECTRÓNICO","CERTIFICACIONES DE TIEMPO, CLIMA Y EVENTOS HIDROLÓGICOS","CERTIFICACIONES DE TIEMPO Y CLIMA","SI","SUBDIRECCIÓN DE METEOROLOGÍA","2021-05-06","CORREO ELECTRÓNICO",null,{"$f":"IFERROR(WORKDAY(C601,S600,DiasNOLaborables),\"\")","v":"2021-06-04"},{"$f":"+IF(C601=\"\",\"\",IF(J601=\"\",\"SIN RESPUESTA\",(IF(J601<=M601,\"A TIEMPO\",\"FUERA DE TIEMPO\"))))","v":"A TIEMPO"},{"$f":"IF(J601=\"\",\"\",NETWORKDAYS(C601+1,J601,DiasNOLaborables))","v":15},"",null,null,20]
[591,20219050047292,"2021-04-15","CIUDADANO","CORREO ELECTRÓNICO","SOLICITUD DE INFORMACIÓN Y DOCUMENTOS","REGISTROS AMBIENTALES","SI","SUBDIRECCIÓN DE ESTUDIOS AMBIENTALES","2021-04-15","CORREO ELECTRÓNICO",null,{"$f":"IFERROR(WORKDAY(C602,S601,DiasNOLaborables),\"\")","v":"2021-05-13"},{"$f":"+IF(C602=\"\",\"\",IF(J602=\"\",\"SIN RESPUESTA\",(IF(J602<=M602,\"A TIEMPO\",\"FUERA DE TIEMPO\"))))","v":"A TIEMPO"},{"$f":"IF(J602=\"\",\"\",NETWORKDAYS(C602+1,J602,DiasNOLaborables))","v":-2},"",null,null,20]
[592,20219050047312,"2021-04-15","CIUDADANO","CORREO ELECTRÓNICO","SOLICITUD DE INFORMACIÓN Y DOCUMENTOS","REGISTROS AMBIENTALES","SI","SUBDIRECCIÓN DE ESTUDIOS AMBIENTALES","2021-04-15","CORREO ELECTRÓNICO",null,{"$f":"IFERROR(WORKDAY(C603,S602,DiasNOLaborables),\"\")","v":"2021-05-13"},{"$f":"+IF(C603=\"\",\"\",IF(J603=\"\",\"SIN RESPUESTA\",(IF(J603<=M603,\"A TIEMPO\",\"FUERA DE TIEMPO\"))))","v":"A TIEMPO"},{"$f":"IF(J603=\"\",\"\",NETWORKDAYS(C603+1,J603,DiasNOLaborables))","v":-2},"",null,null,20]
[593,20219050047322,"2021-04-15","CIUDADANO","CORREO ELECTRÓNICO","SOLICITUD DE INFORMACIÓN Y DOCUMENTOS","REGISTROS AMBIENTALES","SI","SUBDIRECCIÓN DE ESTUDIOS AMBIENTALES","2021-04-15","CORREO ELECTRÓNICO",null,{"$f":"IFERROR(WORKDAY(C604,S603,DiasNOLaborables),\"\")","v":"2021-05-13"},{"$f":"+IF(C604=\"\",\"\",IF(J604=\"\",\"SIN RESPUESTA\",(IF(J604<=M604,\"A TIEMPO\",\"FUERA DE TIEMPO\"))))","v":"A TIEMPO"},{"$f":"IF(J604=\"\",\"\",NETWORKDAYS(C604+1,J604,DiasNOLaborables))","v":-2},"",null,null,20]
[594,20219050047332,"2021-04-15","CIUDADANO","CORREO ELECTRÓNICO","SOLICITUD DE INFORMACIÓN Y DOCUMENTOS","REGISTROS AMBIENTALES","SI","SUBDIRECCIÓN DE ESTUDIOS AMBIENTALES","2021-04-15","CORREO ELECTRÓNICO",null,{"$f":"IFERROR(WORKDAY(C605,S604,DiasNOLaborables),\"\")","v":"2021-05-13"},{"$f":"+IF(C605=\"\",\"\",IF(J605=\"\",\"SIN RESPUESTA\",(IF(J605<=M605,\"A TIEMPO\",\"FUERA DE TIEMPO\"))))","v":"A TIEMPO"},{"$f":"IF(J605=\"\",\"\",NETWORKDAYS(C605+1,J605,DiasNOLaborables))","v":-2},"",null,null,20]
[595,20219050047342,"2021-04-15","EMPRESA PRIVADA","CORREO ELECTRÓNICO","SOLICITUD DE INFORMACIÓN Y DOCUMENTOS","REGISTROS AMBIENTALES","SI","SUBDIRECCIÓN DE ESTUDIOS AMBIENTALES","2021-04-15","CORREO ELECTRÓNICO",null,{"$f":"IFERROR(WORKDAY(C606,S605,DiasNOLaborables),\"\")","v":"2021-05-13"},{"$f":"+IF(C606=\"\",\"\",IF(J606=\"\",\"SIN RESPUESTA\",(IF(J606<=M606,\"A TIEMPO\",\"FUERA DE TIEMPO\"))))","v":"A TIEMPO"},{"$f":"IF(J606=\"\",\"\",NETWORKDAYS(C606+1,J606,DiasNOLaborables))","v":-2},"",null,null,20]
[596,20219050046872,"2021-04-15","FUNCIONARIO IDEAM","MODULO CONTACTENOS","SOLICITUD DE INFORMACIÓN Y DOCUMENTOS","ADMINISTRATIVA","SI","GRUPO DE ADMINISTRACIÓN Y DESARROLLO DEL TALENTO HUMANO","2021-04-27","CORREO ELECTRÓNICO",null,{"$f":"IFERROR(WORKDAY(C607,S606,DiasNOLaborables),\"\")","v":"2021-05-13"},{"$f":"+IF(C607=\"\",\"\",IF(J607=\"\",\"SIN RESPUESTA\",(IF(J607<=M607,\"A TIEMPO\",\"FUERA DE TIEMPO\"))))","v":"A TIEMPO"},{"$f":"IF(J607=\"\",\"\",NETWORKDAYS(C607+1,J607,DiasNOLaborables))","v":8},"",null,null,20]
[597,20219050046992,"2021-04-15","FUNCIONARIO IDEAM","MODULO CONTACTENOS","SOLICITUD DE INFORMACIÓN Y DOCUMENTOS","ADMINISTRATIVA","SI","GRUPO DE ADMINISTRACIÓN Y DESARROLLO DEL TALENTO HUMANO","2021-04-16","CORREO ELECTRÓNICO",null,{"$f":"IFERROR(WORKDAY(C608,S607,DiasNOLaborables),\"\")","v":"2021-05-13"},{"$f":"+IF(C608=\"\",\"\",IF(J608=\"\",\"SIN RESPUESTA\",(IF(J608<=M608,\"A TIEMPO\",\"FUERA DE TIEMPO\"))))","v":"A TIEMPO"},{"$f":"IF(J608=\"\",\"\",NETWORKDAYS(C608+1,J608,DiasNOLaborables))","v":1},"",null,null,20]
[598,20219050047082,"2021-04-15","CIUDADANO","MODULO CONTACTENOS","SOLICITUD DE INFORMACIÓN Y DOCUMENTOS","ADMINISTRATIVA","SI","OFICINA ASESORA JURÍDICA","2021-04-22","CORREO ELECTRÓNICO",null,{"$f":"IFERROR(WORKDAY(C609,S608,DiasNOLaborables),\"\")","v":"2021-05-13"},{"$f":"+IF(C609=\"\",\"\",IF(J609=\"\",\"SIN RESPUESTA\",(IF(J609<=M609,\"A TIEMPO\",\"FUERA DE TIEMPO\"))))","v":"A TIEMPO"},{"$f":"IF(J609=\"\",\"\",NETWORKDAYS(C609+1,J609,DiasNOLaborables))","v":5},"",null,null,20]
[599,20219050047102,"2021-04-15","CIUDADANO","MODULO CONTACTENOS","SOLICITUD DE INFORMACIÓN Y DOCUMENTOS","ADMINISTRATIVA","SI","GRUPO DE ADMINISTRACIÓN Y DESARROLLO DEL TALENTO HUMANO","2021-04-27","CORREO ELECTRÓNICO",null,{"$f":"IFERROR(WORKDAY(C610,S609,DiasNOLaborables),\"\")","v":"2021-05-13"},{"$f":"+IF(C610=\"\",\"\",IF(J610=\"\",\"SIN RESPUESTA\",(IF(J610<=M610,\"A TIEMPO\",\"FUERA DE TIEMPO\"))))","v":"A TIEMPO"},{"$f":"IF(J610=\"\",\"\",NETWORKDAYS([5]Hoja1!C608+1,[5]Hoja1!P608,DiasNOLaborables))","v":5},"",null,null,20]
[600,20219050047202,"2021-04-15","CIUDADANO","MODULO CONTACTENOS","SOLICITUD DE INFORMACIÓN Y DOCUMENTOS","ADMINISTRATIVA","SI","OFICINA ASESORA JURÍDICA","2021-04-19","CORREO ELECTRÓNICO",null,{"$f":"IFERROR(WORKDAY(C611,S610,DiasNOLaborables),\"\")","v":"2021-05-13"},{"$f":"+IF(C611=\"\",\"\",IF(J611=\"\",\"SIN RESPUESTA\",(IF(J611<=M611,\"A TIEMPO\",\"FUERA DE TIEMPO\"))))","v":"A TIEMPO"},{"$f":"IF(J611=\"\",\"\",NETWORKDAYS(C611+1,J611,DiasNOLaborables))","v":2},"",null,null,35]
[601,20219050047192,"2021-04-15","CIUDADANO","MODULO CONTACTENOS","CERTIFICACIONES DE TIEMPO, CLIMA Y EVENTOS HIDROLÓGICOS","CERTIFICACIONES DE TIEMPO Y CLIMA","SI","SUBDIRECCIÓN DE METEOROLOGÍA","2021-05-03","CORREO ELECTRÓNICO",null,{"$f":"IFERROR(WORKDAY(C612,S611,DiasNOLaborables),\"\")","v":"2021-06-04"},{"$f":"+IF(C612=\"\",\"\",IF(J612=\"\",\"SIN RESPUESTA\",(IF(J612<=M612,\"A TIEMPO\",\"FUERA DE TIEMPO\"))))","v":"A TIEMPO"},{"$f":"IF(J612=\"\",\"\",NETWORKDAYS(C612+1,J612,DiasNOLaborables))","v":12},"",null,null,20]
[602,20219050047302,"2021-04-15","CIUDADANO","MODULO CONTACTENOS","SOLICITUD DE INFORMACIÓN Y DOCUMENTOS","ACREDITACIÓN DE LABORATORIOS","SI","SUBDIRECCIÓN DE ESTUDIOS AMBIENTALES","2021-05-03","CORREO ELECTRÓNICO",null,{"$f":"IFERROR(WORKDAY(C613,S612,DiasNOLaborables),\"\")","v":"2021-05-13"},{"$f":"+IF(C613=\"\",\"\",IF(J613=\"\",\"SIN RESPUESTA\",(IF(J613<=M613,\"A TIEMPO\",\"FUERA DE TIEMPO\"))))","v":"A TIEMPO"},{"$f":"IF(J613=\"\",\"\",NETWORKDAYS(C613+1,J613,DiasNOLaborables))","v":12},"",null,null,30]
[603,20219050047172,"2021-04-15","CIUDADANO","CORREO ELECTRÓNICO","PETICIÓN","SEDIMENTOS","SI","SUBDIRECCIÓN DE HIDROLOGÍA","2021-05-04","CORREO ELECTRÓNICO",null,{"$f":"IFERROR(WORKDAY(C614,S613,DiasNOLaborables),\"\")","v":"2021-05-28"},{"$f":"+IF(C614=\"\",\"\",IF(J614=\"\",\"SIN RESPUESTA\",(IF(J614<=M614,\"A TIEMPO\",\"FUERA DE TIEMPO\"))))","v":"A TIEMPO"},{"$f":"IF(J614=\"\",\"\",NETWORKDAYS(C614+1,J614,DiasNOLaborables))","v":13},"",null,null,20]
[604,20219050047222,"2021-04-15","CIUDADANO","CORREO ELECTRÓNICO","SOLICITUD DE INFORMACIÓN Y DOCUMENTOS","ADMINISTRATIVA","SI","GRUPO DE PRESUPUESTO","2021-05-10","CORREO ELECTRÓNICO",null,{"$f":"IFERROR(WORKDAY(C615,S614,DiasNOLaborables),\"\")","v":"2021-05-13"},{"$f":"+IF(C615=\"\",\"\",IF(J615=\"\",\"SIN RESPUESTA\",(IF(J615<=M615,\"A TIEMPO\",\"FUERA DE TIEMPO\"))))","v":"A TIEMPO"},{"$f":"IF(J615=\"\",\"\",NETWORKDAYS(C615+1,J615,DiasNOLaborables))","v":17},"",null,null,35]
[605,20219050047242,"2021-04-15","EMPRESA PRIVADA","CORREO ELECTRÓNICO","CERTIFICACIONES DE TIEMPO, CLIMA Y EVENTOS HIDROLÓGICOS","CERTIFICACIONES DE TIEMPO Y CLIMA","SI","SUBDIRECCIÓN DE METEOROLOGÍA","2021-05-06","CORREO ELECTRÓNICO",null,{"$f":"IFERROR(WORKDAY(C616,S615,DiasNOLaborables),\"\")","v":"2021-06-04"},{"$f":"+IF(C616=\"\",\"\",IF(J616=\"\",\"SIN RESPUESTA\",(IF(J616<=M616,\"A TIEMPO\",\"FUERA DE TIEMPO\"))))","v":"A TIEMPO"},{"$f":"IF(J616=\"\",\"\",NETWORKDAYS(C616+1,J616,DiasNOLaborables))","v":15},"",null,null,20]
[606,20219050047382,"2021-04-15","CIUDADANO","MODULO CONTACTENOS","SOLICITUD DE INFORMACIÓN Y DOCUMENTOS","ADMINISTRATIVA","SI","OFICINA ASESORA JURÍDICA","2021-04-19","CORREO ELECTRÓNICO",null,{"$f":"IFERROR(WORKDAY(C617,S616,DiasNOLaborables),\"\")","v":"2021-05-13"},{"$f":"+IF(C617=\"\",\"\",IF(J617=\"\",\"SIN RESPUESTA\",(IF(J617<=M617,\"A TIEMPO\",\"FUERA DE TIEMPO\"))))","v":"A TIEMPO"},{"$f":"IF(J617=\"\",\"\",NETWORKDAYS(C617+1,J617,DiasNOLaborables))","v":2},"",null,null,20]
[607,20219050047392,"2021-04-15","CIUDADANO","MODULO CONTACTENOS","SOLICITUD DE INFORMACIÓN Y DOCUMENTOS","ADMINISTRATIVA","SI","OFICINA ASESORA JURÍDICA","2021-04-22","CORREO ELECTRÓNICO",null,{"$f":"IFERROR(WORKDAY(C618,S617,DiasNOLaborables),\"\")","v":"2021-05-13"},{"$f":"+IF(C618=\"\",\"\",IF(J618=\"\",\"SIN RESPUESTA\",(IF(J618<=M618,\"A TIEMPO\",\"FUERA DE TIEMPO\"))))","v":"A TIEMPO"},{"$f":"IF(J618=\"\",\"\",NETWORKDAYS(C618+1,J618,DiasNOLaborables))","v":5},"",null,null,20]
[608,20219050047532,"2021-04-15","CIUDADANO","MODULO CONTACTENOS","SOLICITUD DE INFORMACIÓN Y DOCUMENTOS","BOSQUES","SI","SUBDIRECCIÓN DE ECOSISTEMAS E INFORMACIÓN AMBIENTAL","2021-04-26","CORREO ELECTRÓNICO",null,{"$f":"IFERROR(WORKDAY(C619,S618,DiasNOLaborables),\"\")","v":"2021-05-13"},{"$f":"+IF(C619=\"\",\"\",IF(J619=\"\",\"SIN RESPUESTA\",(IF(J619<=M619,\"A TIEMPO\",\"FUERA DE TIEMPO\"))))","v":"A TIEMPO"},{"$f":"IF(J619=\"\",\"\",NETWORKDAYS(C619+1,J619,DiasNOLaborables))","v":7},"",null,null,20]
[609,20219050047572,"2021-04-15","CIUDADANO","MODULO CONTACTENOS","SOLICITUD DE INFORMACIÓN Y DOCUMENTOS","ADMINISTRATIVA","SI","OFICINA ASESORA JURÍDICA","2021-04-19","CORREO ELECTRÓNICO",null,{"$f":"IFERROR(WORKDAY(C620,S619,DiasNOLaborables),\"\")","v":"2021-05-13"},{"$f":"+IF(C620=\"\",\"\",IF(J620=\"\",\"SIN RESPUESTA\",(IF(J620<=M620,\"A TIEMPO\",\"FUERA DE TIEMPO\"))))","v":"A TIEMPO"},{"$f":"IF(J620=\"\",\"\",NETWORKDAYS(C620+1,J620,DiasNOLaborables))","v":2},"",null,null,20]
[610,20219050047422,"2021-04-15","EMPRESA PRIVADA","CORREO ELECTRÓNICO","SOLICITUD DE INFORMACIÓN Y DOCUMENTOS","REGISTROS AMBIENTALES","SI","SUBDIRECCIÓN DE ESTUDIOS AMBIENTALES","2021-04-15","CORREO ELECTRÓNICO",null,{"$f":"IFERROR(WORKDAY(C621,S620,DiasNOLaborables),\"\")","v":"2021-05-13"},{"$f":"+IF(C621=\"\",\"\",IF(J621=\"\",\"SIN RESPUESTA\",(IF(J621<=M621,\"A TIEMPO\",\"FUERA DE TIEMPO\"))))","v":"A TIEMPO"},{"$f":"IF(J621=\"\",\"\",NETWORKDAYS(C621+1,J621,DiasNOLaborables))","v":-2},"",null,null,20]
[611,20219050047452,"2021-04-15","EMPRESA PRIVADA","CORREO ELECTRÓNICO","SOLICITUD DE INFORMACIÓN Y DOCUMENTOS","REGISTROS AMBIENTALES","SI","SUBDIRECCIÓN DE ESTUDIOS AMBIENTALES","2021-04-15","CORREO ELECTRÓNICO",null,{"$f":"IFERROR(WORKDAY(C622,S621,DiasNOLaborables),\"\")","v":"2021-05-13"},{"$f":"+IF(C622=\"\",\"\",IF(J622=\"\",\"SIN RESPUESTA\",(IF(J622<=M622,\"A TIEMPO\",\"FUERA DE TIEMPO\"))))","v":"A TIEMPO"},{"$f":"IF(J622=\"\",\"\",NETWORKDAYS(C622+1,J622,DiasNOLaborables))","v":-2},"",null,null,20]
[612,20219050047462,"2021-04-15","ENTIDAD PÚBLICA","CORREO ELECTRÓNICO","SOLICITUD DE INFORMACIÓN Y DOCUMENTOS","REGISTROS AMBIENTALES","SI","SUBDIRECCIÓN DE ESTUDIOS AMBIENTALES","2021-04-15","CORREO ELECTRÓNICO",null,{"$f":"IFERROR(WORKDAY(C623,S622,DiasNOLaborables),\"\")","v":"2021-05-13"},{"$f":"+IF(C623=\"\",\"\",IF(J623=\"\",\"SIN RESPUESTA\",(IF(J623<=M623,\"A TIEMPO\",\"FUERA DE TIEMPO\"))))","v":"A TIEMPO"},{"$f":"IF(J623=\"\",\"\",NETWORKDAYS(C623+1,J623,DiasNOLaborables))","v":-2},"",null,null,20]
[613,20219050047472,"2021-04-15","EMPRESA PRIVADA","CORREO ELECTRÓNICO","SOLICITUD DE INFORMACIÓN Y DOCUMENTOS","REGISTROS AMBIENTALES","SI","SUBDIRECCIÓN DE ESTUDIOS AMBIENTALES","2021-04-15","CORREO ELECTRÓNICO",null,{"$f":"IFERROR(WORKDAY(C624,S623,DiasNOLaborables),\"\")","v":"2021-05-13"},{"$f":"+IF(C624=\"\",\"\",IF(J624=\"\",\"SIN RESPUESTA\",(IF(J624<=M624,\"A TIEMPO\",\"FUERA DE TIEMPO\"))))","v":"A TIEMPO"},{"$f":"IF(J624=\"\",\"\",NETWORKDAYS(C624+1,J624,DiasNOLaborables))","v":-2},"",null,null,20]
[614,20219050047512,"2021-04-15","FUNCIONARIO IDEAM","CORREO ELECTRÓNICO","SOLICITUD DE INFORMACIÓN Y DOCUMENTOS","ADMINISTRATIVA","SI","OFICINA ASESORA JURÍDICA","2021-04-19","CORREO ELECTRÓNICO",null,{"$f":"IFERROR(WORKDAY(C625,S624,DiasNOLaborables),\"\")","v":"2021-05-13"},{"$f":"+IF(C625=\"\",\"\",IF(J625=\"\",\"SIN RESPUESTA\",(IF(J625<=M625,\"A TIEMPO\",\"FUERA DE TIEMPO\"))))","v":"A TIEMPO"},{"$f":"IF(J625=\"\",\"\",NETWORKDAYS(C625+1,J625,DiasNOLaborables))","v":2},"",null,null,20]
[615,20219050047962,"2021-04-16","CIUDADANO","CORREO ELECTRÓNICO","SOLICITUD DE INFORMACIÓN Y DOCUMENTOS","ADMINISTRATIVA","SI","GRUPO DE ADMINISTRACIÓN Y DESARROLLO DEL TALENTO HUMANO","2021-04-19","CORREO ELECTRÓNICO",null,{"$f":"IFERROR(WORKDAY(C626,S625,DiasNOLaborables),\"\")","v":"2021-05-14"},{"$f":"+IF(C626=\"\",\"\",IF(J626=\"\",\"SIN RESPUESTA\",(IF(J626<=M626,\"A TIEMPO\",\"FUERA DE TIEMPO\"))))","v":"A TIEMPO"},{"$f":"IF(J626=\"\",\"\",NETWORKDAYS(C626+1,J626,DiasNOLaborables))","v":1},"",null,null,20]
[616,20219050047652,"2021-04-16","CIUDADANO","CORREO ELECTRÓNICO","SOLICITUD DE INFORMACIÓN Y DOCUMENTOS","REGISTROS AMBIENTALES","SI","SUBDIRECCIÓN DE ESTUDIOS AMBIENTALES","2021-04-16","CORREO ELECTRÓNICO",null,{"$f":"IFERROR(WORKDAY(C627,S626,DiasNOLaborables),\"\")","v":"2021-05-14"},{"$f":"+IF(C627=\"\",\"\",IF(J627=\"\",\"SIN RESPUESTA\",(IF(J627<=M627,\"A TIEMPO\",\"FUERA DE TIEMPO\"))))","v":"A TIEMPO"},{"$f":"IF(J627=\"\",\"\",NETWORKDAYS(C627+1,J627,DiasNOLaborables))","v":-1},"",null,null,20]
[617,20219050047662,"2021-04-16","CIUDADANO","CORREO ELECTRÓNICO","SOLICITUD DE INFORMACIÓN Y DOCUMENTOS","REGISTROS AMBIENTALES","SI","SUBDIRECCIÓN DE ESTUDIOS AMBIENTALES","2021-04-16","CORREO ELECTRÓNICO",null,{"$f":"IFERROR(WORKDAY(C628,S627,DiasNOLaborables),\"\")","v":"2021-05-14"},{"$f":"+IF(C628=\"\",\"\",IF(J628=\"\",\"SIN RESPUESTA\",(IF(J628<=M628,\"A TIEMPO\",\"FUERA DE TIEMPO\"))))","v":"A TIEMPO"},{"$f":"IF(J628=\"\",\"\",NETWORKDAYS(C628+1,J628,DiasNOLaborables))","v":-1},"",null,null,20]
[618,20219050047682,"2021-04-16","CIUDADANO","CORREO ELECTRÓNICO","SOLICITUD DE INFORMACIÓN Y DOCUMENTOS","REGISTROS AMBIENTALES","SI","SUBDIRECCIÓN DE ESTUDIOS AMBIENTALES","2021-04-16","CORREO ELECTRÓNICO",null,{"$f":"IFERROR(WORKDAY(C629,S628,DiasNOLaborables),\"\")","v":"2021-05-14"},{"$f":"+IF(C629=\"\",\"\",IF(J629=\"\",\"SIN RESPUESTA\",(IF(J629<=M629,\"A TIEMPO\",\"FUERA DE TIEMPO\"))))","v":"A TIEMPO"},{"$f":"IF(J629=\"\",\"\",NETWORKDAYS(C629+1,J629,DiasNOLaborables))","v":-1},"",null,null,20]
[619,20219050047692,"2021-04-16","CIUDADANO","CORREO ELECTRÓNICO","SOLICITUD DE INFORMACIÓN Y DOCUMENTOS","REGISTROS AMBIENTALES","SI","SUBDIRECCIÓN DE ESTUDIOS AMBIENTALES","2021-05-05","CORREO ELECTRÓNICO",null,{"$f":"IFERROR(WORKDAY(C630,S629,DiasNOLaborables),\"\")","v":"2021-05-14"},{"$f":"+IF(C630=\"\",\"\",IF(J630=\"\",\"SIN RESPUESTA\",(IF(J630<=M630,\"A TIEMPO\",\"FUERA DE TIEMPO\"))))","v":"A TIEMPO"},{"$f":"IF(J630=\"\",\"\",NETWORKDAYS(C630+1,J630,DiasNOLaborables))","v":13},"",null,null,20]
[620,20219050047712,"2021-04-16","CIUDADANO","CORREO ELECTRÓNICO","SOLICITUD DE INFORMACIÓN Y DOCUMENTOS","REGISTROS AMBIENTALES","SI","SUBDIRECCIÓN DE ESTUDIOS AMBIENTALES","2021-05-05","CORREO ELECTRÓNICO",null,{"$f":"IFERROR(WORKDAY(C631,S630,DiasNOLaborables),\"\")","v":"2021-05-14"},{"$f":"+IF(C631=\"\",\"\",IF(J631=\"\",\"SIN RESPUESTA\",(IF(J631<=M631,\"A TIEMPO\",\"FUERA DE TIEMPO\"))))","v":"A TIEMPO"},{"$f":"IF(J631=\"\",\"\",NETWORKDAYS(C631+1,J631,DiasNOLaborables))","v":13},"",null,null,20]
[621,20219050047802,"2021-04-16","CIUDADANO","MODULO CONTACTENOS","SOLICITUD DE INFORMACIÓN Y DOCUMENTOS","ADMINISTRATIVA","SI","OFICINA ASESORA JURÍDICA","2021-04-22","CORREO ELECTRÓNICO",null,{"$f":"IFERROR(WORKDAY(C632,S631,DiasNOLaborables),\"\")","v":"2021-05-14"},{"$f":"+IF(C632=\"\",\"\",IF(J632=\"\",\"SIN RESPUESTA\",(IF(J632<=M632,\"A TIEMPO\",\"FUERA DE TIEMPO\"))))","v":"A TIEMPO"},{"$f":"IF(J632=\"\",\"\",NETWORKDAYS(C632+1,J632,DiasNOLaborables))","v":4},"",null,null,20]
[622,20219050047902,"2021-04-16","CIUDADANO","MODULO CONTACTENOS","SOLICITUD DE INFORMACIÓN Y DOCUMENTOS","REGISTROS AMBIENTALES","SI","SUBDIRECCIÓN DE ESTUDIOS AMBIENTALES","2021-05-05","CORREO ELECTRÓNICO",null,{"$f":"IFERROR(WORKDAY(C633,S632,DiasNOLaborables),\"\")","v":"2021-05-14"},{"$f":"+IF(C633=\"\",\"\",IF(J633=\"\",\"SIN RESPUESTA\",(IF(J633<=M633,\"A TIEMPO\",\"FUERA DE TIEMPO\"))))","v":"A TIEMPO"},{"$f":"IF(J633=\"\",\"\",NETWORKDAYS(C633+1,J633,DiasNOLaborables))","v":13},"",null,null,20]
[623,20219050047262,"2021-04-16","EMPRESA PRIVADA","MODULO CONTACTENOS","SOLICITUD DE INFORMACIÓN Y DOCUMENTOS","SOLICITUD DE INFORMACIÓN HIDROMETEOROLÓGICA","NO","GRUPO DE SERVICIO AL CIUDADANO ","2021-05-11","CORREO ELECTRÓNICO",null,{"$f":"IFERROR(WORKDAY(C634,S633,DiasNOLaborables),\"\")","v":"2021-05-14"},{"$f":"+IF(C634=\"\",\"\",IF(J634=\"\",\"SIN RESPUESTA\",(IF(J634<=M634,\"A TIEMPO\",\"FUERA DE TIEMPO\"))))","v":"A TIEMPO"},{"$f":"IF(J634=\"\",\"\",NETWORKDAYS(C634+1,J634,DiasNOLaborables))","v":17},"",null,null,20]
[624,20219050047702,"2021-04-16","EMPRESA PRIVADA","MODULO CONTACTENOS","SOLICITUD DE INFORMACIÓN Y DOCUMENTOS","SOLICITUD DE INFORMACIÓN HIDROMETEOROLÓGICA","NO","GRUPO DE SERVICIO AL CIUDADANO ","2021-05-11","CORREO ELECTRÓNICO",null,{"$f":"IFERROR(WORKDAY(C635,S634,DiasNOLaborables),\"\")","v":"2021-05-14"},{"$f":"+IF(C635=\"\",\"\",IF(J635=\"\",\"SIN RESPUESTA\",(IF(J635<=M635,\"A TIEMPO\",\"FUERA DE TIEMPO\"))))","v":"A TIEMPO"},{"$f":"IF(J635=\"\",\"\",NETWORKDAYS(C635+1,J635,DiasNOLaborables))","v":17},"",null,null,20]
[625,20219050047722,"2021-04-16","CIUDADANO","MODULO CONTACTENOS","SOLICITUD DE INFORMACIÓN Y DOCUMENTOS","SOLICITUD DE INFORMACIÓN HIDROMETEOROLÓGICA","NO","GRUPO DE SERVICIO AL CIUDADANO ","2021-05-11","CORREO ELECTRÓNICO",null,{"$f":"IFERROR(WORKDAY(C636,S635,DiasNOLaborables),\"\")","v":"2021-05-14"},{"$f":"+IF(C636=\"\",\"\",IF(J636=\"\",\"SIN RESPUESTA\",(IF(J636<=M636,\"A TIEMPO\",\"FUERA DE TIEMPO\"))))","v":"A TIEMPO"},{"$f":"IF(J636=\"\",\"\",NETWORKDAYS(C636+1,J636,DiasNOLaborables))","v":17},"",null,null,20]
[626,20219050047732,"2021-04-16","ACADEMIA ","MODULO CONTACTENOS","SOLICITUD DE INFORMACIÓN Y DOCUMENTOS","SOLICITUD DE INFORMACIÓN HIDROMETEOROLÓGICA","NO","GRUPO DE SERVICIO AL CIUDADANO ","2021-05-12","CORREO ELECTRÓNICO",null,{"$f":"IFERROR(WORKDAY(C637,S636,DiasNOLaborables),\"\")","v":"2021-05-14"},{"$f":"+IF(C637=\"\",\"\",IF(J637=\"\",\"SIN RESPUESTA\",(IF(J637<=M637,\"A TIEMPO\",\"FUERA DE TIEMPO\"))))","v":"A TIEMPO"},{"$f":"IF(J637=\"\",\"\",NETWORKDAYS(C637+1,J637,DiasNOLaborables))","v":18},"",null,null,20]
[627,20219050047752,"2021-04-16","CIUDADANO","MODULO CONTACTENOS","SOLICITUD DE INFORMACIÓN Y DOCUMENTOS","SOLICITUD DE INFORMACIÓN HIDROMETEOROLÓGICA","NO","GRUPO DE SERVICIO AL CIUDADANO ","2021-05-12","CORREO ELECTRÓNICO",null,{"$f":"IFERROR(WORKDAY(C638,S637,DiasNOLaborables),\"\")","v":"2021-05-14"},{"$f":"+IF(C638=\"\",\"\",IF(J638=\"\",\"SIN RESPUESTA\",(IF(J638<=M638,\"A TIEMPO\",\"FUERA DE TIEMPO\"))))","v":"A TIEMPO"},{"$f":"IF(J638=\"\",\"\",NETWORKDAYS(C638+1,J638,DiasNOLaborables))","v":18},"",null,null,20]
[628,20219050047912,"2021-04-16","CIUDADANO","MODULO CONTACTENOS","SOLICITUD DE INFORMACIÓN Y DOCUMENTOS","REGISTROS AMBIENTALES","SI","SUBDIRECCIÓN DE ESTUDIOS AMBIENTALES","2021-05-05","CORREO ELECTRÓNICO",null,{"$f":"IFERROR(WORKDAY(C639,S638,DiasNOLaborables),\"\")","v":"2021-05-14"},{"$f":"+IF(C639=\"\",\"\",IF(J639=\"\",\"SIN RESPUESTA\",(IF(J639<=M639,\"A TIEMPO\",\"FUERA DE TIEMPO\"))))","v":"A TIEMPO"},{"$f":"IF(J639=\"\",\"\",NETWORKDAYS(C639+1,J639,DiasNOLaborables))","v":13},"",null,null,20]
[629,20219050048072,"2021-04-16","CIUDADANO","MODULO CONTACTENOS","SOLICITUD DE INFORMACIÓN Y DOCUMENTOS","ACREDITACIÓN DE LABORATORIOS","SI","SUBDIRECCIÓN DE ESTUDIOS AMBIENTALES","2021-04-26","CORREO ELECTRÓNICO",null,{"$f":"IFERROR(WORKDAY(C640,S639,DiasNOLaborables),\"\")","v":"2021-05-14"},{"$f":"+IF(C640=\"\",\"\",IF(J640=\"\",\"SIN RESPUESTA\",(IF(J640<=M640,\"A TIEMPO\",\"FUERA DE TIEMPO\"))))","v":"A TIEMPO"},{"$f":"IF(J640=\"\",\"\",NETWORKDAYS(C640+1,J640,DiasNOLaborables))","v":6},"",null,null,15]
[630,20219050048162,"2021-04-16","CIUDADANO","MODULO CONTACTENOS","AGRADECIMIENTO/FELICITACION","CLIMATOLOGÍA","SI","SUBDIRECCIÓN DE METEOROLOGÍA","2021-04-16","CORREO ELECTRÓNICO",null,{"$f":"IFERROR(WORKDAY(C641,S640,DiasNOLaborables),\"\")","v":"2021-05-07"},{"$f":"+IF(C641=\"\",\"\",IF(J641=\"\",\"SIN RESPUESTA\",(IF(J641<=M641,\"A TIEMPO\",\"FUERA DE TIEMPO\"))))","v":"A TIEMPO"},{"$f":"IF(J641=\"\",\"\",NETWORKDAYS(C641+1,J641,DiasNOLaborables))","v":-1},"",null,null,20]
[631,20219050047612,"2021-04-16","CIUDADANO","MODULO CONTACTENOS","SOLICITUD DE INFORMACIÓN Y DOCUMENTOS","SOLICITUD DE INFORMACIÓN HIDROMETEOROLÓGICA","NO","GRUPO DE SERVICIO AL CIUDADANO ","2021-05-14","CORREO ELECTRÓNICO",null,{"$f":"IFERROR(WORKDAY(C642,S641,DiasNOLaborables),\"\")","v":"2021-05-14"},{"$f":"+IF(C642=\"\",\"\",IF(J642=\"\",\"SIN RESPUESTA\",(IF(J642<=M642,\"A TIEMPO\",\"FUERA DE TIEMPO\"))))","v":"A TIEMPO"},{"$f":"IF(J642=\"\",\"\",NETWORKDAYS(C642+1,J642,DiasNOLaborables))","v":20},"",null,null,20]
[632,20219050047642,"2021-04-16","CIUDADANO","MODULO CONTACTENOS","SOLICITUD DE INFORMACIÓN Y DOCUMENTOS","SOLICITUD DE INFORMACIÓN HIDROMETEOROLÓGICA","NO","GRUPO DE SERVICIO AL CIUDADANO ","2021-05-14","CORREO ELECTRÓNICO",null,{"$f":"IFERROR(WORKDAY(C643,S642,DiasNOLaborables),\"\")","v":"2021-05-14"},{"$f":"+IF(C643=\"\",\"\",IF(J643=\"\",\"SIN RESPUESTA\",(IF(J643<=M643,\"A TIEMPO\",\"FUERA DE TIEMPO\"))))","v":"A TIEMPO"},{"$f":"IF(J643=\"\",\"\",NETWORKDAYS(C643+1,J643,DiasNOLaborables))","v":20},"",null,null,20]
[633,20219050047932,"2021-04-16","ACADEMIA","MODULO CONTACTENOS","SOLICITUD DE INFORMACIÓN Y DOCUMENTOS","SOLICITUD DE INFORMACIÓN HIDROMETEOROLÓGICA","NO","GRUPO DE SERVICIO AL CIUDADANO ","2021-05-14","CORREO ELECTRÓNICO",null,{"$f":"IFERROR(WORKDAY(C644,S643,DiasNOLaborables),\"\")","v":"2021-05-14"},{"$f":"+IF(C644=\"\",\"\",IF(J644=\"\",\"SIN RESPUESTA\",(IF(J644<=M644,\"A TIEMPO\",\"FUERA DE TIEMPO\"))))","v":"A TIEMPO"},{"$f":"IF(J644=\"\",\"\",NETWORKDAYS([5]Hoja1!C642+1,[5]Hoja1!P642,DiasNOLaborables))","v":8},"",null,null,20]
[634,20219050047942,"2021-04-16","ACADEMIA","MODULO CONTACTENOS","SOLICITUD DE INFORMACIÓN Y DOCUMENTOS","SOLICITUD DE INFORMACIÓN HIDROMETEOROLÓGICA","NO","GRUPO DE SERVICIO AL CIUDADANO ","2021-05-14","CORREO ELECTRÓNICO",null,{"$f":"IFERROR(WORKDAY(C645,S644,DiasNOLaborables),\"\")","v":"2021-05-14"},{"$f":"+IF(C645=\"\",\"\",IF(J645=\"\",\"SIN RESPUESTA\",(IF(J645<=M645,\"A TIEMPO\",\"FUERA DE TIEMPO\"))))","v":"A TIEMPO"},{"$f":"IF(J645=\"\",\"\",NETWORKDAYS(C645+1,J645,DiasNOLaborables))","v":20},"",null,null,20]
[635,20219050047952,"2021-04-16","ACADEMIA","MODULO CONTACTENOS","SOLICITUD DE INFORMACIÓN Y DOCUMENTOS","SOLICITUD DE INFORMACIÓN HIDROMETEOROLÓGICA","NO","GRUPO DE SERVICIO AL CIUDADANO ","2021-05-14","CORREO ELECTRÓNICO",null,{"$f":"IFERROR(WORKDAY(C646,S645,DiasNOLaborables),\"\")","v":"2021-05-14"},{"$f":"+IF(C646=\"\",\"\",IF(J646=\"\",\"SIN RESPUESTA\",(IF(J646<=M646,\"A TIEMPO\",\"FUERA DE TIEMPO\"))))","v":"A TIEMPO"},{"$f":"IF(J646=\"\",\"\",NETWORKDAYS(C646+1,J646,DiasNOLaborables))","v":20},"",null,null,20]
[636,20219050047982,"2021-04-16","ACADEMIA","MODULO CONTACTENOS","SOLICITUD DE INFORMACIÓN Y DOCUMENTOS","SOLICITUD DE INFORMACIÓN HIDROMETEOROLÓGICA","NO","GRUPO DE SERVICIO AL CIUDADANO ","2021-05-14","CORREO ELECTRÓNICO",null,{"$f":"IFERROR(WORKDAY(C647,S646,DiasNOLaborables),\"\")","v":"2021-05-14"},{"$f":"+IF(C647=\"\",\"\",IF(J647=\"\",\"SIN RESPUESTA\",(IF(J647<=M647,\"A TIEMPO\",\"FUERA DE TIEMPO\"))))","v":"A TIEMPO"},{"$f":"IF(J647=\"\",\"\",NETWORKDAYS(C647+1,J647,DiasNOLaborables))","v":20},"",null,null,20]
[637,20219050048052,"2021-04-16","ACADEMIA","MODULO CONTACTENOS","SOLICITUD DE INFORMACIÓN Y DOCUMENTOS","SOLICITUD DE INFORMACIÓN HIDROMETEOROLÓGICA","NO","GRUPO DE SERVICIO AL CIUDADANO ","2021-05-14","CORREO ELECTRÓNICO",null,{"$f":"IFERROR(WORKDAY(C648,S647,DiasNOLaborables),\"\")","v":"2021-05-14"},{"$f":"+IF(C648=\"\",\"\",IF(J648=\"\",\"SIN RESPUESTA\",(IF(J648<=M648,\"A TIEMPO\",\"FUERA DE TIEMPO\"))))","v":"A TIEMPO"},{"$f":"IF(J648=\"\",\"\",NETWORKDAYS(C648+1,J648,DiasNOLaborables))","v":20},"",null,null,20]
[638,20219050048062,"2021-04-17","CIUDADANO","MODULO CONTACTENOS","SOLICITUD DE INFORMACIÓN Y DOCUMENTOS","SOLICITUD DE INFORMACIÓN HIDROMETEOROLÓGICA","NO","GRUPO DE SERVICIO AL CIUDADANO ","2021-05-14","CORREO ELECTRÓNICO",null,{"$f":"IFERROR(WORKDAY(C649,S648,DiasNOLaborables),\"\")","v":"2021-05-14"},{"$f":"+IF(C649=\"\",\"\",IF(J649=\"\",\"SIN RESPUESTA\",(IF(J649<=M649,\"A TIEMPO\",\"FUERA DE TIEMPO\"))))","v":"A TIEMPO"},{"$f":"IF(J649=\"\",\"\",NETWORKDAYS(C649+1,J649,DiasNOLaborables))","v":20},"",null,null,20]
[639,20219050048082,"2021-04-17","CIUDADANO","MODULO CONTACTENOS","SOLICITUD DE INFORMACIÓN Y DOCUMENTOS","SOLICITUD DE INFORMACIÓN HIDROMETEOROLÓGICA","NO","GRUPO DE SERVICIO AL CIUDADANO ","2021-05-14","CORREO ELECTRÓNICO",null,{"$f":"IFERROR(WORKDAY(C650,S649,DiasNOLaborables),\"\")","v":"2021-05-14"},{"$f":"+IF(C650=\"\",\"\",IF(J650=\"\",\"SIN RESPUESTA\",(IF(J650<=M650,\"A TIEMPO\",\"FUERA DE TIEMPO\"))))","v":"A TIEMPO"},{"$f":"IF(J650=\"\",\"\",NETWORKDAYS(C650+1,J650,DiasNOLaborables))","v":20},"",null,null,20]
[640,20219050048092,"2021-04-17","ACADEMIA","MODULO CONTACTENOS","SOLICITUD DE INFORMACIÓN Y DOCUMENTOS","SOLICITUD DE INFORMACIÓN HIDROMETEOROLÓGICA","NO","GRUPO DE SERVICIO AL CIUDADANO ","2021-05-14","CORREO ELECTRÓNICO",null,{"$f":"IFERROR(WORKDAY(C651,S650,DiasNOLaborables),\"\")","v":"2021-05-14"},{"$f":"+IF(C651=\"\",\"\",IF(J651=\"\",\"SIN RESPUESTA\",(IF(J651<=M651,\"A TIEMPO\",\"FUERA DE TIEMPO\"))))","v":"A TIEMPO"},{"$f":"IF(J651=\"\",\"\",NETWORKDAYS(C651+1,J651,DiasNOLaborables))","v":20},{"$f":"IF(NETWORKDAYS(M651+1,J651,DiasNOLaborables)<=0,\"\",NETWORKDAYS(M651+1,J651,DiasNOLaborables))","v":""},null,null,20]
[641,20219050048102,"2021-04-17","ACADEMIA","MODULO CONTACTENOS","SOLICITUD DE INFORMACIÓN Y DOCUMENTOS","SOLICITUD DE INFORMACIÓN HIDROMETEOROLÓGICA","NO","GRUPO DE SERVICIO AL CIUDADANO ","2021-05-14","CORREO ELECTRÓNICO",null,{"$f":"IFERROR(WORKDAY(C652,S651,DiasNOLaborables),\"\")","v":"2021-05-14"},{"$f":"+IF(C652=\"\",\"\",IF(J652=\"\",\"SIN RESPUESTA\",(IF(J652<=M652,\"A TIEMPO\",\"FUERA DE TIEMPO\"))))","v":"A TIEMPO"},{"$f":"IF(J652=\"\",\"\",NETWORKDAYS(C652+1,J652,DiasNOLaborables))","v":20},"",null,null,20]
[642,20219050048392,"2021-04-17","ACADEMIA","MODULO CONTACTENOS","SOLICITUD DE INFORMACIÓN Y DOCUMENTOS","SOLICITUD DE INFORMACIÓN HIDROMETEOROLÓGICA","NO","GRUPO DE SERVICIO AL CIUDADANO ","2021-05-14","CORREO ELECTRÓNICO",null,{"$f":"IFERROR(WORKDAY(C653,S652,DiasNOLaborables),\"\")","v":"2021-05-14"},{"$f":"+IF(C653=\"\",\"\",IF(J653=\"\",\"SIN RESPUESTA\",(IF(J653<=M653,\"A TIEMPO\",\"FUERA DE TIEMPO\"))))","v":"A TIEMPO"},{"$f":"IF(J653=\"\",\"\",NETWORKDAYS(C653+1,J653,DiasNOLaborables))","v":20},"",null,null,{"$f":"IFERROR(VLOOKUP(F654,$AA$51:$AB$64,2),\"\")","v":20}]
[{"$f":"IF(B654<>\"\",A653+1,\"\")","v":643},20219050048382,"2021-04-17","ACADEMIA","MODULO CONTACTENOS","SOLICITUD DE INFORMACIÓN Y DOCUMENTOS","SOLICITUD DE INFORMACIÓN HIDROMETEOROLÓGICA","NO","GRUPO DE SERVICIO AL CIUDADANO ","2021-05-14","CORREO ELECTRÓNICO",null,{"$f":"IFERROR(WORKDAY(C654,S653,DiasNOLaborables),\"\")","v":"2021-05-14"},{"$f":"+IF(C654=\"\",\"\",IF(J654=\"\",\"SIN RESPUESTA\",(IF(J654<=M654,\"A TIEMPO\",\"FUERA DE TIEMPO\"))))","v":"A TIEMPO"},{"$f":"IF(J654=\"\",\"\",NETWORKDAYS(C654+1,J654,DiasNOLaborables))","v":20},"",null,null,20]
[644,20219050048322,"2021-04-17","ACADEMIA","MODULO CONTACTENOS","SOLICITUD DE INFORMACIÓN Y DOCUMENTOS","SOLICITUD DE INFORMACIÓN HIDROMETEOROLÓGICA","NO","GRUPO DE SERVICIO AL CIUDADANO ","2021-05-14","CORREO ELECTRÓNICO",null,{"$f":"IFERROR(WORKDAY(C655,S654,DiasNOLaborables),\"\")","v":"2021-05-14"},{"$f":"+IF(C655=\"\",\"\",IF(J655=\"\",\"SIN RESPUESTA\",(IF(J655<=M655,\"A TIEMPO\",\"FUERA DE TIEMPO\"))))","v":"A TIEMPO"},{"$f":"IF(J655=\"\",\"\",NETWORKDAYS(C655+1,J655,DiasNOLaborables))","v":20},"",null,null,20]
[645,20219050048192,"2021-04-17","ACADEMIA","MODULO CONTACTENOS","SOLICITUD DE INFORMACIÓN Y DOCUMENTOS","SOLICITUD DE INFORMACIÓN HIDROMETEOROLÓGICA","NO","GRUPO DE SERVICIO AL CIUDADANO ","2021-05-14","CORREO ELECTRÓNICO",null,{"$f":"IFERROR(WORKDAY(C656,S655,DiasNOLaborables),\"\")","v":"2021-05-14"},{"$f":"+IF(C656=\"\",\"\",IF(J656=\"\",\"SIN RESPUESTA\",(IF(J656<=M656,\"A TIEMPO\",\"FUERA DE TIEMPO\"))))","v":"A TIEMPO"},{"$f":"IF(J656=\"\",\"\",NETWORKDAYS(C656+1,J656,DiasNOLaborables))","v":20},"",null,null,20]
[646,20219050048182,"2021-04-17","ACADEMIA","MODULO CONTACTENOS","SOLICITUD DE INFORMACIÓN Y DOCUMENTOS","SOLICITUD DE INFORMACIÓN HIDROMETEOROLÓGICA","NO","GRUPO DE SERVICIO AL CIUDADANO ","2021-05-14","CORREO ELECTRÓNICO",null,{"$f":"IFERROR(WORKDAY(C657,S656,DiasNOLaborables),\"\")","v":"2021-05-14"},{"$f":"+IF(C657=\"\",\"\",IF(J657=\"\",\"SIN RESPUESTA\",(IF(J657<=M657,\"A TIEMPO\",\"FUERA DE TIEMPO\"))))","v":"A TIEMPO"},{"$f":"IF(J657=\"\",\"\",NETWORKDAYS(C657+1,J657,DiasNOLaborables))","v":20},"",null,null,20]
[647,20219050048172,"2021-04-17","CIUDADANO","MODULO CONTACTENOS","SOLICITUD DE INFORMACIÓN Y DOCUMENTOS","SOLICITUD DE INFORMACIÓN HIDROMETEOROLÓGICA","NO","GRUPO DE SERVICIO AL CIUDADANO ","2021-05-14","CORREO ELECTRÓNICO",null,{"$f":"IFERROR(WORKDAY(C658,S657,DiasNOLaborables),\"\")","v":"2021-05-14"},{"$f":"+IF(C658=\"\",\"\",IF(J658=\"\",\"SIN RESPUESTA\",(IF(J658<=M658,\"A TIEMPO\",\"FUERA DE TIEMPO\"))))","v":"A TIEMPO"},{"$f":"IF(J658=\"\",\"\",NETWORKDAYS(C658+1,J658,DiasNOLaborables))","v":20},"",null,null,20]
[648,20219050048152,"2021-04-17","CIUDADANO","MODULO CONTACTENOS","SOLICITUD DE INFORMACIÓN Y DOCUMENTOS","SOLICITUD DE INFORMACIÓN HIDROMETEOROLÓGICA","NO","GRUPO DE SERVICIO AL CIUDADANO ","2021-05-14","CORREO ELECTRÓNICO",null,{"$f":"IFERROR(WORKDAY(C659,S658,DiasNOLaborables),\"\")","v":"2021-05-14"},{"$f":"+IF(C659=\"\",\"\",IF(J659=\"\",\"SIN RESPUESTA\",(IF(J659<=M659,\"A TIEMPO\",\"FUERA DE TIEMPO\"))))","v":"A TIEMPO"},{"$f":"IF(J659=\"\",\"\",NETWORKDAYS(C659+1,J659,DiasNOLaborables))","v":20},"",null,null,20]
[649,20219050048142,"2021-04-17","CIUDADANO","MODULO CONTACTENOS","SOLICITUD DE INFORMACIÓN Y DOCUMENTOS","SOLICITUD DE INFORMACIÓN HIDROMETEOROLÓGICA","NO","GRUPO DE SERVICIO AL CIUDADANO ","2021-05-14","CORREO ELECTRÓNICO",null,{"$f":"IFERROR(WORKDAY(C660,S659,DiasNOLaborables),\"\")","v":"2021-05-14"},{"$f":"+IF(C660=\"\",\"\",IF(J660=\"\",\"SIN RESPUESTA\",(IF(J660<=M660,\"A TIEMPO\",\"FUERA DE TIEMPO\"))))","v":"A TIEMPO"},{"$f":"IF(J660=\"\",\"\",NETWORKDAYS(C660+1,J660,DiasNOLaborables))","v":20},"",null,null,20]
[650,20219050048122,"2021-04-17","CIUDADANO","MODULO CONTACTENOS","SOLICITUD DE INFORMACIÓN Y DOCUMENTOS","SOLICITUD DE INFORMACIÓN HIDROMETEOROLÓGICA","NO","GRUPO DE SERVICIO AL CIUDADANO ","2021-05-14","CORREO ELECTRÓNICO",null,{"$f":"IFERROR(WORKDAY(C661,S660,DiasNOLaborables),\"\")","v":"2021-05-14"},{"$f":"+IF(C661=\"\",\"\",IF(J661=\"\",\"SIN RESPUESTA\",(IF(J661<=M661,\"A TIEMPO\",\"FUERA DE TIEMPO\"))))","v":"A TIEMPO"},{"$f":"IF(J661=\"\",\"\",NETWORKDAYS(C661+1,J661,DiasNOLaborables))","v":20},"",null,null,20]
[651,20219050048112,"2021-04-17","ENTIDAD PÚBLICA","CORREO ELECTRÓNICO","SOLICITUD DE INFORMACIÓN Y DOCUMENTOS","ADMINISTRATIVA","SI","SUBDIRECCIÓN DE HIDROLOGÍA","2021-03-31","CORREO ELECTRÓNICO",null,{"$f":"IFERROR(WORKDAY(C662,S661,DiasNOLaborables),\"\")","v":"2021-05-14"},{"$f":"+IF(C662=\"\",\"\",IF(J662=\"\",\"SIN RESPUESTA\",(IF(J662<=M662,\"A TIEMPO\",\"FUERA DE TIEMPO\"))))","v":"A TIEMPO"},{"$f":"IF(J662=\"\",\"\",NETWORKDAYS(C662+1,J662,DiasNOLaborables))","v":-11},"",null,null,30]
[652,20219050048132,"2021-04-17","ENTIDAD PÚBLICA","CORREO ELECTRÓNICO","PETICIÓN","ADMINISTRATIVA","SI","OFICINA ASESORA JURÍDICA","2021-04-20","CORREO ELECTRÓNICO",null,{"$f":"IFERROR(WORKDAY(C663,S662,DiasNOLaborables),\"\")","v":"2021-05-31"},{"$f":"+IF(C663=\"\",\"\",IF(J663=\"\",\"SIN RESPUESTA\",(IF(J663<=M663,\"A TIEMPO\",\"FUERA DE TIEMPO\"))))","v":"A TIEMPO"},{"$f":"IF(J663=\"\",\"\",NETWORKDAYS(C663+1,J663,DiasNOLaborables))","v":2},"",null,null,20]
[653,20219050048432,"2021-04-18","CIUDADANO","CORREO ELECTRÓNICO","SOLICITUD DE INFORMACIÓN Y DOCUMENTOS","OPERACIÓN DE REDES","SI","SUBDIRECCIÓN DE HIDROLOGÍA","2021-04-29","CORREO ELECTRÓNICO",null,{"$f":"IFERROR(WORKDAY(C664,S663,DiasNOLaborables),\"\")","v":"2021-05-14"},{"$f":"+IF(C664=\"\",\"\",IF(J664=\"\",\"SIN RESPUESTA\",(IF(J664<=M664,\"A TIEMPO\",\"FUERA DE TIEMPO\"))))","v":"A TIEMPO"},{"$f":"IF(J664=\"\",\"\",NETWORKDAYS(C664+1,J664,DiasNOLaborables))","v":9},"",null,null,20]
[654,20219050048532,"2021-04-18","ACADEMIA ","MODULO CONTACTENOS","SOLICITUD DE INFORMACIÓN Y DOCUMENTOS","SOLICITUD DE INFORMACIÓN HIDROMETEOROLÓGICA","NO","GRUPO DE SERVICIO AL CIUDADANO ","2021-04-30","CORREO ELECTRÓNICO",null,{"$f":"IFERROR(WORKDAY(C665,S664,DiasNOLaborables),\"\")","v":"2021-05-14"},{"$f":"+IF(C665=\"\",\"\",IF(J665=\"\",\"SIN RESPUESTA\",(IF(J665<=M665,\"A TIEMPO\",\"FUERA DE TIEMPO\"))))","v":"A TIEMPO"},{"$f":"IF(J665=\"\",\"\",NETWORKDAYS(C665+1,J665,DiasNOLaborables))","v":10},"",null,null,20]
[655,20219050048482,"2021-04-18","ENTIDAD PÚBLICA","CORREO ELECTRÓNICO","SOLICITUD DE INFORMACIÓN Y DOCUMENTOS","CLIMATOLOGÍA","SI","SUBDIRECCIÓN DE METEOROLOGÍA","2021-05-05","CORREO ELECTRÓNICO",null,{"$f":"IFERROR(WORKDAY(C666,S665,DiasNOLaborables),\"\")","v":"2021-05-14"},{"$f":"+IF(C666=\"\",\"\",IF(J666=\"\",\"SIN RESPUESTA\",(IF(J666<=M666,\"A TIEMPO\",\"FUERA DE TIEMPO\"))))","v":"A TIEMPO"},{"$f":"IF(J666=\"\",\"\",NETWORKDAYS(C666+1,J666,DiasNOLaborables))","v":13},"",null,null,35]
[656,20219050048502,"2021-04-18","EMPRESA PRIVADA","CORREO ELECTRÓNICO","CERTIFICACIONES DE TIEMPO, CLIMA Y EVENTOS HIDROLÓGICOS","CERTIFICACIONES DE TIEMPO Y CLIMA","SI","SUBDIRECCIÓN DE METEOROLOGÍA","2021-05-18","CORREO ELECTRÓNICO",null,{"$f":"IFERROR(WORKDAY(C667,S666,DiasNOLaborables),\"\")","v":"2021-06-08"},{"$f":"+IF(C667=\"\",\"\",IF(J667=\"\",\"SIN RESPUESTA\",(IF(J667<=M667,\"A TIEMPO\",\"FUERA DE TIEMPO\"))))","v":"A TIEMPO"},{"$f":"IF(J667=\"\",\"\",NETWORKDAYS(C667+1,J667,DiasNOLaborables))","v":21},"",null,null,20]
[657,20219050048512,"2021-04-18","EMPRESA PRIVADA","CORREO ELECTRÓNICO","SOLICITUD DE INFORMACIÓN Y DOCUMENTOS","REGISTROS AMBIENTALES","SI","SUBDIRECCIÓN DE ESTUDIOS AMBIENTALES","2021-04-21","CORREO ELECTRÓNICO",null,{"$f":"IFERROR(WORKDAY(C668,S667,DiasNOLaborables),\"\")","v":"2021-05-14"},{"$f":"+IF(C668=\"\",\"\",IF(J668=\"\",\"SIN RESPUESTA\",(IF(J668<=M668,\"A TIEMPO\",\"FUERA DE TIEMPO\"))))","v":"A TIEMPO"},{"$f":"IF(J668=\"\",\"\",NETWORKDAYS(C668+1,J668,DiasNOLaborables))","v":3},"",null,null,20]
[658,20219050048472,"2021-04-18","ACADEMIA ","MODULO CONTACTENOS","SOLICITUD DE INFORMACIÓN Y DOCUMENTOS","SOLICITUD DE INFORMACIÓN HIDROMETEOROLÓGICA","NO","GRUPO DE SERVICIO AL CIUDADANO ","2021-05-12","CORREO ELECTRÓNICO",null,{"$f":"IFERROR(WORKDAY(C669,S668,DiasNOLaborables),\"\")","v":"2021-05-14"},{"$f":"+IF(C669=\"\",\"\",IF(J669=\"\",\"SIN RESPUESTA\",(IF(J669<=M669,\"A TIEMPO\",\"FUERA DE TIEMPO\"))))","v":"A TIEMPO"},{"$f":"IF(J669=\"\",\"\",NETWORKDAYS(C669+1,J669,DiasNOLaborables))","v":18},"",null,null,20]
[659,20219050048492,"2021-04-18","ACADEMIA ","CORREO ELECTRÓNICO","SOLICITUD DE INFORMACIÓN Y DOCUMENTOS","SOLICITUD DE INFORMACIÓN HIDROMETEOROLÓGICA","NO","GRUPO DE SERVICIO AL CIUDADANO ","2021-05-12","CORREO ELECTRÓNICO",null,{"$f":"IFERROR(WORKDAY(C670,S669,DiasNOLaborables),\"\")","v":"2021-05-14"},{"$f":"+IF(C670=\"\",\"\",IF(J670=\"\",\"SIN RESPUESTA\",(IF(J670<=M670,\"A TIEMPO\",\"FUERA DE TIEMPO\"))))","v":"A TIEMPO"},{"$f":"IF(J670=\"\",\"\",NETWORKDAYS(C670+1,J670,DiasNOLaborables))","v":18},"",null,null,20]
[660,20219050048522,"2021-04-18","CIUDADANO","CORREO ELECTRÓNICO","SOLICITUD DE INFORMACIÓN Y DOCUMENTOS","SOLICITUD DE INFORMACIÓN HIDROMETEOROLÓGICA","NO","GRUPO DE SERVICIO AL CIUDADANO ","2021-05-14","CORREO ELECTRÓNICO",null,{"$f":"IFERROR(WORKDAY(C671,S670,DiasNOLaborables),\"\")","v":"2021-05-14"},{"$f":"+IF(C671=\"\",\"\",IF(J671=\"\",\"SIN RESPUESTA\",(IF(J671<=M671,\"A TIEMPO\",\"FUERA DE TIEMPO\"))))","v":"A TIEMPO"},{"$f":"IF(J671=\"\",\"\",NETWORKDAYS(C671+1,J671,DiasNOLaborables))","v":20},"",null,null,20]
[661,20219050048592,"2021-04-18","CIUDADANO","MODULO CONTACTENOS","SOLICITUD DE INFORMACIÓN Y DOCUMENTOS","SOLICITUD DE INFORMACIÓN HIDROMETEOROLÓGICA","NO","GRUPO DE SERVICIO AL CIUDADANO ","2021-05-12","CORREO ELECTRÓNICO",null,{"$f":"IFERROR(WORKDAY(C672,S671,DiasNOLaborables),\"\")","v":"2021-05-14"},{"$f":"+IF(C672=\"\",\"\",IF(J672=\"\",\"SIN RESPUESTA\",(IF(J672<=M672,\"A TIEMPO\",\"FUERA DE TIEMPO\"))))","v":"A TIEMPO"},{"$f":"IF(J672=\"\",\"\",NETWORKDAYS(C672+1,J672,DiasNOLaborables))","v":18},"",null,null,20]
[662,20219050048542,"2021-04-18","CIUDADANO","MODULO CONTACTENOS","SOLICITUD DE INFORMACIÓN Y DOCUMENTOS","SOLICITUD DE INFORMACIÓN HIDROMETEOROLÓGICA","NO","GRUPO DE SERVICIO AL CIUDADANO ","2021-05-13","CORREO ELECTRÓNICO",null,{"$f":"IFERROR(WORKDAY(C673,S672,DiasNOLaborables),\"\")","v":"2021-05-14"},{"$f":"+IF(C673=\"\",\"\",IF(J673=\"\",\"SIN RESPUESTA\",(IF(J673<=M673,\"A TIEMPO\",\"FUERA DE TIEMPO\"))))","v":"A TIEMPO"},{"$f":"IF(J673=\"\",\"\",NETWORKDAYS(C673+1,J673,DiasNOLaborables))","v":19},"",null,null,20]
[663,20219050048552,"2021-04-18","CIUDADANO","MODULO CONTACTENOS","SOLICITUD DE INFORMACIÓN Y DOCUMENTOS","SOLICITUD DE INFORMACIÓN HIDROMETEOROLÓGICA","NO","GRUPO DE SERVICIO AL CIUDADANO ","2021-05-13","CORREO ELECTRÓNICO",null,{"$f":"IFERROR(WORKDAY(C674,S673,DiasNOLaborables),\"\")","v":"2021-05-14"},{"$f":"+IF(C674=\"\",\"\",IF(J674=\"\",\"SIN RESPUESTA\",(IF(J674<=M674,\"A TIEMPO\",\"FUERA DE TIEMPO\"))))","v":"A TIEMPO"},{"$f":"IF(J674=\"\",\"\",NETWORKDAYS(C674+1,J674,DiasNOLaborables))","v":19},"",null,null,20]
[664,20219050048562,"2021-04-18","CIUDADANO","MODULO CONTACTENOS","SOLICITUD DE INFORMACIÓN Y DOCUMENTOS","SOLICITUD DE INFORMACIÓN HIDROMETEOROLÓGICA","NO","GRUPO DE SERVICIO AL CIUDADANO ","2021-05-13","CORREO ELECTRÓNICO",null,{"$f":"IFERROR(WORKDAY(C675,S674,DiasNOLaborables),\"\")","v":"2021-05-14"},{"$f":"+IF(C675=\"\",\"\",IF(J675=\"\",\"SIN RESPUESTA\",(IF(J675<=M675,\"A TIEMPO\",\"FUERA DE TIEMPO\"))))","v":"A TIEMPO"},{"$f":"IF(J675=\"\",\"\",NETWORKDAYS(C675+1,J675,DiasNOLaborables))","v":19},"",null,null,20]
[665,20219050048582,"2021-04-18","CIUDADANO","MODULO CONTACTENOS","SOLICITUD DE INFORMACIÓN Y DOCUMENTOS","SOLICITUD DE INFORMACIÓN HIDROMETEOROLÓGICA","NO","GRUPO DE SERVICIO AL CIUDADANO ","2021-05-13","CORREO ELECTRÓNICO",null,{"$f":"IFERROR(WORKDAY(C676,S675,DiasNOLaborables),\"\")","v":"2021-05-14"},{"$f":"+IF(C676=\"\",\"\",IF(J676=\"\",\"SIN RESPUESTA\",(IF(J676<=M676,\"A TIEMPO\",\"FUERA DE TIEMPO\"))))","v":"A TIEMPO"},{"$f":"IF(J676=\"\",\"\",NETWORKDAYS(C676+1,J676,DiasNOLaborables))","v":19},"",null,null,20]
[666,20219050048602,"2021-04-18","CIUDADANO","MODULO CONTACTENOS","SOLICITUD DE INFORMACIÓN Y DOCUMENTOS","SOLICITUD DE INFORMACIÓN HIDROMETEOROLÓGICA","NO","GRUPO DE SERVICIO AL CIUDADANO ","2021-05-13","CORREO ELECTRÓNICO",null,{"$f":"IFERROR(WORKDAY(C677,S676,DiasNOLaborables),\"\")","v":"2021-05-14"},{"$f":"+IF(C677=\"\",\"\",IF(J677=\"\",\"SIN RESPUESTA\",(IF(J677<=M677,\"A TIEMPO\",\"FUERA DE TIEMPO\"))))","v":"A TIEMPO"},{"$f":"IF(J677=\"\",\"\",NETWORKDAYS(C677+1,J677,DiasNOLaborables))","v":19},"",null,null,20]
[667,20219050048442,"2021-04-18","ACADEMIA","MODULO CONTACTENOS","SOLICITUD DE INFORMACIÓN Y DOCUMENTOS","SOLICITUD DE INFORMACIÓN HIDROMETEOROLÓGICA","NO","GRUPO DE SERVICIO AL CIUDADANO ","2021-05-14","CORREO ELECTRÓNICO",null,{"$f":"IFERROR(WORKDAY(C678,S677,DiasNOLaborables),\"\")","v":"2021-05-14"},{"$f":"+IF(C678=\"\",\"\",IF(J678=\"\",\"SIN RESPUESTA\",(IF(J678<=M678,\"A TIEMPO\",\"FUERA DE TIEMPO\"))))","v":"A TIEMPO"},{"$f":"IF(J678=\"\",\"\",NETWORKDAYS(C678+1,J678,DiasNOLaborables))","v":20},"",null,null,20]
[668,20219050048422,"2021-04-18","ACADEMIA","MODULO CONTACTENOS","SOLICITUD DE INFORMACIÓN Y DOCUMENTOS","SOLICITUD DE INFORMACIÓN HIDROMETEOROLÓGICA","NO","GRUPO DE SERVICIO AL CIUDADANO ","2021-05-14","CORREO ELECTRÓNICO",null,{"$f":"IFERROR(WORKDAY(C679,S678,DiasNOLaborables),\"\")","v":"2021-05-14"},{"$f":"+IF(C679=\"\",\"\",IF(J679=\"\",\"SIN RESPUESTA\",(IF(J679<=M679,\"A TIEMPO\",\"FUERA DE TIEMPO\"))))","v":"A TIEMPO"},{"$f":"IF(J679=\"\",\"\",NETWORKDAYS(C679+1,J679,DiasNOLaborables))","v":20},"",null,null,20]
[669,20219050048722,"2021-04-19","CIUDADANO","MODULO CONTACTENOS","SOLICITUD DE INFORMACIÓN Y DOCUMENTOS","SOLICITUD DE INFORMACIÓN HIDROMETEOROLÓGICA","NO","GRUPO DE SERVICIO AL CIUDADANO ","2021-05-15","CORREO ELECTRÓNICO",null,{"$f":"IFERROR(WORKDAY(C680,S679,DiasNOLaborables),\"\")","v":"2021-05-18"},{"$f":"+IF(C680=\"\",\"\",IF(J680=\"\",\"SIN RESPUESTA\",(IF(J680<=M680,\"A TIEMPO\",\"FUERA DE TIEMPO\"))))","v":"A TIEMPO"},{"$f":"IF(J680=\"\",\"\",NETWORKDAYS(C680+1,J680,DiasNOLaborables))","v":19},"",null,null,20]
[670,20219050048732,"2021-04-19","CIUDADANO","MODULO CONTACTENOS","SOLICITUD DE INFORMACIÓN Y DOCUMENTOS","SOLICITUD DE INFORMACIÓN HIDROMETEOROLÓGICA","NO","GRUPO DE SERVICIO AL CIUDADANO ","2021-05-18","CORREO ELECTRÓNICO",null,{"$f":"IFERROR(WORKDAY(C681,S680,DiasNOLaborables),\"\")","v":"2021-05-18"},{"$f":"+IF(C681=\"\",\"\",IF(J681=\"\",\"SIN RESPUESTA\",(IF(J681<=M681,\"A TIEMPO\",\"FUERA DE TIEMPO\"))))","v":"A TIEMPO"},{"$f":"IF(J681=\"\",\"\",NETWORKDAYS(C681+1,J681,DiasNOLaborables))","v":20},"",null,null,20]
[671,20219050048742,"2021-04-19","CIUDADANO","MODULO CONTACTENOS","SOLICITUD DE INFORMACIÓN Y DOCUMENTOS","SOLICITUD DE INFORMACIÓN HIDROMETEOROLÓGICA","NO","GRUPO DE SERVICIO AL CIUDADANO ","2021-05-18","CORREO ELECTRÓNICO",null,{"$f":"IFERROR(WORKDAY(C682,S681,DiasNOLaborables),\"\")","v":"2021-05-18"},{"$f":"+IF(C682=\"\",\"\",IF(J682=\"\",\"SIN RESPUESTA\",(IF(J682<=M682,\"A TIEMPO\",\"FUERA DE TIEMPO\"))))","v":"A TIEMPO"},{"$f":"IF(J682=\"\",\"\",NETWORKDAYS(C682+1,J682,DiasNOLaborables))","v":20},"",null,null,20]
[672,20219050048762,"2021-04-19","ACADEMIA","MODULO CONTACTENOS","SOLICITUD DE INFORMACIÓN Y DOCUMENTOS","SOLICITUD DE INFORMACIÓN HIDROMETEOROLÓGICA","NO","GRUPO DE SERVICIO AL CIUDADANO ","2021-05-18","CORREO ELECTRÓNICO",null,{"$f":"IFERROR(WORKDAY(C683,S682,DiasNOLaborables),\"\")","v":"2021-05-18"},{"$f":"+IF(C683=\"\",\"\",IF(J683=\"\",\"SIN RESPUESTA\",(IF(J683<=M683,\"A TIEMPO\",\"FUERA DE TIEMPO\"))))","v":"A TIEMPO"},{"$f":"IF(J683=\"\",\"\",NETWORKDAYS(C683+1,J683,DiasNOLaborables))","v":20},"",null,null,20]
[673,20219050048852,"2021-04-19","ACADEMIA","MODULO CONTACTENOS","SOLICITUD DE INFORMACIÓN Y DOCUMENTOS","SOLICITUD DE INFORMACIÓN HIDROMETEOROLÓGICA","NO","GRUPO DE SERVICIO AL CIUDADANO ","2021-05-18","CORREO ELECTRÓNICO",null,{"$f":"IFERROR(WORKDAY(C684,S683,DiasNOLaborables),\"\")","v":"2021-05-18"},{"$f":"+IF(C684=\"\",\"\",IF(J684=\"\",\"SIN RESPUESTA\",(IF(J684<=M684,\"A TIEMPO\",\"FUERA DE TIEMPO\"))))","v":"A TIEMPO"},{"$f":"IF(J684=\"\",\"\",NETWORKDAYS(C684+1,J684,DiasNOLaborables))","v":20},"",null,null,20]
[674,20219050048862,"2021-04-19","CIUDADANO","MODULO CONTACTENOS","SOLICITUD DE INFORMACIÓN Y DOCUMENTOS","SOLICITUD DE INFORMACIÓN HIDROMETEOROLÓGICA","NO","GRUPO DE SERVICIO AL CIUDADANO ","2021-05-18","CORREO ELECTRÓNICO",null,{"$f":"IFERROR(WORKDAY(C685,S684,DiasNOLaborables),\"\")","v":"2021-05-18"},{"$f":"+IF(C685=\"\",\"\",IF(J685=\"\",\"SIN RESPUESTA\",(IF(J685<=M685,\"A TIEMPO\",\"FUERA DE TIEMPO\"))))","v":"A TIEMPO"},{"$f":"IF(J685=\"\",\"\",NETWORKDAYS(C685+1,J685,DiasNOLaborables))","v":20},"",null,null,20]
[675,20219050048872,"2021-04-19","CIUDADANO","MODULO CONTACTENOS","SOLICITUD DE INFORMACIÓN Y DOCUMENTOS","SOLICITUD DE INFORMACIÓN HIDROMETEOROLÓGICA","NO","GRUPO DE SERVICIO AL CIUDADANO ","2021-05-18","CORREO ELECTRÓNICO",null,{"$f":"IFERROR(WORKDAY(C686,S685,DiasNOLaborables),\"\")","v":"2021-05-18"},{"$f":"+IF(C686=\"\",\"\",IF(J686=\"\",\"SIN RESPUESTA\",(IF(J686<=M686,\"A TIEMPO\",\"FUERA DE TIEMPO\"))))","v":"A TIEMPO"},{"$f":"IF(J686=\"\",\"\",NETWORKDAYS(C686+1,J686,DiasNOLaborables))","v":20},"",null,null,20]
[676,20219050048882,"2021-04-19","CIUDADANO","MODULO CONTACTENOS","SOLICITUD DE INFORMACIÓN Y DOCUMENTOS","SOLICITUD DE INFORMACIÓN HIDROMETEOROLÓGICA","NO","GRUPO DE SERVICIO AL CIUDADANO ","2021-05-18","CORREO ELECTRÓNICO",null,{"$f":"IFERROR(WORKDAY(C687,S686,DiasNOLaborables),\"\")","v":"2021-05-18"},{"$f":"+IF(C687=\"\",\"\",IF(J687=\"\",\"SIN RESPUESTA\",(IF(J687<=M687,\"A TIEMPO\",\"FUERA DE TIEMPO\"))))","v":"A TIEMPO"},{"$f":"IF(J687=\"\",\"\",NETWORKDAYS(C687+1,J687,DiasNOLaborables))","v":20},"",null,null,20]
[677,20219050048892,"2021-04-19","CIUDADANO","MODULO CONTACTENOS","SOLICITUD DE INFORMACIÓN Y DOCUMENTOS","SOLICITUD DE INFORMACIÓN HIDROMETEOROLÓGICA","NO","GRUPO DE SERVICIO AL CIUDADANO ","2021-05-18","CORREO ELECTRÓNICO",null,{"$f":"IFERROR(WORKDAY(C688,S687,DiasNOLaborables),\"\")","v":"2021-05-18"},{"$f":"+IF(C688=\"\",\"\",IF(J688=\"\",\"SIN RESPUESTA\",(IF(J688<=M688,\"A TIEMPO\",\"FUERA DE TIEMPO\"))))","v":"A TIEMPO"},{"$f":"IF(J688=\"\",\"\",NETWORKDAYS(C688+1,J688,DiasNOLaborables))","v":20},"",null,null,20]
[678,20219050048912,"2021-04-19","CIUDADANO","MODULO CONTACTENOS","SOLICITUD DE INFORMACIÓN Y DOCUMENTOS","SOLICITUD DE INFORMACIÓN HIDROMETEOROLÓGICA","NO","GRUPO DE SERVICIO AL CIUDADANO ","2021-05-18","CORREO ELECTRÓNICO",null,{"$f":"IFERROR(WORKDAY(C689,S688,DiasNOLaborables),\"\")","v":"2021-05-18"},{"$f":"+IF(C689=\"\",\"\",IF(J689=\"\",\"SIN RESPUESTA\",(IF(J689<=M689,\"A TIEMPO\",\"FUERA DE TIEMPO\"))))","v":"A TIEMPO"},{"$f":"IF(J689=\"\",\"\",NETWORKDAYS(C689+1,J689,DiasNOLaborables))","v":20},"",null,null,20]
[679,20219050048952,"2021-04-19","ACADEMIA","MODULO CONTACTENOS","SOLICITUD DE INFORMACIÓN Y DOCUMENTOS","SOLICITUD DE INFORMACIÓN HIDROMETEOROLÓGICA","NO","GRUPO DE SERVICIO AL CIUDADANO ","2021-05-18","CORREO ELECTRÓNICO",null,{"$f":"IFERROR(WORKDAY(C690,S689,DiasNOLaborables),\"\")","v":"2021-05-18"},{"$f":"+IF(C690=\"\",\"\",IF(J690=\"\",\"SIN RESPUESTA\",(IF(J690<=M690,\"A TIEMPO\",\"FUERA DE TIEMPO\"))))","v":"A TIEMPO"},{"$f":"IF(J690=\"\",\"\",NETWORKDAYS(C690+1,J690,DiasNOLaborables))","v":20},"",null,null,20]
[680,20219050049022,"2021-04-19","CIUDADANO","MODULO CONTACTENOS","SOLICITUD DE INFORMACIÓN Y DOCUMENTOS","SOLICITUD DE INFORMACIÓN HIDROMETEOROLÓGICA","NO","GRUPO DE SERVICIO AL CIUDADANO ","2021-05-18","CORREO ELECTRÓNICO",null,{"$f":"IFERROR(WORKDAY(C691,S690,DiasNOLaborables),\"\")","v":"2021-05-18"},{"$f":"+IF(C691=\"\",\"\",IF(J691=\"\",\"SIN RESPUESTA\",(IF(J691<=M691,\"A TIEMPO\",\"FUERA DE TIEMPO\"))))","v":"A TIEMPO"},{"$f":"IF(J691=\"\",\"\",NETWORKDAYS(C691+1,J691,DiasNOLaborables))","v":20},"",null,null,20]
[681,20219050049092,"2021-04-19","CIUDADANO","MODULO CONTACTENOS","SOLICITUD DE INFORMACIÓN Y DOCUMENTOS","SOLICITUD DE INFORMACIÓN HIDROMETEOROLÓGICA","NO","GRUPO DE SERVICIO AL CIUDADANO ","2021-05-18","CORREO ELECTRÓNICO",null,{"$f":"IFERROR(WORKDAY(C692,S691,DiasNOLaborables),\"\")","v":"2021-05-18"},{"$f":"+IF(C692=\"\",\"\",IF(J692=\"\",\"SIN RESPUESTA\",(IF(J692<=M692,\"A TIEMPO\",\"FUERA DE TIEMPO\"))))","v":"A TIEMPO"},{"$f":"IF(J692=\"\",\"\",NETWORKDAYS(C692+1,J692,DiasNOLaborables))","v":20},"",null,null,20]
[682,20219050049102,"2021-04-19","CIUDADANO","MODULO CONTACTENOS","SOLICITUD DE INFORMACIÓN Y DOCUMENTOS","SOLICITUD DE INFORMACIÓN HIDROMETEOROLÓGICA","NO","GRUPO DE SERVICIO AL CIUDADANO ","2021-05-18","CORREO ELECTRÓNICO",null,{"$f":"IFERROR(WORKDAY(C693,S692,DiasNOLaborables),\"\")","v":"2021-05-18"},{"$f":"+IF(C693=\"\",\"\",IF(J693=\"\",\"SIN RESPUESTA\",(IF(J693<=M693,\"A TIEMPO\",\"FUERA DE TIEMPO\"))))","v":"A TIEMPO"},{"$f":"IF(J693=\"\",\"\",NETWORKDAYS(C693+1,J693,DiasNOLaborables))","v":20},"",null,null,20]
[683,20219050049112,"2021-04-19","CIUDADANO","MODULO CONTACTENOS","SOLICITUD DE INFORMACIÓN Y DOCUMENTOS","SOLICITUD DE INFORMACIÓN HIDROMETEOROLÓGICA","NO","GRUPO DE SERVICIO AL CIUDADANO ","2021-05-18","CORREO ELECTRÓNICO",null,{"$f":"IFERROR(WORKDAY(C694,S693,DiasNOLaborables),\"\")","v":"2021-05-18"},{"$f":"+IF(C694=\"\",\"\",IF(J694=\"\",\"SIN RESPUESTA\",(IF(J694<=M694,\"A TIEMPO\",\"FUERA DE TIEMPO\"))))","v":"A TIEMPO"},{"$f":"IF(J694=\"\",\"\",NETWORKDAYS(C694+1,J694,DiasNOLaborables))","v":20},"",null,null,20]
[684,20219050049142,"2021-04-19","CIUDADANO","MODULO CONTACTENOS","SOLICITUD DE INFORMACIÓN Y DOCUMENTOS","SOLICITUD DE INFORMACIÓN HIDROMETEOROLÓGICA","NO","GRUPO DE SERVICIO AL CIUDADANO ","2021-05-18","CORREO ELECTRÓNICO",null,{"$f":"IFERROR(WORKDAY(C695,S694,DiasNOLaborables),\"\")","v":"2021-05-18"},{"$f":"+IF(C695=\"\",\"\",IF(J695=\"\",\"SIN RESPUESTA\",(IF(J695<=M695,\"A TIEMPO\",\"FUERA DE TIEMPO\"))))","v":"A TIEMPO"},{"$f":"IF(J695=\"\",\"\",NETWORKDAYS(C695+1,J695,DiasNOLaborables))","v":20},"",null,null,20]
[685,20219050049152,"2021-04-19","CIUDADANO","MODULO CONTACTENOS","SOLICITUD DE INFORMACIÓN Y DOCUMENTOS","SOLICITUD DE INFORMACIÓN HIDROMETEOROLÓGICA","NO","GRUPO DE SERVICIO AL CIUDADANO ","2021-05-18","CORREO ELECTRÓNICO",null,{"$f":"IFERROR(WORKDAY(C696,S695,DiasNOLaborables),\"\")","v":"2021-05-18"},{"$f":"+IF(C696=\"\",\"\",IF(J696=\"\",\"SIN RESPUESTA\",(IF(J696<=M696,\"A TIEMPO\",\"FUERA DE TIEMPO\"))))","v":"A TIEMPO"},{"$f":"IF(J696=\"\",\"\",NETWORKDAYS(C696+1,J696,DiasNOLaborables))","v":20},"",null,null,20]
[686,20219050049182,"2021-04-19","CIUDADANO","MODULO CONTACTENOS","SOLICITUD DE INFORMACIÓN Y DOCUMENTOS","SOLICITUD DE INFORMACIÓN HIDROMETEOROLÓGICA","NO","GRUPO DE SERVICIO AL CIUDADANO ","2021-05-18","CORREO ELECTRÓNICO",null,{"$f":"IFERROR(WORKDAY(C697,S696,DiasNOLaborables),\"\")","v":"2021-05-18"},{"$f":"+IF(C697=\"\",\"\",IF(J697=\"\",\"SIN RESPUESTA\",(IF(J697<=M697,\"A TIEMPO\",\"FUERA DE TIEMPO\"))))","v":"A TIEMPO"},{"$f":"IF(J697=\"\",\"\",NETWORKDAYS(C697+1,J697,DiasNOLaborables))","v":20},"",null,null,20]
[687,20219050048632,"2021-04-19","ACADEMIA ","MODULO CONTACTENOS","SOLICITUD DE INFORMACIÓN Y DOCUMENTOS","SOLICITUD DE INFORMACIÓN HIDROMETEOROLÓGICA","NO","GRUPO DE SERVICIO AL CIUDADANO ","2021-05-13","CORREO ELECTRÓNICO",null,{"$f":"IFERROR(WORKDAY(C698,S697,DiasNOLaborables),\"\")","v":"2021-05-18"},{"$f":"+IF(C698=\"\",\"\",IF(J698=\"\",\"SIN RESPUESTA\",(IF(J698<=M698,\"A TIEMPO\",\"FUERA DE TIEMPO\"))))","v":"A TIEMPO"},{"$f":"IF(J698=\"\",\"\",NETWORKDAYS(C698+1,J698,DiasNOLaborables))","v":18},"",null,null,20]
[688,20219050048642,"2021-04-19","ACADEMIA ","MODULO CONTACTENOS","SOLICITUD DE INFORMACIÓN Y DOCUMENTOS","SOLICITUD DE INFORMACIÓN HIDROMETEOROLÓGICA","SI","SUBDIRECCIÓN DE ECOSISTEMAS E INFORMACIÓN AMBIENTAL","2021-05-13","CORREO ELECTRÓNICO",null,{"$f":"IFERROR(WORKDAY(C699,S698,DiasNOLaborables),\"\")","v":"2021-05-18"},{"$f":"+IF(C699=\"\",\"\",IF(J699=\"\",\"SIN RESPUESTA\",(IF(J699<=M699,\"A TIEMPO\",\"FUERA DE TIEMPO\"))))","v":"A TIEMPO"},{"$f":"IF(J699=\"\",\"\",NETWORKDAYS(C699+1,J699,DiasNOLaborables))","v":18},"",null,null,20]
[689,20219050048652,"2021-04-19","CIUDADANO","MODULO CONTACTENOS","SOLICITUD DE INFORMACIÓN Y DOCUMENTOS","SOLICITUD DE INFORMACIÓN HIDROMETEOROLÓGICA","NO","GRUPO DE SERVICIO AL CIUDADANO ","2021-05-13","CORREO ELECTRÓNICO",null,{"$f":"IFERROR(WORKDAY(C700,S699,DiasNOLaborables),\"\")","v":"2021-05-18"},{"$f":"+IF(C700=\"\",\"\",IF(J700=\"\",\"SIN RESPUESTA\",(IF(J700<=M700,\"A TIEMPO\",\"FUERA DE TIEMPO\"))))","v":"A TIEMPO"},{"$f":"IF(J700=\"\",\"\",NETWORKDAYS(C700+1,J700,DiasNOLaborables))","v":18},"",null,null,20]
[690,20219050048662,"2021-04-19","CIUDADANO","MODULO CONTACTENOS","SOLICITUD DE INFORMACIÓN Y DOCUMENTOS","SOLICITUD DE INFORMACIÓN HIDROMETEOROLÓGICA","SI","SUBDIRECCIÓN DE HIDROLOGÍA","2021-05-13","CORREO ELECTRÓNICO",null,{"$f":"IFERROR(WORKDAY(C701,S700,DiasNOLaborables),\"\")","v":"2021-05-18"},{"$f":"+IF(C701=\"\",\"\",IF(J701=\"\",\"SIN RESPUESTA\",(IF(J701<=M701,\"A TIEMPO\",\"FUERA DE TIEMPO\"))))","v":"A TIEMPO"},{"$f":"IF(J701=\"\",\"\",NETWORKDAYS(C701+1,J701,DiasNOLaborables))","v":18},"",null,null,20]
[691,20219050048672,"2021-04-19","CIUDADANO","MODULO CONTACTENOS","SOLICITUD DE INFORMACIÓN Y DOCUMENTOS","SOLICITUD DE INFORMACIÓN HIDROMETEOROLÓGICA","NO","GRUPO DE SERVICIO AL CIUDADANO ","2021-05-13","CORREO ELECTRÓNICO",null,{"$f":"IFERROR(WORKDAY(C702,S701,DiasNOLaborables),\"\")","v":"2021-05-18"},{"$f":"+IF(C702=\"\",\"\",IF(J702=\"\",\"SIN RESPUESTA\",(IF(J702<=M702,\"A TIEMPO\",\"FUERA DE TIEMPO\"))))","v":"A TIEMPO"},{"$f":"IF(J702=\"\",\"\",NETWORKDAYS(C702+1,J702,DiasNOLaborables))","v":18},"",null,null,20]
[692,20219050048682,"2021-04-19","CIUDADANO","MODULO CONTACTENOS","SOLICITUD DE INFORMACIÓN Y DOCUMENTOS","SOLICITUD DE INFORMACIÓN HIDROMETEOROLÓGICA","NO","GRUPO DE SERVICIO AL CIUDADANO ","2021-05-14","CORREO ELECTRÓNICO",null,{"$f":"IFERROR(WORKDAY(C703,S702,DiasNOLaborables),\"\")","v":"2021-05-18"},{"$f":"+IF(C703=\"\",\"\",IF(J703=\"\",\"SIN RESPUESTA\",(IF(J703<=M703,\"A TIEMPO\",\"FUERA DE TIEMPO\"))))","v":"A TIEMPO"},{"$f":"IF(J703=\"\",\"\",NETWORKDAYS(C703+1,J703,DiasNOLaborables))","v":19},"",null,null,20]
[693,20219050048692,"2021-04-19","CIUDADANO","MODULO CONTACTENOS","SOLICITUD DE INFORMACIÓN Y DOCUMENTOS","SOLICITUD DE INFORMACIÓN HIDROMETEOROLÓGICA","NO","GRUPO DE SERVICIO AL CIUDADANO ","2021-05-14","CORREO ELECTRÓNICO",null,{"$f":"IFERROR(WORKDAY(C704,S703,DiasNOLaborables),\"\")","v":"2021-05-18"},{"$f":"+IF(C704=\"\",\"\",IF(J704=\"\",\"SIN RESPUESTA\",(IF(J704<=M704,\"A TIEMPO\",\"FUERA DE TIEMPO\"))))","v":"A TIEMPO"},{"$f":"IF(J704=\"\",\"\",NETWORKDAYS(C704+1,J704,DiasNOLaborables))","v":19},"",null,null,20]
[694,20219050048702,"2021-04-19","ACADEMIA ","MODULO CONTACTENOS","SOLICITUD DE INFORMACIÓN Y DOCUMENTOS","SOLICITUD DE INFORMACIÓN HIDROMETEOROLÓGICA","NO","GRUPO DE SERVICIO AL CIUDADANO ","2021-05-14","CORREO ELECTRÓNICO",null,{"$f":"IFERROR(WORKDAY(C705,S704,DiasNOLaborables),\"\")","v":"2021-05-18"},{"$f":"+IF(C705=\"\",\"\",IF(J705=\"\",\"SIN RESPUESTA\",(IF(J705<=M705,\"A TIEMPO\",\"FUERA DE TIEMPO\"))))","v":"A TIEMPO"},{"$f":"IF(J705=\"\",\"\",NETWORKDAYS(C705+1,J705,DiasNOLaborables))","v":19},"",null,null,20]
[695,20219050048712,"2021-04-19","CIUDADANO","MODULO CONTACTENOS","SOLICITUD DE INFORMACIÓN Y DOCUMENTOS","SOLICITUD DE INFORMACIÓN HIDROMETEOROLÓGICA","NO","GRUPO DE SERVICIO AL CIUDADANO ","2021-05-14","CORREO ELECTRÓNICO",null,{"$f":"IFERROR(WORKDAY(C706,S705,DiasNOLaborables),\"\")","v":"2021-05-18"},{"$f":"+IF(C706=\"\",\"\",IF(J706=\"\",\"SIN RESPUESTA\",(IF(J706<=M706,\"A TIEMPO\",\"FUERA DE TIEMPO\"))))","v":"A TIEMPO"},{"$f":"IF(J706=\"\",\"\",NETWORKDAYS(C706+1,J706,DiasNOLaborables))","v":19},"",null,null,20]
[696,20219050048612,"2021-04-19","CIUDADANO","MODULO CONTACTENOS","SOLICITUD DE INFORMACIÓN Y DOCUMENTOS","SUELOS Y TIERRAS","SI","SUBDIRECCIÓN DE ECOSISTEMAS E INFORMACIÓN AMBIENTAL","2021-05-10","CORREO ELECTRÓNICO",null,{"$f":"IFERROR(WORKDAY(C707,S706,DiasNOLaborables),\"\")","v":"2021-05-18"},{"$f":"+IF(C707=\"\",\"\",IF(J707=\"\",\"SIN RESPUESTA\",(IF(J707<=M707,\"A TIEMPO\",\"FUERA DE TIEMPO\"))))","v":"A TIEMPO"},{"$f":"IF(J707=\"\",\"\",NETWORKDAYS(C707+1,J707,DiasNOLaborables))","v":15},"",null,null,20]
[697,20219050048812,"2021-04-19","FUNCIONARIO IDEAM","MODULO CONTACTENOS","SOLICITUD DE INFORMACIÓN Y DOCUMENTOS","ADMINISTRATIVA","SI","GRUPO DE ADMINISTRACIÓN Y DESARROLLO DEL TALENTO HUMANO","2021-04-26","CORREO ELECTRÓNICO",null,{"$f":"IFERROR(WORKDAY(C708,S707,DiasNOLaborables),\"\")","v":"2021-05-18"},{"$f":"+IF(C708=\"\",\"\",IF(J708=\"\",\"SIN RESPUESTA\",(IF(J708<=M708,\"A TIEMPO\",\"FUERA DE TIEMPO\"))))","v":"A TIEMPO"},{"$f":"IF(J708=\"\",\"\",NETWORKDAYS(C708+1,J708,DiasNOLaborables))","v":5},"",null,null,20]
[698,20219050048842,"2021-04-19","CIUDADANO","MODULO CONTACTENOS","SOLICITUD DE INFORMACIÓN Y DOCUMENTOS","REGISTROS AMBIENTALES","SI","SUBDIRECCIÓN DE ESTUDIOS AMBIENTALES","2021-04-25","CORREO ELECTRÓNICO",null,{"$f":"IFERROR(WORKDAY(C709,S708,DiasNOLaborables),\"\")","v":"2021-05-18"},{"$f":"+IF(C709=\"\",\"\",IF(J709=\"\",\"SIN RESPUESTA\",(IF(J709<=M709,\"A TIEMPO\",\"FUERA DE TIEMPO\"))))","v":"A TIEMPO"},{"$f":"IF(J709=\"\",\"\",NETWORKDAYS(C709+1,J709,DiasNOLaborables))","v":4},"",null,null,20]
[699,20219050048792,"2021-04-19","CIUDADANO","MODULO CONTACTENOS","SOLICITUD DE INFORMACIÓN Y DOCUMENTOS","SIRH","SI","SUBDIRECCIÓN DE HIDROLOGÍA","2021-04-23","CORREO ELECTRÓNICO",null,{"$f":"IFERROR(WORKDAY(C710,S709,DiasNOLaborables),\"\")","v":"2021-05-18"},{"$f":"+IF(C710=\"\",\"\",IF(J710=\"\",\"SIN RESPUESTA\",(IF(J710<=M710,\"A TIEMPO\",\"FUERA DE TIEMPO\"))))","v":"A TIEMPO"},{"$f":"IF(J710=\"\",\"\",NETWORKDAYS(C710+1,J710,DiasNOLaborables))","v":4},"",null,null,20]
[700,20219050048942,"2021-04-19","EMPRESA PRIVADA","MODULO CONTACTENOS","SOLICITUD DE INFORMACIÓN Y DOCUMENTOS","REGISTROS AMBIENTALES","SI","SUBDIRECCIÓN DE ESTUDIOS AMBIENTALES","2021-04-25","CORREO ELECTRÓNICO",null,{"$f":"IFERROR(WORKDAY(C711,S710,DiasNOLaborables),\"\")","v":"2021-05-18"},{"$f":"+IF(C711=\"\",\"\",IF(J711=\"\",\"SIN RESPUESTA\",(IF(J711<=M711,\"A TIEMPO\",\"FUERA DE TIEMPO\"))))","v":"A TIEMPO"},{"$f":"IF(J711=\"\",\"\",NETWORKDAYS(C711+1,J711,DiasNOLaborables))","v":4},"",null,null,20]
[701,20219050048962,"2021-04-19","EMPRESA PRIVADA","MODULO CONTACTENOS","SOLICITUD DE INFORMACIÓN Y DOCUMENTOS","REGISTROS AMBIENTALES","SI","SUBDIRECCIÓN DE ESTUDIOS AMBIENTALES","2021-04-25","CORREO ELECTRÓNICO",null,{"$f":"IFERROR(WORKDAY(C712,S711,DiasNOLaborables),\"\")","v":"2021-05-18"},{"$f":"+IF(C712=\"\",\"\",IF(J712=\"\",\"SIN RESPUESTA\",(IF(J712<=M712,\"A TIEMPO\",\"FUERA DE TIEMPO\"))))","v":"A TIEMPO"},{"$f":"IF(J712=\"\",\"\",NETWORKDAYS(C712+1,J712,DiasNOLaborables))","v":4},"",null,null,20]
[702,20219050049052,"2021-04-19","CIUDADANO","MODULO CONTACTENOS","SOLICITUD DE INFORMACIÓN Y DOCUMENTOS","ADMINISTRATIVA","SI","OFICINA ASESORA JURÍDICA","2021-04-22","CORREO ELECTRÓNICO",null,{"$f":"IFERROR(WORKDAY(C713,S712,DiasNOLaborables),\"\")","v":"2021-05-18"},{"$f":"+IF(C713=\"\",\"\",IF(J713=\"\",\"SIN RESPUESTA\",(IF(J713<=M713,\"A TIEMPO\",\"FUERA DE TIEMPO\"))))","v":"A TIEMPO"},{"$f":"IF(J713=\"\",\"\",NETWORKDAYS(C713+1,J713,DiasNOLaborables))","v":3},"",null,null,20]
[703,20219050049192,"2021-04-19","FUNCIONARIO IDEAM","MODULO CONTACTENOS","SOLICITUD DE INFORMACIÓN Y DOCUMENTOS","ADMINISTRATIVA","SI","GRUPO DE ADMINISTRACIÓN Y DESARROLLO DEL TALENTO HUMANO","2021-04-19","CORREO ELECTRÓNICO",null,{"$f":"IFERROR(WORKDAY(C714,S713,DiasNOLaborables),\"\")","v":"2021-05-18"},{"$f":"+IF(C714=\"\",\"\",IF(J714=\"\",\"SIN RESPUESTA\",(IF(J714<=M714,\"A TIEMPO\",\"FUERA DE TIEMPO\"))))","v":"A TIEMPO"},{"$f":"IF(J714=\"\",\"\",NETWORKDAYS(C714+1,J714,DiasNOLaborables))","v":-2},"",null,null,20]
[704,20219050048972,"2021-04-19","CIUDADANO","CORREO ELECTRÓNICO","SOLICITUD DE INFORMACIÓN Y DOCUMENTOS","REGISTROS AMBIENTALES","SI","SUBDIRECCIÓN DE ESTUDIOS AMBIENTALES","2021-04-19","CORREO ELECTRÓNICO",null,{"$f":"IFERROR(WORKDAY(C715,S714,DiasNOLaborables),\"\")","v":"2021-05-18"},{"$f":"+IF(C715=\"\",\"\",IF(J715=\"\",\"SIN RESPUESTA\",(IF(J715<=M715,\"A TIEMPO\",\"FUERA DE TIEMPO\"))))","v":"A TIEMPO"},{"$f":"IF(J715=\"\",\"\",NETWORKDAYS(C715+1,J715,DiasNOLaborables))","v":-2},{"$f":"IF(NETWORKDAYS(M715+1,J715,DiasNOLaborables)<=0,\"\",NETWORKDAYS(M715+1,J715,DiasNOLaborables))","v":""},null,null,20]
[705,20219050048982,"2021-04-19","CIUDADANO","CORREO ELECTRÓNICO","SOLICITUD DE INFORMACIÓN Y DOCUMENTOS","REGISTROS AMBIENTALES","SI","SUBDIRECCIÓN DE ESTUDIOS AMBIENTALES","2021-04-19","CORREO ELECTRÓNICO",null,{"$f":"IFERROR(WORKDAY(C716,S715,DiasNOLaborables),\"\")","v":"2021-05-18"},{"$f":"+IF(C716=\"\",\"\",IF(J716=\"\",\"SIN RESPUESTA\",(IF(J716<=M716,\"A TIEMPO\",\"FUERA DE TIEMPO\"))))","v":"A TIEMPO"},{"$f":"IF(J716=\"\",\"\",NETWORKDAYS(C716+1,J716,DiasNOLaborables))","v":-2},"",null,null,20]
[706,20219050048992,"2021-04-19","EMPRESA PRIVADA","CORREO ELECTRÓNICO","SOLICITUD DE INFORMACIÓN Y DOCUMENTOS","REGISTROS AMBIENTALES","SI","SUBDIRECCIÓN DE ESTUDIOS AMBIENTALES","2021-04-19","CORREO ELECTRÓNICO",null,{"$f":"IFERROR(WORKDAY(C717,S716,DiasNOLaborables),\"\")","v":"2021-05-18"},{"$f":"+IF(C717=\"\",\"\",IF(J717=\"\",\"SIN RESPUESTA\",(IF(J717<=M717,\"A TIEMPO\",\"FUERA DE TIEMPO\"))))","v":"A TIEMPO"},{"$f":"IF(J717=\"\",\"\",NETWORKDAYS(C717+1,J717,DiasNOLaborables))","v":-2},"",null,null,{"$f":"IFERROR(VLOOKUP(F718,$AA$51:$AB$64,2),\"\")","v":20}]
[{"$f":"IF(B718<>\"\",A717+1,\"\")","v":707},20219050049002,"2021-04-19","CIUDADANO","CORREO ELECTRÓNICO","SOLICITUD DE INFORMACIÓN Y DOCUMENTOS","REGISTROS AMBIENTALES","SI","SUBDIRECCIÓN DE ESTUDIOS AMBIENTALES","2021-04-19","CORREO ELECTRÓNICO",null,{"$f":"IFERROR(WORKDAY(C718,S717,DiasNOLaborables),\"\")","v":"2021-05-18"},{"$f":"+IF(C718=\"\",\"\",IF(J718=\"\",\"SIN RESPUESTA\",(IF(J718<=M718,\"A TIEMPO\",\"FUERA DE TIEMPO\"))))","v":"A TIEMPO"},{"$f":"IF(J718=\"\",\"\",NETWORKDAYS(C718+1,J718,DiasNOLaborables))","v":-2},"",null,null,20]
[708,20219050049012,"2021-04-19","CIUDADANO","CORREO ELECTRÓNICO","SOLICITUD DE INFORMACIÓN Y DOCUMENTOS","REGISTROS AMBIENTALES","SI","SUBDIRECCIÓN DE ESTUDIOS AMBIENTALES","2021-04-19","CORREO ELECTRÓNICO",null,{"$f":"IFERROR(WORKDAY(C719,S718,DiasNOLaborables),\"\")","v":"2021-05-18"},{"$f":"+IF(C719=\"\",\"\",IF(J719=\"\",\"SIN RESPUESTA\",(IF(J719<=M719,\"A TIEMPO\",\"FUERA DE TIEMPO\"))))","v":"A TIEMPO"},{"$f":"IF(J719=\"\",\"\",NETWORKDAYS(C719+1,J719,DiasNOLaborables))","v":-2},"",null,null,20]
[709,20219050049032,"2021-04-19","CIUDADANO","CORREO ELECTRÓNICO","SOLICITUD DE INFORMACIÓN Y DOCUMENTOS","REGISTROS AMBIENTALES","SI","SUBDIRECCIÓN DE ESTUDIOS AMBIENTALES","2021-04-19","CORREO ELECTRÓNICO",null,{"$f":"IFERROR(WORKDAY(C720,S719,DiasNOLaborables),\"\")","v":"2021-05-18"},{"$f":"+IF(C720=\"\",\"\",IF(J720=\"\",\"SIN RESPUESTA\",(IF(J720<=M720,\"A TIEMPO\",\"FUERA DE TIEMPO\"))))","v":"A TIEMPO"},{"$f":"IF(J720=\"\",\"\",NETWORKDAYS(C720+1,J720,DiasNOLaborables))","v":-2},"",null,null,20]
[710,20219050049042,"2021-04-19","CIUDADANO","CORREO ELECTRÓNICO","SOLICITUD DE INFORMACIÓN Y DOCUMENTOS","REGISTROS AMBIENTALES","SI","SUBDIRECCIÓN DE ESTUDIOS AMBIENTALES","2021-04-19","CORREO ELECTRÓNICO",null,{"$f":"IFERROR(WORKDAY(C721,S720,DiasNOLaborables),\"\")","v":"2021-05-18"},{"$f":"+IF(C721=\"\",\"\",IF(J721=\"\",\"SIN RESPUESTA\",(IF(J721<=M721,\"A TIEMPO\",\"FUERA DE TIEMPO\"))))","v":"A TIEMPO"},{"$f":"IF(J721=\"\",\"\",NETWORKDAYS(C721+1,J721,DiasNOLaborables))","v":-2},"",null,null,20]
[711,20219050049062,"2021-04-19","EMPRESA PRIVADA","CORREO ELECTRÓNICO","SOLICITUD DE INFORMACIÓN Y DOCUMENTOS","REGISTROS AMBIENTALES","SI","SUBDIRECCIÓN DE ESTUDIOS AMBIENTALES","2021-04-19","CORREO ELECTRÓNICO",null,{"$f":"IFERROR(WORKDAY(C722,S721,DiasNOLaborables),\"\")","v":"2021-05-18"},{"$f":"+IF(C722=\"\",\"\",IF(J722=\"\",\"SIN RESPUESTA\",(IF(J722<=M722,\"A TIEMPO\",\"FUERA DE TIEMPO\"))))","v":"A TIEMPO"},{"$f":"IF(J722=\"\",\"\",NETWORKDAYS(C722+1,J722,DiasNOLaborables))","v":-2},"",null,null,20]
[712,20219050049082,"2021-04-19","CIUDADANO","CORREO ELECTRÓNICO","SOLICITUD DE INFORMACIÓN Y DOCUMENTOS","REGISTROS AMBIENTALES","SI","SUBDIRECCIÓN DE ESTUDIOS AMBIENTALES","2021-04-19","CORREO ELECTRÓNICO",null,{"$f":"IFERROR(WORKDAY(C723,S722,DiasNOLaborables),\"\")","v":"2021-05-18"},{"$f":"+IF(C723=\"\",\"\",IF(J723=\"\",\"SIN RESPUESTA\",(IF(J723<=M723,\"A TIEMPO\",\"FUERA DE TIEMPO\"))))","v":"A TIEMPO"},{"$f":"IF(J723=\"\",\"\",NETWORKDAYS(C723+1,J723,DiasNOLaborables))","v":-2},"",null,null,20]
[713,20219050049372,"2021-04-20","CIUDADANO","CORREO ELECTRÓNICO","SOLICITUD DE INFORMACIÓN Y DOCUMENTOS","REGISTROS AMBIENTALES","SI","SUBDIRECCIÓN DE ESTUDIOS AMBIENTALES","2021-04-20","CORREO ELECTRÓNICO",null,{"$f":"IFERROR(WORKDAY(C724,S723,DiasNOLaborables),\"\")","v":"2021-05-19"},{"$f":"+IF(C724=\"\",\"\",IF(J724=\"\",\"SIN RESPUESTA\",(IF(J724<=M724,\"A TIEMPO\",\"FUERA DE TIEMPO\"))))","v":"A TIEMPO"},{"$f":"IF(J724=\"\",\"\",NETWORKDAYS(C724+1,J724,DiasNOLaborables))","v":-2},"",null,null,20]
[714,20219050049382,"2021-04-20","CIUDADANO","CORREO ELECTRÓNICO","SOLICITUD DE INFORMACIÓN Y DOCUMENTOS","REGISTROS AMBIENTALES","SI","SUBDIRECCIÓN DE ESTUDIOS AMBIENTALES","2021-04-20","CORREO ELECTRÓNICO",null,{"$f":"IFERROR(WORKDAY(C725,S724,DiasNOLaborables),\"\")","v":"2021-05-19"},{"$f":"+IF(C725=\"\",\"\",IF(J725=\"\",\"SIN RESPUESTA\",(IF(J725<=M725,\"A TIEMPO\",\"FUERA DE TIEMPO\"))))","v":"A TIEMPO"},{"$f":"IF(J725=\"\",\"\",NETWORKDAYS(C725+1,J725,DiasNOLaborables))","v":-2},"",null,null,20]
[715,20219050049392,"2021-04-20","CIUDADANO","CORREO ELECTRÓNICO","SOLICITUD DE INFORMACIÓN Y DOCUMENTOS","REGISTROS AMBIENTALES","SI","SUBDIRECCIÓN DE ESTUDIOS AMBIENTALES","2021-04-20","CORREO ELECTRÓNICO",null,{"$f":"IFERROR(WORKDAY(C726,S725,DiasNOLaborables),\"\")","v":"2021-05-19"},{"$f":"+IF(C726=\"\",\"\",IF(J726=\"\",\"SIN RESPUESTA\",(IF(J726<=M726,\"A TIEMPO\",\"FUERA DE TIEMPO\"))))","v":"A TIEMPO"},{"$f":"IF(J726=\"\",\"\",NETWORKDAYS(C726+1,J726,DiasNOLaborables))","v":-2},"",null,null,20]
[716,20219050049402,"2021-04-20","CIUDADANO","CORREO ELECTRÓNICO","SOLICITUD DE INFORMACIÓN Y DOCUMENTOS","SUELOS Y TIERRAS","NO","GRUPO DE SERVICIO AL CIUDADANO ","2021-05-12","CORREO ELECTRÓNICO",null,{"$f":"IFERROR(WORKDAY(C727,S726,DiasNOLaborables),\"\")","v":"2021-05-19"},{"$f":"+IF(C727=\"\",\"\",IF(J727=\"\",\"SIN RESPUESTA\",(IF(J727<=M727,\"A TIEMPO\",\"FUERA DE TIEMPO\"))))","v":"A TIEMPO"},{"$f":"IF(J727=\"\",\"\",NETWORKDAYS(C727+1,J727,DiasNOLaborables))","v":16},"",null,null,20]
[717,20219050049412,"2021-04-20","CIUDADANO","CORREO ELECTRÓNICO","SOLICITUD DE INFORMACIÓN Y DOCUMENTOS","REGISTROS AMBIENTALES","SI","SUBDIRECCIÓN DE ESTUDIOS AMBIENTALES","2021-04-20","CORREO ELECTRÓNICO",null,{"$f":"IFERROR(WORKDAY(C728,S727,DiasNOLaborables),\"\")","v":"2021-05-19"},{"$f":"+IF(C728=\"\",\"\",IF(J728=\"\",\"SIN RESPUESTA\",(IF(J728<=M728,\"A TIEMPO\",\"FUERA DE TIEMPO\"))))","v":"A TIEMPO"},{"$f":"IF(J728=\"\",\"\",NETWORKDAYS(C728+1,J728,DiasNOLaborables))","v":-2},"",null,null,35]
[718,20219050049422,"2021-04-20","CIUDADANO","CORREO ELECTRÓNICO","CERTIFICACIONES DE TIEMPO, CLIMA Y EVENTOS HIDROLÓGICOS","CERTIFICACIONES DE TIEMPO Y CLIMA","SI","SUBDIRECCIÓN DE METEOROLOGÍA","2021-05-06","CORREO ELECTRÓNICO",null,{"$f":"IFERROR(WORKDAY(C729,S728,DiasNOLaborables),\"\")","v":"2021-06-10"},{"$f":"+IF(C729=\"\",\"\",IF(J729=\"\",\"SIN RESPUESTA\",(IF(J729<=M729,\"A TIEMPO\",\"FUERA DE TIEMPO\"))))","v":"A TIEMPO"},{"$f":"IF(J729=\"\",\"\",NETWORKDAYS(C729+1,J729,DiasNOLaborables))","v":12},"",null,null,20]
[719,20219050049432,"2021-04-20","CIUDADANO","CORREO ELECTRÓNICO","SOLICITUD DE INFORMACIÓN Y DOCUMENTOS","BOSQUES","SI","SUBDIRECCIÓN DE ECOSISTEMAS E INFORMACIÓN AMBIENTAL","2021-04-27","CORREO ELECTRÓNICO",null,{"$f":"IFERROR(WORKDAY(C730,S729,DiasNOLaborables),\"\")","v":"2021-05-19"},{"$f":"+IF(C730=\"\",\"\",IF(J730=\"\",\"SIN RESPUESTA\",(IF(J730<=M730,\"A TIEMPO\",\"FUERA DE TIEMPO\"))))","v":"A TIEMPO"},{"$f":"IF(J730=\"\",\"\",NETWORKDAYS(C730+1,J730,DiasNOLaborables))","v":5},"",null,null,20]
[720,20219050049452,"2021-04-20","CIUDADANO","CORREO ELECTRÓNICO","SOLICITUD DE INFORMACIÓN Y DOCUMENTOS","REGISTROS AMBIENTALES","SI","SUBDIRECCIÓN DE ESTUDIOS AMBIENTALES","2021-04-20","CORREO ELECTRÓNICO",null,{"$f":"IFERROR(WORKDAY(C731,S730,DiasNOLaborables),\"\")","v":"2021-05-19"},{"$f":"+IF(C731=\"\",\"\",IF(J731=\"\",\"SIN RESPUESTA\",(IF(J731<=M731,\"A TIEMPO\",\"FUERA DE TIEMPO\"))))","v":"A TIEMPO"},{"$f":"IF(J731=\"\",\"\",NETWORKDAYS(C731+1,J731,DiasNOLaborables))","v":-2},"",null,null,35]
[721,20219050049482,"2021-04-20","CIUDADANO","CORREO ELECTRÓNICO","CERTIFICACIONES DE TIEMPO, CLIMA Y EVENTOS HIDROLÓGICOS","CERTIFICACIONES DE TIEMPO Y CLIMA","SI","SUBDIRECCIÓN DE METEOROLOGÍA","2021-05-05","CORREO ELECTRÓNICO",null,{"$f":"IFERROR(WORKDAY(C732,S731,DiasNOLaborables),\"\")","v":"2021-06-10"},{"$f":"+IF(C732=\"\",\"\",IF(J732=\"\",\"SIN RESPUESTA\",(IF(J732<=M732,\"A TIEMPO\",\"FUERA DE TIEMPO\"))))","v":"A TIEMPO"},{"$f":"IF(J732=\"\",\"\",NETWORKDAYS(C732+1,J732,DiasNOLaborables))","v":11},"",null,null,20]
[722,20219050049492,"2021-04-20","CIUDADANO","CORREO ELECTRÓNICO","SOLICITUD DE INFORMACIÓN Y DOCUMENTOS","REGISTROS AMBIENTALES","SI","SUBDIRECCIÓN DE ESTUDIOS AMBIENTALES","2021-04-20","CORREO ELECTRÓNICO",null,{"$f":"IFERROR(WORKDAY(C733,S732,DiasNOLaborables),\"\")","v":"2021-05-19"},{"$f":"+IF(C733=\"\",\"\",IF(J733=\"\",\"SIN RESPUESTA\",(IF(J733<=M733,\"A TIEMPO\",\"FUERA DE TIEMPO\"))))","v":"A TIEMPO"},{"$f":"IF(J733=\"\",\"\",NETWORKDAYS(C733+1,J733,DiasNOLaborables))","v":-2},"",null,null,20]
[723,20219050049502,"2021-04-20","CIUDADANO","CORREO ELECTRÓNICO","SOLICITUD DE INFORMACIÓN Y DOCUMENTOS","REGISTROS AMBIENTALES","SI","SUBDIRECCIÓN DE ESTUDIOS AMBIENTALES","2021-04-20","CORREO ELECTRÓNICO",null,{"$f":"IFERROR(WORKDAY(C734,S733,DiasNOLaborables),\"\")","v":"2021-05-19"},{"$f":"+IF(C734=\"\",\"\",IF(J734=\"\",\"SIN RESPUESTA\",(IF(J734<=M734,\"A TIEMPO\",\"FUERA DE TIEMPO\"))))","v":"A TIEMPO"},{"$f":"IF(J734=\"\",\"\",NETWORKDAYS(C734+1,J734,DiasNOLaborables))","v":-2},"",null,null,20]
[724,20219050049512,"2021-04-20","CIUDADANO","CORREO ELECTRÓNICO","SOLICITUD DE INFORMACIÓN Y DOCUMENTOS","REGISTROS AMBIENTALES","SI","SUBDIRECCIÓN DE ESTUDIOS AMBIENTALES","2021-04-20","CORREO ELECTRÓNICO",null,{"$f":"IFERROR(WORKDAY(C735,S734,DiasNOLaborables),\"\")","v":"2021-05-19"},{"$f":"+IF(C735=\"\",\"\",IF(J735=\"\",\"SIN RESPUESTA\",(IF(J735<=M735,\"A TIEMPO\",\"FUERA DE TIEMPO\"))))","v":"A TIEMPO"},{"$f":"IF(J735=\"\",\"\",NETWORKDAYS(C735+1,J735,DiasNOLaborables))","v":-2},"",null,null,20]
[725,20219050049532,"2021-04-20","CIUDADANO","CORREO ELECTRÓNICO","SOLICITUD DE INFORMACIÓN Y DOCUMENTOS","REGISTROS AMBIENTALES","SI","SUBDIRECCIÓN DE ESTUDIOS AMBIENTALES","2021-04-20","CORREO ELECTRÓNICO",null,{"$f":"IFERROR(WORKDAY(C736,S735,DiasNOLaborables),\"\")","v":"2021-05-19"},{"$f":"+IF(C736=\"\",\"\",IF(J736=\"\",\"SIN RESPUESTA\",(IF(J736<=M736,\"A TIEMPO\",\"FUERA DE TIEMPO\"))))","v":"A TIEMPO"},{"$f":"IF(J736=\"\",\"\",NETWORKDAYS(C736+1,J736,DiasNOLaborables))","v":-2},"",null,null,20]
[726,20219050049562,"2021-04-20","CIUDADANO","CORREO ELECTRÓNICO","SOLICITUD DE INFORMACIÓN Y DOCUMENTOS","REGISTROS AMBIENTALES","SI","SUBDIRECCIÓN DE ESTUDIOS AMBIENTALES","2021-04-20","CORREO ELECTRÓNICO",null,{"$f":"IFERROR(WORKDAY(C737,S736,DiasNOLaborables),\"\")","v":"2021-05-19"},{"$f":"+IF(C737=\"\",\"\",IF(J737=\"\",\"SIN RESPUESTA\",(IF(J737<=M737,\"A TIEMPO\",\"FUERA DE TIEMPO\"))))","v":"A TIEMPO"},{"$f":"IF(J737=\"\",\"\",NETWORKDAYS(C737+1,J737,DiasNOLaborables))","v":-2},"",null,null,20]
[727,20219050049582,"2021-04-20","CIUDADANO","CORREO ELECTRÓNICO","SOLICITUD DE INFORMACIÓN Y DOCUMENTOS","REGISTROS AMBIENTALES","SI","SUBDIRECCIÓN DE ESTUDIOS AMBIENTALES","2021-04-20","CORREO ELECTRÓNICO",null,{"$f":"IFERROR(WORKDAY(C738,S737,DiasNOLaborables),\"\")","v":"2021-05-19"},{"$f":"+IF(C738=\"\",\"\",IF(J738=\"\",\"SIN RESPUESTA\",(IF(J738<=M738,\"A TIEMPO\",\"FUERA DE TIEMPO\"))))","v":"A TIEMPO"},{"$f":"IF(J738=\"\",\"\",NETWORKDAYS(C738+1,J738,DiasNOLaborables))","v":-2},"",null,null,20]
[728,20219050049612,"2021-04-20","CIUDADANO","CORREO ELECTRÓNICO","SOLICITUD DE INFORMACIÓN Y DOCUMENTOS","REGISTROS AMBIENTALES","SI","SUBDIRECCIÓN DE ESTUDIOS AMBIENTALES","2021-04-20","CORREO ELECTRÓNICO",null,{"$f":"IFERROR(WORKDAY(C739,S738,DiasNOLaborables),\"\")","v":"2021-05-19"},{"$f":"+IF(C739=\"\",\"\",IF(J739=\"\",\"SIN RESPUESTA\",(IF(J739<=M739,\"A TIEMPO\",\"FUERA DE TIEMPO\"))))","v":"A TIEMPO"},{"$f":"IF(J739=\"\",\"\",NETWORKDAYS(C739+1,J739,DiasNOLaborables))","v":-2},"",null,null,20]
[729,20219050049622,"2021-04-20","CIUDADANO","CORREO ELECTRÓNICO","SOLICITUD DE INFORMACIÓN Y DOCUMENTOS","REGISTROS AMBIENTALES","SI","SUBDIRECCIÓN DE ESTUDIOS AMBIENTALES","2021-04-20","CORREO ELECTRÓNICO",null,{"$f":"IFERROR(WORKDAY(C740,S739,DiasNOLaborables),\"\")","v":"2021-05-19"},{"$f":"+IF(C740=\"\",\"\",IF(J740=\"\",\"SIN RESPUESTA\",(IF(J740<=M740,\"A TIEMPO\",\"FUERA DE TIEMPO\"))))","v":"A TIEMPO"},{"$f":"IF(J740=\"\",\"\",NETWORKDAYS(C740+1,J740,DiasNOLaborables))","v":-2},"",null,null,20]
[730,20219050049642,"2021-04-20","EMPRESA PRIVADA","CORREO ELECTRÓNICO","SOLICITUD DE INFORMACIÓN Y DOCUMENTOS","REGISTROS AMBIENTALES","SI","SUBDIRECCIÓN DE ESTUDIOS AMBIENTALES","2021-04-20","CORREO ELECTRÓNICO",null,{"$f":"IFERROR(WORKDAY(C741,S740,DiasNOLaborables),\"\")","v":"2021-05-19"},{"$f":"+IF(C741=\"\",\"\",IF(J741=\"\",\"SIN RESPUESTA\",(IF(J741<=M741,\"A TIEMPO\",\"FUERA DE TIEMPO\"))))","v":"A TIEMPO"},{"$f":"IF(J741=\"\",\"\",NETWORKDAYS(C741+1,J741,DiasNOLaborables))","v":-2},"",null,null,20]
[731,20219050049222,"2021-04-20","CIUDADANO","MODULO CONTACTENOS","SOLICITUD DE INFORMACIÓN Y DOCUMENTOS","INFORMES AMBIENTALES","SI","SUBDIRECCIÓN DE ESTUDIOS AMBIENTALES","2021-04-27","CORREO ELECTRÓNICO",null,{"$f":"IFERROR(WORKDAY(C742,S741,DiasNOLaborables),\"\")","v":"2021-05-19"},{"$f":"+IF(C742=\"\",\"\",IF(J742=\"\",\"SIN RESPUESTA\",(IF(J742<=M742,\"A TIEMPO\",\"FUERA DE TIEMPO\"))))","v":"A TIEMPO"},{"$f":"IF(J742=\"\",\"\",NETWORKDAYS(C742+1,J742,DiasNOLaborables))","v":5},"",null,null,20]
[732,20219050049322,"2021-04-20","CIUDADANO","MODULO CONTACTENOS","SOLICITUD DE INFORMACIÓN Y DOCUMENTOS","ADMINISTRATIVA","SI","GRUPO DE ADMINISTRACIÓN Y DESARROLLO DEL TALENTO HUMANO","2021-05-03","CORREO ELECTRÓNICO",null,{"$f":"IFERROR(WORKDAY(C743,S742,DiasNOLaborables),\"\")","v":"2021-05-19"},{"$f":"+IF(C743=\"\",\"\",IF(J743=\"\",\"SIN RESPUESTA\",(IF(J743<=M743,\"A TIEMPO\",\"FUERA DE TIEMPO\"))))","v":"A TIEMPO"},{"$f":"IF(J743=\"\",\"\",NETWORKDAYS(C743+1,J743,DiasNOLaborables))","v":9},"",null,null,35]
[733,20219050049332,"2021-04-20","CIUDADANO","MODULO CONTACTENOS","CERTIFICACIONES DE TIEMPO, CLIMA Y EVENTOS HIDROLÓGICOS","CERTIFICACIONES DE TIEMPO Y CLIMA","SI","SUBDIRECCIÓN DE METEOROLOGÍA","2021-05-05","CORREO ELECTRÓNICO",null,{"$f":"IFERROR(WORKDAY(C744,S743,DiasNOLaborables),\"\")","v":"2021-06-10"},{"$f":"+IF(C744=\"\",\"\",IF(J744=\"\",\"SIN RESPUESTA\",(IF(J744<=M744,\"A TIEMPO\",\"FUERA DE TIEMPO\"))))","v":"A TIEMPO"},{"$f":"IF(J744=\"\",\"\",NETWORKDAYS(C744+1,J744,DiasNOLaborables))","v":11},"",null,null,20]
[734,20219050049282,"2021-04-20","CIUDADANO","MODULO CONTACTENOS","SOLICITUD DE INFORMACIÓN Y DOCUMENTOS","SOLICITUD DE INFORMACIÓN HIDROMETEOROLÓGICA","NO","GRUPO DE SERVICIO AL CIUDADANO ","2021-05-14","CORREO ELECTRÓNICO",null,{"$f":"IFERROR(WORKDAY(C745,S744,DiasNOLaborables),\"\")","v":"2021-05-19"},{"$f":"+IF(C745=\"\",\"\",IF(J745=\"\",\"SIN RESPUESTA\",(IF(J745<=M745,\"A TIEMPO\",\"FUERA DE TIEMPO\"))))","v":"A TIEMPO"},{"$f":"IF(J745=\"\",\"\",NETWORKDAYS(C745+1,J745,DiasNOLaborables))","v":18},"",null,null,20]
[735,20219050049292,"2021-04-20","ACADEMIA ","MODULO CONTACTENOS","SOLICITUD DE INFORMACIÓN Y DOCUMENTOS","SOLICITUD DE INFORMACIÓN HIDROMETEOROLÓGICA","NO","GRUPO DE SERVICIO AL CIUDADANO ","2021-05-15","CORREO ELECTRÓNICO",null,{"$f":"IFERROR(WORKDAY(C746,S745,DiasNOLaborables),\"\")","v":"2021-05-19"},{"$f":"+IF(C746=\"\",\"\",IF(J746=\"\",\"SIN RESPUESTA\",(IF(J746<=M746,\"A TIEMPO\",\"FUERA DE TIEMPO\"))))","v":"A TIEMPO"},{"$f":"IF(J746=\"\",\"\",NETWORKDAYS(C746+1,J746,DiasNOLaborables))","v":18},"",null,null,20]
[736,20219050049312,"2021-04-20","ACADEMIA ","MODULO CONTACTENOS","SOLICITUD DE INFORMACIÓN Y DOCUMENTOS","SOLICITUD DE INFORMACIÓN HIDROMETEOROLÓGICA","NO","GRUPO DE SERVICIO AL CIUDADANO ","2021-05-15","CORREO ELECTRÓNICO",null,{"$f":"IFERROR(WORKDAY(C747,S746,DiasNOLaborables),\"\")","v":"2021-05-19"},{"$f":"+IF(C747=\"\",\"\",IF(J747=\"\",\"SIN RESPUESTA\",(IF(J747<=M747,\"A TIEMPO\",\"FUERA DE TIEMPO\"))))","v":"A TIEMPO"},{"$f":"IF(J747=\"\",\"\",NETWORKDAYS(C747+1,J747,DiasNOLaborables))","v":18},"",null,null,20]
[737,20219050049342,"2021-04-20","CIUDADANO","MODULO CONTACTENOS","SOLICITUD DE INFORMACIÓN Y DOCUMENTOS","SOLICITUD DE INFORMACIÓN HIDROMETEOROLÓGICA","NO","GRUPO DE SERVICIO AL CIUDADANO ","2021-05-15","CORREO ELECTRÓNICO",null,{"$f":"IFERROR(WORKDAY(C748,S747,DiasNOLaborables),\"\")","v":"2021-05-19"},{"$f":"+IF(C748=\"\",\"\",IF(J748=\"\",\"SIN RESPUESTA\",(IF(J748<=M748,\"A TIEMPO\",\"FUERA DE TIEMPO\"))))","v":"A TIEMPO"},{"$f":"IF(J748=\"\",\"\",NETWORKDAYS(C748+1,J748,DiasNOLaborables))","v":18},"",null,null,20]
[738,20219050049552,"2021-04-20","CIUDADANO","MODULO CONTACTENOS","SOLICITUD DE INFORMACIÓN Y DOCUMENTOS","ADMINISTRATIVA","SI","GRUPO DE ADMINISTRACIÓN Y DESARROLLO DEL TALENTO HUMANO","2021-05-03","CORREO ELECTRÓNICO",null,{"$f":"IFERROR(WORKDAY(C749,S748,DiasNOLaborables),\"\")","v":"2021-05-19"},{"$f":"+IF(C749=\"\",\"\",IF(J749=\"\",\"SIN RESPUESTA\",(IF(J749<=M749,\"A TIEMPO\",\"FUERA DE TIEMPO\"))))","v":"A TIEMPO"},{"$f":"IF(J749=\"\",\"\",NETWORKDAYS(C749+1,J749,DiasNOLaborables))","v":9},"",null,null,20]
[739,20219050049672,"2021-04-20","FUNCIONARIO IDEAM","MODULO CONTACTENOS","SOLICITUD DE INFORMACIÓN Y DOCUMENTOS","ADMINISTRATIVA","SI","GRUPO DE ADMINISTRACIÓN Y DESARROLLO DEL TALENTO HUMANO","2021-04-26","CORREO ELECTRÓNICO",null,{"$f":"IFERROR(WORKDAY(C750,S749,DiasNOLaborables),\"\")","v":"2021-05-19"},{"$f":"+IF(C750=\"\",\"\",IF(J750=\"\",\"SIN RESPUESTA\",(IF(J750<=M750,\"A TIEMPO\",\"FUERA DE TIEMPO\"))))","v":"A TIEMPO"},{"$f":"IF(J750=\"\",\"\",NETWORKDAYS(C750+1,J750,DiasNOLaborables))","v":4},"",null,null,20]
[740,20219050049462,"2021-04-20","FUNCIONARIO IDEAM","CORREO ELECTRÓNICO","SOLICITUD DE INFORMACIÓN Y DOCUMENTOS","ADMINISTRATIVA","SI","GRUPO DE ADMINISTRACIÓN Y DESARROLLO DEL TALENTO HUMANO","2021-04-23","CORREO ELECTRÓNICO",null,{"$f":"IFERROR(WORKDAY(C751,S750,DiasNOLaborables),\"\")","v":"2021-05-19"},{"$f":"+IF(C751=\"\",\"\",IF(J751=\"\",\"SIN RESPUESTA\",(IF(J751<=M751,\"A TIEMPO\",\"FUERA DE TIEMPO\"))))","v":"A TIEMPO"},{"$f":"IF(J751=\"\",\"\",NETWORKDAYS(C751+1,J751,DiasNOLaborables))","v":3},"",null,null,35]
[741,20219050049572,"2021-04-20","EMPRESA PRIVADA","CORREO ELECTRÓNICO","CERTIFICACIONES DE TIEMPO, CLIMA Y EVENTOS HIDROLÓGICOS","CERTIFICACIONES DE TIEMPO Y CLIMA","SI","SUBDIRECCIÓN DE METEOROLOGÍA","2021-05-12","CORREO ELECTRÓNICO",null,{"$f":"IFERROR(WORKDAY(C752,S751,DiasNOLaborables),\"\")","v":"2021-06-10"},{"$f":"+IF(C752=\"\",\"\",IF(J752=\"\",\"SIN RESPUESTA\",(IF(J752<=M752,\"A TIEMPO\",\"FUERA DE TIEMPO\"))))","v":"A TIEMPO"},{"$f":"IF(J752=\"\",\"\",NETWORKDAYS(C752+1,J752,DiasNOLaborables))","v":16},"",null,null,20]
[742,20219050049602,"2021-04-20","FUNCIONARIO IDEAM","CORREO ELECTRÓNICO","SOLICITUD DE INFORMACIÓN Y DOCUMENTOS","ADMINISTRATIVA","SI","GRUPO DE ADMINISTRACIÓN Y DESARROLLO DEL TALENTO HUMANO","2021-05-03","CORREO ELECTRÓNICO",null,{"$f":"IFERROR(WORKDAY(C753,S752,DiasNOLaborables),\"\")","v":"2021-05-19"},{"$f":"+IF(C753=\"\",\"\",IF(J753=\"\",\"SIN RESPUESTA\",(IF(J753<=M753,\"A TIEMPO\",\"FUERA DE TIEMPO\"))))","v":"A TIEMPO"},{"$f":"IF(J753=\"\",\"\",NETWORKDAYS(C753+1,J753,DiasNOLaborables))","v":9},"",null,null,30]
[743,20219050049652,"2021-04-20","ENTIDAD PÚBLICA","CORREO ELECTRÓNICO","PETICIÓN","CAMBIO CLIMÁTICO","SI","SUBDIRECCIÓN DE ESTUDIOS AMBIENTALES","2021-05-21","CORREO ELECTRÓNICO",null,{"$f":"IFERROR(WORKDAY(C754,S753,DiasNOLaborables),\"\")","v":"2021-06-02"},{"$f":"+IF(C754=\"\",\"\",IF(J754=\"\",\"SIN RESPUESTA\",(IF(J754<=M754,\"A TIEMPO\",\"FUERA DE TIEMPO\"))))","v":"A TIEMPO"},{"$f":"IF(J754=\"\",\"\",NETWORKDAYS(C754+1,J754,DiasNOLaborables))","v":22},"",null,null,20]
[744,20219050049362,"2021-04-20","ACADEMIA ","CORREO ELECTRÓNICO","SOLICITUD DE INFORMACIÓN Y DOCUMENTOS","SOLICITUD DE INFORMACIÓN HIDROMETEOROLÓGICA","NO","GRUPO DE SERVICIO AL CIUDADANO ","2021-05-18","CORREO ELECTRÓNICO",null,{"$f":"IFERROR(WORKDAY(C755,S754,DiasNOLaborables),\"\")","v":"2021-05-19"},{"$f":"+IF(C755=\"\",\"\",IF(J755=\"\",\"SIN RESPUESTA\",(IF(J755<=M755,\"A TIEMPO\",\"FUERA DE TIEMPO\"))))","v":"A TIEMPO"},{"$f":"IF(J755=\"\",\"\",NETWORKDAYS(C755+1,J755,DiasNOLaborables))","v":19},"",null,null,20]
[745,20219050049442,"2021-04-20","CIUDADANO","CORREO ELECTRÓNICO","SOLICITUD DE INFORMACIÓN Y DOCUMENTOS","SOLICITUD DE INFORMACIÓN HIDROMETEOROLÓGICA","NO","GRUPO DE SERVICIO AL CIUDADANO ","2021-05-18","CORREO ELECTRÓNICO",null,{"$f":"IFERROR(WORKDAY(C756,S755,DiasNOLaborables),\"\")","v":"2021-05-19"},{"$f":"+IF(C756=\"\",\"\",IF(J756=\"\",\"SIN RESPUESTA\",(IF(J756<=M756,\"A TIEMPO\",\"FUERA DE TIEMPO\"))))","v":"A TIEMPO"},{"$f":"IF(J756=\"\",\"\",NETWORKDAYS(C756+1,J756,DiasNOLaborables))","v":19},"",null,null,20]
[746,20219050049472,"2021-04-20","ACADEMIA ","CORREO ELECTRÓNICO","SOLICITUD DE INFORMACIÓN Y DOCUMENTOS","SOLICITUD DE INFORMACIÓN HIDROMETEOROLÓGICA","NO","GRUPO DE SERVICIO AL CIUDADANO ","2021-05-18","CORREO ELECTRÓNICO",null,{"$f":"IFERROR(WORKDAY(C757,S756,DiasNOLaborables),\"\")","v":"2021-05-19"},{"$f":"+IF(C757=\"\",\"\",IF(J757=\"\",\"SIN RESPUESTA\",(IF(J757<=M757,\"A TIEMPO\",\"FUERA DE TIEMPO\"))))","v":"A TIEMPO"},{"$f":"IF(J757=\"\",\"\",NETWORKDAYS(C757+1,J757,DiasNOLaborables))","v":19},"",null,null,20]
[747,20219050049522,"2021-04-20","CIUDADANO","CORREO ELECTRÓNICO","SOLICITUD DE INFORMACIÓN Y DOCUMENTOS","SOLICITUD DE INFORMACIÓN HIDROMETEOROLÓGICA","NO","GRUPO DE SERVICIO AL CIUDADANO ","2021-05-18","CORREO ELECTRÓNICO",null,{"$f":"IFERROR(WORKDAY(C758,S757,DiasNOLaborables),\"\")","v":"2021-05-19"},{"$f":"+IF(C758=\"\",\"\",IF(J758=\"\",\"SIN RESPUESTA\",(IF(J758<=M758,\"A TIEMPO\",\"FUERA DE TIEMPO\"))))","v":"A TIEMPO"},{"$f":"IF(J758=\"\",\"\",NETWORKDAYS(C758+1,J758,DiasNOLaborables))","v":19},"",null,null,20]
[748,20219050049542,"2021-04-20","CIUDADANO","MODULO CONTACTENOS","SOLICITUD DE INFORMACIÓN Y DOCUMENTOS","SOLICITUD DE INFORMACIÓN HIDROMETEOROLÓGICA","NO","GRUPO DE SERVICIO AL CIUDADANO ","2021-05-18","CORREO ELECTRÓNICO",null,{"$f":"IFERROR(WORKDAY(C759,S758,DiasNOLaborables),\"\")","v":"2021-05-19"},{"$f":"+IF(C759=\"\",\"\",IF(J759=\"\",\"SIN RESPUESTA\",(IF(J759<=M759,\"A TIEMPO\",\"FUERA DE TIEMPO\"))))","v":"A TIEMPO"},{"$f":"IF(J759=\"\",\"\",NETWORKDAYS(C759+1,J759,DiasNOLaborables))","v":19},"",null,null,20]
[749,20219050049592,"2021-04-20","CIUDADANO","CORREO ELECTRÓNICO","SOLICITUD DE INFORMACIÓN Y DOCUMENTOS","SOLICITUD DE INFORMACIÓN HIDROMETEOROLÓGICA","NO","GRUPO DE SERVICIO AL CIUDADANO ","2021-05-18","CORREO ELECTRÓNICO",null,{"$f":"IFERROR(WORKDAY(C760,S759,DiasNOLaborables),\"\")","v":"2021-05-19"},{"$f":"+IF(C760=\"\",\"\",IF(J760=\"\",\"SIN RESPUESTA\",(IF(J760<=M760,\"A TIEMPO\",\"FUERA DE TIEMPO\"))))","v":"A TIEMPO"},{"$f":"IF(J760=\"\",\"\",NETWORKDAYS(C760+1,J760,DiasNOLaborables))","v":19},"",null,null,20]
[750,20219050049632,"2021-04-20","CIUDADANO","MODULO CONTACTENOS","SOLICITUD DE INFORMACIÓN Y DOCUMENTOS","SOLICITUD DE INFORMACIÓN HIDROMETEOROLÓGICA","NO","GRUPO DE SERVICIO AL CIUDADANO ","2021-05-18","CORREO ELECTRÓNICO",null,{"$f":"IFERROR(WORKDAY(C761,S760,DiasNOLaborables),\"\")","v":"2021-05-19"},{"$f":"+IF(C761=\"\",\"\",IF(J761=\"\",\"SIN RESPUESTA\",(IF(J761<=M761,\"A TIEMPO\",\"FUERA DE TIEMPO\"))))","v":"A TIEMPO"},{"$f":"IF(J761=\"\",\"\",NETWORKDAYS(C761+1,J761,DiasNOLaborables))","v":19},"",null,null,20]
[751,20219050049662,"2021-04-20","ACADEMIA ","MODULO CONTACTENOS","SOLICITUD DE INFORMACIÓN Y DOCUMENTOS","SOLICITUD DE INFORMACIÓN HIDROMETEOROLÓGICA","SI","OFICINA DE INFORMÁTICA","2021-05-18","CORREO ELECTRÓNICO",null,{"$f":"IFERROR(WORKDAY(C762,S761,DiasNOLaborables),\"\")","v":"2021-05-19"},{"$f":"+IF(C762=\"\",\"\",IF(J762=\"\",\"SIN RESPUESTA\",(IF(J762<=M762,\"A TIEMPO\",\"FUERA DE TIEMPO\"))))","v":"A TIEMPO"},{"$f":"IF(J762=\"\",\"\",NETWORKDAYS(C762+1,J762,DiasNOLaborables))","v":19},"",null,null,20]
[752,20219050049682,"2021-04-20","CIUDADANO","MODULO CONTACTENOS","SOLICITUD DE INFORMACIÓN Y DOCUMENTOS","SOLICITUD DE INFORMACIÓN HIDROMETEOROLÓGICA","NO","GRUPO DE SERVICIO AL CIUDADANO ","2021-05-18","CORREO ELECTRÓNICO",null,{"$f":"IFERROR(WORKDAY(C763,S762,DiasNOLaborables),\"\")","v":"2021-05-19"},{"$f":"+IF(C763=\"\",\"\",IF(J763=\"\",\"SIN RESPUESTA\",(IF(J763<=M763,\"A TIEMPO\",\"FUERA DE TIEMPO\"))))","v":"A TIEMPO"},{"$f":"IF(J763=\"\",\"\",NETWORKDAYS(C763+1,J763,DiasNOLaborables))","v":19},"",null,null,20]
[753,20219050049232,"2021-04-20","CIUDADANO","MODULO CONTACTENOS","SOLICITUD DE INFORMACIÓN Y DOCUMENTOS","SOLICITUD DE INFORMACIÓN HIDROMETEOROLÓGICA","NO","GRUPO DE SERVICIO AL CIUDADANO ","2021-05-19","CORREO ELECTRÓNICO",null,{"$f":"IFERROR(WORKDAY(C764,S763,DiasNOLaborables),\"\")","v":"2021-05-19"},{"$f":"+IF(C764=\"\",\"\",IF(J764=\"\",\"SIN RESPUESTA\",(IF(J764<=M764,\"A TIEMPO\",\"FUERA DE TIEMPO\"))))","v":"A TIEMPO"},{"$f":"IF(J764=\"\",\"\",NETWORKDAYS(C764+1,J764,DiasNOLaborables))","v":20},"",null,null,20]
[754,20219050049272,"2021-04-20","CIUDADANO","MODULO CONTACTENOS","SOLICITUD DE INFORMACIÓN Y DOCUMENTOS","SOLICITUD DE INFORMACIÓN HIDROMETEOROLÓGICA","NO","GRUPO DE SERVICIO AL CIUDADANO ","2021-05-19","CORREO ELECTRÓNICO",null,{"$f":"IFERROR(WORKDAY(C765,S764,DiasNOLaborables),\"\")","v":"2021-05-19"},{"$f":"+IF(C765=\"\",\"\",IF(J765=\"\",\"SIN RESPUESTA\",(IF(J765<=M765,\"A TIEMPO\",\"FUERA DE TIEMPO\"))))","v":"A TIEMPO"},{"$f":"IF(J765=\"\",\"\",NETWORKDAYS(C765+1,J765,DiasNOLaborables))","v":20},"",null,null,20]
[755,20219050050252,"2021-04-21","CIUDADANO","MODULO CONTACTENOS","SOLICITUD DE INFORMACIÓN Y DOCUMENTOS","SOLICITUD DE INFORMACIÓN HIDROMETEOROLÓGICA","NO","GRUPO DE SERVICIO AL CIUDADANO ","2021-05-20","CORREO ELECTRÓNICO",null,{"$f":"IFERROR(WORKDAY(C766,S765,DiasNOLaborables),\"\")","v":"2021-05-20"},{"$f":"+IF(C766=\"\",\"\",IF(J766=\"\",\"SIN RESPUESTA\",(IF(J766<=M766,\"A TIEMPO\",\"FUERA DE TIEMPO\"))))","v":"A TIEMPO"},{"$f":"IF(J766=\"\",\"\",NETWORKDAYS(C766+1,J766,DiasNOLaborables))","v":20},"",null,null,20]
[756,20219050050112,"2021-04-21","CIUDADANO","MODULO CONTACTENOS","SOLICITUD DE INFORMACIÓN Y DOCUMENTOS","SOLICITUD DE INFORMACIÓN HIDROMETEOROLÓGICA","NO","GRUPO DE SERVICIO AL CIUDADANO ","2021-05-20","CORREO ELECTRÓNICO",null,{"$f":"IFERROR(WORKDAY(C767,S766,DiasNOLaborables),\"\")","v":"2021-05-20"},{"$f":"+IF(C767=\"\",\"\",IF(J767=\"\",\"SIN RESPUESTA\",(IF(J767<=M767,\"A TIEMPO\",\"FUERA DE TIEMPO\"))))","v":"A TIEMPO"},{"$f":"IF(J767=\"\",\"\",NETWORKDAYS(C767+1,J767,DiasNOLaborables))","v":20},"",null,null,20]
[757,20219050050092,"2021-04-21","ACADEMIA","MODULO CONTACTENOS","SOLICITUD DE INFORMACIÓN Y DOCUMENTOS","SOLICITUD DE INFORMACIÓN HIDROMETEOROLÓGICA","NO","GRUPO DE SERVICIO AL CIUDADANO ","2021-05-20","CORREO ELECTRÓNICO",null,{"$f":"IFERROR(WORKDAY(C768,S767,DiasNOLaborables),\"\")","v":"2021-05-20"},{"$f":"+IF(C768=\"\",\"\",IF(J768=\"\",\"SIN RESPUESTA\",(IF(J768<=M768,\"A TIEMPO\",\"FUERA DE TIEMPO\"))))","v":"A TIEMPO"},{"$f":"IF(J768=\"\",\"\",NETWORKDAYS(C768+1,J768,DiasNOLaborables))","v":20},"",null,null,20]
[758,20219050050052,"2021-04-21","CIUDADANO","MODULO CONTACTENOS","SOLICITUD DE INFORMACIÓN Y DOCUMENTOS","SOLICITUD DE INFORMACIÓN HIDROMETEOROLÓGICA","NO","GRUPO DE SERVICIO AL CIUDADANO ","2021-05-20","CORREO ELECTRÓNICO",null,{"$f":"IFERROR(WORKDAY(C769,S768,DiasNOLaborables),\"\")","v":"2021-05-20"},{"$f":"+IF(C769=\"\",\"\",IF(J769=\"\",\"SIN RESPUESTA\",(IF(J769<=M769,\"A TIEMPO\",\"FUERA DE TIEMPO\"))))","v":"A TIEMPO"},{"$f":"IF(J769=\"\",\"\",NETWORKDAYS(C769+1,J769,DiasNOLaborables))","v":20},"",null,null,20]
[759,20219050050042,"2021-04-21","CIUDADANO","MODULO CONTACTENOS","SOLICITUD DE INFORMACIÓN Y DOCUMENTOS","SOLICITUD DE INFORMACIÓN HIDROMETEOROLÓGICA","NO","GRUPO DE SERVICIO AL CIUDADANO ","2021-05-20","CORREO ELECTRÓNICO",null,{"$f":"IFERROR(WORKDAY(C770,S769,DiasNOLaborables),\"\")","v":"2021-05-20"},{"$f":"+IF(C770=\"\",\"\",IF(J770=\"\",\"SIN RESPUESTA\",(IF(J770<=M770,\"A TIEMPO\",\"FUERA DE TIEMPO\"))))","v":"A TIEMPO"},{"$f":"IF(J770=\"\",\"\",NETWORKDAYS(C770+1,J770,DiasNOLaborables))","v":20},"",null,null,20]
[760,20219050050032,"2021-04-21","ACADEMIA","MODULO CONTACTENOS","SOLICITUD DE INFORMACIÓN Y DOCUMENTOS","SOLICITUD DE INFORMACIÓN HIDROMETEOROLÓGICA","NO","GRUPO DE SERVICIO AL CIUDADANO ","2021-05-20","CORREO ELECTRÓNICO",null,{"$f":"IFERROR(WORKDAY(C771,S770,DiasNOLaborables),\"\")","v":"2021-05-20"},{"$f":"+IF(C771=\"\",\"\",IF(J771=\"\",\"SIN RESPUESTA\",(IF(J771<=M771,\"A TIEMPO\",\"FUERA DE TIEMPO\"))))","v":"A TIEMPO"},{"$f":"IF(J771=\"\",\"\",NETWORKDAYS(C771+1,J771,DiasNOLaborables))","v":20},"",null,null,20]
[761,20219050050002,"2021-04-21","CIUDADANO","MODULO CONTACTENOS","SOLICITUD DE INFORMACIÓN Y DOCUMENTOS","SOLICITUD DE INFORMACIÓN HIDROMETEOROLÓGICA","NO","GRUPO DE SERVICIO AL CIUDADANO ","2021-05-20","CORREO ELECTRÓNICO",null,{"$f":"IFERROR(WORKDAY(C772,S771,DiasNOLaborables),\"\")","v":"2021-05-20"},{"$f":"+IF(C772=\"\",\"\",IF(J772=\"\",\"SIN RESPUESTA\",(IF(J772<=M772,\"A TIEMPO\",\"FUERA DE TIEMPO\"))))","v":"A TIEMPO"},{"$f":"IF(J772=\"\",\"\",NETWORKDAYS(C772+1,J772,DiasNOLaborables))","v":20},"",null,null,20]
[762,20219050049992,"2021-04-21","ACADEMIA","MODULO CONTACTENOS","SOLICITUD DE INFORMACIÓN Y DOCUMENTOS","SOLICITUD DE INFORMACIÓN HIDROMETEOROLÓGICA","NO","GRUPO DE SERVICIO AL CIUDADANO ","2021-05-20","CORREO ELECTRÓNICO",null,{"$f":"IFERROR(WORKDAY(C773,S772,DiasNOLaborables),\"\")","v":"2021-05-20"},{"$f":"+IF(C773=\"\",\"\",IF(J773=\"\",\"SIN RESPUESTA\",(IF(J773<=M773,\"A TIEMPO\",\"FUERA DE TIEMPO\"))))","v":"A TIEMPO"},{"$f":"IF(J773=\"\",\"\",NETWORKDAYS(C773+1,J773,DiasNOLaborables))","v":20},"",null,null,20]
[763,20219050049922,"2021-04-21","CIUDADANO","MODULO CONTACTENOS","SOLICITUD DE INFORMACIÓN Y DOCUMENTOS","SOLICITUD DE INFORMACIÓN HIDROMETEOROLÓGICA","NO","GRUPO DE SERVICIO AL CIUDADANO ","2021-05-20","CORREO ELECTRÓNICO",null,{"$f":"IFERROR(WORKDAY(C774,S773,DiasNOLaborables),\"\")","v":"2021-05-20"},{"$f":"+IF(C774=\"\",\"\",IF(J774=\"\",\"SIN RESPUESTA\",(IF(J774<=M774,\"A TIEMPO\",\"FUERA DE TIEMPO\"))))","v":"A TIEMPO"},{"$f":"IF(J774=\"\",\"\",NETWORKDAYS(C774+1,J774,DiasNOLaborables))","v":20},"",null,null,20]
[764,20219050049812,"2021-04-21","CIUDADANO","MODULO CONTACTENOS","SOLICITUD DE INFORMACIÓN Y DOCUMENTOS","SOLICITUD DE INFORMACIÓN HIDROMETEOROLÓGICA","NO","GRUPO DE SERVICIO AL CIUDADANO ","2021-05-19","CORREO ELECTRÓNICO",null,{"$f":"IFERROR(WORKDAY(C775,S774,DiasNOLaborables),\"\")","v":"2021-05-20"},{"$f":"+IF(C775=\"\",\"\",IF(J775=\"\",\"SIN RESPUESTA\",(IF(J775<=M775,\"A TIEMPO\",\"FUERA DE TIEMPO\"))))","v":"A TIEMPO"},{"$f":"IF(J775=\"\",\"\",NETWORKDAYS(C775+1,J775,DiasNOLaborables))","v":19},"",null,null,20]
[765,20219050049832,"2021-04-21","CIUDADANO","MODULO CONTACTENOS","SOLICITUD DE INFORMACIÓN Y DOCUMENTOS","SOLICITUD DE INFORMACIÓN HIDROMETEOROLÓGICA","NO","GRUPO DE SERVICIO AL CIUDADANO ","2021-05-19","CORREO ELECTRÓNICO",null,{"$f":"IFERROR(WORKDAY(C776,S775,DiasNOLaborables),\"\")","v":"2021-05-20"},{"$f":"+IF(C776=\"\",\"\",IF(J776=\"\",\"SIN RESPUESTA\",(IF(J776<=M776,\"A TIEMPO\",\"FUERA DE TIEMPO\"))))","v":"A TIEMPO"},{"$f":"IF(J776=\"\",\"\",NETWORKDAYS(C776+1,J776,DiasNOLaborables))","v":19},"",null,null,20]
[766,20219050049862,"2021-04-21","CIUDADANO","MODULO CONTACTENOS","SOLICITUD DE INFORMACIÓN Y DOCUMENTOS","SOLICITUD DE INFORMACIÓN HIDROMETEOROLÓGICA","NO","GRUPO DE SERVICIO AL CIUDADANO ","2021-05-20","CORREO ELECTRÓNICO",null,{"$f":"IFERROR(WORKDAY(C777,S776,DiasNOLaborables),\"\")","v":"2021-05-20"},{"$f":"+IF(C777=\"\",\"\",IF(J777=\"\",\"SIN RESPUESTA\",(IF(J777<=M777,\"A TIEMPO\",\"FUERA DE TIEMPO\"))))","v":"A TIEMPO"},{"$f":"IF(J777=\"\",\"\",NETWORKDAYS(C777+1,J777,DiasNOLaborables))","v":20},{"$f":"IF(NETWORKDAYS(M777+1,J777,DiasNOLaborables)<=0,\"\",NETWORKDAYS(M777+1,J777,DiasNOLaborables))","v":""},null,null,20]
[767,20219050049872,"2021-04-21","ACADEMIA","MODULO CONTACTENOS","SOLICITUD DE INFORMACIÓN Y DOCUMENTOS","SOLICITUD DE INFORMACIÓN HIDROMETEOROLÓGICA","NO","GRUPO DE SERVICIO AL CIUDADANO ","2021-05-20","CORREO ELECTRÓNICO",null,{"$f":"IFERROR(WORKDAY(C778,S777,DiasNOLaborables),\"\")","v":"2021-05-20"},{"$f":"+IF(C778=\"\",\"\",IF(J778=\"\",\"SIN RESPUESTA\",(IF(J778<=M778,\"A TIEMPO\",\"FUERA DE TIEMPO\"))))","v":"A TIEMPO"},{"$f":"IF(J778=\"\",\"\",NETWORKDAYS(C778+1,J778,DiasNOLaborables))","v":20},"",null,null,20]
[768,20219050049882,"2021-04-21","CIUDADANO","MODULO CONTACTENOS","SOLICITUD DE INFORMACIÓN Y DOCUMENTOS","SOLICITUD DE INFORMACIÓN HIDROMETEOROLÓGICA","NO","GRUPO DE SERVICIO AL CIUDADANO ","2021-05-20","CORREO ELECTRÓNICO",null,{"$f":"IFERROR(WORKDAY(C779,S778,DiasNOLaborables),\"\")","v":"2021-05-20"},{"$f":"+IF(C779=\"\",\"\",IF(J779=\"\",\"SIN RESPUESTA\",(IF(J779<=M779,\"A TIEMPO\",\"FUERA DE TIEMPO\"))))","v":"A TIEMPO"},{"$f":"IF(J779=\"\",\"\",NETWORKDAYS(C779+1,J779,DiasNOLaborables))","v":20},"",null,null,20]
[769,20219050049892,"2021-04-21","ACADEMIA","MODULO CONTACTENOS","SOLICITUD DE INFORMACIÓN Y DOCUMENTOS","SOLICITUD DE INFORMACIÓN HIDROMETEOROLÓGICA","NO","GRUPO DE SERVICIO AL CIUDADANO ","2021-05-20","CORREO ELECTRÓNICO",null,{"$f":"IFERROR(WORKDAY(C780,S779,DiasNOLaborables),\"\")","v":"2021-05-20"},{"$f":"+IF(C780=\"\",\"\",IF(J780=\"\",\"SIN RESPUESTA\",(IF(J780<=M780,\"A TIEMPO\",\"FUERA DE TIEMPO\"))))","v":"A TIEMPO"},{"$f":"IF(J780=\"\",\"\",NETWORKDAYS(C780+1,J780,DiasNOLaborables))","v":20},"",null,null,20]
[770,20219050049902,"2021-04-21","CIUDADANO","MODULO CONTACTENOS","SOLICITUD DE INFORMACIÓN Y DOCUMENTOS","SOLICITUD DE INFORMACIÓN HIDROMETEOROLÓGICA","NO","GRUPO DE SERVICIO AL CIUDADANO ","2021-05-20","CORREO ELECTRÓNICO",null,{"$f":"IFERROR(WORKDAY(C781,S780,DiasNOLaborables),\"\")","v":"2021-05-20"},{"$f":"+IF(C781=\"\",\"\",IF(J781=\"\",\"SIN RESPUESTA\",(IF(J781<=M781,\"A TIEMPO\",\"FUERA DE TIEMPO\"))))","v":"A TIEMPO"},{"$f":"IF(J781=\"\",\"\",NETWORKDAYS(C781+1,J781,DiasNOLaborables))","v":20},"",null,null,{"$f":"IFERROR(VLOOKUP(F782,$AA$51:$AB$64,2),\"\")","v":20}]
[{"$f":"IF(B782<>\"\",A781+1,\"\")","v":771},20219050049912,"2021-04-21","ACADEMIA","MODULO CONTACTENOS","SOLICITUD DE INFORMACIÓN Y DOCUMENTOS","SOLICITUD DE INFORMACIÓN HIDROMETEOROLÓGICA","NO","GRUPO DE SERVICIO AL CIUDADANO ","2021-05-20","CORREO ELECTRÓNICO",null,{"$f":"IFERROR(WORKDAY(C782,S781,DiasNOLaborables),\"\")","v":"2021-05-20"},{"$f":"+IF(C782=\"\",\"\",IF(J782=\"\",\"SIN RESPUESTA\",(IF(J782<=M782,\"A TIEMPO\",\"FUERA DE TIEMPO\"))))","v":"A TIEMPO"},{"$f":"IF(J782=\"\",\"\",NETWORKDAYS(C782+1,J782,DiasNOLaborables))","v":20},"",null,null,20]
[772,20219050049952,"2021-04-21","CIUDADANO","MODULO CONTACTENOS","SOLICITUD DE INFORMACIÓN Y DOCUMENTOS","SOLICITUD DE INFORMACIÓN HIDROMETEOROLÓGICA","NO","GRUPO DE SERVICIO AL CIUDADANO ","2021-05-20","CORREO ELECTRÓNICO",null,{"$f":"IFERROR(WORKDAY(C783,S782,DiasNOLaborables),\"\")","v":"2021-05-20"},{"$f":"+IF(C783=\"\",\"\",IF(J783=\"\",\"SIN RESPUESTA\",(IF(J783<=M783,\"A TIEMPO\",\"FUERA DE TIEMPO\"))))","v":"A TIEMPO"},{"$f":"IF(J783=\"\",\"\",NETWORKDAYS(C783+1,J783,DiasNOLaborables))","v":20},"",null,null,20]
[773,20219050049712,"2021-04-21","CIUDADANO","MODULO CONTACTENOS","SOLICITUD DE INFORMACIÓN Y DOCUMENTOS","SOLICITUD DE INFORMACIÓN HIDROMETEOROLÓGICA","NO","GRUPO DE SERVICIO AL CIUDADANO ","2021-05-18","CORREO ELECTRÓNICO",null,{"$f":"IFERROR(WORKDAY(C784,S783,DiasNOLaborables),\"\")","v":"2021-05-20"},{"$f":"+IF(C784=\"\",\"\",IF(J784=\"\",\"SIN RESPUESTA\",(IF(J784<=M784,\"A TIEMPO\",\"FUERA DE TIEMPO\"))))","v":"A TIEMPO"},{"$f":"IF(J784=\"\",\"\",NETWORKDAYS(C784+1,J784,DiasNOLaborables))","v":18},"",null,null,20]
[774,20219050049722,"2021-04-21","CIUDADANO","MODULO CONTACTENOS","SOLICITUD DE INFORMACIÓN Y DOCUMENTOS","SOLICITUD DE INFORMACIÓN HIDROMETEOROLÓGICA","NO","GRUPO DE SERVICIO AL CIUDADANO ","2021-05-18","CORREO ELECTRÓNICO",null,{"$f":"IFERROR(WORKDAY(C785,S784,DiasNOLaborables),\"\")","v":"2021-05-20"},{"$f":"+IF(C785=\"\",\"\",IF(J785=\"\",\"SIN RESPUESTA\",(IF(J785<=M785,\"A TIEMPO\",\"FUERA DE TIEMPO\"))))","v":"A TIEMPO"},{"$f":"IF(J785=\"\",\"\",NETWORKDAYS(C785+1,J785,DiasNOLaborables))","v":18},"",null,null,20]
[775,20219050049732,"2021-04-21","CIUDADANO","MODULO CONTACTENOS","SOLICITUD DE INFORMACIÓN Y DOCUMENTOS","SOLICITUD DE INFORMACIÓN HIDROMETEOROLÓGICA","NO","GRUPO DE SERVICIO AL CIUDADANO ","2021-05-18","CORREO ELECTRÓNICO",null,{"$f":"IFERROR(WORKDAY(C786,S785,DiasNOLaborables),\"\")","v":"2021-05-20"},{"$f":"+IF(C786=\"\",\"\",IF(J786=\"\",\"SIN RESPUESTA\",(IF(J786<=M786,\"A TIEMPO\",\"FUERA DE TIEMPO\"))))","v":"A TIEMPO"},{"$f":"IF(J786=\"\",\"\",NETWORKDAYS(C786+1,J786,DiasNOLaborables))","v":18},"",null,null,20]
[776,20219050049802,"2021-04-21","CIUDADANO","MODULO CONTACTENOS","SOLICITUD DE INFORMACIÓN Y DOCUMENTOS","SOLICITUD DE INFORMACIÓN HIDROMETEOROLÓGICA","NO","GRUPO DE SERVICIO AL CIUDADANO ","2021-05-19","CORREO ELECTRÓNICO",null,{"$f":"IFERROR(WORKDAY(C787,S786,DiasNOLaborables),\"\")","v":"2021-05-20"},{"$f":"+IF(C787=\"\",\"\",IF(J787=\"\",\"SIN RESPUESTA\",(IF(J787<=M787,\"A TIEMPO\",\"FUERA DE TIEMPO\"))))","v":"A TIEMPO"},{"$f":"IF(J787=\"\",\"\",NETWORKDAYS(C787+1,J787,DiasNOLaborables))","v":19},"",null,null,20]
[777,20219050050272,"2021-04-21","CIUDADANO","MODULO CONTACTENOS","SOLICITUD DE INFORMACIÓN Y DOCUMENTOS","SOLICITUD DE INFORMACIÓN HIDROMETEOROLÓGICA","SI","OFICINA DE INFORMÁTICA","2021-05-19","CORREO ELECTRÓNICO",null,{"$f":"IFERROR(WORKDAY(C788,S787,DiasNOLaborables),\"\")","v":"2021-05-20"},{"$f":"+IF(C788=\"\",\"\",IF(J788=\"\",\"SIN RESPUESTA\",(IF(J788<=M788,\"A TIEMPO\",\"FUERA DE TIEMPO\"))))","v":"A TIEMPO"},{"$f":"IF(J788=\"\",\"\",NETWORKDAYS(C788+1,J788,DiasNOLaborables))","v":19},"",null,null,20]
[778,20219050050292,"2021-04-21","EMPRESA PRIVADA","MODULO CONTACTENOS","SOLICITUD DE INFORMACIÓN Y DOCUMENTOS","SOLICITUD DE INFORMACIÓN HIDROMETEOROLÓGICA","NO","GRUPO DE SERVICIO AL CIUDADANO ","2021-05-19","CORREO ELECTRÓNICO",null,{"$f":"IFERROR(WORKDAY(C789,S788,DiasNOLaborables),\"\")","v":"2021-05-20"},{"$f":"+IF(C789=\"\",\"\",IF(J789=\"\",\"SIN RESPUESTA\",(IF(J789<=M789,\"A TIEMPO\",\"FUERA DE TIEMPO\"))))","v":"A TIEMPO"},{"$f":"IF(J789=\"\",\"\",NETWORKDAYS(C789+1,J789,DiasNOLaborables))","v":19},"",null,null,20]
[779,20219050050362,"2021-04-21","CIUDADANO","MODULO CONTACTENOS","SOLICITUD DE INFORMACIÓN Y DOCUMENTOS","SOLICITUD DE INFORMACIÓN HIDROMETEOROLÓGICA","SI","OFICINA DE INFORMÁTICA","2021-05-19","CORREO ELECTRÓNICO",null,{"$f":"IFERROR(WORKDAY(C790,S789,DiasNOLaborables),\"\")","v":"2021-05-20"},{"$f":"+IF(C790=\"\",\"\",IF(J790=\"\",\"SIN RESPUESTA\",(IF(J790<=M790,\"A TIEMPO\",\"FUERA DE TIEMPO\"))))","v":"A TIEMPO"},{"$f":"IF(J790=\"\",\"\",NETWORKDAYS(C790+1,J790,DiasNOLaborables))","v":19},"",null,null,20]
[780,20219050050372,"2021-04-21","CIUDADANO","MODULO CONTACTENOS","SOLICITUD DE INFORMACIÓN Y DOCUMENTOS","SOLICITUD DE INFORMACIÓN HIDROMETEOROLÓGICA","SI","OFICINA DE INFORMÁTICA","2021-05-19","CORREO ELECTRÓNICO",null,{"$f":"IFERROR(WORKDAY(C791,S790,DiasNOLaborables),\"\")","v":"2021-05-20"},{"$f":"+IF(C791=\"\",\"\",IF(J791=\"\",\"SIN RESPUESTA\",(IF(J791<=M791,\"A TIEMPO\",\"FUERA DE TIEMPO\"))))","v":"A TIEMPO"},{"$f":"IF(J791=\"\",\"\",NETWORKDAYS(C791+1,J791,DiasNOLaborables))","v":19},"",null,null,20]
[781,20219050050382,"2021-04-21","ACADEMIA ","MODULO CONTACTENOS","SOLICITUD DE INFORMACIÓN Y DOCUMENTOS","SOLICITUD DE INFORMACIÓN HIDROMETEOROLÓGICA","NO","GRUPO DE SERVICIO AL CIUDADANO ","2021-05-19","CORREO ELECTRÓNICO",null,{"$f":"IFERROR(WORKDAY(C792,S791,DiasNOLaborables),\"\")","v":"2021-05-20"},{"$f":"+IF(C792=\"\",\"\",IF(J792=\"\",\"SIN RESPUESTA\",(IF(J792<=M792,\"A TIEMPO\",\"FUERA DE TIEMPO\"))))","v":"A TIEMPO"},{"$f":"IF(J792=\"\",\"\",NETWORKDAYS(C792+1,J792,DiasNOLaborables))","v":19},"",null,null,20]
[782,20219050050392,"2021-04-21","CIUDADANO","MODULO CONTACTENOS","SOLICITUD DE INFORMACIÓN Y DOCUMENTOS","SOLICITUD DE INFORMACIÓN HIDROMETEOROLÓGICA","SI","OFICINA DE INFORMÁTICA","2021-05-19","CORREO ELECTRÓNICO",null,{"$f":"IFERROR(WORKDAY(C793,S792,DiasNOLaborables),\"\")","v":"2021-05-20"},{"$f":"+IF(C793=\"\",\"\",IF(J793=\"\",\"SIN RESPUESTA\",(IF(J793<=M793,\"A TIEMPO\",\"FUERA DE TIEMPO\"))))","v":"A TIEMPO"},{"$f":"IF(J793=\"\",\"\",NETWORKDAYS(C793+1,J793,DiasNOLaborables))","v":19},"",null,null,20]
[783,20219050050402,"2021-04-21","ACADEMIA ","MODULO CONTACTENOS","SOLICITUD DE INFORMACIÓN Y DOCUMENTOS","SOLICITUD DE INFORMACIÓN HIDROMETEOROLÓGICA","NO","GRUPO DE SERVICIO AL CIUDADANO ","2021-05-20","CORREO ELECTRÓNICO",null,{"$f":"IFERROR(WORKDAY(C794,S793,DiasNOLaborables),\"\")","v":"2021-05-20"},{"$f":"+IF(C794=\"\",\"\",IF(J794=\"\",\"SIN RESPUESTA\",(IF(J794<=M794,\"A TIEMPO\",\"FUERA DE TIEMPO\"))))","v":"A TIEMPO"},{"$f":"IF(J794=\"\",\"\",NETWORKDAYS(C794+1,J794,DiasNOLaborables))","v":20},"",null,null,20]
[784,20219050050412,"2021-04-21","CIUDADANO","MODULO CONTACTENOS","SOLICITUD DE INFORMACIÓN Y DOCUMENTOS","SOLICITUD DE INFORMACIÓN HIDROMETEOROLÓGICA","NO","GRUPO DE SERVICIO AL CIUDADANO ","2021-05-20","CORREO ELECTRÓNICO",null,{"$f":"IFERROR(WORKDAY(C795,S794,DiasNOLaborables),\"\")","v":"2021-05-20"},{"$f":"+IF(C795=\"\",\"\",IF(J795=\"\",\"SIN RESPUESTA\",(IF(J795<=M795,\"A TIEMPO\",\"FUERA DE TIEMPO\"))))","v":"A TIEMPO"},{"$f":"IF(J795=\"\",\"\",NETWORKDAYS(C795+1,J795,DiasNOLaborables))","v":20},"",null,null,20]
[785,20219050050422,"2021-04-21","ACADEMIA ","MODULO CONTACTENOS","SOLICITUD DE INFORMACIÓN Y DOCUMENTOS","SOLICITUD DE INFORMACIÓN HIDROMETEOROLÓGICA","NO","GRUPO DE SERVICIO AL CIUDADANO ","2021-05-20","CORREO ELECTRÓNICO",null,{"$f":"IFERROR(WORKDAY(C796,S795,DiasNOLaborables),\"\")","v":"2021-05-20"},{"$f":"+IF(C796=\"\",\"\",IF(J796=\"\",\"SIN RESPUESTA\",(IF(J796<=M796,\"A TIEMPO\",\"FUERA DE TIEMPO\"))))","v":"A TIEMPO"},{"$f":"IF(J796=\"\",\"\",NETWORKDAYS(C796+1,J796,DiasNOLaborables))","v":20},"",null,null,20]
[786,20219050049932,"2021-04-21","EMPRESA PRIVADA","CORREO ELECTRÓNICO","SOLICITUD DE INFORMACIÓN Y DOCUMENTOS","REGISTROS AMBIENTALES","SI","SUBDIRECCIÓN DE ESTUDIOS AMBIENTALES","2021-04-28","CORREO ELECTRÓNICO",null,{"$f":"IFERROR(WORKDAY(C797,S796,DiasNOLaborables),\"\")","v":"2021-05-20"},{"$f":"+IF(C797=\"\",\"\",IF(J797=\"\",\"SIN RESPUESTA\",(IF(J797<=M797,\"A TIEMPO\",\"FUERA DE TIEMPO\"))))","v":"A TIEMPO"},{"$f":"IF(J797=\"\",\"\",NETWORKDAYS(C797+1,J797,DiasNOLaborables))","v":5},"",null,null,20]
[787,20219050049852,"2021-04-21","ENTIDAD PÚBLICA","CORREO ELECTRÓNICO","SOLICITUD DE INFORMACIÓN Y DOCUMENTOS","ADMINISTRATIVA","SI","OFICINA DE INFORMÁTICA","2021-04-27","CORREO ELECTRÓNICO",null,{"$f":"IFERROR(WORKDAY(C798,S797,DiasNOLaborables),\"\")","v":"2021-05-20"},{"$f":"+IF(C798=\"\",\"\",IF(J798=\"\",\"SIN RESPUESTA\",(IF(J798<=M798,\"A TIEMPO\",\"FUERA DE TIEMPO\"))))","v":"A TIEMPO"},{"$f":"IF(J798=\"\",\"\",NETWORKDAYS(C798+1,J798,DiasNOLaborables))","v":4},"",null,null,5]
[788,20219050050302,"2021-04-21","ENTIDAD PÚBLICA","CORREO ELECTRÓNICO","SOLICITUD JUDICIAL","CERTIFICACIONES DE TIEMPO Y CLIMA","SI","SUBDIRECCIÓN DE METEOROLOGÍA","2021-04-28","CORREO ELECTRÓNICO",null,{"$f":"IFERROR(WORKDAY(C799,S798,DiasNOLaborables),\"\")","v":"2021-04-28"},{"$f":"+IF(C799=\"\",\"\",IF(J799=\"\",\"SIN RESPUESTA\",(IF(J799<=M799,\"A TIEMPO\",\"FUERA DE TIEMPO\"))))","v":"A TIEMPO"},{"$f":"IF(J799=\"\",\"\",NETWORKDAYS(C799+1,J799,DiasNOLaborables))","v":5},"",null,null,20]
[789,20219050050312,"2021-04-21","ENTIDAD PÚBLICA","CORREO ELECTRÓNICO","SOLICITUD DE INFORMACIÓN Y DOCUMENTOS","ADMINISTRATIVA","SI","GRUPO DE TESORERÍA","2021-04-22","CORREO ELECTRÓNICO",null,{"$f":"IFERROR(WORKDAY(C800,S799,DiasNOLaborables),\"\")","v":"2021-05-20"},{"$f":"+IF(C800=\"\",\"\",IF(J800=\"\",\"SIN RESPUESTA\",(IF(J800<=M800,\"A TIEMPO\",\"FUERA DE TIEMPO\"))))","v":"A TIEMPO"},{"$f":"IF(J800=\"\",\"\",NETWORKDAYS(C800+1,J800,DiasNOLaborables))","v":1},"",null,null,20]
[790,20219050049842,"2021-04-21","FUNCIONARIO IDEAM","MODULO CONTACTENOS","SOLICITUD DE INFORMACIÓN Y DOCUMENTOS","ADMINISTRATIVA","SI","GRUPO DE ADMINISTRACIÓN Y DESARROLLO DEL TALENTO HUMANO","2021-04-23","CORREO ELECTRÓNICO",null,{"$f":"IFERROR(WORKDAY(C801,S800,DiasNOLaborables),\"\")","v":"2021-05-20"},{"$f":"+IF(C801=\"\",\"\",IF(J801=\"\",\"SIN RESPUESTA\",(IF(J801<=M801,\"A TIEMPO\",\"FUERA DE TIEMPO\"))))","v":"A TIEMPO"},{"$f":"IF(J801=\"\",\"\",NETWORKDAYS(C801+1,J801,DiasNOLaborables))","v":2},"",null,null,20]
[791,20217070000292,"2021-04-21","CIUDADANO","MODULO CONTACTENOS","SOLICITUD DE INFORMACIÓN Y DOCUMENTOS","JURIDICO","SI","OFICINA ASESORA JURÍDICA","2021-05-12","CORREO ELECTRÓNICO",null,{"$f":"IFERROR(WORKDAY(C802,S801,DiasNOLaborables),\"\")","v":"2021-05-20"},{"$f":"+IF(C802=\"\",\"\",IF(J802=\"\",\"SIN RESPUESTA\",(IF(J802<=M802,\"A TIEMPO\",\"FUERA DE TIEMPO\"))))","v":"A TIEMPO"},{"$f":"IF(J802=\"\",\"\",NETWORKDAYS(C802+1,J802,DiasNOLaborables))","v":15},"",null,null,20]
[792,20219050049942,"2021-04-21","FUNCIONARIO IDEAM","MODULO CONTACTENOS","SOLICITUD DE INFORMACIÓN Y DOCUMENTOS","ADMINISTRATIVA","SI","OFICINA ASESORA JURÍDICA","2021-04-23","CORREO ELECTRÓNICO",null,{"$f":"IFERROR(WORKDAY(C803,S802,DiasNOLaborables),\"\")","v":"2021-05-20"},{"$f":"+IF(C803=\"\",\"\",IF(J803=\"\",\"SIN RESPUESTA\",(IF(J803<=M803,\"A TIEMPO\",\"FUERA DE TIEMPO\"))))","v":"A TIEMPO"},{"$f":"IF(J803=\"\",\"\",NETWORKDAYS(C803+1,J803,DiasNOLaborables))","v":2},"",null,null,20]
[793,20219050050102,"2021-04-21","CIUDADANO","MODULO CONTACTENOS","SOLICITUD DE INFORMACIÓN Y DOCUMENTOS","SUELOS Y TIERRAS","SI","SUBDIRECCIÓN DE ECOSISTEMAS E INFORMACIÓN AMBIENTAL","2021-04-27","CORREO ELECTRÓNICO",null,{"$f":"IFERROR(WORKDAY(C804,S803,DiasNOLaborables),\"\")","v":"2021-05-20"},{"$f":"+IF(C804=\"\",\"\",IF(J804=\"\",\"SIN RESPUESTA\",(IF(J804<=M804,\"A TIEMPO\",\"FUERA DE TIEMPO\"))))","v":"A TIEMPO"},{"$f":"IF(J804=\"\",\"\",NETWORKDAYS(C804+1,J804,DiasNOLaborables))","v":4},"",null,null,20]
[794,20219050050122,"2021-04-21","FUNCIONARIO IDEAM","MODULO CONTACTENOS","SOLICITUD DE INFORMACIÓN Y DOCUMENTOS","ADMINISTRATIVA","SI","GRUPO DE ADMINISTRACIÓN Y DESARROLLO DEL TALENTO HUMANO","2021-04-27","CORREO ELECTRÓNICO",null,{"$f":"IFERROR(WORKDAY(C805,S804,DiasNOLaborables),\"\")","v":"2021-05-20"},{"$f":"+IF(C805=\"\",\"\",IF(J805=\"\",\"SIN RESPUESTA\",(IF(J805<=M805,\"A TIEMPO\",\"FUERA DE TIEMPO\"))))","v":"A TIEMPO"},{"$f":"IF(J805=\"\",\"\",NETWORKDAYS(C805+1,J805,DiasNOLaborables))","v":4},"",null,null,20]
[795,20219050050242,"2021-04-21","CIUDADANO","MODULO CONTACTENOS","SOLICITUD DE INFORMACIÓN Y DOCUMENTOS","ADMINISTRATIVA","SI","GRUPO DE TESORERÍA","2021-04-30","CORREO ELECTRÓNICO",null,{"$f":"IFERROR(WORKDAY(C806,S805,DiasNOLaborables),\"\")","v":"2021-05-20"},{"$f":"+IF(C806=\"\",\"\",IF(J806=\"\",\"SIN RESPUESTA\",(IF(J806<=M806,\"A TIEMPO\",\"FUERA DE TIEMPO\"))))","v":"A TIEMPO"},{"$f":"IF(J806=\"\",\"\",NETWORKDAYS(C806+1,J806,DiasNOLaborables))","v":7},"",null,null,20]
[796,20219050049752,"2021-04-21","EMPRESA PRIVADA","CORREO ELECTRÓNICO","SOLICITUD DE INFORMACIÓN Y DOCUMENTOS","REGISTROS AMBIENTALES","SI","SUBDIRECCIÓN DE ESTUDIOS AMBIENTALES","2021-04-21","CORREO ELECTRÓNICO",null,{"$f":"IFERROR(WORKDAY(C807,S806,DiasNOLaborables),\"\")","v":"2021-05-20"},{"$f":"+IF(C807=\"\",\"\",IF(J807=\"\",\"SIN RESPUESTA\",(IF(J807<=M807,\"A TIEMPO\",\"FUERA DE TIEMPO\"))))","v":"A TIEMPO"},{"$f":"IF(J807=\"\",\"\",NETWORKDAYS(C807+1,J807,DiasNOLaborables))","v":-2},"",null,null,20]
[797,20219050049762,"2021-04-21","CIUDADANO","CORREO ELECTRÓNICO","SOLICITUD DE INFORMACIÓN Y DOCUMENTOS","REGISTROS AMBIENTALES","SI","SUBDIRECCIÓN DE ESTUDIOS AMBIENTALES","2021-04-21","CORREO ELECTRÓNICO",null,{"$f":"IFERROR(WORKDAY(C808,S807,DiasNOLaborables),\"\")","v":"2021-05-20"},{"$f":"+IF(C808=\"\",\"\",IF(J808=\"\",\"SIN RESPUESTA\",(IF(J808<=M808,\"A TIEMPO\",\"FUERA DE TIEMPO\"))))","v":"A TIEMPO"},{"$f":"IF(J808=\"\",\"\",NETWORKDAYS(C808+1,J808,DiasNOLaborables))","v":-2},"",null,null,20]
[798,20219050049772,"2021-04-21","CIUDADANO","CORREO ELECTRÓNICO","SOLICITUD DE INFORMACIÓN Y DOCUMENTOS","REGISTROS AMBIENTALES","SI","SUBDIRECCIÓN DE ESTUDIOS AMBIENTALES","2021-04-21","CORREO ELECTRÓNICO",null,{"$f":"IFERROR(WORKDAY(C809,S808,DiasNOLaborables),\"\")","v":"2021-05-20"},{"$f":"+IF(C809=\"\",\"\",IF(J809=\"\",\"SIN RESPUESTA\",(IF(J809<=M809,\"A TIEMPO\",\"FUERA DE TIEMPO\"))))","v":"A TIEMPO"},{"$f":"IF(J809=\"\",\"\",NETWORKDAYS(C809+1,J809,DiasNOLaborables))","v":-2},"",null,null,20]
[799,20219050049782,"2021-04-21","CIUDADANO","CORREO ELECTRÓNICO","SOLICITUD DE INFORMACIÓN Y DOCUMENTOS","REGISTROS AMBIENTALES","SI","SUBDIRECCIÓN DE ESTUDIOS AMBIENTALES","2021-04-21","CORREO ELECTRÓNICO",null,{"$f":"IFERROR(WORKDAY(C810,S809,DiasNOLaborables),\"\")","v":"2021-05-20"},{"$f":"+IF(C810=\"\",\"\",IF(J810=\"\",\"SIN RESPUESTA\",(IF(J810<=M810,\"A TIEMPO\",\"FUERA DE TIEMPO\"))))","v":"A TIEMPO"},{"$f":"IF(J810=\"\",\"\",NETWORKDAYS(C810+1,J810,DiasNOLaborables))","v":-2},"",null,null,20]
[800,20219050049792,"2021-04-21","EMPRESA PRIVADA","CORREO ELECTRÓNICO","SOLICITUD DE INFORMACIÓN Y DOCUMENTOS","REGISTROS AMBIENTALES","SI","SUBDIRECCIÓN DE ESTUDIOS AMBIENTALES","2021-04-21","CORREO ELECTRÓNICO",null,{"$f":"IFERROR(WORKDAY(C811,S810,DiasNOLaborables),\"\")","v":"2021-05-20"},{"$f":"+IF(C811=\"\",\"\",IF(J811=\"\",\"SIN RESPUESTA\",(IF(J811<=M811,\"A TIEMPO\",\"FUERA DE TIEMPO\"))))","v":"A TIEMPO"},{"$f":"IF(J811=\"\",\"\",NETWORKDAYS(C811+1,J811,DiasNOLaborables))","v":-2},"",null,null,20]
[801,20219050050552,"2021-04-22","CIUDADANO","CORREO ELECTRÓNICO","SOLICITUD DE INFORMACIÓN Y DOCUMENTOS","REGISTROS AMBIENTALES","SI","SUBDIRECCIÓN DE ESTUDIOS AMBIENTALES","2021-04-22","CORREO ELECTRÓNICO",null,{"$f":"IFERROR(WORKDAY(C812,S811,DiasNOLaborables),\"\")","v":"2021-05-21"},{"$f":"+IF(C812=\"\",\"\",IF(J812=\"\",\"SIN RESPUESTA\",(IF(J812<=M812,\"A TIEMPO\",\"FUERA DE TIEMPO\"))))","v":"A TIEMPO"},{"$f":"IF(J812=\"\",\"\",NETWORKDAYS(C812+1,J812,DiasNOLaborables))","v":-2},"",null,null,20]
[802,20219050050562,"2021-04-22","ENTIDAD PÚBLICA","CORREO ELECTRÓNICO","SOLICITUD DE INFORMACIÓN Y DOCUMENTOS","REGISTROS AMBIENTALES","SI","SUBDIRECCIÓN DE ESTUDIOS AMBIENTALES","2021-04-22","CORREO ELECTRÓNICO",null,{"$f":"IFERROR(WORKDAY(C813,S812,DiasNOLaborables),\"\")","v":"2021-05-21"},{"$f":"+IF(C813=\"\",\"\",IF(J813=\"\",\"SIN RESPUESTA\",(IF(J813<=M813,\"A TIEMPO\",\"FUERA DE TIEMPO\"))))","v":"A TIEMPO"},{"$f":"IF(J813=\"\",\"\",NETWORKDAYS(C813+1,J813,DiasNOLaborables))","v":-2},"",null,null,20]
[803,20219050050572,"2021-04-22","CIUDADANO","CORREO ELECTRÓNICO","SOLICITUD DE INFORMACIÓN Y DOCUMENTOS","REGISTROS AMBIENTALES","SI","SUBDIRECCIÓN DE ESTUDIOS AMBIENTALES","2021-04-22","CORREO ELECTRÓNICO",null,{"$f":"IFERROR(WORKDAY(C814,S813,DiasNOLaborables),\"\")","v":"2021-05-21"},{"$f":"+IF(C814=\"\",\"\",IF(J814=\"\",\"SIN RESPUESTA\",(IF(J814<=M814,\"A TIEMPO\",\"FUERA DE TIEMPO\"))))","v":"A TIEMPO"},{"$f":"IF(J814=\"\",\"\",NETWORKDAYS(C814+1,J814,DiasNOLaborables))","v":-2},"",null,null,20]
[804,20219050050582,"2021-04-22","CIUDADANO","CORREO ELECTRÓNICO","SOLICITUD DE INFORMACIÓN Y DOCUMENTOS","REGISTROS AMBIENTALES","SI","SUBDIRECCIÓN DE ESTUDIOS AMBIENTALES","2021-04-22","CORREO ELECTRÓNICO",null,{"$f":"IFERROR(WORKDAY(C815,S814,DiasNOLaborables),\"\")","v":"2021-05-21"},{"$f":"+IF(C815=\"\",\"\",IF(J815=\"\",\"SIN RESPUESTA\",(IF(J815<=M815,\"A TIEMPO\",\"FUERA DE TIEMPO\"))))","v":"A TIEMPO"},{"$f":"IF(J815=\"\",\"\",NETWORKDAYS(C815+1,J815,DiasNOLaborables))","v":-2},"",null,null,20]
[805,20219050050592,"2021-04-22","CIUDADANO","CORREO ELECTRÓNICO","SOLICITUD DE INFORMACIÓN Y DOCUMENTOS","REGISTROS AMBIENTALES","SI","SUBDIRECCIÓN DE ESTUDIOS AMBIENTALES","2021-04-22","CORREO ELECTRÓNICO",null,{"$f":"IFERROR(WORKDAY(C816,S815,DiasNOLaborables),\"\")","v":"2021-05-21"},{"$f":"+IF(C816=\"\",\"\",IF(J816=\"\",\"SIN RESPUESTA\",(IF(J816<=M816,\"A TIEMPO\",\"FUERA DE TIEMPO\"))))","v":"A TIEMPO"},{"$f":"IF(J816=\"\",\"\",NETWORKDAYS(C816+1,J816,DiasNOLaborables))","v":-2},"",null,null,20]
[806,20219050050602,"2021-04-22","CIUDADANO","CORREO ELECTRÓNICO","SOLICITUD DE INFORMACIÓN Y DOCUMENTOS","REGISTROS AMBIENTALES","SI","SUBDIRECCIÓN DE ESTUDIOS AMBIENTALES","2021-04-22","CORREO ELECTRÓNICO",null,{"$f":"IFERROR(WORKDAY(C817,S816,DiasNOLaborables),\"\")","v":"2021-05-21"},{"$f":"+IF(C817=\"\",\"\",IF(J817=\"\",\"SIN RESPUESTA\",(IF(J817<=M817,\"A TIEMPO\",\"FUERA DE TIEMPO\"))))","v":"A TIEMPO"},{"$f":"IF(J817=\"\",\"\",NETWORKDAYS(C817+1,J817,DiasNOLaborables))","v":-2},"",null,null,20]
[807,20219050050612,"2021-04-22","EMPRESA PRIVADA","CORREO ELECTRÓNICO","SOLICITUD DE INFORMACIÓN Y DOCUMENTOS","REGISTROS AMBIENTALES","SI","SUBDIRECCIÓN DE ESTUDIOS AMBIENTALES","2021-04-22","CORREO ELECTRÓNICO",null,{"$f":"IFERROR(WORKDAY(C818,S817,DiasNOLaborables),\"\")","v":"2021-05-21"},{"$f":"+IF(C818=\"\",\"\",IF(J818=\"\",\"SIN RESPUESTA\",(IF(J818<=M818,\"A TIEMPO\",\"FUERA DE TIEMPO\"))))","v":"A TIEMPO"},{"$f":"IF(J818=\"\",\"\",NETWORKDAYS(C818+1,J818,DiasNOLaborables))","v":-2},"",null,null,20]
[808,20219050050632,"2021-04-22","CIUDADANO","CORREO ELECTRÓNICO","SOLICITUD DE INFORMACIÓN Y DOCUMENTOS","REGISTROS AMBIENTALES","SI","SUBDIRECCIÓN DE ESTUDIOS AMBIENTALES","2021-04-22","CORREO ELECTRÓNICO",null,{"$f":"IFERROR(WORKDAY(C819,S818,DiasNOLaborables),\"\")","v":"2021-05-21"},{"$f":"+IF(C819=\"\",\"\",IF(J819=\"\",\"SIN RESPUESTA\",(IF(J819<=M819,\"A TIEMPO\",\"FUERA DE TIEMPO\"))))","v":"A TIEMPO"},{"$f":"IF(J819=\"\",\"\",NETWORKDAYS(C819+1,J819,DiasNOLaborables))","v":-2},"",null,null,20]
[809,20219050050652,"2021-04-22","EMPRESA PRIVADA","CORREO ELECTRÓNICO","SOLICITUD DE INFORMACIÓN Y DOCUMENTOS","REGISTROS AMBIENTALES","SI","SUBDIRECCIÓN DE ESTUDIOS AMBIENTALES","2021-04-22","CORREO ELECTRÓNICO",null,{"$f":"IFERROR(WORKDAY(C820,S819,DiasNOLaborables),\"\")","v":"2021-05-21"},{"$f":"+IF(C820=\"\",\"\",IF(J820=\"\",\"SIN RESPUESTA\",(IF(J820<=M820,\"A TIEMPO\",\"FUERA DE TIEMPO\"))))","v":"A TIEMPO"},{"$f":"IF(J820=\"\",\"\",NETWORKDAYS(C820+1,J820,DiasNOLaborables))","v":-2},"",null,null,20]
[810,20219050050662,"2021-04-22","CIUDADANO","CORREO ELECTRÓNICO","SOLICITUD DE INFORMACIÓN Y DOCUMENTOS","REGISTROS AMBIENTALES","SI","SUBDIRECCIÓN DE ESTUDIOS AMBIENTALES","2021-04-25","CORREO ELECTRÓNICO",null,{"$f":"IFERROR(WORKDAY(C821,S820,DiasNOLaborables),\"\")","v":"2021-05-21"},{"$f":"+IF(C821=\"\",\"\",IF(J821=\"\",\"SIN RESPUESTA\",(IF(J821<=M821,\"A TIEMPO\",\"FUERA DE TIEMPO\"))))","v":"A TIEMPO"},{"$f":"IF(J821=\"\",\"\",NETWORKDAYS(C821+1,J821,DiasNOLaborables))","v":1},"",null,null,20]
[811,20219050050672,"2021-04-22","EMPRESA PRIVADA","CORREO ELECTRÓNICO","SOLICITUD DE INFORMACIÓN Y DOCUMENTOS","REGISTROS AMBIENTALES","SI","SUBDIRECCIÓN DE ESTUDIOS AMBIENTALES","2021-04-25","CORREO ELECTRÓNICO",null,{"$f":"IFERROR(WORKDAY(C822,S821,DiasNOLaborables),\"\")","v":"2021-05-21"},{"$f":"+IF(C822=\"\",\"\",IF(J822=\"\",\"SIN RESPUESTA\",(IF(J822<=M822,\"A TIEMPO\",\"FUERA DE TIEMPO\"))))","v":"A TIEMPO"},{"$f":"IF(J822=\"\",\"\",NETWORKDAYS(C822+1,J822,DiasNOLaborables))","v":1},"",null,null,20]
[812,20219050050692,"2021-04-22","EMPRESA PRIVADA","CORREO ELECTRÓNICO","SOLICITUD DE INFORMACIÓN Y DOCUMENTOS","REGISTROS AMBIENTALES","SI","SUBDIRECCIÓN DE ESTUDIOS AMBIENTALES","2021-04-22","CORREO ELECTRÓNICO",null,{"$f":"IFERROR(WORKDAY(C823,S822,DiasNOLaborables),\"\")","v":"2021-05-21"},{"$f":"+IF(C823=\"\",\"\",IF(J823=\"\",\"SIN RESPUESTA\",(IF(J823<=M823,\"A TIEMPO\",\"FUERA DE TIEMPO\"))))","v":"A TIEMPO"},{"$f":"IF(J823=\"\",\"\",NETWORKDAYS(C823+1,J823,DiasNOLaborables))","v":-2},"",null,null,20]
[813,20219050050702,"2021-04-22","EMPRESA PRIVADA","CORREO ELECTRÓNICO","SOLICITUD DE INFORMACIÓN Y DOCUMENTOS","REGISTROS AMBIENTALES","SI","SUBDIRECCIÓN DE ESTUDIOS AMBIENTALES","2021-04-22","CORREO ELECTRÓNICO",null,{"$f":"IFERROR(WORKDAY(C824,S823,DiasNOLaborables),\"\")","v":"2021-05-21"},{"$f":"+IF(C824=\"\",\"\",IF(J824=\"\",\"SIN RESPUESTA\",(IF(J824<=M824,\"A TIEMPO\",\"FUERA DE TIEMPO\"))))","v":"A TIEMPO"},{"$f":"IF(J824=\"\",\"\",NETWORKDAYS(C824+1,J824,DiasNOLaborables))","v":-2},"",null,null,20]
[814,20219050050712,"2021-04-22","EMPRESA PRIVADA","CORREO ELECTRÓNICO","SOLICITUD DE INFORMACIÓN Y DOCUMENTOS","REGISTROS AMBIENTALES","SI","SUBDIRECCIÓN DE ESTUDIOS AMBIENTALES","2021-04-22","CORREO ELECTRÓNICO",null,{"$f":"IFERROR(WORKDAY(C825,S824,DiasNOLaborables),\"\")","v":"2021-05-21"},{"$f":"+IF(C825=\"\",\"\",IF(J825=\"\",\"SIN RESPUESTA\",(IF(J825<=M825,\"A TIEMPO\",\"FUERA DE TIEMPO\"))))","v":"A TIEMPO"},{"$f":"IF(J825=\"\",\"\",NETWORKDAYS(C825+1,J825,DiasNOLaborables))","v":-2},"",null,null,20]
[815,20219050050822,"2021-04-22","EMPRESA PRIVADA","CORREO ELECTRÓNICO","SOLICITUD DE INFORMACIÓN Y DOCUMENTOS","REGISTROS AMBIENTALES","SI","SUBDIRECCIÓN DE ESTUDIOS AMBIENTALES","2021-04-22","CORREO ELECTRÓNICO",null,{"$f":"IFERROR(WORKDAY(C826,S825,DiasNOLaborables),\"\")","v":"2021-05-21"},{"$f":"+IF(C826=\"\",\"\",IF(J826=\"\",\"SIN RESPUESTA\",(IF(J826<=M826,\"A TIEMPO\",\"FUERA DE TIEMPO\"))))","v":"A TIEMPO"},{"$f":"IF(J826=\"\",\"\",NETWORKDAYS(C826+1,J826,DiasNOLaborables))","v":-2},"",null,null,20]
[816,20219050050842,"2021-04-22","CIUDADANO","CORREO ELECTRÓNICO","SOLICITUD DE INFORMACIÓN Y DOCUMENTOS","REGISTROS AMBIENTALES","SI","SUBDIRECCIÓN DE ESTUDIOS AMBIENTALES","2021-04-22","CORREO ELECTRÓNICO",null,{"$f":"IFERROR(WORKDAY(C827,S826,DiasNOLaborables),\"\")","v":"2021-05-21"},{"$f":"+IF(C827=\"\",\"\",IF(J827=\"\",\"SIN RESPUESTA\",(IF(J827<=M827,\"A TIEMPO\",\"FUERA DE TIEMPO\"))))","v":"A TIEMPO"},{"$f":"IF(J827=\"\",\"\",NETWORKDAYS(C827+1,J827,DiasNOLaborables))","v":-2},"",null,null,20]
[817,20219050050852,"2021-04-22","CIUDADANO","CORREO ELECTRÓNICO","SOLICITUD DE INFORMACIÓN Y DOCUMENTOS","REGISTROS AMBIENTALES","SI","SUBDIRECCIÓN DE ESTUDIOS AMBIENTALES","2021-04-22","CORREO ELECTRÓNICO",null,{"$f":"IFERROR(WORKDAY(C828,S827,DiasNOLaborables),\"\")","v":"2021-05-21"},{"$f":"+IF(C828=\"\",\"\",IF(J828=\"\",\"SIN RESPUESTA\",(IF(J828<=M828,\"A TIEMPO\",\"FUERA DE TIEMPO\"))))","v":"A TIEMPO"},{"$f":"IF(J828=\"\",\"\",NETWORKDAYS(C828+1,J828,DiasNOLaborables))","v":-2},"",null,null,20]
[818,20219050050872,"2021-04-22","CIUDADANO","CORREO ELECTRÓNICO","SOLICITUD DE INFORMACIÓN Y DOCUMENTOS","REGISTROS AMBIENTALES","SI","SUBDIRECCIÓN DE ESTUDIOS AMBIENTALES","2021-04-22","CORREO ELECTRÓNICO",null,{"$f":"IFERROR(WORKDAY(C829,S828,DiasNOLaborables),\"\")","v":"2021-05-21"},{"$f":"+IF(C829=\"\",\"\",IF(J829=\"\",\"SIN RESPUESTA\",(IF(J829<=M829,\"A TIEMPO\",\"FUERA DE TIEMPO\"))))","v":"A TIEMPO"},{"$f":"IF(J829=\"\",\"\",NETWORKDAYS(C829+1,J829,DiasNOLaborables))","v":-2},"",null,null,20]
[819,20219050050882,"2021-04-22","CIUDADANO","CORREO ELECTRÓNICO","SOLICITUD DE INFORMACIÓN Y DOCUMENTOS","REGISTROS AMBIENTALES","SI","SUBDIRECCIÓN DE ESTUDIOS AMBIENTALES","2021-04-22","CORREO ELECTRÓNICO",null,{"$f":"IFERROR(WORKDAY(C830,S829,DiasNOLaborables),\"\")","v":"2021-05-21"},{"$f":"+IF(C830=\"\",\"\",IF(J830=\"\",\"SIN RESPUESTA\",(IF(J830<=M830,\"A TIEMPO\",\"FUERA DE TIEMPO\"))))","v":"A TIEMPO"},{"$f":"IF(J830=\"\",\"\",NETWORKDAYS(C830+1,J830,DiasNOLaborables))","v":-2},"",null,null,20]
[820,20219050050892,"2021-04-22","CIUDADANO","CORREO ELECTRÓNICO","SOLICITUD DE INFORMACIÓN Y DOCUMENTOS","REGISTROS AMBIENTALES","SI","SUBDIRECCIÓN DE ESTUDIOS AMBIENTALES","2021-04-22","CORREO ELECTRÓNICO",null,{"$f":"IFERROR(WORKDAY(C831,S830,DiasNOLaborables),\"\")","v":"2021-05-21"},{"$f":"+IF(C831=\"\",\"\",IF(J831=\"\",\"SIN RESPUESTA\",(IF(J831<=M831,\"A TIEMPO\",\"FUERA DE TIEMPO\"))))","v":"A TIEMPO"},{"$f":"IF(J831=\"\",\"\",NETWORKDAYS(C831+1,J831,DiasNOLaborables))","v":-2},"",null,null,20]
[821,20219050050912,"2021-04-22","CIUDADANO","CORREO ELECTRÓNICO","SOLICITUD DE INFORMACIÓN Y DOCUMENTOS","REGISTROS AMBIENTALES","SI","SUBDIRECCIÓN DE ESTUDIOS AMBIENTALES","2021-04-22","CORREO ELECTRÓNICO",null,{"$f":"IFERROR(WORKDAY(C832,S831,DiasNOLaborables),\"\")","v":"2021-05-21"},{"$f":"+IF(C832=\"\",\"\",IF(J832=\"\",\"SIN RESPUESTA\",(IF(J832<=M832,\"A TIEMPO\",\"FUERA DE TIEMPO\"))))","v":"A TIEMPO"},{"$f":"IF(J832=\"\",\"\",NETWORKDAYS(C832+1,J832,DiasNOLaborables))","v":-2},"",null,null,20]
[822,20219050050922,"2021-04-22","EMPRESA PRIVADA","CORREO ELECTRÓNICO","SOLICITUD DE INFORMACIÓN Y DOCUMENTOS","REGISTROS AMBIENTALES","SI","SUBDIRECCIÓN DE ESTUDIOS AMBIENTALES","2021-04-22","CORREO ELECTRÓNICO",null,{"$f":"IFERROR(WORKDAY(C833,S832,DiasNOLaborables),\"\")","v":"2021-05-21"},{"$f":"+IF(C833=\"\",\"\",IF(J833=\"\",\"SIN RESPUESTA\",(IF(J833<=M833,\"A TIEMPO\",\"FUERA DE TIEMPO\"))))","v":"A TIEMPO"},{"$f":"IF(J833=\"\",\"\",NETWORKDAYS(C833+1,J833,DiasNOLaborables))","v":-2},"",null,null,20]
[823,20219050050932,"2021-04-22","CIUDADANO","CORREO ELECTRÓNICO","SOLICITUD DE INFORMACIÓN Y DOCUMENTOS","REGISTROS AMBIENTALES","SI","SUBDIRECCIÓN DE ESTUDIOS AMBIENTALES","2021-04-22","CORREO ELECTRÓNICO",null,{"$f":"IFERROR(WORKDAY(C834,S833,DiasNOLaborables),\"\")","v":"2021-05-21"},{"$f":"+IF(C834=\"\",\"\",IF(J834=\"\",\"SIN RESPUESTA\",(IF(J834<=M834,\"A TIEMPO\",\"FUERA DE TIEMPO\"))))","v":"A TIEMPO"},{"$f":"IF(J834=\"\",\"\",NETWORKDAYS(C834+1,J834,DiasNOLaborables))","v":-2},"",null,null,20]
[824,20219050050942,"2021-04-22","CIUDADANO","CORREO ELECTRÓNICO","SOLICITUD DE INFORMACIÓN Y DOCUMENTOS","REGISTROS AMBIENTALES","SI","SUBDIRECCIÓN DE ESTUDIOS AMBIENTALES","2021-04-22","CORREO ELECTRÓNICO",null,{"$f":"IFERROR(WORKDAY(C835,S834,DiasNOLaborables),\"\")","v":"2021-05-21"},{"$f":"+IF(C835=\"\",\"\",IF(J835=\"\",\"SIN RESPUESTA\",(IF(J835<=M835,\"A TIEMPO\",\"FUERA DE TIEMPO\"))))","v":"A TIEMPO"},{"$f":"IF(J835=\"\",\"\",NETWORKDAYS(C835+1,J835,DiasNOLaborables))","v":-2},"",null,null,35]
[825,20219050050952,"2021-04-22","CIUDADANO","CORREO ELECTRÓNICO","CERTIFICACIONES DE TIEMPO, CLIMA Y EVENTOS HIDROLÓGICOS","CERTIFICACIONES DE TIEMPO Y CLIMA","SI","SUBDIRECCIÓN DE METEOROLOGÍA","2021-05-12","CORREO ELECTRÓNICO",null,{"$f":"IFERROR(WORKDAY(C836,S835,DiasNOLaborables),\"\")","v":"2021-06-15"},{"$f":"+IF(C836=\"\",\"\",IF(J836=\"\",\"SIN RESPUESTA\",(IF(J836<=M836,\"A TIEMPO\",\"FUERA DE TIEMPO\"))))","v":"A TIEMPO"},{"$f":"IF(J836=\"\",\"\",NETWORKDAYS(C836+1,J836,DiasNOLaborables))","v":14},"",null,null,20]
[826,20219050051012,"2021-04-22","CIUDADANO","CORREO ELECTRÓNICO","SOLICITUD DE INFORMACIÓN Y DOCUMENTOS","CLIMATOLOGÍA","SI","SUBDIRECCIÓN DE METEOROLOGÍA","2021-06-18","CORREO ELECTRÓNICO",null,{"$f":"IFERROR(WORKDAY(C837,S836,DiasNOLaborables),\"\")","v":"2021-05-21"},{"$f":"+IF(C837=\"\",\"\",IF(J837=\"\",\"SIN RESPUESTA\",(IF(J837<=M837,\"A TIEMPO\",\"FUERA DE TIEMPO\"))))","v":"FUERA DE TIEMPO"},{"$f":"IF(J837=\"\",\"\",NETWORKDAYS(C837+1,J837,DiasNOLaborables))","v":38},18,null,null,20]
[827,20219050050522,"2021-04-22","CIUDADANO","MODULO CONTACTENOS","SOLICITUD DE INFORMACIÓN Y DOCUMENTOS","ADMINISTRATIVA","SI","GRUPO DE ADMINISTRACIÓN Y DESARROLLO DEL TALENTO HUMANO","2021-04-29","CORREO ELECTRÓNICO",null,{"$f":"IFERROR(WORKDAY(C838,S837,DiasNOLaborables),\"\")","v":"2021-05-21"},{"$f":"+IF(C838=\"\",\"\",IF(J838=\"\",\"SIN RESPUESTA\",(IF(J838<=M838,\"A TIEMPO\",\"FUERA DE TIEMPO\"))))","v":"A TIEMPO"},{"$f":"IF(J838=\"\",\"\",NETWORKDAYS(C838+1,J838,DiasNOLaborables))","v":5},"",null,null,20]
[828,20219050051052,"2021-04-22","CIUDADANO","CORREO ELECTRÓNICO","SOLICITUD DE INFORMACIÓN Y DOCUMENTOS","REGISTROS AMBIENTALES","SI","SUBDIRECCIÓN DE ESTUDIOS AMBIENTALES","2021-04-25","CORREO ELECTRÓNICO",null,{"$f":"IFERROR(WORKDAY(C839,S838,DiasNOLaborables),\"\")","v":"2021-05-21"},{"$f":"+IF(C839=\"\",\"\",IF(J839=\"\",\"SIN RESPUESTA\",(IF(J839<=M839,\"A TIEMPO\",\"FUERA DE TIEMPO\"))))","v":"A TIEMPO"},{"$f":"IF(J839=\"\",\"\",NETWORKDAYS(C839+1,J839,DiasNOLaborables))","v":1},"",null,null,20]
[829,20219050051062,"2021-04-22","CIUDADANO","CORREO ELECTRÓNICO","SOLICITUD DE INFORMACIÓN Y DOCUMENTOS","ADMINISTRATIVA","SI","GRUPO DE TESORERÍA","2021-04-30","CORREO ELECTRÓNICO",null,{"$f":"IFERROR(WORKDAY(C840,S839,DiasNOLaborables),\"\")","v":"2021-05-21"},{"$f":"+IF(C840=\"\",\"\",IF(J840=\"\",\"SIN RESPUESTA\",(IF(J840<=M840,\"A TIEMPO\",\"FUERA DE TIEMPO\"))))","v":"A TIEMPO"},{"$f":"IF(J840=\"\",\"\",NETWORKDAYS(C840+1,J840,DiasNOLaborables))","v":6},"",null,null,20]
[830,20219050051122,"2021-04-22","CIUDADANO","CORREO ELECTRÓNICO","SOLICITUD DE INFORMACIÓN Y DOCUMENTOS","REGISTROS AMBIENTALES","SI","SUBDIRECCIÓN DE ESTUDIOS AMBIENTALES","2021-04-22","CORREO ELECTRÓNICO",null,{"$f":"IFERROR(WORKDAY(C841,S840,DiasNOLaborables),\"\")","v":"2021-05-21"},{"$f":"+IF(C841=\"\",\"\",IF(J841=\"\",\"SIN RESPUESTA\",(IF(J841<=M841,\"A TIEMPO\",\"FUERA DE TIEMPO\"))))","v":"A TIEMPO"},{"$f":"IF(J841=\"\",\"\",NETWORKDAYS(C841+1,J841,DiasNOLaborables))","v":-2},{"$f":"IF(NETWORKDAYS(M841+1,J841,DiasNOLaborables)<=0,\"\",NETWORKDAYS(M841+1,J841,DiasNOLaborables))","v":""},null,null,20]
[831,20219050051142,"2021-04-22","CIUDADANO","CORREO ELECTRÓNICO","SOLICITUD DE INFORMACIÓN Y DOCUMENTOS","REGISTROS AMBIENTALES","SI","SUBDIRECCIÓN DE ESTUDIOS AMBIENTALES","2021-04-22","CORREO ELECTRÓNICO",null,{"$f":"IFERROR(WORKDAY(C842,S841,DiasNOLaborables),\"\")","v":"2021-05-21"},{"$f":"+IF(C842=\"\",\"\",IF(J842=\"\",\"SIN RESPUESTA\",(IF(J842<=M842,\"A TIEMPO\",\"FUERA DE TIEMPO\"))))","v":"A TIEMPO"},{"$f":"IF(J842=\"\",\"\",NETWORKDAYS(C842+1,J842,DiasNOLaborables))","v":-2},"",null,null,20]
[832,20219050051162,"2021-04-22","CIUDADANO","CORREO ELECTRÓNICO","SOLICITUD DE INFORMACIÓN Y DOCUMENTOS","REGISTROS AMBIENTALES","SI","SUBDIRECCIÓN DE ESTUDIOS AMBIENTALES","2021-04-22","CORREO ELECTRÓNICO",null,{"$f":"IFERROR(WORKDAY(C843,S842,DiasNOLaborables),\"\")","v":"2021-05-21"},{"$f":"+IF(C843=\"\",\"\",IF(J843=\"\",\"SIN RESPUESTA\",(IF(J843<=M843,\"A TIEMPO\",\"FUERA DE TIEMPO\"))))","v":"A TIEMPO"},{"$f":"IF(J843=\"\",\"\",NETWORKDAYS(C843+1,J843,DiasNOLaborables))","v":-2},"",null,null,20]
[833,20219050051182,"2021-04-22","CIUDADANO","CORREO ELECTRÓNICO","SOLICITUD DE INFORMACIÓN Y DOCUMENTOS","REGISTROS AMBIENTALES","SI","SUBDIRECCIÓN DE ESTUDIOS AMBIENTALES","2021-04-22","CORREO ELECTRÓNICO",null,{"$f":"IFERROR(WORKDAY(C844,S843,DiasNOLaborables),\"\")","v":"2021-05-21"},{"$f":"+IF(C844=\"\",\"\",IF(J844=\"\",\"SIN RESPUESTA\",(IF(J844<=M844,\"A TIEMPO\",\"FUERA DE TIEMPO\"))))","v":"A TIEMPO"},{"$f":"IF(J844=\"\",\"\",NETWORKDAYS(C844+1,J844,DiasNOLaborables))","v":-2},"",null,null,20]
[834,20219050050622,"2021-04-22","EMPRESA PRIVADA","CORREO ELECTRÓNICO","SOLICITUD DE INFORMACIÓN Y DOCUMENTOS","ADMINISTRATIVA","SI","GRUPO DE TESORERÍA","2021-04-30","CORREO ELECTRÓNICO",null,{"$f":"IFERROR(WORKDAY(C845,S844,DiasNOLaborables),\"\")","v":"2021-05-21"},{"$f":"+IF(C845=\"\",\"\",IF(J845=\"\",\"SIN RESPUESTA\",(IF(J845<=M845,\"A TIEMPO\",\"FUERA DE TIEMPO\"))))","v":"A TIEMPO"},{"$f":"IF(J845=\"\",\"\",NETWORKDAYS(C845+1,J845,DiasNOLaborables))","v":6},"",null,null,{"$f":"IFERROR(VLOOKUP(F846,$AA$51:$AB$64,2),\"\")","v":20}]
[{"$f":"IF(B846<>\"\",A845+1,\"\")","v":835},20219050051112,"2021-04-22","EMPRESA PRIVADA","CORREO ELECTRÓNICO","SOLICITUD DE INFORMACIÓN Y DOCUMENTOS","ADMINISTRATIVA","SI","GRUPO DE TESORERÍA","2021-04-30","CORREO ELECTRÓNICO",null,{"$f":"IFERROR(WORKDAY(C846,S845,DiasNOLaborables),\"\")","v":"2021-05-21"},{"$f":"+IF(C846=\"\",\"\",IF(J846=\"\",\"SIN RESPUESTA\",(IF(J846<=M846,\"A TIEMPO\",\"FUERA DE TIEMPO\"))))","v":"A TIEMPO"},{"$f":"IF(J846=\"\",\"\",NETWORKDAYS(C846+1,J846,DiasNOLaborables))","v":6},"",null,null,20]
[836,20219050050682,"2021-04-22","EMPRESA PRIVADA","CORREO ELECTRÓNICO","SOLICITUD DE INFORMACIÓN Y DOCUMENTOS","INFORMES AMBIENTALES",null,"SUBDIRECCIÓN DE ESTUDIOS AMBIENTALES","2021-05-04","CORREO ELECTRÓNICO",null,{"$f":"IFERROR(WORKDAY(C847,S846,DiasNOLaborables),\"\")","v":"2021-05-21"},{"$f":"+IF(C847=\"\",\"\",IF(J847=\"\",\"SIN RESPUESTA\",(IF(J847<=M847,\"A TIEMPO\",\"FUERA DE TIEMPO\"))))","v":"A TIEMPO"},{"$f":"IF(J847=\"\",\"\",NETWORKDAYS(C847+1,J847,DiasNOLaborables))","v":8},"",null,null,5]
[837,20219050050742,"2021-04-22","ENTIDAD PÚBLICA","CORREO ELECTRÓNICO","SOLICITUD JUDICIAL","CERTIFICACIONES DE TIEMPO Y CLIMA","SI","SUBDIRECCIÓN DE METEOROLOGÍA","2021-04-28","CORREO ELECTRÓNICO",null,{"$f":"IFERROR(WORKDAY(C848,S847,DiasNOLaborables),\"\")","v":"2021-04-29"},{"$f":"+IF(C848=\"\",\"\",IF(J848=\"\",\"SIN RESPUESTA\",(IF(J848<=M848,\"A TIEMPO\",\"FUERA DE TIEMPO\"))))","v":"A TIEMPO"},{"$f":"IF(J848=\"\",\"\",NETWORKDAYS(C848+1,J848,DiasNOLaborables))","v":4},"",null,null,30]
[838,20219050050802,"2021-04-22","ENTIDAD PÚBLICA","CORREO ELECTRÓNICO","PETICIÓN","CERTIFICACIONES DE TIEMPO Y CLIMA","SI","SUBDIRECCIÓN DE METEOROLOGÍA","2021-04-30","CORREO ELECTRÓNICO",null,{"$f":"IFERROR(WORKDAY(C849,S848,DiasNOLaborables),\"\")","v":"2021-06-04"},{"$f":"+IF(C849=\"\",\"\",IF(J849=\"\",\"SIN RESPUESTA\",(IF(J849<=M849,\"A TIEMPO\",\"FUERA DE TIEMPO\"))))","v":"A TIEMPO"},{"$f":"IF(J849=\"\",\"\",NETWORKDAYS(C849+1,J849,DiasNOLaborables))","v":6},"",null,null,5]
[839,20219050050812,"2021-04-22","ENTIDAD PÚBLICA","CORREO ELECTRÓNICO","SOLICITUD JUDICIAL","CERTIFICACIONES DE TIEMPO Y CLIMA","SI","SUBDIRECCIÓN DE METEOROLOGÍA","2021-04-28","CORREO ELECTRÓNICO",null,{"$f":"IFERROR(WORKDAY(C850,S849,DiasNOLaborables),\"\")","v":"2021-04-29"},{"$f":"+IF(C850=\"\",\"\",IF(J850=\"\",\"SIN RESPUESTA\",(IF(J850<=M850,\"A TIEMPO\",\"FUERA DE TIEMPO\"))))","v":"A TIEMPO"},{"$f":"IF(J850=\"\",\"\",NETWORKDAYS(C850+1,J850,DiasNOLaborables))","v":4},"",null,null,20]
[840,20219050050512,"2021-04-22","EMPRESA PRIVADA","MODULO CONTACTENOS","SOLICITUD DE INFORMACIÓN Y DOCUMENTOS","SOLICITUD DE INFORMACIÓN HIDROMETEOROLÓGICA","NO","GRUPO DE SERVICIO AL CIUDADANO ","2021-04-30","CORREO ELECTRÓNICO",null,{"$f":"IFERROR(WORKDAY(C851,S850,DiasNOLaborables),\"\")","v":"2021-05-21"},{"$f":"+IF(C851=\"\",\"\",IF(J851=\"\",\"SIN RESPUESTA\",(IF(J851<=M851,\"A TIEMPO\",\"FUERA DE TIEMPO\"))))","v":"A TIEMPO"},{"$f":"IF(J851=\"\",\"\",NETWORKDAYS(C851+1,J851,DiasNOLaborables))","v":6},"",null,null,5]
[841,20219050050832,"2021-04-22","ENTIDAD PÚBLICA","CORREO ELECTRÓNICO","SOLICITUD JUDICIAL","CERTIFICACIONES DE TIEMPO Y CLIMA","SI","SUBDIRECCIÓN DE METEOROLOGÍA","2021-04-28","CORREO ELECTRÓNICO",null,{"$f":"IFERROR(WORKDAY(C852,S851,DiasNOLaborables),\"\")","v":"2021-04-29"},{"$f":"+IF(C852=\"\",\"\",IF(J852=\"\",\"SIN RESPUESTA\",(IF(J852<=M852,\"A TIEMPO\",\"FUERA DE TIEMPO\"))))","v":"A TIEMPO"},{"$f":"IF(J852=\"\",\"\",NETWORKDAYS(C852+1,J852,DiasNOLaborables))","v":4},"",null,null,5]
[842,20219050050862,"2021-04-22","ENTIDAD PÚBLICA","CORREO ELECTRÓNICO","SOLICITUD JUDICIAL","CERTIFICACIONES DE TIEMPO Y CLIMA","SI","SUBDIRECCIÓN DE METEOROLOGÍA","2021-04-28","CORREO ELECTRÓNICO",null,{"$f":"IFERROR(WORKDAY(C853,S852,DiasNOLaborables),\"\")","v":"2021-04-29"},{"$f":"+IF(C853=\"\",\"\",IF(J853=\"\",\"SIN RESPUESTA\",(IF(J853<=M853,\"A TIEMPO\",\"FUERA DE TIEMPO\"))))","v":"A TIEMPO"},{"$f":"IF(J853=\"\",\"\",NETWORKDAYS(C853+1,J853,DiasNOLaborables))","v":4},"",null,null,35]
[843,20219050050902,"2021-04-22","EMPRESA PRIVADA","CORREO ELECTRÓNICO","CERTIFICACIONES DE TIEMPO, CLIMA Y EVENTOS HIDROLÓGICOS","CERTIFICACIONES DE TIEMPO Y CLIMA","SI","SUBDIRECCIÓN DE METEOROLOGÍA","2021-05-10","CORREO ELECTRÓNICO",null,{"$f":"IFERROR(WORKDAY(C854,S853,DiasNOLaborables),\"\")","v":"2021-06-15"},{"$f":"+IF(C854=\"\",\"\",IF(J854=\"\",\"SIN RESPUESTA\",(IF(J854<=M854,\"A TIEMPO\",\"FUERA DE TIEMPO\"))))","v":"A TIEMPO"},{"$f":"IF(J854=\"\",\"\",NETWORKDAYS(C854+1,J854,DiasNOLaborables))","v":12},"",null,null,20]
[844,20219050051132,"2021-04-22","EMPRESA PRIVADA","CORREO ELECTRÓNICO","SOLICITUD DE INFORMACIÓN Y DOCUMENTOS","ADMINISTRATIVA","SI","GRUPO DE TESORERÍA","2021-04-26","CORREO ELECTRÓNICO",null,{"$f":"IFERROR(WORKDAY(C855,S854,DiasNOLaborables),\"\")","v":"2021-05-21"},{"$f":"+IF(C855=\"\",\"\",IF(J855=\"\",\"SIN RESPUESTA\",(IF(J855<=M855,\"A TIEMPO\",\"FUERA DE TIEMPO\"))))","v":"A TIEMPO"},{"$f":"IF(J855=\"\",\"\",NETWORKDAYS(C855+1,J855,DiasNOLaborables))","v":2},"",null,null,20]
[845,20219050051252,"2021-04-22","FUNCIONARIO IDEAM","CORREO ELECTRÓNICO","SOLICITUD DE INFORMACIÓN Y DOCUMENTOS","ADMINISTRATIVA","SI","GRUPO DE ADMINISTRACIÓN Y DESARROLLO DEL TALENTO HUMANO","2021-04-22","CORREO ELECTRÓNICO",null,{"$f":"IFERROR(WORKDAY(C856,S855,DiasNOLaborables),\"\")","v":"2021-05-21"},{"$f":"+IF(C856=\"\",\"\",IF(J856=\"\",\"SIN RESPUESTA\",(IF(J856<=M856,\"A TIEMPO\",\"FUERA DE TIEMPO\"))))","v":"A TIEMPO"},{"$f":"IF(J856=\"\",\"\",NETWORKDAYS(C856+1,J856,DiasNOLaborables))","v":-2},"",null,null,20]
[846,20219050050432,"2021-04-22","CIUDADANO","MODULO CONTACTENOS","SOLICITUD DE INFORMACIÓN Y DOCUMENTOS","SOLICITUD DE INFORMACIÓN HIDROMETEOROLÓGICA","NO","GRUPO DE SERVICIO AL CIUDADANO ","2021-05-20","CORREO ELECTRÓNICO",null,{"$f":"IFERROR(WORKDAY(C857,S856,DiasNOLaborables),\"\")","v":"2021-05-21"},{"$f":"+IF(C857=\"\",\"\",IF(J857=\"\",\"SIN RESPUESTA\",(IF(J857<=M857,\"A TIEMPO\",\"FUERA DE TIEMPO\"))))","v":"A TIEMPO"},{"$f":"IF(J857=\"\",\"\",NETWORKDAYS(C857+1,J857,DiasNOLaborables))","v":19},"",null,null,20]
[847,20219050050442,"2021-04-22","ACADEMIA ","MODULO CONTACTENOS","SOLICITUD DE INFORMACIÓN Y DOCUMENTOS","SOLICITUD DE INFORMACIÓN HIDROMETEOROLÓGICA","NO","GRUPO DE SERVICIO AL CIUDADANO ","2021-05-20","CORREO ELECTRÓNICO",null,{"$f":"IFERROR(WORKDAY(C858,S857,DiasNOLaborables),\"\")","v":"2021-05-21"},{"$f":"+IF(C858=\"\",\"\",IF(J858=\"\",\"SIN RESPUESTA\",(IF(J858<=M858,\"A TIEMPO\",\"FUERA DE TIEMPO\"))))","v":"A TIEMPO"},{"$f":"IF(J858=\"\",\"\",NETWORKDAYS(C858+1,J858,DiasNOLaborables))","v":19},"",null,null,20]
[848,20219050050462,"2021-04-22","EMPRESA PRIVADA","MODULO CONTACTENOS","SOLICITUD DE INFORMACIÓN Y DOCUMENTOS","SOLICITUD DE INFORMACIÓN HIDROMETEOROLÓGICA","NO","GRUPO DE SERVICIO AL CIUDADANO ","2021-05-20","CORREO ELECTRÓNICO",null,{"$f":"IFERROR(WORKDAY(C859,S858,DiasNOLaborables),\"\")","v":"2021-05-21"},{"$f":"+IF(C859=\"\",\"\",IF(J859=\"\",\"SIN RESPUESTA\",(IF(J859<=M859,\"A TIEMPO\",\"FUERA DE TIEMPO\"))))","v":"A TIEMPO"},{"$f":"IF(J859=\"\",\"\",NETWORKDAYS(C859+1,J859,DiasNOLaborables))","v":19},"",null,null,20]
[849,20219050050532,"2021-04-22","CIUDADANO","MODULO CONTACTENOS","SOLICITUD DE INFORMACIÓN Y DOCUMENTOS","SOLICITUD DE INFORMACIÓN HIDROMETEOROLÓGICA","NO","GRUPO DE SERVICIO AL CIUDADANO ","2021-05-20","CORREO ELECTRÓNICO",null,{"$f":"IFERROR(WORKDAY(C860,S859,DiasNOLaborables),\"\")","v":"2021-05-21"},{"$f":"+IF(C860=\"\",\"\",IF(J860=\"\",\"SIN RESPUESTA\",(IF(J860<=M860,\"A TIEMPO\",\"FUERA DE TIEMPO\"))))","v":"A TIEMPO"},{"$f":"IF(J860=\"\",\"\",NETWORKDAYS(C860+1,J860,DiasNOLaborables))","v":19},"",null,null,20]
[850,20219050050542,"2021-04-22","ACADEMIA ","MODULO CONTACTENOS","SOLICITUD DE INFORMACIÓN Y DOCUMENTOS","SOLICITUD DE INFORMACIÓN HIDROMETEOROLÓGICA","NO","GRUPO DE SERVICIO AL CIUDADANO ","2021-05-20","CORREO ELECTRÓNICO",null,{"$f":"IFERROR(WORKDAY(C861,S860,DiasNOLaborables),\"\")","v":"2021-05-21"},{"$f":"+IF(C861=\"\",\"\",IF(J861=\"\",\"SIN RESPUESTA\",(IF(J861<=M861,\"A TIEMPO\",\"FUERA DE TIEMPO\"))))","v":"A TIEMPO"},{"$f":"IF(J861=\"\",\"\",NETWORKDAYS(C861+1,J861,DiasNOLaborables))","v":19},"",null,null,20]
[851,20219050050722,"2021-04-22","CIUDADANO","MODULO CONTACTENOS","SOLICITUD DE INFORMACIÓN Y DOCUMENTOS","SOLICITUD DE INFORMACIÓN HIDROMETEOROLÓGICA","NO","GRUPO DE SERVICIO AL CIUDADANO ","2021-05-20","CORREO ELECTRÓNICO",null,{"$f":"IFERROR(WORKDAY(C862,S861,DiasNOLaborables),\"\")","v":"2021-05-21"},{"$f":"+IF(C862=\"\",\"\",IF(J862=\"\",\"SIN RESPUESTA\",(IF(J862<=M862,\"A TIEMPO\",\"FUERA DE TIEMPO\"))))","v":"A TIEMPO"},{"$f":"IF(J862=\"\",\"\",NETWORKDAYS(C862+1,J862,DiasNOLaborables))","v":19},"",null,null,20]
[852,20219050050732,"2021-04-22","ACADEMIA ","MODULO CONTACTENOS","SOLICITUD DE INFORMACIÓN Y DOCUMENTOS","SOLICITUD DE INFORMACIÓN HIDROMETEOROLÓGICA","NO","GRUPO DE SERVICIO AL CIUDADANO ","2021-05-20","CORREO ELECTRÓNICO",null,{"$f":"IFERROR(WORKDAY(C863,S862,DiasNOLaborables),\"\")","v":"2021-05-21"},{"$f":"+IF(C863=\"\",\"\",IF(J863=\"\",\"SIN RESPUESTA\",(IF(J863<=M863,\"A TIEMPO\",\"FUERA DE TIEMPO\"))))","v":"A TIEMPO"},{"$f":"IF(J863=\"\",\"\",NETWORKDAYS(C863+1,J863,DiasNOLaborables))","v":19},"",null,null,20]
[853,20219050050772,"2021-04-22","ACADEMIA ","MODULO CONTACTENOS","SOLICITUD DE INFORMACIÓN Y DOCUMENTOS","SOLICITUD DE INFORMACIÓN HIDROMETEOROLÓGICA","NO","GRUPO DE SERVICIO AL CIUDADANO ","2021-05-20","CORREO ELECTRÓNICO",null,{"$f":"IFERROR(WORKDAY(C864,S863,DiasNOLaborables),\"\")","v":"2021-05-21"},{"$f":"+IF(C864=\"\",\"\",IF(J864=\"\",\"SIN RESPUESTA\",(IF(J864<=M864,\"A TIEMPO\",\"FUERA DE TIEMPO\"))))","v":"A TIEMPO"},{"$f":"IF(J864=\"\",\"\",NETWORKDAYS(C864+1,J864,DiasNOLaborables))","v":19},"",null,null,20]
[854,20219050050972,"2021-04-22","CIUDADANO","MODULO CONTACTENOS","SOLICITUD DE INFORMACIÓN Y DOCUMENTOS","SOLICITUD DE INFORMACIÓN HIDROMETEOROLÓGICA","NO","GRUPO DE SERVICIO AL CIUDADANO ","2021-05-20","CORREO ELECTRÓNICO",null,{"$f":"IFERROR(WORKDAY(C865,S864,DiasNOLaborables),\"\")","v":"2021-05-21"},{"$f":"+IF(C865=\"\",\"\",IF(J865=\"\",\"SIN RESPUESTA\",(IF(J865<=M865,\"A TIEMPO\",\"FUERA DE TIEMPO\"))))","v":"A TIEMPO"},{"$f":"IF(J865=\"\",\"\",NETWORKDAYS(C865+1,J865,DiasNOLaborables))","v":19},"",null,null,20]
[855,20219050051002,"2021-04-22","ENTIDAD PÚBLICA","MODULO CONTACTENOS","SOLICITUD DE INFORMACIÓN Y DOCUMENTOS","SOLICITUD DE INFORMACIÓN HIDROMETEOROLÓGICA","NO","GRUPO DE SERVICIO AL CIUDADANO ","2021-05-21","CORREO ELECTRÓNICO",null,{"$f":"IFERROR(WORKDAY(C866,S865,DiasNOLaborables),\"\")","v":"2021-05-21"},{"$f":"+IF(C866=\"\",\"\",IF(J866=\"\",\"SIN RESPUESTA\",(IF(J866<=M866,\"A TIEMPO\",\"FUERA DE TIEMPO\"))))","v":"A TIEMPO"},{"$f":"IF(J866=\"\",\"\",NETWORKDAYS(C866+1,J866,DiasNOLaborables))","v":20},"",null,null,20]
[856,20219050051042,"2021-04-22","CIUDADANO","MODULO CONTACTENOS","SOLICITUD DE INFORMACIÓN Y DOCUMENTOS","SOLICITUD DE INFORMACIÓN HIDROMETEOROLÓGICA","NO","GRUPO DE SERVICIO AL CIUDADANO ","2021-05-21","CORREO ELECTRÓNICO",null,{"$f":"IFERROR(WORKDAY(C867,S866,DiasNOLaborables),\"\")","v":"2021-05-21"},{"$f":"+IF(C867=\"\",\"\",IF(J867=\"\",\"SIN RESPUESTA\",(IF(J867<=M867,\"A TIEMPO\",\"FUERA DE TIEMPO\"))))","v":"A TIEMPO"},{"$f":"IF(J867=\"\",\"\",NETWORKDAYS(C867+1,J867,DiasNOLaborables))","v":20},"",null,null,20]
[857,20219050051072,"2021-04-22","ACADEMIA ","CORREO ELECTRÓNICO","SOLICITUD DE INFORMACIÓN Y DOCUMENTOS","SOLICITUD DE INFORMACIÓN HIDROMETEOROLÓGICA","NO","GRUPO DE SERVICIO AL CIUDADANO ","2021-05-21","CORREO ELECTRÓNICO",null,{"$f":"IFERROR(WORKDAY(C868,S867,DiasNOLaborables),\"\")","v":"2021-05-21"},{"$f":"+IF(C868=\"\",\"\",IF(J868=\"\",\"SIN RESPUESTA\",(IF(J868<=M868,\"A TIEMPO\",\"FUERA DE TIEMPO\"))))","v":"A TIEMPO"},{"$f":"IF(J868=\"\",\"\",NETWORKDAYS(C868+1,J868,DiasNOLaborables))","v":20},"",null,null,20]
[858,20219050051092,"2021-04-22","CIUDADANO","MODULO CONTACTENOS","SOLICITUD DE INFORMACIÓN Y DOCUMENTOS","SOLICITUD DE INFORMACIÓN HIDROMETEOROLÓGICA","NO","GRUPO DE SERVICIO AL CIUDADANO ","2021-05-21","CORREO ELECTRÓNICO",null,{"$f":"IFERROR(WORKDAY(C869,S868,DiasNOLaborables),\"\")","v":"2021-05-21"},{"$f":"+IF(C869=\"\",\"\",IF(J869=\"\",\"SIN RESPUESTA\",(IF(J869<=M869,\"A TIEMPO\",\"FUERA DE TIEMPO\"))))","v":"A TIEMPO"},{"$f":"IF(J869=\"\",\"\",NETWORKDAYS(C869+1,J869,DiasNOLaborables))","v":20},"",null,null,20]
[859,20219050051232,"2021-04-22","ACADEMIA ","MODULO CONTACTENOS","SOLICITUD DE INFORMACIÓN Y DOCUMENTOS","SOLICITUD DE INFORMACIÓN HIDROMETEOROLÓGICA","SI","SUBDIRECCIÓN DE HIDROLOGÍA","2021-05-21","CORREO ELECTRÓNICO",null,{"$f":"IFERROR(WORKDAY(C870,S869,DiasNOLaborables),\"\")","v":"2021-05-21"},{"$f":"+IF(C870=\"\",\"\",IF(J870=\"\",\"SIN RESPUESTA\",(IF(J870<=M870,\"A TIEMPO\",\"FUERA DE TIEMPO\"))))","v":"A TIEMPO"},{"$f":"IF(J870=\"\",\"\",NETWORKDAYS(C870+1,J870,DiasNOLaborables))","v":20},"",null,null,20]
[860,20219050051082,"2021-04-22","CIUDADANO","MODULO CONTACTENOS","SOLICITUD DE INFORMACIÓN Y DOCUMENTOS","SOLICITUD DE INFORMACIÓN HIDROMETEOROLÓGICA","NO","GRUPO DE SERVICIO AL CIUDADANO ","2021-05-21","CORREO ELECTRÓNICO",null,{"$f":"IFERROR(WORKDAY(C871,S870,DiasNOLaborables),\"\")","v":"2021-05-21"},{"$f":"+IF(C871=\"\",\"\",IF(J871=\"\",\"SIN RESPUESTA\",(IF(J871<=M871,\"A TIEMPO\",\"FUERA DE TIEMPO\"))))","v":"A TIEMPO"},{"$f":"IF(J871=\"\",\"\",NETWORKDAYS(C871+1,J871,DiasNOLaborables))","v":20},"",null,null,20]
[861,20219050051102,"2021-04-22","CIUDADANO","MODULO CONTACTENOS","SOLICITUD DE INFORMACIÓN Y DOCUMENTOS","SOLICITUD DE INFORMACIÓN HIDROMETEOROLÓGICA","NO","GRUPO DE SERVICIO AL CIUDADANO ","2021-05-21","CORREO ELECTRÓNICO",null,{"$f":"IFERROR(WORKDAY(C872,S871,DiasNOLaborables),\"\")","v":"2021-05-21"},{"$f":"+IF(C872=\"\",\"\",IF(J872=\"\",\"SIN RESPUESTA\",(IF(J872<=M872,\"A TIEMPO\",\"FUERA DE TIEMPO\"))))","v":"A TIEMPO"},{"$f":"IF(J872=\"\",\"\",NETWORKDAYS(C872+1,J872,DiasNOLaborables))","v":20},"",null,null,20]
[862,20217090001182,"2021-04-22","CIUDADANO","MODULO CONTACTENOS","SOLICITUD DE INFORMACIÓN Y DOCUMENTOS","SOLICITUD DE INFORMACIÓN HIDROMETEOROLÓGICA","NO","GRUPO DE SERVICIO AL CIUDADANO ","2021-05-21","CORREO ELECTRÓNICO",null,{"$f":"IFERROR(WORKDAY(C873,S872,DiasNOLaborables),\"\")","v":"2021-05-21"},{"$f":"+IF(C873=\"\",\"\",IF(J873=\"\",\"SIN RESPUESTA\",(IF(J873<=M873,\"A TIEMPO\",\"FUERA DE TIEMPO\"))))","v":"A TIEMPO"},{"$f":"IF(J873=\"\",\"\",NETWORKDAYS(C873+1,J873,DiasNOLaborables))","v":20},"",null,null,20]
[863,20219050051152,"2021-04-22","CIUDADANO","MODULO CONTACTENOS","SOLICITUD DE INFORMACIÓN Y DOCUMENTOS","SOLICITUD DE INFORMACIÓN HIDROMETEOROLÓGICA","NO","GRUPO DE SERVICIO AL CIUDADANO ","2021-05-21","CORREO ELECTRÓNICO",null,{"$f":"IFERROR(WORKDAY(C874,S873,DiasNOLaborables),\"\")","v":"2021-05-21"},{"$f":"+IF(C874=\"\",\"\",IF(J874=\"\",\"SIN RESPUESTA\",(IF(J874<=M874,\"A TIEMPO\",\"FUERA DE TIEMPO\"))))","v":"A TIEMPO"},{"$f":"IF(J874=\"\",\"\",NETWORKDAYS(C874+1,J874,DiasNOLaborables))","v":20},"",null,null,20]
[864,20219050051172,"2021-04-22","CIUDADANO","MODULO CONTACTENOS","SOLICITUD DE INFORMACIÓN Y DOCUMENTOS","SOLICITUD DE INFORMACIÓN HIDROMETEOROLÓGICA","NO","GRUPO DE SERVICIO AL CIUDADANO ","2021-05-21","CORREO ELECTRÓNICO",null,{"$f":"IFERROR(WORKDAY(C875,S874,DiasNOLaborables),\"\")","v":"2021-05-21"},{"$f":"+IF(C875=\"\",\"\",IF(J875=\"\",\"SIN RESPUESTA\",(IF(J875<=M875,\"A TIEMPO\",\"FUERA DE TIEMPO\"))))","v":"A TIEMPO"},{"$f":"IF(J875=\"\",\"\",NETWORKDAYS(C875+1,J875,DiasNOLaborables))","v":20},"",null,null,20]
[865,20219050051202,"2021-04-22","ACADEMIA","MODULO CONTACTENOS","SOLICITUD DE INFORMACIÓN Y DOCUMENTOS","SOLICITUD DE INFORMACIÓN HIDROMETEOROLÓGICA","NO","GRUPO DE SERVICIO AL CIUDADANO ","2021-05-21","CORREO ELECTRÓNICO",null,{"$f":"IFERROR(WORKDAY(C876,S875,DiasNOLaborables),\"\")","v":"2021-05-21"},{"$f":"+IF(C876=\"\",\"\",IF(J876=\"\",\"SIN RESPUESTA\",(IF(J876<=M876,\"A TIEMPO\",\"FUERA DE TIEMPO\"))))","v":"A TIEMPO"},{"$f":"IF(J876=\"\",\"\",NETWORKDAYS(C876+1,J876,DiasNOLaborables))","v":20},"",null,null,20]
[866,20219050051212,"2021-04-22","CIUDADANO","MODULO CONTACTENOS","SOLICITUD DE INFORMACIÓN Y DOCUMENTOS","SOLICITUD DE INFORMACIÓN HIDROMETEOROLÓGICA","NO","GRUPO DE SERVICIO AL CIUDADANO ","2021-05-21","CORREO ELECTRÓNICO",null,{"$f":"IFERROR(WORKDAY(C877,S876,DiasNOLaborables),\"\")","v":"2021-05-21"},{"$f":"+IF(C877=\"\",\"\",IF(J877=\"\",\"SIN RESPUESTA\",(IF(J877<=M877,\"A TIEMPO\",\"FUERA DE TIEMPO\"))))","v":"A TIEMPO"},{"$f":"IF(J877=\"\",\"\",NETWORKDAYS(C877+1,J877,DiasNOLaborables))","v":20},"",null,null,20]
[867,20219050051222,"2021-04-22","CIUDADANO","MODULO CONTACTENOS","SOLICITUD DE INFORMACIÓN Y DOCUMENTOS","SOLICITUD DE INFORMACIÓN HIDROMETEOROLÓGICA","NO","GRUPO DE SERVICIO AL CIUDADANO ","2021-05-21","CORREO ELECTRÓNICO",null,{"$f":"IFERROR(WORKDAY(C878,S877,DiasNOLaborables),\"\")","v":"2021-05-21"},{"$f":"+IF(C878=\"\",\"\",IF(J878=\"\",\"SIN RESPUESTA\",(IF(J878<=M878,\"A TIEMPO\",\"FUERA DE TIEMPO\"))))","v":"A TIEMPO"},{"$f":"IF(J878=\"\",\"\",NETWORKDAYS(C878+1,J878,DiasNOLaborables))","v":20},"",null,null,20]
[868,20219050051262,"2021-04-22","ACADEMIA","MODULO CONTACTENOS","SOLICITUD DE INFORMACIÓN Y DOCUMENTOS","SOLICITUD DE INFORMACIÓN HIDROMETEOROLÓGICA","NO","GRUPO DE SERVICIO AL CIUDADANO ","2021-05-21","CORREO ELECTRÓNICO",null,{"$f":"IFERROR(WORKDAY(C879,S878,DiasNOLaborables),\"\")","v":"2021-05-21"},{"$f":"+IF(C879=\"\",\"\",IF(J879=\"\",\"SIN RESPUESTA\",(IF(J879<=M879,\"A TIEMPO\",\"FUERA DE TIEMPO\"))))","v":"A TIEMPO"},{"$f":"IF(J879=\"\",\"\",NETWORKDAYS(C879+1,J879,DiasNOLaborables))","v":20},"",null,null,20]
[869,20219050051302,"2021-04-23","CIUDADANO","MODULO CONTACTENOS","SOLICITUD DE INFORMACIÓN Y DOCUMENTOS","SOLICITUD DE INFORMACIÓN HIDROMETEOROLÓGICA","NO","GRUPO DE SERVICIO AL CIUDADANO ","2021-05-24","CORREO ELECTRÓNICO",null,{"$f":"IFERROR(WORKDAY(C880,S879,DiasNOLaborables),\"\")","v":"2021-05-24"},{"$f":"+IF(C880=\"\",\"\",IF(J880=\"\",\"SIN RESPUESTA\",(IF(J880<=M880,\"A TIEMPO\",\"FUERA DE TIEMPO\"))))","v":"A TIEMPO"},{"$f":"IF(J880=\"\",\"\",NETWORKDAYS(C880+1,J880,DiasNOLaborables))","v":20},"",null,null,20]
[870,20219050051342,"2021-04-23","CIUDADANO","MODULO CONTACTENOS","SOLICITUD DE INFORMACIÓN Y DOCUMENTOS","SOLICITUD DE INFORMACIÓN HIDROMETEOROLÓGICA","NO","GRUPO DE SERVICIO AL CIUDADANO ","2021-05-24","CORREO ELECTRÓNICO",null,{"$f":"IFERROR(WORKDAY(C881,S880,DiasNOLaborables),\"\")","v":"2021-05-24"},{"$f":"+IF(C881=\"\",\"\",IF(J881=\"\",\"SIN RESPUESTA\",(IF(J881<=M881,\"A TIEMPO\",\"FUERA DE TIEMPO\"))))","v":"A TIEMPO"},{"$f":"IF(J881=\"\",\"\",NETWORKDAYS(C881+1,J881,DiasNOLaborables))","v":20},"",null,null,20]
[871,20219050051352,"2021-04-23","CIUDADANO","MODULO CONTACTENOS","SOLICITUD DE INFORMACIÓN Y DOCUMENTOS","SOLICITUD DE INFORMACIÓN HIDROMETEOROLÓGICA","NO","GRUPO DE SERVICIO AL CIUDADANO ","2021-05-24","CORREO ELECTRÓNICO",null,{"$f":"IFERROR(WORKDAY(C882,S881,DiasNOLaborables),\"\")","v":"2021-05-24"},{"$f":"+IF(C882=\"\",\"\",IF(J882=\"\",\"SIN RESPUESTA\",(IF(J882<=M882,\"A TIEMPO\",\"FUERA DE TIEMPO\"))))","v":"A TIEMPO"},{"$f":"IF(J882=\"\",\"\",NETWORKDAYS(C882+1,J882,DiasNOLaborables))","v":20},"",null,null,20]
[872,20219050051362,"2021-04-23","CIUDADANO","MODULO CONTACTENOS","SOLICITUD DE INFORMACIÓN Y DOCUMENTOS","SOLICITUD DE INFORMACIÓN HIDROMETEOROLÓGICA","NO","GRUPO DE SERVICIO AL CIUDADANO ","2021-05-24","CORREO ELECTRÓNICO",null,{"$f":"IFERROR(WORKDAY(C883,S882,DiasNOLaborables),\"\")","v":"2021-05-24"},{"$f":"+IF(C883=\"\",\"\",IF(J883=\"\",\"SIN RESPUESTA\",(IF(J883<=M883,\"A TIEMPO\",\"FUERA DE TIEMPO\"))))","v":"A TIEMPO"},{"$f":"IF(J883=\"\",\"\",NETWORKDAYS(C883+1,J883,DiasNOLaborables))","v":20},"",null,null,20]
[873,20219050051382,"2021-04-23","CIUDADANO","MODULO CONTACTENOS","SOLICITUD DE INFORMACIÓN Y DOCUMENTOS","SOLICITUD DE INFORMACIÓN HIDROMETEOROLÓGICA","NO","GRUPO DE SERVICIO AL CIUDADANO ","2021-05-24","CORREO ELECTRÓNICO",null,{"$f":"IFERROR(WORKDAY(C884,S883,DiasNOLaborables),\"\")","v":"2021-05-24"},{"$f":"+IF(C884=\"\",\"\",IF(J884=\"\",\"SIN RESPUESTA\",(IF(J884<=M884,\"A TIEMPO\",\"FUERA DE TIEMPO\"))))","v":"A TIEMPO"},{"$f":"IF(J884=\"\",\"\",NETWORKDAYS(C884+1,J884,DiasNOLaborables))","v":20},"",null,null,20]
[874,20219050051392,"2021-04-23","CIUDADANO","MODULO CONTACTENOS","SOLICITUD DE INFORMACIÓN Y DOCUMENTOS","SOLICITUD DE INFORMACIÓN HIDROMETEOROLÓGICA","NO","GRUPO DE SERVICIO AL CIUDADANO ","2021-05-24","CORREO ELECTRÓNICO",null,{"$f":"IFERROR(WORKDAY(C885,S884,DiasNOLaborables),\"\")","v":"2021-05-24"},{"$f":"+IF(C885=\"\",\"\",IF(J885=\"\",\"SIN RESPUESTA\",(IF(J885<=M885,\"A TIEMPO\",\"FUERA DE TIEMPO\"))))","v":"A TIEMPO"},{"$f":"IF(J885=\"\",\"\",NETWORKDAYS(C885+1,J885,DiasNOLaborables))","v":20},"",null,null,20]
[875,20219050051432,"2021-04-23","ACADEMIA","MODULO CONTACTENOS","SOLICITUD DE INFORMACIÓN Y DOCUMENTOS","SOLICITUD DE INFORMACIÓN HIDROMETEOROLÓGICA","NO","GRUPO DE SERVICIO AL CIUDADANO ","2021-05-24","CORREO ELECTRÓNICO",null,{"$f":"IFERROR(WORKDAY(C886,S885,DiasNOLaborables),\"\")","v":"2021-05-24"},{"$f":"+IF(C886=\"\",\"\",IF(J886=\"\",\"SIN RESPUESTA\",(IF(J886<=M886,\"A TIEMPO\",\"FUERA DE TIEMPO\"))))","v":"A TIEMPO"},{"$f":"IF(J886=\"\",\"\",NETWORKDAYS(C886+1,J886,DiasNOLaborables))","v":20},"",null,null,20]
[876,20219050051622,"2021-04-23","CIUDADANO","MODULO CONTACTENOS","SOLICITUD DE INFORMACIÓN Y DOCUMENTOS","SOLICITUD DE INFORMACIÓN HIDROMETEOROLÓGICA","NO","GRUPO DE SERVICIO AL CIUDADANO ","2021-05-24","CORREO ELECTRÓNICO",null,{"$f":"IFERROR(WORKDAY(C887,S886,DiasNOLaborables),\"\")","v":"2021-05-24"},{"$f":"+IF(C887=\"\",\"\",IF(J887=\"\",\"SIN RESPUESTA\",(IF(J887<=M887,\"A TIEMPO\",\"FUERA DE TIEMPO\"))))","v":"A TIEMPO"},{"$f":"IF(J887=\"\",\"\",NETWORKDAYS(C887+1,J887,DiasNOLaborables))","v":20},"",null,null,20]
[877,20219050051272,"2021-04-23","ACADEMIA","MODULO CONTACTENOS","SOLICITUD DE INFORMACIÓN Y DOCUMENTOS","SOLICITUD DE INFORMACIÓN HIDROMETEOROLÓGICA","NO","GRUPO DE SERVICIO AL CIUDADANO ","2021-05-21","CORREO ELECTRÓNICO",null,{"$f":"IFERROR(WORKDAY(C888,S887,DiasNOLaborables),\"\")","v":"2021-05-24"},{"$f":"+IF(C888=\"\",\"\",IF(J888=\"\",\"SIN RESPUESTA\",(IF(J888<=M888,\"A TIEMPO\",\"FUERA DE TIEMPO\"))))","v":"A TIEMPO"},{"$f":"IF(J888=\"\",\"\",NETWORKDAYS(C888+1,J888,DiasNOLaborables))","v":19},"",null,null,20]
[878,20219050051582,"2021-04-23","CIUDADANO","MODULO CONTACTENOS","SOLICITUD DE INFORMACIÓN Y DOCUMENTOS","SOLICITUD DE INFORMACIÓN HIDROMETEOROLÓGICA","NO","GRUPO DE SERVICIO AL CIUDADANO ","2021-05-22","CORREO ELECTRÓNICO",null,{"$f":"IFERROR(WORKDAY(C889,S888,DiasNOLaborables),\"\")","v":"2021-05-24"},{"$f":"+IF(C889=\"\",\"\",IF(J889=\"\",\"SIN RESPUESTA\",(IF(J889<=M889,\"A TIEMPO\",\"FUERA DE TIEMPO\"))))","v":"A TIEMPO"},{"$f":"IF(J889=\"\",\"\",NETWORKDAYS(C889+1,J889,DiasNOLaborables))","v":19},"",null,null,20]
[879,20219050051602,"2021-04-23","ACADEMIA ","MODULO CONTACTENOS","SOLICITUD DE INFORMACIÓN Y DOCUMENTOS","SOLICITUD DE INFORMACIÓN HIDROMETEOROLÓGICA","NO","GRUPO DE SERVICIO AL CIUDADANO ","2021-05-22","CORREO ELECTRÓNICO",null,{"$f":"IFERROR(WORKDAY(C890,S889,DiasNOLaborables),\"\")","v":"2021-05-24"},{"$f":"+IF(C890=\"\",\"\",IF(J890=\"\",\"SIN RESPUESTA\",(IF(J890<=M890,\"A TIEMPO\",\"FUERA DE TIEMPO\"))))","v":"A TIEMPO"},{"$f":"IF(J890=\"\",\"\",NETWORKDAYS(C890+1,J890,DiasNOLaborables))","v":19},"",null,null,20]
[880,20219050051522,"2021-04-23","CIUDADANO","MODULO CONTACTENOS","SOLICITUD DE INFORMACIÓN Y DOCUMENTOS","SOLICITUD DE INFORMACIÓN HIDROMETEOROLÓGICA","NO","GRUPO DE SERVICIO AL CIUDADANO ","2021-05-23","CORREO ELECTRÓNICO",null,{"$f":"IFERROR(WORKDAY(C891,S890,DiasNOLaborables),\"\")","v":"2021-05-24"},{"$f":"+IF(C891=\"\",\"\",IF(J891=\"\",\"SIN RESPUESTA\",(IF(J891<=M891,\"A TIEMPO\",\"FUERA DE TIEMPO\"))))","v":"A TIEMPO"},{"$f":"IF(J891=\"\",\"\",NETWORKDAYS(C891+1,J891,DiasNOLaborables))","v":19},"",null,null,20]
[881,20219050051632,"2021-04-23","ACADEMIA ","MODULO CONTACTENOS","SOLICITUD DE INFORMACIÓN Y DOCUMENTOS","SOLICITUD DE INFORMACIÓN HIDROMETEOROLÓGICA","NO","GRUPO DE SERVICIO AL CIUDADANO ","2021-05-23","CORREO ELECTRÓNICO",null,{"$f":"IFERROR(WORKDAY(C892,S891,DiasNOLaborables),\"\")","v":"2021-05-24"},{"$f":"+IF(C892=\"\",\"\",IF(J892=\"\",\"SIN RESPUESTA\",(IF(J892<=M892,\"A TIEMPO\",\"FUERA DE TIEMPO\"))))","v":"A TIEMPO"},{"$f":"IF(J892=\"\",\"\",NETWORKDAYS(C892+1,J892,DiasNOLaborables))","v":19},"",null,null,20]
[882,20219050051402,"2021-04-23","CIUDADANO","CORREO ELECTRÓNICO","SOLICITUD DE INFORMACIÓN Y DOCUMENTOS","REGISTROS AMBIENTALES","SI","SUBDIRECCIÓN DE ESTUDIOS AMBIENTALES","2021-04-23","CORREO ELECTRÓNICO",null,{"$f":"IFERROR(WORKDAY(C893,S892,DiasNOLaborables),\"\")","v":"2021-05-24"},{"$f":"+IF(C893=\"\",\"\",IF(J893=\"\",\"SIN RESPUESTA\",(IF(J893<=M893,\"A TIEMPO\",\"FUERA DE TIEMPO\"))))","v":"A TIEMPO"},{"$f":"IF(J893=\"\",\"\",NETWORKDAYS(C893+1,J893,DiasNOLaborables))","v":-1},"",null,null,20]
[883,20219050051412,"2021-04-23","EMPRESA PRIVADA","CORREO ELECTRÓNICO","SOLICITUD DE INFORMACIÓN Y DOCUMENTOS","REGISTROS AMBIENTALES","SI","SUBDIRECCIÓN DE ESTUDIOS AMBIENTALES","2021-04-23","CORREO ELECTRÓNICO",null,{"$f":"IFERROR(WORKDAY(C894,S893,DiasNOLaborables),\"\")","v":"2021-05-24"},{"$f":"+IF(C894=\"\",\"\",IF(J894=\"\",\"SIN RESPUESTA\",(IF(J894<=M894,\"A TIEMPO\",\"FUERA DE TIEMPO\"))))","v":"A TIEMPO"},{"$f":"IF(J894=\"\",\"\",NETWORKDAYS(C894+1,J894,DiasNOLaborables))","v":-1},"",null,null,20]
[884,20219050051422,"2021-04-23","CIUDADANO","CORREO ELECTRÓNICO","SOLICITUD DE INFORMACIÓN Y DOCUMENTOS","ACREDITACIÓN DE LABORATORIOS","SI","SUBDIRECCIÓN DE ESTUDIOS AMBIENTALES","2021-05-03","CORREO ELECTRÓNICO",null,{"$f":"IFERROR(WORKDAY(C895,S894,DiasNOLaborables),\"\")","v":"2021-05-24"},{"$f":"+IF(C895=\"\",\"\",IF(J895=\"\",\"SIN RESPUESTA\",(IF(J895<=M895,\"A TIEMPO\",\"FUERA DE TIEMPO\"))))","v":"A TIEMPO"},{"$f":"IF(J895=\"\",\"\",NETWORKDAYS(C895+1,J895,DiasNOLaborables))","v":6},"",null,null,35]
[885,20219050051442,"2021-04-23","CIUDADANO","CORREO ELECTRÓNICO","CERTIFICACIONES DE TIEMPO, CLIMA Y EVENTOS HIDROLÓGICOS","CERTIFICACIONES DE TIEMPO Y CLIMA","SI","SUBDIRECCIÓN DE METEOROLOGÍA","2021-05-12","CORREO ELECTRÓNICO",null,{"$f":"IFERROR(WORKDAY(C896,S895,DiasNOLaborables),\"\")","v":"2021-06-16"},{"$f":"+IF(C896=\"\",\"\",IF(J896=\"\",\"SIN RESPUESTA\",(IF(J896<=M896,\"A TIEMPO\",\"FUERA DE TIEMPO\"))))","v":"A TIEMPO"},{"$f":"IF(J896=\"\",\"\",NETWORKDAYS(C896+1,J896,DiasNOLaborables))","v":13},"",null,null,35]
[886,20219050051452,"2021-04-23","CIUDADANO","CORREO ELECTRÓNICO","CERTIFICACIONES DE TIEMPO, CLIMA Y EVENTOS HIDROLÓGICOS","CERTIFICACIONES DE TIEMPO Y CLIMA","SI","SUBDIRECCIÓN DE METEOROLOGÍA","2021-04-23","CORREO ELECTRÓNICO",null,{"$f":"IFERROR(WORKDAY(C897,S896,DiasNOLaborables),\"\")","v":"2021-06-16"},{"$f":"+IF(C897=\"\",\"\",IF(J897=\"\",\"SIN RESPUESTA\",(IF(J897<=M897,\"A TIEMPO\",\"FUERA DE TIEMPO\"))))","v":"A TIEMPO"},{"$f":"IF(J897=\"\",\"\",NETWORKDAYS(C897+1,J897,DiasNOLaborables))","v":-1},"",null,null,20]
[887,20219050051462,"2021-04-23","CIUDADANO","CORREO ELECTRÓNICO","SOLICITUD DE INFORMACIÓN Y DOCUMENTOS","REGISTROS AMBIENTALES","SI","SUBDIRECCIÓN DE ESTUDIOS AMBIENTALES","2021-05-12","CORREO ELECTRÓNICO",null,{"$f":"IFERROR(WORKDAY(C898,S897,DiasNOLaborables),\"\")","v":"2021-05-24"},{"$f":"+IF(C898=\"\",\"\",IF(J898=\"\",\"SIN RESPUESTA\",(IF(J898<=M898,\"A TIEMPO\",\"FUERA DE TIEMPO\"))))","v":"A TIEMPO"},{"$f":"IF(J898=\"\",\"\",NETWORKDAYS(C898+1,J898,DiasNOLaborables))","v":13},"",null,null,35]
[888,20219050051482,"2021-04-23","EMPRESA PRIVADA","CORREO ELECTRÓNICO","CERTIFICACIONES DE TIEMPO, CLIMA Y EVENTOS HIDROLÓGICOS","CERTIFICACIONES DE TIEMPO Y CLIMA","SI","SUBDIRECCIÓN DE METEOROLOGÍA","2021-05-03","CORREO ELECTRÓNICO",null,{"$f":"IFERROR(WORKDAY(C899,S898,DiasNOLaborables),\"\")","v":"2021-06-16"},{"$f":"+IF(C899=\"\",\"\",IF(J899=\"\",\"SIN RESPUESTA\",(IF(J899<=M899,\"A TIEMPO\",\"FUERA DE TIEMPO\"))))","v":"A TIEMPO"},{"$f":"IF(J899=\"\",\"\",NETWORKDAYS(C899+1,J899,DiasNOLaborables))","v":6},"",null,null,20]
[889,20219050051472,"2021-04-23","FUNCIONARIO IDEAM","MODULO CONTACTENOS","SOLICITUD DE INFORMACIÓN Y DOCUMENTOS","ADMINISTRATIVA","SI","GRUPO DE ADMINISTRACIÓN Y DESARROLLO DEL TALENTO HUMANO","2021-05-03","CORREO ELECTRÓNICO",null,{"$f":"IFERROR(WORKDAY(C900,S899,DiasNOLaborables),\"\")","v":"2021-05-24"},{"$f":"+IF(C900=\"\",\"\",IF(J900=\"\",\"SIN RESPUESTA\",(IF(J900<=M900,\"A TIEMPO\",\"FUERA DE TIEMPO\"))))","v":"A TIEMPO"},{"$f":"IF(J900=\"\",\"\",NETWORKDAYS(C900+1,J900,DiasNOLaborables))","v":6},"",null,null,20]
[890,20219050051532,"2021-04-23","ENTIDAD PÚBLICA","CORREO ELECTRÓNICO","SOLICITUD DE INFORMACIÓN Y DOCUMENTOS","REGISTROS AMBIENTALES","SI","SUBDIRECCIÓN DE ESTUDIOS AMBIENTALES","2021-04-25","CORREO ELECTRÓNICO",null,{"$f":"IFERROR(WORKDAY(C901,S900,DiasNOLaborables),\"\")","v":"2021-05-24"},{"$f":"+IF(C901=\"\",\"\",IF(J901=\"\",\"SIN RESPUESTA\",(IF(J901<=M901,\"A TIEMPO\",\"FUERA DE TIEMPO\"))))","v":"A TIEMPO"},{"$f":"IF(J901=\"\",\"\",NETWORKDAYS(C901+1,J901,DiasNOLaborables))","v":0},"",null,null,20]
[891,20219050051542,"2021-04-23","ENTIDAD PÚBLICA","CORREO ELECTRÓNICO","SOLICITUD DE INFORMACIÓN Y DOCUMENTOS","REGISTROS AMBIENTALES","SI","SUBDIRECCIÓN DE ESTUDIOS AMBIENTALES","2021-04-25","CORREO ELECTRÓNICO",null,{"$f":"IFERROR(WORKDAY(C902,S901,DiasNOLaborables),\"\")","v":"2021-05-24"},{"$f":"+IF(C902=\"\",\"\",IF(J902=\"\",\"SIN RESPUESTA\",(IF(J902<=M902,\"A TIEMPO\",\"FUERA DE TIEMPO\"))))","v":"A TIEMPO"},{"$f":"IF(J902=\"\",\"\",NETWORKDAYS(C902+1,J902,DiasNOLaborables))","v":0},"",null,null,20]
[892,20219050051552,"2021-04-23","CIUDADANO","MODULO CONTACTENOS","SOLICITUD DE INFORMACIÓN Y DOCUMENTOS","REGISTROS AMBIENTALES","SI","SUBDIRECCIÓN DE ESTUDIOS AMBIENTALES","2021-04-25","CORREO ELECTRÓNICO",null,{"$f":"IFERROR(WORKDAY(C903,S902,DiasNOLaborables),\"\")","v":"2021-05-24"},{"$f":"+IF(C903=\"\",\"\",IF(J903=\"\",\"SIN RESPUESTA\",(IF(J903<=M903,\"A TIEMPO\",\"FUERA DE TIEMPO\"))))","v":"A TIEMPO"},{"$f":"IF(J903=\"\",\"\",NETWORKDAYS(C903+1,J903,DiasNOLaborables))","v":0},"",null,null,20]
[893,20219050051562,"2021-04-23","CIUDADANO","MODULO CONTACTENOS","SOLICITUD DE INFORMACIÓN Y DOCUMENTOS","REGISTROS AMBIENTALES","SI","SUBDIRECCIÓN DE ESTUDIOS AMBIENTALES","2021-04-25","CORREO ELECTRÓNICO",null,{"$f":"IFERROR(WORKDAY(C904,S903,DiasNOLaborables),\"\")","v":"2021-05-24"},{"$f":"+IF(C904=\"\",\"\",IF(J904=\"\",\"SIN RESPUESTA\",(IF(J904<=M904,\"A TIEMPO\",\"FUERA DE TIEMPO\"))))","v":"A TIEMPO"},{"$f":"IF(J904=\"\",\"\",NETWORKDAYS(C904+1,J904,DiasNOLaborables))","v":0},{"$f":"IF(NETWORKDAYS(M904+1,J904,DiasNOLaborables)<=0,\"\",NETWORKDAYS(M904+1,J904,DiasNOLaborables))","v":""},null,null,20]
[894,20219050051572,"2021-04-23","CIUDADANO","MODULO CONTACTENOS","SOLICITUD DE INFORMACIÓN Y DOCUMENTOS","REGISTROS AMBIENTALES","SI","SUBDIRECCIÓN DE ESTUDIOS AMBIENTALES","2021-04-23","CORREO ELECTRÓNICO",null,{"$f":"IFERROR(WORKDAY(C905,S904,DiasNOLaborables),\"\")","v":"2021-05-24"},{"$f":"+IF(C905=\"\",\"\",IF(J905=\"\",\"SIN RESPUESTA\",(IF(J905<=M905,\"A TIEMPO\",\"FUERA DE TIEMPO\"))))","v":"A TIEMPO"},{"$f":"IF(J905=\"\",\"\",NETWORKDAYS(C905+1,J905,DiasNOLaborables))","v":-1},"",null,null,20]
[895,20219050051612,"2021-04-23","CIUDADANO","MODULO CONTACTENOS","SOLICITUD DE INFORMACIÓN Y DOCUMENTOS","SIRH","SI","SUBDIRECCIÓN DE HIDROLOGÍA","2021-05-02","CORREO ELECTRÓNICO",null,{"$f":"IFERROR(WORKDAY(C906,S905,DiasNOLaborables),\"\")","v":"2021-05-24"},{"$f":"+IF(C906=\"\",\"\",IF(J906=\"\",\"SIN RESPUESTA\",(IF(J906<=M906,\"A TIEMPO\",\"FUERA DE TIEMPO\"))))","v":"A TIEMPO"},{"$f":"IF(J906=\"\",\"\",NETWORKDAYS(C906+1,J906,DiasNOLaborables))","v":5},"",null,null,30]
[896,20219050051502,"2021-04-23","CIUDADANO","CORREO ELECTRÓNICO","PETICIÓN","BOSQUES","SI","SUBDIRECCIÓN DE ECOSISTEMAS E INFORMACIÓN AMBIENTAL","2021-05-06","CORREO ELECTRÓNICO",null,{"$f":"IFERROR(WORKDAY(C907,S906,DiasNOLaborables),\"\")","v":"2021-06-08"},{"$f":"+IF(C907=\"\",\"\",IF(J907=\"\",\"SIN RESPUESTA\",(IF(J907<=M907,\"A TIEMPO\",\"FUERA DE TIEMPO\"))))","v":"A TIEMPO"},{"$f":"IF(J907=\"\",\"\",NETWORKDAYS(C907+1,J907,DiasNOLaborables))","v":9},"",null,null,20]
[897,20219050051652,"2021-04-24","CIUDADANO","MODULO CONTACTENOS","SOLICITUD DE INFORMACIÓN Y DOCUMENTOS","ADMINISTRATIVA","SI","GRUPO DE ADMINISTRACIÓN Y DESARROLLO DEL TALENTO HUMANO","2021-04-29","CORREO ELECTRÓNICO",null,{"$f":"IFERROR(WORKDAY(C908,S907,DiasNOLaborables),\"\")","v":"2021-05-24"},{"$f":"+IF(C908=\"\",\"\",IF(J908=\"\",\"SIN RESPUESTA\",(IF(J908<=M908,\"A TIEMPO\",\"FUERA DE TIEMPO\"))))","v":"A TIEMPO"},{"$f":"IF(J908=\"\",\"\",NETWORKDAYS(C908+1,J908,DiasNOLaborables))","v":4},"",null,null,20]
[898,20219050051692,"2021-04-24","CIUDADANO","MODULO CONTACTENOS","SOLICITUD DE INFORMACIÓN Y DOCUMENTOS","OPERACIÓN DE REDES","SI","SUBDIRECCIÓN DE HIDROLOGÍA","2021-05-20","CORREO ELECTRÓNICO",null,{"$f":"IFERROR(WORKDAY(C909,S908,DiasNOLaborables),\"\")","v":"2021-05-24"},{"$f":"+IF(C909=\"\",\"\",IF(J909=\"\",\"SIN RESPUESTA\",(IF(J909<=M909,\"A TIEMPO\",\"FUERA DE TIEMPO\"))))","v":"A TIEMPO"},{"$f":"IF(J909=\"\",\"\",NETWORKDAYS(C909+1,J909,DiasNOLaborables))","v":18},"",null,null,{"$f":"IFERROR(VLOOKUP(F910,$AA$51:$AB$64,2),\"\")","v":20}]
[{"$f":"IF(B910<>\"\",A909+1,\"\")","v":899},20219050051642,"2021-04-24","CIUDADANO","MODULO CONTACTENOS","SOLICITUD DE INFORMACIÓN Y DOCUMENTOS","SOLICITUD DE INFORMACIÓN HIDROMETEOROLÓGICA","NO","GRUPO DE SERVICIO AL CIUDADANO ","2021-05-24","CORREO ELECTRÓNICO",null,{"$f":"IFERROR(WORKDAY(C910,S909,DiasNOLaborables),\"\")","v":"2021-05-24"},{"$f":"+IF(C910=\"\",\"\",IF(J910=\"\",\"SIN RESPUESTA\",(IF(J910<=M910,\"A TIEMPO\",\"FUERA DE TIEMPO\"))))","v":"A TIEMPO"},{"$f":"IF(J910=\"\",\"\",NETWORKDAYS(C910+1,J910,DiasNOLaborables))","v":20},"",null,null,20]
[900,20219050051712,"2021-04-24","CIUDADANO","MODULO CONTACTENOS","SOLICITUD DE INFORMACIÓN Y DOCUMENTOS","SOLICITUD DE INFORMACIÓN HIDROMETEOROLÓGICA","NO","GRUPO DE SERVICIO AL CIUDADANO ","2021-05-24","CORREO ELECTRÓNICO",null,{"$f":"IFERROR(WORKDAY(C911,S910,DiasNOLaborables),\"\")","v":"2021-05-24"},{"$f":"+IF(C911=\"\",\"\",IF(J911=\"\",\"SIN RESPUESTA\",(IF(J911<=M911,\"A TIEMPO\",\"FUERA DE TIEMPO\"))))","v":"A TIEMPO"},{"$f":"IF(J911=\"\",\"\",NETWORKDAYS(C911+1,J911,DiasNOLaborables))","v":20},"",null,null,20]
[901,20219050051702,"2021-04-24","ACADEMIA","MODULO CONTACTENOS","SOLICITUD DE INFORMACIÓN Y DOCUMENTOS","SOLICITUD DE INFORMACIÓN HIDROMETEOROLÓGICA","NO","GRUPO DE SERVICIO AL CIUDADANO ","2021-05-24","CORREO ELECTRÓNICO",null,{"$f":"IFERROR(WORKDAY(C912,S911,DiasNOLaborables),\"\")","v":"2021-05-24"},{"$f":"+IF(C912=\"\",\"\",IF(J912=\"\",\"SIN RESPUESTA\",(IF(J912<=M912,\"A TIEMPO\",\"FUERA DE TIEMPO\"))))","v":"A TIEMPO"},{"$f":"IF(J912=\"\",\"\",NETWORKDAYS(C912+1,J912,DiasNOLaborables))","v":20},"",null,null,20]
[902,20219050051682,"2021-04-24","ACADEMIA","MODULO CONTACTENOS","SOLICITUD DE INFORMACIÓN Y DOCUMENTOS","SOLICITUD DE INFORMACIÓN HIDROMETEOROLÓGICA","NO","GRUPO DE SERVICIO AL CIUDADANO ","2021-05-24","CORREO ELECTRÓNICO",null,{"$f":"IFERROR(WORKDAY(C913,S912,DiasNOLaborables),\"\")","v":"2021-05-24"},{"$f":"+IF(C913=\"\",\"\",IF(J913=\"\",\"SIN RESPUESTA\",(IF(J913<=M913,\"A TIEMPO\",\"FUERA DE TIEMPO\"))))","v":"A TIEMPO"},{"$f":"IF(J913=\"\",\"\",NETWORKDAYS(C913+1,J913,DiasNOLaborables))","v":20},"",null,null,20]
[903,20219050051672,"2021-04-24","CIUDADANO","MODULO CONTACTENOS","SOLICITUD DE INFORMACIÓN Y DOCUMENTOS","SOLICITUD DE INFORMACIÓN HIDROMETEOROLÓGICA","NO","GRUPO DE SERVICIO AL CIUDADANO ","2021-05-24","CORREO ELECTRÓNICO",null,{"$f":"IFERROR(WORKDAY(C914,S913,DiasNOLaborables),\"\")","v":"2021-05-24"},{"$f":"+IF(C914=\"\",\"\",IF(J914=\"\",\"SIN RESPUESTA\",(IF(J914<=M914,\"A TIEMPO\",\"FUERA DE TIEMPO\"))))","v":"A TIEMPO"},{"$f":"IF(J914=\"\",\"\",NETWORKDAYS(C914+1,J914,DiasNOLaborables))","v":20},"",null,null,20]
[904,20219050051662,"2021-04-24","CIUDADANO","MODULO CONTACTENOS","SOLICITUD DE INFORMACIÓN Y DOCUMENTOS","SOLICITUD DE INFORMACIÓN HIDROMETEOROLÓGICA","NO","GRUPO DE SERVICIO AL CIUDADANO ","2021-05-24","CORREO ELECTRÓNICO",null,{"$f":"IFERROR(WORKDAY(C915,S914,DiasNOLaborables),\"\")","v":"2021-05-24"},{"$f":"+IF(C915=\"\",\"\",IF(J915=\"\",\"SIN RESPUESTA\",(IF(J915<=M915,\"A TIEMPO\",\"FUERA DE TIEMPO\"))))","v":"A TIEMPO"},{"$f":"IF(J915=\"\",\"\",NETWORKDAYS(C915+1,J915,DiasNOLaborables))","v":20},"",null,null,20]
[905,20219050051792,"2021-04-25","CIUDADANO","MODULO CONTACTENOS","SOLICITUD DE INFORMACIÓN Y DOCUMENTOS","SOLICITUD DE INFORMACIÓN HIDROMETEOROLÓGICA","NO","GRUPO DE SERVICIO AL CIUDADANO ","2021-05-24","CORREO ELECTRÓNICO",null,{"$f":"IFERROR(WORKDAY(C916,S915,DiasNOLaborables),\"\")","v":"2021-05-24"},{"$f":"+IF(C916=\"\",\"\",IF(J916=\"\",\"SIN RESPUESTA\",(IF(J916<=M916,\"A TIEMPO\",\"FUERA DE TIEMPO\"))))","v":"A TIEMPO"},{"$f":"IF(J916=\"\",\"\",NETWORKDAYS(C916+1,J916,DiasNOLaborables))","v":20},"",null,null,35]
[906,20219050051722,"2021-04-25","CIUDADANO","MODULO CONTACTENOS","CERTIFICACIONES DE TIEMPO, CLIMA Y EVENTOS HIDROLÓGICOS","CERTIFICACIONES DE TIEMPO Y CLIMA","SI","SUBDIRECCIÓN DE METEOROLOGÍA","2021-05-12","CORREO ELECTRÓNICO",null,{"$f":"IFERROR(WORKDAY(C917,S916,DiasNOLaborables),\"\")","v":"2021-06-16"},{"$f":"+IF(C917=\"\",\"\",IF(J917=\"\",\"SIN RESPUESTA\",(IF(J917<=M917,\"A TIEMPO\",\"FUERA DE TIEMPO\"))))","v":"A TIEMPO"},{"$f":"IF(J917=\"\",\"\",NETWORKDAYS(C917+1,J917,DiasNOLaborables))","v":13},"",null,null,20]
[907,20219050051732,"2021-04-25","CIUDADANO","MODULO CONTACTENOS","SOLICITUD DE INFORMACIÓN Y DOCUMENTOS","CAMBIO CLIMÁTICO","SI","SUBDIRECCIÓN DE ESTUDIOS AMBIENTALES","2021-05-18","CORREO ELECTRÓNICO",null,{"$f":"IFERROR(WORKDAY(C918,S917,DiasNOLaborables),\"\")","v":"2021-05-24"},{"$f":"+IF(C918=\"\",\"\",IF(J918=\"\",\"SIN RESPUESTA\",(IF(J918<=M918,\"A TIEMPO\",\"FUERA DE TIEMPO\"))))","v":"A TIEMPO"},{"$f":"IF(J918=\"\",\"\",NETWORKDAYS(C918+1,J918,DiasNOLaborables))","v":16},"",null,null,20]
[908,20219050051782,"2021-04-25","CIUDADANO","MODULO CONTACTENOS","SOLICITUD DE INFORMACIÓN Y DOCUMENTOS","ADMINISTRATIVA","SI","GRUPO DE ADMINISTRACIÓN Y DESARROLLO DEL TALENTO HUMANO","2021-04-27","CORREO ELECTRÓNICO",null,{"$f":"IFERROR(WORKDAY(C919,S918,DiasNOLaborables),\"\")","v":"2021-05-24"},{"$f":"+IF(C919=\"\",\"\",IF(J919=\"\",\"SIN RESPUESTA\",(IF(J919<=M919,\"A TIEMPO\",\"FUERA DE TIEMPO\"))))","v":"A TIEMPO"},{"$f":"IF(J919=\"\",\"\",NETWORKDAYS(C919+1,J919,DiasNOLaborables))","v":2},"",null,null,20]
[909,20219050051862,"2021-04-26","CIUDADANO","MODULO CONTACTENOS","SOLICITUD DE INFORMACIÓN Y DOCUMENTOS","SIA","SI","SUBDIRECCIÓN DE ECOSISTEMAS E INFORMACIÓN AMBIENTAL","2021-05-11","CORREO ELECTRÓNICO",null,{"$f":"IFERROR(WORKDAY(C920,S919,DiasNOLaborables),\"\")","v":"2021-05-25"},{"$f":"+IF(C920=\"\",\"\",IF(J920=\"\",\"SIN RESPUESTA\",(IF(J920<=M920,\"A TIEMPO\",\"FUERA DE TIEMPO\"))))","v":"A TIEMPO"},{"$f":"IF(J920=\"\",\"\",NETWORKDAYS(C920+1,J920,DiasNOLaborables))","v":11},"",null,null,20]
[910,20219050051902,"2021-04-26","ENTIDAD PÚBLICA","MODULO CONTACTENOS","SOLICITUD DE INFORMACIÓN Y DOCUMENTOS","WEB Y CORREO","SI","OFICINA DE INFORMÁTICA","2021-05-07","CORREO ELECTRÓNICO",null,{"$f":"IFERROR(WORKDAY(C921,S920,DiasNOLaborables),\"\")","v":"2021-05-25"},{"$f":"+IF(C921=\"\",\"\",IF(J921=\"\",\"SIN RESPUESTA\",(IF(J921<=M921,\"A TIEMPO\",\"FUERA DE TIEMPO\"))))","v":"A TIEMPO"},{"$f":"IF(J921=\"\",\"\",NETWORKDAYS(C921+1,J921,DiasNOLaborables))","v":9},"",null,null,35]
[911,20219050051872,"2021-04-26","EMPRESA PRIVADA","CORREO ELECTRÓNICO","CERTIFICACIONES DE TIEMPO, CLIMA Y EVENTOS HIDROLÓGICOS","CERTIFICACIONES DE TIEMPO Y CLIMA","SI","SUBDIRECCIÓN DE METEOROLOGÍA","2021-05-12","CORREO ELECTRÓNICO",null,{"$f":"IFERROR(WORKDAY(C922,S921,DiasNOLaborables),\"\")","v":"2021-06-17"},{"$f":"+IF(C922=\"\",\"\",IF(J922=\"\",\"SIN RESPUESTA\",(IF(J922<=M922,\"A TIEMPO\",\"FUERA DE TIEMPO\"))))","v":"A TIEMPO"},{"$f":"IF(J922=\"\",\"\",NETWORKDAYS(C922+1,J922,DiasNOLaborables))","v":12},"",null,null,20]
[912,20219910022662,"2021-04-26","CIUDADANO","CORREO ELECTRÓNICO","SOLICITUD DE INFORMACIÓN Y DOCUMENTOS","CLIMATOLOGÍA","SI","SUBDIRECCIÓN DE METEOROLOGÍA","2021-05-03","CORREO ELECTRÓNICO",null,{"$f":"IFERROR(WORKDAY(C923,S922,DiasNOLaborables),\"\")","v":"2021-05-25"},{"$f":"+IF(C923=\"\",\"\",IF(J923=\"\",\"SIN RESPUESTA\",(IF(J923<=M923,\"A TIEMPO\",\"FUERA DE TIEMPO\"))))","v":"A TIEMPO"},{"$f":"IF(J923=\"\",\"\",NETWORKDAYS(C923+1,J923,DiasNOLaborables))","v":5},"",null,null,20]
[913,20219050051882,"2021-04-26","CIUDADANO","CORREO ELECTRÓNICO","SOLICITUD DE INFORMACIÓN Y DOCUMENTOS","REGISTROS AMBIENTALES","SI","SUBDIRECCIÓN DE ESTUDIOS AMBIENTALES","2021-04-26","CORREO ELECTRÓNICO",null,{"$f":"IFERROR(WORKDAY(C924,S923,DiasNOLaborables),\"\")","v":"2021-05-25"},{"$f":"+IF(C924=\"\",\"\",IF(J924=\"\",\"SIN RESPUESTA\",(IF(J924<=M924,\"A TIEMPO\",\"FUERA DE TIEMPO\"))))","v":"A TIEMPO"},{"$f":"IF(J924=\"\",\"\",NETWORKDAYS(C924+1,J924,DiasNOLaborables))","v":-2},"",null,null,20]
[914,20219050052082,"2021-04-26","CIUDADANO","MODULO CONTACTENOS","SOLICITUD DE INFORMACIÓN Y DOCUMENTOS","SOLICITUD DE INFORMACIÓN HIDROMETEOROLÓGICA","SI","SUBDIRECCIÓN DE HIDROLOGÍA","2021-05-23","CORREO ELECTRÓNICO",null,{"$f":"IFERROR(WORKDAY(C925,S924,DiasNOLaborables),\"\")","v":"2021-05-25"},{"$f":"+IF(C925=\"\",\"\",IF(J925=\"\",\"SIN RESPUESTA\",(IF(J925<=M925,\"A TIEMPO\",\"FUERA DE TIEMPO\"))))","v":"A TIEMPO"},{"$f":"IF(J925=\"\",\"\",NETWORKDAYS(C925+1,J925,DiasNOLaborables))","v":18},"",null,null,20]
[915,20219050052092,"2021-04-26","CIUDADANO","MODULO CONTACTENOS","SOLICITUD DE INFORMACIÓN Y DOCUMENTOS","SOLICITUD DE INFORMACIÓN HIDROMETEOROLÓGICA","NO","GRUPO DE SERVICIO AL CIUDADANO ","2021-05-23","CORREO ELECTRÓNICO",null,{"$f":"IFERROR(WORKDAY(C926,S925,DiasNOLaborables),\"\")","v":"2021-05-25"},{"$f":"+IF(C926=\"\",\"\",IF(J926=\"\",\"SIN RESPUESTA\",(IF(J926<=M926,\"A TIEMPO\",\"FUERA DE TIEMPO\"))))","v":"A TIEMPO"},{"$f":"IF(J926=\"\",\"\",NETWORKDAYS(C926+1,J926,DiasNOLaborables))","v":18},"",null,null,20]
[916,20219050052052,"2021-04-26","CIUDADANO","CORREO ELECTRÓNICO","SOLICITUD DE INFORMACIÓN Y DOCUMENTOS","REGISTROS AMBIENTALES","SI","SUBDIRECCIÓN DE ESTUDIOS AMBIENTALES","2021-04-26","CORREO ELECTRÓNICO",null,{"$f":"IFERROR(WORKDAY(C927,S926,DiasNOLaborables),\"\")","v":"2021-05-25"},{"$f":"+IF(C927=\"\",\"\",IF(J927=\"\",\"SIN RESPUESTA\",(IF(J927<=M927,\"A TIEMPO\",\"FUERA DE TIEMPO\"))))","v":"A TIEMPO"},{"$f":"IF(J927=\"\",\"\",NETWORKDAYS(C927+1,J927,DiasNOLaborables))","v":-2},"",null,null,20]
[917,20219050052122,"2021-04-26","EXTRANJERO","CORREO ELECTRÓNICO","SOLICITUD DE INFORMACIÓN Y DOCUMENTOS","SOLICITUD DE INFORMACIÓN HIDROMETEOROLÓGICA","SI","GRUPO DE SERVICIO AL CIUDADANO ","2021-05-10","CORREO ELECTRÓNICO",null,{"$f":"IFERROR(WORKDAY(C928,S927,DiasNOLaborables),\"\")","v":"2021-05-25"},{"$f":"+IF(C928=\"\",\"\",IF(J928=\"\",\"SIN RESPUESTA\",(IF(J928<=M928,\"A TIEMPO\",\"FUERA DE TIEMPO\"))))","v":"A TIEMPO"},{"$f":"IF(J928=\"\",\"\",NETWORKDAYS(C928+1,J928,DiasNOLaborables))","v":10},"",null,null,20]
[918,20219050052132,"2021-04-26","EXTRANJERO","CORREO ELECTRÓNICO","SOLICITUD DE INFORMACIÓN Y DOCUMENTOS","SOLICITUD DE INFORMACIÓN HIDROMETEOROLÓGICA","SI","GRUPO DE SERVICIO AL CIUDADANO ","2021-05-10","CORREO ELECTRÓNICO",null,{"$f":"IFERROR(WORKDAY(C929,S928,DiasNOLaborables),\"\")","v":"2021-05-25"},{"$f":"+IF(C929=\"\",\"\",IF(J929=\"\",\"SIN RESPUESTA\",(IF(J929<=M929,\"A TIEMPO\",\"FUERA DE TIEMPO\"))))","v":"A TIEMPO"},{"$f":"IF(J929=\"\",\"\",NETWORKDAYS(C929+1,J929,DiasNOLaborables))","v":10},"",null,null,20]
[919,20219050052232,"2021-04-26","CIUDADANO","MODULO CONTACTENOS","SOLICITUD DE INFORMACIÓN Y DOCUMENTOS","BOSQUES","SI","SUBDIRECCIÓN DE ECOSISTEMAS E INFORMACIÓN AMBIENTAL","2021-04-29","CORREO ELECTRÓNICO",null,{"$f":"IFERROR(WORKDAY(C930,S929,DiasNOLaborables),\"\")","v":"2021-05-25"},{"$f":"+IF(C930=\"\",\"\",IF(J930=\"\",\"SIN RESPUESTA\",(IF(J930<=M930,\"A TIEMPO\",\"FUERA DE TIEMPO\"))))","v":"A TIEMPO"},{"$f":"IF(J930=\"\",\"\",NETWORKDAYS(C930+1,J930,DiasNOLaborables))","v":3},"",null,null,20]
[920,20219050052102,"2021-04-26","CIUDADANO","MODULO CONTACTENOS","SOLICITUD DE INFORMACIÓN Y DOCUMENTOS","SOLICITUD DE INFORMACIÓN HIDROMETEOROLÓGICA","SI","SUBDIRECCIÓN DE HIDROLOGÍA","2021-05-24","CORREO ELECTRÓNICO",null,{"$f":"IFERROR(WORKDAY(C931,S930,DiasNOLaborables),\"\")","v":"2021-05-25"},{"$f":"+IF(C931=\"\",\"\",IF(J931=\"\",\"SIN RESPUESTA\",(IF(J931<=M931,\"A TIEMPO\",\"FUERA DE TIEMPO\"))))","v":"A TIEMPO"},{"$f":"IF(J931=\"\",\"\",NETWORKDAYS(C931+1,J931,DiasNOLaborables))","v":19},"",null,null,20]
[921,20219050052452,"2021-04-26","CIUDADANO","MODULO CONTACTENOS","SOLICITUD DE INFORMACIÓN Y DOCUMENTOS","SOLICITUD DE INFORMACIÓN HIDROMETEOROLÓGICA","NO","GRUPO DE SERVICIO AL CIUDADANO ","2021-05-24","CORREO ELECTRÓNICO",null,{"$f":"IFERROR(WORKDAY(C932,S931,DiasNOLaborables),\"\")","v":"2021-05-25"},{"$f":"+IF(C932=\"\",\"\",IF(J932=\"\",\"SIN RESPUESTA\",(IF(J932<=M932,\"A TIEMPO\",\"FUERA DE TIEMPO\"))))","v":"A TIEMPO"},{"$f":"IF(J932=\"\",\"\",NETWORKDAYS(C932+1,J932,DiasNOLaborables))","v":19},"",null,null,20]
[922,20219050052462,"2021-04-26","CIUDADANO","MODULO CONTACTENOS","SOLICITUD DE INFORMACIÓN Y DOCUMENTOS","SOLICITUD DE INFORMACIÓN HIDROMETEOROLÓGICA","NO","GRUPO DE SERVICIO AL CIUDADANO ","2021-05-24","CORREO ELECTRÓNICO",null,{"$f":"IFERROR(WORKDAY(C933,S932,DiasNOLaborables),\"\")","v":"2021-05-25"},{"$f":"+IF(C933=\"\",\"\",IF(J933=\"\",\"SIN RESPUESTA\",(IF(J933<=M933,\"A TIEMPO\",\"FUERA DE TIEMPO\"))))","v":"A TIEMPO"},{"$f":"IF(J933=\"\",\"\",NETWORKDAYS(C933+1,J933,DiasNOLaborables))","v":19},"",null,null,20]
[923,20219050051812,"2021-04-26","CIUDADANO","MODULO CONTACTENOS","SOLICITUD DE INFORMACIÓN Y DOCUMENTOS","SOLICITUD DE INFORMACIÓN HIDROMETEOROLÓGICA","NO","GRUPO DE SERVICIO AL CIUDADANO ","2021-05-25","CORREO ELECTRÓNICO",null,{"$f":"IFERROR(WORKDAY(C934,S933,DiasNOLaborables),\"\")","v":"2021-05-25"},{"$f":"+IF(C934=\"\",\"\",IF(J934=\"\",\"SIN RESPUESTA\",(IF(J934<=M934,\"A TIEMPO\",\"FUERA DE TIEMPO\"))))","v":"A TIEMPO"},{"$f":"IF(J934=\"\",\"\",NETWORKDAYS(C934+1,J934,DiasNOLaborables))","v":20},"",null,null,20]
[924,20219050051822,"2021-04-26","CIUDADANO","MODULO CONTACTENOS","SOLICITUD DE INFORMACIÓN Y DOCUMENTOS","SOLICITUD DE INFORMACIÓN HIDROMETEOROLÓGICA","NO","GRUPO DE SERVICIO AL CIUDADANO ","2021-05-25","CORREO ELECTRÓNICO",null,{"$f":"IFERROR(WORKDAY(C935,S934,DiasNOLaborables),\"\")","v":"2021-05-25"},{"$f":"+IF(C935=\"\",\"\",IF(J935=\"\",\"SIN RESPUESTA\",(IF(J935<=M935,\"A TIEMPO\",\"FUERA DE TIEMPO\"))))","v":"A TIEMPO"},{"$f":"IF(J935=\"\",\"\",NETWORKDAYS(C935+1,J935,DiasNOLaborables))","v":20},"",null,null,20]
[925,20219050051832,"2021-04-26","CIUDADANO","MODULO CONTACTENOS","SOLICITUD DE INFORMACIÓN Y DOCUMENTOS","SOLICITUD DE INFORMACIÓN HIDROMETEOROLÓGICA","NO","GRUPO DE SERVICIO AL CIUDADANO ","2021-05-25","CORREO ELECTRÓNICO",null,{"$f":"IFERROR(WORKDAY(C936,S935,DiasNOLaborables),\"\")","v":"2021-05-25"},{"$f":"+IF(C936=\"\",\"\",IF(J936=\"\",\"SIN RESPUESTA\",(IF(J936<=M936,\"A TIEMPO\",\"FUERA DE TIEMPO\"))))","v":"A TIEMPO"},{"$f":"IF(J936=\"\",\"\",NETWORKDAYS(C936+1,J936,DiasNOLaborables))","v":20},"",null,null,20]
[926,20219050051842,"2021-04-26","CIUDADANO","MODULO CONTACTENOS","SOLICITUD DE INFORMACIÓN Y DOCUMENTOS","SOLICITUD DE INFORMACIÓN HIDROMETEOROLÓGICA","NO","GRUPO DE SERVICIO AL CIUDADANO ","2021-05-25","CORREO ELECTRÓNICO",null,{"$f":"IFERROR(WORKDAY(C937,S936,DiasNOLaborables),\"\")","v":"2021-05-25"},{"$f":"+IF(C937=\"\",\"\",IF(J937=\"\",\"SIN RESPUESTA\",(IF(J937<=M937,\"A TIEMPO\",\"FUERA DE TIEMPO\"))))","v":"A TIEMPO"},{"$f":"IF(J937=\"\",\"\",NETWORKDAYS(C937+1,J937,DiasNOLaborables))","v":20},"",null,null,20]
[927,20219050051852,"2021-04-26","CIUDADANO","MODULO CONTACTENOS","SOLICITUD DE INFORMACIÓN Y DOCUMENTOS","SOLICITUD DE INFORMACIÓN HIDROMETEOROLÓGICA","NO","GRUPO DE SERVICIO AL CIUDADANO ","2021-05-25","CORREO ELECTRÓNICO",null,{"$f":"IFERROR(WORKDAY(C938,S937,DiasNOLaborables),\"\")","v":"2021-05-25"},{"$f":"+IF(C938=\"\",\"\",IF(J938=\"\",\"SIN RESPUESTA\",(IF(J938<=M938,\"A TIEMPO\",\"FUERA DE TIEMPO\"))))","v":"A TIEMPO"},{"$f":"IF(J938=\"\",\"\",NETWORKDAYS(C938+1,J938,DiasNOLaborables))","v":20},"",null,null,20]
[928,20219050051912,"2021-04-26","ACADEMIA","MODULO CONTACTENOS","SOLICITUD DE INFORMACIÓN Y DOCUMENTOS","SOLICITUD DE INFORMACIÓN HIDROMETEOROLÓGICA","NO","GRUPO DE SERVICIO AL CIUDADANO ","2021-05-25","CORREO ELECTRÓNICO",null,{"$f":"IFERROR(WORKDAY(C939,S938,DiasNOLaborables),\"\")","v":"2021-05-25"},{"$f":"+IF(C939=\"\",\"\",IF(J939=\"\",\"SIN RESPUESTA\",(IF(J939<=M939,\"A TIEMPO\",\"FUERA DE TIEMPO\"))))","v":"A TIEMPO"},{"$f":"IF(J939=\"\",\"\",NETWORKDAYS(C939+1,J939,DiasNOLaborables))","v":20},"",null,null,20]
[929,20219050051962,"2021-04-26","CIUDADANO","MODULO CONTACTENOS","SOLICITUD DE INFORMACIÓN Y DOCUMENTOS","SOLICITUD DE INFORMACIÓN HIDROMETEOROLÓGICA","NO","GRUPO DE SERVICIO AL CIUDADANO ","2021-05-25","CORREO ELECTRÓNICO",null,{"$f":"IFERROR(WORKDAY(C940,S939,DiasNOLaborables),\"\")","v":"2021-05-25"},{"$f":"+IF(C940=\"\",\"\",IF(J940=\"\",\"SIN RESPUESTA\",(IF(J940<=M940,\"A TIEMPO\",\"FUERA DE TIEMPO\"))))","v":"A TIEMPO"},{"$f":"IF(J940=\"\",\"\",NETWORKDAYS(C940+1,J940,DiasNOLaborables))","v":20},"",null,null,20]
[930,20219050051982,"2021-04-26","CIUDADANO","MODULO CONTACTENOS","SOLICITUD DE INFORMACIÓN Y DOCUMENTOS","SOLICITUD DE INFORMACIÓN HIDROMETEOROLÓGICA","NO","GRUPO DE SERVICIO AL CIUDADANO ","2021-05-25","CORREO ELECTRÓNICO",null,{"$f":"IFERROR(WORKDAY(C941,S940,DiasNOLaborables),\"\")","v":"2021-05-25"},{"$f":"+IF(C941=\"\",\"\",IF(J941=\"\",\"SIN RESPUESTA\",(IF(J941<=M941,\"A TIEMPO\",\"FUERA DE TIEMPO\"))))","v":"A TIEMPO"},{"$f":"IF(J941=\"\",\"\",NETWORKDAYS(C941+1,J941,DiasNOLaborables))","v":20},"",null,null,20]
[931,20219050051992,"2021-04-26","CIUDADANO","MODULO CONTACTENOS","SOLICITUD DE INFORMACIÓN Y DOCUMENTOS","SOLICITUD DE INFORMACIÓN HIDROMETEOROLÓGICA","NO","GRUPO DE SERVICIO AL CIUDADANO ","2021-05-25","CORREO ELECTRÓNICO",null,{"$f":"IFERROR(WORKDAY(C942,S941,DiasNOLaborables),\"\")","v":"2021-05-25"},{"$f":"+IF(C942=\"\",\"\",IF(J942=\"\",\"SIN RESPUESTA\",(IF(J942<=M942,\"A TIEMPO\",\"FUERA DE TIEMPO\"))))","v":"A TIEMPO"},{"$f":"IF(J942=\"\",\"\",NETWORKDAYS(C942+1,J942,DiasNOLaborables))","v":20},"",null,null,20]
[932,20219050052022,"2021-04-26","CIUDADANO","MODULO CONTACTENOS","SOLICITUD DE INFORMACIÓN Y DOCUMENTOS","SOLICITUD DE INFORMACIÓN HIDROMETEOROLÓGICA","NO","GRUPO DE SERVICIO AL CIUDADANO ","2021-05-25","CORREO ELECTRÓNICO",null,{"$f":"IFERROR(WORKDAY(C943,S942,DiasNOLaborables),\"\")","v":"2021-05-25"},{"$f":"+IF(C943=\"\",\"\",IF(J943=\"\",\"SIN RESPUESTA\",(IF(J943<=M943,\"A TIEMPO\",\"FUERA DE TIEMPO\"))))","v":"A TIEMPO"},{"$f":"IF(J943=\"\",\"\",NETWORKDAYS(C943+1,J943,DiasNOLaborables))","v":20},"",null,null,20]
[933,20219050052112,"2021-04-26","CIUDADANO","MODULO CONTACTENOS","SOLICITUD DE INFORMACIÓN Y DOCUMENTOS","SOLICITUD DE INFORMACIÓN HIDROMETEOROLÓGICA","NO","GRUPO DE SERVICIO AL CIUDADANO ","2021-05-25","CORREO ELECTRÓNICO",null,{"$f":"IFERROR(WORKDAY(C944,S943,DiasNOLaborables),\"\")","v":"2021-05-25"},{"$f":"+IF(C944=\"\",\"\",IF(J944=\"\",\"SIN RESPUESTA\",(IF(J944<=M944,\"A TIEMPO\",\"FUERA DE TIEMPO\"))))","v":"A TIEMPO"},{"$f":"IF(J944=\"\",\"\",NETWORKDAYS(C944+1,J944,DiasNOLaborables))","v":20},"",null,null,20]
[934,20219050052192,"2021-04-26","CIUDADANO","MODULO CONTACTENOS","SOLICITUD DE INFORMACIÓN Y DOCUMENTOS","SOLICITUD DE INFORMACIÓN HIDROMETEOROLÓGICA","NO","GRUPO DE SERVICIO AL CIUDADANO ","2021-05-25","CORREO ELECTRÓNICO",null,{"$f":"IFERROR(WORKDAY(C945,S944,DiasNOLaborables),\"\")","v":"2021-05-25"},{"$f":"+IF(C945=\"\",\"\",IF(J945=\"\",\"SIN RESPUESTA\",(IF(J945<=M945,\"A TIEMPO\",\"FUERA DE TIEMPO\"))))","v":"A TIEMPO"},{"$f":"IF(J945=\"\",\"\",NETWORKDAYS(C945+1,J945,DiasNOLaborables))","v":20},"",null,null,20]
[935,20219050052202,"2021-04-26","CIUDADANO","MODULO CONTACTENOS","SOLICITUD DE INFORMACIÓN Y DOCUMENTOS","SOLICITUD DE INFORMACIÓN HIDROMETEOROLÓGICA","NO","GRUPO DE SERVICIO AL CIUDADANO ","2021-05-25","CORREO ELECTRÓNICO",null,{"$f":"IFERROR(WORKDAY(C946,S945,DiasNOLaborables),\"\")","v":"2021-05-25"},{"$f":"+IF(C946=\"\",\"\",IF(J946=\"\",\"SIN RESPUESTA\",(IF(J946<=M946,\"A TIEMPO\",\"FUERA DE TIEMPO\"))))","v":"A TIEMPO"},{"$f":"IF(J946=\"\",\"\",NETWORKDAYS(C946+1,J946,DiasNOLaborables))","v":20},"",null,null,20]
[936,20219050052212,"2021-04-26","CIUDADANO","MODULO CONTACTENOS","SOLICITUD DE INFORMACIÓN Y DOCUMENTOS","SOLICITUD DE INFORMACIÓN HIDROMETEOROLÓGICA","NO","GRUPO DE SERVICIO AL CIUDADANO ","2021-05-25","CORREO ELECTRÓNICO",null,{"$f":"IFERROR(WORKDAY(C947,S946,DiasNOLaborables),\"\")","v":"2021-05-25"},{"$f":"+IF(C947=\"\",\"\",IF(J947=\"\",\"SIN RESPUESTA\",(IF(J947<=M947,\"A TIEMPO\",\"FUERA DE TIEMPO\"))))","v":"A TIEMPO"},{"$f":"IF(J947=\"\",\"\",NETWORKDAYS(C947+1,J947,DiasNOLaborables))","v":20},"",null,null,20]
[937,20219050052222,"2021-04-26","CIUDADANO","MODULO CONTACTENOS","SOLICITUD DE INFORMACIÓN Y DOCUMENTOS","SOLICITUD DE INFORMACIÓN HIDROMETEOROLÓGICA","NO","GRUPO DE SERVICIO AL CIUDADANO ","2021-05-25","CORREO ELECTRÓNICO",null,{"$f":"IFERROR(WORKDAY(C948,S947,DiasNOLaborables),\"\")","v":"2021-05-25"},{"$f":"+IF(C948=\"\",\"\",IF(J948=\"\",\"SIN RESPUESTA\",(IF(J948<=M948,\"A TIEMPO\",\"FUERA DE TIEMPO\"))))","v":"A TIEMPO"},{"$f":"IF(J948=\"\",\"\",NETWORKDAYS(C948+1,J948,DiasNOLaborables))","v":20},"",null,null,20]
[938,20219050052242,"2021-04-26","CIUDADANO","MODULO CONTACTENOS","SOLICITUD DE INFORMACIÓN Y DOCUMENTOS","SOLICITUD DE INFORMACIÓN HIDROMETEOROLÓGICA","NO","GRUPO DE SERVICIO AL CIUDADANO ","2021-05-25","CORREO ELECTRÓNICO",null,{"$f":"IFERROR(WORKDAY(C949,S948,DiasNOLaborables),\"\")","v":"2021-05-25"},{"$f":"+IF(C949=\"\",\"\",IF(J949=\"\",\"SIN RESPUESTA\",(IF(J949<=M949,\"A TIEMPO\",\"FUERA DE TIEMPO\"))))","v":"A TIEMPO"},{"$f":"IF(J949=\"\",\"\",NETWORKDAYS(C949+1,J949,DiasNOLaborables))","v":20},"",null,null,20]
[939,20219050052252,"2021-04-26","ACADEMIA","MODULO CONTACTENOS","SOLICITUD DE INFORMACIÓN Y DOCUMENTOS","SOLICITUD DE INFORMACIÓN HIDROMETEOROLÓGICA","NO","GRUPO DE SERVICIO AL CIUDADANO ","2021-05-25","CORREO ELECTRÓNICO",null,{"$f":"IFERROR(WORKDAY(C950,S949,DiasNOLaborables),\"\")","v":"2021-05-25"},{"$f":"+IF(C950=\"\",\"\",IF(J950=\"\",\"SIN RESPUESTA\",(IF(J950<=M950,\"A TIEMPO\",\"FUERA DE TIEMPO\"))))","v":"A TIEMPO"},{"$f":"IF(J950=\"\",\"\",NETWORKDAYS(C950+1,J950,DiasNOLaborables))","v":20},"",null,null,20]
[940,20219050052262,"2021-04-26","CIUDADANO","MODULO CONTACTENOS","SOLICITUD DE INFORMACIÓN Y DOCUMENTOS","SOLICITUD DE INFORMACIÓN HIDROMETEOROLÓGICA","NO","GRUPO DE SERVICIO AL CIUDADANO ","2021-05-25","CORREO ELECTRÓNICO",null,{"$f":"IFERROR(WORKDAY(C951,S950,DiasNOLaborables),\"\")","v":"2021-05-25"},{"$f":"+IF(C951=\"\",\"\",IF(J951=\"\",\"SIN RESPUESTA\",(IF(J951<=M951,\"A TIEMPO\",\"FUERA DE TIEMPO\"))))","v":"A TIEMPO"},{"$f":"IF(J951=\"\",\"\",NETWORKDAYS(C951+1,J951,DiasNOLaborables))","v":20},"",null,null,20]
[941,20219050052302,"2021-04-26","ACADEMIA","MODULO CONTACTENOS","SOLICITUD DE INFORMACIÓN Y DOCUMENTOS","SOLICITUD DE INFORMACIÓN HIDROMETEOROLÓGICA","NO","GRUPO DE SERVICIO AL CIUDADANO ","2021-05-25","CORREO ELECTRÓNICO",null,{"$f":"IFERROR(WORKDAY(C952,S951,DiasNOLaborables),\"\")","v":"2021-05-25"},{"$f":"+IF(C952=\"\",\"\",IF(J952=\"\",\"SIN RESPUESTA\",(IF(J952<=M952,\"A TIEMPO\",\"FUERA DE TIEMPO\"))))","v":"A TIEMPO"},{"$f":"IF(J952=\"\",\"\",NETWORKDAYS(C952+1,J952,DiasNOLaborables))","v":20},"",null,null,20]
[942,20219050052292,"2021-04-26","CIUDADANO","MODULO CONTACTENOS","SOLICITUD DE INFORMACIÓN Y DOCUMENTOS","SOLICITUD DE INFORMACIÓN HIDROMETEOROLÓGICA","NO","GRUPO DE SERVICIO AL CIUDADANO ","2021-05-25","CORREO ELECTRÓNICO",null,{"$f":"IFERROR(WORKDAY(C953,S952,DiasNOLaborables),\"\")","v":"2021-05-25"},{"$f":"+IF(C953=\"\",\"\",IF(J953=\"\",\"SIN RESPUESTA\",(IF(J953<=M953,\"A TIEMPO\",\"FUERA DE TIEMPO\"))))","v":"A TIEMPO"},{"$f":"IF(J953=\"\",\"\",NETWORKDAYS(C953+1,J953,DiasNOLaborables))","v":20},"",null,null,20]
[943,20219050052282,"2021-04-26","ACADEMIA","MODULO CONTACTENOS","SOLICITUD DE INFORMACIÓN Y DOCUMENTOS","SOLICITUD DE INFORMACIÓN HIDROMETEOROLÓGICA","NO","GRUPO DE SERVICIO AL CIUDADANO ","2021-05-25","CORREO ELECTRÓNICO",null,{"$f":"IFERROR(WORKDAY(C954,S953,DiasNOLaborables),\"\")","v":"2021-05-25"},{"$f":"+IF(C954=\"\",\"\",IF(J954=\"\",\"SIN RESPUESTA\",(IF(J954<=M954,\"A TIEMPO\",\"FUERA DE TIEMPO\"))))","v":"A TIEMPO"},{"$f":"IF(J954=\"\",\"\",NETWORKDAYS(C954+1,J954,DiasNOLaborables))","v":20},"",null,null,20]
[944,20219050052272,"2021-04-26","CIUDADANO","MODULO CONTACTENOS","SOLICITUD DE INFORMACIÓN Y DOCUMENTOS","SOLICITUD DE INFORMACIÓN HIDROMETEOROLÓGICA","NO","GRUPO DE SERVICIO AL CIUDADANO ","2021-05-25","CORREO ELECTRÓNICO",null,{"$f":"IFERROR(WORKDAY(C955,S954,DiasNOLaborables),\"\")","v":"2021-05-25"},{"$f":"+IF(C955=\"\",\"\",IF(J955=\"\",\"SIN RESPUESTA\",(IF(J955<=M955,\"A TIEMPO\",\"FUERA DE TIEMPO\"))))","v":"A TIEMPO"},{"$f":"IF(J955=\"\",\"\",NETWORKDAYS(C955+1,J955,DiasNOLaborables))","v":20},"",null,null,20]
[945,20219050052652,"2021-04-27","CIUDADANO","MODULO CONTACTENOS","SOLICITUD DE INFORMACIÓN Y DOCUMENTOS","SOLICITUD DE INFORMACIÓN HIDROMETEOROLÓGICA","NO","GRUPO DE SERVICIO AL CIUDADANO ","2021-05-26","CORREO ELECTRÓNICO",null,{"$f":"IFERROR(WORKDAY(C956,S955,DiasNOLaborables),\"\")","v":"2021-05-26"},{"$f":"+IF(C956=\"\",\"\",IF(J956=\"\",\"SIN RESPUESTA\",(IF(J956<=M956,\"A TIEMPO\",\"FUERA DE TIEMPO\"))))","v":"A TIEMPO"},{"$f":"IF(J956=\"\",\"\",NETWORKDAYS(C956+1,J956,DiasNOLaborables))","v":20},"",null,null,20]
[946,20219050052492,"2021-04-27","CIUDADANO","MODULO CONTACTENOS","SOLICITUD DE INFORMACIÓN Y DOCUMENTOS","SOLICITUD DE INFORMACIÓN HIDROMETEOROLÓGICA","NO","GRUPO DE SERVICIO AL CIUDADANO ","2021-05-26","CORREO ELECTRÓNICO",null,{"$f":"IFERROR(WORKDAY(C957,S956,DiasNOLaborables),\"\")","v":"2021-05-26"},{"$f":"+IF(C957=\"\",\"\",IF(J957=\"\",\"SIN RESPUESTA\",(IF(J957<=M957,\"A TIEMPO\",\"FUERA DE TIEMPO\"))))","v":"A TIEMPO"},{"$f":"IF(J957=\"\",\"\",NETWORKDAYS(C957+1,J957,DiasNOLaborables))","v":20},"",null,null,20]
[947,20219050052392,"2021-04-27","ACADEMIA","MODULO CONTACTENOS","SOLICITUD DE INFORMACIÓN Y DOCUMENTOS","SOLICITUD DE INFORMACIÓN HIDROMETEOROLÓGICA","NO","GRUPO DE SERVICIO AL CIUDADANO ","2021-05-26","CORREO ELECTRÓNICO",null,{"$f":"IFERROR(WORKDAY(C958,S957,DiasNOLaborables),\"\")","v":"2021-05-26"},{"$f":"+IF(C958=\"\",\"\",IF(J958=\"\",\"SIN RESPUESTA\",(IF(J958<=M958,\"A TIEMPO\",\"FUERA DE TIEMPO\"))))","v":"A TIEMPO"},{"$f":"IF(J958=\"\",\"\",NETWORKDAYS(C958+1,J958,DiasNOLaborables))","v":20},"",null,null,20]
[948,20219050052382,"2021-04-27","CIUDADANO","MODULO CONTACTENOS","SOLICITUD DE INFORMACIÓN Y DOCUMENTOS","SOLICITUD DE INFORMACIÓN HIDROMETEOROLÓGICA","NO","GRUPO DE SERVICIO AL CIUDADANO ","2021-05-26","CORREO ELECTRÓNICO",null,{"$f":"IFERROR(WORKDAY(C959,S958,DiasNOLaborables),\"\")","v":"2021-05-26"},{"$f":"+IF(C959=\"\",\"\",IF(J959=\"\",\"SIN RESPUESTA\",(IF(J959<=M959,\"A TIEMPO\",\"FUERA DE TIEMPO\"))))","v":"A TIEMPO"},{"$f":"IF(J959=\"\",\"\",NETWORKDAYS(C959+1,J959,DiasNOLaborables))","v":20},"",null,null,20]
[949,20219050052372,"2021-04-27","CIUDADANO","MODULO CONTACTENOS","SOLICITUD DE INFORMACIÓN Y DOCUMENTOS","SOLICITUD DE INFORMACIÓN HIDROMETEOROLÓGICA","NO","GRUPO DE SERVICIO AL CIUDADANO ","2021-05-26","CORREO ELECTRÓNICO",null,{"$f":"IFERROR(WORKDAY(C960,S959,DiasNOLaborables),\"\")","v":"2021-05-26"},{"$f":"+IF(C960=\"\",\"\",IF(J960=\"\",\"SIN RESPUESTA\",(IF(J960<=M960,\"A TIEMPO\",\"FUERA DE TIEMPO\"))))","v":"A TIEMPO"},{"$f":"IF(J960=\"\",\"\",NETWORKDAYS(C960+1,J960,DiasNOLaborables))","v":20},"",null,null,20]
[950,20219050052362,"2021-04-27","CIUDADANO","MODULO CONTACTENOS","SOLICITUD DE INFORMACIÓN Y DOCUMENTOS","SOLICITUD DE INFORMACIÓN HIDROMETEOROLÓGICA","NO","GRUPO DE SERVICIO AL CIUDADANO ","2021-05-26","CORREO ELECTRÓNICO",null,{"$f":"IFERROR(WORKDAY(C961,S960,DiasNOLaborables),\"\")","v":"2021-05-26"},{"$f":"+IF(C961=\"\",\"\",IF(J961=\"\",\"SIN RESPUESTA\",(IF(J961<=M961,\"A TIEMPO\",\"FUERA DE TIEMPO\"))))","v":"A TIEMPO"},{"$f":"IF(J961=\"\",\"\",NETWORKDAYS(C961+1,J961,DiasNOLaborables))","v":20},"",null,null,20]
[951,20219050052312,"2021-04-27","ACADEMIA","MODULO CONTACTENOS","SOLICITUD DE INFORMACIÓN Y DOCUMENTOS","SOLICITUD DE INFORMACIÓN HIDROMETEOROLÓGICA","NO","GRUPO DE SERVICIO AL CIUDADANO ","2021-05-26","CORREO ELECTRÓNICO",null,{"$f":"IFERROR(WORKDAY(C962,S961,DiasNOLaborables),\"\")","v":"2021-05-26"},{"$f":"+IF(C962=\"\",\"\",IF(J962=\"\",\"SIN RESPUESTA\",(IF(J962<=M962,\"A TIEMPO\",\"FUERA DE TIEMPO\"))))","v":"A TIEMPO"},{"$f":"IF(J962=\"\",\"\",NETWORKDAYS(C962+1,J962,DiasNOLaborables))","v":20},"",null,null,20]
[952,20219050052342,"2021-04-27","CIUDADANO","MODULO CONTACTENOS","SOLICITUD DE INFORMACIÓN Y DOCUMENTOS","SOLICITUD DE INFORMACIÓN HIDROMETEOROLÓGICA","NO","GRUPO DE SERVICIO AL CIUDADANO ","2021-05-26","CORREO ELECTRÓNICO",null,{"$f":"IFERROR(WORKDAY(C963,S962,DiasNOLaborables),\"\")","v":"2021-05-26"},{"$f":"+IF(C963=\"\",\"\",IF(J963=\"\",\"SIN RESPUESTA\",(IF(J963<=M963,\"A TIEMPO\",\"FUERA DE TIEMPO\"))))","v":"A TIEMPO"},{"$f":"IF(J963=\"\",\"\",NETWORKDAYS(C963+1,J963,DiasNOLaborables))","v":20},"",null,null,20]
[953,20219050052352,"2021-04-27","ACADEMIA","MODULO CONTACTENOS","SOLICITUD DE INFORMACIÓN Y DOCUMENTOS","SOLICITUD DE INFORMACIÓN HIDROMETEOROLÓGICA","NO","GRUPO DE SERVICIO AL CIUDADANO ","2021-05-26","CORREO ELECTRÓNICO",null,{"$f":"IFERROR(WORKDAY(C964,S963,DiasNOLaborables),\"\")","v":"2021-05-26"},{"$f":"+IF(C964=\"\",\"\",IF(J964=\"\",\"SIN RESPUESTA\",(IF(J964<=M964,\"A TIEMPO\",\"FUERA DE TIEMPO\"))))","v":"A TIEMPO"},{"$f":"IF(J964=\"\",\"\",NETWORKDAYS(C964+1,J964,DiasNOLaborables))","v":20},"",null,null,20]
[954,20219050052572,"2021-04-27","CIUDADANO","MODULO CONTACTENOS","SOLICITUD DE INFORMACIÓN Y DOCUMENTOS","SOLICITUD DE INFORMACIÓN HIDROMETEOROLÓGICA","NO","GRUPO DE SERVICIO AL CIUDADANO ","2021-05-24","CORREO ELECTRÓNICO",null,{"$f":"IFERROR(WORKDAY(C965,S964,DiasNOLaborables),\"\")","v":"2021-05-26"},{"$f":"+IF(C965=\"\",\"\",IF(J965=\"\",\"SIN RESPUESTA\",(IF(J965<=M965,\"A TIEMPO\",\"FUERA DE TIEMPO\"))))","v":"A TIEMPO"},{"$f":"IF(J965=\"\",\"\",NETWORKDAYS(C965+1,J965,DiasNOLaborables))","v":18},{"$f":"IF(NETWORKDAYS(M965+1,J965,DiasNOLaborables)<=0,\"\",NETWORKDAYS(M965+1,J965,DiasNOLaborables))","v":""},null,null,20]
[955,20219050052582,"2021-04-27","ACADEMIA ","MODULO CONTACTENOS","SOLICITUD DE INFORMACIÓN Y DOCUMENTOS","SOLICITUD DE INFORMACIÓN HIDROMETEOROLÓGICA","NO","GRUPO DE SERVICIO AL CIUDADANO ","2021-05-24","CORREO ELECTRÓNICO",null,{"$f":"IFERROR(WORKDAY(C966,S965,DiasNOLaborables),\"\")","v":"2021-05-26"},{"$f":"+IF(C966=\"\",\"\",IF(J966=\"\",\"SIN RESPUESTA\",(IF(J966<=M966,\"A TIEMPO\",\"FUERA DE TIEMPO\"))))","v":"A TIEMPO"},{"$f":"IF(J966=\"\",\"\",NETWORKDAYS(C966+1,J966,DiasNOLaborables))","v":18},"",null,null,20]
[956,20219050052602,"2021-04-27","CIUDADANO","MODULO CONTACTENOS","SOLICITUD DE INFORMACIÓN Y DOCUMENTOS","SOLICITUD DE INFORMACIÓN HIDROMETEOROLÓGICA","NO","GRUPO DE SERVICIO AL CIUDADANO ","2021-05-24","CORREO ELECTRÓNICO",null,{"$f":"IFERROR(WORKDAY(C967,S966,DiasNOLaborables),\"\")","v":"2021-05-26"},{"$f":"+IF(C967=\"\",\"\",IF(J967=\"\",\"SIN RESPUESTA\",(IF(J967<=M967,\"A TIEMPO\",\"FUERA DE TIEMPO\"))))","v":"A TIEMPO"},{"$f":"IF(J967=\"\",\"\",NETWORKDAYS(C967+1,J967,DiasNOLaborables))","v":18},"",null,null,20]
[957,20219050052612,"2021-04-27","CIUDADANO","MODULO CONTACTENOS","SOLICITUD DE INFORMACIÓN Y DOCUMENTOS","SOLICITUD DE INFORMACIÓN HIDROMETEOROLÓGICA","NO","GRUPO DE SERVICIO AL CIUDADANO ","2021-05-24","CORREO ELECTRÓNICO",null,{"$f":"IFERROR(WORKDAY(C968,S967,DiasNOLaborables),\"\")","v":"2021-05-26"},{"$f":"+IF(C968=\"\",\"\",IF(J968=\"\",\"SIN RESPUESTA\",(IF(J968<=M968,\"A TIEMPO\",\"FUERA DE TIEMPO\"))))","v":"A TIEMPO"},{"$f":"IF(J968=\"\",\"\",NETWORKDAYS(C968+1,J968,DiasNOLaborables))","v":18},"",null,null,20]
[958,20219050052742,"2021-04-27","ACADEMIA ","MODULO CONTACTENOS","SOLICITUD DE INFORMACIÓN Y DOCUMENTOS","SOLICITUD DE INFORMACIÓN HIDROMETEOROLÓGICA","NO","GRUPO DE SERVICIO AL CIUDADANO ","2021-05-24","CORREO ELECTRÓNICO",null,{"$f":"IFERROR(WORKDAY(C969,S968,DiasNOLaborables),\"\")","v":"2021-05-26"},{"$f":"+IF(C969=\"\",\"\",IF(J969=\"\",\"SIN RESPUESTA\",(IF(J969<=M969,\"A TIEMPO\",\"FUERA DE TIEMPO\"))))","v":"A TIEMPO"},{"$f":"IF(J969=\"\",\"\",NETWORKDAYS(C969+1,J969,DiasNOLaborables))","v":18},"",null,null,20]
[959,20219050052752,"2021-04-27","CIUDADANO","MODULO CONTACTENOS","SOLICITUD DE INFORMACIÓN Y DOCUMENTOS","SOLICITUD DE INFORMACIÓN HIDROMETEOROLÓGICA","NO","GRUPO DE SERVICIO AL CIUDADANO ","2021-05-25","CORREO ELECTRÓNICO",null,{"$f":"IFERROR(WORKDAY(C970,S969,DiasNOLaborables),\"\")","v":"2021-05-26"},{"$f":"+IF(C970=\"\",\"\",IF(J970=\"\",\"SIN RESPUESTA\",(IF(J970<=M970,\"A TIEMPO\",\"FUERA DE TIEMPO\"))))","v":"A TIEMPO"},{"$f":"IF(J970=\"\",\"\",NETWORKDAYS(C970+1,J970,DiasNOLaborables))","v":19},"",null,null,20]
[960,20219050052772,"2021-04-27","ACADEMIA ","MODULO CONTACTENOS","SOLICITUD DE INFORMACIÓN Y DOCUMENTOS","SOLICITUD DE INFORMACIÓN HIDROMETEOROLÓGICA","NO","GRUPO DE SERVICIO AL CIUDADANO ","2021-05-25","CORREO ELECTRÓNICO",null,{"$f":"IFERROR(WORKDAY(C971,S970,DiasNOLaborables),\"\")","v":"2021-05-26"},{"$f":"+IF(C971=\"\",\"\",IF(J971=\"\",\"SIN RESPUESTA\",(IF(J971<=M971,\"A TIEMPO\",\"FUERA DE TIEMPO\"))))","v":"A TIEMPO"},{"$f":"IF(J971=\"\",\"\",NETWORKDAYS(C971+1,J971,DiasNOLaborables))","v":19},"",null,null,20]
[961,20219050052672,"2021-04-27","ACADEMIA ","MODULO CONTACTENOS","SOLICITUD DE INFORMACIÓN Y DOCUMENTOS","SOLICITUD DE INFORMACIÓN HIDROMETEOROLÓGICA","NO","GRUPO DE SERVICIO AL CIUDADANO ","2021-05-25","CORREO ELECTRÓNICO",null,{"$f":"IFERROR(WORKDAY(C972,S971,DiasNOLaborables),\"\")","v":"2021-05-26"},{"$f":"+IF(C972=\"\",\"\",IF(J972=\"\",\"SIN RESPUESTA\",(IF(J972<=M972,\"A TIEMPO\",\"FUERA DE TIEMPO\"))))","v":"A TIEMPO"},{"$f":"IF(J972=\"\",\"\",NETWORKDAYS(C972+1,J972,DiasNOLaborables))","v":19},"",null,null,20]
[962,20219050052832,"2021-04-27","ACADEMIA ","MODULO CONTACTENOS","SOLICITUD DE INFORMACIÓN Y DOCUMENTOS","SOLICITUD DE INFORMACIÓN HIDROMETEOROLÓGICA","NO","GRUPO DE SERVICIO AL CIUDADANO ","2021-05-25","CORREO ELECTRÓNICO",null,{"$f":"IFERROR(WORKDAY(C973,S972,DiasNOLaborables),\"\")","v":"2021-05-26"},{"$f":"+IF(C973=\"\",\"\",IF(J973=\"\",\"SIN RESPUESTA\",(IF(J973<=M973,\"A TIEMPO\",\"FUERA DE TIEMPO\"))))","v":"A TIEMPO"},{"$f":"IF(J973=\"\",\"\",NETWORKDAYS(C973+1,J973,DiasNOLaborables))","v":19},"",null,null,{"$f":"IFERROR(VLOOKUP(F974,$AA$51:$AB$64,2),\"\")","v":20}]
[{"$f":"IF(B974<>\"\",A973+1,\"\")","v":963},20219050052842,"2021-04-27","ACADEMIA ","MODULO CONTACTENOS","SOLICITUD DE INFORMACIÓN Y DOCUMENTOS","SOLICITUD DE INFORMACIÓN HIDROMETEOROLÓGICA","NO","GRUPO DE SERVICIO AL CIUDADANO ","2021-05-25","CORREO ELECTRÓNICO",null,{"$f":"IFERROR(WORKDAY(C974,S973,DiasNOLaborables),\"\")","v":"2021-05-26"},{"$f":"+IF(C974=\"\",\"\",IF(J974=\"\",\"SIN RESPUESTA\",(IF(J974<=M974,\"A TIEMPO\",\"FUERA DE TIEMPO\"))))","v":"A TIEMPO"},{"$f":"IF(J974=\"\",\"\",NETWORKDAYS(C974+1,J974,DiasNOLaborables))","v":19},"",null,null,20]
[964,20219050052852,"2021-04-27","ACADEMIA ","MODULO CONTACTENOS","SOLICITUD DE INFORMACIÓN Y DOCUMENTOS","SOLICITUD DE INFORMACIÓN HIDROMETEOROLÓGICA","NO","GRUPO DE SERVICIO AL CIUDADANO ","2021-05-25","CORREO ELECTRÓNICO",null,{"$f":"IFERROR(WORKDAY(C975,S974,DiasNOLaborables),\"\")","v":"2021-05-26"},{"$f":"+IF(C975=\"\",\"\",IF(J975=\"\",\"SIN RESPUESTA\",(IF(J975<=M975,\"A TIEMPO\",\"FUERA DE TIEMPO\"))))","v":"A TIEMPO"},{"$f":"IF(J975=\"\",\"\",NETWORKDAYS(C975+1,J975,DiasNOLaborables))","v":19},"",null,null,20]
[965,20219050052862,"2021-04-27","ACADEMIA ","MODULO CONTACTENOS","SOLICITUD DE INFORMACIÓN Y DOCUMENTOS","SOLICITUD DE INFORMACIÓN HIDROMETEOROLÓGICA","NO","GRUPO DE SERVICIO AL CIUDADANO ","2021-05-25","CORREO ELECTRÓNICO",null,{"$f":"IFERROR(WORKDAY(C976,S975,DiasNOLaborables),\"\")","v":"2021-05-26"},{"$f":"+IF(C976=\"\",\"\",IF(J976=\"\",\"SIN RESPUESTA\",(IF(J976<=M976,\"A TIEMPO\",\"FUERA DE TIEMPO\"))))","v":"A TIEMPO"},{"$f":"IF(J976=\"\",\"\",NETWORKDAYS(C976+1,J976,DiasNOLaborables))","v":19},"",null,null,20]
[966,20219050052872,"2021-04-27","ACADEMIA ","MODULO CONTACTENOS","SOLICITUD DE INFORMACIÓN Y DOCUMENTOS","SOLICITUD DE INFORMACIÓN HIDROMETEOROLÓGICA","NO","GRUPO DE SERVICIO AL CIUDADANO ","2021-05-25","CORREO ELECTRÓNICO",null,{"$f":"IFERROR(WORKDAY(C977,S976,DiasNOLaborables),\"\")","v":"2021-05-26"},{"$f":"+IF(C977=\"\",\"\",IF(J977=\"\",\"SIN RESPUESTA\",(IF(J977<=M977,\"A TIEMPO\",\"FUERA DE TIEMPO\"))))","v":"A TIEMPO"},{"$f":"IF(J977=\"\",\"\",NETWORKDAYS(C977+1,J977,DiasNOLaborables))","v":19},"",null,null,20]
[967,20219050052902,"2021-04-27","ACADEMIA ","MODULO CONTACTENOS","SOLICITUD DE INFORMACIÓN Y DOCUMENTOS","SOLICITUD DE INFORMACIÓN HIDROMETEOROLÓGICA","NO","GRUPO DE SERVICIO AL CIUDADANO ","2021-05-25","CORREO ELECTRÓNICO",null,{"$f":"IFERROR(WORKDAY(C978,S977,DiasNOLaborables),\"\")","v":"2021-05-26"},{"$f":"+IF(C978=\"\",\"\",IF(J978=\"\",\"SIN RESPUESTA\",(IF(J978<=M978,\"A TIEMPO\",\"FUERA DE TIEMPO\"))))","v":"A TIEMPO"},{"$f":"IF(J978=\"\",\"\",NETWORKDAYS(C978+1,J978,DiasNOLaborables))","v":19},"",null,null,20]
[968,20219050052912,"2021-04-27","ACADEMIA ","MODULO CONTACTENOS","SOLICITUD DE INFORMACIÓN Y DOCUMENTOS","SOLICITUD DE INFORMACIÓN HIDROMETEOROLÓGICA","NO","GRUPO DE SERVICIO AL CIUDADANO ","2021-05-25","CORREO ELECTRÓNICO",null,{"$f":"IFERROR(WORKDAY(C979,S978,DiasNOLaborables),\"\")","v":"2021-05-26"},{"$f":"+IF(C979=\"\",\"\",IF(J979=\"\",\"SIN RESPUESTA\",(IF(J979<=M979,\"A TIEMPO\",\"FUERA DE TIEMPO\"))))","v":"A TIEMPO"},{"$f":"IF(J979=\"\",\"\",NETWORKDAYS(C979+1,J979,DiasNOLaborables))","v":19},"",null,null,20]
[969,20219050052932,"2021-04-27","CIUDADANO","MODULO CONTACTENOS","SOLICITUD DE INFORMACIÓN Y DOCUMENTOS","SOLICITUD DE INFORMACIÓN HIDROMETEOROLÓGICA","NO","GRUPO DE SERVICIO AL CIUDADANO ","2021-05-25","CORREO ELECTRÓNICO",null,{"$f":"IFERROR(WORKDAY(C980,S979,DiasNOLaborables),\"\")","v":"2021-05-26"},{"$f":"+IF(C980=\"\",\"\",IF(J980=\"\",\"SIN RESPUESTA\",(IF(J980<=M980,\"A TIEMPO\",\"FUERA DE TIEMPO\"))))","v":"A TIEMPO"},{"$f":"IF(J980=\"\",\"\",NETWORKDAYS(C980+1,J980,DiasNOLaborables))","v":19},"",null,null,20]
[970,20219050052942,"2021-04-27","CIUDADANO","MODULO CONTACTENOS","SOLICITUD DE INFORMACIÓN Y DOCUMENTOS","SOLICITUD DE INFORMACIÓN HIDROMETEOROLÓGICA","NO","GRUPO DE SERVICIO AL CIUDADANO ","2021-05-25","CORREO ELECTRÓNICO",null,{"$f":"IFERROR(WORKDAY(C981,S980,DiasNOLaborables),\"\")","v":"2021-05-26"},{"$f":"+IF(C981=\"\",\"\",IF(J981=\"\",\"SIN RESPUESTA\",(IF(J981<=M981,\"A TIEMPO\",\"FUERA DE TIEMPO\"))))","v":"A TIEMPO"},{"$f":"IF(J981=\"\",\"\",NETWORKDAYS(C981+1,J981,DiasNOLaborables))","v":19},"",null,null,20]
[971,20219050052952,"2021-04-27","CIUDADANO","MODULO CONTACTENOS","SOLICITUD DE INFORMACIÓN Y DOCUMENTOS","SOLICITUD DE INFORMACIÓN HIDROMETEOROLÓGICA","NO","GRUPO DE SERVICIO AL CIUDADANO ","2021-05-26","CORREO ELECTRÓNICO",null,{"$f":"IFERROR(WORKDAY(C982,S981,DiasNOLaborables),\"\")","v":"2021-05-26"},{"$f":"+IF(C982=\"\",\"\",IF(J982=\"\",\"SIN RESPUESTA\",(IF(J982<=M982,\"A TIEMPO\",\"FUERA DE TIEMPO\"))))","v":"A TIEMPO"},{"$f":"IF(J982=\"\",\"\",NETWORKDAYS(C982+1,J982,DiasNOLaborables))","v":20},"",null,null,35]
[972,20219050052682,"2021-04-27","EMPRESA PRIVADA","CORREO CERTIFICADO","CERTIFICACIONES DE TIEMPO, CLIMA Y EVENTOS HIDROLÓGICOS","CERTIFICACIONES DE TIEMPO Y CLIMA","SI","SUBDIRECCIÓN DE METEOROLOGÍA","2021-05-19","CORREO ELECTRÓNICO",null,{"$f":"IFERROR(WORKDAY(C983,S982,DiasNOLaborables),\"\")","v":"2021-06-18"},{"$f":"+IF(C983=\"\",\"\",IF(J983=\"\",\"SIN RESPUESTA\",(IF(J983<=M983,\"A TIEMPO\",\"FUERA DE TIEMPO\"))))","v":"A TIEMPO"},{"$f":"IF(J983=\"\",\"\",NETWORKDAYS(C983+1,J983,DiasNOLaborables))","v":15},"",null,null,35]
[973,20219050052712,"2021-04-27","CIUDADANO","CORREO ELECTRÓNICO","CERTIFICACIONES DE TIEMPO, CLIMA Y EVENTOS HIDROLÓGICOS","CERTIFICACIONES DE TIEMPO Y CLIMA","SI","SUBDIRECCIÓN DE METEOROLOGÍA","2021-05-01","CORREO ELECTRÓNICO",null,{"$f":"IFERROR(WORKDAY(C984,S983,DiasNOLaborables),\"\")","v":"2021-06-18"},{"$f":"+IF(C984=\"\",\"\",IF(J984=\"\",\"SIN RESPUESTA\",(IF(J984<=M984,\"A TIEMPO\",\"FUERA DE TIEMPO\"))))","v":"A TIEMPO"},{"$f":"IF(J984=\"\",\"\",NETWORKDAYS(C984+1,J984,DiasNOLaborables))","v":3},"",null,null,20]
[974,20219050052722,"2021-04-27","CIUDADANO","CORREO ELECTRÓNICO","SOLICITUD DE INFORMACIÓN Y DOCUMENTOS","CERTIFICACIONES DE TIEMPO Y CLIMA","SI","SUBDIRECCIÓN DE METEOROLOGÍA","2021-05-06","CORREO ELECTRÓNICO",null,{"$f":"IFERROR(WORKDAY(C985,S984,DiasNOLaborables),\"\")","v":"2021-05-26"},{"$f":"+IF(C985=\"\",\"\",IF(J985=\"\",\"SIN RESPUESTA\",(IF(J985<=M985,\"A TIEMPO\",\"FUERA DE TIEMPO\"))))","v":"A TIEMPO"},{"$f":"IF(J985=\"\",\"\",NETWORKDAYS(C985+1,J985,DiasNOLaborables))","v":7},"",null,null,20]
[975,20219050052762,"2021-04-27","CIUDADANO","CORREO ELECTRÓNICO","SOLICITUD DE INFORMACIÓN Y DOCUMENTOS","CERTIFICACIONES DE TIEMPO Y CLIMA","SI","SUBDIRECCIÓN DE METEOROLOGÍA","2021-04-29","CORREO ELECTRÓNICO",null,{"$f":"IFERROR(WORKDAY(C986,S985,DiasNOLaborables),\"\")","v":"2021-05-26"},{"$f":"+IF(C986=\"\",\"\",IF(J986=\"\",\"SIN RESPUESTA\",(IF(J986<=M986,\"A TIEMPO\",\"FUERA DE TIEMPO\"))))","v":"A TIEMPO"},{"$f":"IF(J986=\"\",\"\",NETWORKDAYS(C986+1,J986,DiasNOLaborables))","v":2},"",null,null,20]
[976,20219050052782,"2021-04-27","CIUDADANO","CORREO ELECTRÓNICO","SOLICITUD DE INFORMACIÓN Y DOCUMENTOS","INFORMES AMBIENTALES","SI","SUBDIRECCIÓN DE ECOSISTEMAS E INFORMACIÓN AMBIENTAL","2021-04-23","CORREO ELECTRÓNICO",null,{"$f":"IFERROR(WORKDAY(C987,S986,DiasNOLaborables),\"\")","v":"2021-05-26"},{"$f":"+IF(C987=\"\",\"\",IF(J987=\"\",\"SIN RESPUESTA\",(IF(J987<=M987,\"A TIEMPO\",\"FUERA DE TIEMPO\"))))","v":"A TIEMPO"},{"$f":"IF(J987=\"\",\"\",NETWORKDAYS(C987+1,J987,DiasNOLaborables))","v":-4},"",null,null,20]
[977,20219050052802,"2021-04-27","EMPRESA PRIVADA","CORREO ELECTRÓNICO","SOLICITUD DE INFORMACIÓN Y DOCUMENTOS","CLIMATOLOGÍA","SI","SUBDIRECCIÓN DE METEOROLOGÍA","2021-05-12","CORREO ELECTRÓNICO",null,{"$f":"IFERROR(WORKDAY(C988,S987,DiasNOLaborables),\"\")","v":"2021-05-26"},{"$f":"+IF(C988=\"\",\"\",IF(J988=\"\",\"SIN RESPUESTA\",(IF(J988<=M988,\"A TIEMPO\",\"FUERA DE TIEMPO\"))))","v":"A TIEMPO"},{"$f":"IF(J988=\"\",\"\",NETWORKDAYS(C988+1,J988,DiasNOLaborables))","v":11},"",null,null,20]
[978,20219050052812,"2021-04-27","CIUDADANO","CORREO ELECTRÓNICO","SOLICITUD DE INFORMACIÓN Y DOCUMENTOS","CERTIFICACIONES DE TIEMPO Y CLIMA","SI","SUBDIRECCIÓN DE METEOROLOGÍA","2021-05-21","CORREO ELECTRÓNICO",null,{"$f":"IFERROR(WORKDAY(C989,S988,DiasNOLaborables),\"\")","v":"2021-05-26"},{"$f":"+IF(C989=\"\",\"\",IF(J989=\"\",\"SIN RESPUESTA\",(IF(J989<=M989,\"A TIEMPO\",\"FUERA DE TIEMPO\"))))","v":"A TIEMPO"},{"$f":"IF(J989=\"\",\"\",NETWORKDAYS(C989+1,J989,DiasNOLaborables))","v":17},"",null,null,30]
[979,20219050052822,"2021-04-27","CIUDADANO","CORREO ELECTRÓNICO","PETICIÓN","BOSQUES","SI","SUBDIRECCIÓN DE ECOSISTEMAS E INFORMACIÓN AMBIENTAL","2021-05-27","CORREO ELECTRÓNICO",null,{"$f":"IFERROR(WORKDAY(C990,S989,DiasNOLaborables),\"\")","v":"2021-06-10"},{"$f":"+IF(C990=\"\",\"\",IF(J990=\"\",\"SIN RESPUESTA\",(IF(J990<=M990,\"A TIEMPO\",\"FUERA DE TIEMPO\"))))","v":"A TIEMPO"},{"$f":"IF(J990=\"\",\"\",NETWORKDAYS(C990+1,J990,DiasNOLaborables))","v":21},"",null,null,30]
[980,20219050052662,"2021-04-27","CIUDADANO","MODULO CONTACTENOS","PETICIÓN","ADMINISTRATIVA","SI","GRUPO DE ADMINISTRACIÓN Y DESARROLLO DEL TALENTO HUMANO","2021-04-30","CORREO ELECTRÓNICO",null,{"$f":"IFERROR(WORKDAY(C991,S990,DiasNOLaborables),\"\")","v":"2021-06-10"},{"$f":"+IF(C991=\"\",\"\",IF(J991=\"\",\"SIN RESPUESTA\",(IF(J991<=M991,\"A TIEMPO\",\"FUERA DE TIEMPO\"))))","v":"A TIEMPO"},{"$f":"IF(J991=\"\",\"\",NETWORKDAYS(C991+1,J991,DiasNOLaborables))","v":3},"",null,null,30]
[981,20219050052892,"2021-04-27","EMPRESA PRIVADA","MODULO CONTACTENOS","PETICIÓN","CLIMATOLOGÍA","SI","SUBDIRECCIÓN DE METEOROLOGÍA","2021-06-10","CORREO ELECTRÓNICO",null,{"$f":"IFERROR(WORKDAY(C992,S991,DiasNOLaborables),\"\")","v":"2021-06-10"},{"$f":"+IF(C992=\"\",\"\",IF(J992=\"\",\"SIN RESPUESTA\",(IF(J992<=M992,\"A TIEMPO\",\"FUERA DE TIEMPO\"))))","v":"A TIEMPO"},{"$f":"IF(J992=\"\",\"\",NETWORKDAYS(C992+1,J992,DiasNOLaborables))","v":30},"",null,null,20]
[982,20219050051512,"2021-04-27","CIUDADANO","CORREO ELECTRÓNICO","SOLICITUD DE INFORMACIÓN Y DOCUMENTOS","ADMINISTRATIVA","SI","OFICINA ASESORA JURÍDICA","2021-05-07","CORREO ELECTRÓNICO",null,{"$f":"IFERROR(WORKDAY(C993,S992,DiasNOLaborables),\"\")","v":"2021-05-26"},{"$f":"+IF(C993=\"\",\"\",IF(J993=\"\",\"SIN RESPUESTA\",(IF(J993<=M993,\"A TIEMPO\",\"FUERA DE TIEMPO\"))))","v":"A TIEMPO"},{"$f":"IF(J993=\"\",\"\",NETWORKDAYS(C993+1,J993,DiasNOLaborables))","v":8},"",null,null,35]
[983,20219050052402,"2021-04-27","CIUDADANO","CORREO ELECTRÓNICO","CERTIFICACIONES DE TIEMPO, CLIMA Y EVENTOS HIDROLÓGICOS","CERTIFICACIONES DE TIEMPO Y CLIMA","SI","SUBDIRECCIÓN DE METEOROLOGÍA","2021-05-19","CORREO ELECTRÓNICO",null,{"$f":"IFERROR(WORKDAY(C994,S993,DiasNOLaborables),\"\")","v":"2021-06-18"},{"$f":"+IF(C994=\"\",\"\",IF(J994=\"\",\"SIN RESPUESTA\",(IF(J994<=M994,\"A TIEMPO\",\"FUERA DE TIEMPO\"))))","v":"A TIEMPO"},{"$f":"IF(J994=\"\",\"\",NETWORKDAYS(C994+1,J994,DiasNOLaborables))","v":15},"",null,null,20]
[984,20219050052412,"2021-04-27","CIUDADANO","CORREO ELECTRÓNICO","SOLICITUD DE INFORMACIÓN Y DOCUMENTOS","REGISTROS AMBIENTALES","SI","SUBDIRECCIÓN DE ESTUDIOS AMBIENTALES","2021-05-12","CORREO ELECTRÓNICO",null,{"$f":"IFERROR(WORKDAY(C995,S994,DiasNOLaborables),\"\")","v":"2021-05-26"},{"$f":"+IF(C995=\"\",\"\",IF(J995=\"\",\"SIN RESPUESTA\",(IF(J995<=M995,\"A TIEMPO\",\"FUERA DE TIEMPO\"))))","v":"A TIEMPO"},{"$f":"IF(J995=\"\",\"\",NETWORKDAYS(C995+1,J995,DiasNOLaborables))","v":11},"",null,null,20]
[985,20219050052422,"2021-04-27","CIUDADANO","CORREO ELECTRÓNICO","SOLICITUD DE INFORMACIÓN Y DOCUMENTOS","REGISTROS AMBIENTALES","SI","SUBDIRECCIÓN DE ESTUDIOS AMBIENTALES","2021-04-27","CORREO ELECTRÓNICO",null,{"$f":"IFERROR(WORKDAY(C996,S995,DiasNOLaborables),\"\")","v":"2021-05-26"},{"$f":"+IF(C996=\"\",\"\",IF(J996=\"\",\"SIN RESPUESTA\",(IF(J996<=M996,\"A TIEMPO\",\"FUERA DE TIEMPO\"))))","v":"A TIEMPO"},{"$f":"IF(J996=\"\",\"\",NETWORKDAYS(C996+1,J996,DiasNOLaborables))","v":-2},"",null,null,35]
[986,20219050052432,"2021-04-27","CIUDADANO","CORREO ELECTRÓNICO","CERTIFICACIONES DE TIEMPO, CLIMA Y EVENTOS HIDROLÓGICOS","CERTIFICACIONES DE TIEMPO Y CLIMA","SI","SUBDIRECCIÓN DE METEOROLOGÍA","2021-04-27","CORREO ELECTRÓNICO",null,{"$f":"IFERROR(WORKDAY(C997,S996,DiasNOLaborables),\"\")","v":"2021-06-18"},{"$f":"+IF(C997=\"\",\"\",IF(J997=\"\",\"SIN RESPUESTA\",(IF(J997<=M997,\"A TIEMPO\",\"FUERA DE TIEMPO\"))))","v":"A TIEMPO"},{"$f":"IF(J997=\"\",\"\",NETWORKDAYS(C997+1,J997,DiasNOLaborables))","v":-2},"",null,null,20]
[987,20219050052472,"2021-04-27","CIUDADANO","CORREO ELECTRÓNICO","SOLICITUD DE INFORMACIÓN Y DOCUMENTOS","REGISTROS AMBIENTALES","SI","SUBDIRECCIÓN DE ESTUDIOS AMBIENTALES","2021-04-30","CORREO ELECTRÓNICO",null,{"$f":"IFERROR(WORKDAY(C998,S997,DiasNOLaborables),\"\")","v":"2021-05-26"},{"$f":"+IF(C998=\"\",\"\",IF(J998=\"\",\"SIN RESPUESTA\",(IF(J998<=M998,\"A TIEMPO\",\"FUERA DE TIEMPO\"))))","v":"A TIEMPO"},{"$f":"IF(J998=\"\",\"\",NETWORKDAYS(C998+1,J998,DiasNOLaborables))","v":3},"",null,null,20]
[988,20219050052482,"2021-04-27","CIUDADANO","CORREO ELECTRÓNICO","SOLICITUD DE INFORMACIÓN Y DOCUMENTOS","ADMINISTRATIVA","SI","GRUPO DE ADMINISTRACIÓN Y DESARROLLO DEL TALENTO HUMANO","2021-04-29","CORREO ELECTRÓNICO",null,{"$f":"IFERROR(WORKDAY(C999,S998,DiasNOLaborables),\"\")","v":"2021-05-26"},{"$f":"+IF(C999=\"\",\"\",IF(J999=\"\",\"SIN RESPUESTA\",(IF(J999<=M999,\"A TIEMPO\",\"FUERA DE TIEMPO\"))))","v":"A TIEMPO"},{"$f":"IF(J999=\"\",\"\",NETWORKDAYS(C999+1,J999,DiasNOLaborables))","v":2},"",null,null,20]
[989,20219050052502,"2021-04-27","CIUDADANO","CORREO ELECTRÓNICO","SOLICITUD DE INFORMACIÓN Y DOCUMENTOS","REGISTROS AMBIENTALES","si","SUBDIRECCIÓN DE ESTUDIOS AMBIENTALES","2021-04-30","CORREO ELECTRÓNICO",null,{"$f":"IFERROR(WORKDAY(C1000,S999,DiasNOLaborables),\"\")","v":"2021-05-26"},{"$f":"+IF(C1000=\"\",\"\",IF(J1000=\"\",\"SIN RESPUESTA\",(IF(J1000<=M1000,\"A TIEMPO\",\"FUERA DE TIEMPO\"))))","v":"A TIEMPO"},{"$f":"IF(J1000=\"\",\"\",NETWORKDAYS(C1000+1,J1000,DiasNOLaborables))","v":3},"",null,null,20]
[990,20219050052512,"2021-04-27","CIUDADANO","CORREO ELECTRÓNICO","SOLICITUD DE INFORMACIÓN Y DOCUMENTOS","ASESORÍAS Y CHARLAS","si","GRUPO DE COMUNICACIONES","2021-05-05","CORREO ELECTRÓNICO",null,{"$f":"IFERROR(WORKDAY(C1001,S1000,DiasNOLaborables),\"\")","v":"2021-05-26"},{"$f":"+IF(C1001=\"\",\"\",IF(J1001=\"\",\"SIN RESPUESTA\",(IF(J1001<=M1001,\"A TIEMPO\",\"FUERA DE TIEMPO\"))))","v":"A TIEMPO"},{"$f":"IF(J1001=\"\",\"\",NETWORKDAYS(C1001+1,J1001,DiasNOLaborables))","v":6},"",null,null,20]
[991,20219050052542,"2021-04-27","CIUDADANO","CORREO ELECTRÓNICO","SOLICITUD DE INFORMACIÓN Y DOCUMENTOS","REGISTROS AMBIENTALES","SI","SUBDIRECCIÓN DE ESTUDIOS AMBIENTALES","2021-04-27","CORREO ELECTRÓNICO",null,{"$f":"IFERROR(WORKDAY(C1002,S1001,DiasNOLaborables),\"\")","v":"2021-05-26"},{"$f":"+IF(C1002=\"\",\"\",IF(J1002=\"\",\"SIN RESPUESTA\",(IF(J1002<=M1002,\"A TIEMPO\",\"FUERA DE TIEMPO\"))))","v":"A TIEMPO"},{"$f":"IF(J1002=\"\",\"\",NETWORKDAYS(C1002+1,J1002,DiasNOLaborables))","v":-2},"",null,null,20]
[992,20219050052562,"2021-04-27","CIUDADANO","CORREO ELECTRÓNICO","SOLICITUD DE INFORMACIÓN Y DOCUMENTOS","REGISTROS AMBIENTALES","SI","SUBDIRECCIÓN DE ESTUDIOS AMBIENTALES","2021-04-27","CORREO ELECTRÓNICO",null,{"$f":"IFERROR(WORKDAY(C1003,S1002,DiasNOLaborables),\"\")","v":"2021-05-26"},{"$f":"+IF(C1003=\"\",\"\",IF(J1003=\"\",\"SIN RESPUESTA\",(IF(J1003<=M1003,\"A TIEMPO\",\"FUERA DE TIEMPO\"))))","v":"A TIEMPO"},{"$f":"IF(J1003=\"\",\"\",NETWORKDAYS(C1003+1,J1003,DiasNOLaborables))","v":-2},"",null,null,20]
[993,20219050052592,"2021-04-27","CIUDADANO","CORREO ELECTRÓNICO","SOLICITUD DE INFORMACIÓN Y DOCUMENTOS","BOSQUES","SI","SUBDIRECCIÓN DE ECOSISTEMAS E INFORMACIÓN AMBIENTAL","2021-05-05","CORREO ELECTRÓNICO",null,{"$f":"IFERROR(WORKDAY(C1004,S1003,DiasNOLaborables),\"\")","v":"2021-05-26"},{"$f":"+IF(C1004=\"\",\"\",IF(J1004=\"\",\"SIN RESPUESTA\",(IF(J1004<=M1004,\"A TIEMPO\",\"FUERA DE TIEMPO\"))))","v":"A TIEMPO"},{"$f":"IF(J1004=\"\",\"\",NETWORKDAYS(C1004+1,J1004,DiasNOLaborables))","v":6},"",null,null,20]
[994,20219050052992,"2021-04-28","CIUDADANO","MODULO CONTACTENOS","SOLICITUD DE INFORMACIÓN Y DOCUMENTOS","ADMINISTRATIVA","SI","OFICINA ASESORA JURÍDICA","2021-04-30","CORREO ELECTRÓNICO",null,{"$f":"IFERROR(WORKDAY(C1005,S1004,DiasNOLaborables),\"\")","v":"2021-05-27"},{"$f":"+IF(C1005=\"\",\"\",IF(J1005=\"\",\"SIN RESPUESTA\",(IF(J1005<=M1005,\"A TIEMPO\",\"FUERA DE TIEMPO\"))))","v":"A TIEMPO"},{"$f":"IF(J1005=\"\",\"\",NETWORKDAYS(C1005+1,J1005,DiasNOLaborables))","v":2},"",null,null,20]
[995,20219050053002,"2021-04-28","CIUDADANO","MODULO CONTACTENOS","SOLICITUD DE INFORMACIÓN Y DOCUMENTOS","ADMINISTRATIVA","SI","OFICINA ASESORA JURÍDICA","2021-04-30","CORREO ELECTRÓNICO",null,{"$f":"IFERROR(WORKDAY(C1006,S1005,DiasNOLaborables),\"\")","v":"2021-05-27"},{"$f":"+IF(C1006=\"\",\"\",IF(J1006=\"\",\"SIN RESPUESTA\",(IF(J1006<=M1006,\"A TIEMPO\",\"FUERA DE TIEMPO\"))))","v":"A TIEMPO"},{"$f":"IF(J1006=\"\",\"\",NETWORKDAYS(C1006+1,J1006,DiasNOLaborables))","v":2},"",null,null,20]
[996,20219050053042,"2021-04-28","CIUDADANO","MODULO CONTACTENOS","SOLICITUD DE INFORMACIÓN Y DOCUMENTOS","ADMINISTRATIVA","SI","GRUPO DE ADMINISTRACIÓN Y DESARROLLO DEL TALENTO HUMANO","2021-04-30","CORREO ELECTRÓNICO",null,{"$f":"IFERROR(WORKDAY(C1007,S1006,DiasNOLaborables),\"\")","v":"2021-05-27"},{"$f":"+IF(C1007=\"\",\"\",IF(J1007=\"\",\"SIN RESPUESTA\",(IF(J1007<=M1007,\"A TIEMPO\",\"FUERA DE TIEMPO\"))))","v":"A TIEMPO"},{"$f":"IF(J1007=\"\",\"\",NETWORKDAYS(C1007+1,J1007,DiasNOLaborables))","v":2},"",null,null,20]
[997,20219050053022,"2021-04-28","CIUDADANO","CORREO ELECTRÓNICO","SOLICITUD DE INFORMACIÓN Y DOCUMENTOS","INFORMES AMBIENTALES","SI","DIRECCIÓN GENERAL","2021-05-10","CORREO ELECTRÓNICO",null,{"$f":"IFERROR(WORKDAY(C1008,S1007,DiasNOLaborables),\"\")","v":"2021-05-27"},{"$f":"+IF(C1008=\"\",\"\",IF(J1008=\"\",\"SIN RESPUESTA\",(IF(J1008<=M1008,\"A TIEMPO\",\"FUERA DE TIEMPO\"))))","v":"A TIEMPO"},{"$f":"IF(J1008=\"\",\"\",NETWORKDAYS(C1008+1,J1008,DiasNOLaborables))","v":8},"",null,null,20]
[998,20219050053192,"2021-04-28","CIUDADANO","CORREO ELECTRÓNICO","SOLICITUD DE INFORMACIÓN Y DOCUMENTOS","CLIMATOLOGÍA","SI","SUBDIRECCIÓN DE METEOROLOGÍA","2021-05-14","CORREO ELECTRÓNICO",null,{"$f":"IFERROR(WORKDAY(C1009,S1008,DiasNOLaborables),\"\")","v":"2021-05-27"},{"$f":"+IF(C1009=\"\",\"\",IF(J1009=\"\",\"SIN RESPUESTA\",(IF(J1009<=M1009,\"A TIEMPO\",\"FUERA DE TIEMPO\"))))","v":"A TIEMPO"},{"$f":"IF(J1009=\"\",\"\",NETWORKDAYS(C1009+1,J1009,DiasNOLaborables))","v":12},"",null,null,35]
[999,20219050053202,"2021-04-28","CIUDADANO","CORREO ELECTRÓNICO","CERTIFICACIONES DE TIEMPO, CLIMA Y EVENTOS HIDROLÓGICOS","CERTIFICACIONES DE TIEMPO Y CLIMA","SI","SUBDIRECCIÓN DE METEOROLOGÍA","2021-05-19","CORREO ELECTRÓNICO",null,{"$f":"IFERROR(WORKDAY(C1010,S1009,DiasNOLaborables),\"\")","v":"2021-06-21"},{"$f":"+IF(C1010=\"\",\"\",IF(J1010=\"\",\"SIN RESPUESTA\",(IF(J1010<=M1010,\"A TIEMPO\",\"FUERA DE TIEMPO\"))))","v":"A TIEMPO"},{"$f":"IF(J1010=\"\",\"\",NETWORKDAYS(C1010+1,J1010,DiasNOLaborables))","v":14},"",null,null,35]
[1000,20219050053212,"2021-04-28","CIUDADANO","CORREO ELECTRÓNICO","CERTIFICACIONES DE TIEMPO, CLIMA Y EVENTOS HIDROLÓGICOS","CERTIFICACIONES DE TIEMPO Y CLIMA","SI","SUBDIRECCIÓN DE METEOROLOGÍA","2021-05-06","CORREO ELECTRÓNICO",null,{"$f":"IFERROR(WORKDAY(C1011,S1010,DiasNOLaborables),\"\")","v":"2021-06-21"},{"$f":"+IF(C1011=\"\",\"\",IF(J1011=\"\",\"SIN RESPUESTA\",(IF(J1011<=M1011,\"A TIEMPO\",\"FUERA DE TIEMPO\"))))","v":"A TIEMPO"},{"$f":"IF(J1011=\"\",\"\",NETWORKDAYS(C1011+1,J1011,DiasNOLaborables))","v":6},"",null,null,20]
[1001,20219050053242,"2021-04-28","CIUDADANO","CORREO ELECTRÓNICO","SOLICITUD DE INFORMACIÓN Y DOCUMENTOS","CERTIFICACIONES DE TIEMPO Y CLIMA","SI","SUBDIRECCIÓN DE METEOROLOGÍA","2021-05-04","CORREO ELECTRÓNICO",null,{"$f":"IFERROR(WORKDAY(C1012,S1011,DiasNOLaborables),\"\")","v":"2021-05-27"},{"$f":"+IF(C1012=\"\",\"\",IF(J1012=\"\",\"SIN RESPUESTA\",(IF(J1012<=M1012,\"A TIEMPO\",\"FUERA DE TIEMPO\"))))","v":"A TIEMPO"},{"$f":"IF(J1012=\"\",\"\",NETWORKDAYS(C1012+1,J1012,DiasNOLaborables))","v":4},"",null,null,20]
[1002,20219050053272,"2021-04-28","CIUDADANO","CORREO ELECTRÓNICO","SOLICITUD DE INFORMACIÓN Y DOCUMENTOS","CLIMATOLOGÍA","SI","SUBDIRECCIÓN DE METEOROLOGÍA","2021-04-30","CORREO ELECTRÓNICO",null,{"$f":"IFERROR(WORKDAY(C1013,S1012,DiasNOLaborables),\"\")","v":"2021-05-27"},{"$f":"+IF(C1013=\"\",\"\",IF(J1013=\"\",\"SIN RESPUESTA\",(IF(J1013<=M1013,\"A TIEMPO\",\"FUERA DE TIEMPO\"))))","v":"A TIEMPO"},{"$f":"IF(J1013=\"\",\"\",NETWORKDAYS(C1013+1,J1013,DiasNOLaborables))","v":2},"",null,null,20]
[1003,20219050053062,"2021-04-28","CIUDADANO","MODULO CONTACTENOS","SOLICITUD DE INFORMACIÓN Y DOCUMENTOS","SOLICITUD DE INFORMACIÓN HIDROMETEOROLÓGICA","NO","GRUPO DE SERVICIO AL CIUDADANO ","2021-05-04","CORREO ELECTRÓNICO",null,{"$f":"IFERROR(WORKDAY(C1014,S1013,DiasNOLaborables),\"\")","v":"2021-05-27"},{"$f":"+IF(C1014=\"\",\"\",IF(J1014=\"\",\"SIN RESPUESTA\",(IF(J1014<=M1014,\"A TIEMPO\",\"FUERA DE TIEMPO\"))))","v":"A TIEMPO"},{"$f":"IF(J1014=\"\",\"\",NETWORKDAYS(C1014+1,J1014,DiasNOLaborables))","v":4},"",null,null,20]
[1004,20219050053302,"2021-04-28","CIUDADANO","CORREO ELECTRÓNICO","SOLICITUD DE INFORMACIÓN Y DOCUMENTOS","CLIMATOLOGÍA","SI","SUBDIRECCIÓN DE METEOROLOGÍA","2021-05-04","CORREO ELECTRÓNICO",null,{"$f":"IFERROR(WORKDAY(C1015,S1014,DiasNOLaborables),\"\")","v":"2021-05-27"},{"$f":"+IF(C1015=\"\",\"\",IF(J1015=\"\",\"SIN RESPUESTA\",(IF(J1015<=M1015,\"A TIEMPO\",\"FUERA DE TIEMPO\"))))","v":"A TIEMPO"},{"$f":"IF(J1015=\"\",\"\",NETWORKDAYS(C1015+1,J1015,DiasNOLaborables))","v":4},"",null,null,20]
[1005,20219050053312,"2021-04-28","CIUDADANO","CORREO ELECTRÓNICO","SOLICITUD DE INFORMACIÓN Y DOCUMENTOS","CLIMATOLOGÍA","SI","SUBDIRECCIÓN DE METEOROLOGÍA","2021-05-05","CORREO ELECTRÓNICO",null,{"$f":"IFERROR(WORKDAY(C1016,S1015,DiasNOLaborables),\"\")","v":"2021-05-27"},{"$f":"+IF(C1016=\"\",\"\",IF(J1016=\"\",\"SIN RESPUESTA\",(IF(J1016<=M1016,\"A TIEMPO\",\"FUERA DE TIEMPO\"))))","v":"A TIEMPO"},{"$f":"IF(J1016=\"\",\"\",NETWORKDAYS(C1016+1,J1016,DiasNOLaborables))","v":5},"",null,null,35]
[1006,20219050053332,"2021-04-28","CIUDADANO","CORREO ELECTRÓNICO","CERTIFICACIONES DE TIEMPO, CLIMA Y EVENTOS HIDROLÓGICOS","CERTIFICACIONES DE TIEMPO Y CLIMA","SI","SUBDIRECCIÓN DE METEOROLOGÍA","2021-05-19","CORREO ELECTRÓNICO",null,{"$f":"IFERROR(WORKDAY(C1017,S1016,DiasNOLaborables),\"\")","v":"2021-06-21"},{"$f":"+IF(C1017=\"\",\"\",IF(J1017=\"\",\"SIN RESPUESTA\",(IF(J1017<=M1017,\"A TIEMPO\",\"FUERA DE TIEMPO\"))))","v":"A TIEMPO"},{"$f":"IF(J1017=\"\",\"\",NETWORKDAYS(C1017+1,J1017,DiasNOLaborables))","v":14},"",null,null,20]
[1007,20219050053342,"2021-04-28","CIUDADANO","CORREO ELECTRÓNICO","SOLICITUD DE INFORMACIÓN Y DOCUMENTOS","CLIMATOLOGÍA","SI","SUBDIRECCIÓN DE METEOROLOGÍA","2021-05-03","CORREO ELECTRÓNICO",null,{"$f":"IFERROR(WORKDAY(C1018,S1017,DiasNOLaborables),\"\")","v":"2021-05-27"},{"$f":"+IF(C1018=\"\",\"\",IF(J1018=\"\",\"SIN RESPUESTA\",(IF(J1018<=M1018,\"A TIEMPO\",\"FUERA DE TIEMPO\"))))","v":"A TIEMPO"},{"$f":"IF(J1018=\"\",\"\",NETWORKDAYS(C1018+1,J1018,DiasNOLaborables))","v":3},"",null,null,20]
[1008,20219050053232,"2021-04-28","CIUDADANO","MODULO CONTACTENOS","SOLICITUD DE INFORMACIÓN Y DOCUMENTOS","ADMINISTRATIVA","SI","OFICINA ASESORA JURÍDICA","2021-05-04","CORREO ELECTRÓNICO",null,{"$f":"IFERROR(WORKDAY(C1019,S1018,DiasNOLaborables),\"\")","v":"2021-05-27"},{"$f":"+IF(C1019=\"\",\"\",IF(J1019=\"\",\"SIN RESPUESTA\",(IF(J1019<=M1019,\"A TIEMPO\",\"FUERA DE TIEMPO\"))))","v":"A TIEMPO"},{"$f":"IF(J1019=\"\",\"\",NETWORKDAYS(C1019+1,J1019,DiasNOLaborables))","v":4},"",null,null,20]
[1009,20219050053382,"2021-04-28","CIUDADANO","MODULO CONTACTENOS","SOLICITUD DE INFORMACIÓN Y DOCUMENTOS","SIA","SI","SUBDIRECCIÓN DE ECOSISTEMAS E INFORMACIÓN AMBIENTAL","2021-05-05","CORREO ELECTRÓNICO",null,{"$f":"IFERROR(WORKDAY(C1020,S1019,DiasNOLaborables),\"\")","v":"2021-05-27"},{"$f":"+IF(C1020=\"\",\"\",IF(J1020=\"\",\"SIN RESPUESTA\",(IF(J1020<=M1020,\"A TIEMPO\",\"FUERA DE TIEMPO\"))))","v":"A TIEMPO"},{"$f":"IF(J1020=\"\",\"\",NETWORKDAYS(C1020+1,J1020,DiasNOLaborables))","v":5},"",null,null,20]
[1010,20219910023192,"2021-04-28","EMPRESA PRIVADA","CORREO ELECTRÓNICO","SOLICITUD DE INFORMACIÓN Y DOCUMENTOS","CLIMATOLOGÍA","SI","SUBDIRECCIÓN DE METEOROLOGÍA","2021-05-05","CORREO ELECTRÓNICO",null,{"$f":"IFERROR(WORKDAY(C1021,S1020,DiasNOLaborables),\"\")","v":"2021-05-27"},{"$f":"+IF(C1021=\"\",\"\",IF(J1021=\"\",\"SIN RESPUESTA\",(IF(J1021<=M1021,\"A TIEMPO\",\"FUERA DE TIEMPO\"))))","v":"A TIEMPO"},{"$f":"IF(J1021=\"\",\"\",NETWORKDAYS(C1021+1,J1021,DiasNOLaborables))","v":5},"",null,null,20]
[1011,20219050052962,"2021-04-28","ACADEMIA ","MODULO CONTACTENOS","SOLICITUD DE INFORMACIÓN Y DOCUMENTOS","SOLICITUD DE INFORMACIÓN HIDROMETEOROLÓGICA","NO","GRUPO DE SERVICIO AL CIUDADANO ","2021-05-26","CORREO ELECTRÓNICO",null,{"$f":"IFERROR(WORKDAY(C1022,S1021,DiasNOLaborables),\"\")","v":"2021-05-27"},{"$f":"+IF(C1022=\"\",\"\",IF(J1022=\"\",\"SIN RESPUESTA\",(IF(J1022<=M1022,\"A TIEMPO\",\"FUERA DE TIEMPO\"))))","v":"A TIEMPO"},{"$f":"IF(J1022=\"\",\"\",NETWORKDAYS(C1022+1,J1022,DiasNOLaborables))","v":19},"",null,null,20]
[1012,20219050053082,"2021-04-28","EMPRESA PRIVADA","MODULO CONTACTENOS","SOLICITUD DE INFORMACIÓN Y DOCUMENTOS","SOLICITUD DE INFORMACIÓN HIDROMETEOROLÓGICA","NO","GRUPO DE SERVICIO AL CIUDADANO ","2021-05-26","CORREO ELECTRÓNICO",null,{"$f":"IFERROR(WORKDAY(C1023,S1022,DiasNOLaborables),\"\")","v":"2021-05-27"},{"$f":"+IF(C1023=\"\",\"\",IF(J1023=\"\",\"SIN RESPUESTA\",(IF(J1023<=M1023,\"A TIEMPO\",\"FUERA DE TIEMPO\"))))","v":"A TIEMPO"},{"$f":"IF(J1023=\"\",\"\",NETWORKDAYS(C1023+1,J1023,DiasNOLaborables))","v":19},"",null,null,20]
[1013,20219050053112,"2021-04-28","CIUDADANO","MODULO CONTACTENOS","SOLICITUD DE INFORMACIÓN Y DOCUMENTOS","SOLICITUD DE INFORMACIÓN HIDROMETEOROLÓGICA","NO","GRUPO DE SERVICIO AL CIUDADANO ","2021-05-26","CORREO ELECTRÓNICO",null,{"$f":"IFERROR(WORKDAY(C1024,S1023,DiasNOLaborables),\"\")","v":"2021-05-27"},{"$f":"+IF(C1024=\"\",\"\",IF(J1024=\"\",\"SIN RESPUESTA\",(IF(J1024<=M1024,\"A TIEMPO\",\"FUERA DE TIEMPO\"))))","v":"A TIEMPO"},{"$f":"IF(J1024=\"\",\"\",NETWORKDAYS(C1024+1,J1024,DiasNOLaborables))","v":19},"",null,null,20]
[1014,20219050053122,"2021-04-28","ACADEMIA ","MODULO CONTACTENOS","SOLICITUD DE INFORMACIÓN Y DOCUMENTOS","SOLICITUD DE INFORMACIÓN HIDROMETEOROLÓGICA","NO","GRUPO DE SERVICIO AL CIUDADANO ","2021-05-26","CORREO ELECTRÓNICO",null,{"$f":"IFERROR(WORKDAY(C1025,S1024,DiasNOLaborables),\"\")","v":"2021-05-27"},{"$f":"+IF(C1025=\"\",\"\",IF(J1025=\"\",\"SIN RESPUESTA\",(IF(J1025<=M1025,\"A TIEMPO\",\"FUERA DE TIEMPO\"))))","v":"A TIEMPO"},{"$f":"IF(J1025=\"\",\"\",NETWORKDAYS(C1025+1,J1025,DiasNOLaborables))","v":19},"",null,null,20]
[1015,20219050053162,"2021-04-28","CIUDADANO","MODULO CONTACTENOS","SOLICITUD DE INFORMACIÓN Y DOCUMENTOS","SOLICITUD DE INFORMACIÓN HIDROMETEOROLÓGICA","NO","GRUPO DE SERVICIO AL CIUDADANO ","2021-05-26","CORREO ELECTRÓNICO",null,{"$f":"IFERROR(WORKDAY(C1026,S1025,DiasNOLaborables),\"\")","v":"2021-05-27"},{"$f":"+IF(C1026=\"\",\"\",IF(J1026=\"\",\"SIN RESPUESTA\",(IF(J1026<=M1026,\"A TIEMPO\",\"FUERA DE TIEMPO\"))))","v":"A TIEMPO"},{"$f":"IF(J1026=\"\",\"\",NETWORKDAYS(C1026+1,J1026,DiasNOLaborables))","v":19},"",null,null,20]
[1016,20219050053172,"2021-04-28","CIUDADANO","MODULO CONTACTENOS","SOLICITUD DE INFORMACIÓN Y DOCUMENTOS","SOLICITUD DE INFORMACIÓN HIDROMETEOROLÓGICA","NO","GRUPO DE SERVICIO AL CIUDADANO ","2021-05-26","CORREO ELECTRÓNICO",null,{"$f":"IFERROR(WORKDAY(C1027,S1026,DiasNOLaborables),\"\")","v":"2021-05-27"},{"$f":"+IF(C1027=\"\",\"\",IF(J1027=\"\",\"SIN RESPUESTA\",(IF(J1027<=M1027,\"A TIEMPO\",\"FUERA DE TIEMPO\"))))","v":"A TIEMPO"},{"$f":"IF(J1027=\"\",\"\",NETWORKDAYS(C1027+1,J1027,DiasNOLaborables))","v":19},{"$f":"IF(NETWORKDAYS(M1027+1,J1027,DiasNOLaborables)<=0,\"\",NETWORKDAYS(M1027+1,J1027,DiasNOLaborables))","v":""},null,null,20]
[1017,20219050053182,"2021-04-28","ACADEMIA ","MODULO CONTACTENOS","SOLICITUD DE INFORMACIÓN Y DOCUMENTOS","SOLICITUD DE INFORMACIÓN HIDROMETEOROLÓGICA","NO","GRUPO DE SERVICIO AL CIUDADANO ","2021-05-26","CORREO ELECTRÓNICO",null,{"$f":"IFERROR(WORKDAY(C1028,S1027,DiasNOLaborables),\"\")","v":"2021-05-27"},{"$f":"+IF(C1028=\"\",\"\",IF(J1028=\"\",\"SIN RESPUESTA\",(IF(J1028<=M1028,\"A TIEMPO\",\"FUERA DE TIEMPO\"))))","v":"A TIEMPO"},{"$f":"IF(J1028=\"\",\"\",NETWORKDAYS(C1028+1,J1028,DiasNOLaborables))","v":19},"",null,null,20]
[1018,20219050053222,"2021-04-28","CIUDADANO","MODULO CONTACTENOS","SOLICITUD DE INFORMACIÓN Y DOCUMENTOS","SOLICITUD DE INFORMACIÓN HIDROMETEOROLÓGICA","NO","GRUPO DE SERVICIO AL CIUDADANO ","2021-05-26","CORREO ELECTRÓNICO",null,{"$f":"IFERROR(WORKDAY(C1029,S1028,DiasNOLaborables),\"\")","v":"2021-05-27"},{"$f":"+IF(C1029=\"\",\"\",IF(J1029=\"\",\"SIN RESPUESTA\",(IF(J1029<=M1029,\"A TIEMPO\",\"FUERA DE TIEMPO\"))))","v":"A TIEMPO"},{"$f":"IF(J1029=\"\",\"\",NETWORKDAYS(C1029+1,J1029,DiasNOLaborables))","v":19},"",null,null,20]
[1019,20219050053252,"2021-04-28","CIUDADANO","MODULO CONTACTENOS","SOLICITUD DE INFORMACIÓN Y DOCUMENTOS","SOLICITUD DE INFORMACIÓN HIDROMETEOROLÓGICA","NO","GRUPO DE SERVICIO AL CIUDADANO ","2021-05-26","CORREO ELECTRÓNICO",null,{"$f":"IFERROR(WORKDAY(C1030,S1029,DiasNOLaborables),\"\")","v":"2021-05-27"},{"$f":"+IF(C1030=\"\",\"\",IF(J1030=\"\",\"SIN RESPUESTA\",(IF(J1030<=M1030,\"A TIEMPO\",\"FUERA DE TIEMPO\"))))","v":"A TIEMPO"},{"$f":"IF(J1030=\"\",\"\",NETWORKDAYS(C1030+1,J1030,DiasNOLaborables))","v":19},"",null,null,20]
[1020,20219050053262,"2021-04-28","CIUDADANO","MODULO CONTACTENOS","SOLICITUD DE INFORMACIÓN Y DOCUMENTOS","SOLICITUD DE INFORMACIÓN HIDROMETEOROLÓGICA","NO","GRUPO DE SERVICIO AL CIUDADANO ","2021-05-27","CORREO ELECTRÓNICO",null,{"$f":"IFERROR(WORKDAY(C1031,S1030,DiasNOLaborables),\"\")","v":"2021-05-27"},{"$f":"+IF(C1031=\"\",\"\",IF(J1031=\"\",\"SIN RESPUESTA\",(IF(J1031<=M1031,\"A TIEMPO\",\"FUERA DE TIEMPO\"))))","v":"A TIEMPO"},{"$f":"IF(J1031=\"\",\"\",NETWORKDAYS(C1031+1,J1031,DiasNOLaborables))","v":20},"",null,null,20]
[1021,20219050053282,"2021-04-28","CIUDADANO","MODULO CONTACTENOS","SOLICITUD DE INFORMACIÓN Y DOCUMENTOS","SOLICITUD DE INFORMACIÓN HIDROMETEOROLÓGICA","NO","GRUPO DE SERVICIO AL CIUDADANO ","2021-05-27","CORREO ELECTRÓNICO",null,{"$f":"IFERROR(WORKDAY(C1032,S1031,DiasNOLaborables),\"\")","v":"2021-05-27"},{"$f":"+IF(C1032=\"\",\"\",IF(J1032=\"\",\"SIN RESPUESTA\",(IF(J1032<=M1032,\"A TIEMPO\",\"FUERA DE TIEMPO\"))))","v":"A TIEMPO"},{"$f":"IF(J1032=\"\",\"\",NETWORKDAYS(C1032+1,J1032,DiasNOLaborables))","v":20},"",null,null,20]
[1022,20219050053292,"2021-04-28","CIUDADANO","MODULO CONTACTENOS","SOLICITUD DE INFORMACIÓN Y DOCUMENTOS","SOLICITUD DE INFORMACIÓN HIDROMETEOROLÓGICA","NO","GRUPO DE SERVICIO AL CIUDADANO ","2021-05-26","CORREO ELECTRÓNICO",null,{"$f":"IFERROR(WORKDAY(C1033,S1032,DiasNOLaborables),\"\")","v":"2021-05-27"},{"$f":"+IF(C1033=\"\",\"\",IF(J1033=\"\",\"SIN RESPUESTA\",(IF(J1033<=M1033,\"A TIEMPO\",\"FUERA DE TIEMPO\"))))","v":"A TIEMPO"},{"$f":"IF(J1033=\"\",\"\",NETWORKDAYS(C1033+1,J1033,DiasNOLaborables))","v":19},"",null,null,20]
[1023,20219050053322,"2021-04-28","ACADEMIA","MODULO CONTACTENOS","SOLICITUD DE INFORMACIÓN Y DOCUMENTOS","SOLICITUD DE INFORMACIÓN HIDROMETEOROLÓGICA","NO","GRUPO DE SERVICIO AL CIUDADANO ","2021-05-27","CORREO ELECTRÓNICO",null,{"$f":"IFERROR(WORKDAY(C1034,S1033,DiasNOLaborables),\"\")","v":"2021-05-27"},{"$f":"+IF(C1034=\"\",\"\",IF(J1034=\"\",\"SIN RESPUESTA\",(IF(J1034<=M1034,\"A TIEMPO\",\"FUERA DE TIEMPO\"))))","v":"A TIEMPO"},{"$f":"IF(J1034=\"\",\"\",NETWORKDAYS(C1034+1,J1034,DiasNOLaborables))","v":20},"",null,null,20]
[1024,20219050053352,"2021-04-28","ACADEMIA","MODULO CONTACTENOS","SOLICITUD DE INFORMACIÓN Y DOCUMENTOS","SOLICITUD DE INFORMACIÓN HIDROMETEOROLÓGICA","NO","GRUPO DE SERVICIO AL CIUDADANO ","2021-05-27","CORREO ELECTRÓNICO",null,{"$f":"IFERROR(WORKDAY(C1035,S1034,DiasNOLaborables),\"\")","v":"2021-05-27"},{"$f":"+IF(C1035=\"\",\"\",IF(J1035=\"\",\"SIN RESPUESTA\",(IF(J1035<=M1035,\"A TIEMPO\",\"FUERA DE TIEMPO\"))))","v":"A TIEMPO"},{"$f":"IF(J1035=\"\",\"\",NETWORKDAYS(C1035+1,J1035,DiasNOLaborables))","v":20},"",null,null,20]
[1025,20219050053402,"2021-04-29","CIUDADANO","MODULO CONTACTENOS","SOLICITUD DE INFORMACIÓN Y DOCUMENTOS","SOLICITUD DE INFORMACIÓN HIDROMETEOROLÓGICA","NO","GRUPO DE SERVICIO AL CIUDADANO ","2021-05-26","CORREO ELECTRÓNICO",null,{"$f":"IFERROR(WORKDAY(C1036,S1035,DiasNOLaborables),\"\")","v":"2021-05-28"},{"$f":"+IF(C1036=\"\",\"\",IF(J1036=\"\",\"SIN RESPUESTA\",(IF(J1036<=M1036,\"A TIEMPO\",\"FUERA DE TIEMPO\"))))","v":"A TIEMPO"},{"$f":"IF(J1036=\"\",\"\",NETWORKDAYS(C1036+1,J1036,DiasNOLaborables))","v":18},"",null,null,20]
[1026,20219050053412,"2021-04-29","CIUDADANO","MODULO CONTACTENOS","SOLICITUD DE INFORMACIÓN Y DOCUMENTOS","SOLICITUD DE INFORMACIÓN HIDROMETEOROLÓGICA","NO","GRUPO DE SERVICIO AL CIUDADANO ","2021-05-26","CORREO ELECTRÓNICO",null,{"$f":"IFERROR(WORKDAY(C1037,S1036,DiasNOLaborables),\"\")","v":"2021-05-28"},{"$f":"+IF(C1037=\"\",\"\",IF(J1037=\"\",\"SIN RESPUESTA\",(IF(J1037<=M1037,\"A TIEMPO\",\"FUERA DE TIEMPO\"))))","v":"A TIEMPO"},{"$f":"IF(J1037=\"\",\"\",NETWORKDAYS(C1037+1,J1037,DiasNOLaborables))","v":18},"",null,null,{"$f":"IFERROR(VLOOKUP(F1038,$AA$51:$AB$64,2),\"\")","v":20}]
[{"$f":"IF(B1038<>\"\",A1037+1,\"\")","v":1027},20219050053432,"2021-04-29","CIUDADANO","MODULO CONTACTENOS","SOLICITUD DE INFORMACIÓN Y DOCUMENTOS","SOLICITUD DE INFORMACIÓN HIDROMETEOROLÓGICA","NO","GRUPO DE SERVICIO AL CIUDADANO ","2021-05-26","CORREO ELECTRÓNICO",null,{"$f":"IFERROR(WORKDAY(C1038,S1037,DiasNOLaborables),\"\")","v":"2021-05-28"},{"$f":"+IF(C1038=\"\",\"\",IF(J1038=\"\",\"SIN RESPUESTA\",(IF(J1038<=M1038,\"A TIEMPO\",\"FUERA DE TIEMPO\"))))","v":"A TIEMPO"},{"$f":"IF(J1038=\"\",\"\",NETWORKDAYS(C1038+1,J1038,DiasNOLaborables))","v":18},"",null,null,20]
[1028,20219050053442,"2021-04-29","ACADEMIA","MODULO CONTACTENOS","SOLICITUD DE INFORMACIÓN Y DOCUMENTOS","SOLICITUD DE INFORMACIÓN HIDROMETEOROLÓGICA","NO","GRUPO DE SERVICIO AL CIUDADANO ","2021-05-26","CORREO ELECTRÓNICO",null,{"$f":"IFERROR(WORKDAY(C1039,S1038,DiasNOLaborables),\"\")","v":"2021-05-28"},{"$f":"+IF(C1039=\"\",\"\",IF(J1039=\"\",\"SIN RESPUESTA\",(IF(J1039<=M1039,\"A TIEMPO\",\"FUERA DE TIEMPO\"))))","v":"A TIEMPO"},{"$f":"IF(J1039=\"\",\"\",NETWORKDAYS(C1039+1,J1039,DiasNOLaborables))","v":18},"",null,null,20]
[1029,20219050053522,"2021-04-29","ACADEMIA","MODULO CONTACTENOS","SOLICITUD DE INFORMACIÓN Y DOCUMENTOS","SOLICITUD DE INFORMACIÓN HIDROMETEOROLÓGICA","NO","GRUPO DE SERVICIO AL CIUDADANO ","2021-05-26","CORREO ELECTRÓNICO",null,{"$f":"IFERROR(WORKDAY(C1040,S1039,DiasNOLaborables),\"\")","v":"2021-05-28"},{"$f":"+IF(C1040=\"\",\"\",IF(J1040=\"\",\"SIN RESPUESTA\",(IF(J1040<=M1040,\"A TIEMPO\",\"FUERA DE TIEMPO\"))))","v":"A TIEMPO"},{"$f":"IF(J1040=\"\",\"\",NETWORKDAYS(C1040+1,J1040,DiasNOLaborables))","v":18},"",null,null,20]
[1030,20219050053542,"2021-04-29","ACADEMIA","MODULO CONTACTENOS","SOLICITUD DE INFORMACIÓN Y DOCUMENTOS","SOLICITUD DE INFORMACIÓN HIDROMETEOROLÓGICA","NO","GRUPO DE SERVICIO AL CIUDADANO ","2021-05-26","CORREO ELECTRÓNICO",null,{"$f":"IFERROR(WORKDAY(C1041,S1040,DiasNOLaborables),\"\")","v":"2021-05-28"},{"$f":"+IF(C1041=\"\",\"\",IF(J1041=\"\",\"SIN RESPUESTA\",(IF(J1041<=M1041,\"A TIEMPO\",\"FUERA DE TIEMPO\"))))","v":"A TIEMPO"},{"$f":"IF(J1041=\"\",\"\",NETWORKDAYS(C1041+1,J1041,DiasNOLaborables))","v":18},"",null,null,20]
[1031,20219050053572,"2021-04-29","CIUDADANO","MODULO CONTACTENOS","SOLICITUD DE INFORMACIÓN Y DOCUMENTOS","SOLICITUD DE INFORMACIÓN HIDROMETEOROLÓGICA","NO","GRUPO DE SERVICIO AL CIUDADANO ","2021-05-26","CORREO ELECTRÓNICO",null,{"$f":"IFERROR(WORKDAY(C1042,S1041,DiasNOLaborables),\"\")","v":"2021-05-28"},{"$f":"+IF(C1042=\"\",\"\",IF(J1042=\"\",\"SIN RESPUESTA\",(IF(J1042<=M1042,\"A TIEMPO\",\"FUERA DE TIEMPO\"))))","v":"A TIEMPO"},{"$f":"IF(J1042=\"\",\"\",NETWORKDAYS(C1042+1,J1042,DiasNOLaborables))","v":18},"",null,null,30]
[1032,20219050053762,"2021-04-29","ACADEMIA","MODULO CONTACTENOS","PETICIÓN","SOLICITUD DE INFORMACIÓN HIDROMETEOROLÓGICA","NO","GRUPO DE SERVICIO AL CIUDADANO ","2021-05-31","CORREO ELECTRÓNICO",null,{"$f":"IFERROR(WORKDAY(C1043,S1042,DiasNOLaborables),\"\")","v":"2021-06-15"},{"$f":"+IF(C1043=\"\",\"\",IF(J1043=\"\",\"SIN RESPUESTA\",(IF(J1043<=M1043,\"A TIEMPO\",\"FUERA DE TIEMPO\"))))","v":"A TIEMPO"},{"$f":"IF(J1043=\"\",\"\",NETWORKDAYS(C1043+1,J1043,DiasNOLaborables))","v":21},"",null,null,30]
[1033,20219050053732,"2021-04-29","CIUDADANO","MODULO CONTACTENOS","PETICIÓN","SOLICITUD DE INFORMACIÓN HIDROMETEOROLÓGICA","NO","GRUPO DE SERVICIO AL CIUDADANO ","2021-05-31","CORREO ELECTRÓNICO",null,{"$f":"IFERROR(WORKDAY(C1044,S1043,DiasNOLaborables),\"\")","v":"2021-06-15"},{"$f":"+IF(C1044=\"\",\"\",IF(J1044=\"\",\"SIN RESPUESTA\",(IF(J1044<=M1044,\"A TIEMPO\",\"FUERA DE TIEMPO\"))))","v":"A TIEMPO"},{"$f":"IF(J1044=\"\",\"\",NETWORKDAYS(C1044+1,J1044,DiasNOLaborables))","v":21},"",null,null,30]
[1034,20219050053722,"2021-04-29","CIUDADANO","MODULO CONTACTENOS","PETICIÓN","SOLICITUD DE INFORMACIÓN HIDROMETEOROLÓGICA","NO","GRUPO DE SERVICIO AL CIUDADANO ","2021-05-31","CORREO ELECTRÓNICO","NASLY SUSANA PUERTA GUTIERREZ",{"$f":"IFERROR(WORKDAY(C1045,S1044,DiasNOLaborables),\"\")","v":"2021-06-15"},{"$f":"+IF(C1045=\"\",\"\",IF(J1045=\"\",\"SIN RESPUESTA\",(IF(J1045<=M1045,\"A TIEMPO\",\"FUERA DE TIEMPO\"))))","v":"A TIEMPO"},{"$f":"IF(J1045=\"\",\"\",NETWORKDAYS(C1045+1,J1045,DiasNOLaborables))","v":21},"",null,null,20]
[1035,20219050053582,"2021-04-29","CIUDADANO","MODULO CONTACTENOS","SOLICITUD DE INFORMACIÓN Y DOCUMENTOS","SOLICITUD DE INFORMACIÓN HIDROMETEOROLÓGICA","NO","GRUPO DE SERVICIO AL CIUDADANO ","2021-05-26","CORREO ELECTRÓNICO",null,{"$f":"IFERROR(WORKDAY(C1046,S1045,DiasNOLaborables),\"\")","v":"2021-05-28"},{"$f":"+IF(C1046=\"\",\"\",IF(J1046=\"\",\"SIN RESPUESTA\",(IF(J1046<=M1046,\"A TIEMPO\",\"FUERA DE TIEMPO\"))))","v":"A TIEMPO"},{"$f":"IF(J1046=\"\",\"\",NETWORKDAYS(C1046+1,J1046,DiasNOLaborables))","v":18},"",null,null,20]
[1036,20219050053642,"2021-04-29","CIUDADANO","MODULO CONTACTENOS","SOLICITUD DE INFORMACIÓN Y DOCUMENTOS","SOLICITUD DE INFORMACIÓN HIDROMETEOROLÓGICA","NO","GRUPO DE SERVICIO AL CIUDADANO ","2021-05-26","CORREO ELECTRÓNICO",null,{"$f":"IFERROR(WORKDAY(C1047,S1046,DiasNOLaborables),\"\")","v":"2021-05-28"},{"$f":"+IF(C1047=\"\",\"\",IF(J1047=\"\",\"SIN RESPUESTA\",(IF(J1047<=M1047,\"A TIEMPO\",\"FUERA DE TIEMPO\"))))","v":"A TIEMPO"},{"$f":"IF(J1047=\"\",\"\",NETWORKDAYS(C1047+1,J1047,DiasNOLaborables))","v":18},"",null,null,30]
[1037,20219050053712,"2021-04-29","CIUDADANO","MODULO CONTACTENOS","PETICIÓN","SOLICITUD DE INFORMACIÓN HIDROMETEOROLÓGICA","NO","GRUPO DE SERVICIO AL CIUDADANO ","2021-05-31","CORREO ELECTRÓNICO","NASLY SUSANA PUERTA GUTIERREZ",{"$f":"IFERROR(WORKDAY(C1048,S1047,DiasNOLaborables),\"\")","v":"2021-06-15"},{"$f":"+IF(C1048=\"\",\"\",IF(J1048=\"\",\"SIN RESPUESTA\",(IF(J1048<=M1048,\"A TIEMPO\",\"FUERA DE TIEMPO\"))))","v":"A TIEMPO"},{"$f":"IF(J1048=\"\",\"\",NETWORKDAYS(C1048+1,J1048,DiasNOLaborables))","v":21},"",null,null,30]
[1038,20219050053792,"2021-04-29","ACADEMIA","MODULO CONTACTENOS","PETICIÓN","SOLICITUD DE INFORMACIÓN HIDROMETEOROLÓGICA","NO","GRUPO DE SERVICIO AL CIUDADANO ","2021-05-31","CORREO ELECTRÓNICO","NASLY SUSANA PUERTA GUTIERREZ",{"$f":"IFERROR(WORKDAY(C1049,S1048,DiasNOLaborables),\"\")","v":"2021-06-15"},{"$f":"+IF(C1049=\"\",\"\",IF(J1049=\"\",\"SIN RESPUESTA\",(IF(J1049<=M1049,\"A TIEMPO\",\"FUERA DE TIEMPO\"))))","v":"A TIEMPO"},{"$f":"IF(J1049=\"\",\"\",NETWORKDAYS(C1049+1,J1049,DiasNOLaborables))","v":21},"",null,null,20]
[1039,20219050053872,"2021-04-29","CIUDADANO","MODULO CONTACTENOS","SOLICITUD DE INFORMACIÓN Y DOCUMENTOS","SOLICITUD DE INFORMACIÓN HIDROMETEOROLÓGICA","NO","GRUPO DE SERVICIO AL CIUDADANO ","2021-05-26","CORREO ELECTRÓNICO","NASLY SUSANA PUERTA GUTIERREZ",{"$f":"IFERROR(WORKDAY(C1050,S1049,DiasNOLaborables),\"\")","v":"2021-05-28"},{"$f":"+IF(C1050=\"\",\"\",IF(J1050=\"\",\"SIN RESPUESTA\",(IF(J1050<=M1050,\"A TIEMPO\",\"FUERA DE TIEMPO\"))))","v":"A TIEMPO"},{"$f":"IF(J1050=\"\",\"\",NETWORKDAYS(C1050+1,J1050,DiasNOLaborables))","v":18},"",null,null,20]
[1040,20219050053892,"2021-04-29","ACADEMIA ","MODULO CONTACTENOS","SOLICITUD DE INFORMACIÓN Y DOCUMENTOS","SOLICITUD DE INFORMACIÓN HIDROMETEOROLÓGICA","NO","GRUPO DE SERVICIO AL CIUDADANO ","2021-05-26","CORREO ELECTRÓNICO","NASLY SUSANA PUERTA GUTIERREZ",{"$f":"IFERROR(WORKDAY(C1051,S1050,DiasNOLaborables),\"\")","v":"2021-05-28"},{"$f":"+IF(C1051=\"\",\"\",IF(J1051=\"\",\"SIN RESPUESTA\",(IF(J1051<=M1051,\"A TIEMPO\",\"FUERA DE TIEMPO\"))))","v":"A TIEMPO"},{"$f":"IF(J1051=\"\",\"\",NETWORKDAYS(C1051+1,J1051,DiasNOLaborables))","v":18},"",null,null,20]
[1041,20219910023482,"2021-04-29","CIUDADANO","CORREO ELECTRÓNICO","SOLICITUD DE INFORMACIÓN Y DOCUMENTOS","ADMINISTRATIVA","SI","GRUPO DE ADMINISTRACIÓN Y DESARROLLO DEL TALENTO HUMANO","2021-05-18","CORREO ELECTRÓNICO","NASLY SUSANA PUERTA GUTIERREZ",{"$f":"IFERROR(WORKDAY(C1052,S1051,DiasNOLaborables),\"\")","v":"2021-05-28"},{"$f":"+IF(C1052=\"\",\"\",IF(J1052=\"\",\"SIN RESPUESTA\",(IF(J1052<=M1052,\"A TIEMPO\",\"FUERA DE TIEMPO\"))))","v":"A TIEMPO"},{"$f":"IF(J1052=\"\",\"\",NETWORKDAYS(C1052+1,J1052,DiasNOLaborables))","v":12},"",null,null,20]
[1042,20219050053392,"2021-04-29","EMPRESA PRIVADA","MODULO CONTACTENOS","SOLICITUD DE INFORMACIÓN Y DOCUMENTOS","ADMINISTRATIVA","SI","GRUPO DE TESORERÍA","2021-04-30","CORREO ELECTRÓNICO","NASLY SUSANA PUERTA GUTIERREZ",{"$f":"IFERROR(WORKDAY(C1053,S1052,DiasNOLaborables),\"\")","v":"2021-05-28"},{"$f":"+IF(C1053=\"\",\"\",IF(J1053=\"\",\"SIN RESPUESTA\",(IF(J1053<=M1053,\"A TIEMPO\",\"FUERA DE TIEMPO\"))))","v":"A TIEMPO"},{"$f":"IF(J1053=\"\",\"\",NETWORKDAYS(C1053+1,J1053,DiasNOLaborables))","v":1},"",null,null,20]
[1043,20219050053552,"2021-04-29","CIUDADANO","MODULO CONTACTENOS","SOLICITUD DE INFORMACIÓN Y DOCUMENTOS","ADMINISTRATIVA","SI","AREA OPERATIVA No. 1","2021-05-24","CORREO ELECTRÓNICO","NASLY SUSANA PUERTA GUTIERREZ",{"$f":"IFERROR(WORKDAY(C1054,S1053,DiasNOLaborables),\"\")","v":"2021-05-28"},{"$f":"+IF(C1054=\"\",\"\",IF(J1054=\"\",\"SIN RESPUESTA\",(IF(J1054<=M1054,\"A TIEMPO\",\"FUERA DE TIEMPO\"))))","v":"A TIEMPO"},{"$f":"IF(J1054=\"\",\"\",NETWORKDAYS(C1054+1,J1054,DiasNOLaborables))","v":16},"",null,null,20]
[1044,20219050053562,"2021-04-29","CIUDADANO","MODULO CONTACTENOS","SOLICITUD DE INFORMACIÓN Y DOCUMENTOS","ACREDITACIÓN DE LABORATORIOS","SI","SUBDIRECCIÓN DE ESTUDIOS AMBIENTALES","2021-05-12","CORREO ELECTRÓNICO","NASLY SUSANA PUERTA GUTIERREZ",{"$f":"IFERROR(WORKDAY(C1055,S1054,DiasNOLaborables),\"\")","v":"2021-05-28"},{"$f":"+IF(C1055=\"\",\"\",IF(J1055=\"\",\"SIN RESPUESTA\",(IF(J1055<=M1055,\"A TIEMPO\",\"FUERA DE TIEMPO\"))))","v":"A TIEMPO"},{"$f":"IF(J1055=\"\",\"\",NETWORKDAYS(C1055+1,J1055,DiasNOLaborables))","v":9},"",null,null,30]
[1045,20219050053602,"2021-04-29","CIUDADANO","MODULO CONTACTENOS","PETICIÓN","BOSQUES","SI","SUBDIRECCIÓN DE ECOSISTEMAS E INFORMACIÓN AMBIENTAL","2021-05-20","CORREO ELECTRÓNICO",null,{"$f":"IFERROR(WORKDAY(C1056,S1055,DiasNOLaborables),\"\")","v":"2021-06-15"},{"$f":"+IF(C1056=\"\",\"\",IF(J1056=\"\",\"SIN RESPUESTA\",(IF(J1056<=M1056,\"A TIEMPO\",\"FUERA DE TIEMPO\"))))","v":"A TIEMPO"},{"$f":"IF(J1056=\"\",\"\",NETWORKDAYS(C1056+1,J1056,DiasNOLaborables))","v":14},"",null,null,20]
[1046,20219050053632,"2021-04-29","CIUDADANO","MODULO CONTACTENOS","SOLICITUD DE INFORMACIÓN Y DOCUMENTOS","SOLICITUD DE INFORMACIÓN HIDROMETEOROLÓGICA","SI","SUBDIRECCIÓN DE HIDROLOGÍA","2021-05-04","CORREO ELECTRÓNICO",null,{"$f":"IFERROR(WORKDAY(C1057,S1056,DiasNOLaborables),\"\")","v":"2021-05-28"},{"$f":"+IF(C1057=\"\",\"\",IF(J1057=\"\",\"SIN RESPUESTA\",(IF(J1057<=M1057,\"A TIEMPO\",\"FUERA DE TIEMPO\"))))","v":"A TIEMPO"},{"$f":"IF(J1057=\"\",\"\",NETWORKDAYS(C1057+1,J1057,DiasNOLaborables))","v":3},"",null,null,35]
[1047,20219050053682,"2021-04-29","EMPRESA PRIVADA","MODULO CONTACTENOS","CERTIFICACIONES DE TIEMPO, CLIMA Y EVENTOS HIDROLÓGICOS","CERTIFICACIONES DE TIEMPO Y CLIMA","SI","SUBDIRECCIÓN DE METEOROLOGÍA","2021-05-19","CORREO ELECTRÓNICO",null,{"$f":"IFERROR(WORKDAY(C1058,S1057,DiasNOLaborables),\"\")","v":"2021-06-22"},{"$f":"+IF(C1058=\"\",\"\",IF(J1058=\"\",\"SIN RESPUESTA\",(IF(J1058<=M1058,\"A TIEMPO\",\"FUERA DE TIEMPO\"))))","v":"A TIEMPO"},{"$f":"IF(J1058=\"\",\"\",NETWORKDAYS(C1058+1,J1058,DiasNOLaborables))","v":13},"",null,null,30]
[1048,20219050053452,"2021-04-29","CIUDADANO","CORREO ELECTRÓNICO","PETICIÓN","CLIMATOLOGÍA","SI","SUBDIRECCIÓN DE METEOROLOGÍA","2021-06-01","CORREO ELECTRÓNICO",null,{"$f":"IFERROR(WORKDAY(C1059,S1058,DiasNOLaborables),\"\")","v":"2021-06-15"},{"$f":"+IF(C1059=\"\",\"\",IF(J1059=\"\",\"SIN RESPUESTA\",(IF(J1059<=M1059,\"A TIEMPO\",\"FUERA DE TIEMPO\"))))","v":"A TIEMPO"},{"$f":"IF(J1059=\"\",\"\",NETWORKDAYS(C1059+1,J1059,DiasNOLaborables))","v":22},"",null,null,20]
[1049,20219050053462,"2021-04-29","CIUDADANO","CORREO ELECTRÓNICO","SOLICITUD DE INFORMACIÓN Y DOCUMENTOS","ACREDITACIÓN DE LABORATORIOS","SI","SUBDIRECCIÓN DE ESTUDIOS AMBIENTALES","2021-05-05","CORREO ELECTRÓNICO",null,{"$f":"IFERROR(WORKDAY(C1060,S1059,DiasNOLaborables),\"\")","v":"2021-05-28"},{"$f":"+IF(C1060=\"\",\"\",IF(J1060=\"\",\"SIN RESPUESTA\",(IF(J1060<=M1060,\"A TIEMPO\",\"FUERA DE TIEMPO\"))))","v":"A TIEMPO"},{"$f":"IF(J1060=\"\",\"\",NETWORKDAYS(C1060+1,J1060,DiasNOLaborables))","v":4},"",null,null,20]
[1050,20219050053472,"2021-04-29","ENTIDAD PÚBLICA","CORREO ELECTRÓNICO","SOLICITUD DE INFORMACIÓN Y DOCUMENTOS","SUELOS Y TIERRAS","SI","SUBDIRECCIÓN DE ECOSISTEMAS E INFORMACIÓN AMBIENTAL","2021-05-13","CORREO ELECTRÓNICO",null,{"$f":"IFERROR(WORKDAY(C1061,S1060,DiasNOLaborables),\"\")","v":"2021-05-28"},{"$f":"+IF(C1061=\"\",\"\",IF(J1061=\"\",\"SIN RESPUESTA\",(IF(J1061<=M1061,\"A TIEMPO\",\"FUERA DE TIEMPO\"))))","v":"A TIEMPO"},{"$f":"IF(J1061=\"\",\"\",NETWORKDAYS(C1061+1,J1061,DiasNOLaborables))","v":10},"",null,null,35]
[1051,20219050053512,"2021-04-29","CIUDADANO","CORREO ELECTRÓNICO","CERTIFICACIONES DE TIEMPO, CLIMA Y EVENTOS HIDROLÓGICOS","CERTIFICACIONES DE TIEMPO Y CLIMA","SI","SUBDIRECCIÓN DE METEOROLOGÍA","2021-05-19","CORREO ELECTRÓNICO",null,{"$f":"IFERROR(WORKDAY(C1062,S1061,DiasNOLaborables),\"\")","v":"2021-06-22"},{"$f":"+IF(C1062=\"\",\"\",IF(J1062=\"\",\"SIN RESPUESTA\",(IF(J1062<=M1062,\"A TIEMPO\",\"FUERA DE TIEMPO\"))))","v":"A TIEMPO"},{"$f":"IF(J1062=\"\",\"\",NETWORKDAYS(C1062+1,J1062,DiasNOLaborables))","v":13},"",null,null,35]
[1052,20219050053532,"2021-04-29","CIUDADANO","CORREO ELECTRÓNICO","CERTIFICACIONES DE TIEMPO, CLIMA Y EVENTOS HIDROLÓGICOS","CERTIFICACIONES DE TIEMPO Y CLIMA","SI","SUBDIRECCIÓN DE METEOROLOGÍA","2021-05-25","CORREO ELECTRÓNICO",null,{"$f":"IFERROR(WORKDAY(C1063,S1062,DiasNOLaborables),\"\")","v":"2021-06-22"},{"$f":"+IF(C1063=\"\",\"\",IF(J1063=\"\",\"SIN RESPUESTA\",(IF(J1063<=M1063,\"A TIEMPO\",\"FUERA DE TIEMPO\"))))","v":"A TIEMPO"},{"$f":"IF(J1063=\"\",\"\",NETWORKDAYS(C1063+1,J1063,DiasNOLaborables))","v":17},"",null,null,20]
[1053,20219050053802,"2021-04-29","CIUDADANO","CORREO ELECTRÓNICO","SOLICITUD DE INFORMACIÓN Y DOCUMENTOS","MODELACIÓN HIDROLÓGICA","SI","SUBDIRECCIÓN DE HIDROLOGÍA","2021-05-06","CORREO ELECTRÓNICO",null,{"$f":"IFERROR(WORKDAY(C1064,S1063,DiasNOLaborables),\"\")","v":"2021-05-28"},{"$f":"+IF(C1064=\"\",\"\",IF(J1064=\"\",\"SIN RESPUESTA\",(IF(J1064<=M1064,\"A TIEMPO\",\"FUERA DE TIEMPO\"))))","v":"A TIEMPO"},{"$f":"IF(J1064=\"\",\"\",NETWORKDAYS(C1064+1,J1064,DiasNOLaborables))","v":5},{"$f":"IF(NETWORKDAYS(M1064+1,J1064,DiasNOLaborables)<=0,\"\",NETWORKDAYS(M1064+1,J1064,DiasNOLaborables))","v":""},null,null,20]
[1054,20219050053812,"2021-04-29","CIUDADANO","CORREO ELECTRÓNICO","SOLICITUD DE INFORMACIÓN Y DOCUMENTOS","BOSQUES","SI","SUBDIRECCIÓN DE ECOSISTEMAS E INFORMACIÓN AMBIENTAL","2021-05-10","CORREO ELECTRÓNICO",null,{"$f":"IFERROR(WORKDAY(C1065,S1064,DiasNOLaborables),\"\")","v":"2021-05-28"},{"$f":"+IF(C1065=\"\",\"\",IF(J1065=\"\",\"SIN RESPUESTA\",(IF(J1065<=M1065,\"A TIEMPO\",\"FUERA DE TIEMPO\"))))","v":"A TIEMPO"},{"$f":"IF(J1065=\"\",\"\",NETWORKDAYS(C1065+1,J1065,DiasNOLaborables))","v":7},"",null,null,20]
[1055,20219050053822,"2021-04-29","CIUDADANO","CORREO ELECTRÓNICO","SOLICITUD DE INFORMACIÓN Y DOCUMENTOS","INFORMES AMBIENTALES","SI","SUBDIRECCIÓN DE ESTUDIOS AMBIENTALES","2021-05-10","CORREO ELECTRÓNICO",null,{"$f":"IFERROR(WORKDAY(C1066,S1065,DiasNOLaborables),\"\")","v":"2021-05-28"},{"$f":"+IF(C1066=\"\",\"\",IF(J1066=\"\",\"SIN RESPUESTA\",(IF(J1066<=M1066,\"A TIEMPO\",\"FUERA DE TIEMPO\"))))","v":"A TIEMPO"},{"$f":"IF(J1066=\"\",\"\",NETWORKDAYS(C1066+1,J1066,DiasNOLaborables))","v":7},"",null,null,35]
[1056,20219050053832,"2021-04-29","CIUDADANO","CORREO ELECTRÓNICO","CERTIFICACIONES DE TIEMPO, CLIMA Y EVENTOS HIDROLÓGICOS","CERTIFICACIONES DE TIEMPO Y CLIMA","SI","SUBDIRECCIÓN DE METEOROLOGÍA","2021-05-21","CORREO ELECTRÓNICO",null,{"$f":"IFERROR(WORKDAY(C1067,S1066,DiasNOLaborables),\"\")","v":"2021-06-22"},{"$f":"+IF(C1067=\"\",\"\",IF(J1067=\"\",\"SIN RESPUESTA\",(IF(J1067<=M1067,\"A TIEMPO\",\"FUERA DE TIEMPO\"))))","v":"A TIEMPO"},{"$f":"IF(J1067=\"\",\"\",NETWORKDAYS(C1067+1,J1067,DiasNOLaborables))","v":15},"",null,null,35]
[1057,20219050053842,"2021-04-29","CIUDADANO","CORREO ELECTRÓNICO","CERTIFICACIONES DE TIEMPO, CLIMA Y EVENTOS HIDROLÓGICOS","CERTIFICACIONES DE TIEMPO Y CLIMA","SI","SUBDIRECCIÓN DE METEOROLOGÍA","2021-05-19","CORREO ELECTRÓNICO",null,{"$f":"IFERROR(WORKDAY(C1068,S1067,DiasNOLaborables),\"\")","v":"2021-06-22"},{"$f":"+IF(C1068=\"\",\"\",IF(J1068=\"\",\"SIN RESPUESTA\",(IF(J1068<=M1068,\"A TIEMPO\",\"FUERA DE TIEMPO\"))))","v":"A TIEMPO"},{"$f":"IF(J1068=\"\",\"\",NETWORKDAYS(C1068+1,J1068,DiasNOLaborables))","v":13},"",null,null,35]
[1058,20219050053852,"2021-04-29","CIUDADANO","CORREO ELECTRÓNICO","CERTIFICACIONES DE TIEMPO, CLIMA Y EVENTOS HIDROLÓGICOS","CERTIFICACIONES DE TIEMPO Y CLIMA","SI","SUBDIRECCIÓN DE METEOROLOGÍA","2021-05-24","CORREO ELECTRÓNICO",null,{"$f":"IFERROR(WORKDAY(C1069,S1068,DiasNOLaborables),\"\")","v":"2021-06-22"},{"$f":"+IF(C1069=\"\",\"\",IF(J1069=\"\",\"SIN RESPUESTA\",(IF(J1069<=M1069,\"A TIEMPO\",\"FUERA DE TIEMPO\"))))","v":"A TIEMPO"},{"$f":"IF(J1069=\"\",\"\",NETWORKDAYS(C1069+1,J1069,DiasNOLaborables))","v":16},"",null,null,20]
[1059,20219050053862,"2021-04-29","CIUDADANO","CORREO ELECTRÓNICO","SOLICITUD DE INFORMACIÓN Y DOCUMENTOS","ZONIFICACIÓN HIDROGRÁFICA","SI","SUBDIRECCIÓN DE HIDROLOGÍA","2021-05-10","CORREO ELECTRÓNICO",null,{"$f":"IFERROR(WORKDAY(C1070,S1069,DiasNOLaborables),\"\")","v":"2021-05-28"},{"$f":"+IF(C1070=\"\",\"\",IF(J1070=\"\",\"SIN RESPUESTA\",(IF(J1070<=M1070,\"A TIEMPO\",\"FUERA DE TIEMPO\"))))","v":"A TIEMPO"},{"$f":"IF(J1070=\"\",\"\",NETWORKDAYS(C1070+1,J1070,DiasNOLaborables))","v":7},"",null,null,20]
[1060,20219050053882,"2021-04-29","CIUDADANO","CORREO ELECTRÓNICO","SOLICITUD DE INFORMACIÓN Y DOCUMENTOS","CLIMATOLOGÍA","SI","SUBDIRECCIÓN DE METEOROLOGÍA","2021-05-10","CORREO ELECTRÓNICO",null,{"$f":"IFERROR(WORKDAY(C1071,S1070,DiasNOLaborables),\"\")","v":"2021-05-28"},{"$f":"+IF(C1071=\"\",\"\",IF(J1071=\"\",\"SIN RESPUESTA\",(IF(J1071<=M1071,\"A TIEMPO\",\"FUERA DE TIEMPO\"))))","v":"A TIEMPO"},{"$f":"IF(J1071=\"\",\"\",NETWORKDAYS(C1071+1,J1071,DiasNOLaborables))","v":7},"",null,null,20]
[1061,20219050053902,"2021-04-29","CIUDADANO","CORREO ELECTRÓNICO","SOLICITUD DE INFORMACIÓN Y DOCUMENTOS","CERTIFICACIONES DE TIEMPO Y CLIMA","SI","SUBDIRECCIÓN DE METEOROLOGÍA","2021-05-05","CORREO ELECTRÓNICO",null,{"$f":"IFERROR(WORKDAY(C1072,S1071,DiasNOLaborables),\"\")","v":"2021-05-28"},{"$f":"+IF(C1072=\"\",\"\",IF(J1072=\"\",\"SIN RESPUESTA\",(IF(J1072<=M1072,\"A TIEMPO\",\"FUERA DE TIEMPO\"))))","v":"A TIEMPO"},{"$f":"IF(J1072=\"\",\"\",NETWORKDAYS(C1072+1,J1072,DiasNOLaborables))","v":4},"",null,null,20]
[1062,20219050053622,"2021-04-29","CIUDADANO","CORREO ELECTRÓNICO","SOLICITUD DE INFORMACIÓN Y DOCUMENTOS","SEDIMENTOS","SI","GRUPO DE GESTIÓN DOCUMENTAL Y CENTRO DE DOCUMENTACIÓN","2021-05-03","CORREO ELECTRÓNICO",null,{"$f":"IFERROR(WORKDAY(C1073,S1072,DiasNOLaborables),\"\")","v":"2021-05-28"},{"$f":"+IF(C1073=\"\",\"\",IF(J1073=\"\",\"SIN RESPUESTA\",(IF(J1073<=M1073,\"A TIEMPO\",\"FUERA DE TIEMPO\"))))","v":"A TIEMPO"},{"$f":"IF(J1073=\"\",\"\",NETWORKDAYS(C1073+1,J1073,DiasNOLaborables))","v":2},"",null,null,20]
[1063,20219050053652,"2021-04-29","CIUDADANO","CORREO ELECTRÓNICO","SOLICITUD DE INFORMACIÓN Y DOCUMENTOS","REGISTROS AMBIENTALES","SI","SUBDIRECCIÓN DE ESTUDIOS AMBIENTALES","2021-04-30","CORREO ELECTRÓNICO",null,{"$f":"IFERROR(WORKDAY(C1074,S1073,DiasNOLaborables),\"\")","v":"2021-05-28"},{"$f":"+IF(C1074=\"\",\"\",IF(J1074=\"\",\"SIN RESPUESTA\",(IF(J1074<=M1074,\"A TIEMPO\",\"FUERA DE TIEMPO\"))))","v":"A TIEMPO"},{"$f":"IF(J1074=\"\",\"\",NETWORKDAYS(C1074+1,J1074,DiasNOLaborables))","v":1},"",null,null,20]
[1064,20219050053672,"2021-04-29","CIUDADANO","CORREO ELECTRÓNICO","SOLICITUD DE INFORMACIÓN Y DOCUMENTOS","REGISTROS AMBIENTALES","SI","SUBDIRECCIÓN DE ESTUDIOS AMBIENTALES","2021-04-30","CORREO ELECTRÓNICO",null,{"$f":"IFERROR(WORKDAY(C1075,S1074,DiasNOLaborables),\"\")","v":"2021-05-28"},{"$f":"+IF(C1075=\"\",\"\",IF(J1075=\"\",\"SIN RESPUESTA\",(IF(J1075<=M1075,\"A TIEMPO\",\"FUERA DE TIEMPO\"))))","v":"A TIEMPO"},{"$f":"IF(J1075=\"\",\"\",NETWORKDAYS(C1075+1,J1075,DiasNOLaborables))","v":1},"",null,null,35]
[1065,20219050053742,"2021-04-29","CIUDADANO","CORREO ELECTRÓNICO","CERTIFICACIONES DE TIEMPO, CLIMA Y EVENTOS HIDROLÓGICOS","CERTIFICACIONES DE TIEMPO Y CLIMA","SI","SUBDIRECCIÓN DE METEOROLOGÍA","2021-06-15","CORREO ELECTRÓNICO",null,{"$f":"IFERROR(WORKDAY(C1076,S1075,DiasNOLaborables),\"\")","v":"2021-06-22"},{"$f":"+IF(C1076=\"\",\"\",IF(J1076=\"\",\"SIN RESPUESTA\",(IF(J1076<=M1076,\"A TIEMPO\",\"FUERA DE TIEMPO\"))))","v":"A TIEMPO"},{"$f":"IF(J1076=\"\",\"\",NETWORKDAYS(C1076+1,J1076,DiasNOLaborables))","v":30},"",null,null,20]
[1066,20219050053752,"2021-04-29","CIUDADANO","CORREO ELECTRÓNICO","SOLICITUD DE INFORMACIÓN Y DOCUMENTOS","REGISTROS AMBIENTALES","SI","SUBDIRECCIÓN DE ESTUDIOS AMBIENTALES","2021-05-12","CORREO ELECTRÓNICO",null,{"$f":"IFERROR(WORKDAY(C1077,S1076,DiasNOLaborables),\"\")","v":"2021-05-28"},{"$f":"+IF(C1077=\"\",\"\",IF(J1077=\"\",\"SIN RESPUESTA\",(IF(J1077<=M1077,\"A TIEMPO\",\"FUERA DE TIEMPO\"))))","v":"A TIEMPO"},{"$f":"IF(J1077=\"\",\"\",NETWORKDAYS([5]Hoja1!C1075+1,[5]Hoja1!P1075,DiasNOLaborables))","v":6},"",null,null,35]
[1067,20219050053772,"2021-04-29","CIUDADANO","CORREO ELECTRÓNICO","CERTIFICACIONES DE TIEMPO, CLIMA Y EVENTOS HIDROLÓGICOS","CERTIFICACIONES DE TIEMPO Y CLIMA","SI","SUBDIRECCIÓN DE METEOROLOGÍA","2021-05-19","CORREO ELECTRÓNICO",null,{"$f":"IFERROR(WORKDAY(C1078,S1077,DiasNOLaborables),\"\")","v":"2021-06-22"},{"$f":"+IF(C1078=\"\",\"\",IF(J1078=\"\",\"SIN RESPUESTA\",(IF(J1078<=M1078,\"A TIEMPO\",\"FUERA DE TIEMPO\"))))","v":"A TIEMPO"},{"$f":"IF(J1078=\"\",\"\",NETWORKDAYS(C1078+1,J1078,DiasNOLaborables))","v":13},"",null,null,20]
[1068,20219050053782,"2021-04-29","CIUDADANO","CORREO ELECTRÓNICO","SOLICITUD DE INFORMACIÓN Y DOCUMENTOS","REGISTROS AMBIENTALES","SI","SUBDIRECCIÓN DE ESTUDIOS AMBIENTALES","2021-04-29","CORREO ELECTRÓNICO",null,{"$f":"IFERROR(WORKDAY(C1079,S1078,DiasNOLaborables),\"\")","v":"2021-05-28"},{"$f":"+IF(C1079=\"\",\"\",IF(J1079=\"\",\"SIN RESPUESTA\",(IF(J1079<=M1079,\"A TIEMPO\",\"FUERA DE TIEMPO\"))))","v":"A TIEMPO"},{"$f":"IF(J1079=\"\",\"\",NETWORKDAYS(C1079+1,J1079,DiasNOLaborables))","v":-2},"",null,null,35]
[1069,20219050053982,"2021-04-30","CIUDADANO","CORREO ELECTRÓNICO","CERTIFICACIONES DE TIEMPO, CLIMA Y EVENTOS HIDROLÓGICOS","CERTIFICACIONES DE TIEMPO Y CLIMA","SI","SUBDIRECCIÓN DE METEOROLOGÍA","2021-05-05","CORREO ELECTRÓNICO",null,{"$f":"IFERROR(WORKDAY(C1080,S1079,DiasNOLaborables),\"\")","v":"2021-06-23"},{"$f":"+IF(C1080=\"\",\"\",IF(J1080=\"\",\"SIN RESPUESTA\",(IF(J1080<=M1080,\"A TIEMPO\",\"FUERA DE TIEMPO\"))))","v":"A TIEMPO"},{"$f":"IF(J1080=\"\",\"\",NETWORKDAYS(C1080+1,J1080,DiasNOLaborables))","v":3},"",null,null,20]
[1070,20219050054032,"2021-04-30","CIUDADANO","CORREO ELECTRÓNICO","SOLICITUD DE INFORMACIÓN Y DOCUMENTOS","ADMINISTRATIVA","SI","SUBDIRECCIÓN DE ESTUDIOS AMBIENTALES","2021-05-18","CORREO ELECTRÓNICO",null,{"$f":"IFERROR(WORKDAY(C1081,S1080,DiasNOLaborables),\"\")","v":"2021-05-31"},{"$f":"+IF(C1081=\"\",\"\",IF(J1081=\"\",\"SIN RESPUESTA\",(IF(J1081<=M1081,\"A TIEMPO\",\"FUERA DE TIEMPO\"))))","v":"A TIEMPO"},{"$f":"IF(J1081=\"\",\"\",NETWORKDAYS(C1081+1,J1081,DiasNOLaborables))","v":11},"",null,null,20]
[1071,20219050053932,"2021-04-30","ACADEMIA ","MODULO CONTACTENOS","SOLICITUD DE INFORMACIÓN Y DOCUMENTOS","SOLICITUD DE INFORMACIÓN HIDROMETEOROLÓGICA","NO","GRUPO DE SERVICIO AL CIUDADANO ","2021-05-27","CORREO ELECTRÓNICO",null,{"$f":"IFERROR(WORKDAY(C1082,S1081,DiasNOLaborables),\"\")","v":"2021-05-31"},{"$f":"+IF(C1082=\"\",\"\",IF(J1082=\"\",\"SIN RESPUESTA\",(IF(J1082<=M1082,\"A TIEMPO\",\"FUERA DE TIEMPO\"))))","v":"A TIEMPO"},{"$f":"IF(J1082=\"\",\"\",NETWORKDAYS(C1082+1,J1082,DiasNOLaborables))","v":18},"",null,null,20]
[1072,20219050053952,"2021-04-30","ACADEMIA ","MODULO CONTACTENOS","SOLICITUD DE INFORMACIÓN Y DOCUMENTOS","SOLICITUD DE INFORMACIÓN HIDROMETEOROLÓGICA","NO","GRUPO DE SERVICIO AL CIUDADANO ","2021-05-27","CORREO ELECTRÓNICO",null,{"$f":"IFERROR(WORKDAY(C1083,S1082,DiasNOLaborables),\"\")","v":"2021-05-31"},{"$f":"+IF(C1083=\"\",\"\",IF(J1083=\"\",\"SIN RESPUESTA\",(IF(J1083<=M1083,\"A TIEMPO\",\"FUERA DE TIEMPO\"))))","v":"A TIEMPO"},{"$f":"IF(J1083=\"\",\"\",NETWORKDAYS(C1083+1,J1083,DiasNOLaborables))","v":18},"",null,null,20]
[1073,20219050053992,"2021-04-30","CIUDADANO","MODULO CONTACTENOS","SOLICITUD DE INFORMACIÓN Y DOCUMENTOS","SOLICITUD DE INFORMACIÓN HIDROMETEOROLÓGICA","NO","GRUPO DE SERVICIO AL CIUDADANO ","2021-05-27","CORREO ELECTRÓNICO",null,{"$f":"IFERROR(WORKDAY(C1084,S1083,DiasNOLaborables),\"\")","v":"2021-05-31"},{"$f":"+IF(C1084=\"\",\"\",IF(J1084=\"\",\"SIN RESPUESTA\",(IF(J1084<=M1084,\"A TIEMPO\",\"FUERA DE TIEMPO\"))))","v":"A TIEMPO"},{"$f":"IF(J1084=\"\",\"\",NETWORKDAYS(C1084+1,J1084,DiasNOLaborables))","v":18},"",null,null,20]
[1074,20219050053912,"2021-04-30","CIUDADANO","MODULO CONTACTENOS","SOLICITUD DE INFORMACIÓN Y DOCUMENTOS","SOLICITUD DE INFORMACIÓN HIDROMETEOROLÓGICA","NO","GRUPO DE SERVICIO AL CIUDADANO ","2021-05-27","CORREO ELECTRÓNICO",null,{"$f":"IFERROR(WORKDAY(C1085,S1084,DiasNOLaborables),\"\")","v":"2021-05-31"},{"$f":"+IF(C1085=\"\",\"\",IF(J1085=\"\",\"SIN RESPUESTA\",(IF(J1085<=M1085,\"A TIEMPO\",\"FUERA DE TIEMPO\"))))","v":"A TIEMPO"},{"$f":"IF(J1085=\"\",\"\",NETWORKDAYS(C1085+1,J1085,DiasNOLaborables))","v":18},"",null,null,20]
[1075,20219050054002,"2021-04-30","ACADEMIA ","CORREO ELECTRÓNICO","SOLICITUD DE INFORMACIÓN Y DOCUMENTOS","SOLICITUD DE INFORMACIÓN HIDROMETEOROLÓGICA","NO","GRUPO DE SERVICIO AL CIUDADANO ","2021-05-27","CORREO ELECTRÓNICO",null,{"$f":"IFERROR(WORKDAY(C1086,S1085,DiasNOLaborables),\"\")","v":"2021-05-31"},{"$f":"+IF(C1086=\"\",\"\",IF(J1086=\"\",\"SIN RESPUESTA\",(IF(J1086<=M1086,\"A TIEMPO\",\"FUERA DE TIEMPO\"))))","v":"A TIEMPO"},{"$f":"IF(J1086=\"\",\"\",NETWORKDAYS(C1086+1,J1086,DiasNOLaborables))","v":18},"",null,null,20]
[1076,20219050054052,"2021-04-30","ACADEMIA ","CORREO ELECTRÓNICO","SOLICITUD DE INFORMACIÓN Y DOCUMENTOS","SOLICITUD DE INFORMACIÓN HIDROMETEOROLÓGICA","NO","GRUPO DE SERVICIO AL CIUDADANO ","2021-05-27","CORREO ELECTRÓNICO",null,{"$f":"IFERROR(WORKDAY(C1087,S1086,DiasNOLaborables),\"\")","v":"2021-05-31"},{"$f":"+IF(C1087=\"\",\"\",IF(J1087=\"\",\"SIN RESPUESTA\",(IF(J1087<=M1087,\"A TIEMPO\",\"FUERA DE TIEMPO\"))))","v":"A TIEMPO"},{"$f":"IF(J1087=\"\",\"\",NETWORKDAYS(C1087+1,J1087,DiasNOLaborables))","v":18},"",null,null,20]
[1077,20219050054062,"2021-04-30","ACADEMIA ","CORREO ELECTRÓNICO","SOLICITUD DE INFORMACIÓN Y DOCUMENTOS","SOLICITUD DE INFORMACIÓN HIDROMETEOROLÓGICA","NO","GRUPO DE SERVICIO AL CIUDADANO ","2021-05-27","CORREO ELECTRÓNICO",null,{"$f":"IFERROR(WORKDAY(C1088,S1087,DiasNOLaborables),\"\")","v":"2021-05-31"},{"$f":"+IF(C1088=\"\",\"\",IF(J1088=\"\",\"SIN RESPUESTA\",(IF(J1088<=M1088,\"A TIEMPO\",\"FUERA DE TIEMPO\"))))","v":"A TIEMPO"},{"$f":"IF(J1088=\"\",\"\",NETWORKDAYS(C1088+1,J1088,DiasNOLaborables))","v":18},"",null,null,20]
[1078,20219050054222,"2021-04-30","EMPRESA PRIVADA","MODULO CONTACTENOS","SOLICITUD DE INFORMACIÓN Y DOCUMENTOS","SOLICITUD DE INFORMACIÓN HIDROMETEOROLÓGICA","NO","GRUPO DE SERVICIO AL CIUDADANO ","2021-05-27","CORREO ELECTRÓNICO",null,{"$f":"IFERROR(WORKDAY(C1089,S1088,DiasNOLaborables),\"\")","v":"2021-05-31"},{"$f":"+IF(C1089=\"\",\"\",IF(J1089=\"\",\"SIN RESPUESTA\",(IF(J1089<=M1089,\"A TIEMPO\",\"FUERA DE TIEMPO\"))))","v":"A TIEMPO"},{"$f":"IF(J1089=\"\",\"\",NETWORKDAYS(C1089+1,J1089,DiasNOLaborables))","v":18},"",null,null,20]
[1079,20219050054092,"2021-04-30","CIUDADANO","CORREO ELECTRÓNICO","SOLICITUD DE INFORMACIÓN Y DOCUMENTOS","SOLICITUD DE INFORMACIÓN HIDROMETEOROLÓGICA","NO","GRUPO DE SERVICIO AL CIUDADANO ","2021-05-27","CORREO ELECTRÓNICO",null,{"$f":"IFERROR(WORKDAY(C1090,S1089,DiasNOLaborables),\"\")","v":"2021-05-31"},{"$f":"+IF(C1090=\"\",\"\",IF(J1090=\"\",\"SIN RESPUESTA\",(IF(J1090<=M1090,\"A TIEMPO\",\"FUERA DE TIEMPO\"))))","v":"A TIEMPO"},{"$f":"IF(J1090=\"\",\"\",NETWORKDAYS(C1090+1,J1090,DiasNOLaborables))","v":18},"",null,null,20]
[1080,20219050054102,"2021-04-30","CIUDADANO","MODULO CONTACTENOS","SOLICITUD DE INFORMACIÓN Y DOCUMENTOS","SOLICITUD DE INFORMACIÓN HIDROMETEOROLÓGICA","NO","GRUPO DE SERVICIO AL CIUDADANO ","2021-05-27","CORREO ELECTRÓNICO",null,{"$f":"IFERROR(WORKDAY(C1091,S1090,DiasNOLaborables),\"\")","v":"2021-05-31"},{"$f":"+IF(C1091=\"\",\"\",IF(J1091=\"\",\"SIN RESPUESTA\",(IF(J1091<=M1091,\"A TIEMPO\",\"FUERA DE TIEMPO\"))))","v":"A TIEMPO"},{"$f":"IF(J1091=\"\",\"\",NETWORKDAYS(C1091+1,J1091,DiasNOLaborables))","v":18},"",null,null,20]
[1081,20219050054132,"2021-04-30","CIUDADANO","MODULO CONTACTENOS","SOLICITUD DE INFORMACIÓN Y DOCUMENTOS","SOLICITUD DE INFORMACIÓN HIDROMETEOROLÓGICA","NO","GRUPO DE SERVICIO AL CIUDADANO ","2021-05-27","CORREO ELECTRÓNICO",null,{"$f":"IFERROR(WORKDAY(C1092,S1091,DiasNOLaborables),\"\")","v":"2021-05-31"},{"$f":"+IF(C1092=\"\",\"\",IF(J1092=\"\",\"SIN RESPUESTA\",(IF(J1092<=M1092,\"A TIEMPO\",\"FUERA DE TIEMPO\"))))","v":"A TIEMPO"},{"$f":"IF(J1092=\"\",\"\",NETWORKDAYS(C1092+1,J1092,DiasNOLaborables))","v":18},"",null,null,20]
[1082,20219050054152,"2021-04-30","CIUDADANO","MODULO CONTACTENOS","SOLICITUD DE INFORMACIÓN Y DOCUMENTOS","SOLICITUD DE INFORMACIÓN HIDROMETEOROLÓGICA","NO","GRUPO DE SERVICIO AL CIUDADANO ","2021-05-28","CORREO ELECTRÓNICO",null,{"$f":"IFERROR(WORKDAY(C1093,S1092,DiasNOLaborables),\"\")","v":"2021-05-31"},{"$f":"+IF(C1093=\"\",\"\",IF(J1093=\"\",\"SIN RESPUESTA\",(IF(J1093<=M1093,\"A TIEMPO\",\"FUERA DE TIEMPO\"))))","v":"A TIEMPO"},{"$f":"IF(J1093=\"\",\"\",NETWORKDAYS(C1093+1,J1093,DiasNOLaborables))","v":19},"",null,null,20]
[1083,20219050054072,"2021-04-30","CIUDADANO","CORREO ELECTRÓNICO","SOLICITUD DE INFORMACIÓN Y DOCUMENTOS","AGUAS SUBTERRANEAS","SI","SUBDIRECCIÓN DE HIDROLOGÍA","2021-05-18","CORREO ELECTRÓNICO",null,{"$f":"IFERROR(WORKDAY(C1094,S1093,DiasNOLaborables),\"\")","v":"2021-05-31"},{"$f":"+IF(C1094=\"\",\"\",IF(J1094=\"\",\"SIN RESPUESTA\",(IF(J1094<=M1094,\"A TIEMPO\",\"FUERA DE TIEMPO\"))))","v":"A TIEMPO"},{"$f":"IF(J1094=\"\",\"\",NETWORKDAYS(C1094+1,J1094,DiasNOLaborables))","v":11},"",null,null,30]
[1084,20219050054112,"2021-04-30","CIUDADANO","CORREO ELECTRÓNICO","PETICIÓN","SUELOS Y TIERRAS","SI","SUBDIRECCIÓN DE ECOSISTEMAS E INFORMACIÓN AMBIENTAL","2021-05-06","CORREO ELECTRÓNICO",null,{"$f":"IFERROR(WORKDAY(C1095,S1094,DiasNOLaborables),\"\")","v":"2021-06-16"},{"$f":"+IF(C1095=\"\",\"\",IF(J1095=\"\",\"SIN RESPUESTA\",(IF(J1095<=M1095,\"A TIEMPO\",\"FUERA DE TIEMPO\"))))","v":"A TIEMPO"},{"$f":"IF(J1095=\"\",\"\",NETWORKDAYS(C1095+1,J1095,DiasNOLaborables))","v":4},"",null,null,20]
[1085,20219050054122,"2021-04-30","CIUDADANO","CORREO ELECTRÓNICO","SOLICITUD DE INFORMACIÓN Y DOCUMENTOS","ADMINISTRATIVA","SI","SUBDIRECCIÓN DE HIDROLOGÍA","2021-05-05","CORREO ELECTRÓNICO",null,{"$f":"IFERROR(WORKDAY(C1096,S1095,DiasNOLaborables),\"\")","v":"2021-05-31"},{"$f":"+IF(C1096=\"\",\"\",IF(J1096=\"\",\"SIN RESPUESTA\",(IF(J1096<=M1096,\"A TIEMPO\",\"FUERA DE TIEMPO\"))))","v":"A TIEMPO"},{"$f":"IF(J1096=\"\",\"\",NETWORKDAYS(C1096+1,J1096,DiasNOLaborables))","v":3},"",null,null,15]
[1086,20219050054142,"2021-04-30","CIUDADANO","CORREO ELECTRÓNICO","QUEJA","SOLICITUD DE INFORMACIÓN HIDROMETEOROLÓGICA","NO","GRUPO DE SERVICIO AL CIUDADANO ","2021-05-04","CORREO ELECTRÓNICO",null,{"$f":"IFERROR(WORKDAY(C1097,S1096,DiasNOLaborables),\"\")","v":"2021-05-24"},{"$f":"+IF(C1097=\"\",\"\",IF(J1097=\"\",\"SIN RESPUESTA\",(IF(J1097<=M1097,\"A TIEMPO\",\"FUERA DE TIEMPO\"))))","v":"A TIEMPO"},{"$f":"IF(J1097=\"\",\"\",NETWORKDAYS(C1097+1,J1097,DiasNOLaborables))","v":2},"",null,null,20]
[1087,20219050054172,"2021-04-30","FUNCIONARIO IDEAM","CORREO ELECTRÓNICO","SOLICITUD DE INFORMACIÓN Y DOCUMENTOS","ADMINISTRATIVA","SI","DIRECCIÓN GENERAL","2021-04-30","CORREO ELECTRÓNICO",null,{"$f":"IFERROR(WORKDAY(C1098,S1097,DiasNOLaborables),\"\")","v":"2021-05-31"},{"$f":"+IF(C1098=\"\",\"\",IF(J1098=\"\",\"SIN RESPUESTA\",(IF(J1098<=M1098,\"A TIEMPO\",\"FUERA DE TIEMPO\"))))","v":"A TIEMPO"},{"$f":"IF(J1098=\"\",\"\",NETWORKDAYS(C1098+1,J1098,DiasNOLaborables))","v":-1},"",null,null,35]
[1088,20219050053962,"2021-04-30","CIUDADANO","MODULO CONTACTENOS","CERTIFICACIONES DE TIEMPO, CLIMA Y EVENTOS HIDROLÓGICOS","CERTIFICACIONES DE TIEMPO Y CLIMA","SI","SUBDIRECCIÓN DE METEOROLOGÍA","2021-05-21","CORREO ELECTRÓNICO",null,{"$f":"IFERROR(WORKDAY(C1099,S1098,DiasNOLaborables),\"\")","v":"2021-06-23"},{"$f":"+IF(C1099=\"\",\"\",IF(J1099=\"\",\"SIN RESPUESTA\",(IF(J1099<=M1099,\"A TIEMPO\",\"FUERA DE TIEMPO\"))))","v":"A TIEMPO"},{"$f":"IF(J1099=\"\",\"\",NETWORKDAYS(C1099+1,J1099,DiasNOLaborables))","v":14},"",null,null,35]
[1089,20219050053972,"2021-04-30","EMPRESA PRIVADA","MODULO CONTACTENOS","CERTIFICACIONES DE TIEMPO, CLIMA Y EVENTOS HIDROLÓGICOS","CERTIFICACIONES DE TIEMPO Y CLIMA","SI","SUBDIRECCIÓN DE METEOROLOGÍA","2021-05-21","CORREO ELECTRÓNICO",null,{"$f":"IFERROR(WORKDAY(C1100,S1099,DiasNOLaborables),\"\")","v":"2021-06-23"},{"$f":"+IF(C1100=\"\",\"\",IF(J1100=\"\",\"SIN RESPUESTA\",(IF(J1100<=M1100,\"A TIEMPO\",\"FUERA DE TIEMPO\"))))","v":"A TIEMPO"},{"$f":"IF(J1100=\"\",\"\",NETWORKDAYS(C1100+1,J1100,DiasNOLaborables))","v":14},"",null,null,20]
[1090,20219050054012,"2021-04-30","CIUDADANO","MODULO CONTACTENOS","SOLICITUD DE INFORMACIÓN Y DOCUMENTOS","CLIMATOLOGÍA","SI","OFICINA DEL SERVICIO DE PRONÓSTICOS Y ALERTAS","2021-05-12","CORREO ELECTRÓNICO",null,{"$f":"IFERROR(WORKDAY(C1101,S1100,DiasNOLaborables),\"\")","v":"2021-05-31"},{"$f":"+IF(C1101=\"\",\"\",IF(J1101=\"\",\"SIN RESPUESTA\",(IF(J1101<=M1101,\"A TIEMPO\",\"FUERA DE TIEMPO\"))))","v":"A TIEMPO"},{"$f":"IF(J1101=\"\",\"\",NETWORKDAYS(C1101+1,J1101,DiasNOLaborables))","v":8},"",null,null,{"$f":"IFERROR(VLOOKUP(F1102,$AA$51:$AB$64,2),\"\")","v":20}]
[{"$f":"IF(B1102<>\"\",A1101+1,\"\")","v":1091},20219050054042,"2021-04-30","CIUDADANO","MODULO CONTACTENOS","SOLICITUD DE INFORMACIÓN Y DOCUMENTOS","ADMINISTRATIVA","SI","GRUPO DE TESORERÍA","2021-05-04","CORREO ELECTRÓNICO",null,{"$f":"IFERROR(WORKDAY(C1102,S1101,DiasNOLaborables),\"\")","v":"2021-05-31"},{"$f":"+IF(C1102=\"\",\"\",IF(J1102=\"\",\"SIN RESPUESTA\",(IF(J1102<=M1102,\"A TIEMPO\",\"FUERA DE TIEMPO\"))))","v":"A TIEMPO"},{"$f":"IF(J1102=\"\",\"\",NETWORKDAYS(C1102+1,J1102,DiasNOLaborables))","v":2},"",null,null,35]
[1092,20219050054192,"2021-04-30","CIUDADANO","MODULO CONTACTENOS","CERTIFICACIONES DE TIEMPO, CLIMA Y EVENTOS HIDROLÓGICOS","CERTIFICACIONES DE TIEMPO Y CLIMA","SI","SUBDIRECCIÓN DE METEOROLOGÍA","2021-05-24","CORREO ELECTRÓNICO",null,{"$f":"IFERROR(WORKDAY(C1103,S1102,DiasNOLaborables),\"\")","v":"2021-06-23"},{"$f":"+IF(C1103=\"\",\"\",IF(J1103=\"\",\"SIN RESPUESTA\",(IF(J1103<=M1103,\"A TIEMPO\",\"FUERA DE TIEMPO\"))))","v":"A TIEMPO"},{"$f":"IF(J1103=\"\",\"\",NETWORKDAYS(C1103+1,J1103,DiasNOLaborables))","v":15},"",null,null,35]
[1093,20219050054202,"2021-04-30","EMPRESA PRIVADA","MODULO CONTACTENOS","CERTIFICACIONES DE TIEMPO, CLIMA Y EVENTOS HIDROLÓGICOS","CERTIFICACIONES DE TIEMPO Y CLIMA","SI","SUBDIRECCIÓN DE METEOROLOGÍA","2021-06-02","CORREO ELECTRÓNICO",null,{"$f":"IFERROR(WORKDAY(C1104,S1103,DiasNOLaborables),\"\")","v":"2021-06-23"},{"$f":"+IF(C1104=\"\",\"\",IF(J1104=\"\",\"SIN RESPUESTA\",(IF(J1104<=M1104,\"A TIEMPO\",\"FUERA DE TIEMPO\"))))","v":"A TIEMPO"},{"$f":"IF(J1104=\"\",\"\",NETWORKDAYS(C1104+1,J1104,DiasNOLaborables))","v":22},"",null,null,20]
[1094,20219050054262,"2021-04-30","CIUDADANO","MODULO CONTACTENOS","SOLICITUD DE INFORMACIÓN Y DOCUMENTOS","CLIMATOLOGÍA","SI","SUBDIRECCIÓN DE METEOROLOGÍA","2021-05-12","CORREO ELECTRÓNICO",null,{"$f":"IFERROR(WORKDAY(C1105,S1104,DiasNOLaborables),\"\")","v":"2021-05-31"},{"$f":"+IF(C1105=\"\",\"\",IF(J1105=\"\",\"SIN RESPUESTA\",(IF(J1105<=M1105,\"A TIEMPO\",\"FUERA DE TIEMPO\"))))","v":"A TIEMPO"},{"$f":"IF(J1105=\"\",\"\",NETWORKDAYS(C1105+1,J1105,DiasNOLaborables))","v":8},"",null,null,35]
[1095,20219050054302,"2021-04-30","EMPRESA PRIVADA","MODULO CONTACTENOS","CERTIFICACIONES DE TIEMPO, CLIMA Y EVENTOS HIDROLÓGICOS","CERTIFICACIONES DE TIEMPO Y CLIMA","SI","SUBDIRECCIÓN DE METEOROLOGÍA","2021-06-02","CORREO ELECTRÓNICO",null,{"$f":"IFERROR(WORKDAY(C1106,S1105,DiasNOLaborables),\"\")","v":"2021-06-23"},{"$f":"+IF(C1106=\"\",\"\",IF(J1106=\"\",\"SIN RESPUESTA\",(IF(J1106<=M1106,\"A TIEMPO\",\"FUERA DE TIEMPO\"))))","v":"A TIEMPO"},{"$f":"IF(J1106=\"\",\"\",NETWORKDAYS(C1106+1,J1106,DiasNOLaborables))","v":22},"",null,null,20]
[1096,20219050054312,"2021-05-01","CIUDADANO","MODULO CONTACTENOS","SOLICITUD DE INFORMACIÓN Y DOCUMENTOS","CAMBIO CLIMÁTICO","SI","SUBDIRECCIÓN DE ESTUDIOS AMBIENTALES","2021-05-12","CORREO ELECTRÓNICO",null,{"$f":"IFERROR(WORKDAY(C1107,S1106,DiasNOLaborables),\"\")","v":"2021-05-31"},{"$f":"+IF(C1107=\"\",\"\",IF(J1107=\"\",\"SIN RESPUESTA\",(IF(J1107<=M1107,\"A TIEMPO\",\"FUERA DE TIEMPO\"))))","v":"A TIEMPO"},{"$f":"IF(J1107=\"\",\"\",NETWORKDAYS(C1107+1,J1107,DiasNOLaborables))","v":8},"",null,null,20]
[1097,20219050054292,"2021-05-01","ACADEMIA ","MODULO CONTACTENOS","SOLICITUD DE INFORMACIÓN Y DOCUMENTOS","SOLICITUD DE INFORMACIÓN HIDROMETEOROLÓGICA","NO","GRUPO DE SERVICIO AL CIUDADANO ","2021-05-28","CORREO ELECTRÓNICO",null,{"$f":"IFERROR(WORKDAY(C1108,S1107,DiasNOLaborables),\"\")","v":"2021-05-31"},{"$f":"+IF(C1108=\"\",\"\",IF(J1108=\"\",\"SIN RESPUESTA\",(IF(J1108<=M1108,\"A TIEMPO\",\"FUERA DE TIEMPO\"))))","v":"A TIEMPO"},{"$f":"IF(J1108=\"\",\"\",NETWORKDAYS(C1108+1,J1108,DiasNOLaborables))","v":19},"",null,null,20]
[1098,20219050054322,"2021-05-01","CIUDADANO","MODULO CONTACTENOS","SOLICITUD DE INFORMACIÓN Y DOCUMENTOS","SOLICITUD DE INFORMACIÓN HIDROMETEOROLÓGICA","NO","GRUPO DE SERVICIO AL CIUDADANO ","2021-05-28","CORREO ELECTRÓNICO",null,{"$f":"IFERROR(WORKDAY(C1109,S1108,DiasNOLaborables),\"\")","v":"2021-05-31"},{"$f":"+IF(C1109=\"\",\"\",IF(J1109=\"\",\"SIN RESPUESTA\",(IF(J1109<=M1109,\"A TIEMPO\",\"FUERA DE TIEMPO\"))))","v":"A TIEMPO"},{"$f":"IF(J1109=\"\",\"\",NETWORKDAYS(C1109+1,J1109,DiasNOLaborables))","v":19},"",null,null,20]
[1099,20219050054332,"2021-05-01","CIUDADANO","MODULO CONTACTENOS","SOLICITUD DE INFORMACIÓN Y DOCUMENTOS","SOLICITUD DE INFORMACIÓN HIDROMETEOROLÓGICA","NO","GRUPO DE SERVICIO AL CIUDADANO ","2021-05-28","CORREO ELECTRÓNICO","NASLY SUSANA PUERTA GUTIERREZ",{"$f":"IFERROR(WORKDAY(C1110,S1109,DiasNOLaborables),\"\")","v":"2021-05-31"},{"$f":"+IF(C1110=\"\",\"\",IF(J1110=\"\",\"SIN RESPUESTA\",(IF(J1110<=M1110,\"A TIEMPO\",\"FUERA DE TIEMPO\"))))","v":"A TIEMPO"},{"$f":"IF(J1110=\"\",\"\",NETWORKDAYS(C1110+1,J1110,DiasNOLaborables))","v":19},"",null,null,20]
[1100,20219050054342,"2021-05-01","CIUDADANO","MODULO CONTACTENOS","SOLICITUD DE INFORMACIÓN Y DOCUMENTOS","SOLICITUD DE INFORMACIÓN HIDROMETEOROLÓGICA","NO","GRUPO DE SERVICIO AL CIUDADANO ","2021-05-28","CORREO ELECTRÓNICO","NASLY SUSANA PUERTA GUTIERREZ",{"$f":"IFERROR(WORKDAY(C1111,S1110,DiasNOLaborables),\"\")","v":"2021-05-31"},{"$f":"+IF(C1111=\"\",\"\",IF(J1111=\"\",\"SIN RESPUESTA\",(IF(J1111<=M1111,\"A TIEMPO\",\"FUERA DE TIEMPO\"))))","v":"A TIEMPO"},{"$f":"IF(J1111=\"\",\"\",NETWORKDAYS(C1111+1,J1111,DiasNOLaborables))","v":19},"",null,null,20]
[1101,20219050054352,"2021-05-01","CIUDADANO","MODULO CONTACTENOS","SOLICITUD DE INFORMACIÓN Y DOCUMENTOS","SOLICITUD DE INFORMACIÓN HIDROMETEOROLÓGICA","NO","GRUPO DE SERVICIO AL CIUDADANO ","2021-05-28","CORREO ELECTRÓNICO","NASLY SUSANA PUERTA GUTIERREZ",{"$f":"IFERROR(WORKDAY(C1112,S1111,DiasNOLaborables),\"\")","v":"2021-05-31"},{"$f":"+IF(C1112=\"\",\"\",IF(J1112=\"\",\"SIN RESPUESTA\",(IF(J1112<=M1112,\"A TIEMPO\",\"FUERA DE TIEMPO\"))))","v":"A TIEMPO"},{"$f":"IF(J1112=\"\",\"\",NETWORKDAYS(C1112+1,J1112,DiasNOLaborables))","v":19},"",null,null,20]
[1102,20219050054392,"2021-05-02","EMPRESA PRIVADA","MODULO CONTACTENOS","SOLICITUD DE INFORMACIÓN Y DOCUMENTOS","REGISTROS AMBIENTALES","SI","SUBDIRECCIÓN DE ESTUDIOS AMBIENTALES","2021-05-18","CORREO ELECTRÓNICO","NASLY SUSANA PUERTA GUTIERREZ",{"$f":"IFERROR(WORKDAY(C1113,S1112,DiasNOLaborables),\"\")","v":"2021-05-31"},{"$f":"+IF(C1113=\"\",\"\",IF(J1113=\"\",\"SIN RESPUESTA\",(IF(J1113<=M1113,\"A TIEMPO\",\"FUERA DE TIEMPO\"))))","v":"A TIEMPO"},{"$f":"IF(J1113=\"\",\"\",NETWORKDAYS(C1113+1,J1113,DiasNOLaborables))","v":11},"",null,null,20]
[1103,20219050054412,"2021-05-02","CIUDADANO","MODULO CONTACTENOS","SOLICITUD DE INFORMACIÓN Y DOCUMENTOS","SIA","SI","SUBDIRECCIÓN DE ECOSISTEMAS E INFORMACIÓN AMBIENTAL","2021-05-18","CORREO ELECTRÓNICO","NASLY SUSANA PUERTA GUTIERREZ",{"$f":"IFERROR(WORKDAY(C1114,S1113,DiasNOLaborables),\"\")","v":"2021-05-31"},{"$f":"+IF(C1114=\"\",\"\",IF(J1114=\"\",\"SIN RESPUESTA\",(IF(J1114<=M1114,\"A TIEMPO\",\"FUERA DE TIEMPO\"))))","v":"A TIEMPO"},{"$f":"IF(J1114=\"\",\"\",NETWORKDAYS(C1114+1,J1114,DiasNOLaborables))","v":11},"",null,null,20]
[1104,20219050054362,"2021-05-02","CIUDADANO","MODULO CONTACTENOS","SOLICITUD DE INFORMACIÓN Y DOCUMENTOS","SOLICITUD DE INFORMACIÓN HIDROMETEOROLÓGICA","NO","GRUPO DE SERVICIO AL CIUDADANO ","2021-05-31","CORREO ELECTRÓNICO","NASLY SUSANA PUERTA GUTIERREZ",{"$f":"IFERROR(WORKDAY(C1115,S1114,DiasNOLaborables),\"\")","v":"2021-05-31"},{"$f":"+IF(C1115=\"\",\"\",IF(J1115=\"\",\"SIN RESPUESTA\",(IF(J1115<=M1115,\"A TIEMPO\",\"FUERA DE TIEMPO\"))))","v":"A TIEMPO"},{"$f":"IF(J1115=\"\",\"\",NETWORKDAYS(C1115+1,J1115,DiasNOLaborables))","v":20},"",null,null,20]
[1105,20219050054372,"2021-05-02","CIUDADANO","MODULO CONTACTENOS","SOLICITUD DE INFORMACIÓN Y DOCUMENTOS","SOLICITUD DE INFORMACIÓN HIDROMETEOROLÓGICA","NO","GRUPO DE SERVICIO AL CIUDADANO ","2021-05-31","CORREO ELECTRÓNICO","NASLY SUSANA PUERTA GUTIERREZ",{"$f":"IFERROR(WORKDAY(C1116,S1115,DiasNOLaborables),\"\")","v":"2021-05-31"},{"$f":"+IF(C1116=\"\",\"\",IF(J1116=\"\",\"SIN RESPUESTA\",(IF(J1116<=M1116,\"A TIEMPO\",\"FUERA DE TIEMPO\"))))","v":"A TIEMPO"},{"$f":"IF(J1116=\"\",\"\",NETWORKDAYS(C1116+1,J1116,DiasNOLaborables))","v":20},"",null,null,20]
[1106,20219050054382,"2021-05-02","ACADEMIA ","MODULO CONTACTENOS","SOLICITUD DE INFORMACIÓN Y DOCUMENTOS","SOLICITUD DE INFORMACIÓN HIDROMETEOROLÓGICA","NO","GRUPO DE SERVICIO AL CIUDADANO ","2021-05-31","CORREO ELECTRÓNICO","NASLY SUSANA PUERTA GUTIERREZ",{"$f":"IFERROR(WORKDAY(C1117,S1116,DiasNOLaborables),\"\")","v":"2021-05-31"},{"$f":"+IF(C1117=\"\",\"\",IF(J1117=\"\",\"SIN RESPUESTA\",(IF(J1117<=M1117,\"A TIEMPO\",\"FUERA DE TIEMPO\"))))","v":"A TIEMPO"},{"$f":"IF(J1117=\"\",\"\",NETWORKDAYS(C1117+1,J1117,DiasNOLaborables))","v":20},"",null,null,20]
[1107,20219050054422,"2021-05-02","CIUDADANO","MODULO CONTACTENOS","SOLICITUD DE INFORMACIÓN Y DOCUMENTOS","SOLICITUD DE INFORMACIÓN HIDROMETEOROLÓGICA","NO","GRUPO DE SERVICIO AL CIUDADANO ","2021-05-31","CORREO ELECTRÓNICO","NASLY SUSANA PUERTA GUTIERREZ",{"$f":"IFERROR(WORKDAY(C1118,S1117,DiasNOLaborables),\"\")","v":"2021-05-31"},{"$f":"+IF(C1118=\"\",\"\",IF(J1118=\"\",\"SIN RESPUESTA\",(IF(J1118<=M1118,\"A TIEMPO\",\"FUERA DE TIEMPO\"))))","v":"A TIEMPO"},{"$f":"IF(J1118=\"\",\"\",NETWORKDAYS(C1118+1,J1118,DiasNOLaborables))","v":20},"",null,null,20]
[1108,20219050054462,"2021-05-02","EMPRESA PRIVADA","MODULO CONTACTENOS","SOLICITUD DE INFORMACIÓN Y DOCUMENTOS","SOLICITUD DE INFORMACIÓN HIDROMETEOROLÓGICA","NO","GRUPO DE SERVICIO AL CIUDADANO ","2021-05-31","CORREO ELECTRÓNICO","NASLY SUSANA PUERTA GUTIERREZ",{"$f":"IFERROR(WORKDAY(C1119,S1118,DiasNOLaborables),\"\")","v":"2021-05-31"},{"$f":"+IF(C1119=\"\",\"\",IF(J1119=\"\",\"SIN RESPUESTA\",(IF(J1119<=M1119,\"A TIEMPO\",\"FUERA DE TIEMPO\"))))","v":"A TIEMPO"},{"$f":"IF(J1119=\"\",\"\",NETWORKDAYS(C1119+1,J1119,DiasNOLaborables))","v":20},"",null,null,20]
[1109,20219050054472,"2021-05-03","CIUDADANO","MODULO CONTACTENOS","SOLICITUD DE INFORMACIÓN Y DOCUMENTOS","SOLICITUD DE INFORMACIÓN HIDROMETEOROLÓGICA","NO","GRUPO DE SERVICIO AL CIUDADANO ","2021-05-31","CORREO ELECTRÓNICO","NASLY SUSANA PUERTA GUTIERREZ",{"$f":"IFERROR(WORKDAY(C1120,S1119,DiasNOLaborables),\"\")","v":"2021-06-01"},{"$f":"+IF(C1120=\"\",\"\",IF(J1120=\"\",\"SIN RESPUESTA\",(IF(J1120<=M1120,\"A TIEMPO\",\"FUERA DE TIEMPO\"))))","v":"A TIEMPO"},{"$f":"IF(J1120=\"\",\"\",NETWORKDAYS(C1120+1,J1120,DiasNOLaborables))","v":19},"",null,null,20]
[1110,20219050054482,"2021-05-03","CIUDADANO","MODULO CONTACTENOS","SOLICITUD DE INFORMACIÓN Y DOCUMENTOS","SIRH","SI","SUBDIRECCIÓN DE HIDROLOGÍA","2021-05-13","CORREO ELECTRÓNICO","NASLY SUSANA PUERTA GUTIERREZ",{"$f":"IFERROR(WORKDAY(C1121,S1120,DiasNOLaborables),\"\")","v":"2021-06-01"},{"$f":"+IF(C1121=\"\",\"\",IF(J1121=\"\",\"SIN RESPUESTA\",(IF(J1121<=M1121,\"A TIEMPO\",\"FUERA DE TIEMPO\"))))","v":"A TIEMPO"},{"$f":"IF(J1121=\"\",\"\",NETWORKDAYS(C1121+1,J1121,DiasNOLaborables))","v":8},"",null,null,35]
[1111,20219050054502,"2021-05-03","EMPRESA PRIVADA","MODULO CONTACTENOS","CERTIFICACIONES DE TIEMPO, CLIMA Y EVENTOS HIDROLÓGICOS","CERTIFICACIONES DE TIEMPO Y CLIMA","SI","SUBDIRECCIÓN DE METEOROLOGÍA","2021-05-25","CORREO ELECTRÓNICO","NASLY SUSANA PUERTA GUTIERREZ",{"$f":"IFERROR(WORKDAY(C1122,S1121,DiasNOLaborables),\"\")","v":"2021-06-24"},{"$f":"+IF(C1122=\"\",\"\",IF(J1122=\"\",\"SIN RESPUESTA\",(IF(J1122<=M1122,\"A TIEMPO\",\"FUERA DE TIEMPO\"))))","v":"A TIEMPO"},{"$f":"IF(J1122=\"\",\"\",NETWORKDAYS(C1122+1,J1122,DiasNOLaborables))","v":15},"",null,null,20]
[1112,20219050054562,"2021-05-03","CIUDADANO","CORREO ELECTRÓNICO","SOLICITUD DE INFORMACIÓN Y DOCUMENTOS","INFORMES AMBIENTALES","SI","DIRECCIÓN GENERAL","2021-05-18","CORREO ELECTRÓNICO","NASLY SUSANA PUERTA GUTIERREZ",{"$f":"IFERROR(WORKDAY(C1123,S1122,DiasNOLaborables),\"\")","v":"2021-06-01"},{"$f":"+IF(C1123=\"\",\"\",IF(J1123=\"\",\"SIN RESPUESTA\",(IF(J1123<=M1123,\"A TIEMPO\",\"FUERA DE TIEMPO\"))))","v":"A TIEMPO"},{"$f":"IF(J1123=\"\",\"\",NETWORKDAYS(C1123+1,J1123,DiasNOLaborables))","v":10},"",null,null,20]
[1113,20219050054692,"2021-05-03","CIUDADANO","CORREO ELECTRÓNICO","SOLICITUD DE INFORMACIÓN Y DOCUMENTOS","INFORMES AMBIENTALES","SI","SUBDIRECCIÓN DE METEOROLOGÍA","2021-06-01","CORREO ELECTRÓNICO","NASLY SUSANA PUERTA GUTIERREZ",{"$f":"IFERROR(WORKDAY(C1124,S1123,DiasNOLaborables),\"\")","v":"2021-06-01"},{"$f":"+IF(C1124=\"\",\"\",IF(J1124=\"\",\"SIN RESPUESTA\",(IF(J1124<=M1124,\"A TIEMPO\",\"FUERA DE TIEMPO\"))))","v":"A TIEMPO"},{"$f":"IF(J1124=\"\",\"\",NETWORKDAYS(C1124+1,J1124,DiasNOLaborables))","v":20},{"$f":"IF(NETWORKDAYS(M1124+1,J1124,DiasNOLaborables)<=0,\"\",NETWORKDAYS(M1124+1,J1124,DiasNOLaborables))","v":""},null,null,20]
[1114,20219050054702,"2021-05-03","EMPRESA PRIVADA","CORREO ELECTRÓNICO","SOLICITUD DE INFORMACIÓN Y DOCUMENTOS","INFORMES AMBIENTALES","SI","SUBDIRECCIÓN DE METEOROLOGÍA","2021-05-06","CORREO ELECTRÓNICO","NASLY SUSANA PUERTA GUTIERREZ",{"$f":"IFERROR(WORKDAY(C1125,S1124,DiasNOLaborables),\"\")","v":"2021-06-01"},{"$f":"+IF(C1125=\"\",\"\",IF(J1125=\"\",\"SIN RESPUESTA\",(IF(J1125<=M1125,\"A TIEMPO\",\"FUERA DE TIEMPO\"))))","v":"A TIEMPO"},{"$f":"IF(J1125=\"\",\"\",NETWORKDAYS(C1125+1,J1125,DiasNOLaborables))","v":3},"",null,null,20]
[1115,20219050054772,"2021-05-03","CIUDADANO","CORREO ELECTRÓNICO","SOLICITUD DE INFORMACIÓN Y DOCUMENTOS","INFORMES AMBIENTALES","SI","SUBDIRECCIÓN DE METEOROLOGÍA","2021-05-28","CORREO ELECTRÓNICO","NASLY SUSANA PUERTA GUTIERREZ",{"$f":"IFERROR(WORKDAY(C1126,S1125,DiasNOLaborables),\"\")","v":"2021-06-01"},{"$f":"+IF(C1126=\"\",\"\",IF(J1126=\"\",\"SIN RESPUESTA\",(IF(J1126<=M1126,\"A TIEMPO\",\"FUERA DE TIEMPO\"))))","v":"A TIEMPO"},{"$f":"IF(J1126=\"\",\"\",NETWORKDAYS(C1126+1,J1126,DiasNOLaborables))","v":18},"",null,null,20]
[1116,20219050054792,"2021-05-03","EMPRESA PRIVADA","CORREO ELECTRÓNICO","SOLICITUD DE INFORMACIÓN Y DOCUMENTOS","INFORMES AMBIENTALES","SI","SUBDIRECCIÓN DE METEOROLOGÍA","2021-05-18","CORREO ELECTRÓNICO","NASLY SUSANA PUERTA GUTIERREZ",{"$f":"IFERROR(WORKDAY(C1127,S1126,DiasNOLaborables),\"\")","v":"2021-06-01"},{"$f":"+IF(C1127=\"\",\"\",IF(J1127=\"\",\"SIN RESPUESTA\",(IF(J1127<=M1127,\"A TIEMPO\",\"FUERA DE TIEMPO\"))))","v":"A TIEMPO"},{"$f":"IF(J1127=\"\",\"\",NETWORKDAYS(C1127+1,J1127,DiasNOLaborables))","v":10},"",null,null,20]
[1117,20219050054812,"2021-05-03","CIUDADANO","CORREO ELECTRÓNICO","SOLICITUD DE INFORMACIÓN Y DOCUMENTOS","INFORMES AMBIENTALES","SI","SUBDIRECCIÓN DE METEOROLOGÍA","2021-06-01","CORREO ELECTRÓNICO","NASLY SUSANA PUERTA GUTIERREZ",{"$f":"IFERROR(WORKDAY(C1128,S1127,DiasNOLaborables),\"\")","v":"2021-06-01"},{"$f":"+IF(C1128=\"\",\"\",IF(J1128=\"\",\"SIN RESPUESTA\",(IF(J1128<=M1128,\"A TIEMPO\",\"FUERA DE TIEMPO\"))))","v":"A TIEMPO"},{"$f":"IF(J1128=\"\",\"\",NETWORKDAYS(C1128+1,J1128,DiasNOLaborables))","v":20},"",null,null,35]
[1118,20219050054832,"2021-05-03","CIUDADANO","CORREO ELECTRÓNICO","CERTIFICACIONES DE TIEMPO, CLIMA Y EVENTOS HIDROLÓGICOS","CERTIFICACIONES DE TIEMPO Y CLIMA","SI","SUBDIRECCIÓN DE METEOROLOGÍA","2021-05-21","CORREO ELECTRÓNICO","NASLY SUSANA PUERTA GUTIERREZ",{"$f":"IFERROR(WORKDAY(C1129,S1128,DiasNOLaborables),\"\")","v":"2021-06-24"},{"$f":"+IF(C1129=\"\",\"\",IF(J1129=\"\",\"SIN RESPUESTA\",(IF(J1129<=M1129,\"A TIEMPO\",\"FUERA DE TIEMPO\"))))","v":"A TIEMPO"},{"$f":"IF(J1129=\"\",\"\",NETWORKDAYS(C1129+1,J1129,DiasNOLaborables))","v":13},"",null,null,35]
[1119,20219050054862,"2021-05-03","CIUDADANO","CORREO ELECTRÓNICO","CERTIFICACIONES DE TIEMPO, CLIMA Y EVENTOS HIDROLÓGICOS","CERTIFICACIONES DE TIEMPO Y CLIMA","SI","SUBDIRECCIÓN DE METEOROLOGÍA","2021-06-01","CORREO ELECTRÓNICO","NASLY SUSANA PUERTA GUTIERREZ",{"$f":"IFERROR(WORKDAY(C1130,S1129,DiasNOLaborables),\"\")","v":"2021-06-24"},{"$f":"+IF(C1130=\"\",\"\",IF(J1130=\"\",\"SIN RESPUESTA\",(IF(J1130<=M1130,\"A TIEMPO\",\"FUERA DE TIEMPO\"))))","v":"A TIEMPO"},{"$f":"IF(J1130=\"\",\"\",NETWORKDAYS(C1130+1,J1130,DiasNOLaborables))","v":20},"",null,null,35]
[1120,20219050054902,"2021-05-03","CIUDADANO","CORREO ELECTRÓNICO","CERTIFICACIONES DE TIEMPO, CLIMA Y EVENTOS HIDROLÓGICOS","CERTIFICACIONES DE TIEMPO Y CLIMA","SI","SUBDIRECCIÓN DE METEOROLOGÍA","2021-06-01","CORREO ELECTRÓNICO","NASLY SUSANA PUERTA GUTIERREZ",{"$f":"IFERROR(WORKDAY(C1131,S1130,DiasNOLaborables),\"\")","v":"2021-06-24"},{"$f":"+IF(C1131=\"\",\"\",IF(J1131=\"\",\"SIN RESPUESTA\",(IF(J1131<=M1131,\"A TIEMPO\",\"FUERA DE TIEMPO\"))))","v":"A TIEMPO"},{"$f":"IF(J1131=\"\",\"\",NETWORKDAYS(C1131+1,J1131,DiasNOLaborables))","v":20},"",null,null,35]
[1121,20219050054922,"2021-05-03","CIUDADANO","CORREO ELECTRÓNICO","CERTIFICACIONES DE TIEMPO, CLIMA Y EVENTOS HIDROLÓGICOS","CERTIFICACIONES DE TIEMPO Y CLIMA","SI","SUBDIRECCIÓN DE METEOROLOGÍA","2021-05-24","CORREO ELECTRÓNICO","NASLY SUSANA PUERTA GUTIERREZ",{"$f":"IFERROR(WORKDAY(C1132,S1131,DiasNOLaborables),\"\")","v":"2021-06-24"},{"$f":"+IF(C1132=\"\",\"\",IF(J1132=\"\",\"SIN RESPUESTA\",(IF(J1132<=M1132,\"A TIEMPO\",\"FUERA DE TIEMPO\"))))","v":"A TIEMPO"},{"$f":"IF(J1132=\"\",\"\",NETWORKDAYS(C1132+1,J1132,DiasNOLaborables))","v":14},"",null,null,20]
[1122,20219050054962,"2021-05-03","ENTIDAD PÚBLICA","CORREO ELECTRÓNICO","SOLICITUD DE INFORMACIÓN Y DOCUMENTOS","INFORMES AMBIENTALES","SI","SUBDIRECCIÓN DE METEOROLOGÍA","2021-05-18","CORREO ELECTRÓNICO","NASLY SUSANA PUERTA GUTIERREZ",{"$f":"IFERROR(WORKDAY(C1133,S1132,DiasNOLaborables),\"\")","v":"2021-06-01"},{"$f":"+IF(C1133=\"\",\"\",IF(J1133=\"\",\"SIN RESPUESTA\",(IF(J1133<=M1133,\"A TIEMPO\",\"FUERA DE TIEMPO\"))))","v":"A TIEMPO"},{"$f":"IF(J1133=\"\",\"\",NETWORKDAYS(C1133+1,J1133,DiasNOLaborables))","v":10},"",null,null,35]
[1123,20219050054972,"2021-05-03","CIUDADANO","CORREO ELECTRÓNICO","CERTIFICACIONES DE TIEMPO, CLIMA Y EVENTOS HIDROLÓGICOS","CERTIFICACIONES DE TIEMPO Y CLIMA","SI","SUBDIRECCIÓN DE METEOROLOGÍA","2021-05-26","CORREO ELECTRÓNICO","NASLY SUSANA PUERTA GUTIERREZ",{"$f":"IFERROR(WORKDAY(C1134,S1133,DiasNOLaborables),\"\")","v":"2021-06-24"},{"$f":"+IF(C1134=\"\",\"\",IF(J1134=\"\",\"SIN RESPUESTA\",(IF(J1134<=M1134,\"A TIEMPO\",\"FUERA DE TIEMPO\"))))","v":"A TIEMPO"},{"$f":"IF(J1134=\"\",\"\",NETWORKDAYS(C1134+1,J1134,DiasNOLaborables))","v":16},"",null,null,20]
[1124,20219050054532,"2021-05-03","CIUDADANO","MODULO CONTACTENOS","SOLICITUD DE INFORMACIÓN Y DOCUMENTOS","CLIMATOLOGÍA","SI","SUBDIRECCIÓN DE METEOROLOGÍA","2021-05-12","CORREO ELECTRÓNICO","NASLY SUSANA PUERTA GUTIERREZ",{"$f":"IFERROR(WORKDAY(C1135,S1134,DiasNOLaborables),\"\")","v":"2021-06-01"},{"$f":"+IF(C1135=\"\",\"\",IF(J1135=\"\",\"SIN RESPUESTA\",(IF(J1135<=M1135,\"A TIEMPO\",\"FUERA DE TIEMPO\"))))","v":"A TIEMPO"},{"$f":"IF(J1135=\"\",\"\",NETWORKDAYS(C1135+1,J1135,DiasNOLaborables))","v":7},"",null,null,20]
[1125,20219050054762,"2021-05-03","CIUDADANO","MODULO CONTACTENOS","SOLICITUD DE INFORMACIÓN Y DOCUMENTOS","ADMINISTRATIVA","SI","OFICINA ASESORA JURÍDICA","2021-05-06","CORREO ELECTRÓNICO",null,{"$f":"IFERROR(WORKDAY(C1136,S1135,DiasNOLaborables),\"\")","v":"2021-06-01"},{"$f":"+IF(C1136=\"\",\"\",IF(J1136=\"\",\"SIN RESPUESTA\",(IF(J1136<=M1136,\"A TIEMPO\",\"FUERA DE TIEMPO\"))))","v":"A TIEMPO"},{"$f":"IF(J1136=\"\",\"\",NETWORKDAYS(C1136+1,J1136,DiasNOLaborables))","v":3},"",null,null,20]
[1126,20219050054942,"2021-05-03","CIUDADANO","MODULO CONTACTENOS","SOLICITUD DE INFORMACIÓN Y DOCUMENTOS","CAMBIO CLIMÁTICO","SI","SUBDIRECCIÓN DE ESTUDIOS AMBIENTALES","2021-05-12","CORREO ELECTRÓNICO",null,{"$f":"IFERROR(WORKDAY(C1137,S1136,DiasNOLaborables),\"\")","v":"2021-06-01"},{"$f":"+IF(C1137=\"\",\"\",IF(J1137=\"\",\"SIN RESPUESTA\",(IF(J1137<=M1137,\"A TIEMPO\",\"FUERA DE TIEMPO\"))))","v":"A TIEMPO"},{"$f":"IF(J1137=\"\",\"\",NETWORKDAYS(C1137+1,J1137,DiasNOLaborables))","v":7},"",null,null,30]
[1127,20219910024132,"2021-05-03","ENTIDAD PÚBLICA","CORREO ELECTRÓNICO","PETICIÓN","SIRH","SI","SUBDIRECCIÓN DE HIDROLOGÍA","2021-05-07","CORREO ELECTRÓNICO",null,{"$f":"IFERROR(WORKDAY(C1138,S1137,DiasNOLaborables),\"\")","v":"2021-06-17"},{"$f":"+IF(C1138=\"\",\"\",IF(J1138=\"\",\"SIN RESPUESTA\",(IF(J1138<=M1138,\"A TIEMPO\",\"FUERA DE TIEMPO\"))))","v":"A TIEMPO"},{"$f":"IF(J1138=\"\",\"\",NETWORKDAYS(C1138+1,J1138,DiasNOLaborables))","v":4},"",null,null,30]
[1128,20219050054802,"2021-05-03","CIUDADANO","CORREO ELECTRÓNICO","PETICIÓN","ADMINISTRATIVA","SI","GRUPO DE ADMINISTRACIÓN Y DESARROLLO DEL TALENTO HUMANO","2021-07-12","CORREO ELECTRÓNICO",null,{"$f":"IFERROR(WORKDAY(C1139,S1138,DiasNOLaborables),\"\")","v":"2021-06-17"},{"$f":"+IF(C1139=\"\",\"\",IF(J1139=\"\",\"SIN RESPUESTA\",(IF(J1139<=M1139,\"A TIEMPO\",\"FUERA DE TIEMPO\"))))","v":"FUERA DE TIEMPO"},{"$f":"IF(J1139=\"\",\"\",NETWORKDAYS(C1139+1,J1139,DiasNOLaborables))","v":46},16,null,null,20]
[1129,20219050054822,"2021-05-03","CIUDADANO","CORREO ELECTRÓNICO","SOLICITUD DE INFORMACIÓN Y DOCUMENTOS","OPERACIÓN DE REDES","SI","SUBDIRECCIÓN DE HIDROLOGÍA","2021-05-06","CORREO ELECTRÓNICO",null,{"$f":"IFERROR(WORKDAY(C1140,S1139,DiasNOLaborables),\"\")","v":"2021-06-01"},{"$f":"+IF(C1140=\"\",\"\",IF(J1140=\"\",\"SIN RESPUESTA\",(IF(J1140<=M1140,\"A TIEMPO\",\"FUERA DE TIEMPO\"))))","v":"A TIEMPO"},{"$f":"IF(J1140=\"\",\"\",NETWORKDAYS(C1140+1,J1140,DiasNOLaborables))","v":3},"",null,null,20]
[1130,20219050054852,"2021-05-03","CIUDADANO","CORREO ELECTRÓNICO","SOLICITUD DE INFORMACIÓN Y DOCUMENTOS","PRONÓSTICOS Y ALERTAS","SI","SUBDIRECCIÓN DE METEOROLOGÍA","2021-05-12","CORREO ELECTRÓNICO",null,{"$f":"IFERROR(WORKDAY(C1141,S1140,DiasNOLaborables),\"\")","v":"2021-06-01"},{"$f":"+IF(C1141=\"\",\"\",IF(J1141=\"\",\"SIN RESPUESTA\",(IF(J1141<=M1141,\"A TIEMPO\",\"FUERA DE TIEMPO\"))))","v":"A TIEMPO"},{"$f":"IF(J1141=\"\",\"\",NETWORKDAYS(C1141+1,J1141,DiasNOLaborables))","v":7},"",null,null,20]
[1131,20219050054882,"2021-05-03","CIUDADANO","CORREO ELECTRÓNICO","SOLICITUD DE INFORMACIÓN Y DOCUMENTOS","REGISTROS AMBIENTALES","SI","SUBDIRECCIÓN DE ESTUDIOS AMBIENTALES","2021-05-12","CORREO ELECTRÓNICO",null,{"$f":"IFERROR(WORKDAY(C1142,S1141,DiasNOLaborables),\"\")","v":"2021-06-01"},{"$f":"+IF(C1142=\"\",\"\",IF(J1142=\"\",\"SIN RESPUESTA\",(IF(J1142<=M1142,\"A TIEMPO\",\"FUERA DE TIEMPO\"))))","v":"A TIEMPO"},{"$f":"IF(J1142=\"\",\"\",NETWORKDAYS(C1142+1,J1142,DiasNOLaborables))","v":7},"",null,null,20]
[1132,20219050054952,"2021-05-03","CIUDADANO","MODULO CONTACTENOS","SOLICITUD DE INFORMACIÓN Y DOCUMENTOS","ADMINISTRATIVA","SI","GRUPO DE ADMINISTRACIÓN Y DESARROLLO DEL TALENTO HUMANO","2021-05-11","CORREO ELECTRÓNICO",null,{"$f":"IFERROR(WORKDAY(C1143,S1142,DiasNOLaborables),\"\")","v":"2021-06-01"},{"$f":"+IF(C1143=\"\",\"\",IF(J1143=\"\",\"SIN RESPUESTA\",(IF(J1143<=M1143,\"A TIEMPO\",\"FUERA DE TIEMPO\"))))","v":"A TIEMPO"},{"$f":"IF(J1143=\"\",\"\",NETWORKDAYS(C1143+1,J1143,DiasNOLaborables))","v":6},"",null,null,20]
[1133,20219050055002,"2021-05-03","CIUDADANO","MODULO CONTACTENOS","SOLICITUD DE INFORMACIÓN Y DOCUMENTOS","SOLICITUD DE INFORMACIÓN HIDROMETEOROLÓGICA","NO","GRUPO DE SERVICIO AL CIUDADANO ","2021-06-01","CORREO ELECTRÓNICO",null,{"$f":"IFERROR(WORKDAY(C1144,S1143,DiasNOLaborables),\"\")","v":"2021-06-01"},{"$f":"+IF(C1144=\"\",\"\",IF(J1144=\"\",\"SIN RESPUESTA\",(IF(J1144<=M1144,\"A TIEMPO\",\"FUERA DE TIEMPO\"))))","v":"A TIEMPO"},{"$f":"IF(J1144=\"\",\"\",NETWORKDAYS(C1144+1,J1144,DiasNOLaborables))","v":20},"",null,null,20]
[1134,20219050054992,"2021-05-03","CIUDADANO","MODULO CONTACTENOS","SOLICITUD DE INFORMACIÓN Y DOCUMENTOS","SOLICITUD DE INFORMACIÓN HIDROMETEOROLÓGICA","NO","GRUPO DE SERVICIO AL CIUDADANO ","2021-06-01","CORREO ELECTRÓNICO",null,{"$f":"IFERROR(WORKDAY(C1145,S1144,DiasNOLaborables),\"\")","v":"2021-06-01"},{"$f":"+IF(C1145=\"\",\"\",IF(J1145=\"\",\"SIN RESPUESTA\",(IF(J1145<=M1145,\"A TIEMPO\",\"FUERA DE TIEMPO\"))))","v":"A TIEMPO"},{"$f":"IF(J1145=\"\",\"\",NETWORKDAYS(C1145+1,J1145,DiasNOLaborables))","v":20},"",null,null,20]
[1135,20219050054842,"2021-05-03","CIUDADANO","MODULO CONTACTENOS","SOLICITUD DE INFORMACIÓN Y DOCUMENTOS","SOLICITUD DE INFORMACIÓN HIDROMETEOROLÓGICA","NO","GRUPO DE SERVICIO AL CIUDADANO ","2021-06-01","CORREO ELECTRÓNICO",null,{"$f":"IFERROR(WORKDAY(C1146,S1145,DiasNOLaborables),\"\")","v":"2021-06-01"},{"$f":"+IF(C1146=\"\",\"\",IF(J1146=\"\",\"SIN RESPUESTA\",(IF(J1146<=M1146,\"A TIEMPO\",\"FUERA DE TIEMPO\"))))","v":"A TIEMPO"},{"$f":"IF(J1146=\"\",\"\",NETWORKDAYS(C1146+1,J1146,DiasNOLaborables))","v":20},"",null,null,20]
[1136,20219050054782,"2021-05-03","CIUDADANO","MODULO CONTACTENOS","SOLICITUD DE INFORMACIÓN Y DOCUMENTOS","SOLICITUD DE INFORMACIÓN HIDROMETEOROLÓGICA","NO","GRUPO DE SERVICIO AL CIUDADANO ","2021-06-01","CORREO ELECTRÓNICO",null,{"$f":"IFERROR(WORKDAY(C1147,S1146,DiasNOLaborables),\"\")","v":"2021-06-01"},{"$f":"+IF(C1147=\"\",\"\",IF(J1147=\"\",\"SIN RESPUESTA\",(IF(J1147<=M1147,\"A TIEMPO\",\"FUERA DE TIEMPO\"))))","v":"A TIEMPO"},{"$f":"IF(J1147=\"\",\"\",NETWORKDAYS(C1147+1,J1147,DiasNOLaborables))","v":20},"",null,null,20]
[1137,20219050054612,"2021-05-03","CIUDADANO","MODULO CONTACTENOS","SOLICITUD DE INFORMACIÓN Y DOCUMENTOS","SOLICITUD DE INFORMACIÓN HIDROMETEOROLÓGICA","NO","GRUPO DE SERVICIO AL CIUDADANO ","2021-06-01","CORREO ELECTRÓNICO",null,{"$f":"IFERROR(WORKDAY(C1148,S1147,DiasNOLaborables),\"\")","v":"2021-06-01"},{"$f":"+IF(C1148=\"\",\"\",IF(J1148=\"\",\"SIN RESPUESTA\",(IF(J1148<=M1148,\"A TIEMPO\",\"FUERA DE TIEMPO\"))))","v":"A TIEMPO"},{"$f":"IF(J1148=\"\",\"\",NETWORKDAYS(C1148+1,J1148,DiasNOLaborables))","v":20},"",null,null,20]
[1138,20219050054552,"2021-05-03","CIUDADANO","MODULO CONTACTENOS","SOLICITUD DE INFORMACIÓN Y DOCUMENTOS","SOLICITUD DE INFORMACIÓN HIDROMETEOROLÓGICA","NO","GRUPO DE SERVICIO AL CIUDADANO ","2021-06-01","CORREO ELECTRÓNICO",null,{"$f":"IFERROR(WORKDAY(C1149,S1148,DiasNOLaborables),\"\")","v":"2021-06-01"},{"$f":"+IF(C1149=\"\",\"\",IF(J1149=\"\",\"SIN RESPUESTA\",(IF(J1149<=M1149,\"A TIEMPO\",\"FUERA DE TIEMPO\"))))","v":"A TIEMPO"},{"$f":"IF(J1149=\"\",\"\",NETWORKDAYS(C1149+1,J1149,DiasNOLaborables))","v":20},"",null,null,20]
[1139,20219050054542,"2021-05-03","CIUDADANO","MODULO CONTACTENOS","SOLICITUD DE INFORMACIÓN Y DOCUMENTOS","SOLICITUD DE INFORMACIÓN HIDROMETEOROLÓGICA","NO","GRUPO DE SERVICIO AL CIUDADANO ","2021-06-01","CORREO ELECTRÓNICO",null,{"$f":"IFERROR(WORKDAY(C1150,S1149,DiasNOLaborables),\"\")","v":"2021-06-01"},{"$f":"+IF(C1150=\"\",\"\",IF(J1150=\"\",\"SIN RESPUESTA\",(IF(J1150<=M1150,\"A TIEMPO\",\"FUERA DE TIEMPO\"))))","v":"A TIEMPO"},{"$f":"IF(J1150=\"\",\"\",NETWORKDAYS(C1150+1,J1150,DiasNOLaborables))","v":20},"",null,null,20]
[1140,20219050054522,"2021-05-03","CIUDADANO","MODULO CONTACTENOS","SOLICITUD DE INFORMACIÓN Y DOCUMENTOS","SOLICITUD DE INFORMACIÓN HIDROMETEOROLÓGICA","NO","GRUPO DE SERVICIO AL CIUDADANO ","2021-06-01","CORREO ELECTRÓNICO",null,{"$f":"IFERROR(WORKDAY(C1151,S1150,DiasNOLaborables),\"\")","v":"2021-06-01"},{"$f":"+IF(C1151=\"\",\"\",IF(J1151=\"\",\"SIN RESPUESTA\",(IF(J1151<=M1151,\"A TIEMPO\",\"FUERA DE TIEMPO\"))))","v":"A TIEMPO"},{"$f":"IF(J1151=\"\",\"\",NETWORKDAYS(C1151+1,J1151,DiasNOLaborables))","v":20},"",null,null,20]
[1141,20219050054512,"2021-05-03","ACADEMIA","MODULO CONTACTENOS","SOLICITUD DE INFORMACIÓN Y DOCUMENTOS","SOLICITUD DE INFORMACIÓN HIDROMETEOROLÓGICA","NO","GRUPO DE SERVICIO AL CIUDADANO ","2021-06-01","CORREO ELECTRÓNICO",null,{"$f":"IFERROR(WORKDAY(C1152,S1151,DiasNOLaborables),\"\")","v":"2021-06-01"},{"$f":"+IF(C1152=\"\",\"\",IF(J1152=\"\",\"SIN RESPUESTA\",(IF(J1152<=M1152,\"A TIEMPO\",\"FUERA DE TIEMPO\"))))","v":"A TIEMPO"},{"$f":"IF(J1152=\"\",\"\",NETWORKDAYS(C1152+1,J1152,DiasNOLaborables))","v":20},"",null,null,20]
[1142,20219050054492,"2021-05-03","ACADEMIA","MODULO CONTACTENOS","SOLICITUD DE INFORMACIÓN Y DOCUMENTOS","SOLICITUD DE INFORMACIÓN HIDROMETEOROLÓGICA","NO","GRUPO DE SERVICIO AL CIUDADANO ","2021-06-01","CORREO ELECTRÓNICO",null,{"$f":"IFERROR(WORKDAY(C1153,S1152,DiasNOLaborables),\"\")","v":"2021-06-01"},{"$f":"+IF(C1153=\"\",\"\",IF(J1153=\"\",\"SIN RESPUESTA\",(IF(J1153<=M1153,\"A TIEMPO\",\"FUERA DE TIEMPO\"))))","v":"A TIEMPO"},{"$f":"IF(J1153=\"\",\"\",NETWORKDAYS(C1153+1,J1153,DiasNOLaborables))","v":20},"",null,null,20]
[1143,20219050055022,"2021-05-04","CIUDADANO","MODULO CONTACTENOS","SOLICITUD DE INFORMACIÓN Y DOCUMENTOS","SOLICITUD DE INFORMACIÓN HIDROMETEOROLÓGICA","NO","GRUPO DE SERVICIO AL CIUDADANO ","2021-06-01","CORREO ELECTRÓNICO",null,{"$f":"IFERROR(WORKDAY(C1154,S1153,DiasNOLaborables),\"\")","v":"2021-06-02"},{"$f":"+IF(C1154=\"\",\"\",IF(J1154=\"\",\"SIN RESPUESTA\",(IF(J1154<=M1154,\"A TIEMPO\",\"FUERA DE TIEMPO\"))))","v":"A TIEMPO"},{"$f":"IF(J1154=\"\",\"\",NETWORKDAYS(C1154+1,J1154,DiasNOLaborables))","v":19},"",null,null,20]
[1144,20219050055042,"2021-05-04","CIUDADANO","MODULO CONTACTENOS","SOLICITUD DE INFORMACIÓN Y DOCUMENTOS","SOLICITUD DE INFORMACIÓN HIDROMETEOROLÓGICA","NO","GRUPO DE SERVICIO AL CIUDADANO ","2021-06-01","CORREO ELECTRÓNICO",null,{"$f":"IFERROR(WORKDAY(C1155,S1154,DiasNOLaborables),\"\")","v":"2021-06-02"},{"$f":"+IF(C1155=\"\",\"\",IF(J1155=\"\",\"SIN RESPUESTA\",(IF(J1155<=M1155,\"A TIEMPO\",\"FUERA DE TIEMPO\"))))","v":"A TIEMPO"},{"$f":"IF(J1155=\"\",\"\",NETWORKDAYS(C1155+1,J1155,DiasNOLaborables))","v":19},"",null,null,20]
[1145,20219050055052,"2021-05-04","CIUDADANO","MODULO CONTACTENOS","SOLICITUD DE INFORMACIÓN Y DOCUMENTOS","SOLICITUD DE INFORMACIÓN HIDROMETEOROLÓGICA","NO","GRUPO DE SERVICIO AL CIUDADANO ","2021-06-01","CORREO ELECTRÓNICO",null,{"$f":"IFERROR(WORKDAY(C1156,S1155,DiasNOLaborables),\"\")","v":"2021-06-02"},{"$f":"+IF(C1156=\"\",\"\",IF(J1156=\"\",\"SIN RESPUESTA\",(IF(J1156<=M1156,\"A TIEMPO\",\"FUERA DE TIEMPO\"))))","v":"A TIEMPO"},{"$f":"IF(J1156=\"\",\"\",NETWORKDAYS(C1156+1,J1156,DiasNOLaborables))","v":19},"",null,null,20]
[1146,20219050055072,"2021-05-04","CIUDADANO","MODULO CONTACTENOS","SOLICITUD DE INFORMACIÓN Y DOCUMENTOS","SOLICITUD DE INFORMACIÓN HIDROMETEOROLÓGICA","NO","GRUPO DE SERVICIO AL CIUDADANO ","2021-06-01","CORREO ELECTRÓNICO",null,{"$f":"IFERROR(WORKDAY(C1157,S1156,DiasNOLaborables),\"\")","v":"2021-06-02"},{"$f":"+IF(C1157=\"\",\"\",IF(J1157=\"\",\"SIN RESPUESTA\",(IF(J1157<=M1157,\"A TIEMPO\",\"FUERA DE TIEMPO\"))))","v":"A TIEMPO"},{"$f":"IF(J1157=\"\",\"\",NETWORKDAYS(C1157+1,J1157,DiasNOLaborables))","v":19},"",null,null,20]
[1147,20219050055092,"2021-05-04","CIUDADANO","MODULO CONTACTENOS","SOLICITUD DE INFORMACIÓN Y DOCUMENTOS","SOLICITUD DE INFORMACIÓN HIDROMETEOROLÓGICA","NO","GRUPO DE SERVICIO AL CIUDADANO ","2021-06-01","CORREO ELECTRÓNICO",null,{"$f":"IFERROR(WORKDAY(C1158,S1157,DiasNOLaborables),\"\")","v":"2021-06-02"},{"$f":"+IF(C1158=\"\",\"\",IF(J1158=\"\",\"SIN RESPUESTA\",(IF(J1158<=M1158,\"A TIEMPO\",\"FUERA DE TIEMPO\"))))","v":"A TIEMPO"},{"$f":"IF(J1158=\"\",\"\",NETWORKDAYS(C1158+1,J1158,DiasNOLaborables))","v":19},"",null,null,20]
[1148,20219050055102,"2021-05-04","CIUDADANO","MODULO CONTACTENOS","SOLICITUD DE INFORMACIÓN Y DOCUMENTOS","SOLICITUD DE INFORMACIÓN HIDROMETEOROLÓGICA","NO","GRUPO DE SERVICIO AL CIUDADANO ","2021-06-01","CORREO ELECTRÓNICO",null,{"$f":"IFERROR(WORKDAY(C1159,S1158,DiasNOLaborables),\"\")","v":"2021-06-02"},{"$f":"+IF(C1159=\"\",\"\",IF(J1159=\"\",\"SIN RESPUESTA\",(IF(J1159<=M1159,\"A TIEMPO\",\"FUERA DE TIEMPO\"))))","v":"A TIEMPO"},{"$f":"IF(J1159=\"\",\"\",NETWORKDAYS([5]Hoja1!C1157+1,[5]Hoja1!P1157,DiasNOLaborables))","v":4},"",null,null,20]
[1149,20219050055122,"2021-05-04","CIUDADANO","MODULO CONTACTENOS","SOLICITUD DE INFORMACIÓN Y DOCUMENTOS","SOLICITUD DE INFORMACIÓN HIDROMETEOROLÓGICA","NO","GRUPO DE SERVICIO AL CIUDADANO ","2021-06-01","CORREO ELECTRÓNICO",null,{"$f":"IFERROR(WORKDAY(C1160,S1159,DiasNOLaborables),\"\")","v":"2021-06-02"},{"$f":"+IF(C1160=\"\",\"\",IF(J1160=\"\",\"SIN RESPUESTA\",(IF(J1160<=M1160,\"A TIEMPO\",\"FUERA DE TIEMPO\"))))","v":"A TIEMPO"},{"$f":"IF(J1160=\"\",\"\",NETWORKDAYS(C1160+1,J1160,DiasNOLaborables))","v":19},"",null,null,20]
[1150,20219050055172,"2021-05-04","CIUDADANO","MODULO CONTACTENOS","SOLICITUD DE INFORMACIÓN Y DOCUMENTOS","SOLICITUD DE INFORMACIÓN HIDROMETEOROLÓGICA","NO","GRUPO DE SERVICIO AL CIUDADANO ","2021-06-01","CORREO ELECTRÓNICO",null,{"$f":"IFERROR(WORKDAY(C1161,S1160,DiasNOLaborables),\"\")","v":"2021-06-02"},{"$f":"+IF(C1161=\"\",\"\",IF(J1161=\"\",\"SIN RESPUESTA\",(IF(J1161<=M1161,\"A TIEMPO\",\"FUERA DE TIEMPO\"))))","v":"A TIEMPO"},{"$f":"IF(J1161=\"\",\"\",NETWORKDAYS(C1161+1,J1161,DiasNOLaborables))","v":19},"",null,null,20]
[1151,20219050055182,"2021-05-04","CIUDADANO","MODULO CONTACTENOS","SOLICITUD DE INFORMACIÓN Y DOCUMENTOS","SOLICITUD DE INFORMACIÓN HIDROMETEOROLÓGICA","NO","GRUPO DE SERVICIO AL CIUDADANO ","2021-06-01","CORREO ELECTRÓNICO",null,{"$f":"IFERROR(WORKDAY(C1162,S1161,DiasNOLaborables),\"\")","v":"2021-06-02"},{"$f":"+IF(C1162=\"\",\"\",IF(J1162=\"\",\"SIN RESPUESTA\",(IF(J1162<=M1162,\"A TIEMPO\",\"FUERA DE TIEMPO\"))))","v":"A TIEMPO"},{"$f":"IF(J1162=\"\",\"\",NETWORKDAYS(C1162+1,J1162,DiasNOLaborables))","v":19},"",null,null,20]
[1152,20219050055192,"2021-05-04","CIUDADANO","MODULO CONTACTENOS","SOLICITUD DE INFORMACIÓN Y DOCUMENTOS","SOLICITUD DE INFORMACIÓN HIDROMETEOROLÓGICA","NO","GRUPO DE SERVICIO AL CIUDADANO ","2021-06-02","CORREO ELECTRÓNICO",null,{"$f":"IFERROR(WORKDAY(C1163,S1162,DiasNOLaborables),\"\")","v":"2021-06-02"},{"$f":"+IF(C1163=\"\",\"\",IF(J1163=\"\",\"SIN RESPUESTA\",(IF(J1163<=M1163,\"A TIEMPO\",\"FUERA DE TIEMPO\"))))","v":"A TIEMPO"},{"$f":"IF(J1163=\"\",\"\",NETWORKDAYS(C1163+1,J1163,DiasNOLaborables))","v":20},"",null,null,20]
[1153,20219050055232,"2021-05-04","CIUDADANO","MODULO CONTACTENOS","SOLICITUD DE INFORMACIÓN Y DOCUMENTOS","SOLICITUD DE INFORMACIÓN HIDROMETEOROLÓGICA","NO","GRUPO DE SERVICIO AL CIUDADANO ","2021-06-02","CORREO ELECTRÓNICO",null,{"$f":"IFERROR(WORKDAY(C1164,S1163,DiasNOLaborables),\"\")","v":"2021-06-02"},{"$f":"+IF(C1164=\"\",\"\",IF(J1164=\"\",\"SIN RESPUESTA\",(IF(J1164<=M1164,\"A TIEMPO\",\"FUERA DE TIEMPO\"))))","v":"A TIEMPO"},{"$f":"IF(J1164=\"\",\"\",NETWORKDAYS(C1164+1,J1164,DiasNOLaborables))","v":20},"",null,null,20]
[1154,20219050055292,"2021-05-04","CIUDADANO","MODULO CONTACTENOS","SOLICITUD DE INFORMACIÓN Y DOCUMENTOS","SOLICITUD DE INFORMACIÓN HIDROMETEOROLÓGICA","NO","GRUPO DE SERVICIO AL CIUDADANO ","2021-06-02","CORREO ELECTRÓNICO",null,{"$f":"IFERROR(WORKDAY(C1165,S1164,DiasNOLaborables),\"\")","v":"2021-06-02"},{"$f":"+IF(C1165=\"\",\"\",IF(J1165=\"\",\"SIN RESPUESTA\",(IF(J1165<=M1165,\"A TIEMPO\",\"FUERA DE TIEMPO\"))))","v":"A TIEMPO"},{"$f":"IF(J1165=\"\",\"\",NETWORKDAYS(C1165+1,J1165,DiasNOLaborables))","v":20},"",null,null,{"$f":"IFERROR(VLOOKUP(F1166,$AA$51:$AB$64,2),\"\")","v":20}]
[{"$f":"IF(B1166<>\"\",A1165+1,\"\")","v":1155},20219050055322,"2021-05-04","CIUDADANO","MODULO CONTACTENOS","SOLICITUD DE INFORMACIÓN Y DOCUMENTOS","SOLICITUD DE INFORMACIÓN HIDROMETEOROLÓGICA","NO","GRUPO DE SERVICIO AL CIUDADANO ","2021-06-02","CORREO ELECTRÓNICO",null,{"$f":"IFERROR(WORKDAY(C1166,S1165,DiasNOLaborables),\"\")","v":"2021-06-02"},{"$f":"+IF(C1166=\"\",\"\",IF(J1166=\"\",\"SIN RESPUESTA\",(IF(J1166<=M1166,\"A TIEMPO\",\"FUERA DE TIEMPO\"))))","v":"A TIEMPO"},{"$f":"IF(J1166=\"\",\"\",NETWORKDAYS(C1166+1,J1166,DiasNOLaborables))","v":20},"",null,null,20]
[1156,20219050055362,"2021-05-04","CIUDADANO","MODULO CONTACTENOS","SOLICITUD DE INFORMACIÓN Y DOCUMENTOS","SOLICITUD DE INFORMACIÓN HIDROMETEOROLÓGICA","NO","GRUPO DE SERVICIO AL CIUDADANO ","2021-06-02","CORREO ELECTRÓNICO",null,{"$f":"IFERROR(WORKDAY(C1167,S1166,DiasNOLaborables),\"\")","v":"2021-06-02"},{"$f":"+IF(C1167=\"\",\"\",IF(J1167=\"\",\"SIN RESPUESTA\",(IF(J1167<=M1167,\"A TIEMPO\",\"FUERA DE TIEMPO\"))))","v":"A TIEMPO"},{"$f":"IF(J1167=\"\",\"\",NETWORKDAYS(C1167+1,J1167,DiasNOLaborables))","v":20},"",null,null,20]
[1157,20219050055342,"2021-05-04","CIUDADANO","CORREO ELECTRÓNICO","SOLICITUD DE INFORMACIÓN Y DOCUMENTOS","SOLICITUD DE INFORMACIÓN HIDROMETEOROLÓGICA","SI","SUBDIRECCIÓN DE METEOROLOGÍA","2021-06-02","CORREO ELECTRÓNICO",null,{"$f":"IFERROR(WORKDAY(C1168,S1167,DiasNOLaborables),\"\")","v":"2021-06-02"},{"$f":"+IF(C1168=\"\",\"\",IF(J1168=\"\",\"SIN RESPUESTA\",(IF(J1168<=M1168,\"A TIEMPO\",\"FUERA DE TIEMPO\"))))","v":"A TIEMPO"},{"$f":"IF(J1168=\"\",\"\",NETWORKDAYS(C1168+1,J1168,DiasNOLaborables))","v":20},"",null,null,35]
[1158,20219050055352,"2021-05-04","CIUDADANO","CORREO ELECTRÓNICO","CERTIFICACIONES DE TIEMPO, CLIMA Y EVENTOS HIDROLÓGICOS","CERTIFICACIONES DE TIEMPO Y CLIMA","SI","SUBDIRECCIÓN DE METEOROLOGÍA","2021-05-27","CORREO ELECTRÓNICO",null,{"$f":"IFERROR(WORKDAY(C1169,S1168,DiasNOLaborables),\"\")","v":"2021-06-25"},{"$f":"+IF(C1169=\"\",\"\",IF(J1169=\"\",\"SIN RESPUESTA\",(IF(J1169<=M1169,\"A TIEMPO\",\"FUERA DE TIEMPO\"))))","v":"A TIEMPO"},{"$f":"IF(J1169=\"\",\"\",NETWORKDAYS(C1169+1,J1169,DiasNOLaborables))","v":16},"",null,null,35]
[1159,20219050055372,"2021-05-04","CIUDADANO","CORREO ELECTRÓNICO","CERTIFICACIONES DE TIEMPO, CLIMA Y EVENTOS HIDROLÓGICOS","CERTIFICACIONES DE TIEMPO Y CLIMA","SI","SUBDIRECCIÓN DE METEOROLOGÍA","2021-05-25","CORREO ELECTRÓNICO",null,{"$f":"IFERROR(WORKDAY(C1170,S1169,DiasNOLaborables),\"\")","v":"2021-06-25"},{"$f":"+IF(C1170=\"\",\"\",IF(J1170=\"\",\"SIN RESPUESTA\",(IF(J1170<=M1170,\"A TIEMPO\",\"FUERA DE TIEMPO\"))))","v":"A TIEMPO"},{"$f":"IF(J1170=\"\",\"\",NETWORKDAYS(C1170+1,J1170,DiasNOLaborables))","v":14},"",null,null,5]
[1160,20219050055392,"2021-05-04","ENTIDAD PÚBLICA","CORREO ELECTRÓNICO","SOLICITUD JUDICIAL","JURIDICO","SI","OFICINA ASESORA JURÍDICA","2021-05-07","CORREO ELECTRÓNICO",null,{"$f":"IFERROR(WORKDAY(C1171,S1170,DiasNOLaborables),\"\")","v":"2021-05-11"},{"$f":"+IF(C1171=\"\",\"\",IF(J1171=\"\",\"SIN RESPUESTA\",(IF(J1171<=M1171,\"A TIEMPO\",\"FUERA DE TIEMPO\"))))","v":"A TIEMPO"},{"$f":"IF(J1171=\"\",\"\",NETWORKDAYS(C1171+1,J1171,DiasNOLaborables))","v":3},"",null,null,20]
[1161,20219050055502,"2021-05-04","ENTIDAD PÚBLICA","MODULO CONTACTENOS","SOLICITUD DE INFORMACIÓN Y DOCUMENTOS","SOLICITUD DE INFORMACIÓN HIDROMETEOROLÓGICA","NO","GRUPO DE SERVICIO AL CIUDADANO ","2021-05-13","CORREO ELECTRÓNICO",null,{"$f":"IFERROR(WORKDAY(C1172,S1171,DiasNOLaborables),\"\")","v":"2021-06-02"},{"$f":"+IF(C1172=\"\",\"\",IF(J1172=\"\",\"SIN RESPUESTA\",(IF(J1172<=M1172,\"A TIEMPO\",\"FUERA DE TIEMPO\"))))","v":"A TIEMPO"},{"$f":"IF(J1172=\"\",\"\",NETWORKDAYS(C1172+1,J1172,DiasNOLaborables))","v":7},"",null,null,20]
[1162,20219050055402,"2021-05-04","CIUDADANO","CORREO ELECTRÓNICO","SOLICITUD DE INFORMACIÓN Y DOCUMENTOS","CERTIFICACIONES DE TIEMPO Y CLIMA","SI","SUBDIRECCIÓN DE METEOROLOGÍA","2021-06-02","CORREO ELECTRÓNICO",null,{"$f":"IFERROR(WORKDAY(C1173,S1172,DiasNOLaborables),\"\")","v":"2021-06-02"},{"$f":"+IF(C1173=\"\",\"\",IF(J1173=\"\",\"SIN RESPUESTA\",(IF(J1173<=M1173,\"A TIEMPO\",\"FUERA DE TIEMPO\"))))","v":"A TIEMPO"},{"$f":"IF(J1173=\"\",\"\",NETWORKDAYS(C1173+1,J1173,DiasNOLaborables))","v":20},"",null,null,35]
[1163,20219050055412,"2021-05-04","CIUDADANO","CORREO ELECTRÓNICO","CERTIFICACIONES DE TIEMPO, CLIMA Y EVENTOS HIDROLÓGICOS","CERTIFICACIONES DE TIEMPO Y CLIMA","SI","SUBDIRECCIÓN DE METEOROLOGÍA","2021-05-25","CORREO ELECTRÓNICO",null,{"$f":"IFERROR(WORKDAY(C1174,S1173,DiasNOLaborables),\"\")","v":"2021-06-25"},{"$f":"+IF(C1174=\"\",\"\",IF(J1174=\"\",\"SIN RESPUESTA\",(IF(J1174<=M1174,\"A TIEMPO\",\"FUERA DE TIEMPO\"))))","v":"A TIEMPO"},{"$f":"IF(J1174=\"\",\"\",NETWORKDAYS(C1174+1,J1174,DiasNOLaborables))","v":14},"",null,null,20]
[1164,20219050055482,"2021-05-04","CIUDADANO","CORREO ELECTRÓNICO","SOLICITUD DE INFORMACIÓN Y DOCUMENTOS","INFORMES AMBIENTALES","SI","SUBDIRECCIÓN DE ECOSISTEMAS E INFORMACIÓN AMBIENTAL","2021-05-06","CORREO ELECTRÓNICO",null,{"$f":"IFERROR(WORKDAY(C1175,S1174,DiasNOLaborables),\"\")","v":"2021-06-02"},{"$f":"+IF(C1175=\"\",\"\",IF(J1175=\"\",\"SIN RESPUESTA\",(IF(J1175<=M1175,\"A TIEMPO\",\"FUERA DE TIEMPO\"))))","v":"A TIEMPO"},{"$f":"IF(J1175=\"\",\"\",NETWORKDAYS(C1175+1,J1175,DiasNOLaborables))","v":2},"",null,null,20]
[1165,20219050055492,"2021-05-04","CIUDADANO","CORREO ELECTRÓNICO","SOLICITUD DE INFORMACIÓN Y DOCUMENTOS","INFORMES AMBIENTALES","SI","SUBDIRECCIÓN DE METEOROLOGÍA","2021-05-10","CORREO ELECTRÓNICO",null,{"$f":"IFERROR(WORKDAY(C1176,S1175,DiasNOLaborables),\"\")","v":"2021-06-02"},{"$f":"+IF(C1176=\"\",\"\",IF(J1176=\"\",\"SIN RESPUESTA\",(IF(J1176<=M1176,\"A TIEMPO\",\"FUERA DE TIEMPO\"))))","v":"A TIEMPO"},{"$f":"IF(J1176=\"\",\"\",NETWORKDAYS(C1176+1,J1176,DiasNOLaborables))","v":4},"",null,null,20]
[1166,20219050055152,"2021-05-04","CIUDADANO","MODULO CONTACTENOS","SOLICITUD DE INFORMACIÓN Y DOCUMENTOS","SOLICITUD DE INFORMACIÓN HIDROMETEOROLÓGICA","NO","GRUPO DE SERVICIO AL CIUDADANO ","2021-06-01","CORREO ELECTRÓNICO",null,{"$f":"IFERROR(WORKDAY(C1177,S1176,DiasNOLaborables),\"\")","v":"2021-06-02"},{"$f":"+IF(C1177=\"\",\"\",IF(J1177=\"\",\"SIN RESPUESTA\",(IF(J1177<=M1177,\"A TIEMPO\",\"FUERA DE TIEMPO\"))))","v":"A TIEMPO"},{"$f":"IF(J1177=\"\",\"\",NETWORKDAYS(C1177+1,J1177,DiasNOLaborables))","v":19},"",null,null,20]
[1167,20219050055242,"2021-05-04","ACADEMIA ","MODULO CONTACTENOS","SOLICITUD DE INFORMACIÓN Y DOCUMENTOS","SOLICITUD DE INFORMACIÓN HIDROMETEOROLÓGICA","NO","GRUPO DE SERVICIO AL CIUDADANO ","2021-06-01","CORREO ELECTRÓNICO",null,{"$f":"IFERROR(WORKDAY(C1178,S1177,DiasNOLaborables),\"\")","v":"2021-06-02"},{"$f":"+IF(C1178=\"\",\"\",IF(J1178=\"\",\"SIN RESPUESTA\",(IF(J1178<=M1178,\"A TIEMPO\",\"FUERA DE TIEMPO\"))))","v":"A TIEMPO"},{"$f":"IF(J1178=\"\",\"\",NETWORKDAYS(C1178+1,J1178,DiasNOLaborables))","v":19},"",null,null,20]
[1168,20219050055162,"2021-05-04","CIUDADANO","MODULO CONTACTENOS","SOLICITUD DE INFORMACIÓN Y DOCUMENTOS","SOLICITUD DE INFORMACIÓN HIDROMETEOROLÓGICA","NO","GRUPO DE SERVICIO AL CIUDADANO ","2021-06-02","CORREO ELECTRÓNICO",null,{"$f":"IFERROR(WORKDAY(C1179,S1178,DiasNOLaborables),\"\")","v":"2021-06-02"},{"$f":"+IF(C1179=\"\",\"\",IF(J1179=\"\",\"SIN RESPUESTA\",(IF(J1179<=M1179,\"A TIEMPO\",\"FUERA DE TIEMPO\"))))","v":"A TIEMPO"},{"$f":"IF(J1179=\"\",\"\",NETWORKDAYS(C1179+1,J1179,DiasNOLaborables))","v":20},"",null,null,20]
[1169,20219050055262,"2021-05-04","ACADEMIA ","MODULO CONTACTENOS","SOLICITUD DE INFORMACIÓN Y DOCUMENTOS","SOLICITUD DE INFORMACIÓN HIDROMETEOROLÓGICA","NO","GRUPO DE SERVICIO AL CIUDADANO ","2021-06-02","CORREO ELECTRÓNICO",null,{"$f":"IFERROR(WORKDAY(C1180,S1179,DiasNOLaborables),\"\")","v":"2021-06-02"},{"$f":"+IF(C1180=\"\",\"\",IF(J1180=\"\",\"SIN RESPUESTA\",(IF(J1180<=M1180,\"A TIEMPO\",\"FUERA DE TIEMPO\"))))","v":"A TIEMPO"},{"$f":"IF(J1180=\"\",\"\",NETWORKDAYS(C1180+1,J1180,DiasNOLaborables))","v":20},"",null,null,20]
[1170,20219050055272,"2021-05-04","CIUDADANO","MODULO CONTACTENOS","SOLICITUD DE INFORMACIÓN Y DOCUMENTOS","SOLICITUD DE INFORMACIÓN HIDROMETEOROLÓGICA","NO","GRUPO DE SERVICIO AL CIUDADANO ","2021-06-02","CORREO ELECTRÓNICO",null,{"$f":"IFERROR(WORKDAY(C1181,S1180,DiasNOLaborables),\"\")","v":"2021-06-02"},{"$f":"+IF(C1181=\"\",\"\",IF(J1181=\"\",\"SIN RESPUESTA\",(IF(J1181<=M1181,\"A TIEMPO\",\"FUERA DE TIEMPO\"))))","v":"A TIEMPO"},{"$f":"IF(J1181=\"\",\"\",NETWORKDAYS(C1181+1,J1181,DiasNOLaborables))","v":20},"",null,null,20]
[1171,20219050055442,"2021-05-04","EMPRESA PRIVADA","MODULO CONTACTENOS","SOLICITUD DE INFORMACIÓN Y DOCUMENTOS","SOLICITUD DE INFORMACIÓN HIDROMETEOROLÓGICA","NO","GRUPO DE SERVICIO AL CIUDADANO ","2021-06-02","CORREO ELECTRÓNICO",null,{"$f":"IFERROR(WORKDAY(C1182,S1181,DiasNOLaborables),\"\")","v":"2021-06-02"},{"$f":"+IF(C1182=\"\",\"\",IF(J1182=\"\",\"SIN RESPUESTA\",(IF(J1182<=M1182,\"A TIEMPO\",\"FUERA DE TIEMPO\"))))","v":"A TIEMPO"},{"$f":"IF(J1182=\"\",\"\",NETWORKDAYS(C1182+1,J1182,DiasNOLaborables))","v":20},"",null,null,20]
[1172,20219050055462,"2021-05-04","CIUDADANO","MODULO CONTACTENOS","SOLICITUD DE INFORMACIÓN Y DOCUMENTOS","SOLICITUD DE INFORMACIÓN HIDROMETEOROLÓGICA","NO","GRUPO DE SERVICIO AL CIUDADANO ","2021-06-02","CORREO ELECTRÓNICO",null,{"$f":"IFERROR(WORKDAY(C1183,S1182,DiasNOLaborables),\"\")","v":"2021-06-02"},{"$f":"+IF(C1183=\"\",\"\",IF(J1183=\"\",\"SIN RESPUESTA\",(IF(J1183<=M1183,\"A TIEMPO\",\"FUERA DE TIEMPO\"))))","v":"A TIEMPO"},{"$f":"IF(J1183=\"\",\"\",NETWORKDAYS(C1183+1,J1183,DiasNOLaborables))","v":20},"",null,null,20]
[1173,20219050055472,"2021-05-04","ACADEMIA ","MODULO CONTACTENOS","SOLICITUD DE INFORMACIÓN Y DOCUMENTOS","SOLICITUD DE INFORMACIÓN HIDROMETEOROLÓGICA","NO","GRUPO DE SERVICIO AL CIUDADANO ","2021-06-02","CORREO ELECTRÓNICO",null,{"$f":"IFERROR(WORKDAY(C1184,S1183,DiasNOLaborables),\"\")","v":"2021-06-02"},{"$f":"+IF(C1184=\"\",\"\",IF(J1184=\"\",\"SIN RESPUESTA\",(IF(J1184<=M1184,\"A TIEMPO\",\"FUERA DE TIEMPO\"))))","v":"A TIEMPO"},{"$f":"IF(J1184=\"\",\"\",NETWORKDAYS(C1184+1,J1184,DiasNOLaborables))","v":20},"",null,null,20]
[1174,20219050055542,"2021-05-05","CIUDADANO","MODULO CONTACTENOS","SOLICITUD DE INFORMACIÓN Y DOCUMENTOS","SOLICITUD DE INFORMACIÓN HIDROMETEOROLÓGICA","NO","GRUPO DE SERVICIO AL CIUDADANO ","2021-06-02","CORREO ELECTRÓNICO",null,{"$f":"IFERROR(WORKDAY(C1185,S1184,DiasNOLaborables),\"\")","v":"2021-06-03"},{"$f":"+IF(C1185=\"\",\"\",IF(J1185=\"\",\"SIN RESPUESTA\",(IF(J1185<=M1185,\"A TIEMPO\",\"FUERA DE TIEMPO\"))))","v":"A TIEMPO"},{"$f":"IF(J1185=\"\",\"\",NETWORKDAYS(C1185+1,J1185,DiasNOLaborables))","v":19},"",null,null,20]
[1175,20219050055552,"2021-05-05","ACADEMIA ","MODULO CONTACTENOS","SOLICITUD DE INFORMACIÓN Y DOCUMENTOS","SOLICITUD DE INFORMACIÓN HIDROMETEOROLÓGICA","NO","GRUPO DE SERVICIO AL CIUDADANO ","2021-06-03","CORREO ELECTRÓNICO",null,{"$f":"IFERROR(WORKDAY(C1186,S1185,DiasNOLaborables),\"\")","v":"2021-06-03"},{"$f":"+IF(C1186=\"\",\"\",IF(J1186=\"\",\"SIN RESPUESTA\",(IF(J1186<=M1186,\"A TIEMPO\",\"FUERA DE TIEMPO\"))))","v":"A TIEMPO"},{"$f":"IF(J1186=\"\",\"\",NETWORKDAYS(C1186+1,J1186,DiasNOLaborables))","v":20},"",null,null,20]
[1176,20219050055582,"2021-05-05","ENTIDAD PÚBLICA","MODULO CONTACTENOS","SOLICITUD DE INFORMACIÓN Y DOCUMENTOS","SOLICITUD DE INFORMACIÓN HIDROMETEOROLÓGICA","NO","GRUPO DE SERVICIO AL CIUDADANO ","2021-06-03","CORREO ELECTRÓNICO",null,{"$f":"IFERROR(WORKDAY(C1187,S1186,DiasNOLaborables),\"\")","v":"2021-06-03"},{"$f":"+IF(C1187=\"\",\"\",IF(J1187=\"\",\"SIN RESPUESTA\",(IF(J1187<=M1187,\"A TIEMPO\",\"FUERA DE TIEMPO\"))))","v":"A TIEMPO"},{"$f":"IF(J1187=\"\",\"\",NETWORKDAYS(C1187+1,J1187,DiasNOLaborables))","v":20},{"$f":"IF(NETWORKDAYS(M1187+1,J1187,DiasNOLaborables)<=0,\"\",NETWORKDAYS(M1187+1,J1187,DiasNOLaborables))","v":""},null,null,20]
[1177,20219050055592,"2021-05-05","EMPRESA PRIVADA","MODULO CONTACTENOS","SOLICITUD DE INFORMACIÓN Y DOCUMENTOS","SOLICITUD DE INFORMACIÓN HIDROMETEOROLÓGICA","NO","GRUPO DE SERVICIO AL CIUDADANO ","2021-06-03","CORREO ELECTRÓNICO",null,{"$f":"IFERROR(WORKDAY(C1188,S1187,DiasNOLaborables),\"\")","v":"2021-06-03"},{"$f":"+IF(C1188=\"\",\"\",IF(J1188=\"\",\"SIN RESPUESTA\",(IF(J1188<=M1188,\"A TIEMPO\",\"FUERA DE TIEMPO\"))))","v":"A TIEMPO"},{"$f":"IF(J1188=\"\",\"\",NETWORKDAYS(C1188+1,J1188,DiasNOLaborables))","v":20},"",null,null,20]
[1178,20219050055652,"2021-05-05","EMPRESA PRIVADA","MODULO CONTACTENOS","SOLICITUD DE INFORMACIÓN Y DOCUMENTOS","SOLICITUD DE INFORMACIÓN HIDROMETEOROLÓGICA","NO","GRUPO DE SERVICIO AL CIUDADANO ","2021-06-03","CORREO ELECTRÓNICO",null,{"$f":"IFERROR(WORKDAY(C1189,S1188,DiasNOLaborables),\"\")","v":"2021-06-03"},{"$f":"+IF(C1189=\"\",\"\",IF(J1189=\"\",\"SIN RESPUESTA\",(IF(J1189<=M1189,\"A TIEMPO\",\"FUERA DE TIEMPO\"))))","v":"A TIEMPO"},{"$f":"IF(J1189=\"\",\"\",NETWORKDAYS(C1189+1,J1189,DiasNOLaborables))","v":20},"",null,null,20]
[1179,20219050055662,"2021-05-05","CIUDADANO","MODULO CONTACTENOS","SOLICITUD DE INFORMACIÓN Y DOCUMENTOS","SOLICITUD DE INFORMACIÓN HIDROMETEOROLÓGICA","NO","GRUPO DE SERVICIO AL CIUDADANO ","2021-06-03","CORREO ELECTRÓNICO",null,{"$f":"IFERROR(WORKDAY(C1190,S1189,DiasNOLaborables),\"\")","v":"2021-06-03"},{"$f":"+IF(C1190=\"\",\"\",IF(J1190=\"\",\"SIN RESPUESTA\",(IF(J1190<=M1190,\"A TIEMPO\",\"FUERA DE TIEMPO\"))))","v":"A TIEMPO"},{"$f":"IF(J1190=\"\",\"\",NETWORKDAYS(C1190+1,J1190,DiasNOLaborables))","v":20},"",null,null,20]
[1180,20219050055692,"2021-05-05","EMPRESA PRIVADA","MODULO CONTACTENOS","SOLICITUD DE INFORMACIÓN Y DOCUMENTOS","SOLICITUD DE INFORMACIÓN HIDROMETEOROLÓGICA","NO","GRUPO DE SERVICIO AL CIUDADANO ","2021-06-03","CORREO ELECTRÓNICO",null,{"$f":"IFERROR(WORKDAY(C1191,S1190,DiasNOLaborables),\"\")","v":"2021-06-03"},{"$f":"+IF(C1191=\"\",\"\",IF(J1191=\"\",\"SIN RESPUESTA\",(IF(J1191<=M1191,\"A TIEMPO\",\"FUERA DE TIEMPO\"))))","v":"A TIEMPO"},{"$f":"IF(J1191=\"\",\"\",NETWORKDAYS(C1191+1,J1191,DiasNOLaborables))","v":20},"",null,null,20]
[1181,20219050055562,"2021-05-05","CIUDADANO","MODULO CONTACTENOS","SOLICITUD DE INFORMACIÓN Y DOCUMENTOS","ADMINISTRATIVA","SI","GRUPO DE TESORERÍA","2021-05-13","CORREO ELECTRÓNICO",null,{"$f":"IFERROR(WORKDAY(C1192,S1191,DiasNOLaborables),\"\")","v":"2021-06-03"},{"$f":"+IF(C1192=\"\",\"\",IF(J1192=\"\",\"SIN RESPUESTA\",(IF(J1192<=M1192,\"A TIEMPO\",\"FUERA DE TIEMPO\"))))","v":"A TIEMPO"},{"$f":"IF(J1192=\"\",\"\",NETWORKDAYS(C1192+1,J1192,DiasNOLaborables))","v":6},"",null,null,20]
[1182,20219050055512,"2021-05-05","CIUDADANO","MODULO CONTACTENOS","SOLICITUD DE INFORMACIÓN Y DOCUMENTOS","SIRH","SI","SUBDIRECCIÓN DE HIDROLOGÍA","2021-05-12","CORREO ELECTRÓNICO",null,{"$f":"IFERROR(WORKDAY(C1193,S1192,DiasNOLaborables),\"\")","v":"2021-06-03"},{"$f":"+IF(C1193=\"\",\"\",IF(J1193=\"\",\"SIN RESPUESTA\",(IF(J1193<=M1193,\"A TIEMPO\",\"FUERA DE TIEMPO\"))))","v":"A TIEMPO"},{"$f":"IF(J1193=\"\",\"\",NETWORKDAYS(C1193+1,J1193,DiasNOLaborables))","v":5},"",null,null,20]
[1183,20219050055522,"2021-05-05","CIUDADANO","MODULO CONTACTENOS","SOLICITUD DE INFORMACIÓN Y DOCUMENTOS","SIRH","SI","SUBDIRECCIÓN DE HIDROLOGÍA","2021-05-12","CORREO ELECTRÓNICO",null,{"$f":"IFERROR(WORKDAY(C1194,S1193,DiasNOLaborables),\"\")","v":"2021-06-03"},{"$f":"+IF(C1194=\"\",\"\",IF(J1194=\"\",\"SIN RESPUESTA\",(IF(J1194<=M1194,\"A TIEMPO\",\"FUERA DE TIEMPO\"))))","v":"A TIEMPO"},{"$f":"IF(J1194=\"\",\"\",NETWORKDAYS(C1194+1,J1194,DiasNOLaborables))","v":5},"",null,null,20]
[1184,20219050055532,"2021-05-05","CIUDADANO","MODULO CONTACTENOS","SOLICITUD DE INFORMACIÓN Y DOCUMENTOS","SIRH","SI","SUBDIRECCIÓN DE HIDROLOGÍA","2021-05-10","CORREO ELECTRÓNICO","NASLY SUSANA PUERTA GUTIERREZ",{"$f":"IFERROR(WORKDAY(C1195,S1194,DiasNOLaborables),\"\")","v":"2021-06-03"},{"$f":"+IF(C1195=\"\",\"\",IF(J1195=\"\",\"SIN RESPUESTA\",(IF(J1195<=M1195,\"A TIEMPO\",\"FUERA DE TIEMPO\"))))","v":"A TIEMPO"},{"$f":"IF(J1195=\"\",\"\",NETWORKDAYS(C1195+1,J1195,DiasNOLaborables))","v":3},"",null,null,35]
[1185,20219050055632,"2021-05-05","ENTIDAD PÚBLICA","MODULO CONTACTENOS","CERTIFICACIONES DE TIEMPO, CLIMA Y EVENTOS HIDROLÓGICOS","CERTIFICACIONES DE TIEMPO Y CLIMA","SI","SUBDIRECCIÓN DE METEOROLOGÍA","2021-05-24","CORREO ELECTRÓNICO","NASLY SUSANA PUERTA GUTIERREZ",{"$f":"IFERROR(WORKDAY(C1196,S1195,DiasNOLaborables),\"\")","v":"2021-06-28"},{"$f":"+IF(C1196=\"\",\"\",IF(J1196=\"\",\"SIN RESPUESTA\",(IF(J1196<=M1196,\"A TIEMPO\",\"FUERA DE TIEMPO\"))))","v":"A TIEMPO"},{"$f":"IF(J1196=\"\",\"\",NETWORKDAYS(C1196+1,J1196,DiasNOLaborables))","v":12},"",null,null,20]
[1186,20219050055672,"2021-05-05","CIUDADANO","MODULO CONTACTENOS","SOLICITUD DE INFORMACIÓN Y DOCUMENTOS","ADMINISTRATIVA","SI","GRUPO DE ADMINISTRACIÓN Y DESARROLLO DEL TALENTO HUMANO","2021-05-19","CORREO ELECTRÓNICO","NASLY SUSANA PUERTA GUTIERREZ",{"$f":"IFERROR(WORKDAY(C1197,S1196,DiasNOLaborables),\"\")","v":"2021-06-03"},{"$f":"+IF(C1197=\"\",\"\",IF(J1197=\"\",\"SIN RESPUESTA\",(IF(J1197<=M1197,\"A TIEMPO\",\"FUERA DE TIEMPO\"))))","v":"A TIEMPO"},{"$f":"IF(J1197=\"\",\"\",NETWORKDAYS(C1197+1,J1197,DiasNOLaborables))","v":9},"",null,null,20]
[1187,20219050055712,"2021-05-05","CIUDADANO","MODULO CONTACTENOS","SOLICITUD DE INFORMACIÓN Y DOCUMENTOS","OPERACIÓN DE REDES","SI","SUBDIRECCIÓN DE HIDROLOGÍA","2021-05-20","CORREO ELECTRÓNICO","NASLY SUSANA PUERTA GUTIERREZ",{"$f":"IFERROR(WORKDAY(C1198,S1197,DiasNOLaborables),\"\")","v":"2021-06-03"},{"$f":"+IF(C1198=\"\",\"\",IF(J1198=\"\",\"SIN RESPUESTA\",(IF(J1198<=M1198,\"A TIEMPO\",\"FUERA DE TIEMPO\"))))","v":"A TIEMPO"},{"$f":"IF(J1198=\"\",\"\",NETWORKDAYS(C1198+1,J1198,DiasNOLaborables))","v":10},"",null,null,20]
[1188,20219050055792,"2021-05-05","CIUDADANO","MODULO CONTACTENOS","SOLICITUD DE INFORMACIÓN Y DOCUMENTOS","BOSQUES","SI","SUBDIRECCIÓN DE ECOSISTEMAS E INFORMACIÓN AMBIENTAL","2021-05-11","CORREO ELECTRÓNICO","NASLY SUSANA PUERTA GUTIERREZ",{"$f":"IFERROR(WORKDAY(C1199,S1198,DiasNOLaborables),\"\")","v":"2021-06-03"},{"$f":"+IF(C1199=\"\",\"\",IF(J1199=\"\",\"SIN RESPUESTA\",(IF(J1199<=M1199,\"A TIEMPO\",\"FUERA DE TIEMPO\"))))","v":"A TIEMPO"},{"$f":"IF(J1199=\"\",\"\",NETWORKDAYS(C1199+1,J1199,DiasNOLaborables))","v":4},"",null,null,35]
[1189,20219050055682,"2021-05-05","CIUDADANO","CORREO ELECTRÓNICO","CERTIFICACIONES DE TIEMPO, CLIMA Y EVENTOS HIDROLÓGICOS","CERTIFICACIONES DE TIEMPO Y CLIMA","SI","SUBDIRECCIÓN DE METEOROLOGÍA","2021-05-21","CORREO ELECTRÓNICO","NASLY SUSANA PUERTA GUTIERREZ",{"$f":"IFERROR(WORKDAY(C1200,S1199,DiasNOLaborables),\"\")","v":"2021-06-28"},{"$f":"+IF(C1200=\"\",\"\",IF(J1200=\"\",\"SIN RESPUESTA\",(IF(J1200<=M1200,\"A TIEMPO\",\"FUERA DE TIEMPO\"))))","v":"A TIEMPO"},{"$f":"IF(J1200=\"\",\"\",NETWORKDAYS(C1200+1,J1200,DiasNOLaborables))","v":11},"",null,null,35]
[1190,20219050055722,"2021-05-05","CIUDADANO","CORREO ELECTRÓNICO","CERTIFICACIONES DE TIEMPO, CLIMA Y EVENTOS HIDROLÓGICOS","CERTIFICACIONES DE TIEMPO Y CLIMA","SI","SUBDIRECCIÓN DE METEOROLOGÍA","2021-05-21","CORREO ELECTRÓNICO","NASLY SUSANA PUERTA GUTIERREZ",{"$f":"IFERROR(WORKDAY(C1201,S1200,DiasNOLaborables),\"\")","v":"2021-06-28"},{"$f":"+IF(C1201=\"\",\"\",IF(J1201=\"\",\"SIN RESPUESTA\",(IF(J1201<=M1201,\"A TIEMPO\",\"FUERA DE TIEMPO\"))))","v":"A TIEMPO"},{"$f":"IF(J1201=\"\",\"\",NETWORKDAYS(C1201+1,J1201,DiasNOLaborables))","v":11},"",null,null,35]
[1191,20219050055742,"2021-05-05","CIUDADANO","CORREO ELECTRÓNICO","CERTIFICACIONES DE TIEMPO, CLIMA Y EVENTOS HIDROLÓGICOS","CERTIFICACIONES DE TIEMPO Y CLIMA","SI","SUBDIRECCIÓN DE METEOROLOGÍA","2021-05-21","CORREO ELECTRÓNICO",null,{"$f":"IFERROR(WORKDAY(C1202,S1201,DiasNOLaborables),\"\")","v":"2021-06-28"},{"$f":"+IF(C1202=\"\",\"\",IF(J1202=\"\",\"SIN RESPUESTA\",(IF(J1202<=M1202,\"A TIEMPO\",\"FUERA DE TIEMPO\"))))","v":"A TIEMPO"},{"$f":"IF(J1202=\"\",\"\",NETWORKDAYS(C1202+1,J1202,DiasNOLaborables))","v":11},"",null,null,20]
[1192,20219050055772,"2021-05-05","EMPRESA PRIVADA","CORREO ELECTRÓNICO","SOLICITUD DE INFORMACIÓN Y DOCUMENTOS","REGISTROS AMBIENTALES","SI","SUBDIRECCIÓN DE ESTUDIOS AMBIENTALES","2021-05-05","CORREO ELECTRÓNICO",null,{"$f":"IFERROR(WORKDAY(C1203,S1202,DiasNOLaborables),\"\")","v":"2021-06-03"},{"$f":"+IF(C1203=\"\",\"\",IF(J1203=\"\",\"SIN RESPUESTA\",(IF(J1203<=M1203,\"A TIEMPO\",\"FUERA DE TIEMPO\"))))","v":"A TIEMPO"},{"$f":"IF(J1203=\"\",\"\",NETWORKDAYS(C1203+1,J1203,DiasNOLaborables))","v":-2},"",null,null,35]
[1193,20219050055802,"2021-05-05","CIUDADANO","CORREO ELECTRÓNICO","CERTIFICACIONES DE TIEMPO, CLIMA Y EVENTOS HIDROLÓGICOS","CERTIFICACIONES DE TIEMPO Y CLIMA","SI","SUBDIRECCIÓN DE METEOROLOGÍA","2021-05-21","CORREO ELECTRÓNICO",null,{"$f":"IFERROR(WORKDAY(C1204,S1203,DiasNOLaborables),\"\")","v":"2021-06-28"},{"$f":"+IF(C1204=\"\",\"\",IF(J1204=\"\",\"SIN RESPUESTA\",(IF(J1204<=M1204,\"A TIEMPO\",\"FUERA DE TIEMPO\"))))","v":"A TIEMPO"},{"$f":"IF(J1204=\"\",\"\",NETWORKDAYS(C1204+1,J1204,DiasNOLaborables))","v":11},"",null,null,20]
[1194,20219910024572,"2021-05-05","CIUDADANO","CORREO ELECTRÓNICO","SOLICITUD DE INFORMACIÓN Y DOCUMENTOS","SIRH","SI","SUBDIRECCIÓN DE HIDROLOGÍA","2021-05-11","CORREO ELECTRÓNICO",null,{"$f":"IFERROR(WORKDAY(C1205,S1204,DiasNOLaborables),\"\")","v":"2021-06-03"},{"$f":"+IF(C1205=\"\",\"\",IF(J1205=\"\",\"SIN RESPUESTA\",(IF(J1205<=M1205,\"A TIEMPO\",\"FUERA DE TIEMPO\"))))","v":"A TIEMPO"},{"$f":"IF(J1205=\"\",\"\",NETWORKDAYS(C1205+1,J1205,DiasNOLaborables))","v":4},"",null,null,35]
[1195,20219050055832,"2021-05-05","CIUDADANO","CORREO ELECTRÓNICO","CERTIFICACIONES DE TIEMPO, CLIMA Y EVENTOS HIDROLÓGICOS","CERTIFICACIONES DE TIEMPO Y CLIMA","SI","SUBDIRECCIÓN DE METEOROLOGÍA","2021-05-28","CORREO ELECTRÓNICO",null,{"$f":"IFERROR(WORKDAY(C1206,S1205,DiasNOLaborables),\"\")","v":"2021-06-28"},{"$f":"+IF(C1206=\"\",\"\",IF(J1206=\"\",\"SIN RESPUESTA\",(IF(J1206<=M1206,\"A TIEMPO\",\"FUERA DE TIEMPO\"))))","v":"A TIEMPO"},{"$f":"IF(J1206=\"\",\"\",NETWORKDAYS(C1206+1,J1206,DiasNOLaborables))","v":16},"",null,null,20]
[1196,20219050055842,"2021-05-05","CIUDADANO","CORREO ELECTRÓNICO","SOLICITUD DE INFORMACIÓN Y DOCUMENTOS","SIA","SI","SUBDIRECCIÓN DE ECOSISTEMAS E INFORMACIÓN AMBIENTAL","2021-05-13","CORREO ELECTRÓNICO",null,{"$f":"IFERROR(WORKDAY(C1207,S1206,DiasNOLaborables),\"\")","v":"2021-06-03"},{"$f":"+IF(C1207=\"\",\"\",IF(J1207=\"\",\"SIN RESPUESTA\",(IF(J1207<=M1207,\"A TIEMPO\",\"FUERA DE TIEMPO\"))))","v":"A TIEMPO"},{"$f":"IF(J1207=\"\",\"\",NETWORKDAYS(C1207+1,J1207,DiasNOLaborables))","v":6},"",null,null,5]
[1197,20219050055852,"2021-05-05","CIUDADANO","CORREO ELECTRÓNICO","SOLICITUD JUDICIAL","CERTIFICACIONES DE TIEMPO Y CLIMA","SI","SUBDIRECCIÓN DE METEOROLOGÍA","2021-05-11","CORREO ELECTRÓNICO",null,{"$f":"IFERROR(WORKDAY(C1208,S1207,DiasNOLaborables),\"\")","v":"2021-05-12"},{"$f":"+IF(C1208=\"\",\"\",IF(J1208=\"\",\"SIN RESPUESTA\",(IF(J1208<=M1208,\"A TIEMPO\",\"FUERA DE TIEMPO\"))))","v":"A TIEMPO"},{"$f":"IF(J1208=\"\",\"\",NETWORKDAYS(C1208+1,J1208,DiasNOLaborables))","v":4},"",null,null,35]
[1198,20219050055882,"2021-05-05","CIUDADANO","CORREO ELECTRÓNICO","CERTIFICACIONES DE TIEMPO, CLIMA Y EVENTOS HIDROLÓGICOS","CERTIFICACIONES DE TIEMPO Y CLIMA","SI","SUBDIRECCIÓN DE METEOROLOGÍA","2021-06-03","CORREO ELECTRÓNICO",null,{"$f":"IFERROR(WORKDAY(C1209,S1208,DiasNOLaborables),\"\")","v":"2021-06-28"},{"$f":"+IF(C1209=\"\",\"\",IF(J1209=\"\",\"SIN RESPUESTA\",(IF(J1209<=M1209,\"A TIEMPO\",\"FUERA DE TIEMPO\"))))","v":"A TIEMPO"},{"$f":"IF(J1209=\"\",\"\",NETWORKDAYS(C1209+1,J1209,DiasNOLaborables))","v":20},"",null,null,20]
[1199,20219050055752,"2021-05-05","CIUDADANO","MODULO CONTACTENOS","SOLICITUD DE INFORMACIÓN Y DOCUMENTOS","OPERACIÓN DE REDES","SI","SUBDIRECCIÓN DE HIDROLOGÍA","2021-05-13","CORREO ELECTRÓNICO",null,{"$f":"IFERROR(WORKDAY(C1210,S1209,DiasNOLaborables),\"\")","v":"2021-06-03"},{"$f":"+IF(C1210=\"\",\"\",IF(J1210=\"\",\"SIN RESPUESTA\",(IF(J1210<=M1210,\"A TIEMPO\",\"FUERA DE TIEMPO\"))))","v":"A TIEMPO"},{"$f":"IF(J1210=\"\",\"\",NETWORKDAYS(C1210+1,J1210,DiasNOLaborables))","v":6},"",null,null,20]
[1200,20219050055642,"2021-05-05","CIUDADANO","MODULO CONTACTENOS","SOLICITUD DE INFORMACIÓN Y DOCUMENTOS","SOLICITUD DE INFORMACIÓN HIDROMETEOROLÓGICA","NO","GRUPO DE SERVICIO AL CIUDADANO ","2021-06-02","CORREO ELECTRÓNICO",null,{"$f":"IFERROR(WORKDAY(C1211,S1210,DiasNOLaborables),\"\")","v":"2021-06-03"},{"$f":"+IF(C1211=\"\",\"\",IF(J1211=\"\",\"SIN RESPUESTA\",(IF(J1211<=M1211,\"A TIEMPO\",\"FUERA DE TIEMPO\"))))","v":"A TIEMPO"},{"$f":"IF(J1211=\"\",\"\",NETWORKDAYS(C1211+1,J1211,DiasNOLaborables))","v":19},"",null,null,20]
[1201,20219050055732,"2021-05-05","CIUDADANO","MODULO CONTACTENOS","SOLICITUD DE INFORMACIÓN Y DOCUMENTOS","SOLICITUD DE INFORMACIÓN HIDROMETEOROLÓGICA","NO","GRUPO DE SERVICIO AL CIUDADANO ","2021-06-02","CORREO ELECTRÓNICO",null,{"$f":"IFERROR(WORKDAY(C1212,S1211,DiasNOLaborables),\"\")","v":"2021-06-03"},{"$f":"+IF(C1212=\"\",\"\",IF(J1212=\"\",\"SIN RESPUESTA\",(IF(J1212<=M1212,\"A TIEMPO\",\"FUERA DE TIEMPO\"))))","v":"A TIEMPO"},{"$f":"IF(J1212=\"\",\"\",NETWORKDAYS(C1212+1,J1212,DiasNOLaborables))","v":19},"",null,null,20]
[1202,20219050055782,"2021-05-05","CIUDADANO","MODULO CONTACTENOS","SOLICITUD DE INFORMACIÓN Y DOCUMENTOS","SOLICITUD DE INFORMACIÓN HIDROMETEOROLÓGICA","NO","GRUPO DE SERVICIO AL CIUDADANO ","2021-06-02","CORREO ELECTRÓNICO",null,{"$f":"IFERROR(WORKDAY(C1213,S1212,DiasNOLaborables),\"\")","v":"2021-06-03"},{"$f":"+IF(C1213=\"\",\"\",IF(J1213=\"\",\"SIN RESPUESTA\",(IF(J1213<=M1213,\"A TIEMPO\",\"FUERA DE TIEMPO\"))))","v":"A TIEMPO"},{"$f":"IF(J1213=\"\",\"\",NETWORKDAYS(C1213+1,J1213,DiasNOLaborables))","v":19},"",null,null,20]
[1203,20219050055812,"2021-05-05","CIUDADANO","MODULO CONTACTENOS","SOLICITUD DE INFORMACIÓN Y DOCUMENTOS","SOLICITUD DE INFORMACIÓN HIDROMETEOROLÓGICA","NO","GRUPO DE SERVICIO AL CIUDADANO ","2021-06-02","CORREO ELECTRÓNICO",null,{"$f":"IFERROR(WORKDAY(C1214,S1213,DiasNOLaborables),\"\")","v":"2021-06-03"},{"$f":"+IF(C1214=\"\",\"\",IF(J1214=\"\",\"SIN RESPUESTA\",(IF(J1214<=M1214,\"A TIEMPO\",\"FUERA DE TIEMPO\"))))","v":"A TIEMPO"},{"$f":"IF(J1214=\"\",\"\",NETWORKDAYS(C1214+1,J1214,DiasNOLaborables))","v":19},"",null,null,20]
[1204,20219050055822,"2021-05-05","CIUDADANO","MODULO CONTACTENOS","SOLICITUD DE INFORMACIÓN Y DOCUMENTOS","SOLICITUD DE INFORMACIÓN HIDROMETEOROLÓGICA","NO","GRUPO DE SERVICIO AL CIUDADANO ","2021-06-02","CORREO ELECTRÓNICO",null,{"$f":"IFERROR(WORKDAY(C1215,S1214,DiasNOLaborables),\"\")","v":"2021-06-03"},{"$f":"+IF(C1215=\"\",\"\",IF(J1215=\"\",\"SIN RESPUESTA\",(IF(J1215<=M1215,\"A TIEMPO\",\"FUERA DE TIEMPO\"))))","v":"A TIEMPO"},{"$f":"IF(J1215=\"\",\"\",NETWORKDAYS(C1215+1,J1215,DiasNOLaborables))","v":19},"",null,null,20]
[1205,20219050055862,"2021-05-05","CIUDADANO","MODULO CONTACTENOS","SOLICITUD DE INFORMACIÓN Y DOCUMENTOS","SOLICITUD DE INFORMACIÓN HIDROMETEOROLÓGICA","NO","GRUPO DE SERVICIO AL CIUDADANO ","2021-06-02","CORREO ELECTRÓNICO",null,{"$f":"IFERROR(WORKDAY(C1216,S1215,DiasNOLaborables),\"\")","v":"2021-06-03"},{"$f":"+IF(C1216=\"\",\"\",IF(J1216=\"\",\"SIN RESPUESTA\",(IF(J1216<=M1216,\"A TIEMPO\",\"FUERA DE TIEMPO\"))))","v":"A TIEMPO"},{"$f":"IF(J1216=\"\",\"\",NETWORKDAYS(C1216+1,J1216,DiasNOLaborables))","v":19},"",null,null,20]
[1206,20219050055872,"2021-05-05","ACADEMIA","MODULO CONTACTENOS","SOLICITUD DE INFORMACIÓN Y DOCUMENTOS","SOLICITUD DE INFORMACIÓN HIDROMETEOROLÓGICA","NO","GRUPO DE SERVICIO AL CIUDADANO ","2021-06-02","CORREO ELECTRÓNICO",null,{"$f":"IFERROR(WORKDAY(C1217,S1216,DiasNOLaborables),\"\")","v":"2021-06-03"},{"$f":"+IF(C1217=\"\",\"\",IF(J1217=\"\",\"SIN RESPUESTA\",(IF(J1217<=M1217,\"A TIEMPO\",\"FUERA DE TIEMPO\"))))","v":"A TIEMPO"},{"$f":"IF(J1217=\"\",\"\",NETWORKDAYS(C1217+1,J1217,DiasNOLaborables))","v":19},"",null,null,20]
[1207,20219050055902,"2021-05-05","ACADEMIA","MODULO CONTACTENOS","SOLICITUD DE INFORMACIÓN Y DOCUMENTOS","SOLICITUD DE INFORMACIÓN HIDROMETEOROLÓGICA","NO","GRUPO DE SERVICIO AL CIUDADANO ","2021-06-02","CORREO ELECTRÓNICO",null,{"$f":"IFERROR(WORKDAY(C1218,S1217,DiasNOLaborables),\"\")","v":"2021-06-03"},{"$f":"+IF(C1218=\"\",\"\",IF(J1218=\"\",\"SIN RESPUESTA\",(IF(J1218<=M1218,\"A TIEMPO\",\"FUERA DE TIEMPO\"))))","v":"A TIEMPO"},{"$f":"IF(J1218=\"\",\"\",NETWORKDAYS(C1218+1,J1218,DiasNOLaborables))","v":19},"",null,null,20]
[1208,20219050055912,"2021-05-05","CIUDADANO","MODULO CONTACTENOS","SOLICITUD DE INFORMACIÓN Y DOCUMENTOS","SOLICITUD DE INFORMACIÓN HIDROMETEOROLÓGICA","NO","GRUPO DE SERVICIO AL CIUDADANO ","2021-06-02","CORREO ELECTRÓNICO",null,{"$f":"IFERROR(WORKDAY(C1219,S1218,DiasNOLaborables),\"\")","v":"2021-06-03"},{"$f":"+IF(C1219=\"\",\"\",IF(J1219=\"\",\"SIN RESPUESTA\",(IF(J1219<=M1219,\"A TIEMPO\",\"FUERA DE TIEMPO\"))))","v":"A TIEMPO"},{"$f":"IF(J1219=\"\",\"\",NETWORKDAYS(C1219+1,J1219,DiasNOLaborables))","v":19},"",null,null,20]
[1209,20219050055922,"2021-05-05","CIUDADANO","MODULO CONTACTENOS","SOLICITUD DE INFORMACIÓN Y DOCUMENTOS","SOLICITUD DE INFORMACIÓN HIDROMETEOROLÓGICA","NO","GRUPO DE SERVICIO AL CIUDADANO ","2021-06-02","CORREO ELECTRÓNICO",null,{"$f":"IFERROR(WORKDAY(C1220,S1219,DiasNOLaborables),\"\")","v":"2021-06-03"},{"$f":"+IF(C1220=\"\",\"\",IF(J1220=\"\",\"SIN RESPUESTA\",(IF(J1220<=M1220,\"A TIEMPO\",\"FUERA DE TIEMPO\"))))","v":"A TIEMPO"},{"$f":"IF(J1220=\"\",\"\",NETWORKDAYS(C1220+1,J1220,DiasNOLaborables))","v":19},"",null,null,20]
[1210,20219050055932,"2021-05-05","CIUDADANO","MODULO CONTACTENOS","SOLICITUD DE INFORMACIÓN Y DOCUMENTOS","SOLICITUD DE INFORMACIÓN HIDROMETEOROLÓGICA","NO","GRUPO DE SERVICIO AL CIUDADANO ","2021-06-02","CORREO ELECTRÓNICO",null,{"$f":"IFERROR(WORKDAY(C1221,S1220,DiasNOLaborables),\"\")","v":"2021-06-03"},{"$f":"+IF(C1221=\"\",\"\",IF(J1221=\"\",\"SIN RESPUESTA\",(IF(J1221<=M1221,\"A TIEMPO\",\"FUERA DE TIEMPO\"))))","v":"A TIEMPO"},{"$f":"IF(J1221=\"\",\"\",NETWORKDAYS(C1221+1,J1221,DiasNOLaborables))","v":19},"",null,null,20]
[1211,20219050055942,"2021-05-05","CIUDADANO","MODULO CONTACTENOS","SOLICITUD DE INFORMACIÓN Y DOCUMENTOS","SOLICITUD DE INFORMACIÓN HIDROMETEOROLÓGICA","NO","GRUPO DE SERVICIO AL CIUDADANO ","2021-06-02","CORREO ELECTRÓNICO",null,{"$f":"IFERROR(WORKDAY(C1222,S1221,DiasNOLaborables),\"\")","v":"2021-06-03"},{"$f":"+IF(C1222=\"\",\"\",IF(J1222=\"\",\"SIN RESPUESTA\",(IF(J1222<=M1222,\"A TIEMPO\",\"FUERA DE TIEMPO\"))))","v":"A TIEMPO"},{"$f":"IF(J1222=\"\",\"\",NETWORKDAYS(C1222+1,J1222,DiasNOLaborables))","v":19},"",null,null,20]
[1212,20219050055982,"2021-05-06","CIUDADANO","MODULO CONTACTENOS","SOLICITUD DE INFORMACIÓN Y DOCUMENTOS","SOLICITUD DE INFORMACIÓN HIDROMETEOROLÓGICA","NO","GRUPO DE SERVICIO AL CIUDADANO ","2021-06-03","CORREO ELECTRÓNICO",null,{"$f":"IFERROR(WORKDAY(C1223,S1222,DiasNOLaborables),\"\")","v":"2021-06-04"},{"$f":"+IF(C1223=\"\",\"\",IF(J1223=\"\",\"SIN RESPUESTA\",(IF(J1223<=M1223,\"A TIEMPO\",\"FUERA DE TIEMPO\"))))","v":"A TIEMPO"},{"$f":"IF(J1223=\"\",\"\",NETWORKDAYS(C1223+1,J1223,DiasNOLaborables))","v":19},"",null,null,20]
[1213,20219050056002,"2021-05-06","CIUDADANO","MODULO CONTACTENOS","SOLICITUD DE INFORMACIÓN Y DOCUMENTOS","SOLICITUD DE INFORMACIÓN HIDROMETEOROLÓGICA","NO","GRUPO DE SERVICIO AL CIUDADANO ","2021-06-03","CORREO ELECTRÓNICO",null,{"$f":"IFERROR(WORKDAY(C1224,S1223,DiasNOLaborables),\"\")","v":"2021-06-04"},{"$f":"+IF(C1224=\"\",\"\",IF(J1224=\"\",\"SIN RESPUESTA\",(IF(J1224<=M1224,\"A TIEMPO\",\"FUERA DE TIEMPO\"))))","v":"A TIEMPO"},{"$f":"IF(J1224=\"\",\"\",NETWORKDAYS(C1224+1,J1224,DiasNOLaborables))","v":19},"",null,null,20]
[1214,20219050056042,"2021-05-06","CIUDADANO","MODULO CONTACTENOS","SOLICITUD DE INFORMACIÓN Y DOCUMENTOS","SOLICITUD DE INFORMACIÓN HIDROMETEOROLÓGICA","NO","GRUPO DE SERVICIO AL CIUDADANO ","2021-06-03","CORREO ELECTRÓNICO",null,{"$f":"IFERROR(WORKDAY(C1225,S1224,DiasNOLaborables),\"\")","v":"2021-06-04"},{"$f":"+IF(C1225=\"\",\"\",IF(J1225=\"\",\"SIN RESPUESTA\",(IF(J1225<=M1225,\"A TIEMPO\",\"FUERA DE TIEMPO\"))))","v":"A TIEMPO"},{"$f":"IF(J1225=\"\",\"\",NETWORKDAYS(C1225+1,J1225,DiasNOLaborables))","v":19},"",null,null,20]
[1215,20219050056052,"2021-05-06","CIUDADANO","MODULO CONTACTENOS","SOLICITUD DE INFORMACIÓN Y DOCUMENTOS","SOLICITUD DE INFORMACIÓN HIDROMETEOROLÓGICA","NO","GRUPO DE SERVICIO AL CIUDADANO ","2021-06-03","CORREO ELECTRÓNICO",null,{"$f":"IFERROR(WORKDAY(C1226,S1225,DiasNOLaborables),\"\")","v":"2021-06-04"},{"$f":"+IF(C1226=\"\",\"\",IF(J1226=\"\",\"SIN RESPUESTA\",(IF(J1226<=M1226,\"A TIEMPO\",\"FUERA DE TIEMPO\"))))","v":"A TIEMPO"},{"$f":"IF(J1226=\"\",\"\",NETWORKDAYS(C1226+1,J1226,DiasNOLaborables))","v":19},"",null,null,20]
[1216,20219050056092,"2021-05-06","CIUDADANO","MODULO CONTACTENOS","SOLICITUD DE INFORMACIÓN Y DOCUMENTOS","SOLICITUD DE INFORMACIÓN HIDROMETEOROLÓGICA","NO","GRUPO DE SERVICIO AL CIUDADANO ","2021-06-03","CORREO ELECTRÓNICO",null,{"$f":"IFERROR(WORKDAY(C1227,S1226,DiasNOLaborables),\"\")","v":"2021-06-04"},{"$f":"+IF(C1227=\"\",\"\",IF(J1227=\"\",\"SIN RESPUESTA\",(IF(J1227<=M1227,\"A TIEMPO\",\"FUERA DE TIEMPO\"))))","v":"A TIEMPO"},{"$f":"IF(J1227=\"\",\"\",NETWORKDAYS(C1227+1,J1227,DiasNOLaborables))","v":19},"",null,null,20]
[1217,20219050056122,"2021-05-06","ACADEMIA","MODULO CONTACTENOS","SOLICITUD DE INFORMACIÓN Y DOCUMENTOS","SOLICITUD DE INFORMACIÓN HIDROMETEOROLÓGICA","NO","GRUPO DE SERVICIO AL CIUDADANO ","2021-06-03","CORREO ELECTRÓNICO",null,{"$f":"IFERROR(WORKDAY(C1228,S1227,DiasNOLaborables),\"\")","v":"2021-06-04"},{"$f":"+IF(C1228=\"\",\"\",IF(J1228=\"\",\"SIN RESPUESTA\",(IF(J1228<=M1228,\"A TIEMPO\",\"FUERA DE TIEMPO\"))))","v":"A TIEMPO"},{"$f":"IF(J1228=\"\",\"\",NETWORKDAYS(C1228+1,J1228,DiasNOLaborables))","v":19},"",null,null,20]
[1218,20219050056142,"2021-05-06","CIUDADANO","MODULO CONTACTENOS","SOLICITUD DE INFORMACIÓN Y DOCUMENTOS","SOLICITUD DE INFORMACIÓN HIDROMETEOROLÓGICA","NO","GRUPO DE SERVICIO AL CIUDADANO ","2021-06-03","CORREO ELECTRÓNICO",null,{"$f":"IFERROR(WORKDAY(C1229,S1228,DiasNOLaborables),\"\")","v":"2021-06-04"},{"$f":"+IF(C1229=\"\",\"\",IF(J1229=\"\",\"SIN RESPUESTA\",(IF(J1229<=M1229,\"A TIEMPO\",\"FUERA DE TIEMPO\"))))","v":"A TIEMPO"},{"$f":"IF(J1229=\"\",\"\",NETWORKDAYS(C1229+1,J1229,DiasNOLaborables))","v":19},"",null,null,{"$f":"IFERROR(VLOOKUP(F1230,$AA$51:$AB$64,2),\"\")","v":20}]
[{"$f":"IF(B1230<>\"\",A1229+1,\"\")","v":1219},20219050056152,"2021-05-06","CIUDADANO","MODULO CONTACTENOS","SOLICITUD DE INFORMACIÓN Y DOCUMENTOS","SOLICITUD DE INFORMACIÓN HIDROMETEOROLÓGICA","NO","GRUPO DE SERVICIO AL CIUDADANO ","2021-06-03","CORREO ELECTRÓNICO",null,{"$f":"IFERROR(WORKDAY(C1230,S1229,DiasNOLaborables),\"\")","v":"2021-06-04"},{"$f":"+IF(C1230=\"\",\"\",IF(J1230=\"\",\"SIN RESPUESTA\",(IF(J1230<=M1230,\"A TIEMPO\",\"FUERA DE TIEMPO\"))))","v":"A TIEMPO"},{"$f":"IF(J1230=\"\",\"\",NETWORKDAYS(C1230+1,J1230,DiasNOLaborables))","v":19},"",null,null,20]
[1220,20219050056212,"2021-05-06","ACADEMIA","MODULO CONTACTENOS","SOLICITUD DE INFORMACIÓN Y DOCUMENTOS","SOLICITUD DE INFORMACIÓN HIDROMETEOROLÓGICA","NO","GRUPO DE SERVICIO AL CIUDADANO ","2021-06-03","CORREO ELECTRÓNICO",null,{"$f":"IFERROR(WORKDAY(C1231,S1230,DiasNOLaborables),\"\")","v":"2021-06-04"},{"$f":"+IF(C1231=\"\",\"\",IF(J1231=\"\",\"SIN RESPUESTA\",(IF(J1231<=M1231,\"A TIEMPO\",\"FUERA DE TIEMPO\"))))","v":"A TIEMPO"},{"$f":"IF(J1231=\"\",\"\",NETWORKDAYS(C1231+1,J1231,DiasNOLaborables))","v":19},"",null,null,35]
[1221,20219050056012,"2021-05-06","CIUDADANO","MODULO CONTACTENOS","CERTIFICACIONES DE TIEMPO, CLIMA Y EVENTOS HIDROLÓGICOS","CERTIFICACIONES DE TIEMPO Y CLIMA","SI","SUBDIRECCIÓN DE METEOROLOGÍA","2021-05-24","CORREO ELECTRÓNICO",null,{"$f":"IFERROR(WORKDAY(C1232,S1231,DiasNOLaborables),\"\")","v":"2021-06-29"},{"$f":"+IF(C1232=\"\",\"\",IF(J1232=\"\",\"SIN RESPUESTA\",(IF(J1232<=M1232,\"A TIEMPO\",\"FUERA DE TIEMPO\"))))","v":"A TIEMPO"},{"$f":"IF(J1232=\"\",\"\",NETWORKDAYS(C1232+1,J1232,DiasNOLaborables))","v":11},"",null,null,20]
[1222,20219050056022,"2021-05-06","CIUDADANO","MODULO CONTACTENOS","SOLICITUD DE INFORMACIÓN Y DOCUMENTOS","ADMINISTRATIVA","SI","GRUPO DE ADMINISTRACIÓN Y DESARROLLO DEL TALENTO HUMANO","2021-05-28","CORREO ELECTRÓNICO",null,{"$f":"IFERROR(WORKDAY(C1233,S1232,DiasNOLaborables),\"\")","v":"2021-06-04"},{"$f":"+IF(C1233=\"\",\"\",IF(J1233=\"\",\"SIN RESPUESTA\",(IF(J1233<=M1233,\"A TIEMPO\",\"FUERA DE TIEMPO\"))))","v":"A TIEMPO"},{"$f":"IF(J1233=\"\",\"\",NETWORKDAYS(C1233+1,J1233,DiasNOLaborables))","v":15},"",null,null,20]
[1223,20219050056032,"2021-05-06","CIUDADANO","MODULO CONTACTENOS","SOLICITUD DE INFORMACIÓN Y DOCUMENTOS","ADMINISTRATIVA","SI","GRUPO DE TESORERÍA","2021-05-13","CORREO ELECTRÓNICO",null,{"$f":"IFERROR(WORKDAY(C1234,S1233,DiasNOLaborables),\"\")","v":"2021-06-04"},{"$f":"+IF(C1234=\"\",\"\",IF(J1234=\"\",\"SIN RESPUESTA\",(IF(J1234<=M1234,\"A TIEMPO\",\"FUERA DE TIEMPO\"))))","v":"A TIEMPO"},{"$f":"IF(J1234=\"\",\"\",NETWORKDAYS(C1234+1,J1234,DiasNOLaborables))","v":5},"",null,null,20]
[1224,20219050056132,"2021-05-06","ENTIDAD PÚBLICA","CORREO ELECTRÓNICO","SOLICITUD DE INFORMACIÓN Y DOCUMENTOS","CERTIFICACIONES DE TIEMPO Y CLIMA","SI","SUBDIRECCIÓN DE METEOROLOGÍA","2021-05-10","CORREO ELECTRÓNICO",null,{"$f":"IFERROR(WORKDAY(C1235,S1234,DiasNOLaborables),\"\")","v":"2021-06-04"},{"$f":"+IF(C1235=\"\",\"\",IF(J1235=\"\",\"SIN RESPUESTA\",(IF(J1235<=M1235,\"A TIEMPO\",\"FUERA DE TIEMPO\"))))","v":"A TIEMPO"},{"$f":"IF(J1235=\"\",\"\",NETWORKDAYS(C1235+1,J1235,DiasNOLaborables))","v":2},"",null,null,20]
[1225,20219050056082,"2021-05-06","CIUDADANO","MODULO CONTACTENOS","SOLICITUD DE INFORMACIÓN Y DOCUMENTOS","ADMINISTRATIVA","SI","GRUPO DE TESORERÍA","2021-05-21","CORREO ELECTRÓNICO",null,{"$f":"IFERROR(WORKDAY(C1236,S1235,DiasNOLaborables),\"\")","v":"2021-06-04"},{"$f":"+IF(C1236=\"\",\"\",IF(J1236=\"\",\"SIN RESPUESTA\",(IF(J1236<=M1236,\"A TIEMPO\",\"FUERA DE TIEMPO\"))))","v":"A TIEMPO"},{"$f":"IF(J1236=\"\",\"\",NETWORKDAYS(C1236+1,J1236,DiasNOLaborables))","v":10},"",null,null,35]
[1226,20219050056102,"2021-05-06","CIUDADANO","MODULO CONTACTENOS","CERTIFICACIONES DE TIEMPO, CLIMA Y EVENTOS HIDROLÓGICOS","CERTIFICACIONES DE TIEMPO Y CLIMA","SI","SUBDIRECCIÓN DE METEOROLOGÍA","2021-05-25","CORREO ELECTRÓNICO",null,{"$f":"IFERROR(WORKDAY(C1237,S1236,DiasNOLaborables),\"\")","v":"2021-06-29"},{"$f":"+IF(C1237=\"\",\"\",IF(J1237=\"\",\"SIN RESPUESTA\",(IF(J1237<=M1237,\"A TIEMPO\",\"FUERA DE TIEMPO\"))))","v":"A TIEMPO"},{"$f":"IF(J1237=\"\",\"\",NETWORKDAYS(C1237+1,J1237,DiasNOLaborables))","v":12},"",null,null,30]
[1227,20219050056112,"2021-05-06","EMPRESA PRIVADA","MODULO CONTACTENOS","PETICIÓN","BOSQUES","SI","SUBDIRECCIÓN DE ECOSISTEMAS E INFORMACIÓN AMBIENTAL","2021-05-12","CORREO ELECTRÓNICO",null,{"$f":"IFERROR(WORKDAY(C1238,S1237,DiasNOLaborables),\"\")","v":"2021-06-22"},{"$f":"+IF(C1238=\"\",\"\",IF(J1238=\"\",\"SIN RESPUESTA\",(IF(J1238<=M1238,\"A TIEMPO\",\"FUERA DE TIEMPO\"))))","v":"A TIEMPO"},{"$f":"IF(J1238=\"\",\"\",NETWORKDAYS(C1238+1,J1238,DiasNOLaborables))","v":4},"",null,null,20]
[1228,20219050056332,"2021-05-06","CIUDADANO","MODULO CONTACTENOS","SOLICITUD DE INFORMACIÓN Y DOCUMENTOS","BOSQUES","SI","SUBDIRECCIÓN DE ECOSISTEMAS E INFORMACIÓN AMBIENTAL","2021-05-11","CORREO ELECTRÓNICO",null,{"$f":"IFERROR(WORKDAY(C1239,S1238,DiasNOLaborables),\"\")","v":"2021-06-04"},{"$f":"+IF(C1239=\"\",\"\",IF(J1239=\"\",\"SIN RESPUESTA\",(IF(J1239<=M1239,\"A TIEMPO\",\"FUERA DE TIEMPO\"))))","v":"A TIEMPO"},{"$f":"IF(J1239=\"\",\"\",NETWORKDAYS(C1239+1,J1239,DiasNOLaborables))","v":3},"",null,null,30]
[1229,20219050056352,"2021-05-06","CIUDADANO","MODULO CONTACTENOS","PETICIÓN","CERTIFICACIONES DE TIEMPO Y CLIMA","SI","SUBDIRECCIÓN DE METEOROLOGÍA","2021-05-24","CORREO ELECTRÓNICO",null,{"$f":"IFERROR(WORKDAY(C1240,S1239,DiasNOLaborables),\"\")","v":"2021-06-22"},{"$f":"+IF(C1240=\"\",\"\",IF(J1240=\"\",\"SIN RESPUESTA\",(IF(J1240<=M1240,\"A TIEMPO\",\"FUERA DE TIEMPO\"))))","v":"A TIEMPO"},{"$f":"IF(J1240=\"\",\"\",NETWORKDAYS(C1240+1,J1240,DiasNOLaborables))","v":11},"",null,null,30]
[1230,20219910025152,"2021-05-07","ENTIDAD PÚBLICA","CORREO CERTIFICADO","PETICIÓN","CLIMATOLOGÍA","SI","OFICINA ASESORA JURÍDICA","2021-06-17","CORREO ELECTRÓNICO",null,{"$f":"IFERROR(WORKDAY(C1241,S1240,DiasNOLaborables),\"\")","v":"2021-06-23"},{"$f":"+IF(C1241=\"\",\"\",IF(J1241=\"\",\"SIN RESPUESTA\",(IF(J1241<=M1241,\"A TIEMPO\",\"FUERA DE TIEMPO\"))))","v":"A TIEMPO"},{"$f":"IF(J1241=\"\",\"\",NETWORKDAYS(C1241+1,J1241,DiasNOLaborables))","v":26},"",null,null,35]
[1231,20219050056472,"2021-05-07","CIUDADANO","MODULO CONTACTENOS","CERTIFICACIONES DE TIEMPO, CLIMA Y EVENTOS HIDROLÓGICOS","CERTIFICACIONES DE TIEMPO Y CLIMA","SI","SUBDIRECCIÓN DE METEOROLOGÍA","2021-05-27","CORREO ELECTRÓNICO",null,{"$f":"IFERROR(WORKDAY(C1242,S1241,DiasNOLaborables),\"\")","v":"2021-06-30"},{"$f":"+IF(C1242=\"\",\"\",IF(J1242=\"\",\"SIN RESPUESTA\",(IF(J1242<=M1242,\"A TIEMPO\",\"FUERA DE TIEMPO\"))))","v":"A TIEMPO"},{"$f":"IF(J1242=\"\",\"\",NETWORKDAYS(C1242+1,J1242,DiasNOLaborables))","v":13},"",null,null,20]
[1232,20219050056612,"2021-05-07","ACADEMIA ","MODULO CONTACTENOS","SOLICITUD DE INFORMACIÓN Y DOCUMENTOS","SOLICITUD DE INFORMACIÓN HIDROMETEOROLÓGICA","NO","GRUPO DE SERVICIO AL CIUDADANO ","2021-06-04","CORREO ELECTRÓNICO",null,{"$f":"IFERROR(WORKDAY(C1243,S1242,DiasNOLaborables),\"\")","v":"2021-06-08"},{"$f":"+IF(C1243=\"\",\"\",IF(J1243=\"\",\"SIN RESPUESTA\",(IF(J1243<=M1243,\"A TIEMPO\",\"FUERA DE TIEMPO\"))))","v":"A TIEMPO"},{"$f":"IF(J1243=\"\",\"\",NETWORKDAYS(C1243+1,J1243,DiasNOLaborables))","v":19},"",null,null,20]
[1233,20219050056622,"2021-05-07","ACADEMIA ","MODULO CONTACTENOS","SOLICITUD DE INFORMACIÓN Y DOCUMENTOS","SOLICITUD DE INFORMACIÓN HIDROMETEOROLÓGICA","NO","GRUPO DE SERVICIO AL CIUDADANO ","2021-06-04","CORREO ELECTRÓNICO",null,{"$f":"IFERROR(WORKDAY(C1244,S1243,DiasNOLaborables),\"\")","v":"2021-06-08"},{"$f":"+IF(C1244=\"\",\"\",IF(J1244=\"\",\"SIN RESPUESTA\",(IF(J1244<=M1244,\"A TIEMPO\",\"FUERA DE TIEMPO\"))))","v":"A TIEMPO"},{"$f":"IF(J1244=\"\",\"\",NETWORKDAYS(C1244+1,J1244,DiasNOLaborables))","v":19},"",null,null,20]
[1234,20219050068972,"2021-05-07","ACADEMIA","MODULO CONTACTENOS","SOLICITUD DE INFORMACIÓN Y DOCUMENTOS","SOLICITUD DE INFORMACIÓN HIDROMETEOROLÓGICA","NO","GRUPO DE SERVICIO AL CIUDADANO ","2021-06-08","CORREO ELECTRÓNICO",null,{"$f":"IFERROR(WORKDAY(C1245,S1244,DiasNOLaborables),\"\")","v":"2021-06-08"},{"$f":"+IF(C1245=\"\",\"\",IF(J1245=\"\",\"SIN RESPUESTA\",(IF(J1245<=M1245,\"A TIEMPO\",\"FUERA DE TIEMPO\"))))","v":"A TIEMPO"},{"$f":"IF(J1245=\"\",\"\",NETWORKDAYS(C1245+1,J1245,DiasNOLaborables))","v":20},"",null,null,20]
[1235,20219050069262,"2021-05-07","CIUDADANO","MODULO CONTACTENOS","SOLICITUD DE INFORMACIÓN Y DOCUMENTOS","SOLICITUD DE INFORMACIÓN HIDROMETEOROLÓGICA","NO","GRUPO DE SERVICIO AL CIUDADANO ","2021-06-08","CORREO ELECTRÓNICO",null,{"$f":"IFERROR(WORKDAY(C1246,S1245,DiasNOLaborables),\"\")","v":"2021-06-08"},{"$f":"+IF(C1246=\"\",\"\",IF(J1246=\"\",\"SIN RESPUESTA\",(IF(J1246<=M1246,\"A TIEMPO\",\"FUERA DE TIEMPO\"))))","v":"A TIEMPO"},{"$f":"IF(J1246=\"\",\"\",NETWORKDAYS(C1246+1,J1246,DiasNOLaborables))","v":20},"",null,null,20]
[1236,20219050069272,"2021-05-07","CIUDADANO","MODULO CONTACTENOS","SOLICITUD DE INFORMACIÓN Y DOCUMENTOS","SOLICITUD DE INFORMACIÓN HIDROMETEOROLÓGICA","NO","GRUPO DE SERVICIO AL CIUDADANO ","2021-06-08","CORREO ELECTRÓNICO",null,{"$f":"IFERROR(WORKDAY(C1247,S1246,DiasNOLaborables),\"\")","v":"2021-06-08"},{"$f":"+IF(C1247=\"\",\"\",IF(J1247=\"\",\"SIN RESPUESTA\",(IF(J1247<=M1247,\"A TIEMPO\",\"FUERA DE TIEMPO\"))))","v":"A TIEMPO"},{"$f":"IF(J1247=\"\",\"\",NETWORKDAYS(C1247+1,J1247,DiasNOLaborables))","v":20},"",null,null,20]
[1237,20219050069302,"2021-05-07","CIUDADANO","MODULO CONTACTENOS","SOLICITUD DE INFORMACIÓN Y DOCUMENTOS","SOLICITUD DE INFORMACIÓN HIDROMETEOROLÓGICA","NO","GRUPO DE SERVICIO AL CIUDADANO ","2021-06-08","CORREO ELECTRÓNICO",null,{"$f":"IFERROR(WORKDAY(C1248,S1247,DiasNOLaborables),\"\")","v":"2021-06-08"},{"$f":"+IF(C1248=\"\",\"\",IF(J1248=\"\",\"SIN RESPUESTA\",(IF(J1248<=M1248,\"A TIEMPO\",\"FUERA DE TIEMPO\"))))","v":"A TIEMPO"},{"$f":"IF(J1248=\"\",\"\",NETWORKDAYS(C1248+1,J1248,DiasNOLaborables))","v":20},"",null,null,20]
[1238,20219050069322,"2021-05-07","CIUDADANO","MODULO CONTACTENOS","SOLICITUD DE INFORMACIÓN Y DOCUMENTOS","SOLICITUD DE INFORMACIÓN HIDROMETEOROLÓGICA","NO","GRUPO DE SERVICIO AL CIUDADANO ","2021-06-08","CORREO ELECTRÓNICO",null,{"$f":"IFERROR(WORKDAY(C1249,S1248,DiasNOLaborables),\"\")","v":"2021-06-08"},{"$f":"+IF(C1249=\"\",\"\",IF(J1249=\"\",\"SIN RESPUESTA\",(IF(J1249<=M1249,\"A TIEMPO\",\"FUERA DE TIEMPO\"))))","v":"A TIEMPO"},{"$f":"IF(J1249=\"\",\"\",NETWORKDAYS(C1249+1,J1249,DiasNOLaborables))","v":20},{"$f":"IF(NETWORKDAYS(M1249+1,J1249,DiasNOLaborables)<=0,\"\",NETWORKDAYS(M1249+1,J1249,DiasNOLaborables))","v":""},null,null,20]
[1239,20219050069592,"2021-05-07","CIUDADANO","MODULO CONTACTENOS","SOLICITUD DE INFORMACIÓN Y DOCUMENTOS","SOLICITUD DE INFORMACIÓN HIDROMETEOROLÓGICA","NO","GRUPO DE SERVICIO AL CIUDADANO ","2021-06-08","CORREO ELECTRÓNICO",null,{"$f":"IFERROR(WORKDAY(C1250,S1249,DiasNOLaborables),\"\")","v":"2021-06-08"},{"$f":"+IF(C1250=\"\",\"\",IF(J1250=\"\",\"SIN RESPUESTA\",(IF(J1250<=M1250,\"A TIEMPO\",\"FUERA DE TIEMPO\"))))","v":"A TIEMPO"},{"$f":"IF(J1250=\"\",\"\",NETWORKDAYS(C1250+1,J1250,DiasNOLaborables))","v":20},"",null,null,20]
[1240,20219050069672,"2021-05-07","CIUDADANO","MODULO CONTACTENOS","SOLICITUD DE INFORMACIÓN Y DOCUMENTOS","SOLICITUD DE INFORMACIÓN HIDROMETEOROLÓGICA","NO","GRUPO DE SERVICIO AL CIUDADANO ","2021-06-08","CORREO ELECTRÓNICO",null,{"$f":"IFERROR(WORKDAY(C1251,S1250,DiasNOLaborables),\"\")","v":"2021-06-08"},{"$f":"+IF(C1251=\"\",\"\",IF(J1251=\"\",\"SIN RESPUESTA\",(IF(J1251<=M1251,\"A TIEMPO\",\"FUERA DE TIEMPO\"))))","v":"A TIEMPO"},{"$f":"IF(J1251=\"\",\"\",NETWORKDAYS(C1251+1,J1251,DiasNOLaborables))","v":20},"",null,null,20]
[1241,20219050069742,"2021-05-07","CIUDADANO","MODULO CONTACTENOS","SOLICITUD DE INFORMACIÓN Y DOCUMENTOS","SOLICITUD DE INFORMACIÓN HIDROMETEOROLÓGICA","NO","GRUPO DE SERVICIO AL CIUDADANO ","2021-06-08","CORREO ELECTRÓNICO",null,{"$f":"IFERROR(WORKDAY(C1252,S1251,DiasNOLaborables),\"\")","v":"2021-06-08"},{"$f":"+IF(C1252=\"\",\"\",IF(J1252=\"\",\"SIN RESPUESTA\",(IF(J1252<=M1252,\"A TIEMPO\",\"FUERA DE TIEMPO\"))))","v":"A TIEMPO"},{"$f":"IF(J1252=\"\",\"\",NETWORKDAYS(C1252+1,J1252,DiasNOLaborables))","v":20},"",null,null,20]
[1242,20219050069752,"2021-05-07","CIUDADANO","MODULO CONTACTENOS","SOLICITUD DE INFORMACIÓN Y DOCUMENTOS","SOLICITUD DE INFORMACIÓN HIDROMETEOROLÓGICA","NO","GRUPO DE SERVICIO AL CIUDADANO ","2021-06-08","CORREO ELECTRÓNICO",null,{"$f":"IFERROR(WORKDAY(C1253,S1252,DiasNOLaborables),\"\")","v":"2021-06-08"},{"$f":"+IF(C1253=\"\",\"\",IF(J1253=\"\",\"SIN RESPUESTA\",(IF(J1253<=M1253,\"A TIEMPO\",\"FUERA DE TIEMPO\"))))","v":"A TIEMPO"},{"$f":"IF(J1253=\"\",\"\",NETWORKDAYS(C1253+1,J1253,DiasNOLaborables))","v":20},"",null,null,20]
[1243,20219050069762,"2021-05-07","CIUDADANO","MODULO CONTACTENOS","SOLICITUD DE INFORMACIÓN Y DOCUMENTOS","SOLICITUD DE INFORMACIÓN HIDROMETEOROLÓGICA","NO","GRUPO DE SERVICIO AL CIUDADANO ","2021-06-08","CORREO ELECTRÓNICO","NASLY SUSANA PUERTA GUTIERREZ",{"$f":"IFERROR(WORKDAY(C1254,S1253,DiasNOLaborables),\"\")","v":"2021-06-08"},{"$f":"+IF(C1254=\"\",\"\",IF(J1254=\"\",\"SIN RESPUESTA\",(IF(J1254<=M1254,\"A TIEMPO\",\"FUERA DE TIEMPO\"))))","v":"A TIEMPO"},{"$f":"IF(J1254=\"\",\"\",NETWORKDAYS(C1254+1,J1254,DiasNOLaborables))","v":20},"",null,null,20]
[1244,20219050069782,"2021-05-07","CIUDADANO","MODULO CONTACTENOS","SOLICITUD DE INFORMACIÓN Y DOCUMENTOS","SOLICITUD DE INFORMACIÓN HIDROMETEOROLÓGICA","NO","GRUPO DE SERVICIO AL CIUDADANO ","2021-06-08","CORREO ELECTRÓNICO","NASLY SUSANA PUERTA GUTIERREZ",{"$f":"IFERROR(WORKDAY(C1255,S1254,DiasNOLaborables),\"\")","v":"2021-06-08"},{"$f":"+IF(C1255=\"\",\"\",IF(J1255=\"\",\"SIN RESPUESTA\",(IF(J1255<=M1255,\"A TIEMPO\",\"FUERA DE TIEMPO\"))))","v":"A TIEMPO"},{"$f":"IF(J1255=\"\",\"\",NETWORKDAYS(C1255+1,J1255,DiasNOLaborables))","v":20},"",null,null,20]
[1245,20219050069872,"2021-05-07","ACADEMIA","MODULO CONTACTENOS","SOLICITUD DE INFORMACIÓN Y DOCUMENTOS","SOLICITUD DE INFORMACIÓN HIDROMETEOROLÓGICA","NO","GRUPO DE SERVICIO AL CIUDADANO ","2021-06-08","CORREO ELECTRÓNICO","NASLY SUSANA PUERTA GUTIERREZ",{"$f":"IFERROR(WORKDAY(C1256,S1255,DiasNOLaborables),\"\")","v":"2021-06-08"},{"$f":"+IF(C1256=\"\",\"\",IF(J1256=\"\",\"SIN RESPUESTA\",(IF(J1256<=M1256,\"A TIEMPO\",\"FUERA DE TIEMPO\"))))","v":"A TIEMPO"},{"$f":"IF(J1256=\"\",\"\",NETWORKDAYS(C1256+1,J1256,DiasNOLaborables))","v":20},"",null,null,20]
[1246,20219050069882,"2021-05-07","ACADEMIA","MODULO CONTACTENOS","SOLICITUD DE INFORMACIÓN Y DOCUMENTOS","SOLICITUD DE INFORMACIÓN HIDROMETEOROLÓGICA","NO","GRUPO DE SERVICIO AL CIUDADANO ","2021-06-08","CORREO ELECTRÓNICO","NASLY SUSANA PUERTA GUTIERREZ",{"$f":"IFERROR(WORKDAY(C1257,S1256,DiasNOLaborables),\"\")","v":"2021-06-08"},{"$f":"+IF(C1257=\"\",\"\",IF(J1257=\"\",\"SIN RESPUESTA\",(IF(J1257<=M1257,\"A TIEMPO\",\"FUERA DE TIEMPO\"))))","v":"A TIEMPO"},{"$f":"IF(J1257=\"\",\"\",NETWORKDAYS(C1257+1,J1257,DiasNOLaborables))","v":20},"",null,null,20]
[1247,20219050056632,"2021-05-07","ACADEMIA ","MODULO CONTACTENOS","SOLICITUD DE INFORMACIÓN Y DOCUMENTOS","SOLICITUD DE INFORMACIÓN HIDROMETEOROLÓGICA","NO","GRUPO DE SERVICIO AL CIUDADANO ","2021-06-04","CORREO ELECTRÓNICO","NASLY SUSANA PUERTA GUTIERREZ",{"$f":"IFERROR(WORKDAY(C1258,S1257,DiasNOLaborables),\"\")","v":"2021-06-08"},{"$f":"+IF(C1258=\"\",\"\",IF(J1258=\"\",\"SIN RESPUESTA\",(IF(J1258<=M1258,\"A TIEMPO\",\"FUERA DE TIEMPO\"))))","v":"A TIEMPO"},{"$f":"IF(J1258=\"\",\"\",NETWORKDAYS(C1258+1,J1258,DiasNOLaborables))","v":19},"",null,null,20]
[1248,20219050056642,"2021-05-07","ACADEMIA ","MODULO CONTACTENOS","SOLICITUD DE INFORMACIÓN Y DOCUMENTOS","SOLICITUD DE INFORMACIÓN HIDROMETEOROLÓGICA","NO","GRUPO DE SERVICIO AL CIUDADANO ","2021-06-04","CORREO ELECTRÓNICO","NASLY SUSANA PUERTA GUTIERREZ",{"$f":"IFERROR(WORKDAY(C1259,S1258,DiasNOLaborables),\"\")","v":"2021-06-08"},{"$f":"+IF(C1259=\"\",\"\",IF(J1259=\"\",\"SIN RESPUESTA\",(IF(J1259<=M1259,\"A TIEMPO\",\"FUERA DE TIEMPO\"))))","v":"A TIEMPO"},{"$f":"IF(J1259=\"\",\"\",NETWORKDAYS(C1259+1,J1259,DiasNOLaborables))","v":19},"",null,null,20]
[1249,20219050056652,"2021-05-07","ACADEMIA ","MODULO CONTACTENOS","SOLICITUD DE INFORMACIÓN Y DOCUMENTOS","SOLICITUD DE INFORMACIÓN HIDROMETEOROLÓGICA","NO","GRUPO DE SERVICIO AL CIUDADANO ","2021-06-04","CORREO ELECTRÓNICO","NASLY SUSANA PUERTA GUTIERREZ",{"$f":"IFERROR(WORKDAY(C1260,S1259,DiasNOLaborables),\"\")","v":"2021-06-08"},{"$f":"+IF(C1260=\"\",\"\",IF(J1260=\"\",\"SIN RESPUESTA\",(IF(J1260<=M1260,\"A TIEMPO\",\"FUERA DE TIEMPO\"))))","v":"A TIEMPO"},{"$f":"IF(J1260=\"\",\"\",NETWORKDAYS(C1260+1,J1260,DiasNOLaborables))","v":19},"",null,null,20]
[1250,20219050056662,"2021-05-07","ACADEMIA ","MODULO CONTACTENOS","SOLICITUD DE INFORMACIÓN Y DOCUMENTOS","SOLICITUD DE INFORMACIÓN HIDROMETEOROLÓGICA","NO","GRUPO DE SERVICIO AL CIUDADANO ","2021-06-04","CORREO ELECTRÓNICO","NASLY SUSANA PUERTA GUTIERREZ",{"$f":"IFERROR(WORKDAY(C1261,S1260,DiasNOLaborables),\"\")","v":"2021-06-08"},{"$f":"+IF(C1261=\"\",\"\",IF(J1261=\"\",\"SIN RESPUESTA\",(IF(J1261<=M1261,\"A TIEMPO\",\"FUERA DE TIEMPO\"))))","v":"A TIEMPO"},{"$f":"IF(J1261=\"\",\"\",NETWORKDAYS(C1261+1,J1261,DiasNOLaborables))","v":19},"",null,null,20]
[1251,20219050056672,"2021-05-07","ACADEMIA ","MODULO CONTACTENOS","SOLICITUD DE INFORMACIÓN Y DOCUMENTOS","SOLICITUD DE INFORMACIÓN HIDROMETEOROLÓGICA","NO","GRUPO DE SERVICIO AL CIUDADANO ","2021-06-04","CORREO ELECTRÓNICO","NASLY SUSANA PUERTA GUTIERREZ",{"$f":"IFERROR(WORKDAY(C1262,S1261,DiasNOLaborables),\"\")","v":"2021-06-08"},{"$f":"+IF(C1262=\"\",\"\",IF(J1262=\"\",\"SIN RESPUESTA\",(IF(J1262<=M1262,\"A TIEMPO\",\"FUERA DE TIEMPO\"))))","v":"A TIEMPO"},{"$f":"IF(J1262=\"\",\"\",NETWORKDAYS(C1262+1,J1262,DiasNOLaborables))","v":19},"",null,null,20]
[1252,20219050056682,"2021-05-08","CIUDADANO","MODULO CONTACTENOS","SOLICITUD DE INFORMACIÓN Y DOCUMENTOS","SOLICITUD DE INFORMACIÓN HIDROMETEOROLÓGICA","NO","GRUPO DE SERVICIO AL CIUDADANO ","2021-06-04","CORREO ELECTRÓNICO",null,{"$f":"IFERROR(WORKDAY(C1263,S1262,DiasNOLaborables),\"\")","v":"2021-06-08"},{"$f":"+IF(C1263=\"\",\"\",IF(J1263=\"\",\"SIN RESPUESTA\",(IF(J1263<=M1263,\"A TIEMPO\",\"FUERA DE TIEMPO\"))))","v":"A TIEMPO"},{"$f":"IF(J1263=\"\",\"\",NETWORKDAYS(C1263+1,J1263,DiasNOLaborables))","v":19},"",null,null,20]
[1253,20219050056702,"2021-05-08","CIUDADANO","MODULO CONTACTENOS","SOLICITUD DE INFORMACIÓN Y DOCUMENTOS","SOLICITUD DE INFORMACIÓN HIDROMETEOROLÓGICA","NO","GRUPO DE SERVICIO AL CIUDADANO ","2021-06-04","CORREO ELECTRÓNICO",null,{"$f":"IFERROR(WORKDAY(C1264,S1263,DiasNOLaborables),\"\")","v":"2021-06-08"},{"$f":"+IF(C1264=\"\",\"\",IF(J1264=\"\",\"SIN RESPUESTA\",(IF(J1264<=M1264,\"A TIEMPO\",\"FUERA DE TIEMPO\"))))","v":"A TIEMPO"},{"$f":"IF(J1264=\"\",\"\",NETWORKDAYS(C1264+1,J1264,DiasNOLaborables))","v":19},"",null,null,20]
[1254,20219050056722,"2021-05-08","CIUDADANO","MODULO CONTACTENOS","SOLICITUD DE INFORMACIÓN Y DOCUMENTOS","SOLICITUD DE INFORMACIÓN HIDROMETEOROLÓGICA","NO","GRUPO DE SERVICIO AL CIUDADANO ","2021-06-04","CORREO ELECTRÓNICO",null,{"$f":"IFERROR(WORKDAY(C1265,S1264,DiasNOLaborables),\"\")","v":"2021-06-08"},{"$f":"+IF(C1265=\"\",\"\",IF(J1265=\"\",\"SIN RESPUESTA\",(IF(J1265<=M1265,\"A TIEMPO\",\"FUERA DE TIEMPO\"))))","v":"A TIEMPO"},{"$f":"IF(J1265=\"\",\"\",NETWORKDAYS(C1265+1,J1265,DiasNOLaborables))","v":19},"",null,null,20]
[1255,20219050056732,"2021-05-08","CIUDADANO","MODULO CONTACTENOS","SOLICITUD DE INFORMACIÓN Y DOCUMENTOS","SOLICITUD DE INFORMACIÓN HIDROMETEOROLÓGICA","NO","GRUPO DE SERVICIO AL CIUDADANO ","2021-06-04","CORREO ELECTRÓNICO",null,{"$f":"IFERROR(WORKDAY(C1266,S1265,DiasNOLaborables),\"\")","v":"2021-06-08"},{"$f":"+IF(C1266=\"\",\"\",IF(J1266=\"\",\"SIN RESPUESTA\",(IF(J1266<=M1266,\"A TIEMPO\",\"FUERA DE TIEMPO\"))))","v":"A TIEMPO"},{"$f":"IF(J1266=\"\",\"\",NETWORKDAYS(C1266+1,J1266,DiasNOLaborables))","v":19},"",null,null,20]
[1256,20219050056782,"2021-05-08","CIUDADANO","MODULO CONTACTENOS","SOLICITUD DE INFORMACIÓN Y DOCUMENTOS","SOLICITUD DE INFORMACIÓN HIDROMETEOROLÓGICA","NO","GRUPO DE SERVICIO AL CIUDADANO ","2021-06-04","CORREO ELECTRÓNICO",null,{"$f":"IFERROR(WORKDAY(C1267,S1266,DiasNOLaborables),\"\")","v":"2021-06-08"},{"$f":"+IF(C1267=\"\",\"\",IF(J1267=\"\",\"SIN RESPUESTA\",(IF(J1267<=M1267,\"A TIEMPO\",\"FUERA DE TIEMPO\"))))","v":"A TIEMPO"},{"$f":"IF(J1267=\"\",\"\",NETWORKDAYS(C1267+1,J1267,DiasNOLaborables))","v":19},"",null,null,20]
[1257,20219050056802,"2021-05-08","CIUDADANO","MODULO CONTACTENOS","SOLICITUD DE INFORMACIÓN Y DOCUMENTOS","SOLICITUD DE INFORMACIÓN HIDROMETEOROLÓGICA","NO","GRUPO DE SERVICIO AL CIUDADANO ","2021-06-04","CORREO ELECTRÓNICO",null,{"$f":"IFERROR(WORKDAY(C1268,S1267,DiasNOLaborables),\"\")","v":"2021-06-08"},{"$f":"+IF(C1268=\"\",\"\",IF(J1268=\"\",\"SIN RESPUESTA\",(IF(J1268<=M1268,\"A TIEMPO\",\"FUERA DE TIEMPO\"))))","v":"A TIEMPO"},{"$f":"IF(J1268=\"\",\"\",NETWORKDAYS(C1268+1,J1268,DiasNOLaborables))","v":19},"",null,null,20]
[1258,20219050056812,"2021-05-08","CIUDADANO","MODULO CONTACTENOS","SOLICITUD DE INFORMACIÓN Y DOCUMENTOS","SOLICITUD DE INFORMACIÓN HIDROMETEOROLÓGICA","NO","GRUPO DE SERVICIO AL CIUDADANO ","2021-06-04","CORREO ELECTRÓNICO","NASLY SUSANA PUERTA GUTIERREZ",{"$f":"IFERROR(WORKDAY(C1269,S1268,DiasNOLaborables),\"\")","v":"2021-06-08"},{"$f":"+IF(C1269=\"\",\"\",IF(J1269=\"\",\"SIN RESPUESTA\",(IF(J1269<=M1269,\"A TIEMPO\",\"FUERA DE TIEMPO\"))))","v":"A TIEMPO"},{"$f":"IF(J1269=\"\",\"\",NETWORKDAYS(C1269+1,J1269,DiasNOLaborables))","v":19},"",null,null,35]
[1259,20219050056692,"2021-05-08","EMPRESA PRIVADA","MODULO CONTACTENOS","CERTIFICACIONES DE TIEMPO, CLIMA Y EVENTOS HIDROLÓGICOS","CERTIFICACIONES DE TIEMPO Y CLIMA","SI","SUBDIRECCIÓN DE METEOROLOGÍA","2021-06-02","CORREO ELECTRÓNICO","NASLY SUSANA PUERTA GUTIERREZ",{"$f":"IFERROR(WORKDAY(C1270,S1269,DiasNOLaborables),\"\")","v":"2021-06-30"},{"$f":"+IF(C1270=\"\",\"\",IF(J1270=\"\",\"SIN RESPUESTA\",(IF(J1270<=M1270,\"A TIEMPO\",\"FUERA DE TIEMPO\"))))","v":"A TIEMPO"},{"$f":"IF(J1270=\"\",\"\",NETWORKDAYS(C1270+1,J1270,DiasNOLaborables))","v":17},"",null,null,20]
[1260,20219050056792,"2021-05-08","CIUDADANO","MODULO CONTACTENOS","SOLICITUD DE INFORMACIÓN Y DOCUMENTOS","WEB Y CORREO","SI","OFICINA DE INFORMÁTICA","2021-05-11","CORREO ELECTRÓNICO","NASLY SUSANA PUERTA GUTIERREZ",{"$f":"IFERROR(WORKDAY(C1271,S1270,DiasNOLaborables),\"\")","v":"2021-06-08"},{"$f":"+IF(C1271=\"\",\"\",IF(J1271=\"\",\"SIN RESPUESTA\",(IF(J1271<=M1271,\"A TIEMPO\",\"FUERA DE TIEMPO\"))))","v":"A TIEMPO"},{"$f":"IF(J1271=\"\",\"\",NETWORKDAYS(C1271+1,J1271,DiasNOLaborables))","v":2},"",null,null,20]
[1261,20219050056822,"2021-05-08","CIUDADANO","MODULO CONTACTENOS","SOLICITUD DE INFORMACIÓN Y DOCUMENTOS","SOLICITUD DE INFORMACIÓN HIDROMETEOROLÓGICA","NO","GRUPO DE SERVICIO AL CIUDADANO ","2021-06-08","CORREO ELECTRÓNICO","NASLY SUSANA PUERTA GUTIERREZ",{"$f":"IFERROR(WORKDAY(C1272,S1271,DiasNOLaborables),\"\")","v":"2021-06-08"},{"$f":"+IF(C1272=\"\",\"\",IF(J1272=\"\",\"SIN RESPUESTA\",(IF(J1272<=M1272,\"A TIEMPO\",\"FUERA DE TIEMPO\"))))","v":"A TIEMPO"},{"$f":"IF(J1272=\"\",\"\",NETWORKDAYS(C1272+1,J1272,DiasNOLaborables))","v":20},"",null,null,20]
[1262,20219050056842,"2021-05-09","ACADEMIA ","MODULO CONTACTENOS","SOLICITUD DE INFORMACIÓN Y DOCUMENTOS","SOLICITUD DE INFORMACIÓN HIDROMETEOROLÓGICA","NO","GRUPO DE SERVICIO AL CIUDADANO ","2021-06-08","CORREO ELECTRÓNICO","NASLY SUSANA PUERTA GUTIERREZ",{"$f":"IFERROR(WORKDAY(C1273,S1272,DiasNOLaborables),\"\")","v":"2021-06-08"},{"$f":"+IF(C1273=\"\",\"\",IF(J1273=\"\",\"SIN RESPUESTA\",(IF(J1273<=M1273,\"A TIEMPO\",\"FUERA DE TIEMPO\"))))","v":"A TIEMPO"},{"$f":"IF(J1273=\"\",\"\",NETWORKDAYS(C1273+1,J1273,DiasNOLaborables))","v":20},"",null,null,20]
[1263,20219050056852,"2021-05-09","ACADEMIA ","MODULO CONTACTENOS","SOLICITUD DE INFORMACIÓN Y DOCUMENTOS","SOLICITUD DE INFORMACIÓN HIDROMETEOROLÓGICA","NO","GRUPO DE SERVICIO AL CIUDADANO ","2021-06-08","CORREO ELECTRÓNICO","NASLY SUSANA PUERTA GUTIERREZ",{"$f":"IFERROR(WORKDAY(C1274,S1273,DiasNOLaborables),\"\")","v":"2021-06-08"},{"$f":"+IF(C1274=\"\",\"\",IF(J1274=\"\",\"SIN RESPUESTA\",(IF(J1274<=M1274,\"A TIEMPO\",\"FUERA DE TIEMPO\"))))","v":"A TIEMPO"},{"$f":"IF(J1274=\"\",\"\",NETWORKDAYS(C1274+1,J1274,DiasNOLaborables))","v":20},"",null,null,20]
[1264,20219050056832,"2021-05-09","CIUDADANO","MODULO CONTACTENOS","SOLICITUD DE INFORMACIÓN Y DOCUMENTOS","SUELOS Y TIERRAS","SI","GRUPO DE GESTIÓN DOCUMENTAL Y CENTRO DE DOCUMENTACIÓN","2021-05-11","CORREO ELECTRÓNICO","NASLY SUSANA PUERTA GUTIERREZ",{"$f":"IFERROR(WORKDAY(C1275,S1274,DiasNOLaborables),\"\")","v":"2021-06-08"},{"$f":"+IF(C1275=\"\",\"\",IF(J1275=\"\",\"SIN RESPUESTA\",(IF(J1275<=M1275,\"A TIEMPO\",\"FUERA DE TIEMPO\"))))","v":"A TIEMPO"},{"$f":"IF(J1275=\"\",\"\",NETWORKDAYS(C1275+1,J1275,DiasNOLaborables))","v":2},"",null,null,20]
[1265,20219050056862,"2021-05-09","CIUDADANO","MODULO CONTACTENOS","SOLICITUD DE INFORMACIÓN Y DOCUMENTOS","ADMINISTRATIVA","SI","DIRECCIÓN GENERAL","2021-05-12","CORREO ELECTRÓNICO","NASLY SUSANA PUERTA GUTIERREZ",{"$f":"IFERROR(WORKDAY(C1276,S1275,DiasNOLaborables),\"\")","v":"2021-06-08"},{"$f":"+IF(C1276=\"\",\"\",IF(J1276=\"\",\"SIN RESPUESTA\",(IF(J1276<=M1276,\"A TIEMPO\",\"FUERA DE TIEMPO\"))))","v":"A TIEMPO"},{"$f":"IF(J1276=\"\",\"\",NETWORKDAYS(C1276+1,J1276,DiasNOLaborables))","v":3},"",null,null,20]
[1266,20219050056942,"2021-05-10","CIUDADANO","MODULO CONTACTENOS","SOLICITUD DE INFORMACIÓN Y DOCUMENTOS","ADMINISTRATIVA","SI","GRUPO DE ADMINISTRACIÓN Y DESARROLLO DEL TALENTO HUMANO","2021-05-23","CORREO ELECTRÓNICO","NASLY SUSANA PUERTA GUTIERREZ",{"$f":"IFERROR(WORKDAY(C1277,S1276,DiasNOLaborables),\"\")","v":"2021-06-09"},{"$f":"+IF(C1277=\"\",\"\",IF(J1277=\"\",\"SIN RESPUESTA\",(IF(J1277<=M1277,\"A TIEMPO\",\"FUERA DE TIEMPO\"))))","v":"A TIEMPO"},{"$f":"IF(J1277=\"\",\"\",NETWORKDAYS(C1277+1,J1277,DiasNOLaborables))","v":8},"",null,null,20]
[1267,20219050057012,"2021-05-10","ACADEMIA ","MODULO CONTACTENOS","SOLICITUD DE INFORMACIÓN Y DOCUMENTOS","SOLICITUD DE INFORMACIÓN HIDROMETEOROLÓGICA","NO","GRUPO DE SERVICIO AL CIUDADANO ","2021-05-19","CORREO ELECTRÓNICO","NASLY SUSANA PUERTA GUTIERREZ",{"$f":"IFERROR(WORKDAY(C1278,S1277,DiasNOLaborables),\"\")","v":"2021-06-09"},{"$f":"+IF(C1278=\"\",\"\",IF(J1278=\"\",\"SIN RESPUESTA\",(IF(J1278<=M1278,\"A TIEMPO\",\"FUERA DE TIEMPO\"))))","v":"A TIEMPO"},{"$f":"IF(J1278=\"\",\"\",NETWORKDAYS(C1278+1,J1278,DiasNOLaborables))","v":6},"",null,null,20]
[1268,20219050056982,"2021-05-10","CIUDADANO","MODULO CONTACTENOS","SOLICITUD DE INFORMACIÓN Y DOCUMENTOS","SOLICITUD DE INFORMACIÓN HIDROMETEOROLÓGICA","SI","OFICINA DEL SERVICIO DE PRONÓSTICOS Y ALERTAS","2021-05-12","CORREO ELECTRÓNICO","NASLY SUSANA PUERTA GUTIERREZ",{"$f":"IFERROR(WORKDAY(C1279,S1278,DiasNOLaborables),\"\")","v":"2021-06-09"},{"$f":"+IF(C1279=\"\",\"\",IF(J1279=\"\",\"SIN RESPUESTA\",(IF(J1279<=M1279,\"A TIEMPO\",\"FUERA DE TIEMPO\"))))","v":"A TIEMPO"},{"$f":"IF(J1279=\"\",\"\",NETWORKDAYS(C1279+1,J1279,DiasNOLaborables))","v":2},"",null,null,35]
[1269,20219050057042,"2021-05-10","EMPRESA PRIVADA","MODULO CONTACTENOS","CERTIFICACIONES DE TIEMPO, CLIMA Y EVENTOS HIDROLÓGICOS","CLIMATOLOGÍA","SI","SUBDIRECCIÓN DE METEOROLOGÍA","2021-05-21","CORREO ELECTRÓNICO",null,{"$f":"IFERROR(WORKDAY(C1280,S1279,DiasNOLaborables),\"\")","v":"2021-07-01"},{"$f":"+IF(C1280=\"\",\"\",IF(J1280=\"\",\"SIN RESPUESTA\",(IF(J1280<=M1280,\"A TIEMPO\",\"FUERA DE TIEMPO\"))))","v":"A TIEMPO"},{"$f":"IF(J1280=\"\",\"\",NETWORKDAYS(C1280+1,J1280,DiasNOLaborables))","v":8},"",null,null,20]
[1270,20219050057082,"2021-05-10","CIUDADANO","MODULO CONTACTENOS","SOLICITUD DE INFORMACIÓN Y DOCUMENTOS","ADMINISTRATIVA","SI","GRUPO DE TESORERÍA","2021-05-13","CORREO ELECTRÓNICO",null,{"$f":"IFERROR(WORKDAY(C1281,S1280,DiasNOLaborables),\"\")","v":"2021-06-09"},{"$f":"+IF(C1281=\"\",\"\",IF(J1281=\"\",\"SIN RESPUESTA\",(IF(J1281<=M1281,\"A TIEMPO\",\"FUERA DE TIEMPO\"))))","v":"A TIEMPO"},{"$f":"IF(J1281=\"\",\"\",NETWORKDAYS(C1281+1,J1281,DiasNOLaborables))","v":3},"",null,null,20]
[1271,20219050057182,"2021-05-10","CIUDADANO","MODULO CONTACTENOS","SOLICITUD DE INFORMACIÓN Y DOCUMENTOS","REGISTROS AMBIENTALES","SI","SUBDIRECCIÓN DE ESTUDIOS AMBIENTALES","2021-05-18","CORREO ELECTRÓNICO",null,{"$f":"IFERROR(WORKDAY(C1282,S1281,DiasNOLaborables),\"\")","v":"2021-06-09"},{"$f":"+IF(C1282=\"\",\"\",IF(J1282=\"\",\"SIN RESPUESTA\",(IF(J1282<=M1282,\"A TIEMPO\",\"FUERA DE TIEMPO\"))))","v":"A TIEMPO"},{"$f":"IF(J1282=\"\",\"\",NETWORKDAYS([5]Hoja1!C1280+1,[5]Hoja1!P1280,DiasNOLaborables))","v":4},"",null,null,20]
[1272,20219050057222,"2021-05-10","CIUDADANO","MODULO CONTACTENOS","SOLICITUD DE INFORMACIÓN Y DOCUMENTOS","ADMINISTRATIVA","SI","OFICINA ASESORA JURÍDICA","2021-05-21","CORREO ELECTRÓNICO",null,{"$f":"IFERROR(WORKDAY(C1283,S1282,DiasNOLaborables),\"\")","v":"2021-06-09"},{"$f":"+IF(C1283=\"\",\"\",IF(J1283=\"\",\"SIN RESPUESTA\",(IF(J1283<=M1283,\"A TIEMPO\",\"FUERA DE TIEMPO\"))))","v":"A TIEMPO"},{"$f":"IF(J1283=\"\",\"\",NETWORKDAYS(C1283+1,J1283,DiasNOLaborables))","v":8},"",null,null,20]
[1273,20219050056872,"2021-05-10","CIUDADANO","MODULO CONTACTENOS","SOLICITUD DE INFORMACIÓN Y DOCUMENTOS","SOLICITUD DE INFORMACIÓN HIDROMETEOROLÓGICA","NO","GRUPO DE SERVICIO AL CIUDADANO ","2021-06-08","CORREO ELECTRÓNICO",null,{"$f":"IFERROR(WORKDAY(C1284,S1283,DiasNOLaborables),\"\")","v":"2021-06-09"},{"$f":"+IF(C1284=\"\",\"\",IF(J1284=\"\",\"SIN RESPUESTA\",(IF(J1284<=M1284,\"A TIEMPO\",\"FUERA DE TIEMPO\"))))","v":"A TIEMPO"},{"$f":"IF(J1284=\"\",\"\",NETWORKDAYS(C1284+1,J1284,DiasNOLaborables))","v":19},"",null,null,20]
[1274,20219050056902,"2021-05-10","ENTIDAD PÚBLICA","MODULO CONTACTENOS","SOLICITUD DE INFORMACIÓN Y DOCUMENTOS","SOLICITUD DE INFORMACIÓN HIDROMETEOROLÓGICA","NO","GRUPO DE SERVICIO AL CIUDADANO ","2021-06-08","CORREO ELECTRÓNICO",null,{"$f":"IFERROR(WORKDAY(C1285,S1284,DiasNOLaborables),\"\")","v":"2021-06-09"},{"$f":"+IF(C1285=\"\",\"\",IF(J1285=\"\",\"SIN RESPUESTA\",(IF(J1285<=M1285,\"A TIEMPO\",\"FUERA DE TIEMPO\"))))","v":"A TIEMPO"},{"$f":"IF(J1285=\"\",\"\",NETWORKDAYS(C1285+1,J1285,DiasNOLaborables))","v":19},"",null,null,20]
[1275,20219050069912,"2021-05-10","CIUDADANO","MODULO CONTACTENOS","SOLICITUD DE INFORMACIÓN Y DOCUMENTOS","SOLICITUD DE INFORMACIÓN HIDROMETEOROLÓGICA","NO","GRUPO DE SERVICIO AL CIUDADANO ","2021-06-09","CORREO ELECTRÓNICO",null,{"$f":"IFERROR(WORKDAY(C1286,S1285,DiasNOLaborables),\"\")","v":"2021-06-09"},{"$f":"+IF(C1286=\"\",\"\",IF(J1286=\"\",\"SIN RESPUESTA\",(IF(J1286<=M1286,\"A TIEMPO\",\"FUERA DE TIEMPO\"))))","v":"A TIEMPO"},{"$f":"IF(J1286=\"\",\"\",NETWORKDAYS(C1286+1,J1286,DiasNOLaborables))","v":20},"",null,null,20]
[1276,20219050069922,"2021-05-10","CIUDADANO","MODULO CONTACTENOS","SOLICITUD DE INFORMACIÓN Y DOCUMENTOS","SOLICITUD DE INFORMACIÓN HIDROMETEOROLÓGICA","NO","GRUPO DE SERVICIO AL CIUDADANO ","2021-06-08","CORREO ELECTRÓNICO",null,{"$f":"IFERROR(WORKDAY(C1287,S1286,DiasNOLaborables),\"\")","v":"2021-06-09"},{"$f":"+IF(C1287=\"\",\"\",IF(J1287=\"\",\"SIN RESPUESTA\",(IF(J1287<=M1287,\"A TIEMPO\",\"FUERA DE TIEMPO\"))))","v":"A TIEMPO"},{"$f":"IF(J1287=\"\",\"\",NETWORKDAYS(C1287+1,J1287,DiasNOLaborables))","v":19},"",null,null,20]
[1277,20219050069932,"2021-05-10","CIUDADANO","MODULO CONTACTENOS","SOLICITUD DE INFORMACIÓN Y DOCUMENTOS","SOLICITUD DE INFORMACIÓN HIDROMETEOROLÓGICA","NO","GRUPO DE SERVICIO AL CIUDADANO ","2021-06-08","CORREO ELECTRÓNICO",null,{"$f":"IFERROR(WORKDAY(C1288,S1287,DiasNOLaborables),\"\")","v":"2021-06-09"},{"$f":"+IF(C1288=\"\",\"\",IF(J1288=\"\",\"SIN RESPUESTA\",(IF(J1288<=M1288,\"A TIEMPO\",\"FUERA DE TIEMPO\"))))","v":"A TIEMPO"},{"$f":"IF(J1288=\"\",\"\",NETWORKDAYS(C1288+1,J1288,DiasNOLaborables))","v":19},"",null,null,20]
[1278,20219050069942,"2021-05-10","CIUDADANO","MODULO CONTACTENOS","SOLICITUD DE INFORMACIÓN Y DOCUMENTOS","SOLICITUD DE INFORMACIÓN HIDROMETEOROLÓGICA","NO","GRUPO DE SERVICIO AL CIUDADANO ","2021-06-08","CORREO ELECTRÓNICO",null,{"$f":"IFERROR(WORKDAY(C1289,S1288,DiasNOLaborables),\"\")","v":"2021-06-09"},{"$f":"+IF(C1289=\"\",\"\",IF(J1289=\"\",\"SIN RESPUESTA\",(IF(J1289<=M1289,\"A TIEMPO\",\"FUERA DE TIEMPO\"))))","v":"A TIEMPO"},{"$f":"IF(J1289=\"\",\"\",NETWORKDAYS(C1289+1,J1289,DiasNOLaborables))","v":19},"",null,null,20]
[1279,20219050069952,"2021-05-10","CIUDADANO","MODULO CONTACTENOS","SOLICITUD DE INFORMACIÓN Y DOCUMENTOS","SOLICITUD DE INFORMACIÓN HIDROMETEOROLÓGICA","NO","GRUPO DE SERVICIO AL CIUDADANO ","2021-06-08","CORREO ELECTRÓNICO",null,{"$f":"IFERROR(WORKDAY(C1290,S1289,DiasNOLaborables),\"\")","v":"2021-06-09"},{"$f":"+IF(C1290=\"\",\"\",IF(J1290=\"\",\"SIN RESPUESTA\",(IF(J1290<=M1290,\"A TIEMPO\",\"FUERA DE TIEMPO\"))))","v":"A TIEMPO"},{"$f":"IF(J1290=\"\",\"\",NETWORKDAYS(C1290+1,J1290,DiasNOLaborables))","v":19},"",null,null,20]
[1280,20219050070002,"2021-05-10","ACADEMIA","MODULO CONTACTENOS","SOLICITUD DE INFORMACIÓN Y DOCUMENTOS","SOLICITUD DE INFORMACIÓN HIDROMETEOROLÓGICA","NO","GRUPO DE SERVICIO AL CIUDADANO ","2021-06-09","CORREO ELECTRÓNICO",null,{"$f":"IFERROR(WORKDAY(C1291,S1290,DiasNOLaborables),\"\")","v":"2021-06-09"},{"$f":"+IF(C1291=\"\",\"\",IF(J1291=\"\",\"SIN RESPUESTA\",(IF(J1291<=M1291,\"A TIEMPO\",\"FUERA DE TIEMPO\"))))","v":"A TIEMPO"},{"$f":"IF(J1291=\"\",\"\",NETWORKDAYS(C1291+1,J1291,DiasNOLaborables))","v":20},"",null,null,20]
[1281,20219050070172,"2021-05-10","ACADEMIA","MODULO CONTACTENOS","SOLICITUD DE INFORMACIÓN Y DOCUMENTOS","SOLICITUD DE INFORMACIÓN HIDROMETEOROLÓGICA","NO","GRUPO DE SERVICIO AL CIUDADANO ","2021-06-09","CORREO ELECTRÓNICO",null,{"$f":"IFERROR(WORKDAY(C1292,S1291,DiasNOLaborables),\"\")","v":"2021-06-09"},{"$f":"+IF(C1292=\"\",\"\",IF(J1292=\"\",\"SIN RESPUESTA\",(IF(J1292<=M1292,\"A TIEMPO\",\"FUERA DE TIEMPO\"))))","v":"A TIEMPO"},{"$f":"IF(J1292=\"\",\"\",NETWORKDAYS(C1292+1,J1292,DiasNOLaborables))","v":20},"",null,null,20]
[1282,20219050070192,"2021-05-10","CIUDADANO","MODULO CONTACTENOS","SOLICITUD DE INFORMACIÓN Y DOCUMENTOS","SOLICITUD DE INFORMACIÓN HIDROMETEOROLÓGICA","NO","GRUPO DE SERVICIO AL CIUDADANO ","2021-06-09","CORREO ELECTRÓNICO",null,{"$f":"IFERROR(WORKDAY(C1293,S1292,DiasNOLaborables),\"\")","v":"2021-06-09"},{"$f":"+IF(C1293=\"\",\"\",IF(J1293=\"\",\"SIN RESPUESTA\",(IF(J1293<=M1293,\"A TIEMPO\",\"FUERA DE TIEMPO\"))))","v":"A TIEMPO"},{"$f":"IF(J1293=\"\",\"\",NETWORKDAYS(C1293+1,J1293,DiasNOLaborables))","v":20},"",null,null,{"$f":"IFERROR(VLOOKUP(F1294,$AA$51:$AB$64,2),\"\")","v":20}]
[{"$f":"IF(B1294<>\"\",A1293+1,\"\")","v":1283},20219050070222,"2021-05-10","CIUDADANO","MODULO CONTACTENOS","SOLICITUD DE INFORMACIÓN Y DOCUMENTOS","SOLICITUD DE INFORMACIÓN HIDROMETEOROLÓGICA","NO","GRUPO DE SERVICIO AL CIUDADANO ","2021-06-09","CORREO ELECTRÓNICO",null,{"$f":"IFERROR(WORKDAY(C1294,S1293,DiasNOLaborables),\"\")","v":"2021-06-09"},{"$f":"+IF(C1294=\"\",\"\",IF(J1294=\"\",\"SIN RESPUESTA\",(IF(J1294<=M1294,\"A TIEMPO\",\"FUERA DE TIEMPO\"))))","v":"A TIEMPO"},{"$f":"IF(J1294=\"\",\"\",NETWORKDAYS(C1294+1,J1294,DiasNOLaborables))","v":20},"",null,null,20]
[1284,20219050070242,"2021-05-10","ACADEMIA","MODULO CONTACTENOS","SOLICITUD DE INFORMACIÓN Y DOCUMENTOS","SOLICITUD DE INFORMACIÓN HIDROMETEOROLÓGICA","NO","GRUPO DE SERVICIO AL CIUDADANO ","2021-06-09","CORREO ELECTRÓNICO",null,{"$f":"IFERROR(WORKDAY(C1295,S1294,DiasNOLaborables),\"\")","v":"2021-06-09"},{"$f":"+IF(C1295=\"\",\"\",IF(J1295=\"\",\"SIN RESPUESTA\",(IF(J1295<=M1295,\"A TIEMPO\",\"FUERA DE TIEMPO\"))))","v":"A TIEMPO"},{"$f":"IF(J1295=\"\",\"\",NETWORKDAYS(C1295+1,J1295,DiasNOLaborables))","v":20},"",null,null,20]
[1285,20219050070282,"2021-05-10","CIUDADANO","MODULO CONTACTENOS","SOLICITUD DE INFORMACIÓN Y DOCUMENTOS","SOLICITUD DE INFORMACIÓN HIDROMETEOROLÓGICA","NO","GRUPO DE SERVICIO AL CIUDADANO ","2021-06-09","CORREO ELECTRÓNICO","NASLY SUSANA PUERTA GUTIERREZ",{"$f":"IFERROR(WORKDAY(C1296,S1295,DiasNOLaborables),\"\")","v":"2021-06-09"},{"$f":"+IF(C1296=\"\",\"\",IF(J1296=\"\",\"SIN RESPUESTA\",(IF(J1296<=M1296,\"A TIEMPO\",\"FUERA DE TIEMPO\"))))","v":"A TIEMPO"},{"$f":"IF(J1296=\"\",\"\",NETWORKDAYS(C1296+1,J1296,DiasNOLaborables))","v":20},"",null,null,20]
[1286,20219050070342,"2021-05-10","CIUDADANO","MODULO CONTACTENOS","SOLICITUD DE INFORMACIÓN Y DOCUMENTOS","SOLICITUD DE INFORMACIÓN HIDROMETEOROLÓGICA","NO","GRUPO DE SERVICIO AL CIUDADANO ","2021-06-09","CORREO ELECTRÓNICO","NASLY SUSANA PUERTA GUTIERREZ",{"$f":"IFERROR(WORKDAY(C1297,S1296,DiasNOLaborables),\"\")","v":"2021-06-09"},{"$f":"+IF(C1297=\"\",\"\",IF(J1297=\"\",\"SIN RESPUESTA\",(IF(J1297<=M1297,\"A TIEMPO\",\"FUERA DE TIEMPO\"))))","v":"A TIEMPO"},{"$f":"IF(J1297=\"\",\"\",NETWORKDAYS(C1297+1,J1297,DiasNOLaborables))","v":20},"",null,null,20]
[1287,20219050070352,"2021-05-10","CIUDADANO","MODULO CONTACTENOS","SOLICITUD DE INFORMACIÓN Y DOCUMENTOS","SOLICITUD DE INFORMACIÓN HIDROMETEOROLÓGICA","NO","GRUPO DE SERVICIO AL CIUDADANO ","2021-06-09","CORREO ELECTRÓNICO","NASLY SUSANA PUERTA GUTIERREZ",{"$f":"IFERROR(WORKDAY(C1298,S1297,DiasNOLaborables),\"\")","v":"2021-06-09"},{"$f":"+IF(C1298=\"\",\"\",IF(J1298=\"\",\"SIN RESPUESTA\",(IF(J1298<=M1298,\"A TIEMPO\",\"FUERA DE TIEMPO\"))))","v":"A TIEMPO"},{"$f":"IF(J1298=\"\",\"\",NETWORKDAYS(C1298+1,J1298,DiasNOLaborables))","v":20},"",null,null,20]
[1288,20219050070362,"2021-05-10","CIUDADANO","MODULO CONTACTENOS","SOLICITUD DE INFORMACIÓN Y DOCUMENTOS","SOLICITUD DE INFORMACIÓN HIDROMETEOROLÓGICA","NO","GRUPO DE SERVICIO AL CIUDADANO ","2021-06-09","CORREO ELECTRÓNICO","NASLY SUSANA PUERTA GUTIERREZ",{"$f":"IFERROR(WORKDAY(C1299,S1298,DiasNOLaborables),\"\")","v":"2021-06-09"},{"$f":"+IF(C1299=\"\",\"\",IF(J1299=\"\",\"SIN RESPUESTA\",(IF(J1299<=M1299,\"A TIEMPO\",\"FUERA DE TIEMPO\"))))","v":"A TIEMPO"},{"$f":"IF(J1299=\"\",\"\",NETWORKDAYS(C1299+1,J1299,DiasNOLaborables))","v":20},"",null,null,20]
[1289,20219050069552,"2021-05-10","CIUDADANO","MODULO CONTACTENOS","SOLICITUD DE INFORMACIÓN Y DOCUMENTOS","SOLICITUD DE INFORMACIÓN HIDROMETEOROLÓGICA","NO","GRUPO DE SERVICIO AL CIUDADANO ","2021-06-09","CORREO ELECTRÓNICO","NASLY SUSANA PUERTA GUTIERREZ",{"$f":"IFERROR(WORKDAY(C1300,S1299,DiasNOLaborables),\"\")","v":"2021-06-09"},{"$f":"+IF(C1300=\"\",\"\",IF(J1300=\"\",\"SIN RESPUESTA\",(IF(J1300<=M1300,\"A TIEMPO\",\"FUERA DE TIEMPO\"))))","v":"A TIEMPO"},{"$f":"IF(J1300=\"\",\"\",NETWORKDAYS(C1300+1,J1300,DiasNOLaborables))","v":20},"",null,null,20]
[1290,20219050069862,"2021-05-10","CIUDADANO","MODULO CONTACTENOS","SOLICITUD DE INFORMACIÓN Y DOCUMENTOS","SOLICITUD DE INFORMACIÓN HIDROMETEOROLÓGICA","NO","GRUPO DE SERVICIO AL CIUDADANO ","2021-06-09","CORREO ELECTRÓNICO","NASLY SUSANA PUERTA GUTIERREZ",{"$f":"IFERROR(WORKDAY(C1301,S1300,DiasNOLaborables),\"\")","v":"2021-06-09"},{"$f":"+IF(C1301=\"\",\"\",IF(J1301=\"\",\"SIN RESPUESTA\",(IF(J1301<=M1301,\"A TIEMPO\",\"FUERA DE TIEMPO\"))))","v":"A TIEMPO"},{"$f":"IF(J1301=\"\",\"\",NETWORKDAYS(C1301+1,J1301,DiasNOLaborables))","v":20},"",null,null,20]
[1291,20219910032162,"2021-05-10","ACADEMIA","MODULO CONTACTENOS","SOLICITUD DE INFORMACIÓN Y DOCUMENTOS","SOLICITUD DE INFORMACIÓN HIDROMETEOROLÓGICA","NO","GRUPO DE SERVICIO AL CIUDADANO ","2021-06-09","CORREO ELECTRÓNICO","NASLY SUSANA PUERTA GUTIERREZ",{"$f":"IFERROR(WORKDAY(C1302,S1301,DiasNOLaborables),\"\")","v":"2021-06-09"},{"$f":"+IF(C1302=\"\",\"\",IF(J1302=\"\",\"SIN RESPUESTA\",(IF(J1302<=M1302,\"A TIEMPO\",\"FUERA DE TIEMPO\"))))","v":"A TIEMPO"},{"$f":"IF(J1302=\"\",\"\",NETWORKDAYS(C1302+1,J1302,DiasNOLaborables))","v":20},"",null,null,20]
[1292,20219050069982,"2021-05-11","CIUDADANO","MODULO CONTACTENOS","SOLICITUD DE INFORMACIÓN Y DOCUMENTOS","SOLICITUD DE INFORMACIÓN HIDROMETEOROLÓGICA","NO","GRUPO DE SERVICIO AL CIUDADANO ","2021-06-09","CORREO ELECTRÓNICO",null,{"$f":"IFERROR(WORKDAY(C1303,S1302,DiasNOLaborables),\"\")","v":"2021-06-10"},{"$f":"+IF(C1303=\"\",\"\",IF(J1303=\"\",\"SIN RESPUESTA\",(IF(J1303<=M1303,\"A TIEMPO\",\"FUERA DE TIEMPO\"))))","v":"A TIEMPO"},{"$f":"IF(J1303=\"\",\"\",NETWORKDAYS(C1303+1,J1303,DiasNOLaborables))","v":19},"",null,null,20]
[1293,20219050070122,"2021-05-11","CIUDADANO","MODULO CONTACTENOS","SOLICITUD DE INFORMACIÓN Y DOCUMENTOS","SOLICITUD DE INFORMACIÓN HIDROMETEOROLÓGICA","NO","GRUPO DE SERVICIO AL CIUDADANO ","2021-06-09","CORREO ELECTRÓNICO",null,{"$f":"IFERROR(WORKDAY(C1304,S1303,DiasNOLaborables),\"\")","v":"2021-06-10"},{"$f":"+IF(C1304=\"\",\"\",IF(J1304=\"\",\"SIN RESPUESTA\",(IF(J1304<=M1304,\"A TIEMPO\",\"FUERA DE TIEMPO\"))))","v":"A TIEMPO"},{"$f":"IF(J1304=\"\",\"\",NETWORKDAYS(C1304+1,J1304,DiasNOLaborables))","v":19},"",null,null,20]
[1294,20219050070212,"2021-05-11","CIUDADANO","MODULO CONTACTENOS","SOLICITUD DE INFORMACIÓN Y DOCUMENTOS","SOLICITUD DE INFORMACIÓN HIDROMETEOROLÓGICA","NO","GRUPO DE SERVICIO AL CIUDADANO ","2021-06-09","CORREO ELECTRÓNICO",null,{"$f":"IFERROR(WORKDAY(C1305,S1304,DiasNOLaborables),\"\")","v":"2021-06-10"},{"$f":"+IF(C1305=\"\",\"\",IF(J1305=\"\",\"SIN RESPUESTA\",(IF(J1305<=M1305,\"A TIEMPO\",\"FUERA DE TIEMPO\"))))","v":"A TIEMPO"},{"$f":"IF(J1305=\"\",\"\",NETWORKDAYS(C1305+1,J1305,DiasNOLaborables))","v":19},"",null,null,20]
[1295,20219050070532,"2021-05-11","ACADEMIA","MODULO CONTACTENOS","SOLICITUD DE INFORMACIÓN Y DOCUMENTOS","SOLICITUD DE INFORMACIÓN HIDROMETEOROLÓGICA","NO","GRUPO DE SERVICIO AL CIUDADANO ","2021-06-09","CORREO ELECTRÓNICO",null,{"$f":"IFERROR(WORKDAY(C1306,S1305,DiasNOLaborables),\"\")","v":"2021-06-10"},{"$f":"+IF(C1306=\"\",\"\",IF(J1306=\"\",\"SIN RESPUESTA\",(IF(J1306<=M1306,\"A TIEMPO\",\"FUERA DE TIEMPO\"))))","v":"A TIEMPO"},{"$f":"IF(J1306=\"\",\"\",NETWORKDAYS(C1306+1,J1306,DiasNOLaborables))","v":19},"",null,null,20]
[1296,20219050070712,"2021-05-11","CIUDADANO","MODULO CONTACTENOS","SOLICITUD DE INFORMACIÓN Y DOCUMENTOS","SOLICITUD DE INFORMACIÓN HIDROMETEOROLÓGICA","NO","GRUPO DE SERVICIO AL CIUDADANO ","2021-06-09","CORREO ELECTRÓNICO",null,{"$f":"IFERROR(WORKDAY(C1307,S1306,DiasNOLaborables),\"\")","v":"2021-06-10"},{"$f":"+IF(C1307=\"\",\"\",IF(J1307=\"\",\"SIN RESPUESTA\",(IF(J1307<=M1307,\"A TIEMPO\",\"FUERA DE TIEMPO\"))))","v":"A TIEMPO"},{"$f":"IF(J1307=\"\",\"\",NETWORKDAYS(C1307+1,J1307,DiasNOLaborables))","v":19},"",null,null,20]
[1297,20219050070732,"2021-05-11","ACADEMIA","MODULO CONTACTENOS","SOLICITUD DE INFORMACIÓN Y DOCUMENTOS","SOLICITUD DE INFORMACIÓN HIDROMETEOROLÓGICA","NO","GRUPO DE SERVICIO AL CIUDADANO ","2021-06-09","CORREO ELECTRÓNICO",null,{"$f":"IFERROR(WORKDAY(C1308,S1307,DiasNOLaborables),\"\")","v":"2021-06-10"},{"$f":"+IF(C1308=\"\",\"\",IF(J1308=\"\",\"SIN RESPUESTA\",(IF(J1308<=M1308,\"A TIEMPO\",\"FUERA DE TIEMPO\"))))","v":"A TIEMPO"},{"$f":"IF(J1308=\"\",\"\",NETWORKDAYS(C1308+1,J1308,DiasNOLaborables))","v":19},"",null,null,20]
[1298,20219050070742,"2021-05-11","CIUDADANO","MODULO CONTACTENOS","SOLICITUD DE INFORMACIÓN Y DOCUMENTOS","SOLICITUD DE INFORMACIÓN HIDROMETEOROLÓGICA","NO","GRUPO DE SERVICIO AL CIUDADANO ","2021-06-09","CORREO ELECTRÓNICO",null,{"$f":"IFERROR(WORKDAY(C1309,S1308,DiasNOLaborables),\"\")","v":"2021-06-10"},{"$f":"+IF(C1309=\"\",\"\",IF(J1309=\"\",\"SIN RESPUESTA\",(IF(J1309<=M1309,\"A TIEMPO\",\"FUERA DE TIEMPO\"))))","v":"A TIEMPO"},{"$f":"IF(J1309=\"\",\"\",NETWORKDAYS(C1309+1,J1309,DiasNOLaborables))","v":19},"",null,null,20]
[1299,20219050070752,"2021-05-11","CIUDADANO","MODULO CONTACTENOS","SOLICITUD DE INFORMACIÓN Y DOCUMENTOS","SOLICITUD DE INFORMACIÓN HIDROMETEOROLÓGICA","NO","GRUPO DE SERVICIO AL CIUDADANO ","2021-06-09","CORREO ELECTRÓNICO",null,{"$f":"IFERROR(WORKDAY(C1310,S1309,DiasNOLaborables),\"\")","v":"2021-06-10"},{"$f":"+IF(C1310=\"\",\"\",IF(J1310=\"\",\"SIN RESPUESTA\",(IF(J1310<=M1310,\"A TIEMPO\",\"FUERA DE TIEMPO\"))))","v":"A TIEMPO"},{"$f":"IF(J1310=\"\",\"\",NETWORKDAYS(C1310+1,J1310,DiasNOLaborables))","v":19},"",null,null,20]
[1300,20219050070782,"2021-05-11","CIUDADANO","MODULO CONTACTENOS","SOLICITUD DE INFORMACIÓN Y DOCUMENTOS","SOLICITUD DE INFORMACIÓN HIDROMETEOROLÓGICA","NO","GRUPO DE SERVICIO AL CIUDADANO ","2021-06-09","CORREO ELECTRÓNICO",null,{"$f":"IFERROR(WORKDAY(C1311,S1310,DiasNOLaborables),\"\")","v":"2021-06-10"},{"$f":"+IF(C1311=\"\",\"\",IF(J1311=\"\",\"SIN RESPUESTA\",(IF(J1311<=M1311,\"A TIEMPO\",\"FUERA DE TIEMPO\"))))","v":"A TIEMPO"},{"$f":"IF(J1311=\"\",\"\",NETWORKDAYS(C1311+1,J1311,DiasNOLaborables))","v":19},"",null,null,20]
[1301,20219050070802,"2021-05-11","CIUDADANO","MODULO CONTACTENOS","SOLICITUD DE INFORMACIÓN Y DOCUMENTOS","SOLICITUD DE INFORMACIÓN HIDROMETEOROLÓGICA","NO","GRUPO DE SERVICIO AL CIUDADANO ","2021-06-09","CORREO ELECTRÓNICO",null,{"$f":"IFERROR(WORKDAY(C1312,S1311,DiasNOLaborables),\"\")","v":"2021-06-10"},{"$f":"+IF(C1312=\"\",\"\",IF(J1312=\"\",\"SIN RESPUESTA\",(IF(J1312<=M1312,\"A TIEMPO\",\"FUERA DE TIEMPO\"))))","v":"A TIEMPO"},{"$f":"IF(J1312=\"\",\"\",NETWORKDAYS(C1312+1,J1312,DiasNOLaborables))","v":19},"",null,null,20]
[1302,20219050057652,"2021-05-11","CIUDADANO","MODULO CONTACTENOS","SOLICITUD DE INFORMACIÓN Y DOCUMENTOS","SOLICITUD DE INFORMACIÓN HIDROMETEOROLÓGICA","NO","GRUPO DE SERVICIO AL CIUDADANO ","2021-06-08","CORREO ELECTRÓNICO",null,{"$f":"IFERROR(WORKDAY(C1313,S1312,DiasNOLaborables),\"\")","v":"2021-06-10"},{"$f":"+IF(C1313=\"\",\"\",IF(J1313=\"\",\"SIN RESPUESTA\",(IF(J1313<=M1313,\"A TIEMPO\",\"FUERA DE TIEMPO\"))))","v":"A TIEMPO"},{"$f":"IF(J1313=\"\",\"\",NETWORKDAYS(C1313+1,J1313,DiasNOLaborables))","v":18},{"$f":"IF(NETWORKDAYS(M1313+1,J1313,DiasNOLaborables)<=0,\"\",NETWORKDAYS(M1313+1,J1313,DiasNOLaborables))","v":""},null,null,20]
[1303,20219050057672,"2021-05-11","CIUDADANO","MODULO CONTACTENOS","SOLICITUD DE INFORMACIÓN Y DOCUMENTOS","SOLICITUD DE INFORMACIÓN HIDROMETEOROLÓGICA","NO","GRUPO DE SERVICIO AL CIUDADANO ","2021-06-08","CORREO ELECTRÓNICO",null,{"$f":"IFERROR(WORKDAY(C1314,S1313,DiasNOLaborables),\"\")","v":"2021-06-10"},{"$f":"+IF(C1314=\"\",\"\",IF(J1314=\"\",\"SIN RESPUESTA\",(IF(J1314<=M1314,\"A TIEMPO\",\"FUERA DE TIEMPO\"))))","v":"A TIEMPO"},{"$f":"IF(J1314=\"\",\"\",NETWORKDAYS(C1314+1,J1314,DiasNOLaborables))","v":18},"",null,null,20]
[1304,20219050057702,"2021-05-11","CIUDADANO","MODULO CONTACTENOS","SOLICITUD DE INFORMACIÓN Y DOCUMENTOS","SOLICITUD DE INFORMACIÓN HIDROMETEOROLÓGICA","NO","GRUPO DE SERVICIO AL CIUDADANO ","2021-06-08","CORREO ELECTRÓNICO",null,{"$f":"IFERROR(WORKDAY(C1315,S1314,DiasNOLaborables),\"\")","v":"2021-06-10"},{"$f":"+IF(C1315=\"\",\"\",IF(J1315=\"\",\"SIN RESPUESTA\",(IF(J1315<=M1315,\"A TIEMPO\",\"FUERA DE TIEMPO\"))))","v":"A TIEMPO"},{"$f":"IF(J1315=\"\",\"\",NETWORKDAYS(C1315+1,J1315,DiasNOLaborables))","v":18},"",null,null,20]
[1305,20219050057712,"2021-05-11","CIUDADANO","MODULO CONTACTENOS","SOLICITUD DE INFORMACIÓN Y DOCUMENTOS","SOLICITUD DE INFORMACIÓN HIDROMETEOROLÓGICA","NO","GRUPO DE SERVICIO AL CIUDADANO ","2021-06-08","CORREO ELECTRÓNICO",null,{"$f":"IFERROR(WORKDAY(C1316,S1315,DiasNOLaborables),\"\")","v":"2021-06-10"},{"$f":"+IF(C1316=\"\",\"\",IF(J1316=\"\",\"SIN RESPUESTA\",(IF(J1316<=M1316,\"A TIEMPO\",\"FUERA DE TIEMPO\"))))","v":"A TIEMPO"},{"$f":"IF(J1316=\"\",\"\",NETWORKDAYS(C1316+1,J1316,DiasNOLaborables))","v":18},"",null,null,20]
[1306,20219050057732,"2021-05-11","ACADEMIA ","MODULO CONTACTENOS","SOLICITUD DE INFORMACIÓN Y DOCUMENTOS","SOLICITUD DE INFORMACIÓN HIDROMETEOROLÓGICA","NO","GRUPO DE SERVICIO AL CIUDADANO ","2021-06-08","CORREO ELECTRÓNICO",null,{"$f":"IFERROR(WORKDAY(C1317,S1316,DiasNOLaborables),\"\")","v":"2021-06-10"},{"$f":"+IF(C1317=\"\",\"\",IF(J1317=\"\",\"SIN RESPUESTA\",(IF(J1317<=M1317,\"A TIEMPO\",\"FUERA DE TIEMPO\"))))","v":"A TIEMPO"},{"$f":"IF(J1317=\"\",\"\",NETWORKDAYS(C1317+1,J1317,DiasNOLaborables))","v":18},"",null,null,20]
[1307,20219050057742,"2021-05-11","ACADEMIA ","MODULO CONTACTENOS","SOLICITUD DE INFORMACIÓN Y DOCUMENTOS","SOLICITUD DE INFORMACIÓN HIDROMETEOROLÓGICA","NO","GRUPO DE SERVICIO AL CIUDADANO ","2021-06-08","CORREO ELECTRÓNICO",null,{"$f":"IFERROR(WORKDAY(C1318,S1317,DiasNOLaborables),\"\")","v":"2021-06-10"},{"$f":"+IF(C1318=\"\",\"\",IF(J1318=\"\",\"SIN RESPUESTA\",(IF(J1318<=M1318,\"A TIEMPO\",\"FUERA DE TIEMPO\"))))","v":"A TIEMPO"},{"$f":"IF(J1318=\"\",\"\",NETWORKDAYS(C1318+1,J1318,DiasNOLaborables))","v":18},"",null,null,20]
[1308,20219050057762,"2021-05-11","ACADEMIA ","MODULO CONTACTENOS","SOLICITUD DE INFORMACIÓN Y DOCUMENTOS","SOLICITUD DE INFORMACIÓN HIDROMETEOROLÓGICA","NO","GRUPO DE SERVICIO AL CIUDADANO ","2021-06-09","CORREO ELECTRÓNICO",null,{"$f":"IFERROR(WORKDAY(C1319,S1318,DiasNOLaborables),\"\")","v":"2021-06-10"},{"$f":"+IF(C1319=\"\",\"\",IF(J1319=\"\",\"SIN RESPUESTA\",(IF(J1319<=M1319,\"A TIEMPO\",\"FUERA DE TIEMPO\"))))","v":"A TIEMPO"},{"$f":"IF(J1319=\"\",\"\",NETWORKDAYS(C1319+1,J1319,DiasNOLaborables))","v":19},"",null,null,20]
[1309,20219050057662,"2021-05-11","CIUDADANO","MODULO CONTACTENOS","SOLICITUD DE INFORMACIÓN Y DOCUMENTOS","SOLICITUD DE INFORMACIÓN HIDROMETEOROLÓGICA","NO","GRUPO DE SERVICIO AL CIUDADANO ","2021-06-09","CORREO ELECTRÓNICO",null,{"$f":"IFERROR(WORKDAY(C1320,S1319,DiasNOLaborables),\"\")","v":"2021-06-10"},{"$f":"+IF(C1320=\"\",\"\",IF(J1320=\"\",\"SIN RESPUESTA\",(IF(J1320<=M1320,\"A TIEMPO\",\"FUERA DE TIEMPO\"))))","v":"A TIEMPO"},{"$f":"IF(J1320=\"\",\"\",NETWORKDAYS(C1320+1,J1320,DiasNOLaborables))","v":19},"",null,null,20]
[1310,20219050057802,"2021-05-11","CIUDADANO","MODULO CONTACTENOS","SOLICITUD DE INFORMACIÓN Y DOCUMENTOS","SOLICITUD DE INFORMACIÓN HIDROMETEOROLÓGICA","NO","GRUPO DE SERVICIO AL CIUDADANO ","2021-06-09","CORREO ELECTRÓNICO",null,{"$f":"IFERROR(WORKDAY(C1321,S1320,DiasNOLaborables),\"\")","v":"2021-06-10"},{"$f":"+IF(C1321=\"\",\"\",IF(J1321=\"\",\"SIN RESPUESTA\",(IF(J1321<=M1321,\"A TIEMPO\",\"FUERA DE TIEMPO\"))))","v":"A TIEMPO"},{"$f":"IF(J1321=\"\",\"\",NETWORKDAYS(C1321+1,J1321,DiasNOLaborables))","v":19},"",null,null,20]
[1311,20219050057832,"2021-05-11","EMPRESA PRIVADA","MODULO CONTACTENOS","SOLICITUD DE INFORMACIÓN Y DOCUMENTOS","SOLICITUD DE INFORMACIÓN HIDROMETEOROLÓGICA","NO","GRUPO DE SERVICIO AL CIUDADANO ","2021-06-09","CORREO ELECTRÓNICO",null,{"$f":"IFERROR(WORKDAY(C1322,S1321,DiasNOLaborables),\"\")","v":"2021-06-10"},{"$f":"+IF(C1322=\"\",\"\",IF(J1322=\"\",\"SIN RESPUESTA\",(IF(J1322<=M1322,\"A TIEMPO\",\"FUERA DE TIEMPO\"))))","v":"A TIEMPO"},{"$f":"IF(J1322=\"\",\"\",NETWORKDAYS(C1322+1,J1322,DiasNOLaborables))","v":19},"",null,null,20]
[1312,20219050057842,"2021-05-11","EMPRESA PRIVADA","MODULO CONTACTENOS","SOLICITUD DE INFORMACIÓN Y DOCUMENTOS","SOLICITUD DE INFORMACIÓN HIDROMETEOROLÓGICA","NO","GRUPO DE SERVICIO AL CIUDADANO ","2021-06-09","CORREO ELECTRÓNICO",null,{"$f":"IFERROR(WORKDAY(C1323,S1322,DiasNOLaborables),\"\")","v":"2021-06-10"},{"$f":"+IF(C1323=\"\",\"\",IF(J1323=\"\",\"SIN RESPUESTA\",(IF(J1323<=M1323,\"A TIEMPO\",\"FUERA DE TIEMPO\"))))","v":"A TIEMPO"},{"$f":"IF(J1323=\"\",\"\",NETWORKDAYS(C1323+1,J1323,DiasNOLaborables))","v":19},"",null,null,20]
[1313,20219050057852,"2021-05-11","ACADEMIA ","MODULO CONTACTENOS","SOLICITUD DE INFORMACIÓN Y DOCUMENTOS","SOLICITUD DE INFORMACIÓN HIDROMETEOROLÓGICA","NO","GRUPO DE SERVICIO AL CIUDADANO ","2021-06-10","CORREO ELECTRÓNICO",null,{"$f":"IFERROR(WORKDAY(C1324,S1323,DiasNOLaborables),\"\")","v":"2021-06-10"},{"$f":"+IF(C1324=\"\",\"\",IF(J1324=\"\",\"SIN RESPUESTA\",(IF(J1324<=M1324,\"A TIEMPO\",\"FUERA DE TIEMPO\"))))","v":"A TIEMPO"},{"$f":"IF(J1324=\"\",\"\",NETWORKDAYS(C1324+1,J1324,DiasNOLaborables))","v":20},"",null,null,20]
[1314,20219050057872,"2021-05-11","ACADEMIA ","MODULO CONTACTENOS","SOLICITUD DE INFORMACIÓN Y DOCUMENTOS","SOLICITUD DE INFORMACIÓN HIDROMETEOROLÓGICA","NO","GRUPO DE SERVICIO AL CIUDADANO ","2021-06-10","CORREO ELECTRÓNICO",null,{"$f":"IFERROR(WORKDAY(C1325,S1324,DiasNOLaborables),\"\")","v":"2021-06-10"},{"$f":"+IF(C1325=\"\",\"\",IF(J1325=\"\",\"SIN RESPUESTA\",(IF(J1325<=M1325,\"A TIEMPO\",\"FUERA DE TIEMPO\"))))","v":"A TIEMPO"},{"$f":"IF(J1325=\"\",\"\",NETWORKDAYS(C1325+1,J1325,DiasNOLaborables))","v":20},"",null,null,20]
[1315,20219050057882,"2021-05-11","CIUDADANO","MODULO CONTACTENOS","SOLICITUD DE INFORMACIÓN Y DOCUMENTOS","SOLICITUD DE INFORMACIÓN HIDROMETEOROLÓGICA","NO","GRUPO DE SERVICIO AL CIUDADANO ","2021-06-10","CORREO ELECTRÓNICO",null,{"$f":"IFERROR(WORKDAY(C1326,S1325,DiasNOLaborables),\"\")","v":"2021-06-10"},{"$f":"+IF(C1326=\"\",\"\",IF(J1326=\"\",\"SIN RESPUESTA\",(IF(J1326<=M1326,\"A TIEMPO\",\"FUERA DE TIEMPO\"))))","v":"A TIEMPO"},{"$f":"IF(J1326=\"\",\"\",NETWORKDAYS(C1326+1,J1326,DiasNOLaborables))","v":20},"",null,null,20]
[1316,20219050057902,"2021-05-11","CIUDADANO","MODULO CONTACTENOS","SOLICITUD DE INFORMACIÓN Y DOCUMENTOS","SOLICITUD DE INFORMACIÓN HIDROMETEOROLÓGICA","NO","GRUPO DE SERVICIO AL CIUDADANO ","2021-06-10","CORREO ELECTRÓNICO",null,{"$f":"IFERROR(WORKDAY(C1327,S1326,DiasNOLaborables),\"\")","v":"2021-06-10"},{"$f":"+IF(C1327=\"\",\"\",IF(J1327=\"\",\"SIN RESPUESTA\",(IF(J1327<=M1327,\"A TIEMPO\",\"FUERA DE TIEMPO\"))))","v":"A TIEMPO"},{"$f":"IF(J1327=\"\",\"\",NETWORKDAYS(C1327+1,J1327,DiasNOLaborables))","v":20},"",null,null,20]
[1317,20219050057382,"2021-05-11","CIUDADANO","MODULO CONTACTENOS","SOLICITUD DE INFORMACIÓN Y DOCUMENTOS","WEB Y CORREO","SI","OFICINA DE INFORMÁTICA","2021-05-19","CORREO ELECTRÓNICO",null,{"$f":"IFERROR(WORKDAY(C1328,S1327,DiasNOLaborables),\"\")","v":"2021-06-10"},{"$f":"+IF(C1328=\"\",\"\",IF(J1328=\"\",\"SIN RESPUESTA\",(IF(J1328<=M1328,\"A TIEMPO\",\"FUERA DE TIEMPO\"))))","v":"A TIEMPO"},{"$f":"IF(J1328=\"\",\"\",NETWORKDAYS(C1328+1,J1328,DiasNOLaborables))","v":5},"",null,null,20]
[1318,20219050057452,"2021-05-11","CIUDADANO","MODULO CONTACTENOS","SOLICITUD DE INFORMACIÓN Y DOCUMENTOS","WEB Y CORREO","SI","OFICINA DE INFORMÁTICA","2021-05-19","CORREO ELECTRÓNICO",null,{"$f":"IFERROR(WORKDAY(C1329,S1328,DiasNOLaborables),\"\")","v":"2021-06-10"},{"$f":"+IF(C1329=\"\",\"\",IF(J1329=\"\",\"SIN RESPUESTA\",(IF(J1329<=M1329,\"A TIEMPO\",\"FUERA DE TIEMPO\"))))","v":"A TIEMPO"},{"$f":"IF(J1329=\"\",\"\",NETWORKDAYS(C1329+1,J1329,DiasNOLaborables))","v":5},"",null,null,20]
[1319,20219050057422,"2021-05-11","CIUDADANO","CORREO ELECTRÓNICO","SOLICITUD DE INFORMACIÓN Y DOCUMENTOS","CAMBIO CLIMÁTICO","SI","SUBDIRECCIÓN DE ESTUDIOS AMBIENTALES","2021-05-18","CORREO ELECTRÓNICO",null,{"$f":"IFERROR(WORKDAY(C1330,S1329,DiasNOLaborables),\"\")","v":"2021-06-10"},{"$f":"+IF(C1330=\"\",\"\",IF(J1330=\"\",\"SIN RESPUESTA\",(IF(J1330<=M1330,\"A TIEMPO\",\"FUERA DE TIEMPO\"))))","v":"A TIEMPO"},{"$f":"IF(J1330=\"\",\"\",NETWORKDAYS(C1330+1,J1330,DiasNOLaborables))","v":4},"",null,null,20]
[1320,20219050057432,"2021-05-11","CIUDADANO","CORREO ELECTRÓNICO","SOLICITUD DE INFORMACIÓN Y DOCUMENTOS","INFORMES AMBIENTALES","SI","SUBDIRECCIÓN DE ESTUDIOS AMBIENTALES","2021-05-21","CORREO ELECTRÓNICO",null,{"$f":"IFERROR(WORKDAY(C1331,S1330,DiasNOLaborables),\"\")","v":"2021-06-10"},{"$f":"+IF(C1331=\"\",\"\",IF(J1331=\"\",\"SIN RESPUESTA\",(IF(J1331<=M1331,\"A TIEMPO\",\"FUERA DE TIEMPO\"))))","v":"A TIEMPO"},{"$f":"IF(J1331=\"\",\"\",NETWORKDAYS(C1331+1,J1331,DiasNOLaborables))","v":7},"",null,null,20]
[1321,20219050057502,"2021-05-11","CIUDADANO","CORREO ELECTRÓNICO","SOLICITUD DE INFORMACIÓN Y DOCUMENTOS","ACREDITACIÓN DE LABORATORIOS","SI","SUBDIRECCIÓN DE ESTUDIOS AMBIENTALES","2021-05-21","CORREO ELECTRÓNICO",null,{"$f":"IFERROR(WORKDAY(C1332,S1331,DiasNOLaborables),\"\")","v":"2021-06-10"},{"$f":"+IF(C1332=\"\",\"\",IF(J1332=\"\",\"SIN RESPUESTA\",(IF(J1332<=M1332,\"A TIEMPO\",\"FUERA DE TIEMPO\"))))","v":"A TIEMPO"},{"$f":"IF(J1332=\"\",\"\",NETWORKDAYS(C1332+1,J1332,DiasNOLaborables))","v":7},"",null,null,20]
[1322,20219050057522,"2021-05-11","CIUDADANO","CORREO ELECTRÓNICO","SOLICITUD DE INFORMACIÓN Y DOCUMENTOS","REGISTROS AMBIENTALES","SI","SUBDIRECCIÓN DE ESTUDIOS AMBIENTALES","2021-05-13","CORREO ELECTRÓNICO",null,{"$f":"IFERROR(WORKDAY(C1333,S1332,DiasNOLaborables),\"\")","v":"2021-06-10"},{"$f":"+IF(C1333=\"\",\"\",IF(J1333=\"\",\"SIN RESPUESTA\",(IF(J1333<=M1333,\"A TIEMPO\",\"FUERA DE TIEMPO\"))))","v":"A TIEMPO"},{"$f":"IF(J1333=\"\",\"\",NETWORKDAYS(C1333+1,J1333,DiasNOLaborables))","v":2},"",null,null,20]
[1323,20219050057532,"2021-05-11","CIUDADANO","CORREO ELECTRÓNICO","SOLICITUD DE INFORMACIÓN Y DOCUMENTOS","REGISTROS AMBIENTALES","SI","SUBDIRECCIÓN DE ESTUDIOS AMBIENTALES","2021-05-12","CORREO ELECTRÓNICO",null,{"$f":"IFERROR(WORKDAY(C1334,S1333,DiasNOLaborables),\"\")","v":"2021-06-10"},{"$f":"+IF(C1334=\"\",\"\",IF(J1334=\"\",\"SIN RESPUESTA\",(IF(J1334<=M1334,\"A TIEMPO\",\"FUERA DE TIEMPO\"))))","v":"A TIEMPO"},{"$f":"IF(J1334=\"\",\"\",NETWORKDAYS(C1334+1,J1334,DiasNOLaborables))","v":1},"",null,null,20]
[1324,20219050057542,"2021-05-11","CIUDADANO","CORREO ELECTRÓNICO","SOLICITUD DE INFORMACIÓN Y DOCUMENTOS","REGISTROS AMBIENTALES","SI","SUBDIRECCIÓN DE ESTUDIOS AMBIENTALES","2021-05-21","CORREO ELECTRÓNICO",null,{"$f":"IFERROR(WORKDAY(C1335,S1334,DiasNOLaborables),\"\")","v":"2021-06-10"},{"$f":"+IF(C1335=\"\",\"\",IF(J1335=\"\",\"SIN RESPUESTA\",(IF(J1335<=M1335,\"A TIEMPO\",\"FUERA DE TIEMPO\"))))","v":"A TIEMPO"},{"$f":"IF(J1335=\"\",\"\",NETWORKDAYS(C1335+1,J1335,DiasNOLaborables))","v":7},"",null,null,20]
[1325,20219050057562,"2021-05-11","CIUDADANO","CORREO ELECTRÓNICO","SOLICITUD DE INFORMACIÓN Y DOCUMENTOS","REGISTROS AMBIENTALES","SI","SUBDIRECCIÓN DE ESTUDIOS AMBIENTALES","2021-05-11","CORREO ELECTRÓNICO",null,{"$f":"IFERROR(WORKDAY(C1336,S1335,DiasNOLaborables),\"\")","v":"2021-06-10"},{"$f":"+IF(C1336=\"\",\"\",IF(J1336=\"\",\"SIN RESPUESTA\",(IF(J1336<=M1336,\"A TIEMPO\",\"FUERA DE TIEMPO\"))))","v":"A TIEMPO"},{"$f":"IF(J1336=\"\",\"\",NETWORKDAYS(C1336+1,J1336,DiasNOLaborables))","v":-2},"",null,null,35]
[1326,20219050057572,"2021-05-11","CIUDADANO","CORREO ELECTRÓNICO","CERTIFICACIONES DE TIEMPO, CLIMA Y EVENTOS HIDROLÓGICOS","CERTIFICACIONES DE TIEMPO Y CLIMA","SI","SUBDIRECCIÓN DE METEOROLOGÍA","2021-05-21","CORREO ELECTRÓNICO",null,{"$f":"IFERROR(WORKDAY(C1337,S1336,DiasNOLaborables),\"\")","v":"2021-07-02"},{"$f":"+IF(C1337=\"\",\"\",IF(J1337=\"\",\"SIN RESPUESTA\",(IF(J1337<=M1337,\"A TIEMPO\",\"FUERA DE TIEMPO\"))))","v":"A TIEMPO"},{"$f":"IF(J1337=\"\",\"\",NETWORKDAYS(C1337+1,J1337,DiasNOLaborables))","v":7},"",null,null,35]
[1327,20219050057582,"2021-05-11","CIUDADANO","CORREO ELECTRÓNICO","CERTIFICACIONES DE TIEMPO, CLIMA Y EVENTOS HIDROLÓGICOS","CERTIFICACIONES DE TIEMPO Y CLIMA","SI","SUBDIRECCIÓN DE METEOROLOGÍA","2021-05-21","CORREO ELECTRÓNICO",null,{"$f":"IFERROR(WORKDAY(C1338,S1337,DiasNOLaborables),\"\")","v":"2021-07-02"},{"$f":"+IF(C1338=\"\",\"\",IF(J1338=\"\",\"SIN RESPUESTA\",(IF(J1338<=M1338,\"A TIEMPO\",\"FUERA DE TIEMPO\"))))","v":"A TIEMPO"},{"$f":"IF(J1338=\"\",\"\",NETWORKDAYS(C1338+1,J1338,DiasNOLaborables))","v":7},"",null,null,35]
[1328,20219050057602,"2021-05-11","CIUDADANO","CORREO ELECTRÓNICO","CERTIFICACIONES DE TIEMPO, CLIMA Y EVENTOS HIDROLÓGICOS","CERTIFICACIONES DE TIEMPO Y CLIMA","SI","SUBDIRECCIÓN DE METEOROLOGÍA","2021-06-01","CORREO ELECTRÓNICO",null,{"$f":"IFERROR(WORKDAY(C1339,S1338,DiasNOLaborables),\"\")","v":"2021-07-02"},{"$f":"+IF(C1339=\"\",\"\",IF(J1339=\"\",\"SIN RESPUESTA\",(IF(J1339<=M1339,\"A TIEMPO\",\"FUERA DE TIEMPO\"))))","v":"A TIEMPO"},{"$f":"IF(J1339=\"\",\"\",NETWORKDAYS(C1339+1,J1339,DiasNOLaborables))","v":14},"",null,null,20]
[1329,20219050057612,"2021-05-11","CIUDADANO","CORREO ELECTRÓNICO","SOLICITUD DE INFORMACIÓN Y DOCUMENTOS","REGISTROS AMBIENTALES","SI","SUBDIRECCIÓN DE ESTUDIOS AMBIENTALES","2021-05-21","CORREO ELECTRÓNICO",null,{"$f":"IFERROR(WORKDAY(C1340,S1339,DiasNOLaborables),\"\")","v":"2021-06-10"},{"$f":"+IF(C1340=\"\",\"\",IF(J1340=\"\",\"SIN RESPUESTA\",(IF(J1340<=M1340,\"A TIEMPO\",\"FUERA DE TIEMPO\"))))","v":"A TIEMPO"},{"$f":"IF(J1340=\"\",\"\",NETWORKDAYS(C1340+1,J1340,DiasNOLaborables))","v":7},"",null,null,30]
[1330,20219050057692,"2021-05-11","CIUDADANO","CORREO ELECTRÓNICO","PETICIÓN","SIRH","SI","SUBDIRECCIÓN DE HIDROLOGÍA","2021-05-11","CORREO ELECTRÓNICO",null,{"$f":"IFERROR(WORKDAY(C1341,S1340,DiasNOLaborables),\"\")","v":"2021-06-25"},{"$f":"+IF(C1341=\"\",\"\",IF(J1341=\"\",\"SIN RESPUESTA\",(IF(J1341<=M1341,\"A TIEMPO\",\"FUERA DE TIEMPO\"))))","v":"A TIEMPO"},{"$f":"IF(J1341=\"\",\"\",NETWORKDAYS(C1341+1,J1341,DiasNOLaborables))","v":-2},"",null,null,20]
[1331,20219050057482,"2021-05-11","CIUDADANO","MODULO CONTACTENOS","SOLICITUD DE INFORMACIÓN Y DOCUMENTOS","ADMINISTRATIVA","SI","OFICINA ASESORA JURÍDICA","2021-05-21","CORREO ELECTRÓNICO",null,{"$f":"IFERROR(WORKDAY(C1342,S1341,DiasNOLaborables),\"\")","v":"2021-06-10"},{"$f":"+IF(C1342=\"\",\"\",IF(J1342=\"\",\"SIN RESPUESTA\",(IF(J1342<=M1342,\"A TIEMPO\",\"FUERA DE TIEMPO\"))))","v":"A TIEMPO"},{"$f":"IF(J1342=\"\",\"\",NETWORKDAYS(C1342+1,J1342,DiasNOLaborables))","v":7},"",null,null,20]
[1332,20219050057622,"2021-05-11","CIUDADANO","MODULO CONTACTENOS","SOLICITUD DE INFORMACIÓN Y DOCUMENTOS","ADMINISTRATIVA","SI","GRUPO DE TESORERÍA","2021-05-13","CORREO ELECTRÓNICO",null,{"$f":"IFERROR(WORKDAY(C1343,S1342,DiasNOLaborables),\"\")","v":"2021-06-10"},{"$f":"+IF(C1343=\"\",\"\",IF(J1343=\"\",\"SIN RESPUESTA\",(IF(J1343<=M1343,\"A TIEMPO\",\"FUERA DE TIEMPO\"))))","v":"A TIEMPO"},{"$f":"IF(J1343=\"\",\"\",NETWORKDAYS(C1343+1,J1343,DiasNOLaborables))","v":2},"",null,null,20]
[1333,20219050057682,"2021-05-11","FUNCIONARIO IDEAM","MODULO CONTACTENOS","SOLICITUD DE INFORMACIÓN Y DOCUMENTOS","ADMINISTRATIVA","SI","GRUPO DE ADMINISTRACIÓN Y DESARROLLO DEL TALENTO HUMANO","2021-05-14","CORREO ELECTRÓNICO",null,{"$f":"IFERROR(WORKDAY(C1344,S1343,DiasNOLaborables),\"\")","v":"2021-06-10"},{"$f":"+IF(C1344=\"\",\"\",IF(J1344=\"\",\"SIN RESPUESTA\",(IF(J1344<=M1344,\"A TIEMPO\",\"FUERA DE TIEMPO\"))))","v":"A TIEMPO"},{"$f":"IF(J1344=\"\",\"\",NETWORKDAYS(C1344+1,J1344,DiasNOLaborables))","v":3},"",null,null,20]
[1334,20219050057812,"2021-05-11","CIUDADANO","MODULO CONTACTENOS","SOLICITUD DE INFORMACIÓN Y DOCUMENTOS","ADMINISTRATIVA","SI","OFICINA ASESORA JURÍDICA","2021-05-14","CORREO ELECTRÓNICO",null,{"$f":"IFERROR(WORKDAY(C1345,S1344,DiasNOLaborables),\"\")","v":"2021-06-10"},{"$f":"+IF(C1345=\"\",\"\",IF(J1345=\"\",\"SIN RESPUESTA\",(IF(J1345<=M1345,\"A TIEMPO\",\"FUERA DE TIEMPO\"))))","v":"A TIEMPO"},{"$f":"IF(J1345=\"\",\"\",NETWORKDAYS(C1345+1,J1345,DiasNOLaborables))","v":3},"",null,null,20]
[1335,20219050057822,"2021-05-11","CIUDADANO","MODULO CONTACTENOS","SOLICITUD DE INFORMACIÓN Y DOCUMENTOS","ADMINISTRATIVA","SI","OFICINA ASESORA JURÍDICA","2021-05-14","CORREO ELECTRÓNICO","NASLY SUSANA PUERTA GUTIERREZ",{"$f":"IFERROR(WORKDAY(C1346,S1345,DiasNOLaborables),\"\")","v":"2021-06-10"},{"$f":"+IF(C1346=\"\",\"\",IF(J1346=\"\",\"SIN RESPUESTA\",(IF(J1346<=M1346,\"A TIEMPO\",\"FUERA DE TIEMPO\"))))","v":"A TIEMPO"},{"$f":"IF(J1346=\"\",\"\",NETWORKDAYS(C1346+1,J1346,DiasNOLaborables))","v":3},"",null,null,20]
[1336,20219050057892,"2021-05-11","CIUDADANO","MODULO CONTACTENOS","SOLICITUD DE INFORMACIÓN Y DOCUMENTOS","CLIMATOLOGÍA","SI","SUBDIRECCIÓN DE METEOROLOGÍA","2021-06-09","CORREO ELECTRÓNICO","NASLY SUSANA PUERTA GUTIERREZ",{"$f":"IFERROR(WORKDAY(C1347,S1346,DiasNOLaborables),\"\")","v":"2021-06-10"},{"$f":"+IF(C1347=\"\",\"\",IF(J1347=\"\",\"SIN RESPUESTA\",(IF(J1347<=M1347,\"A TIEMPO\",\"FUERA DE TIEMPO\"))))","v":"A TIEMPO"},{"$f":"IF(J1347=\"\",\"\",NETWORKDAYS(C1347+1,J1347,DiasNOLaborables))","v":19},"",null,null,20]
[1337,20219050057942,"2021-05-12","CIUDADANO","MODULO CONTACTENOS","SOLICITUD DE INFORMACIÓN Y DOCUMENTOS","BOSQUES","SI","SUBDIRECCIÓN DE ECOSISTEMAS E INFORMACIÓN AMBIENTAL","2021-05-26","CORREO ELECTRÓNICO","NASLY SUSANA PUERTA GUTIERREZ",{"$f":"IFERROR(WORKDAY(C1348,S1347,DiasNOLaborables),\"\")","v":"2021-06-11"},{"$f":"+IF(C1348=\"\",\"\",IF(J1348=\"\",\"SIN RESPUESTA\",(IF(J1348<=M1348,\"A TIEMPO\",\"FUERA DE TIEMPO\"))))","v":"A TIEMPO"},{"$f":"IF(J1348=\"\",\"\",NETWORKDAYS(C1348+1,J1348,DiasNOLaborables))","v":9},"",null,null,20]
[1338,20219050057932,"2021-05-12","CIUDADANO","MODULO CONTACTENOS","SOLICITUD DE INFORMACIÓN Y DOCUMENTOS","SOLICITUD DE INFORMACIÓN HIDROMETEOROLÓGICA","NO","GRUPO DE SERVICIO AL CIUDADANO ","2021-06-10","CORREO ELECTRÓNICO","NASLY SUSANA PUERTA GUTIERREZ",{"$f":"IFERROR(WORKDAY(C1349,S1348,DiasNOLaborables),\"\")","v":"2021-06-11"},{"$f":"+IF(C1349=\"\",\"\",IF(J1349=\"\",\"SIN RESPUESTA\",(IF(J1349<=M1349,\"A TIEMPO\",\"FUERA DE TIEMPO\"))))","v":"A TIEMPO"},{"$f":"IF(J1349=\"\",\"\",NETWORKDAYS(C1349+1,J1349,DiasNOLaborables))","v":19},"",null,null,20]
[1339,20219050057952,"2021-05-12","ACADEMIA ","MODULO CONTACTENOS","SOLICITUD DE INFORMACIÓN Y DOCUMENTOS","SOLICITUD DE INFORMACIÓN HIDROMETEOROLÓGICA","NO","GRUPO DE SERVICIO AL CIUDADANO ","2021-06-10","CORREO ELECTRÓNICO","NASLY SUSANA PUERTA GUTIERREZ",{"$f":"IFERROR(WORKDAY(C1350,S1349,DiasNOLaborables),\"\")","v":"2021-06-11"},{"$f":"+IF(C1350=\"\",\"\",IF(J1350=\"\",\"SIN RESPUESTA\",(IF(J1350<=M1350,\"A TIEMPO\",\"FUERA DE TIEMPO\"))))","v":"A TIEMPO"},{"$f":"IF(J1350=\"\",\"\",NETWORKDAYS(C1350+1,J1350,DiasNOLaborables))","v":19},"",null,null,20]
[1340,20219050057962,"2021-05-12","ACADEMIA ","MODULO CONTACTENOS","SOLICITUD DE INFORMACIÓN Y DOCUMENTOS","SOLICITUD DE INFORMACIÓN HIDROMETEOROLÓGICA","NO","GRUPO DE SERVICIO AL CIUDADANO ","2021-06-10","CORREO ELECTRÓNICO","NASLY SUSANA PUERTA GUTIERREZ",{"$f":"IFERROR(WORKDAY(C1351,S1350,DiasNOLaborables),\"\")","v":"2021-06-11"},{"$f":"+IF(C1351=\"\",\"\",IF(J1351=\"\",\"SIN RESPUESTA\",(IF(J1351<=M1351,\"A TIEMPO\",\"FUERA DE TIEMPO\"))))","v":"A TIEMPO"},{"$f":"IF(J1351=\"\",\"\",NETWORKDAYS(C1351+1,J1351,DiasNOLaborables))","v":19},"",null,null,20]
[1341,20219050057972,"2021-05-12","CIUDADANO","MODULO CONTACTENOS","SOLICITUD DE INFORMACIÓN Y DOCUMENTOS","SOLICITUD DE INFORMACIÓN HIDROMETEOROLÓGICA","NO","GRUPO DE SERVICIO AL CIUDADANO ","2021-06-10","CORREO ELECTRÓNICO","NASLY SUSANA PUERTA GUTIERREZ",{"$f":"IFERROR(WORKDAY(C1352,S1351,DiasNOLaborables),\"\")","v":"2021-06-11"},{"$f":"+IF(C1352=\"\",\"\",IF(J1352=\"\",\"SIN RESPUESTA\",(IF(J1352<=M1352,\"A TIEMPO\",\"FUERA DE TIEMPO\"))))","v":"A TIEMPO"},{"$f":"IF(J1352=\"\",\"\",NETWORKDAYS(C1352+1,J1352,DiasNOLaborables))","v":19},"",null,null,20]
[1342,20219050057982,"2021-05-12","CIUDADANO","MODULO CONTACTENOS","SOLICITUD DE INFORMACIÓN Y DOCUMENTOS","SOLICITUD DE INFORMACIÓN HIDROMETEOROLÓGICA","NO","GRUPO DE SERVICIO AL CIUDADANO ","2021-06-10","CORREO ELECTRÓNICO","NASLY SUSANA PUERTA GUTIERREZ",{"$f":"IFERROR(WORKDAY(C1353,S1352,DiasNOLaborables),\"\")","v":"2021-06-11"},{"$f":"+IF(C1353=\"\",\"\",IF(J1353=\"\",\"SIN RESPUESTA\",(IF(J1353<=M1353,\"A TIEMPO\",\"FUERA DE TIEMPO\"))))","v":"A TIEMPO"},{"$f":"IF(J1353=\"\",\"\",NETWORKDAYS(C1353+1,J1353,DiasNOLaborables))","v":19},"",null,null,20]
[1343,20219050057992,"2021-05-12","CIUDADANO","MODULO CONTACTENOS","SOLICITUD DE INFORMACIÓN Y DOCUMENTOS","SOLICITUD DE INFORMACIÓN HIDROMETEOROLÓGICA","NO","GRUPO DE SERVICIO AL CIUDADANO ","2021-06-10","CORREO ELECTRÓNICO","NASLY SUSANA PUERTA GUTIERREZ",{"$f":"IFERROR(WORKDAY(C1354,S1353,DiasNOLaborables),\"\")","v":"2021-06-11"},{"$f":"+IF(C1354=\"\",\"\",IF(J1354=\"\",\"SIN RESPUESTA\",(IF(J1354<=M1354,\"A TIEMPO\",\"FUERA DE TIEMPO\"))))","v":"A TIEMPO"},{"$f":"IF(J1354=\"\",\"\",NETWORKDAYS(C1354+1,J1354,DiasNOLaborables))","v":19},"",null,null,20]
[1344,20219050058002,"2021-05-12","CIUDADANO","MODULO CONTACTENOS","SOLICITUD DE INFORMACIÓN Y DOCUMENTOS","SOLICITUD DE INFORMACIÓN HIDROMETEOROLÓGICA","NO","GRUPO DE SERVICIO AL CIUDADANO ","2021-06-10","CORREO ELECTRÓNICO",null,{"$f":"IFERROR(WORKDAY(C1355,S1354,DiasNOLaborables),\"\")","v":"2021-06-11"},{"$f":"+IF(C1355=\"\",\"\",IF(J1355=\"\",\"SIN RESPUESTA\",(IF(J1355<=M1355,\"A TIEMPO\",\"FUERA DE TIEMPO\"))))","v":"A TIEMPO"},{"$f":"IF(J1355=\"\",\"\",NETWORKDAYS(C1355+1,J1355,DiasNOLaborables))","v":19},"",null,null,20]
[1345,20219050058012,"2021-05-12","CIUDADANO","MODULO CONTACTENOS","SOLICITUD DE INFORMACIÓN Y DOCUMENTOS","SOLICITUD DE INFORMACIÓN HIDROMETEOROLÓGICA","NO","GRUPO DE SERVICIO AL CIUDADANO ","2021-06-10","CORREO ELECTRÓNICO",null,{"$f":"IFERROR(WORKDAY(C1356,S1355,DiasNOLaborables),\"\")","v":"2021-06-11"},{"$f":"+IF(C1356=\"\",\"\",IF(J1356=\"\",\"SIN RESPUESTA\",(IF(J1356<=M1356,\"A TIEMPO\",\"FUERA DE TIEMPO\"))))","v":"A TIEMPO"},{"$f":"IF(J1356=\"\",\"\",NETWORKDAYS(C1356+1,J1356,DiasNOLaborables))","v":19},"",null,null,20]
[1346,20219050058042,"2021-05-12","CIUDADANO","MODULO CONTACTENOS","SOLICITUD DE INFORMACIÓN Y DOCUMENTOS","SOLICITUD DE INFORMACIÓN HIDROMETEOROLÓGICA","NO","GRUPO DE SERVICIO AL CIUDADANO ","2021-06-11","CORREO ELECTRÓNICO",null,{"$f":"IFERROR(WORKDAY(C1357,S1356,DiasNOLaborables),\"\")","v":"2021-06-11"},{"$f":"+IF(C1357=\"\",\"\",IF(J1357=\"\",\"SIN RESPUESTA\",(IF(J1357<=M1357,\"A TIEMPO\",\"FUERA DE TIEMPO\"))))","v":"A TIEMPO"},{"$f":"IF(J1357=\"\",\"\",NETWORKDAYS(C1357+1,J1357,DiasNOLaborables))","v":20},"",null,null,{"$f":"IFERROR(VLOOKUP(F1358,$AA$51:$AB$64,2),\"\")","v":20}]
[{"$f":"IF(B1358<>\"\",A1357+1,\"\")","v":1347},20219050058062,"2021-05-12","ACADEMIA ","MODULO CONTACTENOS","SOLICITUD DE INFORMACIÓN Y DOCUMENTOS","SOLICITUD DE INFORMACIÓN HIDROMETEOROLÓGICA","NO","GRUPO DE SERVICIO AL CIUDADANO ","2021-06-11","CORREO ELECTRÓNICO",null,{"$f":"IFERROR(WORKDAY(C1358,S1357,DiasNOLaborables),\"\")","v":"2021-06-11"},{"$f":"+IF(C1358=\"\",\"\",IF(J1358=\"\",\"SIN RESPUESTA\",(IF(J1358<=M1358,\"A TIEMPO\",\"FUERA DE TIEMPO\"))))","v":"A TIEMPO"},{"$f":"IF(J1358=\"\",\"\",NETWORKDAYS(C1358+1,J1358,DiasNOLaborables))","v":20},"",null,null,20]
[1348,20219050058092,"2021-05-12","CIUDADANO","MODULO CONTACTENOS","SOLICITUD DE INFORMACIÓN Y DOCUMENTOS","CAMBIO CLIMÁTICO","SI","SUBDIRECCIÓN DE ESTUDIOS AMBIENTALES","2021-05-19","CORREO ELECTRÓNICO",null,{"$f":"IFERROR(WORKDAY(C1359,S1358,DiasNOLaborables),\"\")","v":"2021-06-11"},{"$f":"+IF(C1359=\"\",\"\",IF(J1359=\"\",\"SIN RESPUESTA\",(IF(J1359<=M1359,\"A TIEMPO\",\"FUERA DE TIEMPO\"))))","v":"A TIEMPO"},{"$f":"IF(J1359=\"\",\"\",NETWORKDAYS(C1359+1,J1359,DiasNOLaborables))","v":4},"",null,null,20]
[1349,20219050058102,"2021-05-12","CIUDADANO","MODULO CONTACTENOS","SOLICITUD DE INFORMACIÓN Y DOCUMENTOS","ADMINISTRATIVA","SI","GRUPO DE GESTIÓN DOCUMENTAL Y CENTRO DE DOCUMENTACIÓN","2021-05-18","CORREO ELECTRÓNICO",null,{"$f":"IFERROR(WORKDAY(C1360,S1359,DiasNOLaborables),\"\")","v":"2021-06-11"},{"$f":"+IF(C1360=\"\",\"\",IF(J1360=\"\",\"SIN RESPUESTA\",(IF(J1360<=M1360,\"A TIEMPO\",\"FUERA DE TIEMPO\"))))","v":"A TIEMPO"},{"$f":"IF(J1360=\"\",\"\",NETWORKDAYS(C1360+1,J1360,DiasNOLaborables))","v":3},"",null,null,30]
[1350,20219050059032,"2021-05-13","EMPRESA PRIVADA","CORREO ELECTRÓNICO","PETICIÓN","ADMINISTRATIVA","SI","SUBDIRECCIÓN DE ESTUDIOS AMBIENTALES","2021-05-04","CORREO ELECTRÓNICO",null,{"$f":"IFERROR(WORKDAY(C1361,S1360,DiasNOLaborables),\"\")","v":"2021-06-29"},{"$f":"+IF(C1361=\"\",\"\",IF(J1361=\"\",\"SIN RESPUESTA\",(IF(J1361<=M1361,\"A TIEMPO\",\"FUERA DE TIEMPO\"))))","v":"A TIEMPO"},{"$f":"IF(J1361=\"\",\"\",NETWORKDAYS(C1361+1,J1361,DiasNOLaborables))","v":-9},"",null,null,30]
[1351,20219050059042,"2021-05-13","EMPRESA PRIVADA","CORREO ELECTRÓNICO","PETICIÓN","ADMINISTRATIVA","SI","SUBDIRECCIÓN DE ESTUDIOS AMBIENTALES","2021-05-04","CORREO ELECTRÓNICO",null,{"$f":"IFERROR(WORKDAY(C1362,S1361,DiasNOLaborables),\"\")","v":"2021-06-29"},{"$f":"+IF(C1362=\"\",\"\",IF(J1362=\"\",\"SIN RESPUESTA\",(IF(J1362<=M1362,\"A TIEMPO\",\"FUERA DE TIEMPO\"))))","v":"A TIEMPO"},{"$f":"IF(J1362=\"\",\"\",NETWORKDAYS(C1362+1,J1362,DiasNOLaborables))","v":-9},"",null,null,30]
[1352,20219050059052,"2021-05-13","EMPRESA PRIVADA","CORREO ELECTRÓNICO","PETICIÓN","ADMINISTRATIVA","SI","SUBDIRECCIÓN DE ESTUDIOS AMBIENTALES","2021-05-04","CORREO ELECTRÓNICO",null,{"$f":"IFERROR(WORKDAY(C1363,S1362,DiasNOLaborables),\"\")","v":"2021-06-29"},{"$f":"+IF(C1363=\"\",\"\",IF(J1363=\"\",\"SIN RESPUESTA\",(IF(J1363<=M1363,\"A TIEMPO\",\"FUERA DE TIEMPO\"))))","v":"A TIEMPO"},{"$f":"IF(J1363=\"\",\"\",NETWORKDAYS(C1363+1,J1363,DiasNOLaborables))","v":-9},"",null,null,30]
[1353,20219050059122,"2021-05-13","EMPRESA PRIVADA","CORREO ELECTRÓNICO","PETICIÓN","ADMINISTRATIVA","SI","SUBDIRECCIÓN DE ESTUDIOS AMBIENTALES","2021-05-04","CORREO ELECTRÓNICO",null,{"$f":"IFERROR(WORKDAY(C1364,S1363,DiasNOLaborables),\"\")","v":"2021-06-29"},{"$f":"+IF(C1364=\"\",\"\",IF(J1364=\"\",\"SIN RESPUESTA\",(IF(J1364<=M1364,\"A TIEMPO\",\"FUERA DE TIEMPO\"))))","v":"A TIEMPO"},{"$f":"IF(J1364=\"\",\"\",NETWORKDAYS(C1364+1,J1364,DiasNOLaborables))","v":-9},"",null,null,30]
[1354,20219050059172,"2021-05-13","EMPRESA PRIVADA","CORREO ELECTRÓNICO","PETICIÓN","ADMINISTRATIVA","SI","SUBDIRECCIÓN DE ESTUDIOS AMBIENTALES","2021-05-04","CORREO ELECTRÓNICO",null,{"$f":"IFERROR(WORKDAY(C1365,S1364,DiasNOLaborables),\"\")","v":"2021-06-29"},{"$f":"+IF(C1365=\"\",\"\",IF(J1365=\"\",\"SIN RESPUESTA\",(IF(J1365<=M1365,\"A TIEMPO\",\"FUERA DE TIEMPO\"))))","v":"A TIEMPO"},{"$f":"IF(J1365=\"\",\"\",NETWORKDAYS(C1365+1,J1365,DiasNOLaborables))","v":-9},"",null,null,35]
[1355,20219050058382,"2021-05-13","CIUDADANO","CORREO ELECTRÓNICO","CERTIFICACIONES DE TIEMPO, CLIMA Y EVENTOS HIDROLÓGICOS","CERTIFICACIONES DE TIEMPO Y CLIMA","SI","SUBDIRECCIÓN DE METEOROLOGÍA","2021-05-13","CORREO ELECTRÓNICO",null,{"$f":"IFERROR(WORKDAY(C1366,S1365,DiasNOLaborables),\"\")","v":"2021-07-07"},{"$f":"+IF(C1366=\"\",\"\",IF(J1366=\"\",\"SIN RESPUESTA\",(IF(J1366<=M1366,\"A TIEMPO\",\"FUERA DE TIEMPO\"))))","v":"A TIEMPO"},{"$f":"IF(J1366=\"\",\"\",NETWORKDAYS(C1366+1,J1366,DiasNOLaborables))","v":-2},"",null,null,20]
[1356,20219050057722,"2021-05-13","CIUDADANO","CORREO ELECTRÓNICO","SOLICITUD DE INFORMACIÓN Y DOCUMENTOS","REGISTROS AMBIENTALES","SI","SUBDIRECCIÓN DE ESTUDIOS AMBIENTALES","2021-05-13","CORREO ELECTRÓNICO",null,{"$f":"IFERROR(WORKDAY(C1367,S1366,DiasNOLaborables),\"\")","v":"2021-06-15"},{"$f":"+IF(C1367=\"\",\"\",IF(J1367=\"\",\"SIN RESPUESTA\",(IF(J1367<=M1367,\"A TIEMPO\",\"FUERA DE TIEMPO\"))))","v":"A TIEMPO"},{"$f":"IF(J1367=\"\",\"\",NETWORKDAYS(C1367+1,J1367,DiasNOLaborables))","v":-2},"",null,null,30]
[1357,20219050058532,"2021-05-13","CIUDADANO","CORREO ELECTRÓNICO","PETICIÓN","SOLICITUD DE INFORMACIÓN HIDROMETEOROLÓGICA","SI","GRUPO DE SERVICIO AL CIUDADANO ","2021-06-18","CORREO ELECTRÓNICO",null,{"$f":"IFERROR(WORKDAY(C1368,S1367,DiasNOLaborables),\"\")","v":"2021-06-29"},{"$f":"+IF(C1368=\"\",\"\",IF(J1368=\"\",\"SIN RESPUESTA\",(IF(J1368<=M1368,\"A TIEMPO\",\"FUERA DE TIEMPO\"))))","v":"A TIEMPO"},{"$f":"IF(J1368=\"\",\"\",NETWORKDAYS(C1368+1,J1368,DiasNOLaborables))","v":23},"",null,null,35]
[1358,20219050058542,"2021-05-13","CIUDADANO","CORREO ELECTRÓNICO","CERTIFICACIONES DE TIEMPO, CLIMA Y EVENTOS HIDROLÓGICOS","CERTIFICACIONES DE TIEMPO Y CLIMA","SI","SUBDIRECCIÓN DE METEOROLOGÍA","2021-05-21","CORREO ELECTRÓNICO",null,{"$f":"IFERROR(WORKDAY(C1369,S1368,DiasNOLaborables),\"\")","v":"2021-07-07"},{"$f":"+IF(C1369=\"\",\"\",IF(J1369=\"\",\"SIN RESPUESTA\",(IF(J1369<=M1369,\"A TIEMPO\",\"FUERA DE TIEMPO\"))))","v":"A TIEMPO"},{"$f":"IF(J1369=\"\",\"\",NETWORKDAYS(C1369+1,J1369,DiasNOLaborables))","v":5},"",null,null,20]
[1359,20219050058442,"2021-05-13","CIUDADANO","CORREO ELECTRÓNICO","SOLICITUD DE INFORMACIÓN Y DOCUMENTOS","SOLICITUD DE INFORMACIÓN HIDROMETEOROLÓGICA","SI","GRUPO DE SERVICIO AL CIUDADANO ","2021-05-21","CORREO ELECTRÓNICO",null,{"$f":"IFERROR(WORKDAY(C1370,S1369,DiasNOLaborables),\"\")","v":"2021-06-15"},{"$f":"+IF(C1370=\"\",\"\",IF(J1370=\"\",\"SIN RESPUESTA\",(IF(J1370<=M1370,\"A TIEMPO\",\"FUERA DE TIEMPO\"))))","v":"A TIEMPO"},{"$f":"IF(J1370=\"\",\"\",NETWORKDAYS(C1370+1,J1370,DiasNOLaborables))","v":5},"",null,null,20]
[1360,20219050058562,"2021-05-13","CIUDADANO","CORREO ELECTRÓNICO","SOLICITUD DE INFORMACIÓN Y DOCUMENTOS","SOLICITUD DE INFORMACIÓN HIDROMETEOROLÓGICA","SI","GRUPO DE SERVICIO AL CIUDADANO ","2021-05-21","CORREO ELECTRÓNICO",null,{"$f":"IFERROR(WORKDAY(C1371,S1370,DiasNOLaborables),\"\")","v":"2021-06-15"},{"$f":"+IF(C1371=\"\",\"\",IF(J1371=\"\",\"SIN RESPUESTA\",(IF(J1371<=M1371,\"A TIEMPO\",\"FUERA DE TIEMPO\"))))","v":"A TIEMPO"},{"$f":"IF(J1371=\"\",\"\",NETWORKDAYS(C1371+1,J1371,DiasNOLaborables))","v":5},"",null,null,20]
[1361,20219050058612,"2021-05-13","CIUDADANO","CORREO ELECTRÓNICO","SOLICITUD DE INFORMACIÓN Y DOCUMENTOS","REGISTROS AMBIENTALES","SI","SUBDIRECCIÓN DE ESTUDIOS AMBIENTALES","2021-05-13","CORREO ELECTRÓNICO",null,{"$f":"IFERROR(WORKDAY(C1372,S1371,DiasNOLaborables),\"\")","v":"2021-06-15"},{"$f":"+IF(C1372=\"\",\"\",IF(J1372=\"\",\"SIN RESPUESTA\",(IF(J1372<=M1372,\"A TIEMPO\",\"FUERA DE TIEMPO\"))))","v":"A TIEMPO"},{"$f":"IF(J1372=\"\",\"\",NETWORKDAYS(C1372+1,J1372,DiasNOLaborables))","v":-2},"",null,null,20]
[1362,20219050058762,"2021-05-13","CIUDADANO","CORREO ELECTRÓNICO","SOLICITUD DE INFORMACIÓN Y DOCUMENTOS","REGISTROS AMBIENTALES","SI","SUBDIRECCIÓN DE ESTUDIOS AMBIENTALES","2021-05-13","CORREO ELECTRÓNICO",null,{"$f":"IFERROR(WORKDAY(C1373,S1372,DiasNOLaborables),\"\")","v":"2021-06-15"},{"$f":"+IF(C1373=\"\",\"\",IF(J1373=\"\",\"SIN RESPUESTA\",(IF(J1373<=M1373,\"A TIEMPO\",\"FUERA DE TIEMPO\"))))","v":"A TIEMPO"},{"$f":"IF(J1373=\"\",\"\",NETWORKDAYS(C1373+1,J1373,DiasNOLaborables))","v":-2},"",null,null,20]
[1363,20219050058802,"2021-05-13","CIUDADANO","CORREO ELECTRÓNICO","SOLICITUD DE INFORMACIÓN Y DOCUMENTOS","REGISTROS AMBIENTALES","SI","SUBDIRECCIÓN DE ESTUDIOS AMBIENTALES","2021-05-13","CORREO ELECTRÓNICO",null,{"$f":"IFERROR(WORKDAY(C1374,S1373,DiasNOLaborables),\"\")","v":"2021-06-15"},{"$f":"+IF(C1374=\"\",\"\",IF(J1374=\"\",\"SIN RESPUESTA\",(IF(J1374<=M1374,\"A TIEMPO\",\"FUERA DE TIEMPO\"))))","v":"A TIEMPO"},{"$f":"IF(J1374=\"\",\"\",NETWORKDAYS(C1374+1,J1374,DiasNOLaborables))","v":-2},"",null,null,20]
[1364,20219050058842,"2021-05-13","CIUDADANO","CORREO ELECTRÓNICO","SOLICITUD DE INFORMACIÓN Y DOCUMENTOS","REGISTROS AMBIENTALES","SI","SUBDIRECCIÓN DE ESTUDIOS AMBIENTALES","2021-05-13","CORREO ELECTRÓNICO","NASLY SUSANA PUERTA GUTIERREZ",{"$f":"IFERROR(WORKDAY(C1375,S1374,DiasNOLaborables),\"\")","v":"2021-06-15"},{"$f":"+IF(C1375=\"\",\"\",IF(J1375=\"\",\"SIN RESPUESTA\",(IF(J1375<=M1375,\"A TIEMPO\",\"FUERA DE TIEMPO\"))))","v":"A TIEMPO"},{"$f":"IF(J1375=\"\",\"\",NETWORKDAYS(C1375+1,J1375,DiasNOLaborables))","v":-2},"",null,null,20]
[1365,20219050058882,"2021-05-13","CIUDADANO","CORREO ELECTRÓNICO","SOLICITUD DE INFORMACIÓN Y DOCUMENTOS","REGISTROS AMBIENTALES","SI","SUBDIRECCIÓN DE ESTUDIOS AMBIENTALES","2021-05-13","CORREO ELECTRÓNICO","NASLY SUSANA PUERTA GUTIERREZ",{"$f":"IFERROR(WORKDAY(C1376,S1375,DiasNOLaborables),\"\")","v":"2021-06-15"},{"$f":"+IF(C1376=\"\",\"\",IF(J1376=\"\",\"SIN RESPUESTA\",(IF(J1376<=M1376,\"A TIEMPO\",\"FUERA DE TIEMPO\"))))","v":"A TIEMPO"},{"$f":"IF(J1376=\"\",\"\",NETWORKDAYS(C1376+1,J1376,DiasNOLaborables))","v":-2},"",null,null,20]
[1366,20219050058912,"2021-05-13","CIUDADANO","CORREO ELECTRÓNICO","SOLICITUD DE INFORMACIÓN Y DOCUMENTOS","REGISTROS AMBIENTALES","SI","SUBDIRECCIÓN DE ESTUDIOS AMBIENTALES","2021-05-13","CORREO ELECTRÓNICO","NASLY SUSANA PUERTA GUTIERREZ",{"$f":"IFERROR(WORKDAY(C1377,S1376,DiasNOLaborables),\"\")","v":"2021-06-15"},{"$f":"+IF(C1377=\"\",\"\",IF(J1377=\"\",\"SIN RESPUESTA\",(IF(J1377<=M1377,\"A TIEMPO\",\"FUERA DE TIEMPO\"))))","v":"A TIEMPO"},{"$f":"IF(J1377=\"\",\"\",NETWORKDAYS(C1377+1,J1377,DiasNOLaborables))","v":-2},{"$f":"IF(NETWORKDAYS(M1377+1,J1377,DiasNOLaborables)<=0,\"\",NETWORKDAYS(M1377+1,J1377,DiasNOLaborables))","v":""},null,null,20]
[1367,20219050058952,"2021-05-13","CIUDADANO","CORREO ELECTRÓNICO","SOLICITUD DE INFORMACIÓN Y DOCUMENTOS","REGISTROS AMBIENTALES","SI","SUBDIRECCIÓN DE ESTUDIOS AMBIENTALES","2021-05-13","CORREO ELECTRÓNICO","NASLY SUSANA PUERTA GUTIERREZ",{"$f":"IFERROR(WORKDAY(C1378,S1377,DiasNOLaborables),\"\")","v":"2021-06-15"},{"$f":"+IF(C1378=\"\",\"\",IF(J1378=\"\",\"SIN RESPUESTA\",(IF(J1378<=M1378,\"A TIEMPO\",\"FUERA DE TIEMPO\"))))","v":"A TIEMPO"},{"$f":"IF(J1378=\"\",\"\",NETWORKDAYS(C1378+1,J1378,DiasNOLaborables))","v":-2},"",null,null,20]
[1368,20219050059022,"2021-05-13","CIUDADANO","CORREO ELECTRÓNICO","SOLICITUD DE INFORMACIÓN Y DOCUMENTOS","REGISTROS AMBIENTALES","SI","SUBDIRECCIÓN DE ESTUDIOS AMBIENTALES","2021-05-13","CORREO ELECTRÓNICO","NASLY SUSANA PUERTA GUTIERREZ",{"$f":"IFERROR(WORKDAY(C1379,S1378,DiasNOLaborables),\"\")","v":"2021-06-15"},{"$f":"+IF(C1379=\"\",\"\",IF(J1379=\"\",\"SIN RESPUESTA\",(IF(J1379<=M1379,\"A TIEMPO\",\"FUERA DE TIEMPO\"))))","v":"A TIEMPO"},{"$f":"IF(J1379=\"\",\"\",NETWORKDAYS(C1379+1,J1379,DiasNOLaborables))","v":-2},"",null,null,20]
[1369,20219050059092,"2021-05-13","CIUDADANO","CORREO ELECTRÓNICO","SOLICITUD DE INFORMACIÓN Y DOCUMENTOS","REGISTROS AMBIENTALES","SI","SUBDIRECCIÓN DE ESTUDIOS AMBIENTALES","2021-05-13","CORREO ELECTRÓNICO","NASLY SUSANA PUERTA GUTIERREZ",{"$f":"IFERROR(WORKDAY(C1380,S1379,DiasNOLaborables),\"\")","v":"2021-06-15"},{"$f":"+IF(C1380=\"\",\"\",IF(J1380=\"\",\"SIN RESPUESTA\",(IF(J1380<=M1380,\"A TIEMPO\",\"FUERA DE TIEMPO\"))))","v":"A TIEMPO"},{"$f":"IF(J1380=\"\",\"\",NETWORKDAYS(C1380+1,J1380,DiasNOLaborables))","v":-2},"",null,null,5]
[1370,20219050059242,"2021-05-13","ENTIDAD PÚBLICA","CORREO ELECTRÓNICO","SOLICITUD JUDICIAL","ADMINISTRATIVA","SI","OFICINA ASESORA JURÍDICA","2021-05-13","CORREO ELECTRÓNICO","NASLY SUSANA PUERTA GUTIERREZ",{"$f":"IFERROR(WORKDAY(C1381,S1380,DiasNOLaborables),\"\")","v":"2021-05-21"},{"$f":"+IF(C1381=\"\",\"\",IF(J1381=\"\",\"SIN RESPUESTA\",(IF(J1381<=M1381,\"A TIEMPO\",\"FUERA DE TIEMPO\"))))","v":"A TIEMPO"},{"$f":"IF(J1381=\"\",\"\",NETWORKDAYS(C1381+1,J1381,DiasNOLaborables))","v":-2},"",null,null,35]
[1371,20219050059282,"2021-05-13","CIUDADANO","CORREO ELECTRÓNICO","CERTIFICACIONES DE TIEMPO, CLIMA Y EVENTOS HIDROLÓGICOS","CERTIFICACIONES DE TIEMPO Y CLIMA","SI","SUBDIRECCIÓN DE METEOROLOGÍA","2021-05-13","CORREO ELECTRÓNICO","NASLY SUSANA PUERTA GUTIERREZ",{"$f":"IFERROR(WORKDAY(C1382,S1381,DiasNOLaborables),\"\")","v":"2021-07-07"},{"$f":"+IF(C1382=\"\",\"\",IF(J1382=\"\",\"SIN RESPUESTA\",(IF(J1382<=M1382,\"A TIEMPO\",\"FUERA DE TIEMPO\"))))","v":"A TIEMPO"},{"$f":"IF(J1382=\"\",\"\",NETWORKDAYS(C1382+1,J1382,DiasNOLaborables))","v":-2},"",null,null,35]
[1372,20219050059292,"2021-05-13","EMPRESA PRIVADA","CORREO ELECTRÓNICO","CERTIFICACIONES DE TIEMPO, CLIMA Y EVENTOS HIDROLÓGICOS","CERTIFICACIONES DE TIEMPO Y CLIMA","SI","SUBDIRECCIÓN DE METEOROLOGÍA","2021-06-17","CORREO ELECTRÓNICO","NASLY SUSANA PUERTA GUTIERREZ",{"$f":"IFERROR(WORKDAY(C1383,S1382,DiasNOLaborables),\"\")","v":"2021-07-07"},{"$f":"+IF(C1383=\"\",\"\",IF(J1383=\"\",\"SIN RESPUESTA\",(IF(J1383<=M1383,\"A TIEMPO\",\"FUERA DE TIEMPO\"))))","v":"A TIEMPO"},{"$f":"IF(J1383=\"\",\"\",NETWORKDAYS(C1383+1,J1383,DiasNOLaborables))","v":22},"",null,null,35]
[1373,20219050059302,"2021-05-13","CIUDADANO","CORREO ELECTRÓNICO","CERTIFICACIONES DE TIEMPO, CLIMA Y EVENTOS HIDROLÓGICOS","CERTIFICACIONES DE TIEMPO Y CLIMA","SI","SUBDIRECCIÓN DE METEOROLOGÍA","2021-05-25","CORREO ELECTRÓNICO","NASLY SUSANA PUERTA GUTIERREZ",{"$f":"IFERROR(WORKDAY(C1384,S1383,DiasNOLaborables),\"\")","v":"2021-07-07"},{"$f":"+IF(C1384=\"\",\"\",IF(J1384=\"\",\"SIN RESPUESTA\",(IF(J1384<=M1384,\"A TIEMPO\",\"FUERA DE TIEMPO\"))))","v":"A TIEMPO"},{"$f":"IF(J1384=\"\",\"\",NETWORKDAYS(C1384+1,J1384,DiasNOLaborables))","v":7},"",null,null,35]
[1374,20219050059332,"2021-05-13","CIUDADANO","CORREO ELECTRÓNICO","CERTIFICACIONES DE TIEMPO, CLIMA Y EVENTOS HIDROLÓGICOS","CERTIFICACIONES DE TIEMPO Y CLIMA","SI","SUBDIRECCIÓN DE METEOROLOGÍA","2021-05-25","CORREO ELECTRÓNICO","NASLY SUSANA PUERTA GUTIERREZ",{"$f":"IFERROR(WORKDAY(C1385,S1384,DiasNOLaborables),\"\")","v":"2021-07-07"},{"$f":"+IF(C1385=\"\",\"\",IF(J1385=\"\",\"SIN RESPUESTA\",(IF(J1385<=M1385,\"A TIEMPO\",\"FUERA DE TIEMPO\"))))","v":"A TIEMPO"},{"$f":"IF(J1385=\"\",\"\",NETWORKDAYS(C1385+1,J1385,DiasNOLaborables))","v":7},"",null,null,20]
[1375,20219050059352,"2021-05-13","CIUDADANO","MODULO CONTACTENOS","SOLICITUD DE INFORMACIÓN Y DOCUMENTOS","BOSQUES","SI","SUBDIRECCIÓN DE ECOSISTEMAS E INFORMACIÓN AMBIENTAL","2021-05-31","CORREO ELECTRÓNICO","NASLY SUSANA PUERTA GUTIERREZ",{"$f":"IFERROR(WORKDAY(C1386,S1385,DiasNOLaborables),\"\")","v":"2021-06-15"},{"$f":"+IF(C1386=\"\",\"\",IF(J1386=\"\",\"SIN RESPUESTA\",(IF(J1386<=M1386,\"A TIEMPO\",\"FUERA DE TIEMPO\"))))","v":"A TIEMPO"},{"$f":"IF(J1386=\"\",\"\",NETWORKDAYS(C1386+1,J1386,DiasNOLaborables))","v":11},"",null,null,20]
[1376,20219050070812,"2021-05-13","CIUDADANO","MODULO CONTACTENOS","SOLICITUD DE INFORMACIÓN Y DOCUMENTOS","SOLICITUD DE INFORMACIÓN HIDROMETEOROLÓGICA","NO","GRUPO DE SERVICIO AL CIUDADANO ","2021-06-09","CORREO ELECTRÓNICO","NASLY SUSANA PUERTA GUTIERREZ",{"$f":"IFERROR(WORKDAY(C1387,S1386,DiasNOLaborables),\"\")","v":"2021-06-15"},{"$f":"+IF(C1387=\"\",\"\",IF(J1387=\"\",\"SIN RESPUESTA\",(IF(J1387<=M1387,\"A TIEMPO\",\"FUERA DE TIEMPO\"))))","v":"A TIEMPO"},{"$f":"IF(J1387=\"\",\"\",NETWORKDAYS(C1387+1,J1387,DiasNOLaborables))","v":17},"",null,null,20]
[1377,20219050070832,"2021-05-13","ACADEMIA","MODULO CONTACTENOS","SOLICITUD DE INFORMACIÓN Y DOCUMENTOS","SOLICITUD DE INFORMACIÓN HIDROMETEOROLÓGICA","NO","GRUPO DE SERVICIO AL CIUDADANO ","2021-06-09","CORREO ELECTRÓNICO","NASLY SUSANA PUERTA GUTIERREZ",{"$f":"IFERROR(WORKDAY(C1388,S1387,DiasNOLaborables),\"\")","v":"2021-06-15"},{"$f":"+IF(C1388=\"\",\"\",IF(J1388=\"\",\"SIN RESPUESTA\",(IF(J1388<=M1388,\"A TIEMPO\",\"FUERA DE TIEMPO\"))))","v":"A TIEMPO"},{"$f":"IF(J1388=\"\",\"\",NETWORKDAYS(C1388+1,J1388,DiasNOLaborables))","v":17},"",null,null,20]
[1378,20219050070862,"2021-05-13","CIUDADANO","MODULO CONTACTENOS","SOLICITUD DE INFORMACIÓN Y DOCUMENTOS","SOLICITUD DE INFORMACIÓN HIDROMETEOROLÓGICA","NO","GRUPO DE SERVICIO AL CIUDADANO ","2021-06-09","CORREO ELECTRÓNICO",null,{"$f":"IFERROR(WORKDAY(C1389,S1388,DiasNOLaborables),\"\")","v":"2021-06-15"},{"$f":"+IF(C1389=\"\",\"\",IF(J1389=\"\",\"SIN RESPUESTA\",(IF(J1389<=M1389,\"A TIEMPO\",\"FUERA DE TIEMPO\"))))","v":"A TIEMPO"},{"$f":"IF(J1389=\"\",\"\",NETWORKDAYS(C1389+1,J1389,DiasNOLaborables))","v":17},"",null,null,20]
[1379,20219050070562,"2021-05-13","ACADEMIA","MODULO CONTACTENOS","SOLICITUD DE INFORMACIÓN Y DOCUMENTOS","SOLICITUD DE INFORMACIÓN HIDROMETEOROLÓGICA","NO","GRUPO DE SERVICIO AL CIUDADANO ","2021-06-09","CORREO ELECTRÓNICO",null,{"$f":"IFERROR(WORKDAY(C1390,S1389,DiasNOLaborables),\"\")","v":"2021-06-15"},{"$f":"+IF(C1390=\"\",\"\",IF(J1390=\"\",\"SIN RESPUESTA\",(IF(J1390<=M1390,\"A TIEMPO\",\"FUERA DE TIEMPO\"))))","v":"A TIEMPO"},{"$f":"IF(J1390=\"\",\"\",NETWORKDAYS(C1390+1,J1390,DiasNOLaborables))","v":17},"",null,null,20]
[1380,20219050070982,"2021-05-13","ACADEMIA","MODULO CONTACTENOS","SOLICITUD DE INFORMACIÓN Y DOCUMENTOS","SOLICITUD DE INFORMACIÓN HIDROMETEOROLÓGICA","NO","GRUPO DE SERVICIO AL CIUDADANO ","2021-06-10","CORREO ELECTRÓNICO",null,{"$f":"IFERROR(WORKDAY(C1391,S1390,DiasNOLaborables),\"\")","v":"2021-06-15"},{"$f":"+IF(C1391=\"\",\"\",IF(J1391=\"\",\"SIN RESPUESTA\",(IF(J1391<=M1391,\"A TIEMPO\",\"FUERA DE TIEMPO\"))))","v":"A TIEMPO"},{"$f":"IF(J1391=\"\",\"\",NETWORKDAYS(C1391+1,J1391,DiasNOLaborables))","v":18},"",null,null,20]
[1381,20219050070992,"2021-05-14","CIUDADANO","MODULO CONTACTENOS","SOLICITUD DE INFORMACIÓN Y DOCUMENTOS","SOLICITUD DE INFORMACIÓN HIDROMETEOROLÓGICA","NO","GRUPO DE SERVICIO AL CIUDADANO ","2021-06-10","CORREO ELECTRÓNICO",null,{"$f":"IFERROR(WORKDAY(C1392,S1391,DiasNOLaborables),\"\")","v":"2021-06-16"},{"$f":"+IF(C1392=\"\",\"\",IF(J1392=\"\",\"SIN RESPUESTA\",(IF(J1392<=M1392,\"A TIEMPO\",\"FUERA DE TIEMPO\"))))","v":"A TIEMPO"},{"$f":"IF(J1392=\"\",\"\",NETWORKDAYS(C1392+1,J1392,DiasNOLaborables))","v":17},"",null,null,20]
[1382,20219050071002,"2021-05-14","CIUDADANO","MODULO CONTACTENOS","SOLICITUD DE INFORMACIÓN Y DOCUMENTOS","SOLICITUD DE INFORMACIÓN HIDROMETEOROLÓGICA","NO","GRUPO DE SERVICIO AL CIUDADANO ","2021-06-10","CORREO ELECTRÓNICO",null,{"$f":"IFERROR(WORKDAY(C1393,S1392,DiasNOLaborables),\"\")","v":"2021-06-16"},{"$f":"+IF(C1393=\"\",\"\",IF(J1393=\"\",\"SIN RESPUESTA\",(IF(J1393<=M1393,\"A TIEMPO\",\"FUERA DE TIEMPO\"))))","v":"A TIEMPO"},{"$f":"IF(J1393=\"\",\"\",NETWORKDAYS(C1393+1,J1393,DiasNOLaborables))","v":17},"",null,null,20]
[1383,20219050071122,"2021-05-14","CIUDADANO","MODULO CONTACTENOS","SOLICITUD DE INFORMACIÓN Y DOCUMENTOS","SOLICITUD DE INFORMACIÓN HIDROMETEOROLÓGICA","NO","GRUPO DE SERVICIO AL CIUDADANO ","2021-06-10","CORREO ELECTRÓNICO",null,{"$f":"IFERROR(WORKDAY(C1394,S1393,DiasNOLaborables),\"\")","v":"2021-06-16"},{"$f":"+IF(C1394=\"\",\"\",IF(J1394=\"\",\"SIN RESPUESTA\",(IF(J1394<=M1394,\"A TIEMPO\",\"FUERA DE TIEMPO\"))))","v":"A TIEMPO"},{"$f":"IF(J1394=\"\",\"\",NETWORKDAYS(C1394+1,J1394,DiasNOLaborables))","v":17},"",null,null,20]
[1384,20219050071212,"2021-05-14","CIUDADANO","MODULO CONTACTENOS","SOLICITUD DE INFORMACIÓN Y DOCUMENTOS","SOLICITUD DE INFORMACIÓN HIDROMETEOROLÓGICA","NO","GRUPO DE SERVICIO AL CIUDADANO ","2021-06-11","CORREO ELECTRÓNICO",null,{"$f":"IFERROR(WORKDAY(C1395,S1394,DiasNOLaborables),\"\")","v":"2021-06-16"},{"$f":"+IF(C1395=\"\",\"\",IF(J1395=\"\",\"SIN RESPUESTA\",(IF(J1395<=M1395,\"A TIEMPO\",\"FUERA DE TIEMPO\"))))","v":"A TIEMPO"},{"$f":"IF(J1395=\"\",\"\",NETWORKDAYS(C1395+1,J1395,DiasNOLaborables))","v":18},"",null,null,20]
[1385,20217030000872,"2021-05-14","CIUDADANO","MODULO CONTACTENOS","SOLICITUD DE INFORMACIÓN Y DOCUMENTOS","SOLICITUD DE INFORMACIÓN HIDROMETEOROLÓGICA","NO","GRUPO DE SERVICIO AL CIUDADANO ","2021-06-11","CORREO ELECTRÓNICO",null,{"$f":"IFERROR(WORKDAY(C1396,S1395,DiasNOLaborables),\"\")","v":"2021-06-16"},{"$f":"+IF(C1396=\"\",\"\",IF(J1396=\"\",\"SIN RESPUESTA\",(IF(J1396<=M1396,\"A TIEMPO\",\"FUERA DE TIEMPO\"))))","v":"A TIEMPO"},{"$f":"IF(J1396=\"\",\"\",NETWORKDAYS(C1396+1,J1396,DiasNOLaborables))","v":18},"",null,null,20]
[1386,20219050071472,"2021-05-14","ACADEMIA","MODULO CONTACTENOS","SOLICITUD DE INFORMACIÓN Y DOCUMENTOS","SOLICITUD DE INFORMACIÓN HIDROMETEOROLÓGICA","NO","GRUPO DE SERVICIO AL CIUDADANO ","2021-06-11","CORREO ELECTRÓNICO",null,{"$f":"IFERROR(WORKDAY(C1397,S1396,DiasNOLaborables),\"\")","v":"2021-06-16"},{"$f":"+IF(C1397=\"\",\"\",IF(J1397=\"\",\"SIN RESPUESTA\",(IF(J1397<=M1397,\"A TIEMPO\",\"FUERA DE TIEMPO\"))))","v":"A TIEMPO"},{"$f":"IF(J1397=\"\",\"\",NETWORKDAYS(C1397+1,J1397,DiasNOLaborables))","v":18},"",null,null,20]
[1387,20219050071592,"2021-05-14","CIUDADANO","MODULO CONTACTENOS","SOLICITUD DE INFORMACIÓN Y DOCUMENTOS","SOLICITUD DE INFORMACIÓN HIDROMETEOROLÓGICA","NO","GRUPO DE SERVICIO AL CIUDADANO ","2021-06-11","CORREO ELECTRÓNICO",null,{"$f":"IFERROR(WORKDAY(C1398,S1397,DiasNOLaborables),\"\")","v":"2021-06-16"},{"$f":"+IF(C1398=\"\",\"\",IF(J1398=\"\",\"SIN RESPUESTA\",(IF(J1398<=M1398,\"A TIEMPO\",\"FUERA DE TIEMPO\"))))","v":"A TIEMPO"},{"$f":"IF(J1398=\"\",\"\",NETWORKDAYS(C1398+1,J1398,DiasNOLaborables))","v":18},"",null,null,20]
[1388,20219050071752,"2021-05-14","CIUDADANO","MODULO CONTACTENOS","SOLICITUD DE INFORMACIÓN Y DOCUMENTOS","SOLICITUD DE INFORMACIÓN HIDROMETEOROLÓGICA","NO","GRUPO DE SERVICIO AL CIUDADANO ","2021-06-11","CORREO ELECTRÓNICO",null,{"$f":"IFERROR(WORKDAY(C1399,S1398,DiasNOLaborables),\"\")","v":"2021-06-16"},{"$f":"+IF(C1399=\"\",\"\",IF(J1399=\"\",\"SIN RESPUESTA\",(IF(J1399<=M1399,\"A TIEMPO\",\"FUERA DE TIEMPO\"))))","v":"A TIEMPO"},{"$f":"IF(J1399=\"\",\"\",NETWORKDAYS(C1399+1,J1399,DiasNOLaborables))","v":18},"",null,null,20]
[1389,20219050071552,"2021-05-14","ACADEMIA","MODULO CONTACTENOS","SOLICITUD DE INFORMACIÓN Y DOCUMENTOS","SOLICITUD DE INFORMACIÓN HIDROMETEOROLÓGICA","NO","GRUPO DE SERVICIO AL CIUDADANO ","2021-06-11","CORREO ELECTRÓNICO",null,{"$f":"IFERROR(WORKDAY(C1400,S1399,DiasNOLaborables),\"\")","v":"2021-06-16"},{"$f":"+IF(C1400=\"\",\"\",IF(J1400=\"\",\"SIN RESPUESTA\",(IF(J1400<=M1400,\"A TIEMPO\",\"FUERA DE TIEMPO\"))))","v":"A TIEMPO"},{"$f":"IF(J1400=\"\",\"\",NETWORKDAYS(C1400+1,J1400,DiasNOLaborables))","v":18},"",null,null,20]
[1390,20219050071562,"2021-05-14","ACADEMIA","MODULO CONTACTENOS","SOLICITUD DE INFORMACIÓN Y DOCUMENTOS","SOLICITUD DE INFORMACIÓN HIDROMETEOROLÓGICA","NO","GRUPO DE SERVICIO AL CIUDADANO ","2021-06-11","CORREO ELECTRÓNICO","NASLY SUSANA PUERTA GUTIERREZ",{"$f":"IFERROR(WORKDAY(C1401,S1400,DiasNOLaborables),\"\")","v":"2021-06-16"},{"$f":"+IF(C1401=\"\",\"\",IF(J1401=\"\",\"SIN RESPUESTA\",(IF(J1401<=M1401,\"A TIEMPO\",\"FUERA DE TIEMPO\"))))","v":"A TIEMPO"},{"$f":"IF(J1401=\"\",\"\",NETWORKDAYS(C1401+1,J1401,DiasNOLaborables))","v":18},"",null,null,20]
[1391,20219050071922,"2021-05-14","ACADEMIA","MODULO CONTACTENOS","SOLICITUD DE INFORMACIÓN Y DOCUMENTOS","SOLICITUD DE INFORMACIÓN HIDROMETEOROLÓGICA","NO","GRUPO DE SERVICIO AL CIUDADANO ","2021-06-11","CORREO ELECTRÓNICO","NASLY SUSANA PUERTA GUTIERREZ",{"$f":"IFERROR(WORKDAY(C1402,S1401,DiasNOLaborables),\"\")","v":"2021-06-16"},{"$f":"+IF(C1402=\"\",\"\",IF(J1402=\"\",\"SIN RESPUESTA\",(IF(J1402<=M1402,\"A TIEMPO\",\"FUERA DE TIEMPO\"))))","v":"A TIEMPO"},{"$f":"IF(J1402=\"\",\"\",NETWORKDAYS(C1402+1,J1402,DiasNOLaborables))","v":18},"",null,null,20]
[1392,20217040000342,"2021-05-14","CIUDADANO","MODULO CONTACTENOS","SOLICITUD DE INFORMACIÓN Y DOCUMENTOS","SOLICITUD DE INFORMACIÓN HIDROMETEOROLÓGICA","NO","GRUPO DE SERVICIO AL CIUDADANO ","2021-06-11","CORREO ELECTRÓNICO","NASLY SUSANA PUERTA GUTIERREZ",{"$f":"IFERROR(WORKDAY(C1403,S1402,DiasNOLaborables),\"\")","v":"2021-06-16"},{"$f":"+IF(C1403=\"\",\"\",IF(J1403=\"\",\"SIN RESPUESTA\",(IF(J1403<=M1403,\"A TIEMPO\",\"FUERA DE TIEMPO\"))))","v":"A TIEMPO"},{"$f":"IF(J1403=\"\",\"\",NETWORKDAYS(C1403+1,J1403,DiasNOLaborables))","v":18},"",null,null,20]
[1393,20219050059432,"2021-05-14","FUNCIONARIO IDEAM","MODULO CONTACTENOS","SOLICITUD DE INFORMACIÓN Y DOCUMENTOS","ADMINISTRATIVA","SI","GRUPO DE ADMINISTRACIÓN Y DESARROLLO DEL TALENTO HUMANO","2021-05-14","CORREO ELECTRÓNICO","NASLY SUSANA PUERTA GUTIERREZ",{"$f":"IFERROR(WORKDAY(C1404,S1403,DiasNOLaborables),\"\")","v":"2021-06-16"},{"$f":"+IF(C1404=\"\",\"\",IF(J1404=\"\",\"SIN RESPUESTA\",(IF(J1404<=M1404,\"A TIEMPO\",\"FUERA DE TIEMPO\"))))","v":"A TIEMPO"},{"$f":"IF(J1404=\"\",\"\",NETWORKDAYS(C1404+1,J1404,DiasNOLaborables))","v":-1},"",null,null,35]
[1394,20219050059752,"2021-05-14","CIUDADANO","CORREO ELECTRÓNICO","CERTIFICACIONES DE TIEMPO, CLIMA Y EVENTOS HIDROLÓGICOS","CERTIFICACIONES DE TIEMPO Y CLIMA","SI","SUBDIRECCIÓN DE METEOROLOGÍA","2021-05-25","CORREO ELECTRÓNICO","NASLY SUSANA PUERTA GUTIERREZ",{"$f":"IFERROR(WORKDAY(C1405,S1404,DiasNOLaborables),\"\")","v":"2021-07-08"},{"$f":"+IF(C1405=\"\",\"\",IF(J1405=\"\",\"SIN RESPUESTA\",(IF(J1405<=M1405,\"A TIEMPO\",\"FUERA DE TIEMPO\"))))","v":"A TIEMPO"},{"$f":"IF(J1405=\"\",\"\",NETWORKDAYS(C1405+1,J1405,DiasNOLaborables))","v":6},"",null,null,20]
[1395,20219050059502,"2021-05-14","CIUDADANO","MODULO CONTACTENOS","SOLICITUD DE INFORMACIÓN Y DOCUMENTOS","SOLICITUD DE INFORMACIÓN HIDROMETEOROLÓGICA","NO","GRUPO DE SERVICIO AL CIUDADANO ","2021-06-11","CORREO ELECTRÓNICO","NASLY SUSANA PUERTA GUTIERREZ",{"$f":"IFERROR(WORKDAY(C1406,S1405,DiasNOLaborables),\"\")","v":"2021-06-16"},{"$f":"+IF(C1406=\"\",\"\",IF(J1406=\"\",\"SIN RESPUESTA\",(IF(J1406<=M1406,\"A TIEMPO\",\"FUERA DE TIEMPO\"))))","v":"A TIEMPO"},{"$f":"IF(J1406=\"\",\"\",NETWORKDAYS(C1406+1,J1406,DiasNOLaborables))","v":18},"",null,null,20]
[1396,20219050059512,"2021-05-14","ACADEMIA ","MODULO CONTACTENOS","SOLICITUD DE INFORMACIÓN Y DOCUMENTOS","SOLICITUD DE INFORMACIÓN HIDROMETEOROLÓGICA","NO","GRUPO DE SERVICIO AL CIUDADANO ","2021-06-11","CORREO ELECTRÓNICO","NASLY SUSANA PUERTA GUTIERREZ",{"$f":"IFERROR(WORKDAY(C1407,S1406,DiasNOLaborables),\"\")","v":"2021-06-16"},{"$f":"+IF(C1407=\"\",\"\",IF(J1407=\"\",\"SIN RESPUESTA\",(IF(J1407<=M1407,\"A TIEMPO\",\"FUERA DE TIEMPO\"))))","v":"A TIEMPO"},{"$f":"IF(J1407=\"\",\"\",NETWORKDAYS(C1407+1,J1407,DiasNOLaborables))","v":18},"",null,null,20]
[1397,20219050059522,"2021-05-14","ACADEMIA ","MODULO CONTACTENOS","SOLICITUD DE INFORMACIÓN Y DOCUMENTOS","SOLICITUD DE INFORMACIÓN HIDROMETEOROLÓGICA","NO","GRUPO DE SERVICIO AL CIUDADANO ","2021-06-11","CORREO ELECTRÓNICO","NASLY SUSANA PUERTA GUTIERREZ",{"$f":"IFERROR(WORKDAY(C1408,S1407,DiasNOLaborables),\"\")","v":"2021-06-16"},{"$f":"+IF(C1408=\"\",\"\",IF(J1408=\"\",\"SIN RESPUESTA\",(IF(J1408<=M1408,\"A TIEMPO\",\"FUERA DE TIEMPO\"))))","v":"A TIEMPO"},{"$f":"IF(J1408=\"\",\"\",NETWORKDAYS(C1408+1,J1408,DiasNOLaborables))","v":18},"",null,null,20]
[1398,20219050059532,"2021-05-14","ACADEMIA ","MODULO CONTACTENOS","SOLICITUD DE INFORMACIÓN Y DOCUMENTOS","SOLICITUD DE INFORMACIÓN HIDROMETEOROLÓGICA","NO","GRUPO DE SERVICIO AL CIUDADANO ","2021-06-11","CORREO ELECTRÓNICO","NASLY SUSANA PUERTA GUTIERREZ",{"$f":"IFERROR(WORKDAY(C1409,S1408,DiasNOLaborables),\"\")","v":"2021-06-16"},{"$f":"+IF(C1409=\"\",\"\",IF(J1409=\"\",\"SIN RESPUESTA\",(IF(J1409<=M1409,\"A TIEMPO\",\"FUERA DE TIEMPO\"))))","v":"A TIEMPO"},{"$f":"IF(J1409=\"\",\"\",NETWORKDAYS(C1409+1,J1409,DiasNOLaborables))","v":18},"",null,null,20]
[1399,20219050059542,"2021-05-14","CIUDADANO","MODULO CONTACTENOS","SOLICITUD DE INFORMACIÓN Y DOCUMENTOS","SOLICITUD DE INFORMACIÓN HIDROMETEOROLÓGICA","NO","GRUPO DE SERVICIO AL CIUDADANO ","2021-06-11","CORREO ELECTRÓNICO","NASLY SUSANA PUERTA GUTIERREZ",{"$f":"IFERROR(WORKDAY(C1410,S1409,DiasNOLaborables),\"\")","v":"2021-06-16"},{"$f":"+IF(C1410=\"\",\"\",IF(J1410=\"\",\"SIN RESPUESTA\",(IF(J1410<=M1410,\"A TIEMPO\",\"FUERA DE TIEMPO\"))))","v":"A TIEMPO"},{"$f":"IF(J1410=\"\",\"\",NETWORKDAYS(C1410+1,J1410,DiasNOLaborables))","v":18},"",null,null,20]
[1400,20219050059552,"2021-05-14","CIUDADANO","MODULO CONTACTENOS","SOLICITUD DE INFORMACIÓN Y DOCUMENTOS","SOLICITUD DE INFORMACIÓN HIDROMETEOROLÓGICA","NO","GRUPO DE SERVICIO AL CIUDADANO ","2021-06-11","CORREO ELECTRÓNICO","NASLY SUSANA PUERTA GUTIERREZ",{"$f":"IFERROR(WORKDAY(C1411,S1410,DiasNOLaborables),\"\")","v":"2021-06-16"},{"$f":"+IF(C1411=\"\",\"\",IF(J1411=\"\",\"SIN RESPUESTA\",(IF(J1411<=M1411,\"A TIEMPO\",\"FUERA DE TIEMPO\"))))","v":"A TIEMPO"},{"$f":"IF(J1411=\"\",\"\",NETWORKDAYS(C1411+1,J1411,DiasNOLaborables))","v":18},"",null,null,20]
[1401,20219050059582,"2021-05-14","EMPRESA PRIVADA","MODULO CONTACTENOS","SOLICITUD DE INFORMACIÓN Y DOCUMENTOS","SOLICITUD DE INFORMACIÓN HIDROMETEOROLÓGICA","NO","GRUPO DE SERVICIO AL CIUDADANO ","2021-06-13","CORREO ELECTRÓNICO","NASLY SUSANA PUERTA GUTIERREZ",{"$f":"IFERROR(WORKDAY(C1412,S1411,DiasNOLaborables),\"\")","v":"2021-06-16"},{"$f":"+IF(C1412=\"\",\"\",IF(J1412=\"\",\"SIN RESPUESTA\",(IF(J1412<=M1412,\"A TIEMPO\",\"FUERA DE TIEMPO\"))))","v":"A TIEMPO"},{"$f":"IF(J1412=\"\",\"\",NETWORKDAYS(C1412+1,J1412,DiasNOLaborables))","v":18},"",null,null,20]
[1402,20219050059642,"2021-05-14","CIUDADANO","MODULO CONTACTENOS","SOLICITUD DE INFORMACIÓN Y DOCUMENTOS","SOLICITUD DE INFORMACIÓN HIDROMETEOROLÓGICA","NO","GRUPO DE SERVICIO AL CIUDADANO ","2021-06-13","CORREO ELECTRÓNICO","NASLY SUSANA PUERTA GUTIERREZ",{"$f":"IFERROR(WORKDAY(C1413,S1412,DiasNOLaborables),\"\")","v":"2021-06-16"},{"$f":"+IF(C1413=\"\",\"\",IF(J1413=\"\",\"SIN RESPUESTA\",(IF(J1413<=M1413,\"A TIEMPO\",\"FUERA DE TIEMPO\"))))","v":"A TIEMPO"},{"$f":"IF(J1413=\"\",\"\",NETWORKDAYS(C1413+1,J1413,DiasNOLaborables))","v":18},"",null,null,20]
[1403,20219050059652,"2021-05-14","CIUDADANO","MODULO CONTACTENOS","SOLICITUD DE INFORMACIÓN Y DOCUMENTOS","SOLICITUD DE INFORMACIÓN HIDROMETEOROLÓGICA","NO","GRUPO DE SERVICIO AL CIUDADANO ","2021-06-13","CORREO ELECTRÓNICO","NASLY SUSANA PUERTA GUTIERREZ",{"$f":"IFERROR(WORKDAY(C1414,S1413,DiasNOLaborables),\"\")","v":"2021-06-16"},{"$f":"+IF(C1414=\"\",\"\",IF(J1414=\"\",\"SIN RESPUESTA\",(IF(J1414<=M1414,\"A TIEMPO\",\"FUERA DE TIEMPO\"))))","v":"A TIEMPO"},{"$f":"IF(J1414=\"\",\"\",NETWORKDAYS(C1414+1,J1414,DiasNOLaborables))","v":18},"",null,null,20]
[1404,20219050059662,"2021-05-14","CIUDADANO","MODULO CONTACTENOS","SOLICITUD DE INFORMACIÓN Y DOCUMENTOS","SOLICITUD DE INFORMACIÓN HIDROMETEOROLÓGICA","NO","GRUPO DE SERVICIO AL CIUDADANO ","2021-06-14","CORREO ELECTRÓNICO","NASLY SUSANA PUERTA GUTIERREZ",{"$f":"IFERROR(WORKDAY(C1415,S1414,DiasNOLaborables),\"\")","v":"2021-06-16"},{"$f":"+IF(C1415=\"\",\"\",IF(J1415=\"\",\"SIN RESPUESTA\",(IF(J1415<=M1415,\"A TIEMPO\",\"FUERA DE TIEMPO\"))))","v":"A TIEMPO"},{"$f":"IF(J1415=\"\",\"\",NETWORKDAYS(C1415+1,J1415,DiasNOLaborables))","v":18},"",null,null,20]
[1405,20219050059782,"2021-05-14","CIUDADANO","CORREO ELECTRÓNICO","SOLICITUD DE INFORMACIÓN Y DOCUMENTOS","SOLICITUD DE INFORMACIÓN HIDROMETEOROLÓGICA","NO","GRUPO DE SERVICIO AL CIUDADANO ","2021-06-14","CORREO ELECTRÓNICO","NASLY SUSANA PUERTA GUTIERREZ",{"$f":"IFERROR(WORKDAY(C1416,S1415,DiasNOLaborables),\"\")","v":"2021-06-16"},{"$f":"+IF(C1416=\"\",\"\",IF(J1416=\"\",\"SIN RESPUESTA\",(IF(J1416<=M1416,\"A TIEMPO\",\"FUERA DE TIEMPO\"))))","v":"A TIEMPO"},{"$f":"IF(J1416=\"\",\"\",NETWORKDAYS(C1416+1,J1416,DiasNOLaborables))","v":18},"",null,null,20]
[1406,20219910026832,"2021-05-14","EMPRESA PRIVADA","CORREO CERTIFICADO","SOLICITUD DE INFORMACIÓN Y DOCUMENTOS","SIRH","SI","SUBDIRECCIÓN DE HIDROLOGÍA","2021-05-24","CORREO ELECTRÓNICO","NASLY SUSANA PUERTA GUTIERREZ",{"$f":"IFERROR(WORKDAY(C1417,S1416,DiasNOLaborables),\"\")","v":"2021-06-16"},{"$f":"+IF(C1417=\"\",\"\",IF(J1417=\"\",\"SIN RESPUESTA\",(IF(J1417<=M1417,\"A TIEMPO\",\"FUERA DE TIEMPO\"))))","v":"A TIEMPO"},{"$f":"IF(J1417=\"\",\"\",NETWORKDAYS(C1417+1,J1417,DiasNOLaborables))","v":5},"",null,null,20]
[1407,20219050059872,"2021-05-14","CIUDADANO","CORREO ELECTRÓNICO","SOLICITUD DE INFORMACIÓN Y DOCUMENTOS","ZONIFICACIÓN HIDROGRÁFICA","SI","SUBDIRECCIÓN DE HIDROLOGÍA","2021-05-18","CORREO ELECTRÓNICO","NASLY SUSANA PUERTA GUTIERREZ",{"$f":"IFERROR(WORKDAY(C1418,S1417,DiasNOLaborables),\"\")","v":"2021-06-16"},{"$f":"+IF(C1418=\"\",\"\",IF(J1418=\"\",\"SIN RESPUESTA\",(IF(J1418<=M1418,\"A TIEMPO\",\"FUERA DE TIEMPO\"))))","v":"A TIEMPO"},{"$f":"IF(J1418=\"\",\"\",NETWORKDAYS(C1418+1,J1418,DiasNOLaborables))","v":1},"",null,null,20]
[1408,20219050059902,"2021-05-14","CIUDADANO","CORREO ELECTRÓNICO","SOLICITUD DE INFORMACIÓN Y DOCUMENTOS","INFORMES AMBIENTALES","SI","SUBDIRECCIÓN DE ESTUDIOS AMBIENTALES","2021-05-22","CORREO ELECTRÓNICO","NASLY SUSANA PUERTA GUTIERREZ",{"$f":"IFERROR(WORKDAY(C1419,S1418,DiasNOLaborables),\"\")","v":"2021-06-16"},{"$f":"+IF(C1419=\"\",\"\",IF(J1419=\"\",\"SIN RESPUESTA\",(IF(J1419<=M1419,\"A TIEMPO\",\"FUERA DE TIEMPO\"))))","v":"A TIEMPO"},{"$f":"IF(J1419=\"\",\"\",NETWORKDAYS(C1419+1,J1419,DiasNOLaborables))","v":4},"",null,null,35]
[1409,20219910027042,"2021-05-14","ENTIDAD PÚBLICA","MODULO CONTACTENOS","CERTIFICACIONES DE TIEMPO, CLIMA Y EVENTOS HIDROLÓGICOS","CERTIFICACIONES DE TIEMPO Y CLIMA","SI","SUBDIRECCIÓN DE METEOROLOGÍA","2021-05-21","CORREO ELECTRÓNICO","NASLY SUSANA PUERTA GUTIERREZ",{"$f":"IFERROR(WORKDAY(C1420,S1419,DiasNOLaborables),\"\")","v":"2021-07-08"},{"$f":"+IF(C1420=\"\",\"\",IF(J1420=\"\",\"SIN RESPUESTA\",(IF(J1420<=M1420,\"A TIEMPO\",\"FUERA DE TIEMPO\"))))","v":"A TIEMPO"},{"$f":"IF(J1420=\"\",\"\",NETWORKDAYS(C1420+1,J1420,DiasNOLaborables))","v":4},"",null,null,20]
[1410,20219050059672,"2021-05-14","ACADEMIA ","CORREO ELECTRÓNICO","SOLICITUD DE INFORMACIÓN Y DOCUMENTOS","SOLICITUD DE INFORMACIÓN HIDROMETEOROLÓGICA","NO","GRUPO DE SERVICIO AL CIUDADANO ","2021-06-15","CORREO ELECTRÓNICO","NASLY SUSANA PUERTA GUTIERREZ",{"$f":"IFERROR(WORKDAY(C1421,S1420,DiasNOLaborables),\"\")","v":"2021-06-16"},{"$f":"+IF(C1421=\"\",\"\",IF(J1421=\"\",\"SIN RESPUESTA\",(IF(J1421<=M1421,\"A TIEMPO\",\"FUERA DE TIEMPO\"))))","v":"A TIEMPO"},{"$f":"IF(J1421=\"\",\"\",NETWORKDAYS(C1421+1,J1421,DiasNOLaborables))","v":19},"",null,null,{"$f":"IFERROR(VLOOKUP(F1422,$AA$51:$AB$64,2),\"\")","v":20}]
[{"$f":"IF(B1422<>\"\",A1421+1,\"\")","v":1411},20219050059852,"2021-05-14","ENTIDAD PÚBLICA","CORREO ELECTRÓNICO","SOLICITUD DE INFORMACIÓN Y DOCUMENTOS","SOLICITUD DE INFORMACIÓN HIDROMETEOROLÓGICA","NO","GRUPO DE SERVICIO AL CIUDADANO ","2021-06-15","CORREO ELECTRÓNICO",null,{"$f":"IFERROR(WORKDAY(C1422,S1421,DiasNOLaborables),\"\")","v":"2021-06-16"},{"$f":"+IF(C1422=\"\",\"\",IF(J1422=\"\",\"SIN RESPUESTA\",(IF(J1422<=M1422,\"A TIEMPO\",\"FUERA DE TIEMPO\"))))","v":"A TIEMPO"},{"$f":"IF(J1422=\"\",\"\",NETWORKDAYS(C1422+1,J1422,DiasNOLaborables))","v":19},"",null,null,20]
[1412,20219050059862,"2021-05-14","ACADEMIA ","CORREO ELECTRÓNICO","SOLICITUD DE INFORMACIÓN Y DOCUMENTOS","SOLICITUD DE INFORMACIÓN HIDROMETEOROLÓGICA","NO","GRUPO DE SERVICIO AL CIUDADANO ","2021-06-15","CORREO ELECTRÓNICO",null,{"$f":"IFERROR(WORKDAY(C1423,S1422,DiasNOLaborables),\"\")","v":"2021-06-16"},{"$f":"+IF(C1423=\"\",\"\",IF(J1423=\"\",\"SIN RESPUESTA\",(IF(J1423<=M1423,\"A TIEMPO\",\"FUERA DE TIEMPO\"))))","v":"A TIEMPO"},{"$f":"IF(J1423=\"\",\"\",NETWORKDAYS(C1423+1,J1423,DiasNOLaborables))","v":19},"",null,null,20]
[1413,20219050059882,"2021-05-14","CIUDADANO","CORREO ELECTRÓNICO","SOLICITUD DE INFORMACIÓN Y DOCUMENTOS","SOLICITUD DE INFORMACIÓN HIDROMETEOROLÓGICA","SI","SUBDIRECCIÓN DE HIDROLOGÍA","2021-06-15","CORREO ELECTRÓNICO",null,{"$f":"IFERROR(WORKDAY(C1424,S1423,DiasNOLaborables),\"\")","v":"2021-06-16"},{"$f":"+IF(C1424=\"\",\"\",IF(J1424=\"\",\"SIN RESPUESTA\",(IF(J1424<=M1424,\"A TIEMPO\",\"FUERA DE TIEMPO\"))))","v":"A TIEMPO"},{"$f":"IF(J1424=\"\",\"\",NETWORKDAYS(C1424+1,J1424,DiasNOLaborables))","v":19},"",null,null,20]
[1414,20217100000682,"2021-05-14","ENTIDAD PÚBLICA","CORREO CERTIFICADO","SOLICITUD DE INFORMACIÓN Y DOCUMENTOS","SIRH","SI","AREA OPERATIVA No. 10","2021-05-26","CORREO ELECTRÓNICO",null,{"$f":"IFERROR(WORKDAY(C1425,S1424,DiasNOLaborables),\"\")","v":"2021-06-16"},{"$f":"+IF(C1425=\"\",\"\",IF(J1425=\"\",\"SIN RESPUESTA\",(IF(J1425<=M1425,\"A TIEMPO\",\"FUERA DE TIEMPO\"))))","v":"A TIEMPO"},{"$f":"IF(J1425=\"\",\"\",NETWORKDAYS(C1425+1,J1425,DiasNOLaborables))","v":7},"",null,null,30]
[1415,20219050059562,"2021-05-14","CIUDADANO","MODULO CONTACTENOS","PETICIÓN","OPERACIÓN DE REDES","SI","SUBDIRECCIÓN DE HIDROLOGÍA","2021-06-23","CORREO ELECTRÓNICO",null,{"$f":"IFERROR(WORKDAY(C1426,S1425,DiasNOLaborables),\"\")","v":"2021-06-30"},{"$f":"+IF(C1426=\"\",\"\",IF(J1426=\"\",\"SIN RESPUESTA\",(IF(J1426<=M1426,\"A TIEMPO\",\"FUERA DE TIEMPO\"))))","v":"A TIEMPO"},{"$f":"IF(J1426=\"\",\"\",NETWORKDAYS(C1426+1,J1426,DiasNOLaborables))","v":25},"",null,null,30]
[1416,20219050059722,"2021-05-14","CIUDADANO","MODULO CONTACTENOS","PETICIÓN","SIRH","SI","GRUPO DE GESTIÓN DOCUMENTAL Y CENTRO DE DOCUMENTACIÓN","2021-05-28","CORREO ELECTRÓNICO",null,{"$f":"IFERROR(WORKDAY(C1427,S1426,DiasNOLaborables),\"\")","v":"2021-06-30"},{"$f":"+IF(C1427=\"\",\"\",IF(J1427=\"\",\"SIN RESPUESTA\",(IF(J1427<=M1427,\"A TIEMPO\",\"FUERA DE TIEMPO\"))))","v":"A TIEMPO"},{"$f":"IF(J1427=\"\",\"\",NETWORKDAYS(C1427+1,J1427,DiasNOLaborables))","v":9},{"$f":"IF(NETWORKDAYS(M1427+1,J1427,DiasNOLaborables)<=0,\"\",NETWORKDAYS(M1427+1,J1427,DiasNOLaborables))","v":""},null,null,20]
[1417,20219050060082,"2021-05-15","FUNCIONARIO IDEAM","MODULO CONTACTENOS","SOLICITUD DE INFORMACIÓN Y DOCUMENTOS","ADMINISTRATIVA","SI","GRUPO DE ADMINISTRACIÓN Y DESARROLLO DEL TALENTO HUMANO","2021-05-21","CORREO ELECTRÓNICO",null,{"$f":"IFERROR(WORKDAY(C1428,S1427,DiasNOLaborables),\"\")","v":"2021-06-16"},{"$f":"+IF(C1428=\"\",\"\",IF(J1428=\"\",\"SIN RESPUESTA\",(IF(J1428<=M1428,\"A TIEMPO\",\"FUERA DE TIEMPO\"))))","v":"A TIEMPO"},{"$f":"IF(J1428=\"\",\"\",NETWORKDAYS(C1428+1,J1428,DiasNOLaborables))","v":4},"",null,null,20]
[1418,20219050072112,"2021-05-15","ACADEMIA","MODULO CONTACTENOS","SOLICITUD DE INFORMACIÓN Y DOCUMENTOS","SOLICITUD DE INFORMACIÓN HIDROMETEOROLÓGICA","NO","GRUPO DE SERVICIO AL CIUDADANO ","2021-06-11","CORREO ELECTRÓNICO",null,{"$f":"IFERROR(WORKDAY(C1429,S1428,DiasNOLaborables),\"\")","v":"2021-06-16"},{"$f":"+IF(C1429=\"\",\"\",IF(J1429=\"\",\"SIN RESPUESTA\",(IF(J1429<=M1429,\"A TIEMPO\",\"FUERA DE TIEMPO\"))))","v":"A TIEMPO"},{"$f":"IF(J1429=\"\",\"\",NETWORKDAYS(C1429+1,J1429,DiasNOLaborables))","v":18},"",null,null,20]
[1419,20219050072292,"2021-05-15","CIUDADANO","MODULO CONTACTENOS","SOLICITUD DE INFORMACIÓN Y DOCUMENTOS","SOLICITUD DE INFORMACIÓN HIDROMETEOROLÓGICA","NO","GRUPO DE SERVICIO AL CIUDADANO ","2021-06-11","CORREO ELECTRÓNICO",null,{"$f":"IFERROR(WORKDAY(C1430,S1429,DiasNOLaborables),\"\")","v":"2021-06-16"},{"$f":"+IF(C1430=\"\",\"\",IF(J1430=\"\",\"SIN RESPUESTA\",(IF(J1430<=M1430,\"A TIEMPO\",\"FUERA DE TIEMPO\"))))","v":"A TIEMPO"},{"$f":"IF(J1430=\"\",\"\",NETWORKDAYS(C1430+1,J1430,DiasNOLaborables))","v":18},"",null,null,20]
[1420,20219050072472,"2021-05-16","CIUDADANO","MODULO CONTACTENOS","SOLICITUD DE INFORMACIÓN Y DOCUMENTOS","SOLICITUD DE INFORMACIÓN HIDROMETEOROLÓGICA","NO","GRUPO DE SERVICIO AL CIUDADANO ","2021-06-11","CORREO ELECTRÓNICO",null,{"$f":"IFERROR(WORKDAY(C1431,S1430,DiasNOLaborables),\"\")","v":"2021-06-16"},{"$f":"+IF(C1431=\"\",\"\",IF(J1431=\"\",\"SIN RESPUESTA\",(IF(J1431<=M1431,\"A TIEMPO\",\"FUERA DE TIEMPO\"))))","v":"A TIEMPO"},{"$f":"IF(J1431=\"\",\"\",NETWORKDAYS(C1431+1,J1431,DiasNOLaborables))","v":18},"",null,null,20]
[1421,20219050072482,"2021-05-16","CIUDADANO","MODULO CONTACTENOS","SOLICITUD DE INFORMACIÓN Y DOCUMENTOS","SOLICITUD DE INFORMACIÓN HIDROMETEOROLÓGICA","NO","GRUPO DE SERVICIO AL CIUDADANO ","2021-06-11","CORREO ELECTRÓNICO",null,{"$f":"IFERROR(WORKDAY(C1432,S1431,DiasNOLaborables),\"\")","v":"2021-06-16"},{"$f":"+IF(C1432=\"\",\"\",IF(J1432=\"\",\"SIN RESPUESTA\",(IF(J1432<=M1432,\"A TIEMPO\",\"FUERA DE TIEMPO\"))))","v":"A TIEMPO"},{"$f":"IF(J1432=\"\",\"\",NETWORKDAYS(C1432+1,J1432,DiasNOLaborables))","v":18},"",null,null,20]
[1422,20219050072492,"2021-05-16","CIUDADANO","MODULO CONTACTENOS","SOLICITUD DE INFORMACIÓN Y DOCUMENTOS","SOLICITUD DE INFORMACIÓN HIDROMETEOROLÓGICA","NO","GRUPO DE SERVICIO AL CIUDADANO ","2021-06-15","CORREO ELECTRÓNICO",null,{"$f":"IFERROR(WORKDAY(C1433,S1432,DiasNOLaborables),\"\")","v":"2021-06-16"},{"$f":"+IF(C1433=\"\",\"\",IF(J1433=\"\",\"SIN RESPUESTA\",(IF(J1433<=M1433,\"A TIEMPO\",\"FUERA DE TIEMPO\"))))","v":"A TIEMPO"},{"$f":"IF(J1433=\"\",\"\",NETWORKDAYS(C1433+1,J1433,DiasNOLaborables))","v":19},"",null,null,20]
[1423,20219050060202,"2021-05-16","CIUDADANO","MODULO CONTACTENOS","SOLICITUD DE INFORMACIÓN Y DOCUMENTOS","BOSQUES","SI","SUBDIRECCIÓN DE ECOSISTEMAS E INFORMACIÓN AMBIENTAL","2021-05-31","CORREO ELECTRÓNICO",null,{"$f":"IFERROR(WORKDAY(C1434,S1433,DiasNOLaborables),\"\")","v":"2021-06-16"},{"$f":"+IF(C1434=\"\",\"\",IF(J1434=\"\",\"SIN RESPUESTA\",(IF(J1434<=M1434,\"A TIEMPO\",\"FUERA DE TIEMPO\"))))","v":"A TIEMPO"},{"$f":"IF(J1434=\"\",\"\",NETWORKDAYS(C1434+1,J1434,DiasNOLaborables))","v":10},"",null,null,20]
[1424,20219050060292,"2021-05-17","CIUDADANO","MODULO CONTACTENOS","SOLICITUD DE INFORMACIÓN Y DOCUMENTOS","SIRH","SI","SUBDIRECCIÓN DE HIDROLOGÍA","2021-06-02","CORREO ELECTRÓNICO",null,{"$f":"IFERROR(WORKDAY(C1435,S1434,DiasNOLaborables),\"\")","v":"2021-06-16"},{"$f":"+IF(C1435=\"\",\"\",IF(J1435=\"\",\"SIN RESPUESTA\",(IF(J1435<=M1435,\"A TIEMPO\",\"FUERA DE TIEMPO\"))))","v":"A TIEMPO"},{"$f":"IF(J1435=\"\",\"\",NETWORKDAYS(C1435+1,J1435,DiasNOLaborables))","v":12},"",null,null,20]
[1425,20219050060302,"2021-05-17","CIUDADANO","MODULO CONTACTENOS","SOLICITUD DE INFORMACIÓN Y DOCUMENTOS","SIRH","SI","SUBDIRECCIÓN DE HIDROLOGÍA","2021-06-02","CORREO ELECTRÓNICO",null,{"$f":"IFERROR(WORKDAY(C1436,S1435,DiasNOLaborables),\"\")","v":"2021-06-16"},{"$f":"+IF(C1436=\"\",\"\",IF(J1436=\"\",\"SIN RESPUESTA\",(IF(J1436<=M1436,\"A TIEMPO\",\"FUERA DE TIEMPO\"))))","v":"A TIEMPO"},{"$f":"IF(J1436=\"\",\"\",NETWORKDAYS(C1436+1,J1436,DiasNOLaborables))","v":12},"",null,null,20]
[1426,20219050060312,"2021-05-17","CIUDADANO","MODULO CONTACTENOS","SOLICITUD DE INFORMACIÓN Y DOCUMENTOS","SIRH","SI","SUBDIRECCIÓN DE HIDROLOGÍA","2021-06-02","CORREO ELECTRÓNICO",null,{"$f":"IFERROR(WORKDAY(C1437,S1436,DiasNOLaborables),\"\")","v":"2021-06-16"},{"$f":"+IF(C1437=\"\",\"\",IF(J1437=\"\",\"SIN RESPUESTA\",(IF(J1437<=M1437,\"A TIEMPO\",\"FUERA DE TIEMPO\"))))","v":"A TIEMPO"},{"$f":"IF(J1437=\"\",\"\",NETWORKDAYS(C1437+1,J1437,DiasNOLaborables))","v":12},"",null,null,20]
[1427,20219050060322,"2021-05-17","CIUDADANO","MODULO CONTACTENOS","SOLICITUD DE INFORMACIÓN Y DOCUMENTOS","SIRH","SI","SUBDIRECCIÓN DE HIDROLOGÍA","2021-06-02","CORREO ELECTRÓNICO",null,{"$f":"IFERROR(WORKDAY(C1438,S1437,DiasNOLaborables),\"\")","v":"2021-06-16"},{"$f":"+IF(C1438=\"\",\"\",IF(J1438=\"\",\"SIN RESPUESTA\",(IF(J1438<=M1438,\"A TIEMPO\",\"FUERA DE TIEMPO\"))))","v":"A TIEMPO"},{"$f":"IF(J1438=\"\",\"\",NETWORKDAYS(C1438+1,J1438,DiasNOLaborables))","v":12},"",null,null,20]
[1428,20219050060342,"2021-05-17","CIUDADANO","MODULO CONTACTENOS","SOLICITUD DE INFORMACIÓN Y DOCUMENTOS","SIRH","SI","SUBDIRECCIÓN DE HIDROLOGÍA","2021-06-02","CORREO ELECTRÓNICO",null,{"$f":"IFERROR(WORKDAY(C1439,S1438,DiasNOLaborables),\"\")","v":"2021-06-16"},{"$f":"+IF(C1439=\"\",\"\",IF(J1439=\"\",\"SIN RESPUESTA\",(IF(J1439<=M1439,\"A TIEMPO\",\"FUERA DE TIEMPO\"))))","v":"A TIEMPO"},{"$f":"IF(J1439=\"\",\"\",NETWORKDAYS(C1439+1,J1439,DiasNOLaborables))","v":12},"",null,null,20]
[1429,20219050060272,"2021-05-17","CIUDADANO","MODULO CONTACTENOS","SOLICITUD DE INFORMACIÓN Y DOCUMENTOS","SOLICITUD DE INFORMACIÓN HIDROMETEOROLÓGICA","NO","GRUPO DE SERVICIO AL CIUDADANO ","2021-06-16","CORREO ELECTRÓNICO",null,{"$f":"IFERROR(WORKDAY(C1440,S1439,DiasNOLaborables),\"\")","v":"2021-06-16"},{"$f":"+IF(C1440=\"\",\"\",IF(J1440=\"\",\"SIN RESPUESTA\",(IF(J1440<=M1440,\"A TIEMPO\",\"FUERA DE TIEMPO\"))))","v":"A TIEMPO"},{"$f":"IF(J1440=\"\",\"\",NETWORKDAYS(C1440+1,J1440,DiasNOLaborables))","v":20},"",null,null,20]
[1430,20219050060282,"2021-05-17","ACADEMIA","MODULO CONTACTENOS","SOLICITUD DE INFORMACIÓN Y DOCUMENTOS","SOLICITUD DE INFORMACIÓN HIDROMETEOROLÓGICA","NO","GRUPO DE SERVICIO AL CIUDADANO ","2021-06-16","CORREO ELECTRÓNICO",null,{"$f":"IFERROR(WORKDAY(C1441,S1440,DiasNOLaborables),\"\")","v":"2021-06-16"},{"$f":"+IF(C1441=\"\",\"\",IF(J1441=\"\",\"SIN RESPUESTA\",(IF(J1441<=M1441,\"A TIEMPO\",\"FUERA DE TIEMPO\"))))","v":"A TIEMPO"},{"$f":"IF(J1441=\"\",\"\",NETWORKDAYS(C1441+1,J1441,DiasNOLaborables))","v":20},"",null,null,20]
[1431,20219050060332,"2021-05-17","ACADEMIA","MODULO CONTACTENOS","SOLICITUD DE INFORMACIÓN Y DOCUMENTOS","SOLICITUD DE INFORMACIÓN HIDROMETEOROLÓGICA","NO","GRUPO DE SERVICIO AL CIUDADANO ","2021-06-16","CORREO ELECTRÓNICO",null,{"$f":"IFERROR(WORKDAY(C1442,S1441,DiasNOLaborables),\"\")","v":"2021-06-16"},{"$f":"+IF(C1442=\"\",\"\",IF(J1442=\"\",\"SIN RESPUESTA\",(IF(J1442<=M1442,\"A TIEMPO\",\"FUERA DE TIEMPO\"))))","v":"A TIEMPO"},{"$f":"IF(J1442=\"\",\"\",NETWORKDAYS(C1442+1,J1442,DiasNOLaborables))","v":20},"",null,null,20]
[1432,20219050060352,"2021-05-17","CIUDADANO","MODULO CONTACTENOS","SOLICITUD DE INFORMACIÓN Y DOCUMENTOS","SOLICITUD DE INFORMACIÓN HIDROMETEOROLÓGICA","NO","GRUPO DE SERVICIO AL CIUDADANO ","2021-06-16","CORREO ELECTRÓNICO",null,{"$f":"IFERROR(WORKDAY(C1443,S1442,DiasNOLaborables),\"\")","v":"2021-06-16"},{"$f":"+IF(C1443=\"\",\"\",IF(J1443=\"\",\"SIN RESPUESTA\",(IF(J1443<=M1443,\"A TIEMPO\",\"FUERA DE TIEMPO\"))))","v":"A TIEMPO"},{"$f":"IF(J1443=\"\",\"\",NETWORKDAYS(C1443+1,J1443,DiasNOLaborables))","v":20},"",null,null,20]
[1433,20219050060392,"2021-05-18","ACADEMIA","MODULO CONTACTENOS","SOLICITUD DE INFORMACIÓN Y DOCUMENTOS","SOLICITUD DE INFORMACIÓN HIDROMETEOROLÓGICA","NO","GRUPO DE SERVICIO AL CIUDADANO ","2021-06-16","CORREO ELECTRÓNICO",null,{"$f":"IFERROR(WORKDAY(C1444,S1443,DiasNOLaborables),\"\")","v":"2021-06-17"},{"$f":"+IF(C1444=\"\",\"\",IF(J1444=\"\",\"SIN RESPUESTA\",(IF(J1444<=M1444,\"A TIEMPO\",\"FUERA DE TIEMPO\"))))","v":"A TIEMPO"},{"$f":"IF(J1444=\"\",\"\",NETWORKDAYS(C1444+1,J1444,DiasNOLaborables))","v":19},"",null,null,20]
[1434,20219050060442,"2021-05-18","ACADEMIA","MODULO CONTACTENOS","SOLICITUD DE INFORMACIÓN Y DOCUMENTOS","SOLICITUD DE INFORMACIÓN HIDROMETEOROLÓGICA","NO","GRUPO DE SERVICIO AL CIUDADANO ","2021-06-16","CORREO ELECTRÓNICO",null,{"$f":"IFERROR(WORKDAY(C1445,S1444,DiasNOLaborables),\"\")","v":"2021-06-17"},{"$f":"+IF(C1445=\"\",\"\",IF(J1445=\"\",\"SIN RESPUESTA\",(IF(J1445<=M1445,\"A TIEMPO\",\"FUERA DE TIEMPO\"))))","v":"A TIEMPO"},{"$f":"IF(J1445=\"\",\"\",NETWORKDAYS(C1445+1,J1445,DiasNOLaborables))","v":19},"",null,null,20]
[1435,20219050060962,"2021-05-18","CIUDADANO","MODULO CONTACTENOS","SOLICITUD DE INFORMACIÓN Y DOCUMENTOS","SOLICITUD DE INFORMACIÓN HIDROMETEOROLÓGICA","NO","GRUPO DE SERVICIO AL CIUDADANO ","2021-06-16","CORREO ELECTRÓNICO",null,{"$f":"IFERROR(WORKDAY(C1446,S1445,DiasNOLaborables),\"\")","v":"2021-06-17"},{"$f":"+IF(C1446=\"\",\"\",IF(J1446=\"\",\"SIN RESPUESTA\",(IF(J1446<=M1446,\"A TIEMPO\",\"FUERA DE TIEMPO\"))))","v":"A TIEMPO"},{"$f":"IF(J1446=\"\",\"\",NETWORKDAYS(C1446+1,J1446,DiasNOLaborables))","v":19},"",null,null,20]
[1436,20219050060952,"2021-05-18","CIUDADANO","MODULO CONTACTENOS","SOLICITUD DE INFORMACIÓN Y DOCUMENTOS","SOLICITUD DE INFORMACIÓN HIDROMETEOROLÓGICA","NO","GRUPO DE SERVICIO AL CIUDADANO ","2021-06-17","CORREO ELECTRÓNICO",null,{"$f":"IFERROR(WORKDAY(C1447,S1446,DiasNOLaborables),\"\")","v":"2021-06-17"},{"$f":"+IF(C1447=\"\",\"\",IF(J1447=\"\",\"SIN RESPUESTA\",(IF(J1447<=M1447,\"A TIEMPO\",\"FUERA DE TIEMPO\"))))","v":"A TIEMPO"},{"$f":"IF(J1447=\"\",\"\",NETWORKDAYS(C1447+1,J1447,DiasNOLaborables))","v":20},"",null,null,20]
[1437,20219050060972,"2021-05-18","CIUDADANO","MODULO CONTACTENOS","SOLICITUD DE INFORMACIÓN Y DOCUMENTOS","SOLICITUD DE INFORMACIÓN HIDROMETEOROLÓGICA","NO","GRUPO DE SERVICIO AL CIUDADANO ","2021-06-17","CORREO ELECTRÓNICO",null,{"$f":"IFERROR(WORKDAY(C1448,S1447,DiasNOLaborables),\"\")","v":"2021-06-17"},{"$f":"+IF(C1448=\"\",\"\",IF(J1448=\"\",\"SIN RESPUESTA\",(IF(J1448<=M1448,\"A TIEMPO\",\"FUERA DE TIEMPO\"))))","v":"A TIEMPO"},{"$f":"IF(J1448=\"\",\"\",NETWORKDAYS(C1448+1,J1448,DiasNOLaborables))","v":20},"",null,null,20]
[1438,20219050060992,"2021-05-18","CIUDADANO","MODULO CONTACTENOS","SOLICITUD DE INFORMACIÓN Y DOCUMENTOS","SOLICITUD DE INFORMACIÓN HIDROMETEOROLÓGICA","NO","GRUPO DE SERVICIO AL CIUDADANO ","2021-06-17","CORREO ELECTRÓNICO",null,{"$f":"IFERROR(WORKDAY(C1449,S1448,DiasNOLaborables),\"\")","v":"2021-06-17"},{"$f":"+IF(C1449=\"\",\"\",IF(J1449=\"\",\"SIN RESPUESTA\",(IF(J1449<=M1449,\"A TIEMPO\",\"FUERA DE TIEMPO\"))))","v":"A TIEMPO"},{"$f":"IF(J1449=\"\",\"\",NETWORKDAYS(C1449+1,J1449,DiasNOLaborables))","v":20},"",null,null,20]
[1439,20219050061002,"2021-05-18","CIUDADANO","MODULO CONTACTENOS","SOLICITUD DE INFORMACIÓN Y DOCUMENTOS","SOLICITUD DE INFORMACIÓN HIDROMETEOROLÓGICA","NO","GRUPO DE SERVICIO AL CIUDADANO ","2021-06-17","CORREO ELECTRÓNICO",null,{"$f":"IFERROR(WORKDAY(C1450,S1449,DiasNOLaborables),\"\")","v":"2021-06-17"},{"$f":"+IF(C1450=\"\",\"\",IF(J1450=\"\",\"SIN RESPUESTA\",(IF(J1450<=M1450,\"A TIEMPO\",\"FUERA DE TIEMPO\"))))","v":"A TIEMPO"},{"$f":"IF(J1450=\"\",\"\",NETWORKDAYS(C1450+1,J1450,DiasNOLaborables))","v":20},"",null,null,20]
[1440,20219050061062,"2021-05-18","CIUDADANO","MODULO CONTACTENOS","SOLICITUD DE INFORMACIÓN Y DOCUMENTOS","SOLICITUD DE INFORMACIÓN HIDROMETEOROLÓGICA","NO","GRUPO DE SERVICIO AL CIUDADANO ","2021-06-17","CORREO ELECTRÓNICO",null,{"$f":"IFERROR(WORKDAY(C1451,S1450,DiasNOLaborables),\"\")","v":"2021-06-17"},{"$f":"+IF(C1451=\"\",\"\",IF(J1451=\"\",\"SIN RESPUESTA\",(IF(J1451<=M1451,\"A TIEMPO\",\"FUERA DE TIEMPO\"))))","v":"A TIEMPO"},{"$f":"IF(J1451=\"\",\"\",NETWORKDAYS(C1451+1,J1451,DiasNOLaborables))","v":20},"",null,null,20]
[1441,20219050061092,"2021-05-18","CIUDADANO","MODULO CONTACTENOS","SOLICITUD DE INFORMACIÓN Y DOCUMENTOS","SOLICITUD DE INFORMACIÓN HIDROMETEOROLÓGICA","NO","GRUPO DE SERVICIO AL CIUDADANO ","2021-06-17","CORREO ELECTRÓNICO",null,{"$f":"IFERROR(WORKDAY(C1452,S1451,DiasNOLaborables),\"\")","v":"2021-06-17"},{"$f":"+IF(C1452=\"\",\"\",IF(J1452=\"\",\"SIN RESPUESTA\",(IF(J1452<=M1452,\"A TIEMPO\",\"FUERA DE TIEMPO\"))))","v":"A TIEMPO"},{"$f":"IF(J1452=\"\",\"\",NETWORKDAYS(C1452+1,J1452,DiasNOLaborables))","v":20},"",null,null,20]
[1442,20219050061102,"2021-05-18","CIUDADANO","MODULO CONTACTENOS","SOLICITUD DE INFORMACIÓN Y DOCUMENTOS","SOLICITUD DE INFORMACIÓN HIDROMETEOROLÓGICA","NO","GRUPO DE SERVICIO AL CIUDADANO ","2021-06-17","CORREO ELECTRÓNICO",null,{"$f":"IFERROR(WORKDAY(C1453,S1452,DiasNOLaborables),\"\")","v":"2021-06-17"},{"$f":"+IF(C1453=\"\",\"\",IF(J1453=\"\",\"SIN RESPUESTA\",(IF(J1453<=M1453,\"A TIEMPO\",\"FUERA DE TIEMPO\"))))","v":"A TIEMPO"},{"$f":"IF(J1453=\"\",\"\",NETWORKDAYS(C1453+1,J1453,DiasNOLaborables))","v":20},"",null,null,20]
[1443,20217090001402,"2021-05-18","ACADEMIA","MODULO CONTACTENOS","SOLICITUD DE INFORMACIÓN Y DOCUMENTOS","SOLICITUD DE INFORMACIÓN HIDROMETEOROLÓGICA","NO","GRUPO DE SERVICIO AL CIUDADANO ","2021-06-17","CORREO ELECTRÓNICO","NASLY SUSANA PUERTA GUTIERREZ",{"$f":"IFERROR(WORKDAY(C1454,S1453,DiasNOLaborables),\"\")","v":"2021-06-17"},{"$f":"+IF(C1454=\"\",\"\",IF(J1454=\"\",\"SIN RESPUESTA\",(IF(J1454<=M1454,\"A TIEMPO\",\"FUERA DE TIEMPO\"))))","v":"A TIEMPO"},{"$f":"IF(J1454=\"\",\"\",NETWORKDAYS(C1454+1,J1454,DiasNOLaborables))","v":20},"",null,null,20]
[1444,20219050061112,"2021-05-18","CIUDADANO","MODULO CONTACTENOS","SOLICITUD DE INFORMACIÓN Y DOCUMENTOS","SOLICITUD DE INFORMACIÓN HIDROMETEOROLÓGICA","NO","GRUPO DE SERVICIO AL CIUDADANO ","2021-06-17","CORREO ELECTRÓNICO","NASLY SUSANA PUERTA GUTIERREZ",{"$f":"IFERROR(WORKDAY(C1455,S1454,DiasNOLaborables),\"\")","v":"2021-06-17"},{"$f":"+IF(C1455=\"\",\"\",IF(J1455=\"\",\"SIN RESPUESTA\",(IF(J1455<=M1455,\"A TIEMPO\",\"FUERA DE TIEMPO\"))))","v":"A TIEMPO"},{"$f":"IF(J1455=\"\",\"\",NETWORKDAYS(C1455+1,J1455,DiasNOLaborables))","v":20},"",null,null,20]
[1445,20219050061122,"2021-05-18","CIUDADANO","MODULO CONTACTENOS","SOLICITUD DE INFORMACIÓN Y DOCUMENTOS","SOLICITUD DE INFORMACIÓN HIDROMETEOROLÓGICA","NO","GRUPO DE SERVICIO AL CIUDADANO ","2021-06-17","CORREO ELECTRÓNICO","NASLY SUSANA PUERTA GUTIERREZ",{"$f":"IFERROR(WORKDAY(C1456,S1455,DiasNOLaborables),\"\")","v":"2021-06-17"},{"$f":"+IF(C1456=\"\",\"\",IF(J1456=\"\",\"SIN RESPUESTA\",(IF(J1456<=M1456,\"A TIEMPO\",\"FUERA DE TIEMPO\"))))","v":"A TIEMPO"},{"$f":"IF(J1456=\"\",\"\",NETWORKDAYS(C1456+1,J1456,DiasNOLaborables))","v":20},"",null,null,20]
[1446,20219050060462,"2021-05-18","ENTIDAD PÚBLICA","CORREO ELECTRÓNICO","SOLICITUD DE INFORMACIÓN Y DOCUMENTOS","SIA","SI","SUBDIRECCIÓN DE ECOSISTEMAS E INFORMACIÓN AMBIENTAL","2021-06-04","CORREO ELECTRÓNICO",null,{"$f":"IFERROR(WORKDAY(C1457,S1456,DiasNOLaborables),\"\")","v":"2021-06-17"},{"$f":"+IF(C1457=\"\",\"\",IF(J1457=\"\",\"SIN RESPUESTA\",(IF(J1457<=M1457,\"A TIEMPO\",\"FUERA DE TIEMPO\"))))","v":"A TIEMPO"},{"$f":"IF(J1457=\"\",\"\",NETWORKDAYS(C1457+1,J1457,DiasNOLaborables))","v":13},"",null,null,30]
[1447,20219050060372,"2021-05-18","CIUDADANO","CORREO ELECTRÓNICO","PETICIÓN","ZONIFICACIÓN HIDROGRÁFICA","SI","SUBDIRECCIÓN DE HIDROLOGÍA","2021-05-31","CORREO ELECTRÓNICO",null,{"$f":"IFERROR(WORKDAY(C1458,S1457,DiasNOLaborables),\"\")","v":"2021-07-01"},{"$f":"+IF(C1458=\"\",\"\",IF(J1458=\"\",\"SIN RESPUESTA\",(IF(J1458<=M1458,\"A TIEMPO\",\"FUERA DE TIEMPO\"))))","v":"A TIEMPO"},{"$f":"IF(J1458=\"\",\"\",NETWORKDAYS(C1458+1,J1458,DiasNOLaborables))","v":9},"",null,null,20]
[1448,20219050060492,"2021-05-18","CIUDADANO","CORREO ELECTRÓNICO","SOLICITUD DE INFORMACIÓN Y DOCUMENTOS","REGISTROS AMBIENTALES","SI","SUBDIRECCIÓN DE ESTUDIOS AMBIENTALES","2021-05-18","CORREO ELECTRÓNICO",null,{"$f":"IFERROR(WORKDAY(C1459,S1458,DiasNOLaborables),\"\")","v":"2021-06-17"},{"$f":"+IF(C1459=\"\",\"\",IF(J1459=\"\",\"SIN RESPUESTA\",(IF(J1459<=M1459,\"A TIEMPO\",\"FUERA DE TIEMPO\"))))","v":"A TIEMPO"},{"$f":"IF(J1459=\"\",\"\",NETWORKDAYS(C1459+1,J1459,DiasNOLaborables))","v":-2},"",null,null,35]
[1449,20219050060512,"2021-05-18","CIUDADANO","CORREO ELECTRÓNICO","CERTIFICACIONES DE TIEMPO, CLIMA Y EVENTOS HIDROLÓGICOS","CERTIFICACIONES DE TIEMPO Y CLIMA","SI","SUBDIRECCIÓN DE METEOROLOGÍA","2021-06-01","CORREO ELECTRÓNICO",null,{"$f":"IFERROR(WORKDAY(C1460,S1459,DiasNOLaborables),\"\")","v":"2021-07-09"},{"$f":"+IF(C1460=\"\",\"\",IF(J1460=\"\",\"SIN RESPUESTA\",(IF(J1460<=M1460,\"A TIEMPO\",\"FUERA DE TIEMPO\"))))","v":"A TIEMPO"},{"$f":"IF(J1460=\"\",\"\",NETWORKDAYS(C1460+1,J1460,DiasNOLaborables))","v":10},"",null,null,35]
[1450,20219050060552,"2021-05-18","CIUDADANO","CORREO ELECTRÓNICO","CERTIFICACIONES DE TIEMPO, CLIMA Y EVENTOS HIDROLÓGICOS","CERTIFICACIONES DE TIEMPO Y CLIMA","SI","SUBDIRECCIÓN DE METEOROLOGÍA","2021-06-04","CORREO ELECTRÓNICO",null,{"$f":"IFERROR(WORKDAY(C1461,S1460,DiasNOLaborables),\"\")","v":"2021-07-09"},{"$f":"+IF(C1461=\"\",\"\",IF(J1461=\"\",\"SIN RESPUESTA\",(IF(J1461<=M1461,\"A TIEMPO\",\"FUERA DE TIEMPO\"))))","v":"A TIEMPO"},{"$f":"IF(J1461=\"\",\"\",NETWORKDAYS(C1461+1,J1461,DiasNOLaborables))","v":13},"",null,null,35]
[1451,20219050060722,"2021-05-18","EMPRESA PRIVADA","CORREO ELECTRÓNICO","CERTIFICACIONES DE TIEMPO, CLIMA Y EVENTOS HIDROLÓGICOS","CERTIFICACIONES DE TIEMPO Y CLIMA","SI","SUBDIRECCIÓN DE METEOROLOGÍA","2021-06-04","CORREO ELECTRÓNICO",null,{"$f":"IFERROR(WORKDAY(C1462,S1461,DiasNOLaborables),\"\")","v":"2021-07-09"},{"$f":"+IF(C1462=\"\",\"\",IF(J1462=\"\",\"SIN RESPUESTA\",(IF(J1462<=M1462,\"A TIEMPO\",\"FUERA DE TIEMPO\"))))","v":"A TIEMPO"},{"$f":"IF(J1462=\"\",\"\",NETWORKDAYS(C1462+1,J1462,DiasNOLaborables))","v":13},"",null,null,20]
[1452,20219050060982,"2021-05-18","ENTIDAD PÚBLICA","CORREO ELECTRÓNICO","SOLICITUD DE INFORMACIÓN Y DOCUMENTOS","ZONIFICACIÓN HIDROGRÁFICA","SI","SUBDIRECCIÓN DE HIDROLOGÍA","2021-06-01","CORREO ELECTRÓNICO",null,{"$f":"IFERROR(WORKDAY(C1463,S1462,DiasNOLaborables),\"\")","v":"2021-06-17"},{"$f":"+IF(C1463=\"\",\"\",IF(J1463=\"\",\"SIN RESPUESTA\",(IF(J1463<=M1463,\"A TIEMPO\",\"FUERA DE TIEMPO\"))))","v":"A TIEMPO"},{"$f":"IF(J1463=\"\",\"\",NETWORKDAYS(C1463+1,J1463,DiasNOLaborables))","v":10},"",null,null,20]
[1453,20219050061082,"2021-05-18","CIUDADANO","CORREO ELECTRÓNICO","SOLICITUD DE INFORMACIÓN Y DOCUMENTOS","ADMINISTRATIVA","SI","GRUPO DE ADMINISTRACIÓN Y DESARROLLO DEL TALENTO HUMANO","2021-05-20","CORREO ELECTRÓNICO",null,{"$f":"IFERROR(WORKDAY(C1464,S1463,DiasNOLaborables),\"\")","v":"2021-06-17"},{"$f":"+IF(C1464=\"\",\"\",IF(J1464=\"\",\"SIN RESPUESTA\",(IF(J1464<=M1464,\"A TIEMPO\",\"FUERA DE TIEMPO\"))))","v":"A TIEMPO"},{"$f":"IF(J1464=\"\",\"\",NETWORKDAYS(C1464+1,J1464,DiasNOLaborables))","v":2},"",null,null,35]
[1454,20219050061042,"2021-05-18","CIUDADANO","MODULO CONTACTENOS","CERTIFICACIONES DE TIEMPO, CLIMA Y EVENTOS HIDROLÓGICOS","CERTIFICACIONES DE TIEMPO Y CLIMA","SI","SUBDIRECCIÓN DE METEOROLOGÍA","2021-05-28","CORREO ELECTRÓNICO",null,{"$f":"IFERROR(WORKDAY(C1465,S1464,DiasNOLaborables),\"\")","v":"2021-07-09"},{"$f":"+IF(C1465=\"\",\"\",IF(J1465=\"\",\"SIN RESPUESTA\",(IF(J1465<=M1465,\"A TIEMPO\",\"FUERA DE TIEMPO\"))))","v":"A TIEMPO"},{"$f":"IF(J1465=\"\",\"\",NETWORKDAYS(C1465+1,J1465,DiasNOLaborables))","v":8},"",null,null,35]
[1455,20219050060522,"2021-05-18","CIUDADANO","CORREO ELECTRÓNICO","CERTIFICACIONES DE TIEMPO, CLIMA Y EVENTOS HIDROLÓGICOS","CERTIFICACIONES DE TIEMPO Y CLIMA","SI","SUBDIRECCIÓN DE METEOROLOGÍA","2021-06-16","CORREO ELECTRÓNICO",null,{"$f":"IFERROR(WORKDAY(C1466,S1465,DiasNOLaborables),\"\")","v":"2021-07-09"},{"$f":"+IF(C1466=\"\",\"\",IF(J1466=\"\",\"SIN RESPUESTA\",(IF(J1466<=M1466,\"A TIEMPO\",\"FUERA DE TIEMPO\"))))","v":"A TIEMPO"},{"$f":"IF(J1466=\"\",\"\",NETWORKDAYS(C1466+1,J1466,DiasNOLaborables))","v":19},"",null,null,20]
[1456,20219050060562,"2021-05-18","CIUDADANO","CORREO ELECTRÓNICO","SOLICITUD DE INFORMACIÓN Y DOCUMENTOS","SIRH","SI","SUBDIRECCIÓN DE HIDROLOGÍA","2021-06-08","CORREO ELECTRÓNICO",null,{"$f":"IFERROR(WORKDAY(C1467,S1466,DiasNOLaborables),\"\")","v":"2021-06-17"},{"$f":"+IF(C1467=\"\",\"\",IF(J1467=\"\",\"SIN RESPUESTA\",(IF(J1467<=M1467,\"A TIEMPO\",\"FUERA DE TIEMPO\"))))","v":"A TIEMPO"},{"$f":"IF(J1467=\"\",\"\",NETWORKDAYS(C1467+1,J1467,DiasNOLaborables))","v":14},"",null,null,35]
[1457,20219050060602,"2021-05-18","CIUDADANO","CORREO ELECTRÓNICO","CERTIFICACIONES DE TIEMPO, CLIMA Y EVENTOS HIDROLÓGICOS","CERTIFICACIONES DE TIEMPO Y CLIMA","SI","SUBDIRECCIÓN DE METEOROLOGÍA","2021-05-18","CORREO ELECTRÓNICO",null,{"$f":"IFERROR(WORKDAY(C1468,S1467,DiasNOLaborables),\"\")","v":"2021-07-09"},{"$f":"+IF(C1468=\"\",\"\",IF(J1468=\"\",\"SIN RESPUESTA\",(IF(J1468<=M1468,\"A TIEMPO\",\"FUERA DE TIEMPO\"))))","v":"A TIEMPO"},{"$f":"IF(J1468=\"\",\"\",NETWORKDAYS(C1468+1,J1468,DiasNOLaborables))","v":-2},"",null,null,35]
[1458,20219050060662,"2021-05-18","CIUDADANO","CORREO ELECTRÓNICO","CERTIFICACIONES DE TIEMPO, CLIMA Y EVENTOS HIDROLÓGICOS","CERTIFICACIONES DE TIEMPO Y CLIMA","SI","SUBDIRECCIÓN DE METEOROLOGÍA","2021-06-15","CORREO ELECTRÓNICO",null,{"$f":"IFERROR(WORKDAY(C1469,S1468,DiasNOLaborables),\"\")","v":"2021-07-09"},{"$f":"+IF(C1469=\"\",\"\",IF(J1469=\"\",\"SIN RESPUESTA\",(IF(J1469<=M1469,\"A TIEMPO\",\"FUERA DE TIEMPO\"))))","v":"A TIEMPO"},{"$f":"IF(J1469=\"\",\"\",NETWORKDAYS(C1469+1,J1469,DiasNOLaborables))","v":18},"",null,null,20]
[1459,20219050060682,"2021-05-18","CIUDADANO","CORREO ELECTRÓNICO","SOLICITUD DE INFORMACIÓN Y DOCUMENTOS","REGISTROS AMBIENTALES","SI","SUBDIRECCIÓN DE ESTUDIOS AMBIENTALES","2021-05-18","CORREO ELECTRÓNICO",null,{"$f":"IFERROR(WORKDAY(C1470,S1469,DiasNOLaborables),\"\")","v":"2021-06-17"},{"$f":"+IF(C1470=\"\",\"\",IF(J1470=\"\",\"SIN RESPUESTA\",(IF(J1470<=M1470,\"A TIEMPO\",\"FUERA DE TIEMPO\"))))","v":"A TIEMPO"},{"$f":"IF(J1470=\"\",\"\",NETWORKDAYS(C1470+1,J1470,DiasNOLaborables))","v":-2},"",null,null,20]
[1460,20219050060712,"2021-05-18","CIUDADANO","CORREO ELECTRÓNICO","SOLICITUD DE INFORMACIÓN Y DOCUMENTOS","SOLICITUD DE INFORMACIÓN HIDROMETEOROLÓGICA","SI","GRUPO DE SERVICIO AL CIUDADANO ","2021-05-27","CORREO ELECTRÓNICO",null,{"$f":"IFERROR(WORKDAY(C1471,S1470,DiasNOLaborables),\"\")","v":"2021-06-17"},{"$f":"+IF(C1471=\"\",\"\",IF(J1471=\"\",\"SIN RESPUESTA\",(IF(J1471<=M1471,\"A TIEMPO\",\"FUERA DE TIEMPO\"))))","v":"A TIEMPO"},{"$f":"IF(J1471=\"\",\"\",NETWORKDAYS(C1471+1,J1471,DiasNOLaborables))","v":7},"",null,null,35]
[1461,20219050060732,"2021-05-18","CIUDADANO","CORREO ELECTRÓNICO","CERTIFICACIONES DE TIEMPO, CLIMA Y EVENTOS HIDROLÓGICOS","CERTIFICACIONES DE TIEMPO Y CLIMA","SI","SUBDIRECCIÓN DE METEOROLOGÍA","2021-06-04","CORREO ELECTRÓNICO",null,{"$f":"IFERROR(WORKDAY(C1472,S1471,DiasNOLaborables),\"\")","v":"2021-07-09"},{"$f":"+IF(C1472=\"\",\"\",IF(J1472=\"\",\"SIN RESPUESTA\",(IF(J1472<=M1472,\"A TIEMPO\",\"FUERA DE TIEMPO\"))))","v":"A TIEMPO"},{"$f":"IF(J1472=\"\",\"\",NETWORKDAYS(C1472+1,J1472,DiasNOLaborables))","v":13},"",null,null,20]
[1462,20219050061012,"2021-05-18","CIUDADANO","CORREO ELECTRÓNICO","SOLICITUD DE INFORMACIÓN Y DOCUMENTOS","BOSQUES","SI","SUBDIRECCIÓN DE ECOSISTEMAS E INFORMACIÓN AMBIENTAL","2021-05-18","CORREO ELECTRÓNICO",null,{"$f":"IFERROR(WORKDAY(C1473,S1472,DiasNOLaborables),\"\")","v":"2021-06-17"},{"$f":"+IF(C1473=\"\",\"\",IF(J1473=\"\",\"SIN RESPUESTA\",(IF(J1473<=M1473,\"A TIEMPO\",\"FUERA DE TIEMPO\"))))","v":"A TIEMPO"},{"$f":"IF(J1473=\"\",\"\",NETWORKDAYS(C1473+1,J1473,DiasNOLaborables))","v":-2},"",null,null,20]
[1463,20219050060422,"2021-05-18","CIUDADANO","MODULO CONTACTENOS","SOLICITUD DE INFORMACIÓN Y DOCUMENTOS","SOLICITUD DE INFORMACIÓN HIDROMETEOROLÓGICA","NO","GRUPO DE SERVICIO AL CIUDADANO ","2021-06-15","CORREO ELECTRÓNICO",null,{"$f":"IFERROR(WORKDAY(C1474,S1473,DiasNOLaborables),\"\")","v":"2021-06-17"},{"$f":"+IF(C1474=\"\",\"\",IF(J1474=\"\",\"SIN RESPUESTA\",(IF(J1474<=M1474,\"A TIEMPO\",\"FUERA DE TIEMPO\"))))","v":"A TIEMPO"},{"$f":"IF(J1474=\"\",\"\",NETWORKDAYS(C1474+1,J1474,DiasNOLaborables))","v":18},"",null,null,20]
[1464,20219050061072,"2021-05-18","CIUDADANO","CORREO ELECTRÓNICO","SOLICITUD DE INFORMACIÓN Y DOCUMENTOS","BOSQUES","SI","SUBDIRECCIÓN DE ECOSISTEMAS E INFORMACIÓN AMBIENTAL","2021-05-20","CORREO ELECTRÓNICO",null,{"$f":"IFERROR(WORKDAY(C1475,S1474,DiasNOLaborables),\"\")","v":"2021-06-17"},{"$f":"+IF(C1475=\"\",\"\",IF(J1475=\"\",\"SIN RESPUESTA\",(IF(J1475<=M1475,\"A TIEMPO\",\"FUERA DE TIEMPO\"))))","v":"A TIEMPO"},{"$f":"IF(J1475=\"\",\"\",NETWORKDAYS(C1475+1,J1475,DiasNOLaborables))","v":2},"",null,null,20]
[1465,20219050061152,"2021-05-18","EMPRESA PRIVADA","CORREO ELECTRÓNICO","SOLICITUD DE INFORMACIÓN Y DOCUMENTOS","SOLICITUD DE INFORMACIÓN HIDROMETEOROLÓGICA","NO","GRUPO DE SERVICIO AL CIUDADANO ","2021-05-20","CORREO ELECTRÓNICO",null,{"$f":"IFERROR(WORKDAY(C1476,S1475,DiasNOLaborables),\"\")","v":"2021-06-17"},{"$f":"+IF(C1476=\"\",\"\",IF(J1476=\"\",\"SIN RESPUESTA\",(IF(J1476<=M1476,\"A TIEMPO\",\"FUERA DE TIEMPO\"))))","v":"A TIEMPO"},{"$f":"IF(J1476=\"\",\"\",NETWORKDAYS(C1476+1,J1476,DiasNOLaborables))","v":2},"",null,null,20]
[1466,20219050060452,"2021-05-18","ENTIDAD PÚBLICA","MODULO CONTACTENOS","SOLICITUD DE INFORMACIÓN Y DOCUMENTOS","SOLICITUD DE INFORMACIÓN HIDROMETEOROLÓGICA","SI","AREA OPERATIVA No. 8","2021-06-16","CORREO ELECTRÓNICO",null,{"$f":"IFERROR(WORKDAY(C1477,S1476,DiasNOLaborables),\"\")","v":"2021-06-17"},{"$f":"+IF(C1477=\"\",\"\",IF(J1477=\"\",\"SIN RESPUESTA\",(IF(J1477<=M1477,\"A TIEMPO\",\"FUERA DE TIEMPO\"))))","v":"A TIEMPO"},{"$f":"IF(J1477=\"\",\"\",NETWORKDAYS(C1477+1,J1477,DiasNOLaborables))","v":19},"",null,null,20]
[1467,20219050060472,"2021-05-18","ACADEMIA ","MODULO CONTACTENOS","SOLICITUD DE INFORMACIÓN Y DOCUMENTOS","SOLICITUD DE INFORMACIÓN HIDROMETEOROLÓGICA","NO","GRUPO DE SERVICIO AL CIUDADANO ","2021-06-16","CORREO ELECTRÓNICO",null,{"$f":"IFERROR(WORKDAY(C1478,S1477,DiasNOLaborables),\"\")","v":"2021-06-17"},{"$f":"+IF(C1478=\"\",\"\",IF(J1478=\"\",\"SIN RESPUESTA\",(IF(J1478<=M1478,\"A TIEMPO\",\"FUERA DE TIEMPO\"))))","v":"A TIEMPO"},{"$f":"IF(J1478=\"\",\"\",NETWORKDAYS(C1478+1,J1478,DiasNOLaborables))","v":19},"",null,null,20]
[1468,20219050060532,"2021-05-18","CIUDADANO","MODULO CONTACTENOS","SOLICITUD DE INFORMACIÓN Y DOCUMENTOS","SOLICITUD DE INFORMACIÓN HIDROMETEOROLÓGICA","NO","GRUPO DE SERVICIO AL CIUDADANO ","2021-06-16","CORREO ELECTRÓNICO",null,{"$f":"IFERROR(WORKDAY(C1479,S1478,DiasNOLaborables),\"\")","v":"2021-06-17"},{"$f":"+IF(C1479=\"\",\"\",IF(J1479=\"\",\"SIN RESPUESTA\",(IF(J1479<=M1479,\"A TIEMPO\",\"FUERA DE TIEMPO\"))))","v":"A TIEMPO"},{"$f":"IF(J1479=\"\",\"\",NETWORKDAYS(C1479+1,J1479,DiasNOLaborables))","v":19},"",null,null,20]
[1469,20219050060542,"2021-05-18","CIUDADANO","MODULO CONTACTENOS","SOLICITUD DE INFORMACIÓN Y DOCUMENTOS","SOLICITUD DE INFORMACIÓN HIDROMETEOROLÓGICA","NO","GRUPO DE SERVICIO AL CIUDADANO ","2021-06-16","CORREO ELECTRÓNICO",null,{"$f":"IFERROR(WORKDAY(C1480,S1479,DiasNOLaborables),\"\")","v":"2021-06-17"},{"$f":"+IF(C1480=\"\",\"\",IF(J1480=\"\",\"SIN RESPUESTA\",(IF(J1480<=M1480,\"A TIEMPO\",\"FUERA DE TIEMPO\"))))","v":"A TIEMPO"},{"$f":"IF(J1480=\"\",\"\",NETWORKDAYS(C1480+1,J1480,DiasNOLaborables))","v":19},"",null,null,20]
[1470,20219050060432,"2021-05-18","EMPRESA PRIVADA","CORREO ELECTRÓNICO","SOLICITUD DE INFORMACIÓN Y DOCUMENTOS","SOLICITUD DE INFORMACIÓN HIDROMETEOROLÓGICA","NO","GRUPO DE SERVICIO AL CIUDADANO ","2021-06-16","CORREO ELECTRÓNICO",null,{"$f":"IFERROR(WORKDAY(C1481,S1480,DiasNOLaborables),\"\")","v":"2021-06-17"},{"$f":"+IF(C1481=\"\",\"\",IF(J1481=\"\",\"SIN RESPUESTA\",(IF(J1481<=M1481,\"A TIEMPO\",\"FUERA DE TIEMPO\"))))","v":"A TIEMPO"},{"$f":"IF(J1481=\"\",\"\",NETWORKDAYS(C1481+1,J1481,DiasNOLaborables))","v":19},"",null,null,20]
[1471,20219050060642,"2021-05-18","ACADEMIA ","CORREO ELECTRÓNICO","SOLICITUD DE INFORMACIÓN Y DOCUMENTOS","SOLICITUD DE INFORMACIÓN HIDROMETEOROLÓGICA","NO","GRUPO DE SERVICIO AL CIUDADANO ","2021-06-16","CORREO ELECTRÓNICO",null,{"$f":"IFERROR(WORKDAY(C1482,S1481,DiasNOLaborables),\"\")","v":"2021-06-17"},{"$f":"+IF(C1482=\"\",\"\",IF(J1482=\"\",\"SIN RESPUESTA\",(IF(J1482<=M1482,\"A TIEMPO\",\"FUERA DE TIEMPO\"))))","v":"A TIEMPO"},{"$f":"IF(J1482=\"\",\"\",NETWORKDAYS(C1482+1,J1482,DiasNOLaborables))","v":19},"",null,null,20]
[1472,20219050060652,"2021-05-18","CIUDADANO","MODULO CONTACTENOS","SOLICITUD DE INFORMACIÓN Y DOCUMENTOS","SOLICITUD DE INFORMACIÓN HIDROMETEOROLÓGICA","NO","GRUPO DE SERVICIO AL CIUDADANO ","2021-06-16","CORREO ELECTRÓNICO",null,{"$f":"IFERROR(WORKDAY(C1483,S1482,DiasNOLaborables),\"\")","v":"2021-06-17"},{"$f":"+IF(C1483=\"\",\"\",IF(J1483=\"\",\"SIN RESPUESTA\",(IF(J1483<=M1483,\"A TIEMPO\",\"FUERA DE TIEMPO\"))))","v":"A TIEMPO"},{"$f":"IF(J1483=\"\",\"\",NETWORKDAYS(C1483+1,J1483,DiasNOLaborables))","v":19},"",null,null,20]
[1473,20219050060672,"2021-05-18","CIUDADANO","MODULO CONTACTENOS","SOLICITUD DE INFORMACIÓN Y DOCUMENTOS","SOLICITUD DE INFORMACIÓN HIDROMETEOROLÓGICA","NO","GRUPO DE SERVICIO AL CIUDADANO ","2021-06-16","CORREO ELECTRÓNICO",null,{"$f":"IFERROR(WORKDAY(C1484,S1483,DiasNOLaborables),\"\")","v":"2021-06-17"},{"$f":"+IF(C1484=\"\",\"\",IF(J1484=\"\",\"SIN RESPUESTA\",(IF(J1484<=M1484,\"A TIEMPO\",\"FUERA DE TIEMPO\"))))","v":"A TIEMPO"},{"$f":"IF(J1484=\"\",\"\",NETWORKDAYS(C1484+1,J1484,DiasNOLaborables))","v":19},{"$f":"IF(NETWORKDAYS(M1484+1,J1484,DiasNOLaborables)<=0,\"\",NETWORKDAYS(M1484+1,J1484,DiasNOLaborables))","v":""},null,null,20]
[1474,20219050060702,"2021-05-18","CIUDADANO","CORREO ELECTRÓNICO","SOLICITUD DE INFORMACIÓN Y DOCUMENTOS","SOLICITUD DE INFORMACIÓN HIDROMETEOROLÓGICA","NO","GRUPO DE SERVICIO AL CIUDADANO ","2021-06-16","CORREO ELECTRÓNICO",null,{"$f":"IFERROR(WORKDAY(C1485,S1484,DiasNOLaborables),\"\")","v":"2021-06-17"},{"$f":"+IF(C1485=\"\",\"\",IF(J1485=\"\",\"SIN RESPUESTA\",(IF(J1485<=M1485,\"A TIEMPO\",\"FUERA DE TIEMPO\"))))","v":"A TIEMPO"},{"$f":"IF(J1485=\"\",\"\",NETWORKDAYS(C1485+1,J1485,DiasNOLaborables))","v":19},"",null,null,{"$f":"IFERROR(VLOOKUP(F1486,$AA$51:$AB$64,2),\"\")","v":20}]
[{"$f":"IF(B1486<>\"\",A1485+1,\"\")","v":1475},20219050061052,"2021-05-18","EMPRESA PRIVADA","CORREO ELECTRÓNICO","SOLICITUD DE INFORMACIÓN Y DOCUMENTOS","SOLICITUD DE INFORMACIÓN HIDROMETEOROLÓGICA","NO","GRUPO DE SERVICIO AL CIUDADANO ","2021-06-16","CORREO ELECTRÓNICO",null,{"$f":"IFERROR(WORKDAY(C1486,S1485,DiasNOLaborables),\"\")","v":"2021-06-17"},{"$f":"+IF(C1486=\"\",\"\",IF(J1486=\"\",\"SIN RESPUESTA\",(IF(J1486<=M1486,\"A TIEMPO\",\"FUERA DE TIEMPO\"))))","v":"A TIEMPO"},{"$f":"IF(J1486=\"\",\"\",NETWORKDAYS(C1486+1,J1486,DiasNOLaborables))","v":19},"",null,null,20]
[1476,20217030000732,"2021-05-19","ENTIDAD PÚBLICA","MODULO CONTACTENOS","SOLICITUD DE INFORMACIÓN Y DOCUMENTOS","SOLICITUD DE INFORMACIÓN HIDROMETEOROLÓGICA","NO","GRUPO DE SERVICIO AL CIUDADANO ","2021-06-17","CORREO ELECTRÓNICO",null,{"$f":"IFERROR(WORKDAY(C1487,S1486,DiasNOLaborables),\"\")","v":"2021-06-18"},{"$f":"+IF(C1487=\"\",\"\",IF(J1487=\"\",\"SIN RESPUESTA\",(IF(J1487<=M1487,\"A TIEMPO\",\"FUERA DE TIEMPO\"))))","v":"A TIEMPO"},{"$f":"IF(J1487=\"\",\"\",NETWORKDAYS(C1487+1,J1487,DiasNOLaborables))","v":19},"",null,null,20]
[1477,20219050061952,"2021-05-19","EMPRESA PRIVADA","CORREO ELECTRÓNICO","SOLICITUD DE INFORMACIÓN Y DOCUMENTOS","SOLICITUD DE INFORMACIÓN HIDROMETEOROLÓGICA","NO","GRUPO DE SERVICIO AL CIUDADANO ","2021-06-15","CORREO ELECTRÓNICO",null,{"$f":"IFERROR(WORKDAY(C1488,S1487,DiasNOLaborables),\"\")","v":"2021-06-18"},{"$f":"+IF(C1488=\"\",\"\",IF(J1488=\"\",\"SIN RESPUESTA\",(IF(J1488<=M1488,\"A TIEMPO\",\"FUERA DE TIEMPO\"))))","v":"A TIEMPO"},{"$f":"IF(J1488=\"\",\"\",NETWORKDAYS(C1488+1,J1488,DiasNOLaborables))","v":17},"",null,null,20]
[1478,20219050061922,"2021-05-19","ONG/ORG","CORREO ELECTRÓNICO","SOLICITUD DE INFORMACIÓN Y DOCUMENTOS","SOLICITUD DE INFORMACIÓN HIDROMETEOROLÓGICA","NO","GRUPO DE SERVICIO AL CIUDADANO ","2021-06-17","CORREO ELECTRÓNICO",null,{"$f":"IFERROR(WORKDAY(C1489,S1488,DiasNOLaborables),\"\")","v":"2021-06-18"},{"$f":"+IF(C1489=\"\",\"\",IF(J1489=\"\",\"SIN RESPUESTA\",(IF(J1489<=M1489,\"A TIEMPO\",\"FUERA DE TIEMPO\"))))","v":"A TIEMPO"},{"$f":"IF(J1489=\"\",\"\",NETWORKDAYS(C1489+1,J1489,DiasNOLaborables))","v":19},"",null,null,20]
[1479,20219050061962,"2021-05-19","ACADEMIA ","CORREO ELECTRÓNICO","SOLICITUD DE INFORMACIÓN Y DOCUMENTOS","SOLICITUD DE INFORMACIÓN HIDROMETEOROLÓGICA","NO","GRUPO DE SERVICIO AL CIUDADANO ","2021-06-17","CORREO ELECTRÓNICO",null,{"$f":"IFERROR(WORKDAY(C1490,S1489,DiasNOLaborables),\"\")","v":"2021-06-18"},{"$f":"+IF(C1490=\"\",\"\",IF(J1490=\"\",\"SIN RESPUESTA\",(IF(J1490<=M1490,\"A TIEMPO\",\"FUERA DE TIEMPO\"))))","v":"A TIEMPO"},{"$f":"IF(J1490=\"\",\"\",NETWORKDAYS(C1490+1,J1490,DiasNOLaborables))","v":19},"",null,null,20]
[1480,20219050062032,"2021-05-19","ACADEMIA ","CORREO ELECTRÓNICO","SOLICITUD DE INFORMACIÓN Y DOCUMENTOS","SOLICITUD DE INFORMACIÓN HIDROMETEOROLÓGICA","NO","GRUPO DE SERVICIO AL CIUDADANO ","2021-06-17","CORREO ELECTRÓNICO",null,{"$f":"IFERROR(WORKDAY(C1491,S1490,DiasNOLaborables),\"\")","v":"2021-06-18"},{"$f":"+IF(C1491=\"\",\"\",IF(J1491=\"\",\"SIN RESPUESTA\",(IF(J1491<=M1491,\"A TIEMPO\",\"FUERA DE TIEMPO\"))))","v":"A TIEMPO"},{"$f":"IF(J1491=\"\",\"\",NETWORKDAYS(C1491+1,J1491,DiasNOLaborables))","v":19},"",null,null,20]
[1481,20219050061972,"2021-05-19","CIUDADANO","CORREO ELECTRÓNICO","SOLICITUD DE INFORMACIÓN Y DOCUMENTOS","SOLICITUD DE INFORMACIÓN HIDROMETEOROLÓGICA","NO","GRUPO DE SERVICIO AL CIUDADANO ","2021-06-17","CORREO ELECTRÓNICO",null,{"$f":"IFERROR(WORKDAY(C1492,S1491,DiasNOLaborables),\"\")","v":"2021-06-18"},{"$f":"+IF(C1492=\"\",\"\",IF(J1492=\"\",\"SIN RESPUESTA\",(IF(J1492<=M1492,\"A TIEMPO\",\"FUERA DE TIEMPO\"))))","v":"A TIEMPO"},{"$f":"IF(J1492=\"\",\"\",NETWORKDAYS(C1492+1,J1492,DiasNOLaborables))","v":19},"",null,null,20]
[1482,20219050061262,"2021-05-19","CIUDADANO","CORREO ELECTRÓNICO","SOLICITUD DE INFORMACIÓN Y DOCUMENTOS","SOLICITUD DE INFORMACIÓN HIDROMETEOROLÓGICA","NO","GRUPO DE SERVICIO AL CIUDADANO ","2021-05-21","CORREO ELECTRÓNICO",null,{"$f":"IFERROR(WORKDAY(C1493,S1492,DiasNOLaborables),\"\")","v":"2021-06-18"},{"$f":"+IF(C1493=\"\",\"\",IF(J1493=\"\",\"SIN RESPUESTA\",(IF(J1493<=M1493,\"A TIEMPO\",\"FUERA DE TIEMPO\"))))","v":"A TIEMPO"},{"$f":"IF(J1493=\"\",\"\",NETWORKDAYS(C1493+1,J1493,DiasNOLaborables))","v":2},"",null,null,20]
[1483,20219050061272,"2021-05-19","CIUDADANO","CORREO ELECTRÓNICO","SOLICITUD DE INFORMACIÓN Y DOCUMENTOS","SOLICITUD DE INFORMACIÓN HIDROMETEOROLÓGICA","NO","GRUPO DE SERVICIO AL CIUDADANO ","2021-05-21","CORREO ELECTRÓNICO",null,{"$f":"IFERROR(WORKDAY(C1494,S1493,DiasNOLaborables),\"\")","v":"2021-06-18"},{"$f":"+IF(C1494=\"\",\"\",IF(J1494=\"\",\"SIN RESPUESTA\",(IF(J1494<=M1494,\"A TIEMPO\",\"FUERA DE TIEMPO\"))))","v":"A TIEMPO"},{"$f":"IF(J1494=\"\",\"\",NETWORKDAYS(C1494+1,J1494,DiasNOLaborables))","v":2},"",null,null,20]
[1484,20219050061362,"2021-05-19","CIUDADANO","CORREO ELECTRÓNICO","SOLICITUD DE INFORMACIÓN Y DOCUMENTOS","SOLICITUD DE INFORMACIÓN HIDROMETEOROLÓGICA","SI","GRUPO DE SERVICIO AL CIUDADANO ","2021-06-01","CORREO ELECTRÓNICO",null,{"$f":"IFERROR(WORKDAY(C1495,S1494,DiasNOLaborables),\"\")","v":"2021-06-18"},{"$f":"+IF(C1495=\"\",\"\",IF(J1495=\"\",\"SIN RESPUESTA\",(IF(J1495<=M1495,\"A TIEMPO\",\"FUERA DE TIEMPO\"))))","v":"A TIEMPO"},{"$f":"IF(J1495=\"\",\"\",NETWORKDAYS(C1495+1,J1495,DiasNOLaborables))","v":9},"",null,null,35]
[1485,20219050061452,"2021-05-19","CIUDADANO","CORREO ELECTRÓNICO","CERTIFICACIONES DE TIEMPO, CLIMA Y EVENTOS HIDROLÓGICOS","CERTIFICACIONES DE TIEMPO Y CLIMA","SI","SUBDIRECCIÓN DE METEOROLOGÍA","2021-06-23","CORREO ELECTRÓNICO",null,{"$f":"IFERROR(WORKDAY(C1496,S1495,DiasNOLaborables),\"\")","v":"2021-07-12"},{"$f":"+IF(C1496=\"\",\"\",IF(J1496=\"\",\"SIN RESPUESTA\",(IF(J1496<=M1496,\"A TIEMPO\",\"FUERA DE TIEMPO\"))))","v":"A TIEMPO"},{"$f":"IF(J1496=\"\",\"\",NETWORKDAYS(C1496+1,J1496,DiasNOLaborables))","v":23},"",null,null,20]
[1486,20219050061382,"2021-05-19","CIUDADANO","CORREO ELECTRÓNICO","SOLICITUD DE INFORMACIÓN Y DOCUMENTOS","REGISTROS AMBIENTALES","SI","SUBDIRECCIÓN DE ESTUDIOS AMBIENTALES","2021-05-27","CORREO ELECTRÓNICO",null,{"$f":"IFERROR(WORKDAY(C1497,S1496,DiasNOLaborables),\"\")","v":"2021-06-18"},{"$f":"+IF(C1497=\"\",\"\",IF(J1497=\"\",\"SIN RESPUESTA\",(IF(J1497<=M1497,\"A TIEMPO\",\"FUERA DE TIEMPO\"))))","v":"A TIEMPO"},{"$f":"IF(J1497=\"\",\"\",NETWORKDAYS(C1497+1,J1497,DiasNOLaborables))","v":6},"",null,null,20]
[1487,20219050061242,"2021-05-19","CIUDADANO","CORREO ELECTRÓNICO","SOLICITUD DE INFORMACIÓN Y DOCUMENTOS","REGISTROS AMBIENTALES","SI","SUBDIRECCIÓN DE ESTUDIOS AMBIENTALES","2021-05-12","CORREO ELECTRÓNICO",null,{"$f":"IFERROR(WORKDAY(C1498,S1497,DiasNOLaborables),\"\")","v":"2021-06-18"},{"$f":"+IF(C1498=\"\",\"\",IF(J1498=\"\",\"SIN RESPUESTA\",(IF(J1498<=M1498,\"A TIEMPO\",\"FUERA DE TIEMPO\"))))","v":"A TIEMPO"},{"$f":"IF(J1498=\"\",\"\",NETWORKDAYS(C1498+1,J1498,DiasNOLaborables))","v":-6},"",null,null,35]
[1488,20219050061392,"2021-05-19","CIUDADANO","CORREO ELECTRÓNICO","CERTIFICACIONES DE TIEMPO, CLIMA Y EVENTOS HIDROLÓGICOS","CERTIFICACIONES DE TIEMPO Y CLIMA","SI","SUBDIRECCIÓN DE METEOROLOGÍA","2021-06-04","CORREO ELECTRÓNICO",null,{"$f":"IFERROR(WORKDAY(C1499,S1498,DiasNOLaborables),\"\")","v":"2021-07-12"},{"$f":"+IF(C1499=\"\",\"\",IF(J1499=\"\",\"SIN RESPUESTA\",(IF(J1499<=M1499,\"A TIEMPO\",\"FUERA DE TIEMPO\"))))","v":"A TIEMPO"},{"$f":"IF(J1499=\"\",\"\",NETWORKDAYS(C1499+1,J1499,DiasNOLaborables))","v":12},"",null,null,35]
[1489,20219050061252,"2021-05-19","CIUDADANO","CORREO ELECTRÓNICO","CERTIFICACIONES DE TIEMPO, CLIMA Y EVENTOS HIDROLÓGICOS","CERTIFICACIONES DE TIEMPO Y CLIMA","SI","SUBDIRECCIÓN DE METEOROLOGÍA","2021-06-08","CORREO ELECTRÓNICO",null,{"$f":"IFERROR(WORKDAY(C1500,S1499,DiasNOLaborables),\"\")","v":"2021-07-12"},{"$f":"+IF(C1500=\"\",\"\",IF(J1500=\"\",\"SIN RESPUESTA\",(IF(J1500<=M1500,\"A TIEMPO\",\"FUERA DE TIEMPO\"))))","v":"A TIEMPO"},{"$f":"IF(J1500=\"\",\"\",NETWORKDAYS(C1500+1,J1500,DiasNOLaborables))","v":13},"",null,null,35]
[1490,20219050061412,"2021-05-19","CIUDADANO","CORREO ELECTRÓNICO","CERTIFICACIONES DE TIEMPO, CLIMA Y EVENTOS HIDROLÓGICOS","CERTIFICACIONES DE TIEMPO Y CLIMA","SI","SUBDIRECCIÓN DE METEOROLOGÍA","2021-06-01","CORREO ELECTRÓNICO",null,{"$f":"IFERROR(WORKDAY(C1501,S1500,DiasNOLaborables),\"\")","v":"2021-07-12"},{"$f":"+IF(C1501=\"\",\"\",IF(J1501=\"\",\"SIN RESPUESTA\",(IF(J1501<=M1501,\"A TIEMPO\",\"FUERA DE TIEMPO\"))))","v":"A TIEMPO"},{"$f":"IF(J1501=\"\",\"\",NETWORKDAYS(C1501+1,J1501,DiasNOLaborables))","v":9},"",null,null,35]
[1491,20219050061422,"2021-05-19","CIUDADANO","CORREO ELECTRÓNICO","CERTIFICACIONES DE TIEMPO, CLIMA Y EVENTOS HIDROLÓGICOS","CERTIFICACIONES DE TIEMPO Y CLIMA","SI","SUBDIRECCIÓN DE METEOROLOGÍA","2021-06-08","CORREO ELECTRÓNICO",null,{"$f":"IFERROR(WORKDAY(C1502,S1501,DiasNOLaborables),\"\")","v":"2021-07-12"},{"$f":"+IF(C1502=\"\",\"\",IF(J1502=\"\",\"SIN RESPUESTA\",(IF(J1502<=M1502,\"A TIEMPO\",\"FUERA DE TIEMPO\"))))","v":"A TIEMPO"},{"$f":"IF(J1502=\"\",\"\",NETWORKDAYS(C1502+1,J1502,DiasNOLaborables))","v":13},"",null,null,35]
[1492,20219050061432,"2021-05-19","CIUDADANO","CORREO ELECTRÓNICO","CERTIFICACIONES DE TIEMPO, CLIMA Y EVENTOS HIDROLÓGICOS","CERTIFICACIONES DE TIEMPO Y CLIMA","SI","SUBDIRECCIÓN DE METEOROLOGÍA","2021-06-08","CORREO ELECTRÓNICO",null,{"$f":"IFERROR(WORKDAY(C1503,S1502,DiasNOLaborables),\"\")","v":"2021-07-12"},{"$f":"+IF(C1503=\"\",\"\",IF(J1503=\"\",\"SIN RESPUESTA\",(IF(J1503<=M1503,\"A TIEMPO\",\"FUERA DE TIEMPO\"))))","v":"A TIEMPO"},{"$f":"IF(J1503=\"\",\"\",NETWORKDAYS(C1503+1,J1503,DiasNOLaborables))","v":13},"",null,null,20]
[1493,20219050061462,"2021-05-19","CIUDADANO","CORREO ELECTRÓNICO","SOLICITUD DE INFORMACIÓN Y DOCUMENTOS","REGISTROS AMBIENTALES","SI","SUBDIRECCIÓN DE ESTUDIOS AMBIENTALES","2021-05-22","CORREO ELECTRÓNICO",null,{"$f":"IFERROR(WORKDAY(C1504,S1503,DiasNOLaborables),\"\")","v":"2021-06-18"},{"$f":"+IF(C1504=\"\",\"\",IF(J1504=\"\",\"SIN RESPUESTA\",(IF(J1504<=M1504,\"A TIEMPO\",\"FUERA DE TIEMPO\"))))","v":"A TIEMPO"},{"$f":"IF(J1504=\"\",\"\",NETWORKDAYS(C1504+1,J1504,DiasNOLaborables))","v":2},"",null,null,20]
[1494,20219050061472,"2021-05-19","CIUDADANO","CORREO ELECTRÓNICO","SOLICITUD DE INFORMACIÓN Y DOCUMENTOS","REGISTROS AMBIENTALES","SI","SUBDIRECCIÓN DE ESTUDIOS AMBIENTALES","2021-05-19","CORREO ELECTRÓNICO",null,{"$f":"IFERROR(WORKDAY(C1505,S1504,DiasNOLaborables),\"\")","v":"2021-06-18"},{"$f":"+IF(C1505=\"\",\"\",IF(J1505=\"\",\"SIN RESPUESTA\",(IF(J1505<=M1505,\"A TIEMPO\",\"FUERA DE TIEMPO\"))))","v":"A TIEMPO"},{"$f":"IF(J1505=\"\",\"\",NETWORKDAYS(C1505+1,J1505,DiasNOLaborables))","v":-2},"",null,null,20]
[1495,20219050061482,"2021-05-19","CIUDADANO","CORREO ELECTRÓNICO","SOLICITUD DE INFORMACIÓN Y DOCUMENTOS","ACREDITACIÓN DE LABORATORIOS","SI","SUBDIRECCIÓN DE ESTUDIOS AMBIENTALES","2021-05-24","CORREO ELECTRÓNICO",null,{"$f":"IFERROR(WORKDAY(C1506,S1505,DiasNOLaborables),\"\")","v":"2021-06-18"},{"$f":"+IF(C1506=\"\",\"\",IF(J1506=\"\",\"SIN RESPUESTA\",(IF(J1506<=M1506,\"A TIEMPO\",\"FUERA DE TIEMPO\"))))","v":"A TIEMPO"},{"$f":"IF(J1506=\"\",\"\",NETWORKDAYS(C1506+1,J1506,DiasNOLaborables))","v":3},"",null,null,35]
[1496,20219050061512,"2021-05-19","CIUDADANO","CORREO ELECTRÓNICO","CERTIFICACIONES DE TIEMPO, CLIMA Y EVENTOS HIDROLÓGICOS","CERTIFICACIONES DE TIEMPO Y CLIMA","SI","SUBDIRECCIÓN DE METEOROLOGÍA","2021-06-11","CORREO ELECTRÓNICO",null,{"$f":"IFERROR(WORKDAY(C1507,S1506,DiasNOLaborables),\"\")","v":"2021-07-12"},{"$f":"+IF(C1507=\"\",\"\",IF(J1507=\"\",\"SIN RESPUESTA\",(IF(J1507<=M1507,\"A TIEMPO\",\"FUERA DE TIEMPO\"))))","v":"A TIEMPO"},{"$f":"IF(J1507=\"\",\"\",NETWORKDAYS(C1507+1,J1507,DiasNOLaborables))","v":16},"",null,null,20]
[1497,20219050061522,"2021-05-19","CIUDADANO","CORREO ELECTRÓNICO","SOLICITUD DE INFORMACIÓN Y DOCUMENTOS","SOLICITUD DE INFORMACIÓN HIDROMETEOROLÓGICA","SI","GRUPO DE SERVICIO AL CIUDADANO ","2021-06-02","CORREO ELECTRÓNICO",null,{"$f":"IFERROR(WORKDAY(C1508,S1507,DiasNOLaborables),\"\")","v":"2021-06-18"},{"$f":"+IF(C1508=\"\",\"\",IF(J1508=\"\",\"SIN RESPUESTA\",(IF(J1508<=M1508,\"A TIEMPO\",\"FUERA DE TIEMPO\"))))","v":"A TIEMPO"},{"$f":"IF(J1508=\"\",\"\",NETWORKDAYS(C1508+1,J1508,DiasNOLaborables))","v":10},"",null,null,20]
[1498,20219050061532,"2021-05-19","CIUDADANO","CORREO ELECTRÓNICO","SOLICITUD DE INFORMACIÓN Y DOCUMENTOS","REGISTROS AMBIENTALES","SI","SUBDIRECCIÓN DE ESTUDIOS AMBIENTALES","2021-05-27","CORREO ELECTRÓNICO",null,{"$f":"IFERROR(WORKDAY(C1509,S1508,DiasNOLaborables),\"\")","v":"2021-06-18"},{"$f":"+IF(C1509=\"\",\"\",IF(J1509=\"\",\"SIN RESPUESTA\",(IF(J1509<=M1509,\"A TIEMPO\",\"FUERA DE TIEMPO\"))))","v":"A TIEMPO"},{"$f":"IF(J1509=\"\",\"\",NETWORKDAYS(C1509+1,J1509,DiasNOLaborables))","v":6},"",null,null,20]
[1499,20219050061552,"2021-05-19","CIUDADANO","CORREO ELECTRÓNICO","SOLICITUD DE INFORMACIÓN Y DOCUMENTOS","SOLICITUD DE INFORMACIÓN HIDROMETEOROLÓGICA","SI","GRUPO DE SERVICIO AL CIUDADANO ","2021-06-02","CORREO ELECTRÓNICO",null,{"$f":"IFERROR(WORKDAY(C1510,S1509,DiasNOLaborables),\"\")","v":"2021-06-18"},{"$f":"+IF(C1510=\"\",\"\",IF(J1510=\"\",\"SIN RESPUESTA\",(IF(J1510<=M1510,\"A TIEMPO\",\"FUERA DE TIEMPO\"))))","v":"A TIEMPO"},{"$f":"IF(J1510=\"\",\"\",NETWORKDAYS(C1510+1,J1510,DiasNOLaborables))","v":10},"",null,null,20]
[1500,20219050061572,"2021-05-19","CIUDADANO","CORREO ELECTRÓNICO","SOLICITUD DE INFORMACIÓN Y DOCUMENTOS","REGISTROS AMBIENTALES","SI","SUBDIRECCIÓN DE ESTUDIOS AMBIENTALES","2021-05-21","CORREO ELECTRÓNICO",null,{"$f":"IFERROR(WORKDAY(C1511,S1510,DiasNOLaborables),\"\")","v":"2021-06-18"},{"$f":"+IF(C1511=\"\",\"\",IF(J1511=\"\",\"SIN RESPUESTA\",(IF(J1511<=M1511,\"A TIEMPO\",\"FUERA DE TIEMPO\"))))","v":"A TIEMPO"},{"$f":"IF(J1511=\"\",\"\",NETWORKDAYS(C1511+1,J1511,DiasNOLaborables))","v":2},"",null,null,20]
[1501,20219050061672,"2021-05-19","CIUDADANO","CORREO ELECTRÓNICO","SOLICITUD DE INFORMACIÓN Y DOCUMENTOS","BOSQUES","SI","SUBDIRECCIÓN DE ECOSISTEMAS E INFORMACIÓN AMBIENTAL","2021-05-19","CORREO ELECTRÓNICO",null,{"$f":"IFERROR(WORKDAY(C1512,S1511,DiasNOLaborables),\"\")","v":"2021-06-18"},{"$f":"+IF(C1512=\"\",\"\",IF(J1512=\"\",\"SIN RESPUESTA\",(IF(J1512<=M1512,\"A TIEMPO\",\"FUERA DE TIEMPO\"))))","v":"A TIEMPO"},{"$f":"IF(J1512=\"\",\"\",NETWORKDAYS(C1512+1,J1512,DiasNOLaborables))","v":-2},"",null,null,20]
[1502,20219050061722,"2021-05-19","CIUDADANO","CORREO ELECTRÓNICO","SOLICITUD DE INFORMACIÓN Y DOCUMENTOS","SIRH","SI","SUBDIRECCIÓN DE HIDROLOGÍA","2021-06-01","CORREO ELECTRÓNICO",null,{"$f":"IFERROR(WORKDAY(C1513,S1512,DiasNOLaborables),\"\")","v":"2021-06-18"},{"$f":"+IF(C1513=\"\",\"\",IF(J1513=\"\",\"SIN RESPUESTA\",(IF(J1513<=M1513,\"A TIEMPO\",\"FUERA DE TIEMPO\"))))","v":"A TIEMPO"},{"$f":"IF(J1513=\"\",\"\",NETWORKDAYS(C1513+1,J1513,DiasNOLaborables))","v":9},"",null,null,35]
[1503,20219050061732,"2021-05-19","CIUDADANO","CORREO ELECTRÓNICO","CERTIFICACIONES DE TIEMPO, CLIMA Y EVENTOS HIDROLÓGICOS","CERTIFICACIONES DE TIEMPO Y CLIMA","SI","SUBDIRECCIÓN DE METEOROLOGÍA","2021-06-15","CORREO ELECTRÓNICO",null,{"$f":"IFERROR(WORKDAY(C1514,S1513,DiasNOLaborables),\"\")","v":"2021-07-12"},{"$f":"+IF(C1514=\"\",\"\",IF(J1514=\"\",\"SIN RESPUESTA\",(IF(J1514<=M1514,\"A TIEMPO\",\"FUERA DE TIEMPO\"))))","v":"A TIEMPO"},{"$f":"IF(J1514=\"\",\"\",NETWORKDAYS(C1514+1,J1514,DiasNOLaborables))","v":17},"",null,null,20]
[1504,20219050061772,"2021-05-19","CIUDADANO","CORREO ELECTRÓNICO","SOLICITUD DE INFORMACIÓN Y DOCUMENTOS","CLIMATOLOGÍA","SI","SUBDIRECCIÓN DE HIDROLOGÍA","2021-05-26","CORREO ELECTRÓNICO",null,{"$f":"IFERROR(WORKDAY(C1515,S1514,DiasNOLaborables),\"\")","v":"2021-06-18"},{"$f":"+IF(C1515=\"\",\"\",IF(J1515=\"\",\"SIN RESPUESTA\",(IF(J1515<=M1515,\"A TIEMPO\",\"FUERA DE TIEMPO\"))))","v":"A TIEMPO"},{"$f":"IF(J1515=\"\",\"\",NETWORKDAYS(C1515+1,J1515,DiasNOLaborables))","v":5},"",null,null,30]
[1505,20219050061782,"2021-05-19","CIUDADANO","CORREO ELECTRÓNICO","PETICIÓN","BOSQUES","SI","SUBDIRECCIÓN DE ECOSISTEMAS E INFORMACIÓN AMBIENTAL","2021-06-02","CORREO ELECTRÓNICO",null,{"$f":"IFERROR(WORKDAY(C1516,S1515,DiasNOLaborables),\"\")","v":"2021-07-02"},{"$f":"+IF(C1516=\"\",\"\",IF(J1516=\"\",\"SIN RESPUESTA\",(IF(J1516<=M1516,\"A TIEMPO\",\"FUERA DE TIEMPO\"))))","v":"A TIEMPO"},{"$f":"IF(J1516=\"\",\"\",NETWORKDAYS(C1516+1,J1516,DiasNOLaborables))","v":10},"",null,null,30]
[1506,20219050061802,"2021-05-19","CIUDADANO","CORREO ELECTRÓNICO","PETICIÓN","SUELOS Y TIERRAS","SI","SUBDIRECCIÓN DE ECOSISTEMAS E INFORMACIÓN AMBIENTAL","2021-06-03","CORREO ELECTRÓNICO",null,{"$f":"IFERROR(WORKDAY(C1517,S1516,DiasNOLaborables),\"\")","v":"2021-07-02"},{"$f":"+IF(C1517=\"\",\"\",IF(J1517=\"\",\"SIN RESPUESTA\",(IF(J1517<=M1517,\"A TIEMPO\",\"FUERA DE TIEMPO\"))))","v":"A TIEMPO"},{"$f":"IF(J1517=\"\",\"\",NETWORKDAYS(C1517+1,J1517,DiasNOLaborables))","v":11},"",null,null,20]
[1507,20219050062162,"2021-05-19","CIUDADANO","CORREO ELECTRÓNICO","SOLICITUD DE INFORMACIÓN Y DOCUMENTOS","SIRH","SI","SUBDIRECCIÓN DE HIDROLOGÍA","2021-06-09","CORREO ELECTRÓNICO",null,{"$f":"IFERROR(WORKDAY(C1518,S1517,DiasNOLaborables),\"\")","v":"2021-06-18"},{"$f":"+IF(C1518=\"\",\"\",IF(J1518=\"\",\"SIN RESPUESTA\",(IF(J1518<=M1518,\"A TIEMPO\",\"FUERA DE TIEMPO\"))))","v":"A TIEMPO"},{"$f":"IF(J1518=\"\",\"\",NETWORKDAYS(C1518+1,J1518,DiasNOLaborables))","v":14},"",null,null,35]
[1508,20219050061372,"2021-05-19","CIUDADANO","MODULO CONTACTENOS","CERTIFICACIONES DE TIEMPO, CLIMA Y EVENTOS HIDROLÓGICOS","CERTIFICACIONES DE TIEMPO Y CLIMA","SI","SUBDIRECCIÓN DE METEOROLOGÍA","2021-06-03","CORREO ELECTRÓNICO",null,{"$f":"IFERROR(WORKDAY(C1519,S1518,DiasNOLaborables),\"\")","v":"2021-07-12"},{"$f":"+IF(C1519=\"\",\"\",IF(J1519=\"\",\"SIN RESPUESTA\",(IF(J1519<=M1519,\"A TIEMPO\",\"FUERA DE TIEMPO\"))))","v":"A TIEMPO"},{"$f":"IF(J1519=\"\",\"\",NETWORKDAYS(C1519+1,J1519,DiasNOLaborables))","v":11},"",null,null,20]
[1509,20219050061912,"2021-05-19","EMPRESA PRIVADA","MODULO CONTACTENOS","SOLICITUD DE INFORMACIÓN Y DOCUMENTOS","REGISTROS AMBIENTALES","SI","SUBDIRECCIÓN DE ESTUDIOS AMBIENTALES","2021-05-25","CORREO ELECTRÓNICO",null,{"$f":"IFERROR(WORKDAY(C1520,S1519,DiasNOLaborables),\"\")","v":"2021-06-18"},{"$f":"+IF(C1520=\"\",\"\",IF(J1520=\"\",\"SIN RESPUESTA\",(IF(J1520<=M1520,\"A TIEMPO\",\"FUERA DE TIEMPO\"))))","v":"A TIEMPO"},{"$f":"IF(J1520=\"\",\"\",NETWORKDAYS(C1520+1,J1520,DiasNOLaborables))","v":4},"",null,null,20]
[1510,20219050062172,"2021-05-19","CIUDADANO","MODULO CONTACTENOS","SOLICITUD DE INFORMACIÓN Y DOCUMENTOS","CERTIFICACIONES DE TIEMPO Y CLIMA","SI","SUBDIRECCIÓN DE METEOROLOGÍA","2021-05-24","CORREO ELECTRÓNICO",null,{"$f":"IFERROR(WORKDAY(C1521,S1520,DiasNOLaborables),\"\")","v":"2021-06-18"},{"$f":"+IF(C1521=\"\",\"\",IF(J1521=\"\",\"SIN RESPUESTA\",(IF(J1521<=M1521,\"A TIEMPO\",\"FUERA DE TIEMPO\"))))","v":"A TIEMPO"},{"$f":"IF(J1521=\"\",\"\",NETWORKDAYS(C1521+1,J1521,DiasNOLaborables))","v":3},"",null,null,20]
[1511,20219050061182,"2021-05-19","CIUDADANO","MODULO CONTACTENOS","SOLICITUD DE INFORMACIÓN Y DOCUMENTOS","SOLICITUD DE INFORMACIÓN HIDROMETEOROLÓGICA","NO","GRUPO DE SERVICIO AL CIUDADANO ","2021-06-18","CORREO ELECTRÓNICO",null,{"$f":"IFERROR(WORKDAY(C1522,S1521,DiasNOLaborables),\"\")","v":"2021-06-18"},{"$f":"+IF(C1522=\"\",\"\",IF(J1522=\"\",\"SIN RESPUESTA\",(IF(J1522<=M1522,\"A TIEMPO\",\"FUERA DE TIEMPO\"))))","v":"A TIEMPO"},{"$f":"IF(J1522=\"\",\"\",NETWORKDAYS(C1522+1,J1522,DiasNOLaborables))","v":20},"",null,null,20]
[1512,20219050061192,"2021-05-19","CIUDADANO","MODULO CONTACTENOS","SOLICITUD DE INFORMACIÓN Y DOCUMENTOS","SOLICITUD DE INFORMACIÓN HIDROMETEOROLÓGICA","NO","GRUPO DE SERVICIO AL CIUDADANO ","2021-06-18","CORREO ELECTRÓNICO",null,{"$f":"IFERROR(WORKDAY(C1523,S1522,DiasNOLaborables),\"\")","v":"2021-06-18"},{"$f":"+IF(C1523=\"\",\"\",IF(J1523=\"\",\"SIN RESPUESTA\",(IF(J1523<=M1523,\"A TIEMPO\",\"FUERA DE TIEMPO\"))))","v":"A TIEMPO"},{"$f":"IF(J1523=\"\",\"\",NETWORKDAYS(C1523+1,J1523,DiasNOLaborables))","v":20},"",null,null,20]
[1513,20219050061202,"2021-05-19","CIUDADANO","MODULO CONTACTENOS","SOLICITUD DE INFORMACIÓN Y DOCUMENTOS","SOLICITUD DE INFORMACIÓN HIDROMETEOROLÓGICA","NO","GRUPO DE SERVICIO AL CIUDADANO ","2021-06-18","CORREO ELECTRÓNICO",null,{"$f":"IFERROR(WORKDAY(C1524,S1523,DiasNOLaborables),\"\")","v":"2021-06-18"},{"$f":"+IF(C1524=\"\",\"\",IF(J1524=\"\",\"SIN RESPUESTA\",(IF(J1524<=M1524,\"A TIEMPO\",\"FUERA DE TIEMPO\"))))","v":"A TIEMPO"},{"$f":"IF(J1524=\"\",\"\",NETWORKDAYS(C1524+1,J1524,DiasNOLaborables))","v":20},{"$f":"IF(NETWORKDAYS(M1524+1,J1524,DiasNOLaborables)<=0,\"\",NETWORKDAYS(M1524+1,J1524,DiasNOLaborables))","v":""},null,null,20]
[1514,20219050061212,"2021-05-19","CIUDADANO","MODULO CONTACTENOS","SOLICITUD DE INFORMACIÓN Y DOCUMENTOS","SOLICITUD DE INFORMACIÓN HIDROMETEOROLÓGICA","NO","GRUPO DE SERVICIO AL CIUDADANO ","2021-06-18","CORREO ELECTRÓNICO",null,{"$f":"IFERROR(WORKDAY(C1525,S1524,DiasNOLaborables),\"\")","v":"2021-06-18"},{"$f":"+IF(C1525=\"\",\"\",IF(J1525=\"\",\"SIN RESPUESTA\",(IF(J1525<=M1525,\"A TIEMPO\",\"FUERA DE TIEMPO\"))))","v":"A TIEMPO"},{"$f":"IF(J1525=\"\",\"\",NETWORKDAYS(C1525+1,J1525,DiasNOLaborables))","v":20},"",null,null,20]
[1515,20219050061222,"2021-05-19","CIUDADANO","MODULO CONTACTENOS","SOLICITUD DE INFORMACIÓN Y DOCUMENTOS","SOLICITUD DE INFORMACIÓN HIDROMETEOROLÓGICA","NO","GRUPO DE SERVICIO AL CIUDADANO ","2021-06-18","CORREO ELECTRÓNICO",null,{"$f":"IFERROR(WORKDAY(C1526,S1525,DiasNOLaborables),\"\")","v":"2021-06-18"},{"$f":"+IF(C1526=\"\",\"\",IF(J1526=\"\",\"SIN RESPUESTA\",(IF(J1526<=M1526,\"A TIEMPO\",\"FUERA DE TIEMPO\"))))","v":"A TIEMPO"},{"$f":"IF(J1526=\"\",\"\",NETWORKDAYS(C1526+1,J1526,DiasNOLaborables))","v":20},"",null,null,20]
[1516,20219050061282,"2021-05-19","CIUDADANO","MODULO CONTACTENOS","SOLICITUD DE INFORMACIÓN Y DOCUMENTOS","SOLICITUD DE INFORMACIÓN HIDROMETEOROLÓGICA","NO","GRUPO DE SERVICIO AL CIUDADANO ","2021-06-18","CORREO ELECTRÓNICO",null,{"$f":"IFERROR(WORKDAY(C1527,S1526,DiasNOLaborables),\"\")","v":"2021-06-18"},{"$f":"+IF(C1527=\"\",\"\",IF(J1527=\"\",\"SIN RESPUESTA\",(IF(J1527<=M1527,\"A TIEMPO\",\"FUERA DE TIEMPO\"))))","v":"A TIEMPO"},{"$f":"IF(J1527=\"\",\"\",NETWORKDAYS(C1527+1,J1527,DiasNOLaborables))","v":20},"",null,null,20]
[1517,20219050061312,"2021-05-19","CIUDADANO","MODULO CONTACTENOS","SOLICITUD DE INFORMACIÓN Y DOCUMENTOS","SOLICITUD DE INFORMACIÓN HIDROMETEOROLÓGICA","NO","GRUPO DE SERVICIO AL CIUDADANO ","2021-06-18","CORREO ELECTRÓNICO",null,{"$f":"IFERROR(WORKDAY(C1528,S1527,DiasNOLaborables),\"\")","v":"2021-06-18"},{"$f":"+IF(C1528=\"\",\"\",IF(J1528=\"\",\"SIN RESPUESTA\",(IF(J1528<=M1528,\"A TIEMPO\",\"FUERA DE TIEMPO\"))))","v":"A TIEMPO"},{"$f":"IF(J1528=\"\",\"\",NETWORKDAYS(C1528+1,J1528,DiasNOLaborables))","v":20},"",null,null,20]
[1518,20219050061322,"2021-05-19","CIUDADANO","MODULO CONTACTENOS","SOLICITUD DE INFORMACIÓN Y DOCUMENTOS","SOLICITUD DE INFORMACIÓN HIDROMETEOROLÓGICA","NO","GRUPO DE SERVICIO AL CIUDADANO ","2021-06-18","CORREO ELECTRÓNICO",null,{"$f":"IFERROR(WORKDAY(C1529,S1528,DiasNOLaborables),\"\")","v":"2021-06-18"},{"$f":"+IF(C1529=\"\",\"\",IF(J1529=\"\",\"SIN RESPUESTA\",(IF(J1529<=M1529,\"A TIEMPO\",\"FUERA DE TIEMPO\"))))","v":"A TIEMPO"},{"$f":"IF(J1529=\"\",\"\",NETWORKDAYS(C1529+1,J1529,DiasNOLaborables))","v":20},"",null,null,20]
[1519,20219050061332,"2021-05-19","CIUDADANO","MODULO CONTACTENOS","SOLICITUD DE INFORMACIÓN Y DOCUMENTOS","SOLICITUD DE INFORMACIÓN HIDROMETEOROLÓGICA","NO","GRUPO DE SERVICIO AL CIUDADANO ","2021-06-18","CORREO ELECTRÓNICO",null,{"$f":"IFERROR(WORKDAY(C1530,S1529,DiasNOLaborables),\"\")","v":"2021-06-18"},{"$f":"+IF(C1530=\"\",\"\",IF(J1530=\"\",\"SIN RESPUESTA\",(IF(J1530<=M1530,\"A TIEMPO\",\"FUERA DE TIEMPO\"))))","v":"A TIEMPO"},{"$f":"IF(J1530=\"\",\"\",NETWORKDAYS(C1530+1,J1530,DiasNOLaborables))","v":20},"",null,null,20]
[1520,20219050061352,"2021-05-19","CIUDADANO","MODULO CONTACTENOS","SOLICITUD DE INFORMACIÓN Y DOCUMENTOS","SOLICITUD DE INFORMACIÓN HIDROMETEOROLÓGICA","NO","GRUPO DE SERVICIO AL CIUDADANO ","2021-06-18","CORREO ELECTRÓNICO",null,{"$f":"IFERROR(WORKDAY(C1531,S1530,DiasNOLaborables),\"\")","v":"2021-06-18"},{"$f":"+IF(C1531=\"\",\"\",IF(J1531=\"\",\"SIN RESPUESTA\",(IF(J1531<=M1531,\"A TIEMPO\",\"FUERA DE TIEMPO\"))))","v":"A TIEMPO"},{"$f":"IF(J1531=\"\",\"\",NETWORKDAYS(C1531+1,J1531,DiasNOLaborables))","v":20},"",null,null,20]
[1521,20219050061402,"2021-05-19","CIUDADANO","MODULO CONTACTENOS","SOLICITUD DE INFORMACIÓN Y DOCUMENTOS","SOLICITUD DE INFORMACIÓN HIDROMETEOROLÓGICA","NO","GRUPO DE SERVICIO AL CIUDADANO ","2021-06-18","CORREO ELECTRÓNICO",null,{"$f":"IFERROR(WORKDAY(C1532,S1531,DiasNOLaborables),\"\")","v":"2021-06-18"},{"$f":"+IF(C1532=\"\",\"\",IF(J1532=\"\",\"SIN RESPUESTA\",(IF(J1532<=M1532,\"A TIEMPO\",\"FUERA DE TIEMPO\"))))","v":"A TIEMPO"},{"$f":"IF(J1532=\"\",\"\",NETWORKDAYS(C1532+1,J1532,DiasNOLaborables))","v":20},"",null,null,20]
[1522,20219050061442,"2021-05-19","ACADEMIA","MODULO CONTACTENOS","SOLICITUD DE INFORMACIÓN Y DOCUMENTOS","SOLICITUD DE INFORMACIÓN HIDROMETEOROLÓGICA","NO","GRUPO DE SERVICIO AL CIUDADANO ","2021-06-18","CORREO ELECTRÓNICO",null,{"$f":"IFERROR(WORKDAY(C1533,S1532,DiasNOLaborables),\"\")","v":"2021-06-18"},{"$f":"+IF(C1533=\"\",\"\",IF(J1533=\"\",\"SIN RESPUESTA\",(IF(J1533<=M1533,\"A TIEMPO\",\"FUERA DE TIEMPO\"))))","v":"A TIEMPO"},{"$f":"IF(J1533=\"\",\"\",NETWORKDAYS(C1533+1,J1533,DiasNOLaborables))","v":20},"",null,null,20]
[1523,20219050061492,"2021-05-19","ACADEMIA","MODULO CONTACTENOS","SOLICITUD DE INFORMACIÓN Y DOCUMENTOS","SOLICITUD DE INFORMACIÓN HIDROMETEOROLÓGICA","NO","GRUPO DE SERVICIO AL CIUDADANO ","2021-06-18","CORREO ELECTRÓNICO",null,{"$f":"IFERROR(WORKDAY(C1534,S1533,DiasNOLaborables),\"\")","v":"2021-06-18"},{"$f":"+IF(C1534=\"\",\"\",IF(J1534=\"\",\"SIN RESPUESTA\",(IF(J1534<=M1534,\"A TIEMPO\",\"FUERA DE TIEMPO\"))))","v":"A TIEMPO"},{"$f":"IF(J1534=\"\",\"\",NETWORKDAYS(C1534+1,J1534,DiasNOLaborables))","v":20},"",null,null,20]
[1524,20219050061502,"2021-05-19","ACADEMIA","MODULO CONTACTENOS","SOLICITUD DE INFORMACIÓN Y DOCUMENTOS","SOLICITUD DE INFORMACIÓN HIDROMETEOROLÓGICA","NO","GRUPO DE SERVICIO AL CIUDADANO ","2021-06-18","CORREO ELECTRÓNICO",null,{"$f":"IFERROR(WORKDAY(C1535,S1534,DiasNOLaborables),\"\")","v":"2021-06-18"},{"$f":"+IF(C1535=\"\",\"\",IF(J1535=\"\",\"SIN RESPUESTA\",(IF(J1535<=M1535,\"A TIEMPO\",\"FUERA DE TIEMPO\"))))","v":"A TIEMPO"},{"$f":"IF(J1535=\"\",\"\",NETWORKDAYS(C1535+1,J1535,DiasNOLaborables))","v":20},"",null,null,20]
[1525,20219050061652,"2021-05-19","CIUDADANO","MODULO CONTACTENOS","SOLICITUD DE INFORMACIÓN Y DOCUMENTOS","SOLICITUD DE INFORMACIÓN HIDROMETEOROLÓGICA","NO","GRUPO DE SERVICIO AL CIUDADANO ","2021-06-18","CORREO ELECTRÓNICO",null,{"$f":"IFERROR(WORKDAY(C1536,S1535,DiasNOLaborables),\"\")","v":"2021-06-18"},{"$f":"+IF(C1536=\"\",\"\",IF(J1536=\"\",\"SIN RESPUESTA\",(IF(J1536<=M1536,\"A TIEMPO\",\"FUERA DE TIEMPO\"))))","v":"A TIEMPO"},{"$f":"IF(J1536=\"\",\"\",NETWORKDAYS([5]Hoja1!C1534+1,[5]Hoja1!P1534,DiasNOLaborables))","v":11},"",null,null,20]
[1526,20219050062152,"2021-05-19","ACADEMIA","MODULO CONTACTENOS","SOLICITUD DE INFORMACIÓN Y DOCUMENTOS","SOLICITUD DE INFORMACIÓN HIDROMETEOROLÓGICA","NO","GRUPO DE SERVICIO AL CIUDADANO ","2021-06-18","CORREO ELECTRÓNICO",null,{"$f":"IFERROR(WORKDAY(C1537,S1536,DiasNOLaborables),\"\")","v":"2021-06-18"},{"$f":"+IF(C1537=\"\",\"\",IF(J1537=\"\",\"SIN RESPUESTA\",(IF(J1537<=M1537,\"A TIEMPO\",\"FUERA DE TIEMPO\"))))","v":"A TIEMPO"},{"$f":"IF(J1537=\"\",\"\",NETWORKDAYS(C1537+1,J1537,DiasNOLaborables))","v":20},"",null,null,20]
[1527,20219050061762,"2021-05-19","CIUDADANO","MODULO CONTACTENOS","SOLICITUD DE INFORMACIÓN Y DOCUMENTOS","SOLICITUD DE INFORMACIÓN HIDROMETEOROLÓGICA","NO","GRUPO DE SERVICIO AL CIUDADANO ","2021-06-18","CORREO ELECTRÓNICO",null,{"$f":"IFERROR(WORKDAY(C1538,S1537,DiasNOLaborables),\"\")","v":"2021-06-18"},{"$f":"+IF(C1538=\"\",\"\",IF(J1538=\"\",\"SIN RESPUESTA\",(IF(J1538<=M1538,\"A TIEMPO\",\"FUERA DE TIEMPO\"))))","v":"A TIEMPO"},{"$f":"IF(J1538=\"\",\"\",NETWORKDAYS(C1538+1,J1538,DiasNOLaborables))","v":20},"",null,null,20]
[1528,20219050061752,"2021-05-19","CIUDADANO","MODULO CONTACTENOS","SOLICITUD DE INFORMACIÓN Y DOCUMENTOS","SOLICITUD DE INFORMACIÓN HIDROMETEOROLÓGICA","NO","GRUPO DE SERVICIO AL CIUDADANO ","2021-06-18","CORREO ELECTRÓNICO",null,{"$f":"IFERROR(WORKDAY(C1539,S1538,DiasNOLaborables),\"\")","v":"2021-06-18"},{"$f":"+IF(C1539=\"\",\"\",IF(J1539=\"\",\"SIN RESPUESTA\",(IF(J1539<=M1539,\"A TIEMPO\",\"FUERA DE TIEMPO\"))))","v":"A TIEMPO"},{"$f":"IF(J1539=\"\",\"\",NETWORKDAYS(C1539+1,J1539,DiasNOLaborables))","v":20},"",null,null,20]
[1529,20219050061742,"2021-05-19","CIUDADANO","MODULO CONTACTENOS","SOLICITUD DE INFORMACIÓN Y DOCUMENTOS","SOLICITUD DE INFORMACIÓN HIDROMETEOROLÓGICA","NO","GRUPO DE SERVICIO AL CIUDADANO ","2021-06-18","CORREO ELECTRÓNICO",null,{"$f":"IFERROR(WORKDAY(C1540,S1539,DiasNOLaborables),\"\")","v":"2021-06-18"},{"$f":"+IF(C1540=\"\",\"\",IF(J1540=\"\",\"SIN RESPUESTA\",(IF(J1540<=M1540,\"A TIEMPO\",\"FUERA DE TIEMPO\"))))","v":"A TIEMPO"},{"$f":"IF(J1540=\"\",\"\",NETWORKDAYS(C1540+1,J1540,DiasNOLaborables))","v":20},"",null,null,20]
[1530,20219050061712,"2021-05-19","CIUDADANO","MODULO CONTACTENOS","SOLICITUD DE INFORMACIÓN Y DOCUMENTOS","SOLICITUD DE INFORMACIÓN HIDROMETEOROLÓGICA","NO","GRUPO DE SERVICIO AL CIUDADANO ","2021-06-18","CORREO ELECTRÓNICO",null,{"$f":"IFERROR(WORKDAY(C1541,S1540,DiasNOLaborables),\"\")","v":"2021-06-18"},{"$f":"+IF(C1541=\"\",\"\",IF(J1541=\"\",\"SIN RESPUESTA\",(IF(J1541<=M1541,\"A TIEMPO\",\"FUERA DE TIEMPO\"))))","v":"A TIEMPO"},{"$f":"IF(J1541=\"\",\"\",NETWORKDAYS(C1541+1,J1541,DiasNOLaborables))","v":20},"",null,null,20]
[1531,20219910027902,"2021-05-19","ACADEMIA","MODULO CONTACTENOS","SOLICITUD DE INFORMACIÓN Y DOCUMENTOS","SOLICITUD DE INFORMACIÓN HIDROMETEOROLÓGICA","NO","GRUPO DE SERVICIO AL CIUDADANO ","2021-06-18","CORREO ELECTRÓNICO",null,{"$f":"IFERROR(WORKDAY(C1542,S1541,DiasNOLaborables),\"\")","v":"2021-06-18"},{"$f":"+IF(C1542=\"\",\"\",IF(J1542=\"\",\"SIN RESPUESTA\",(IF(J1542<=M1542,\"A TIEMPO\",\"FUERA DE TIEMPO\"))))","v":"A TIEMPO"},{"$f":"IF(J1542=\"\",\"\",NETWORKDAYS(C1542+1,J1542,DiasNOLaborables))","v":20},"",null,null,20]
[1532,20219050061702,"2021-05-19","CIUDADANO","MODULO CONTACTENOS","SOLICITUD DE INFORMACIÓN Y DOCUMENTOS","SOLICITUD DE INFORMACIÓN HIDROMETEOROLÓGICA","NO","GRUPO DE SERVICIO AL CIUDADANO ","2021-06-18","CORREO ELECTRÓNICO",null,{"$f":"IFERROR(WORKDAY(C1543,S1542,DiasNOLaborables),\"\")","v":"2021-06-18"},{"$f":"+IF(C1543=\"\",\"\",IF(J1543=\"\",\"SIN RESPUESTA\",(IF(J1543<=M1543,\"A TIEMPO\",\"FUERA DE TIEMPO\"))))","v":"A TIEMPO"},{"$f":"IF(J1543=\"\",\"\",NETWORKDAYS(C1543+1,J1543,DiasNOLaborables))","v":20},"",null,null,20]
[1533,20219050061692,"2021-05-19","CIUDADANO","MODULO CONTACTENOS","SOLICITUD DE INFORMACIÓN Y DOCUMENTOS","SOLICITUD DE INFORMACIÓN HIDROMETEOROLÓGICA","NO","GRUPO DE SERVICIO AL CIUDADANO ","2021-06-18","CORREO ELECTRÓNICO",null,{"$f":"IFERROR(WORKDAY(C1544,S1543,DiasNOLaborables),\"\")","v":"2021-06-18"},{"$f":"+IF(C1544=\"\",\"\",IF(J1544=\"\",\"SIN RESPUESTA\",(IF(J1544<=M1544,\"A TIEMPO\",\"FUERA DE TIEMPO\"))))","v":"A TIEMPO"},{"$f":"IF(J1544=\"\",\"\",NETWORKDAYS(C1544+1,J1544,DiasNOLaborables))","v":20},"",null,null,20]
[1534,20219050061662,"2021-05-19","CIUDADANO","MODULO CONTACTENOS","SOLICITUD DE INFORMACIÓN Y DOCUMENTOS","SOLICITUD DE INFORMACIÓN HIDROMETEOROLÓGICA","NO","GRUPO DE SERVICIO AL CIUDADANO ","2021-06-18","CORREO ELECTRÓNICO",null,{"$f":"IFERROR(WORKDAY(C1545,S1544,DiasNOLaborables),\"\")","v":"2021-06-18"},{"$f":"+IF(C1545=\"\",\"\",IF(J1545=\"\",\"SIN RESPUESTA\",(IF(J1545<=M1545,\"A TIEMPO\",\"FUERA DE TIEMPO\"))))","v":"A TIEMPO"},{"$f":"IF(J1545=\"\",\"\",NETWORKDAYS(C1545+1,J1545,DiasNOLaborables))","v":20},"",null,null,20]
[1535,20219050061642,"2021-05-19","CIUDADANO","MODULO CONTACTENOS","SOLICITUD DE INFORMACIÓN Y DOCUMENTOS","SOLICITUD DE INFORMACIÓN HIDROMETEOROLÓGICA","NO","GRUPO DE SERVICIO AL CIUDADANO ","2021-06-18","CORREO ELECTRÓNICO",null,{"$f":"IFERROR(WORKDAY(C1546,S1545,DiasNOLaborables),\"\")","v":"2021-06-18"},{"$f":"+IF(C1546=\"\",\"\",IF(J1546=\"\",\"SIN RESPUESTA\",(IF(J1546<=M1546,\"A TIEMPO\",\"FUERA DE TIEMPO\"))))","v":"A TIEMPO"},{"$f":"IF(J1546=\"\",\"\",NETWORKDAYS(C1546+1,J1546,DiasNOLaborables))","v":20},"",null,null,20]
[1536,20219050061632,"2021-05-19","CIUDADANO","MODULO CONTACTENOS","SOLICITUD DE INFORMACIÓN Y DOCUMENTOS","SOLICITUD DE INFORMACIÓN HIDROMETEOROLÓGICA","NO","GRUPO DE SERVICIO AL CIUDADANO ","2021-06-18","CORREO ELECTRÓNICO",null,{"$f":"IFERROR(WORKDAY(C1547,S1546,DiasNOLaborables),\"\")","v":"2021-06-18"},{"$f":"+IF(C1547=\"\",\"\",IF(J1547=\"\",\"SIN RESPUESTA\",(IF(J1547<=M1547,\"A TIEMPO\",\"FUERA DE TIEMPO\"))))","v":"A TIEMPO"},{"$f":"IF(J1547=\"\",\"\",NETWORKDAYS(C1547+1,J1547,DiasNOLaborables))","v":20},"",null,null,20]
[1537,20219050061622,"2021-05-19","CIUDADANO","MODULO CONTACTENOS","SOLICITUD DE INFORMACIÓN Y DOCUMENTOS","SOLICITUD DE INFORMACIÓN HIDROMETEOROLÓGICA","NO","GRUPO DE SERVICIO AL CIUDADANO ","2021-06-18","CORREO ELECTRÓNICO",null,{"$f":"IFERROR(WORKDAY(C1548,S1547,DiasNOLaborables),\"\")","v":"2021-06-18"},{"$f":"+IF(C1548=\"\",\"\",IF(J1548=\"\",\"SIN RESPUESTA\",(IF(J1548<=M1548,\"A TIEMPO\",\"FUERA DE TIEMPO\"))))","v":"A TIEMPO"},{"$f":"IF(J1548=\"\",\"\",NETWORKDAYS(C1548+1,J1548,DiasNOLaborables))","v":20},"",null,null,20]
[1538,20219050061562,"2021-05-19","CIUDADANO","MODULO CONTACTENOS","SOLICITUD DE INFORMACIÓN Y DOCUMENTOS","SOLICITUD DE INFORMACIÓN HIDROMETEOROLÓGICA","NO","GRUPO DE SERVICIO AL CIUDADANO ","2021-06-18","CORREO ELECTRÓNICO",null,{"$f":"IFERROR(WORKDAY(C1549,S1548,DiasNOLaborables),\"\")","v":"2021-06-18"},{"$f":"+IF(C1549=\"\",\"\",IF(J1549=\"\",\"SIN RESPUESTA\",(IF(J1549<=M1549,\"A TIEMPO\",\"FUERA DE TIEMPO\"))))","v":"A TIEMPO"},{"$f":"IF(J1549=\"\",\"\",NETWORKDAYS(C1549+1,J1549,DiasNOLaborables))","v":20},"",null,null,{"$f":"IFERROR(VLOOKUP(F1550,$AA$51:$AB$64,2),\"\")","v":20}]
[{"$f":"IF(B1550<>\"\",A1549+1,\"\")","v":1539},20219050061542,"2021-05-19","CIUDADANO","MODULO CONTACTENOS","SOLICITUD DE INFORMACIÓN Y DOCUMENTOS","SOLICITUD DE INFORMACIÓN HIDROMETEOROLÓGICA","NO","GRUPO DE SERVICIO AL CIUDADANO ","2021-06-18","CORREO ELECTRÓNICO",null,{"$f":"IFERROR(WORKDAY(C1550,S1549,DiasNOLaborables),\"\")","v":"2021-06-18"},{"$f":"+IF(C1550=\"\",\"\",IF(J1550=\"\",\"SIN RESPUESTA\",(IF(J1550<=M1550,\"A TIEMPO\",\"FUERA DE TIEMPO\"))))","v":"A TIEMPO"},{"$f":"IF(J1550=\"\",\"\",NETWORKDAYS(C1550+1,J1550,DiasNOLaborables))","v":20},"",null,null,20]
[1540,20219050062212,"2021-05-19","CIUDADANO","MODULO CONTACTENOS","SOLICITUD DE INFORMACIÓN Y DOCUMENTOS","CLIMATOLOGÍA","SI","GRUPO DE GESTIÓN DOCUMENTAL Y CENTRO DE DOCUMENTACIÓN","2021-05-25","CORREO ELECTRÓNICO",null,{"$f":"IFERROR(WORKDAY(C1551,S1550,DiasNOLaborables),\"\")","v":"2021-06-18"},{"$f":"+IF(C1551=\"\",\"\",IF(J1551=\"\",\"SIN RESPUESTA\",(IF(J1551<=M1551,\"A TIEMPO\",\"FUERA DE TIEMPO\"))))","v":"A TIEMPO"},{"$f":"IF(J1551=\"\",\"\",NETWORKDAYS(C1551+1,J1551,DiasNOLaborables))","v":4},"",null,null,30]
[1541,20219050062242,"2021-05-20","EMPRESA PRIVADA","CORREO ELECTRÓNICO","PETICIÓN","ADMINISTRATIVA","SI","DIRECCIÓN GENERAL","2021-06-03","CORREO ELECTRÓNICO",null,{"$f":"IFERROR(WORKDAY(C1552,S1551,DiasNOLaborables),\"\")","v":"2021-07-06"},{"$f":"+IF(C1552=\"\",\"\",IF(J1552=\"\",\"SIN RESPUESTA\",(IF(J1552<=M1552,\"A TIEMPO\",\"FUERA DE TIEMPO\"))))","v":"A TIEMPO"},{"$f":"IF(J1552=\"\",\"\",NETWORKDAYS(C1552+1,J1552,DiasNOLaborables))","v":10},"",null,null,20]
[1542,20219050062322,"2021-05-20","CIUDADANO","MODULO CONTACTENOS","SOLICITUD DE INFORMACIÓN Y DOCUMENTOS","CLIMATOLOGÍA","SI","SUBDIRECCIÓN DE METEOROLOGÍA","2021-06-01","CORREO ELECTRÓNICO",null,{"$f":"IFERROR(WORKDAY(C1553,S1552,DiasNOLaborables),\"\")","v":"2021-06-21"},{"$f":"+IF(C1553=\"\",\"\",IF(J1553=\"\",\"SIN RESPUESTA\",(IF(J1553<=M1553,\"A TIEMPO\",\"FUERA DE TIEMPO\"))))","v":"A TIEMPO"},{"$f":"IF(J1553=\"\",\"\",NETWORKDAYS(C1553+1,J1553,DiasNOLaborables))","v":8},"",null,null,20]
[1543,20219050062372,"2021-05-20","CIUDADANO","MODULO CONTACTENOS","SOLICITUD DE INFORMACIÓN Y DOCUMENTOS","ADMINISTRATIVA","SI","OFICINA ASESORA JURÍDICA","2021-05-21","CORREO ELECTRÓNICO",null,{"$f":"IFERROR(WORKDAY(C1554,S1553,DiasNOLaborables),\"\")","v":"2021-06-21"},{"$f":"+IF(C1554=\"\",\"\",IF(J1554=\"\",\"SIN RESPUESTA\",(IF(J1554<=M1554,\"A TIEMPO\",\"FUERA DE TIEMPO\"))))","v":"A TIEMPO"},{"$f":"IF(J1554=\"\",\"\",NETWORKDAYS(C1554+1,J1554,DiasNOLaborables))","v":1},"",null,null,35]
[1544,20219050062392,"2021-05-20","CIUDADANO","MODULO CONTACTENOS","CERTIFICACIONES DE TIEMPO, CLIMA Y EVENTOS HIDROLÓGICOS","CERTIFICACIONES DE TIEMPO Y CLIMA","SI","SUBDIRECCIÓN DE METEOROLOGÍA","2021-06-01","CORREO ELECTRÓNICO",null,{"$f":"IFERROR(WORKDAY(C1555,S1554,DiasNOLaborables),\"\")","v":"2021-07-13"},{"$f":"+IF(C1555=\"\",\"\",IF(J1555=\"\",\"SIN RESPUESTA\",(IF(J1555<=M1555,\"A TIEMPO\",\"FUERA DE TIEMPO\"))))","v":"A TIEMPO"},{"$f":"IF(J1555=\"\",\"\",NETWORKDAYS(C1555+1,J1555,DiasNOLaborables))","v":8},{"$f":"IF(NETWORKDAYS(M1555+1,J1555,DiasNOLaborables)<=0,\"\",NETWORKDAYS(M1555+1,J1555,DiasNOLaborables))","v":""},null,null,20]
[1545,20219050062472,"2021-05-20","CIUDADANO","MODULO CONTACTENOS","SOLICITUD DE INFORMACIÓN Y DOCUMENTOS","SUELOS Y TIERRAS","SI","SUBDIRECCIÓN DE ECOSISTEMAS E INFORMACIÓN AMBIENTAL","2021-05-26","CORREO ELECTRÓNICO",null,{"$f":"IFERROR(WORKDAY(C1556,S1555,DiasNOLaborables),\"\")","v":"2021-06-21"},{"$f":"+IF(C1556=\"\",\"\",IF(J1556=\"\",\"SIN RESPUESTA\",(IF(J1556<=M1556,\"A TIEMPO\",\"FUERA DE TIEMPO\"))))","v":"A TIEMPO"},{"$f":"IF(J1556=\"\",\"\",NETWORKDAYS(C1556+1,J1556,DiasNOLaborables))","v":4},"",null,null,20]
[1546,20219050062562,"2021-05-20","CIUDADANO","MODULO CONTACTENOS","SOLICITUD DE INFORMACIÓN Y DOCUMENTOS","REGISTROS AMBIENTALES","SI","SUBDIRECCIÓN DE ESTUDIOS AMBIENTALES","2021-05-27","CORREO ELECTRÓNICO",null,{"$f":"IFERROR(WORKDAY(C1557,S1556,DiasNOLaborables),\"\")","v":"2021-06-21"},{"$f":"+IF(C1557=\"\",\"\",IF(J1557=\"\",\"SIN RESPUESTA\",(IF(J1557<=M1557,\"A TIEMPO\",\"FUERA DE TIEMPO\"))))","v":"A TIEMPO"},{"$f":"IF(J1557=\"\",\"\",NETWORKDAYS(C1557+1,J1557,DiasNOLaborables))","v":5},"",null,null,20]
[1547,20219050062252,"2021-05-20","CIUDADANO","CORREO ELECTRÓNICO","SOLICITUD DE INFORMACIÓN Y DOCUMENTOS","SIA","SI","SUBDIRECCIÓN DE ECOSISTEMAS E INFORMACIÓN AMBIENTAL","2021-05-23","CORREO ELECTRÓNICO",null,{"$f":"IFERROR(WORKDAY(C1558,S1557,DiasNOLaborables),\"\")","v":"2021-06-21"},{"$f":"+IF(C1558=\"\",\"\",IF(J1558=\"\",\"SIN RESPUESTA\",(IF(J1558<=M1558,\"A TIEMPO\",\"FUERA DE TIEMPO\"))))","v":"A TIEMPO"},{"$f":"IF(J1558=\"\",\"\",NETWORKDAYS(C1558+1,J1558,DiasNOLaborables))","v":1},"",null,null,35]
[1548,20219050062262,"2021-05-20","CIUDADANO","CORREO ELECTRÓNICO","CERTIFICACIONES DE TIEMPO, CLIMA Y EVENTOS HIDROLÓGICOS","CERTIFICACIONES DE TIEMPO Y CLIMA",null,"SUBDIRECCIÓN DE METEOROLOGÍA","2021-05-20","CORREO ELECTRÓNICO",null,{"$f":"IFERROR(WORKDAY(C1559,S1558,DiasNOLaborables),\"\")","v":"2021-07-13"},{"$f":"+IF(C1559=\"\",\"\",IF(J1559=\"\",\"SIN RESPUESTA\",(IF(J1559<=M1559,\"A TIEMPO\",\"FUERA DE TIEMPO\"))))","v":"A TIEMPO"},{"$f":"IF(J1559=\"\",\"\",NETWORKDAYS(C1559+1,J1559,DiasNOLaborables))","v":-2},"",null,null,35]
[1549,20219050062272,"2021-05-20","CIUDADANO","CORREO ELECTRÓNICO","CERTIFICACIONES DE TIEMPO, CLIMA Y EVENTOS HIDROLÓGICOS","CERTIFICACIONES DE TIEMPO Y CLIMA","SI","SUBDIRECCIÓN DE METEOROLOGÍA","2021-05-20","CORREO ELECTRÓNICO",null,{"$f":"IFERROR(WORKDAY(C1560,S1559,DiasNOLaborables),\"\")","v":"2021-07-13"},{"$f":"+IF(C1560=\"\",\"\",IF(J1560=\"\",\"SIN RESPUESTA\",(IF(J1560<=M1560,\"A TIEMPO\",\"FUERA DE TIEMPO\"))))","v":"A TIEMPO"},{"$f":"IF(J1560=\"\",\"\",NETWORKDAYS(C1560+1,J1560,DiasNOLaborables))","v":-2},"",null,null,20]
[1550,20219050062292,"2021-05-20","CIUDADANO","CORREO ELECTRÓNICO","SOLICITUD DE INFORMACIÓN Y DOCUMENTOS","SOLICITUD DE INFORMACIÓN HIDROMETEOROLÓGICA","SI","GRUPO DE SERVICIO AL CIUDADANO ","2021-06-18","CORREO ELECTRÓNICO",null,{"$f":"IFERROR(WORKDAY(C1561,S1560,DiasNOLaborables),\"\")","v":"2021-06-21"},{"$f":"+IF(C1561=\"\",\"\",IF(J1561=\"\",\"SIN RESPUESTA\",(IF(J1561<=M1561,\"A TIEMPO\",\"FUERA DE TIEMPO\"))))","v":"A TIEMPO"},{"$f":"IF(J1561=\"\",\"\",NETWORKDAYS(C1561+1,J1561,DiasNOLaborables))","v":19},"",null,null,20]
[1551,20219050062302,"2021-05-20","CIUDADANO","CORREO ELECTRÓNICO","SOLICITUD DE INFORMACIÓN Y DOCUMENTOS","SOLICITUD DE INFORMACIÓN HIDROMETEOROLÓGICA","SI","GRUPO DE SERVICIO AL CIUDADANO ","2021-06-08","CORREO ELECTRÓNICO",null,{"$f":"IFERROR(WORKDAY(C1562,S1561,DiasNOLaborables),\"\")","v":"2021-06-21"},{"$f":"+IF(C1562=\"\",\"\",IF(J1562=\"\",\"SIN RESPUESTA\",(IF(J1562<=M1562,\"A TIEMPO\",\"FUERA DE TIEMPO\"))))","v":"A TIEMPO"},{"$f":"IF(J1562=\"\",\"\",NETWORKDAYS(C1562+1,J1562,DiasNOLaborables))","v":12},"",null,null,20]
[1552,20219050062312,"2021-05-20","CIUDADANO","CORREO ELECTRÓNICO","SOLICITUD DE INFORMACIÓN Y DOCUMENTOS","SOLICITUD DE INFORMACIÓN HIDROMETEOROLÓGICA","SI","GRUPO DE SERVICIO AL CIUDADANO ","2021-06-18","CORREO ELECTRÓNICO",null,{"$f":"IFERROR(WORKDAY(C1563,S1562,DiasNOLaborables),\"\")","v":"2021-06-21"},{"$f":"+IF(C1563=\"\",\"\",IF(J1563=\"\",\"SIN RESPUESTA\",(IF(J1563<=M1563,\"A TIEMPO\",\"FUERA DE TIEMPO\"))))","v":"A TIEMPO"},{"$f":"IF(J1563=\"\",\"\",NETWORKDAYS(C1563+1,J1563,DiasNOLaborables))","v":19},"",null,null,20]
[1553,20219050062332,"2021-05-20","CIUDADANO","CORREO ELECTRÓNICO","SOLICITUD DE INFORMACIÓN Y DOCUMENTOS","CLIMATOLOGÍA","SI","SUBDIRECCIÓN DE METEOROLOGÍA","2021-06-01","CORREO ELECTRÓNICO",null,{"$f":"IFERROR(WORKDAY(C1564,S1563,DiasNOLaborables),\"\")","v":"2021-06-21"},{"$f":"+IF(C1564=\"\",\"\",IF(J1564=\"\",\"SIN RESPUESTA\",(IF(J1564<=M1564,\"A TIEMPO\",\"FUERA DE TIEMPO\"))))","v":"A TIEMPO"},{"$f":"IF(J1564=\"\",\"\",NETWORKDAYS(C1564+1,J1564,DiasNOLaborables))","v":8},"",null,null,20]
[1554,20219050062342,"2021-05-20","CIUDADANO","CORREO ELECTRÓNICO","SOLICITUD DE INFORMACIÓN Y DOCUMENTOS","SIA","SI","SUBDIRECCIÓN DE ECOSISTEMAS E INFORMACIÓN AMBIENTAL","2021-05-21","CORREO ELECTRÓNICO",null,{"$f":"IFERROR(WORKDAY(C1565,S1564,DiasNOLaborables),\"\")","v":"2021-06-21"},{"$f":"+IF(C1565=\"\",\"\",IF(J1565=\"\",\"SIN RESPUESTA\",(IF(J1565<=M1565,\"A TIEMPO\",\"FUERA DE TIEMPO\"))))","v":"A TIEMPO"},{"$f":"IF(J1565=\"\",\"\",NETWORKDAYS(C1565+1,J1565,DiasNOLaborables))","v":1},"",null,null,20]
[1555,20219050062352,"2021-05-20","CIUDADANO","CORREO ELECTRÓNICO","SOLICITUD DE INFORMACIÓN Y DOCUMENTOS","BOSQUES","SI","SUBDIRECCIÓN DE ECOSISTEMAS E INFORMACIÓN AMBIENTAL","2021-05-20","CORREO ELECTRÓNICO",null,{"$f":"IFERROR(WORKDAY(C1566,S1565,DiasNOLaborables),\"\")","v":"2021-06-21"},{"$f":"+IF(C1566=\"\",\"\",IF(J1566=\"\",\"SIN RESPUESTA\",(IF(J1566<=M1566,\"A TIEMPO\",\"FUERA DE TIEMPO\"))))","v":"A TIEMPO"},{"$f":"IF(J1566=\"\",\"\",NETWORKDAYS(C1566+1,J1566,DiasNOLaborables))","v":-2},"",null,null,20]
[1556,20219050062362,"2021-05-20","CIUDADANO","CORREO ELECTRÓNICO","SOLICITUD DE INFORMACIÓN Y DOCUMENTOS","BOSQUES","SI","SUBDIRECCIÓN DE ECOSISTEMAS E INFORMACIÓN AMBIENTAL","2021-05-20","CORREO ELECTRÓNICO",null,{"$f":"IFERROR(WORKDAY(C1567,S1566,DiasNOLaborables),\"\")","v":"2021-06-21"},{"$f":"+IF(C1567=\"\",\"\",IF(J1567=\"\",\"SIN RESPUESTA\",(IF(J1567<=M1567,\"A TIEMPO\",\"FUERA DE TIEMPO\"))))","v":"A TIEMPO"},{"$f":"IF(J1567=\"\",\"\",NETWORKDAYS(C1567+1,J1567,DiasNOLaborables))","v":-2},"",null,null,20]
[1557,20219050062442,"2021-05-20","CIUDADANO","CORREO ELECTRÓNICO","SOLICITUD DE INFORMACIÓN Y DOCUMENTOS","REGISTROS AMBIENTALES","SI","SUBDIRECCIÓN DE ESTUDIOS AMBIENTALES","2021-06-16","CORREO ELECTRÓNICO",null,{"$f":"IFERROR(WORKDAY(C1568,S1567,DiasNOLaborables),\"\")","v":"2021-06-21"},{"$f":"+IF(C1568=\"\",\"\",IF(J1568=\"\",\"SIN RESPUESTA\",(IF(J1568<=M1568,\"A TIEMPO\",\"FUERA DE TIEMPO\"))))","v":"A TIEMPO"},{"$f":"IF(J1568=\"\",\"\",NETWORKDAYS(C1568+1,J1568,DiasNOLaborables))","v":17},"",null,null,20]
[1558,20219050062452,"2021-05-20","CIUDADANO","CORREO ELECTRÓNICO","SOLICITUD DE INFORMACIÓN Y DOCUMENTOS","INFORMES AMBIENTALES","SI","SUBDIRECCIÓN DE ESTUDIOS AMBIENTALES","2021-05-25","CORREO ELECTRÓNICO",null,{"$f":"IFERROR(WORKDAY(C1569,S1568,DiasNOLaborables),\"\")","v":"2021-06-21"},{"$f":"+IF(C1569=\"\",\"\",IF(J1569=\"\",\"SIN RESPUESTA\",(IF(J1569<=M1569,\"A TIEMPO\",\"FUERA DE TIEMPO\"))))","v":"A TIEMPO"},{"$f":"IF(J1569=\"\",\"\",NETWORKDAYS(C1569+1,J1569,DiasNOLaborables))","v":3},"",null,null,20]
[1559,20219050062462,"2021-05-20","CIUDADANO","CORREO ELECTRÓNICO","SOLICITUD DE INFORMACIÓN Y DOCUMENTOS","INFORMES AMBIENTALES","SI","SUBDIRECCIÓN DE ESTUDIOS AMBIENTALES","2021-05-28","CORREO ELECTRÓNICO",null,{"$f":"IFERROR(WORKDAY(C1570,S1569,DiasNOLaborables),\"\")","v":"2021-06-21"},{"$f":"+IF(C1570=\"\",\"\",IF(J1570=\"\",\"SIN RESPUESTA\",(IF(J1570<=M1570,\"A TIEMPO\",\"FUERA DE TIEMPO\"))))","v":"A TIEMPO"},{"$f":"IF(J1570=\"\",\"\",NETWORKDAYS(C1570+1,J1570,DiasNOLaborables))","v":6},"",null,null,20]
[1560,20219050062502,"2021-05-20","CIUDADANO","CORREO ELECTRÓNICO","SOLICITUD DE INFORMACIÓN Y DOCUMENTOS","SIRH","SI","SUBDIRECCIÓN DE HIDROLOGÍA","2021-06-08","CORREO ELECTRÓNICO",null,{"$f":"IFERROR(WORKDAY(C1571,S1570,DiasNOLaborables),\"\")","v":"2021-06-21"},{"$f":"+IF(C1571=\"\",\"\",IF(J1571=\"\",\"SIN RESPUESTA\",(IF(J1571<=M1571,\"A TIEMPO\",\"FUERA DE TIEMPO\"))))","v":"A TIEMPO"},{"$f":"IF(J1571=\"\",\"\",NETWORKDAYS(C1571+1,J1571,DiasNOLaborables))","v":12},"",null,null,20]
[1561,20219050062382,"2021-05-20","CIUDADANO","MODULO CONTACTENOS","SOLICITUD DE INFORMACIÓN Y DOCUMENTOS","SOLICITUD DE INFORMACIÓN HIDROMETEOROLÓGICA","NO","GRUPO DE SERVICIO AL CIUDADANO ","2021-05-24","CORREO ELECTRÓNICO",null,{"$f":"IFERROR(WORKDAY(C1572,S1571,DiasNOLaborables),\"\")","v":"2021-06-21"},{"$f":"+IF(C1572=\"\",\"\",IF(J1572=\"\",\"SIN RESPUESTA\",(IF(J1572<=M1572,\"A TIEMPO\",\"FUERA DE TIEMPO\"))))","v":"A TIEMPO"},{"$f":"IF(J1572=\"\",\"\",NETWORKDAYS(C1572+1,J1572,DiasNOLaborables))","v":2},"",null,null,20]
[1562,20219050062402,"2021-05-20","ACADEMIA ","MODULO CONTACTENOS","SOLICITUD DE INFORMACIÓN Y DOCUMENTOS","SOLICITUD DE INFORMACIÓN HIDROMETEOROLÓGICA","NO","GRUPO DE SERVICIO AL CIUDADANO ","2021-05-24","CORREO ELECTRÓNICO",null,{"$f":"IFERROR(WORKDAY(C1573,S1572,DiasNOLaborables),\"\")","v":"2021-06-21"},{"$f":"+IF(C1573=\"\",\"\",IF(J1573=\"\",\"SIN RESPUESTA\",(IF(J1573<=M1573,\"A TIEMPO\",\"FUERA DE TIEMPO\"))))","v":"A TIEMPO"},{"$f":"IF(J1573=\"\",\"\",NETWORKDAYS(C1573+1,J1573,DiasNOLaborables))","v":2},"",null,null,20]
[1563,20219050062422,"2021-05-20","ACADEMIA ","MODULO CONTACTENOS","SOLICITUD DE INFORMACIÓN Y DOCUMENTOS","SOLICITUD DE INFORMACIÓN HIDROMETEOROLÓGICA","NO","GRUPO DE SERVICIO AL CIUDADANO ","2021-05-25","CORREO ELECTRÓNICO",null,{"$f":"IFERROR(WORKDAY(C1574,S1573,DiasNOLaborables),\"\")","v":"2021-06-21"},{"$f":"+IF(C1574=\"\",\"\",IF(J1574=\"\",\"SIN RESPUESTA\",(IF(J1574<=M1574,\"A TIEMPO\",\"FUERA DE TIEMPO\"))))","v":"A TIEMPO"},{"$f":"IF(J1574=\"\",\"\",NETWORKDAYS(C1574+1,J1574,DiasNOLaborables))","v":3},"",null,null,20]
[1564,20219050062432,"2021-05-20","EMPRESA PRIVADA","CORREO ELECTRÓNICO","SOLICITUD DE INFORMACIÓN Y DOCUMENTOS","SOLICITUD DE INFORMACIÓN HIDROMETEOROLÓGICA","NO","GRUPO DE SERVICIO AL CIUDADANO ","2021-05-25","CORREO ELECTRÓNICO",null,{"$f":"IFERROR(WORKDAY(C1575,S1574,DiasNOLaborables),\"\")","v":"2021-06-21"},{"$f":"+IF(C1575=\"\",\"\",IF(J1575=\"\",\"SIN RESPUESTA\",(IF(J1575<=M1575,\"A TIEMPO\",\"FUERA DE TIEMPO\"))))","v":"A TIEMPO"},{"$f":"IF(J1575=\"\",\"\",NETWORKDAYS(C1575+1,J1575,DiasNOLaborables))","v":3},"",null,null,20]
[1565,20219050062482,"2021-05-20","CIUDADANO","MODULO CONTACTENOS","SOLICITUD DE INFORMACIÓN Y DOCUMENTOS","SOLICITUD DE INFORMACIÓN HIDROMETEOROLÓGICA","NO","GRUPO DE SERVICIO AL CIUDADANO ","2021-05-26","CORREO ELECTRÓNICO",null,{"$f":"IFERROR(WORKDAY(C1576,S1575,DiasNOLaborables),\"\")","v":"2021-06-21"},{"$f":"+IF(C1576=\"\",\"\",IF(J1576=\"\",\"SIN RESPUESTA\",(IF(J1576<=M1576,\"A TIEMPO\",\"FUERA DE TIEMPO\"))))","v":"A TIEMPO"},{"$f":"IF(J1576=\"\",\"\",NETWORKDAYS(C1576+1,J1576,DiasNOLaborables))","v":4},"",null,null,20]
[1566,20219050062492,"2021-05-20","CIUDADANO","MODULO CONTACTENOS","SOLICITUD DE INFORMACIÓN Y DOCUMENTOS","SOLICITUD DE INFORMACIÓN HIDROMETEOROLÓGICA","NO","GRUPO DE SERVICIO AL CIUDADANO ","2021-05-26","CORREO ELECTRÓNICO",null,{"$f":"IFERROR(WORKDAY(C1577,S1576,DiasNOLaborables),\"\")","v":"2021-06-21"},{"$f":"+IF(C1577=\"\",\"\",IF(J1577=\"\",\"SIN RESPUESTA\",(IF(J1577<=M1577,\"A TIEMPO\",\"FUERA DE TIEMPO\"))))","v":"A TIEMPO"},{"$f":"IF(J1577=\"\",\"\",NETWORKDAYS(C1577+1,J1577,DiasNOLaborables))","v":4},"",null,null,20]
[1567,20219050062532,"2021-05-20","CIUDADANO","MODULO CONTACTENOS","SOLICITUD DE INFORMACIÓN Y DOCUMENTOS","SOLICITUD DE INFORMACIÓN HIDROMETEOROLÓGICA","NO","GRUPO DE SERVICIO AL CIUDADANO ","2021-05-27","CORREO ELECTRÓNICO",null,{"$f":"IFERROR(WORKDAY(C1578,S1577,DiasNOLaborables),\"\")","v":"2021-06-21"},{"$f":"+IF(C1578=\"\",\"\",IF(J1578=\"\",\"SIN RESPUESTA\",(IF(J1578<=M1578,\"A TIEMPO\",\"FUERA DE TIEMPO\"))))","v":"A TIEMPO"},{"$f":"IF(J1578=\"\",\"\",NETWORKDAYS(C1578+1,J1578,DiasNOLaborables))","v":5},"",null,null,20]
[1568,20219050062542,"2021-05-20","ACADEMIA ","CORREO ELECTRÓNICO","SOLICITUD DE INFORMACIÓN Y DOCUMENTOS","SOLICITUD DE INFORMACIÓN HIDROMETEOROLÓGICA","NO","GRUPO DE SERVICIO AL CIUDADANO ","2021-05-27","CORREO ELECTRÓNICO",null,{"$f":"IFERROR(WORKDAY(C1579,S1578,DiasNOLaborables),\"\")","v":"2021-06-21"},{"$f":"+IF(C1579=\"\",\"\",IF(J1579=\"\",\"SIN RESPUESTA\",(IF(J1579<=M1579,\"A TIEMPO\",\"FUERA DE TIEMPO\"))))","v":"A TIEMPO"},{"$f":"IF(J1579=\"\",\"\",NETWORKDAYS(C1579+1,J1579,DiasNOLaborables))","v":5},"",null,null,20]
[1569,20219050062552,"2021-05-20","CIUDADANO","MODULO CONTACTENOS","SOLICITUD DE INFORMACIÓN Y DOCUMENTOS","SOLICITUD DE INFORMACIÓN HIDROMETEOROLÓGICA","NO","GRUPO DE SERVICIO AL CIUDADANO ","2021-05-27","CORREO ELECTRÓNICO",null,{"$f":"IFERROR(WORKDAY(C1580,S1579,DiasNOLaborables),\"\")","v":"2021-06-21"},{"$f":"+IF(C1580=\"\",\"\",IF(J1580=\"\",\"SIN RESPUESTA\",(IF(J1580<=M1580,\"A TIEMPO\",\"FUERA DE TIEMPO\"))))","v":"A TIEMPO"},{"$f":"IF(J1580=\"\",\"\",NETWORKDAYS(C1580+1,J1580,DiasNOLaborables))","v":5},"",null,null,20]
[1570,20219050062572,"2021-05-20","ACADEMIA ","CORREO ELECTRÓNICO","SOLICITUD DE INFORMACIÓN Y DOCUMENTOS","SOLICITUD DE INFORMACIÓN HIDROMETEOROLÓGICA","NO","GRUPO DE SERVICIO AL CIUDADANO ","2021-05-28","CORREO ELECTRÓNICO",null,{"$f":"IFERROR(WORKDAY(C1581,S1580,DiasNOLaborables),\"\")","v":"2021-06-21"},{"$f":"+IF(C1581=\"\",\"\",IF(J1581=\"\",\"SIN RESPUESTA\",(IF(J1581<=M1581,\"A TIEMPO\",\"FUERA DE TIEMPO\"))))","v":"A TIEMPO"},{"$f":"IF(J1581=\"\",\"\",NETWORKDAYS(C1581+1,J1581,DiasNOLaborables))","v":6},"",null,null,20]
[1571,20219050062592,"2021-05-20","CIUDADANO","CORREO ELECTRÓNICO","SOLICITUD DE INFORMACIÓN Y DOCUMENTOS","SOLICITUD DE INFORMACIÓN HIDROMETEOROLÓGICA","NO","GRUPO DE SERVICIO AL CIUDADANO ","2021-05-28","CORREO ELECTRÓNICO",null,{"$f":"IFERROR(WORKDAY(C1582,S1581,DiasNOLaborables),\"\")","v":"2021-06-21"},{"$f":"+IF(C1582=\"\",\"\",IF(J1582=\"\",\"SIN RESPUESTA\",(IF(J1582<=M1582,\"A TIEMPO\",\"FUERA DE TIEMPO\"))))","v":"A TIEMPO"},{"$f":"IF(J1582=\"\",\"\",NETWORKDAYS(C1582+1,J1582,DiasNOLaborables))","v":6},"",null,null,20]
[1572,20219050062612,"2021-05-20","EMPRESA PRIVADA","CORREO ELECTRÓNICO","SOLICITUD DE INFORMACIÓN Y DOCUMENTOS","SOLICITUD DE INFORMACIÓN HIDROMETEOROLÓGICA","NO","GRUPO DE SERVICIO AL CIUDADANO ","2021-05-28","CORREO ELECTRÓNICO",null,{"$f":"IFERROR(WORKDAY(C1583,S1582,DiasNOLaborables),\"\")","v":"2021-06-21"},{"$f":"+IF(C1583=\"\",\"\",IF(J1583=\"\",\"SIN RESPUESTA\",(IF(J1583<=M1583,\"A TIEMPO\",\"FUERA DE TIEMPO\"))))","v":"A TIEMPO"},{"$f":"IF(J1583=\"\",\"\",NETWORKDAYS(C1583+1,J1583,DiasNOLaborables))","v":6},"",null,null,35]
[1573,20219050062622,"2021-05-20","CIUDADANO","CORREO ELECTRÓNICO","CERTIFICACIONES DE TIEMPO, CLIMA Y EVENTOS HIDROLÓGICOS","CERTIFICACIONES DE TIEMPO Y CLIMA","SI","SUBDIRECCIÓN DE METEOROLOGÍA","2021-06-01","CORREO ELECTRÓNICO",null,{"$f":"IFERROR(WORKDAY(C1584,S1583,DiasNOLaborables),\"\")","v":"2021-07-13"},{"$f":"+IF(C1584=\"\",\"\",IF(J1584=\"\",\"SIN RESPUESTA\",(IF(J1584<=M1584,\"A TIEMPO\",\"FUERA DE TIEMPO\"))))","v":"A TIEMPO"},{"$f":"IF(J1584=\"\",\"\",NETWORKDAYS(C1584+1,J1584,DiasNOLaborables))","v":8},"",null,null,20]
[1574,20219910028132,"2021-05-20","ENTIDAD PÚBLICA","CORREO ELECTRÓNICO","SOLICITUD DE INFORMACIÓN Y DOCUMENTOS","SIRH","SI","SUBDIRECCIÓN DE HIDROLOGÍA","2021-05-27","CORREO ELECTRÓNICO",null,{"$f":"IFERROR(WORKDAY(C1585,S1584,DiasNOLaborables),\"\")","v":"2021-06-21"},{"$f":"+IF(C1585=\"\",\"\",IF(J1585=\"\",\"SIN RESPUESTA\",(IF(J1585<=M1585,\"A TIEMPO\",\"FUERA DE TIEMPO\"))))","v":"A TIEMPO"},{"$f":"IF(J1585=\"\",\"\",NETWORKDAYS(C1585+1,J1585,DiasNOLaborables))","v":5},"",null,null,20]
[1575,20219910028372,"2021-05-20","EMPRESA PRIVADA","CORREO ELECTRÓNICO","SOLICITUD DE INFORMACIÓN Y DOCUMENTOS","CLIMATOLOGÍA","SI","SUBDIRECCIÓN DE METEOROLOGÍA","2021-06-01","CORREO ELECTRÓNICO",null,{"$f":"IFERROR(WORKDAY(C1586,S1585,DiasNOLaborables),\"\")","v":"2021-06-21"},{"$f":"+IF(C1586=\"\",\"\",IF(J1586=\"\",\"SIN RESPUESTA\",(IF(J1586<=M1586,\"A TIEMPO\",\"FUERA DE TIEMPO\"))))","v":"A TIEMPO"},{"$f":"IF(J1586=\"\",\"\",NETWORKDAYS(C1586+1,J1586,DiasNOLaborables))","v":8},"",null,null,20]
[1576,20219050062632,"2021-05-20","ENTIDAD PÚBLICA","CORREO ELECTRÓNICO","SOLICITUD DE INFORMACIÓN Y DOCUMENTOS","SOLICITUD DE INFORMACIÓN HIDROMETEOROLÓGICA","NO","GRUPO DE SERVICIO AL CIUDADANO ","2021-05-31","CORREO ELECTRÓNICO",null,{"$f":"IFERROR(WORKDAY(C1587,S1586,DiasNOLaborables),\"\")","v":"2021-06-21"},{"$f":"+IF(C1587=\"\",\"\",IF(J1587=\"\",\"SIN RESPUESTA\",(IF(J1587<=M1587,\"A TIEMPO\",\"FUERA DE TIEMPO\"))))","v":"A TIEMPO"},{"$f":"IF(J1587=\"\",\"\",NETWORKDAYS([5]Hoja1!C1585+1,[5]Hoja1!P1585,DiasNOLaborables))","v":7},"",null,null,20]
[1577,20217030000772,"2021-05-20","ENTIDAD PÚBLICA","CORREO ELECTRÓNICO","SOLICITUD DE INFORMACIÓN Y DOCUMENTOS","SOLICITUD DE INFORMACIÓN HIDROMETEOROLÓGICA","NO","GRUPO DE SERVICIO AL CIUDADANO ","2021-05-31","CORREO ELECTRÓNICO",null,{"$f":"IFERROR(WORKDAY(C1588,S1587,DiasNOLaborables),\"\")","v":"2021-06-21"},{"$f":"+IF(C1588=\"\",\"\",IF(J1588=\"\",\"SIN RESPUESTA\",(IF(J1588<=M1588,\"A TIEMPO\",\"FUERA DE TIEMPO\"))))","v":"A TIEMPO"},{"$f":"IF(J1588=\"\",\"\",NETWORKDAYS(C1588+1,J1588,DiasNOLaborables))","v":7},"",null,null,20]
[1578,20219910028462,"2021-05-20","EMPRESA PRIVADA","CORREO ELECTRÓNICO","SOLICITUD DE INFORMACIÓN Y DOCUMENTOS","SOLICITUD DE INFORMACIÓN HIDROMETEOROLÓGICA","NO","GRUPO DE SERVICIO AL CIUDADANO ","2021-06-01","CORREO ELECTRÓNICO",null,{"$f":"IFERROR(WORKDAY(C1589,S1588,DiasNOLaborables),\"\")","v":"2021-06-21"},{"$f":"+IF(C1589=\"\",\"\",IF(J1589=\"\",\"SIN RESPUESTA\",(IF(J1589<=M1589,\"A TIEMPO\",\"FUERA DE TIEMPO\"))))","v":"A TIEMPO"},{"$f":"IF(J1589=\"\",\"\",NETWORKDAYS(C1589+1,J1589,DiasNOLaborables))","v":8},"",null,null,20]
[1579,20219050062282,"2021-05-20","CIUDADANO","CORREO ELECTRÓNICO","SOLICITUD DE INFORMACIÓN Y DOCUMENTOS","SOLICITUD DE INFORMACIÓN HIDROMETEOROLÓGICA","NO","GRUPO DE SERVICIO AL CIUDADANO ","2021-06-18","CORREO ELECTRÓNICO",null,{"$f":"IFERROR(WORKDAY(C1590,S1589,DiasNOLaborables),\"\")","v":"2021-06-21"},{"$f":"+IF(C1590=\"\",\"\",IF(J1590=\"\",\"SIN RESPUESTA\",(IF(J1590<=M1590,\"A TIEMPO\",\"FUERA DE TIEMPO\"))))","v":"A TIEMPO"},{"$f":"IF(J1590=\"\",\"\",NETWORKDAYS(C1590+1,J1590,DiasNOLaborables))","v":19},"",null,null,20]
[1580,20219050062652,"2021-05-21","CIUDADANO","MODULO CONTACTENOS","SOLICITUD DE INFORMACIÓN Y DOCUMENTOS","SOLICITUD DE INFORMACIÓN HIDROMETEOROLÓGICA","NO","GRUPO DE SERVICIO AL CIUDADANO ","2021-06-18","CORREO ELECTRÓNICO",null,{"$f":"IFERROR(WORKDAY(C1591,S1590,DiasNOLaborables),\"\")","v":"2021-06-22"},{"$f":"+IF(C1591=\"\",\"\",IF(J1591=\"\",\"SIN RESPUESTA\",(IF(J1591<=M1591,\"A TIEMPO\",\"FUERA DE TIEMPO\"))))","v":"A TIEMPO"},{"$f":"IF(J1591=\"\",\"\",NETWORKDAYS(C1591+1,J1591,DiasNOLaborables))","v":18},"",null,null,20]
[1581,20219050062662,"2021-05-21","CIUDADANO","MODULO CONTACTENOS","SOLICITUD DE INFORMACIÓN Y DOCUMENTOS","SOLICITUD DE INFORMACIÓN HIDROMETEOROLÓGICA","NO","GRUPO DE SERVICIO AL CIUDADANO ","2021-06-18","CORREO ELECTRÓNICO",null,{"$f":"IFERROR(WORKDAY(C1592,S1591,DiasNOLaborables),\"\")","v":"2021-06-22"},{"$f":"+IF(C1592=\"\",\"\",IF(J1592=\"\",\"SIN RESPUESTA\",(IF(J1592<=M1592,\"A TIEMPO\",\"FUERA DE TIEMPO\"))))","v":"A TIEMPO"},{"$f":"IF(J1592=\"\",\"\",NETWORKDAYS(C1592+1,J1592,DiasNOLaborables))","v":18},"",null,null,20]
[1582,20219050062672,"2021-05-21","CIUDADANO","MODULO CONTACTENOS","SOLICITUD DE INFORMACIÓN Y DOCUMENTOS","SOLICITUD DE INFORMACIÓN HIDROMETEOROLÓGICA","NO","GRUPO DE SERVICIO AL CIUDADANO ","2021-06-18","CORREO ELECTRÓNICO",null,{"$f":"IFERROR(WORKDAY(C1593,S1592,DiasNOLaborables),\"\")","v":"2021-06-22"},{"$f":"+IF(C1593=\"\",\"\",IF(J1593=\"\",\"SIN RESPUESTA\",(IF(J1593<=M1593,\"A TIEMPO\",\"FUERA DE TIEMPO\"))))","v":"A TIEMPO"},{"$f":"IF(J1593=\"\",\"\",NETWORKDAYS(C1593+1,J1593,DiasNOLaborables))","v":18},"",null,null,20]
[1583,20219050062682,"2021-05-21","ACADEMIA ","MODULO CONTACTENOS","SOLICITUD DE INFORMACIÓN Y DOCUMENTOS","SOLICITUD DE INFORMACIÓN HIDROMETEOROLÓGICA","NO","GRUPO DE SERVICIO AL CIUDADANO ","2021-06-18","CORREO ELECTRÓNICO",null,{"$f":"IFERROR(WORKDAY(C1594,S1593,DiasNOLaborables),\"\")","v":"2021-06-22"},{"$f":"+IF(C1594=\"\",\"\",IF(J1594=\"\",\"SIN RESPUESTA\",(IF(J1594<=M1594,\"A TIEMPO\",\"FUERA DE TIEMPO\"))))","v":"A TIEMPO"},{"$f":"IF(J1594=\"\",\"\",NETWORKDAYS(C1594+1,J1594,DiasNOLaborables))","v":18},"",null,null,20]
[1584,20219050062692,"2021-05-21","CIUDADANO","MODULO CONTACTENOS","SOLICITUD DE INFORMACIÓN Y DOCUMENTOS","SOLICITUD DE INFORMACIÓN HIDROMETEOROLÓGICA","NO","GRUPO DE SERVICIO AL CIUDADANO ","2021-06-18","CORREO ELECTRÓNICO",null,{"$f":"IFERROR(WORKDAY(C1595,S1594,DiasNOLaborables),\"\")","v":"2021-06-22"},{"$f":"+IF(C1595=\"\",\"\",IF(J1595=\"\",\"SIN RESPUESTA\",(IF(J1595<=M1595,\"A TIEMPO\",\"FUERA DE TIEMPO\"))))","v":"A TIEMPO"},{"$f":"IF(J1595=\"\",\"\",NETWORKDAYS(C1595+1,J1595,DiasNOLaborables))","v":18},"",null,null,20]
[1585,20219050062712,"2021-05-21","CIUDADANO","MODULO CONTACTENOS","SOLICITUD DE INFORMACIÓN Y DOCUMENTOS","SOLICITUD DE INFORMACIÓN HIDROMETEOROLÓGICA","NO","GRUPO DE SERVICIO AL CIUDADANO ","2021-06-18","CORREO ELECTRÓNICO",null,{"$f":"IFERROR(WORKDAY(C1596,S1595,DiasNOLaborables),\"\")","v":"2021-06-22"},{"$f":"+IF(C1596=\"\",\"\",IF(J1596=\"\",\"SIN RESPUESTA\",(IF(J1596<=M1596,\"A TIEMPO\",\"FUERA DE TIEMPO\"))))","v":"A TIEMPO"},{"$f":"IF(J1596=\"\",\"\",NETWORKDAYS(C1596+1,J1596,DiasNOLaborables))","v":18},"",null,null,20]
[1586,20219050062742,"2021-05-21","ACADEMIA ","MODULO CONTACTENOS","SOLICITUD DE INFORMACIÓN Y DOCUMENTOS","SOLICITUD DE INFORMACIÓN HIDROMETEOROLÓGICA","NO","GRUPO DE SERVICIO AL CIUDADANO ","2021-06-18","CORREO ELECTRÓNICO",null,{"$f":"IFERROR(WORKDAY(C1597,S1596,DiasNOLaborables),\"\")","v":"2021-06-22"},{"$f":"+IF(C1597=\"\",\"\",IF(J1597=\"\",\"SIN RESPUESTA\",(IF(J1597<=M1597,\"A TIEMPO\",\"FUERA DE TIEMPO\"))))","v":"A TIEMPO"},{"$f":"IF(J1597=\"\",\"\",NETWORKDAYS(C1597+1,J1597,DiasNOLaborables))","v":18},"",null,null,20]
[1587,20219050062772,"2021-05-21","CIUDADANO","MODULO CONTACTENOS","SOLICITUD DE INFORMACIÓN Y DOCUMENTOS","SOLICITUD DE INFORMACIÓN HIDROMETEOROLÓGICA","NO","GRUPO DE SERVICIO AL CIUDADANO ","2021-06-18","CORREO ELECTRÓNICO","NASLY SUSANA PUERTA GUTIERREZ",{"$f":"IFERROR(WORKDAY(C1598,S1597,DiasNOLaborables),\"\")","v":"2021-06-22"},{"$f":"+IF(C1598=\"\",\"\",IF(J1598=\"\",\"SIN RESPUESTA\",(IF(J1598<=M1598,\"A TIEMPO\",\"FUERA DE TIEMPO\"))))","v":"A TIEMPO"},{"$f":"IF(J1598=\"\",\"\",NETWORKDAYS(C1598+1,J1598,DiasNOLaborables))","v":18},"",null,null,20]
[1588,20219050062812,"2021-05-21","CIUDADANO","MODULO CONTACTENOS","SOLICITUD DE INFORMACIÓN Y DOCUMENTOS","SOLICITUD DE INFORMACIÓN HIDROMETEOROLÓGICA","NO","GRUPO DE SERVICIO AL CIUDADANO ","2021-06-20","CORREO ELECTRÓNICO","NASLY SUSANA PUERTA GUTIERREZ",{"$f":"IFERROR(WORKDAY(C1599,S1598,DiasNOLaborables),\"\")","v":"2021-06-22"},{"$f":"+IF(C1599=\"\",\"\",IF(J1599=\"\",\"SIN RESPUESTA\",(IF(J1599<=M1599,\"A TIEMPO\",\"FUERA DE TIEMPO\"))))","v":"A TIEMPO"},{"$f":"IF(J1599=\"\",\"\",NETWORKDAYS(C1599+1,J1599,DiasNOLaborables))","v":18},"",null,null,20]
[1589,20219050062862,"2021-05-21","EMPRESA PRIVADA","MODULO CONTACTENOS","SOLICITUD DE INFORMACIÓN Y DOCUMENTOS","SOLICITUD DE INFORMACIÓN HIDROMETEOROLÓGICA","NO","GRUPO DE SERVICIO AL CIUDADANO ","2021-06-20","CORREO ELECTRÓNICO","NASLY SUSANA PUERTA GUTIERREZ",{"$f":"IFERROR(WORKDAY(C1600,S1599,DiasNOLaborables),\"\")","v":"2021-06-22"},{"$f":"+IF(C1600=\"\",\"\",IF(J1600=\"\",\"SIN RESPUESTA\",(IF(J1600<=M1600,\"A TIEMPO\",\"FUERA DE TIEMPO\"))))","v":"A TIEMPO"},{"$f":"IF(J1600=\"\",\"\",NETWORKDAYS(C1600+1,J1600,DiasNOLaborables))","v":18},"",null,null,20]
[1590,20219050062832,"2021-05-21","CIUDADANO","MODULO CONTACTENOS","SOLICITUD DE INFORMACIÓN Y DOCUMENTOS","SOLICITUD DE INFORMACIÓN HIDROMETEOROLÓGICA","NO","GRUPO DE SERVICIO AL CIUDADANO ","2021-06-20","CORREO ELECTRÓNICO",null,{"$f":"IFERROR(WORKDAY(C1601,S1600,DiasNOLaborables),\"\")","v":"2021-06-22"},{"$f":"+IF(C1601=\"\",\"\",IF(J1601=\"\",\"SIN RESPUESTA\",(IF(J1601<=M1601,\"A TIEMPO\",\"FUERA DE TIEMPO\"))))","v":"A TIEMPO"},{"$f":"IF(J1601=\"\",\"\",NETWORKDAYS(C1601+1,J1601,DiasNOLaborables))","v":18},"",null,null,20]
[1591,20219050062912,"2021-05-21","CIUDADANO","MODULO CONTACTENOS","SOLICITUD DE INFORMACIÓN Y DOCUMENTOS","SOLICITUD DE INFORMACIÓN HIDROMETEOROLÓGICA","NO","GRUPO DE SERVICIO AL CIUDADANO ","2021-06-20","CORREO ELECTRÓNICO",null,{"$f":"IFERROR(WORKDAY(C1602,S1601,DiasNOLaborables),\"\")","v":"2021-06-22"},{"$f":"+IF(C1602=\"\",\"\",IF(J1602=\"\",\"SIN RESPUESTA\",(IF(J1602<=M1602,\"A TIEMPO\",\"FUERA DE TIEMPO\"))))","v":"A TIEMPO"},{"$f":"IF(J1602=\"\",\"\",NETWORKDAYS(C1602+1,J1602,DiasNOLaborables))","v":18},{"$f":"IF(NETWORKDAYS(M1602+1,J1602,DiasNOLaborables)<=0,\"\",NETWORKDAYS(M1602+1,J1602,DiasNOLaborables))","v":""},null,null,20]
[1592,20219050062932,"2021-05-21","CIUDADANO","CORREO ELECTRÓNICO","SOLICITUD DE INFORMACIÓN Y DOCUMENTOS","SOLICITUD DE INFORMACIÓN HIDROMETEOROLÓGICA","NO","GRUPO DE SERVICIO AL CIUDADANO ","2021-06-20","CORREO ELECTRÓNICO",null,{"$f":"IFERROR(WORKDAY(C1603,S1602,DiasNOLaborables),\"\")","v":"2021-06-22"},{"$f":"+IF(C1603=\"\",\"\",IF(J1603=\"\",\"SIN RESPUESTA\",(IF(J1603<=M1603,\"A TIEMPO\",\"FUERA DE TIEMPO\"))))","v":"A TIEMPO"},{"$f":"IF(J1603=\"\",\"\",NETWORKDAYS(C1603+1,J1603,DiasNOLaborables))","v":18},"",null,null,20]
[1593,20219050063012,"2021-05-21","CIUDADANO","CORREO ELECTRÓNICO","SOLICITUD DE INFORMACIÓN Y DOCUMENTOS","SOLICITUD DE INFORMACIÓN HIDROMETEOROLÓGICA","NO","GRUPO DE SERVICIO AL CIUDADANO ","2021-06-20","CORREO ELECTRÓNICO",null,{"$f":"IFERROR(WORKDAY(C1604,S1603,DiasNOLaborables),\"\")","v":"2021-06-22"},{"$f":"+IF(C1604=\"\",\"\",IF(J1604=\"\",\"SIN RESPUESTA\",(IF(J1604<=M1604,\"A TIEMPO\",\"FUERA DE TIEMPO\"))))","v":"A TIEMPO"},{"$f":"IF(J1604=\"\",\"\",NETWORKDAYS(C1604+1,J1604,DiasNOLaborables))","v":18},"",null,null,20]
[1594,20219050063042,"2021-05-21","CIUDADANO","CORREO ELECTRÓNICO","SOLICITUD DE INFORMACIÓN Y DOCUMENTOS","SOLICITUD DE INFORMACIÓN HIDROMETEOROLÓGICA","NO","GRUPO DE SERVICIO AL CIUDADANO ","2021-06-20","CORREO ELECTRÓNICO",null,{"$f":"IFERROR(WORKDAY(C1605,S1604,DiasNOLaborables),\"\")","v":"2021-06-22"},{"$f":"+IF(C1605=\"\",\"\",IF(J1605=\"\",\"SIN RESPUESTA\",(IF(J1605<=M1605,\"A TIEMPO\",\"FUERA DE TIEMPO\"))))","v":"A TIEMPO"},{"$f":"IF(J1605=\"\",\"\",NETWORKDAYS(C1605+1,J1605,DiasNOLaborables))","v":18},"",null,null,20]
[1595,20219050062642,"2021-05-21","CIUDADANO","MODULO CONTACTENOS","SOLICITUD DE INFORMACIÓN Y DOCUMENTOS","SOLICITUD DE INFORMACIÓN HIDROMETEOROLÓGICA","NO","GRUPO DE SERVICIO AL CIUDADANO ","2021-06-01","CORREO ELECTRÓNICO",null,{"$f":"IFERROR(WORKDAY(C1606,S1605,DiasNOLaborables),\"\")","v":"2021-06-22"},{"$f":"+IF(C1606=\"\",\"\",IF(J1606=\"\",\"SIN RESPUESTA\",(IF(J1606<=M1606,\"A TIEMPO\",\"FUERA DE TIEMPO\"))))","v":"A TIEMPO"},{"$f":"IF(J1606=\"\",\"\",NETWORKDAYS(C1606+1,J1606,DiasNOLaborables))","v":7},"",null,null,20]
[1596,20219050063082,"2021-05-21","CIUDADANO","MODULO CONTACTENOS","SOLICITUD DE INFORMACIÓN Y DOCUMENTOS","SOLICITUD DE INFORMACIÓN HIDROMETEOROLÓGICA","SI","SUBDIRECCIÓN DE METEOROLOGÍA","2021-06-02","CORREO ELECTRÓNICO",null,{"$f":"IFERROR(WORKDAY(C1607,S1606,DiasNOLaborables),\"\")","v":"2021-06-22"},{"$f":"+IF(C1607=\"\",\"\",IF(J1607=\"\",\"SIN RESPUESTA\",(IF(J1607<=M1607,\"A TIEMPO\",\"FUERA DE TIEMPO\"))))","v":"A TIEMPO"},{"$f":"IF(J1607=\"\",\"\",NETWORKDAYS(C1607+1,J1607,DiasNOLaborables))","v":8},"",null,null,20]
[1597,20219050063092,"2021-05-21","ACADEMIA ","MODULO CONTACTENOS","SOLICITUD DE INFORMACIÓN Y DOCUMENTOS","SOLICITUD DE INFORMACIÓN HIDROMETEOROLÓGICA","SI","SUBDIRECCIÓN DE METEOROLOGÍA","2021-06-02","CORREO CERTIFICADO",null,{"$f":"IFERROR(WORKDAY(C1608,S1607,DiasNOLaborables),\"\")","v":"2021-06-22"},{"$f":"+IF(C1608=\"\",\"\",IF(J1608=\"\",\"SIN RESPUESTA\",(IF(J1608<=M1608,\"A TIEMPO\",\"FUERA DE TIEMPO\"))))","v":"A TIEMPO"},{"$f":"IF(J1608=\"\",\"\",NETWORKDAYS(C1608+1,J1608,DiasNOLaborables))","v":8},"",null,null,20]
[1598,20219050063112,"2021-05-21","CIUDADANO","MODULO CONTACTENOS","SOLICITUD DE INFORMACIÓN Y DOCUMENTOS","SOLICITUD DE INFORMACIÓN HIDROMETEOROLÓGICA","NO","GRUPO DE SERVICIO AL CIUDADANO ","2021-06-02","CORREO ELECTRÓNICO",null,{"$f":"IFERROR(WORKDAY(C1609,S1608,DiasNOLaborables),\"\")","v":"2021-06-22"},{"$f":"+IF(C1609=\"\",\"\",IF(J1609=\"\",\"SIN RESPUESTA\",(IF(J1609<=M1609,\"A TIEMPO\",\"FUERA DE TIEMPO\"))))","v":"A TIEMPO"},{"$f":"IF(J1609=\"\",\"\",NETWORKDAYS(C1609+1,J1609,DiasNOLaborables))","v":8},"",null,null,20]
[1599,20219050063122,"2021-05-21","CIUDADANO","MODULO CONTACTENOS","SOLICITUD DE INFORMACIÓN Y DOCUMENTOS","SOLICITUD DE INFORMACIÓN HIDROMETEOROLÓGICA","NO","GRUPO DE SERVICIO AL CIUDADANO ","2021-06-02","CORREO ELECTRÓNICO",null,{"$f":"IFERROR(WORKDAY(C1610,S1609,DiasNOLaborables),\"\")","v":"2021-06-22"},{"$f":"+IF(C1610=\"\",\"\",IF(J1610=\"\",\"SIN RESPUESTA\",(IF(J1610<=M1610,\"A TIEMPO\",\"FUERA DE TIEMPO\"))))","v":"A TIEMPO"},{"$f":"IF(J1610=\"\",\"\",NETWORKDAYS(C1610+1,J1610,DiasNOLaborables))","v":8},"",null,null,20]
[1600,20219050063132,"2021-05-21","CIUDADANO","MODULO CONTACTENOS","SOLICITUD DE INFORMACIÓN Y DOCUMENTOS","SOLICITUD DE INFORMACIÓN HIDROMETEOROLÓGICA","NO","GRUPO DE SERVICIO AL CIUDADANO ","2021-06-02","CORREO ELECTRÓNICO",null,{"$f":"IFERROR(WORKDAY(C1611,S1610,DiasNOLaborables),\"\")","v":"2021-06-22"},{"$f":"+IF(C1611=\"\",\"\",IF(J1611=\"\",\"SIN RESPUESTA\",(IF(J1611<=M1611,\"A TIEMPO\",\"FUERA DE TIEMPO\"))))","v":"A TIEMPO"},{"$f":"IF(J1611=\"\",\"\",NETWORKDAYS(C1611+1,J1611,DiasNOLaborables))","v":8},"",null,null,20]
[1601,20219910028572,"2021-05-21","ENTIDAD PÚBLICA","CORREO ELECTRÓNICO","SOLICITUD DE INFORMACIÓN Y DOCUMENTOS","BOSQUES","SI","SUBDIRECCIÓN DE ECOSISTEMAS E INFORMACIÓN AMBIENTAL","2021-06-16","CORREO ELECTRÓNICO",null,{"$f":"IFERROR(WORKDAY(C1612,S1611,DiasNOLaborables),\"\")","v":"2021-06-22"},{"$f":"+IF(C1612=\"\",\"\",IF(J1612=\"\",\"SIN RESPUESTA\",(IF(J1612<=M1612,\"A TIEMPO\",\"FUERA DE TIEMPO\"))))","v":"A TIEMPO"},{"$f":"IF(J1612=\"\",\"\",NETWORKDAYS(C1612+1,J1612,DiasNOLaborables))","v":16},"",null,null,30]
[1602,20219910028742,"2021-05-21","ENTIDAD PÚBLICA","CORREO ELECTRÓNICO","PETICIÓN","CERTIFICACIONES DE TIEMPO Y CLIMA","SI","SUBDIRECCIÓN DE METEOROLOGÍA","2021-05-26","CORREO ELECTRÓNICO",null,{"$f":"IFERROR(WORKDAY(C1613,S1612,DiasNOLaborables),\"\")","v":"2021-07-07"},{"$f":"+IF(C1613=\"\",\"\",IF(J1613=\"\",\"SIN RESPUESTA\",(IF(J1613<=M1613,\"A TIEMPO\",\"FUERA DE TIEMPO\"))))","v":"A TIEMPO"},{"$f":"IF(J1613=\"\",\"\",NETWORKDAYS(C1613+1,J1613,DiasNOLaborables))","v":3},"",null,null,{"$f":"IFERROR(VLOOKUP(F1614,$AA$51:$AB$64,2),\"\")","v":20}]
[{"$f":"IF(B1614<>\"\",A1613+1,\"\")","v":1603},20219910028802,"2021-05-21","CIUDADANO","CORREO ELECTRÓNICO","SOLICITUD DE INFORMACIÓN Y DOCUMENTOS","ADMINISTRATIVA","SI","GRUPO DE ADMINISTRACIÓN Y DESARROLLO DEL TALENTO HUMANO","2021-05-24","CORREO ELECTRÓNICO",null,{"$f":"IFERROR(WORKDAY(C1614,S1613,DiasNOLaborables),\"\")","v":"2021-06-22"},{"$f":"+IF(C1614=\"\",\"\",IF(J1614=\"\",\"SIN RESPUESTA\",(IF(J1614<=M1614,\"A TIEMPO\",\"FUERA DE TIEMPO\"))))","v":"A TIEMPO"},{"$f":"IF(J1614=\"\",\"\",NETWORKDAYS(C1614+1,J1614,DiasNOLaborables))","v":1},"",null,null,20]
[1604,20219050062922,"2021-05-21","CIUDADANO","CORREO ELECTRÓNICO","SOLICITUD DE INFORMACIÓN Y DOCUMENTOS","REGISTROS AMBIENTALES","SI","SUBDIRECCIÓN DE ESTUDIOS AMBIENTALES","2021-06-18",null,null,{"$f":"IFERROR(WORKDAY(C1615,S1614,DiasNOLaborables),\"\")","v":"2021-06-22"},{"$f":"+IF(C1615=\"\",\"\",IF(J1615=\"\",\"SIN RESPUESTA\",(IF(J1615<=M1615,\"A TIEMPO\",\"FUERA DE TIEMPO\"))))","v":"A TIEMPO"},{"$f":"IF(J1615=\"\",\"\",NETWORKDAYS(C1615+1,J1615,DiasNOLaborables))","v":18},"",null,null,20]
[1605,20219050062762,"2021-05-21","CIUDADANO","CORREO ELECTRÓNICO","SOLICITUD DE INFORMACIÓN Y DOCUMENTOS","REGISTROS AMBIENTALES","SI","SUBDIRECCIÓN DE ESTUDIOS AMBIENTALES","2021-05-26","CORREO ELECTRÓNICO",null,{"$f":"IFERROR(WORKDAY(C1616,S1615,DiasNOLaborables),\"\")","v":"2021-06-22"},{"$f":"+IF(C1616=\"\",\"\",IF(J1616=\"\",\"SIN RESPUESTA\",(IF(J1616<=M1616,\"A TIEMPO\",\"FUERA DE TIEMPO\"))))","v":"A TIEMPO"},{"$f":"IF(J1616=\"\",\"\",NETWORKDAYS(C1616+1,J1616,DiasNOLaborables))","v":3},"",null,null,35]
[1606,20219050062782,"2021-05-21","CIUDADANO","CORREO ELECTRÓNICO","CERTIFICACIONES DE TIEMPO, CLIMA Y EVENTOS HIDROLÓGICOS","CERTIFICACIONES DE TIEMPO Y CLIMA","SI","SUBDIRECCIÓN DE METEOROLOGÍA","2021-06-15","CORREO ELECTRÓNICO",null,{"$f":"IFERROR(WORKDAY(C1617,S1616,DiasNOLaborables),\"\")","v":"2021-07-14"},{"$f":"+IF(C1617=\"\",\"\",IF(J1617=\"\",\"SIN RESPUESTA\",(IF(J1617<=M1617,\"A TIEMPO\",\"FUERA DE TIEMPO\"))))","v":"A TIEMPO"},{"$f":"IF(J1617=\"\",\"\",NETWORKDAYS(C1617+1,J1617,DiasNOLaborables))","v":15},"",null,null,35]
[1607,20219050062792,"2021-05-21","CIUDADANO","CORREO ELECTRÓNICO","CERTIFICACIONES DE TIEMPO, CLIMA Y EVENTOS HIDROLÓGICOS","CERTIFICACIONES DE TIEMPO Y CLIMA","SI","SUBDIRECCIÓN DE METEOROLOGÍA","2021-06-15","CORREO ELECTRÓNICO",null,{"$f":"IFERROR(WORKDAY(C1618,S1617,DiasNOLaborables),\"\")","v":"2021-07-14"},{"$f":"+IF(C1618=\"\",\"\",IF(J1618=\"\",\"SIN RESPUESTA\",(IF(J1618<=M1618,\"A TIEMPO\",\"FUERA DE TIEMPO\"))))","v":"A TIEMPO"},{"$f":"IF(J1618=\"\",\"\",NETWORKDAYS(C1618+1,J1618,DiasNOLaborables))","v":15},"",null,null,35]
[1608,20219050062802,"2021-05-21","CIUDADANO","CORREO ELECTRÓNICO","CERTIFICACIONES DE TIEMPO, CLIMA Y EVENTOS HIDROLÓGICOS","CERTIFICACIONES DE TIEMPO Y CLIMA","SI","SUBDIRECCIÓN DE METEOROLOGÍA","2021-06-08","CORREO ELECTRÓNICO",null,{"$f":"IFERROR(WORKDAY(C1619,S1618,DiasNOLaborables),\"\")","v":"2021-07-14"},{"$f":"+IF(C1619=\"\",\"\",IF(J1619=\"\",\"SIN RESPUESTA\",(IF(J1619<=M1619,\"A TIEMPO\",\"FUERA DE TIEMPO\"))))","v":"A TIEMPO"},{"$f":"IF(J1619=\"\",\"\",NETWORKDAYS(C1619+1,J1619,DiasNOLaborables))","v":11},"",null,null,35]
[1609,20219050062822,"2021-05-21","CIUDADANO","CORREO ELECTRÓNICO","CERTIFICACIONES DE TIEMPO, CLIMA Y EVENTOS HIDROLÓGICOS","CERTIFICACIONES DE TIEMPO Y CLIMA","SI","SUBDIRECCIÓN DE METEOROLOGÍA","2021-06-08","CORREO ELECTRÓNICO",null,{"$f":"IFERROR(WORKDAY(C1620,S1619,DiasNOLaborables),\"\")","v":"2021-07-14"},{"$f":"+IF(C1620=\"\",\"\",IF(J1620=\"\",\"SIN RESPUESTA\",(IF(J1620<=M1620,\"A TIEMPO\",\"FUERA DE TIEMPO\"))))","v":"A TIEMPO"},{"$f":"IF(J1620=\"\",\"\",NETWORKDAYS(C1620+1,J1620,DiasNOLaborables))","v":11},"",null,null,35]
[1610,20219050062842,"2021-05-21","CIUDADANO","CORREO ELECTRÓNICO","CERTIFICACIONES DE TIEMPO, CLIMA Y EVENTOS HIDROLÓGICOS","CERTIFICACIONES DE TIEMPO Y CLIMA","SI","SUBDIRECCIÓN DE METEOROLOGÍA","2021-06-08","CORREO ELECTRÓNICO",null,{"$f":"IFERROR(WORKDAY(C1621,S1620,DiasNOLaborables),\"\")","v":"2021-07-14"},{"$f":"+IF(C1621=\"\",\"\",IF(J1621=\"\",\"SIN RESPUESTA\",(IF(J1621<=M1621,\"A TIEMPO\",\"FUERA DE TIEMPO\"))))","v":"A TIEMPO"},{"$f":"IF(J1621=\"\",\"\",NETWORKDAYS(C1621+1,J1621,DiasNOLaborables))","v":11},"",null,null,35]
[1611,20219050062852,"2021-05-21","CIUDADANO","CORREO ELECTRÓNICO","CERTIFICACIONES DE TIEMPO, CLIMA Y EVENTOS HIDROLÓGICOS","CERTIFICACIONES DE TIEMPO Y CLIMA","SI","SUBDIRECCIÓN DE METEOROLOGÍA","2021-06-08","CORREO ELECTRÓNICO",null,{"$f":"IFERROR(WORKDAY(C1622,S1621,DiasNOLaborables),\"\")","v":"2021-07-14"},{"$f":"+IF(C1622=\"\",\"\",IF(J1622=\"\",\"SIN RESPUESTA\",(IF(J1622<=M1622,\"A TIEMPO\",\"FUERA DE TIEMPO\"))))","v":"A TIEMPO"},{"$f":"IF(J1622=\"\",\"\",NETWORKDAYS(C1622+1,J1622,DiasNOLaborables))","v":11},"",null,null,35]
[1612,20219050062942,"2021-05-21","CIUDADANO","CORREO ELECTRÓNICO","CERTIFICACIONES DE TIEMPO, CLIMA Y EVENTOS HIDROLÓGICOS","CERTIFICACIONES DE TIEMPO Y CLIMA","SI","SUBDIRECCIÓN DE METEOROLOGÍA","2021-06-08","CORREO ELECTRÓNICO",null,{"$f":"IFERROR(WORKDAY(C1623,S1622,DiasNOLaborables),\"\")","v":"2021-07-14"},{"$f":"+IF(C1623=\"\",\"\",IF(J1623=\"\",\"SIN RESPUESTA\",(IF(J1623<=M1623,\"A TIEMPO\",\"FUERA DE TIEMPO\"))))","v":"A TIEMPO"},{"$f":"IF(J1623=\"\",\"\",NETWORKDAYS(C1623+1,J1623,DiasNOLaborables))","v":11},"",null,null,20]
[1613,20219050062952,"2021-05-21","CIUDADANO","CORREO ELECTRÓNICO","SOLICITUD DE INFORMACIÓN Y DOCUMENTOS","REGISTROS AMBIENTALES","SI","SUBDIRECCIÓN DE ESTUDIOS AMBIENTALES","2021-05-25","CORREO ELECTRÓNICO",null,{"$f":"IFERROR(WORKDAY(C1624,S1623,DiasNOLaborables),\"\")","v":"2021-06-22"},{"$f":"+IF(C1624=\"\",\"\",IF(J1624=\"\",\"SIN RESPUESTA\",(IF(J1624<=M1624,\"A TIEMPO\",\"FUERA DE TIEMPO\"))))","v":"A TIEMPO"},{"$f":"IF(J1624=\"\",\"\",NETWORKDAYS(C1624+1,J1624,DiasNOLaborables))","v":2},"",null,null,20]
[1614,20219050062962,"2021-05-21","CIUDADANO","CORREO ELECTRÓNICO","SOLICITUD DE INFORMACIÓN Y DOCUMENTOS","INFORMES AMBIENTALES",null,"GRUPO DE COMUNICACIONES","2021-06-01","CORREO ELECTRÓNICO",null,{"$f":"IFERROR(WORKDAY(C1625,S1624,DiasNOLaborables),\"\")","v":"2021-06-22"},{"$f":"+IF(C1625=\"\",\"\",IF(J1625=\"\",\"SIN RESPUESTA\",(IF(J1625<=M1625,\"A TIEMPO\",\"FUERA DE TIEMPO\"))))","v":"A TIEMPO"},{"$f":"IF(J1625=\"\",\"\",NETWORKDAYS(C1625+1,J1625,DiasNOLaborables))","v":7},"",null,null,20]
[1615,20219050062972,"2021-05-21","CIUDADANO","CORREO ELECTRÓNICO","SOLICITUD DE INFORMACIÓN Y DOCUMENTOS","ACREDITACIÓN DE LABORATORIOS","SI","SUBDIRECCIÓN DE ESTUDIOS AMBIENTALES","2021-05-28","CORREO ELECTRÓNICO",null,{"$f":"IFERROR(WORKDAY(C1626,S1625,DiasNOLaborables),\"\")","v":"2021-06-22"},{"$f":"+IF(C1626=\"\",\"\",IF(J1626=\"\",\"SIN RESPUESTA\",(IF(J1626<=M1626,\"A TIEMPO\",\"FUERA DE TIEMPO\"))))","v":"A TIEMPO"},{"$f":"IF(J1626=\"\",\"\",NETWORKDAYS(C1626+1,J1626,DiasNOLaborables))","v":5},"",null,null,35]
[1616,20219050062982,"2021-05-21","CIUDADANO","CORREO ELECTRÓNICO","CERTIFICACIONES DE TIEMPO, CLIMA Y EVENTOS HIDROLÓGICOS","CERTIFICACIONES DE TIEMPO Y CLIMA","SI","SUBDIRECCIÓN DE METEOROLOGÍA","2021-06-08","CORREO ELECTRÓNICO","NASLY SUSANA PUERTA GUTIERREZ",{"$f":"IFERROR(WORKDAY(C1627,S1626,DiasNOLaborables),\"\")","v":"2021-07-14"},{"$f":"+IF(C1627=\"\",\"\",IF(J1627=\"\",\"SIN RESPUESTA\",(IF(J1627<=M1627,\"A TIEMPO\",\"FUERA DE TIEMPO\"))))","v":"A TIEMPO"},{"$f":"IF(J1627=\"\",\"\",NETWORKDAYS(C1627+1,J1627,DiasNOLaborables))","v":11},"",null,null,20]
[1617,20219050062992,"2021-05-21","CIUDADANO","CORREO ELECTRÓNICO","SOLICITUD DE INFORMACIÓN Y DOCUMENTOS","CLIMATOLOGÍA","SI","SUBDIRECCIÓN DE METEOROLOGÍA","2021-06-08","CORREO ELECTRÓNICO","NASLY SUSANA PUERTA GUTIERREZ",{"$f":"IFERROR(WORKDAY(C1628,S1627,DiasNOLaborables),\"\")","v":"2021-06-22"},{"$f":"+IF(C1628=\"\",\"\",IF(J1628=\"\",\"SIN RESPUESTA\",(IF(J1628<=M1628,\"A TIEMPO\",\"FUERA DE TIEMPO\"))))","v":"A TIEMPO"},{"$f":"IF(J1628=\"\",\"\",NETWORKDAYS(C1628+1,J1628,DiasNOLaborables))","v":11},"",null,null,20]
[1618,20219050063002,"2021-05-21","CIUDADANO","CORREO ELECTRÓNICO","SOLICITUD DE INFORMACIÓN Y DOCUMENTOS","SOLICITUD DE INFORMACIÓN HIDROMETEOROLÓGICA","SI","GRUPO DE SERVICIO AL CIUDADANO ","2021-05-31","CORREO ELECTRÓNICO","NASLY SUSANA PUERTA GUTIERREZ",{"$f":"IFERROR(WORKDAY(C1629,S1628,DiasNOLaborables),\"\")","v":"2021-06-22"},{"$f":"+IF(C1629=\"\",\"\",IF(J1629=\"\",\"SIN RESPUESTA\",(IF(J1629<=M1629,\"A TIEMPO\",\"FUERA DE TIEMPO\"))))","v":"A TIEMPO"},{"$f":"IF(J1629=\"\",\"\",NETWORKDAYS(C1629+1,J1629,DiasNOLaborables))","v":6},"",null,null,20]
[1619,20219050063022,"2021-05-21","CIUDADANO","CORREO ELECTRÓNICO","SOLICITUD DE INFORMACIÓN Y DOCUMENTOS","BOSQUES","SI","SUBDIRECCIÓN DE ECOSISTEMAS E INFORMACIÓN AMBIENTAL","2021-06-02","CORREO ELECTRÓNICO","NASLY SUSANA PUERTA GUTIERREZ",{"$f":"IFERROR(WORKDAY(C1630,S1629,DiasNOLaborables),\"\")","v":"2021-06-22"},{"$f":"+IF(C1630=\"\",\"\",IF(J1630=\"\",\"SIN RESPUESTA\",(IF(J1630<=M1630,\"A TIEMPO\",\"FUERA DE TIEMPO\"))))","v":"A TIEMPO"},{"$f":"IF(J1630=\"\",\"\",NETWORKDAYS(C1630+1,J1630,DiasNOLaborables))","v":8},"",null,null,20]
[1620,20219050062882,"2021-05-21","CIUDADANO","CORREO ELECTRÓNICO","SOLICITUD DE INFORMACIÓN Y DOCUMENTOS","INFORMES AMBIENTALES","SI","SUBDIRECCIÓN DE ESTUDIOS AMBIENTALES","2021-05-26","CORREO ELECTRÓNICO","NASLY SUSANA PUERTA GUTIERREZ",{"$f":"IFERROR(WORKDAY(C1631,S1630,DiasNOLaborables),\"\")","v":"2021-06-22"},{"$f":"+IF(C1631=\"\",\"\",IF(J1631=\"\",\"SIN RESPUESTA\",(IF(J1631<=M1631,\"A TIEMPO\",\"FUERA DE TIEMPO\"))))","v":"A TIEMPO"},{"$f":"IF(J1631=\"\",\"\",NETWORKDAYS(C1631+1,J1631,DiasNOLaborables))","v":3},"",null,null,20]
[1621,20219050063032,"2021-05-21","CIUDADANO","CORREO ELECTRÓNICO","SOLICITUD DE INFORMACIÓN Y DOCUMENTOS","ADMINISTRATIVA","SI","GRUPO DE ADMINISTRACIÓN Y DESARROLLO DEL TALENTO HUMANO","2021-05-26","CORREO ELECTRÓNICO","NASLY SUSANA PUERTA GUTIERREZ",{"$f":"IFERROR(WORKDAY(C1632,S1631,DiasNOLaborables),\"\")","v":"2021-06-22"},{"$f":"+IF(C1632=\"\",\"\",IF(J1632=\"\",\"SIN RESPUESTA\",(IF(J1632<=M1632,\"A TIEMPO\",\"FUERA DE TIEMPO\"))))","v":"A TIEMPO"},{"$f":"IF(J1632=\"\",\"\",NETWORKDAYS(C1632+1,J1632,DiasNOLaborables))","v":3},"",null,null,30]
[1622,20219910028862,"2021-05-21","CIUDADANO","CORREO ELECTRÓNICO","PETICIÓN","ADMINISTRATIVA","SI","GRUPO DE ADMINISTRACIÓN Y DESARROLLO DEL TALENTO HUMANO","2021-06-23","CORREO ELECTRÓNICO","NASLY SUSANA PUERTA GUTIERREZ",{"$f":"IFERROR(WORKDAY(C1633,S1632,DiasNOLaborables),\"\")","v":"2021-07-07"},{"$f":"+IF(C1633=\"\",\"\",IF(J1633=\"\",\"SIN RESPUESTA\",(IF(J1633<=M1633,\"A TIEMPO\",\"FUERA DE TIEMPO\"))))","v":"A TIEMPO"},{"$f":"IF(J1633=\"\",\"\",NETWORKDAYS(C1633+1,J1633,DiasNOLaborables))","v":21},"",null,null,20]
[1623,20219050062702,"2021-05-21","CIUDADANO","MODULO CONTACTENOS","SOLICITUD DE INFORMACIÓN Y DOCUMENTOS","ADMINISTRATIVA","SI","OFICINA ASESORA JURÍDICA","2021-05-27","CORREO ELECTRÓNICO","NASLY SUSANA PUERTA GUTIERREZ",{"$f":"IFERROR(WORKDAY(C1634,S1633,DiasNOLaborables),\"\")","v":"2021-06-22"},{"$f":"+IF(C1634=\"\",\"\",IF(J1634=\"\",\"SIN RESPUESTA\",(IF(J1634<=M1634,\"A TIEMPO\",\"FUERA DE TIEMPO\"))))","v":"A TIEMPO"},{"$f":"IF(J1634=\"\",\"\",NETWORKDAYS(C1634+1,J1634,DiasNOLaborables))","v":4},"",null,null,20]
[1624,20219050062732,"2021-05-21","EMPRESA PRIVADA","MODULO CONTACTENOS","SOLICITUD DE INFORMACIÓN Y DOCUMENTOS","REGISTROS AMBIENTALES","SI","SUBDIRECCIÓN DE ESTUDIOS AMBIENTALES","2021-05-26","CORREO ELECTRÓNICO","NASLY SUSANA PUERTA GUTIERREZ",{"$f":"IFERROR(WORKDAY(C1635,S1634,DiasNOLaborables),\"\")","v":"2021-06-22"},{"$f":"+IF(C1635=\"\",\"\",IF(J1635=\"\",\"SIN RESPUESTA\",(IF(J1635<=M1635,\"A TIEMPO\",\"FUERA DE TIEMPO\"))))","v":"A TIEMPO"},{"$f":"IF(J1635=\"\",\"\",NETWORKDAYS(C1635+1,J1635,DiasNOLaborables))","v":3},"",null,null,20]
[1625,20219050062872,"2021-05-21","CIUDADANO","MODULO CONTACTENOS","SOLICITUD DE INFORMACIÓN Y DOCUMENTOS","ADMINISTRATIVA","SI","GRUPO DE ADMINISTRACIÓN Y DESARROLLO DEL TALENTO HUMANO","2021-06-04","CORREO ELECTRÓNICO","NASLY SUSANA PUERTA GUTIERREZ",{"$f":"IFERROR(WORKDAY(C1636,S1635,DiasNOLaborables),\"\")","v":"2021-06-22"},{"$f":"+IF(C1636=\"\",\"\",IF(J1636=\"\",\"SIN RESPUESTA\",(IF(J1636<=M1636,\"A TIEMPO\",\"FUERA DE TIEMPO\"))))","v":"A TIEMPO"},{"$f":"IF(J1636=\"\",\"\",NETWORKDAYS(C1636+1,J1636,DiasNOLaborables))","v":10},"",null,null,30]
[1626,20217100000752,"2021-05-21","ENTIDAD PÚBLICA","CORREO CERTIFICADO","PETICIÓN","CERTIFICACIONES DE TIEMPO Y CLIMA","SI","SUBDIRECCIÓN DE METEOROLOGÍA","2021-06-21","CORREO ELECTRÓNICO","NASLY SUSANA PUERTA GUTIERREZ",{"$f":"IFERROR(WORKDAY(C1637,S1636,DiasNOLaborables),\"\")","v":"2021-07-07"},{"$f":"+IF(C1637=\"\",\"\",IF(J1637=\"\",\"SIN RESPUESTA\",(IF(J1637<=M1637,\"A TIEMPO\",\"FUERA DE TIEMPO\"))))","v":"A TIEMPO"},{"$f":"IF(J1637=\"\",\"\",NETWORKDAYS(C1637+1,J1637,DiasNOLaborables))","v":19},"",null,null,20]
[1627,20219050063052,"2021-05-21","EMPRESA PRIVADA","MODULO CONTACTENOS","SOLICITUD DE INFORMACIÓN Y DOCUMENTOS","ADMINISTRATIVA","SI","GRUPO DE TESORERÍA","2021-05-25","CORREO ELECTRÓNICO","NASLY SUSANA PUERTA GUTIERREZ",{"$f":"IFERROR(WORKDAY(C1638,S1637,DiasNOLaborables),\"\")","v":"2021-06-22"},{"$f":"+IF(C1638=\"\",\"\",IF(J1638=\"\",\"SIN RESPUESTA\",(IF(J1638<=M1638,\"A TIEMPO\",\"FUERA DE TIEMPO\"))))","v":"A TIEMPO"},{"$f":"IF(J1638=\"\",\"\",NETWORKDAYS(C1638+1,J1638,DiasNOLaborables))","v":2},"",null,null,20]
[1628,20219050063142,"2021-05-22","EMPRESA PRIVADA","MODULO CONTACTENOS","SOLICITUD DE INFORMACIÓN Y DOCUMENTOS","REGISTROS AMBIENTALES","SI","SUBDIRECCIÓN DE ESTUDIOS AMBIENTALES","2021-05-26","CORREO ELECTRÓNICO","NASLY SUSANA PUERTA GUTIERREZ",{"$f":"IFERROR(WORKDAY(C1639,S1638,DiasNOLaborables),\"\")","v":"2021-06-22"},{"$f":"+IF(C1639=\"\",\"\",IF(J1639=\"\",\"SIN RESPUESTA\",(IF(J1639<=M1639,\"A TIEMPO\",\"FUERA DE TIEMPO\"))))","v":"A TIEMPO"},{"$f":"IF(J1639=\"\",\"\",NETWORKDAYS(C1639+1,J1639,DiasNOLaborables))","v":3},"",null,null,35]
[1629,20219050063222,"2021-05-22","EMPRESA PRIVADA","MODULO CONTACTENOS","CERTIFICACIONES DE TIEMPO, CLIMA Y EVENTOS HIDROLÓGICOS","CERTIFICACIONES DE TIEMPO Y CLIMA","SI","SUBDIRECCIÓN DE METEOROLOGÍA","2021-06-11","CORREO ELECTRÓNICO","NASLY SUSANA PUERTA GUTIERREZ",{"$f":"IFERROR(WORKDAY(C1640,S1639,DiasNOLaborables),\"\")","v":"2021-07-14"},{"$f":"+IF(C1640=\"\",\"\",IF(J1640=\"\",\"SIN RESPUESTA\",(IF(J1640<=M1640,\"A TIEMPO\",\"FUERA DE TIEMPO\"))))","v":"A TIEMPO"},{"$f":"IF(J1640=\"\",\"\",NETWORKDAYS(C1640+1,J1640,DiasNOLaborables))","v":14},"",null,null,20]
[1630,20219050063172,"2021-05-22","CIUDADANO","MODULO CONTACTENOS","SOLICITUD DE INFORMACIÓN Y DOCUMENTOS","SOLICITUD DE INFORMACIÓN HIDROMETEOROLÓGICA","NO","GRUPO DE SERVICIO AL CIUDADANO ","2021-06-03","CORREO ELECTRÓNICO",null,{"$f":"IFERROR(WORKDAY(C1641,S1640,DiasNOLaborables),\"\")","v":"2021-06-22"},{"$f":"+IF(C1641=\"\",\"\",IF(J1641=\"\",\"SIN RESPUESTA\",(IF(J1641<=M1641,\"A TIEMPO\",\"FUERA DE TIEMPO\"))))","v":"A TIEMPO"},{"$f":"IF(J1641=\"\",\"\",NETWORKDAYS(C1641+1,J1641,DiasNOLaborables))","v":9},"",null,null,20]
[1631,20219050063182,"2021-05-22","ENTIDAD PÚBLICA","MODULO CONTACTENOS","SOLICITUD DE INFORMACIÓN Y DOCUMENTOS","SOLICITUD DE INFORMACIÓN HIDROMETEOROLÓGICA","NO","GRUPO DE SERVICIO AL CIUDADANO ","2021-06-04","CORREO ELECTRÓNICO",null,{"$f":"IFERROR(WORKDAY(C1642,S1641,DiasNOLaborables),\"\")","v":"2021-06-22"},{"$f":"+IF(C1642=\"\",\"\",IF(J1642=\"\",\"SIN RESPUESTA\",(IF(J1642<=M1642,\"A TIEMPO\",\"FUERA DE TIEMPO\"))))","v":"A TIEMPO"},{"$f":"IF(J1642=\"\",\"\",NETWORKDAYS(C1642+1,J1642,DiasNOLaborables))","v":10},"",null,null,20]
[1632,20219050063192,"2021-05-22","ACADEMIA ","MODULO CONTACTENOS","SOLICITUD DE INFORMACIÓN Y DOCUMENTOS","SOLICITUD DE INFORMACIÓN HIDROMETEOROLÓGICA","NO","GRUPO DE SERVICIO AL CIUDADANO ","2021-06-05","CORREO ELECTRÓNICO",null,{"$f":"IFERROR(WORKDAY(C1643,S1642,DiasNOLaborables),\"\")","v":"2021-06-22"},{"$f":"+IF(C1643=\"\",\"\",IF(J1643=\"\",\"SIN RESPUESTA\",(IF(J1643<=M1643,\"A TIEMPO\",\"FUERA DE TIEMPO\"))))","v":"A TIEMPO"},{"$f":"IF(J1643=\"\",\"\",NETWORKDAYS(C1643+1,J1643,DiasNOLaborables))","v":10},"",null,null,20]
[1633,20219050063202,"2021-05-22","ACADEMIA ","MODULO CONTACTENOS","SOLICITUD DE INFORMACIÓN Y DOCUMENTOS","SOLICITUD DE INFORMACIÓN HIDROMETEOROLÓGICA","NO","GRUPO DE SERVICIO AL CIUDADANO ","2021-06-05","CORREO ELECTRÓNICO",null,{"$f":"IFERROR(WORKDAY(C1644,S1643,DiasNOLaborables),\"\")","v":"2021-06-22"},{"$f":"+IF(C1644=\"\",\"\",IF(J1644=\"\",\"SIN RESPUESTA\",(IF(J1644<=M1644,\"A TIEMPO\",\"FUERA DE TIEMPO\"))))","v":"A TIEMPO"},{"$f":"IF(J1644=\"\",\"\",NETWORKDAYS(C1644+1,J1644,DiasNOLaborables))","v":10},"",null,null,35]
[1634,20219050063232,"2021-05-22","EMPRESA PRIVADA","MODULO CONTACTENOS","CERTIFICACIONES DE TIEMPO, CLIMA Y EVENTOS HIDROLÓGICOS","CERTIFICACIONES DE TIEMPO Y CLIMA","SI","SUBDIRECCIÓN DE METEOROLOGÍA","2021-06-11","CORREO ELECTRÓNICO",null,{"$f":"IFERROR(WORKDAY(C1645,S1644,DiasNOLaborables),\"\")","v":"2021-07-14"},{"$f":"+IF(C1645=\"\",\"\",IF(J1645=\"\",\"SIN RESPUESTA\",(IF(J1645<=M1645,\"A TIEMPO\",\"FUERA DE TIEMPO\"))))","v":"A TIEMPO"},{"$f":"IF(J1645=\"\",\"\",NETWORKDAYS(C1645+1,J1645,DiasNOLaborables))","v":14},"",null,null,35]
[1635,20219050063242,"2021-05-22","EMPRESA PRIVADA","MODULO CONTACTENOS","CERTIFICACIONES DE TIEMPO, CLIMA Y EVENTOS HIDROLÓGICOS","CERTIFICACIONES DE TIEMPO Y CLIMA","SI","SUBDIRECCIÓN DE METEOROLOGÍA","2021-06-15","CORREO ELECTRÓNICO",null,{"$f":"IFERROR(WORKDAY(C1646,S1645,DiasNOLaborables),\"\")","v":"2021-07-14"},{"$f":"+IF(C1646=\"\",\"\",IF(J1646=\"\",\"SIN RESPUESTA\",(IF(J1646<=M1646,\"A TIEMPO\",\"FUERA DE TIEMPO\"))))","v":"A TIEMPO"},{"$f":"IF(J1646=\"\",\"\",NETWORKDAYS(C1646+1,J1646,DiasNOLaborables))","v":15},"",null,null,20]
[1636,20219050063262,"2021-05-22","CIUDADANO","MODULO CONTACTENOS","SOLICITUD DE INFORMACIÓN Y DOCUMENTOS","SOLICITUD DE INFORMACIÓN HIDROMETEOROLÓGICA","NO","GRUPO DE SERVICIO AL CIUDADANO ","2021-06-20","CORREO ELECTRÓNICO",null,{"$f":"IFERROR(WORKDAY(C1647,S1646,DiasNOLaborables),\"\")","v":"2021-06-22"},{"$f":"+IF(C1647=\"\",\"\",IF(J1647=\"\",\"SIN RESPUESTA\",(IF(J1647<=M1647,\"A TIEMPO\",\"FUERA DE TIEMPO\"))))","v":"A TIEMPO"},{"$f":"IF(J1647=\"\",\"\",NETWORKDAYS(C1647+1,J1647,DiasNOLaborables))","v":18},"",null,null,20]
[1637,20219050063272,"2021-05-22","CIUDADANO","MODULO CONTACTENOS","SOLICITUD DE INFORMACIÓN Y DOCUMENTOS","SOLICITUD DE INFORMACIÓN HIDROMETEOROLÓGICA","NO","GRUPO DE SERVICIO AL CIUDADANO ","2021-06-20","CORREO ELECTRÓNICO",null,{"$f":"IFERROR(WORKDAY(C1648,S1647,DiasNOLaborables),\"\")","v":"2021-06-22"},{"$f":"+IF(C1648=\"\",\"\",IF(J1648=\"\",\"SIN RESPUESTA\",(IF(J1648<=M1648,\"A TIEMPO\",\"FUERA DE TIEMPO\"))))","v":"A TIEMPO"},{"$f":"IF(J1648=\"\",\"\",NETWORKDAYS(C1648+1,J1648,DiasNOLaborables))","v":18},"",null,null,35]
[1638,20219050063252,"2021-05-22","EMPRESA PRIVADA","MODULO CONTACTENOS","CERTIFICACIONES DE TIEMPO, CLIMA Y EVENTOS HIDROLÓGICOS","CERTIFICACIONES DE TIEMPO Y CLIMA","SI","SUBDIRECCIÓN DE METEOROLOGÍA","2021-06-15","CORREO ELECTRÓNICO",null,{"$f":"IFERROR(WORKDAY(C1649,S1648,DiasNOLaborables),\"\")","v":"2021-07-14"},{"$f":"+IF(C1649=\"\",\"\",IF(J1649=\"\",\"SIN RESPUESTA\",(IF(J1649<=M1649,\"A TIEMPO\",\"FUERA DE TIEMPO\"))))","v":"A TIEMPO"},{"$f":"IF(J1649=\"\",\"\",NETWORKDAYS(C1649+1,J1649,DiasNOLaborables))","v":15},"",null,null,20]
[1639,20219050063282,"2021-05-22","CIUDADANO","MODULO CONTACTENOS","SOLICITUD DE INFORMACIÓN Y DOCUMENTOS","SOLICITUD DE INFORMACIÓN HIDROMETEOROLÓGICA","SI","AREA OPERATIVA No. 6","2021-06-21","CORREO ELECTRÓNICO",null,{"$f":"IFERROR(WORKDAY(C1650,S1649,DiasNOLaborables),\"\")","v":"2021-06-22"},{"$f":"+IF(C1650=\"\",\"\",IF(J1650=\"\",\"SIN RESPUESTA\",(IF(J1650<=M1650,\"A TIEMPO\",\"FUERA DE TIEMPO\"))))","v":"A TIEMPO"},{"$f":"IF(J1650=\"\",\"\",NETWORKDAYS(C1650+1,J1650,DiasNOLaborables))","v":19},"",null,null,20]
[1640,20219050063302,"2021-05-23","CIUDADANO","MODULO CONTACTENOS","SOLICITUD DE INFORMACIÓN Y DOCUMENTOS","SOLICITUD DE INFORMACIÓN HIDROMETEOROLÓGICA","NO","GRUPO DE SERVICIO AL CIUDADANO ","2021-06-21","CORREO ELECTRÓNICO",null,{"$f":"IFERROR(WORKDAY(C1651,S1650,DiasNOLaborables),\"\")","v":"2021-06-22"},{"$f":"+IF(C1651=\"\",\"\",IF(J1651=\"\",\"SIN RESPUESTA\",(IF(J1651<=M1651,\"A TIEMPO\",\"FUERA DE TIEMPO\"))))","v":"A TIEMPO"},{"$f":"IF(J1651=\"\",\"\",NETWORKDAYS(C1651+1,J1651,DiasNOLaborables))","v":19},"",null,null,20]
[1641,20219050063312,"2021-05-23","CIUDADANO","MODULO CONTACTENOS","SOLICITUD DE INFORMACIÓN Y DOCUMENTOS","SOLICITUD DE INFORMACIÓN HIDROMETEOROLÓGICA","NO","GRUPO DE SERVICIO AL CIUDADANO ","2021-06-21","CORREO ELECTRÓNICO",null,{"$f":"IFERROR(WORKDAY(C1652,S1651,DiasNOLaborables),\"\")","v":"2021-06-22"},{"$f":"+IF(C1652=\"\",\"\",IF(J1652=\"\",\"SIN RESPUESTA\",(IF(J1652<=M1652,\"A TIEMPO\",\"FUERA DE TIEMPO\"))))","v":"A TIEMPO"},{"$f":"IF(J1652=\"\",\"\",NETWORKDAYS(C1652+1,J1652,DiasNOLaborables))","v":19},"",null,null,20]
[1642,20219050063352,"2021-05-23","CIUDADANO","MODULO CONTACTENOS","SOLICITUD DE INFORMACIÓN Y DOCUMENTOS","SOLICITUD DE INFORMACIÓN HIDROMETEOROLÓGICA","NO","GRUPO DE SERVICIO AL CIUDADANO ","2021-06-21","CORREO ELECTRÓNICO",null,{"$f":"IFERROR(WORKDAY(C1653,S1652,DiasNOLaborables),\"\")","v":"2021-06-22"},{"$f":"+IF(C1653=\"\",\"\",IF(J1653=\"\",\"SIN RESPUESTA\",(IF(J1653<=M1653,\"A TIEMPO\",\"FUERA DE TIEMPO\"))))","v":"A TIEMPO"},{"$f":"IF(J1653=\"\",\"\",NETWORKDAYS(C1653+1,J1653,DiasNOLaborables))","v":19},"",null,null,20]
[1643,20219050063362,"2021-05-23","CIUDADANO","MODULO CONTACTENOS","SOLICITUD DE INFORMACIÓN Y DOCUMENTOS","SOLICITUD DE INFORMACIÓN HIDROMETEOROLÓGICA","NO","GRUPO DE SERVICIO AL CIUDADANO ","2021-06-21","CORREO ELECTRÓNICO",null,{"$f":"IFERROR(WORKDAY(C1654,S1653,DiasNOLaborables),\"\")","v":"2021-06-22"},{"$f":"+IF(C1654=\"\",\"\",IF(J1654=\"\",\"SIN RESPUESTA\",(IF(J1654<=M1654,\"A TIEMPO\",\"FUERA DE TIEMPO\"))))","v":"A TIEMPO"},{"$f":"IF(J1654=\"\",\"\",NETWORKDAYS(C1654+1,J1654,DiasNOLaborables))","v":19},"",null,null,20]
[1644,20219050063372,"2021-05-23","CIUDADANO","MODULO CONTACTENOS","SOLICITUD DE INFORMACIÓN Y DOCUMENTOS","REGISTROS AMBIENTALES","SI","SUBDIRECCIÓN DE ESTUDIOS AMBIENTALES","2021-05-26","CORREO ELECTRÓNICO",null,{"$f":"IFERROR(WORKDAY(C1655,S1654,DiasNOLaborables),\"\")","v":"2021-06-22"},{"$f":"+IF(C1655=\"\",\"\",IF(J1655=\"\",\"SIN RESPUESTA\",(IF(J1655<=M1655,\"A TIEMPO\",\"FUERA DE TIEMPO\"))))","v":"A TIEMPO"},{"$f":"IF(J1655=\"\",\"\",NETWORKDAYS(C1655+1,J1655,DiasNOLaborables))","v":3},"",null,null,20]
[1645,20219050063292,"2021-05-23","CIUDADANO","MODULO CONTACTENOS","SOLICITUD DE INFORMACIÓN Y DOCUMENTOS","SOLICITUD DE INFORMACIÓN HIDROMETEOROLÓGICA","NO","GRUPO DE SERVICIO AL CIUDADANO ","2021-06-18","CORREO ELECTRÓNICO",null,{"$f":"IFERROR(WORKDAY(C1656,S1655,DiasNOLaborables),\"\")","v":"2021-06-22"},{"$f":"+IF(C1656=\"\",\"\",IF(J1656=\"\",\"SIN RESPUESTA\",(IF(J1656<=M1656,\"A TIEMPO\",\"FUERA DE TIEMPO\"))))","v":"A TIEMPO"},{"$f":"IF(J1656=\"\",\"\",NETWORKDAYS(C1656+1,J1656,DiasNOLaborables))","v":18},"",null,null,20]
[1646,20219050063672,"2021-05-24","CIUDADANO","MODULO CONTACTENOS","SOLICITUD DE INFORMACIÓN Y DOCUMENTOS","SOLICITUD DE INFORMACIÓN HIDROMETEOROLÓGICA","NO","GRUPO DE SERVICIO AL CIUDADANO ","2021-06-19","CORREO ELECTRÓNICO",null,{"$f":"IFERROR(WORKDAY(C1657,S1656,DiasNOLaborables),\"\")","v":"2021-06-23"},{"$f":"+IF(C1657=\"\",\"\",IF(J1657=\"\",\"SIN RESPUESTA\",(IF(J1657<=M1657,\"A TIEMPO\",\"FUERA DE TIEMPO\"))))","v":"A TIEMPO"},{"$f":"IF(J1657=\"\",\"\",NETWORKDAYS(C1657+1,J1657,DiasNOLaborables))","v":17},"",null,null,20]
[1647,20219050063722,"2021-05-24","CIUDADANO","MODULO CONTACTENOS","SOLICITUD DE INFORMACIÓN Y DOCUMENTOS","SOLICITUD DE INFORMACIÓN HIDROMETEOROLÓGICA","NO","GRUPO DE SERVICIO AL CIUDADANO ","2021-06-19","CORREO ELECTRÓNICO",null,{"$f":"IFERROR(WORKDAY(C1658,S1657,DiasNOLaborables),\"\")","v":"2021-06-23"},{"$f":"+IF(C1658=\"\",\"\",IF(J1658=\"\",\"SIN RESPUESTA\",(IF(J1658<=M1658,\"A TIEMPO\",\"FUERA DE TIEMPO\"))))","v":"A TIEMPO"},{"$f":"IF(J1658=\"\",\"\",NETWORKDAYS(C1658+1,J1658,DiasNOLaborables))","v":17},"",null,null,20]
[1648,20219050063732,"2021-05-24","CIUDADANO","MODULO CONTACTENOS","SOLICITUD DE INFORMACIÓN Y DOCUMENTOS","SOLICITUD DE INFORMACIÓN HIDROMETEOROLÓGICA","NO","GRUPO DE SERVICIO AL CIUDADANO ","2021-06-19","CORREO ELECTRÓNICO",null,{"$f":"IFERROR(WORKDAY(C1659,S1658,DiasNOLaborables),\"\")","v":"2021-06-23"},{"$f":"+IF(C1659=\"\",\"\",IF(J1659=\"\",\"SIN RESPUESTA\",(IF(J1659<=M1659,\"A TIEMPO\",\"FUERA DE TIEMPO\"))))","v":"A TIEMPO"},{"$f":"IF(J1659=\"\",\"\",NETWORKDAYS(C1659+1,J1659,DiasNOLaborables))","v":17},"",null,null,20]
[1649,20219050063742,"2021-05-24","CIUDADANO","MODULO CONTACTENOS","SOLICITUD DE INFORMACIÓN Y DOCUMENTOS","SOLICITUD DE INFORMACIÓN HIDROMETEOROLÓGICA","NO","GRUPO DE SERVICIO AL CIUDADANO ","2021-06-19","CORREO ELECTRÓNICO",null,{"$f":"IFERROR(WORKDAY(C1660,S1659,DiasNOLaborables),\"\")","v":"2021-06-23"},{"$f":"+IF(C1660=\"\",\"\",IF(J1660=\"\",\"SIN RESPUESTA\",(IF(J1660<=M1660,\"A TIEMPO\",\"FUERA DE TIEMPO\"))))","v":"A TIEMPO"},{"$f":"IF(J1660=\"\",\"\",NETWORKDAYS(C1660+1,J1660,DiasNOLaborables))","v":17},{"$f":"IF(NETWORKDAYS(M1660+1,J1660,DiasNOLaborables)<=0,\"\",NETWORKDAYS(M1660+1,J1660,DiasNOLaborables))","v":""},null,null,20]
[1650,20219050063822,"2021-05-24","CIUDADANO","MODULO CONTACTENOS","SOLICITUD DE INFORMACIÓN Y DOCUMENTOS","SOLICITUD DE INFORMACIÓN HIDROMETEOROLÓGICA","NO","GRUPO DE SERVICIO AL CIUDADANO ","2021-06-19","CORREO ELECTRÓNICO",null,{"$f":"IFERROR(WORKDAY(C1661,S1660,DiasNOLaborables),\"\")","v":"2021-06-23"},{"$f":"+IF(C1661=\"\",\"\",IF(J1661=\"\",\"SIN RESPUESTA\",(IF(J1661<=M1661,\"A TIEMPO\",\"FUERA DE TIEMPO\"))))","v":"A TIEMPO"},{"$f":"IF(J1661=\"\",\"\",NETWORKDAYS(C1661+1,J1661,DiasNOLaborables))","v":17},"",null,null,20]
[1651,20219050063872,"2021-05-24","CIUDADANO","MODULO CONTACTENOS","SOLICITUD DE INFORMACIÓN Y DOCUMENTOS","SOLICITUD DE INFORMACIÓN HIDROMETEOROLÓGICA","NO","GRUPO DE SERVICIO AL CIUDADANO ","2021-06-19","CORREO ELECTRÓNICO",null,{"$f":"IFERROR(WORKDAY(C1662,S1661,DiasNOLaborables),\"\")","v":"2021-06-23"},{"$f":"+IF(C1662=\"\",\"\",IF(J1662=\"\",\"SIN RESPUESTA\",(IF(J1662<=M1662,\"A TIEMPO\",\"FUERA DE TIEMPO\"))))","v":"A TIEMPO"},{"$f":"IF(J1662=\"\",\"\",NETWORKDAYS(C1662+1,J1662,DiasNOLaborables))","v":17},"",null,null,20]
[1652,20219050063902,"2021-05-24","CIUDADANO","MODULO CONTACTENOS","SOLICITUD DE INFORMACIÓN Y DOCUMENTOS","SOLICITUD DE INFORMACIÓN HIDROMETEOROLÓGICA","NO","GRUPO DE SERVICIO AL CIUDADANO ","2021-06-19","CORREO ELECTRÓNICO",null,{"$f":"IFERROR(WORKDAY(C1663,S1662,DiasNOLaborables),\"\")","v":"2021-06-23"},{"$f":"+IF(C1663=\"\",\"\",IF(J1663=\"\",\"SIN RESPUESTA\",(IF(J1663<=M1663,\"A TIEMPO\",\"FUERA DE TIEMPO\"))))","v":"A TIEMPO"},{"$f":"IF(J1663=\"\",\"\",NETWORKDAYS(C1663+1,J1663,DiasNOLaborables))","v":17},"",null,null,20]
[1653,20219050063912,"2021-05-24","CIUDADANO","MODULO CONTACTENOS","SOLICITUD DE INFORMACIÓN Y DOCUMENTOS","SOLICITUD DE INFORMACIÓN HIDROMETEOROLÓGICA","NO","GRUPO DE SERVICIO AL CIUDADANO ","2021-06-19","CORREO ELECTRÓNICO",null,{"$f":"IFERROR(WORKDAY(C1664,S1663,DiasNOLaborables),\"\")","v":"2021-06-23"},{"$f":"+IF(C1664=\"\",\"\",IF(J1664=\"\",\"SIN RESPUESTA\",(IF(J1664<=M1664,\"A TIEMPO\",\"FUERA DE TIEMPO\"))))","v":"A TIEMPO"},{"$f":"IF(J1664=\"\",\"\",NETWORKDAYS(C1664+1,J1664,DiasNOLaborables))","v":17},"",null,null,20]
[1654,20219050063922,"2021-05-24","CIUDADANO","MODULO CONTACTENOS","SOLICITUD DE INFORMACIÓN Y DOCUMENTOS","SOLICITUD DE INFORMACIÓN HIDROMETEOROLÓGICA","NO","GRUPO DE SERVICIO AL CIUDADANO ","2021-06-19","CORREO ELECTRÓNICO",null,{"$f":"IFERROR(WORKDAY(C1665,S1664,DiasNOLaborables),\"\")","v":"2021-06-23"},{"$f":"+IF(C1665=\"\",\"\",IF(J1665=\"\",\"SIN RESPUESTA\",(IF(J1665<=M1665,\"A TIEMPO\",\"FUERA DE TIEMPO\"))))","v":"A TIEMPO"},{"$f":"IF(J1665=\"\",\"\",NETWORKDAYS(C1665+1,J1665,DiasNOLaborables))","v":17},"",null,null,20]
[1655,20219050063982,"2021-05-24","ACADEMIA","MODULO CONTACTENOS","SOLICITUD DE INFORMACIÓN Y DOCUMENTOS","SOLICITUD DE INFORMACIÓN HIDROMETEOROLÓGICA","NO","GRUPO DE SERVICIO AL CIUDADANO ","2021-06-19","CORREO ELECTRÓNICO",null,{"$f":"IFERROR(WORKDAY(C1666,S1665,DiasNOLaborables),\"\")","v":"2021-06-23"},{"$f":"+IF(C1666=\"\",\"\",IF(J1666=\"\",\"SIN RESPUESTA\",(IF(J1666<=M1666,\"A TIEMPO\",\"FUERA DE TIEMPO\"))))","v":"A TIEMPO"},{"$f":"IF(J1666=\"\",\"\",NETWORKDAYS(C1666+1,J1666,DiasNOLaborables))","v":17},"",null,null,20]
[1656,20219050064092,"2021-05-24","CIUDADANO","MODULO CONTACTENOS","SOLICITUD DE INFORMACIÓN Y DOCUMENTOS","SOLICITUD DE INFORMACIÓN HIDROMETEOROLÓGICA","NO","GRUPO DE SERVICIO AL CIUDADANO ","2021-06-19","CORREO ELECTRÓNICO",null,{"$f":"IFERROR(WORKDAY(C1667,S1666,DiasNOLaborables),\"\")","v":"2021-06-23"},{"$f":"+IF(C1667=\"\",\"\",IF(J1667=\"\",\"SIN RESPUESTA\",(IF(J1667<=M1667,\"A TIEMPO\",\"FUERA DE TIEMPO\"))))","v":"A TIEMPO"},{"$f":"IF(J1667=\"\",\"\",NETWORKDAYS(C1667+1,J1667,DiasNOLaborables))","v":17},"",null,null,20]
[1657,20219050064112,"2021-05-24","CIUDADANO","MODULO CONTACTENOS","SOLICITUD DE INFORMACIÓN Y DOCUMENTOS","SOLICITUD DE INFORMACIÓN HIDROMETEOROLÓGICA","NO","GRUPO DE SERVICIO AL CIUDADANO ","2021-06-19","CORREO ELECTRÓNICO",null,{"$f":"IFERROR(WORKDAY(C1668,S1667,DiasNOLaborables),\"\")","v":"2021-06-23"},{"$f":"+IF(C1668=\"\",\"\",IF(J1668=\"\",\"SIN RESPUESTA\",(IF(J1668<=M1668,\"A TIEMPO\",\"FUERA DE TIEMPO\"))))","v":"A TIEMPO"},{"$f":"IF(J1668=\"\",\"\",NETWORKDAYS(C1668+1,J1668,DiasNOLaborables))","v":17},"",null,null,20]
[1658,20219050064132,"2021-05-24","ACADEMIA","MODULO CONTACTENOS","SOLICITUD DE INFORMACIÓN Y DOCUMENTOS","SOLICITUD DE INFORMACIÓN HIDROMETEOROLÓGICA","NO","GRUPO DE SERVICIO AL CIUDADANO ","2021-06-19","CORREO ELECTRÓNICO",null,{"$f":"IFERROR(WORKDAY(C1669,S1668,DiasNOLaborables),\"\")","v":"2021-06-23"},{"$f":"+IF(C1669=\"\",\"\",IF(J1669=\"\",\"SIN RESPUESTA\",(IF(J1669<=M1669,\"A TIEMPO\",\"FUERA DE TIEMPO\"))))","v":"A TIEMPO"},{"$f":"IF(J1669=\"\",\"\",NETWORKDAYS(C1669+1,J1669,DiasNOLaborables))","v":17},"",null,null,20]
[1659,20219050064172,"2021-05-24","CIUDADANO","MODULO CONTACTENOS","SOLICITUD DE INFORMACIÓN Y DOCUMENTOS","SOLICITUD DE INFORMACIÓN HIDROMETEOROLÓGICA","NO","GRUPO DE SERVICIO AL CIUDADANO ","2021-06-23","CORREO ELECTRÓNICO",null,{"$f":"IFERROR(WORKDAY(C1670,S1669,DiasNOLaborables),\"\")","v":"2021-06-23"},{"$f":"+IF(C1670=\"\",\"\",IF(J1670=\"\",\"SIN RESPUESTA\",(IF(J1670<=M1670,\"A TIEMPO\",\"FUERA DE TIEMPO\"))))","v":"A TIEMPO"},{"$f":"IF(J1670=\"\",\"\",NETWORKDAYS(C1670+1,J1670,DiasNOLaborables))","v":20},"",null,null,20]
[1660,20219050063422,"2021-05-24","CIUDADANO","MODULO CONTACTENOS","SOLICITUD DE INFORMACIÓN Y DOCUMENTOS","REGISTROS AMBIENTALES","SI","SUBDIRECCIÓN DE ESTUDIOS AMBIENTALES","2021-05-26","CORREO ELECTRÓNICO",null,{"$f":"IFERROR(WORKDAY(C1671,S1670,DiasNOLaborables),\"\")","v":"2021-06-23"},{"$f":"+IF(C1671=\"\",\"\",IF(J1671=\"\",\"SIN RESPUESTA\",(IF(J1671<=M1671,\"A TIEMPO\",\"FUERA DE TIEMPO\"))))","v":"A TIEMPO"},{"$f":"IF(J1671=\"\",\"\",NETWORKDAYS(C1671+1,J1671,DiasNOLaborables))","v":2},"",null,null,30]
[1661,20219050063462,"2021-05-24","ENTIDAD PÚBLICA","CORREO ELECTRÓNICO","PETICIÓN","ADMINISTRATIVA","SI","OFICINA DE CONTROL INTERNO","2021-06-03","CORREO ELECTRÓNICO",null,{"$f":"IFERROR(WORKDAY(C1672,S1671,DiasNOLaborables),\"\")","v":"2021-07-08"},{"$f":"+IF(C1672=\"\",\"\",IF(J1672=\"\",\"SIN RESPUESTA\",(IF(J1672<=M1672,\"A TIEMPO\",\"FUERA DE TIEMPO\"))))","v":"A TIEMPO"},{"$f":"IF(J1672=\"\",\"\",NETWORKDAYS(C1672+1,J1672,DiasNOLaborables))","v":8},"",null,null,20]
[1662,20219050063552,"2021-05-24","FUNCIONARIO IDEAM","MODULO CONTACTENOS","SOLICITUD DE INFORMACIÓN Y DOCUMENTOS","ADMINISTRATIVA","SI","GRUPO DE ADMINISTRACIÓN Y DESARROLLO DEL TALENTO HUMANO","2021-05-28","CORREO ELECTRÓNICO",null,{"$f":"IFERROR(WORKDAY(C1673,S1672,DiasNOLaborables),\"\")","v":"2021-06-23"},{"$f":"+IF(C1673=\"\",\"\",IF(J1673=\"\",\"SIN RESPUESTA\",(IF(J1673<=M1673,\"A TIEMPO\",\"FUERA DE TIEMPO\"))))","v":"A TIEMPO"},{"$f":"IF(J1673=\"\",\"\",NETWORKDAYS(C1673+1,J1673,DiasNOLaborables))","v":4},"",null,null,20]
[1663,20219050063842,"2021-05-24","CIUDADANO","MODULO CONTACTENOS","SOLICITUD DE INFORMACIÓN Y DOCUMENTOS","ADMINISTRATIVA","SI","OFICINA ASESORA JURÍDICA","2021-05-26","CORREO ELECTRÓNICO",null,{"$f":"IFERROR(WORKDAY(C1674,S1673,DiasNOLaborables),\"\")","v":"2021-06-23"},{"$f":"+IF(C1674=\"\",\"\",IF(J1674=\"\",\"SIN RESPUESTA\",(IF(J1674<=M1674,\"A TIEMPO\",\"FUERA DE TIEMPO\"))))","v":"A TIEMPO"},{"$f":"IF(J1674=\"\",\"\",NETWORKDAYS(C1674+1,J1674,DiasNOLaborables))","v":2},"",null,null,20]
[1664,20219050063862,"2021-05-24","CIUDADANO","MODULO CONTACTENOS","SOLICITUD DE INFORMACIÓN Y DOCUMENTOS","ADMINISTRATIVA","SI","OFICINA ASESORA JURÍDICA","2021-05-26","CORREO ELECTRÓNICO",null,{"$f":"IFERROR(WORKDAY(C1675,S1674,DiasNOLaborables),\"\")","v":"2021-06-23"},{"$f":"+IF(C1675=\"\",\"\",IF(J1675=\"\",\"SIN RESPUESTA\",(IF(J1675<=M1675,\"A TIEMPO\",\"FUERA DE TIEMPO\"))))","v":"A TIEMPO"},{"$f":"IF(J1675=\"\",\"\",NETWORKDAYS(C1675+1,J1675,DiasNOLaborables))","v":2},"",null,null,20]
[1665,20219050064022,"2021-05-24","CIUDADANO","MODULO CONTACTENOS","SOLICITUD DE INFORMACIÓN Y DOCUMENTOS","WEB Y CORREO","SI","OFICINA DE INFORMÁTICA","2021-05-28","CORREO ELECTRÓNICO",null,{"$f":"IFERROR(WORKDAY(C1676,S1675,DiasNOLaborables),\"\")","v":"2021-06-23"},{"$f":"+IF(C1676=\"\",\"\",IF(J1676=\"\",\"SIN RESPUESTA\",(IF(J1676<=M1676,\"A TIEMPO\",\"FUERA DE TIEMPO\"))))","v":"A TIEMPO"},{"$f":"IF(J1676=\"\",\"\",NETWORKDAYS(C1676+1,J1676,DiasNOLaborables))","v":4},"",null,null,20]
[1666,20219050064042,"2021-05-24","CIUDADANO","MODULO CONTACTENOS","SOLICITUD DE INFORMACIÓN Y DOCUMENTOS","CAMBIO CLIMÁTICO","SI","SUBDIRECCIÓN DE ESTUDIOS AMBIENTALES","2021-06-16","CORREO ELECTRÓNICO",null,{"$f":"IFERROR(WORKDAY(C1677,S1676,DiasNOLaborables),\"\")","v":"2021-06-23"},{"$f":"+IF(C1677=\"\",\"\",IF(J1677=\"\",\"SIN RESPUESTA\",(IF(J1677<=M1677,\"A TIEMPO\",\"FUERA DE TIEMPO\"))))","v":"A TIEMPO"},{"$f":"IF(J1677=\"\",\"\",NETWORKDAYS(C1677+1,J1677,DiasNOLaborables))","v":15},"",null,null,{"$f":"IFERROR(VLOOKUP(F1678,$AA$51:$AB$64,2),\"\")","v":20}]
[{"$f":"IF(B1678<>\"\",A1677+1,\"\")","v":1667},20219050063622,"2021-05-24","CIUDADANO","CORREO ELECTRÓNICO","SOLICITUD DE INFORMACIÓN Y DOCUMENTOS","ACREDITACIÓN DE LABORATORIOS","SI","SUBDIRECCIÓN DE ESTUDIOS AMBIENTALES","2021-06-04","CORREO ELECTRÓNICO",null,{"$f":"IFERROR(WORKDAY(C1678,S1677,DiasNOLaborables),\"\")","v":"2021-06-23"},{"$f":"+IF(C1678=\"\",\"\",IF(J1678=\"\",\"SIN RESPUESTA\",(IF(J1678<=M1678,\"A TIEMPO\",\"FUERA DE TIEMPO\"))))","v":"A TIEMPO"},{"$f":"IF(J1678=\"\",\"\",NETWORKDAYS(C1678+1,J1678,DiasNOLaborables))","v":9},"",null,null,35]
[1668,20219050064082,"2021-05-24","CIUDADANO","MODULO CONTACTENOS","CERTIFICACIONES DE TIEMPO, CLIMA Y EVENTOS HIDROLÓGICOS","CERTIFICACIONES DE TIEMPO Y CLIMA","SI","SUBDIRECCIÓN DE METEOROLOGÍA","2021-06-11","CORREO ELECTRÓNICO",null,{"$f":"IFERROR(WORKDAY(C1679,S1678,DiasNOLaborables),\"\")","v":"2021-07-15"},{"$f":"+IF(C1679=\"\",\"\",IF(J1679=\"\",\"SIN RESPUESTA\",(IF(J1679<=M1679,\"A TIEMPO\",\"FUERA DE TIEMPO\"))))","v":"A TIEMPO"},{"$f":"IF(J1679=\"\",\"\",NETWORKDAYS(C1679+1,J1679,DiasNOLaborables))","v":13},"",null,null,20]
[1669,20219050064122,"2021-05-24","CIUDADANO","MODULO CONTACTENOS","SOLICITUD DE INFORMACIÓN Y DOCUMENTOS","BOSQUES","SI","SUBDIRECCIÓN DE ECOSISTEMAS E INFORMACIÓN AMBIENTAL","2021-06-08","CORREO ELECTRÓNICO",null,{"$f":"IFERROR(WORKDAY(C1680,S1679,DiasNOLaborables),\"\")","v":"2021-06-23"},{"$f":"+IF(C1680=\"\",\"\",IF(J1680=\"\",\"SIN RESPUESTA\",(IF(J1680<=M1680,\"A TIEMPO\",\"FUERA DE TIEMPO\"))))","v":"A TIEMPO"},{"$f":"IF(J1680=\"\",\"\",NETWORKDAYS(C1680+1,J1680,DiasNOLaborables))","v":10},"",null,null,20]
[1670,20219050064142,"2021-05-24","FUNCIONARIO IDEAM","MODULO CONTACTENOS","SOLICITUD DE INFORMACIÓN Y DOCUMENTOS","ADMINISTRATIVA","SI","GRUPO DE ADMINISTRACIÓN Y DESARROLLO DEL TALENTO HUMANO","2021-06-04","CORREO ELECTRÓNICO",null,{"$f":"IFERROR(WORKDAY(C1681,S1680,DiasNOLaborables),\"\")","v":"2021-06-23"},{"$f":"+IF(C1681=\"\",\"\",IF(J1681=\"\",\"SIN RESPUESTA\",(IF(J1681<=M1681,\"A TIEMPO\",\"FUERA DE TIEMPO\"))))","v":"A TIEMPO"},{"$f":"IF(J1681=\"\",\"\",NETWORKDAYS(C1681+1,J1681,DiasNOLaborables))","v":9},"",null,null,20]
[1671,20219050064152,"2021-05-24","CIUDADANO","MODULO CONTACTENOS","SOLICITUD DE INFORMACIÓN Y DOCUMENTOS","ADMINISTRATIVA","SI","GRUPO DE ADMINISTRACIÓN Y DESARROLLO DEL TALENTO HUMANO","2021-06-04","CORREO ELECTRÓNICO",null,{"$f":"IFERROR(WORKDAY(C1682,S1681,DiasNOLaborables),\"\")","v":"2021-06-23"},{"$f":"+IF(C1682=\"\",\"\",IF(J1682=\"\",\"SIN RESPUESTA\",(IF(J1682<=M1682,\"A TIEMPO\",\"FUERA DE TIEMPO\"))))","v":"A TIEMPO"},{"$f":"IF(J1682=\"\",\"\",NETWORKDAYS(C1682+1,J1682,DiasNOLaborables))","v":9},"",null,null,35]
[1672,20219050063432,"2021-05-24","CIUDADANO","CORREO ELECTRÓNICO","CERTIFICACIONES DE TIEMPO, CLIMA Y EVENTOS HIDROLÓGICOS","CERTIFICACIONES DE TIEMPO Y CLIMA","SI","SUBDIRECCIÓN DE METEOROLOGÍA","2021-06-23","CORREO ELECTRÓNICO",null,{"$f":"IFERROR(WORKDAY(C1683,S1682,DiasNOLaborables),\"\")","v":"2021-07-15"},{"$f":"+IF(C1683=\"\",\"\",IF(J1683=\"\",\"SIN RESPUESTA\",(IF(J1683<=M1683,\"A TIEMPO\",\"FUERA DE TIEMPO\"))))","v":"A TIEMPO"},{"$f":"IF(J1683=\"\",\"\",NETWORKDAYS(C1683+1,J1683,DiasNOLaborables))","v":20},"",null,null,35]
[1673,20219050063452,"2021-05-24","CIUDADANO","CORREO ELECTRÓNICO","CERTIFICACIONES DE TIEMPO, CLIMA Y EVENTOS HIDROLÓGICOS","CERTIFICACIONES DE TIEMPO Y CLIMA","SI","SUBDIRECCIÓN DE METEOROLOGÍA","2021-06-08","CORREO ELECTRÓNICO",null,{"$f":"IFERROR(WORKDAY(C1684,S1683,DiasNOLaborables),\"\")","v":"2021-07-15"},{"$f":"+IF(C1684=\"\",\"\",IF(J1684=\"\",\"SIN RESPUESTA\",(IF(J1684<=M1684,\"A TIEMPO\",\"FUERA DE TIEMPO\"))))","v":"A TIEMPO"},{"$f":"IF(J1684=\"\",\"\",NETWORKDAYS(C1684+1,J1684,DiasNOLaborables))","v":10},"",null,null,20]
[1674,20219050063482,"2021-05-24","CIUDADANO","CORREO ELECTRÓNICO","SOLICITUD DE INFORMACIÓN Y DOCUMENTOS","BOSQUES","SI","SUBDIRECCIÓN DE ECOSISTEMAS E INFORMACIÓN AMBIENTAL","2021-06-22","CORREO ELECTRÓNICO",null,{"$f":"IFERROR(WORKDAY(C1685,S1684,DiasNOLaborables),\"\")","v":"2021-06-23"},{"$f":"+IF(C1685=\"\",\"\",IF(J1685=\"\",\"SIN RESPUESTA\",(IF(J1685<=M1685,\"A TIEMPO\",\"FUERA DE TIEMPO\"))))","v":"A TIEMPO"},{"$f":"IF(J1685=\"\",\"\",NETWORKDAYS(C1685+1,J1685,DiasNOLaborables))","v":19},"",null,null,20]
[1675,20219050063492,"2021-05-24","CIUDADANO","CORREO ELECTRÓNICO","SOLICITUD DE INFORMACIÓN Y DOCUMENTOS","BOSQUES","SI","SUBDIRECCIÓN DE ECOSISTEMAS E INFORMACIÓN AMBIENTAL","2021-06-15","CORREO ELECTRÓNICO",null,{"$f":"IFERROR(WORKDAY(C1686,S1685,DiasNOLaborables),\"\")","v":"2021-06-23"},{"$f":"+IF(C1686=\"\",\"\",IF(J1686=\"\",\"SIN RESPUESTA\",(IF(J1686<=M1686,\"A TIEMPO\",\"FUERA DE TIEMPO\"))))","v":"A TIEMPO"},{"$f":"IF(J1686=\"\",\"\",NETWORKDAYS(C1686+1,J1686,DiasNOLaborables))","v":14},"",null,null,20]
[1676,20219050063522,"2021-05-24","CIUDADANO","CORREO ELECTRÓNICO","SOLICITUD DE INFORMACIÓN Y DOCUMENTOS","BOSQUES","SI","SUBDIRECCIÓN DE ECOSISTEMAS E INFORMACIÓN AMBIENTAL","2021-06-15","CORREO ELECTRÓNICO",null,{"$f":"IFERROR(WORKDAY(C1687,S1686,DiasNOLaborables),\"\")","v":"2021-06-23"},{"$f":"+IF(C1687=\"\",\"\",IF(J1687=\"\",\"SIN RESPUESTA\",(IF(J1687<=M1687,\"A TIEMPO\",\"FUERA DE TIEMPO\"))))","v":"A TIEMPO"},{"$f":"IF(J1687=\"\",\"\",NETWORKDAYS(C1687+1,J1687,DiasNOLaborables))","v":14},"",null,null,20]
[1677,20219050063562,"2021-05-24","CIUDADANO","CORREO ELECTRÓNICO","SOLICITUD DE INFORMACIÓN Y DOCUMENTOS","ACREDITACIÓN DE LABORATORIOS","SI","SUBDIRECCIÓN DE ESTUDIOS AMBIENTALES","2021-06-04","CORREO ELECTRÓNICO",null,{"$f":"IFERROR(WORKDAY(C1688,S1687,DiasNOLaborables),\"\")","v":"2021-06-23"},{"$f":"+IF(C1688=\"\",\"\",IF(J1688=\"\",\"SIN RESPUESTA\",(IF(J1688<=M1688,\"A TIEMPO\",\"FUERA DE TIEMPO\"))))","v":"A TIEMPO"},{"$f":"IF(J1688=\"\",\"\",NETWORKDAYS(C1688+1,J1688,DiasNOLaborables))","v":9},"",null,null,20]
[1678,20219050063572,"2021-05-24","CIUDADANO","CORREO ELECTRÓNICO","SOLICITUD DE INFORMACIÓN Y DOCUMENTOS","REGISTROS AMBIENTALES","SI","SUBDIRECCIÓN DE ESTUDIOS AMBIENTALES","2021-06-18","CORREO ELECTRÓNICO",null,{"$f":"IFERROR(WORKDAY(C1689,S1688,DiasNOLaborables),\"\")","v":"2021-06-23"},{"$f":"+IF(C1689=\"\",\"\",IF(J1689=\"\",\"SIN RESPUESTA\",(IF(J1689<=M1689,\"A TIEMPO\",\"FUERA DE TIEMPO\"))))","v":"A TIEMPO"},{"$f":"IF(J1689=\"\",\"\",NETWORKDAYS(C1689+1,J1689,DiasNOLaborables))","v":17},"",null,null,20]
[1679,20219050063592,"2021-05-24","CIUDADANO","CORREO ELECTRÓNICO","SOLICITUD DE INFORMACIÓN Y DOCUMENTOS","REGISTROS AMBIENTALES","SI","SUBDIRECCIÓN DE ESTUDIOS AMBIENTALES","2021-05-25","CORREO ELECTRÓNICO",null,{"$f":"IFERROR(WORKDAY(C1690,S1689,DiasNOLaborables),\"\")","v":"2021-06-23"},{"$f":"+IF(C1690=\"\",\"\",IF(J1690=\"\",\"SIN RESPUESTA\",(IF(J1690<=M1690,\"A TIEMPO\",\"FUERA DE TIEMPO\"))))","v":"A TIEMPO"},{"$f":"IF(J1690=\"\",\"\",NETWORKDAYS(C1690+1,J1690,DiasNOLaborables))","v":1},"",null,null,20]
[1680,20219050063602,"2021-05-24","CIUDADANO","CORREO ELECTRÓNICO","SOLICITUD DE INFORMACIÓN Y DOCUMENTOS","REGISTROS AMBIENTALES","SI","SUBDIRECCIÓN DE ESTUDIOS AMBIENTALES","2021-06-05","CORREO ELECTRÓNICO",null,{"$f":"IFERROR(WORKDAY(C1691,S1690,DiasNOLaborables),\"\")","v":"2021-06-23"},{"$f":"+IF(C1691=\"\",\"\",IF(J1691=\"\",\"SIN RESPUESTA\",(IF(J1691<=M1691,\"A TIEMPO\",\"FUERA DE TIEMPO\"))))","v":"A TIEMPO"},{"$f":"IF(J1691=\"\",\"\",NETWORKDAYS(C1691+1,J1691,DiasNOLaborables))","v":9},"",null,null,35]
[1681,20219050063632,"2021-05-24","CIUDADANO","CORREO ELECTRÓNICO","CERTIFICACIONES DE TIEMPO, CLIMA Y EVENTOS HIDROLÓGICOS","CERTIFICACIONES DE TIEMPO Y CLIMA","SI","SUBDIRECCIÓN DE ESTUDIOS AMBIENTALES","2021-06-11","CORREO ELECTRÓNICO",null,{"$f":"IFERROR(WORKDAY(C1692,S1691,DiasNOLaborables),\"\")","v":"2021-07-15"},{"$f":"+IF(C1692=\"\",\"\",IF(J1692=\"\",\"SIN RESPUESTA\",(IF(J1692<=M1692,\"A TIEMPO\",\"FUERA DE TIEMPO\"))))","v":"A TIEMPO"},{"$f":"IF(J1692=\"\",\"\",NETWORKDAYS(C1692+1,J1692,DiasNOLaborables))","v":13},"",null,null,20]
[1682,20219050063652,"2021-05-24","CIUDADANO","CORREO ELECTRÓNICO","SOLICITUD DE INFORMACIÓN Y DOCUMENTOS","REGISTROS AMBIENTALES","SI","SUBDIRECCIÓN DE ESTUDIOS AMBIENTALES","2021-05-25","CORREO ELECTRÓNICO","NASLY SUSANA PUERTA GUTIERREZ",{"$f":"IFERROR(WORKDAY(C1693,S1692,DiasNOLaborables),\"\")","v":"2021-06-23"},{"$f":"+IF(C1693=\"\",\"\",IF(J1693=\"\",\"SIN RESPUESTA\",(IF(J1693<=M1693,\"A TIEMPO\",\"FUERA DE TIEMPO\"))))","v":"A TIEMPO"},{"$f":"IF(J1693=\"\",\"\",NETWORKDAYS(C1693+1,J1693,DiasNOLaborables))","v":1},"",null,null,20]
[1683,20219050063662,"2021-05-24","CIUDADANO","CORREO ELECTRÓNICO","SOLICITUD DE INFORMACIÓN Y DOCUMENTOS","REGISTROS AMBIENTALES","SI","SUBDIRECCIÓN DE ESTUDIOS AMBIENTALES","2021-05-24","CORREO ELECTRÓNICO","NASLY SUSANA PUERTA GUTIERREZ",{"$f":"IFERROR(WORKDAY(C1694,S1693,DiasNOLaborables),\"\")","v":"2021-06-23"},{"$f":"+IF(C1694=\"\",\"\",IF(J1694=\"\",\"SIN RESPUESTA\",(IF(J1694<=M1694,\"A TIEMPO\",\"FUERA DE TIEMPO\"))))","v":"A TIEMPO"},{"$f":"IF(J1694=\"\",\"\",NETWORKDAYS(C1694+1,J1694,DiasNOLaborables))","v":-2},"",null,null,20]
[1684,20219050063682,"2021-05-24","CIUDADANO","CORREO ELECTRÓNICO","SOLICITUD DE INFORMACIÓN Y DOCUMENTOS","REGISTROS AMBIENTALES","SI","SUBDIRECCIÓN DE ESTUDIOS AMBIENTALES","2021-06-05","CORREO ELECTRÓNICO","NASLY SUSANA PUERTA GUTIERREZ",{"$f":"IFERROR(WORKDAY(C1695,S1694,DiasNOLaborables),\"\")","v":"2021-06-23"},{"$f":"+IF(C1695=\"\",\"\",IF(J1695=\"\",\"SIN RESPUESTA\",(IF(J1695<=M1695,\"A TIEMPO\",\"FUERA DE TIEMPO\"))))","v":"A TIEMPO"},{"$f":"IF(J1695=\"\",\"\",NETWORKDAYS(C1695+1,J1695,DiasNOLaborables))","v":9},"",null,null,20]
[1685,20219050063692,"2021-05-24","CIUDADANO","CORREO ELECTRÓNICO","SOLICITUD DE INFORMACIÓN Y DOCUMENTOS","BOSQUES","SI","SUBDIRECCIÓN DE ECOSISTEMAS E INFORMACIÓN AMBIENTAL","2021-05-27","CORREO ELECTRÓNICO","NASLY SUSANA PUERTA GUTIERREZ",{"$f":"IFERROR(WORKDAY(C1696,S1695,DiasNOLaborables),\"\")","v":"2021-06-23"},{"$f":"+IF(C1696=\"\",\"\",IF(J1696=\"\",\"SIN RESPUESTA\",(IF(J1696<=M1696,\"A TIEMPO\",\"FUERA DE TIEMPO\"))))","v":"A TIEMPO"},{"$f":"IF(J1696=\"\",\"\",NETWORKDAYS(C1696+1,J1696,DiasNOLaborables))","v":3},"",null,null,20]
[1686,20219050063752,"2021-05-24","CIUDADANO","CORREO ELECTRÓNICO","SOLICITUD DE INFORMACIÓN Y DOCUMENTOS","BOSQUES","SI","SUBDIRECCIÓN DE ECOSISTEMAS E INFORMACIÓN AMBIENTAL","2021-06-04","CORREO ELECTRÓNICO","NASLY SUSANA PUERTA GUTIERREZ",{"$f":"IFERROR(WORKDAY(C1697,S1696,DiasNOLaborables),\"\")","v":"2021-06-23"},{"$f":"+IF(C1697=\"\",\"\",IF(J1697=\"\",\"SIN RESPUESTA\",(IF(J1697<=M1697,\"A TIEMPO\",\"FUERA DE TIEMPO\"))))","v":"A TIEMPO"},{"$f":"IF(J1697=\"\",\"\",NETWORKDAYS(C1697+1,J1697,DiasNOLaborables))","v":9},"",null,null,20]
[1687,20219050063762,"2021-05-24","CIUDADANO","CORREO ELECTRÓNICO","SOLICITUD DE INFORMACIÓN Y DOCUMENTOS","BOSQUES","SI","SUBDIRECCIÓN DE ECOSISTEMAS E INFORMACIÓN AMBIENTAL","2021-06-04","CORREO ELECTRÓNICO","NASLY SUSANA PUERTA GUTIERREZ",{"$f":"IFERROR(WORKDAY(C1698,S1697,DiasNOLaborables),\"\")","v":"2021-06-23"},{"$f":"+IF(C1698=\"\",\"\",IF(J1698=\"\",\"SIN RESPUESTA\",(IF(J1698<=M1698,\"A TIEMPO\",\"FUERA DE TIEMPO\"))))","v":"A TIEMPO"},{"$f":"IF(J1698=\"\",\"\",NETWORKDAYS(C1698+1,J1698,DiasNOLaborables))","v":9},"",null,null,20]
[1688,20219050063782,"2021-05-24","CIUDADANO","CORREO ELECTRÓNICO","SOLICITUD DE INFORMACIÓN Y DOCUMENTOS","BOSQUES","SI","SUBDIRECCIÓN DE ECOSISTEMAS E INFORMACIÓN AMBIENTAL","2021-05-24","CORREO ELECTRÓNICO","NASLY SUSANA PUERTA GUTIERREZ",{"$f":"IFERROR(WORKDAY(C1699,S1698,DiasNOLaborables),\"\")","v":"2021-06-23"},{"$f":"+IF(C1699=\"\",\"\",IF(J1699=\"\",\"SIN RESPUESTA\",(IF(J1699<=M1699,\"A TIEMPO\",\"FUERA DE TIEMPO\"))))","v":"A TIEMPO"},{"$f":"IF(J1699=\"\",\"\",NETWORKDAYS(C1699+1,J1699,DiasNOLaborables))","v":-2},"",null,null,20]
[1689,20219050063802,"2021-05-24","CIUDADANO","CORREO ELECTRÓNICO","SOLICITUD DE INFORMACIÓN Y DOCUMENTOS","BOSQUES",null,"SUBDIRECCIÓN DE ECOSISTEMAS E INFORMACIÓN AMBIENTAL","2021-05-24","CORREO ELECTRÓNICO","NASLY SUSANA PUERTA GUTIERREZ",{"$f":"IFERROR(WORKDAY(C1700,S1699,DiasNOLaborables),\"\")","v":"2021-06-23"},{"$f":"+IF(C1700=\"\",\"\",IF(J1700=\"\",\"SIN RESPUESTA\",(IF(J1700<=M1700,\"A TIEMPO\",\"FUERA DE TIEMPO\"))))","v":"A TIEMPO"},{"$f":"IF(J1700=\"\",\"\",NETWORKDAYS(C1700+1,J1700,DiasNOLaborables))","v":-2},"",null,null,35]
[1690,20219050063812,"2021-05-24","CIUDADANO","CORREO ELECTRÓNICO","CERTIFICACIONES DE TIEMPO, CLIMA Y EVENTOS HIDROLÓGICOS","CERTIFICACIONES DE TIEMPO Y CLIMA","SI","SUBDIRECCIÓN DE METEOROLOGÍA","2021-06-11","CORREO ELECTRÓNICO",null,{"$f":"IFERROR(WORKDAY(C1701,S1700,DiasNOLaborables),\"\")","v":"2021-07-15"},{"$f":"+IF(C1701=\"\",\"\",IF(J1701=\"\",\"SIN RESPUESTA\",(IF(J1701<=M1701,\"A TIEMPO\",\"FUERA DE TIEMPO\"))))","v":"A TIEMPO"},{"$f":"IF(J1701=\"\",\"\",NETWORKDAYS(C1701+1,J1701,DiasNOLaborables))","v":13},"",null,null,35]
[1691,20219050063852,"2021-05-24","CIUDADANO","CORREO ELECTRÓNICO","CERTIFICACIONES DE TIEMPO, CLIMA Y EVENTOS HIDROLÓGICOS","CERTIFICACIONES DE TIEMPO Y CLIMA","SI","SUBDIRECCIÓN DE METEOROLOGÍA","2021-06-15","CORREO ELECTRÓNICO",null,{"$f":"IFERROR(WORKDAY(C1702,S1701,DiasNOLaborables),\"\")","v":"2021-07-15"},{"$f":"+IF(C1702=\"\",\"\",IF(J1702=\"\",\"SIN RESPUESTA\",(IF(J1702<=M1702,\"A TIEMPO\",\"FUERA DE TIEMPO\"))))","v":"A TIEMPO"},{"$f":"IF(J1702=\"\",\"\",NETWORKDAYS(C1702+1,J1702,DiasNOLaborables))","v":14},"",null,null,20]
[1692,20219050063882,"2021-05-24","CIUDADANO","CORREO ELECTRÓNICO","SOLICITUD DE INFORMACIÓN Y DOCUMENTOS","REGISTROS AMBIENTALES","SI","SUBDIRECCIÓN DE ESTUDIOS AMBIENTALES","2021-05-25","CORREO ELECTRÓNICO",null,{"$f":"IFERROR(WORKDAY(C1703,S1702,DiasNOLaborables),\"\")","v":"2021-06-23"},{"$f":"+IF(C1703=\"\",\"\",IF(J1703=\"\",\"SIN RESPUESTA\",(IF(J1703<=M1703,\"A TIEMPO\",\"FUERA DE TIEMPO\"))))","v":"A TIEMPO"},{"$f":"IF(J1703=\"\",\"\",NETWORKDAYS(C1703+1,J1703,DiasNOLaborables))","v":1},{"$f":"IF(NETWORKDAYS(M1703+1,J1703,DiasNOLaborables)<=0,\"\",NETWORKDAYS(M1703+1,J1703,DiasNOLaborables))","v":""},null,null,20]
[1693,20219050063892,"2021-05-24","CIUDADANO","CORREO ELECTRÓNICO","SOLICITUD DE INFORMACIÓN Y DOCUMENTOS","INFORMES AMBIENTALES","SI","SUBDIRECCIÓN DE HIDROLOGÍA","2021-06-01","CORREO ELECTRÓNICO",null,{"$f":"IFERROR(WORKDAY(C1704,S1703,DiasNOLaborables),\"\")","v":"2021-06-23"},{"$f":"+IF(C1704=\"\",\"\",IF(J1704=\"\",\"SIN RESPUESTA\",(IF(J1704<=M1704,\"A TIEMPO\",\"FUERA DE TIEMPO\"))))","v":"A TIEMPO"},{"$f":"IF(J1704=\"\",\"\",NETWORKDAYS(C1704+1,J1704,DiasNOLaborables))","v":6},"",null,null,30]
[1694,20219050063932,"2021-05-24","CIUDADANO","CORREO ELECTRÓNICO","PETICIÓN","INFORMES AMBIENTALES","SI","SUBDIRECCIÓN DE HIDROLOGÍA","2021-06-24","CORREO ELECTRÓNICO",null,{"$f":"IFERROR(WORKDAY(C1705,S1704,DiasNOLaborables),\"\")","v":"2021-07-08"},{"$f":"+IF(C1705=\"\",\"\",IF(J1705=\"\",\"SIN RESPUESTA\",(IF(J1705<=M1705,\"A TIEMPO\",\"FUERA DE TIEMPO\"))))","v":"A TIEMPO"},{"$f":"IF(J1705=\"\",\"\",NETWORKDAYS(C1705+1,J1705,DiasNOLaborables))","v":21},"",null,null,20]
[1695,20219050064012,"2021-05-24","CIUDADANO","CORREO ELECTRÓNICO","SOLICITUD DE INFORMACIÓN Y DOCUMENTOS","ADMINISTRATIVA","SI","GRUPO DE TESORERÍA","2021-05-27","CORREO ELECTRÓNICO",null,{"$f":"IFERROR(WORKDAY(C1706,S1705,DiasNOLaborables),\"\")","v":"2021-06-23"},{"$f":"+IF(C1706=\"\",\"\",IF(J1706=\"\",\"SIN RESPUESTA\",(IF(J1706<=M1706,\"A TIEMPO\",\"FUERA DE TIEMPO\"))))","v":"A TIEMPO"},{"$f":"IF(J1706=\"\",\"\",NETWORKDAYS(C1706+1,J1706,DiasNOLaborables))","v":3},"",null,null,20]
[1696,20219050064052,"2021-05-24","CIUDADANO","CORREO ELECTRÓNICO","SOLICITUD DE INFORMACIÓN Y DOCUMENTOS","JURIDICO","SI","OFICINA ASESORA JURÍDICA","2021-06-18","CORREO ELECTRÓNICO",null,{"$f":"IFERROR(WORKDAY(C1707,S1706,DiasNOLaborables),\"\")","v":"2021-06-23"},{"$f":"+IF(C1707=\"\",\"\",IF(J1707=\"\",\"SIN RESPUESTA\",(IF(J1707<=M1707,\"A TIEMPO\",\"FUERA DE TIEMPO\"))))","v":"A TIEMPO"},{"$f":"IF(J1707=\"\",\"\",NETWORKDAYS(C1707+1,J1707,DiasNOLaborables))","v":17},"",null,null,20]
[1697,20219050064062,"2021-05-24","CIUDADANO","CORREO ELECTRÓNICO","SOLICITUD DE INFORMACIÓN Y DOCUMENTOS","REGISTROS AMBIENTALES","SI","SUBDIRECCIÓN DE METEOROLOGÍA","2021-06-15","CORREO ELECTRÓNICO",null,{"$f":"IFERROR(WORKDAY(C1708,S1707,DiasNOLaborables),\"\")","v":"2021-06-23"},{"$f":"+IF(C1708=\"\",\"\",IF(J1708=\"\",\"SIN RESPUESTA\",(IF(J1708<=M1708,\"A TIEMPO\",\"FUERA DE TIEMPO\"))))","v":"A TIEMPO"},{"$f":"IF(J1708=\"\",\"\",NETWORKDAYS(C1708+1,J1708,DiasNOLaborables))","v":14},"",null,null,20]
[1698,20219050063472,"2021-05-24","ENTIDAD PÚBLICA","CORREO ELECTRÓNICO","SOLICITUD DE INFORMACIÓN Y DOCUMENTOS","SOLICITUD DE INFORMACIÓN HIDROMETEOROLÓGICA","SI","AREA OPERATIVA No. 3","2021-06-05","CORREO ELECTRÓNICO",null,{"$f":"IFERROR(WORKDAY(C1709,S1708,DiasNOLaborables),\"\")","v":"2021-06-23"},{"$f":"+IF(C1709=\"\",\"\",IF(J1709=\"\",\"SIN RESPUESTA\",(IF(J1709<=M1709,\"A TIEMPO\",\"FUERA DE TIEMPO\"))))","v":"A TIEMPO"},{"$f":"IF(J1709=\"\",\"\",NETWORKDAYS(C1709+1,J1709,DiasNOLaborables))","v":9},"",null,null,20]
[1699,20219050063402,"2021-05-24","ACADEMIA ","MODULO CONTACTENOS","SOLICITUD DE INFORMACIÓN Y DOCUMENTOS","SOLICITUD DE INFORMACIÓN HIDROMETEOROLÓGICA","NO","GRUPO DE SERVICIO AL CIUDADANO ","2021-06-21","CORREO ELECTRÓNICO",null,{"$f":"IFERROR(WORKDAY(C1710,S1709,DiasNOLaborables),\"\")","v":"2021-06-23"},{"$f":"+IF(C1710=\"\",\"\",IF(J1710=\"\",\"SIN RESPUESTA\",(IF(J1710<=M1710,\"A TIEMPO\",\"FUERA DE TIEMPO\"))))","v":"A TIEMPO"},{"$f":"IF(J1710=\"\",\"\",NETWORKDAYS(C1710+1,J1710,DiasNOLaborables))","v":18},"",null,null,20]
[1700,20219050063442,"2021-05-24","CIUDADANO","MODULO CONTACTENOS","SOLICITUD DE INFORMACIÓN Y DOCUMENTOS","SOLICITUD DE INFORMACIÓN HIDROMETEOROLÓGICA","NO","GRUPO DE SERVICIO AL CIUDADANO ","2021-06-21","CORREO ELECTRÓNICO",null,{"$f":"IFERROR(WORKDAY(C1711,S1710,DiasNOLaborables),\"\")","v":"2021-06-23"},{"$f":"+IF(C1711=\"\",\"\",IF(J1711=\"\",\"SIN RESPUESTA\",(IF(J1711<=M1711,\"A TIEMPO\",\"FUERA DE TIEMPO\"))))","v":"A TIEMPO"},{"$f":"IF(J1711=\"\",\"\",NETWORKDAYS(C1711+1,J1711,DiasNOLaborables))","v":18},"",null,null,20]
[1701,20219050063502,"2021-05-24","ACADEMIA ","MODULO CONTACTENOS","SOLICITUD DE INFORMACIÓN Y DOCUMENTOS","SOLICITUD DE INFORMACIÓN HIDROMETEOROLÓGICA","NO","GRUPO DE SERVICIO AL CIUDADANO ","2021-06-21","CORREO ELECTRÓNICO",null,{"$f":"IFERROR(WORKDAY(C1712,S1711,DiasNOLaborables),\"\")","v":"2021-06-23"},{"$f":"+IF(C1712=\"\",\"\",IF(J1712=\"\",\"SIN RESPUESTA\",(IF(J1712<=M1712,\"A TIEMPO\",\"FUERA DE TIEMPO\"))))","v":"A TIEMPO"},{"$f":"IF(J1712=\"\",\"\",NETWORKDAYS(C1712+1,J1712,DiasNOLaborables))","v":18},"",null,null,20]
[1702,20219050063512,"2021-05-24","ACADEMIA ","MODULO CONTACTENOS","SOLICITUD DE INFORMACIÓN Y DOCUMENTOS","SOLICITUD DE INFORMACIÓN HIDROMETEOROLÓGICA","NO","GRUPO DE SERVICIO AL CIUDADANO ","2021-06-22","CORREO ELECTRÓNICO",null,{"$f":"IFERROR(WORKDAY(C1713,S1712,DiasNOLaborables),\"\")","v":"2021-06-23"},{"$f":"+IF(C1713=\"\",\"\",IF(J1713=\"\",\"SIN RESPUESTA\",(IF(J1713<=M1713,\"A TIEMPO\",\"FUERA DE TIEMPO\"))))","v":"A TIEMPO"},{"$f":"IF(J1713=\"\",\"\",NETWORKDAYS(C1713+1,J1713,DiasNOLaborables))","v":19},"",null,null,20]
[1703,20219050063532,"2021-05-24","ACADEMIA ","MODULO CONTACTENOS","SOLICITUD DE INFORMACIÓN Y DOCUMENTOS","SOLICITUD DE INFORMACIÓN HIDROMETEOROLÓGICA","NO","GRUPO DE SERVICIO AL CIUDADANO ","2021-06-22","CORREO ELECTRÓNICO",null,{"$f":"IFERROR(WORKDAY(C1714,S1713,DiasNOLaborables),\"\")","v":"2021-06-23"},{"$f":"+IF(C1714=\"\",\"\",IF(J1714=\"\",\"SIN RESPUESTA\",(IF(J1714<=M1714,\"A TIEMPO\",\"FUERA DE TIEMPO\"))))","v":"A TIEMPO"},{"$f":"IF(J1714=\"\",\"\",NETWORKDAYS(C1714+1,J1714,DiasNOLaborables))","v":19},"",null,null,20]
[1704,20219050063542,"2021-05-24","CIUDADANO","MODULO CONTACTENOS","SOLICITUD DE INFORMACIÓN Y DOCUMENTOS","SOLICITUD DE INFORMACIÓN HIDROMETEOROLÓGICA","NO","GRUPO DE SERVICIO AL CIUDADANO ","2021-06-22","CORREO ELECTRÓNICO",null,{"$f":"IFERROR(WORKDAY(C1715,S1714,DiasNOLaborables),\"\")","v":"2021-06-23"},{"$f":"+IF(C1715=\"\",\"\",IF(J1715=\"\",\"SIN RESPUESTA\",(IF(J1715<=M1715,\"A TIEMPO\",\"FUERA DE TIEMPO\"))))","v":"A TIEMPO"},{"$f":"IF(J1715=\"\",\"\",NETWORKDAYS(C1715+1,J1715,DiasNOLaborables))","v":19},"",null,null,20]
[1705,20219050063582,"2021-05-24","CIUDADANO","MODULO CONTACTENOS","SOLICITUD DE INFORMACIÓN Y DOCUMENTOS","SOLICITUD DE INFORMACIÓN HIDROMETEOROLÓGICA","NO","GRUPO DE SERVICIO AL CIUDADANO ","2021-06-22","CORREO ELECTRÓNICO",null,{"$f":"IFERROR(WORKDAY(C1716,S1715,DiasNOLaborables),\"\")","v":"2021-06-23"},{"$f":"+IF(C1716=\"\",\"\",IF(J1716=\"\",\"SIN RESPUESTA\",(IF(J1716<=M1716,\"A TIEMPO\",\"FUERA DE TIEMPO\"))))","v":"A TIEMPO"},{"$f":"IF(J1716=\"\",\"\",NETWORKDAYS(C1716+1,J1716,DiasNOLaborables))","v":19},"",null,null,20]
[1706,20219050063612,"2021-05-24","CIUDADANO","MODULO CONTACTENOS","SOLICITUD DE INFORMACIÓN Y DOCUMENTOS","SOLICITUD DE INFORMACIÓN HIDROMETEOROLÓGICA","NO","GRUPO DE SERVICIO AL CIUDADANO ","2021-06-22","CORREO ELECTRÓNICO",null,{"$f":"IFERROR(WORKDAY(C1717,S1716,DiasNOLaborables),\"\")","v":"2021-06-23"},{"$f":"+IF(C1717=\"\",\"\",IF(J1717=\"\",\"SIN RESPUESTA\",(IF(J1717<=M1717,\"A TIEMPO\",\"FUERA DE TIEMPO\"))))","v":"A TIEMPO"},{"$f":"IF(J1717=\"\",\"\",NETWORKDAYS(C1717+1,J1717,DiasNOLaborables))","v":19},"",null,null,20]
[1707,20219050063642,"2021-05-24","CIUDADANO","MODULO CONTACTENOS","SOLICITUD DE INFORMACIÓN Y DOCUMENTOS","SOLICITUD DE INFORMACIÓN HIDROMETEOROLÓGICA","NO","GRUPO DE SERVICIO AL CIUDADANO ","2021-06-22","CORREO ELECTRÓNICO",null,{"$f":"IFERROR(WORKDAY(C1718,S1717,DiasNOLaborables),\"\")","v":"2021-06-23"},{"$f":"+IF(C1718=\"\",\"\",IF(J1718=\"\",\"SIN RESPUESTA\",(IF(J1718<=M1718,\"A TIEMPO\",\"FUERA DE TIEMPO\"))))","v":"A TIEMPO"},{"$f":"IF(J1718=\"\",\"\",NETWORKDAYS(C1718+1,J1718,DiasNOLaborables))","v":19},"",null,null,20]
[1708,20219050063772,"2021-05-24","ACADEMIA ","MODULO CONTACTENOS","SOLICITUD DE INFORMACIÓN Y DOCUMENTOS","SOLICITUD DE INFORMACIÓN HIDROMETEOROLÓGICA","NO","GRUPO DE SERVICIO AL CIUDADANO ","2021-06-22","CORREO ELECTRÓNICO",null,{"$f":"IFERROR(WORKDAY(C1719,S1718,DiasNOLaborables),\"\")","v":"2021-06-23"},{"$f":"+IF(C1719=\"\",\"\",IF(J1719=\"\",\"SIN RESPUESTA\",(IF(J1719<=M1719,\"A TIEMPO\",\"FUERA DE TIEMPO\"))))","v":"A TIEMPO"},{"$f":"IF(J1719=\"\",\"\",NETWORKDAYS(C1719+1,J1719,DiasNOLaborables))","v":19},"",null,null,20]
[1709,20219050064322,"2021-05-25","CIUDADANO","MODULO CONTACTENOS","SOLICITUD DE INFORMACIÓN Y DOCUMENTOS","SOLICITUD DE INFORMACIÓN HIDROMETEOROLÓGICA","NO","GRUPO DE SERVICIO AL CIUDADANO ","2021-06-22","CORREO ELECTRÓNICO",null,{"$f":"IFERROR(WORKDAY(C1720,S1719,DiasNOLaborables),\"\")","v":"2021-06-24"},{"$f":"+IF(C1720=\"\",\"\",IF(J1720=\"\",\"SIN RESPUESTA\",(IF(J1720<=M1720,\"A TIEMPO\",\"FUERA DE TIEMPO\"))))","v":"A TIEMPO"},{"$f":"IF(J1720=\"\",\"\",NETWORKDAYS(C1720+1,J1720,DiasNOLaborables))","v":18},"",null,null,20]
[1710,20219050064352,"2021-05-25","CIUDADANO","MODULO CONTACTENOS","SOLICITUD DE INFORMACIÓN Y DOCUMENTOS","SOLICITUD DE INFORMACIÓN HIDROMETEOROLÓGICA","NO","GRUPO DE SERVICIO AL CIUDADANO ","2021-06-22","CORREO ELECTRÓNICO",null,{"$f":"IFERROR(WORKDAY(C1721,S1720,DiasNOLaborables),\"\")","v":"2021-06-24"},{"$f":"+IF(C1721=\"\",\"\",IF(J1721=\"\",\"SIN RESPUESTA\",(IF(J1721<=M1721,\"A TIEMPO\",\"FUERA DE TIEMPO\"))))","v":"A TIEMPO"},{"$f":"IF(J1721=\"\",\"\",NETWORKDAYS(C1721+1,J1721,DiasNOLaborables))","v":18},"",null,null,20]
[1711,20219050064362,"2021-05-25","CIUDADANO","MODULO CONTACTENOS","SOLICITUD DE INFORMACIÓN Y DOCUMENTOS","SOLICITUD DE INFORMACIÓN HIDROMETEOROLÓGICA","NO","GRUPO DE SERVICIO AL CIUDADANO ","2021-06-22","CORREO ELECTRÓNICO",null,{"$f":"IFERROR(WORKDAY(C1722,S1721,DiasNOLaborables),\"\")","v":"2021-06-24"},{"$f":"+IF(C1722=\"\",\"\",IF(J1722=\"\",\"SIN RESPUESTA\",(IF(J1722<=M1722,\"A TIEMPO\",\"FUERA DE TIEMPO\"))))","v":"A TIEMPO"},{"$f":"IF(J1722=\"\",\"\",NETWORKDAYS(C1722+1,J1722,DiasNOLaborables))","v":18},"",null,null,20]
[1712,20219050064412,"2021-05-25","CIUDADANO","MODULO CONTACTENOS","SOLICITUD DE INFORMACIÓN Y DOCUMENTOS","SOLICITUD DE INFORMACIÓN HIDROMETEOROLÓGICA","NO","GRUPO DE SERVICIO AL CIUDADANO ","2021-06-22","CORREO ELECTRÓNICO",null,{"$f":"IFERROR(WORKDAY(C1723,S1722,DiasNOLaborables),\"\")","v":"2021-06-24"},{"$f":"+IF(C1723=\"\",\"\",IF(J1723=\"\",\"SIN RESPUESTA\",(IF(J1723<=M1723,\"A TIEMPO\",\"FUERA DE TIEMPO\"))))","v":"A TIEMPO"},{"$f":"IF(J1723=\"\",\"\",NETWORKDAYS(C1723+1,J1723,DiasNOLaborables))","v":18},"",null,null,20]
[1713,20219050064452,"2021-05-25","CIUDADANO","MODULO CONTACTENOS","SOLICITUD DE INFORMACIÓN Y DOCUMENTOS","SOLICITUD DE INFORMACIÓN HIDROMETEOROLÓGICA","NO","GRUPO DE SERVICIO AL CIUDADANO ","2021-06-22","CORREO ELECTRÓNICO",null,{"$f":"IFERROR(WORKDAY(C1724,S1723,DiasNOLaborables),\"\")","v":"2021-06-24"},{"$f":"+IF(C1724=\"\",\"\",IF(J1724=\"\",\"SIN RESPUESTA\",(IF(J1724<=M1724,\"A TIEMPO\",\"FUERA DE TIEMPO\"))))","v":"A TIEMPO"},{"$f":"IF(J1724=\"\",\"\",NETWORKDAYS(C1724+1,J1724,DiasNOLaborables))","v":18},"",null,null,20]
[1714,20219050064472,"2021-05-25","ACADEMIA ","MODULO CONTACTENOS","SOLICITUD DE INFORMACIÓN Y DOCUMENTOS","SOLICITUD DE INFORMACIÓN HIDROMETEOROLÓGICA","NO","GRUPO DE SERVICIO AL CIUDADANO ","2021-06-23","CORREO ELECTRÓNICO",null,{"$f":"IFERROR(WORKDAY(C1725,S1724,DiasNOLaborables),\"\")","v":"2021-06-24"},{"$f":"+IF(C1725=\"\",\"\",IF(J1725=\"\",\"SIN RESPUESTA\",(IF(J1725<=M1725,\"A TIEMPO\",\"FUERA DE TIEMPO\"))))","v":"A TIEMPO"},{"$f":"IF(J1725=\"\",\"\",NETWORKDAYS(C1725+1,J1725,DiasNOLaborables))","v":19},"",null,null,20]
[1715,20219050064482,"2021-05-25","ACADEMIA ","MODULO CONTACTENOS","SOLICITUD DE INFORMACIÓN Y DOCUMENTOS","SOLICITUD DE INFORMACIÓN HIDROMETEOROLÓGICA","NO","GRUPO DE SERVICIO AL CIUDADANO ","2021-06-23","CORREO ELECTRÓNICO",null,{"$f":"IFERROR(WORKDAY(C1726,S1725,DiasNOLaborables),\"\")","v":"2021-06-24"},{"$f":"+IF(C1726=\"\",\"\",IF(J1726=\"\",\"SIN RESPUESTA\",(IF(J1726<=M1726,\"A TIEMPO\",\"FUERA DE TIEMPO\"))))","v":"A TIEMPO"},{"$f":"IF(J1726=\"\",\"\",NETWORKDAYS(C1726+1,J1726,DiasNOLaborables))","v":19},"",null,null,20]
[1716,20219050064492,"2021-05-25","CIUDADANO","MODULO CONTACTENOS","SOLICITUD DE INFORMACIÓN Y DOCUMENTOS","SOLICITUD DE INFORMACIÓN HIDROMETEOROLÓGICA","NO","GRUPO DE SERVICIO AL CIUDADANO ","2021-06-23","CORREO ELECTRÓNICO",null,{"$f":"IFERROR(WORKDAY(C1727,S1726,DiasNOLaborables),\"\")","v":"2021-06-24"},{"$f":"+IF(C1727=\"\",\"\",IF(J1727=\"\",\"SIN RESPUESTA\",(IF(J1727<=M1727,\"A TIEMPO\",\"FUERA DE TIEMPO\"))))","v":"A TIEMPO"},{"$f":"IF(J1727=\"\",\"\",NETWORKDAYS([5]Hoja1!C1725+1,[5]Hoja1!P1725,DiasNOLaborables))","v":20},"",null,null,20]
[1717,20219050064512,"2021-05-25","ACADEMIA ","MODULO CONTACTENOS","SOLICITUD DE INFORMACIÓN Y DOCUMENTOS","SOLICITUD DE INFORMACIÓN HIDROMETEOROLÓGICA","NO","GRUPO DE SERVICIO AL CIUDADANO ","2021-06-05","CORREO ELECTRÓNICO",null,{"$f":"IFERROR(WORKDAY(C1728,S1727,DiasNOLaborables),\"\")","v":"2021-06-24"},{"$f":"+IF(C1728=\"\",\"\",IF(J1728=\"\",\"SIN RESPUESTA\",(IF(J1728<=M1728,\"A TIEMPO\",\"FUERA DE TIEMPO\"))))","v":"A TIEMPO"},{"$f":"IF(J1728=\"\",\"\",NETWORKDAYS(C1728+1,J1728,DiasNOLaborables))","v":8},"",null,null,20]
[1718,20219050064532,"2021-05-25","ACADEMIA ","MODULO CONTACTENOS","SOLICITUD DE INFORMACIÓN Y DOCUMENTOS","SOLICITUD DE INFORMACIÓN HIDROMETEOROLÓGICA","NO","GRUPO DE SERVICIO AL CIUDADANO ","2021-06-05","CORREO ELECTRÓNICO",null,{"$f":"IFERROR(WORKDAY(C1729,S1728,DiasNOLaborables),\"\")","v":"2021-06-24"},{"$f":"+IF(C1729=\"\",\"\",IF(J1729=\"\",\"SIN RESPUESTA\",(IF(J1729<=M1729,\"A TIEMPO\",\"FUERA DE TIEMPO\"))))","v":"A TIEMPO"},{"$f":"IF(J1729=\"\",\"\",NETWORKDAYS(C1729+1,J1729,DiasNOLaborables))","v":8},"",null,null,20]
[1719,20219050064522,"2021-05-25","ACADEMIA ","MODULO CONTACTENOS","SOLICITUD DE INFORMACIÓN Y DOCUMENTOS","SOLICITUD DE INFORMACIÓN HIDROMETEOROLÓGICA","NO","GRUPO DE SERVICIO AL CIUDADANO ","2021-06-05","CORREO ELECTRÓNICO",null,{"$f":"IFERROR(WORKDAY(C1730,S1729,DiasNOLaborables),\"\")","v":"2021-06-24"},{"$f":"+IF(C1730=\"\",\"\",IF(J1730=\"\",\"SIN RESPUESTA\",(IF(J1730<=M1730,\"A TIEMPO\",\"FUERA DE TIEMPO\"))))","v":"A TIEMPO"},{"$f":"IF(J1730=\"\",\"\",NETWORKDAYS(C1730+1,J1730,DiasNOLaborables))","v":8},"",null,null,30]
[1720,20219050064342,"2021-05-25","CIUDADANO","CORREO ELECTRÓNICO","PETICIÓN","JURIDICO","SI","SUBDIRECCIÓN DE METEOROLOGÍA","2021-05-27","CORREO ELECTRÓNICO",null,{"$f":"IFERROR(WORKDAY(C1731,S1730,DiasNOLaborables),\"\")","v":"2021-07-09"},{"$f":"+IF(C1731=\"\",\"\",IF(J1731=\"\",\"SIN RESPUESTA\",(IF(J1731<=M1731,\"A TIEMPO\",\"FUERA DE TIEMPO\"))))","v":"A TIEMPO"},{"$f":"IF(J1731=\"\",\"\",NETWORKDAYS(C1731+1,J1731,DiasNOLaborables))","v":2},"",null,null,20]
[1721,20219050064312,"2021-05-25","CIUDADANO","CORREO ELECTRÓNICO","SOLICITUD DE INFORMACIÓN Y DOCUMENTOS","CLIMATOLOGÍA","SI","SUBDIRECCIÓN DE HIDROLOGÍA","2021-06-09","CORREO ELECTRÓNICO",null,{"$f":"IFERROR(WORKDAY(C1732,S1731,DiasNOLaborables),\"\")","v":"2021-06-24"},{"$f":"+IF(C1732=\"\",\"\",IF(J1732=\"\",\"SIN RESPUESTA\",(IF(J1732<=M1732,\"A TIEMPO\",\"FUERA DE TIEMPO\"))))","v":"A TIEMPO"},{"$f":"IF(J1732=\"\",\"\",NETWORKDAYS(C1732+1,J1732,DiasNOLaborables))","v":10},"",null,null,20]
[1722,20219050064222,"2021-05-25","CIUDADANO","CORREO ELECTRÓNICO","SOLICITUD DE INFORMACIÓN Y DOCUMENTOS","REGISTROS AMBIENTALES","SI","SUBDIRECCIÓN DE ESTUDIOS AMBIENTALES","2021-06-05","CORREO ELECTRÓNICO",null,{"$f":"IFERROR(WORKDAY(C1733,S1732,DiasNOLaborables),\"\")","v":"2021-06-24"},{"$f":"+IF(C1733=\"\",\"\",IF(J1733=\"\",\"SIN RESPUESTA\",(IF(J1733<=M1733,\"A TIEMPO\",\"FUERA DE TIEMPO\"))))","v":"A TIEMPO"},{"$f":"IF(J1733=\"\",\"\",NETWORKDAYS(C1733+1,J1733,DiasNOLaborables))","v":8},"",null,null,35]
[1723,20219050064232,"2021-05-25","CIUDADANO","CORREO ELECTRÓNICO","CERTIFICACIONES DE TIEMPO, CLIMA Y EVENTOS HIDROLÓGICOS","CERTIFICACIONES DE TIEMPO Y CLIMA","SI","SUBDIRECCIÓN DE METEOROLOGÍA","2021-06-23","CORREO ELECTRÓNICO",null,{"$f":"IFERROR(WORKDAY(C1734,S1733,DiasNOLaborables),\"\")","v":"2021-07-16"},{"$f":"+IF(C1734=\"\",\"\",IF(J1734=\"\",\"SIN RESPUESTA\",(IF(J1734<=M1734,\"A TIEMPO\",\"FUERA DE TIEMPO\"))))","v":"A TIEMPO"},{"$f":"IF(J1734=\"\",\"\",NETWORKDAYS(C1734+1,J1734,DiasNOLaborables))","v":19},"",null,null,35]
[1724,20219050064262,"2021-05-25","CIUDADANO","CORREO ELECTRÓNICO","CERTIFICACIONES DE TIEMPO, CLIMA Y EVENTOS HIDROLÓGICOS","CERTIFICACIONES DE TIEMPO Y CLIMA","SI","SUBDIRECCIÓN DE METEOROLOGÍA","2021-06-22","CORREO ELECTRÓNICO",null,{"$f":"IFERROR(WORKDAY(C1735,S1734,DiasNOLaborables),\"\")","v":"2021-07-16"},{"$f":"+IF(C1735=\"\",\"\",IF(J1735=\"\",\"SIN RESPUESTA\",(IF(J1735<=M1735,\"A TIEMPO\",\"FUERA DE TIEMPO\"))))","v":"A TIEMPO"},{"$f":"IF(J1735=\"\",\"\",NETWORKDAYS(C1735+1,J1735,DiasNOLaborables))","v":18},"",null,null,20]
[1725,20219050064272,"2021-05-25","CIUDADANO","CORREO ELECTRÓNICO","SOLICITUD DE INFORMACIÓN Y DOCUMENTOS","ADMINISTRATIVA","SI","GRUPO DE TESORERÍA","2021-05-28","CORREO ELECTRÓNICO",null,{"$f":"IFERROR(WORKDAY(C1736,S1735,DiasNOLaborables),\"\")","v":"2021-06-24"},{"$f":"+IF(C1736=\"\",\"\",IF(J1736=\"\",\"SIN RESPUESTA\",(IF(J1736<=M1736,\"A TIEMPO\",\"FUERA DE TIEMPO\"))))","v":"A TIEMPO"},{"$f":"IF(J1736=\"\",\"\",NETWORKDAYS(C1736+1,J1736,DiasNOLaborables))","v":3},"",null,null,20]
[1726,20219050064282,"2021-05-25","CIUDADANO","CORREO ELECTRÓNICO","SOLICITUD DE INFORMACIÓN Y DOCUMENTOS","REGISTROS AMBIENTALES","SI","SUBDIRECCIÓN DE ESTUDIOS AMBIENTALES","2021-06-05","CORREO ELECTRÓNICO",null,{"$f":"IFERROR(WORKDAY(C1737,S1736,DiasNOLaborables),\"\")","v":"2021-06-24"},{"$f":"+IF(C1737=\"\",\"\",IF(J1737=\"\",\"SIN RESPUESTA\",(IF(J1737<=M1737,\"A TIEMPO\",\"FUERA DE TIEMPO\"))))","v":"A TIEMPO"},{"$f":"IF(J1737=\"\",\"\",NETWORKDAYS(C1737+1,J1737,DiasNOLaborables))","v":8},"",null,null,20]
[1727,20219050064292,"2021-05-25","CIUDADANO","CORREO ELECTRÓNICO","SOLICITUD DE INFORMACIÓN Y DOCUMENTOS","BOSQUES","SI","SUBDIRECCIÓN DE ECOSISTEMAS E INFORMACIÓN AMBIENTAL","2021-06-08","CORREO ELECTRÓNICO",null,{"$f":"IFERROR(WORKDAY(C1738,S1737,DiasNOLaborables),\"\")","v":"2021-06-24"},{"$f":"+IF(C1738=\"\",\"\",IF(J1738=\"\",\"SIN RESPUESTA\",(IF(J1738<=M1738,\"A TIEMPO\",\"FUERA DE TIEMPO\"))))","v":"A TIEMPO"},{"$f":"IF(J1738=\"\",\"\",NETWORKDAYS(C1738+1,J1738,DiasNOLaborables))","v":9},"",null,null,20]
[1728,20219050064302,"2021-05-25","CIUDADANO","CORREO ELECTRÓNICO","SOLICITUD DE INFORMACIÓN Y DOCUMENTOS","REGISTROS AMBIENTALES","SI","SUBDIRECCIÓN DE ESTUDIOS AMBIENTALES","2021-05-25","CORREO ELECTRÓNICO",null,{"$f":"IFERROR(WORKDAY(C1739,S1738,DiasNOLaborables),\"\")","v":"2021-06-24"},{"$f":"+IF(C1739=\"\",\"\",IF(J1739=\"\",\"SIN RESPUESTA\",(IF(J1739<=M1739,\"A TIEMPO\",\"FUERA DE TIEMPO\"))))","v":"A TIEMPO"},{"$f":"IF(J1739=\"\",\"\",NETWORKDAYS(C1739+1,J1739,DiasNOLaborables))","v":-2},"",null,null,35]
[1729,20219050064372,"2021-05-25","CIUDADANO","CORREO ELECTRÓNICO","CERTIFICACIONES DE TIEMPO, CLIMA Y EVENTOS HIDROLÓGICOS","CERTIFICACIONES DE TIEMPO Y CLIMA","SI","SUBDIRECCIÓN DE METEOROLOGÍA","2021-06-11","CORREO ELECTRÓNICO",null,{"$f":"IFERROR(WORKDAY(C1740,S1739,DiasNOLaborables),\"\")","v":"2021-07-16"},{"$f":"+IF(C1740=\"\",\"\",IF(J1740=\"\",\"SIN RESPUESTA\",(IF(J1740<=M1740,\"A TIEMPO\",\"FUERA DE TIEMPO\"))))","v":"A TIEMPO"},{"$f":"IF(J1740=\"\",\"\",NETWORKDAYS(C1740+1,J1740,DiasNOLaborables))","v":12},"",null,null,20]
[1730,20219050064502,"2021-05-25","CIUDADANO","CORREO ELECTRÓNICO","SOLICITUD DE INFORMACIÓN Y DOCUMENTOS","INFORMES AMBIENTALES","SI","DIRECCIÓN GENERAL","2021-06-16","CORREO ELECTRÓNICO",null,{"$f":"IFERROR(WORKDAY(C1741,S1740,DiasNOLaborables),\"\")","v":"2021-06-24"},{"$f":"+IF(C1741=\"\",\"\",IF(J1741=\"\",\"SIN RESPUESTA\",(IF(J1741<=M1741,\"A TIEMPO\",\"FUERA DE TIEMPO\"))))","v":"A TIEMPO"},{"$f":"IF(J1741=\"\",\"\",NETWORKDAYS(C1741+1,J1741,DiasNOLaborables))","v":14},"",null,null,{"$f":"IFERROR(VLOOKUP(F1742,$AA$51:$AB$64,2),\"\")","v":35}]
[{"$f":"IF(B1742<>\"\",A1741+1,\"\")","v":1731},20217080000902,"2021-05-25","ENTIDAD PÚBLICA","MODULO CONTACTENOS","CERTIFICACIONES DE TIEMPO, CLIMA Y EVENTOS HIDROLÓGICOS","CERTIFICACIONES DE TIEMPO Y CLIMA","SI","SUBDIRECCIÓN DE METEOROLOGÍA","2021-06-15","CORREO ELECTRÓNICO",null,{"$f":"IFERROR(WORKDAY(C1742,S1741,DiasNOLaborables),\"\")","v":"2021-07-16"},{"$f":"+IF(C1742=\"\",\"\",IF(J1742=\"\",\"SIN RESPUESTA\",(IF(J1742<=M1742,\"A TIEMPO\",\"FUERA DE TIEMPO\"))))","v":"A TIEMPO"},{"$f":"IF(J1742=\"\",\"\",NETWORKDAYS(C1742+1,J1742,DiasNOLaborables))","v":13},"",null,null,20]
[1732,20219050064422,"2021-05-25","ENTIDAD PÚBLICA","CORREO ELECTRÓNICO","SOLICITUD DE INFORMACIÓN Y DOCUMENTOS","SOLICITUD DE INFORMACIÓN HIDROMETEOROLÓGICA","NO","GRUPO DE SERVICIO AL CIUDADANO ","2021-05-25","CORREO ELECTRÓNICO",null,{"$f":"IFERROR(WORKDAY(C1743,S1742,DiasNOLaborables),\"\")","v":"2021-06-24"},{"$f":"+IF(C1743=\"\",\"\",IF(J1743=\"\",\"SIN RESPUESTA\",(IF(J1743<=M1743,\"A TIEMPO\",\"FUERA DE TIEMPO\"))))","v":"A TIEMPO"},{"$f":"IF(J1743=\"\",\"\",NETWORKDAYS(C1743+1,J1743,DiasNOLaborables))","v":-2},"",null,null,20]
[1733,20219050064332,"2021-05-25","EMPRESA PRIVADA","MODULO CONTACTENOS","SOLICITUD DE INFORMACIÓN Y DOCUMENTOS","REGISTROS AMBIENTALES","SI","SUBDIRECCIÓN DE ESTUDIOS AMBIENTALES","2021-05-27","CORREO ELECTRÓNICO",null,{"$f":"IFERROR(WORKDAY(C1744,S1743,DiasNOLaborables),\"\")","v":"2021-06-24"},{"$f":"+IF(C1744=\"\",\"\",IF(J1744=\"\",\"SIN RESPUESTA\",(IF(J1744<=M1744,\"A TIEMPO\",\"FUERA DE TIEMPO\"))))","v":"A TIEMPO"},{"$f":"IF(J1744=\"\",\"\",NETWORKDAYS(C1744+1,J1744,DiasNOLaborables))","v":2},"",null,null,20]
[1734,20219050064542,"2021-05-25","ENTIDAD PÚBLICA","MODULO CONTACTENOS","SOLICITUD DE INFORMACIÓN Y DOCUMENTOS","SOLICITUD DE INFORMACIÓN HIDROMETEOROLÓGICA","NO","GRUPO DE SERVICIO AL CIUDADANO ","2021-06-08","CORREO ELECTRÓNICO",null,{"$f":"IFERROR(WORKDAY(C1745,S1744,DiasNOLaborables),\"\")","v":"2021-06-24"},{"$f":"+IF(C1745=\"\",\"\",IF(J1745=\"\",\"SIN RESPUESTA\",(IF(J1745<=M1745,\"A TIEMPO\",\"FUERA DE TIEMPO\"))))","v":"A TIEMPO"},{"$f":"IF(J1745=\"\",\"\",NETWORKDAYS(C1745+1,J1745,DiasNOLaborables))","v":9},"",null,null,20]
[1735,20219050064192,"2021-05-25","CIUDADANO","MODULO CONTACTENOS","SOLICITUD DE INFORMACIÓN Y DOCUMENTOS","SOLICITUD DE INFORMACIÓN HIDROMETEOROLÓGICA","NO","GRUPO DE SERVICIO AL CIUDADANO ","2021-06-22","CORREO ELECTRÓNICO",null,{"$f":"IFERROR(WORKDAY(C1746,S1745,DiasNOLaborables),\"\")","v":"2021-06-24"},{"$f":"+IF(C1746=\"\",\"\",IF(J1746=\"\",\"SIN RESPUESTA\",(IF(J1746<=M1746,\"A TIEMPO\",\"FUERA DE TIEMPO\"))))","v":"A TIEMPO"},{"$f":"IF(J1746=\"\",\"\",NETWORKDAYS(C1746+1,J1746,DiasNOLaborables))","v":18},"",null,null,20]
[1736,20219050064462,"2021-05-25","ACADEMIA","MODULO CONTACTENOS","SOLICITUD DE INFORMACIÓN Y DOCUMENTOS","SOLICITUD DE INFORMACIÓN HIDROMETEOROLÓGICA","NO","GRUPO DE SERVICIO AL CIUDADANO ","2021-06-22","CORREO ELECTRÓNICO",null,{"$f":"IFERROR(WORKDAY(C1747,S1746,DiasNOLaborables),\"\")","v":"2021-06-24"},{"$f":"+IF(C1747=\"\",\"\",IF(J1747=\"\",\"SIN RESPUESTA\",(IF(J1747<=M1747,\"A TIEMPO\",\"FUERA DE TIEMPO\"))))","v":"A TIEMPO"},{"$f":"IF(J1747=\"\",\"\",NETWORKDAYS(C1747+1,J1747,DiasNOLaborables))","v":18},"",null,null,20]
[1737,20219050064382,"2021-05-25","CIUDADANO","MODULO CONTACTENOS","SOLICITUD DE INFORMACIÓN Y DOCUMENTOS","SOLICITUD DE INFORMACIÓN HIDROMETEOROLÓGICA","NO","GRUPO DE SERVICIO AL CIUDADANO ","2021-06-22","CORREO ELECTRÓNICO",null,{"$f":"IFERROR(WORKDAY(C1748,S1747,DiasNOLaborables),\"\")","v":"2021-06-24"},{"$f":"+IF(C1748=\"\",\"\",IF(J1748=\"\",\"SIN RESPUESTA\",(IF(J1748<=M1748,\"A TIEMPO\",\"FUERA DE TIEMPO\"))))","v":"A TIEMPO"},{"$f":"IF(J1748=\"\",\"\",NETWORKDAYS(C1748+1,J1748,DiasNOLaborables))","v":18},"",null,null,20]
[1738,20219050064212,"2021-05-25","ACADEMIA","MODULO CONTACTENOS","SOLICITUD DE INFORMACIÓN Y DOCUMENTOS","SOLICITUD DE INFORMACIÓN HIDROMETEOROLÓGICA","NO","GRUPO DE SERVICIO AL CIUDADANO ","2021-06-22","CORREO ELECTRÓNICO",null,{"$f":"IFERROR(WORKDAY(C1749,S1748,DiasNOLaborables),\"\")","v":"2021-06-24"},{"$f":"+IF(C1749=\"\",\"\",IF(J1749=\"\",\"SIN RESPUESTA\",(IF(J1749<=M1749,\"A TIEMPO\",\"FUERA DE TIEMPO\"))))","v":"A TIEMPO"},{"$f":"IF(J1749=\"\",\"\",NETWORKDAYS(C1749+1,J1749,DiasNOLaborables))","v":18},"",null,null,20]
[1739,20219050064712,"2021-05-26","CIUDADANO","MODULO CONTACTENOS","SOLICITUD DE INFORMACIÓN Y DOCUMENTOS","SOLICITUD DE INFORMACIÓN HIDROMETEOROLÓGICA","NO","GRUPO DE SERVICIO AL CIUDADANO ","2021-06-22","CORREO ELECTRÓNICO",null,{"$f":"IFERROR(WORKDAY(C1750,S1749,DiasNOLaborables),\"\")","v":"2021-06-25"},{"$f":"+IF(C1750=\"\",\"\",IF(J1750=\"\",\"SIN RESPUESTA\",(IF(J1750<=M1750,\"A TIEMPO\",\"FUERA DE TIEMPO\"))))","v":"A TIEMPO"},{"$f":"IF(J1750=\"\",\"\",NETWORKDAYS(C1750+1,J1750,DiasNOLaborables))","v":17},"",null,null,20]
[1740,20219050064632,"2021-05-26","CIUDADANO","MODULO CONTACTENOS","SOLICITUD DE INFORMACIÓN Y DOCUMENTOS","SOLICITUD DE INFORMACIÓN HIDROMETEOROLÓGICA","NO","GRUPO DE SERVICIO AL CIUDADANO ","2021-06-22","CORREO ELECTRÓNICO",null,{"$f":"IFERROR(WORKDAY(C1751,S1750,DiasNOLaborables),\"\")","v":"2021-06-25"},{"$f":"+IF(C1751=\"\",\"\",IF(J1751=\"\",\"SIN RESPUESTA\",(IF(J1751<=M1751,\"A TIEMPO\",\"FUERA DE TIEMPO\"))))","v":"A TIEMPO"},{"$f":"IF(J1751=\"\",\"\",NETWORKDAYS(C1751+1,J1751,DiasNOLaborables))","v":17},"",null,null,20]
[1741,20219050064562,"2021-05-26","CIUDADANO","MODULO CONTACTENOS","SOLICITUD DE INFORMACIÓN Y DOCUMENTOS","SOLICITUD DE INFORMACIÓN HIDROMETEOROLÓGICA","NO","GRUPO DE SERVICIO AL CIUDADANO ","2021-06-08","CORREO ELECTRÓNICO",null,{"$f":"IFERROR(WORKDAY(C1752,S1751,DiasNOLaborables),\"\")","v":"2021-06-25"},{"$f":"+IF(C1752=\"\",\"\",IF(J1752=\"\",\"SIN RESPUESTA\",(IF(J1752<=M1752,\"A TIEMPO\",\"FUERA DE TIEMPO\"))))","v":"A TIEMPO"},{"$f":"IF(J1752=\"\",\"\",NETWORKDAYS(C1752+1,J1752,DiasNOLaborables))","v":8},"",null,null,20]
[1742,20219050064572,"2021-05-26","EMPRESA PRIVADA","MODULO CONTACTENOS","SOLICITUD DE INFORMACIÓN Y DOCUMENTOS","SOLICITUD DE INFORMACIÓN HIDROMETEOROLÓGICA","NO","GRUPO DE SERVICIO AL CIUDADANO ","2021-06-09","CORREO ELECTRÓNICO",null,{"$f":"IFERROR(WORKDAY(C1753,S1752,DiasNOLaborables),\"\")","v":"2021-06-25"},{"$f":"+IF(C1753=\"\",\"\",IF(J1753=\"\",\"SIN RESPUESTA\",(IF(J1753<=M1753,\"A TIEMPO\",\"FUERA DE TIEMPO\"))))","v":"A TIEMPO"},{"$f":"IF(J1753=\"\",\"\",NETWORKDAYS(C1753+1,J1753,DiasNOLaborables))","v":9},"",null,null,20]
[1743,20219050064582,"2021-05-26","ACADEMIA ","MODULO CONTACTENOS","SOLICITUD DE INFORMACIÓN Y DOCUMENTOS","SOLICITUD DE INFORMACIÓN HIDROMETEOROLÓGICA","NO","GRUPO DE SERVICIO AL CIUDADANO ","2021-06-09","CORREO ELECTRÓNICO",null,{"$f":"IFERROR(WORKDAY(C1754,S1753,DiasNOLaborables),\"\")","v":"2021-06-25"},{"$f":"+IF(C1754=\"\",\"\",IF(J1754=\"\",\"SIN RESPUESTA\",(IF(J1754<=M1754,\"A TIEMPO\",\"FUERA DE TIEMPO\"))))","v":"A TIEMPO"},{"$f":"IF(J1754=\"\",\"\",NETWORKDAYS(C1754+1,J1754,DiasNOLaborables))","v":9},"",null,null,20]
[1744,20219050064592,"2021-05-26","ACADEMIA ","MODULO CONTACTENOS","SOLICITUD DE INFORMACIÓN Y DOCUMENTOS","SOLICITUD DE INFORMACIÓN HIDROMETEOROLÓGICA","NO","GRUPO DE SERVICIO AL CIUDADANO ","2021-06-09","CORREO ELECTRÓNICO",null,{"$f":"IFERROR(WORKDAY(C1755,S1754,DiasNOLaborables),\"\")","v":"2021-06-25"},{"$f":"+IF(C1755=\"\",\"\",IF(J1755=\"\",\"SIN RESPUESTA\",(IF(J1755<=M1755,\"A TIEMPO\",\"FUERA DE TIEMPO\"))))","v":"A TIEMPO"},{"$f":"IF(J1755=\"\",\"\",NETWORKDAYS(C1755+1,J1755,DiasNOLaborables))","v":9},"",null,null,20]
[1745,20219050064732,"2021-05-26","CIUDADANO","MODULO CONTACTENOS","SOLICITUD DE INFORMACIÓN Y DOCUMENTOS","SOLICITUD DE INFORMACIÓN HIDROMETEOROLÓGICA","NO","GRUPO DE SERVICIO AL CIUDADANO ","2021-06-09","CORREO ELECTRÓNICO",null,{"$f":"IFERROR(WORKDAY(C1756,S1755,DiasNOLaborables),\"\")","v":"2021-06-25"},{"$f":"+IF(C1756=\"\",\"\",IF(J1756=\"\",\"SIN RESPUESTA\",(IF(J1756<=M1756,\"A TIEMPO\",\"FUERA DE TIEMPO\"))))","v":"A TIEMPO"},{"$f":"IF(J1756=\"\",\"\",NETWORKDAYS(C1756+1,J1756,DiasNOLaborables))","v":9},"",null,null,20]
[1746,20219050064742,"2021-05-26","EMPRESA PRIVADA","MODULO CONTACTENOS","SOLICITUD DE INFORMACIÓN Y DOCUMENTOS","SOLICITUD DE INFORMACIÓN HIDROMETEOROLÓGICA","NO","GRUPO DE SERVICIO AL CIUDADANO ","2021-06-09","CORREO ELECTRÓNICO",null,{"$f":"IFERROR(WORKDAY(C1757,S1756,DiasNOLaborables),\"\")","v":"2021-06-25"},{"$f":"+IF(C1757=\"\",\"\",IF(J1757=\"\",\"SIN RESPUESTA\",(IF(J1757<=M1757,\"A TIEMPO\",\"FUERA DE TIEMPO\"))))","v":"A TIEMPO"},{"$f":"IF(J1757=\"\",\"\",NETWORKDAYS(C1757+1,J1757,DiasNOLaborables))","v":9},"",null,null,20]
[1747,20219050064752,"2021-05-26","CIUDADANO","MODULO CONTACTENOS","SOLICITUD DE INFORMACIÓN Y DOCUMENTOS","SOLICITUD DE INFORMACIÓN HIDROMETEOROLÓGICA","NO","GRUPO DE SERVICIO AL CIUDADANO ","2021-06-09","CORREO ELECTRÓNICO",null,{"$f":"IFERROR(WORKDAY(C1758,S1757,DiasNOLaborables),\"\")","v":"2021-06-25"},{"$f":"+IF(C1758=\"\",\"\",IF(J1758=\"\",\"SIN RESPUESTA\",(IF(J1758<=M1758,\"A TIEMPO\",\"FUERA DE TIEMPO\"))))","v":"A TIEMPO"},{"$f":"IF(J1758=\"\",\"\",NETWORKDAYS(C1758+1,J1758,DiasNOLaborables))","v":9},"",null,null,20]
[1748,20219050064622,"2021-05-26","ENTIDAD PÚBLICA","CORREO ELECTRÓNICO","SOLICITUD DE INFORMACIÓN Y DOCUMENTOS","CERTIFICACIONES DE TIEMPO Y CLIMA","SI","SUBDIRECCIÓN DE METEOROLOGÍA","2021-06-03","CORREO ELECTRÓNICO",null,{"$f":"IFERROR(WORKDAY(C1759,S1758,DiasNOLaborables),\"\")","v":"2021-06-25"},{"$f":"+IF(C1759=\"\",\"\",IF(J1759=\"\",\"SIN RESPUESTA\",(IF(J1759<=M1759,\"A TIEMPO\",\"FUERA DE TIEMPO\"))))","v":"A TIEMPO"},{"$f":"IF(J1759=\"\",\"\",NETWORKDAYS(C1759+1,J1759,DiasNOLaborables))","v":6},"",null,null,20]
[1749,20219050064672,"2021-05-26","CIUDADANO","MODULO CONTACTENOS","SOLICITUD DE INFORMACIÓN Y DOCUMENTOS","CLIMATOLOGÍA","SI","SUBDIRECCIÓN DE METEOROLOGÍA","2021-06-15","CORREO ELECTRÓNICO",null,{"$f":"IFERROR(WORKDAY(C1760,S1759,DiasNOLaborables),\"\")","v":"2021-06-25"},{"$f":"+IF(C1760=\"\",\"\",IF(J1760=\"\",\"SIN RESPUESTA\",(IF(J1760<=M1760,\"A TIEMPO\",\"FUERA DE TIEMPO\"))))","v":"A TIEMPO"},{"$f":"IF(J1760=\"\",\"\",NETWORKDAYS(C1760+1,J1760,DiasNOLaborables))","v":12},"",null,null,20]
[1750,20219050064772,"2021-05-26","CIUDADANO","MODULO CONTACTENOS","SOLICITUD DE INFORMACIÓN Y DOCUMENTOS","ACREDITACIÓN DE LABORATORIOS","SI","SUBDIRECCIÓN DE ESTUDIOS AMBIENTALES","2021-05-28","CORREO ELECTRÓNICO",null,{"$f":"IFERROR(WORKDAY(C1761,S1760,DiasNOLaborables),\"\")","v":"2021-06-25"},{"$f":"+IF(C1761=\"\",\"\",IF(J1761=\"\",\"SIN RESPUESTA\",(IF(J1761<=M1761,\"A TIEMPO\",\"FUERA DE TIEMPO\"))))","v":"A TIEMPO"},{"$f":"IF(J1761=\"\",\"\",NETWORKDAYS(C1761+1,J1761,DiasNOLaborables))","v":2},"",null,null,20]
[1751,20219050064882,"2021-05-26","CIUDADANO","MODULO CONTACTENOS","SOLICITUD DE INFORMACIÓN Y DOCUMENTOS","SOLICITUD DE INFORMACIÓN HIDROMETEOROLÓGICA","NO","GRUPO DE SERVICIO AL CIUDADANO ","2021-06-02","CORREO ELECTRÓNICO",null,{"$f":"IFERROR(WORKDAY(C1762,S1761,DiasNOLaborables),\"\")","v":"2021-06-25"},{"$f":"+IF(C1762=\"\",\"\",IF(J1762=\"\",\"SIN RESPUESTA\",(IF(J1762<=M1762,\"A TIEMPO\",\"FUERA DE TIEMPO\"))))","v":"A TIEMPO"},{"$f":"IF(J1762=\"\",\"\",NETWORKDAYS(C1762+1,J1762,DiasNOLaborables))","v":5},{"$f":"IF(NETWORKDAYS(M1762+1,J1762,DiasNOLaborables)<=0,\"\",NETWORKDAYS(M1762+1,J1762,DiasNOLaborables))","v":""},null,null,20]
[1752,20219050064612,"2021-05-26","ENTIDAD PÚBLICA","MODULO CONTACTENOS","SOLICITUD DE INFORMACIÓN Y DOCUMENTOS","SOLICITUD DE INFORMACIÓN HIDROMETEOROLÓGICA","NO","GRUPO DE SERVICIO AL CIUDADANO ","2021-06-02","CORREO ELECTRÓNICO",null,{"$f":"IFERROR(WORKDAY(C1763,S1762,DiasNOLaborables),\"\")","v":"2021-06-25"},{"$f":"+IF(C1763=\"\",\"\",IF(J1763=\"\",\"SIN RESPUESTA\",(IF(J1763<=M1763,\"A TIEMPO\",\"FUERA DE TIEMPO\"))))","v":"A TIEMPO"},{"$f":"IF(J1763=\"\",\"\",NETWORKDAYS(C1763+1,J1763,DiasNOLaborables))","v":5},"",null,null,20]
[1753,20219050064872,"2021-05-26","EMPRESA PRIVADA","MODULO CONTACTENOS","SOLICITUD DE INFORMACIÓN Y DOCUMENTOS","CLIMATOLOGÍA","SI","SUBDIRECCIÓN DE METEOROLOGÍA","2021-05-28","CORREO ELECTRÓNICO",null,{"$f":"IFERROR(WORKDAY(C1764,S1763,DiasNOLaborables),\"\")","v":"2021-06-25"},{"$f":"+IF(C1764=\"\",\"\",IF(J1764=\"\",\"SIN RESPUESTA\",(IF(J1764<=M1764,\"A TIEMPO\",\"FUERA DE TIEMPO\"))))","v":"A TIEMPO"},{"$f":"IF(J1764=\"\",\"\",NETWORKDAYS(C1764+1,J1764,DiasNOLaborables))","v":2},"",null,null,20]
[1754,20219050064892,"2021-05-26","CIUDADANO","MODULO CONTACTENOS","SOLICITUD DE INFORMACIÓN Y DOCUMENTOS","CLIMATOLOGÍA","SI","SUBDIRECCIÓN DE METEOROLOGÍA","2021-06-15","CORREO ELECTRÓNICO",null,{"$f":"IFERROR(WORKDAY(C1765,S1764,DiasNOLaborables),\"\")","v":"2021-06-25"},{"$f":"+IF(C1765=\"\",\"\",IF(J1765=\"\",\"SIN RESPUESTA\",(IF(J1765<=M1765,\"A TIEMPO\",\"FUERA DE TIEMPO\"))))","v":"A TIEMPO"},{"$f":"IF(J1765=\"\",\"\",NETWORKDAYS(C1765+1,J1765,DiasNOLaborables))","v":12},"",null,null,20]
[1755,20219050064602,"2021-05-26","CIUDADANO","CORREO ELECTRÓNICO","SOLICITUD DE INFORMACIÓN Y DOCUMENTOS","CAMBIO CLIMÁTICO","SI","SUBDIRECCIÓN DE ESTUDIOS AMBIENTALES","2021-06-16","CORREO ELECTRÓNICO",null,{"$f":"IFERROR(WORKDAY(C1766,S1765,DiasNOLaborables),\"\")","v":"2021-06-25"},{"$f":"+IF(C1766=\"\",\"\",IF(J1766=\"\",\"SIN RESPUESTA\",(IF(J1766<=M1766,\"A TIEMPO\",\"FUERA DE TIEMPO\"))))","v":"A TIEMPO"},{"$f":"IF(J1766=\"\",\"\",NETWORKDAYS(C1766+1,J1766,DiasNOLaborables))","v":13},"",null,null,20]
[1756,20219050064652,"2021-05-26","CIUDADANO","CORREO ELECTRÓNICO","SOLICITUD DE INFORMACIÓN Y DOCUMENTOS","ADMINISTRATIVA","SI","GRUPO DE ADMINISTRACIÓN Y DESARROLLO DEL TALENTO HUMANO","2021-05-31","CORREO ELECTRÓNICO",null,{"$f":"IFERROR(WORKDAY(C1767,S1766,DiasNOLaborables),\"\")","v":"2021-06-25"},{"$f":"+IF(C1767=\"\",\"\",IF(J1767=\"\",\"SIN RESPUESTA\",(IF(J1767<=M1767,\"A TIEMPO\",\"FUERA DE TIEMPO\"))))","v":"A TIEMPO"},{"$f":"IF(J1767=\"\",\"\",NETWORKDAYS(C1767+1,J1767,DiasNOLaborables))","v":3},"",null,null,20]
[1757,20219050064662,"2021-05-26","CIUDADANO","CORREO ELECTRÓNICO","SOLICITUD DE INFORMACIÓN Y DOCUMENTOS","SOLICITUD DE INFORMACIÓN HIDROMETEOROLÓGICA","SI","GRUPO DE SERVICIO AL CIUDADANO ","2021-06-11","CORREO ELECTRÓNICO",null,{"$f":"IFERROR(WORKDAY(C1768,S1767,DiasNOLaborables),\"\")","v":"2021-06-25"},{"$f":"+IF(C1768=\"\",\"\",IF(J1768=\"\",\"SIN RESPUESTA\",(IF(J1768<=M1768,\"A TIEMPO\",\"FUERA DE TIEMPO\"))))","v":"A TIEMPO"},{"$f":"IF(J1768=\"\",\"\",NETWORKDAYS(C1768+1,J1768,DiasNOLaborables))","v":11},"",null,null,20]
[1758,20219050064692,"2021-05-26","CIUDADANO","CORREO ELECTRÓNICO","SOLICITUD DE INFORMACIÓN Y DOCUMENTOS","OPERACIÓN DE REDES","SI","SUBDIRECCIÓN DE HIDROLOGÍA","2021-06-23","CORREO ELECTRÓNICO",null,{"$f":"IFERROR(WORKDAY(C1769,S1768,DiasNOLaborables),\"\")","v":"2021-06-25"},{"$f":"+IF(C1769=\"\",\"\",IF(J1769=\"\",\"SIN RESPUESTA\",(IF(J1769<=M1769,\"A TIEMPO\",\"FUERA DE TIEMPO\"))))","v":"A TIEMPO"},{"$f":"IF(J1769=\"\",\"\",NETWORKDAYS(C1769+1,J1769,DiasNOLaborables))","v":18},"",null,null,35]
[1759,20219050064722,"2021-05-26","CIUDADANO","CORREO ELECTRÓNICO","CERTIFICACIONES DE TIEMPO, CLIMA Y EVENTOS HIDROLÓGICOS","CERTIFICACIONES DE TIEMPO Y CLIMA","SI","SUBDIRECCIÓN DE METEOROLOGÍA","2021-06-15","CORREO ELECTRÓNICO",null,{"$f":"IFERROR(WORKDAY(C1770,S1769,DiasNOLaborables),\"\")","v":"2021-07-19"},{"$f":"+IF(C1770=\"\",\"\",IF(J1770=\"\",\"SIN RESPUESTA\",(IF(J1770<=M1770,\"A TIEMPO\",\"FUERA DE TIEMPO\"))))","v":"A TIEMPO"},{"$f":"IF(J1770=\"\",\"\",NETWORKDAYS(C1770+1,J1770,DiasNOLaborables))","v":12},"",null,null,20]
[1760,20219050064782,"2021-05-26","CIUDADANO","CORREO ELECTRÓNICO","SOLICITUD DE INFORMACIÓN Y DOCUMENTOS","SOLICITUD DE INFORMACIÓN HIDROMETEOROLÓGICA","SI","GRUPO DE SERVICIO AL CIUDADANO ","2021-06-11","CORREO ELECTRÓNICO",null,{"$f":"IFERROR(WORKDAY(C1771,S1770,DiasNOLaborables),\"\")","v":"2021-06-25"},{"$f":"+IF(C1771=\"\",\"\",IF(J1771=\"\",\"SIN RESPUESTA\",(IF(J1771<=M1771,\"A TIEMPO\",\"FUERA DE TIEMPO\"))))","v":"A TIEMPO"},{"$f":"IF(J1771=\"\",\"\",NETWORKDAYS(C1771+1,J1771,DiasNOLaborables))","v":11},"",null,null,20]
[1761,20219050064792,"2021-05-26","CIUDADANO","CORREO ELECTRÓNICO","SOLICITUD DE INFORMACIÓN Y DOCUMENTOS","SOLICITUD DE INFORMACIÓN HIDROMETEOROLÓGICA","SI","GRUPO DE SERVICIO AL CIUDADANO ","2021-06-11","CORREO ELECTRÓNICO",null,{"$f":"IFERROR(WORKDAY(C1772,S1771,DiasNOLaborables),\"\")","v":"2021-06-25"},{"$f":"+IF(C1772=\"\",\"\",IF(J1772=\"\",\"SIN RESPUESTA\",(IF(J1772<=M1772,\"A TIEMPO\",\"FUERA DE TIEMPO\"))))","v":"A TIEMPO"},{"$f":"IF(J1772=\"\",\"\",NETWORKDAYS(C1772+1,J1772,DiasNOLaborables))","v":11},"",null,null,20]
[1762,20219050064802,"2021-05-26","CIUDADANO","CORREO ELECTRÓNICO","SOLICITUD DE INFORMACIÓN Y DOCUMENTOS","ADMINISTRATIVA","SI","OFICINA DE CONTROL INTERNO","2021-06-03",null,null,{"$f":"IFERROR(WORKDAY(C1773,S1772,DiasNOLaborables),\"\")","v":"2021-06-25"},{"$f":"+IF(C1773=\"\",\"\",IF(J1773=\"\",\"SIN RESPUESTA\",(IF(J1773<=M1773,\"A TIEMPO\",\"FUERA DE TIEMPO\"))))","v":"A TIEMPO"},{"$f":"IF(J1773=\"\",\"\",NETWORKDAYS(C1773+1,J1773,DiasNOLaborables))","v":6},"",null,null,20]
[1763,20219050064832,"2021-05-26","CIUDADANO","CORREO ELECTRÓNICO","SOLICITUD DE INFORMACIÓN Y DOCUMENTOS","ADMINISTRATIVA","SI","GRUPO DE ADMINISTRACIÓN Y DESARROLLO DEL TALENTO HUMANO","2021-06-03","CORREO ELECTRÓNICO",null,{"$f":"IFERROR(WORKDAY(C1774,S1773,DiasNOLaborables),\"\")","v":"2021-06-25"},{"$f":"+IF(C1774=\"\",\"\",IF(J1774=\"\",\"SIN RESPUESTA\",(IF(J1774<=M1774,\"A TIEMPO\",\"FUERA DE TIEMPO\"))))","v":"A TIEMPO"},{"$f":"IF(J1774=\"\",\"\",NETWORKDAYS(C1774+1,J1774,DiasNOLaborables))","v":6},"",null,null,20]
[1764,20219050064862,"2021-05-26","CIUDADANO","CORREO ELECTRÓNICO","SOLICITUD DE INFORMACIÓN Y DOCUMENTOS","ADMINISTRATIVA","SI","GRUPO DE ADMINISTRACIÓN Y DESARROLLO DEL TALENTO HUMANO","2021-05-26","CORREO ELECTRÓNICO",null,{"$f":"IFERROR(WORKDAY(C1775,S1774,DiasNOLaborables),\"\")","v":"2021-06-25"},{"$f":"+IF(C1775=\"\",\"\",IF(J1775=\"\",\"SIN RESPUESTA\",(IF(J1775<=M1775,\"A TIEMPO\",\"FUERA DE TIEMPO\"))))","v":"A TIEMPO"},{"$f":"IF(J1775=\"\",\"\",NETWORKDAYS(C1775+1,J1775,DiasNOLaborables))","v":-2},"",null,null,5]
[1765,20219050064912,"2021-05-26","CIUDADANO","CORREO ELECTRÓNICO","SOLICITUD JUDICIAL","JURIDICO","SI","OFICINA ASESORA JURÍDICA","2021-05-26","CORREO ELECTRÓNICO",null,{"$f":"IFERROR(WORKDAY(C1776,S1775,DiasNOLaborables),\"\")","v":"2021-06-02"},{"$f":"+IF(C1776=\"\",\"\",IF(J1776=\"\",\"SIN RESPUESTA\",(IF(J1776<=M1776,\"A TIEMPO\",\"FUERA DE TIEMPO\"))))","v":"A TIEMPO"},{"$f":"IF(J1776=\"\",\"\",NETWORKDAYS(C1776+1,J1776,DiasNOLaborables))","v":-2},"",null,null,5]
[1766,20219910029892,"2021-05-26","ENTIDAD PÚBLICA","CORREO CERTIFICADO","SOLICITUD JUDICIAL","CERTIFICACIONES DE TIEMPO Y CLIMA","SI","SUBDIRECCIÓN DE METEOROLOGÍA","2021-05-27","CORREO ELECTRÓNICO",null,{"$f":"IFERROR(WORKDAY(C1777,S1776,DiasNOLaborables),\"\")","v":"2021-06-02"},{"$f":"+IF(C1777=\"\",\"\",IF(J1777=\"\",\"SIN RESPUESTA\",(IF(J1777<=M1777,\"A TIEMPO\",\"FUERA DE TIEMPO\"))))","v":"A TIEMPO"},{"$f":"IF(J1777=\"\",\"\",NETWORKDAYS(C1777+1,J1777,DiasNOLaborables))","v":1},"",null,null,5]
[1767,20219050064922,"2021-05-26","CIUDADANO","CORREO ELECTRÓNICO","SOLICITUD JUDICIAL","JURIDICO","SI","OFICINA ASESORA JURÍDICA","2021-05-27","CORREO ELECTRÓNICO",null,{"$f":"IFERROR(WORKDAY(C1778,S1777,DiasNOLaborables),\"\")","v":"2021-06-02"},{"$f":"+IF(C1778=\"\",\"\",IF(J1778=\"\",\"SIN RESPUESTA\",(IF(J1778<=M1778,\"A TIEMPO\",\"FUERA DE TIEMPO\"))))","v":"A TIEMPO"},{"$f":"IF(J1778=\"\",\"\",NETWORKDAYS(C1778+1,J1778,DiasNOLaborables))","v":1},"",null,null,5]
[1768,20219050064932,"2021-05-26","CIUDADANO","CORREO ELECTRÓNICO","SOLICITUD JUDICIAL","JURIDICO","SI","OFICINA ASESORA JURÍDICA","2021-05-26",null,null,{"$f":"IFERROR(WORKDAY(C1779,S1778,DiasNOLaborables),\"\")","v":"2021-06-02"},{"$f":"+IF(C1779=\"\",\"\",IF(J1779=\"\",\"SIN RESPUESTA\",(IF(J1779<=M1779,\"A TIEMPO\",\"FUERA DE TIEMPO\"))))","v":"A TIEMPO"},{"$f":"IF(J1779=\"\",\"\",NETWORKDAYS(C1779+1,J1779,DiasNOLaborables))","v":-2},"",null,null,20]
[1769,20219050064942,"2021-05-26","CIUDADANO","CORREO ELECTRÓNICO","SOLICITUD DE INFORMACIÓN Y DOCUMENTOS","INFORMES AMBIENTALES","SI","SUBDIRECCIÓN DE HIDROLOGÍA","2021-06-16","CORREO ELECTRÓNICO",null,{"$f":"IFERROR(WORKDAY(C1780,S1779,DiasNOLaborables),\"\")","v":"2021-06-25"},{"$f":"+IF(C1780=\"\",\"\",IF(J1780=\"\",\"SIN RESPUESTA\",(IF(J1780<=M1780,\"A TIEMPO\",\"FUERA DE TIEMPO\"))))","v":"A TIEMPO"},{"$f":"IF(J1780=\"\",\"\",NETWORKDAYS(C1780+1,J1780,DiasNOLaborables))","v":13},"",null,null,30]
[1770,20219910029952,"2021-05-26","CIUDADANO","CORREO CERTIFICADO","PETICIÓN","BOSQUES","SI","SUBDIRECCIÓN DE ECOSISTEMAS E INFORMACIÓN AMBIENTAL","2021-06-01","CORREO ELECTRÓNICO",null,{"$f":"IFERROR(WORKDAY(C1781,S1780,DiasNOLaborables),\"\")","v":"2021-07-12"},{"$f":"+IF(C1781=\"\",\"\",IF(J1781=\"\",\"SIN RESPUESTA\",(IF(J1781<=M1781,\"A TIEMPO\",\"FUERA DE TIEMPO\"))))","v":"A TIEMPO"},{"$f":"IF(J1781=\"\",\"\",NETWORKDAYS(C1781+1,J1781,DiasNOLaborables))","v":4},"",null,null,20]
[1771,20219050064812,"2021-05-26","CIUDADANO","MODULO CONTACTENOS","SOLICITUD DE INFORMACIÓN Y DOCUMENTOS","SOLICITUD DE INFORMACIÓN HIDROMETEOROLÓGICA","NO","GRUPO DE SERVICIO AL CIUDADANO ","2021-06-23","CORREO ELECTRÓNICO",null,{"$f":"IFERROR(WORKDAY(C1782,S1781,DiasNOLaborables),\"\")","v":"2021-06-25"},{"$f":"+IF(C1782=\"\",\"\",IF(J1782=\"\",\"SIN RESPUESTA\",(IF(J1782<=M1782,\"A TIEMPO\",\"FUERA DE TIEMPO\"))))","v":"A TIEMPO"},{"$f":"IF(J1782=\"\",\"\",NETWORKDAYS(C1782+1,J1782,DiasNOLaborables))","v":18},"",null,null,20]
[1772,20219050064842,"2021-05-26","CIUDADANO","MODULO CONTACTENOS","SOLICITUD DE INFORMACIÓN Y DOCUMENTOS","SOLICITUD DE INFORMACIÓN HIDROMETEOROLÓGICA","NO","GRUPO DE SERVICIO AL CIUDADANO ","2021-06-23","CORREO ELECTRÓNICO",null,{"$f":"IFERROR(WORKDAY(C1783,S1782,DiasNOLaborables),\"\")","v":"2021-06-25"},{"$f":"+IF(C1783=\"\",\"\",IF(J1783=\"\",\"SIN RESPUESTA\",(IF(J1783<=M1783,\"A TIEMPO\",\"FUERA DE TIEMPO\"))))","v":"A TIEMPO"},{"$f":"IF(J1783=\"\",\"\",NETWORKDAYS(C1783+1,J1783,DiasNOLaborables))","v":18},"",null,null,20]
[1773,20219050064852,"2021-05-26","CIUDADANO","MODULO CONTACTENOS","SOLICITUD DE INFORMACIÓN Y DOCUMENTOS","SOLICITUD DE INFORMACIÓN HIDROMETEOROLÓGICA","NO","GRUPO DE SERVICIO AL CIUDADANO ","2021-06-23","CORREO ELECTRÓNICO",null,{"$f":"IFERROR(WORKDAY(C1784,S1783,DiasNOLaborables),\"\")","v":"2021-06-25"},{"$f":"+IF(C1784=\"\",\"\",IF(J1784=\"\",\"SIN RESPUESTA\",(IF(J1784<=M1784,\"A TIEMPO\",\"FUERA DE TIEMPO\"))))","v":"A TIEMPO"},{"$f":"IF(J1784=\"\",\"\",NETWORKDAYS(C1784+1,J1784,DiasNOLaborables))","v":18},"",null,null,20]
[1774,20219050064902,"2021-05-26","CIUDADANO","MODULO CONTACTENOS","SOLICITUD DE INFORMACIÓN Y DOCUMENTOS","SOLICITUD DE INFORMACIÓN HIDROMETEOROLÓGICA","NO","GRUPO DE SERVICIO AL CIUDADANO ","2021-06-23","CORREO ELECTRÓNICO",null,{"$f":"IFERROR(WORKDAY(C1785,S1784,DiasNOLaborables),\"\")","v":"2021-06-25"},{"$f":"+IF(C1785=\"\",\"\",IF(J1785=\"\",\"SIN RESPUESTA\",(IF(J1785<=M1785,\"A TIEMPO\",\"FUERA DE TIEMPO\"))))","v":"A TIEMPO"},{"$f":"IF(J1785=\"\",\"\",NETWORKDAYS(C1785+1,J1785,DiasNOLaborables))","v":18},"",null,null,20]
[1775,20219050064952,"2021-05-26","CIUDADANO","MODULO CONTACTENOS","SOLICITUD DE INFORMACIÓN Y DOCUMENTOS","SOLICITUD DE INFORMACIÓN HIDROMETEOROLÓGICA","NO","GRUPO DE SERVICIO AL CIUDADANO ","2021-06-23","CORREO ELECTRÓNICO",null,{"$f":"IFERROR(WORKDAY(C1786,S1785,DiasNOLaborables),\"\")","v":"2021-06-25"},{"$f":"+IF(C1786=\"\",\"\",IF(J1786=\"\",\"SIN RESPUESTA\",(IF(J1786<=M1786,\"A TIEMPO\",\"FUERA DE TIEMPO\"))))","v":"A TIEMPO"},{"$f":"IF(J1786=\"\",\"\",NETWORKDAYS(C1786+1,J1786,DiasNOLaborables))","v":18},"",null,null,20]
[1776,20219050064962,"2021-05-26","CIUDADANO","MODULO CONTACTENOS","SOLICITUD DE INFORMACIÓN Y DOCUMENTOS","SOLICITUD DE INFORMACIÓN HIDROMETEOROLÓGICA","NO","GRUPO DE SERVICIO AL CIUDADANO ","2021-06-23","CORREO ELECTRÓNICO",null,{"$f":"IFERROR(WORKDAY(C1787,S1786,DiasNOLaborables),\"\")","v":"2021-06-25"},{"$f":"+IF(C1787=\"\",\"\",IF(J1787=\"\",\"SIN RESPUESTA\",(IF(J1787<=M1787,\"A TIEMPO\",\"FUERA DE TIEMPO\"))))","v":"A TIEMPO"},{"$f":"IF(J1787=\"\",\"\",NETWORKDAYS(C1787+1,J1787,DiasNOLaborables))","v":18},"",null,null,20]
[1777,20219050064972,"2021-05-26","CIUDADANO","MODULO CONTACTENOS","SOLICITUD DE INFORMACIÓN Y DOCUMENTOS","SOLICITUD DE INFORMACIÓN HIDROMETEOROLÓGICA","NO","GRUPO DE SERVICIO AL CIUDADANO ","2021-06-23","CORREO ELECTRÓNICO",null,{"$f":"IFERROR(WORKDAY(C1788,S1787,DiasNOLaborables),\"\")","v":"2021-06-25"},{"$f":"+IF(C1788=\"\",\"\",IF(J1788=\"\",\"SIN RESPUESTA\",(IF(J1788<=M1788,\"A TIEMPO\",\"FUERA DE TIEMPO\"))))","v":"A TIEMPO"},{"$f":"IF(J1788=\"\",\"\",NETWORKDAYS(C1788+1,J1788,DiasNOLaborables))","v":18},"",null,null,20]
[1778,20219050065022,"2021-05-27","CIUDADANO","MODULO CONTACTENOS","SOLICITUD DE INFORMACIÓN Y DOCUMENTOS","SOLICITUD DE INFORMACIÓN HIDROMETEOROLÓGICA","NO","GRUPO DE SERVICIO AL CIUDADANO ","2021-06-23","CORREO ELECTRÓNICO",null,{"$f":"IFERROR(WORKDAY(C1789,S1788,DiasNOLaborables),\"\")","v":"2021-06-28"},{"$f":"+IF(C1789=\"\",\"\",IF(J1789=\"\",\"SIN RESPUESTA\",(IF(J1789<=M1789,\"A TIEMPO\",\"FUERA DE TIEMPO\"))))","v":"A TIEMPO"},{"$f":"IF(J1789=\"\",\"\",NETWORKDAYS(C1789+1,J1789,DiasNOLaborables))","v":17},"",null,null,20]
[1779,20219050065042,"2021-05-27","CIUDADANO","MODULO CONTACTENOS","SOLICITUD DE INFORMACIÓN Y DOCUMENTOS","SOLICITUD DE INFORMACIÓN HIDROMETEOROLÓGICA","NO","GRUPO DE SERVICIO AL CIUDADANO ","2021-06-23","CORREO ELECTRÓNICO",null,{"$f":"IFERROR(WORKDAY(C1790,S1789,DiasNOLaborables),\"\")","v":"2021-06-28"},{"$f":"+IF(C1790=\"\",\"\",IF(J1790=\"\",\"SIN RESPUESTA\",(IF(J1790<=M1790,\"A TIEMPO\",\"FUERA DE TIEMPO\"))))","v":"A TIEMPO"},{"$f":"IF(J1790=\"\",\"\",NETWORKDAYS(C1790+1,J1790,DiasNOLaborables))","v":17},"",null,null,20]
[1780,20219050065072,"2021-05-27","ACADEMIA ","CORREO ELECTRÓNICO","SOLICITUD DE INFORMACIÓN Y DOCUMENTOS","SOLICITUD DE INFORMACIÓN HIDROMETEOROLÓGICA","NO","GRUPO DE SERVICIO AL CIUDADANO ","2021-06-23","CORREO ELECTRÓNICO",null,{"$f":"IFERROR(WORKDAY(C1791,S1790,DiasNOLaborables),\"\")","v":"2021-06-28"},{"$f":"+IF(C1791=\"\",\"\",IF(J1791=\"\",\"SIN RESPUESTA\",(IF(J1791<=M1791,\"A TIEMPO\",\"FUERA DE TIEMPO\"))))","v":"A TIEMPO"},{"$f":"IF(J1791=\"\",\"\",NETWORKDAYS([5]Hoja1!C1789+1,[5]Hoja1!P1789,DiasNOLaborables))","v":1},"",null,null,20]
[1781,20219050065152,"2021-05-27","ACADEMIA ","CORREO ELECTRÓNICO","SOLICITUD DE INFORMACIÓN Y DOCUMENTOS","SOLICITUD DE INFORMACIÓN HIDROMETEOROLÓGICA","NO","GRUPO DE SERVICIO AL CIUDADANO ","2021-06-23","CORREO ELECTRÓNICO",null,{"$f":"IFERROR(WORKDAY(C1792,S1791,DiasNOLaborables),\"\")","v":"2021-06-28"},{"$f":"+IF(C1792=\"\",\"\",IF(J1792=\"\",\"SIN RESPUESTA\",(IF(J1792<=M1792,\"A TIEMPO\",\"FUERA DE TIEMPO\"))))","v":"A TIEMPO"},{"$f":"IF(J1792=\"\",\"\",NETWORKDAYS(C1792+1,J1792,DiasNOLaborables))","v":17},"",null,null,20]
[1782,20219050065162,"2021-05-27","EMPRESA PRIVADA","CORREO ELECTRÓNICO","SOLICITUD DE INFORMACIÓN Y DOCUMENTOS","SOLICITUD DE INFORMACIÓN HIDROMETEOROLÓGICA","NO","GRUPO DE SERVICIO AL CIUDADANO ","2021-06-23","CORREO ELECTRÓNICO",null,{"$f":"IFERROR(WORKDAY(C1793,S1792,DiasNOLaborables),\"\")","v":"2021-06-28"},{"$f":"+IF(C1793=\"\",\"\",IF(J1793=\"\",\"SIN RESPUESTA\",(IF(J1793<=M1793,\"A TIEMPO\",\"FUERA DE TIEMPO\"))))","v":"A TIEMPO"},{"$f":"IF(J1793=\"\",\"\",NETWORKDAYS(C1793+1,J1793,DiasNOLaborables))","v":17},"",null,null,20]
[1783,20219050065202,"2021-05-27","EMPRESA PRIVADA","CORREO ELECTRÓNICO","SOLICITUD DE INFORMACIÓN Y DOCUMENTOS","SOLICITUD DE INFORMACIÓN HIDROMETEOROLÓGICA","NO","GRUPO DE SERVICIO AL CIUDADANO ","2021-06-23","CORREO ELECTRÓNICO",null,{"$f":"IFERROR(WORKDAY(C1794,S1793,DiasNOLaborables),\"\")","v":"2021-06-28"},{"$f":"+IF(C1794=\"\",\"\",IF(J1794=\"\",\"SIN RESPUESTA\",(IF(J1794<=M1794,\"A TIEMPO\",\"FUERA DE TIEMPO\"))))","v":"A TIEMPO"},{"$f":"IF(J1794=\"\",\"\",NETWORKDAYS(C1794+1,J1794,DiasNOLaborables))","v":17},"",null,null,20]
[1784,20219050065262,"2021-05-27","EMPRESA PRIVADA","CORREO ELECTRÓNICO","SOLICITUD DE INFORMACIÓN Y DOCUMENTOS","SOLICITUD DE INFORMACIÓN HIDROMETEOROLÓGICA","NO","GRUPO DE SERVICIO AL CIUDADANO ","2021-06-24","CORREO ELECTRÓNICO",null,{"$f":"IFERROR(WORKDAY(C1795,S1794,DiasNOLaborables),\"\")","v":"2021-06-28"},{"$f":"+IF(C1795=\"\",\"\",IF(J1795=\"\",\"SIN RESPUESTA\",(IF(J1795<=M1795,\"A TIEMPO\",\"FUERA DE TIEMPO\"))))","v":"A TIEMPO"},{"$f":"IF(J1795=\"\",\"\",NETWORKDAYS(C1795+1,J1795,DiasNOLaborables))","v":18},"",null,null,20]
[1785,20219050065352,"2021-05-27","ACADEMIA ","CORREO ELECTRÓNICO","SOLICITUD DE INFORMACIÓN Y DOCUMENTOS","SOLICITUD DE INFORMACIÓN HIDROMETEOROLÓGICA","NO","GRUPO DE SERVICIO AL CIUDADANO ","2021-06-24","CORREO ELECTRÓNICO",null,{"$f":"IFERROR(WORKDAY(C1796,S1795,DiasNOLaborables),\"\")","v":"2021-06-28"},{"$f":"+IF(C1796=\"\",\"\",IF(J1796=\"\",\"SIN RESPUESTA\",(IF(J1796<=M1796,\"A TIEMPO\",\"FUERA DE TIEMPO\"))))","v":"A TIEMPO"},{"$f":"IF(J1796=\"\",\"\",NETWORKDAYS(C1796+1,J1796,DiasNOLaborables))","v":18},"",null,null,20]
[1786,20219050065542,"2021-05-27","CIUDADANO","MODULO CONTACTENOS","SOLICITUD DE INFORMACIÓN Y DOCUMENTOS","SOLICITUD DE INFORMACIÓN HIDROMETEOROLÓGICA","NO","GRUPO DE SERVICIO AL CIUDADANO ","2021-06-24","CORREO ELECTRÓNICO",null,{"$f":"IFERROR(WORKDAY(C1797,S1796,DiasNOLaborables),\"\")","v":"2021-06-28"},{"$f":"+IF(C1797=\"\",\"\",IF(J1797=\"\",\"SIN RESPUESTA\",(IF(J1797<=M1797,\"A TIEMPO\",\"FUERA DE TIEMPO\"))))","v":"A TIEMPO"},{"$f":"IF(J1797=\"\",\"\",NETWORKDAYS(C1797+1,J1797,DiasNOLaborables))","v":18},"",null,null,20]
[1787,20219910030092,"2021-05-27","EMPRESA PRIVADA","CORREO CERTIFICADO","SOLICITUD DE INFORMACIÓN Y DOCUMENTOS","SUELOS Y TIERRAS","SI","GRUPO DE GESTIÓN DOCUMENTAL Y CENTRO DE DOCUMENTACIÓN","2021-05-31","CORREO ELECTRÓNICO",null,{"$f":"IFERROR(WORKDAY(C1798,S1797,DiasNOLaborables),\"\")","v":"2021-06-28"},{"$f":"+IF(C1798=\"\",\"\",IF(J1798=\"\",\"SIN RESPUESTA\",(IF(J1798<=M1798,\"A TIEMPO\",\"FUERA DE TIEMPO\"))))","v":"A TIEMPO"},{"$f":"IF(J1798=\"\",\"\",NETWORKDAYS(C1798+1,J1798,DiasNOLaborables))","v":2},"",null,null,20]
[1788,20219050065032,"2021-05-27","CIUDADANO","CORREO ELECTRÓNICO","SOLICITUD DE INFORMACIÓN Y DOCUMENTOS","CLIMATOLOGÍA","SI","SUBDIRECCIÓN DE HIDROLOGÍA","2021-06-08","CORREO ELECTRÓNICO",null,{"$f":"IFERROR(WORKDAY(C1799,S1798,DiasNOLaborables),\"\")","v":"2021-06-28"},{"$f":"+IF(C1799=\"\",\"\",IF(J1799=\"\",\"SIN RESPUESTA\",(IF(J1799<=M1799,\"A TIEMPO\",\"FUERA DE TIEMPO\"))))","v":"A TIEMPO"},{"$f":"IF(J1799=\"\",\"\",NETWORKDAYS(C1799+1,J1799,DiasNOLaborables))","v":7},"",null,null,35]
[1789,20219050065052,"2021-05-27","CIUDADANO","CORREO ELECTRÓNICO","CERTIFICACIONES DE TIEMPO, CLIMA Y EVENTOS HIDROLÓGICOS","CERTIFICACIONES DE TIEMPO Y CLIMA","SI","SUBDIRECCIÓN DE METEOROLOGÍA","2021-06-15","CORREO ELECTRÓNICO",null,{"$f":"IFERROR(WORKDAY(C1800,S1799,DiasNOLaborables),\"\")","v":"2021-07-21"},{"$f":"+IF(C1800=\"\",\"\",IF(J1800=\"\",\"SIN RESPUESTA\",(IF(J1800<=M1800,\"A TIEMPO\",\"FUERA DE TIEMPO\"))))","v":"A TIEMPO"},{"$f":"IF(J1800=\"\",\"\",NETWORKDAYS(C1800+1,J1800,DiasNOLaborables))","v":11},"",null,null,20]
[1790,20219050065102,"2021-05-27","CIUDADANO","CORREO ELECTRÓNICO","SOLICITUD DE INFORMACIÓN Y DOCUMENTOS","BOSQUES","SI","SUBDIRECCIÓN DE ECOSISTEMAS E INFORMACIÓN AMBIENTAL","2021-06-09","CORREO ELECTRÓNICO",null,{"$f":"IFERROR(WORKDAY(C1801,S1800,DiasNOLaborables),\"\")","v":"2021-06-28"},{"$f":"+IF(C1801=\"\",\"\",IF(J1801=\"\",\"SIN RESPUESTA\",(IF(J1801<=M1801,\"A TIEMPO\",\"FUERA DE TIEMPO\"))))","v":"A TIEMPO"},{"$f":"IF(J1801=\"\",\"\",NETWORKDAYS(C1801+1,J1801,DiasNOLaborables))","v":8},"",null,null,20]
[1791,20219050065302,"2021-05-27","CIUDADANO","CORREO ELECTRÓNICO","SOLICITUD DE INFORMACIÓN Y DOCUMENTOS","ADMINISTRATIVA","SI","GRUPO DE ADMINISTRACIÓN Y DESARROLLO DEL TALENTO HUMANO","2021-06-09","CORREO ELECTRÓNICO",null,{"$f":"IFERROR(WORKDAY(C1802,S1801,DiasNOLaborables),\"\")","v":"2021-06-28"},{"$f":"+IF(C1802=\"\",\"\",IF(J1802=\"\",\"SIN RESPUESTA\",(IF(J1802<=M1802,\"A TIEMPO\",\"FUERA DE TIEMPO\"))))","v":"A TIEMPO"},{"$f":"IF(J1802=\"\",\"\",NETWORKDAYS(C1802+1,J1802,DiasNOLaborables))","v":8},"",null,null,35]
[1792,20219050065232,"2021-05-27","CIUDADANO","CORREO ELECTRÓNICO","CERTIFICACIONES DE TIEMPO, CLIMA Y EVENTOS HIDROLÓGICOS","CERTIFICACIONES DE TIEMPO Y CLIMA","SI","SUBDIRECCIÓN DE METEOROLOGÍA","2021-06-15","CORREO ELECTRÓNICO",null,{"$f":"IFERROR(WORKDAY(C1803,S1802,DiasNOLaborables),\"\")","v":"2021-07-21"},{"$f":"+IF(C1803=\"\",\"\",IF(J1803=\"\",\"SIN RESPUESTA\",(IF(J1803<=M1803,\"A TIEMPO\",\"FUERA DE TIEMPO\"))))","v":"A TIEMPO"},{"$f":"IF(J1803=\"\",\"\",NETWORKDAYS(C1803+1,J1803,DiasNOLaborables))","v":11},"",null,null,20]
[1793,20219050065252,"2021-05-27","CIUDADANO","CORREO ELECTRÓNICO","SOLICITUD DE INFORMACIÓN Y DOCUMENTOS","ADMINISTRATIVA","SI","GRUPO DE ADMINISTRACIÓN Y DESARROLLO DEL TALENTO HUMANO","2021-05-31","CORREO ELECTRÓNICO",null,{"$f":"IFERROR(WORKDAY(C1804,S1803,DiasNOLaborables),\"\")","v":"2021-06-28"},{"$f":"+IF(C1804=\"\",\"\",IF(J1804=\"\",\"SIN RESPUESTA\",(IF(J1804<=M1804,\"A TIEMPO\",\"FUERA DE TIEMPO\"))))","v":"A TIEMPO"},{"$f":"IF(J1804=\"\",\"\",NETWORKDAYS(C1804+1,J1804,DiasNOLaborables))","v":2},"",null,null,20]
[1794,20219050065292,"2021-05-27","CIUDADANO","CORREO ELECTRÓNICO","SOLICITUD DE INFORMACIÓN Y DOCUMENTOS","REGISTROS AMBIENTALES","SI","SUBDIRECCIÓN DE ESTUDIOS AMBIENTALES","2021-06-11","CORREO ELECTRÓNICO",null,{"$f":"IFERROR(WORKDAY(C1805,S1804,DiasNOLaborables),\"\")","v":"2021-06-28"},{"$f":"+IF(C1805=\"\",\"\",IF(J1805=\"\",\"SIN RESPUESTA\",(IF(J1805<=M1805,\"A TIEMPO\",\"FUERA DE TIEMPO\"))))","v":"A TIEMPO"},{"$f":"IF(J1805=\"\",\"\",NETWORKDAYS(C1805+1,J1805,DiasNOLaborables))","v":10},"",null,null,{"$f":"IFERROR(VLOOKUP(F1806,$AA$51:$AB$64,2),\"\")","v":5}]
[{"$f":"IF(B1806<>\"\",A1805+1,\"\")","v":1795},20219050065482,"2021-05-27","CIUDADANO","CORREO ELECTRÓNICO","SOLICITUD JUDICIAL","PRONÓSTICOS Y ALERTAS","SI","OFICINA ASESORA JURÍDICA","2021-06-09","CORREO ELECTRÓNICO",null,{"$f":"IFERROR(WORKDAY(C1806,S1805,DiasNOLaborables),\"\")","v":"2021-06-03"},{"$f":"+IF(C1806=\"\",\"\",IF(J1806=\"\",\"SIN RESPUESTA\",(IF(J1806<=M1806,\"A TIEMPO\",\"FUERA DE TIEMPO\"))))","v":"FUERA DE TIEMPO"},{"$f":"IF(J1806=\"\",\"\",NETWORKDAYS(C1806+1,J1806,DiasNOLaborables))","v":8},3,null,null,35]
[1796,20219050065582,"2021-05-27","CIUDADANO","CORREO ELECTRÓNICO","CERTIFICACIONES DE TIEMPO, CLIMA Y EVENTOS HIDROLÓGICOS","CERTIFICACIONES DE TIEMPO Y CLIMA","SI","SUBDIRECCIÓN DE METEOROLOGÍA","2021-06-11","CORREO ELECTRÓNICO",null,{"$f":"IFERROR(WORKDAY(C1807,S1806,DiasNOLaborables),\"\")","v":"2021-07-21"},{"$f":"+IF(C1807=\"\",\"\",IF(J1807=\"\",\"SIN RESPUESTA\",(IF(J1807<=M1807,\"A TIEMPO\",\"FUERA DE TIEMPO\"))))","v":"A TIEMPO"},{"$f":"IF(J1807=\"\",\"\",NETWORKDAYS(C1807+1,J1807,DiasNOLaborables))","v":10},"",null,null,35]
[1797,20219050065592,"2021-05-27","CIUDADANO","CORREO ELECTRÓNICO","CERTIFICACIONES DE TIEMPO, CLIMA Y EVENTOS HIDROLÓGICOS","CERTIFICACIONES DE TIEMPO Y CLIMA","SI","SUBDIRECCIÓN DE METEOROLOGÍA","2021-06-11","CORREO ELECTRÓNICO",null,{"$f":"IFERROR(WORKDAY(C1808,S1807,DiasNOLaborables),\"\")","v":"2021-07-21"},{"$f":"+IF(C1808=\"\",\"\",IF(J1808=\"\",\"SIN RESPUESTA\",(IF(J1808<=M1808,\"A TIEMPO\",\"FUERA DE TIEMPO\"))))","v":"A TIEMPO"},{"$f":"IF(J1808=\"\",\"\",NETWORKDAYS(C1808+1,J1808,DiasNOLaborables))","v":10},"",null,null,20]
[1798,20219050065612,"2021-05-27","CIUDADANO","CORREO ELECTRÓNICO","SOLICITUD DE INFORMACIÓN Y DOCUMENTOS","BOSQUES","SI","SUBDIRECCIÓN DE ECOSISTEMAS E INFORMACIÓN AMBIENTAL","2021-06-09","CORREO ELECTRÓNICO",null,{"$f":"IFERROR(WORKDAY(C1809,S1808,DiasNOLaborables),\"\")","v":"2021-06-28"},{"$f":"+IF(C1809=\"\",\"\",IF(J1809=\"\",\"SIN RESPUESTA\",(IF(J1809<=M1809,\"A TIEMPO\",\"FUERA DE TIEMPO\"))))","v":"A TIEMPO"},{"$f":"IF(J1809=\"\",\"\",NETWORKDAYS(C1809+1,J1809,DiasNOLaborables))","v":8},"",null,null,35]
[1799,20219050064992,"2021-05-27","CIUDADANO","MODULO CONTACTENOS","CERTIFICACIONES DE TIEMPO, CLIMA Y EVENTOS HIDROLÓGICOS","CERTIFICACIONES DE TIEMPO Y CLIMA","SI","SUBDIRECCIÓN DE METEOROLOGÍA","2021-06-15","CORREO ELECTRÓNICO",null,{"$f":"IFERROR(WORKDAY(C1810,S1809,DiasNOLaborables),\"\")","v":"2021-07-21"},{"$f":"+IF(C1810=\"\",\"\",IF(J1810=\"\",\"SIN RESPUESTA\",(IF(J1810<=M1810,\"A TIEMPO\",\"FUERA DE TIEMPO\"))))","v":"A TIEMPO"},{"$f":"IF(J1810=\"\",\"\",NETWORKDAYS(C1810+1,J1810,DiasNOLaborables))","v":11},"",null,null,20]
[1800,20219050065062,"2021-05-27","EMPRESA PRIVADA","MODULO CONTACTENOS","SOLICITUD DE INFORMACIÓN Y DOCUMENTOS","REGISTROS AMBIENTALES","SI","SUBDIRECCIÓN DE ESTUDIOS AMBIENTALES","2021-06-11","CORREO ELECTRÓNICO",null,{"$f":"IFERROR(WORKDAY(C1811,S1810,DiasNOLaborables),\"\")","v":"2021-06-28"},{"$f":"+IF(C1811=\"\",\"\",IF(J1811=\"\",\"SIN RESPUESTA\",(IF(J1811<=M1811,\"A TIEMPO\",\"FUERA DE TIEMPO\"))))","v":"A TIEMPO"},{"$f":"IF(J1811=\"\",\"\",NETWORKDAYS(C1811+1,J1811,DiasNOLaborables))","v":10},"",null,null,20]
[1801,20219050065092,"2021-05-27","CIUDADANO","CORREO ELECTRÓNICO","SOLICITUD DE INFORMACIÓN Y DOCUMENTOS","CLIMATOLOGÍA","SI","SUBDIRECCIÓN DE METEOROLOGÍA","2021-06-08","CORREO ELECTRÓNICO",null,{"$f":"IFERROR(WORKDAY(C1812,S1811,DiasNOLaborables),\"\")","v":"2021-06-28"},{"$f":"+IF(C1812=\"\",\"\",IF(J1812=\"\",\"SIN RESPUESTA\",(IF(J1812<=M1812,\"A TIEMPO\",\"FUERA DE TIEMPO\"))))","v":"A TIEMPO"},{"$f":"IF(J1812=\"\",\"\",NETWORKDAYS(C1812+1,J1812,DiasNOLaborables))","v":7},"",null,null,20]
[1802,20219050065122,"2021-05-27","CIUDADANO","CORREO ELECTRÓNICO","SOLICITUD DE INFORMACIÓN Y DOCUMENTOS","ACREDITACIÓN DE LABORATORIOS","SI","SUBDIRECCIÓN DE ESTUDIOS AMBIENTALES","2021-06-04","CORREO ELECTRÓNICO",null,{"$f":"IFERROR(WORKDAY(C1813,S1812,DiasNOLaborables),\"\")","v":"2021-06-28"},{"$f":"+IF(C1813=\"\",\"\",IF(J1813=\"\",\"SIN RESPUESTA\",(IF(J1813<=M1813,\"A TIEMPO\",\"FUERA DE TIEMPO\"))))","v":"A TIEMPO"},{"$f":"IF(J1813=\"\",\"\",NETWORKDAYS(C1813+1,J1813,DiasNOLaborables))","v":6},"",null,null,20]
[1803,20219050065172,"2021-05-27","CIUDADANO","CORREO ELECTRÓNICO","SOLICITUD DE INFORMACIÓN Y DOCUMENTOS","ADMINISTRATIVA","SI","GRUPO DE ADMINISTRACIÓN Y DESARROLLO DEL TALENTO HUMANO","2021-05-31","CORREO ELECTRÓNICO",null,{"$f":"IFERROR(WORKDAY(C1814,S1813,DiasNOLaborables),\"\")","v":"2021-06-28"},{"$f":"+IF(C1814=\"\",\"\",IF(J1814=\"\",\"SIN RESPUESTA\",(IF(J1814<=M1814,\"A TIEMPO\",\"FUERA DE TIEMPO\"))))","v":"A TIEMPO"},{"$f":"IF(J1814=\"\",\"\",NETWORKDAYS(C1814+1,J1814,DiasNOLaborables))","v":2},"",null,null,20]
[1804,20219050065182,"2021-05-27","CIUDADANO","CORREO ELECTRÓNICO","SOLICITUD DE INFORMACIÓN Y DOCUMENTOS","CLIMATOLOGÍA","SI","SUBDIRECCIÓN DE METEOROLOGÍA","2021-06-03","CORREO ELECTRÓNICO",null,{"$f":"IFERROR(WORKDAY(C1815,S1814,DiasNOLaborables),\"\")","v":"2021-06-28"},{"$f":"+IF(C1815=\"\",\"\",IF(J1815=\"\",\"SIN RESPUESTA\",(IF(J1815<=M1815,\"A TIEMPO\",\"FUERA DE TIEMPO\"))))","v":"A TIEMPO"},{"$f":"IF(J1815=\"\",\"\",NETWORKDAYS(C1815+1,J1815,DiasNOLaborables))","v":5},"",null,null,20]
[1805,20219050065192,"2021-05-27","FUNCIONARIO IDEAM","CORREO ELECTRÓNICO","SOLICITUD DE INFORMACIÓN Y DOCUMENTOS","ADMINISTRATIVA","SI","GRUPO DE TESORERÍA","2021-06-01","CORREO ELECTRÓNICO",null,{"$f":"IFERROR(WORKDAY(C1816,S1815,DiasNOLaborables),\"\")","v":"2021-06-28"},{"$f":"+IF(C1816=\"\",\"\",IF(J1816=\"\",\"SIN RESPUESTA\",(IF(J1816<=M1816,\"A TIEMPO\",\"FUERA DE TIEMPO\"))))","v":"A TIEMPO"},{"$f":"IF(J1816=\"\",\"\",NETWORKDAYS(C1816+1,J1816,DiasNOLaborables))","v":3},"",null,null,20]
[1806,20219050065212,"2021-05-27","CIUDADANO","CORREO ELECTRÓNICO","SOLICITUD DE INFORMACIÓN Y DOCUMENTOS","ADMINISTRATIVA","SI","GRUPO DE TESORERÍA","2021-06-01","CORREO ELECTRÓNICO",null,{"$f":"IFERROR(WORKDAY(C1817,S1816,DiasNOLaborables),\"\")","v":"2021-06-28"},{"$f":"+IF(C1817=\"\",\"\",IF(J1817=\"\",\"SIN RESPUESTA\",(IF(J1817<=M1817,\"A TIEMPO\",\"FUERA DE TIEMPO\"))))","v":"A TIEMPO"},{"$f":"IF(J1817=\"\",\"\",NETWORKDAYS(C1817+1,J1817,DiasNOLaborables))","v":3},"",null,null,20]
[1807,20219050065242,"2021-05-27","CIUDADANO","CORREO ELECTRÓNICO","SOLICITUD DE INFORMACIÓN Y DOCUMENTOS","INFORMES AMBIENTALES","SI","SUBDIRECCIÓN DE ESTUDIOS AMBIENTALES","2021-06-01","CORREO ELECTRÓNICO",null,{"$f":"IFERROR(WORKDAY(C1818,S1817,DiasNOLaborables),\"\")","v":"2021-06-28"},{"$f":"+IF(C1818=\"\",\"\",IF(J1818=\"\",\"SIN RESPUESTA\",(IF(J1818<=M1818,\"A TIEMPO\",\"FUERA DE TIEMPO\"))))","v":"A TIEMPO"},{"$f":"IF(J1818=\"\",\"\",NETWORKDAYS(C1818+1,J1818,DiasNOLaborables))","v":3},"",null,null,20]
[1808,20219050065272,"2021-05-27","CIUDADANO","CORREO ELECTRÓNICO","SOLICITUD DE INFORMACIÓN Y DOCUMENTOS","ADMINISTRATIVA","SI","GRUPO DE TESORERÍA","2021-06-01","CORREO ELECTRÓNICO",null,{"$f":"IFERROR(WORKDAY(C1819,S1818,DiasNOLaborables),\"\")","v":"2021-06-28"},{"$f":"+IF(C1819=\"\",\"\",IF(J1819=\"\",\"SIN RESPUESTA\",(IF(J1819<=M1819,\"A TIEMPO\",\"FUERA DE TIEMPO\"))))","v":"A TIEMPO"},{"$f":"IF(J1819=\"\",\"\",NETWORKDAYS(C1819+1,J1819,DiasNOLaborables))","v":3},"",null,null,20]
[1809,20219050065282,"2021-05-27","CIUDADANO","CORREO ELECTRÓNICO","SOLICITUD DE INFORMACIÓN Y DOCUMENTOS","CLIMATOLOGÍA","SI","SUBDIRECCIÓN DE METEOROLOGÍA","2021-05-27","CORREO ELECTRÓNICO",null,{"$f":"IFERROR(WORKDAY(C1820,S1819,DiasNOLaborables),\"\")","v":"2021-06-28"},{"$f":"+IF(C1820=\"\",\"\",IF(J1820=\"\",\"SIN RESPUESTA\",(IF(J1820<=M1820,\"A TIEMPO\",\"FUERA DE TIEMPO\"))))","v":"A TIEMPO"},{"$f":"IF(J1820=\"\",\"\",NETWORKDAYS(C1820+1,J1820,DiasNOLaborables))","v":-2},"",null,null,35]
[1810,20219050065332,"2021-05-27","CIUDADANO","CORREO ELECTRÓNICO","CERTIFICACIONES DE TIEMPO, CLIMA Y EVENTOS HIDROLÓGICOS","CERTIFICACIONES DE TIEMPO Y CLIMA","SI","SUBDIRECCIÓN DE METEOROLOGÍA","2021-06-15","CORREO ELECTRÓNICO",null,{"$f":"IFERROR(WORKDAY(C1821,S1820,DiasNOLaborables),\"\")","v":"2021-07-21"},{"$f":"+IF(C1821=\"\",\"\",IF(J1821=\"\",\"SIN RESPUESTA\",(IF(J1821<=M1821,\"A TIEMPO\",\"FUERA DE TIEMPO\"))))","v":"A TIEMPO"},{"$f":"IF(J1821=\"\",\"\",NETWORKDAYS(C1821+1,J1821,DiasNOLaborables))","v":11},"",null,null,20]
[1811,20219050065342,"2021-05-27","CIUDADANO","CORREO ELECTRÓNICO","SOLICITUD DE INFORMACIÓN Y DOCUMENTOS","SIRH","SI","SUBDIRECCIÓN DE HIDROLOGÍA","2021-05-27","CORREO ELECTRÓNICO",null,{"$f":"IFERROR(WORKDAY(C1822,S1821,DiasNOLaborables),\"\")","v":"2021-06-28"},{"$f":"+IF(C1822=\"\",\"\",IF(J1822=\"\",\"SIN RESPUESTA\",(IF(J1822<=M1822,\"A TIEMPO\",\"FUERA DE TIEMPO\"))))","v":"A TIEMPO"},{"$f":"IF(J1822=\"\",\"\",NETWORKDAYS(C1822+1,J1822,DiasNOLaborables))","v":-2},"",null,null,35]
[1812,20219050065372,"2021-05-27","CIUDADANO","CORREO ELECTRÓNICO","CERTIFICACIONES DE TIEMPO, CLIMA Y EVENTOS HIDROLÓGICOS","CERTIFICACIONES DE TIEMPO Y CLIMA","SI","SUBDIRECCIÓN DE METEOROLOGÍA","2021-06-23","CORREO ELECTRÓNICO",null,{"$f":"IFERROR(WORKDAY(C1823,S1822,DiasNOLaborables),\"\")","v":"2021-07-21"},{"$f":"+IF(C1823=\"\",\"\",IF(J1823=\"\",\"SIN RESPUESTA\",(IF(J1823<=M1823,\"A TIEMPO\",\"FUERA DE TIEMPO\"))))","v":"A TIEMPO"},{"$f":"IF(J1823=\"\",\"\",NETWORKDAYS(C1823+1,J1823,DiasNOLaborables))","v":17},"",null,null,20]
[1813,20219050065402,"2021-05-27","CIUDADANO","MODULO CONTACTENOS","SOLICITUD DE INFORMACIÓN Y DOCUMENTOS","BOSQUES","SI","SUBDIRECCIÓN DE ECOSISTEMAS E INFORMACIÓN AMBIENTAL","2021-06-23","CORREO ELECTRÓNICO",null,{"$f":"IFERROR(WORKDAY(C1824,S1823,DiasNOLaborables),\"\")","v":"2021-06-28"},{"$f":"+IF(C1824=\"\",\"\",IF(J1824=\"\",\"SIN RESPUESTA\",(IF(J1824<=M1824,\"A TIEMPO\",\"FUERA DE TIEMPO\"))))","v":"A TIEMPO"},{"$f":"IF(J1824=\"\",\"\",NETWORKDAYS(C1824+1,J1824,DiasNOLaborables))","v":17},"",null,null,20]
[1814,20219050065442,"2021-05-27","CIUDADANO","CORREO ELECTRÓNICO","SOLICITUD DE INFORMACIÓN Y DOCUMENTOS","LABORATORIO DE CALIDAD AMBIENTAL","SI","SUBDIRECCIÓN DE HIDROLOGÍA","2021-06-09","CORREO ELECTRÓNICO",null,{"$f":"IFERROR(WORKDAY(C1825,S1824,DiasNOLaborables),\"\")","v":"2021-06-28"},{"$f":"+IF(C1825=\"\",\"\",IF(J1825=\"\",\"SIN RESPUESTA\",(IF(J1825<=M1825,\"A TIEMPO\",\"FUERA DE TIEMPO\"))))","v":"A TIEMPO"},{"$f":"IF(J1825=\"\",\"\",NETWORKDAYS(C1825+1,J1825,DiasNOLaborables))","v":8},"",null,null,20]
[1815,20219050065462,"2021-05-27","CIUDADANO","CORREO ELECTRÓNICO","SOLICITUD DE INFORMACIÓN Y DOCUMENTOS","LABORATORIO DE CALIDAD AMBIENTAL","SI","SUBDIRECCIÓN DE HIDROLOGÍA","2021-06-09","CORREO ELECTRÓNICO",null,{"$f":"IFERROR(WORKDAY(C1826,S1825,DiasNOLaborables),\"\")","v":"2021-06-28"},{"$f":"+IF(C1826=\"\",\"\",IF(J1826=\"\",\"SIN RESPUESTA\",(IF(J1826<=M1826,\"A TIEMPO\",\"FUERA DE TIEMPO\"))))","v":"A TIEMPO"},{"$f":"IF(J1826=\"\",\"\",NETWORKDAYS(C1826+1,J1826,DiasNOLaborables))","v":8},{"$f":"IF(NETWORKDAYS(M1826+1,J1826,DiasNOLaborables)<=0,\"\",NETWORKDAYS(M1826+1,J1826,DiasNOLaborables))","v":""},null,null,20]
[1816,20219050065472,"2021-05-27","EMPRESA PRIVADA","CORREO ELECTRÓNICO","SOLICITUD DE INFORMACIÓN Y DOCUMENTOS","CLIMATOLOGÍA","SI","SUBDIRECCIÓN DE METEOROLOGÍA","2021-06-17","CORREO ELECTRÓNICO",null,{"$f":"IFERROR(WORKDAY(C1827,S1826,DiasNOLaborables),\"\")","v":"2021-06-28"},{"$f":"+IF(C1827=\"\",\"\",IF(J1827=\"\",\"SIN RESPUESTA\",(IF(J1827<=M1827,\"A TIEMPO\",\"FUERA DE TIEMPO\"))))","v":"A TIEMPO"},{"$f":"IF(J1827=\"\",\"\",NETWORKDAYS(C1827+1,J1827,DiasNOLaborables))","v":13},"",null,null,30]
[1817,20219050065572,"2021-05-27","CIUDADANO","CORREO ELECTRÓNICO","PETICIÓN","SIRH","SI","SUBDIRECCIÓN DE HIDROLOGÍA","2021-06-11","CORREO ELECTRÓNICO",null,{"$f":"IFERROR(WORKDAY(C1828,S1827,DiasNOLaborables),\"\")","v":"2021-07-13"},{"$f":"+IF(C1828=\"\",\"\",IF(J1828=\"\",\"SIN RESPUESTA\",(IF(J1828<=M1828,\"A TIEMPO\",\"FUERA DE TIEMPO\"))))","v":"A TIEMPO"},{"$f":"IF(J1828=\"\",\"\",NETWORKDAYS([5]Hoja1!C1826+1,[5]Hoja1!P1826,DiasNOLaborables))","v":6},"",null,null,30]
[1818,20219050065602,"2021-05-27","ENTIDAD PÚBLICA","CORREO ELECTRÓNICO","PETICIÓN","ADMINISTRATIVA","SI","OFICINA ASESORA DE PLANEACIÓN","2021-06-16","CORREO ELECTRÓNICO",null,{"$f":"IFERROR(WORKDAY(C1829,S1828,DiasNOLaborables),\"\")","v":"2021-07-13"},{"$f":"+IF(C1829=\"\",\"\",IF(J1829=\"\",\"SIN RESPUESTA\",(IF(J1829<=M1829,\"A TIEMPO\",\"FUERA DE TIEMPO\"))))","v":"A TIEMPO"},{"$f":"IF(J1829=\"\",\"\",NETWORKDAYS(C1829+1,J1829,DiasNOLaborables))","v":12},"",null,null,35]
[1819,20219050065632,"2021-05-27","CIUDADANO","CORREO ELECTRÓNICO","CERTIFICACIONES DE TIEMPO, CLIMA Y EVENTOS HIDROLÓGICOS","CERTIFICACIONES DE TIEMPO Y CLIMA","SI","SUBDIRECCIÓN DE METEOROLOGÍA","2021-06-23","CORREO ELECTRÓNICO",null,{"$f":"IFERROR(WORKDAY(C1830,S1829,DiasNOLaborables),\"\")","v":"2021-07-21"},{"$f":"+IF(C1830=\"\",\"\",IF(J1830=\"\",\"SIN RESPUESTA\",(IF(J1830<=M1830,\"A TIEMPO\",\"FUERA DE TIEMPO\"))))","v":"A TIEMPO"},{"$f":"IF(J1830=\"\",\"\",NETWORKDAYS(C1830+1,J1830,DiasNOLaborables))","v":17},"",null,null,20]
[1820,20219050065682,"2021-05-27","CIUDADANO","CORREO ELECTRÓNICO","SOLICITUD DE INFORMACIÓN Y DOCUMENTOS","REGISTROS AMBIENTALES","SI","SUBDIRECCIÓN DE ESTUDIOS AMBIENTALES","2021-05-27","CORREO ELECTRÓNICO",null,{"$f":"IFERROR(WORKDAY(C1831,S1830,DiasNOLaborables),\"\")","v":"2021-06-28"},{"$f":"+IF(C1831=\"\",\"\",IF(J1831=\"\",\"SIN RESPUESTA\",(IF(J1831<=M1831,\"A TIEMPO\",\"FUERA DE TIEMPO\"))))","v":"A TIEMPO"},{"$f":"IF(J1831=\"\",\"\",NETWORKDAYS(C1831+1,J1831,DiasNOLaborables))","v":-2},"",null,null,35]
[1821,20219050065392,"2021-05-27","CIUDADANO","MODULO CONTACTENOS","CERTIFICACIONES DE TIEMPO, CLIMA Y EVENTOS HIDROLÓGICOS","CERTIFICACIONES DE TIEMPO Y CLIMA","SI","SUBDIRECCIÓN DE METEOROLOGÍA","2021-07-01","CORREO ELECTRÓNICO",null,{"$f":"IFERROR(WORKDAY(C1832,S1831,DiasNOLaborables),\"\")","v":"2021-07-21"},{"$f":"+IF(C1832=\"\",\"\",IF(J1832=\"\",\"SIN RESPUESTA\",(IF(J1832<=M1832,\"A TIEMPO\",\"FUERA DE TIEMPO\"))))","v":"A TIEMPO"},{"$f":"IF(J1832=\"\",\"\",NETWORKDAYS(C1832+1,J1832,DiasNOLaborables))","v":23},"",null,null,35]
[1822,20219050065412,"2021-05-27","CIUDADANO","MODULO CONTACTENOS","CERTIFICACIONES DE TIEMPO, CLIMA Y EVENTOS HIDROLÓGICOS","CERTIFICACIONES DE TIEMPO Y CLIMA","SI","SUBDIRECCIÓN DE METEOROLOGÍA","2021-07-01","CORREO ELECTRÓNICO",null,{"$f":"IFERROR(WORKDAY(C1833,S1832,DiasNOLaborables),\"\")","v":"2021-07-21"},{"$f":"+IF(C1833=\"\",\"\",IF(J1833=\"\",\"SIN RESPUESTA\",(IF(J1833<=M1833,\"A TIEMPO\",\"FUERA DE TIEMPO\"))))","v":"A TIEMPO"},{"$f":"IF(J1833=\"\",\"\",NETWORKDAYS(C1833+1,J1833,DiasNOLaborables))","v":23},"",null,null,20]
[1823,20219050065642,"2021-05-27","CIUDADANO","MODULO CONTACTENOS","SOLICITUD DE INFORMACIÓN Y DOCUMENTOS","ADMINISTRATIVA","SI","GRUPO DE ADMINISTRACIÓN Y DESARROLLO DEL TALENTO HUMANO","2021-05-28","CORREO ELECTRÓNICO",null,{"$f":"IFERROR(WORKDAY(C1834,S1833,DiasNOLaborables),\"\")","v":"2021-06-28"},{"$f":"+IF(C1834=\"\",\"\",IF(J1834=\"\",\"SIN RESPUESTA\",(IF(J1834<=M1834,\"A TIEMPO\",\"FUERA DE TIEMPO\"))))","v":"A TIEMPO"},{"$f":"IF(J1834=\"\",\"\",NETWORKDAYS(C1834+1,J1834,DiasNOLaborables))","v":1},"",null,null,35]
[1824,20219050065692,"2021-05-27","CIUDADANO","MODULO CONTACTENOS","CERTIFICACIONES DE TIEMPO, CLIMA Y EVENTOS HIDROLÓGICOS","CERTIFICACIONES DE TIEMPO Y CLIMA","SI","SUBDIRECCIÓN DE METEOROLOGÍA","2021-06-24","CORREO ELECTRÓNICO",null,{"$f":"IFERROR(WORKDAY(C1835,S1834,DiasNOLaborables),\"\")","v":"2021-07-21"},{"$f":"+IF(C1835=\"\",\"\",IF(J1835=\"\",\"SIN RESPUESTA\",(IF(J1835<=M1835,\"A TIEMPO\",\"FUERA DE TIEMPO\"))))","v":"A TIEMPO"},{"$f":"IF(J1835=\"\",\"\",NETWORKDAYS(C1835+1,J1835,DiasNOLaborables))","v":18},"",null,null,35]
[1825,20219050065812,"2021-05-27","EMPRESA PRIVADA","CORREO ELECTRÓNICO","CERTIFICACIONES DE TIEMPO, CLIMA Y EVENTOS HIDROLÓGICOS","CERTIFICACIONES DE TIEMPO Y CLIMA","SI","SUBDIRECCIÓN DE METEOROLOGÍA","2021-06-18","CORREO ELECTRÓNICO",null,{"$f":"IFERROR(WORKDAY(C1836,S1835,DiasNOLaborables),\"\")","v":"2021-07-21"},{"$f":"+IF(C1836=\"\",\"\",IF(J1836=\"\",\"SIN RESPUESTA\",(IF(J1836<=M1836,\"A TIEMPO\",\"FUERA DE TIEMPO\"))))","v":"A TIEMPO"},{"$f":"IF(J1836=\"\",\"\",NETWORKDAYS(C1836+1,J1836,DiasNOLaborables))","v":14},"",null,null,20]
[1826,20219050065112,"2021-05-27","ACADEMIA ","MODULO CONTACTENOS","SOLICITUD DE INFORMACIÓN Y DOCUMENTOS","SOLICITUD DE INFORMACIÓN HIDROMETEOROLÓGICA","NO","GRUPO DE SERVICIO AL CIUDADANO ","2021-06-10","CORREO ELECTRÓNICO",null,{"$f":"IFERROR(WORKDAY(C1837,S1836,DiasNOLaborables),\"\")","v":"2021-06-28"},{"$f":"+IF(C1837=\"\",\"\",IF(J1837=\"\",\"SIN RESPUESTA\",(IF(J1837<=M1837,\"A TIEMPO\",\"FUERA DE TIEMPO\"))))","v":"A TIEMPO"},{"$f":"IF(J1837=\"\",\"\",NETWORKDAYS(C1837+1,J1837,DiasNOLaborables))","v":9},"",null,null,20]
[1827,20219050065132,"2021-05-27","CIUDADANO","MODULO CONTACTENOS","SOLICITUD DE INFORMACIÓN Y DOCUMENTOS","SOLICITUD DE INFORMACIÓN HIDROMETEOROLÓGICA","NO","GRUPO DE SERVICIO AL CIUDADANO ","2021-06-25","CORREO ELECTRÓNICO",null,{"$f":"IFERROR(WORKDAY(C1838,S1837,DiasNOLaborables),\"\")","v":"2021-06-28"},{"$f":"+IF(C1838=\"\",\"\",IF(J1838=\"\",\"SIN RESPUESTA\",(IF(J1838<=M1838,\"A TIEMPO\",\"FUERA DE TIEMPO\"))))","v":"A TIEMPO"},{"$f":"IF(J1838=\"\",\"\",NETWORKDAYS(C1838+1,J1838,DiasNOLaborables))","v":19},"",null,null,20]
[1828,20219050065142,"2021-05-27","ACADEMIA","MODULO CONTACTENOS","SOLICITUD DE INFORMACIÓN Y DOCUMENTOS","SOLICITUD DE INFORMACIÓN HIDROMETEOROLÓGICA","NO","GRUPO DE SERVICIO AL CIUDADANO ","2021-06-25","CORREO ELECTRÓNICO",null,{"$f":"IFERROR(WORKDAY(C1839,S1838,DiasNOLaborables),\"\")","v":"2021-06-28"},{"$f":"+IF(C1839=\"\",\"\",IF(J1839=\"\",\"SIN RESPUESTA\",(IF(J1839<=M1839,\"A TIEMPO\",\"FUERA DE TIEMPO\"))))","v":"A TIEMPO"},{"$f":"IF(J1839=\"\",\"\",NETWORKDAYS(C1839+1,J1839,DiasNOLaborables))","v":19},"",null,null,20]
[1829,20219050065222,"2021-05-27","CIUDADANO","MODULO CONTACTENOS","SOLICITUD DE INFORMACIÓN Y DOCUMENTOS","SOLICITUD DE INFORMACIÓN HIDROMETEOROLÓGICA","NO","GRUPO DE SERVICIO AL CIUDADANO ","2021-06-25","CORREO ELECTRÓNICO",null,{"$f":"IFERROR(WORKDAY(C1840,S1839,DiasNOLaborables),\"\")","v":"2021-06-28"},{"$f":"+IF(C1840=\"\",\"\",IF(J1840=\"\",\"SIN RESPUESTA\",(IF(J1840<=M1840,\"A TIEMPO\",\"FUERA DE TIEMPO\"))))","v":"A TIEMPO"},{"$f":"IF(J1840=\"\",\"\",NETWORKDAYS(C1840+1,J1840,DiasNOLaborables))","v":19},"",null,null,20]
[1830,20219050065322,"2021-05-27","CIUDADANO","MODULO CONTACTENOS","SOLICITUD DE INFORMACIÓN Y DOCUMENTOS","SOLICITUD DE INFORMACIÓN HIDROMETEOROLÓGICA","NO","GRUPO DE SERVICIO AL CIUDADANO ","2021-06-25","CORREO ELECTRÓNICO",null,{"$f":"IFERROR(WORKDAY(C1841,S1840,DiasNOLaborables),\"\")","v":"2021-06-28"},{"$f":"+IF(C1841=\"\",\"\",IF(J1841=\"\",\"SIN RESPUESTA\",(IF(J1841<=M1841,\"A TIEMPO\",\"FUERA DE TIEMPO\"))))","v":"A TIEMPO"},{"$f":"IF(J1841=\"\",\"\",NETWORKDAYS(C1841+1,J1841,DiasNOLaborables))","v":19},"",null,null,20]
[1831,20219050065362,"2021-05-27","CIUDADANO","MODULO CONTACTENOS","SOLICITUD DE INFORMACIÓN Y DOCUMENTOS","SOLICITUD DE INFORMACIÓN HIDROMETEOROLÓGICA","NO","GRUPO DE SERVICIO AL CIUDADANO ","2021-06-25","CORREO ELECTRÓNICO",null,{"$f":"IFERROR(WORKDAY(C1842,S1841,DiasNOLaborables),\"\")","v":"2021-06-28"},{"$f":"+IF(C1842=\"\",\"\",IF(J1842=\"\",\"SIN RESPUESTA\",(IF(J1842<=M1842,\"A TIEMPO\",\"FUERA DE TIEMPO\"))))","v":"A TIEMPO"},{"$f":"IF(J1842=\"\",\"\",NETWORKDAYS(C1842+1,J1842,DiasNOLaborables))","v":19},"",null,null,20]
[1832,20219050065382,"2021-05-27","ACADEMIA","MODULO CONTACTENOS","SOLICITUD DE INFORMACIÓN Y DOCUMENTOS","SOLICITUD DE INFORMACIÓN HIDROMETEOROLÓGICA","NO","GRUPO DE SERVICIO AL CIUDADANO ","2021-06-25","CORREO ELECTRÓNICO",null,{"$f":"IFERROR(WORKDAY(C1843,S1842,DiasNOLaborables),\"\")","v":"2021-06-28"},{"$f":"+IF(C1843=\"\",\"\",IF(J1843=\"\",\"SIN RESPUESTA\",(IF(J1843<=M1843,\"A TIEMPO\",\"FUERA DE TIEMPO\"))))","v":"A TIEMPO"},{"$f":"IF(J1843=\"\",\"\",NETWORKDAYS(C1843+1,J1843,DiasNOLaborables))","v":19},"",null,null,20]
[1833,20219050065432,"2021-05-27","CIUDADANO","MODULO CONTACTENOS","SOLICITUD DE INFORMACIÓN Y DOCUMENTOS","SOLICITUD DE INFORMACIÓN HIDROMETEOROLÓGICA","NO","GRUPO DE SERVICIO AL CIUDADANO ","2021-06-25","CORREO ELECTRÓNICO",null,{"$f":"IFERROR(WORKDAY(C1844,S1843,DiasNOLaborables),\"\")","v":"2021-06-28"},{"$f":"+IF(C1844=\"\",\"\",IF(J1844=\"\",\"SIN RESPUESTA\",(IF(J1844<=M1844,\"A TIEMPO\",\"FUERA DE TIEMPO\"))))","v":"A TIEMPO"},{"$f":"IF(J1844=\"\",\"\",NETWORKDAYS(C1844+1,J1844,DiasNOLaborables))","v":19},"",null,null,20]
[1834,20219050065452,"2021-05-27","CIUDADANO","MODULO CONTACTENOS","SOLICITUD DE INFORMACIÓN Y DOCUMENTOS","SOLICITUD DE INFORMACIÓN HIDROMETEOROLÓGICA","NO","GRUPO DE SERVICIO AL CIUDADANO ","2021-06-25","CORREO ELECTRÓNICO",null,{"$f":"IFERROR(WORKDAY(C1845,S1844,DiasNOLaborables),\"\")","v":"2021-06-28"},{"$f":"+IF(C1845=\"\",\"\",IF(J1845=\"\",\"SIN RESPUESTA\",(IF(J1845<=M1845,\"A TIEMPO\",\"FUERA DE TIEMPO\"))))","v":"A TIEMPO"},{"$f":"IF(J1845=\"\",\"\",NETWORKDAYS(C1845+1,J1845,DiasNOLaborables))","v":19},"",null,null,20]
[1835,20219050065502,"2021-05-27","ACADEMIA","MODULO CONTACTENOS","SOLICITUD DE INFORMACIÓN Y DOCUMENTOS","SOLICITUD DE INFORMACIÓN HIDROMETEOROLÓGICA","NO","GRUPO DE SERVICIO AL CIUDADANO ","2021-06-25","CORREO ELECTRÓNICO",null,{"$f":"IFERROR(WORKDAY(C1846,S1845,DiasNOLaborables),\"\")","v":"2021-06-28"},{"$f":"+IF(C1846=\"\",\"\",IF(J1846=\"\",\"SIN RESPUESTA\",(IF(J1846<=M1846,\"A TIEMPO\",\"FUERA DE TIEMPO\"))))","v":"A TIEMPO"},{"$f":"IF(J1846=\"\",\"\",NETWORKDAYS(C1846+1,J1846,DiasNOLaborables))","v":19},"",null,null,20]
[1836,20219050065512,"2021-05-27","ACADEMIA","MODULO CONTACTENOS","SOLICITUD DE INFORMACIÓN Y DOCUMENTOS","SOLICITUD DE INFORMACIÓN HIDROMETEOROLÓGICA","NO","GRUPO DE SERVICIO AL CIUDADANO ","2021-06-25","CORREO ELECTRÓNICO",null,{"$f":"IFERROR(WORKDAY(C1847,S1846,DiasNOLaborables),\"\")","v":"2021-06-28"},{"$f":"+IF(C1847=\"\",\"\",IF(J1847=\"\",\"SIN RESPUESTA\",(IF(J1847<=M1847,\"A TIEMPO\",\"FUERA DE TIEMPO\"))))","v":"A TIEMPO"},{"$f":"IF(J1847=\"\",\"\",NETWORKDAYS(C1847+1,J1847,DiasNOLaborables))","v":19},"",null,null,20]
[1837,20219050065522,"2021-05-27","CIUDADANO","MODULO CONTACTENOS","SOLICITUD DE INFORMACIÓN Y DOCUMENTOS","SOLICITUD DE INFORMACIÓN HIDROMETEOROLÓGICA","NO","GRUPO DE SERVICIO AL CIUDADANO ","2021-06-25","CORREO ELECTRÓNICO",null,{"$f":"IFERROR(WORKDAY(C1848,S1847,DiasNOLaborables),\"\")","v":"2021-06-28"},{"$f":"+IF(C1848=\"\",\"\",IF(J1848=\"\",\"SIN RESPUESTA\",(IF(J1848<=M1848,\"A TIEMPO\",\"FUERA DE TIEMPO\"))))","v":"A TIEMPO"},{"$f":"IF(J1848=\"\",\"\",NETWORKDAYS(C1848+1,J1848,DiasNOLaborables))","v":19},"",null,null,20]
[1838,20219050065622,"2021-05-27","CIUDADANO","MODULO CONTACTENOS","SOLICITUD DE INFORMACIÓN Y DOCUMENTOS","SOLICITUD DE INFORMACIÓN HIDROMETEOROLÓGICA","NO","GRUPO DE SERVICIO AL CIUDADANO ","2021-06-25","CORREO ELECTRÓNICO",null,{"$f":"IFERROR(WORKDAY(C1849,S1848,DiasNOLaborables),\"\")","v":"2021-06-28"},{"$f":"+IF(C1849=\"\",\"\",IF(J1849=\"\",\"SIN RESPUESTA\",(IF(J1849<=M1849,\"A TIEMPO\",\"FUERA DE TIEMPO\"))))","v":"A TIEMPO"},{"$f":"IF(J1849=\"\",\"\",NETWORKDAYS(C1849+1,J1849,DiasNOLaborables))","v":19},"",null,null,20]
[1839,20219050065662,"2021-05-27","CIUDADANO","MODULO CONTACTENOS","SOLICITUD DE INFORMACIÓN Y DOCUMENTOS","SOLICITUD DE INFORMACIÓN HIDROMETEOROLÓGICA","NO","GRUPO DE SERVICIO AL CIUDADANO ","2021-06-25","CORREO ELECTRÓNICO",null,{"$f":"IFERROR(WORKDAY(C1850,S1849,DiasNOLaborables),\"\")","v":"2021-06-28"},{"$f":"+IF(C1850=\"\",\"\",IF(J1850=\"\",\"SIN RESPUESTA\",(IF(J1850<=M1850,\"A TIEMPO\",\"FUERA DE TIEMPO\"))))","v":"A TIEMPO"},{"$f":"IF(J1850=\"\",\"\",NETWORKDAYS(C1850+1,J1850,DiasNOLaborables))","v":19},"",null,null,20]
[1840,20219050065712,"2021-05-27","CIUDADANO","MODULO CONTACTENOS","SOLICITUD DE INFORMACIÓN Y DOCUMENTOS","SOLICITUD DE INFORMACIÓN HIDROMETEOROLÓGICA","NO","GRUPO DE SERVICIO AL CIUDADANO ","2021-06-25","CORREO ELECTRÓNICO",null,{"$f":"IFERROR(WORKDAY(C1851,S1850,DiasNOLaborables),\"\")","v":"2021-06-28"},{"$f":"+IF(C1851=\"\",\"\",IF(J1851=\"\",\"SIN RESPUESTA\",(IF(J1851<=M1851,\"A TIEMPO\",\"FUERA DE TIEMPO\"))))","v":"A TIEMPO"},{"$f":"IF(J1851=\"\",\"\",NETWORKDAYS(C1851+1,J1851,DiasNOLaborables))","v":19},"",null,null,20]
[1841,20219050065702,"2021-05-27","ACADEMIA","MODULO CONTACTENOS","SOLICITUD DE INFORMACIÓN Y DOCUMENTOS","SOLICITUD DE INFORMACIÓN HIDROMETEOROLÓGICA","NO","GRUPO DE SERVICIO AL CIUDADANO ","2021-06-25","CORREO ELECTRÓNICO",null,{"$f":"IFERROR(WORKDAY(C1852,S1851,DiasNOLaborables),\"\")","v":"2021-06-28"},{"$f":"+IF(C1852=\"\",\"\",IF(J1852=\"\",\"SIN RESPUESTA\",(IF(J1852<=M1852,\"A TIEMPO\",\"FUERA DE TIEMPO\"))))","v":"A TIEMPO"},{"$f":"IF(J1852=\"\",\"\",NETWORKDAYS(C1852+1,J1852,DiasNOLaborables))","v":19},"",null,null,20]
[1842,20219050065672,"2021-05-27","CIUDADANO","MODULO CONTACTENOS","SOLICITUD DE INFORMACIÓN Y DOCUMENTOS","SOLICITUD DE INFORMACIÓN HIDROMETEOROLÓGICA","NO","GRUPO DE SERVICIO AL CIUDADANO ","2021-06-25","CORREO ELECTRÓNICO",null,{"$f":"IFERROR(WORKDAY(C1853,S1852,DiasNOLaborables),\"\")","v":"2021-06-28"},{"$f":"+IF(C1853=\"\",\"\",IF(J1853=\"\",\"SIN RESPUESTA\",(IF(J1853<=M1853,\"A TIEMPO\",\"FUERA DE TIEMPO\"))))","v":"A TIEMPO"},{"$f":"IF(J1853=\"\",\"\",NETWORKDAYS([5]Hoja1!C1851+1,[5]Hoja1!P1851,DiasNOLaborables))","v":9},"",null,null,20]
[1843,20219050065562,"2021-05-27","CIUDADANO","MODULO CONTACTENOS","SOLICITUD DE INFORMACIÓN Y DOCUMENTOS","SOLICITUD DE INFORMACIÓN HIDROMETEOROLÓGICA","NO","GRUPO DE SERVICIO AL CIUDADANO ","2021-06-27","CORREO ELECTRÓNICO",null,{"$f":"IFERROR(WORKDAY(C1854,S1853,DiasNOLaborables),\"\")","v":"2021-06-28"},{"$f":"+IF(C1854=\"\",\"\",IF(J1854=\"\",\"SIN RESPUESTA\",(IF(J1854<=M1854,\"A TIEMPO\",\"FUERA DE TIEMPO\"))))","v":"A TIEMPO"},{"$f":"IF(J1854=\"\",\"\",NETWORKDAYS(C1854+1,J1854,DiasNOLaborables))","v":19},"",null,null,20]
[1844,20219050065772,"2021-05-28","CIUDADANO","MODULO CONTACTENOS","SOLICITUD DE INFORMACIÓN Y DOCUMENTOS","SOLICITUD DE INFORMACIÓN HIDROMETEOROLÓGICA","NO","GRUPO DE SERVICIO AL CIUDADANO ","2021-06-27","CORREO ELECTRÓNICO",null,{"$f":"IFERROR(WORKDAY(C1855,S1854,DiasNOLaborables),\"\")","v":"2021-06-29"},{"$f":"+IF(C1855=\"\",\"\",IF(J1855=\"\",\"SIN RESPUESTA\",(IF(J1855<=M1855,\"A TIEMPO\",\"FUERA DE TIEMPO\"))))","v":"A TIEMPO"},{"$f":"IF(J1855=\"\",\"\",NETWORKDAYS(C1855+1,J1855,DiasNOLaborables))","v":18},"",null,null,20]
[1845,20219050065792,"2021-05-28","CIUDADANO","MODULO CONTACTENOS","SOLICITUD DE INFORMACIÓN Y DOCUMENTOS","SOLICITUD DE INFORMACIÓN HIDROMETEOROLÓGICA","NO","GRUPO DE SERVICIO AL CIUDADANO ","2021-06-27","CORREO ELECTRÓNICO",null,{"$f":"IFERROR(WORKDAY(C1856,S1855,DiasNOLaborables),\"\")","v":"2021-06-29"},{"$f":"+IF(C1856=\"\",\"\",IF(J1856=\"\",\"SIN RESPUESTA\",(IF(J1856<=M1856,\"A TIEMPO\",\"FUERA DE TIEMPO\"))))","v":"A TIEMPO"},{"$f":"IF(J1856=\"\",\"\",NETWORKDAYS(C1856+1,J1856,DiasNOLaborables))","v":18},"",null,null,20]
[1846,20219050065932,"2021-05-28","ACADEMIA","MODULO CONTACTENOS","SOLICITUD DE INFORMACIÓN Y DOCUMENTOS","SOLICITUD DE INFORMACIÓN HIDROMETEOROLÓGICA","NO","GRUPO DE SERVICIO AL CIUDADANO ","2021-06-27","CORREO ELECTRÓNICO",null,{"$f":"IFERROR(WORKDAY(C1857,S1856,DiasNOLaborables),\"\")","v":"2021-06-29"},{"$f":"+IF(C1857=\"\",\"\",IF(J1857=\"\",\"SIN RESPUESTA\",(IF(J1857<=M1857,\"A TIEMPO\",\"FUERA DE TIEMPO\"))))","v":"A TIEMPO"},{"$f":"IF(J1857=\"\",\"\",NETWORKDAYS(C1857+1,J1857,DiasNOLaborables))","v":18},"",null,null,30]
[1847,20219910030452,"2021-05-28","EMPRESA PRIVADA","ATENCIÓN PRESENCIAL","PETICIÓN","SOLICITUD DE INFORMACIÓN HIDROMETEOROLÓGICA","NO","GRUPO DE SERVICIO AL CIUDADANO ","2021-06-15","CORREO ELECTRÓNICO",null,{"$f":"IFERROR(WORKDAY(C1858,S1857,DiasNOLaborables),\"\")","v":"2021-07-14"},{"$f":"+IF(C1858=\"\",\"\",IF(J1858=\"\",\"SIN RESPUESTA\",(IF(J1858<=M1858,\"A TIEMPO\",\"FUERA DE TIEMPO\"))))","v":"A TIEMPO"},{"$f":"IF(J1858=\"\",\"\",NETWORKDAYS(C1858+1,J1858,DiasNOLaborables))","v":10},"",null,null,20]
[1848,20219050065832,"2021-05-28","ENTIDAD PÚBLICA","MODULO CONTACTENOS","SOLICITUD DE INFORMACIÓN Y DOCUMENTOS","SOLICITUD DE INFORMACIÓN HIDROMETEOROLÓGICA","NO","GRUPO DE SERVICIO AL CIUDADANO ","2021-06-10","CORREO ELECTRÓNICO",null,{"$f":"IFERROR(WORKDAY(C1859,S1858,DiasNOLaborables),\"\")","v":"2021-06-29"},{"$f":"+IF(C1859=\"\",\"\",IF(J1859=\"\",\"SIN RESPUESTA\",(IF(J1859<=M1859,\"A TIEMPO\",\"FUERA DE TIEMPO\"))))","v":"A TIEMPO"},{"$f":"IF(J1859=\"\",\"\",NETWORKDAYS(C1859+1,J1859,DiasNOLaborables))","v":8},"",null,null,20]
[1849,20219050065842,"2021-05-28","ENTIDAD PÚBLICA","MODULO CONTACTENOS","SOLICITUD DE INFORMACIÓN Y DOCUMENTOS","SOLICITUD DE INFORMACIÓN HIDROMETEOROLÓGICA","NO","GRUPO DE SERVICIO AL CIUDADANO ","2021-06-10","CORREO ELECTRÓNICO",null,{"$f":"IFERROR(WORKDAY(C1860,S1859,DiasNOLaborables),\"\")","v":"2021-06-29"},{"$f":"+IF(C1860=\"\",\"\",IF(J1860=\"\",\"SIN RESPUESTA\",(IF(J1860<=M1860,\"A TIEMPO\",\"FUERA DE TIEMPO\"))))","v":"A TIEMPO"},{"$f":"IF(J1860=\"\",\"\",NETWORKDAYS(C1860+1,J1860,DiasNOLaborables))","v":8},"",null,null,20]
[1850,20219050065852,"2021-05-28","ENTIDAD PÚBLICA","MODULO CONTACTENOS","SOLICITUD DE INFORMACIÓN Y DOCUMENTOS","SOLICITUD DE INFORMACIÓN HIDROMETEOROLÓGICA","NO","GRUPO DE SERVICIO AL CIUDADANO ","2021-06-11","CORREO ELECTRÓNICO",null,{"$f":"IFERROR(WORKDAY(C1861,S1860,DiasNOLaborables),\"\")","v":"2021-06-29"},{"$f":"+IF(C1861=\"\",\"\",IF(J1861=\"\",\"SIN RESPUESTA\",(IF(J1861<=M1861,\"A TIEMPO\",\"FUERA DE TIEMPO\"))))","v":"A TIEMPO"},{"$f":"IF(J1861=\"\",\"\",NETWORKDAYS(C1861+1,J1861,DiasNOLaborables))","v":9},"",null,null,20]
[1851,20219050065872,"2021-05-28","ENTIDAD PÚBLICA","MODULO CONTACTENOS","SOLICITUD DE INFORMACIÓN Y DOCUMENTOS","SOLICITUD DE INFORMACIÓN HIDROMETEOROLÓGICA","NO","GRUPO DE SERVICIO AL CIUDADANO ","2021-06-11","CORREO ELECTRÓNICO",null,{"$f":"IFERROR(WORKDAY(C1862,S1861,DiasNOLaborables),\"\")","v":"2021-06-29"},{"$f":"+IF(C1862=\"\",\"\",IF(J1862=\"\",\"SIN RESPUESTA\",(IF(J1862<=M1862,\"A TIEMPO\",\"FUERA DE TIEMPO\"))))","v":"A TIEMPO"},{"$f":"IF(J1862=\"\",\"\",NETWORKDAYS(C1862+1,J1862,DiasNOLaborables))","v":9},"",null,null,20]
[1852,20219050066052,"2021-05-28","ACADEMIA ","CORREO ELECTRÓNICO","SOLICITUD DE INFORMACIÓN Y DOCUMENTOS","SOLICITUD DE INFORMACIÓN HIDROMETEOROLÓGICA","NO","GRUPO DE SERVICIO AL CIUDADANO ","2021-06-11","CORREO ELECTRÓNICO",null,{"$f":"IFERROR(WORKDAY(C1863,S1862,DiasNOLaborables),\"\")","v":"2021-06-29"},{"$f":"+IF(C1863=\"\",\"\",IF(J1863=\"\",\"SIN RESPUESTA\",(IF(J1863<=M1863,\"A TIEMPO\",\"FUERA DE TIEMPO\"))))","v":"A TIEMPO"},{"$f":"IF(J1863=\"\",\"\",NETWORKDAYS(C1863+1,J1863,DiasNOLaborables))","v":9},"",null,null,20]
[1853,20219050066082,"2021-05-28","ACADEMIA ","CORREO ELECTRÓNICO","SOLICITUD DE INFORMACIÓN Y DOCUMENTOS","SOLICITUD DE INFORMACIÓN HIDROMETEOROLÓGICA","NO","GRUPO DE SERVICIO AL CIUDADANO ","2021-06-11","CORREO ELECTRÓNICO",null,{"$f":"IFERROR(WORKDAY(C1864,S1863,DiasNOLaborables),\"\")","v":"2021-06-29"},{"$f":"+IF(C1864=\"\",\"\",IF(J1864=\"\",\"SIN RESPUESTA\",(IF(J1864<=M1864,\"A TIEMPO\",\"FUERA DE TIEMPO\"))))","v":"A TIEMPO"},{"$f":"IF(J1864=\"\",\"\",NETWORKDAYS(C1864+1,J1864,DiasNOLaborables))","v":9},"",null,null,20]
[1854,20219050065882,"2021-05-28","CIUDADANO","CORREO ELECTRÓNICO","SOLICITUD DE INFORMACIÓN Y DOCUMENTOS","SIRH","SI","GRUPO DE GESTIÓN DOCUMENTAL Y CENTRO DE DOCUMENTACIÓN","2021-05-31","CORREO ELECTRÓNICO",null,{"$f":"IFERROR(WORKDAY(C1865,S1864,DiasNOLaborables),\"\")","v":"2021-06-29"},{"$f":"+IF(C1865=\"\",\"\",IF(J1865=\"\",\"SIN RESPUESTA\",(IF(J1865<=M1865,\"A TIEMPO\",\"FUERA DE TIEMPO\"))))","v":"A TIEMPO"},{"$f":"IF(J1865=\"\",\"\",NETWORKDAYS(C1865+1,J1865,DiasNOLaborables))","v":1},"",null,null,35]
[1855,20219050065952,"2021-05-28","CIUDADANO","CORREO ELECTRÓNICO","CERTIFICACIONES DE TIEMPO, CLIMA Y EVENTOS HIDROLÓGICOS","CERTIFICACIONES DE TIEMPO Y CLIMA","SI","SUBDIRECCIÓN DE METEOROLOGÍA","2021-06-24","CORREO ELECTRÓNICO",null,{"$f":"IFERROR(WORKDAY(C1866,S1865,DiasNOLaborables),\"\")","v":"2021-07-22"},{"$f":"+IF(C1866=\"\",\"\",IF(J1866=\"\",\"SIN RESPUESTA\",(IF(J1866<=M1866,\"A TIEMPO\",\"FUERA DE TIEMPO\"))))","v":"A TIEMPO"},{"$f":"IF(J1866=\"\",\"\",NETWORKDAYS(C1866+1,J1866,DiasNOLaborables))","v":17},"",null,null,20]
[1856,20219050065972,"2021-05-28","CIUDADANO","CORREO ELECTRÓNICO","SOLICITUD DE INFORMACIÓN Y DOCUMENTOS","REGISTROS AMBIENTALES","SI","SUBDIRECCIÓN DE ESTUDIOS AMBIENTALES","2021-05-28","CORREO ELECTRÓNICO",null,{"$f":"IFERROR(WORKDAY(C1867,S1866,DiasNOLaborables),\"\")","v":"2021-06-29"},{"$f":"+IF(C1867=\"\",\"\",IF(J1867=\"\",\"SIN RESPUESTA\",(IF(J1867<=M1867,\"A TIEMPO\",\"FUERA DE TIEMPO\"))))","v":"A TIEMPO"},{"$f":"IF(J1867=\"\",\"\",NETWORKDAYS(C1867+1,J1867,DiasNOLaborables))","v":-1},"",null,null,20]
[1857,20219050065982,"2021-05-28","CIUDADANO","CORREO ELECTRÓNICO","SOLICITUD DE INFORMACIÓN Y DOCUMENTOS","ADMINISTRATIVA","SI","GRUPO DE ADMINISTRACIÓN Y DESARROLLO DEL TALENTO HUMANO","2021-05-28","CORREO ELECTRÓNICO",null,{"$f":"IFERROR(WORKDAY(C1868,S1867,DiasNOLaborables),\"\")","v":"2021-06-29"},{"$f":"+IF(C1868=\"\",\"\",IF(J1868=\"\",\"SIN RESPUESTA\",(IF(J1868<=M1868,\"A TIEMPO\",\"FUERA DE TIEMPO\"))))","v":"A TIEMPO"},{"$f":"IF(J1868=\"\",\"\",NETWORKDAYS(C1868+1,J1868,DiasNOLaborables))","v":-1},"",null,null,35]
[1858,20219050066012,"2021-05-28","EMPRESA PRIVADA","CORREO ELECTRÓNICO","CERTIFICACIONES DE TIEMPO, CLIMA Y EVENTOS HIDROLÓGICOS","CERTIFICACIONES DE TIEMPO Y CLIMA","SI","SUBDIRECCIÓN DE METEOROLOGÍA","2021-06-25","CORREO ELECTRÓNICO",null,{"$f":"IFERROR(WORKDAY(C1869,S1868,DiasNOLaborables),\"\")","v":"2021-07-22"},{"$f":"+IF(C1869=\"\",\"\",IF(J1869=\"\",\"SIN RESPUESTA\",(IF(J1869<=M1869,\"A TIEMPO\",\"FUERA DE TIEMPO\"))))","v":"A TIEMPO"},{"$f":"IF(J1869=\"\",\"\",NETWORKDAYS(C1869+1,J1869,DiasNOLaborables))","v":18},"",null,null,{"$f":"IFERROR(VLOOKUP(F1870,$AA$51:$AB$64,2),\"\")","v":35}]
[{"$f":"IF(B1870<>\"\",A1869+1,\"\")","v":1859},20219050066042,"2021-05-28","CIUDADANO","CORREO ELECTRÓNICO","CERTIFICACIONES DE TIEMPO, CLIMA Y EVENTOS HIDROLÓGICOS","CERTIFICACIONES DE TIEMPO Y CLIMA","SI","SUBDIRECCIÓN DE METEOROLOGÍA","2021-06-24","CORREO ELECTRÓNICO",null,{"$f":"IFERROR(WORKDAY(C1870,S1869,DiasNOLaborables),\"\")","v":"2021-07-22"},{"$f":"+IF(C1870=\"\",\"\",IF(J1870=\"\",\"SIN RESPUESTA\",(IF(J1870<=M1870,\"A TIEMPO\",\"FUERA DE TIEMPO\"))))","v":"A TIEMPO"},{"$f":"IF(J1870=\"\",\"\",NETWORKDAYS(C1870+1,J1870,DiasNOLaborables))","v":17},"",null,null,35]
[1860,20219050066062,"2021-05-28","CIUDADANO","CORREO ELECTRÓNICO","CERTIFICACIONES DE TIEMPO, CLIMA Y EVENTOS HIDROLÓGICOS","CERTIFICACIONES DE TIEMPO Y CLIMA","SI","SUBDIRECCIÓN DE METEOROLOGÍA","2021-06-22","CORREO ELECTRÓNICO",null,{"$f":"IFERROR(WORKDAY(C1871,S1870,DiasNOLaborables),\"\")","v":"2021-07-22"},{"$f":"+IF(C1871=\"\",\"\",IF(J1871=\"\",\"SIN RESPUESTA\",(IF(J1871<=M1871,\"A TIEMPO\",\"FUERA DE TIEMPO\"))))","v":"A TIEMPO"},{"$f":"IF(J1871=\"\",\"\",NETWORKDAYS(C1871+1,J1871,DiasNOLaborables))","v":15},"",null,null,20]
[1861,20219050066072,"2021-05-28","CIUDADANO","CORREO ELECTRÓNICO","SOLICITUD DE INFORMACIÓN Y DOCUMENTOS","BOSQUES","SI","GRUPO DE GESTIÓN DOCUMENTAL Y CENTRO DE DOCUMENTACIÓN","2021-05-31","CORREO ELECTRÓNICO",null,{"$f":"IFERROR(WORKDAY(C1872,S1871,DiasNOLaborables),\"\")","v":"2021-06-29"},{"$f":"+IF(C1872=\"\",\"\",IF(J1872=\"\",\"SIN RESPUESTA\",(IF(J1872<=M1872,\"A TIEMPO\",\"FUERA DE TIEMPO\"))))","v":"A TIEMPO"},{"$f":"IF(J1872=\"\",\"\",NETWORKDAYS(C1872+1,J1872,DiasNOLaborables))","v":1},"",null,null,5]
[1862,20219050066092,"2021-05-28","ENTIDAD PÚBLICA","CORREO ELECTRÓNICO","SOLICITUD JUDICIAL","ADMINISTRATIVA","SI","GRUPO DE GESTIÓN DOCUMENTAL Y CENTRO DE DOCUMENTACIÓN","2021-06-02","CORREO ELECTRÓNICO",null,{"$f":"IFERROR(WORKDAY(C1873,S1872,DiasNOLaborables),\"\")","v":"2021-06-04"},{"$f":"+IF(C1873=\"\",\"\",IF(J1873=\"\",\"SIN RESPUESTA\",(IF(J1873<=M1873,\"A TIEMPO\",\"FUERA DE TIEMPO\"))))","v":"A TIEMPO"},{"$f":"IF(J1873=\"\",\"\",NETWORKDAYS(C1873+1,J1873,DiasNOLaborables))","v":3},"",null,null,20]
[1863,20219050066122,"2021-05-28","CIUDADANO","CORREO ELECTRÓNICO","SOLICITUD DE INFORMACIÓN Y DOCUMENTOS","CAMBIO CLIMÁTICO","SI","SUBDIRECCIÓN DE ESTUDIOS AMBIENTALES","2021-06-17","CORREO ELECTRÓNICO",null,{"$f":"IFERROR(WORKDAY(C1874,S1873,DiasNOLaborables),\"\")","v":"2021-06-29"},{"$f":"+IF(C1874=\"\",\"\",IF(J1874=\"\",\"SIN RESPUESTA\",(IF(J1874<=M1874,\"A TIEMPO\",\"FUERA DE TIEMPO\"))))","v":"A TIEMPO"},{"$f":"IF(J1874=\"\",\"\",NETWORKDAYS(C1874+1,J1874,DiasNOLaborables))","v":12},"",null,null,20]
[1864,20219050066182,"2021-05-28","CIUDADANO","CORREO ELECTRÓNICO","SOLICITUD DE INFORMACIÓN Y DOCUMENTOS","SIRH","SI","GRUPO DE GESTIÓN DOCUMENTAL Y CENTRO DE DOCUMENTACIÓN","2021-06-01","CORREO ELECTRÓNICO",null,{"$f":"IFERROR(WORKDAY(C1875,S1874,DiasNOLaborables),\"\")","v":"2021-06-29"},{"$f":"+IF(C1875=\"\",\"\",IF(J1875=\"\",\"SIN RESPUESTA\",(IF(J1875<=M1875,\"A TIEMPO\",\"FUERA DE TIEMPO\"))))","v":"A TIEMPO"},{"$f":"IF(J1875=\"\",\"\",NETWORKDAYS(C1875+1,J1875,DiasNOLaborables))","v":2},"",null,null,35]
[1865,20219050065962,"2021-05-28","CIUDADANO","CORREO ELECTRÓNICO","CERTIFICACIONES DE TIEMPO, CLIMA Y EVENTOS HIDROLÓGICOS","CERTIFICACIONES DE TIEMPO Y CLIMA","SI","SUBDIRECCIÓN DE METEOROLOGÍA","2021-06-24","CORREO ELECTRÓNICO",null,{"$f":"IFERROR(WORKDAY(C1876,S1875,DiasNOLaborables),\"\")","v":"2021-07-22"},{"$f":"+IF(C1876=\"\",\"\",IF(J1876=\"\",\"SIN RESPUESTA\",(IF(J1876<=M1876,\"A TIEMPO\",\"FUERA DE TIEMPO\"))))","v":"A TIEMPO"},{"$f":"IF(J1876=\"\",\"\",NETWORKDAYS(C1876+1,J1876,DiasNOLaborables))","v":17},"",null,null,20]
[1866,20219050065992,"2021-05-28","CIUDADANO","MODULO CONTACTENOS","SOLICITUD DE INFORMACIÓN Y DOCUMENTOS","BOSQUES","SI","SUBDIRECCIÓN DE ECOSISTEMAS E INFORMACIÓN AMBIENTAL","2021-06-09","CORREO ELECTRÓNICO",null,{"$f":"IFERROR(WORKDAY(C1877,S1876,DiasNOLaborables),\"\")","v":"2021-06-29"},{"$f":"+IF(C1877=\"\",\"\",IF(J1877=\"\",\"SIN RESPUESTA\",(IF(J1877<=M1877,\"A TIEMPO\",\"FUERA DE TIEMPO\"))))","v":"A TIEMPO"},{"$f":"IF(J1877=\"\",\"\",NETWORKDAYS(C1877+1,J1877,DiasNOLaborables))","v":7},"",null,null,35]
[1867,20219050066022,"2021-05-28","CIUDADANO","CORREO ELECTRÓNICO","CERTIFICACIONES DE TIEMPO, CLIMA Y EVENTOS HIDROLÓGICOS","CERTIFICACIONES DE TIEMPO Y CLIMA","SI","SUBDIRECCIÓN DE METEOROLOGÍA","2021-06-02","CORREO ELECTRÓNICO",null,{"$f":"IFERROR(WORKDAY(C1878,S1877,DiasNOLaborables),\"\")","v":"2021-07-22"},{"$f":"+IF(C1878=\"\",\"\",IF(J1878=\"\",\"SIN RESPUESTA\",(IF(J1878<=M1878,\"A TIEMPO\",\"FUERA DE TIEMPO\"))))","v":"A TIEMPO"},{"$f":"IF(J1878=\"\",\"\",NETWORKDAYS(C1878+1,J1878,DiasNOLaborables))","v":3},"",null,null,20]
[1868,20219050065802,"2021-05-28","CIUDADANO","CORREO ELECTRÓNICO","SOLICITUD DE INFORMACIÓN Y DOCUMENTOS","BOSQUES","SI","SUBDIRECCIÓN DE ECOSISTEMAS E INFORMACIÓN AMBIENTAL","2021-05-31","CORREO ELECTRÓNICO",null,{"$f":"IFERROR(WORKDAY(C1879,S1878,DiasNOLaborables),\"\")","v":"2021-06-29"},{"$f":"+IF(C1879=\"\",\"\",IF(J1879=\"\",\"SIN RESPUESTA\",(IF(J1879<=M1879,\"A TIEMPO\",\"FUERA DE TIEMPO\"))))","v":"A TIEMPO"},{"$f":"IF(J1879=\"\",\"\",NETWORKDAYS(C1879+1,J1879,DiasNOLaborables))","v":1},"",null,null,35]
[1869,20219050065942,"2021-05-28","CIUDADANO","CORREO ELECTRÓNICO","CERTIFICACIONES DE TIEMPO, CLIMA Y EVENTOS HIDROLÓGICOS","CERTIFICACIONES DE TIEMPO Y CLIMA","SI","SUBDIRECCIÓN DE METEOROLOGÍA","2021-06-24","CORREO ELECTRÓNICO",null,{"$f":"IFERROR(WORKDAY(C1880,S1879,DiasNOLaborables),\"\")","v":"2021-07-22"},{"$f":"+IF(C1880=\"\",\"\",IF(J1880=\"\",\"SIN RESPUESTA\",(IF(J1880<=M1880,\"A TIEMPO\",\"FUERA DE TIEMPO\"))))","v":"A TIEMPO"},{"$f":"IF(J1880=\"\",\"\",NETWORKDAYS(C1880+1,J1880,DiasNOLaborables))","v":17},"",null,null,5]
[1870,20219050066002,"2021-05-28","CIUDADANO","CORREO ELECTRÓNICO","SOLICITUD JUDICIAL","JURIDICO","SI","OFICINA ASESORA JURÍDICA","2021-05-31","CORREO ELECTRÓNICO",null,{"$f":"IFERROR(WORKDAY(C1881,S1880,DiasNOLaborables),\"\")","v":"2021-06-04"},{"$f":"+IF(C1881=\"\",\"\",IF(J1881=\"\",\"SIN RESPUESTA\",(IF(J1881<=M1881,\"A TIEMPO\",\"FUERA DE TIEMPO\"))))","v":"A TIEMPO"},{"$f":"IF(J1881=\"\",\"\",NETWORKDAYS(C1881+1,J1881,DiasNOLaborables))","v":1},"",null,null,35]
[1871,20219050066032,"2021-05-28","CIUDADANO","CORREO ELECTRÓNICO","CERTIFICACIONES DE TIEMPO, CLIMA Y EVENTOS HIDROLÓGICOS","CERTIFICACIONES DE TIEMPO Y CLIMA","SI","SUBDIRECCIÓN DE METEOROLOGÍA","2021-06-17","CORREO ELECTRÓNICO",null,{"$f":"IFERROR(WORKDAY(C1882,S1881,DiasNOLaborables),\"\")","v":"2021-07-22"},{"$f":"+IF(C1882=\"\",\"\",IF(J1882=\"\",\"SIN RESPUESTA\",(IF(J1882<=M1882,\"A TIEMPO\",\"FUERA DE TIEMPO\"))))","v":"A TIEMPO"},{"$f":"IF(J1882=\"\",\"\",NETWORKDAYS(C1882+1,J1882,DiasNOLaborables))","v":12},"",null,null,20]
[1872,20219050066212,"2021-05-28","CIUDADANO","CORREO ELECTRÓNICO","SOLICITUD DE INFORMACIÓN Y DOCUMENTOS","INFORMES AMBIENTALES","SI","SUBDIRECCIÓN DE HIDROLOGÍA","2021-06-10","CORREO ELECTRÓNICO",null,{"$f":"IFERROR(WORKDAY(C1883,S1882,DiasNOLaborables),\"\")","v":"2021-06-29"},{"$f":"+IF(C1883=\"\",\"\",IF(J1883=\"\",\"SIN RESPUESTA\",(IF(J1883<=M1883,\"A TIEMPO\",\"FUERA DE TIEMPO\"))))","v":"A TIEMPO"},{"$f":"IF(J1883=\"\",\"\",NETWORKDAYS(C1883+1,J1883,DiasNOLaborables))","v":8},"",null,null,20]
[1873,20219050066162,"2021-05-28","CIUDADANO","MODULO CONTACTENOS","SOLICITUD DE INFORMACIÓN Y DOCUMENTOS","SOLICITUD DE INFORMACIÓN HIDROMETEOROLÓGICA","NO","GRUPO DE SERVICIO AL CIUDADANO ","2021-06-28","CORREO ELECTRÓNICO",null,{"$f":"IFERROR(WORKDAY(C1884,S1883,DiasNOLaborables),\"\")","v":"2021-06-29"},{"$f":"+IF(C1884=\"\",\"\",IF(J1884=\"\",\"SIN RESPUESTA\",(IF(J1884<=M1884,\"A TIEMPO\",\"FUERA DE TIEMPO\"))))","v":"A TIEMPO"},{"$f":"IF(J1884=\"\",\"\",NETWORKDAYS(C1884+1,J1884,DiasNOLaborables))","v":19},"",null,null,20]
[1874,20219050066152,"2021-05-28","CIUDADANO","MODULO CONTACTENOS","SOLICITUD DE INFORMACIÓN Y DOCUMENTOS","SOLICITUD DE INFORMACIÓN HIDROMETEOROLÓGICA","NO","GRUPO DE SERVICIO AL CIUDADANO ","2021-06-29","CORREO ELECTRÓNICO",null,{"$f":"IFERROR(WORKDAY(C1885,S1884,DiasNOLaborables),\"\")","v":"2021-06-29"},{"$f":"+IF(C1885=\"\",\"\",IF(J1885=\"\",\"SIN RESPUESTA\",(IF(J1885<=M1885,\"A TIEMPO\",\"FUERA DE TIEMPO\"))))","v":"A TIEMPO"},{"$f":"IF(J1885=\"\",\"\",NETWORKDAYS(C1885+1,J1885,DiasNOLaborables))","v":20},"",null,null,20]
[1875,20219050066172,"2021-05-28","CIUDADANO","MODULO CONTACTENOS","SOLICITUD DE INFORMACIÓN Y DOCUMENTOS","SOLICITUD DE INFORMACIÓN HIDROMETEOROLÓGICA","NO","GRUPO DE SERVICIO AL CIUDADANO ","2021-06-29","CORREO ELECTRÓNICO",null,{"$f":"IFERROR(WORKDAY(C1886,S1885,DiasNOLaborables),\"\")","v":"2021-06-29"},{"$f":"+IF(C1886=\"\",\"\",IF(J1886=\"\",\"SIN RESPUESTA\",(IF(J1886<=M1886,\"A TIEMPO\",\"FUERA DE TIEMPO\"))))","v":"A TIEMPO"},{"$f":"IF(J1886=\"\",\"\",NETWORKDAYS(C1886+1,J1886,DiasNOLaborables))","v":20},"",null,null,20]
[1876,20219050066192,"2021-05-28","ACADEMIA","MODULO CONTACTENOS","SOLICITUD DE INFORMACIÓN Y DOCUMENTOS","SOLICITUD DE INFORMACIÓN HIDROMETEOROLÓGICA","NO","GRUPO DE SERVICIO AL CIUDADANO ","2021-06-29","CORREO ELECTRÓNICO",null,{"$f":"IFERROR(WORKDAY(C1887,S1886,DiasNOLaborables),\"\")","v":"2021-06-29"},{"$f":"+IF(C1887=\"\",\"\",IF(J1887=\"\",\"SIN RESPUESTA\",(IF(J1887<=M1887,\"A TIEMPO\",\"FUERA DE TIEMPO\"))))","v":"A TIEMPO"},{"$f":"IF(J1887=\"\",\"\",NETWORKDAYS(C1887+1,J1887,DiasNOLaborables))","v":20},"",null,null,20]
[1877,20219050066222,"2021-05-28","CIUDADANO","MODULO CONTACTENOS","SOLICITUD DE INFORMACIÓN Y DOCUMENTOS","SOLICITUD DE INFORMACIÓN HIDROMETEOROLÓGICA","NO","GRUPO DE SERVICIO AL CIUDADANO ","2021-06-29","CORREO ELECTRÓNICO",null,{"$f":"IFERROR(WORKDAY(C1888,S1887,DiasNOLaborables),\"\")","v":"2021-06-29"},{"$f":"+IF(C1888=\"\",\"\",IF(J1888=\"\",\"SIN RESPUESTA\",(IF(J1888<=M1888,\"A TIEMPO\",\"FUERA DE TIEMPO\"))))","v":"A TIEMPO"},{"$f":"IF(J1888=\"\",\"\",NETWORKDAYS(C1888+1,J1888,DiasNOLaborables))","v":20},"",null,null,20]
[1878,20219050066232,"2021-05-29","CIUDADANO","MODULO CONTACTENOS","SOLICITUD DE INFORMACIÓN Y DOCUMENTOS","SOLICITUD DE INFORMACIÓN HIDROMETEOROLÓGICA","NO","GRUPO DE SERVICIO AL CIUDADANO ","2021-06-29","CORREO ELECTRÓNICO",null,{"$f":"IFERROR(WORKDAY(C1889,S1888,DiasNOLaborables),\"\")","v":"2021-06-29"},{"$f":"+IF(C1889=\"\",\"\",IF(J1889=\"\",\"SIN RESPUESTA\",(IF(J1889<=M1889,\"A TIEMPO\",\"FUERA DE TIEMPO\"))))","v":"A TIEMPO"},{"$f":"IF(J1889=\"\",\"\",NETWORKDAYS(C1889+1,J1889,DiasNOLaborables))","v":20},"",null,null,20]
[1879,20219050066242,"2021-05-29","CIUDADANO","MODULO CONTACTENOS","SOLICITUD DE INFORMACIÓN Y DOCUMENTOS","SOLICITUD DE INFORMACIÓN HIDROMETEOROLÓGICA","NO","GRUPO DE SERVICIO AL CIUDADANO ","2021-06-29","CORREO ELECTRÓNICO",null,{"$f":"IFERROR(WORKDAY(C1890,S1889,DiasNOLaborables),\"\")","v":"2021-06-29"},{"$f":"+IF(C1890=\"\",\"\",IF(J1890=\"\",\"SIN RESPUESTA\",(IF(J1890<=M1890,\"A TIEMPO\",\"FUERA DE TIEMPO\"))))","v":"A TIEMPO"},{"$f":"IF(J1890=\"\",\"\",NETWORKDAYS(C1890+1,J1890,DiasNOLaborables))","v":20},{"$f":"IF(NETWORKDAYS(M1890+1,J1890,DiasNOLaborables)<=0,\"\",NETWORKDAYS(M1890+1,J1890,DiasNOLaborables))","v":""},null,null,20]
[1880,20219050066282,"2021-05-29","CIUDADANO","MODULO CONTACTENOS","SOLICITUD DE INFORMACIÓN Y DOCUMENTOS","SOLICITUD DE INFORMACIÓN HIDROMETEOROLÓGICA","NO","GRUPO DE SERVICIO AL CIUDADANO ","2021-06-29","CORREO ELECTRÓNICO",null,{"$f":"IFERROR(WORKDAY(C1891,S1890,DiasNOLaborables),\"\")","v":"2021-06-29"},{"$f":"+IF(C1891=\"\",\"\",IF(J1891=\"\",\"SIN RESPUESTA\",(IF(J1891<=M1891,\"A TIEMPO\",\"FUERA DE TIEMPO\"))))","v":"A TIEMPO"},{"$f":"IF(J1891=\"\",\"\",NETWORKDAYS(C1891+1,J1891,DiasNOLaborables))","v":20},"",null,null,20]
[1881,20219050066292,"2021-05-29","ACADEMIA","MODULO CONTACTENOS","SOLICITUD DE INFORMACIÓN Y DOCUMENTOS","SOLICITUD DE INFORMACIÓN HIDROMETEOROLÓGICA","NO","GRUPO DE SERVICIO AL CIUDADANO ","2021-06-29","CORREO ELECTRÓNICO",null,{"$f":"IFERROR(WORKDAY(C1892,S1891,DiasNOLaborables),\"\")","v":"2021-06-29"},{"$f":"+IF(C1892=\"\",\"\",IF(J1892=\"\",\"SIN RESPUESTA\",(IF(J1892<=M1892,\"A TIEMPO\",\"FUERA DE TIEMPO\"))))","v":"A TIEMPO"},{"$f":"IF(J1892=\"\",\"\",NETWORKDAYS(C1892+1,J1892,DiasNOLaborables))","v":20},"",null,null,20]
[1882,20219050066302,"2021-05-30","FUNCIONARIO IDEAM","MODULO CONTACTENOS","SOLICITUD DE INFORMACIÓN Y DOCUMENTOS","ADMINISTRATIVA","SI","GRUPO DE ADMINISTRACIÓN Y DESARROLLO DEL TALENTO HUMANO","2021-06-08","CORREO ELECTRÓNICO",null,{"$f":"IFERROR(WORKDAY(C1893,S1892,DiasNOLaborables),\"\")","v":"2021-06-29"},{"$f":"+IF(C1893=\"\",\"\",IF(J1893=\"\",\"SIN RESPUESTA\",(IF(J1893<=M1893,\"A TIEMPO\",\"FUERA DE TIEMPO\"))))","v":"A TIEMPO"},{"$f":"IF(J1893=\"\",\"\",NETWORKDAYS(C1893+1,J1893,DiasNOLaborables))","v":6},"",null,null,20]
[1883,20219050066312,"2021-05-30","CIUDADANO","MODULO CONTACTENOS","SOLICITUD DE INFORMACIÓN Y DOCUMENTOS","SOLICITUD DE INFORMACIÓN HIDROMETEOROLÓGICA","NO","GRUPO DE SERVICIO AL CIUDADANO ","2021-06-29","CORREO ELECTRÓNICO",null,{"$f":"IFERROR(WORKDAY(C1894,S1893,DiasNOLaborables),\"\")","v":"2021-06-29"},{"$f":"+IF(C1894=\"\",\"\",IF(J1894=\"\",\"SIN RESPUESTA\",(IF(J1894<=M1894,\"A TIEMPO\",\"FUERA DE TIEMPO\"))))","v":"A TIEMPO"},{"$f":"IF(J1894=\"\",\"\",NETWORKDAYS(C1894+1,J1894,DiasNOLaborables))","v":20},"",null,null,20]
[1884,20219050066332,"2021-05-30","CIUDADANO","MODULO CONTACTENOS","SOLICITUD DE INFORMACIÓN Y DOCUMENTOS","SOLICITUD DE INFORMACIÓN HIDROMETEOROLÓGICA","NO","GRUPO DE SERVICIO AL CIUDADANO ","2021-06-29","CORREO ELECTRÓNICO",null,{"$f":"IFERROR(WORKDAY(C1895,S1894,DiasNOLaborables),\"\")","v":"2021-06-29"},{"$f":"+IF(C1895=\"\",\"\",IF(J1895=\"\",\"SIN RESPUESTA\",(IF(J1895<=M1895,\"A TIEMPO\",\"FUERA DE TIEMPO\"))))","v":"A TIEMPO"},{"$f":"IF(J1895=\"\",\"\",NETWORKDAYS(C1895+1,J1895,DiasNOLaborables))","v":20},"",null,null,20]
[1885,20219050066322,"2021-05-30","CIUDADANO","MODULO CONTACTENOS","SOLICITUD DE INFORMACIÓN Y DOCUMENTOS","SOLICITUD DE INFORMACIÓN HIDROMETEOROLÓGICA","NO","GRUPO DE SERVICIO AL CIUDADANO ","2021-06-29","CORREO ELECTRÓNICO",null,{"$f":"IFERROR(WORKDAY(C1896,S1895,DiasNOLaborables),\"\")","v":"2021-06-29"},{"$f":"+IF(C1896=\"\",\"\",IF(J1896=\"\",\"SIN RESPUESTA\",(IF(J1896<=M1896,\"A TIEMPO\",\"FUERA DE TIEMPO\"))))","v":"A TIEMPO"},{"$f":"IF(J1896=\"\",\"\",NETWORKDAYS(C1896+1,J1896,DiasNOLaborables))","v":20},"",null,null,20]
[1886,20219050066372,"2021-05-31","ACADEMIA","MODULO CONTACTENOS","SOLICITUD DE INFORMACIÓN Y DOCUMENTOS","SOLICITUD DE INFORMACIÓN HIDROMETEOROLÓGICA","NO","GRUPO DE SERVICIO AL CIUDADANO ","2021-06-29","CORREO ELECTRÓNICO",null,{"$f":"IFERROR(WORKDAY(C1897,S1896,DiasNOLaborables),\"\")","v":"2021-06-30"},{"$f":"+IF(C1897=\"\",\"\",IF(J1897=\"\",\"SIN RESPUESTA\",(IF(J1897<=M1897,\"A TIEMPO\",\"FUERA DE TIEMPO\"))))","v":"A TIEMPO"},{"$f":"IF(J1897=\"\",\"\",NETWORKDAYS(C1897+1,J1897,DiasNOLaborables))","v":19},"",null,null,20]
[1887,20219050066382,"2021-05-31","CIUDADANO","MODULO CONTACTENOS","SOLICITUD DE INFORMACIÓN Y DOCUMENTOS","SOLICITUD DE INFORMACIÓN HIDROMETEOROLÓGICA","NO","GRUPO DE SERVICIO AL CIUDADANO ","2021-06-29","CORREO ELECTRÓNICO",null,{"$f":"IFERROR(WORKDAY(C1898,S1897,DiasNOLaborables),\"\")","v":"2021-06-30"},{"$f":"+IF(C1898=\"\",\"\",IF(J1898=\"\",\"SIN RESPUESTA\",(IF(J1898<=M1898,\"A TIEMPO\",\"FUERA DE TIEMPO\"))))","v":"A TIEMPO"},{"$f":"IF(J1898=\"\",\"\",NETWORKDAYS(C1898+1,J1898,DiasNOLaborables))","v":19},"",null,null,20]
[1888,20219050066392,"2021-05-31","ACADEMIA","MODULO CONTACTENOS","SOLICITUD DE INFORMACIÓN Y DOCUMENTOS","SOLICITUD DE INFORMACIÓN HIDROMETEOROLÓGICA","NO","GRUPO DE SERVICIO AL CIUDADANO ","2021-06-29","CORREO ELECTRÓNICO",null,{"$f":"IFERROR(WORKDAY(C1899,S1898,DiasNOLaborables),\"\")","v":"2021-06-30"},{"$f":"+IF(C1899=\"\",\"\",IF(J1899=\"\",\"SIN RESPUESTA\",(IF(J1899<=M1899,\"A TIEMPO\",\"FUERA DE TIEMPO\"))))","v":"A TIEMPO"},{"$f":"IF(J1899=\"\",\"\",NETWORKDAYS(C1899+1,J1899,DiasNOLaborables))","v":19},"",null,null,20]
[1889,20219050066402,"2021-05-31","CIUDADANO","MODULO CONTACTENOS","SOLICITUD DE INFORMACIÓN Y DOCUMENTOS","SOLICITUD DE INFORMACIÓN HIDROMETEOROLÓGICA","NO","GRUPO DE SERVICIO AL CIUDADANO ","2021-06-29","CORREO ELECTRÓNICO",null,{"$f":"IFERROR(WORKDAY(C1900,S1899,DiasNOLaborables),\"\")","v":"2021-06-30"},{"$f":"+IF(C1900=\"\",\"\",IF(J1900=\"\",\"SIN RESPUESTA\",(IF(J1900<=M1900,\"A TIEMPO\",\"FUERA DE TIEMPO\"))))","v":"A TIEMPO"},{"$f":"IF(J1900=\"\",\"\",NETWORKDAYS(C1900+1,J1900,DiasNOLaborables))","v":19},"",null,null,20]
[1890,20219050066432,"2021-05-31","CIUDADANO","MODULO CONTACTENOS","SOLICITUD DE INFORMACIÓN Y DOCUMENTOS","SOLICITUD DE INFORMACIÓN HIDROMETEOROLÓGICA","NO","GRUPO DE SERVICIO AL CIUDADANO ","2021-06-29","CORREO ELECTRÓNICO",null,{"$f":"IFERROR(WORKDAY(C1901,S1900,DiasNOLaborables),\"\")","v":"2021-06-30"},{"$f":"+IF(C1901=\"\",\"\",IF(J1901=\"\",\"SIN RESPUESTA\",(IF(J1901<=M1901,\"A TIEMPO\",\"FUERA DE TIEMPO\"))))","v":"A TIEMPO"},{"$f":"IF(J1901=\"\",\"\",NETWORKDAYS(C1901+1,J1901,DiasNOLaborables))","v":19},"",null,null,20]
[1891,20219050066442,"2021-05-31","ACADEMIA","MODULO CONTACTENOS","SOLICITUD DE INFORMACIÓN Y DOCUMENTOS","SOLICITUD DE INFORMACIÓN HIDROMETEOROLÓGICA","NO","GRUPO DE SERVICIO AL CIUDADANO ","2021-06-29","CORREO ELECTRÓNICO",null,{"$f":"IFERROR(WORKDAY(C1902,S1901,DiasNOLaborables),\"\")","v":"2021-06-30"},{"$f":"+IF(C1902=\"\",\"\",IF(J1902=\"\",\"SIN RESPUESTA\",(IF(J1902<=M1902,\"A TIEMPO\",\"FUERA DE TIEMPO\"))))","v":"A TIEMPO"},{"$f":"IF(J1902=\"\",\"\",NETWORKDAYS(C1902+1,J1902,DiasNOLaborables))","v":19},"",null,null,20]
[1892,20219050066462,"2021-05-31","ACADEMIA","MODULO CONTACTENOS","SOLICITUD DE INFORMACIÓN Y DOCUMENTOS","SOLICITUD DE INFORMACIÓN HIDROMETEOROLÓGICA","NO","GRUPO DE SERVICIO AL CIUDADANO ","2021-06-29","CORREO ELECTRÓNICO",null,{"$f":"IFERROR(WORKDAY(C1903,S1902,DiasNOLaborables),\"\")","v":"2021-06-30"},{"$f":"+IF(C1903=\"\",\"\",IF(J1903=\"\",\"SIN RESPUESTA\",(IF(J1903<=M1903,\"A TIEMPO\",\"FUERA DE TIEMPO\"))))","v":"A TIEMPO"},{"$f":"IF(J1903=\"\",\"\",NETWORKDAYS(C1903+1,J1903,DiasNOLaborables))","v":19},"",null,null,20]
[1893,20219050066672,"2021-05-31","CIUDADANO","MODULO CONTACTENOS","SOLICITUD DE INFORMACIÓN Y DOCUMENTOS","SOLICITUD DE INFORMACIÓN HIDROMETEOROLÓGICA","NO","GRUPO DE SERVICIO AL CIUDADANO ","2021-06-29","CORREO ELECTRÓNICO",null,{"$f":"IFERROR(WORKDAY(C1904,S1903,DiasNOLaborables),\"\")","v":"2021-06-30"},{"$f":"+IF(C1904=\"\",\"\",IF(J1904=\"\",\"SIN RESPUESTA\",(IF(J1904<=M1904,\"A TIEMPO\",\"FUERA DE TIEMPO\"))))","v":"A TIEMPO"},{"$f":"IF(J1904=\"\",\"\",NETWORKDAYS(C1904+1,J1904,DiasNOLaborables))","v":19},"",null,null,20]
[1894,20219050066722,"2021-05-31","CIUDADANO","MODULO CONTACTENOS","SOLICITUD DE INFORMACIÓN Y DOCUMENTOS","SOLICITUD DE INFORMACIÓN HIDROMETEOROLÓGICA","NO","GRUPO DE SERVICIO AL CIUDADANO ","2021-06-29","CORREO ELECTRÓNICO",null,{"$f":"IFERROR(WORKDAY(C1905,S1904,DiasNOLaborables),\"\")","v":"2021-06-30"},{"$f":"+IF(C1905=\"\",\"\",IF(J1905=\"\",\"SIN RESPUESTA\",(IF(J1905<=M1905,\"A TIEMPO\",\"FUERA DE TIEMPO\"))))","v":"A TIEMPO"},{"$f":"IF(J1905=\"\",\"\",NETWORKDAYS(C1905+1,J1905,DiasNOLaborables))","v":19},"",null,null,20]
[1895,20219050066812,"2021-05-31","CIUDADANO","MODULO CONTACTENOS","SOLICITUD DE INFORMACIÓN Y DOCUMENTOS","SOLICITUD DE INFORMACIÓN HIDROMETEOROLÓGICA","NO","GRUPO DE SERVICIO AL CIUDADANO ","2021-06-29","CORREO ELECTRÓNICO",null,{"$f":"IFERROR(WORKDAY(C1906,S1905,DiasNOLaborables),\"\")","v":"2021-06-30"},{"$f":"+IF(C1906=\"\",\"\",IF(J1906=\"\",\"SIN RESPUESTA\",(IF(J1906<=M1906,\"A TIEMPO\",\"FUERA DE TIEMPO\"))))","v":"A TIEMPO"},{"$f":"IF(J1906=\"\",\"\",NETWORKDAYS(C1906+1,J1906,DiasNOLaborables))","v":19},"",null,null,20]
[1896,20219050066792,"2021-05-31","CIUDADANO","MODULO CONTACTENOS","SOLICITUD DE INFORMACIÓN Y DOCUMENTOS","SOLICITUD DE INFORMACIÓN HIDROMETEOROLÓGICA","NO","GRUPO DE SERVICIO AL CIUDADANO ","2021-06-29","CORREO ELECTRÓNICO",null,{"$f":"IFERROR(WORKDAY(C1907,S1906,DiasNOLaborables),\"\")","v":"2021-06-30"},{"$f":"+IF(C1907=\"\",\"\",IF(J1907=\"\",\"SIN RESPUESTA\",(IF(J1907<=M1907,\"A TIEMPO\",\"FUERA DE TIEMPO\"))))","v":"A TIEMPO"},{"$f":"IF(J1907=\"\",\"\",NETWORKDAYS(C1907+1,J1907,DiasNOLaborables))","v":19},"",null,null,20]
[1897,20219050066782,"2021-05-31","CIUDADANO","MODULO CONTACTENOS","SOLICITUD DE INFORMACIÓN Y DOCUMENTOS","SOLICITUD DE INFORMACIÓN HIDROMETEOROLÓGICA","NO","GRUPO DE SERVICIO AL CIUDADANO ","2021-06-29","CORREO ELECTRÓNICO",null,{"$f":"IFERROR(WORKDAY(C1908,S1907,DiasNOLaborables),\"\")","v":"2021-06-30"},{"$f":"+IF(C1908=\"\",\"\",IF(J1908=\"\",\"SIN RESPUESTA\",(IF(J1908<=M1908,\"A TIEMPO\",\"FUERA DE TIEMPO\"))))","v":"A TIEMPO"},{"$f":"IF(J1908=\"\",\"\",NETWORKDAYS(C1908+1,J1908,DiasNOLaborables))","v":19},"",null,null,20]
[1898,20219050066772,"2021-05-31","CIUDADANO","MODULO CONTACTENOS","SOLICITUD DE INFORMACIÓN Y DOCUMENTOS","SOLICITUD DE INFORMACIÓN HIDROMETEOROLÓGICA","NO","GRUPO DE SERVICIO AL CIUDADANO ","2021-06-29","CORREO ELECTRÓNICO",null,{"$f":"IFERROR(WORKDAY(C1909,S1908,DiasNOLaborables),\"\")","v":"2021-06-30"},{"$f":"+IF(C1909=\"\",\"\",IF(J1909=\"\",\"SIN RESPUESTA\",(IF(J1909<=M1909,\"A TIEMPO\",\"FUERA DE TIEMPO\"))))","v":"A TIEMPO"},{"$f":"IF(J1909=\"\",\"\",NETWORKDAYS(C1909+1,J1909,DiasNOLaborables))","v":19},"",null,null,20]
[1899,20217090001632,"2021-05-31","CIUDADANO","MODULO CONTACTENOS","SOLICITUD DE INFORMACIÓN Y DOCUMENTOS","SOLICITUD DE INFORMACIÓN HIDROMETEOROLÓGICA","NO","GRUPO DE SERVICIO AL CIUDADANO ","2021-06-29","CORREO ELECTRÓNICO",null,{"$f":"IFERROR(WORKDAY(C1910,S1909,DiasNOLaborables),\"\")","v":"2021-06-30"},{"$f":"+IF(C1910=\"\",\"\",IF(J1910=\"\",\"SIN RESPUESTA\",(IF(J1910<=M1910,\"A TIEMPO\",\"FUERA DE TIEMPO\"))))","v":"A TIEMPO"},{"$f":"IF(J1910=\"\",\"\",NETWORKDAYS(C1910+1,J1910,DiasNOLaborables))","v":19},"",null,null,20]
[1900,20219050066752,"2021-05-31","CIUDADANO","MODULO CONTACTENOS","SOLICITUD DE INFORMACIÓN Y DOCUMENTOS","SOLICITUD DE INFORMACIÓN HIDROMETEOROLÓGICA","NO","GRUPO DE SERVICIO AL CIUDADANO ","2021-06-29","CORREO ELECTRÓNICO",null,{"$f":"IFERROR(WORKDAY(C1911,S1910,DiasNOLaborables),\"\")","v":"2021-06-30"},{"$f":"+IF(C1911=\"\",\"\",IF(J1911=\"\",\"SIN RESPUESTA\",(IF(J1911<=M1911,\"A TIEMPO\",\"FUERA DE TIEMPO\"))))","v":"A TIEMPO"},{"$f":"IF(J1911=\"\",\"\",NETWORKDAYS(C1911+1,J1911,DiasNOLaborables))","v":19},"",null,null,20]
[1901,20219050066732,"2021-05-31","CIUDADANO","MODULO CONTACTENOS","SOLICITUD DE INFORMACIÓN Y DOCUMENTOS","SOLICITUD DE INFORMACIÓN HIDROMETEOROLÓGICA","NO","GRUPO DE SERVICIO AL CIUDADANO ","2021-06-29","CORREO ELECTRÓNICO",null,{"$f":"IFERROR(WORKDAY(C1912,S1911,DiasNOLaborables),\"\")","v":"2021-06-30"},{"$f":"+IF(C1912=\"\",\"\",IF(J1912=\"\",\"SIN RESPUESTA\",(IF(J1912<=M1912,\"A TIEMPO\",\"FUERA DE TIEMPO\"))))","v":"A TIEMPO"},{"$f":"IF(J1912=\"\",\"\",NETWORKDAYS(C1912+1,J1912,DiasNOLaborables))","v":19},"",null,null,20]
[1902,20219050066692,"2021-05-31","CIUDADANO","MODULO CONTACTENOS","SOLICITUD DE INFORMACIÓN Y DOCUMENTOS","ADMINISTRATIVA","SI","OFICINA ASESORA JURÍDICA","2021-06-03","CORREO ELECTRÓNICO",null,{"$f":"IFERROR(WORKDAY(C1913,S1912,DiasNOLaborables),\"\")","v":"2021-06-30"},{"$f":"+IF(C1913=\"\",\"\",IF(J1913=\"\",\"SIN RESPUESTA\",(IF(J1913<=M1913,\"A TIEMPO\",\"FUERA DE TIEMPO\"))))","v":"A TIEMPO"},{"$f":"IF(J1913=\"\",\"\",NETWORKDAYS(C1913+1,J1913,DiasNOLaborables))","v":3},"",null,null,35]
[1903,20219050066712,"2021-05-31","CIUDADANO","MODULO CONTACTENOS","CERTIFICACIONES DE TIEMPO, CLIMA Y EVENTOS HIDROLÓGICOS","CERTIFICACIONES DE TIEMPO Y CLIMA","SI","SUBDIRECCIÓN DE METEOROLOGÍA","2021-07-01","CORREO ELECTRÓNICO",null,{"$f":"IFERROR(WORKDAY(C1914,S1913,DiasNOLaborables),\"\")","v":"2021-07-23"},{"$f":"+IF(C1914=\"\",\"\",IF(J1914=\"\",\"SIN RESPUESTA\",(IF(J1914<=M1914,\"A TIEMPO\",\"FUERA DE TIEMPO\"))))","v":"A TIEMPO"},{"$f":"IF(J1914=\"\",\"\",NETWORKDAYS(C1914+1,J1914,DiasNOLaborables))","v":21},"",null,null,20]
[1904,20219050066802,"2021-05-31","CIUDADANO","MODULO CONTACTENOS","SOLICITUD DE INFORMACIÓN Y DOCUMENTOS","ADMINISTRATIVA","SI","OFICINA ASESORA JURÍDICA","2021-06-03","CORREO ELECTRÓNICO",null,{"$f":"IFERROR(WORKDAY(C1915,S1914,DiasNOLaborables),\"\")","v":"2021-06-30"},{"$f":"+IF(C1915=\"\",\"\",IF(J1915=\"\",\"SIN RESPUESTA\",(IF(J1915<=M1915,\"A TIEMPO\",\"FUERA DE TIEMPO\"))))","v":"A TIEMPO"},{"$f":"IF(J1915=\"\",\"\",NETWORKDAYS(C1915+1,J1915,DiasNOLaborables))","v":3},"",null,null,5]
[1905,20219910030592,"2021-05-31","ENTIDAD PÚBLICA","CORREO CERTIFICADO","SOLICITUD JUDICIAL","CERTIFICACIONES DE TIEMPO Y CLIMA","SI","SUBDIRECCIÓN DE METEOROLOGÍA","2021-06-03","CORREO ELECTRÓNICO",null,{"$f":"IFERROR(WORKDAY(C1916,S1915,DiasNOLaborables),\"\")","v":"2021-06-08"},{"$f":"+IF(C1916=\"\",\"\",IF(J1916=\"\",\"SIN RESPUESTA\",(IF(J1916<=M1916,\"A TIEMPO\",\"FUERA DE TIEMPO\"))))","v":"A TIEMPO"},{"$f":"IF(J1916=\"\",\"\",NETWORKDAYS(C1916+1,J1916,DiasNOLaborables))","v":3},"",null,null,20]
[1906,20219910030662,"2021-05-31","ENTIDAD PÚBLICA","CORREO CERTIFICADO","SOLICITUD DE INFORMACIÓN Y DOCUMENTOS","SUELOS Y TIERRAS","SI","SUBDIRECCIÓN DE ECOSISTEMAS E INFORMACIÓN AMBIENTAL","2021-06-08","CORREO ELECTRÓNICO",null,{"$f":"IFERROR(WORKDAY(C1917,S1916,DiasNOLaborables),\"\")","v":"2021-06-30"},{"$f":"+IF(C1917=\"\",\"\",IF(J1917=\"\",\"SIN RESPUESTA\",(IF(J1917<=M1917,\"A TIEMPO\",\"FUERA DE TIEMPO\"))))","v":"A TIEMPO"},{"$f":"IF(J1917=\"\",\"\",NETWORKDAYS(C1917+1,J1917,DiasNOLaborables))","v":5},"",null,null,20]
[1907,20219050066842,"2021-05-31","EMPRESA PRIVADA","MODULO CONTACTENOS","SOLICITUD DE INFORMACIÓN Y DOCUMENTOS","CLIMATOLOGÍA","SI","SUBDIRECCIÓN DE METEOROLOGÍA","2021-06-08","CORREO ELECTRÓNICO",null,{"$f":"IFERROR(WORKDAY(C1918,S1917,DiasNOLaborables),\"\")","v":"2021-06-30"},{"$f":"+IF(C1918=\"\",\"\",IF(J1918=\"\",\"SIN RESPUESTA\",(IF(J1918<=M1918,\"A TIEMPO\",\"FUERA DE TIEMPO\"))))","v":"A TIEMPO"},{"$f":"IF(J1918=\"\",\"\",NETWORKDAYS(C1918+1,J1918,DiasNOLaborables))","v":5},"",null,null,20]
[1908,20219050066422,"2021-05-31","CIUDADANO","CORREO ELECTRÓNICO","SOLICITUD DE INFORMACIÓN Y DOCUMENTOS","REGISTROS AMBIENTALES","SI","SUBDIRECCIÓN DE ESTUDIOS AMBIENTALES","2021-06-17","CORREO ELECTRÓNICO",null,{"$f":"IFERROR(WORKDAY(C1919,S1918,DiasNOLaborables),\"\")","v":"2021-06-30"},{"$f":"+IF(C1919=\"\",\"\",IF(J1919=\"\",\"SIN RESPUESTA\",(IF(J1919<=M1919,\"A TIEMPO\",\"FUERA DE TIEMPO\"))))","v":"A TIEMPO"},{"$f":"IF(J1919=\"\",\"\",NETWORKDAYS(C1919+1,J1919,DiasNOLaborables))","v":11},"",null,null,35]
[1909,20219050066452,"2021-05-31","CIUDADANO","CORREO ELECTRÓNICO","CERTIFICACIONES DE TIEMPO, CLIMA Y EVENTOS HIDROLÓGICOS","CERTIFICACIONES DE TIEMPO Y CLIMA","SI","SUBDIRECCIÓN DE METEOROLOGÍA","2021-06-23","CORREO ELECTRÓNICO",null,{"$f":"IFERROR(WORKDAY(C1920,S1919,DiasNOLaborables),\"\")","v":"2021-07-23"},{"$f":"+IF(C1920=\"\",\"\",IF(J1920=\"\",\"SIN RESPUESTA\",(IF(J1920<=M1920,\"A TIEMPO\",\"FUERA DE TIEMPO\"))))","v":"A TIEMPO"},{"$f":"IF(J1920=\"\",\"\",NETWORKDAYS(C1920+1,J1920,DiasNOLaborables))","v":15},"",null,null,35]
[1910,20219050066472,"2021-05-31","CIUDADANO","CORREO ELECTRÓNICO","CERTIFICACIONES DE TIEMPO, CLIMA Y EVENTOS HIDROLÓGICOS","CERTIFICACIONES DE TIEMPO Y CLIMA","SI","SUBDIRECCIÓN DE METEOROLOGÍA","2021-07-02","CORREO ELECTRÓNICO",null,{"$f":"IFERROR(WORKDAY(C1921,S1920,DiasNOLaborables),\"\")","v":"2021-07-23"},{"$f":"+IF(C1921=\"\",\"\",IF(J1921=\"\",\"SIN RESPUESTA\",(IF(J1921<=M1921,\"A TIEMPO\",\"FUERA DE TIEMPO\"))))","v":"A TIEMPO"},{"$f":"IF(J1921=\"\",\"\",NETWORKDAYS(C1921+1,J1921,DiasNOLaborables))","v":22},"",null,null,20]
[1911,20219050066512,"2021-05-31","CIUDADANO","CORREO ELECTRÓNICO","SOLICITUD DE INFORMACIÓN Y DOCUMENTOS","BOSQUES","SI","SUBDIRECCIÓN DE ECOSISTEMAS E INFORMACIÓN AMBIENTAL","2021-05-31","CORREO ELECTRÓNICO",null,{"$f":"IFERROR(WORKDAY(C1922,S1921,DiasNOLaborables),\"\")","v":"2021-06-30"},{"$f":"+IF(C1922=\"\",\"\",IF(J1922=\"\",\"SIN RESPUESTA\",(IF(J1922<=M1922,\"A TIEMPO\",\"FUERA DE TIEMPO\"))))","v":"A TIEMPO"},{"$f":"IF(J1922=\"\",\"\",NETWORKDAYS(C1922+1,J1922,DiasNOLaborables))","v":-2},"",null,null,35]
[1912,20219050066562,"2021-05-31","CIUDADANO","CORREO ELECTRÓNICO","CERTIFICACIONES DE TIEMPO, CLIMA Y EVENTOS HIDROLÓGICOS","CERTIFICACIONES DE TIEMPO Y CLIMA","SI","SUBDIRECCIÓN DE METEOROLOGÍA","2021-07-01","CORREO ELECTRÓNICO",null,{"$f":"IFERROR(WORKDAY(C1923,S1922,DiasNOLaborables),\"\")","v":"2021-07-23"},{"$f":"+IF(C1923=\"\",\"\",IF(J1923=\"\",\"SIN RESPUESTA\",(IF(J1923<=M1923,\"A TIEMPO\",\"FUERA DE TIEMPO\"))))","v":"A TIEMPO"},{"$f":"IF(J1923=\"\",\"\",NETWORKDAYS(C1923+1,J1923,DiasNOLaborables))","v":21},"",null,null,20]
[1913,20219050066572,"2021-05-31","CIUDADANO","CORREO ELECTRÓNICO","SOLICITUD DE INFORMACIÓN Y DOCUMENTOS","REGISTROS AMBIENTALES","SI","SUBDIRECCIÓN DE ESTUDIOS AMBIENTALES","2021-06-04","CORREO ELECTRÓNICO",null,{"$f":"IFERROR(WORKDAY(C1924,S1923,DiasNOLaborables),\"\")","v":"2021-06-30"},{"$f":"+IF(C1924=\"\",\"\",IF(J1924=\"\",\"SIN RESPUESTA\",(IF(J1924<=M1924,\"A TIEMPO\",\"FUERA DE TIEMPO\"))))","v":"A TIEMPO"},{"$f":"IF(J1924=\"\",\"\",NETWORKDAYS(C1924+1,J1924,DiasNOLaborables))","v":4},"",null,null,20]
[1914,20219050066582,"2021-05-31","CIUDADANO","CORREO ELECTRÓNICO","SOLICITUD DE INFORMACIÓN Y DOCUMENTOS","ADMINISTRATIVA","SI","GRUPO DE ADMINISTRACIÓN Y DESARROLLO DEL TALENTO HUMANO","2021-06-08","CORREO ELECTRÓNICO",null,{"$f":"IFERROR(WORKDAY(C1925,S1924,DiasNOLaborables),\"\")","v":"2021-06-30"},{"$f":"+IF(C1925=\"\",\"\",IF(J1925=\"\",\"SIN RESPUESTA\",(IF(J1925<=M1925,\"A TIEMPO\",\"FUERA DE TIEMPO\"))))","v":"A TIEMPO"},{"$f":"IF(J1925=\"\",\"\",NETWORKDAYS(C1925+1,J1925,DiasNOLaborables))","v":5},"",null,null,20]
[1915,20219050066592,"2021-05-31","CIUDADANO","CORREO ELECTRÓNICO","SOLICITUD DE INFORMACIÓN Y DOCUMENTOS","REGISTROS AMBIENTALES","SI","SUBDIRECCIÓN DE ESTUDIOS AMBIENTALES","2021-06-17","CORREO ELECTRÓNICO",null,{"$f":"IFERROR(WORKDAY(C1926,S1925,DiasNOLaborables),\"\")","v":"2021-06-30"},{"$f":"+IF(C1926=\"\",\"\",IF(J1926=\"\",\"SIN RESPUESTA\",(IF(J1926<=M1926,\"A TIEMPO\",\"FUERA DE TIEMPO\"))))","v":"A TIEMPO"},{"$f":"IF(J1926=\"\",\"\",NETWORKDAYS(C1926+1,J1926,DiasNOLaborables))","v":11},"",null,null,35]
[1916,20219050066602,"2021-05-31","CIUDADANO","CORREO ELECTRÓNICO","CERTIFICACIONES DE TIEMPO, CLIMA Y EVENTOS HIDROLÓGICOS","CERTIFICACIONES DE TIEMPO Y CLIMA","SI","SUBDIRECCIÓN DE METEOROLOGÍA","2021-06-24","CORREO ELECTRÓNICO",null,{"$f":"IFERROR(WORKDAY(C1927,S1926,DiasNOLaborables),\"\")","v":"2021-07-23"},{"$f":"+IF(C1927=\"\",\"\",IF(J1927=\"\",\"SIN RESPUESTA\",(IF(J1927<=M1927,\"A TIEMPO\",\"FUERA DE TIEMPO\"))))","v":"A TIEMPO"},{"$f":"IF(J1927=\"\",\"\",NETWORKDAYS(C1927+1,J1927,DiasNOLaborables))","v":16},"",null,null,35]
[1917,20219050066612,"2021-05-31","CIUDADANO","CORREO ELECTRÓNICO","CERTIFICACIONES DE TIEMPO, CLIMA Y EVENTOS HIDROLÓGICOS","CERTIFICACIONES DE TIEMPO Y CLIMA","SI","SUBDIRECCIÓN DE METEOROLOGÍA","2021-06-08","CORREO ELECTRÓNICO",null,{"$f":"IFERROR(WORKDAY(C1928,S1927,DiasNOLaborables),\"\")","v":"2021-07-23"},{"$f":"+IF(C1928=\"\",\"\",IF(J1928=\"\",\"SIN RESPUESTA\",(IF(J1928<=M1928,\"A TIEMPO\",\"FUERA DE TIEMPO\"))))","v":"A TIEMPO"},{"$f":"IF(J1928=\"\",\"\",NETWORKDAYS(C1928+1,J1928,DiasNOLaborables))","v":5},"",null,null,20]
[1918,20219050066632,"2021-05-31","CIUDADANO","CORREO ELECTRÓNICO","SOLICITUD DE INFORMACIÓN Y DOCUMENTOS","REGISTROS AMBIENTALES","SI","SUBDIRECCIÓN DE ESTUDIOS AMBIENTALES","2021-06-11","CORREO ELECTRÓNICO",null,{"$f":"IFERROR(WORKDAY(C1929,S1928,DiasNOLaborables),\"\")","v":"2021-06-30"},{"$f":"+IF(C1929=\"\",\"\",IF(J1929=\"\",\"SIN RESPUESTA\",(IF(J1929<=M1929,\"A TIEMPO\",\"FUERA DE TIEMPO\"))))","v":"A TIEMPO"},{"$f":"IF(J1929=\"\",\"\",NETWORKDAYS(C1929+1,J1929,DiasNOLaborables))","v":8},"",null,null,20]
[1919,20219050066702,"2021-05-31","CIUDADANO","CORREO ELECTRÓNICO","SOLICITUD DE INFORMACIÓN Y DOCUMENTOS","BOSQUES","SI","SUBDIRECCIÓN DE ECOSISTEMAS E INFORMACIÓN AMBIENTAL","2021-06-09","CORREO ELECTRÓNICO",null,{"$f":"IFERROR(WORKDAY(C1930,S1929,DiasNOLaborables),\"\")","v":"2021-06-30"},{"$f":"+IF(C1930=\"\",\"\",IF(J1930=\"\",\"SIN RESPUESTA\",(IF(J1930<=M1930,\"A TIEMPO\",\"FUERA DE TIEMPO\"))))","v":"A TIEMPO"},{"$f":"IF(J1930=\"\",\"\",NETWORKDAYS(C1930+1,J1930,DiasNOLaborables))","v":6},"",null,null,20]
[1920,20219050066682,"2021-05-31","CIUDADANO","CORREO ELECTRÓNICO","SOLICITUD DE INFORMACIÓN Y DOCUMENTOS","ACREDITACIÓN DE LABORATORIOS","SI","SUBDIRECCIÓN DE ESTUDIOS AMBIENTALES","2021-06-15","CORREO ELECTRÓNICO",null,{"$f":"IFERROR(WORKDAY(C1931,S1930,DiasNOLaborables),\"\")","v":"2021-06-30"},{"$f":"+IF(C1931=\"\",\"\",IF(J1931=\"\",\"SIN RESPUESTA\",(IF(J1931<=M1931,\"A TIEMPO\",\"FUERA DE TIEMPO\"))))","v":"A TIEMPO"},{"$f":"IF(J1931=\"\",\"\",NETWORKDAYS(C1931+1,J1931,DiasNOLaborables))","v":9},"",null,null,30]
[1921,20219050066742,"2021-05-31","CIUDADANO","CORREO ELECTRÓNICO","PETICIÓN","ACREDITACIÓN DE LABORATORIOS","SI","SUBDIRECCIÓN DE ESTUDIOS AMBIENTALES","2021-07-06","CORREO ELECTRÓNICO",null,{"$f":"IFERROR(WORKDAY(C1932,S1931,DiasNOLaborables),\"\")","v":"2021-07-15"},{"$f":"+IF(C1932=\"\",\"\",IF(J1932=\"\",\"SIN RESPUESTA\",(IF(J1932<=M1932,\"A TIEMPO\",\"FUERA DE TIEMPO\"))))","v":"A TIEMPO"},{"$f":"IF(J1932=\"\",\"\",NETWORKDAYS(C1932+1,J1932,DiasNOLaborables))","v":23},"",null,null,20]
[1922,20219050066762,"2021-05-31","CIUDADANO","CORREO ELECTRÓNICO","SOLICITUD DE INFORMACIÓN Y DOCUMENTOS","BOSQUES","SI","SUBDIRECCIÓN DE ECOSISTEMAS E INFORMACIÓN AMBIENTAL","2021-06-08","CORREO ELECTRÓNICO",null,{"$f":"IFERROR(WORKDAY(C1933,S1932,DiasNOLaborables),\"\")","v":"2021-06-30"},{"$f":"+IF(C1933=\"\",\"\",IF(J1933=\"\",\"SIN RESPUESTA\",(IF(J1933<=M1933,\"A TIEMPO\",\"FUERA DE TIEMPO\"))))","v":"A TIEMPO"},{"$f":"IF(J1933=\"\",\"\",NETWORKDAYS(C1933+1,J1933,DiasNOLaborables))","v":5},"",null,null,{"$f":"IFERROR(VLOOKUP(F1934,$AA$51:$AB$64,2),\"\")","v":30}]
[{"$f":"IF(B1934<>\"\",A1933+1,\"\")","v":1923},20219050066482,"2021-05-31","EMPRESA PRIVADA","MODULO CONTACTENOS","PETICIÓN","SOLICITUD DE INFORMACIÓN HIDROMETEOROLÓGICA","NO","GRUPO DE SERVICIO AL CIUDADANO ","2021-06-24","CORREO ELECTRÓNICO",null,{"$f":"IFERROR(WORKDAY(C1934,S1933,DiasNOLaborables),\"\")","v":"2021-07-15"},{"$f":"+IF(C1934=\"\",\"\",IF(J1934=\"\",\"SIN RESPUESTA\",(IF(J1934<=M1934,\"A TIEMPO\",\"FUERA DE TIEMPO\"))))","v":"A TIEMPO"},{"$f":"IF(J1934=\"\",\"\",NETWORKDAYS(C1934+1,J1934,DiasNOLaborables))","v":16},"",null,null,20]
[1924,20219050066532,"2021-05-31","ACADEMIA ","MODULO CONTACTENOS","SOLICITUD DE INFORMACIÓN Y DOCUMENTOS","SOLICITUD DE INFORMACIÓN HIDROMETEOROLÓGICA","NO","GRUPO DE SERVICIO AL CIUDADANO ","2021-06-24","CORREO ELECTRÓNICO",null,{"$f":"IFERROR(WORKDAY(C1935,S1934,DiasNOLaborables),\"\")","v":"2021-06-30"},{"$f":"+IF(C1935=\"\",\"\",IF(J1935=\"\",\"SIN RESPUESTA\",(IF(J1935<=M1935,\"A TIEMPO\",\"FUERA DE TIEMPO\"))))","v":"A TIEMPO"},{"$f":"IF(J1935=\"\",\"\",NETWORKDAYS(C1935+1,J1935,DiasNOLaborables))","v":16},"",null,null,20]
[1925,20219050066542,"2021-05-31","ACADEMIA ","MODULO CONTACTENOS","SOLICITUD DE INFORMACIÓN Y DOCUMENTOS","SOLICITUD DE INFORMACIÓN HIDROMETEOROLÓGICA","NO","GRUPO DE SERVICIO AL CIUDADANO ","2021-06-24","CORREO ELECTRÓNICO",null,{"$f":"IFERROR(WORKDAY(C1936,S1935,DiasNOLaborables),\"\")","v":"2021-06-30"},{"$f":"+IF(C1936=\"\",\"\",IF(J1936=\"\",\"SIN RESPUESTA\",(IF(J1936<=M1936,\"A TIEMPO\",\"FUERA DE TIEMPO\"))))","v":"A TIEMPO"},{"$f":"IF(J1936=\"\",\"\",NETWORKDAYS(C1936+1,J1936,DiasNOLaborables))","v":16},"",null,null,20]
[1926,20219050066552,"2021-05-31","CIUDADANO","CORREO ELECTRÓNICO","SOLICITUD DE INFORMACIÓN Y DOCUMENTOS","SOLICITUD DE INFORMACIÓN HIDROMETEOROLÓGICA","NO","GRUPO DE SERVICIO AL CIUDADANO ","2021-06-24","CORREO ELECTRÓNICO",null,{"$f":"IFERROR(WORKDAY(C1937,S1936,DiasNOLaborables),\"\")","v":"2021-06-30"},{"$f":"+IF(C1937=\"\",\"\",IF(J1937=\"\",\"SIN RESPUESTA\",(IF(J1937<=M1937,\"A TIEMPO\",\"FUERA DE TIEMPO\"))))","v":"A TIEMPO"},{"$f":"IF(J1937=\"\",\"\",NETWORKDAYS(C1937+1,J1937,DiasNOLaborables))","v":16},"",null,null,20]
[1927,20219050066622,"2021-05-31","CIUDADANO","CORREO ELECTRÓNICO","SOLICITUD DE INFORMACIÓN Y DOCUMENTOS","SOLICITUD DE INFORMACIÓN HIDROMETEOROLÓGICA","NO","GRUPO DE SERVICIO AL CIUDADANO ","2021-06-24","CORREO ELECTRÓNICO",null,{"$f":"IFERROR(WORKDAY(C1938,S1937,DiasNOLaborables),\"\")","v":"2021-06-30"},{"$f":"+IF(C1938=\"\",\"\",IF(J1938=\"\",\"SIN RESPUESTA\",(IF(J1938<=M1938,\"A TIEMPO\",\"FUERA DE TIEMPO\"))))","v":"A TIEMPO"},{"$f":"IF(J1938=\"\",\"\",NETWORKDAYS(C1938+1,J1938,DiasNOLaborables))","v":16},"",null,null,20]
[1928,20219050066642,"2021-05-31","EMPRESA PRIVADA","CORREO ELECTRÓNICO","SOLICITUD DE INFORMACIÓN Y DOCUMENTOS","SOLICITUD DE INFORMACIÓN HIDROMETEOROLÓGICA","NO","GRUPO DE SERVICIO AL CIUDADANO ","2021-06-24","CORREO ELECTRÓNICO",null,{"$f":"IFERROR(WORKDAY(C1939,S1938,DiasNOLaborables),\"\")","v":"2021-06-30"},{"$f":"+IF(C1939=\"\",\"\",IF(J1939=\"\",\"SIN RESPUESTA\",(IF(J1939<=M1939,\"A TIEMPO\",\"FUERA DE TIEMPO\"))))","v":"A TIEMPO"},{"$f":"IF(J1939=\"\",\"\",NETWORKDAYS(C1939+1,J1939,DiasNOLaborables))","v":16},"",null,null,20]
[1929,20219050066652,"2021-05-31","CIUDADANO","MODULO CONTACTENOS","SOLICITUD DE INFORMACIÓN Y DOCUMENTOS","SOLICITUD DE INFORMACIÓN HIDROMETEOROLÓGICA","NO","GRUPO DE SERVICIO AL CIUDADANO ","2021-06-24","CORREO ELECTRÓNICO",null,{"$f":"IFERROR(WORKDAY(C1940,S1939,DiasNOLaborables),\"\")","v":"2021-06-30"},{"$f":"+IF(C1940=\"\",\"\",IF(J1940=\"\",\"SIN RESPUESTA\",(IF(J1940<=M1940,\"A TIEMPO\",\"FUERA DE TIEMPO\"))))","v":"A TIEMPO"},{"$f":"IF(J1940=\"\",\"\",NETWORKDAYS(C1940+1,J1940,DiasNOLaborables))","v":16},"",null,null,20]
[1930,20219910030822,"2021-05-31","CIUDADANO","CORREO ELECTRÓNICO","SOLICITUD DE INFORMACIÓN Y DOCUMENTOS","SOLICITUD DE INFORMACIÓN HIDROMETEOROLÓGICA","NO","GRUPO DE SERVICIO AL CIUDADANO ","2021-06-24","CORREO ELECTRÓNICO",null,{"$f":"IFERROR(WORKDAY(C1941,S1940,DiasNOLaborables),\"\")","v":"2021-06-30"},{"$f":"+IF(C1941=\"\",\"\",IF(J1941=\"\",\"SIN RESPUESTA\",(IF(J1941<=M1941,\"A TIEMPO\",\"FUERA DE TIEMPO\"))))","v":"A TIEMPO"},{"$f":"IF(J1941=\"\",\"\",NETWORKDAYS(C1941+1,J1941,DiasNOLaborables))","v":16},"",null,null,20]
[1931,20219050067312,"2021-06-01","CIUDADANO","MODULO CONTACTENOS","SOLICITUD DE INFORMACIÓN Y DOCUMENTOS","SOLICITUD DE INFORMACIÓN HIDROMETEOROLÓGICA","NO","GRUPO DE SERVICIO AL CIUDADANO ","2021-06-25","CORREO ELECTRÓNICO",null,{"$f":"IFERROR(WORKDAY(C1942,S1941,DiasNOLaborables),\"\")","v":"2021-07-01"},{"$f":"+IF(C1942=\"\",\"\",IF(J1942=\"\",\"SIN RESPUESTA\",(IF(J1942<=M1942,\"A TIEMPO\",\"FUERA DE TIEMPO\"))))","v":"A TIEMPO"},{"$f":"IF(J1942=\"\",\"\",NETWORKDAYS(C1942+1,J1942,DiasNOLaborables))","v":16},"",null,null,20]
[1932,20219050067322,"2021-06-01","CIUDADANO","MODULO CONTACTENOS","SOLICITUD DE INFORMACIÓN Y DOCUMENTOS","SOLICITUD DE INFORMACIÓN HIDROMETEOROLÓGICA","NO","GRUPO DE SERVICIO AL CIUDADANO ","2021-06-25","CORREO ELECTRÓNICO",null,{"$f":"IFERROR(WORKDAY(C1943,S1942,DiasNOLaborables),\"\")","v":"2021-07-01"},{"$f":"+IF(C1943=\"\",\"\",IF(J1943=\"\",\"SIN RESPUESTA\",(IF(J1943<=M1943,\"A TIEMPO\",\"FUERA DE TIEMPO\"))))","v":"A TIEMPO"},{"$f":"IF(J1943=\"\",\"\",NETWORKDAYS([5]Hoja1!C1941+1,[5]Hoja1!P1941,DiasNOLaborables))","v":3},"",null,null,20]
[1933,20219050067342,"2021-06-01","CIUDADANO","MODULO CONTACTENOS","SOLICITUD DE INFORMACIÓN Y DOCUMENTOS","SOLICITUD DE INFORMACIÓN HIDROMETEOROLÓGICA","NO","GRUPO DE SERVICIO AL CIUDADANO ","2021-06-25","CORREO ELECTRÓNICO",null,{"$f":"IFERROR(WORKDAY(C1944,S1943,DiasNOLaborables),\"\")","v":"2021-07-01"},{"$f":"+IF(C1944=\"\",\"\",IF(J1944=\"\",\"SIN RESPUESTA\",(IF(J1944<=M1944,\"A TIEMPO\",\"FUERA DE TIEMPO\"))))","v":"A TIEMPO"},{"$f":"IF(J1944=\"\",\"\",NETWORKDAYS(C1944+1,J1944,DiasNOLaborables))","v":16},"",null,null,20]
[1934,20219050067352,"2021-06-01","ACADEMIA ","MODULO CONTACTENOS","SOLICITUD DE INFORMACIÓN Y DOCUMENTOS","SOLICITUD DE INFORMACIÓN HIDROMETEOROLÓGICA","NO","GRUPO DE SERVICIO AL CIUDADANO ","2021-06-25","CORREO ELECTRÓNICO",null,{"$f":"IFERROR(WORKDAY(C1945,S1944,DiasNOLaborables),\"\")","v":"2021-07-01"},{"$f":"+IF(C1945=\"\",\"\",IF(J1945=\"\",\"SIN RESPUESTA\",(IF(J1945<=M1945,\"A TIEMPO\",\"FUERA DE TIEMPO\"))))","v":"A TIEMPO"},{"$f":"IF(J1945=\"\",\"\",NETWORKDAYS(C1945+1,J1945,DiasNOLaborables))","v":16},"",null,null,20]
[1935,20219050067362,"2021-06-01","CIUDADANO","MODULO CONTACTENOS","SOLICITUD DE INFORMACIÓN Y DOCUMENTOS","SOLICITUD DE INFORMACIÓN HIDROMETEOROLÓGICA","NO","GRUPO DE SERVICIO AL CIUDADANO ","2021-06-25","CORREO ELECTRÓNICO",null,{"$f":"IFERROR(WORKDAY(C1946,S1945,DiasNOLaborables),\"\")","v":"2021-07-01"},{"$f":"+IF(C1946=\"\",\"\",IF(J1946=\"\",\"SIN RESPUESTA\",(IF(J1946<=M1946,\"A TIEMPO\",\"FUERA DE TIEMPO\"))))","v":"A TIEMPO"},{"$f":"IF(J1946=\"\",\"\",NETWORKDAYS(C1946+1,J1946,DiasNOLaborables))","v":16},"",null,null,20]
[1936,20219050067372,"2021-06-01","CIUDADANO","MODULO CONTACTENOS","SOLICITUD DE INFORMACIÓN Y DOCUMENTOS","SOLICITUD DE INFORMACIÓN HIDROMETEOROLÓGICA","NO","GRUPO DE SERVICIO AL CIUDADANO ","2021-06-25","CORREO ELECTRÓNICO",null,{"$f":"IFERROR(WORKDAY(C1947,S1946,DiasNOLaborables),\"\")","v":"2021-07-01"},{"$f":"+IF(C1947=\"\",\"\",IF(J1947=\"\",\"SIN RESPUESTA\",(IF(J1947<=M1947,\"A TIEMPO\",\"FUERA DE TIEMPO\"))))","v":"A TIEMPO"},{"$f":"IF(J1947=\"\",\"\",NETWORKDAYS(C1947+1,J1947,DiasNOLaborables))","v":16},"",null,null,20]
[1937,20219050067392,"2021-06-01","CIUDADANO","MODULO CONTACTENOS","SOLICITUD DE INFORMACIÓN Y DOCUMENTOS","SOLICITUD DE INFORMACIÓN HIDROMETEOROLÓGICA","NO","GRUPO DE SERVICIO AL CIUDADANO ","2021-06-25","CORREO ELECTRÓNICO",null,{"$f":"IFERROR(WORKDAY(C1948,S1947,DiasNOLaborables),\"\")","v":"2021-07-01"},{"$f":"+IF(C1948=\"\",\"\",IF(J1948=\"\",\"SIN RESPUESTA\",(IF(J1948<=M1948,\"A TIEMPO\",\"FUERA DE TIEMPO\"))))","v":"A TIEMPO"},{"$f":"IF(J1948=\"\",\"\",NETWORKDAYS(C1948+1,J1948,DiasNOLaborables))","v":16},"",null,null,20]
[1938,20219050067402,"2021-06-01","CIUDADANO","MODULO CONTACTENOS","SOLICITUD DE INFORMACIÓN Y DOCUMENTOS","SOLICITUD DE INFORMACIÓN HIDROMETEOROLÓGICA","NO","GRUPO DE SERVICIO AL CIUDADANO ","2021-06-25","CORREO ELECTRÓNICO",null,{"$f":"IFERROR(WORKDAY(C1949,S1948,DiasNOLaborables),\"\")","v":"2021-07-01"},{"$f":"+IF(C1949=\"\",\"\",IF(J1949=\"\",\"SIN RESPUESTA\",(IF(J1949<=M1949,\"A TIEMPO\",\"FUERA DE TIEMPO\"))))","v":"A TIEMPO"},{"$f":"IF(J1949=\"\",\"\",NETWORKDAYS(C1949+1,J1949,DiasNOLaborables))","v":16},"",null,null,20]
[1939,20219050067422,"2021-06-01","CIUDADANO","MODULO CONTACTENOS","SOLICITUD DE INFORMACIÓN Y DOCUMENTOS","SOLICITUD DE INFORMACIÓN HIDROMETEOROLÓGICA","NO","GRUPO DE SERVICIO AL CIUDADANO ","2021-06-25","CORREO ELECTRÓNICO",null,{"$f":"IFERROR(WORKDAY(C1950,S1949,DiasNOLaborables),\"\")","v":"2021-07-01"},{"$f":"+IF(C1950=\"\",\"\",IF(J1950=\"\",\"SIN RESPUESTA\",(IF(J1950<=M1950,\"A TIEMPO\",\"FUERA DE TIEMPO\"))))","v":"A TIEMPO"},{"$f":"IF(J1950=\"\",\"\",NETWORKDAYS(C1950+1,J1950,DiasNOLaborables))","v":16},"",null,null,20]
[1940,20219050066862,"2021-06-01","CIUDADANO","CORREO ELECTRÓNICO","SOLICITUD DE INFORMACIÓN Y DOCUMENTOS","ADMINISTRATIVA","SI","GRUPO DE ADMINISTRACIÓN Y DESARROLLO DEL TALENTO HUMANO","2021-06-08","CORREO ELECTRÓNICO",null,{"$f":"IFERROR(WORKDAY(C1951,S1950,DiasNOLaborables),\"\")","v":"2021-07-01"},{"$f":"+IF(C1951=\"\",\"\",IF(J1951=\"\",\"SIN RESPUESTA\",(IF(J1951<=M1951,\"A TIEMPO\",\"FUERA DE TIEMPO\"))))","v":"A TIEMPO"},{"$f":"IF(J1951=\"\",\"\",NETWORKDAYS(C1951+1,J1951,DiasNOLaborables))","v":4},"",null,null,35]
[1941,20219050066882,"2021-06-01","CIUDADANO","CORREO ELECTRÓNICO","CERTIFICACIONES DE TIEMPO, CLIMA Y EVENTOS HIDROLÓGICOS","CERTIFICACIONES DE TIEMPO Y CLIMA","SI","SUBDIRECCIÓN DE HIDROLOGÍA","2021-06-02","CORREO ELECTRÓNICO",null,{"$f":"IFERROR(WORKDAY(C1952,S1951,DiasNOLaborables),\"\")","v":"2021-07-26"},{"$f":"+IF(C1952=\"\",\"\",IF(J1952=\"\",\"SIN RESPUESTA\",(IF(J1952<=M1952,\"A TIEMPO\",\"FUERA DE TIEMPO\"))))","v":"A TIEMPO"},{"$f":"IF(J1952=\"\",\"\",NETWORKDAYS(C1952+1,J1952,DiasNOLaborables))","v":1},"",null,null,35]
[1942,20219050066922,"2021-06-01","CIUDADANO","CORREO ELECTRÓNICO","CERTIFICACIONES DE TIEMPO, CLIMA Y EVENTOS HIDROLÓGICOS","CERTIFICACIONES DE TIEMPO Y CLIMA","SI","SUBDIRECCIÓN DE METEOROLOGÍA","2021-06-25","CORREO ELECTRÓNICO",null,{"$f":"IFERROR(WORKDAY(C1953,S1952,DiasNOLaborables),\"\")","v":"2021-07-26"},{"$f":"+IF(C1953=\"\",\"\",IF(J1953=\"\",\"SIN RESPUESTA\",(IF(J1953<=M1953,\"A TIEMPO\",\"FUERA DE TIEMPO\"))))","v":"A TIEMPO"},{"$f":"IF(J1953=\"\",\"\",NETWORKDAYS(C1953+1,J1953,DiasNOLaborables))","v":16},"",null,null,20]
[1943,20219050066982,"2021-06-01","CIUDADANO","CORREO ELECTRÓNICO","SOLICITUD DE INFORMACIÓN Y DOCUMENTOS","REGISTROS AMBIENTALES","SI","SUBDIRECCIÓN DE ESTUDIOS AMBIENTALES","2021-06-10","CORREO ELECTRÓNICO",null,{"$f":"IFERROR(WORKDAY(C1954,S1953,DiasNOLaborables),\"\")","v":"2021-07-01"},{"$f":"+IF(C1954=\"\",\"\",IF(J1954=\"\",\"SIN RESPUESTA\",(IF(J1954<=M1954,\"A TIEMPO\",\"FUERA DE TIEMPO\"))))","v":"A TIEMPO"},{"$f":"IF(J1954=\"\",\"\",NETWORKDAYS(C1954+1,J1954,DiasNOLaborables))","v":6},{"$f":"IF(NETWORKDAYS(M1954+1,J1954,DiasNOLaborables)<=0,\"\",NETWORKDAYS(M1954+1,J1954,DiasNOLaborables))","v":""},null,null,35]
[1944,20219050067052,"2021-06-01","CIUDADANO","CORREO ELECTRÓNICO","CERTIFICACIONES DE TIEMPO, CLIMA Y EVENTOS HIDROLÓGICOS","CERTIFICACIONES DE TIEMPO Y CLIMA","SI","SUBDIRECCIÓN DE METEOROLOGÍA","2021-06-24","CORREO ELECTRÓNICO",null,{"$f":"IFERROR(WORKDAY(C1955,S1954,DiasNOLaborables),\"\")","v":"2021-07-26"},{"$f":"+IF(C1955=\"\",\"\",IF(J1955=\"\",\"SIN RESPUESTA\",(IF(J1955<=M1955,\"A TIEMPO\",\"FUERA DE TIEMPO\"))))","v":"A TIEMPO"},{"$f":"IF(J1955=\"\",\"\",NETWORKDAYS(C1955+1,J1955,DiasNOLaborables))","v":15},"",null,null,20]
[1945,20219050067162,"2021-06-01","CIUDADANO","CORREO ELECTRÓNICO","SOLICITUD DE INFORMACIÓN Y DOCUMENTOS","BOSQUES","SI","SUBDIRECCIÓN DE ECOSISTEMAS E INFORMACIÓN AMBIENTAL","2021-06-11","CORREO ELECTRÓNICO",null,{"$f":"IFERROR(WORKDAY(C1956,S1955,DiasNOLaborables),\"\")","v":"2021-07-01"},{"$f":"+IF(C1956=\"\",\"\",IF(J1956=\"\",\"SIN RESPUESTA\",(IF(J1956<=M1956,\"A TIEMPO\",\"FUERA DE TIEMPO\"))))","v":"A TIEMPO"},{"$f":"IF(J1956=\"\",\"\",NETWORKDAYS(C1956+1,J1956,DiasNOLaborables))","v":7},"",null,null,20]
[1946,20219050067212,"2021-06-01","CIUDADANO","CORREO ELECTRÓNICO","SOLICITUD DE INFORMACIÓN Y DOCUMENTOS","BOSQUES","SI","SUBDIRECCIÓN DE ECOSISTEMAS E INFORMACIÓN AMBIENTAL","2021-06-16","CORREO ELECTRÓNICO",null,{"$f":"IFERROR(WORKDAY(C1957,S1956,DiasNOLaborables),\"\")","v":"2021-07-01"},{"$f":"+IF(C1957=\"\",\"\",IF(J1957=\"\",\"SIN RESPUESTA\",(IF(J1957<=M1957,\"A TIEMPO\",\"FUERA DE TIEMPO\"))))","v":"A TIEMPO"},{"$f":"IF(J1957=\"\",\"\",NETWORKDAYS(C1957+1,J1957,DiasNOLaborables))","v":9},"",null,null,20]
[1947,20219050067272,"2021-06-01","CIUDADANO","CORREO ELECTRÓNICO","SOLICITUD DE INFORMACIÓN Y DOCUMENTOS","SIRH","SI","OFICINA DE INFORMÁTICA","2021-06-15","CORREO ELECTRÓNICO",null,{"$f":"IFERROR(WORKDAY(C1958,S1957,DiasNOLaborables),\"\")","v":"2021-07-01"},{"$f":"+IF(C1958=\"\",\"\",IF(J1958=\"\",\"SIN RESPUESTA\",(IF(J1958<=M1958,\"A TIEMPO\",\"FUERA DE TIEMPO\"))))","v":"A TIEMPO"},{"$f":"IF(J1958=\"\",\"\",NETWORKDAYS(C1958+1,J1958,DiasNOLaborables))","v":8},"",null,null,35]
[1948,20219050067282,"2021-06-01","CIUDADANO","CORREO ELECTRÓNICO","CERTIFICACIONES DE TIEMPO, CLIMA Y EVENTOS HIDROLÓGICOS","CERTIFICACIONES DE TIEMPO Y CLIMA","SI","SUBDIRECCIÓN DE METEOROLOGÍA","2021-06-25","CORREO ELECTRÓNICO",null,{"$f":"IFERROR(WORKDAY(C1959,S1958,DiasNOLaborables),\"\")","v":"2021-07-26"},{"$f":"+IF(C1959=\"\",\"\",IF(J1959=\"\",\"SIN RESPUESTA\",(IF(J1959<=M1959,\"A TIEMPO\",\"FUERA DE TIEMPO\"))))","v":"A TIEMPO"},{"$f":"IF(J1959=\"\",\"\",NETWORKDAYS(C1959+1,J1959,DiasNOLaborables))","v":16},"",null,null,35]
[1949,20219050067302,"2021-06-01","CIUDADANO","CORREO ELECTRÓNICO","CERTIFICACIONES DE TIEMPO, CLIMA Y EVENTOS HIDROLÓGICOS","CERTIFICACIONES DE TIEMPO Y CLIMA","SI","SUBDIRECCIÓN DE METEOROLOGÍA","2021-06-24","CORREO ELECTRÓNICO",null,{"$f":"IFERROR(WORKDAY(C1960,S1959,DiasNOLaborables),\"\")","v":"2021-07-26"},{"$f":"+IF(C1960=\"\",\"\",IF(J1960=\"\",\"SIN RESPUESTA\",(IF(J1960<=M1960,\"A TIEMPO\",\"FUERA DE TIEMPO\"))))","v":"A TIEMPO"},{"$f":"IF(J1960=\"\",\"\",NETWORKDAYS(C1960+1,J1960,DiasNOLaborables))","v":15},"",null,null,35]
[1950,20219050066872,"2021-06-01","EMPRESA PRIVADA","MODULO CONTACTENOS","CERTIFICACIONES DE TIEMPO, CLIMA Y EVENTOS HIDROLÓGICOS","CERTIFICACIONES DE TIEMPO Y CLIMA","SI","SUBDIRECCIÓN DE METEOROLOGÍA","2021-06-30","CORREO ELECTRÓNICO",null,{"$f":"IFERROR(WORKDAY(C1961,S1960,DiasNOLaborables),\"\")","v":"2021-07-26"},{"$f":"+IF(C1961=\"\",\"\",IF(J1961=\"\",\"SIN RESPUESTA\",(IF(J1961<=M1961,\"A TIEMPO\",\"FUERA DE TIEMPO\"))))","v":"A TIEMPO"},{"$f":"IF(J1961=\"\",\"\",NETWORKDAYS(C1961+1,J1961,DiasNOLaborables))","v":19},"",null,null,35]
[1951,20219050067072,"2021-06-01","EMPRESA PRIVADA","MODULO CONTACTENOS","CERTIFICACIONES DE TIEMPO, CLIMA Y EVENTOS HIDROLÓGICOS","CERTIFICACIONES DE TIEMPO Y CLIMA","SI","SUBDIRECCIÓN DE METEOROLOGÍA","2021-06-25","CORREO ELECTRÓNICO",null,{"$f":"IFERROR(WORKDAY(C1962,S1961,DiasNOLaborables),\"\")","v":"2021-07-26"},{"$f":"+IF(C1962=\"\",\"\",IF(J1962=\"\",\"SIN RESPUESTA\",(IF(J1962<=M1962,\"A TIEMPO\",\"FUERA DE TIEMPO\"))))","v":"A TIEMPO"},{"$f":"IF(J1962=\"\",\"\",NETWORKDAYS(C1962+1,J1962,DiasNOLaborables))","v":16},"",null,null,20]
[1952,20219050067142,"2021-06-01","EMPRESA PRIVADA","MODULO CONTACTENOS","SOLICITUD DE INFORMACIÓN Y DOCUMENTOS","REGISTROS AMBIENTALES","SI","SUBDIRECCIÓN DE ESTUDIOS AMBIENTALES","2021-06-04","CORREO ELECTRÓNICO",null,{"$f":"IFERROR(WORKDAY(C1963,S1962,DiasNOLaborables),\"\")","v":"2021-07-01"},{"$f":"+IF(C1963=\"\",\"\",IF(J1963=\"\",\"SIN RESPUESTA\",(IF(J1963<=M1963,\"A TIEMPO\",\"FUERA DE TIEMPO\"))))","v":"A TIEMPO"},{"$f":"IF(J1963=\"\",\"\",NETWORKDAYS(C1963+1,J1963,DiasNOLaborables))","v":3},"",null,null,20]
[1953,20219050067232,"2021-06-01","CIUDADANO","MODULO CONTACTENOS","SOLICITUD DE INFORMACIÓN Y DOCUMENTOS","ADMINISTRATIVA","SI","GRUPO DE TESORERÍA","2021-06-09","CORREO ELECTRÓNICO",null,{"$f":"IFERROR(WORKDAY(C1964,S1963,DiasNOLaborables),\"\")","v":"2021-07-01"},{"$f":"+IF(C1964=\"\",\"\",IF(J1964=\"\",\"SIN RESPUESTA\",(IF(J1964<=M1964,\"A TIEMPO\",\"FUERA DE TIEMPO\"))))","v":"A TIEMPO"},{"$f":"IF(J1964=\"\",\"\",NETWORKDAYS(C1964+1,J1964,DiasNOLaborables))","v":5},"",null,null,35]
[1954,20219050067242,"2021-06-01","CIUDADANO","MODULO CONTACTENOS","CERTIFICACIONES DE TIEMPO, CLIMA Y EVENTOS HIDROLÓGICOS","CERTIFICACIONES DE TIEMPO Y CLIMA","SI","SUBDIRECCIÓN DE METEOROLOGÍA","2021-07-08","CORREO ELECTRÓNICO",null,{"$f":"IFERROR(WORKDAY(C1965,S1964,DiasNOLaborables),\"\")","v":"2021-07-26"},{"$f":"+IF(C1965=\"\",\"\",IF(J1965=\"\",\"SIN RESPUESTA\",(IF(J1965<=M1965,\"A TIEMPO\",\"FUERA DE TIEMPO\"))))","v":"A TIEMPO"},{"$f":"IF(J1965=\"\",\"\",NETWORKDAYS(C1965+1,J1965,DiasNOLaborables))","v":24},"",null,null,35]
[1955,20219050067252,"2021-06-01","CIUDADANO","MODULO CONTACTENOS","CERTIFICACIONES DE TIEMPO, CLIMA Y EVENTOS HIDROLÓGICOS","CERTIFICACIONES DE TIEMPO Y CLIMA","SI","SUBDIRECCIÓN DE METEOROLOGÍA","2021-06-30","CORREO ELECTRÓNICO",null,{"$f":"IFERROR(WORKDAY(C1966,S1965,DiasNOLaborables),\"\")","v":"2021-07-26"},{"$f":"+IF(C1966=\"\",\"\",IF(J1966=\"\",\"SIN RESPUESTA\",(IF(J1966<=M1966,\"A TIEMPO\",\"FUERA DE TIEMPO\"))))","v":"A TIEMPO"},{"$f":"IF(J1966=\"\",\"\",NETWORKDAYS(C1966+1,J1966,DiasNOLaborables))","v":19},"",null,null,20]
[1956,20219050067002,"2021-06-01","ACADEMIA ","MODULO CONTACTENOS","SOLICITUD DE INFORMACIÓN Y DOCUMENTOS","SOLICITUD DE INFORMACIÓN HIDROMETEOROLÓGICA","NO","GRUPO DE SERVICIO AL CIUDADANO ","2021-06-12","CORREO ELECTRÓNICO",null,{"$f":"IFERROR(WORKDAY(C1967,S1966,DiasNOLaborables),\"\")","v":"2021-07-01"},{"$f":"+IF(C1967=\"\",\"\",IF(J1967=\"\",\"SIN RESPUESTA\",(IF(J1967<=M1967,\"A TIEMPO\",\"FUERA DE TIEMPO\"))))","v":"A TIEMPO"},{"$f":"IF(J1967=\"\",\"\",NETWORKDAYS(C1967+1,J1967,DiasNOLaborables))","v":7},"",null,null,20]
[1957,20219050067012,"2021-06-01","ACADEMIA ","CORREO ELECTRÓNICO","SOLICITUD DE INFORMACIÓN Y DOCUMENTOS","SOLICITUD DE INFORMACIÓN HIDROMETEOROLÓGICA","NO","GRUPO DE SERVICIO AL CIUDADANO ","2021-06-12","CORREO ELECTRÓNICO",null,{"$f":"IFERROR(WORKDAY(C1968,S1967,DiasNOLaborables),\"\")","v":"2021-07-01"},{"$f":"+IF(C1968=\"\",\"\",IF(J1968=\"\",\"SIN RESPUESTA\",(IF(J1968<=M1968,\"A TIEMPO\",\"FUERA DE TIEMPO\"))))","v":"A TIEMPO"},{"$f":"IF(J1968=\"\",\"\",NETWORKDAYS(C1968+1,J1968,DiasNOLaborables))","v":7},"",null,null,20]
[1958,20219050067112,"2021-06-01","EMPRESA PRIVADA","MODULO CONTACTENOS","SOLICITUD DE INFORMACIÓN Y DOCUMENTOS","SOLICITUD DE INFORMACIÓN HIDROMETEOROLÓGICA","NO","GRUPO DE SERVICIO AL CIUDADANO ","2021-06-15","CORREO ELECTRÓNICO",null,{"$f":"IFERROR(WORKDAY(C1969,S1968,DiasNOLaborables),\"\")","v":"2021-07-01"},{"$f":"+IF(C1969=\"\",\"\",IF(J1969=\"\",\"SIN RESPUESTA\",(IF(J1969<=M1969,\"A TIEMPO\",\"FUERA DE TIEMPO\"))))","v":"A TIEMPO"},{"$f":"IF(J1969=\"\",\"\",NETWORKDAYS(C1969+1,J1969,DiasNOLaborables))","v":8},"",null,null,20]
[1959,20219050067122,"2021-06-01","EMPRESA PRIVADA","MODULO CONTACTENOS","SOLICITUD DE INFORMACIÓN Y DOCUMENTOS","SOLICITUD DE INFORMACIÓN HIDROMETEOROLÓGICA","NO","GRUPO DE SERVICIO AL CIUDADANO ","2021-06-15","CORREO ELECTRÓNICO",null,{"$f":"IFERROR(WORKDAY(C1970,S1969,DiasNOLaborables),\"\")","v":"2021-07-01"},{"$f":"+IF(C1970=\"\",\"\",IF(J1970=\"\",\"SIN RESPUESTA\",(IF(J1970<=M1970,\"A TIEMPO\",\"FUERA DE TIEMPO\"))))","v":"A TIEMPO"},{"$f":"IF(J1970=\"\",\"\",NETWORKDAYS(C1970+1,J1970,DiasNOLaborables))","v":8},"",null,null,20]
[1960,20219050067132,"2021-06-01","EMPRESA PRIVADA","MODULO CONTACTENOS","SOLICITUD DE INFORMACIÓN Y DOCUMENTOS","SOLICITUD DE INFORMACIÓN HIDROMETEOROLÓGICA","NO","GRUPO DE SERVICIO AL CIUDADANO ","2021-06-16","CORREO ELECTRÓNICO",null,{"$f":"IFERROR(WORKDAY(C1971,S1970,DiasNOLaborables),\"\")","v":"2021-07-01"},{"$f":"+IF(C1971=\"\",\"\",IF(J1971=\"\",\"SIN RESPUESTA\",(IF(J1971<=M1971,\"A TIEMPO\",\"FUERA DE TIEMPO\"))))","v":"A TIEMPO"},{"$f":"IF(J1971=\"\",\"\",NETWORKDAYS(C1971+1,J1971,DiasNOLaborables))","v":9},"",null,null,20]
[1961,20219050067042,"2021-06-01","ACADEMIA ","MODULO CONTACTENOS","SOLICITUD DE INFORMACIÓN Y DOCUMENTOS","SOLICITUD DE INFORMACIÓN HIDROMETEOROLÓGICA","NO","GRUPO DE SERVICIO AL CIUDADANO ","2021-06-12","CORREO ELECTRÓNICO",null,{"$f":"IFERROR(WORKDAY(C1972,S1971,DiasNOLaborables),\"\")","v":"2021-07-01"},{"$f":"+IF(C1972=\"\",\"\",IF(J1972=\"\",\"SIN RESPUESTA\",(IF(J1972<=M1972,\"A TIEMPO\",\"FUERA DE TIEMPO\"))))","v":"A TIEMPO"},{"$f":"IF(J1972=\"\",\"\",NETWORKDAYS(C1972+1,J1972,DiasNOLaborables))","v":7},"",null,null,20]
[1962,20219050067082,"2021-06-01","CIUDADANO","MODULO CONTACTENOS","SOLICITUD DE INFORMACIÓN Y DOCUMENTOS","SOLICITUD DE INFORMACIÓN HIDROMETEOROLÓGICA","NO","GRUPO DE SERVICIO AL CIUDADANO ","2021-06-12","CORREO ELECTRÓNICO",null,{"$f":"IFERROR(WORKDAY(C1973,S1972,DiasNOLaborables),\"\")","v":"2021-07-01"},{"$f":"+IF(C1973=\"\",\"\",IF(J1973=\"\",\"SIN RESPUESTA\",(IF(J1973<=M1973,\"A TIEMPO\",\"FUERA DE TIEMPO\"))))","v":"A TIEMPO"},{"$f":"IF(J1973=\"\",\"\",NETWORKDAYS(C1973+1,J1973,DiasNOLaborables))","v":7},"",null,null,20]
[1963,20219050067092,"2021-06-01","CIUDADANO","MODULO CONTACTENOS","SOLICITUD DE INFORMACIÓN Y DOCUMENTOS","SOLICITUD DE INFORMACIÓN HIDROMETEOROLÓGICA","NO","GRUPO DE SERVICIO AL CIUDADANO ","2021-06-12","CORREO ELECTRÓNICO",null,{"$f":"IFERROR(WORKDAY(C1974,S1973,DiasNOLaborables),\"\")","v":"2021-07-01"},{"$f":"+IF(C1974=\"\",\"\",IF(J1974=\"\",\"SIN RESPUESTA\",(IF(J1974<=M1974,\"A TIEMPO\",\"FUERA DE TIEMPO\"))))","v":"A TIEMPO"},{"$f":"IF(J1974=\"\",\"\",NETWORKDAYS(C1974+1,J1974,DiasNOLaborables))","v":7},"",null,null,15]
[1964,20219050067412,"2021-06-01","CIUDADANO","MODULO CONTACTENOS","QUEJA","ADMINISTRATIVA","SI","GRUPO DE CONTROL DISCIPLINARIO INTERNO","2021-06-03","CORREO ELECTRÓNICO",null,{"$f":"IFERROR(WORKDAY(C1975,S1974,DiasNOLaborables),\"\")","v":"2021-06-24"},{"$f":"+IF(C1975=\"\",\"\",IF(J1975=\"\",\"SIN RESPUESTA\",(IF(J1975<=M1975,\"A TIEMPO\",\"FUERA DE TIEMPO\"))))","v":"A TIEMPO"},{"$f":"IF(J1975=\"\",\"\",NETWORKDAYS(C1975+1,J1975,DiasNOLaborables))","v":2},"",null,null,20]
[1965,20219050066852,"2021-06-01","CIUDADANO","MODULO CONTACTENOS","SOLICITUD DE INFORMACIÓN Y DOCUMENTOS","SOLICITUD DE INFORMACIÓN HIDROMETEOROLÓGICA","NO","GRUPO DE SERVICIO AL CIUDADANO ","2021-06-29","CORREO ELECTRÓNICO",null,{"$f":"IFERROR(WORKDAY(C1976,S1975,DiasNOLaborables),\"\")","v":"2021-07-01"},{"$f":"+IF(C1976=\"\",\"\",IF(J1976=\"\",\"SIN RESPUESTA\",(IF(J1976<=M1976,\"A TIEMPO\",\"FUERA DE TIEMPO\"))))","v":"A TIEMPO"},{"$f":"IF(J1976=\"\",\"\",NETWORKDAYS(C1976+1,J1976,DiasNOLaborables))","v":18},"",null,null,20]
[1966,20219050066892,"2021-06-01","CIUDADANO","MODULO CONTACTENOS","SOLICITUD DE INFORMACIÓN Y DOCUMENTOS","SOLICITUD DE INFORMACIÓN HIDROMETEOROLÓGICA","NO","GRUPO DE SERVICIO AL CIUDADANO ","2021-06-29","CORREO ELECTRÓNICO",null,{"$f":"IFERROR(WORKDAY(C1977,S1976,DiasNOLaborables),\"\")","v":"2021-07-01"},{"$f":"+IF(C1977=\"\",\"\",IF(J1977=\"\",\"SIN RESPUESTA\",(IF(J1977<=M1977,\"A TIEMPO\",\"FUERA DE TIEMPO\"))))","v":"A TIEMPO"},{"$f":"IF(J1977=\"\",\"\",NETWORKDAYS(C1977+1,J1977,DiasNOLaborables))","v":18},"",null,null,20]
[1967,20219050066902,"2021-06-01","ACADEMIA","MODULO CONTACTENOS","SOLICITUD DE INFORMACIÓN Y DOCUMENTOS","SOLICITUD DE INFORMACIÓN HIDROMETEOROLÓGICA","NO","GRUPO DE SERVICIO AL CIUDADANO ","2021-07-01","CORREO ELECTRÓNICO",null,{"$f":"IFERROR(WORKDAY(C1978,S1977,DiasNOLaborables),\"\")","v":"2021-07-01"},{"$f":"+IF(C1978=\"\",\"\",IF(J1978=\"\",\"SIN RESPUESTA\",(IF(J1978<=M1978,\"A TIEMPO\",\"FUERA DE TIEMPO\"))))","v":"A TIEMPO"},{"$f":"IF(J1978=\"\",\"\",NETWORKDAYS(C1978+1,J1978,DiasNOLaborables))","v":20},"",null,null,20]
[1968,20219050066932,"2021-06-01","ACADEMIA","MODULO CONTACTENOS","SOLICITUD DE INFORMACIÓN Y DOCUMENTOS","SOLICITUD DE INFORMACIÓN HIDROMETEOROLÓGICA","NO","GRUPO DE SERVICIO AL CIUDADANO ","2021-06-29","CORREO ELECTRÓNICO",null,{"$f":"IFERROR(WORKDAY(C1979,S1978,DiasNOLaborables),\"\")","v":"2021-07-01"},{"$f":"+IF(C1979=\"\",\"\",IF(J1979=\"\",\"SIN RESPUESTA\",(IF(J1979<=M1979,\"A TIEMPO\",\"FUERA DE TIEMPO\"))))","v":"A TIEMPO"},{"$f":"IF(J1979=\"\",\"\",NETWORKDAYS(C1979+1,J1979,DiasNOLaborables))","v":18},"",null,null,20]
[1969,20219050066952,"2021-06-01","ACADEMIA","MODULO CONTACTENOS","SOLICITUD DE INFORMACIÓN Y DOCUMENTOS","SOLICITUD DE INFORMACIÓN HIDROMETEOROLÓGICA","NO","GRUPO DE SERVICIO AL CIUDADANO ","2021-06-29","CORREO ELECTRÓNICO",null,{"$f":"IFERROR(WORKDAY(C1980,S1979,DiasNOLaborables),\"\")","v":"2021-07-01"},{"$f":"+IF(C1980=\"\",\"\",IF(J1980=\"\",\"SIN RESPUESTA\",(IF(J1980<=M1980,\"A TIEMPO\",\"FUERA DE TIEMPO\"))))","v":"A TIEMPO"},{"$f":"IF(J1980=\"\",\"\",NETWORKDAYS(C1980+1,J1980,DiasNOLaborables))","v":18},"",null,null,20]
[1970,20219050066962,"2021-06-01","CIUDADANO","MODULO CONTACTENOS","SOLICITUD DE INFORMACIÓN Y DOCUMENTOS","SOLICITUD DE INFORMACIÓN HIDROMETEOROLÓGICA","NO","GRUPO DE SERVICIO AL CIUDADANO ","2021-06-29","CORREO ELECTRÓNICO",null,{"$f":"IFERROR(WORKDAY(C1981,S1980,DiasNOLaborables),\"\")","v":"2021-07-01"},{"$f":"+IF(C1981=\"\",\"\",IF(J1981=\"\",\"SIN RESPUESTA\",(IF(J1981<=M1981,\"A TIEMPO\",\"FUERA DE TIEMPO\"))))","v":"A TIEMPO"},{"$f":"IF(J1981=\"\",\"\",NETWORKDAYS(C1981+1,J1981,DiasNOLaborables))","v":18},"",null,null,20]
[1971,20219050066972,"2021-06-01","CIUDADANO","MODULO CONTACTENOS","SOLICITUD DE INFORMACIÓN Y DOCUMENTOS","SOLICITUD DE INFORMACIÓN HIDROMETEOROLÓGICA","NO","GRUPO DE SERVICIO AL CIUDADANO ","2021-06-29","CORREO ELECTRÓNICO",null,{"$f":"IFERROR(WORKDAY(C1982,S1981,DiasNOLaborables),\"\")","v":"2021-07-01"},{"$f":"+IF(C1982=\"\",\"\",IF(J1982=\"\",\"SIN RESPUESTA\",(IF(J1982<=M1982,\"A TIEMPO\",\"FUERA DE TIEMPO\"))))","v":"A TIEMPO"},{"$f":"IF(J1982=\"\",\"\",NETWORKDAYS(C1982+1,J1982,DiasNOLaborables))","v":18},"",null,null,20]
[1972,20219050067202,"2021-06-01","CIUDADANO","MODULO CONTACTENOS","SOLICITUD DE INFORMACIÓN Y DOCUMENTOS","SOLICITUD DE INFORMACIÓN HIDROMETEOROLÓGICA","NO","GRUPO DE SERVICIO AL CIUDADANO ","2021-06-29","CORREO ELECTRÓNICO",null,{"$f":"IFERROR(WORKDAY(C1983,S1982,DiasNOLaborables),\"\")","v":"2021-07-01"},{"$f":"+IF(C1983=\"\",\"\",IF(J1983=\"\",\"SIN RESPUESTA\",(IF(J1983<=M1983,\"A TIEMPO\",\"FUERA DE TIEMPO\"))))","v":"A TIEMPO"},{"$f":"IF(J1983=\"\",\"\",NETWORKDAYS(C1983+1,J1983,DiasNOLaborables))","v":18},"",null,null,20]
[1973,20219050067262,"2021-06-01","CIUDADANO","MODULO CONTACTENOS","SOLICITUD DE INFORMACIÓN Y DOCUMENTOS","SOLICITUD DE INFORMACIÓN HIDROMETEOROLÓGICA","NO","GRUPO DE SERVICIO AL CIUDADANO ","2021-06-30","CORREO ELECTRÓNICO",null,{"$f":"IFERROR(WORKDAY(C1984,S1983,DiasNOLaborables),\"\")","v":"2021-07-01"},{"$f":"+IF(C1984=\"\",\"\",IF(J1984=\"\",\"SIN RESPUESTA\",(IF(J1984<=M1984,\"A TIEMPO\",\"FUERA DE TIEMPO\"))))","v":"A TIEMPO"},{"$f":"IF(J1984=\"\",\"\",NETWORKDAYS(C1984+1,J1984,DiasNOLaborables))","v":19},"",null,null,20]
[1974,20219050067292,"2021-06-01","ACADEMIA","MODULO CONTACTENOS","SOLICITUD DE INFORMACIÓN Y DOCUMENTOS","SOLICITUD DE INFORMACIÓN HIDROMETEOROLÓGICA","NO","GRUPO DE SERVICIO AL CIUDADANO ","2021-06-30","CORREO ELECTRÓNICO",null,{"$f":"IFERROR(WORKDAY(C1985,S1984,DiasNOLaborables),\"\")","v":"2021-07-01"},{"$f":"+IF(C1985=\"\",\"\",IF(J1985=\"\",\"SIN RESPUESTA\",(IF(J1985<=M1985,\"A TIEMPO\",\"FUERA DE TIEMPO\"))))","v":"A TIEMPO"},{"$f":"IF(J1985=\"\",\"\",NETWORKDAYS(C1985+1,J1985,DiasNOLaborables))","v":19},"",null,null,20]
[1975,20219050067642,"2021-06-02","CIUDADANO","MODULO CONTACTENOS","SOLICITUD DE INFORMACIÓN Y DOCUMENTOS","SOLICITUD DE INFORMACIÓN HIDROMETEOROLÓGICA","NO","GRUPO DE SERVICIO AL CIUDADANO ","2021-06-30","CORREO ELECTRÓNICO",null,{"$f":"IFERROR(WORKDAY(C1986,S1985,DiasNOLaborables),\"\")","v":"2021-07-02"},{"$f":"+IF(C1986=\"\",\"\",IF(J1986=\"\",\"SIN RESPUESTA\",(IF(J1986<=M1986,\"A TIEMPO\",\"FUERA DE TIEMPO\"))))","v":"A TIEMPO"},{"$f":"IF(J1986=\"\",\"\",NETWORKDAYS(C1986+1,J1986,DiasNOLaborables))","v":18},"",null,null,20]
[1976,20219050067662,"2021-06-02","CIUDADANO","MODULO CONTACTENOS","SOLICITUD DE INFORMACIÓN Y DOCUMENTOS","SOLICITUD DE INFORMACIÓN HIDROMETEOROLÓGICA","NO","GRUPO DE SERVICIO AL CIUDADANO ","2021-06-30","CORREO ELECTRÓNICO",null,{"$f":"IFERROR(WORKDAY(C1987,S1986,DiasNOLaborables),\"\")","v":"2021-07-02"},{"$f":"+IF(C1987=\"\",\"\",IF(J1987=\"\",\"SIN RESPUESTA\",(IF(J1987<=M1987,\"A TIEMPO\",\"FUERA DE TIEMPO\"))))","v":"A TIEMPO"},{"$f":"IF(J1987=\"\",\"\",NETWORKDAYS(C1987+1,J1987,DiasNOLaborables))","v":18},"",null,null,20]
[1977,20219050067692,"2021-06-02","CIUDADANO","MODULO CONTACTENOS","SOLICITUD DE INFORMACIÓN Y DOCUMENTOS","SOLICITUD DE INFORMACIÓN HIDROMETEOROLÓGICA","NO","GRUPO DE SERVICIO AL CIUDADANO ","2021-06-30","CORREO ELECTRÓNICO",null,{"$f":"IFERROR(WORKDAY(C1988,S1987,DiasNOLaborables),\"\")","v":"2021-07-02"},{"$f":"+IF(C1988=\"\",\"\",IF(J1988=\"\",\"SIN RESPUESTA\",(IF(J1988<=M1988,\"A TIEMPO\",\"FUERA DE TIEMPO\"))))","v":"A TIEMPO"},{"$f":"IF(J1988=\"\",\"\",NETWORKDAYS(C1988+1,J1988,DiasNOLaborables))","v":18},"",null,null,20]
[1978,20219050067702,"2021-06-02","ACADEMIA","MODULO CONTACTENOS","SOLICITUD DE INFORMACIÓN Y DOCUMENTOS","SOLICITUD DE INFORMACIÓN HIDROMETEOROLÓGICA","NO","GRUPO DE SERVICIO AL CIUDADANO ","2021-06-30","CORREO ELECTRÓNICO",null,{"$f":"IFERROR(WORKDAY(C1989,S1988,DiasNOLaborables),\"\")","v":"2021-07-02"},{"$f":"+IF(C1989=\"\",\"\",IF(J1989=\"\",\"SIN RESPUESTA\",(IF(J1989<=M1989,\"A TIEMPO\",\"FUERA DE TIEMPO\"))))","v":"A TIEMPO"},{"$f":"IF(J1989=\"\",\"\",NETWORKDAYS(C1989+1,J1989,DiasNOLaborables))","v":18},"",null,null,20]
[1979,20219050067712,"2021-06-02","CIUDADANO","MODULO CONTACTENOS","SOLICITUD DE INFORMACIÓN Y DOCUMENTOS","SOLICITUD DE INFORMACIÓN HIDROMETEOROLÓGICA","NO","GRUPO DE SERVICIO AL CIUDADANO ","2021-07-02","CORREO ELECTRÓNICO",null,{"$f":"IFERROR(WORKDAY(C1990,S1989,DiasNOLaborables),\"\")","v":"2021-07-02"},{"$f":"+IF(C1990=\"\",\"\",IF(J1990=\"\",\"SIN RESPUESTA\",(IF(J1990<=M1990,\"A TIEMPO\",\"FUERA DE TIEMPO\"))))","v":"A TIEMPO"},{"$f":"IF(J1990=\"\",\"\",NETWORKDAYS(C1990+1,J1990,DiasNOLaborables))","v":20},"",null,null,20]
[1980,20219050067732,"2021-06-02","ACADEMIA","MODULO CONTACTENOS","SOLICITUD DE INFORMACIÓN Y DOCUMENTOS","SOLICITUD DE INFORMACIÓN HIDROMETEOROLÓGICA","NO","GRUPO DE SERVICIO AL CIUDADANO ","2021-06-29","CORREO ELECTRÓNICO",null,{"$f":"IFERROR(WORKDAY(C1991,S1990,DiasNOLaborables),\"\")","v":"2021-07-02"},{"$f":"+IF(C1991=\"\",\"\",IF(J1991=\"\",\"SIN RESPUESTA\",(IF(J1991<=M1991,\"A TIEMPO\",\"FUERA DE TIEMPO\"))))","v":"A TIEMPO"},{"$f":"IF(J1991=\"\",\"\",NETWORKDAYS(C1991+1,J1991,DiasNOLaborables))","v":17},"",null,null,20]
[1981,20219050067582,"2021-06-02","CIUDADANO","MODULO CONTACTENOS","SOLICITUD DE INFORMACIÓN Y DOCUMENTOS","WEB Y CORREO","SI","OFICINA DE INFORMÁTICA","2021-06-08","CORREO ELECTRÓNICO",null,{"$f":"IFERROR(WORKDAY(C1992,S1991,DiasNOLaborables),\"\")","v":"2021-07-02"},{"$f":"+IF(C1992=\"\",\"\",IF(J1992=\"\",\"SIN RESPUESTA\",(IF(J1992<=M1992,\"A TIEMPO\",\"FUERA DE TIEMPO\"))))","v":"A TIEMPO"},{"$f":"IF(J1992=\"\",\"\",NETWORKDAYS(C1992+1,J1992,DiasNOLaborables))","v":3},"",null,null,30]
[1982,20219910031312,"2021-06-02","FUNCIONARIO IDEAM","CORREO ELECTRÓNICO","PETICIÓN","ADMINISTRATIVA","SI","GRUPO DE ADMINISTRACIÓN Y DESARROLLO DEL TALENTO HUMANO","2021-06-23","CORREO ELECTRÓNICO",null,{"$f":"IFERROR(WORKDAY(C1993,S1992,DiasNOLaborables),\"\")","v":"2021-07-19"},{"$f":"+IF(C1993=\"\",\"\",IF(J1993=\"\",\"SIN RESPUESTA\",(IF(J1993<=M1993,\"A TIEMPO\",\"FUERA DE TIEMPO\"))))","v":"A TIEMPO"},{"$f":"IF(J1993=\"\",\"\",NETWORKDAYS(C1993+1,J1993,DiasNOLaborables))","v":13},"",null,null,35]
[1983,20219910031392,"2021-06-02","ENTIDAD PÚBLICA","CORREO ELECTRÓNICO","CERTIFICACIONES DE TIEMPO, CLIMA Y EVENTOS HIDROLÓGICOS","CERTIFICACIONES DE TIEMPO Y CLIMA","SI","SUBDIRECCIÓN DE METEOROLOGÍA","2021-06-22","CORREO ELECTRÓNICO",null,{"$f":"IFERROR(WORKDAY(C1994,S1993,DiasNOLaborables),\"\")","v":"2021-07-27"},{"$f":"+IF(C1994=\"\",\"\",IF(J1994=\"\",\"SIN RESPUESTA\",(IF(J1994<=M1994,\"A TIEMPO\",\"FUERA DE TIEMPO\"))))","v":"A TIEMPO"},{"$f":"IF(J1994=\"\",\"\",NETWORKDAYS(C1994+1,J1994,DiasNOLaborables))","v":12},"",null,null,20]
[1984,20219050067672,"2021-06-02","CIUDADANO","MODULO CONTACTENOS","SOLICITUD DE INFORMACIÓN Y DOCUMENTOS","CLIMATOLOGÍA","SI","SUBDIRECCIÓN DE METEOROLOGÍA","2021-06-15","CORREO ELECTRÓNICO",null,{"$f":"IFERROR(WORKDAY(C1995,S1994,DiasNOLaborables),\"\")","v":"2021-07-02"},{"$f":"+IF(C1995=\"\",\"\",IF(J1995=\"\",\"SIN RESPUESTA\",(IF(J1995<=M1995,\"A TIEMPO\",\"FUERA DE TIEMPO\"))))","v":"A TIEMPO"},{"$f":"IF(J1995=\"\",\"\",NETWORKDAYS(C1995+1,J1995,DiasNOLaborables))","v":7},"",null,null,20]
[1985,20219050067432,"2021-06-02","CIUDADANO","MODULO CONTACTENOS","SOLICITUD DE INFORMACIÓN Y DOCUMENTOS","SOLICITUD DE INFORMACIÓN HIDROMETEOROLÓGICA","NO","GRUPO DE SERVICIO AL CIUDADANO ","2021-06-25","CORREO ELECTRÓNICO",null,{"$f":"IFERROR(WORKDAY(C1996,S1995,DiasNOLaborables),\"\")","v":"2021-07-02"},{"$f":"+IF(C1996=\"\",\"\",IF(J1996=\"\",\"SIN RESPUESTA\",(IF(J1996<=M1996,\"A TIEMPO\",\"FUERA DE TIEMPO\"))))","v":"A TIEMPO"},{"$f":"IF(J1996=\"\",\"\",NETWORKDAYS(C1996+1,J1996,DiasNOLaborables))","v":15},"",null,null,20]
[1986,20219050067442,"2021-06-02","ACADEMIA ","MODULO CONTACTENOS","SOLICITUD DE INFORMACIÓN Y DOCUMENTOS","SOLICITUD DE INFORMACIÓN HIDROMETEOROLÓGICA","NO","GRUPO DE SERVICIO AL CIUDADANO ","2021-06-26","CORREO ELECTRÓNICO",null,{"$f":"IFERROR(WORKDAY(C1997,S1996,DiasNOLaborables),\"\")","v":"2021-07-02"},{"$f":"+IF(C1997=\"\",\"\",IF(J1997=\"\",\"SIN RESPUESTA\",(IF(J1997<=M1997,\"A TIEMPO\",\"FUERA DE TIEMPO\"))))","v":"A TIEMPO"},{"$f":"IF(J1997=\"\",\"\",NETWORKDAYS(C1997+1,J1997,DiasNOLaborables))","v":15},"",null,null,{"$f":"IFERROR(VLOOKUP(F1998,$AA$51:$AB$64,2),\"\")","v":20}]
[{"$f":"IF(B1998<>\"\",A1997+1,\"\")","v":1987},20219050067452,"2021-06-02","CIUDADANO","MODULO CONTACTENOS","SOLICITUD DE INFORMACIÓN Y DOCUMENTOS","SOLICITUD DE INFORMACIÓN HIDROMETEOROLÓGICA","NO","GRUPO DE SERVICIO AL CIUDADANO ","2021-06-26","CORREO ELECTRÓNICO",null,{"$f":"IFERROR(WORKDAY(C1998,S1997,DiasNOLaborables),\"\")","v":"2021-07-02"},{"$f":"+IF(C1998=\"\",\"\",IF(J1998=\"\",\"SIN RESPUESTA\",(IF(J1998<=M1998,\"A TIEMPO\",\"FUERA DE TIEMPO\"))))","v":"A TIEMPO"},{"$f":"IF(J1998=\"\",\"\",NETWORKDAYS(C1998+1,J1998,DiasNOLaborables))","v":15},"",null,null,20]
[1988,20219050067462,"2021-06-02","CIUDADANO","MODULO CONTACTENOS","SOLICITUD DE INFORMACIÓN Y DOCUMENTOS","SOLICITUD DE INFORMACIÓN HIDROMETEOROLÓGICA","NO","GRUPO DE SERVICIO AL CIUDADANO ","2021-06-26","CORREO ELECTRÓNICO",null,{"$f":"IFERROR(WORKDAY(C1999,S1998,DiasNOLaborables),\"\")","v":"2021-07-02"},{"$f":"+IF(C1999=\"\",\"\",IF(J1999=\"\",\"SIN RESPUESTA\",(IF(J1999<=M1999,\"A TIEMPO\",\"FUERA DE TIEMPO\"))))","v":"A TIEMPO"},{"$f":"IF(J1999=\"\",\"\",NETWORKDAYS(C1999+1,J1999,DiasNOLaborables))","v":15},"",null,null,20]
[1989,20219050067472,"2021-06-02","CIUDADANO","CORREO ELECTRÓNICO","SOLICITUD DE INFORMACIÓN Y DOCUMENTOS","SOLICITUD DE INFORMACIÓN HIDROMETEOROLÓGICA","NO","GRUPO DE SERVICIO AL CIUDADANO ","2021-06-26","CORREO ELECTRÓNICO",null,{"$f":"IFERROR(WORKDAY(C2000,S1999,DiasNOLaborables),\"\")","v":"2021-07-02"},{"$f":"+IF(C2000=\"\",\"\",IF(J2000=\"\",\"SIN RESPUESTA\",(IF(J2000<=M2000,\"A TIEMPO\",\"FUERA DE TIEMPO\"))))","v":"A TIEMPO"},{"$f":"IF(J2000=\"\",\"\",NETWORKDAYS(C2000+1,J2000,DiasNOLaborables))","v":15},"",null,null,20]
[1990,20219050067492,"2021-06-02","EMPRESA PRIVADA","CORREO ELECTRÓNICO","SOLICITUD DE INFORMACIÓN Y DOCUMENTOS","SOLICITUD DE INFORMACIÓN HIDROMETEOROLÓGICA","NO","GRUPO DE SERVICIO AL CIUDADANO ","2021-06-26","CORREO ELECTRÓNICO",null,{"$f":"IFERROR(WORKDAY(C2001,S2000,DiasNOLaborables),\"\")","v":"2021-07-02"},{"$f":"+IF(C2001=\"\",\"\",IF(J2001=\"\",\"SIN RESPUESTA\",(IF(J2001<=M2001,\"A TIEMPO\",\"FUERA DE TIEMPO\"))))","v":"A TIEMPO"},{"$f":"IF(J2001=\"\",\"\",NETWORKDAYS(C2001+1,J2001,DiasNOLaborables))","v":15},"",null,null,20]
[1991,20219050067512,"2021-06-02","EMPRESA PRIVADA","CORREO ELECTRÓNICO","SOLICITUD DE INFORMACIÓN Y DOCUMENTOS","SOLICITUD DE INFORMACIÓN HIDROMETEOROLÓGICA","NO","GRUPO DE SERVICIO AL CIUDADANO ","2021-06-26","CORREO ELECTRÓNICO",null,{"$f":"IFERROR(WORKDAY(C2002,S2001,DiasNOLaborables),\"\")","v":"2021-07-02"},{"$f":"+IF(C2002=\"\",\"\",IF(J2002=\"\",\"SIN RESPUESTA\",(IF(J2002<=M2002,\"A TIEMPO\",\"FUERA DE TIEMPO\"))))","v":"A TIEMPO"},{"$f":"IF(J2002=\"\",\"\",NETWORKDAYS(C2002+1,J2002,DiasNOLaborables))","v":15},"",null,null,20]
[1992,20219050067632,"2021-06-02","CIUDADANO","MODULO CONTACTENOS","SOLICITUD DE INFORMACIÓN Y DOCUMENTOS","INFORMES AMBIENTALES","SI","SUBDIRECCIÓN DE ESTUDIOS AMBIENTALES","2021-06-08","CORREO ELECTRÓNICO",null,{"$f":"IFERROR(WORKDAY(C2003,S2002,DiasNOLaborables),\"\")","v":"2021-07-02"},{"$f":"+IF(C2003=\"\",\"\",IF(J2003=\"\",\"SIN RESPUESTA\",(IF(J2003<=M2003,\"A TIEMPO\",\"FUERA DE TIEMPO\"))))","v":"A TIEMPO"},{"$f":"IF(J2003=\"\",\"\",NETWORKDAYS(C2003+1,J2003,DiasNOLaborables))","v":3},"",null,null,35]
[1993,20219050067482,"2021-06-02","CIUDADANO","CORREO ELECTRÓNICO","CERTIFICACIONES DE TIEMPO, CLIMA Y EVENTOS HIDROLÓGICOS","OPERACIÓN DE REDES","SI","SUBDIRECCIÓN DE HIDROLOGÍA","2021-06-10","CORREO ELECTRÓNICO",null,{"$f":"IFERROR(WORKDAY(C2004,S2003,DiasNOLaborables),\"\")","v":"2021-07-27"},{"$f":"+IF(C2004=\"\",\"\",IF(J2004=\"\",\"SIN RESPUESTA\",(IF(J2004<=M2004,\"A TIEMPO\",\"FUERA DE TIEMPO\"))))","v":"A TIEMPO"},{"$f":"IF(J2004=\"\",\"\",NETWORKDAYS(C2004+1,J2004,DiasNOLaborables))","v":5},"",null,null,35]
[1994,20219050067502,"2021-06-02","CIUDADANO","CORREO ELECTRÓNICO","CERTIFICACIONES DE TIEMPO, CLIMA Y EVENTOS HIDROLÓGICOS","CERTIFICACIONES DE TIEMPO Y CLIMA","SI","SUBDIRECCIÓN DE METEOROLOGÍA","2021-06-24","CORREO ELECTRÓNICO",null,{"$f":"IFERROR(WORKDAY(C2005,S2004,DiasNOLaborables),\"\")","v":"2021-07-27"},{"$f":"+IF(C2005=\"\",\"\",IF(J2005=\"\",\"SIN RESPUESTA\",(IF(J2005<=M2005,\"A TIEMPO\",\"FUERA DE TIEMPO\"))))","v":"A TIEMPO"},{"$f":"IF(J2005=\"\",\"\",NETWORKDAYS(C2005+1,J2005,DiasNOLaborables))","v":14},"",null,null,35]
[1995,20219050067532,"2021-06-02","CIUDADANO","CORREO ELECTRÓNICO","CERTIFICACIONES DE TIEMPO, CLIMA Y EVENTOS HIDROLÓGICOS","CERTIFICACIONES DE TIEMPO Y CLIMA","SI","SUBDIRECCIÓN DE METEOROLOGÍA","2021-06-24","CORREO ELECTRÓNICO",null,{"$f":"IFERROR(WORKDAY(C2006,S2005,DiasNOLaborables),\"\")","v":"2021-07-27"},{"$f":"+IF(C2006=\"\",\"\",IF(J2006=\"\",\"SIN RESPUESTA\",(IF(J2006<=M2006,\"A TIEMPO\",\"FUERA DE TIEMPO\"))))","v":"A TIEMPO"},{"$f":"IF(J2006=\"\",\"\",NETWORKDAYS(C2006+1,J2006,DiasNOLaborables))","v":14},"",null,null,20]
[1996,20219050067542,"2021-06-02","CIUDADANO","CORREO ELECTRÓNICO","SOLICITUD DE INFORMACIÓN Y DOCUMENTOS","ADMINISTRATIVA","SI","GRUPO DE ADMINISTRACIÓN Y DESARROLLO DEL TALENTO HUMANO","2021-06-03","CORREO ELECTRÓNICO",null,{"$f":"IFERROR(WORKDAY(C2007,S2006,DiasNOLaborables),\"\")","v":"2021-07-02"},{"$f":"+IF(C2007=\"\",\"\",IF(J2007=\"\",\"SIN RESPUESTA\",(IF(J2007<=M2007,\"A TIEMPO\",\"FUERA DE TIEMPO\"))))","v":"A TIEMPO"},{"$f":"IF(J2007=\"\",\"\",NETWORKDAYS(C2007+1,J2007,DiasNOLaborables))","v":1},"",null,null,20]
[1997,20219050067552,"2021-06-02","CIUDADANO","CORREO ELECTRÓNICO","SOLICITUD DE INFORMACIÓN Y DOCUMENTOS","INFORMES AMBIENTALES","SI","SUBDIRECCIÓN DE HIDROLOGÍA","2021-06-04","CORREO ELECTRÓNICO",null,{"$f":"IFERROR(WORKDAY(C2008,S2007,DiasNOLaborables),\"\")","v":"2021-07-02"},{"$f":"+IF(C2008=\"\",\"\",IF(J2008=\"\",\"SIN RESPUESTA\",(IF(J2008<=M2008,\"A TIEMPO\",\"FUERA DE TIEMPO\"))))","v":"A TIEMPO"},{"$f":"IF(J2008=\"\",\"\",NETWORKDAYS(C2008+1,J2008,DiasNOLaborables))","v":2},"",null,null,20]
[1998,20219050067602,"2021-06-02","CIUDADANO","CORREO ELECTRÓNICO","SOLICITUD DE INFORMACIÓN Y DOCUMENTOS","BOSQUES","SI","SUBDIRECCIÓN DE ECOSISTEMAS E INFORMACIÓN AMBIENTAL","2021-06-09","CORREO ELECTRÓNICO",null,{"$f":"IFERROR(WORKDAY(C2009,S2008,DiasNOLaborables),\"\")","v":"2021-07-02"},{"$f":"+IF(C2009=\"\",\"\",IF(J2009=\"\",\"SIN RESPUESTA\",(IF(J2009<=M2009,\"A TIEMPO\",\"FUERA DE TIEMPO\"))))","v":"A TIEMPO"},{"$f":"IF(J2009=\"\",\"\",NETWORKDAYS(C2009+1,J2009,DiasNOLaborables))","v":4},"",null,null,20]
[1999,20219050067522,"2021-06-02","CIUDADANO","MODULO CONTACTENOS","SOLICITUD DE INFORMACIÓN Y DOCUMENTOS","SOLICITUD DE INFORMACIÓN HIDROMETEOROLÓGICA","NO","GRUPO DE SERVICIO AL CIUDADANO ","2021-06-28","CORREO ELECTRÓNICO",null,{"$f":"IFERROR(WORKDAY(C2010,S2009,DiasNOLaborables),\"\")","v":"2021-07-02"},{"$f":"+IF(C2010=\"\",\"\",IF(J2010=\"\",\"SIN RESPUESTA\",(IF(J2010<=M2010,\"A TIEMPO\",\"FUERA DE TIEMPO\"))))","v":"A TIEMPO"},{"$f":"IF(J2010=\"\",\"\",NETWORKDAYS(C2010+1,J2010,DiasNOLaborables))","v":16},"",null,null,20]
[2000,20219050067572,"2021-06-02","CIUDADANO","MODULO CONTACTENOS","SOLICITUD DE INFORMACIÓN Y DOCUMENTOS","SOLICITUD DE INFORMACIÓN HIDROMETEOROLÓGICA","NO","GRUPO DE SERVICIO AL CIUDADANO ","2021-06-28","CORREO ELECTRÓNICO",null,{"$f":"IFERROR(WORKDAY(C2011,S2010,DiasNOLaborables),\"\")","v":"2021-07-02"},{"$f":"+IF(C2011=\"\",\"\",IF(J2011=\"\",\"SIN RESPUESTA\",(IF(J2011<=M2011,\"A TIEMPO\",\"FUERA DE TIEMPO\"))))","v":"A TIEMPO"},{"$f":"IF(J2011=\"\",\"\",NETWORKDAYS(C2011+1,J2011,DiasNOLaborables))","v":16},"",null,null,20]
[2001,20219910031372,"2021-06-02","CIUDADANO","CORREO ELECTRÓNICO","SOLICITUD DE INFORMACIÓN Y DOCUMENTOS","ADMINISTRATIVA","NO","GRUPO DE SERVICIO AL CIUDADANO ","2021-06-28","CORREO ELECTRÓNICO",null,{"$f":"IFERROR(WORKDAY(C2012,S2011,DiasNOLaborables),\"\")","v":"2021-07-02"},{"$f":"+IF(C2012=\"\",\"\",IF(J2012=\"\",\"SIN RESPUESTA\",(IF(J2012<=M2012,\"A TIEMPO\",\"FUERA DE TIEMPO\"))))","v":"A TIEMPO"},{"$f":"IF(J2012=\"\",\"\",NETWORKDAYS(C2012+1,J2012,DiasNOLaborables))","v":16},"",null,null,20]
[2002,20219050067592,"2021-06-02","CIUDADANO","MODULO CONTACTENOS","SOLICITUD DE INFORMACIÓN Y DOCUMENTOS","SOLICITUD DE INFORMACIÓN HIDROMETEOROLÓGICA","NO","GRUPO DE SERVICIO AL CIUDADANO ","2021-06-28","CORREO ELECTRÓNICO",null,{"$f":"IFERROR(WORKDAY(C2013,S2012,DiasNOLaborables),\"\")","v":"2021-07-02"},{"$f":"+IF(C2013=\"\",\"\",IF(J2013=\"\",\"SIN RESPUESTA\",(IF(J2013<=M2013,\"A TIEMPO\",\"FUERA DE TIEMPO\"))))","v":"A TIEMPO"},{"$f":"IF(J2013=\"\",\"\",NETWORKDAYS(C2013+1,J2013,DiasNOLaborables))","v":16},"",null,null,20]
[2003,20219050068112,"2021-06-03","CIUDADANO","CORREO ELECTRÓNICO","SOLICITUD DE INFORMACIÓN Y DOCUMENTOS","SOLICITUD DE INFORMACIÓN HIDROMETEOROLÓGICA","NO","GRUPO DE SERVICIO AL CIUDADANO ","2021-06-28","CORREO ELECTRÓNICO",null,{"$f":"IFERROR(WORKDAY(C2014,S2013,DiasNOLaborables),\"\")","v":"2021-07-06"},{"$f":"+IF(C2014=\"\",\"\",IF(J2014=\"\",\"SIN RESPUESTA\",(IF(J2014<=M2014,\"A TIEMPO\",\"FUERA DE TIEMPO\"))))","v":"A TIEMPO"},{"$f":"IF(J2014=\"\",\"\",NETWORKDAYS([5]Hoja1!C2012+1,[5]Hoja1!P2012,DiasNOLaborables))","v":9},"",null,null,20]
[2004,20219050068132,"2021-06-03","CIUDADANO","CORREO ELECTRÓNICO","SOLICITUD DE INFORMACIÓN Y DOCUMENTOS","SOLICITUD DE INFORMACIÓN HIDROMETEOROLÓGICA","NO","GRUPO DE SERVICIO AL CIUDADANO ","2021-06-28","CORREO ELECTRÓNICO",null,{"$f":"IFERROR(WORKDAY(C2015,S2014,DiasNOLaborables),\"\")","v":"2021-07-06"},{"$f":"+IF(C2015=\"\",\"\",IF(J2015=\"\",\"SIN RESPUESTA\",(IF(J2015<=M2015,\"A TIEMPO\",\"FUERA DE TIEMPO\"))))","v":"A TIEMPO"},{"$f":"IF(J2015=\"\",\"\",NETWORKDAYS(C2015+1,J2015,DiasNOLaborables))","v":15},"",null,null,20]
[2005,20219050068172,"2021-06-03","CIUDADANO","CORREO ELECTRÓNICO","SOLICITUD DE INFORMACIÓN Y DOCUMENTOS","SOLICITUD DE INFORMACIÓN HIDROMETEOROLÓGICA","NO","GRUPO DE SERVICIO AL CIUDADANO ","2021-06-28","CORREO ELECTRÓNICO",null,{"$f":"IFERROR(WORKDAY(C2016,S2015,DiasNOLaborables),\"\")","v":"2021-07-06"},{"$f":"+IF(C2016=\"\",\"\",IF(J2016=\"\",\"SIN RESPUESTA\",(IF(J2016<=M2016,\"A TIEMPO\",\"FUERA DE TIEMPO\"))))","v":"A TIEMPO"},{"$f":"IF(J2016=\"\",\"\",NETWORKDAYS(C2016+1,J2016,DiasNOLaborables))","v":15},"",null,null,20]
[2006,20219050068222,"2021-06-03","EMPRESA PRIVADA","CORREO ELECTRÓNICO","SOLICITUD DE INFORMACIÓN Y DOCUMENTOS","SOLICITUD DE INFORMACIÓN HIDROMETEOROLÓGICA","NO","GRUPO DE SERVICIO AL CIUDADANO ","2021-06-28","CORREO ELECTRÓNICO",null,{"$f":"IFERROR(WORKDAY(C2017,S2016,DiasNOLaborables),\"\")","v":"2021-07-06"},{"$f":"+IF(C2017=\"\",\"\",IF(J2017=\"\",\"SIN RESPUESTA\",(IF(J2017<=M2017,\"A TIEMPO\",\"FUERA DE TIEMPO\"))))","v":"A TIEMPO"},{"$f":"IF(J2017=\"\",\"\",NETWORKDAYS(C2017+1,J2017,DiasNOLaborables))","v":15},"",null,null,20]
[2007,20219050067882,"2021-06-03","CIUDADANO","CORREO ELECTRÓNICO","SOLICITUD DE INFORMACIÓN Y DOCUMENTOS","INFORMES AMBIENTALES","SI","SUBDIRECCIÓN DE HIDROLOGÍA","2021-06-10","CORREO ELECTRÓNICO",null,{"$f":"IFERROR(WORKDAY(C2018,S2017,DiasNOLaborables),\"\")","v":"2021-07-06"},{"$f":"+IF(C2018=\"\",\"\",IF(J2018=\"\",\"SIN RESPUESTA\",(IF(J2018<=M2018,\"A TIEMPO\",\"FUERA DE TIEMPO\"))))","v":"A TIEMPO"},{"$f":"IF(J2018=\"\",\"\",NETWORKDAYS(C2018+1,J2018,DiasNOLaborables))","v":4},{"$f":"IF(NETWORKDAYS(M2018+1,J2018,DiasNOLaborables)<=0,\"\",NETWORKDAYS(M2018+1,J2018,DiasNOLaborables))","v":""},null,null,20]
[2008,20219050067892,"2021-06-03","CIUDADANO","CORREO ELECTRÓNICO","SOLICITUD DE INFORMACIÓN Y DOCUMENTOS","BOSQUES","SI","SUBDIRECCIÓN DE ECOSISTEMAS E INFORMACIÓN AMBIENTAL","2021-06-15","CORREO ELECTRÓNICO",null,{"$f":"IFERROR(WORKDAY(C2019,S2018,DiasNOLaborables),\"\")","v":"2021-07-06"},{"$f":"+IF(C2019=\"\",\"\",IF(J2019=\"\",\"SIN RESPUESTA\",(IF(J2019<=M2019,\"A TIEMPO\",\"FUERA DE TIEMPO\"))))","v":"A TIEMPO"},{"$f":"IF(J2019=\"\",\"\",NETWORKDAYS(C2019+1,J2019,DiasNOLaborables))","v":6},"",null,null,20]
[2009,20219050067902,"2021-06-03","CIUDADANO","CORREO ELECTRÓNICO","SOLICITUD DE INFORMACIÓN Y DOCUMENTOS","BOSQUES","SI","SUBDIRECCIÓN DE ECOSISTEMAS E INFORMACIÓN AMBIENTAL","2021-06-17","CORREO ELECTRÓNICO",null,{"$f":"IFERROR(WORKDAY(C2020,S2019,DiasNOLaborables),\"\")","v":"2021-07-06"},{"$f":"+IF(C2020=\"\",\"\",IF(J2020=\"\",\"SIN RESPUESTA\",(IF(J2020<=M2020,\"A TIEMPO\",\"FUERA DE TIEMPO\"))))","v":"A TIEMPO"},{"$f":"IF(J2020=\"\",\"\",NETWORKDAYS(C2020+1,J2020,DiasNOLaborables))","v":8},"",null,null,30]
[2010,20219050067912,"2021-06-03","CIUDADANO","CORREO ELECTRÓNICO","PETICIÓN","INFORMES AMBIENTALES","SI","SUBDIRECCIÓN DE METEOROLOGÍA","2021-07-09","CORREO ELECTRÓNICO",null,{"$f":"IFERROR(WORKDAY(C2021,S2020,DiasNOLaborables),\"\")","v":"2021-07-21"},{"$f":"+IF(C2021=\"\",\"\",IF(J2021=\"\",\"SIN RESPUESTA\",(IF(J2021<=M2021,\"A TIEMPO\",\"FUERA DE TIEMPO\"))))","v":"A TIEMPO"},{"$f":"IF(J2021=\"\",\"\",NETWORKDAYS(C2021+1,J2021,DiasNOLaborables))","v":23},"",null,null,20]
[2011,20219050067922,"2021-06-03","CIUDADANO","CORREO ELECTRÓNICO","SOLICITUD DE INFORMACIÓN Y DOCUMENTOS","REGISTROS AMBIENTALES","SI","SUBDIRECCIÓN DE METEOROLOGÍA","2021-06-15","CORREO ELECTRÓNICO",null,{"$f":"IFERROR(WORKDAY(C2022,S2021,DiasNOLaborables),\"\")","v":"2021-07-06"},{"$f":"+IF(C2022=\"\",\"\",IF(J2022=\"\",\"SIN RESPUESTA\",(IF(J2022<=M2022,\"A TIEMPO\",\"FUERA DE TIEMPO\"))))","v":"A TIEMPO"},{"$f":"IF(J2022=\"\",\"\",NETWORKDAYS(C2022+1,J2022,DiasNOLaborables))","v":6},"",null,null,30]
[2012,20219050067932,"2021-06-03","CIUDADANO","CORREO ELECTRÓNICO","PETICIÓN","ADMINISTRATIVA","SI","GRUPO DE COMUNICACIONES","2021-06-23","CORREO ELECTRÓNICO",null,{"$f":"IFERROR(WORKDAY(C2023,S2022,DiasNOLaborables),\"\")","v":"2021-07-21"},{"$f":"+IF(C2023=\"\",\"\",IF(J2023=\"\",\"SIN RESPUESTA\",(IF(J2023<=M2023,\"A TIEMPO\",\"FUERA DE TIEMPO\"))))","v":"A TIEMPO"},{"$f":"IF(J2023=\"\",\"\",NETWORKDAYS(C2023+1,J2023,DiasNOLaborables))","v":12},"",null,null,20]
[2013,20219050067942,"2021-06-03","CIUDADANO","CORREO ELECTRÓNICO","SOLICITUD DE INFORMACIÓN Y DOCUMENTOS","BOSQUES","SI","SUBDIRECCIÓN DE ECOSISTEMAS E INFORMACIÓN AMBIENTAL","2021-06-23","CORREO ELECTRÓNICO",null,{"$f":"IFERROR(WORKDAY(C2024,S2023,DiasNOLaborables),\"\")","v":"2021-07-06"},{"$f":"+IF(C2024=\"\",\"\",IF(J2024=\"\",\"SIN RESPUESTA\",(IF(J2024<=M2024,\"A TIEMPO\",\"FUERA DE TIEMPO\"))))","v":"A TIEMPO"},{"$f":"IF(J2024=\"\",\"\",NETWORKDAYS(C2024+1,J2024,DiasNOLaborables))","v":12},"",null,null,30]
[2014,20219050067972,"2021-06-03","CIUDADANO","CORREO ELECTRÓNICO","PETICIÓN","REGISTROS AMBIENTALES","SI","SUBDIRECCIÓN DE METEOROLOGÍA","2021-06-22","CORREO ELECTRÓNICO",null,{"$f":"IFERROR(WORKDAY(C2025,S2024,DiasNOLaborables),\"\")","v":"2021-07-21"},{"$f":"+IF(C2025=\"\",\"\",IF(J2025=\"\",\"SIN RESPUESTA\",(IF(J2025<=M2025,\"A TIEMPO\",\"FUERA DE TIEMPO\"))))","v":"A TIEMPO"},{"$f":"IF(J2025=\"\",\"\",NETWORKDAYS(C2025+1,J2025,DiasNOLaborables))","v":11},"",null,null,20]
[2015,20219050067982,"2021-06-03","CIUDADANO","CORREO ELECTRÓNICO","SOLICITUD DE INFORMACIÓN Y DOCUMENTOS","INFORMES AMBIENTALES","SI","SUBDIRECCIÓN DE METEOROLOGÍA","2021-06-03","CORREO ELECTRÓNICO",null,{"$f":"IFERROR(WORKDAY(C2026,S2025,DiasNOLaborables),\"\")","v":"2021-07-06"},{"$f":"+IF(C2026=\"\",\"\",IF(J2026=\"\",\"SIN RESPUESTA\",(IF(J2026<=M2026,\"A TIEMPO\",\"FUERA DE TIEMPO\"))))","v":"A TIEMPO"},{"$f":"IF(J2026=\"\",\"\",NETWORKDAYS(C2026+1,J2026,DiasNOLaborables))","v":-2},"",null,null,35]
[2016,20219050068022,"2021-06-03","CIUDADANO","CORREO ELECTRÓNICO","CERTIFICACIONES DE TIEMPO, CLIMA Y EVENTOS HIDROLÓGICOS","CERTIFICACIONES DE TIEMPO Y CLIMA","SI","SUBDIRECCIÓN DE METEOROLOGÍA","2021-06-30","CORREO ELECTRÓNICO",null,{"$f":"IFERROR(WORKDAY(C2027,S2026,DiasNOLaborables),\"\")","v":"2021-07-28"},{"$f":"+IF(C2027=\"\",\"\",IF(J2027=\"\",\"SIN RESPUESTA\",(IF(J2027<=M2027,\"A TIEMPO\",\"FUERA DE TIEMPO\"))))","v":"A TIEMPO"},{"$f":"IF(J2027=\"\",\"\",NETWORKDAYS(C2027+1,J2027,DiasNOLaborables))","v":17},"",null,null,20]
[2017,20219050068032,"2021-06-03","CIUDADANO","CORREO ELECTRÓNICO","SOLICITUD DE INFORMACIÓN Y DOCUMENTOS","REGISTROS AMBIENTALES","SI","SUBDIRECCIÓN DE ESTUDIOS AMBIENTALES","2021-06-03","CORREO ELECTRÓNICO",null,{"$f":"IFERROR(WORKDAY(C2028,S2027,DiasNOLaborables),\"\")","v":"2021-07-06"},{"$f":"+IF(C2028=\"\",\"\",IF(J2028=\"\",\"SIN RESPUESTA\",(IF(J2028<=M2028,\"A TIEMPO\",\"FUERA DE TIEMPO\"))))","v":"A TIEMPO"},{"$f":"IF(J2028=\"\",\"\",NETWORKDAYS(C2028+1,J2028,DiasNOLaborables))","v":-2},"",null,null,35]
[2018,20219050068052,"2021-06-03","CIUDADANO","CORREO ELECTRÓNICO","CERTIFICACIONES DE TIEMPO, CLIMA Y EVENTOS HIDROLÓGICOS","CERTIFICACIONES DE TIEMPO Y CLIMA","SI","SUBDIRECCIÓN DE METEOROLOGÍA","2021-06-25","CORREO ELECTRÓNICO",null,{"$f":"IFERROR(WORKDAY(C2029,S2028,DiasNOLaborables),\"\")","v":"2021-07-28"},{"$f":"+IF(C2029=\"\",\"\",IF(J2029=\"\",\"SIN RESPUESTA\",(IF(J2029<=M2029,\"A TIEMPO\",\"FUERA DE TIEMPO\"))))","v":"A TIEMPO"},{"$f":"IF(J2029=\"\",\"\",NETWORKDAYS(C2029+1,J2029,DiasNOLaborables))","v":14},"",null,null,35]
[2019,20219050068062,"2021-06-03","CIUDADANO","CORREO ELECTRÓNICO","CERTIFICACIONES DE TIEMPO, CLIMA Y EVENTOS HIDROLÓGICOS","CERTIFICACIONES DE TIEMPO Y CLIMA","SI","SUBDIRECCIÓN DE METEOROLOGÍA","2021-06-25","CORREO ELECTRÓNICO",null,{"$f":"IFERROR(WORKDAY(C2030,S2029,DiasNOLaborables),\"\")","v":"2021-07-28"},{"$f":"+IF(C2030=\"\",\"\",IF(J2030=\"\",\"SIN RESPUESTA\",(IF(J2030<=M2030,\"A TIEMPO\",\"FUERA DE TIEMPO\"))))","v":"A TIEMPO"},{"$f":"IF(J2030=\"\",\"\",NETWORKDAYS(C2030+1,J2030,DiasNOLaborables))","v":14},"",null,null,35]
[2020,20219050068072,"2021-06-03","CIUDADANO","CORREO ELECTRÓNICO","CERTIFICACIONES DE TIEMPO, CLIMA Y EVENTOS HIDROLÓGICOS","CERTIFICACIONES DE TIEMPO Y CLIMA","SI","SUBDIRECCIÓN DE METEOROLOGÍA","2021-06-25","CORREO ELECTRÓNICO",null,{"$f":"IFERROR(WORKDAY(C2031,S2030,DiasNOLaborables),\"\")","v":"2021-07-28"},{"$f":"+IF(C2031=\"\",\"\",IF(J2031=\"\",\"SIN RESPUESTA\",(IF(J2031<=M2031,\"A TIEMPO\",\"FUERA DE TIEMPO\"))))","v":"A TIEMPO"},{"$f":"IF(J2031=\"\",\"\",NETWORKDAYS(C2031+1,J2031,DiasNOLaborables))","v":14},"",null,null,20]
[2021,20219050068142,"2021-06-03","CIUDADANO","CORREO ELECTRÓNICO","SOLICITUD DE INFORMACIÓN Y DOCUMENTOS","REGISTROS AMBIENTALES","SI","SUBDIRECCIÓN DE HIDROLOGÍA","2021-06-08","CORREO ELECTRÓNICO",null,{"$f":"IFERROR(WORKDAY(C2032,S2031,DiasNOLaborables),\"\")","v":"2021-07-06"},{"$f":"+IF(C2032=\"\",\"\",IF(J2032=\"\",\"SIN RESPUESTA\",(IF(J2032<=M2032,\"A TIEMPO\",\"FUERA DE TIEMPO\"))))","v":"A TIEMPO"},{"$f":"IF(J2032=\"\",\"\",NETWORKDAYS(C2032+1,J2032,DiasNOLaborables))","v":2},"",null,null,35]
[2022,20219050068152,"2021-06-03","CIUDADANO","CORREO ELECTRÓNICO","CERTIFICACIONES DE TIEMPO, CLIMA Y EVENTOS HIDROLÓGICOS","CERTIFICACIONES DE TIEMPO Y CLIMA","SI","SUBDIRECCIÓN DE METEOROLOGÍA","2021-06-25","CORREO ELECTRÓNICO",null,{"$f":"IFERROR(WORKDAY(C2033,S2032,DiasNOLaborables),\"\")","v":"2021-07-28"},{"$f":"+IF(C2033=\"\",\"\",IF(J2033=\"\",\"SIN RESPUESTA\",(IF(J2033<=M2033,\"A TIEMPO\",\"FUERA DE TIEMPO\"))))","v":"A TIEMPO"},{"$f":"IF(J2033=\"\",\"\",NETWORKDAYS(C2033+1,J2033,DiasNOLaborables))","v":14},"",null,null,35]
[2023,20219050068162,"2021-06-03","CIUDADANO","CORREO ELECTRÓNICO","CERTIFICACIONES DE TIEMPO, CLIMA Y EVENTOS HIDROLÓGICOS","CERTIFICACIONES DE TIEMPO Y CLIMA","SI","SUBDIRECCIÓN DE METEOROLOGÍA","2021-06-25","CORREO ELECTRÓNICO",null,{"$f":"IFERROR(WORKDAY(C2034,S2033,DiasNOLaborables),\"\")","v":"2021-07-28"},{"$f":"+IF(C2034=\"\",\"\",IF(J2034=\"\",\"SIN RESPUESTA\",(IF(J2034<=M2034,\"A TIEMPO\",\"FUERA DE TIEMPO\"))))","v":"A TIEMPO"},{"$f":"IF(J2034=\"\",\"\",NETWORKDAYS(C2034+1,J2034,DiasNOLaborables))","v":14},"",null,null,30]
[2024,20219050068232,"2021-06-03","CIUDADANO","CORREO ELECTRÓNICO","PETICIÓN","BOSQUES","SI","SUBDIRECCIÓN DE ECOSISTEMAS E INFORMACIÓN AMBIENTAL","2021-06-23","CORREO ELECTRÓNICO",null,{"$f":"IFERROR(WORKDAY(C2035,S2034,DiasNOLaborables),\"\")","v":"2021-07-21"},{"$f":"+IF(C2035=\"\",\"\",IF(J2035=\"\",\"SIN RESPUESTA\",(IF(J2035<=M2035,\"A TIEMPO\",\"FUERA DE TIEMPO\"))))","v":"A TIEMPO"},{"$f":"IF(J2035=\"\",\"\",NETWORKDAYS(C2035+1,J2035,DiasNOLaborables))","v":12},"",null,null,20]
[2025,20219050068242,"2021-06-03","CIUDADANO","CORREO ELECTRÓNICO","SOLICITUD DE INFORMACIÓN Y DOCUMENTOS","ADMINISTRATIVA","SI","GRUPO DE ADMINISTRACIÓN Y DESARROLLO DEL TALENTO HUMANO","2021-06-30","CORREO ELECTRÓNICO",null,{"$f":"IFERROR(WORKDAY(C2036,S2035,DiasNOLaborables),\"\")","v":"2021-07-06"},{"$f":"+IF(C2036=\"\",\"\",IF(J2036=\"\",\"SIN RESPUESTA\",(IF(J2036<=M2036,\"A TIEMPO\",\"FUERA DE TIEMPO\"))))","v":"A TIEMPO"},{"$f":"IF(J2036=\"\",\"\",NETWORKDAYS(C2036+1,J2036,DiasNOLaborables))","v":17},"",null,null,20]
[2026,20219050068252,"2021-06-03","CIUDADANO","CORREO ELECTRÓNICO","SOLICITUD DE INFORMACIÓN Y DOCUMENTOS","INFORMES AMBIENTALES","SI","SUBDIRECCIÓN DE HIDROLOGÍA","2021-06-04","CORREO ELECTRÓNICO",null,{"$f":"IFERROR(WORKDAY(C2037,S2036,DiasNOLaborables),\"\")","v":"2021-07-06"},{"$f":"+IF(C2037=\"\",\"\",IF(J2037=\"\",\"SIN RESPUESTA\",(IF(J2037<=M2037,\"A TIEMPO\",\"FUERA DE TIEMPO\"))))","v":"A TIEMPO"},{"$f":"IF(J2037=\"\",\"\",NETWORKDAYS(C2037+1,J2037,DiasNOLaborables))","v":1},"",null,null,20]
[2027,20219050067742,"2021-06-03","EMPRESA PRIVADA","MODULO CONTACTENOS","SOLICITUD DE INFORMACIÓN Y DOCUMENTOS","REGISTROS AMBIENTALES","SI","SUBDIRECCIÓN DE ESTUDIOS AMBIENTALES","2021-06-15","CORREO ELECTRÓNICO",null,{"$f":"IFERROR(WORKDAY(C2038,S2037,DiasNOLaborables),\"\")","v":"2021-07-06"},{"$f":"+IF(C2038=\"\",\"\",IF(J2038=\"\",\"SIN RESPUESTA\",(IF(J2038<=M2038,\"A TIEMPO\",\"FUERA DE TIEMPO\"))))","v":"A TIEMPO"},{"$f":"IF(J2038=\"\",\"\",NETWORKDAYS(C2038+1,J2038,DiasNOLaborables))","v":6},"",null,null,20]
[2028,20219050067832,"2021-06-03","FUNCIONARIO IDEAM","MODULO CONTACTENOS","SOLICITUD DE INFORMACIÓN Y DOCUMENTOS","ADMINISTRATIVA","SI","GRUPO DE ADMINISTRACIÓN Y DESARROLLO DEL TALENTO HUMANO","2021-06-28",null,null,{"$f":"IFERROR(WORKDAY(C2039,S2038,DiasNOLaborables),\"\")","v":"2021-07-06"},{"$f":"+IF(C2039=\"\",\"\",IF(J2039=\"\",\"SIN RESPUESTA\",(IF(J2039<=M2039,\"A TIEMPO\",\"FUERA DE TIEMPO\"))))","v":"A TIEMPO"},{"$f":"IF(J2039=\"\",\"\",NETWORKDAYS(C2039+1,J2039,DiasNOLaborables))","v":15},"",null,null,20]
[2029,20219050068102,"2021-06-03","CIUDADANO","MODULO CONTACTENOS","SOLICITUD DE INFORMACIÓN Y DOCUMENTOS","WEB Y CORREO","SI","OFICINA DE INFORMÁTICA","2021-06-17","CORREO ELECTRÓNICO",null,{"$f":"IFERROR(WORKDAY(C2040,S2039,DiasNOLaborables),\"\")","v":"2021-07-06"},{"$f":"+IF(C2040=\"\",\"\",IF(J2040=\"\",\"SIN RESPUESTA\",(IF(J2040<=M2040,\"A TIEMPO\",\"FUERA DE TIEMPO\"))))","v":"A TIEMPO"},{"$f":"IF(J2040=\"\",\"\",NETWORKDAYS(C2040+1,J2040,DiasNOLaborables))","v":8},"",null,null,20]
[2030,20219050068212,"2021-06-03","CIUDADANO","MODULO CONTACTENOS","SOLICITUD DE INFORMACIÓN Y DOCUMENTOS","SOLICITUD DE INFORMACIÓN HIDROMETEOROLÓGICA","SI","SUBDIRECCIÓN DE HIDROLOGÍA","2021-06-10","CORREO ELECTRÓNICO",null,{"$f":"IFERROR(WORKDAY(C2041,S2040,DiasNOLaborables),\"\")","v":"2021-07-06"},{"$f":"+IF(C2041=\"\",\"\",IF(J2041=\"\",\"SIN RESPUESTA\",(IF(J2041<=M2041,\"A TIEMPO\",\"FUERA DE TIEMPO\"))))","v":"A TIEMPO"},{"$f":"IF(J2041=\"\",\"\",NETWORKDAYS(C2041+1,J2041,DiasNOLaborables))","v":4},"",null,null,35]
[2031,20219050068302,"2021-06-03","CIUDADANO","MODULO CONTACTENOS","CERTIFICACIONES DE TIEMPO, CLIMA Y EVENTOS HIDROLÓGICOS","CERTIFICACIONES DE TIEMPO Y CLIMA","SI","SUBDIRECCIÓN DE METEOROLOGÍA","2021-06-30","CORREO ELECTRÓNICO",null,{"$f":"IFERROR(WORKDAY(C2042,S2041,DiasNOLaborables),\"\")","v":"2021-07-28"},{"$f":"+IF(C2042=\"\",\"\",IF(J2042=\"\",\"SIN RESPUESTA\",(IF(J2042<=M2042,\"A TIEMPO\",\"FUERA DE TIEMPO\"))))","v":"A TIEMPO"},{"$f":"IF(J2042=\"\",\"\",NETWORKDAYS(C2042+1,J2042,DiasNOLaborables))","v":17},"",null,null,35]
[2032,20219050068292,"2021-06-03","CIUDADANO","MODULO CONTACTENOS","CERTIFICACIONES DE TIEMPO, CLIMA Y EVENTOS HIDROLÓGICOS","CERTIFICACIONES DE TIEMPO Y CLIMA","SI","SUBDIRECCIÓN DE METEOROLOGÍA","2021-06-30","CORREO ELECTRÓNICO",null,{"$f":"IFERROR(WORKDAY(C2043,S2042,DiasNOLaborables),\"\")","v":"2021-07-28"},{"$f":"+IF(C2043=\"\",\"\",IF(J2043=\"\",\"SIN RESPUESTA\",(IF(J2043<=M2043,\"A TIEMPO\",\"FUERA DE TIEMPO\"))))","v":"A TIEMPO"},{"$f":"IF(J2043=\"\",\"\",NETWORKDAYS(C2043+1,J2043,DiasNOLaborables))","v":17},"",null,null,20]
[2033,20219050068312,"2021-06-03","CIUDADANO","MODULO CONTACTENOS","SOLICITUD DE INFORMACIÓN Y DOCUMENTOS","WEB Y CORREO","SI","OFICINA DE INFORMÁTICA","2021-06-17","CORREO ELECTRÓNICO",null,{"$f":"IFERROR(WORKDAY(C2044,S2043,DiasNOLaborables),\"\")","v":"2021-07-06"},{"$f":"+IF(C2044=\"\",\"\",IF(J2044=\"\",\"SIN RESPUESTA\",(IF(J2044<=M2044,\"A TIEMPO\",\"FUERA DE TIEMPO\"))))","v":"A TIEMPO"},{"$f":"IF(J2044=\"\",\"\",NETWORKDAYS(C2044+1,J2044,DiasNOLaborables))","v":8},"",null,null,20]
[2034,20219050068002,"2021-06-03","EMPRESA PRIVADA","MODULO CONTACTENOS","SOLICITUD DE INFORMACIÓN Y DOCUMENTOS","SOLICITUD DE INFORMACIÓN HIDROMETEOROLÓGICA","NO","GRUPO DE SERVICIO AL CIUDADANO ","2021-06-16","CORREO ELECTRÓNICO",null,{"$f":"IFERROR(WORKDAY(C2045,S2044,DiasNOLaborables),\"\")","v":"2021-07-06"},{"$f":"+IF(C2045=\"\",\"\",IF(J2045=\"\",\"SIN RESPUESTA\",(IF(J2045<=M2045,\"A TIEMPO\",\"FUERA DE TIEMPO\"))))","v":"A TIEMPO"},{"$f":"IF(J2045=\"\",\"\",NETWORKDAYS(C2045+1,J2045,DiasNOLaborables))","v":7},"",null,null,20]
[2035,20219050068012,"2021-06-03","CIUDADANO","MODULO CONTACTENOS","SOLICITUD DE INFORMACIÓN Y DOCUMENTOS","SOLICITUD DE INFORMACIÓN HIDROMETEOROLÓGICA","NO","GRUPO DE SERVICIO AL CIUDADANO ","2021-06-16","CORREO ELECTRÓNICO",null,{"$f":"IFERROR(WORKDAY(C2046,S2045,DiasNOLaborables),\"\")","v":"2021-07-06"},{"$f":"+IF(C2046=\"\",\"\",IF(J2046=\"\",\"SIN RESPUESTA\",(IF(J2046<=M2046,\"A TIEMPO\",\"FUERA DE TIEMPO\"))))","v":"A TIEMPO"},{"$f":"IF(J2046=\"\",\"\",NETWORKDAYS(C2046+1,J2046,DiasNOLaborables))","v":7},"",null,null,20]
[2036,20219050068122,"2021-06-03","CIUDADANO","MODULO CONTACTENOS","SOLICITUD DE INFORMACIÓN Y DOCUMENTOS","SOLICITUD DE INFORMACIÓN HIDROMETEOROLÓGICA","NO","GRUPO DE SERVICIO AL CIUDADANO ","2021-06-16","CORREO ELECTRÓNICO",null,{"$f":"IFERROR(WORKDAY(C2047,S2046,DiasNOLaborables),\"\")","v":"2021-07-06"},{"$f":"+IF(C2047=\"\",\"\",IF(J2047=\"\",\"SIN RESPUESTA\",(IF(J2047<=M2047,\"A TIEMPO\",\"FUERA DE TIEMPO\"))))","v":"A TIEMPO"},{"$f":"IF(J2047=\"\",\"\",NETWORKDAYS(C2047+1,J2047,DiasNOLaborables))","v":7},"",null,null,20]
[2037,20219050068262,"2021-06-03","CIUDADANO","MODULO CONTACTENOS","SOLICITUD DE INFORMACIÓN Y DOCUMENTOS","SOLICITUD DE INFORMACIÓN HIDROMETEOROLÓGICA","NO","GRUPO DE SERVICIO AL CIUDADANO ","2021-06-16","CORREO ELECTRÓNICO",null,{"$f":"IFERROR(WORKDAY(C2048,S2047,DiasNOLaborables),\"\")","v":"2021-07-06"},{"$f":"+IF(C2048=\"\",\"\",IF(J2048=\"\",\"SIN RESPUESTA\",(IF(J2048<=M2048,\"A TIEMPO\",\"FUERA DE TIEMPO\"))))","v":"A TIEMPO"},{"$f":"IF(J2048=\"\",\"\",NETWORKDAYS(C2048+1,J2048,DiasNOLaborables))","v":7},"",null,null,20]
[2038,20219050068272,"2021-06-03","CIUDADANO","MODULO CONTACTENOS","SOLICITUD DE INFORMACIÓN Y DOCUMENTOS","SOLICITUD DE INFORMACIÓN HIDROMETEOROLÓGICA","NO","GRUPO DE SERVICIO AL CIUDADANO ","2021-06-17","CORREO ELECTRÓNICO",null,{"$f":"IFERROR(WORKDAY(C2049,S2048,DiasNOLaborables),\"\")","v":"2021-07-06"},{"$f":"+IF(C2049=\"\",\"\",IF(J2049=\"\",\"SIN RESPUESTA\",(IF(J2049<=M2049,\"A TIEMPO\",\"FUERA DE TIEMPO\"))))","v":"A TIEMPO"},{"$f":"IF(J2049=\"\",\"\",NETWORKDAYS(C2049+1,J2049,DiasNOLaborables))","v":8},"",null,null,20]
[2039,20219050068322,"2021-06-03","ENTIDAD PÚBLICA","MODULO CONTACTENOS","SOLICITUD DE INFORMACIÓN Y DOCUMENTOS","SOLICITUD DE INFORMACIÓN HIDROMETEOROLÓGICA","NO","GRUPO DE SERVICIO AL CIUDADANO ","2021-06-17","CORREO ELECTRÓNICO",null,{"$f":"IFERROR(WORKDAY(C2050,S2049,DiasNOLaborables),\"\")","v":"2021-07-06"},{"$f":"+IF(C2050=\"\",\"\",IF(J2050=\"\",\"SIN RESPUESTA\",(IF(J2050<=M2050,\"A TIEMPO\",\"FUERA DE TIEMPO\"))))","v":"A TIEMPO"},{"$f":"IF(J2050=\"\",\"\",NETWORKDAYS(C2050+1,J2050,DiasNOLaborables))","v":8},"",null,null,20]
[2040,20219050068332,"2021-06-03","ACADEMIA ","MODULO CONTACTENOS","SOLICITUD DE INFORMACIÓN Y DOCUMENTOS","SOLICITUD DE INFORMACIÓN HIDROMETEOROLÓGICA","NO","GRUPO DE SERVICIO AL CIUDADANO ","2021-06-17","CORREO ELECTRÓNICO",null,{"$f":"IFERROR(WORKDAY(C2051,S2050,DiasNOLaborables),\"\")","v":"2021-07-06"},{"$f":"+IF(C2051=\"\",\"\",IF(J2051=\"\",\"SIN RESPUESTA\",(IF(J2051<=M2051,\"A TIEMPO\",\"FUERA DE TIEMPO\"))))","v":"A TIEMPO"},{"$f":"IF(J2051=\"\",\"\",NETWORKDAYS(C2051+1,J2051,DiasNOLaborables))","v":8},"",null,null,20]
[2041,20219050067772,"2021-06-03","CIUDADANO","MODULO CONTACTENOS","SOLICITUD DE INFORMACIÓN Y DOCUMENTOS","SOLICITUD DE INFORMACIÓN HIDROMETEOROLÓGICA","NO","GRUPO DE SERVICIO AL CIUDADANO ","2021-06-29","CORREO ELECTRÓNICO",null,{"$f":"IFERROR(WORKDAY(C2052,S2051,DiasNOLaborables),\"\")","v":"2021-07-06"},{"$f":"+IF(C2052=\"\",\"\",IF(J2052=\"\",\"SIN RESPUESTA\",(IF(J2052<=M2052,\"A TIEMPO\",\"FUERA DE TIEMPO\"))))","v":"A TIEMPO"},{"$f":"IF(J2052=\"\",\"\",NETWORKDAYS(C2052+1,J2052,DiasNOLaborables))","v":16},"",null,null,20]
[2042,20219050067782,"2021-06-03","ACADEMIA","MODULO CONTACTENOS","SOLICITUD DE INFORMACIÓN Y DOCUMENTOS","SOLICITUD DE INFORMACIÓN HIDROMETEOROLÓGICA","NO","GRUPO DE SERVICIO AL CIUDADANO ","2021-06-29","CORREO ELECTRÓNICO",null,{"$f":"IFERROR(WORKDAY(C2053,S2052,DiasNOLaborables),\"\")","v":"2021-07-06"},{"$f":"+IF(C2053=\"\",\"\",IF(J2053=\"\",\"SIN RESPUESTA\",(IF(J2053<=M2053,\"A TIEMPO\",\"FUERA DE TIEMPO\"))))","v":"A TIEMPO"},{"$f":"IF(J2053=\"\",\"\",NETWORKDAYS(C2053+1,J2053,DiasNOLaborables))","v":16},"",null,null,20]
[2043,20219050067822,"2021-06-03","CIUDADANO","MODULO CONTACTENOS","SOLICITUD DE INFORMACIÓN Y DOCUMENTOS","SOLICITUD DE INFORMACIÓN HIDROMETEOROLÓGICA","NO","GRUPO DE SERVICIO AL CIUDADANO ","2021-06-29","CORREO ELECTRÓNICO",null,{"$f":"IFERROR(WORKDAY(C2054,S2053,DiasNOLaborables),\"\")","v":"2021-07-06"},{"$f":"+IF(C2054=\"\",\"\",IF(J2054=\"\",\"SIN RESPUESTA\",(IF(J2054<=M2054,\"A TIEMPO\",\"FUERA DE TIEMPO\"))))","v":"A TIEMPO"},{"$f":"IF(J2054=\"\",\"\",NETWORKDAYS(C2054+1,J2054,DiasNOLaborables))","v":16},"",null,null,20]
[2044,20219050067842,"2021-06-03","ACADEMIA","MODULO CONTACTENOS","SOLICITUD DE INFORMACIÓN Y DOCUMENTOS","SOLICITUD DE INFORMACIÓN HIDROMETEOROLÓGICA","NO","GRUPO DE SERVICIO AL CIUDADANO ","2021-06-29","CORREO ELECTRÓNICO",null,{"$f":"IFERROR(WORKDAY(C2055,S2054,DiasNOLaborables),\"\")","v":"2021-07-06"},{"$f":"+IF(C2055=\"\",\"\",IF(J2055=\"\",\"SIN RESPUESTA\",(IF(J2055<=M2055,\"A TIEMPO\",\"FUERA DE TIEMPO\"))))","v":"A TIEMPO"},{"$f":"IF(J2055=\"\",\"\",NETWORKDAYS(C2055+1,J2055,DiasNOLaborables))","v":16},"",null,null,20]
[2045,20219050067852,"2021-06-03","CIUDADANO","MODULO CONTACTENOS","SOLICITUD DE INFORMACIÓN Y DOCUMENTOS","SOLICITUD DE INFORMACIÓN HIDROMETEOROLÓGICA","NO","GRUPO DE SERVICIO AL CIUDADANO ","2021-06-29","CORREO ELECTRÓNICO",null,{"$f":"IFERROR(WORKDAY(C2056,S2055,DiasNOLaborables),\"\")","v":"2021-07-06"},{"$f":"+IF(C2056=\"\",\"\",IF(J2056=\"\",\"SIN RESPUESTA\",(IF(J2056<=M2056,\"A TIEMPO\",\"FUERA DE TIEMPO\"))))","v":"A TIEMPO"},{"$f":"IF(J2056=\"\",\"\",NETWORKDAYS(C2056+1,J2056,DiasNOLaborables))","v":16},"",null,null,20]
[2046,20219050067862,"2021-06-03","CIUDADANO","MODULO CONTACTENOS","SOLICITUD DE INFORMACIÓN Y DOCUMENTOS","SOLICITUD DE INFORMACIÓN HIDROMETEOROLÓGICA","NO","GRUPO DE SERVICIO AL CIUDADANO ","2021-06-29","CORREO ELECTRÓNICO",null,{"$f":"IFERROR(WORKDAY(C2057,S2056,DiasNOLaborables),\"\")","v":"2021-07-06"},{"$f":"+IF(C2057=\"\",\"\",IF(J2057=\"\",\"SIN RESPUESTA\",(IF(J2057<=M2057,\"A TIEMPO\",\"FUERA DE TIEMPO\"))))","v":"A TIEMPO"},{"$f":"IF(J2057=\"\",\"\",NETWORKDAYS(C2057+1,J2057,DiasNOLaborables))","v":16},"",null,null,20]
[2047,20219050067872,"2021-06-03","CIUDADANO","MODULO CONTACTENOS","SOLICITUD DE INFORMACIÓN Y DOCUMENTOS","SOLICITUD DE INFORMACIÓN HIDROMETEOROLÓGICA","NO","GRUPO DE SERVICIO AL CIUDADANO ","2021-06-29","CORREO ELECTRÓNICO",null,{"$f":"IFERROR(WORKDAY(C2058,S2057,DiasNOLaborables),\"\")","v":"2021-07-06"},{"$f":"+IF(C2058=\"\",\"\",IF(J2058=\"\",\"SIN RESPUESTA\",(IF(J2058<=M2058,\"A TIEMPO\",\"FUERA DE TIEMPO\"))))","v":"A TIEMPO"},{"$f":"IF(J2058=\"\",\"\",NETWORKDAYS(C2058+1,J2058,DiasNOLaborables))","v":16},"",null,null,20]
[2048,20219050068622,"2021-06-04","CIUDADANO","MODULO CONTACTENOS","SOLICITUD DE INFORMACIÓN Y DOCUMENTOS","SOLICITUD DE INFORMACIÓN HIDROMETEOROLÓGICA","NO","GRUPO DE SERVICIO AL CIUDADANO ","2021-06-29","CORREO ELECTRÓNICO",null,{"$f":"IFERROR(WORKDAY(C2059,S2058,DiasNOLaborables),\"\")","v":"2021-07-07"},{"$f":"+IF(C2059=\"\",\"\",IF(J2059=\"\",\"SIN RESPUESTA\",(IF(J2059<=M2059,\"A TIEMPO\",\"FUERA DE TIEMPO\"))))","v":"A TIEMPO"},{"$f":"IF(J2059=\"\",\"\",NETWORKDAYS(C2059+1,J2059,DiasNOLaborables))","v":15},"",null,null,20]
[2049,20219050068402,"2021-06-04","EMPRESA PRIVADA","CORREO ELECTRÓNICO","SOLICITUD DE INFORMACIÓN Y DOCUMENTOS","SOLICITUD DE INFORMACIÓN HIDROMETEOROLÓGICA","NO","GRUPO DE SERVICIO AL CIUDADANO ","2021-06-17","CORREO ELECTRÓNICO",null,{"$f":"IFERROR(WORKDAY(C2060,S2059,DiasNOLaborables),\"\")","v":"2021-07-07"},{"$f":"+IF(C2060=\"\",\"\",IF(J2060=\"\",\"SIN RESPUESTA\",(IF(J2060<=M2060,\"A TIEMPO\",\"FUERA DE TIEMPO\"))))","v":"A TIEMPO"},{"$f":"IF(J2060=\"\",\"\",NETWORKDAYS(C2060+1,J2060,DiasNOLaborables))","v":7},"",null,null,20]
[2050,20219050068482,"2021-06-04","ACADEMIA ","CORREO ELECTRÓNICO","SOLICITUD DE INFORMACIÓN Y DOCUMENTOS","SOLICITUD DE INFORMACIÓN HIDROMETEOROLÓGICA","NO","GRUPO DE SERVICIO AL CIUDADANO ","2021-06-17","CORREO ELECTRÓNICO",null,{"$f":"IFERROR(WORKDAY(C2061,S2060,DiasNOLaborables),\"\")","v":"2021-07-07"},{"$f":"+IF(C2061=\"\",\"\",IF(J2061=\"\",\"SIN RESPUESTA\",(IF(J2061<=M2061,\"A TIEMPO\",\"FUERA DE TIEMPO\"))))","v":"A TIEMPO"},{"$f":"IF(J2061=\"\",\"\",NETWORKDAYS(C2061+1,J2061,DiasNOLaborables))","v":7},{"$f":"IF(NETWORKDAYS(M2061+1,J2061,DiasNOLaborables)<=0,\"\",NETWORKDAYS(M2061+1,J2061,DiasNOLaborables))","v":""},null,null,{"$f":"IFERROR(VLOOKUP(F2062,$AA$51:$AB$64,2),\"\")","v":20}]
[{"$f":"IF(B2062<>\"\",A2061+1,\"\")","v":2051},20219050068552,"2021-06-04","EMPRESA PRIVADA","CORREO ELECTRÓNICO","SOLICITUD DE INFORMACIÓN Y DOCUMENTOS","SOLICITUD DE INFORMACIÓN HIDROMETEOROLÓGICA","NO","GRUPO DE SERVICIO AL CIUDADANO ","2021-06-18","CORREO ELECTRÓNICO",null,{"$f":"IFERROR(WORKDAY(C2062,S2061,DiasNOLaborables),\"\")","v":"2021-07-07"},{"$f":"+IF(C2062=\"\",\"\",IF(J2062=\"\",\"SIN RESPUESTA\",(IF(J2062<=M2062,\"A TIEMPO\",\"FUERA DE TIEMPO\"))))","v":"A TIEMPO"},{"$f":"IF(J2062=\"\",\"\",NETWORKDAYS(C2062+1,J2062,DiasNOLaborables))","v":8},"",null,null,20]
[2052,20219050068652,"2021-06-04","CIUDADANO","MODULO CONTACTENOS","SOLICITUD DE INFORMACIÓN Y DOCUMENTOS","SOLICITUD DE INFORMACIÓN HIDROMETEOROLÓGICA","NO","GRUPO DE SERVICIO AL CIUDADANO ","2021-06-18","CORREO ELECTRÓNICO",null,{"$f":"IFERROR(WORKDAY(C2063,S2062,DiasNOLaborables),\"\")","v":"2021-07-07"},{"$f":"+IF(C2063=\"\",\"\",IF(J2063=\"\",\"SIN RESPUESTA\",(IF(J2063<=M2063,\"A TIEMPO\",\"FUERA DE TIEMPO\"))))","v":"A TIEMPO"},{"$f":"IF(J2063=\"\",\"\",NETWORKDAYS(C2063+1,J2063,DiasNOLaborables))","v":8},"",null,null,20]
[2053,20219050068662,"2021-06-04","CIUDADANO","MODULO CONTACTENOS","SOLICITUD DE INFORMACIÓN Y DOCUMENTOS","SOLICITUD DE INFORMACIÓN HIDROMETEOROLÓGICA","NO","GRUPO DE SERVICIO AL CIUDADANO ","2021-06-18","CORREO ELECTRÓNICO",null,{"$f":"IFERROR(WORKDAY(C2064,S2063,DiasNOLaborables),\"\")","v":"2021-07-07"},{"$f":"+IF(C2064=\"\",\"\",IF(J2064=\"\",\"SIN RESPUESTA\",(IF(J2064<=M2064,\"A TIEMPO\",\"FUERA DE TIEMPO\"))))","v":"A TIEMPO"},{"$f":"IF(J2064=\"\",\"\",NETWORKDAYS(C2064+1,J2064,DiasNOLaborables))","v":8},"",null,null,20]
[2054,20219050068382,"2021-06-04","CIUDADANO","CORREO ELECTRÓNICO","SOLICITUD DE INFORMACIÓN Y DOCUMENTOS","REGISTROS AMBIENTALES","SI","SUBDIRECCIÓN DE ESTUDIOS AMBIENTALES","2021-06-10","CORREO ELECTRÓNICO",null,{"$f":"IFERROR(WORKDAY(C2065,S2064,DiasNOLaborables),\"\")","v":"2021-07-07"},{"$f":"+IF(C2065=\"\",\"\",IF(J2065=\"\",\"SIN RESPUESTA\",(IF(J2065<=M2065,\"A TIEMPO\",\"FUERA DE TIEMPO\"))))","v":"A TIEMPO"},{"$f":"IF(J2065=\"\",\"\",NETWORKDAYS(C2065+1,J2065,DiasNOLaborables))","v":3},"",null,null,20]
[2055,20219050068472,"2021-06-04","CIUDADANO","CORREO ELECTRÓNICO","SOLICITUD DE INFORMACIÓN Y DOCUMENTOS","REGISTROS AMBIENTALES","SI","SUBDIRECCIÓN DE ESTUDIOS AMBIENTALES","2021-06-09","CORREO ELECTRÓNICO",null,{"$f":"IFERROR(WORKDAY(C2066,S2065,DiasNOLaborables),\"\")","v":"2021-07-07"},{"$f":"+IF(C2066=\"\",\"\",IF(J2066=\"\",\"SIN RESPUESTA\",(IF(J2066<=M2066,\"A TIEMPO\",\"FUERA DE TIEMPO\"))))","v":"A TIEMPO"},{"$f":"IF(J2066=\"\",\"\",NETWORKDAYS(C2066+1,J2066,DiasNOLaborables))","v":2},"",null,null,20]
[2056,20219050068392,"2021-06-04","CIUDADANO","CORREO ELECTRÓNICO","SOLICITUD DE INFORMACIÓN Y DOCUMENTOS","BOSQUES","SI","SUBDIRECCIÓN DE ECOSISTEMAS E INFORMACIÓN AMBIENTAL","2021-06-16","CORREO ELECTRÓNICO",null,{"$f":"IFERROR(WORKDAY(C2067,S2066,DiasNOLaborables),\"\")","v":"2021-07-07"},{"$f":"+IF(C2067=\"\",\"\",IF(J2067=\"\",\"SIN RESPUESTA\",(IF(J2067<=M2067,\"A TIEMPO\",\"FUERA DE TIEMPO\"))))","v":"A TIEMPO"},{"$f":"IF(J2067=\"\",\"\",NETWORKDAYS(C2067+1,J2067,DiasNOLaborables))","v":6},"",null,null,20]
[2057,20219050068342,"2021-06-04","CIUDADANO","CORREO ELECTRÓNICO","SOLICITUD DE INFORMACIÓN Y DOCUMENTOS","BOSQUES","SI","SUBDIRECCIÓN DE ECOSISTEMAS E INFORMACIÓN AMBIENTAL","2021-06-17","CORREO ELECTRÓNICO",null,{"$f":"IFERROR(WORKDAY(C2068,S2067,DiasNOLaborables),\"\")","v":"2021-07-07"},{"$f":"+IF(C2068=\"\",\"\",IF(J2068=\"\",\"SIN RESPUESTA\",(IF(J2068<=M2068,\"A TIEMPO\",\"FUERA DE TIEMPO\"))))","v":"A TIEMPO"},{"$f":"IF(J2068=\"\",\"\",NETWORKDAYS(C2068+1,J2068,DiasNOLaborables))","v":7},"",null,null,35]
[2058,20219050068352,"2021-06-04","CIUDADANO","CORREO ELECTRÓNICO","CERTIFICACIONES DE TIEMPO, CLIMA Y EVENTOS HIDROLÓGICOS","CERTIFICACIONES DE TIEMPO Y CLIMA","SI","SUBDIRECCIÓN DE METEOROLOGÍA","2021-06-30","CORREO ELECTRÓNICO",null,{"$f":"IFERROR(WORKDAY(C2069,S2068,DiasNOLaborables),\"\")","v":"2021-07-29"},{"$f":"+IF(C2069=\"\",\"\",IF(J2069=\"\",\"SIN RESPUESTA\",(IF(J2069<=M2069,\"A TIEMPO\",\"FUERA DE TIEMPO\"))))","v":"A TIEMPO"},{"$f":"IF(J2069=\"\",\"\",NETWORKDAYS(C2069+1,J2069,DiasNOLaborables))","v":16},"",null,null,35]
[2059,20219050068362,"2021-06-04","CIUDADANO","CORREO ELECTRÓNICO","CERTIFICACIONES DE TIEMPO, CLIMA Y EVENTOS HIDROLÓGICOS","CERTIFICACIONES DE TIEMPO Y CLIMA","SI","SUBDIRECCIÓN DE METEOROLOGÍA","2021-06-06","CORREO ELECTRÓNICO",null,{"$f":"IFERROR(WORKDAY(C2070,S2069,DiasNOLaborables),\"\")","v":"2021-07-29"},{"$f":"+IF(C2070=\"\",\"\",IF(J2070=\"\",\"SIN RESPUESTA\",(IF(J2070<=M2070,\"A TIEMPO\",\"FUERA DE TIEMPO\"))))","v":"A TIEMPO"},{"$f":"IF(J2070=\"\",\"\",NETWORKDAYS(C2070+1,J2070,DiasNOLaborables))","v":0},"",null,null,30]
[2060,20219050068372,"2021-06-04","CIUDADANO","CORREO ELECTRÓNICO","PETICIÓN","ADMINISTRATIVA","SI","GRUPO DE COMUNICACIONES","2021-06-23","CORREO ELECTRÓNICO",null,{"$f":"IFERROR(WORKDAY(C2071,S2070,DiasNOLaborables),\"\")","v":"2021-07-22"},{"$f":"+IF(C2071=\"\",\"\",IF(J2071=\"\",\"SIN RESPUESTA\",(IF(J2071<=M2071,\"A TIEMPO\",\"FUERA DE TIEMPO\"))))","v":"A TIEMPO"},{"$f":"IF(J2071=\"\",\"\",NETWORKDAYS(C2071+1,J2071,DiasNOLaborables))","v":11},"",null,null,5]
[2061,20219050068452,"2021-06-04","CIUDADANO","CORREO ELECTRÓNICO","SOLICITUD CONGRESITAS","BOSQUES","SI","OFICINA ASESORA JURÍDICA","2021-06-24","CORREO ELECTRÓNICO",null,{"$f":"IFERROR(WORKDAY(C2072,S2071,DiasNOLaborables),\"\")","v":"2021-06-15"},{"$f":"+IF(C2072=\"\",\"\",IF(J2072=\"\",\"SIN RESPUESTA\",(IF(J2072<=M2072,\"A TIEMPO\",\"FUERA DE TIEMPO\"))))","v":"FUERA DE TIEMPO"},{"$f":"IF(J2072=\"\",\"\",NETWORKDAYS(C2072+1,J2072,DiasNOLaborables))","v":12},7,null,null,20]
[2062,20219050068462,"2021-06-04","CIUDADANO","CORREO ELECTRÓNICO","SOLICITUD DE INFORMACIÓN Y DOCUMENTOS","BOSQUES","SI","SUBDIRECCIÓN DE ECOSISTEMAS E INFORMACIÓN AMBIENTAL","2021-06-18","CORREO ELECTRÓNICO",null,{"$f":"IFERROR(WORKDAY(C2073,S2072,DiasNOLaborables),\"\")","v":"2021-07-07"},{"$f":"+IF(C2073=\"\",\"\",IF(J2073=\"\",\"SIN RESPUESTA\",(IF(J2073<=M2073,\"A TIEMPO\",\"FUERA DE TIEMPO\"))))","v":"A TIEMPO"},{"$f":"IF(J2073=\"\",\"\",NETWORKDAYS(C2073+1,J2073,DiasNOLaborables))","v":8},"",null,null,20]
[2063,20219050068492,"2021-06-04","CIUDADANO","CORREO ELECTRÓNICO","SOLICITUD DE INFORMACIÓN Y DOCUMENTOS","BOSQUES","SI","SUBDIRECCIÓN DE ECOSISTEMAS E INFORMACIÓN AMBIENTAL","2021-06-08","CORREO ELECTRÓNICO",null,{"$f":"IFERROR(WORKDAY(C2074,S2073,DiasNOLaborables),\"\")","v":"2021-07-07"},{"$f":"+IF(C2074=\"\",\"\",IF(J2074=\"\",\"SIN RESPUESTA\",(IF(J2074<=M2074,\"A TIEMPO\",\"FUERA DE TIEMPO\"))))","v":"A TIEMPO"},{"$f":"IF(J2074=\"\",\"\",NETWORKDAYS(C2074+1,J2074,DiasNOLaborables))","v":1},"",null,null,20]
[2064,20219050068502,"2021-06-04","CIUDADANO","CORREO ELECTRÓNICO","SOLICITUD DE INFORMACIÓN Y DOCUMENTOS","REGISTROS AMBIENTALES","SI","SUBDIRECCIÓN DE ESTUDIOS AMBIENTALES","2021-06-17","CORREO ELECTRÓNICO",null,{"$f":"IFERROR(WORKDAY(C2075,S2074,DiasNOLaborables),\"\")","v":"2021-07-07"},{"$f":"+IF(C2075=\"\",\"\",IF(J2075=\"\",\"SIN RESPUESTA\",(IF(J2075<=M2075,\"A TIEMPO\",\"FUERA DE TIEMPO\"))))","v":"A TIEMPO"},{"$f":"IF(J2075=\"\",\"\",NETWORKDAYS(C2075+1,J2075,DiasNOLaborables))","v":7},"",null,null,20]
[2065,20219050068512,"2021-06-04","CIUDADANO","CORREO ELECTRÓNICO","SOLICITUD DE INFORMACIÓN Y DOCUMENTOS","BOSQUES","SI","SUBDIRECCIÓN DE ECOSISTEMAS E INFORMACIÓN AMBIENTAL","2021-06-17","CORREO ELECTRÓNICO",null,{"$f":"IFERROR(WORKDAY(C2076,S2075,DiasNOLaborables),\"\")","v":"2021-07-07"},{"$f":"+IF(C2076=\"\",\"\",IF(J2076=\"\",\"SIN RESPUESTA\",(IF(J2076<=M2076,\"A TIEMPO\",\"FUERA DE TIEMPO\"))))","v":"A TIEMPO"},{"$f":"IF(J2076=\"\",\"\",NETWORKDAYS(C2076+1,J2076,DiasNOLaborables))","v":7},"",null,null,20]
[2066,20219050068542,"2021-06-04","CIUDADANO","CORREO ELECTRÓNICO","SOLICITUD DE INFORMACIÓN Y DOCUMENTOS","REGISTROS AMBIENTALES","SI","SUBDIRECCIÓN DE ESTUDIOS AMBIENTALES","2021-06-17","CORREO ELECTRÓNICO",null,{"$f":"IFERROR(WORKDAY(C2077,S2076,DiasNOLaborables),\"\")","v":"2021-07-07"},{"$f":"+IF(C2077=\"\",\"\",IF(J2077=\"\",\"SIN RESPUESTA\",(IF(J2077<=M2077,\"A TIEMPO\",\"FUERA DE TIEMPO\"))))","v":"A TIEMPO"},{"$f":"IF(J2077=\"\",\"\",NETWORKDAYS(C2077+1,J2077,DiasNOLaborables))","v":7},"",null,null,20]
[2067,20219050068562,"2021-06-04","CIUDADANO","CORREO ELECTRÓNICO","SOLICITUD DE INFORMACIÓN Y DOCUMENTOS","CLIMATOLOGÍA","SI","SUBDIRECCIÓN DE HIDROLOGÍA","2021-06-10","CORREO ELECTRÓNICO",null,{"$f":"IFERROR(WORKDAY(C2078,S2077,DiasNOLaborables),\"\")","v":"2021-07-07"},{"$f":"+IF(C2078=\"\",\"\",IF(J2078=\"\",\"SIN RESPUESTA\",(IF(J2078<=M2078,\"A TIEMPO\",\"FUERA DE TIEMPO\"))))","v":"A TIEMPO"},{"$f":"IF(J2078=\"\",\"\",NETWORKDAYS(C2078+1,J2078,DiasNOLaborables))","v":3},"",null,null,20]
[2068,20219050068572,"2021-06-04","CIUDADANO","CORREO ELECTRÓNICO","SOLICITUD DE INFORMACIÓN Y DOCUMENTOS","ADMINISTRATIVA","SI","GRUPO DE ADMINISTRACIÓN Y DESARROLLO DEL TALENTO HUMANO","2021-06-08","CORREO ELECTRÓNICO",null,{"$f":"IFERROR(WORKDAY(C2079,S2078,DiasNOLaborables),\"\")","v":"2021-07-07"},{"$f":"+IF(C2079=\"\",\"\",IF(J2079=\"\",\"SIN RESPUESTA\",(IF(J2079<=M2079,\"A TIEMPO\",\"FUERA DE TIEMPO\"))))","v":"A TIEMPO"},{"$f":"IF(J2079=\"\",\"\",NETWORKDAYS(C2079+1,J2079,DiasNOLaborables))","v":1},"",null,null,20]
[2069,20219050068582,"2021-06-04","CIUDADANO","CORREO ELECTRÓNICO","SOLICITUD DE INFORMACIÓN Y DOCUMENTOS","ADMINISTRATIVA","SI","GRUPO DE ADMINISTRACIÓN Y DESARROLLO DEL TALENTO HUMANO","2021-06-08","CORREO ELECTRÓNICO",null,{"$f":"IFERROR(WORKDAY(C2080,S2079,DiasNOLaborables),\"\")","v":"2021-07-07"},{"$f":"+IF(C2080=\"\",\"\",IF(J2080=\"\",\"SIN RESPUESTA\",(IF(J2080<=M2080,\"A TIEMPO\",\"FUERA DE TIEMPO\"))))","v":"A TIEMPO"},{"$f":"IF(J2080=\"\",\"\",NETWORKDAYS(C2080+1,J2080,DiasNOLaborables))","v":1},"",null,null,35]
[2070,20219050068592,"2021-06-04","CIUDADANO","CORREO ELECTRÓNICO","CERTIFICACIONES DE TIEMPO, CLIMA Y EVENTOS HIDROLÓGICOS","CERTIFICACIONES DE TIEMPO Y CLIMA","SI","SUBDIRECCIÓN DE METEOROLOGÍA","2021-06-24","CORREO ELECTRÓNICO",null,{"$f":"IFERROR(WORKDAY(C2081,S2080,DiasNOLaborables),\"\")","v":"2021-07-29"},{"$f":"+IF(C2081=\"\",\"\",IF(J2081=\"\",\"SIN RESPUESTA\",(IF(J2081<=M2081,\"A TIEMPO\",\"FUERA DE TIEMPO\"))))","v":"A TIEMPO"},{"$f":"IF(J2081=\"\",\"\",NETWORKDAYS(C2081+1,J2081,DiasNOLaborables))","v":12},"",null,null,20]
[2071,20219050068612,"2021-06-04","CIUDADANO","CORREO ELECTRÓNICO","SOLICITUD DE INFORMACIÓN Y DOCUMENTOS","ADMINISTRATIVA","SI","GRUPO DE TESORERÍA","2021-06-11","CORREO ELECTRÓNICO",null,{"$f":"IFERROR(WORKDAY(C2082,S2081,DiasNOLaborables),\"\")","v":"2021-07-07"},{"$f":"+IF(C2082=\"\",\"\",IF(J2082=\"\",\"SIN RESPUESTA\",(IF(J2082<=M2082,\"A TIEMPO\",\"FUERA DE TIEMPO\"))))","v":"A TIEMPO"},{"$f":"IF(J2082=\"\",\"\",NETWORKDAYS(C2082+1,J2082,DiasNOLaborables))","v":4},"",null,null,20]
[2072,20219050068622,"2021-06-04","CIUDADANO","CORREO ELECTRÓNICO","SOLICITUD DE INFORMACIÓN Y DOCUMENTOS","CLIMATOLOGÍA","SI","SUBDIRECCIÓN DE HIDROLOGÍA","2021-07-01","CORREO ELECTRÓNICO",null,{"$f":"IFERROR(WORKDAY(C2083,S2082,DiasNOLaborables),\"\")","v":"2021-07-07"},{"$f":"+IF(C2083=\"\",\"\",IF(J2083=\"\",\"SIN RESPUESTA\",(IF(J2083<=M2083,\"A TIEMPO\",\"FUERA DE TIEMPO\"))))","v":"A TIEMPO"},{"$f":"IF(J2083=\"\",\"\",NETWORKDAYS(C2083+1,J2083,DiasNOLaborables))","v":17},"",null,null,20]
[2073,20219050068602,"2021-06-04","ENTIDAD PÚBLICA","MODULO CONTACTENOS","SOLICITUD DE INFORMACIÓN Y DOCUMENTOS","SIA","SI","SUBDIRECCIÓN DE ECOSISTEMAS E INFORMACIÓN AMBIENTAL","2021-06-17","CORREO ELECTRÓNICO",null,{"$f":"IFERROR(WORKDAY(C2084,S2083,DiasNOLaborables),\"\")","v":"2021-07-07"},{"$f":"+IF(C2084=\"\",\"\",IF(J2084=\"\",\"SIN RESPUESTA\",(IF(J2084<=M2084,\"A TIEMPO\",\"FUERA DE TIEMPO\"))))","v":"A TIEMPO"},{"$f":"IF(J2084=\"\",\"\",NETWORKDAYS(C2084+1,J2084,DiasNOLaborables))","v":7},"",null,null,20]
[2074,20219050068822,"2021-06-07","FUNCIONARIO IDEAM","MODULO CONTACTENOS","SOLICITUD DE INFORMACIÓN Y DOCUMENTOS","ADMINISTRATIVA","SI","GRUPO DE ADMINISTRACIÓN Y DESARROLLO DEL TALENTO HUMANO","2021-06-16","CORREO ELECTRÓNICO",null,{"$f":"IFERROR(WORKDAY(C2085,S2084,DiasNOLaborables),\"\")","v":"2021-07-07"},{"$f":"+IF(C2085=\"\",\"\",IF(J2085=\"\",\"SIN RESPUESTA\",(IF(J2085<=M2085,\"A TIEMPO\",\"FUERA DE TIEMPO\"))))","v":"A TIEMPO"},{"$f":"IF(J2085=\"\",\"\",NETWORKDAYS(C2085+1,J2085,DiasNOLaborables))","v":6},"",null,null,20]
[2075,20219050068832,"2021-06-07","CIUDADANO","MODULO CONTACTENOS","SOLICITUD DE INFORMACIÓN Y DOCUMENTOS","WEB Y CORREO","SI","OFICINA DE INFORMÁTICA","2021-06-29","CORREO ELECTRÓNICO",null,{"$f":"IFERROR(WORKDAY(C2086,S2085,DiasNOLaborables),\"\")","v":"2021-07-07"},{"$f":"+IF(C2086=\"\",\"\",IF(J2086=\"\",\"SIN RESPUESTA\",(IF(J2086<=M2086,\"A TIEMPO\",\"FUERA DE TIEMPO\"))))","v":"A TIEMPO"},{"$f":"IF(J2086=\"\",\"\",NETWORKDAYS(C2086+1,J2086,DiasNOLaborables))","v":15},"",null,null,5]
[2076,20219050069232,"2021-06-08","ENTIDAD PÚBLICA","MODULO CONTACTENOS","SOLICITUD JUDICIAL","CERTIFICACIONES DE TIEMPO Y CLIMA","SI","SUBDIRECCIÓN DE METEOROLOGÍA","2021-06-10","CORREO ELECTRÓNICO",null,{"$f":"IFERROR(WORKDAY(C2087,S2086,DiasNOLaborables),\"\")","v":"2021-06-16"},{"$f":"+IF(C2087=\"\",\"\",IF(J2087=\"\",\"SIN RESPUESTA\",(IF(J2087<=M2087,\"A TIEMPO\",\"FUERA DE TIEMPO\"))))","v":"A TIEMPO"},{"$f":"IF(J2087=\"\",\"\",NETWORKDAYS(C2087+1,J2087,DiasNOLaborables))","v":2},"",null,null,35]
[2077,20219050069282,"2021-06-08","CIUDADANO","MODULO CONTACTENOS","CERTIFICACIONES DE TIEMPO, CLIMA Y EVENTOS HIDROLÓGICOS","CERTIFICACIONES DE TIEMPO Y CLIMA","SI","SUBDIRECCIÓN DE METEOROLOGÍA","2021-06-25","CORREO ELECTRÓNICO",null,{"$f":"IFERROR(WORKDAY(C2088,S2087,DiasNOLaborables),\"\")","v":"2021-07-30"},{"$f":"+IF(C2088=\"\",\"\",IF(J2088=\"\",\"SIN RESPUESTA\",(IF(J2088<=M2088,\"A TIEMPO\",\"FUERA DE TIEMPO\"))))","v":"A TIEMPO"},{"$f":"IF(J2088=\"\",\"\",NETWORKDAYS(C2088+1,J2088,DiasNOLaborables))","v":12},"",null,null,20]
[2078,20219050069382,"2021-06-08","EMPRESA PRIVADA","MODULO CONTACTENOS","SOLICITUD DE INFORMACIÓN Y DOCUMENTOS","PRONÓSTICOS Y ALERTAS","SI","SUBDIRECCIÓN DE METEOROLOGÍA","2021-06-29","CORREO ELECTRÓNICO",null,{"$f":"IFERROR(WORKDAY(C2089,S2088,DiasNOLaborables),\"\")","v":"2021-07-08"},{"$f":"+IF(C2089=\"\",\"\",IF(J2089=\"\",\"SIN RESPUESTA\",(IF(J2089<=M2089,\"A TIEMPO\",\"FUERA DE TIEMPO\"))))","v":"A TIEMPO"},{"$f":"IF(J2089=\"\",\"\",NETWORKDAYS(C2089+1,J2089,DiasNOLaborables))","v":14},{"$f":"IF(NETWORKDAYS(M2089+1,J2089,DiasNOLaborables)<=0,\"\",NETWORKDAYS(M2089+1,J2089,DiasNOLaborables))","v":""},null,null,20]
[2079,20219050068982,"2021-06-08","CIUDADANO","CORREO ELECTRÓNICO","SOLICITUD DE INFORMACIÓN Y DOCUMENTOS","REGISTROS AMBIENTALES","SI","SUBDIRECCIÓN DE ESTUDIOS AMBIENTALES","2021-06-17","CORREO ELECTRÓNICO",null,{"$f":"IFERROR(WORKDAY(C2090,S2089,DiasNOLaborables),\"\")","v":"2021-07-08"},{"$f":"+IF(C2090=\"\",\"\",IF(J2090=\"\",\"SIN RESPUESTA\",(IF(J2090<=M2090,\"A TIEMPO\",\"FUERA DE TIEMPO\"))))","v":"A TIEMPO"},{"$f":"IF(J2090=\"\",\"\",NETWORKDAYS(C2090+1,J2090,DiasNOLaborables))","v":6},"",null,null,20]
[2080,20219050068992,"2021-06-08","CIUDADANO","CORREO ELECTRÓNICO","SOLICITUD DE INFORMACIÓN Y DOCUMENTOS","CLIMATOLOGÍA","SI","SUBDIRECCIÓN DE HIDROLOGÍA","2021-06-11","CORREO ELECTRÓNICO",null,{"$f":"IFERROR(WORKDAY(C2091,S2090,DiasNOLaborables),\"\")","v":"2021-07-08"},{"$f":"+IF(C2091=\"\",\"\",IF(J2091=\"\",\"SIN RESPUESTA\",(IF(J2091<=M2091,\"A TIEMPO\",\"FUERA DE TIEMPO\"))))","v":"A TIEMPO"},{"$f":"IF(J2091=\"\",\"\",NETWORKDAYS(C2091+1,J2091,DiasNOLaborables))","v":3},"",null,null,20]
[2081,20219050069002,"2021-06-08","CIUDADANO","CORREO ELECTRÓNICO","SOLICITUD DE INFORMACIÓN Y DOCUMENTOS","REGISTROS AMBIENTALES","SI","SUBDIRECCIÓN DE ESTUDIOS AMBIENTALES","2021-06-08","CORREO ELECTRÓNICO",null,{"$f":"IFERROR(WORKDAY(C2092,S2091,DiasNOLaborables),\"\")","v":"2021-07-08"},{"$f":"+IF(C2092=\"\",\"\",IF(J2092=\"\",\"SIN RESPUESTA\",(IF(J2092<=M2092,\"A TIEMPO\",\"FUERA DE TIEMPO\"))))","v":"A TIEMPO"},{"$f":"IF(J2092=\"\",\"\",NETWORKDAYS(C2092+1,J2092,DiasNOLaborables))","v":-2},"",null,null,20]
[2082,20219050069012,"2021-06-08","CIUDADANO","CORREO ELECTRÓNICO","SOLICITUD DE INFORMACIÓN Y DOCUMENTOS","REGISTROS AMBIENTALES","SI","SUBDIRECCIÓN DE ESTUDIOS AMBIENTALES","2021-06-04","CORREO ELECTRÓNICO",null,{"$f":"IFERROR(WORKDAY(C2093,S2092,DiasNOLaborables),\"\")","v":"2021-07-08"},{"$f":"+IF(C2093=\"\",\"\",IF(J2093=\"\",\"SIN RESPUESTA\",(IF(J2093<=M2093,\"A TIEMPO\",\"FUERA DE TIEMPO\"))))","v":"A TIEMPO"},{"$f":"IF(J2093=\"\",\"\",NETWORKDAYS(C2093+1,J2093,DiasNOLaborables))","v":-3},"",null,null,30]
[2083,20219050069142,"2021-06-08","CIUDADANO","CORREO ELECTRÓNICO","PETICIÓN","SOLICITUD DE INFORMACIÓN HIDROMETEOROLÓGICA","NO","GRUPO DE SERVICIO AL CIUDADANO ","2021-06-18","CORREO ELECTRÓNICO",null,{"$f":"IFERROR(WORKDAY(C2094,S2093,DiasNOLaborables),\"\")","v":"2021-07-23"},{"$f":"+IF(C2094=\"\",\"\",IF(J2094=\"\",\"SIN RESPUESTA\",(IF(J2094<=M2094,\"A TIEMPO\",\"FUERA DE TIEMPO\"))))","v":"A TIEMPO"},{"$f":"IF(J2094=\"\",\"\",NETWORKDAYS(C2094+1,J2094,DiasNOLaborables))","v":7},"",null,null,20]
[2084,20219050069022,"2021-06-08","CIUDADANO","CORREO ELECTRÓNICO","SOLICITUD DE INFORMACIÓN Y DOCUMENTOS","BOSQUES","SI","SUBDIRECCIÓN DE ECOSISTEMAS E INFORMACIÓN AMBIENTAL","2021-06-11","CORREO ELECTRÓNICO",null,{"$f":"IFERROR(WORKDAY(C2095,S2094,DiasNOLaborables),\"\")","v":"2021-07-08"},{"$f":"+IF(C2095=\"\",\"\",IF(J2095=\"\",\"SIN RESPUESTA\",(IF(J2095<=M2095,\"A TIEMPO\",\"FUERA DE TIEMPO\"))))","v":"A TIEMPO"},{"$f":"IF(J2095=\"\",\"\",NETWORKDAYS(C2095+1,J2095,DiasNOLaborables))","v":3},"",null,null,20]
[2085,20219050069032,"2021-06-08","CIUDADANO","CORREO ELECTRÓNICO","SOLICITUD DE INFORMACIÓN Y DOCUMENTOS","BOSQUES","SI","SUBDIRECCIÓN DE ECOSISTEMAS E INFORMACIÓN AMBIENTAL","2021-06-16","CORREO ELECTRÓNICO",null,{"$f":"IFERROR(WORKDAY(C2096,S2095,DiasNOLaborables),\"\")","v":"2021-07-08"},{"$f":"+IF(C2096=\"\",\"\",IF(J2096=\"\",\"SIN RESPUESTA\",(IF(J2096<=M2096,\"A TIEMPO\",\"FUERA DE TIEMPO\"))))","v":"A TIEMPO"},{"$f":"IF(J2096=\"\",\"\",NETWORKDAYS(C2096+1,J2096,DiasNOLaborables))","v":5},"",null,null,35]
[2086,20219050069052,"2021-06-08","CIUDADANO","CORREO ELECTRÓNICO","CERTIFICACIONES DE TIEMPO, CLIMA Y EVENTOS HIDROLÓGICOS","CERTIFICACIONES DE TIEMPO Y CLIMA","SI","SUBDIRECCIÓN DE METEOROLOGÍA","2021-07-01","CORREO ELECTRÓNICO",null,{"$f":"IFERROR(WORKDAY(C2097,S2096,DiasNOLaborables),\"\")","v":"2021-07-30"},{"$f":"+IF(C2097=\"\",\"\",IF(J2097=\"\",\"SIN RESPUESTA\",(IF(J2097<=M2097,\"A TIEMPO\",\"FUERA DE TIEMPO\"))))","v":"A TIEMPO"},{"$f":"IF(J2097=\"\",\"\",NETWORKDAYS(C2097+1,J2097,DiasNOLaborables))","v":16},"",null,null,20]
[2087,20219050069062,"2021-06-08","CIUDADANO","CORREO ELECTRÓNICO","SOLICITUD DE INFORMACIÓN Y DOCUMENTOS","CLIMATOLOGÍA","SI","SUBDIRECCIÓN DE HIDROLOGÍA","2021-06-21","CORREO ELECTRÓNICO",null,{"$f":"IFERROR(WORKDAY(C2098,S2097,DiasNOLaborables),\"\")","v":"2021-07-08"},{"$f":"+IF(C2098=\"\",\"\",IF(J2098=\"\",\"SIN RESPUESTA\",(IF(J2098<=M2098,\"A TIEMPO\",\"FUERA DE TIEMPO\"))))","v":"A TIEMPO"},{"$f":"IF(J2098=\"\",\"\",NETWORKDAYS(C2098+1,J2098,DiasNOLaborables))","v":8},"",null,null,20]
[2088,20219050069082,"2021-06-08","CIUDADANO","CORREO ELECTRÓNICO","SOLICITUD DE INFORMACIÓN Y DOCUMENTOS","BOSQUES","SI","SUBDIRECCIÓN DE ECOSISTEMAS E INFORMACIÓN AMBIENTAL","2021-06-11","CORREO ELECTRÓNICO",null,{"$f":"IFERROR(WORKDAY(C2099,S2098,DiasNOLaborables),\"\")","v":"2021-07-08"},{"$f":"+IF(C2099=\"\",\"\",IF(J2099=\"\",\"SIN RESPUESTA\",(IF(J2099<=M2099,\"A TIEMPO\",\"FUERA DE TIEMPO\"))))","v":"A TIEMPO"},{"$f":"IF(J2099=\"\",\"\",NETWORKDAYS([5]Hoja1!C2097+1,[5]Hoja1!P2097,DiasNOLaborables))","v":2},"",null,null,20]
[2089,20219050069102,"2021-06-08","CIUDADANO","CORREO ELECTRÓNICO","SOLICITUD DE INFORMACIÓN Y DOCUMENTOS","BOSQUES","SI","SUBDIRECCIÓN DE ECOSISTEMAS E INFORMACIÓN AMBIENTAL","2021-06-23","CORREO ELECTRÓNICO",null,{"$f":"IFERROR(WORKDAY(C2100,S2099,DiasNOLaborables),\"\")","v":"2021-07-08"},{"$f":"+IF(C2100=\"\",\"\",IF(J2100=\"\",\"SIN RESPUESTA\",(IF(J2100<=M2100,\"A TIEMPO\",\"FUERA DE TIEMPO\"))))","v":"A TIEMPO"},{"$f":"IF(J2100=\"\",\"\",NETWORKDAYS(C2100+1,J2100,DiasNOLaborables))","v":10},"",null,null,20]
[2090,20219050069122,"2021-06-08","CIUDADANO","CORREO ELECTRÓNICO","SOLICITUD DE INFORMACIÓN Y DOCUMENTOS","ACREDITACIÓN DE LABORATORIOS","SI","SUBDIRECCIÓN DE HIDROLOGÍA","2021-06-09","CORREO ELECTRÓNICO",null,{"$f":"IFERROR(WORKDAY(C2101,S2100,DiasNOLaborables),\"\")","v":"2021-07-08"},{"$f":"+IF(C2101=\"\",\"\",IF(J2101=\"\",\"SIN RESPUESTA\",(IF(J2101<=M2101,\"A TIEMPO\",\"FUERA DE TIEMPO\"))))","v":"A TIEMPO"},{"$f":"IF(J2101=\"\",\"\",NETWORKDAYS(C2101+1,J2101,DiasNOLaborables))","v":1},"",null,null,20]
[2091,20219050069132,"2021-06-08","CIUDADANO","CORREO ELECTRÓNICO","SOLICITUD DE INFORMACIÓN Y DOCUMENTOS","PRONÓSTICOS Y ALERTAS","SI","OFICINA DEL SERVICIO DE PRONÓSTICOS Y ALERTAS","2021-06-08","CORREO ELECTRÓNICO",null,{"$f":"IFERROR(WORKDAY(C2102,S2101,DiasNOLaborables),\"\")","v":"2021-07-08"},{"$f":"+IF(C2102=\"\",\"\",IF(J2102=\"\",\"SIN RESPUESTA\",(IF(J2102<=M2102,\"A TIEMPO\",\"FUERA DE TIEMPO\"))))","v":"A TIEMPO"},{"$f":"IF(J2102=\"\",\"\",NETWORKDAYS(C2102+1,J2102,DiasNOLaborables))","v":-2},"",null,null,20]
[2092,20219050069152,"2021-06-08","CIUDADANO","CORREO ELECTRÓNICO","SOLICITUD DE INFORMACIÓN Y DOCUMENTOS","BOSQUES","SI","SUBDIRECCIÓN DE ECOSISTEMAS E INFORMACIÓN AMBIENTAL","2021-06-23","CORREO ELECTRÓNICO",null,{"$f":"IFERROR(WORKDAY(C2103,S2102,DiasNOLaborables),\"\")","v":"2021-07-08"},{"$f":"+IF(C2103=\"\",\"\",IF(J2103=\"\",\"SIN RESPUESTA\",(IF(J2103<=M2103,\"A TIEMPO\",\"FUERA DE TIEMPO\"))))","v":"A TIEMPO"},{"$f":"IF(J2103=\"\",\"\",NETWORKDAYS(C2103+1,J2103,DiasNOLaborables))","v":10},"",null,null,20]
[2093,20219050069162,"2021-06-08","CIUDADANO","CORREO ELECTRÓNICO","SOLICITUD DE INFORMACIÓN Y DOCUMENTOS","REGISTROS AMBIENTALES","SI","SUBDIRECCIÓN DE ESTUDIOS AMBIENTALES","2021-06-11","CORREO ELECTRÓNICO",null,{"$f":"IFERROR(WORKDAY(C2104,S2103,DiasNOLaborables),\"\")","v":"2021-07-08"},{"$f":"+IF(C2104=\"\",\"\",IF(J2104=\"\",\"SIN RESPUESTA\",(IF(J2104<=M2104,\"A TIEMPO\",\"FUERA DE TIEMPO\"))))","v":"A TIEMPO"},{"$f":"IF(J2104=\"\",\"\",NETWORKDAYS(C2104+1,J2104,DiasNOLaborables))","v":3},"",null,null,20]
[2094,20219050069172,"2021-06-08","CIUDADANO","CORREO ELECTRÓNICO","SOLICITUD DE INFORMACIÓN Y DOCUMENTOS","PRONÓSTICOS Y ALERTAS","SI","OFICINA DEL SERVICIO DE PRONÓSTICOS Y ALERTAS","2021-06-08","CORREO ELECTRÓNICO",null,{"$f":"IFERROR(WORKDAY(C2105,S2104,DiasNOLaborables),\"\")","v":"2021-07-08"},{"$f":"+IF(C2105=\"\",\"\",IF(J2105=\"\",\"SIN RESPUESTA\",(IF(J2105<=M2105,\"A TIEMPO\",\"FUERA DE TIEMPO\"))))","v":"A TIEMPO"},{"$f":"IF(J2105=\"\",\"\",NETWORKDAYS(C2105+1,J2105,DiasNOLaborables))","v":-2},"",null,null,20]
[2095,20219050069182,"2021-06-08","CIUDADANO","CORREO ELECTRÓNICO","SOLICITUD DE INFORMACIÓN Y DOCUMENTOS","ADMINISTRATIVA","SI","GRUPO DE TESORERÍA","2021-06-11","CORREO ELECTRÓNICO",null,{"$f":"IFERROR(WORKDAY(C2106,S2105,DiasNOLaborables),\"\")","v":"2021-07-08"},{"$f":"+IF(C2106=\"\",\"\",IF(J2106=\"\",\"SIN RESPUESTA\",(IF(J2106<=M2106,\"A TIEMPO\",\"FUERA DE TIEMPO\"))))","v":"A TIEMPO"},{"$f":"IF(J2106=\"\",\"\",NETWORKDAYS(C2106+1,J2106,DiasNOLaborables))","v":3},"",null,null,35]
[2096,20219050069192,"2021-06-08","CIUDADANO","CORREO ELECTRÓNICO","CERTIFICACIONES DE TIEMPO, CLIMA Y EVENTOS HIDROLÓGICOS","CERTIFICACIONES DE TIEMPO Y CLIMA","SI","SUBDIRECCIÓN DE METEOROLOGÍA","2021-07-02","CORREO ELECTRÓNICO",null,{"$f":"IFERROR(WORKDAY(C2107,S2106,DiasNOLaborables),\"\")","v":"2021-07-30"},{"$f":"+IF(C2107=\"\",\"\",IF(J2107=\"\",\"SIN RESPUESTA\",(IF(J2107<=M2107,\"A TIEMPO\",\"FUERA DE TIEMPO\"))))","v":"A TIEMPO"},{"$f":"IF(J2107=\"\",\"\",NETWORKDAYS(C2107+1,J2107,DiasNOLaborables))","v":17},{"$f":"IF(NETWORKDAYS(M2107+1,J2107,DiasNOLaborables)<=0,\"\",NETWORKDAYS(M2107+1,J2107,DiasNOLaborables))","v":""},null,null,20]
[2097,20219050069202,"2021-06-08","CIUDADANO","CORREO ELECTRÓNICO","SOLICITUD DE INFORMACIÓN Y DOCUMENTOS","BOSQUES","SI","SUBDIRECCIÓN DE ECOSISTEMAS E INFORMACIÓN AMBIENTAL","2021-06-17","CORREO ELECTRÓNICO",null,{"$f":"IFERROR(WORKDAY(C2108,S2107,DiasNOLaborables),\"\")","v":"2021-07-08"},{"$f":"+IF(C2108=\"\",\"\",IF(J2108=\"\",\"SIN RESPUESTA\",(IF(J2108<=M2108,\"A TIEMPO\",\"FUERA DE TIEMPO\"))))","v":"A TIEMPO"},{"$f":"IF(J2108=\"\",\"\",NETWORKDAYS(C2108+1,J2108,DiasNOLaborables))","v":6},"",null,null,20]
[2098,20219050069212,"2021-06-08","CIUDADANO","CORREO ELECTRÓNICO","SOLICITUD DE INFORMACIÓN Y DOCUMENTOS","BOSQUES","SI","SUBDIRECCIÓN DE ECOSISTEMAS E INFORMACIÓN AMBIENTAL","2021-06-19",null,null,{"$f":"IFERROR(WORKDAY(C2109,S2108,DiasNOLaborables),\"\")","v":"2021-07-08"},{"$f":"+IF(C2109=\"\",\"\",IF(J2109=\"\",\"SIN RESPUESTA\",(IF(J2109<=M2109,\"A TIEMPO\",\"FUERA DE TIEMPO\"))))","v":"A TIEMPO"},{"$f":"IF(J2109=\"\",\"\",NETWORKDAYS(C2109+1,J2109,DiasNOLaborables))","v":7},"",null,null,20]
[2099,20219050069252,"2021-06-08","ACADEMIA ","MODULO CONTACTENOS","SOLICITUD DE INFORMACIÓN Y DOCUMENTOS","SOLICITUD DE INFORMACIÓN HIDROMETEOROLÓGICA","NO","GRUPO DE SERVICIO AL CIUDADANO ","2021-06-28","CORREO ELECTRÓNICO",null,{"$f":"IFERROR(WORKDAY(C2110,S2109,DiasNOLaborables),\"\")","v":"2021-07-08"},{"$f":"+IF(C2110=\"\",\"\",IF(J2110=\"\",\"SIN RESPUESTA\",(IF(J2110<=M2110,\"A TIEMPO\",\"FUERA DE TIEMPO\"))))","v":"A TIEMPO"},{"$f":"IF(J2110=\"\",\"\",NETWORKDAYS(C2110+1,J2110,DiasNOLaborables))","v":13},"",null,null,20]
[2100,20219050069372,"2021-06-08","CIUDADANO","MODULO CONTACTENOS","SOLICITUD DE INFORMACIÓN Y DOCUMENTOS","SOLICITUD DE INFORMACIÓN HIDROMETEOROLÓGICA","NO","GRUPO DE SERVICIO AL CIUDADANO ","2021-06-28","CORREO ELECTRÓNICO",null,{"$f":"IFERROR(WORKDAY(C2111,S2110,DiasNOLaborables),\"\")","v":"2021-07-08"},{"$f":"+IF(C2111=\"\",\"\",IF(J2111=\"\",\"SIN RESPUESTA\",(IF(J2111<=M2111,\"A TIEMPO\",\"FUERA DE TIEMPO\"))))","v":"A TIEMPO"},{"$f":"IF(J2111=\"\",\"\",NETWORKDAYS(C2111+1,J2111,DiasNOLaborables))","v":13},"",null,null,20]
[2101,20219050069412,"2021-06-08","EMPRESA PRIVADA","MODULO CONTACTENOS","SOLICITUD DE INFORMACIÓN Y DOCUMENTOS","SOLICITUD DE INFORMACIÓN HIDROMETEOROLÓGICA","NO","GRUPO DE SERVICIO AL CIUDADANO ","2021-06-28","CORREO ELECTRÓNICO",null,{"$f":"IFERROR(WORKDAY(C2112,S2111,DiasNOLaborables),\"\")","v":"2021-07-08"},{"$f":"+IF(C2112=\"\",\"\",IF(J2112=\"\",\"SIN RESPUESTA\",(IF(J2112<=M2112,\"A TIEMPO\",\"FUERA DE TIEMPO\"))))","v":"A TIEMPO"},{"$f":"IF(J2112=\"\",\"\",NETWORKDAYS(C2112+1,J2112,DiasNOLaborables))","v":13},"",null,null,20]
[2102,20219050069422,"2021-06-08","EMPRESA PRIVADA","MODULO CONTACTENOS","SOLICITUD DE INFORMACIÓN Y DOCUMENTOS","SOLICITUD DE INFORMACIÓN HIDROMETEOROLÓGICA","NO","GRUPO DE SERVICIO AL CIUDADANO ","2021-06-28","CORREO ELECTRÓNICO",null,{"$f":"IFERROR(WORKDAY(C2113,S2112,DiasNOLaborables),\"\")","v":"2021-07-08"},{"$f":"+IF(C2113=\"\",\"\",IF(J2113=\"\",\"SIN RESPUESTA\",(IF(J2113<=M2113,\"A TIEMPO\",\"FUERA DE TIEMPO\"))))","v":"A TIEMPO"},{"$f":"IF(J2113=\"\",\"\",NETWORKDAYS(C2113+1,J2113,DiasNOLaborables))","v":13},"",null,null,20]
[2103,20219050069432,"2021-06-08","CIUDADANO","MODULO CONTACTENOS","SOLICITUD DE INFORMACIÓN Y DOCUMENTOS","SOLICITUD DE INFORMACIÓN HIDROMETEOROLÓGICA","NO","GRUPO DE SERVICIO AL CIUDADANO ","2021-06-28","CORREO ELECTRÓNICO",null,{"$f":"IFERROR(WORKDAY(C2114,S2113,DiasNOLaborables),\"\")","v":"2021-07-08"},{"$f":"+IF(C2114=\"\",\"\",IF(J2114=\"\",\"SIN RESPUESTA\",(IF(J2114<=M2114,\"A TIEMPO\",\"FUERA DE TIEMPO\"))))","v":"A TIEMPO"},{"$f":"IF(J2114=\"\",\"\",NETWORKDAYS(C2114+1,J2114,DiasNOLaborables))","v":13},"",null,null,20]
[2104,20219050069472,"2021-06-08","ACADEMIA ","MODULO CONTACTENOS","SOLICITUD DE INFORMACIÓN Y DOCUMENTOS","SOLICITUD DE INFORMACIÓN HIDROMETEOROLÓGICA","NO","GRUPO DE SERVICIO AL CIUDADANO ","2021-06-28","CORREO ELECTRÓNICO",null,{"$f":"IFERROR(WORKDAY(C2115,S2114,DiasNOLaborables),\"\")","v":"2021-07-08"},{"$f":"+IF(C2115=\"\",\"\",IF(J2115=\"\",\"SIN RESPUESTA\",(IF(J2115<=M2115,\"A TIEMPO\",\"FUERA DE TIEMPO\"))))","v":"A TIEMPO"},{"$f":"IF(J2115=\"\",\"\",NETWORKDAYS(C2115+1,J2115,DiasNOLaborables))","v":13},"",null,null,20]
[2105,20219050069332,"2021-06-08","CIUDADANO","MODULO CONTACTENOS","SOLICITUD DE INFORMACIÓN Y DOCUMENTOS","SOLICITUD DE INFORMACIÓN HIDROMETEOROLÓGICA","NO","GRUPO DE SERVICIO AL CIUDADANO ","2021-06-29","CORREO ELECTRÓNICO",null,{"$f":"IFERROR(WORKDAY(C2116,S2115,DiasNOLaborables),\"\")","v":"2021-07-08"},{"$f":"+IF(C2116=\"\",\"\",IF(J2116=\"\",\"SIN RESPUESTA\",(IF(J2116<=M2116,\"A TIEMPO\",\"FUERA DE TIEMPO\"))))","v":"A TIEMPO"},{"$f":"IF(J2116=\"\",\"\",NETWORKDAYS(C2116+1,J2116,DiasNOLaborables))","v":14},"",null,null,20]
[2106,20219050069342,"2021-06-08","CIUDADANO","MODULO CONTACTENOS","SOLICITUD DE INFORMACIÓN Y DOCUMENTOS","SOLICITUD DE INFORMACIÓN HIDROMETEOROLÓGICA","NO","GRUPO DE SERVICIO AL CIUDADANO ","2021-06-29","CORREO ELECTRÓNICO",null,{"$f":"IFERROR(WORKDAY(C2117,S2116,DiasNOLaborables),\"\")","v":"2021-07-08"},{"$f":"+IF(C2117=\"\",\"\",IF(J2117=\"\",\"SIN RESPUESTA\",(IF(J2117<=M2117,\"A TIEMPO\",\"FUERA DE TIEMPO\"))))","v":"A TIEMPO"},{"$f":"IF(J2117=\"\",\"\",NETWORKDAYS(C2117+1,J2117,DiasNOLaborables))","v":14},"",null,null,20]
[2107,20219050069562,"2021-06-09","CIUDADANO","MODULO CONTACTENOS","SOLICITUD DE INFORMACIÓN Y DOCUMENTOS","SOLICITUD DE INFORMACIÓN HIDROMETEOROLÓGICA","NO","GRUPO DE SERVICIO AL CIUDADANO ","2021-06-29","CORREO ELECTRÓNICO",null,{"$f":"IFERROR(WORKDAY(C2118,S2117,DiasNOLaborables),\"\")","v":"2021-07-09"},{"$f":"+IF(C2118=\"\",\"\",IF(J2118=\"\",\"SIN RESPUESTA\",(IF(J2118<=M2118,\"A TIEMPO\",\"FUERA DE TIEMPO\"))))","v":"A TIEMPO"},{"$f":"IF(J2118=\"\",\"\",NETWORKDAYS(C2118+1,J2118,DiasNOLaborables))","v":13},"",null,null,20]
[2108,20219050069512,"2021-06-09","CIUDADANO","MODULO CONTACTENOS","SOLICITUD DE INFORMACIÓN Y DOCUMENTOS","SOLICITUD DE INFORMACIÓN HIDROMETEOROLÓGICA","NO","GRUPO DE SERVICIO AL CIUDADANO ","2021-06-28","CORREO ELECTRÓNICO",null,{"$f":"IFERROR(WORKDAY(C2119,S2118,DiasNOLaborables),\"\")","v":"2021-07-09"},{"$f":"+IF(C2119=\"\",\"\",IF(J2119=\"\",\"SIN RESPUESTA\",(IF(J2119<=M2119,\"A TIEMPO\",\"FUERA DE TIEMPO\"))))","v":"A TIEMPO"},{"$f":"IF(J2119=\"\",\"\",NETWORKDAYS(C2119+1,J2119,DiasNOLaborables))","v":12},"",null,null,20]
[2109,20219050069572,"2021-06-09","ACADEMIA ","MODULO CONTACTENOS","SOLICITUD DE INFORMACIÓN Y DOCUMENTOS","SOLICITUD DE INFORMACIÓN HIDROMETEOROLÓGICA","NO","GRUPO DE SERVICIO AL CIUDADANO ","2021-06-28","CORREO ELECTRÓNICO",null,{"$f":"IFERROR(WORKDAY(C2120,S2119,DiasNOLaborables),\"\")","v":"2021-07-09"},{"$f":"+IF(C2120=\"\",\"\",IF(J2120=\"\",\"SIN RESPUESTA\",(IF(J2120<=M2120,\"A TIEMPO\",\"FUERA DE TIEMPO\"))))","v":"A TIEMPO"},{"$f":"IF(J2120=\"\",\"\",NETWORKDAYS(C2120+1,J2120,DiasNOLaborables))","v":12},"",null,null,20]
[2110,20219050069582,"2021-06-09","ACADEMIA ","CORREO ELECTRÓNICO","SOLICITUD DE INFORMACIÓN Y DOCUMENTOS","SOLICITUD DE INFORMACIÓN HIDROMETEOROLÓGICA","NO","GRUPO DE SERVICIO AL CIUDADANO ","2021-06-29","CORREO ELECTRÓNICO",null,{"$f":"IFERROR(WORKDAY(C2121,S2120,DiasNOLaborables),\"\")","v":"2021-07-09"},{"$f":"+IF(C2121=\"\",\"\",IF(J2121=\"\",\"SIN RESPUESTA\",(IF(J2121<=M2121,\"A TIEMPO\",\"FUERA DE TIEMPO\"))))","v":"A TIEMPO"},{"$f":"IF(J2121=\"\",\"\",NETWORKDAYS(C2121+1,J2121,DiasNOLaborables))","v":13},"",null,null,20]
[2111,20219050069692,"2021-06-09","ENTIDAD PÚBLICA","CORREO ELECTRÓNICO","SOLICITUD DE INFORMACIÓN Y DOCUMENTOS","SOLICITUD DE INFORMACIÓN HIDROMETEOROLÓGICA","NO","GRUPO DE SERVICIO AL CIUDADANO ","2021-06-29","CORREO ELECTRÓNICO",null,{"$f":"IFERROR(WORKDAY(C2122,S2121,DiasNOLaborables),\"\")","v":"2021-07-09"},{"$f":"+IF(C2122=\"\",\"\",IF(J2122=\"\",\"SIN RESPUESTA\",(IF(J2122<=M2122,\"A TIEMPO\",\"FUERA DE TIEMPO\"))))","v":"A TIEMPO"},{"$f":"IF(J2122=\"\",\"\",NETWORKDAYS(C2122+1,J2122,DiasNOLaborables))","v":13},"",null,null,20]
[2112,20219050069732,"2021-06-09","CIUDADANO","CORREO ELECTRÓNICO","SOLICITUD DE INFORMACIÓN Y DOCUMENTOS","SOLICITUD DE INFORMACIÓN HIDROMETEOROLÓGICA","NO","GRUPO DE SERVICIO AL CIUDADANO ","2021-06-29","CORREO ELECTRÓNICO",null,{"$f":"IFERROR(WORKDAY(C2123,S2122,DiasNOLaborables),\"\")","v":"2021-07-09"},{"$f":"+IF(C2123=\"\",\"\",IF(J2123=\"\",\"SIN RESPUESTA\",(IF(J2123<=M2123,\"A TIEMPO\",\"FUERA DE TIEMPO\"))))","v":"A TIEMPO"},{"$f":"IF(J2123=\"\",\"\",NETWORKDAYS(C2123+1,J2123,DiasNOLaborables))","v":13},"",null,null,20]
[2113,20219050069772,"2021-06-09","CIUDADANO","MODULO CONTACTENOS","SOLICITUD DE INFORMACIÓN Y DOCUMENTOS","SOLICITUD DE INFORMACIÓN HIDROMETEOROLÓGICA","NO","GRUPO DE SERVICIO AL CIUDADANO ","2021-06-29","CORREO ELECTRÓNICO",null,{"$f":"IFERROR(WORKDAY(C2124,S2123,DiasNOLaborables),\"\")","v":"2021-07-09"},{"$f":"+IF(C2124=\"\",\"\",IF(J2124=\"\",\"SIN RESPUESTA\",(IF(J2124<=M2124,\"A TIEMPO\",\"FUERA DE TIEMPO\"))))","v":"A TIEMPO"},{"$f":"IF(J2124=\"\",\"\",NETWORKDAYS(C2124+1,J2124,DiasNOLaborables))","v":13},"",null,null,20]
[2114,20219050069822,"2021-06-09","CIUDADANO","MODULO CONTACTENOS","SOLICITUD DE INFORMACIÓN Y DOCUMENTOS","SOLICITUD DE INFORMACIÓN HIDROMETEOROLÓGICA","NO","GRUPO DE SERVICIO AL CIUDADANO ","2021-06-29","CORREO ELECTRÓNICO",null,{"$f":"IFERROR(WORKDAY(C2125,S2124,DiasNOLaborables),\"\")","v":"2021-07-09"},{"$f":"+IF(C2125=\"\",\"\",IF(J2125=\"\",\"SIN RESPUESTA\",(IF(J2125<=M2125,\"A TIEMPO\",\"FUERA DE TIEMPO\"))))","v":"A TIEMPO"},{"$f":"IF(J2125=\"\",\"\",NETWORKDAYS(C2125+1,J2125,DiasNOLaborables))","v":13},"",null,null,{"$f":"IFERROR(VLOOKUP(F2126,$AA$51:$AB$64,2),\"\")","v":20}]
[{"$f":"IF(B2126<>\"\",A2125+1,\"\")","v":2115},20219050069892,"2021-06-09","CIUDADANO","MODULO CONTACTENOS","SOLICITUD DE INFORMACIÓN Y DOCUMENTOS","SOLICITUD DE INFORMACIÓN HIDROMETEOROLÓGICA","NO","GRUPO DE SERVICIO AL CIUDADANO ","2021-06-29","CORREO ELECTRÓNICO",null,{"$f":"IFERROR(WORKDAY(C2126,S2125,DiasNOLaborables),\"\")","v":"2021-07-09"},{"$f":"+IF(C2126=\"\",\"\",IF(J2126=\"\",\"SIN RESPUESTA\",(IF(J2126<=M2126,\"A TIEMPO\",\"FUERA DE TIEMPO\"))))","v":"A TIEMPO"},{"$f":"IF(J2126=\"\",\"\",NETWORKDAYS(C2126+1,J2126,DiasNOLaborables))","v":13},"",null,null,20]
[2116,20219050069902,"2021-06-09","EMPRESA PRIVADA","CORREO ELECTRÓNICO","SOLICITUD DE INFORMACIÓN Y DOCUMENTOS","SOLICITUD DE INFORMACIÓN HIDROMETEOROLÓGICA","NO","GRUPO DE SERVICIO AL CIUDADANO ","2021-06-29","CORREO ELECTRÓNICO",null,{"$f":"IFERROR(WORKDAY(C2127,S2126,DiasNOLaborables),\"\")","v":"2021-07-09"},{"$f":"+IF(C2127=\"\",\"\",IF(J2127=\"\",\"SIN RESPUESTA\",(IF(J2127<=M2127,\"A TIEMPO\",\"FUERA DE TIEMPO\"))))","v":"A TIEMPO"},{"$f":"IF(J2127=\"\",\"\",NETWORKDAYS(C2127+1,J2127,DiasNOLaborables))","v":13},"",null,null,20]
[2117,20219050070312,"2021-06-09","EMPRESA PRIVADA","CORREO ELECTRÓNICO","SOLICITUD DE INFORMACIÓN Y DOCUMENTOS","SOLICITUD DE INFORMACIÓN HIDROMETEOROLÓGICA","NO","GRUPO DE SERVICIO AL CIUDADANO ","2021-06-29","CORREO ELECTRÓNICO",null,{"$f":"IFERROR(WORKDAY(C2128,S2127,DiasNOLaborables),\"\")","v":"2021-07-09"},{"$f":"+IF(C2128=\"\",\"\",IF(J2128=\"\",\"SIN RESPUESTA\",(IF(J2128<=M2128,\"A TIEMPO\",\"FUERA DE TIEMPO\"))))","v":"A TIEMPO"},{"$f":"IF(J2128=\"\",\"\",NETWORKDAYS(C2128+1,J2128,DiasNOLaborables))","v":13},"",null,null,20]
[2118,20219050069992,"2021-06-09","CIUDADANO","MODULO CONTACTENOS","SOLICITUD DE INFORMACIÓN Y DOCUMENTOS","SOLICITUD DE INFORMACIÓN HIDROMETEOROLÓGICA","NO","GRUPO DE SERVICIO AL CIUDADANO ","2021-06-18","CORREO ELECTRÓNICO",null,{"$f":"IFERROR(WORKDAY(C2129,S2128,DiasNOLaborables),\"\")","v":"2021-07-09"},{"$f":"+IF(C2129=\"\",\"\",IF(J2129=\"\",\"SIN RESPUESTA\",(IF(J2129<=M2129,\"A TIEMPO\",\"FUERA DE TIEMPO\"))))","v":"A TIEMPO"},{"$f":"IF(J2129=\"\",\"\",NETWORKDAYS(C2129+1,J2129,DiasNOLaborables))","v":6},"",null,null,20]
[2119,20219050070112,"2021-06-09","CIUDADANO","MODULO CONTACTENOS","SOLICITUD DE INFORMACIÓN Y DOCUMENTOS","SOLICITUD DE INFORMACIÓN HIDROMETEOROLÓGICA","NO","GRUPO DE SERVICIO AL CIUDADANO ","2021-06-18","CORREO ELECTRÓNICO",null,{"$f":"IFERROR(WORKDAY(C2130,S2129,DiasNOLaborables),\"\")","v":"2021-07-09"},{"$f":"+IF(C2130=\"\",\"\",IF(J2130=\"\",\"SIN RESPUESTA\",(IF(J2130<=M2130,\"A TIEMPO\",\"FUERA DE TIEMPO\"))))","v":"A TIEMPO"},{"$f":"IF(J2130=\"\",\"\",NETWORKDAYS(C2130+1,J2130,DiasNOLaborables))","v":6},"",null,null,20]
[2120,20219050070182,"2021-06-09","ENTIDAD PÚBLICA","MODULO CONTACTENOS","SOLICITUD DE INFORMACIÓN Y DOCUMENTOS","SOLICITUD DE INFORMACIÓN HIDROMETEOROLÓGICA","NO","GRUPO DE SERVICIO AL CIUDADANO ","2021-06-19","CORREO ELECTRÓNICO",null,{"$f":"IFERROR(WORKDAY(C2131,S2130,DiasNOLaborables),\"\")","v":"2021-07-09"},{"$f":"+IF(C2131=\"\",\"\",IF(J2131=\"\",\"SIN RESPUESTA\",(IF(J2131<=M2131,\"A TIEMPO\",\"FUERA DE TIEMPO\"))))","v":"A TIEMPO"},{"$f":"IF(J2131=\"\",\"\",NETWORKDAYS(C2131+1,J2131,DiasNOLaborables))","v":6},"",null,null,20]
[2121,20219050070202,"2021-06-09","CIUDADANO","MODULO CONTACTENOS","SOLICITUD DE INFORMACIÓN Y DOCUMENTOS","SOLICITUD DE INFORMACIÓN HIDROMETEOROLÓGICA","NO","GRUPO DE SERVICIO AL CIUDADANO ","2021-06-19","CORREO ELECTRÓNICO",null,{"$f":"IFERROR(WORKDAY(C2132,S2131,DiasNOLaborables),\"\")","v":"2021-07-09"},{"$f":"+IF(C2132=\"\",\"\",IF(J2132=\"\",\"SIN RESPUESTA\",(IF(J2132<=M2132,\"A TIEMPO\",\"FUERA DE TIEMPO\"))))","v":"A TIEMPO"},{"$f":"IF(J2132=\"\",\"\",NETWORKDAYS(C2132+1,J2132,DiasNOLaborables))","v":6},"",null,null,20]
[2122,20219050070252,"2021-06-09","CIUDADANO","MODULO CONTACTENOS","SOLICITUD DE INFORMACIÓN Y DOCUMENTOS","SOLICITUD DE INFORMACIÓN HIDROMETEOROLÓGICA","NO","GRUPO DE SERVICIO AL CIUDADANO ","2021-06-19","CORREO ELECTRÓNICO",null,{"$f":"IFERROR(WORKDAY(C2133,S2132,DiasNOLaborables),\"\")","v":"2021-07-09"},{"$f":"+IF(C2133=\"\",\"\",IF(J2133=\"\",\"SIN RESPUESTA\",(IF(J2133<=M2133,\"A TIEMPO\",\"FUERA DE TIEMPO\"))))","v":"A TIEMPO"},{"$f":"IF(J2133=\"\",\"\",NETWORKDAYS(C2133+1,J2133,DiasNOLaborables))","v":6},"",null,null,20]
[2123,20219050070322,"2021-06-09","ONG/ORG","CORREO ELECTRÓNICO","SOLICITUD DE INFORMACIÓN Y DOCUMENTOS","SOLICITUD DE INFORMACIÓN HIDROMETEOROLÓGICA","NO","GRUPO DE SERVICIO AL CIUDADANO ","2021-06-19","CORREO ELECTRÓNICO",null,{"$f":"IFERROR(WORKDAY(C2134,S2133,DiasNOLaborables),\"\")","v":"2021-07-09"},{"$f":"+IF(C2134=\"\",\"\",IF(J2134=\"\",\"SIN RESPUESTA\",(IF(J2134<=M2134,\"A TIEMPO\",\"FUERA DE TIEMPO\"))))","v":"A TIEMPO"},{"$f":"IF(J2134=\"\",\"\",NETWORKDAYS(C2134+1,J2134,DiasNOLaborables))","v":6},"",null,null,20]
[2124,20219050070382,"2021-06-09","CIUDADANO","MODULO CONTACTENOS","SOLICITUD DE INFORMACIÓN Y DOCUMENTOS","SOLICITUD DE INFORMACIÓN HIDROMETEOROLÓGICA","NO","GRUPO DE SERVICIO AL CIUDADANO ","2021-06-19","CORREO ELECTRÓNICO",null,{"$f":"IFERROR(WORKDAY(C2135,S2134,DiasNOLaborables),\"\")","v":"2021-07-09"},{"$f":"+IF(C2135=\"\",\"\",IF(J2135=\"\",\"SIN RESPUESTA\",(IF(J2135<=M2135,\"A TIEMPO\",\"FUERA DE TIEMPO\"))))","v":"A TIEMPO"},{"$f":"IF(J2135=\"\",\"\",NETWORKDAYS(C2135+1,J2135,DiasNOLaborables))","v":6},"",null,null,20]
[2125,20219910032612,"2021-06-10","EMPRESA PRIVADA","CORREO CERTIFICADO","SOLICITUD DE INFORMACIÓN Y DOCUMENTOS","BOSQUES","SI","SUBDIRECCIÓN DE ECOSISTEMAS E INFORMACIÓN AMBIENTAL","2021-06-11","CORREO ELECTRÓNICO",null,{"$f":"IFERROR(WORKDAY(C2136,S2135,DiasNOLaborables),\"\")","v":"2021-07-12"},{"$f":"+IF(C2136=\"\",\"\",IF(J2136=\"\",\"SIN RESPUESTA\",(IF(J2136<=M2136,\"A TIEMPO\",\"FUERA DE TIEMPO\"))))","v":"A TIEMPO"},{"$f":"IF(J2136=\"\",\"\",NETWORKDAYS(C2136+1,J2136,DiasNOLaborables))","v":1},"",null,null,15]
[2126,20219050070632,"2021-06-10","CIUDADANO","CORREO ELECTRÓNICO","SUGERENCIA","SOLICITUD DE INFORMACIÓN HIDROMETEOROLÓGICA","NO","GRUPO DE SERVICIO AL CIUDADANO ","2021-06-29","CORREO ELECTRÓNICO",null,{"$f":"IFERROR(WORKDAY(C2137,S2136,DiasNOLaborables),\"\")","v":"2021-07-02"},{"$f":"+IF(C2137=\"\",\"\",IF(J2137=\"\",\"SIN RESPUESTA\",(IF(J2137<=M2137,\"A TIEMPO\",\"FUERA DE TIEMPO\"))))","v":"A TIEMPO"},{"$f":"IF(J2137=\"\",\"\",NETWORKDAYS(C2137+1,J2137,DiasNOLaborables))","v":12},"",null,null,5]
[2127,20219910032652,"2021-06-10","ENTIDAD PÚBLICA","CORREO ELECTRÓNICO","SOLICITUD JUDICIAL","CERTIFICACIONES DE TIEMPO Y CLIMA","SI","SUBDIRECCIÓN DE METEOROLOGÍA","2021-06-16","CORREO ELECTRÓNICO",null,{"$f":"IFERROR(WORKDAY(C2138,S2137,DiasNOLaborables),\"\")","v":"2021-06-18"},{"$f":"+IF(C2138=\"\",\"\",IF(J2138=\"\",\"SIN RESPUESTA\",(IF(J2138<=M2138,\"A TIEMPO\",\"FUERA DE TIEMPO\"))))","v":"A TIEMPO"},{"$f":"IF(J2138=\"\",\"\",NETWORKDAYS(C2138+1,J2138,DiasNOLaborables))","v":3},"",null,null,20]
[2128,20219050070572,"2021-06-10","CIUDADANO","MODULO CONTACTENOS","SOLICITUD DE INFORMACIÓN Y DOCUMENTOS","SOLICITUD DE INFORMACIÓN HIDROMETEOROLÓGICA","NO","GRUPO DE SERVICIO AL CIUDADANO ","2021-06-21","CORREO ELECTRÓNICO",null,{"$f":"IFERROR(WORKDAY(C2139,S2138,DiasNOLaborables),\"\")","v":"2021-07-12"},{"$f":"+IF(C2139=\"\",\"\",IF(J2139=\"\",\"SIN RESPUESTA\",(IF(J2139<=M2139,\"A TIEMPO\",\"FUERA DE TIEMPO\"))))","v":"A TIEMPO"},{"$f":"IF(J2139=\"\",\"\",NETWORKDAYS(C2139+1,J2139,DiasNOLaborables))","v":6},"",null,null,20]
[2129,20219050070602,"2021-06-10","EMPRESA PRIVADA","MODULO CONTACTENOS","SOLICITUD DE INFORMACIÓN Y DOCUMENTOS","SOLICITUD DE INFORMACIÓN HIDROMETEOROLÓGICA","NO","GRUPO DE SERVICIO AL CIUDADANO ","2021-06-21","CORREO ELECTRÓNICO",null,{"$f":"IFERROR(WORKDAY(C2140,S2139,DiasNOLaborables),\"\")","v":"2021-07-12"},{"$f":"+IF(C2140=\"\",\"\",IF(J2140=\"\",\"SIN RESPUESTA\",(IF(J2140<=M2140,\"A TIEMPO\",\"FUERA DE TIEMPO\"))))","v":"A TIEMPO"},{"$f":"IF(J2140=\"\",\"\",NETWORKDAYS(C2140+1,J2140,DiasNOLaborables))","v":6},"",null,null,20]
[2130,20219050070612,"2021-06-10","ACADEMIA","MODULO CONTACTENOS","SOLICITUD DE INFORMACIÓN Y DOCUMENTOS","SOLICITUD DE INFORMACIÓN HIDROMETEOROLÓGICA","NO","GRUPO DE SERVICIO AL CIUDADANO ","2021-06-29","CORREO ELECTRÓNICO",null,{"$f":"IFERROR(WORKDAY(C2141,S2140,DiasNOLaborables),\"\")","v":"2021-07-12"},{"$f":"+IF(C2141=\"\",\"\",IF(J2141=\"\",\"SIN RESPUESTA\",(IF(J2141<=M2141,\"A TIEMPO\",\"FUERA DE TIEMPO\"))))","v":"A TIEMPO"},{"$f":"IF(J2141=\"\",\"\",NETWORKDAYS(C2141+1,J2141,DiasNOLaborables))","v":12},"",null,null,20]
[2131,20219050070622,"2021-06-10","ACADEMIA","MODULO CONTACTENOS","SOLICITUD DE INFORMACIÓN Y DOCUMENTOS","SOLICITUD DE INFORMACIÓN HIDROMETEOROLÓGICA","NO","GRUPO DE SERVICIO AL CIUDADANO ","2021-07-01","CORREO ELECTRÓNICO",null,{"$f":"IFERROR(WORKDAY(C2142,S2141,DiasNOLaborables),\"\")","v":"2021-07-12"},{"$f":"+IF(C2142=\"\",\"\",IF(J2142=\"\",\"SIN RESPUESTA\",(IF(J2142<=M2142,\"A TIEMPO\",\"FUERA DE TIEMPO\"))))","v":"A TIEMPO"},{"$f":"IF(J2142=\"\",\"\",NETWORKDAYS(C2142+1,J2142,DiasNOLaborables))","v":14},"",null,null,20]
[2132,20219050070642,"2021-06-10","CIUDADANO","MODULO CONTACTENOS","SOLICITUD DE INFORMACIÓN Y DOCUMENTOS","SOLICITUD DE INFORMACIÓN HIDROMETEOROLÓGICA","NO","GRUPO DE SERVICIO AL CIUDADANO ","2021-06-29","CORREO ELECTRÓNICO",null,{"$f":"IFERROR(WORKDAY(C2143,S2142,DiasNOLaborables),\"\")","v":"2021-07-12"},{"$f":"+IF(C2143=\"\",\"\",IF(J2143=\"\",\"SIN RESPUESTA\",(IF(J2143<=M2143,\"A TIEMPO\",\"FUERA DE TIEMPO\"))))","v":"A TIEMPO"},{"$f":"IF(J2143=\"\",\"\",NETWORKDAYS(C2143+1,J2143,DiasNOLaborables))","v":12},"",null,null,20]
[2133,20219050070652,"2021-06-10","CIUDADANO","MODULO CONTACTENOS","SOLICITUD DE INFORMACIÓN Y DOCUMENTOS","SOLICITUD DE INFORMACIÓN HIDROMETEOROLÓGICA","NO","GRUPO DE SERVICIO AL CIUDADANO ","2021-06-29","CORREO ELECTRÓNICO",null,{"$f":"IFERROR(WORKDAY(C2144,S2143,DiasNOLaborables),\"\")","v":"2021-07-12"},{"$f":"+IF(C2144=\"\",\"\",IF(J2144=\"\",\"SIN RESPUESTA\",(IF(J2144<=M2144,\"A TIEMPO\",\"FUERA DE TIEMPO\"))))","v":"A TIEMPO"},{"$f":"IF(J2144=\"\",\"\",NETWORKDAYS(C2144+1,J2144,DiasNOLaborables))","v":12},"",null,null,20]
[2134,20219050070682,"2021-06-10","CIUDADANO","MODULO CONTACTENOS","SOLICITUD DE INFORMACIÓN Y DOCUMENTOS","SOLICITUD DE INFORMACIÓN HIDROMETEOROLÓGICA","NO","GRUPO DE SERVICIO AL CIUDADANO ","2021-06-29","CORREO ELECTRÓNICO",null,{"$f":"IFERROR(WORKDAY(C2145,S2144,DiasNOLaborables),\"\")","v":"2021-07-12"},{"$f":"+IF(C2145=\"\",\"\",IF(J2145=\"\",\"SIN RESPUESTA\",(IF(J2145<=M2145,\"A TIEMPO\",\"FUERA DE TIEMPO\"))))","v":"A TIEMPO"},{"$f":"IF(J2145=\"\",\"\",NETWORKDAYS(C2145+1,J2145,DiasNOLaborables))","v":12},"",null,null,20]
[2135,20219050070702,"2021-06-10","CIUDADANO","MODULO CONTACTENOS","SOLICITUD DE INFORMACIÓN Y DOCUMENTOS","SOLICITUD DE INFORMACIÓN HIDROMETEOROLÓGICA","NO","GRUPO DE SERVICIO AL CIUDADANO ","2021-06-29","CORREO ELECTRÓNICO",null,{"$f":"IFERROR(WORKDAY(C2146,S2145,DiasNOLaborables),\"\")","v":"2021-07-12"},{"$f":"+IF(C2146=\"\",\"\",IF(J2146=\"\",\"SIN RESPUESTA\",(IF(J2146<=M2146,\"A TIEMPO\",\"FUERA DE TIEMPO\"))))","v":"A TIEMPO"},{"$f":"IF(J2146=\"\",\"\",NETWORKDAYS(C2146+1,J2146,DiasNOLaborables))","v":12},"",null,null,20]
[2136,20219050070722,"2021-06-10","CIUDADANO","MODULO CONTACTENOS","SOLICITUD DE INFORMACIÓN Y DOCUMENTOS","SOLICITUD DE INFORMACIÓN HIDROMETEOROLÓGICA","NO","GRUPO DE SERVICIO AL CIUDADANO ","2021-06-29","CORREO ELECTRÓNICO",null,{"$f":"IFERROR(WORKDAY(C2147,S2146,DiasNOLaborables),\"\")","v":"2021-07-12"},{"$f":"+IF(C2147=\"\",\"\",IF(J2147=\"\",\"SIN RESPUESTA\",(IF(J2147<=M2147,\"A TIEMPO\",\"FUERA DE TIEMPO\"))))","v":"A TIEMPO"},{"$f":"IF(J2147=\"\",\"\",NETWORKDAYS(C2147+1,J2147,DiasNOLaborables))","v":12},"",null,null,20]
[2137,20219050070792,"2021-06-10","CIUDADANO","MODULO CONTACTENOS","SOLICITUD DE INFORMACIÓN Y DOCUMENTOS","SOLICITUD DE INFORMACIÓN HIDROMETEOROLÓGICA","NO","GRUPO DE SERVICIO AL CIUDADANO ","2021-07-02","CORREO ELECTRÓNICO",null,{"$f":"IFERROR(WORKDAY(C2148,S2147,DiasNOLaborables),\"\")","v":"2021-07-12"},{"$f":"+IF(C2148=\"\",\"\",IF(J2148=\"\",\"SIN RESPUESTA\",(IF(J2148<=M2148,\"A TIEMPO\",\"FUERA DE TIEMPO\"))))","v":"A TIEMPO"},{"$f":"IF(J2148=\"\",\"\",NETWORKDAYS(C2148+1,J2148,DiasNOLaborables))","v":15},"",null,null,20]
[2138,20219050070882,"2021-06-10","ACADEMIA","MODULO CONTACTENOS","SOLICITUD DE INFORMACIÓN Y DOCUMENTOS","SOLICITUD DE INFORMACIÓN HIDROMETEOROLÓGICA","NO","GRUPO DE SERVICIO AL CIUDADANO ","2021-07-02","CORREO ELECTRÓNICO",null,{"$f":"IFERROR(WORKDAY(C2149,S2148,DiasNOLaborables),\"\")","v":"2021-07-12"},{"$f":"+IF(C2149=\"\",\"\",IF(J2149=\"\",\"SIN RESPUESTA\",(IF(J2149<=M2149,\"A TIEMPO\",\"FUERA DE TIEMPO\"))))","v":"A TIEMPO"},{"$f":"IF(J2149=\"\",\"\",NETWORKDAYS(C2149+1,J2149,DiasNOLaborables))","v":15},"",null,null,20]
[2139,20219050070962,"2021-06-10","CIUDADANO","MODULO CONTACTENOS","SOLICITUD DE INFORMACIÓN Y DOCUMENTOS","SOLICITUD DE INFORMACIÓN HIDROMETEOROLÓGICA","NO","GRUPO DE SERVICIO AL CIUDADANO ","2021-07-02","CORREO ELECTRÓNICO",null,{"$f":"IFERROR(WORKDAY(C2150,S2149,DiasNOLaborables),\"\")","v":"2021-07-12"},{"$f":"+IF(C2150=\"\",\"\",IF(J2150=\"\",\"SIN RESPUESTA\",(IF(J2150<=M2150,\"A TIEMPO\",\"FUERA DE TIEMPO\"))))","v":"A TIEMPO"},{"$f":"IF(J2150=\"\",\"\",NETWORKDAYS(C2150+1,J2150,DiasNOLaborables))","v":15},"",null,null,20]
[2140,20219050070932,"2021-06-10","CIUDADANO","MODULO CONTACTENOS","SOLICITUD DE INFORMACIÓN Y DOCUMENTOS","SOLICITUD DE INFORMACIÓN HIDROMETEOROLÓGICA","NO","GRUPO DE SERVICIO AL CIUDADANO ","2021-07-02","CORREO ELECTRÓNICO",null,{"$f":"IFERROR(WORKDAY(C2151,S2150,DiasNOLaborables),\"\")","v":"2021-07-12"},{"$f":"+IF(C2151=\"\",\"\",IF(J2151=\"\",\"SIN RESPUESTA\",(IF(J2151<=M2151,\"A TIEMPO\",\"FUERA DE TIEMPO\"))))","v":"A TIEMPO"},{"$f":"IF(J2151=\"\",\"\",NETWORKDAYS(C2151+1,J2151,DiasNOLaborables))","v":15},"",null,null,20]
[2141,20219050070972,"2021-06-10","ACADEMIA","MODULO CONTACTENOS","SOLICITUD DE INFORMACIÓN Y DOCUMENTOS","SOLICITUD DE INFORMACIÓN HIDROMETEOROLÓGICA","NO","GRUPO DE SERVICIO AL CIUDADANO ","2021-07-09","CORREO ELECTRÓNICO",null,{"$f":"IFERROR(WORKDAY(C2152,S2151,DiasNOLaborables),\"\")","v":"2021-07-12"},{"$f":"+IF(C2152=\"\",\"\",IF(J2152=\"\",\"SIN RESPUESTA\",(IF(J2152<=M2152,\"A TIEMPO\",\"FUERA DE TIEMPO\"))))","v":"A TIEMPO"},{"$f":"IF(J2152=\"\",\"\",NETWORKDAYS(C2152+1,J2152,DiasNOLaborables))","v":19},"",null,null,20]
[2142,20219050070892,"2021-06-10","CIUDADANO","MODULO CONTACTENOS","SOLICITUD DE INFORMACIÓN Y DOCUMENTOS","SOLICITUD DE INFORMACIÓN HIDROMETEOROLÓGICA","NO","GRUPO DE SERVICIO AL CIUDADANO ","2021-07-09","CORREO ELECTRÓNICO",null,{"$f":"IFERROR(WORKDAY(C2153,S2152,DiasNOLaborables),\"\")","v":"2021-07-12"},{"$f":"+IF(C2153=\"\",\"\",IF(J2153=\"\",\"SIN RESPUESTA\",(IF(J2153<=M2153,\"A TIEMPO\",\"FUERA DE TIEMPO\"))))","v":"A TIEMPO"},{"$f":"IF(J2153=\"\",\"\",NETWORKDAYS(C2153+1,J2153,DiasNOLaborables))","v":19},"",null,null,20]
[2143,20219050070902,"2021-06-10","ACADEMIA","MODULO CONTACTENOS","SOLICITUD DE INFORMACIÓN Y DOCUMENTOS","SOLICITUD DE INFORMACIÓN HIDROMETEOROLÓGICA","NO","GRUPO DE SERVICIO AL CIUDADANO ","2021-07-09","CORREO ELECTRÓNICO",null,{"$f":"IFERROR(WORKDAY(C2154,S2153,DiasNOLaborables),\"\")","v":"2021-07-12"},{"$f":"+IF(C2154=\"\",\"\",IF(J2154=\"\",\"SIN RESPUESTA\",(IF(J2154<=M2154,\"A TIEMPO\",\"FUERA DE TIEMPO\"))))","v":"A TIEMPO"},{"$f":"IF(J2154=\"\",\"\",NETWORKDAYS(C2154+1,J2154,DiasNOLaborables))","v":19},"",null,null,20]
[2144,20217090001782,"2021-06-11","CIUDADANO","MODULO CONTACTENOS","SOLICITUD DE INFORMACIÓN Y DOCUMENTOS","SOLICITUD DE INFORMACIÓN HIDROMETEOROLÓGICA","NO","GRUPO DE SERVICIO AL CIUDADANO ","2021-07-07","CORREO ELECTRÓNICO",null,{"$f":"IFERROR(WORKDAY(C2155,S2154,DiasNOLaborables),\"\")","v":"2021-07-13"},{"$f":"+IF(C2155=\"\",\"\",IF(J2155=\"\",\"SIN RESPUESTA\",(IF(J2155<=M2155,\"A TIEMPO\",\"FUERA DE TIEMPO\"))))","v":"A TIEMPO"},{"$f":"IF(J2155=\"\",\"\",NETWORKDAYS(C2155+1,J2155,DiasNOLaborables))","v":16},"",null,null,20]
[2145,20219050071422,"2021-06-11","CIUDADANO","MODULO CONTACTENOS","SOLICITUD DE INFORMACIÓN Y DOCUMENTOS","SOLICITUD DE INFORMACIÓN HIDROMETEOROLÓGICA","NO","GRUPO DE SERVICIO AL CIUDADANO ","2021-07-07","CORREO ELECTRÓNICO",null,{"$f":"IFERROR(WORKDAY(C2156,S2155,DiasNOLaborables),\"\")","v":"2021-07-13"},{"$f":"+IF(C2156=\"\",\"\",IF(J2156=\"\",\"SIN RESPUESTA\",(IF(J2156<=M2156,\"A TIEMPO\",\"FUERA DE TIEMPO\"))))","v":"A TIEMPO"},{"$f":"IF(J2156=\"\",\"\",NETWORKDAYS(C2156+1,J2156,DiasNOLaborables))","v":16},"",null,null,20]
[2146,20219050071382,"2021-06-11","CIUDADANO","MODULO CONTACTENOS","SOLICITUD DE INFORMACIÓN Y DOCUMENTOS","SOLICITUD DE INFORMACIÓN HIDROMETEOROLÓGICA","NO","GRUPO DE SERVICIO AL CIUDADANO ","2021-07-07","CORREO ELECTRÓNICO",null,{"$f":"IFERROR(WORKDAY(C2157,S2156,DiasNOLaborables),\"\")","v":"2021-07-13"},{"$f":"+IF(C2157=\"\",\"\",IF(J2157=\"\",\"SIN RESPUESTA\",(IF(J2157<=M2157,\"A TIEMPO\",\"FUERA DE TIEMPO\"))))","v":"A TIEMPO"},{"$f":"IF(J2157=\"\",\"\",NETWORKDAYS(C2157+1,J2157,DiasNOLaborables))","v":16},"",null,null,20]
[2147,20219050071372,"2021-06-11","CIUDADANO","MODULO CONTACTENOS","SOLICITUD DE INFORMACIÓN Y DOCUMENTOS","SOLICITUD DE INFORMACIÓN HIDROMETEOROLÓGICA","NO","GRUPO DE SERVICIO AL CIUDADANO ","2021-07-07","CORREO ELECTRÓNICO",null,{"$f":"IFERROR(WORKDAY(C2158,S2157,DiasNOLaborables),\"\")","v":"2021-07-13"},{"$f":"+IF(C2158=\"\",\"\",IF(J2158=\"\",\"SIN RESPUESTA\",(IF(J2158<=M2158,\"A TIEMPO\",\"FUERA DE TIEMPO\"))))","v":"A TIEMPO"},{"$f":"IF(J2158=\"\",\"\",NETWORKDAYS(C2158+1,J2158,DiasNOLaborables))","v":16},"",null,null,20]
[2148,20219050071342,"2021-06-11","CIUDADANO","MODULO CONTACTENOS","SOLICITUD DE INFORMACIÓN Y DOCUMENTOS","SOLICITUD DE INFORMACIÓN HIDROMETEOROLÓGICA","NO","GRUPO DE SERVICIO AL CIUDADANO ","2021-07-07","CORREO ELECTRÓNICO",null,{"$f":"IFERROR(WORKDAY(C2159,S2158,DiasNOLaborables),\"\")","v":"2021-07-13"},{"$f":"+IF(C2159=\"\",\"\",IF(J2159=\"\",\"SIN RESPUESTA\",(IF(J2159<=M2159,\"A TIEMPO\",\"FUERA DE TIEMPO\"))))","v":"A TIEMPO"},{"$f":"IF(J2159=\"\",\"\",NETWORKDAYS(C2159+1,J2159,DiasNOLaborables))","v":16},"",null,null,20]
[2149,20219050071302,"2021-06-11","CIUDADANO","MODULO CONTACTENOS","SOLICITUD DE INFORMACIÓN Y DOCUMENTOS","SOLICITUD DE INFORMACIÓN HIDROMETEOROLÓGICA","NO","GRUPO DE SERVICIO AL CIUDADANO ","2021-07-07","CORREO ELECTRÓNICO",null,{"$f":"IFERROR(WORKDAY(C2160,S2159,DiasNOLaborables),\"\")","v":"2021-07-13"},{"$f":"+IF(C2160=\"\",\"\",IF(J2160=\"\",\"SIN RESPUESTA\",(IF(J2160<=M2160,\"A TIEMPO\",\"FUERA DE TIEMPO\"))))","v":"A TIEMPO"},{"$f":"IF(J2160=\"\",\"\",NETWORKDAYS(C2160+1,J2160,DiasNOLaborables))","v":16},"",null,null,20]
[2150,20219050071292,"2021-06-11","CIUDADANO","MODULO CONTACTENOS","SOLICITUD DE INFORMACIÓN Y DOCUMENTOS","SOLICITUD DE INFORMACIÓN HIDROMETEOROLÓGICA","NO","GRUPO DE SERVICIO AL CIUDADANO ","2021-07-07","CORREO ELECTRÓNICO",null,{"$f":"IFERROR(WORKDAY(C2161,S2160,DiasNOLaborables),\"\")","v":"2021-07-13"},{"$f":"+IF(C2161=\"\",\"\",IF(J2161=\"\",\"SIN RESPUESTA\",(IF(J2161<=M2161,\"A TIEMPO\",\"FUERA DE TIEMPO\"))))","v":"A TIEMPO"},{"$f":"IF(J2161=\"\",\"\",NETWORKDAYS(C2161+1,J2161,DiasNOLaborables))","v":16},"",null,null,20]
[2151,20219050071252,"2021-06-11","CIUDADANO","MODULO CONTACTENOS","SOLICITUD DE INFORMACIÓN Y DOCUMENTOS","SOLICITUD DE INFORMACIÓN HIDROMETEOROLÓGICA","NO","GRUPO DE SERVICIO AL CIUDADANO ","2021-07-07","CORREO ELECTRÓNICO",null,{"$f":"IFERROR(WORKDAY(C2162,S2161,DiasNOLaborables),\"\")","v":"2021-07-13"},{"$f":"+IF(C2162=\"\",\"\",IF(J2162=\"\",\"SIN RESPUESTA\",(IF(J2162<=M2162,\"A TIEMPO\",\"FUERA DE TIEMPO\"))))","v":"A TIEMPO"},{"$f":"IF(J2162=\"\",\"\",NETWORKDAYS(C2162+1,J2162,DiasNOLaborables))","v":16},"",null,null,20]
[2152,20219050071242,"2021-06-11","CIUDADANO","MODULO CONTACTENOS","SOLICITUD DE INFORMACIÓN Y DOCUMENTOS","SOLICITUD DE INFORMACIÓN HIDROMETEOROLÓGICA","NO","GRUPO DE SERVICIO AL CIUDADANO ","2021-07-07","CORREO ELECTRÓNICO",null,{"$f":"IFERROR(WORKDAY(C2163,S2162,DiasNOLaborables),\"\")","v":"2021-07-13"},{"$f":"+IF(C2163=\"\",\"\",IF(J2163=\"\",\"SIN RESPUESTA\",(IF(J2163<=M2163,\"A TIEMPO\",\"FUERA DE TIEMPO\"))))","v":"A TIEMPO"},{"$f":"IF(J2163=\"\",\"\",NETWORKDAYS(C2163+1,J2163,DiasNOLaborables))","v":16},"",null,null,20]
[2153,20219050071222,"2021-06-11","CIUDADANO","MODULO CONTACTENOS","SOLICITUD DE INFORMACIÓN Y DOCUMENTOS","SOLICITUD DE INFORMACIÓN HIDROMETEOROLÓGICA","NO","GRUPO DE SERVICIO AL CIUDADANO ","2021-07-09","CORREO ELECTRÓNICO",null,{"$f":"IFERROR(WORKDAY(C2164,S2163,DiasNOLaborables),\"\")","v":"2021-07-13"},{"$f":"+IF(C2164=\"\",\"\",IF(J2164=\"\",\"SIN RESPUESTA\",(IF(J2164<=M2164,\"A TIEMPO\",\"FUERA DE TIEMPO\"))))","v":"A TIEMPO"},{"$f":"IF(J2164=\"\",\"\",NETWORKDAYS(C2164+1,J2164,DiasNOLaborables))","v":18},"",null,null,20]
[2154,20219050071202,"2021-06-11","ACADEMIA","MODULO CONTACTENOS","SOLICITUD DE INFORMACIÓN Y DOCUMENTOS","SOLICITUD DE INFORMACIÓN HIDROMETEOROLÓGICA","NO","GRUPO DE SERVICIO AL CIUDADANO ","2021-07-09","CORREO ELECTRÓNICO",null,{"$f":"IFERROR(WORKDAY(C2165,S2164,DiasNOLaborables),\"\")","v":"2021-07-13"},{"$f":"+IF(C2165=\"\",\"\",IF(J2165=\"\",\"SIN RESPUESTA\",(IF(J2165<=M2165,\"A TIEMPO\",\"FUERA DE TIEMPO\"))))","v":"A TIEMPO"},{"$f":"IF(J2165=\"\",\"\",NETWORKDAYS(C2165+1,J2165,DiasNOLaborables))","v":18},"",null,null,20]
[2155,20219050071192,"2021-06-11","CIUDADANO","MODULO CONTACTENOS","SOLICITUD DE INFORMACIÓN Y DOCUMENTOS","SOLICITUD DE INFORMACIÓN HIDROMETEOROLÓGICA","NO","GRUPO DE SERVICIO AL CIUDADANO ","2021-07-09","CORREO ELECTRÓNICO",null,{"$f":"IFERROR(WORKDAY(C2166,S2165,DiasNOLaborables),\"\")","v":"2021-07-13"},{"$f":"+IF(C2166=\"\",\"\",IF(J2166=\"\",\"SIN RESPUESTA\",(IF(J2166<=M2166,\"A TIEMPO\",\"FUERA DE TIEMPO\"))))","v":"A TIEMPO"},{"$f":"IF(J2166=\"\",\"\",NETWORKDAYS(C2166+1,J2166,DiasNOLaborables))","v":18},{"$f":"IF(NETWORKDAYS(M2166+1,J2166,DiasNOLaborables)<=0,\"\",NETWORKDAYS(M2166+1,J2166,DiasNOLaborables))","v":""},null,null,20]
[2156,20219050071052,"2021-06-11","ACADEMIA","MODULO CONTACTENOS","SOLICITUD DE INFORMACIÓN Y DOCUMENTOS","SOLICITUD DE INFORMACIÓN HIDROMETEOROLÓGICA","NO","GRUPO DE SERVICIO AL CIUDADANO ","2021-07-09","CORREO ELECTRÓNICO",null,{"$f":"IFERROR(WORKDAY(C2167,S2166,DiasNOLaborables),\"\")","v":"2021-07-13"},{"$f":"+IF(C2167=\"\",\"\",IF(J2167=\"\",\"SIN RESPUESTA\",(IF(J2167<=M2167,\"A TIEMPO\",\"FUERA DE TIEMPO\"))))","v":"A TIEMPO"},{"$f":"IF(J2167=\"\",\"\",NETWORKDAYS(C2167+1,J2167,DiasNOLaborables))","v":18},{"$f":"IF(NETWORKDAYS(M2167+1,J2167,DiasNOLaborables)<=0,\"\",NETWORKDAYS(M2167+1,J2167,DiasNOLaborables))","v":""},null,null,20]
[2157,20219050071042,"2021-06-11","ACADEMIA","MODULO CONTACTENOS","SOLICITUD DE INFORMACIÓN Y DOCUMENTOS","SOLICITUD DE INFORMACIÓN HIDROMETEOROLÓGICA","NO","GRUPO DE SERVICIO AL CIUDADANO ","2021-07-09","CORREO ELECTRÓNICO",null,{"$f":"IFERROR(WORKDAY(C2168,S2167,DiasNOLaborables),\"\")","v":"2021-07-13"},{"$f":"+IF(C2168=\"\",\"\",IF(J2168=\"\",\"SIN RESPUESTA\",(IF(J2168<=M2168,\"A TIEMPO\",\"FUERA DE TIEMPO\"))))","v":"A TIEMPO"},{"$f":"IF(J2168=\"\",\"\",NETWORKDAYS(C2168+1,J2168,DiasNOLaborables))","v":18},{"$f":"IF(NETWORKDAYS(M2168+1,J2168,DiasNOLaborables)<=0,\"\",NETWORKDAYS(M2168+1,J2168,DiasNOLaborables))","v":""},null,null,20]
[2158,20219050071032,"2021-06-11","CIUDADANO","MODULO CONTACTENOS","SOLICITUD DE INFORMACIÓN Y DOCUMENTOS","SOLICITUD DE INFORMACIÓN HIDROMETEOROLÓGICA","NO","GRUPO DE SERVICIO AL CIUDADANO ","2021-07-09","CORREO ELECTRÓNICO",null,{"$f":"IFERROR(WORKDAY(C2169,S2168,DiasNOLaborables),\"\")","v":"2021-07-13"},{"$f":"+IF(C2169=\"\",\"\",IF(J2169=\"\",\"SIN RESPUESTA\",(IF(J2169<=M2169,\"A TIEMPO\",\"FUERA DE TIEMPO\"))))","v":"A TIEMPO"},{"$f":"IF(J2169=\"\",\"\",NETWORKDAYS(C2169+1,J2169,DiasNOLaborables))","v":18},{"$f":"IF(NETWORKDAYS(M2169+1,J2169,DiasNOLaborables)<=0,\"\",NETWORKDAYS(M2169+1,J2169,DiasNOLaborables))","v":""},null,null,20]
[2159,20219050071022,"2021-06-11","CIUDADANO","MODULO CONTACTENOS","SOLICITUD DE INFORMACIÓN Y DOCUMENTOS","SOLICITUD DE INFORMACIÓN HIDROMETEOROLÓGICA","NO","GRUPO DE SERVICIO AL CIUDADANO ","2021-07-09","CORREO ELECTRÓNICO",null,{"$f":"IFERROR(WORKDAY(C2170,S2169,DiasNOLaborables),\"\")","v":"2021-07-13"},{"$f":"+IF(C2170=\"\",\"\",IF(J2170=\"\",\"SIN RESPUESTA\",(IF(J2170<=M2170,\"A TIEMPO\",\"FUERA DE TIEMPO\"))))","v":"A TIEMPO"},{"$f":"IF(J2170=\"\",\"\",NETWORKDAYS(C2170+1,J2170,DiasNOLaborables))","v":18},"",null,null,20]
[2160,20219050071012,"2021-06-11","CIUDADANO","MODULO CONTACTENOS","SOLICITUD DE INFORMACIÓN Y DOCUMENTOS","SOLICITUD DE INFORMACIÓN HIDROMETEOROLÓGICA","NO","GRUPO DE SERVICIO AL CIUDADANO ","2021-07-09","CORREO ELECTRÓNICO",null,{"$f":"IFERROR(WORKDAY(C2171,S2170,DiasNOLaborables),\"\")","v":"2021-07-13"},{"$f":"+IF(C2171=\"\",\"\",IF(J2171=\"\",\"SIN RESPUESTA\",(IF(J2171<=M2171,\"A TIEMPO\",\"FUERA DE TIEMPO\"))))","v":"A TIEMPO"},{"$f":"IF(J2171=\"\",\"\",NETWORKDAYS(C2171+1,J2171,DiasNOLaborables))","v":18},"",null,null,20]
[2161,20219050071352,"2021-06-11","CIUDADANO","MODULO CONTACTENOS","SOLICITUD DE INFORMACIÓN Y DOCUMENTOS","SOLICITUD DE INFORMACIÓN HIDROMETEOROLÓGICA","NO","GRUPO DE SERVICIO AL CIUDADANO ","2021-07-09","CORREO ELECTRÓNICO",null,{"$f":"IFERROR(WORKDAY(C2172,S2171,DiasNOLaborables),\"\")","v":"2021-07-13"},{"$f":"+IF(C2172=\"\",\"\",IF(J2172=\"\",\"SIN RESPUESTA\",(IF(J2172<=M2172,\"A TIEMPO\",\"FUERA DE TIEMPO\"))))","v":"A TIEMPO"},{"$f":"IF(J2172=\"\",\"\",NETWORKDAYS(C2172+1,J2172,DiasNOLaborables))","v":18},"",null,null,20]
[2162,20219050071112,"2021-06-11","ONG/ORG","MODULO CONTACTENOS","SOLICITUD DE INFORMACIÓN Y DOCUMENTOS","SOLICITUD DE INFORMACIÓN HIDROMETEOROLÓGICA","NO","GRUPO DE SERVICIO AL CIUDADANO ","2021-06-22","CORREO ELECTRÓNICO",null,{"$f":"IFERROR(WORKDAY(C2173,S2172,DiasNOLaborables),\"\")","v":"2021-07-13"},{"$f":"+IF(C2173=\"\",\"\",IF(J2173=\"\",\"SIN RESPUESTA\",(IF(J2173<=M2173,\"A TIEMPO\",\"FUERA DE TIEMPO\"))))","v":"A TIEMPO"},{"$f":"IF(J2173=\"\",\"\",NETWORKDAYS(C2173+1,J2173,DiasNOLaborables))","v":6},"",null,null,20]
[2163,20219050071172,"2021-06-11","CIUDADANO","MODULO CONTACTENOS","SOLICITUD DE INFORMACIÓN Y DOCUMENTOS","SOLICITUD DE INFORMACIÓN HIDROMETEOROLÓGICA","SI","AREA OPERATIVA No. 11","2021-06-22","CORREO ELECTRÓNICO",null,{"$f":"IFERROR(WORKDAY(C2174,S2173,DiasNOLaborables),\"\")","v":"2021-07-13"},{"$f":"+IF(C2174=\"\",\"\",IF(J2174=\"\",\"SIN RESPUESTA\",(IF(J2174<=M2174,\"A TIEMPO\",\"FUERA DE TIEMPO\"))))","v":"A TIEMPO"},{"$f":"IF(J2174=\"\",\"\",NETWORKDAYS(C2174+1,J2174,DiasNOLaborables))","v":6},"",null,null,20]
[2164,20219050071262,"2021-06-11","CIUDADANO","CORREO ELECTRÓNICO","SOLICITUD DE INFORMACIÓN Y DOCUMENTOS","INFORMES AMBIENTALES","SI","SUBDIRECCIÓN DE HIDROLOGÍA","2021-06-15","CORREO ELECTRÓNICO",null,{"$f":"IFERROR(WORKDAY(C2175,S2174,DiasNOLaborables),\"\")","v":"2021-07-13"},{"$f":"+IF(C2175=\"\",\"\",IF(J2175=\"\",\"SIN RESPUESTA\",(IF(J2175<=M2175,\"A TIEMPO\",\"FUERA DE TIEMPO\"))))","v":"A TIEMPO"},{"$f":"IF(J2175=\"\",\"\",NETWORKDAYS(C2175+1,J2175,DiasNOLaborables))","v":1},"",null,null,20]
[2165,20219050071272,"2021-06-11","CIUDADANO","CORREO ELECTRÓNICO","SOLICITUD DE INFORMACIÓN Y DOCUMENTOS","REGISTROS AMBIENTALES","SI","SUBDIRECCIÓN DE ESTUDIOS AMBIENTALES","2021-06-11","CORREO ELECTRÓNICO",null,{"$f":"IFERROR(WORKDAY(C2176,S2175,DiasNOLaborables),\"\")","v":"2021-07-13"},{"$f":"+IF(C2176=\"\",\"\",IF(J2176=\"\",\"SIN RESPUESTA\",(IF(J2176<=M2176,\"A TIEMPO\",\"FUERA DE TIEMPO\"))))","v":"A TIEMPO"},{"$f":"IF(J2176=\"\",\"\",NETWORKDAYS(C2176+1,J2176,DiasNOLaborables))","v":-1},"",null,null,20]
[2166,20219050071282,"2021-06-11","CIUDADANO","CORREO ELECTRÓNICO","SOLICITUD DE INFORMACIÓN Y DOCUMENTOS","REGISTROS AMBIENTALES","SI","SUBDIRECCIÓN DE ESTUDIOS AMBIENTALES","2021-06-11","CORREO ELECTRÓNICO",null,{"$f":"IFERROR(WORKDAY(C2177,S2176,DiasNOLaborables),\"\")","v":"2021-07-13"},{"$f":"+IF(C2177=\"\",\"\",IF(J2177=\"\",\"SIN RESPUESTA\",(IF(J2177<=M2177,\"A TIEMPO\",\"FUERA DE TIEMPO\"))))","v":"A TIEMPO"},{"$f":"IF(J2177=\"\",\"\",NETWORKDAYS(C2177+1,J2177,DiasNOLaborables))","v":-1},"",null,null,20]
[2167,20219050071312,"2021-06-11","CIUDADANO","CORREO ELECTRÓNICO","SOLICITUD DE INFORMACIÓN Y DOCUMENTOS","REGISTROS AMBIENTALES","SI","SUBDIRECCIÓN DE ESTUDIOS AMBIENTALES","2021-06-11","CORREO ELECTRÓNICO",null,{"$f":"IFERROR(WORKDAY(C2178,S2177,DiasNOLaborables),\"\")","v":"2021-07-13"},{"$f":"+IF(C2178=\"\",\"\",IF(J2178=\"\",\"SIN RESPUESTA\",(IF(J2178<=M2178,\"A TIEMPO\",\"FUERA DE TIEMPO\"))))","v":"A TIEMPO"},{"$f":"IF(J2178=\"\",\"\",NETWORKDAYS(C2178+1,J2178,DiasNOLaborables))","v":-1},"",null,null,20]
[2168,20219050071322,"2021-06-11","CIUDADANO","CORREO ELECTRÓNICO","SOLICITUD DE INFORMACIÓN Y DOCUMENTOS","REGISTROS AMBIENTALES","SI","SUBDIRECCIÓN DE ESTUDIOS AMBIENTALES","2021-06-11","CORREO ELECTRÓNICO",null,{"$f":"IFERROR(WORKDAY(C2179,S2178,DiasNOLaborables),\"\")","v":"2021-07-13"},{"$f":"+IF(C2179=\"\",\"\",IF(J2179=\"\",\"SIN RESPUESTA\",(IF(J2179<=M2179,\"A TIEMPO\",\"FUERA DE TIEMPO\"))))","v":"A TIEMPO"},{"$f":"IF(J2179=\"\",\"\",NETWORKDAYS(C2179+1,J2179,DiasNOLaborables))","v":-1},"",null,null,20]
[2169,20219050071332,"2021-06-11","CIUDADANO","CORREO ELECTRÓNICO","SOLICITUD DE INFORMACIÓN Y DOCUMENTOS","CAMBIO CLIMÁTICO","SI","SUBDIRECCIÓN DE HIDROLOGÍA","2021-06-25","CORREO ELECTRÓNICO",null,{"$f":"IFERROR(WORKDAY(C2180,S2179,DiasNOLaborables),\"\")","v":"2021-07-13"},{"$f":"+IF(C2180=\"\",\"\",IF(J2180=\"\",\"SIN RESPUESTA\",(IF(J2180<=M2180,\"A TIEMPO\",\"FUERA DE TIEMPO\"))))","v":"A TIEMPO"},{"$f":"IF(J2180=\"\",\"\",NETWORKDAYS(C2180+1,J2180,DiasNOLaborables))","v":9},"",null,null,20]
[2170,20219050071402,"2021-06-11","ENTIDAD PÚBLICA","CORREO ELECTRÓNICO","SOLICITUD DE INFORMACIÓN Y DOCUMENTOS","SOLICITUD DE INFORMACIÓN HIDROMETEOROLÓGICA","NO","GRUPO DE SERVICIO AL CIUDADANO ","2021-06-16","CORREO ELECTRÓNICO",null,{"$f":"IFERROR(WORKDAY(C2181,S2180,DiasNOLaborables),\"\")","v":"2021-07-13"},{"$f":"+IF(C2181=\"\",\"\",IF(J2181=\"\",\"SIN RESPUESTA\",(IF(J2181<=M2181,\"A TIEMPO\",\"FUERA DE TIEMPO\"))))","v":"A TIEMPO"},{"$f":"IF(J2181=\"\",\"\",NETWORKDAYS(C2181+1,J2181,DiasNOLaborables))","v":2},{"$f":"IF(NETWORKDAYS(M2181+1,J2181,DiasNOLaborables)<=0,\"\",NETWORKDAYS(M2181+1,J2181,DiasNOLaborables))","v":""},null,null,30]
[2171,20219050071362,"2021-06-11","CIUDADANO","CORREO ELECTRÓNICO","PETICIÓN","INFORMES AMBIENTALES","SI","GRUPO DE ADMINISTRACIÓN Y DESARROLLO DEL TALENTO HUMANO","2021-07-28",null,null,{"$f":"IFERROR(WORKDAY(C2182,S2181,DiasNOLaborables),\"\")","v":"2021-07-28"},{"$f":"+IF(C2182=\"\",\"\",IF(J2182=\"\",\"SIN RESPUESTA\",(IF(J2182<=M2182,\"A TIEMPO\",\"FUERA DE TIEMPO\"))))","v":"A TIEMPO"},{"$f":"IF(J2182=\"\",\"\",NETWORKDAYS(C2182+1,J2182,DiasNOLaborables))","v":30},"",null,null,20]
[2172,20219050071392,"2021-06-11","CIUDADANO","CORREO ELECTRÓNICO","SOLICITUD DE INFORMACIÓN Y DOCUMENTOS","SOLICITUD DE INFORMACIÓN HIDROMETEOROLÓGICA",null,"SUBDIRECCIÓN DE METEOROLOGÍA","2021-06-21","CORREO ELECTRÓNICO",null,{"$f":"IFERROR(WORKDAY(C2183,S2182,DiasNOLaborables),\"\")","v":"2021-07-13"},{"$f":"+IF(C2183=\"\",\"\",IF(J2183=\"\",\"SIN RESPUESTA\",(IF(J2183<=M2183,\"A TIEMPO\",\"FUERA DE TIEMPO\"))))","v":"A TIEMPO"},{"$f":"IF(J2183=\"\",\"\",NETWORKDAYS(C2183+1,J2183,DiasNOLaborables))","v":5},"",null,null,20]
[2173,20219050071412,"2021-06-11","CIUDADANO","CORREO ELECTRÓNICO","SOLICITUD DE INFORMACIÓN Y DOCUMENTOS","REGISTROS AMBIENTALES","SI","SUBDIRECCIÓN DE ESTUDIOS AMBIENTALES","2021-06-15","CORREO ELECTRÓNICO",null,{"$f":"IFERROR(WORKDAY(C2184,S2183,DiasNOLaborables),\"\")","v":"2021-07-13"},{"$f":"+IF(C2184=\"\",\"\",IF(J2184=\"\",\"SIN RESPUESTA\",(IF(J2184<=M2184,\"A TIEMPO\",\"FUERA DE TIEMPO\"))))","v":"A TIEMPO"},{"$f":"IF(J2184=\"\",\"\",NETWORKDAYS(C2184+1,J2184,DiasNOLaborables))","v":1},"",null,null,20]
[2174,20219050071432,"2021-06-11","CIUDADANO","CORREO ELECTRÓNICO","SOLICITUD DE INFORMACIÓN Y DOCUMENTOS","INFORMES AMBIENTALES","SI","GRUPO DE GESTIÓN DOCUMENTAL Y CENTRO DE DOCUMENTACIÓN","2021-06-21","CORREO ELECTRÓNICO",null,{"$f":"IFERROR(WORKDAY(C2185,S2184,DiasNOLaborables),\"\")","v":"2021-07-13"},{"$f":"+IF(C2185=\"\",\"\",IF(J2185=\"\",\"SIN RESPUESTA\",(IF(J2185<=M2185,\"A TIEMPO\",\"FUERA DE TIEMPO\"))))","v":"A TIEMPO"},{"$f":"IF(J2185=\"\",\"\",NETWORKDAYS(C2185+1,J2185,DiasNOLaborables))","v":5},"",null,null,20]
[2175,20219050071452,"2021-06-12","CIUDADANO","MODULO CONTACTENOS","SOLICITUD DE INFORMACIÓN Y DOCUMENTOS","SOLICITUD DE INFORMACIÓN HIDROMETEOROLÓGICA","NO","GRUPO DE SERVICIO AL CIUDADANO ","2021-06-22","CORREO ELECTRÓNICO",null,{"$f":"IFERROR(WORKDAY(C2186,S2185,DiasNOLaborables),\"\")","v":"2021-07-13"},{"$f":"+IF(C2186=\"\",\"\",IF(J2186=\"\",\"SIN RESPUESTA\",(IF(J2186<=M2186,\"A TIEMPO\",\"FUERA DE TIEMPO\"))))","v":"A TIEMPO"},{"$f":"IF(J2186=\"\",\"\",NETWORKDAYS(C2186+1,J2186,DiasNOLaborables))","v":6},"",null,null,20]
[2176,20219050071482,"2021-06-12","CIUDADANO","MODULO CONTACTENOS","SOLICITUD DE INFORMACIÓN Y DOCUMENTOS","SOLICITUD DE INFORMACIÓN HIDROMETEOROLÓGICA","NO","GRUPO DE SERVICIO AL CIUDADANO ","2021-07-13","CORREO ELECTRÓNICO",null,{"$f":"IFERROR(WORKDAY(C2187,S2186,DiasNOLaborables),\"\")","v":"2021-07-13"},{"$f":"+IF(C2187=\"\",\"\",IF(J2187=\"\",\"SIN RESPUESTA\",(IF(J2187<=M2187,\"A TIEMPO\",\"FUERA DE TIEMPO\"))))","v":"A TIEMPO"},{"$f":"IF(J2187=\"\",\"\",NETWORKDAYS(C2187+1,J2187,DiasNOLaborables))","v":20},"",null,null,20]
[2177,20219050071512,"2021-06-12","CIUDADANO","MODULO CONTACTENOS","SOLICITUD DE INFORMACIÓN Y DOCUMENTOS","SOLICITUD DE INFORMACIÓN HIDROMETEOROLÓGICA","NO","GRUPO DE SERVICIO AL CIUDADANO ","2021-07-09","CORREO ELECTRÓNICO",null,{"$f":"IFERROR(WORKDAY(C2188,S2187,DiasNOLaborables),\"\")","v":"2021-07-13"},{"$f":"+IF(C2188=\"\",\"\",IF(J2188=\"\",\"SIN RESPUESTA\",(IF(J2188<=M2188,\"A TIEMPO\",\"FUERA DE TIEMPO\"))))","v":"A TIEMPO"},{"$f":"IF(J2188=\"\",\"\",NETWORKDAYS(C2188+1,J2188,DiasNOLaborables))","v":18},"",null,null,20]
[2178,20219050071582,"2021-06-13","ACADEMIA","MODULO CONTACTENOS","SOLICITUD DE INFORMACIÓN Y DOCUMENTOS","SOLICITUD DE INFORMACIÓN HIDROMETEOROLÓGICA","NO","GRUPO DE SERVICIO AL CIUDADANO ","2021-07-09","CORREO ELECTRÓNICO",null,{"$f":"IFERROR(WORKDAY(C2189,S2188,DiasNOLaborables),\"\")","v":"2021-07-13"},{"$f":"+IF(C2189=\"\",\"\",IF(J2189=\"\",\"SIN RESPUESTA\",(IF(J2189<=M2189,\"A TIEMPO\",\"FUERA DE TIEMPO\"))))","v":"A TIEMPO"},{"$f":"IF(J2189=\"\",\"\",NETWORKDAYS(C2189+1,J2189,DiasNOLaborables))","v":18},"",null,null,{"$f":"IFERROR(VLOOKUP(F2190,$AA$51:$AB$64,2),\"\")","v":20}]
[{"$f":"IF(B2190<>\"\",A2189+1,\"\")","v":2179},20219050071612,"2021-06-14","CIUDADANO","MODULO CONTACTENOS","SOLICITUD DE INFORMACIÓN Y DOCUMENTOS","SOLICITUD DE INFORMACIÓN HIDROMETEOROLÓGICA","NO","GRUPO DE SERVICIO AL CIUDADANO ","2021-07-09","CORREO ELECTRÓNICO",null,{"$f":"IFERROR(WORKDAY(C2190,S2189,DiasNOLaborables),\"\")","v":"2021-07-13"},{"$f":"+IF(C2190=\"\",\"\",IF(J2190=\"\",\"SIN RESPUESTA\",(IF(J2190<=M2190,\"A TIEMPO\",\"FUERA DE TIEMPO\"))))","v":"A TIEMPO"},{"$f":"IF(J2190=\"\",\"\",NETWORKDAYS(C2190+1,J2190,DiasNOLaborables))","v":18},"",null,null,20]
[2180,20219050071642,"2021-06-15","CIUDADANO","MODULO CONTACTENOS","SOLICITUD DE INFORMACIÓN Y DOCUMENTOS","SOLICITUD DE INFORMACIÓN HIDROMETEOROLÓGICA","NO","GRUPO DE SERVICIO AL CIUDADANO ","2021-07-09","CORREO ELECTRÓNICO",null,{"$f":"IFERROR(WORKDAY(C2191,S2190,DiasNOLaborables),\"\")","v":"2021-07-14"},{"$f":"+IF(C2191=\"\",\"\",IF(J2191=\"\",\"SIN RESPUESTA\",(IF(J2191<=M2191,\"A TIEMPO\",\"FUERA DE TIEMPO\"))))","v":"A TIEMPO"},{"$f":"IF(J2191=\"\",\"\",NETWORKDAYS(C2191+1,J2191,DiasNOLaborables))","v":17},"",null,null,20]
[2181,20219050071762,"2021-06-15","ACADEMIA","MODULO CONTACTENOS","SOLICITUD DE INFORMACIÓN Y DOCUMENTOS","SOLICITUD DE INFORMACIÓN HIDROMETEOROLÓGICA","NO","GRUPO DE SERVICIO AL CIUDADANO ","2021-07-12","CORREO ELECTRÓNICO",null,{"$f":"IFERROR(WORKDAY(C2192,S2191,DiasNOLaborables),\"\")","v":"2021-07-14"},{"$f":"+IF(C2192=\"\",\"\",IF(J2192=\"\",\"SIN RESPUESTA\",(IF(J2192<=M2192,\"A TIEMPO\",\"FUERA DE TIEMPO\"))))","v":"A TIEMPO"},{"$f":"IF(J2192=\"\",\"\",NETWORKDAYS(C2192+1,J2192,DiasNOLaborables))","v":18},"",null,null,35]
[2182,20219050071622,"2021-06-15","CIUDADANO","CORREO ELECTRÓNICO","CERTIFICACIONES DE TIEMPO, CLIMA Y EVENTOS HIDROLÓGICOS","CERTIFICACIONES DE TIEMPO Y CLIMA","SI","SUBDIRECCIÓN DE METEOROLOGÍA","2021-07-08","CORREO ELECTRÓNICO",null,{"$f":"IFERROR(WORKDAY(C2193,S2192,DiasNOLaborables),\"\")","v":"2021-08-05"},{"$f":"+IF(C2193=\"\",\"\",IF(J2193=\"\",\"SIN RESPUESTA\",(IF(J2193<=M2193,\"A TIEMPO\",\"FUERA DE TIEMPO\"))))","v":"A TIEMPO"},{"$f":"IF(J2193=\"\",\"\",NETWORKDAYS(C2193+1,J2193,DiasNOLaborables))","v":16},"",null,null,35]
[2183,20219050071632,"2021-06-15","CIUDADANO","CORREO ELECTRÓNICO","CERTIFICACIONES DE TIEMPO, CLIMA Y EVENTOS HIDROLÓGICOS","CERTIFICACIONES DE TIEMPO Y CLIMA","SI","SUBDIRECCIÓN DE METEOROLOGÍA","2021-07-07","CORREO ELECTRÓNICO",null,{"$f":"IFERROR(WORKDAY(C2194,S2193,DiasNOLaborables),\"\")","v":"2021-08-05"},{"$f":"+IF(C2194=\"\",\"\",IF(J2194=\"\",\"SIN RESPUESTA\",(IF(J2194<=M2194,\"A TIEMPO\",\"FUERA DE TIEMPO\"))))","v":"A TIEMPO"},{"$f":"IF(J2194=\"\",\"\",NETWORKDAYS(C2194+1,J2194,DiasNOLaborables))","v":15},"",null,null,35]
[2184,20219050071662,"2021-06-15","CIUDADANO","CORREO ELECTRÓNICO","CERTIFICACIONES DE TIEMPO, CLIMA Y EVENTOS HIDROLÓGICOS","CERTIFICACIONES DE TIEMPO Y CLIMA","SI","SUBDIRECCIÓN DE METEOROLOGÍA","2021-07-16","CORREO ELECTRÓNICO",null,{"$f":"IFERROR(WORKDAY(C2195,S2194,DiasNOLaborables),\"\")","v":"2021-08-05"},{"$f":"+IF(C2195=\"\",\"\",IF(J2195=\"\",\"SIN RESPUESTA\",(IF(J2195<=M2195,\"A TIEMPO\",\"FUERA DE TIEMPO\"))))","v":"A TIEMPO"},{"$f":"IF(J2195=\"\",\"\",NETWORKDAYS(C2195+1,J2195,DiasNOLaborables))","v":22},"",null,null,30]
[2185,20219050071672,"2021-06-15","CIUDADANO","CORREO ELECTRÓNICO","PETICIÓN","BOSQUES","SI","SUBDIRECCIÓN DE ECOSISTEMAS E INFORMACIÓN AMBIENTAL","2021-07-06","CORREO ELECTRÓNICO",null,{"$f":"IFERROR(WORKDAY(C2196,S2195,DiasNOLaborables),\"\")","v":"2021-07-29"},{"$f":"+IF(C2196=\"\",\"\",IF(J2196=\"\",\"SIN RESPUESTA\",(IF(J2196<=M2196,\"A TIEMPO\",\"FUERA DE TIEMPO\"))))","v":"A TIEMPO"},{"$f":"IF(J2196=\"\",\"\",NETWORKDAYS(C2196+1,J2196,DiasNOLaborables))","v":14},"",null,null,5]
[2186,20219050071712,"2021-06-15","CIUDADANO","CORREO ELECTRÓNICO","SOLICITUD JUDICIAL","CERTIFICACIONES DE TIEMPO Y CLIMA","SI","SUBDIRECCIÓN DE METEOROLOGÍA","2021-06-15","CORREO ELECTRÓNICO",null,{"$f":"IFERROR(WORKDAY(C2197,S2196,DiasNOLaborables),\"\")","v":"2021-06-22"},{"$f":"+IF(C2197=\"\",\"\",IF(J2197=\"\",\"SIN RESPUESTA\",(IF(J2197<=M2197,\"A TIEMPO\",\"FUERA DE TIEMPO\"))))","v":"A TIEMPO"},{"$f":"IF(J2197=\"\",\"\",NETWORKDAYS(C2197+1,J2197,DiasNOLaborables))","v":-2},"",null,null,20]
[2187,20219050071732,"2021-06-15","CIUDADANO","CORREO ELECTRÓNICO","SOLICITUD DE INFORMACIÓN Y DOCUMENTOS","ADMINISTRATIVA","SI","GRUPO DE ADMINISTRACIÓN Y DESARROLLO DEL TALENTO HUMANO","2021-06-17","CORREO ELECTRÓNICO",null,{"$f":"IFERROR(WORKDAY(C2198,S2197,DiasNOLaborables),\"\")","v":"2021-07-14"},{"$f":"+IF(C2198=\"\",\"\",IF(J2198=\"\",\"SIN RESPUESTA\",(IF(J2198<=M2198,\"A TIEMPO\",\"FUERA DE TIEMPO\"))))","v":"A TIEMPO"},{"$f":"IF(J2198=\"\",\"\",NETWORKDAYS(C2198+1,J2198,DiasNOLaborables))","v":2},"",null,null,35]
[2188,20219050071742,"2021-06-15","CIUDADANO","CORREO ELECTRÓNICO","CERTIFICACIONES DE TIEMPO, CLIMA Y EVENTOS HIDROLÓGICOS","CERTIFICACIONES DE TIEMPO Y CLIMA","SI","SUBDIRECCIÓN DE METEOROLOGÍA","2021-06-30","CORREO ELECTRÓNICO",null,{"$f":"IFERROR(WORKDAY(C2199,S2198,DiasNOLaborables),\"\")","v":"2021-08-05"},{"$f":"+IF(C2199=\"\",\"\",IF(J2199=\"\",\"SIN RESPUESTA\",(IF(J2199<=M2199,\"A TIEMPO\",\"FUERA DE TIEMPO\"))))","v":"A TIEMPO"},{"$f":"IF(J2199=\"\",\"\",NETWORKDAYS(C2199+1,J2199,DiasNOLaborables))","v":11},"",null,null,5]
[2189,20219050071822,"2021-06-15","CIUDADANO","CORREO ELECTRÓNICO","SOLICITUD JUDICIAL","CERTIFICACIONES DE TIEMPO Y CLIMA","SI","SUBDIRECCIÓN DE METEOROLOGÍA","2021-06-15","CORREO ELECTRÓNICO",null,{"$f":"IFERROR(WORKDAY(C2200,S2199,DiasNOLaborables),\"\")","v":"2021-06-22"},{"$f":"+IF(C2200=\"\",\"\",IF(J2200=\"\",\"SIN RESPUESTA\",(IF(J2200<=M2200,\"A TIEMPO\",\"FUERA DE TIEMPO\"))))","v":"A TIEMPO"},{"$f":"IF(J2200=\"\",\"\",NETWORKDAYS(C2200+1,J2200,DiasNOLaborables))","v":-2},"",null,null,5]
[2190,20219050071862,"2021-06-15","CIUDADANO","CORREO ELECTRÓNICO","SOLICITUD JUDICIAL","CERTIFICACIONES DE TIEMPO Y CLIMA","SI","SUBDIRECCIÓN DE METEOROLOGÍA","2021-06-15","CORREO ELECTRÓNICO",null,{"$f":"IFERROR(WORKDAY(C2201,S2200,DiasNOLaborables),\"\")","v":"2021-06-22"},{"$f":"+IF(C2201=\"\",\"\",IF(J2201=\"\",\"SIN RESPUESTA\",(IF(J2201<=M2201,\"A TIEMPO\",\"FUERA DE TIEMPO\"))))","v":"A TIEMPO"},{"$f":"IF(J2201=\"\",\"\",NETWORKDAYS(C2201+1,J2201,DiasNOLaborables))","v":-2},"",null,null,20]
[2191,20219050071872,"2021-06-15","CIUDADANO","CORREO ELECTRÓNICO","SOLICITUD DE INFORMACIÓN Y DOCUMENTOS","REGISTROS AMBIENTALES","SI","SUBDIRECCIÓN DE ESTUDIOS AMBIENTALES","2021-06-15","CORREO ELECTRÓNICO",null,{"$f":"IFERROR(WORKDAY(C2202,S2201,DiasNOLaborables),\"\")","v":"2021-07-14"},{"$f":"+IF(C2202=\"\",\"\",IF(J2202=\"\",\"SIN RESPUESTA\",(IF(J2202<=M2202,\"A TIEMPO\",\"FUERA DE TIEMPO\"))))","v":"A TIEMPO"},{"$f":"IF(J2202=\"\",\"\",NETWORKDAYS(C2202+1,J2202,DiasNOLaborables))","v":-2},"",null,null,5]
[2192,20219050071912,"2021-06-15","CIUDADANO","CORREO ELECTRÓNICO","SOLICITUD JUDICIAL","BOSQUES","SI","SUBDIRECCIÓN DE ECOSISTEMAS E INFORMACIÓN AMBIENTAL","2021-06-22","CORREO ELECTRÓNICO",null,{"$f":"IFERROR(WORKDAY(C2203,S2202,DiasNOLaborables),\"\")","v":"2021-06-22"},{"$f":"+IF(C2203=\"\",\"\",IF(J2203=\"\",\"SIN RESPUESTA\",(IF(J2203<=M2203,\"A TIEMPO\",\"FUERA DE TIEMPO\"))))","v":"A TIEMPO"},{"$f":"IF(J2203=\"\",\"\",NETWORKDAYS(C2203+1,J2203,DiasNOLaborables))","v":5},"",null,null,20]
[2193,20219050071952,"2021-06-15","CIUDADANO","CORREO ELECTRÓNICO","SOLICITUD DE INFORMACIÓN Y DOCUMENTOS","REGISTROS AMBIENTALES","SI","SUBDIRECCIÓN DE ESTUDIOS AMBIENTALES","2021-06-15","CORREO ELECTRÓNICO",null,{"$f":"IFERROR(WORKDAY(C2204,S2203,DiasNOLaborables),\"\")","v":"2021-07-14"},{"$f":"+IF(C2204=\"\",\"\",IF(J2204=\"\",\"SIN RESPUESTA\",(IF(J2204<=M2204,\"A TIEMPO\",\"FUERA DE TIEMPO\"))))","v":"A TIEMPO"},{"$f":"IF(J2204=\"\",\"\",NETWORKDAYS(C2204+1,J2204,DiasNOLaborables))","v":-2},"",null,null,20]
[2194,20219050071962,"2021-06-15","CIUDADANO","CORREO ELECTRÓNICO","SOLICITUD DE INFORMACIÓN Y DOCUMENTOS","REGISTROS AMBIENTALES","SI","SUBDIRECCIÓN DE ESTUDIOS AMBIENTALES","2021-06-24","CORREO ELECTRÓNICO",null,{"$f":"IFERROR(WORKDAY(C2205,S2204,DiasNOLaborables),\"\")","v":"2021-07-14"},{"$f":"+IF(C2205=\"\",\"\",IF(J2205=\"\",\"SIN RESPUESTA\",(IF(J2205<=M2205,\"A TIEMPO\",\"FUERA DE TIEMPO\"))))","v":"A TIEMPO"},{"$f":"IF(J2205=\"\",\"\",NETWORKDAYS(C2205+1,J2205,DiasNOLaborables))","v":7},"",null,null,20]
[2195,20219050071982,"2021-06-15","CIUDADANO","CORREO ELECTRÓNICO","SOLICITUD DE INFORMACIÓN Y DOCUMENTOS","ACREDITACIÓN DE LABORATORIOS","SI","SUBDIRECCIÓN DE ESTUDIOS AMBIENTALES","2021-06-28","CORREO ELECTRÓNICO",null,{"$f":"IFERROR(WORKDAY(C2206,S2205,DiasNOLaborables),\"\")","v":"2021-07-14"},{"$f":"+IF(C2206=\"\",\"\",IF(J2206=\"\",\"SIN RESPUESTA\",(IF(J2206<=M2206,\"A TIEMPO\",\"FUERA DE TIEMPO\"))))","v":"A TIEMPO"},{"$f":"IF(J2206=\"\",\"\",NETWORKDAYS(C2206+1,J2206,DiasNOLaborables))","v":9},"",null,null,35]
[2196,20219050071992,"2021-06-15","CIUDADANO","CORREO ELECTRÓNICO","CERTIFICACIONES DE TIEMPO, CLIMA Y EVENTOS HIDROLÓGICOS","CERTIFICACIONES DE TIEMPO Y CLIMA","SI","SUBDIRECCIÓN DE METEOROLOGÍA","2021-07-16","CORREO ELECTRÓNICO",null,{"$f":"IFERROR(WORKDAY(C2207,S2206,DiasNOLaborables),\"\")","v":"2021-08-05"},{"$f":"+IF(C2207=\"\",\"\",IF(J2207=\"\",\"SIN RESPUESTA\",(IF(J2207<=M2207,\"A TIEMPO\",\"FUERA DE TIEMPO\"))))","v":"A TIEMPO"},{"$f":"IF(J2207=\"\",\"\",NETWORKDAYS(C2207+1,J2207,DiasNOLaborables))","v":22},"",null,null,20]
[2197,20219050072002,"2021-06-15","CIUDADANO","CORREO ELECTRÓNICO","SOLICITUD DE INFORMACIÓN Y DOCUMENTOS","REGISTROS AMBIENTALES","SI","SUBDIRECCIÓN DE ESTUDIOS AMBIENTALES","2021-06-24","CORREO ELECTRÓNICO",null,{"$f":"IFERROR(WORKDAY(C2208,S2207,DiasNOLaborables),\"\")","v":"2021-07-14"},{"$f":"+IF(C2208=\"\",\"\",IF(J2208=\"\",\"SIN RESPUESTA\",(IF(J2208<=M2208,\"A TIEMPO\",\"FUERA DE TIEMPO\"))))","v":"A TIEMPO"},{"$f":"IF(J2208=\"\",\"\",NETWORKDAYS(C2208+1,J2208,DiasNOLaborables))","v":7},"",null,null,5]
[2198,20219050072032,"2021-06-15","CIUDADANO","CORREO ELECTRÓNICO","SOLICITUD JUDICIAL","CERTIFICACIONES DE TIEMPO Y CLIMA","SI","SUBDIRECCIÓN DE METEOROLOGÍA","2021-06-15","CORREO ELECTRÓNICO",null,{"$f":"IFERROR(WORKDAY(C2209,S2208,DiasNOLaborables),\"\")","v":"2021-06-22"},{"$f":"+IF(C2209=\"\",\"\",IF(J2209=\"\",\"SIN RESPUESTA\",(IF(J2209<=M2209,\"A TIEMPO\",\"FUERA DE TIEMPO\"))))","v":"A TIEMPO"},{"$f":"IF(J2209=\"\",\"\",NETWORKDAYS(C2209+1,J2209,DiasNOLaborables))","v":-2},"",null,null,20]
[2199,20219050072012,"2021-06-15","CIUDADANO","CORREO ELECTRÓNICO","SOLICITUD DE INFORMACIÓN Y DOCUMENTOS","BOSQUES","SI","SUBDIRECCIÓN DE ECOSISTEMAS E INFORMACIÓN AMBIENTAL","2021-07-07","CORREO ELECTRÓNICO",null,{"$f":"IFERROR(WORKDAY(C2210,S2209,DiasNOLaborables),\"\")","v":"2021-07-14"},{"$f":"+IF(C2210=\"\",\"\",IF(J2210=\"\",\"SIN RESPUESTA\",(IF(J2210<=M2210,\"A TIEMPO\",\"FUERA DE TIEMPO\"))))","v":"A TIEMPO"},{"$f":"IF(J2210=\"\",\"\",NETWORKDAYS(C2210+1,J2210,DiasNOLaborables))","v":15},"",null,null,20]
[2200,20219050072022,"2021-06-15","CIUDADANO","CORREO ELECTRÓNICO","SOLICITUD DE INFORMACIÓN Y DOCUMENTOS","REGISTROS AMBIENTALES","SI","SUBDIRECCIÓN DE ESTUDIOS AMBIENTALES","2021-06-15","CORREO ELECTRÓNICO",null,{"$f":"IFERROR(WORKDAY(C2211,S2210,DiasNOLaborables),\"\")","v":"2021-07-14"},{"$f":"+IF(C2211=\"\",\"\",IF(J2211=\"\",\"SIN RESPUESTA\",(IF(J2211<=M2211,\"A TIEMPO\",\"FUERA DE TIEMPO\"))))","v":"A TIEMPO"},{"$f":"IF(J2211=\"\",\"\",NETWORKDAYS(C2211+1,J2211,DiasNOLaborables))","v":-2},"",null,null,20]
[2201,20219050072392,"2021-06-15","ENTIDAD PÚBLICA","CORREO ELECTRÓNICO","SOLICITUD DE INFORMACIÓN Y DOCUMENTOS","JURIDICO","SI","OFICINA ASESORA JURÍDICA","2021-06-17","CORREO ELECTRÓNICO",null,{"$f":"IFERROR(WORKDAY(C2212,S2211,DiasNOLaborables),\"\")","v":"2021-07-14"},{"$f":"+IF(C2212=\"\",\"\",IF(J2212=\"\",\"SIN RESPUESTA\",(IF(J2212<=M2212,\"A TIEMPO\",\"FUERA DE TIEMPO\"))))","v":"A TIEMPO"},{"$f":"IF(J2212=\"\",\"\",NETWORKDAYS(C2212+1,J2212,DiasNOLaborables))","v":2},"",null,null,20]
[2202,20219050072042,"2021-06-15","CIUDADANO","CORREO ELECTRÓNICO","SOLICITUD DE INFORMACIÓN Y DOCUMENTOS","CLIMATOLOGÍA","SI","SUBDIRECCIÓN DE METEOROLOGÍA","2021-07-09","CORREO ELECTRÓNICO",null,{"$f":"IFERROR(WORKDAY(C2213,S2212,DiasNOLaborables),\"\")","v":"2021-07-14"},{"$f":"+IF(C2213=\"\",\"\",IF(J2213=\"\",\"SIN RESPUESTA\",(IF(J2213<=M2213,\"A TIEMPO\",\"FUERA DE TIEMPO\"))))","v":"A TIEMPO"},{"$f":"IF(J2213=\"\",\"\",NETWORKDAYS([5]Hoja1!C2211+1,[5]Hoja1!P2211,DiasNOLaborables))","v":3},"",null,null,20]
[2203,20219050071682,"2021-06-15","CIUDADANO","CORREO ELECTRÓNICO","SOLICITUD DE INFORMACIÓN Y DOCUMENTOS","SOLICITUD DE INFORMACIÓN HIDROMETEOROLÓGICA","NO","GRUPO DE SERVICIO AL CIUDADANO ","2021-06-22","CORREO ELECTRÓNICO",null,{"$f":"IFERROR(WORKDAY(C2214,S2213,DiasNOLaborables),\"\")","v":"2021-07-14"},{"$f":"+IF(C2214=\"\",\"\",IF(J2214=\"\",\"SIN RESPUESTA\",(IF(J2214<=M2214,\"A TIEMPO\",\"FUERA DE TIEMPO\"))))","v":"A TIEMPO"},{"$f":"IF(J2214=\"\",\"\",NETWORKDAYS(C2214+1,J2214,DiasNOLaborables))","v":5},"",null,null,35]
[2204,20219050072262,"2021-06-15","CIUDADANO","CORREO ELECTRÓNICO","CERTIFICACIONES DE TIEMPO, CLIMA Y EVENTOS HIDROLÓGICOS","CERTIFICACIONES DE TIEMPO Y CLIMA","SI","SUBDIRECCIÓN DE METEOROLOGÍA","2021-07-02","CORREO ELECTRÓNICO",null,{"$f":"IFERROR(WORKDAY(C2215,S2214,DiasNOLaborables),\"\")","v":"2021-08-05"},{"$f":"+IF(C2215=\"\",\"\",IF(J2215=\"\",\"SIN RESPUESTA\",(IF(J2215<=M2215,\"A TIEMPO\",\"FUERA DE TIEMPO\"))))","v":"A TIEMPO"},{"$f":"IF(J2215=\"\",\"\",NETWORKDAYS(C2215+1,J2215,DiasNOLaborables))","v":13},"",null,null,20]
[2205,20219050071652,"2021-06-15","ACADEMIA ","MODULO CONTACTENOS","SOLICITUD DE INFORMACIÓN Y DOCUMENTOS","SOLICITUD DE INFORMACIÓN HIDROMETEOROLÓGICA","NO","GRUPO DE SERVICIO AL CIUDADANO ","2021-06-28","CORREO ELECTRÓNICO",null,{"$f":"IFERROR(WORKDAY(C2216,S2215,DiasNOLaborables),\"\")","v":"2021-07-14"},{"$f":"+IF(C2216=\"\",\"\",IF(J2216=\"\",\"SIN RESPUESTA\",(IF(J2216<=M2216,\"A TIEMPO\",\"FUERA DE TIEMPO\"))))","v":"A TIEMPO"},{"$f":"IF(J2216=\"\",\"\",NETWORKDAYS(C2216+1,J2216,DiasNOLaborables))","v":9},"",null,null,35]
[2206,20219050072312,"2021-06-15","CIUDADANO","CORREO ELECTRÓNICO","CERTIFICACIONES DE TIEMPO, CLIMA Y EVENTOS HIDROLÓGICOS","CERTIFICACIONES DE TIEMPO Y CLIMA","SI","SUBDIRECCIÓN DE METEOROLOGÍA","2021-07-02","CORREO ELECTRÓNICO",null,{"$f":"IFERROR(WORKDAY(C2217,S2216,DiasNOLaborables),\"\")","v":"2021-08-05"},{"$f":"+IF(C2217=\"\",\"\",IF(J2217=\"\",\"SIN RESPUESTA\",(IF(J2217<=M2217,\"A TIEMPO\",\"FUERA DE TIEMPO\"))))","v":"A TIEMPO"},{"$f":"IF(J2217=\"\",\"\",NETWORKDAYS(C2217+1,J2217,DiasNOLaborables))","v":13},"",null,null,20]
[2207,20219050072382,"2021-06-15","CIUDADANO","CORREO ELECTRÓNICO","SOLICITUD DE INFORMACIÓN Y DOCUMENTOS","CLIMATOLOGÍA","SI","SUBDIRECCIÓN DE METEOROLOGÍA","2021-06-23","CORREO ELECTRÓNICO",null,{"$f":"IFERROR(WORKDAY(C2218,S2217,DiasNOLaborables),\"\")","v":"2021-07-14"},{"$f":"+IF(C2218=\"\",\"\",IF(J2218=\"\",\"SIN RESPUESTA\",(IF(J2218<=M2218,\"A TIEMPO\",\"FUERA DE TIEMPO\"))))","v":"A TIEMPO"},{"$f":"IF(J2218=\"\",\"\",NETWORKDAYS(C2218+1,J2218,DiasNOLaborables))","v":6},"",null,null,20]
[2208,20219050071802,"2021-06-15","EMPRESA PRIVADA","MODULO CONTACTENOS","SOLICITUD DE INFORMACIÓN Y DOCUMENTOS","SOLICITUD DE INFORMACIÓN HIDROMETEOROLÓGICA","SI","SUBDIRECCIÓN DE METEOROLOGÍA","2021-06-29","CORREO ELECTRÓNICO",null,{"$f":"IFERROR(WORKDAY(C2219,S2218,DiasNOLaborables),\"\")","v":"2021-07-14"},{"$f":"+IF(C2219=\"\",\"\",IF(J2219=\"\",\"SIN RESPUESTA\",(IF(J2219<=M2219,\"A TIEMPO\",\"FUERA DE TIEMPO\"))))","v":"A TIEMPO"},{"$f":"IF(J2219=\"\",\"\",NETWORKDAYS(C2219+1,J2219,DiasNOLaborables))","v":10},"",null,null,20]
[2209,20219050072402,"2021-06-15","CIUDADANO","CORREO ELECTRÓNICO","SOLICITUD DE INFORMACIÓN Y DOCUMENTOS","INFORMES AMBIENTALES","SI","SUBDIRECCIÓN DE METEOROLOGÍA","2021-06-30","CORREO ELECTRÓNICO",null,{"$f":"IFERROR(WORKDAY(C2220,S2219,DiasNOLaborables),\"\")","v":"2021-07-14"},{"$f":"+IF(C2220=\"\",\"\",IF(J2220=\"\",\"SIN RESPUESTA\",(IF(J2220<=M2220,\"A TIEMPO\",\"FUERA DE TIEMPO\"))))","v":"A TIEMPO"},{"$f":"IF(J2220=\"\",\"\",NETWORKDAYS(C2220+1,J2220,DiasNOLaborables))","v":11},"",null,null,20]
[2210,20219050072512,"2021-06-16","CIUDADANO","CORREO ELECTRÓNICO","SOLICITUD DE INFORMACIÓN Y DOCUMENTOS","REGISTROS AMBIENTALES","SI","SUBDIRECCIÓN DE ESTUDIOS AMBIENTALES","2021-06-16","CORREO ELECTRÓNICO",null,{"$f":"IFERROR(WORKDAY(C2221,S2220,DiasNOLaborables),\"\")","v":"2021-07-15"},{"$f":"+IF(C2221=\"\",\"\",IF(J2221=\"\",\"SIN RESPUESTA\",(IF(J2221<=M2221,\"A TIEMPO\",\"FUERA DE TIEMPO\"))))","v":"A TIEMPO"},{"$f":"IF(J2221=\"\",\"\",NETWORKDAYS(C2221+1,J2221,DiasNOLaborables))","v":-2},"",null,null,20]
[2211,20219050072542,"2021-06-16","CIUDADANO","CORREO ELECTRÓNICO","SOLICITUD DE INFORMACIÓN Y DOCUMENTOS","REGISTROS AMBIENTALES","SI","SUBDIRECCIÓN DE ESTUDIOS AMBIENTALES","2021-06-16","CORREO ELECTRÓNICO",null,{"$f":"IFERROR(WORKDAY(C2222,S2221,DiasNOLaborables),\"\")","v":"2021-07-15"},{"$f":"+IF(C2222=\"\",\"\",IF(J2222=\"\",\"SIN RESPUESTA\",(IF(J2222<=M2222,\"A TIEMPO\",\"FUERA DE TIEMPO\"))))","v":"A TIEMPO"},{"$f":"IF(J2222=\"\",\"\",NETWORKDAYS(C2222+1,J2222,DiasNOLaborables))","v":-2},"",null,null,20]
[2212,20219050072552,"2021-06-16","CIUDADANO","CORREO ELECTRÓNICO","SOLICITUD DE INFORMACIÓN Y DOCUMENTOS","REGISTROS AMBIENTALES","SI","SUBDIRECCIÓN DE ESTUDIOS AMBIENTALES","2021-06-16","CORREO ELECTRÓNICO",null,{"$f":"IFERROR(WORKDAY(C2223,S2222,DiasNOLaborables),\"\")","v":"2021-07-15"},{"$f":"+IF(C2223=\"\",\"\",IF(J2223=\"\",\"SIN RESPUESTA\",(IF(J2223<=M2223,\"A TIEMPO\",\"FUERA DE TIEMPO\"))))","v":"A TIEMPO"},{"$f":"IF(J2223=\"\",\"\",NETWORKDAYS(C2223+1,J2223,DiasNOLaborables))","v":-2},"",null,null,20]
[2213,20219050072572,"2021-06-16","CIUDADANO","CORREO ELECTRÓNICO","SOLICITUD DE INFORMACIÓN Y DOCUMENTOS","REGISTROS AMBIENTALES","SI","SUBDIRECCIÓN DE ESTUDIOS AMBIENTALES","2021-06-17","CORREO ELECTRÓNICO",null,{"$f":"IFERROR(WORKDAY(C2224,S2223,DiasNOLaborables),\"\")","v":"2021-07-15"},{"$f":"+IF(C2224=\"\",\"\",IF(J2224=\"\",\"SIN RESPUESTA\",(IF(J2224<=M2224,\"A TIEMPO\",\"FUERA DE TIEMPO\"))))","v":"A TIEMPO"},{"$f":"IF(J2224=\"\",\"\",NETWORKDAYS(C2224+1,J2224,DiasNOLaborables))","v":1},"",null,null,35]
[2214,20219050066202,"2021-06-16","CIUDADANO","CORREO ELECTRÓNICO","CERTIFICACIONES DE TIEMPO, CLIMA Y EVENTOS HIDROLÓGICOS","CERTIFICACIONES DE TIEMPO Y CLIMA","SI","SUBDIRECCIÓN DE METEOROLOGÍA","2021-06-24","CORREO ELECTRÓNICO",null,{"$f":"IFERROR(WORKDAY(C2225,S2224,DiasNOLaborables),\"\")","v":"2021-08-06"},{"$f":"+IF(C2225=\"\",\"\",IF(J2225=\"\",\"SIN RESPUESTA\",(IF(J2225<=M2225,\"A TIEMPO\",\"FUERA DE TIEMPO\"))))","v":"A TIEMPO"},{"$f":"IF(J2225=\"\",\"\",NETWORKDAYS(C2225+1,J2225,DiasNOLaborables))","v":6},"",null,null,20]
[2215,20219050072582,"2021-06-16","CIUDADANO","CORREO ELECTRÓNICO","SOLICITUD DE INFORMACIÓN Y DOCUMENTOS","REGISTROS AMBIENTALES","SI","SUBDIRECCIÓN DE ESTUDIOS AMBIENTALES","2021-07-02","CORREO ELECTRÓNICO",null,{"$f":"IFERROR(WORKDAY(C2226,S2225,DiasNOLaborables),\"\")","v":"2021-07-15"},{"$f":"+IF(C2226=\"\",\"\",IF(J2226=\"\",\"SIN RESPUESTA\",(IF(J2226<=M2226,\"A TIEMPO\",\"FUERA DE TIEMPO\"))))","v":"A TIEMPO"},{"$f":"IF(J2226=\"\",\"\",NETWORKDAYS(C2226+1,J2226,DiasNOLaborables))","v":12},"",null,null,35]
[2216,20219050072592,"2021-06-16","CIUDADANO","CORREO ELECTRÓNICO","CERTIFICACIONES DE TIEMPO, CLIMA Y EVENTOS HIDROLÓGICOS","CERTIFICACIONES DE TIEMPO Y CLIMA","SI","SUBDIRECCIÓN DE METEOROLOGÍA","2021-06-30","CORREO ELECTRÓNICO",null,{"$f":"IFERROR(WORKDAY(C2227,S2226,DiasNOLaborables),\"\")","v":"2021-08-06"},{"$f":"+IF(C2227=\"\",\"\",IF(J2227=\"\",\"SIN RESPUESTA\",(IF(J2227<=M2227,\"A TIEMPO\",\"FUERA DE TIEMPO\"))))","v":"A TIEMPO"},{"$f":"IF(J2227=\"\",\"\",NETWORKDAYS(C2227+1,J2227,DiasNOLaborables))","v":10},"",null,null,20]
[2217,20219050072632,"2021-06-16","CIUDADANO","CORREO ELECTRÓNICO","SOLICITUD DE INFORMACIÓN Y DOCUMENTOS","ADMINISTRATIVA","SI","GRUPO DE TESORERÍA","2021-06-17","CORREO ELECTRÓNICO",null,{"$f":"IFERROR(WORKDAY(C2228,S2227,DiasNOLaborables),\"\")","v":"2021-07-15"},{"$f":"+IF(C2228=\"\",\"\",IF(J2228=\"\",\"SIN RESPUESTA\",(IF(J2228<=M2228,\"A TIEMPO\",\"FUERA DE TIEMPO\"))))","v":"A TIEMPO"},{"$f":"IF(J2228=\"\",\"\",NETWORKDAYS(C2228+1,J2228,DiasNOLaborables))","v":1},"",null,null,20]
[2218,20219050072662,"2021-06-16","CIUDADANO","CORREO ELECTRÓNICO","SOLICITUD DE INFORMACIÓN Y DOCUMENTOS","REGISTROS AMBIENTALES","SI","SUBDIRECCIÓN DE ESTUDIOS AMBIENTALES","2021-06-22","CORREO ELECTRÓNICO",null,{"$f":"IFERROR(WORKDAY(C2229,S2228,DiasNOLaborables),\"\")","v":"2021-07-15"},{"$f":"+IF(C2229=\"\",\"\",IF(J2229=\"\",\"SIN RESPUESTA\",(IF(J2229<=M2229,\"A TIEMPO\",\"FUERA DE TIEMPO\"))))","v":"A TIEMPO"},{"$f":"IF(J2229=\"\",\"\",NETWORKDAYS(C2229+1,J2229,DiasNOLaborables))","v":4},"",null,null,20]
[2219,20219050072672,"2021-06-16","CIUDADANO","CORREO ELECTRÓNICO","SOLICITUD DE INFORMACIÓN Y DOCUMENTOS","ADMINISTRATIVA","SI","GRUPO DE TESORERÍA","2021-06-17","CORREO ELECTRÓNICO",null,{"$f":"IFERROR(WORKDAY(C2230,S2229,DiasNOLaborables),\"\")","v":"2021-07-15"},{"$f":"+IF(C2230=\"\",\"\",IF(J2230=\"\",\"SIN RESPUESTA\",(IF(J2230<=M2230,\"A TIEMPO\",\"FUERA DE TIEMPO\"))))","v":"A TIEMPO"},{"$f":"IF(J2230=\"\",\"\",NETWORKDAYS(C2230+1,J2230,DiasNOLaborables))","v":1},"",null,null,20]
[2220,20219050072712,"2021-06-16","CIUDADANO","CORREO ELECTRÓNICO","SOLICITUD DE INFORMACIÓN Y DOCUMENTOS","BOSQUES","SI","SUBDIRECCIÓN DE ECOSISTEMAS E INFORMACIÓN AMBIENTAL","2021-06-17","CORREO ELECTRÓNICO",null,{"$f":"IFERROR(WORKDAY(C2231,S2230,DiasNOLaborables),\"\")","v":"2021-07-15"},{"$f":"+IF(C2231=\"\",\"\",IF(J2231=\"\",\"SIN RESPUESTA\",(IF(J2231<=M2231,\"A TIEMPO\",\"FUERA DE TIEMPO\"))))","v":"A TIEMPO"},{"$f":"IF(J2231=\"\",\"\",NETWORKDAYS(C2231+1,J2231,DiasNOLaborables))","v":1},"",null,null,20]
[2221,20219050072762,"2021-06-16","CIUDADANO","CORREO ELECTRÓNICO","SOLICITUD DE INFORMACIÓN Y DOCUMENTOS","INFORMES AMBIENTALES","SI","SUBDIRECCIÓN DE METEOROLOGÍA","2021-06-30","CORREO ELECTRÓNICO",null,{"$f":"IFERROR(WORKDAY(C2232,S2231,DiasNOLaborables),\"\")","v":"2021-07-15"},{"$f":"+IF(C2232=\"\",\"\",IF(J2232=\"\",\"SIN RESPUESTA\",(IF(J2232<=M2232,\"A TIEMPO\",\"FUERA DE TIEMPO\"))))","v":"A TIEMPO"},{"$f":"IF(J2232=\"\",\"\",NETWORKDAYS(C2232+1,J2232,DiasNOLaborables))","v":10},"",null,null,20]
[2222,20219050072812,"2021-06-16","CIUDADANO","CORREO ELECTRÓNICO","SOLICITUD DE INFORMACIÓN Y DOCUMENTOS","ACREDITACIÓN DE LABORATORIOS","SI","SUBDIRECCIÓN DE ESTUDIOS AMBIENTALES","2021-06-21","CORREO ELECTRÓNICO",null,{"$f":"IFERROR(WORKDAY(C2233,S2232,DiasNOLaborables),\"\")","v":"2021-07-15"},{"$f":"+IF(C2233=\"\",\"\",IF(J2233=\"\",\"SIN RESPUESTA\",(IF(J2233<=M2233,\"A TIEMPO\",\"FUERA DE TIEMPO\"))))","v":"A TIEMPO"},{"$f":"IF(J2233=\"\",\"\",NETWORKDAYS(C2233+1,J2233,DiasNOLaborables))","v":3},"",null,null,20]
[2223,20219050072832,"2021-06-16","CIUDADANO","CORREO ELECTRÓNICO","SOLICITUD DE INFORMACIÓN Y DOCUMENTOS","REGISTROS AMBIENTALES","SI","SUBDIRECCIÓN DE ESTUDIOS AMBIENTALES","2021-06-24","CORREO ELECTRÓNICO",null,{"$f":"IFERROR(WORKDAY(C2234,S2233,DiasNOLaborables),\"\")","v":"2021-07-15"},{"$f":"+IF(C2234=\"\",\"\",IF(J2234=\"\",\"SIN RESPUESTA\",(IF(J2234<=M2234,\"A TIEMPO\",\"FUERA DE TIEMPO\"))))","v":"A TIEMPO"},{"$f":"IF(J2234=\"\",\"\",NETWORKDAYS(C2234+1,J2234,DiasNOLaborables))","v":6},"",null,null,35]
[2224,20219050072602,"2021-06-16","CIUDADANO","MODULO CONTACTENOS","CERTIFICACIONES DE TIEMPO, CLIMA Y EVENTOS HIDROLÓGICOS","CERTIFICACIONES DE TIEMPO Y CLIMA","SI","SUBDIRECCIÓN DE METEOROLOGÍA","2021-07-09","CORREO ELECTRÓNICO",null,{"$f":"IFERROR(WORKDAY(C2235,S2234,DiasNOLaborables),\"\")","v":"2021-08-06"},{"$f":"+IF(C2235=\"\",\"\",IF(J2235=\"\",\"SIN RESPUESTA\",(IF(J2235<=M2235,\"A TIEMPO\",\"FUERA DE TIEMPO\"))))","v":"A TIEMPO"},{"$f":"IF(J2235=\"\",\"\",NETWORKDAYS(C2235+1,J2235,DiasNOLaborables))","v":16},"",null,null,20]
[2225,20219050072612,"2021-06-16","CIUDADANO","MODULO CONTACTENOS","SOLICITUD DE INFORMACIÓN Y DOCUMENTOS","ADMINISTRATIVA","SI","OFICINA ASESORA JURÍDICA","2021-06-21","CORREO ELECTRÓNICO",null,{"$f":"IFERROR(WORKDAY(C2236,S2235,DiasNOLaborables),\"\")","v":"2021-07-15"},{"$f":"+IF(C2236=\"\",\"\",IF(J2236=\"\",\"SIN RESPUESTA\",(IF(J2236<=M2236,\"A TIEMPO\",\"FUERA DE TIEMPO\"))))","v":"A TIEMPO"},{"$f":"IF(J2236=\"\",\"\",NETWORKDAYS(C2236+1,J2236,DiasNOLaborables))","v":3},"",null,null,20]
[2226,20219050072642,"2021-06-16","CIUDADANO","MODULO CONTACTENOS","SOLICITUD DE INFORMACIÓN Y DOCUMENTOS","WEB Y CORREO","SI","OFICINA DE INFORMÁTICA","2021-06-25","CORREO ELECTRÓNICO",null,{"$f":"IFERROR(WORKDAY(C2237,S2236,DiasNOLaborables),\"\")","v":"2021-07-15"},{"$f":"+IF(C2237=\"\",\"\",IF(J2237=\"\",\"SIN RESPUESTA\",(IF(J2237<=M2237,\"A TIEMPO\",\"FUERA DE TIEMPO\"))))","v":"A TIEMPO"},{"$f":"IF(J2237=\"\",\"\",NETWORKDAYS(C2237+1,J2237,DiasNOLaborables))","v":7},"",null,null,20]
[2227,20219050072652,"2021-06-16","CIUDADANO","MODULO CONTACTENOS","SOLICITUD DE INFORMACIÓN Y DOCUMENTOS","BOSQUES","SI","SUBDIRECCIÓN DE ECOSISTEMAS E INFORMACIÓN AMBIENTAL","2021-07-02","CORREO ELECTRÓNICO",null,{"$f":"IFERROR(WORKDAY(C2238,S2237,DiasNOLaborables),\"\")","v":"2021-07-15"},{"$f":"+IF(C2238=\"\",\"\",IF(J2238=\"\",\"SIN RESPUESTA\",(IF(J2238<=M2238,\"A TIEMPO\",\"FUERA DE TIEMPO\"))))","v":"A TIEMPO"},{"$f":"IF(J2238=\"\",\"\",NETWORKDAYS(C2238+1,J2238,DiasNOLaborables))","v":12},"",null,null,20]
[2228,20219050072502,"2021-06-16","CIUDADANO","MODULO CONTACTENOS","SOLICITUD DE INFORMACIÓN Y DOCUMENTOS","SOLICITUD DE INFORMACIÓN HIDROMETEOROLÓGICA","NO","GRUPO DE SERVICIO AL CIUDADANO ","2021-07-12","CORREO ELECTRÓNICO",null,{"$f":"IFERROR(WORKDAY(C2239,S2238,DiasNOLaborables),\"\")","v":"2021-07-15"},{"$f":"+IF(C2239=\"\",\"\",IF(J2239=\"\",\"SIN RESPUESTA\",(IF(J2239<=M2239,\"A TIEMPO\",\"FUERA DE TIEMPO\"))))","v":"A TIEMPO"},{"$f":"IF(J2239=\"\",\"\",NETWORKDAYS(C2239+1,J2239,DiasNOLaborables))","v":17},"",null,null,20]
[2229,20219050072532,"2021-06-16","CIUDADANO","MODULO CONTACTENOS","SOLICITUD DE INFORMACIÓN Y DOCUMENTOS","SOLICITUD DE INFORMACIÓN HIDROMETEOROLÓGICA","NO","GRUPO DE SERVICIO AL CIUDADANO ","2021-07-12","CORREO ELECTRÓNICO",null,{"$f":"IFERROR(WORKDAY(C2240,S2239,DiasNOLaborables),\"\")","v":"2021-07-15"},{"$f":"+IF(C2240=\"\",\"\",IF(J2240=\"\",\"SIN RESPUESTA\",(IF(J2240<=M2240,\"A TIEMPO\",\"FUERA DE TIEMPO\"))))","v":"A TIEMPO"},{"$f":"IF(J2240=\"\",\"\",NETWORKDAYS(C2240+1,J2240,DiasNOLaborables))","v":17},"",null,null,20]
[2230,20219050072562,"2021-06-16","CIUDADANO","MODULO CONTACTENOS","SOLICITUD DE INFORMACIÓN Y DOCUMENTOS","SOLICITUD DE INFORMACIÓN HIDROMETEOROLÓGICA","NO","GRUPO DE SERVICIO AL CIUDADANO ","2021-07-12","CORREO ELECTRÓNICO",null,{"$f":"IFERROR(WORKDAY(C2241,S2240,DiasNOLaborables),\"\")","v":"2021-07-15"},{"$f":"+IF(C2241=\"\",\"\",IF(J2241=\"\",\"SIN RESPUESTA\",(IF(J2241<=M2241,\"A TIEMPO\",\"FUERA DE TIEMPO\"))))","v":"A TIEMPO"},{"$f":"IF(J2241=\"\",\"\",NETWORKDAYS(C2241+1,J2241,DiasNOLaborables))","v":17},"",null,null,20]
[2231,20219050072622,"2021-06-16","CIUDADANO","MODULO CONTACTENOS","SOLICITUD DE INFORMACIÓN Y DOCUMENTOS","SOLICITUD DE INFORMACIÓN HIDROMETEOROLÓGICA","NO","GRUPO DE SERVICIO AL CIUDADANO ","2021-07-12","CORREO ELECTRÓNICO",null,{"$f":"IFERROR(WORKDAY(C2242,S2241,DiasNOLaborables),\"\")","v":"2021-07-15"},{"$f":"+IF(C2242=\"\",\"\",IF(J2242=\"\",\"SIN RESPUESTA\",(IF(J2242<=M2242,\"A TIEMPO\",\"FUERA DE TIEMPO\"))))","v":"A TIEMPO"},{"$f":"IF(J2242=\"\",\"\",NETWORKDAYS(C2242+1,J2242,DiasNOLaborables))","v":17},"",null,null,20]
[2232,20219050072682,"2021-06-16","ACADEMIA","MODULO CONTACTENOS","SOLICITUD DE INFORMACIÓN Y DOCUMENTOS","SOLICITUD DE INFORMACIÓN HIDROMETEOROLÓGICA","NO","GRUPO DE SERVICIO AL CIUDADANO ","2021-07-12","CORREO ELECTRÓNICO",null,{"$f":"IFERROR(WORKDAY(C2243,S2242,DiasNOLaborables),\"\")","v":"2021-07-15"},{"$f":"+IF(C2243=\"\",\"\",IF(J2243=\"\",\"SIN RESPUESTA\",(IF(J2243<=M2243,\"A TIEMPO\",\"FUERA DE TIEMPO\"))))","v":"A TIEMPO"},{"$f":"IF(J2243=\"\",\"\",NETWORKDAYS(C2243+1,J2243,DiasNOLaborables))","v":17},"",null,null,20]
[2233,20219050072692,"2021-06-16","CIUDADANO","MODULO CONTACTENOS","SOLICITUD DE INFORMACIÓN Y DOCUMENTOS","SOLICITUD DE INFORMACIÓN HIDROMETEOROLÓGICA","NO","GRUPO DE SERVICIO AL CIUDADANO ","2021-07-12","CORREO ELECTRÓNICO",null,{"$f":"IFERROR(WORKDAY(C2244,S2243,DiasNOLaborables),\"\")","v":"2021-07-15"},{"$f":"+IF(C2244=\"\",\"\",IF(J2244=\"\",\"SIN RESPUESTA\",(IF(J2244<=M2244,\"A TIEMPO\",\"FUERA DE TIEMPO\"))))","v":"A TIEMPO"},{"$f":"IF(J2244=\"\",\"\",NETWORKDAYS(C2244+1,J2244,DiasNOLaborables))","v":17},"",null,null,20]
[2234,20219050072702,"2021-06-16","CIUDADANO","MODULO CONTACTENOS","SOLICITUD DE INFORMACIÓN Y DOCUMENTOS","SOLICITUD DE INFORMACIÓN HIDROMETEOROLÓGICA","NO","GRUPO DE SERVICIO AL CIUDADANO ","2021-07-12","CORREO ELECTRÓNICO",null,{"$f":"IFERROR(WORKDAY(C2245,S2244,DiasNOLaborables),\"\")","v":"2021-07-15"},{"$f":"+IF(C2245=\"\",\"\",IF(J2245=\"\",\"SIN RESPUESTA\",(IF(J2245<=M2245,\"A TIEMPO\",\"FUERA DE TIEMPO\"))))","v":"A TIEMPO"},{"$f":"IF(J2245=\"\",\"\",NETWORKDAYS(C2245+1,J2245,DiasNOLaborables))","v":17},{"$f":"IF(NETWORKDAYS(M2245+1,J2245,DiasNOLaborables)<=0,\"\",NETWORKDAYS(M2245+1,J2245,DiasNOLaborables))","v":""},null,null,20]
[2235,20219050072732,"2021-06-16","ACADEMIA","MODULO CONTACTENOS","SOLICITUD DE INFORMACIÓN Y DOCUMENTOS","SOLICITUD DE INFORMACIÓN HIDROMETEOROLÓGICA","NO","GRUPO DE SERVICIO AL CIUDADANO ","2021-07-12","CORREO ELECTRÓNICO",null,{"$f":"IFERROR(WORKDAY(C2246,S2245,DiasNOLaborables),\"\")","v":"2021-07-15"},{"$f":"+IF(C2246=\"\",\"\",IF(J2246=\"\",\"SIN RESPUESTA\",(IF(J2246<=M2246,\"A TIEMPO\",\"FUERA DE TIEMPO\"))))","v":"A TIEMPO"},{"$f":"IF(J2246=\"\",\"\",NETWORKDAYS([5]Hoja1!C2244+1,[5]Hoja1!P2244,DiasNOLaborables))","v":3},"",null,null,20]
[2236,20219050072742,"2021-06-16","CIUDADANO","MODULO CONTACTENOS","SOLICITUD DE INFORMACIÓN Y DOCUMENTOS","SOLICITUD DE INFORMACIÓN HIDROMETEOROLÓGICA","NO","GRUPO DE SERVICIO AL CIUDADANO ","2021-07-12","CORREO ELECTRÓNICO",null,{"$f":"IFERROR(WORKDAY(C2247,S2246,DiasNOLaborables),\"\")","v":"2021-07-15"},{"$f":"+IF(C2247=\"\",\"\",IF(J2247=\"\",\"SIN RESPUESTA\",(IF(J2247<=M2247,\"A TIEMPO\",\"FUERA DE TIEMPO\"))))","v":"A TIEMPO"},{"$f":"IF(J2247=\"\",\"\",NETWORKDAYS(C2247+1,J2247,DiasNOLaborables))","v":17},"",null,null,20]
[2237,20219050072822,"2021-06-16","CIUDADANO","MODULO CONTACTENOS","SOLICITUD DE INFORMACIÓN Y DOCUMENTOS","SOLICITUD DE INFORMACIÓN HIDROMETEOROLÓGICA","NO","GRUPO DE SERVICIO AL CIUDADANO ","2021-07-12","CORREO ELECTRÓNICO",null,{"$f":"IFERROR(WORKDAY(C2248,S2247,DiasNOLaborables),\"\")","v":"2021-07-15"},{"$f":"+IF(C2248=\"\",\"\",IF(J2248=\"\",\"SIN RESPUESTA\",(IF(J2248<=M2248,\"A TIEMPO\",\"FUERA DE TIEMPO\"))))","v":"A TIEMPO"},{"$f":"IF(J2248=\"\",\"\",NETWORKDAYS(C2248+1,J2248,DiasNOLaborables))","v":17},"",null,null,20]
[2238,20219050072842,"2021-06-16","CIUDADANO","MODULO CONTACTENOS","SOLICITUD DE INFORMACIÓN Y DOCUMENTOS","SOLICITUD DE INFORMACIÓN HIDROMETEOROLÓGICA","NO","GRUPO DE SERVICIO AL CIUDADANO ","2021-07-13","CORREO ELECTRÓNICO",null,{"$f":"IFERROR(WORKDAY(C2249,S2248,DiasNOLaborables),\"\")","v":"2021-07-15"},{"$f":"+IF(C2249=\"\",\"\",IF(J2249=\"\",\"SIN RESPUESTA\",(IF(J2249<=M2249,\"A TIEMPO\",\"FUERA DE TIEMPO\"))))","v":"A TIEMPO"},{"$f":"IF(J2249=\"\",\"\",NETWORKDAYS(C2249+1,J2249,DiasNOLaborables))","v":18},"",null,null,20]
[2239,20219050072962,"2021-06-16","CIUDADANO","MODULO CONTACTENOS","SOLICITUD DE INFORMACIÓN Y DOCUMENTOS","SOLICITUD DE INFORMACIÓN HIDROMETEOROLÓGICA","NO","GRUPO DE SERVICIO AL CIUDADANO ","2021-07-13","CORREO ELECTRÓNICO",null,{"$f":"IFERROR(WORKDAY(C2250,S2249,DiasNOLaborables),\"\")","v":"2021-07-15"},{"$f":"+IF(C2250=\"\",\"\",IF(J2250=\"\",\"SIN RESPUESTA\",(IF(J2250<=M2250,\"A TIEMPO\",\"FUERA DE TIEMPO\"))))","v":"A TIEMPO"},{"$f":"IF(J2250=\"\",\"\",NETWORKDAYS(C2250+1,J2250,DiasNOLaborables))","v":18},"",null,null,20]
[2240,20219050072982,"2021-06-16","ACADEMIA","MODULO CONTACTENOS","SOLICITUD DE INFORMACIÓN Y DOCUMENTOS","SOLICITUD DE INFORMACIÓN HIDROMETEOROLÓGICA","NO","GRUPO DE SERVICIO AL CIUDADANO ","2021-07-13","CORREO ELECTRÓNICO",null,{"$f":"IFERROR(WORKDAY(C2251,S2250,DiasNOLaborables),\"\")","v":"2021-07-15"},{"$f":"+IF(C2251=\"\",\"\",IF(J2251=\"\",\"SIN RESPUESTA\",(IF(J2251<=M2251,\"A TIEMPO\",\"FUERA DE TIEMPO\"))))","v":"A TIEMPO"},{"$f":"IF(J2251=\"\",\"\",NETWORKDAYS(C2251+1,J2251,DiasNOLaborables))","v":18},"",null,null,20]
[2241,20219050073012,"2021-06-17","CIUDADANO","MODULO CONTACTENOS","SOLICITUD DE INFORMACIÓN Y DOCUMENTOS","SOLICITUD DE INFORMACIÓN HIDROMETEOROLÓGICA","NO","GRUPO DE SERVICIO AL CIUDADANO ","2021-07-13","CORREO ELECTRÓNICO",null,{"$f":"IFERROR(WORKDAY(C2252,S2251,DiasNOLaborables),\"\")","v":"2021-07-16"},{"$f":"+IF(C2252=\"\",\"\",IF(J2252=\"\",\"SIN RESPUESTA\",(IF(J2252<=M2252,\"A TIEMPO\",\"FUERA DE TIEMPO\"))))","v":"A TIEMPO"},{"$f":"IF(J2252=\"\",\"\",NETWORKDAYS(C2252+1,J2252,DiasNOLaborables))","v":17},"",null,null,20]
[2242,20219050073032,"2021-06-17","CIUDADANO","MODULO CONTACTENOS","SOLICITUD DE INFORMACIÓN Y DOCUMENTOS","SOLICITUD DE INFORMACIÓN HIDROMETEOROLÓGICA","NO","GRUPO DE SERVICIO AL CIUDADANO ","2021-07-13","CORREO ELECTRÓNICO",null,{"$f":"IFERROR(WORKDAY(C2253,S2252,DiasNOLaborables),\"\")","v":"2021-07-16"},{"$f":"+IF(C2253=\"\",\"\",IF(J2253=\"\",\"SIN RESPUESTA\",(IF(J2253<=M2253,\"A TIEMPO\",\"FUERA DE TIEMPO\"))))","v":"A TIEMPO"},{"$f":"IF(J2253=\"\",\"\",NETWORKDAYS(C2253+1,J2253,DiasNOLaborables))","v":17},"",null,null,{"$f":"IFERROR(VLOOKUP(F2254,$AA$51:$AB$64,2),\"\")","v":20}]
[{"$f":"IF(B2254<>\"\",A2253+1,\"\")","v":2243},20219050073282,"2021-06-17","ACADEMIA","MODULO CONTACTENOS","SOLICITUD DE INFORMACIÓN Y DOCUMENTOS","SOLICITUD DE INFORMACIÓN HIDROMETEOROLÓGICA","NO","GRUPO DE SERVICIO AL CIUDADANO ","2021-07-13","CORREO ELECTRÓNICO",null,{"$f":"IFERROR(WORKDAY(C2254,S2253,DiasNOLaborables),\"\")","v":"2021-07-16"},{"$f":"+IF(C2254=\"\",\"\",IF(J2254=\"\",\"SIN RESPUESTA\",(IF(J2254<=M2254,\"A TIEMPO\",\"FUERA DE TIEMPO\"))))","v":"A TIEMPO"},{"$f":"IF(J2254=\"\",\"\",NETWORKDAYS(C2254+1,J2254,DiasNOLaborables))","v":17},"",null,null,20]
[2244,20219050073272,"2021-06-17","CIUDADANO","MODULO CONTACTENOS","SOLICITUD DE INFORMACIÓN Y DOCUMENTOS","SOLICITUD DE INFORMACIÓN HIDROMETEOROLÓGICA","NO","GRUPO DE SERVICIO AL CIUDADANO ","2021-07-13","CORREO ELECTRÓNICO",null,{"$f":"IFERROR(WORKDAY(C2255,S2254,DiasNOLaborables),\"\")","v":"2021-07-16"},{"$f":"+IF(C2255=\"\",\"\",IF(J2255=\"\",\"SIN RESPUESTA\",(IF(J2255<=M2255,\"A TIEMPO\",\"FUERA DE TIEMPO\"))))","v":"A TIEMPO"},{"$f":"IF(J2255=\"\",\"\",NETWORKDAYS(C2255+1,J2255,DiasNOLaborables))","v":17},"",null,null,20]
[2245,20219050073232,"2021-06-17","ACADEMIA","MODULO CONTACTENOS","SOLICITUD DE INFORMACIÓN Y DOCUMENTOS","SOLICITUD DE INFORMACIÓN HIDROMETEOROLÓGICA","NO","GRUPO DE SERVICIO AL CIUDADANO ","2021-07-13","CORREO ELECTRÓNICO",null,{"$f":"IFERROR(WORKDAY(C2256,S2255,DiasNOLaborables),\"\")","v":"2021-07-16"},{"$f":"+IF(C2256=\"\",\"\",IF(J2256=\"\",\"SIN RESPUESTA\",(IF(J2256<=M2256,\"A TIEMPO\",\"FUERA DE TIEMPO\"))))","v":"A TIEMPO"},{"$f":"IF(J2256=\"\",\"\",NETWORKDAYS(C2256+1,J2256,DiasNOLaborables))","v":17},"",null,null,20]
[2246,20219050073202,"2021-06-17","CIUDADANO","MODULO CONTACTENOS","SOLICITUD DE INFORMACIÓN Y DOCUMENTOS","SOLICITUD DE INFORMACIÓN HIDROMETEOROLÓGICA","NO","GRUPO DE SERVICIO AL CIUDADANO ","2021-07-13","CORREO ELECTRÓNICO",null,{"$f":"IFERROR(WORKDAY(C2257,S2256,DiasNOLaborables),\"\")","v":"2021-07-16"},{"$f":"+IF(C2257=\"\",\"\",IF(J2257=\"\",\"SIN RESPUESTA\",(IF(J2257<=M2257,\"A TIEMPO\",\"FUERA DE TIEMPO\"))))","v":"A TIEMPO"},{"$f":"IF(J2257=\"\",\"\",NETWORKDAYS(C2257+1,J2257,DiasNOLaborables))","v":17},"",null,null,20]
[2247,20219050073152,"2021-06-17","CIUDADANO","MODULO CONTACTENOS","SOLICITUD DE INFORMACIÓN Y DOCUMENTOS","SOLICITUD DE INFORMACIÓN HIDROMETEOROLÓGICA","NO","GRUPO DE SERVICIO AL CIUDADANO ","2021-07-13","CORREO ELECTRÓNICO",null,{"$f":"IFERROR(WORKDAY(C2258,S2257,DiasNOLaborables),\"\")","v":"2021-07-16"},{"$f":"+IF(C2258=\"\",\"\",IF(J2258=\"\",\"SIN RESPUESTA\",(IF(J2258<=M2258,\"A TIEMPO\",\"FUERA DE TIEMPO\"))))","v":"A TIEMPO"},{"$f":"IF(J2258=\"\",\"\",NETWORKDAYS(C2258+1,J2258,DiasNOLaborables))","v":17},"",null,null,20]
[2248,20219050073132,"2021-06-17","CIUDADANO","MODULO CONTACTENOS","SOLICITUD DE INFORMACIÓN Y DOCUMENTOS","SOLICITUD DE INFORMACIÓN HIDROMETEOROLÓGICA","NO","GRUPO DE SERVICIO AL CIUDADANO ","2021-07-13","CORREO ELECTRÓNICO",null,{"$f":"IFERROR(WORKDAY(C2259,S2258,DiasNOLaborables),\"\")","v":"2021-07-16"},{"$f":"+IF(C2259=\"\",\"\",IF(J2259=\"\",\"SIN RESPUESTA\",(IF(J2259<=M2259,\"A TIEMPO\",\"FUERA DE TIEMPO\"))))","v":"A TIEMPO"},{"$f":"IF(J2259=\"\",\"\",NETWORKDAYS(C2259+1,J2259,DiasNOLaborables))","v":17},"",null,null,20]
[2249,20219050073112,"2021-06-17","CIUDADANO","MODULO CONTACTENOS","SOLICITUD DE INFORMACIÓN Y DOCUMENTOS","SOLICITUD DE INFORMACIÓN HIDROMETEOROLÓGICA","NO","GRUPO DE SERVICIO AL CIUDADANO ","2021-07-13","CORREO ELECTRÓNICO",null,{"$f":"IFERROR(WORKDAY(C2260,S2259,DiasNOLaborables),\"\")","v":"2021-07-16"},{"$f":"+IF(C2260=\"\",\"\",IF(J2260=\"\",\"SIN RESPUESTA\",(IF(J2260<=M2260,\"A TIEMPO\",\"FUERA DE TIEMPO\"))))","v":"A TIEMPO"},{"$f":"IF(J2260=\"\",\"\",NETWORKDAYS(C2260+1,J2260,DiasNOLaborables))","v":17},"",null,null,20]
[2250,20219050073072,"2021-06-17","CIUDADANO","MODULO CONTACTENOS","SOLICITUD DE INFORMACIÓN Y DOCUMENTOS","SOLICITUD DE INFORMACIÓN HIDROMETEOROLÓGICA","NO","GRUPO DE SERVICIO AL CIUDADANO ","2021-07-13","CORREO ELECTRÓNICO",null,{"$f":"IFERROR(WORKDAY(C2261,S2260,DiasNOLaborables),\"\")","v":"2021-07-16"},{"$f":"+IF(C2261=\"\",\"\",IF(J2261=\"\",\"SIN RESPUESTA\",(IF(J2261<=M2261,\"A TIEMPO\",\"FUERA DE TIEMPO\"))))","v":"A TIEMPO"},{"$f":"IF(J2261=\"\",\"\",NETWORKDAYS(C2261+1,J2261,DiasNOLaborables))","v":17},"",null,null,20]
[2251,20219050073052,"2021-06-17","ACADEMIA","MODULO CONTACTENOS","SOLICITUD DE INFORMACIÓN Y DOCUMENTOS","SOLICITUD DE INFORMACIÓN HIDROMETEOROLÓGICA","NO","GRUPO DE SERVICIO AL CIUDADANO ","2021-07-13","CORREO ELECTRÓNICO",null,{"$f":"IFERROR(WORKDAY(C2262,S2261,DiasNOLaborables),\"\")","v":"2021-07-16"},{"$f":"+IF(C2262=\"\",\"\",IF(J2262=\"\",\"SIN RESPUESTA\",(IF(J2262<=M2262,\"A TIEMPO\",\"FUERA DE TIEMPO\"))))","v":"A TIEMPO"},{"$f":"IF(J2262=\"\",\"\",NETWORKDAYS(C2262+1,J2262,DiasNOLaborables))","v":17},"",null,null,20]
[2252,20219050073062,"2021-06-17","CIUDADANO","MODULO CONTACTENOS","SOLICITUD DE INFORMACIÓN Y DOCUMENTOS","SOLICITUD DE INFORMACIÓN HIDROMETEOROLÓGICA","NO","GRUPO DE SERVICIO AL CIUDADANO ","2021-07-13","CORREO ELECTRÓNICO",null,{"$f":"IFERROR(WORKDAY(C2263,S2262,DiasNOLaborables),\"\")","v":"2021-07-16"},{"$f":"+IF(C2263=\"\",\"\",IF(J2263=\"\",\"SIN RESPUESTA\",(IF(J2263<=M2263,\"A TIEMPO\",\"FUERA DE TIEMPO\"))))","v":"A TIEMPO"},{"$f":"IF(J2263=\"\",\"\",NETWORKDAYS(C2263+1,J2263,DiasNOLaborables))","v":17},"",null,null,20]
[2253,20219050073322,"2021-06-17","CIUDADANO","MODULO CONTACTENOS","SOLICITUD DE INFORMACIÓN Y DOCUMENTOS","SOLICITUD DE INFORMACIÓN HIDROMETEOROLÓGICA","SI","OFICINA DEL SERVICIO DE PRONÓSTICOS Y ALERTAS","2021-06-22","CORREO ELECTRÓNICO",null,{"$f":"IFERROR(WORKDAY(C2264,S2263,DiasNOLaborables),\"\")","v":"2021-07-16"},{"$f":"+IF(C2264=\"\",\"\",IF(J2264=\"\",\"SIN RESPUESTA\",(IF(J2264<=M2264,\"A TIEMPO\",\"FUERA DE TIEMPO\"))))","v":"A TIEMPO"},{"$f":"IF(J2264=\"\",\"\",NETWORKDAYS(C2264+1,J2264,DiasNOLaborables))","v":3},"",null,null,30]
[2254,20219050073462,"2021-06-17","CIUDADANO","MODULO CONTACTENOS","PETICIÓN","ACREDITACIÓN DE LABORATORIOS","SI","SUBDIRECCIÓN DE ESTUDIOS AMBIENTALES","2021-07-15","CORREO ELECTRÓNICO",null,{"$f":"IFERROR(WORKDAY(C2265,S2264,DiasNOLaborables),\"\")","v":"2021-08-02"},{"$f":"+IF(C2265=\"\",\"\",IF(J2265=\"\",\"SIN RESPUESTA\",(IF(J2265<=M2265,\"A TIEMPO\",\"FUERA DE TIEMPO\"))))","v":"A TIEMPO"},{"$f":"IF(J2265=\"\",\"\",NETWORKDAYS(C2265+1,J2265,DiasNOLaborables))","v":19},{"$f":"IF(NETWORKDAYS(M2265+1,J2265,DiasNOLaborables)<=0,\"\",NETWORKDAYS(M2265+1,J2265,DiasNOLaborables))","v":""},null,null,20]
[2255,20219050073502,"2021-06-17","CIUDADANO","MODULO CONTACTENOS","SOLICITUD DE INFORMACIÓN Y DOCUMENTOS","CLIMATOLOGÍA","SI","SUBDIRECCIÓN DE METEOROLOGÍA","2021-07-09","CORREO ELECTRÓNICO",null,{"$f":"IFERROR(WORKDAY(C2266,S2265,DiasNOLaborables),\"\")","v":"2021-07-16"},{"$f":"+IF(C2266=\"\",\"\",IF(J2266=\"\",\"SIN RESPUESTA\",(IF(J2266<=M2266,\"A TIEMPO\",\"FUERA DE TIEMPO\"))))","v":"A TIEMPO"},{"$f":"IF(J2266=\"\",\"\",NETWORKDAYS(C2266+1,J2266,DiasNOLaborables))","v":15},"",null,null,35]
[2256,20219050072992,"2021-06-17","CIUDADANO","CORREO ELECTRÓNICO","CERTIFICACIONES DE TIEMPO, CLIMA Y EVENTOS HIDROLÓGICOS","CERTIFICACIONES DE TIEMPO Y CLIMA","SI","SUBDIRECCIÓN DE METEOROLOGÍA","2021-07-07","CORREO ELECTRÓNICO",null,{"$f":"IFERROR(WORKDAY(C2267,S2266,DiasNOLaborables),\"\")","v":"2021-08-09"},{"$f":"+IF(C2267=\"\",\"\",IF(J2267=\"\",\"SIN RESPUESTA\",(IF(J2267<=M2267,\"A TIEMPO\",\"FUERA DE TIEMPO\"))))","v":"A TIEMPO"},{"$f":"IF(J2267=\"\",\"\",NETWORKDAYS(C2267+1,J2267,DiasNOLaborables))","v":13},"",null,null,20]
[2257,20219050073002,"2021-06-17","CIUDADANO","CORREO ELECTRÓNICO","SOLICITUD DE INFORMACIÓN Y DOCUMENTOS","CLIMATOLOGÍA","SI","OFICINA DEL SERVICIO DE PRONÓSTICOS Y ALERTAS","2021-06-17","CORREO ELECTRÓNICO",null,{"$f":"IFERROR(WORKDAY(C2268,S2267,DiasNOLaborables),\"\")","v":"2021-07-16"},{"$f":"+IF(C2268=\"\",\"\",IF(J2268=\"\",\"SIN RESPUESTA\",(IF(J2268<=M2268,\"A TIEMPO\",\"FUERA DE TIEMPO\"))))","v":"A TIEMPO"},{"$f":"IF(J2268=\"\",\"\",NETWORKDAYS(C2268+1,J2268,DiasNOLaborables))","v":-2},"",null,null,20]
[2258,20219050073082,"2021-06-17","CIUDADANO","CORREO ELECTRÓNICO","SOLICITUD DE INFORMACIÓN Y DOCUMENTOS","CLIMATOLOGÍA","SI","OFICINA DEL SERVICIO DE PRONÓSTICOS Y ALERTAS","2021-06-17","CORREO ELECTRÓNICO",null,{"$f":"IFERROR(WORKDAY(C2269,S2268,DiasNOLaborables),\"\")","v":"2021-07-16"},{"$f":"+IF(C2269=\"\",\"\",IF(J2269=\"\",\"SIN RESPUESTA\",(IF(J2269<=M2269,\"A TIEMPO\",\"FUERA DE TIEMPO\"))))","v":"A TIEMPO"},{"$f":"IF(J2269=\"\",\"\",NETWORKDAYS(C2269+1,J2269,DiasNOLaborables))","v":-2},"",null,null,35]
[2259,20219050073102,"2021-06-17","CIUDADANO","CORREO ELECTRÓNICO","CERTIFICACIONES DE TIEMPO, CLIMA Y EVENTOS HIDROLÓGICOS","CERTIFICACIONES DE TIEMPO Y CLIMA","SI","SUBDIRECCIÓN DE METEOROLOGÍA","2021-07-15","CORREO ELECTRÓNICO",null,{"$f":"IFERROR(WORKDAY(C2270,S2269,DiasNOLaborables),\"\")","v":"2021-08-09"},{"$f":"+IF(C2270=\"\",\"\",IF(J2270=\"\",\"SIN RESPUESTA\",(IF(J2270<=M2270,\"A TIEMPO\",\"FUERA DE TIEMPO\"))))","v":"A TIEMPO"},{"$f":"IF(J2270=\"\",\"\",NETWORKDAYS(C2270+1,J2270,DiasNOLaborables))","v":19},"",null,null,20]
[2260,20219050073122,"2021-06-17","CIUDADANO","CORREO ELECTRÓNICO","SOLICITUD DE INFORMACIÓN Y DOCUMENTOS","ADMINISTRATIVA","SI","GRUPO DE ADMINISTRACIÓN Y DESARROLLO DEL TALENTO HUMANO","2021-06-18","CORREO ELECTRÓNICO",null,{"$f":"IFERROR(WORKDAY(C2271,S2270,DiasNOLaborables),\"\")","v":"2021-07-16"},{"$f":"+IF(C2271=\"\",\"\",IF(J2271=\"\",\"SIN RESPUESTA\",(IF(J2271<=M2271,\"A TIEMPO\",\"FUERA DE TIEMPO\"))))","v":"A TIEMPO"},{"$f":"IF(J2271=\"\",\"\",NETWORKDAYS(C2271+1,J2271,DiasNOLaborables))","v":1},"",null,null,20]
[2261,20219050073142,"2021-06-17","CIUDADANO","CORREO ELECTRÓNICO","SOLICITUD DE INFORMACIÓN Y DOCUMENTOS","BOSQUES","SI","SUBDIRECCIÓN DE ECOSISTEMAS E INFORMACIÓN AMBIENTAL","2021-06-17","CORREO ELECTRÓNICO",null,{"$f":"IFERROR(WORKDAY(C2272,S2271,DiasNOLaborables),\"\")","v":"2021-07-16"},{"$f":"+IF(C2272=\"\",\"\",IF(J2272=\"\",\"SIN RESPUESTA\",(IF(J2272<=M2272,\"A TIEMPO\",\"FUERA DE TIEMPO\"))))","v":"A TIEMPO"},{"$f":"IF(J2272=\"\",\"\",NETWORKDAYS(C2272+1,J2272,DiasNOLaborables))","v":-2},"",null,null,20]
[2262,20219050073182,"2021-06-17","CIUDADANO","CORREO ELECTRÓNICO","SOLICITUD DE INFORMACIÓN Y DOCUMENTOS","SIRH","SI","OFICINA DE INFORMÁTICA","2021-06-22","CORREO ELECTRÓNICO",null,{"$f":"IFERROR(WORKDAY(C2273,S2272,DiasNOLaborables),\"\")","v":"2021-07-16"},{"$f":"+IF(C2273=\"\",\"\",IF(J2273=\"\",\"SIN RESPUESTA\",(IF(J2273<=M2273,\"A TIEMPO\",\"FUERA DE TIEMPO\"))))","v":"A TIEMPO"},{"$f":"IF(J2273=\"\",\"\",NETWORKDAYS(C2273+1,J2273,DiasNOLaborables))","v":3},"",null,null,30]
[2263,20219050073212,"2021-06-17","CIUDADANO","CORREO ELECTRÓNICO","PETICIÓN","ADMINISTRATIVA","SI","GRUPO DE ADMINISTRACIÓN Y DESARROLLO DEL TALENTO HUMANO","2021-07-22","CORREO ELECTRÓNICO",null,{"$f":"IFERROR(WORKDAY(C2274,S2273,DiasNOLaborables),\"\")","v":"2021-08-02"},{"$f":"+IF(C2274=\"\",\"\",IF(J2274=\"\",\"SIN RESPUESTA\",(IF(J2274<=M2274,\"A TIEMPO\",\"FUERA DE TIEMPO\"))))","v":"A TIEMPO"},{"$f":"IF(J2274=\"\",\"\",NETWORKDAYS(C2274+1,J2274,DiasNOLaborables))","v":23},"",null,null,20]
[2264,20219050073242,"2021-06-17","CIUDADANO","CORREO ELECTRÓNICO","SOLICITUD DE INFORMACIÓN Y DOCUMENTOS","INFORMES AMBIENTALES","SI","SUBDIRECCIÓN DE ESTUDIOS AMBIENTALES","2021-06-17","CORREO ELECTRÓNICO",null,{"$f":"IFERROR(WORKDAY(C2275,S2274,DiasNOLaborables),\"\")","v":"2021-07-16"},{"$f":"+IF(C2275=\"\",\"\",IF(J2275=\"\",\"SIN RESPUESTA\",(IF(J2275<=M2275,\"A TIEMPO\",\"FUERA DE TIEMPO\"))))","v":"A TIEMPO"},{"$f":"IF(J2275=\"\",\"\",NETWORKDAYS(C2275+1,J2275,DiasNOLaborables))","v":-2},"",null,null,20]
[2265,20219050073252,"2021-06-17","CIUDADANO","CORREO ELECTRÓNICO","SOLICITUD DE INFORMACIÓN Y DOCUMENTOS","SIRH","SI","OFICINA DE INFORMÁTICA","2021-06-22","CORREO ELECTRÓNICO",null,{"$f":"IFERROR(WORKDAY(C2276,S2275,DiasNOLaborables),\"\")","v":"2021-07-16"},{"$f":"+IF(C2276=\"\",\"\",IF(J2276=\"\",\"SIN RESPUESTA\",(IF(J2276<=M2276,\"A TIEMPO\",\"FUERA DE TIEMPO\"))))","v":"A TIEMPO"},{"$f":"IF(J2276=\"\",\"\",NETWORKDAYS(C2276+1,J2276,DiasNOLaborables))","v":3},"",null,null,20]
[2266,20219050073262,"2021-06-17","CIUDADANO","CORREO ELECTRÓNICO","SOLICITUD DE INFORMACIÓN Y DOCUMENTOS","SIRH","SI","OFICINA DE INFORMÁTICA","2021-06-22","CORREO ELECTRÓNICO",null,{"$f":"IFERROR(WORKDAY(C2277,S2276,DiasNOLaborables),\"\")","v":"2021-07-16"},{"$f":"+IF(C2277=\"\",\"\",IF(J2277=\"\",\"SIN RESPUESTA\",(IF(J2277<=M2277,\"A TIEMPO\",\"FUERA DE TIEMPO\"))))","v":"A TIEMPO"},{"$f":"IF(J2277=\"\",\"\",NETWORKDAYS(C2277+1,J2277,DiasNOLaborables))","v":3},"",null,null,20]
[2267,20219050073292,"2021-06-17","CIUDADANO","CORREO ELECTRÓNICO","SOLICITUD DE INFORMACIÓN Y DOCUMENTOS","CLIMATOLOGÍA","SI","SUBDIRECCIÓN DE METEOROLOGÍA","2021-06-29","CORREO ELECTRÓNICO",null,{"$f":"IFERROR(WORKDAY(C2278,S2277,DiasNOLaborables),\"\")","v":"2021-07-16"},{"$f":"+IF(C2278=\"\",\"\",IF(J2278=\"\",\"SIN RESPUESTA\",(IF(J2278<=M2278,\"A TIEMPO\",\"FUERA DE TIEMPO\"))))","v":"A TIEMPO"},{"$f":"IF(J2278=\"\",\"\",NETWORKDAYS(C2278+1,J2278,DiasNOLaborables))","v":8},"",null,null,20]
[2268,20219050073302,"2021-06-17","CIUDADANO","CORREO ELECTRÓNICO","SOLICITUD DE INFORMACIÓN Y DOCUMENTOS","BOSQUES","SI","SUBDIRECCIÓN DE ECOSISTEMAS E INFORMACIÓN AMBIENTAL","2021-06-28","CORREO ELECTRÓNICO",null,{"$f":"IFERROR(WORKDAY(C2279,S2278,DiasNOLaborables),\"\")","v":"2021-07-16"},{"$f":"+IF(C2279=\"\",\"\",IF(J2279=\"\",\"SIN RESPUESTA\",(IF(J2279<=M2279,\"A TIEMPO\",\"FUERA DE TIEMPO\"))))","v":"A TIEMPO"},{"$f":"IF(J2279=\"\",\"\",NETWORKDAYS(C2279+1,J2279,DiasNOLaborables))","v":7},"",null,null,30]
[2269,20219050073312,"2021-06-17","CIUDADANO","CORREO ELECTRÓNICO","PETICIÓN","BOSQUES","SI","SUBDIRECCIÓN DE ECOSISTEMAS E INFORMACIÓN AMBIENTAL","2021-06-16","CORREO ELECTRÓNICO",null,{"$f":"IFERROR(WORKDAY(C2280,S2279,DiasNOLaborables),\"\")","v":"2021-08-02"},{"$f":"+IF(C2280=\"\",\"\",IF(J2280=\"\",\"SIN RESPUESTA\",(IF(J2280<=M2280,\"A TIEMPO\",\"FUERA DE TIEMPO\"))))","v":"A TIEMPO"},{"$f":"IF(J2280=\"\",\"\",NETWORKDAYS(C2280+1,J2280,DiasNOLaborables))","v":-3},"",null,null,20]
[2270,20219050073352,"2021-06-17","CIUDADANO","CORREO ELECTRÓNICO","SOLICITUD DE INFORMACIÓN Y DOCUMENTOS","BOSQUES","SI","SUBDIRECCIÓN DE ECOSISTEMAS E INFORMACIÓN AMBIENTAL","2021-06-17","CORREO ELECTRÓNICO",null,{"$f":"IFERROR(WORKDAY(C2281,S2280,DiasNOLaborables),\"\")","v":"2021-07-16"},{"$f":"+IF(C2281=\"\",\"\",IF(J2281=\"\",\"SIN RESPUESTA\",(IF(J2281<=M2281,\"A TIEMPO\",\"FUERA DE TIEMPO\"))))","v":"A TIEMPO"},{"$f":"IF(J2281=\"\",\"\",NETWORKDAYS(C2281+1,J2281,DiasNOLaborables))","v":-2},"",null,null,20]
[2271,20219050073432,"2021-06-17","CIUDADANO","CORREO ELECTRÓNICO","SOLICITUD DE INFORMACIÓN Y DOCUMENTOS","ADMINISTRATIVA","SI","GRUPO DE ADMINISTRACIÓN Y DESARROLLO DEL TALENTO HUMANO","2021-06-23","CORREO ELECTRÓNICO",null,{"$f":"IFERROR(WORKDAY(C2282,S2281,DiasNOLaborables),\"\")","v":"2021-07-16"},{"$f":"+IF(C2282=\"\",\"\",IF(J2282=\"\",\"SIN RESPUESTA\",(IF(J2282<=M2282,\"A TIEMPO\",\"FUERA DE TIEMPO\"))))","v":"A TIEMPO"},{"$f":"IF(J2282=\"\",\"\",NETWORKDAYS(C2282+1,J2282,DiasNOLaborables))","v":4},"",null,null,20]
[2272,20219050073222,"2021-06-17","CIUDADANO","CORREO ELECTRÓNICO","SOLICITUD DE INFORMACIÓN Y DOCUMENTOS","SOLICITUD DE INFORMACIÓN HIDROMETEOROLÓGICA","NO","GRUPO DE SERVICIO AL CIUDADANO ","2021-06-24","CORREO ELECTRÓNICO",null,{"$f":"IFERROR(WORKDAY(C2283,S2282,DiasNOLaborables),\"\")","v":"2021-07-16"},{"$f":"+IF(C2283=\"\",\"\",IF(J2283=\"\",\"SIN RESPUESTA\",(IF(J2283<=M2283,\"A TIEMPO\",\"FUERA DE TIEMPO\"))))","v":"A TIEMPO"},{"$f":"IF(J2283=\"\",\"\",NETWORKDAYS(C2283+1,J2283,DiasNOLaborables))","v":5},"",null,null,20]
[2273,20219050073362,"2021-06-17","CIUDADANO","MODULO CONTACTENOS","SOLICITUD DE INFORMACIÓN Y DOCUMENTOS","SOLICITUD DE INFORMACIÓN HIDROMETEOROLÓGICA","NO","GRUPO DE SERVICIO AL CIUDADANO ","2021-06-29","CORREO ELECTRÓNICO",null,{"$f":"IFERROR(WORKDAY(C2284,S2283,DiasNOLaborables),\"\")","v":"2021-07-16"},{"$f":"+IF(C2284=\"\",\"\",IF(J2284=\"\",\"SIN RESPUESTA\",(IF(J2284<=M2284,\"A TIEMPO\",\"FUERA DE TIEMPO\"))))","v":"A TIEMPO"},{"$f":"IF(J2284=\"\",\"\",NETWORKDAYS(C2284+1,J2284,DiasNOLaborables))","v":8},"",null,null,20]
[2274,20219050073372,"2021-06-17","CIUDADANO","MODULO CONTACTENOS","SOLICITUD DE INFORMACIÓN Y DOCUMENTOS","SOLICITUD DE INFORMACIÓN HIDROMETEOROLÓGICA","NO","GRUPO DE SERVICIO AL CIUDADANO ","2021-06-29","CORREO ELECTRÓNICO",null,{"$f":"IFERROR(WORKDAY(C2285,S2284,DiasNOLaborables),\"\")","v":"2021-07-16"},{"$f":"+IF(C2285=\"\",\"\",IF(J2285=\"\",\"SIN RESPUESTA\",(IF(J2285<=M2285,\"A TIEMPO\",\"FUERA DE TIEMPO\"))))","v":"A TIEMPO"},{"$f":"IF(J2285=\"\",\"\",NETWORKDAYS([5]Hoja1!C2283+1,[5]Hoja1!P2283,DiasNOLaborables))","v":0},"",null,null,20]
[2275,20219050073422,"2021-06-17","CIUDADANO","MODULO CONTACTENOS","SOLICITUD DE INFORMACIÓN Y DOCUMENTOS","SOLICITUD DE INFORMACIÓN HIDROMETEOROLÓGICA","NO","GRUPO DE SERVICIO AL CIUDADANO ","2021-06-29","CORREO ELECTRÓNICO",null,{"$f":"IFERROR(WORKDAY(C2286,S2285,DiasNOLaborables),\"\")","v":"2021-07-16"},{"$f":"+IF(C2286=\"\",\"\",IF(J2286=\"\",\"SIN RESPUESTA\",(IF(J2286<=M2286,\"A TIEMPO\",\"FUERA DE TIEMPO\"))))","v":"A TIEMPO"},{"$f":"IF(J2286=\"\",\"\",NETWORKDAYS(C2286+1,J2286,DiasNOLaborables))","v":8},"",null,null,20]
[2276,20219050073442,"2021-06-17","CIUDADANO","MODULO CONTACTENOS","SOLICITUD DE INFORMACIÓN Y DOCUMENTOS","SOLICITUD DE INFORMACIÓN HIDROMETEOROLÓGICA","NO","GRUPO DE SERVICIO AL CIUDADANO ","2021-06-29","CORREO ELECTRÓNICO",null,{"$f":"IFERROR(WORKDAY(C2287,S2286,DiasNOLaborables),\"\")","v":"2021-07-16"},{"$f":"+IF(C2287=\"\",\"\",IF(J2287=\"\",\"SIN RESPUESTA\",(IF(J2287<=M2287,\"A TIEMPO\",\"FUERA DE TIEMPO\"))))","v":"A TIEMPO"},{"$f":"IF(J2287=\"\",\"\",NETWORKDAYS(C2287+1,J2287,DiasNOLaborables))","v":8},"",null,null,20]
[2277,20219050073452,"2021-06-17","CIUDADANO","MODULO CONTACTENOS","SOLICITUD DE INFORMACIÓN Y DOCUMENTOS","SOLICITUD DE INFORMACIÓN HIDROMETEOROLÓGICA","SI","SUBDIRECCIÓN DE METEOROLOGÍA","2021-07-01","CORREO ELECTRÓNICO",null,{"$f":"IFERROR(WORKDAY(C2288,S2287,DiasNOLaborables),\"\")","v":"2021-07-16"},{"$f":"+IF(C2288=\"\",\"\",IF(J2288=\"\",\"SIN RESPUESTA\",(IF(J2288<=M2288,\"A TIEMPO\",\"FUERA DE TIEMPO\"))))","v":"A TIEMPO"},{"$f":"IF(J2288=\"\",\"\",NETWORKDAYS(C2288+1,J2288,DiasNOLaborables))","v":10},"",null,null,20]
[2278,20219050073472,"2021-06-17","CIUDADANO","MODULO CONTACTENOS","SOLICITUD DE INFORMACIÓN Y DOCUMENTOS","SOLICITUD DE INFORMACIÓN HIDROMETEOROLÓGICA","NO","GRUPO DE SERVICIO AL CIUDADANO ","2021-06-30","CORREO ELECTRÓNICO",null,{"$f":"IFERROR(WORKDAY(C2289,S2288,DiasNOLaborables),\"\")","v":"2021-07-16"},{"$f":"+IF(C2289=\"\",\"\",IF(J2289=\"\",\"SIN RESPUESTA\",(IF(J2289<=M2289,\"A TIEMPO\",\"FUERA DE TIEMPO\"))))","v":"A TIEMPO"},{"$f":"IF(J2289=\"\",\"\",NETWORKDAYS(C2289+1,J2289,DiasNOLaborables))","v":9},"",null,null,20]
[2279,20219050073482,"2021-06-17","ACADEMIA ","MODULO CONTACTENOS","SOLICITUD DE INFORMACIÓN Y DOCUMENTOS","SOLICITUD DE INFORMACIÓN HIDROMETEOROLÓGICA","NO","GRUPO DE SERVICIO AL CIUDADANO ","2021-06-30","CORREO ELECTRÓNICO",null,{"$f":"IFERROR(WORKDAY(C2290,S2289,DiasNOLaborables),\"\")","v":"2021-07-16"},{"$f":"+IF(C2290=\"\",\"\",IF(J2290=\"\",\"SIN RESPUESTA\",(IF(J2290<=M2290,\"A TIEMPO\",\"FUERA DE TIEMPO\"))))","v":"A TIEMPO"},{"$f":"IF(J2290=\"\",\"\",NETWORKDAYS(C2290+1,J2290,DiasNOLaborables))","v":9},"",null,null,20]
[2280,20219050073492,"2021-06-17","CIUDADANO","MODULO CONTACTENOS","SOLICITUD DE INFORMACIÓN Y DOCUMENTOS","SOLICITUD DE INFORMACIÓN HIDROMETEOROLÓGICA","NO","GRUPO DE SERVICIO AL CIUDADANO ","2021-06-30","CORREO ELECTRÓNICO",null,{"$f":"IFERROR(WORKDAY(C2291,S2290,DiasNOLaborables),\"\")","v":"2021-07-16"},{"$f":"+IF(C2291=\"\",\"\",IF(J2291=\"\",\"SIN RESPUESTA\",(IF(J2291<=M2291,\"A TIEMPO\",\"FUERA DE TIEMPO\"))))","v":"A TIEMPO"},{"$f":"IF(J2291=\"\",\"\",NETWORKDAYS(C2291+1,J2291,DiasNOLaborables))","v":9},"",null,null,20]
[2281,20219050073512,"2021-06-18","CIUDADANO","CORREO ELECTRÓNICO","SOLICITUD DE INFORMACIÓN Y DOCUMENTOS","SOLICITUD DE INFORMACIÓN HIDROMETEOROLÓGICA","NO","GRUPO DE SERVICIO AL CIUDADANO ","2021-06-30","CORREO ELECTRÓNICO",null,{"$f":"IFERROR(WORKDAY(C2292,S2291,DiasNOLaborables),\"\")","v":"2021-07-19"},{"$f":"+IF(C2292=\"\",\"\",IF(J2292=\"\",\"SIN RESPUESTA\",(IF(J2292<=M2292,\"A TIEMPO\",\"FUERA DE TIEMPO\"))))","v":"A TIEMPO"},{"$f":"IF(J2292=\"\",\"\",NETWORKDAYS(C2292+1,J2292,DiasNOLaborables))","v":8},"",null,null,20]
[2282,20219050073522,"2021-06-18","ACADEMIA ","CORREO ELECTRÓNICO","SOLICITUD DE INFORMACIÓN Y DOCUMENTOS","SOLICITUD DE INFORMACIÓN HIDROMETEOROLÓGICA","NO","GRUPO DE SERVICIO AL CIUDADANO ","2021-06-30","CORREO ELECTRÓNICO",null,{"$f":"IFERROR(WORKDAY(C2293,S2292,DiasNOLaborables),\"\")","v":"2021-07-19"},{"$f":"+IF(C2293=\"\",\"\",IF(J2293=\"\",\"SIN RESPUESTA\",(IF(J2293<=M2293,\"A TIEMPO\",\"FUERA DE TIEMPO\"))))","v":"A TIEMPO"},{"$f":"IF(J2293=\"\",\"\",NETWORKDAYS(C2293+1,J2293,DiasNOLaborables))","v":8},{"$f":"IF(NETWORKDAYS(M2293+1,J2293,DiasNOLaborables)<=0,\"\",NETWORKDAYS(M2293+1,J2293,DiasNOLaborables))","v":""},null,null,20]
[2283,20219050073672,"2021-06-18","CIUDADANO","CORREO ELECTRÓNICO","SOLICITUD DE INFORMACIÓN Y DOCUMENTOS","SOLICITUD DE INFORMACIÓN HIDROMETEOROLÓGICA","NO","GRUPO DE SERVICIO AL CIUDADANO ","2021-06-30","CORREO ELECTRÓNICO",null,{"$f":"IFERROR(WORKDAY(C2294,S2293,DiasNOLaborables),\"\")","v":"2021-07-19"},{"$f":"+IF(C2294=\"\",\"\",IF(J2294=\"\",\"SIN RESPUESTA\",(IF(J2294<=M2294,\"A TIEMPO\",\"FUERA DE TIEMPO\"))))","v":"A TIEMPO"},{"$f":"IF(J2294=\"\",\"\",NETWORKDAYS(C2294+1,J2294,DiasNOLaborables))","v":8},{"$f":"IF(NETWORKDAYS(M2294+1,J2294,DiasNOLaborables)<=0,\"\",NETWORKDAYS(M2294+1,J2294,DiasNOLaborables))","v":""},null,null,20]
[2284,20219050073552,"2021-06-18","CIUDADANO","MODULO CONTACTENOS","SOLICITUD DE INFORMACIÓN Y DOCUMENTOS","SOLICITUD DE INFORMACIÓN HIDROMETEOROLÓGICA","NO","GRUPO DE SERVICIO AL CIUDADANO ","2021-06-23","CORREO ELECTRÓNICO",null,{"$f":"IFERROR(WORKDAY(C2295,S2294,DiasNOLaborables),\"\")","v":"2021-07-19"},{"$f":"+IF(C2295=\"\",\"\",IF(J2295=\"\",\"SIN RESPUESTA\",(IF(J2295<=M2295,\"A TIEMPO\",\"FUERA DE TIEMPO\"))))","v":"A TIEMPO"},{"$f":"IF(J2295=\"\",\"\",NETWORKDAYS(C2295+1,J2295,DiasNOLaborables))","v":3},"",null,null,20]
[2285,20219050073542,"2021-06-18","CIUDADANO","MODULO CONTACTENOS","SOLICITUD DE INFORMACIÓN Y DOCUMENTOS","SOLICITUD DE INFORMACIÓN HIDROMETEOROLÓGICA","NO","GRUPO DE SERVICIO AL CIUDADANO ","2021-06-23","CORREO ELECTRÓNICO",null,{"$f":"IFERROR(WORKDAY(C2296,S2295,DiasNOLaborables),\"\")","v":"2021-07-19"},{"$f":"+IF(C2296=\"\",\"\",IF(J2296=\"\",\"SIN RESPUESTA\",(IF(J2296<=M2296,\"A TIEMPO\",\"FUERA DE TIEMPO\"))))","v":"A TIEMPO"},{"$f":"IF(J2296=\"\",\"\",NETWORKDAYS(C2296+1,J2296,DiasNOLaborables))","v":3},"",null,null,20]
[2286,20219050073532,"2021-06-18","CIUDADANO","CORREO ELECTRÓNICO","SOLICITUD DE INFORMACIÓN Y DOCUMENTOS","REGISTROS AMBIENTALES","SI","SUBDIRECCIÓN DE ESTUDIOS AMBIENTALES","2021-07-03","CORREO ELECTRÓNICO",null,{"$f":"IFERROR(WORKDAY(C2297,S2296,DiasNOLaborables),\"\")","v":"2021-07-19"},{"$f":"+IF(C2297=\"\",\"\",IF(J2297=\"\",\"SIN RESPUESTA\",(IF(J2297<=M2297,\"A TIEMPO\",\"FUERA DE TIEMPO\"))))","v":"A TIEMPO"},{"$f":"IF(J2297=\"\",\"\",NETWORKDAYS(C2297+1,J2297,DiasNOLaborables))","v":10},"",null,null,20]
[2287,20219050073562,"2021-06-18","CIUDADANO","CORREO ELECTRÓNICO","SOLICITUD DE INFORMACIÓN Y DOCUMENTOS","REGISTROS AMBIENTALES","SI","SUBDIRECCIÓN DE ESTUDIOS AMBIENTALES","2021-07-09","CORREO ELECTRÓNICO",null,{"$f":"IFERROR(WORKDAY(C2298,S2297,DiasNOLaborables),\"\")","v":"2021-07-19"},{"$f":"+IF(C2298=\"\",\"\",IF(J2298=\"\",\"SIN RESPUESTA\",(IF(J2298<=M2298,\"A TIEMPO\",\"FUERA DE TIEMPO\"))))","v":"A TIEMPO"},{"$f":"IF(J2298=\"\",\"\",NETWORKDAYS(C2298+1,J2298,DiasNOLaborables))","v":14},"",null,null,20]
[2288,20219050073722,"2021-06-18","CIUDADANO","CORREO ELECTRÓNICO","SOLICITUD DE INFORMACIÓN Y DOCUMENTOS","ACREDITACIÓN DE LABORATORIOS","SI","SUBDIRECCIÓN DE ESTUDIOS AMBIENTALES","2021-06-24","CORREO ELECTRÓNICO",null,{"$f":"IFERROR(WORKDAY(C2299,S2298,DiasNOLaborables),\"\")","v":"2021-07-19"},{"$f":"+IF(C2299=\"\",\"\",IF(J2299=\"\",\"SIN RESPUESTA\",(IF(J2299<=M2299,\"A TIEMPO\",\"FUERA DE TIEMPO\"))))","v":"A TIEMPO"},{"$f":"IF(J2299=\"\",\"\",NETWORKDAYS(C2299+1,J2299,DiasNOLaborables))","v":4},"",null,null,20]
[2289,20219050073572,"2021-06-18","CIUDADANO","CORREO ELECTRÓNICO","SOLICITUD DE INFORMACIÓN Y DOCUMENTOS","BOSQUES","SI","SUBDIRECCIÓN DE ECOSISTEMAS E INFORMACIÓN AMBIENTAL","2021-06-30","CORREO ELECTRÓNICO",null,{"$f":"IFERROR(WORKDAY(C2300,S2299,DiasNOLaborables),\"\")","v":"2021-07-19"},{"$f":"+IF(C2300=\"\",\"\",IF(J2300=\"\",\"SIN RESPUESTA\",(IF(J2300<=M2300,\"A TIEMPO\",\"FUERA DE TIEMPO\"))))","v":"A TIEMPO"},{"$f":"IF(J2300=\"\",\"\",NETWORKDAYS(C2300+1,J2300,DiasNOLaborables))","v":8},"",null,null,20]
[2290,20219050073582,"2021-06-18","CIUDADANO","CORREO ELECTRÓNICO","SOLICITUD DE INFORMACIÓN Y DOCUMENTOS","SIRH","SI","SUBDIRECCIÓN DE HIDROLOGÍA","2021-06-30","CORREO ELECTRÓNICO",null,{"$f":"IFERROR(WORKDAY(C2301,S2300,DiasNOLaborables),\"\")","v":"2021-07-19"},{"$f":"+IF(C2301=\"\",\"\",IF(J2301=\"\",\"SIN RESPUESTA\",(IF(J2301<=M2301,\"A TIEMPO\",\"FUERA DE TIEMPO\"))))","v":"A TIEMPO"},{"$f":"IF(J2301=\"\",\"\",NETWORKDAYS(C2301+1,J2301,DiasNOLaborables))","v":8},"",null,null,20]
[2291,20219050073622,"2021-06-18","CIUDADANO","CORREO ELECTRÓNICO","SOLICITUD DE INFORMACIÓN Y DOCUMENTOS","REGISTROS AMBIENTALES","SI","SUBDIRECCIÓN DE ESTUDIOS AMBIENTALES","2021-06-22","CORREO ELECTRÓNICO",null,{"$f":"IFERROR(WORKDAY(C2302,S2301,DiasNOLaborables),\"\")","v":"2021-07-19"},{"$f":"+IF(C2302=\"\",\"\",IF(J2302=\"\",\"SIN RESPUESTA\",(IF(J2302<=M2302,\"A TIEMPO\",\"FUERA DE TIEMPO\"))))","v":"A TIEMPO"},{"$f":"IF(J2302=\"\",\"\",NETWORKDAYS(C2302+1,J2302,DiasNOLaborables))","v":2},"",null,null,20]
[2292,20219050073642,"2021-06-18","CIUDADANO","CORREO ELECTRÓNICO","SOLICITUD DE INFORMACIÓN Y DOCUMENTOS","BOSQUES","SI","SUBDIRECCIÓN DE ECOSISTEMAS E INFORMACIÓN AMBIENTAL","2021-06-28","CORREO ELECTRÓNICO",null,{"$f":"IFERROR(WORKDAY(C2303,S2302,DiasNOLaborables),\"\")","v":"2021-07-19"},{"$f":"+IF(C2303=\"\",\"\",IF(J2303=\"\",\"SIN RESPUESTA\",(IF(J2303<=M2303,\"A TIEMPO\",\"FUERA DE TIEMPO\"))))","v":"A TIEMPO"},{"$f":"IF(J2303=\"\",\"\",NETWORKDAYS(C2303+1,J2303,DiasNOLaborables))","v":6},"",null,null,35]
[2293,20219050073662,"2021-06-18","CIUDADANO","CORREO ELECTRÓNICO","CERTIFICACIONES DE TIEMPO, CLIMA Y EVENTOS HIDROLÓGICOS","CERTIFICACIONES DE TIEMPO Y CLIMA","SI","SUBDIRECCIÓN DE METEOROLOGÍA","2021-07-08","CORREO ELECTRÓNICO",null,{"$f":"IFERROR(WORKDAY(C2304,S2303,DiasNOLaborables),\"\")","v":"2021-08-10"},{"$f":"+IF(C2304=\"\",\"\",IF(J2304=\"\",\"SIN RESPUESTA\",(IF(J2304<=M2304,\"A TIEMPO\",\"FUERA DE TIEMPO\"))))","v":"A TIEMPO"},{"$f":"IF(J2304=\"\",\"\",NETWORKDAYS(C2304+1,J2304,DiasNOLaborables))","v":13},"",null,null,20]
[2294,20219050073692,"2021-06-18","ACADEMIA ","MODULO CONTACTENOS","SOLICITUD DE INFORMACIÓN Y DOCUMENTOS","SOLICITUD DE INFORMACIÓN HIDROMETEOROLÓGICA","NO","GRUPO DE SERVICIO AL CIUDADANO ","2021-06-29","CORREO ELECTRÓNICO",null,{"$f":"IFERROR(WORKDAY(C2305,S2304,DiasNOLaborables),\"\")","v":"2021-07-19"},{"$f":"+IF(C2305=\"\",\"\",IF(J2305=\"\",\"SIN RESPUESTA\",(IF(J2305<=M2305,\"A TIEMPO\",\"FUERA DE TIEMPO\"))))","v":"A TIEMPO"},{"$f":"IF(J2305=\"\",\"\",NETWORKDAYS(C2305+1,J2305,DiasNOLaborables))","v":7},"",null,null,20]
[2295,20219050073742,"2021-06-18","CIUDADANO","MODULO CONTACTENOS","SOLICITUD DE INFORMACIÓN Y DOCUMENTOS","SOLICITUD DE INFORMACIÓN HIDROMETEOROLÓGICA","NO","GRUPO DE SERVICIO AL CIUDADANO ","2021-06-29","CORREO ELECTRÓNICO",null,{"$f":"IFERROR(WORKDAY(C2306,S2305,DiasNOLaborables),\"\")","v":"2021-07-19"},{"$f":"+IF(C2306=\"\",\"\",IF(J2306=\"\",\"SIN RESPUESTA\",(IF(J2306<=M2306,\"A TIEMPO\",\"FUERA DE TIEMPO\"))))","v":"A TIEMPO"},{"$f":"IF(J2306=\"\",\"\",NETWORKDAYS(C2306+1,J2306,DiasNOLaborables))","v":7},"",null,null,20]
[2296,20219050073682,"2021-06-18","FUNCIONARIO IDEAM","MODULO CONTACTENOS","SOLICITUD DE INFORMACIÓN Y DOCUMENTOS","ADMINISTRATIVA","SI","GRUPO DE ADMINISTRACIÓN Y DESARROLLO DEL TALENTO HUMANO","2021-07-01","CORREO ELECTRÓNICO",null,{"$f":"IFERROR(WORKDAY(C2307,S2306,DiasNOLaborables),\"\")","v":"2021-07-19"},{"$f":"+IF(C2307=\"\",\"\",IF(J2307=\"\",\"SIN RESPUESTA\",(IF(J2307<=M2307,\"A TIEMPO\",\"FUERA DE TIEMPO\"))))","v":"A TIEMPO"},{"$f":"IF(J2307=\"\",\"\",NETWORKDAYS(C2307+1,J2307,DiasNOLaborables))","v":9},"",null,null,20]
[2297,20219050073792,"2021-06-19","CIUDADANO","MODULO CONTACTENOS","SOLICITUD DE INFORMACIÓN Y DOCUMENTOS","OPERACIÓN DE REDES","SI","SUBDIRECCIÓN DE HIDROLOGÍA","2021-06-25","CORREO ELECTRÓNICO",null,{"$f":"IFERROR(WORKDAY(C2308,S2307,DiasNOLaborables),\"\")","v":"2021-07-19"},{"$f":"+IF(C2308=\"\",\"\",IF(J2308=\"\",\"SIN RESPUESTA\",(IF(J2308<=M2308,\"A TIEMPO\",\"FUERA DE TIEMPO\"))))","v":"A TIEMPO"},{"$f":"IF(J2308=\"\",\"\",NETWORKDAYS(C2308+1,J2308,DiasNOLaborables))","v":5},"",null,null,20]
[2298,20219050073822,"2021-06-19","EMPRESA PRIVADA","MODULO CONTACTENOS","SOLICITUD DE INFORMACIÓN Y DOCUMENTOS","BOSQUES","SI","SUBDIRECCIÓN DE ECOSISTEMAS E INFORMACIÓN AMBIENTAL","2021-06-30","CORREO ELECTRÓNICO",null,{"$f":"IFERROR(WORKDAY(C2309,S2308,DiasNOLaborables),\"\")","v":"2021-07-19"},{"$f":"+IF(C2309=\"\",\"\",IF(J2309=\"\",\"SIN RESPUESTA\",(IF(J2309<=M2309,\"A TIEMPO\",\"FUERA DE TIEMPO\"))))","v":"A TIEMPO"},{"$f":"IF(J2309=\"\",\"\",NETWORKDAYS(C2309+1,J2309,DiasNOLaborables))","v":8},"",null,null,20]
[2299,20219050074002,"2021-06-20","FUNCIONARIO IDEAM","MODULO CONTACTENOS","SOLICITUD DE INFORMACIÓN Y DOCUMENTOS","ADMINISTRATIVA","SI","GRUPO DE TESORERÍA","2021-06-29","CORREO ELECTRÓNICO",null,{"$f":"IFERROR(WORKDAY(C2310,S2309,DiasNOLaborables),\"\")","v":"2021-07-19"},{"$f":"+IF(C2310=\"\",\"\",IF(J2310=\"\",\"SIN RESPUESTA\",(IF(J2310<=M2310,\"A TIEMPO\",\"FUERA DE TIEMPO\"))))","v":"A TIEMPO"},{"$f":"IF(J2310=\"\",\"\",NETWORKDAYS(C2310+1,J2310,DiasNOLaborables))","v":7},"",null,null,20]
[2300,20219050073852,"2021-06-20","ACADEMIA ","MODULO CONTACTENOS","SOLICITUD DE INFORMACIÓN Y DOCUMENTOS","SOLICITUD DE INFORMACIÓN HIDROMETEOROLÓGICA","NO","GRUPO DE SERVICIO AL CIUDADANO ","2021-06-23","CORREO ELECTRÓNICO",null,{"$f":"IFERROR(WORKDAY(C2311,S2310,DiasNOLaborables),\"\")","v":"2021-07-19"},{"$f":"+IF(C2311=\"\",\"\",IF(J2311=\"\",\"SIN RESPUESTA\",(IF(J2311<=M2311,\"A TIEMPO\",\"FUERA DE TIEMPO\"))))","v":"A TIEMPO"},{"$f":"IF(J2311=\"\",\"\",NETWORKDAYS(C2311+1,J2311,DiasNOLaborables))","v":3},"",null,null,20]
[2301,20219050073862,"2021-06-20","ACADEMIA ","MODULO CONTACTENOS","SOLICITUD DE INFORMACIÓN Y DOCUMENTOS","SOLICITUD DE INFORMACIÓN HIDROMETEOROLÓGICA","NO","GRUPO DE SERVICIO AL CIUDADANO ","2021-06-23","CORREO ELECTRÓNICO",null,{"$f":"IFERROR(WORKDAY(C2312,S2311,DiasNOLaborables),\"\")","v":"2021-07-19"},{"$f":"+IF(C2312=\"\",\"\",IF(J2312=\"\",\"SIN RESPUESTA\",(IF(J2312<=M2312,\"A TIEMPO\",\"FUERA DE TIEMPO\"))))","v":"A TIEMPO"},{"$f":"IF(J2312=\"\",\"\",NETWORKDAYS(C2312+1,J2312,DiasNOLaborables))","v":3},"",null,null,20]
[2302,20219050073872,"2021-06-20","ACADEMIA ","MODULO CONTACTENOS","SOLICITUD DE INFORMACIÓN Y DOCUMENTOS","SOLICITUD DE INFORMACIÓN HIDROMETEOROLÓGICA","NO","GRUPO DE SERVICIO AL CIUDADANO ","2021-06-23","CORREO ELECTRÓNICO",null,{"$f":"IFERROR(WORKDAY(C2313,S2312,DiasNOLaborables),\"\")","v":"2021-07-19"},{"$f":"+IF(C2313=\"\",\"\",IF(J2313=\"\",\"SIN RESPUESTA\",(IF(J2313<=M2313,\"A TIEMPO\",\"FUERA DE TIEMPO\"))))","v":"A TIEMPO"},{"$f":"IF(J2313=\"\",\"\",NETWORKDAYS(C2313+1,J2313,DiasNOLaborables))","v":3},"",null,null,20]
[2303,20219050073882,"2021-06-20","ACADEMIA ","MODULO CONTACTENOS","SOLICITUD DE INFORMACIÓN Y DOCUMENTOS","SOLICITUD DE INFORMACIÓN HIDROMETEOROLÓGICA","NO","GRUPO DE SERVICIO AL CIUDADANO ","2021-06-23","CORREO ELECTRÓNICO",null,{"$f":"IFERROR(WORKDAY(C2314,S2313,DiasNOLaborables),\"\")","v":"2021-07-19"},{"$f":"+IF(C2314=\"\",\"\",IF(J2314=\"\",\"SIN RESPUESTA\",(IF(J2314<=M2314,\"A TIEMPO\",\"FUERA DE TIEMPO\"))))","v":"A TIEMPO"},{"$f":"IF(J2314=\"\",\"\",NETWORKDAYS(C2314+1,J2314,DiasNOLaborables))","v":3},"",null,null,20]
[2304,20219050073892,"2021-06-20","ACADEMIA ","MODULO CONTACTENOS","SOLICITUD DE INFORMACIÓN Y DOCUMENTOS","SOLICITUD DE INFORMACIÓN HIDROMETEOROLÓGICA","NO","GRUPO DE SERVICIO AL CIUDADANO ","2021-06-23","CORREO ELECTRÓNICO",null,{"$f":"IFERROR(WORKDAY(C2315,S2314,DiasNOLaborables),\"\")","v":"2021-07-19"},{"$f":"+IF(C2315=\"\",\"\",IF(J2315=\"\",\"SIN RESPUESTA\",(IF(J2315<=M2315,\"A TIEMPO\",\"FUERA DE TIEMPO\"))))","v":"A TIEMPO"},{"$f":"IF(J2315=\"\",\"\",NETWORKDAYS(C2315+1,J2315,DiasNOLaborables))","v":3},"",null,null,20]
[2305,20219050073902,"2021-06-20","ACADEMIA ","MODULO CONTACTENOS","SOLICITUD DE INFORMACIÓN Y DOCUMENTOS","SOLICITUD DE INFORMACIÓN HIDROMETEOROLÓGICA","NO","GRUPO DE SERVICIO AL CIUDADANO ","2021-06-23","CORREO ELECTRÓNICO",null,{"$f":"IFERROR(WORKDAY(C2316,S2315,DiasNOLaborables),\"\")","v":"2021-07-19"},{"$f":"+IF(C2316=\"\",\"\",IF(J2316=\"\",\"SIN RESPUESTA\",(IF(J2316<=M2316,\"A TIEMPO\",\"FUERA DE TIEMPO\"))))","v":"A TIEMPO"},{"$f":"IF(J2316=\"\",\"\",NETWORKDAYS(C2316+1,J2316,DiasNOLaborables))","v":3},"",null,null,35]
[2306,20219050074052,"2021-06-21","CIUDADANO","MODULO CONTACTENOS","CERTIFICACIONES DE TIEMPO, CLIMA Y EVENTOS HIDROLÓGICOS","CERTIFICACIONES DE TIEMPO Y CLIMA","SI","SUBDIRECCIÓN DE METEOROLOGÍA","2021-07-08","CORREO ELECTRÓNICO",null,{"$f":"IFERROR(WORKDAY(C2317,S2316,DiasNOLaborables),\"\")","v":"2021-08-11"},{"$f":"+IF(C2317=\"\",\"\",IF(J2317=\"\",\"SIN RESPUESTA\",(IF(J2317<=M2317,\"A TIEMPO\",\"FUERA DE TIEMPO\"))))","v":"A TIEMPO"},{"$f":"IF(J2317=\"\",\"\",NETWORKDAYS(C2317+1,J2317,DiasNOLaborables))","v":12},"",null,null,{"$f":"IFERROR(VLOOKUP(F2318,$AA$51:$AB$64,2),\"\")","v":35}]
[{"$f":"IF(B2318<>\"\",A2317+1,\"\")","v":2307},20219050074062,"2021-06-21","CIUDADANO","MODULO CONTACTENOS","CERTIFICACIONES DE TIEMPO, CLIMA Y EVENTOS HIDROLÓGICOS","CERTIFICACIONES DE TIEMPO Y CLIMA","SI","SUBDIRECCIÓN DE METEOROLOGÍA","2021-07-08","CORREO ELECTRÓNICO",null,{"$f":"IFERROR(WORKDAY(C2318,S2317,DiasNOLaborables),\"\")","v":"2021-08-11"},{"$f":"+IF(C2318=\"\",\"\",IF(J2318=\"\",\"SIN RESPUESTA\",(IF(J2318<=M2318,\"A TIEMPO\",\"FUERA DE TIEMPO\"))))","v":"A TIEMPO"},{"$f":"IF(J2318=\"\",\"\",NETWORKDAYS(C2318+1,J2318,DiasNOLaborables))","v":12},"",null,null,20]
[2308,20219050074262,"2021-06-21","CIUDADANO","MODULO CONTACTENOS","SOLICITUD DE INFORMACIÓN Y DOCUMENTOS","CLIMATOLOGÍA","SI","SUBDIRECCIÓN DE METEOROLOGÍA","2021-06-22","CORREO ELECTRÓNICO",null,{"$f":"IFERROR(WORKDAY(C2319,S2318,DiasNOLaborables),\"\")","v":"2021-07-21"},{"$f":"+IF(C2319=\"\",\"\",IF(J2319=\"\",\"SIN RESPUESTA\",(IF(J2319<=M2319,\"A TIEMPO\",\"FUERA DE TIEMPO\"))))","v":"A TIEMPO"},{"$f":"IF(J2319=\"\",\"\",NETWORKDAYS(C2319+1,J2319,DiasNOLaborables))","v":1},"",null,null,20]
[2309,20219050074362,"2021-06-21","CIUDADANO","MODULO CONTACTENOS","SOLICITUD DE INFORMACIÓN Y DOCUMENTOS","CLIMATOLOGÍA","SI","SUBDIRECCIÓN DE METEOROLOGÍA","2021-07-02","CORREO ELECTRÓNICO",null,{"$f":"IFERROR(WORKDAY(C2320,S2319,DiasNOLaborables),\"\")","v":"2021-07-21"},{"$f":"+IF(C2320=\"\",\"\",IF(J2320=\"\",\"SIN RESPUESTA\",(IF(J2320<=M2320,\"A TIEMPO\",\"FUERA DE TIEMPO\"))))","v":"A TIEMPO"},{"$f":"IF(J2320=\"\",\"\",NETWORKDAYS(C2320+1,J2320,DiasNOLaborables))","v":9},"",null,null,20]
[2310,20219050074282,"2021-06-21","FUNCIONARIO IDEAM","MODULO CONTACTENOS","SOLICITUD DE INFORMACIÓN Y DOCUMENTOS","ADMINISTRATIVA","SI","GRUPO DE ADMINISTRACIÓN Y DESARROLLO DEL TALENTO HUMANO","2021-07-06","CORREO ELECTRÓNICO",null,{"$f":"IFERROR(WORKDAY(C2321,S2320,DiasNOLaborables),\"\")","v":"2021-07-21"},{"$f":"+IF(C2321=\"\",\"\",IF(J2321=\"\",\"SIN RESPUESTA\",(IF(J2321<=M2321,\"A TIEMPO\",\"FUERA DE TIEMPO\"))))","v":"A TIEMPO"},{"$f":"IF(J2321=\"\",\"\",NETWORKDAYS(C2321+1,J2321,DiasNOLaborables))","v":10},"",null,null,20]
[2311,20219050074502,"2021-06-21","CIUDADANO","MODULO CONTACTENOS","SOLICITUD DE INFORMACIÓN Y DOCUMENTOS","SIA","SI","SUBDIRECCIÓN DE ECOSISTEMAS E INFORMACIÓN AMBIENTAL","2021-07-09","CORREO ELECTRÓNICO",null,{"$f":"IFERROR(WORKDAY(C2322,S2321,DiasNOLaborables),\"\")","v":"2021-07-21"},{"$f":"+IF(C2322=\"\",\"\",IF(J2322=\"\",\"SIN RESPUESTA\",(IF(J2322<=M2322,\"A TIEMPO\",\"FUERA DE TIEMPO\"))))","v":"A TIEMPO"},{"$f":"IF(J2322=\"\",\"\",NETWORKDAYS(C2322+1,J2322,DiasNOLaborables))","v":13},"",null,null,35]
[2312,20219910033922,"2021-06-21","ENTIDAD PÚBLICA","CORREO ELECTRÓNICO","CERTIFICACIONES DE TIEMPO, CLIMA Y EVENTOS HIDROLÓGICOS","CERTIFICACIONES DE TIEMPO Y CLIMA","SI","SUBDIRECCIÓN DE METEOROLOGÍA","2021-07-09","CORREO ELECTRÓNICO",null,{"$f":"IFERROR(WORKDAY(C2323,S2322,DiasNOLaborables),\"\")","v":"2021-08-11"},{"$f":"+IF(C2323=\"\",\"\",IF(J2323=\"\",\"SIN RESPUESTA\",(IF(J2323<=M2323,\"A TIEMPO\",\"FUERA DE TIEMPO\"))))","v":"A TIEMPO"},{"$f":"IF(J2323=\"\",\"\",NETWORKDAYS(C2323+1,J2323,DiasNOLaborables))","v":13},"",null,null,20]
[2313,20219050074542,"2021-06-21","CIUDADANO","MODULO CONTACTENOS","SOLICITUD DE INFORMACIÓN Y DOCUMENTOS","CLIMATOLOGÍA","SI","SUBDIRECCIÓN DE METEOROLOGÍA","2021-07-16","CORREO ELECTRÓNICO",null,{"$f":"IFERROR(WORKDAY(C2324,S2323,DiasNOLaborables),\"\")","v":"2021-07-21"},{"$f":"+IF(C2324=\"\",\"\",IF(J2324=\"\",\"SIN RESPUESTA\",(IF(J2324<=M2324,\"A TIEMPO\",\"FUERA DE TIEMPO\"))))","v":"A TIEMPO"},{"$f":"IF(J2324=\"\",\"\",NETWORKDAYS(C2324+1,J2324,DiasNOLaborables))","v":18},{"$f":"IF(NETWORKDAYS(M2324+1,J2324,DiasNOLaborables)<=0,\"\",NETWORKDAYS(M2324+1,J2324,DiasNOLaborables))","v":""},null,null,20]
[2314,20219050074622,"2021-06-21","CIUDADANO","MODULO CONTACTENOS","SOLICITUD DE INFORMACIÓN Y DOCUMENTOS","CLIMATOLOGÍA","SI","SUBDIRECCIÓN DE METEOROLOGÍA","2021-07-16","CORREO ELECTRÓNICO",null,{"$f":"IFERROR(WORKDAY(C2325,S2324,DiasNOLaborables),\"\")","v":"2021-07-21"},{"$f":"+IF(C2325=\"\",\"\",IF(J2325=\"\",\"SIN RESPUESTA\",(IF(J2325<=M2325,\"A TIEMPO\",\"FUERA DE TIEMPO\"))))","v":"A TIEMPO"},{"$f":"IF(J2325=\"\",\"\",NETWORKDAYS(C2325+1,J2325,DiasNOLaborables))","v":18},"",null,null,35]
[2315,20219050074642,"2021-06-21","CIUDADANO","MODULO CONTACTENOS","CERTIFICACIONES DE TIEMPO, CLIMA Y EVENTOS HIDROLÓGICOS","CERTIFICACIONES DE TIEMPO Y CLIMA","SI","SUBDIRECCIÓN DE METEOROLOGÍA","2021-07-22","CORREO ELECTRÓNICO",null,{"$f":"IFERROR(WORKDAY(C2326,S2325,DiasNOLaborables),\"\")","v":"2021-08-11"},{"$f":"+IF(C2326=\"\",\"\",IF(J2326=\"\",\"SIN RESPUESTA\",(IF(J2326<=M2326,\"A TIEMPO\",\"FUERA DE TIEMPO\"))))","v":"A TIEMPO"},{"$f":"IF(J2326=\"\",\"\",NETWORKDAYS(C2326+1,J2326,DiasNOLaborables))","v":21},"",null,null,20]
[2316,20219050074072,"2021-06-21","CIUDADANO","CORREO ELECTRÓNICO","SOLICITUD DE INFORMACIÓN Y DOCUMENTOS","BOSQUES","SI","SUBDIRECCIÓN DE ECOSISTEMAS E INFORMACIÓN AMBIENTAL","2021-07-02","CORREO ELECTRÓNICO",null,{"$f":"IFERROR(WORKDAY(C2327,S2326,DiasNOLaborables),\"\")","v":"2021-07-21"},{"$f":"+IF(C2327=\"\",\"\",IF(J2327=\"\",\"SIN RESPUESTA\",(IF(J2327<=M2327,\"A TIEMPO\",\"FUERA DE TIEMPO\"))))","v":"A TIEMPO"},{"$f":"IF(J2327=\"\",\"\",NETWORKDAYS(C2327+1,J2327,DiasNOLaborables))","v":9},"",null,null,20]
[2317,20219050074092,"2021-06-21","CIUDADANO","CORREO ELECTRÓNICO","SOLICITUD DE INFORMACIÓN Y DOCUMENTOS","ADMINISTRATIVA","SI","GRUPO DE ADMINISTRACIÓN Y DESARROLLO DEL TALENTO HUMANO","2021-07-08","CORREO ELECTRÓNICO",null,{"$f":"IFERROR(WORKDAY(C2328,S2327,DiasNOLaborables),\"\")","v":"2021-07-21"},{"$f":"+IF(C2328=\"\",\"\",IF(J2328=\"\",\"SIN RESPUESTA\",(IF(J2328<=M2328,\"A TIEMPO\",\"FUERA DE TIEMPO\"))))","v":"A TIEMPO"},{"$f":"IF(J2328=\"\",\"\",NETWORKDAYS(C2328+1,J2328,DiasNOLaborables))","v":12},{"$f":"IF(NETWORKDAYS(M2328+1,J2328,DiasNOLaborables)<=0,\"\",NETWORKDAYS(M2328+1,J2328,DiasNOLaborables))","v":""},null,null,35]
[2318,20219050074252,"2021-06-21","CIUDADANO","CORREO ELECTRÓNICO","CERTIFICACIONES DE TIEMPO, CLIMA Y EVENTOS HIDROLÓGICOS","CERTIFICACIONES DE TIEMPO Y CLIMA","SI","SUBDIRECCIÓN DE METEOROLOGÍA","2021-06-29","CORREO ELECTRÓNICO",null,{"$f":"IFERROR(WORKDAY(C2329,S2328,DiasNOLaborables),\"\")","v":"2021-08-11"},{"$f":"+IF(C2329=\"\",\"\",IF(J2329=\"\",\"SIN RESPUESTA\",(IF(J2329<=M2329,\"A TIEMPO\",\"FUERA DE TIEMPO\"))))","v":"A TIEMPO"},{"$f":"IF(J2329=\"\",\"\",NETWORKDAYS(C2329+1,J2329,DiasNOLaborables))","v":6},{"$f":"IF(NETWORKDAYS(M2329+1,J2329,DiasNOLaborables)<=0,\"\",NETWORKDAYS(M2329+1,J2329,DiasNOLaborables))","v":""},null,null,20]
[2319,20219050074122,"2021-06-21","CIUDADANO","CORREO ELECTRÓNICO","SOLICITUD DE INFORMACIÓN Y DOCUMENTOS","ADMINISTRATIVA","SI","GRUPO DE ADMINISTRACIÓN Y DESARROLLO DEL TALENTO HUMANO","2021-06-23","CORREO ELECTRÓNICO",null,{"$f":"IFERROR(WORKDAY(C2330,S2329,DiasNOLaborables),\"\")","v":"2021-07-21"},{"$f":"+IF(C2330=\"\",\"\",IF(J2330=\"\",\"SIN RESPUESTA\",(IF(J2330<=M2330,\"A TIEMPO\",\"FUERA DE TIEMPO\"))))","v":"A TIEMPO"},{"$f":"IF(J2330=\"\",\"\",NETWORKDAYS(C2330+1,J2330,DiasNOLaborables))","v":2},{"$f":"IF(NETWORKDAYS(M2330+1,J2330,DiasNOLaborables)<=0,\"\",NETWORKDAYS(M2330+1,J2330,DiasNOLaborables))","v":""},null,null,30]
[2320,20219050074132,"2021-06-21","CIUDADANO","CORREO ELECTRÓNICO","PETICIÓN","BOSQUES","SI","SUBDIRECCIÓN DE ECOSISTEMAS E INFORMACIÓN AMBIENTAL","2021-06-21","CORREO ELECTRÓNICO",null,{"$f":"IFERROR(WORKDAY(C2331,S2330,DiasNOLaborables),\"\")","v":"2021-08-04"},{"$f":"+IF(C2331=\"\",\"\",IF(J2331=\"\",\"SIN RESPUESTA\",(IF(J2331<=M2331,\"A TIEMPO\",\"FUERA DE TIEMPO\"))))","v":"A TIEMPO"},{"$f":"IF(J2331=\"\",\"\",NETWORKDAYS(C2331+1,J2331,DiasNOLaborables))","v":-2},"",null,null,20]
[2321,20219050074222,"2021-06-21","CIUDADANO","CORREO ELECTRÓNICO","SOLICITUD DE INFORMACIÓN Y DOCUMENTOS","ACREDITACIÓN DE LABORATORIOS","SI","SUBDIRECCIÓN DE ESTUDIOS AMBIENTALES","2021-07-02","CORREO ELECTRÓNICO",null,{"$f":"IFERROR(WORKDAY(C2332,S2331,DiasNOLaborables),\"\")","v":"2021-07-21"},{"$f":"+IF(C2332=\"\",\"\",IF(J2332=\"\",\"SIN RESPUESTA\",(IF(J2332<=M2332,\"A TIEMPO\",\"FUERA DE TIEMPO\"))))","v":"A TIEMPO"},{"$f":"IF(J2332=\"\",\"\",NETWORKDAYS([5]Hoja1!C2330+1,[5]Hoja1!P2330,DiasNOLaborables))","v":2},"",null,null,20]
[2322,20219050074232,"2021-06-21","CIUDADANO","CORREO ELECTRÓNICO","SOLICITUD DE INFORMACIÓN Y DOCUMENTOS","INFORMES AMBIENTALES","SI","SUBDIRECCIÓN DE ESTUDIOS AMBIENTALES","2021-06-21","CORREO ELECTRÓNICO",null,{"$f":"IFERROR(WORKDAY(C2333,S2332,DiasNOLaborables),\"\")","v":"2021-07-21"},{"$f":"+IF(C2333=\"\",\"\",IF(J2333=\"\",\"SIN RESPUESTA\",(IF(J2333<=M2333,\"A TIEMPO\",\"FUERA DE TIEMPO\"))))","v":"A TIEMPO"},{"$f":"IF(J2333=\"\",\"\",NETWORKDAYS(C2333+1,J2333,DiasNOLaborables))","v":-2},"",null,null,35]
[2323,20219050074312,"2021-06-21","CIUDADANO","CORREO ELECTRÓNICO","CERTIFICACIONES DE TIEMPO, CLIMA Y EVENTOS HIDROLÓGICOS","CERTIFICACIONES DE TIEMPO Y CLIMA","SI","SUBDIRECCIÓN DE METEOROLOGÍA","2021-07-15","CORREO ELECTRÓNICO",null,{"$f":"IFERROR(WORKDAY(C2334,S2333,DiasNOLaborables),\"\")","v":"2021-08-11"},{"$f":"+IF(C2334=\"\",\"\",IF(J2334=\"\",\"SIN RESPUESTA\",(IF(J2334<=M2334,\"A TIEMPO\",\"FUERA DE TIEMPO\"))))","v":"A TIEMPO"},{"$f":"IF(J2334=\"\",\"\",NETWORKDAYS(C2334+1,J2334,DiasNOLaborables))","v":17},"",null,null,20]
[2324,20219050074332,"2021-06-21","CIUDADANO","CORREO ELECTRÓNICO","SOLICITUD DE INFORMACIÓN Y DOCUMENTOS","BOSQUES","SI","SUBDIRECCIÓN DE ECOSISTEMAS E INFORMACIÓN AMBIENTAL","2021-06-30","CORREO ELECTRÓNICO",null,{"$f":"IFERROR(WORKDAY(C2335,S2334,DiasNOLaborables),\"\")","v":"2021-07-21"},{"$f":"+IF(C2335=\"\",\"\",IF(J2335=\"\",\"SIN RESPUESTA\",(IF(J2335<=M2335,\"A TIEMPO\",\"FUERA DE TIEMPO\"))))","v":"A TIEMPO"},{"$f":"IF(J2335=\"\",\"\",NETWORKDAYS(C2335+1,J2335,DiasNOLaborables))","v":7},"",null,null,20]
[2325,20219050074372,"2021-06-21","CIUDADANO","CORREO ELECTRÓNICO","SOLICITUD DE INFORMACIÓN Y DOCUMENTOS","JURIDICO","SI","OFICINA ASESORA JURÍDICA","2021-07-21","CORREO ELECTRÓNICO",null,{"$f":"IFERROR(WORKDAY(C2336,S2335,DiasNOLaborables),\"\")","v":"2021-07-21"},{"$f":"+IF(C2336=\"\",\"\",IF(J2336=\"\",\"SIN RESPUESTA\",(IF(J2336<=M2336,\"A TIEMPO\",\"FUERA DE TIEMPO\"))))","v":"A TIEMPO"},{"$f":"IF(J2336=\"\",\"\",NETWORKDAYS(C2336+1,J2336,DiasNOLaborables))","v":20},"",null,null,20]
[2326,20219910033732,"2021-06-21","ENTIDAD PÚBLICA","CORREO CERTIFICADO","SOLICITUD DE INFORMACIÓN Y DOCUMENTOS","SOLICITUD DE INFORMACIÓN HIDROMETEOROLÓGICA","SI","SUBDIRECCIÓN DE METEOROLOGÍA","2021-06-21","CORREO ELECTRÓNICO",null,{"$f":"IFERROR(WORKDAY(C2337,S2336,DiasNOLaborables),\"\")","v":"2021-07-21"},{"$f":"+IF(C2337=\"\",\"\",IF(J2337=\"\",\"SIN RESPUESTA\",(IF(J2337<=M2337,\"A TIEMPO\",\"FUERA DE TIEMPO\"))))","v":"A TIEMPO"},{"$f":"IF(J2337=\"\",\"\",NETWORKDAYS(C2337+1,J2337,DiasNOLaborables))","v":-2},"",null,null,20]
[2327,20219050074382,"2021-06-21","CIUDADANO","CORREO ELECTRÓNICO","SOLICITUD DE INFORMACIÓN Y DOCUMENTOS","REGISTROS AMBIENTALES","SI","SUBDIRECCIÓN DE ESTUDIOS AMBIENTALES","2021-06-21","CORREO ELECTRÓNICO",null,{"$f":"IFERROR(WORKDAY(C2338,S2337,DiasNOLaborables),\"\")","v":"2021-07-21"},{"$f":"+IF(C2338=\"\",\"\",IF(J2338=\"\",\"SIN RESPUESTA\",(IF(J2338<=M2338,\"A TIEMPO\",\"FUERA DE TIEMPO\"))))","v":"A TIEMPO"},{"$f":"IF(J2338=\"\",\"\",NETWORKDAYS(C2338+1,J2338,DiasNOLaborables))","v":-2},"",null,null,35]
[2328,20219050074392,"2021-06-21","CIUDADANO","CORREO ELECTRÓNICO","CERTIFICACIONES DE TIEMPO, CLIMA Y EVENTOS HIDROLÓGICOS","CERTIFICACIONES DE TIEMPO Y CLIMA","SI","SUBDIRECCIÓN DE METEOROLOGÍA","2021-07-09","CORREO ELECTRÓNICO",null,{"$f":"IFERROR(WORKDAY(C2339,S2338,DiasNOLaborables),\"\")","v":"2021-08-11"},{"$f":"+IF(C2339=\"\",\"\",IF(J2339=\"\",\"SIN RESPUESTA\",(IF(J2339<=M2339,\"A TIEMPO\",\"FUERA DE TIEMPO\"))))","v":"A TIEMPO"},{"$f":"IF(J2339=\"\",\"\",NETWORKDAYS(C2339+1,J2339,DiasNOLaborables))","v":13},"",null,null,20]
[2329,20219050074532,"2021-06-21","CIUDADANO","CORREO ELECTRÓNICO","SOLICITUD DE INFORMACIÓN Y DOCUMENTOS","REGISTROS AMBIENTALES","SI","SUBDIRECCIÓN DE ESTUDIOS AMBIENTALES","2021-07-05","CORREO ELECTRÓNICO",null,{"$f":"IFERROR(WORKDAY(C2340,S2339,DiasNOLaborables),\"\")","v":"2021-07-21"},{"$f":"+IF(C2340=\"\",\"\",IF(J2340=\"\",\"SIN RESPUESTA\",(IF(J2340<=M2340,\"A TIEMPO\",\"FUERA DE TIEMPO\"))))","v":"A TIEMPO"},{"$f":"IF(J2340=\"\",\"\",NETWORKDAYS(C2340+1,J2340,DiasNOLaborables))","v":9},"",null,null,20]
[2330,20219050074142,"2021-06-21","CIUDADANO","CORREO ELECTRÓNICO","SOLICITUD DE INFORMACIÓN Y DOCUMENTOS","SOLICITUD DE INFORMACIÓN HIDROMETEOROLÓGICA","NO","GRUPO DE SERVICIO AL CIUDADANO ","2021-06-24","CORREO ELECTRÓNICO",null,{"$f":"IFERROR(WORKDAY(C2341,S2340,DiasNOLaborables),\"\")","v":"2021-07-21"},{"$f":"+IF(C2341=\"\",\"\",IF(J2341=\"\",\"SIN RESPUESTA\",(IF(J2341<=M2341,\"A TIEMPO\",\"FUERA DE TIEMPO\"))))","v":"A TIEMPO"},{"$f":"IF(J2341=\"\",\"\",NETWORKDAYS(C2341+1,J2341,DiasNOLaborables))","v":3},"",null,null,20]
[2331,20219050074212,"2021-06-21","EMPRESA PRIVADA","MODULO CONTACTENOS","SOLICITUD DE INFORMACIÓN Y DOCUMENTOS","SOLICITUD DE INFORMACIÓN HIDROMETEOROLÓGICA","NO","GRUPO DE SERVICIO AL CIUDADANO ","2021-06-24","CORREO ELECTRÓNICO",null,{"$f":"IFERROR(WORKDAY(C2342,S2341,DiasNOLaborables),\"\")","v":"2021-07-21"},{"$f":"+IF(C2342=\"\",\"\",IF(J2342=\"\",\"SIN RESPUESTA\",(IF(J2342<=M2342,\"A TIEMPO\",\"FUERA DE TIEMPO\"))))","v":"A TIEMPO"},{"$f":"IF(J2342=\"\",\"\",NETWORKDAYS(C2342+1,J2342,DiasNOLaborables))","v":3},"",null,null,20]
[2332,20219050074242,"2021-06-21","ACADEMIA ","MODULO CONTACTENOS","SOLICITUD DE INFORMACIÓN Y DOCUMENTOS","SOLICITUD DE INFORMACIÓN HIDROMETEOROLÓGICA","NO","GRUPO DE SERVICIO AL CIUDADANO ","2021-06-25","CORREO ELECTRÓNICO",null,{"$f":"IFERROR(WORKDAY(C2343,S2342,DiasNOLaborables),\"\")","v":"2021-07-21"},{"$f":"+IF(C2343=\"\",\"\",IF(J2343=\"\",\"SIN RESPUESTA\",(IF(J2343<=M2343,\"A TIEMPO\",\"FUERA DE TIEMPO\"))))","v":"A TIEMPO"},{"$f":"IF(J2343=\"\",\"\",NETWORKDAYS(C2343+1,J2343,DiasNOLaborables))","v":4},"",null,null,20]
[2333,20219050074292,"2021-06-21","ACADEMIA ","CORREO ELECTRÓNICO","SOLICITUD DE INFORMACIÓN Y DOCUMENTOS","SOLICITUD DE INFORMACIÓN HIDROMETEOROLÓGICA","NO","GRUPO DE SERVICIO AL CIUDADANO ","2021-06-25","CORREO ELECTRÓNICO",null,{"$f":"IFERROR(WORKDAY(C2344,S2343,DiasNOLaborables),\"\")","v":"2021-07-21"},{"$f":"+IF(C2344=\"\",\"\",IF(J2344=\"\",\"SIN RESPUESTA\",(IF(J2344<=M2344,\"A TIEMPO\",\"FUERA DE TIEMPO\"))))","v":"A TIEMPO"},{"$f":"IF(J2344=\"\",\"\",NETWORKDAYS(C2344+1,J2344,DiasNOLaborables))","v":4},"",null,null,20]
[2334,20219050074412,"2021-06-21","CIUDADANO","CORREO ELECTRÓNICO","SOLICITUD DE INFORMACIÓN Y DOCUMENTOS","SOLICITUD DE INFORMACIÓN HIDROMETEOROLÓGICA","NO","GRUPO DE SERVICIO AL CIUDADANO ","2021-06-30","CORREO ELECTRÓNICO",null,{"$f":"IFERROR(WORKDAY(C2345,S2344,DiasNOLaborables),\"\")","v":"2021-07-21"},{"$f":"+IF(C2345=\"\",\"\",IF(J2345=\"\",\"SIN RESPUESTA\",(IF(J2345<=M2345,\"A TIEMPO\",\"FUERA DE TIEMPO\"))))","v":"A TIEMPO"},{"$f":"IF(J2345=\"\",\"\",NETWORKDAYS(C2345+1,J2345,DiasNOLaborables))","v":7},"",null,null,20]
[2335,20219050074322,"2021-06-21","EMPRESA PRIVADA","MODULO CONTACTENOS","SOLICITUD DE INFORMACIÓN Y DOCUMENTOS","SOLICITUD DE INFORMACIÓN HIDROMETEOROLÓGICA","NO","GRUPO DE SERVICIO AL CIUDADANO ","2021-06-29","CORREO ELECTRÓNICO",null,{"$f":"IFERROR(WORKDAY(C2346,S2345,DiasNOLaborables),\"\")","v":"2021-07-21"},{"$f":"+IF(C2346=\"\",\"\",IF(J2346=\"\",\"SIN RESPUESTA\",(IF(J2346<=M2346,\"A TIEMPO\",\"FUERA DE TIEMPO\"))))","v":"A TIEMPO"},{"$f":"IF(J2346=\"\",\"\",NETWORKDAYS(C2346+1,J2346,DiasNOLaborables))","v":6},"",null,null,20]
[2336,20219050074342,"2021-06-21","EMPRESA PRIVADA","MODULO CONTACTENOS","SOLICITUD DE INFORMACIÓN Y DOCUMENTOS","SOLICITUD DE INFORMACIÓN HIDROMETEOROLÓGICA","NO","GRUPO DE SERVICIO AL CIUDADANO ","2021-06-29","CORREO ELECTRÓNICO",null,{"$f":"IFERROR(WORKDAY(C2347,S2346,DiasNOLaborables),\"\")","v":"2021-07-21"},{"$f":"+IF(C2347=\"\",\"\",IF(J2347=\"\",\"SIN RESPUESTA\",(IF(J2347<=M2347,\"A TIEMPO\",\"FUERA DE TIEMPO\"))))","v":"A TIEMPO"},{"$f":"IF(J2347=\"\",\"\",NETWORKDAYS(C2347+1,J2347,DiasNOLaborables))","v":6},"",null,null,20]
[2337,20219050074352,"2021-06-21","EMPRESA PRIVADA","MODULO CONTACTENOS","SOLICITUD DE INFORMACIÓN Y DOCUMENTOS","SOLICITUD DE INFORMACIÓN HIDROMETEOROLÓGICA","NO","GRUPO DE SERVICIO AL CIUDADANO ","2021-06-29","CORREO ELECTRÓNICO",null,{"$f":"IFERROR(WORKDAY(C2348,S2347,DiasNOLaborables),\"\")","v":"2021-07-21"},{"$f":"+IF(C2348=\"\",\"\",IF(J2348=\"\",\"SIN RESPUESTA\",(IF(J2348<=M2348,\"A TIEMPO\",\"FUERA DE TIEMPO\"))))","v":"A TIEMPO"},{"$f":"IF(J2348=\"\",\"\",NETWORKDAYS(C2348+1,J2348,DiasNOLaborables))","v":6},"",null,null,20]
[2338,20219050074402,"2021-06-21","CIUDADANO","MODULO CONTACTENOS","SOLICITUD DE INFORMACIÓN Y DOCUMENTOS","SOLICITUD DE INFORMACIÓN HIDROMETEOROLÓGICA","NO","GRUPO DE SERVICIO AL CIUDADANO ","2021-06-29","CORREO ELECTRÓNICO",null,{"$f":"IFERROR(WORKDAY(C2349,S2348,DiasNOLaborables),\"\")","v":"2021-07-21"},{"$f":"+IF(C2349=\"\",\"\",IF(J2349=\"\",\"SIN RESPUESTA\",(IF(J2349<=M2349,\"A TIEMPO\",\"FUERA DE TIEMPO\"))))","v":"A TIEMPO"},{"$f":"IF(J2349=\"\",\"\",NETWORKDAYS(C2349+1,J2349,DiasNOLaborables))","v":6},"",null,null,30]
[2339,20219050074452,"2021-06-21","CIUDADANO","MODULO CONTACTENOS","PETICIÓN","SOLICITUD DE INFORMACIÓN HIDROMETEOROLÓGICA","NO","GRUPO DE SERVICIO AL CIUDADANO ","2021-06-30","CORREO ELECTRÓNICO",null,{"$f":"IFERROR(WORKDAY(C2350,S2349,DiasNOLaborables),\"\")","v":"2021-08-04"},{"$f":"+IF(C2350=\"\",\"\",IF(J2350=\"\",\"SIN RESPUESTA\",(IF(J2350<=M2350,\"A TIEMPO\",\"FUERA DE TIEMPO\"))))","v":"A TIEMPO"},{"$f":"IF(J2350=\"\",\"\",NETWORKDAYS(C2350+1,J2350,DiasNOLaborables))","v":7},"",null,null,20]
[2340,20219050074562,"2021-06-21","EMPRESA PRIVADA","CORREO ELECTRÓNICO","SOLICITUD DE INFORMACIÓN Y DOCUMENTOS","SOLICITUD DE INFORMACIÓN HIDROMETEOROLÓGICA","NO","GRUPO DE SERVICIO AL CIUDADANO ","2021-06-30","CORREO ELECTRÓNICO",null,{"$f":"IFERROR(WORKDAY(C2351,S2350,DiasNOLaborables),\"\")","v":"2021-07-21"},{"$f":"+IF(C2351=\"\",\"\",IF(J2351=\"\",\"SIN RESPUESTA\",(IF(J2351<=M2351,\"A TIEMPO\",\"FUERA DE TIEMPO\"))))","v":"A TIEMPO"},{"$f":"IF(J2351=\"\",\"\",NETWORKDAYS(C2351+1,J2351,DiasNOLaborables))","v":7},"",null,null,20]
[2341,20219050074872,"2021-06-22","ACADEMIA ","CORREO ELECTRÓNICO","SOLICITUD DE INFORMACIÓN Y DOCUMENTOS","SOLICITUD DE INFORMACIÓN HIDROMETEOROLÓGICA","NO","GRUPO DE SERVICIO AL CIUDADANO ","2021-06-30","CORREO ELECTRÓNICO",null,{"$f":"IFERROR(WORKDAY(C2352,S2351,DiasNOLaborables),\"\")","v":"2021-07-22"},{"$f":"+IF(C2352=\"\",\"\",IF(J2352=\"\",\"SIN RESPUESTA\",(IF(J2352<=M2352,\"A TIEMPO\",\"FUERA DE TIEMPO\"))))","v":"A TIEMPO"},{"$f":"IF(J2352=\"\",\"\",NETWORKDAYS(C2352+1,J2352,DiasNOLaborables))","v":6},"",null,null,20]
[2342,20219050074902,"2021-06-22","EMPRESA PRIVADA","CORREO ELECTRÓNICO","SOLICITUD DE INFORMACIÓN Y DOCUMENTOS","SOLICITUD DE INFORMACIÓN HIDROMETEOROLÓGICA","NO","GRUPO DE SERVICIO AL CIUDADANO ","2021-07-01","CORREO ELECTRÓNICO",null,{"$f":"IFERROR(WORKDAY(C2353,S2352,DiasNOLaborables),\"\")","v":"2021-07-22"},{"$f":"+IF(C2353=\"\",\"\",IF(J2353=\"\",\"SIN RESPUESTA\",(IF(J2353<=M2353,\"A TIEMPO\",\"FUERA DE TIEMPO\"))))","v":"A TIEMPO"},{"$f":"IF(J2353=\"\",\"\",NETWORKDAYS(C2353+1,J2353,DiasNOLaborables))","v":7},"",null,null,20]
[2343,20219050074962,"2021-06-22","CIUDADANO","MODULO CONTACTENOS","SOLICITUD DE INFORMACIÓN Y DOCUMENTOS","SOLICITUD DE INFORMACIÓN HIDROMETEOROLÓGICA","NO","GRUPO DE SERVICIO AL CIUDADANO ","2021-06-30","CORREO ELECTRÓNICO",null,{"$f":"IFERROR(WORKDAY(C2354,S2353,DiasNOLaborables),\"\")","v":"2021-07-22"},{"$f":"+IF(C2354=\"\",\"\",IF(J2354=\"\",\"SIN RESPUESTA\",(IF(J2354<=M2354,\"A TIEMPO\",\"FUERA DE TIEMPO\"))))","v":"A TIEMPO"},{"$f":"IF(J2354=\"\",\"\",NETWORKDAYS(C2354+1,J2354,DiasNOLaborables))","v":6},"",null,null,30]
[2344,20219050074832,"2021-06-22","CIUDADANO","CORREO ELECTRÓNICO","PETICIÓN","CERTIFICACIONES DE TIEMPO Y CLIMA","SI","SUBDIRECCIÓN DE METEOROLOGÍA","2021-07-07","CORREO ELECTRÓNICO",null,{"$f":"IFERROR(WORKDAY(C2355,S2354,DiasNOLaborables),\"\")","v":"2021-08-05"},{"$f":"+IF(C2355=\"\",\"\",IF(J2355=\"\",\"SIN RESPUESTA\",(IF(J2355<=M2355,\"A TIEMPO\",\"FUERA DE TIEMPO\"))))","v":"A TIEMPO"},{"$f":"IF(J2355=\"\",\"\",NETWORKDAYS(C2355+1,J2355,DiasNOLaborables))","v":10},"",null,null,30]
[2345,20219050074852,"2021-06-22","CIUDADANO","CORREO ELECTRÓNICO","PETICIÓN","BOSQUES","SI","SUBDIRECCIÓN DE ECOSISTEMAS E INFORMACIÓN AMBIENTAL","2021-06-24","CORREO ELECTRÓNICO",null,{"$f":"IFERROR(WORKDAY(C2356,S2355,DiasNOLaborables),\"\")","v":"2021-08-05"},{"$f":"+IF(C2356=\"\",\"\",IF(J2356=\"\",\"SIN RESPUESTA\",(IF(J2356<=M2356,\"A TIEMPO\",\"FUERA DE TIEMPO\"))))","v":"A TIEMPO"},{"$f":"IF(J2356=\"\",\"\",NETWORKDAYS(C2356+1,J2356,DiasNOLaborables))","v":2},"",null,null,35]
[2346,20219050074862,"2021-06-22","CIUDADANO","CORREO ELECTRÓNICO","CERTIFICACIONES DE TIEMPO, CLIMA Y EVENTOS HIDROLÓGICOS","CERTIFICACIONES DE TIEMPO Y CLIMA","SI","SUBDIRECCIÓN DE METEOROLOGÍA","2021-07-08","CORREO ELECTRÓNICO",null,{"$f":"IFERROR(WORKDAY(C2357,S2356,DiasNOLaborables),\"\")","v":"2021-08-12"},{"$f":"+IF(C2357=\"\",\"\",IF(J2357=\"\",\"SIN RESPUESTA\",(IF(J2357<=M2357,\"A TIEMPO\",\"FUERA DE TIEMPO\"))))","v":"A TIEMPO"},{"$f":"IF(J2357=\"\",\"\",NETWORKDAYS(C2357+1,J2357,DiasNOLaborables))","v":11},"",null,null,20]
[2347,20219050074882,"2021-06-22","CIUDADANO","CORREO ELECTRÓNICO","SOLICITUD DE INFORMACIÓN Y DOCUMENTOS","REGISTROS AMBIENTALES","SI","SUBDIRECCIÓN DE ESTUDIOS AMBIENTALES","2021-07-05","CORREO ELECTRÓNICO",null,{"$f":"IFERROR(WORKDAY(C2358,S2357,DiasNOLaborables),\"\")","v":"2021-07-22"},{"$f":"+IF(C2358=\"\",\"\",IF(J2358=\"\",\"SIN RESPUESTA\",(IF(J2358<=M2358,\"A TIEMPO\",\"FUERA DE TIEMPO\"))))","v":"A TIEMPO"},{"$f":"IF(J2358=\"\",\"\",NETWORKDAYS(C2358+1,J2358,DiasNOLaborables))","v":8},"",null,null,35]
[2348,20219050074892,"2021-06-22","CIUDADANO","CORREO ELECTRÓNICO","CERTIFICACIONES DE TIEMPO, CLIMA Y EVENTOS HIDROLÓGICOS","CERTIFICACIONES DE TIEMPO Y CLIMA","SI","SUBDIRECCIÓN DE METEOROLOGÍA","2021-07-09","CORREO ELECTRÓNICO",null,{"$f":"IFERROR(WORKDAY(C2359,S2358,DiasNOLaborables),\"\")","v":"2021-08-12"},{"$f":"+IF(C2359=\"\",\"\",IF(J2359=\"\",\"SIN RESPUESTA\",(IF(J2359<=M2359,\"A TIEMPO\",\"FUERA DE TIEMPO\"))))","v":"A TIEMPO"},{"$f":"IF(J2359=\"\",\"\",NETWORKDAYS(C2359+1,J2359,DiasNOLaborables))","v":12},"",null,null,35]
[2349,20219050074912,"2021-06-22","CIUDADANO","CORREO ELECTRÓNICO","CERTIFICACIONES DE TIEMPO, CLIMA Y EVENTOS HIDROLÓGICOS","CERTIFICACIONES DE TIEMPO Y CLIMA","SI","SUBDIRECCIÓN DE METEOROLOGÍA","2021-07-09","CORREO ELECTRÓNICO",null,{"$f":"IFERROR(WORKDAY(C2360,S2359,DiasNOLaborables),\"\")","v":"2021-08-12"},{"$f":"+IF(C2360=\"\",\"\",IF(J2360=\"\",\"SIN RESPUESTA\",(IF(J2360<=M2360,\"A TIEMPO\",\"FUERA DE TIEMPO\"))))","v":"A TIEMPO"},{"$f":"IF(J2360=\"\",\"\",NETWORKDAYS(C2360+1,J2360,DiasNOLaborables))","v":12},"",null,null,30]
[2350,20219050074922,"2021-06-22","CIUDADANO","CORREO ELECTRÓNICO","PETICIÓN","INFORMES AMBIENTALES","SI","SUBDIRECCIÓN DE HIDROLOGÍA","2021-07-09","CORREO ELECTRÓNICO",null,{"$f":"IFERROR(WORKDAY(C2361,S2360,DiasNOLaborables),\"\")","v":"2021-08-05"},{"$f":"+IF(C2361=\"\",\"\",IF(J2361=\"\",\"SIN RESPUESTA\",(IF(J2361<=M2361,\"A TIEMPO\",\"FUERA DE TIEMPO\"))))","v":"A TIEMPO"},{"$f":"IF(J2361=\"\",\"\",NETWORKDAYS(C2361+1,J2361,DiasNOLaborables))","v":12},"",null,null,35]
[2351,20219050074932,"2021-06-22","CIUDADANO","CORREO ELECTRÓNICO","CERTIFICACIONES DE TIEMPO, CLIMA Y EVENTOS HIDROLÓGICOS","CERTIFICACIONES DE TIEMPO Y CLIMA","SI","SUBDIRECCIÓN DE METEOROLOGÍA","2021-07-09","CORREO ELECTRÓNICO",null,{"$f":"IFERROR(WORKDAY(C2362,S2361,DiasNOLaborables),\"\")","v":"2021-08-12"},{"$f":"+IF(C2362=\"\",\"\",IF(J2362=\"\",\"SIN RESPUESTA\",(IF(J2362<=M2362,\"A TIEMPO\",\"FUERA DE TIEMPO\"))))","v":"A TIEMPO"},{"$f":"IF(J2362=\"\",\"\",NETWORKDAYS(C2362+1,J2362,DiasNOLaborables))","v":12},"",null,null,35]
[2352,20219050074942,"2021-06-22","CIUDADANO","CORREO ELECTRÓNICO","CERTIFICACIONES DE TIEMPO, CLIMA Y EVENTOS HIDROLÓGICOS","CERTIFICACIONES DE TIEMPO Y CLIMA","SI","SUBDIRECCIÓN DE METEOROLOGÍA","2021-07-09","CORREO ELECTRÓNICO",null,{"$f":"IFERROR(WORKDAY(C2363,S2362,DiasNOLaborables),\"\")","v":"2021-08-12"},{"$f":"+IF(C2363=\"\",\"\",IF(J2363=\"\",\"SIN RESPUESTA\",(IF(J2363<=M2363,\"A TIEMPO\",\"FUERA DE TIEMPO\"))))","v":"A TIEMPO"},{"$f":"IF(J2363=\"\",\"\",NETWORKDAYS(C2363+1,J2363,DiasNOLaborables))","v":12},"",null,null,20]
[2353,20219050074952,"2021-06-22","CIUDADANO","CORREO ELECTRÓNICO","SOLICITUD DE INFORMACIÓN Y DOCUMENTOS","REGISTROS AMBIENTALES","SI","SUBDIRECCIÓN DE ESTUDIOS AMBIENTALES","2021-06-22","CORREO ELECTRÓNICO",null,{"$f":"IFERROR(WORKDAY(C2364,S2363,DiasNOLaborables),\"\")","v":"2021-07-22"},{"$f":"+IF(C2364=\"\",\"\",IF(J2364=\"\",\"SIN RESPUESTA\",(IF(J2364<=M2364,\"A TIEMPO\",\"FUERA DE TIEMPO\"))))","v":"A TIEMPO"},{"$f":"IF(J2364=\"\",\"\",NETWORKDAYS(C2364+1,J2364,DiasNOLaborables))","v":-2},"",null,null,20]
[2354,20219050074982,"2021-06-22","CIUDADANO","CORREO ELECTRÓNICO","SOLICITUD DE INFORMACIÓN Y DOCUMENTOS","INFORMES AMBIENTALES","SI","SUBDIRECCIÓN DE METEOROLOGÍA","2021-07-09","CORREO ELECTRÓNICO",null,{"$f":"IFERROR(WORKDAY(C2365,S2364,DiasNOLaborables),\"\")","v":"2021-07-22"},{"$f":"+IF(C2365=\"\",\"\",IF(J2365=\"\",\"SIN RESPUESTA\",(IF(J2365<=M2365,\"A TIEMPO\",\"FUERA DE TIEMPO\"))))","v":"A TIEMPO"},{"$f":"IF(J2365=\"\",\"\",NETWORKDAYS(C2365+1,J2365,DiasNOLaborables))","v":12},"",null,null,35]
[2355,20219050075032,"2021-06-22","CIUDADANO","CORREO ELECTRÓNICO","CERTIFICACIONES DE TIEMPO, CLIMA Y EVENTOS HIDROLÓGICOS","CERTIFICACIONES DE TIEMPO Y CLIMA","SI","SUBDIRECCIÓN DE METEOROLOGÍA","2021-07-15","CORREO ELECTRÓNICO",null,{"$f":"IFERROR(WORKDAY(C2366,S2365,DiasNOLaborables),\"\")","v":"2021-08-12"},{"$f":"+IF(C2366=\"\",\"\",IF(J2366=\"\",\"SIN RESPUESTA\",(IF(J2366<=M2366,\"A TIEMPO\",\"FUERA DE TIEMPO\"))))","v":"A TIEMPO"},{"$f":"IF(J2366=\"\",\"\",NETWORKDAYS(C2366+1,J2366,DiasNOLaborables))","v":16},"",null,null,35]
[2356,20219050075042,"2021-06-22","CIUDADANO","CORREO ELECTRÓNICO","CERTIFICACIONES DE TIEMPO, CLIMA Y EVENTOS HIDROLÓGICOS","CERTIFICACIONES DE TIEMPO Y CLIMA","SI","SUBDIRECCIÓN DE METEOROLOGÍA","2021-07-21","CORREO ELECTRÓNICO",null,{"$f":"IFERROR(WORKDAY(C2367,S2366,DiasNOLaborables),\"\")","v":"2021-08-12"},{"$f":"+IF(C2367=\"\",\"\",IF(J2367=\"\",\"SIN RESPUESTA\",(IF(J2367<=M2367,\"A TIEMPO\",\"FUERA DE TIEMPO\"))))","v":"A TIEMPO"},{"$f":"IF(J2367=\"\",\"\",NETWORKDAYS(C2367+1,J2367,DiasNOLaborables))","v":19},"",null,null,20]
[2357,20219050075052,"2021-06-22","CIUDADANO","CORREO ELECTRÓNICO","SOLICITUD DE INFORMACIÓN Y DOCUMENTOS","REGISTROS AMBIENTALES","SI","SUBDIRECCIÓN DE ESTUDIOS AMBIENTALES","2021-07-07","CORREO ELECTRÓNICO",null,{"$f":"IFERROR(WORKDAY(C2368,S2367,DiasNOLaborables),\"\")","v":"2021-07-22"},{"$f":"+IF(C2368=\"\",\"\",IF(J2368=\"\",\"SIN RESPUESTA\",(IF(J2368<=M2368,\"A TIEMPO\",\"FUERA DE TIEMPO\"))))","v":"A TIEMPO"},{"$f":"IF(J2368=\"\",\"\",NETWORKDAYS(C2368+1,J2368,DiasNOLaborables))","v":10},{"$f":"IF(NETWORKDAYS(M2368+1,J2368,DiasNOLaborables)<=0,\"\",NETWORKDAYS(M2368+1,J2368,DiasNOLaborables))","v":""},null,null,20]
[2358,20219050075222,"2021-06-22","CIUDADANO","CORREO ELECTRÓNICO","SOLICITUD DE INFORMACIÓN Y DOCUMENTOS","REGISTROS AMBIENTALES","SI","SUBDIRECCIÓN DE ESTUDIOS AMBIENTALES","2021-06-30","CORREO ELECTRÓNICO",null,{"$f":"IFERROR(WORKDAY(C2369,S2368,DiasNOLaborables),\"\")","v":"2021-07-22"},{"$f":"+IF(C2369=\"\",\"\",IF(J2369=\"\",\"SIN RESPUESTA\",(IF(J2369<=M2369,\"A TIEMPO\",\"FUERA DE TIEMPO\"))))","v":"A TIEMPO"},{"$f":"IF(J2369=\"\",\"\",NETWORKDAYS(C2369+1,J2369,DiasNOLaborables))","v":6},"",null,null,35]
[2359,20219050074712,"2021-06-22","CIUDADANO","MODULO CONTACTENOS","CONSULTA","CLIMATOLOGÍA","SI","SUBDIRECCIÓN DE METEOROLOGÍA","2021-07-09","CORREO ELECTRÓNICO",null,{"$f":"IFERROR(WORKDAY(C2370,S2369,DiasNOLaborables),\"\")","v":"2021-08-12"},{"$f":"+IF(C2370=\"\",\"\",IF(J2370=\"\",\"SIN RESPUESTA\",(IF(J2370<=M2370,\"A TIEMPO\",\"FUERA DE TIEMPO\"))))","v":"A TIEMPO"},{"$f":"IF(J2370=\"\",\"\",NETWORKDAYS(C2370+1,J2370,DiasNOLaborables))","v":12},"",null,null,20]
[2360,20219050074822,"2021-06-22","CIUDADANO","CORREO ELECTRÓNICO","SOLICITUD DE INFORMACIÓN Y DOCUMENTOS","ADMINISTRATIVA","SI","OFICINA ASESORA JURÍDICA","2021-07-01","CORREO ELECTRÓNICO",null,{"$f":"IFERROR(WORKDAY(C2371,S2370,DiasNOLaborables),\"\")","v":"2021-07-22"},{"$f":"+IF(C2371=\"\",\"\",IF(J2371=\"\",\"SIN RESPUESTA\",(IF(J2371<=M2371,\"A TIEMPO\",\"FUERA DE TIEMPO\"))))","v":"A TIEMPO"},{"$f":"IF(J2371=\"\",\"\",NETWORKDAYS(C2371+1,J2371,DiasNOLaborables))","v":7},"",null,null,35]
[2361,20219050075022,"2021-06-22","CIUDADANO","MODULO CONTACTENOS","CERTIFICACIONES DE TIEMPO, CLIMA Y EVENTOS HIDROLÓGICOS","CERTIFICACIONES DE TIEMPO Y CLIMA","SI","SUBDIRECCIÓN DE METEOROLOGÍA","2021-07-16","CORREO ELECTRÓNICO",null,{"$f":"IFERROR(WORKDAY(C2372,S2371,DiasNOLaborables),\"\")","v":"2021-08-12"},{"$f":"+IF(C2372=\"\",\"\",IF(J2372=\"\",\"SIN RESPUESTA\",(IF(J2372<=M2372,\"A TIEMPO\",\"FUERA DE TIEMPO\"))))","v":"A TIEMPO"},{"$f":"IF(J2372=\"\",\"\",NETWORKDAYS(C2372+1,J2372,DiasNOLaborables))","v":17},"",null,null,20]
[2362,20219050075202,"2021-06-22","CIUDADANO","MODULO CONTACTENOS","SOLICITUD DE INFORMACIÓN Y DOCUMENTOS","INFORMES AMBIENTALES","SI","SUBDIRECCIÓN DE ESTUDIOS AMBIENTALES","2021-07-07","CORREO ELECTRÓNICO",null,{"$f":"IFERROR(WORKDAY(C2373,S2372,DiasNOLaborables),\"\")","v":"2021-07-22"},{"$f":"+IF(C2373=\"\",\"\",IF(J2373=\"\",\"SIN RESPUESTA\",(IF(J2373<=M2373,\"A TIEMPO\",\"FUERA DE TIEMPO\"))))","v":"A TIEMPO"},{"$f":"IF(J2373=\"\",\"\",NETWORKDAYS(C2373+1,J2373,DiasNOLaborables))","v":10},"",null,null,20]
[2363,20219050075312,"2021-06-22","CIUDADANO","MODULO CONTACTENOS","SOLICITUD DE INFORMACIÓN Y DOCUMENTOS","BOSQUES","SI","SUBDIRECCIÓN DE ECOSISTEMAS E INFORMACIÓN AMBIENTAL","2021-06-23","CORREO ELECTRÓNICO",null,{"$f":"IFERROR(WORKDAY(C2374,S2373,DiasNOLaborables),\"\")","v":"2021-07-22"},{"$f":"+IF(C2374=\"\",\"\",IF(J2374=\"\",\"SIN RESPUESTA\",(IF(J2374<=M2374,\"A TIEMPO\",\"FUERA DE TIEMPO\"))))","v":"A TIEMPO"},{"$f":"IF(J2374=\"\",\"\",NETWORKDAYS(C2374+1,J2374,DiasNOLaborables))","v":1},"",null,null,20]
[2364,20219050074482,"2021-06-21","CIUDADANO","MODULO CONTACTENOS","SOLICITUD DE INFORMACIÓN Y DOCUMENTOS","SOLICITUD DE INFORMACIÓN HIDROMETEOROLÓGICA","NO","GRUPO DE SERVICIO AL CIUDADANO ","2021-07-16","CORREO ELECTRÓNICO",null,{"$f":"IFERROR(WORKDAY(C2375,S2374,DiasNOLaborables),\"\")","v":"2021-07-21"},{"$f":"+IF(C2375=\"\",\"\",IF(J2375=\"\",\"SIN RESPUESTA\",(IF(J2375<=M2375,\"A TIEMPO\",\"FUERA DE TIEMPO\"))))","v":"A TIEMPO"},{"$f":"IF(J2375=\"\",\"\",NETWORKDAYS(C2375+1,J2375,DiasNOLaborables))","v":18},"",null,null,20]
[2365,20219050074492,"2021-06-21","CIUDADANO","MODULO CONTACTENOS","SOLICITUD DE INFORMACIÓN Y DOCUMENTOS","SOLICITUD DE INFORMACIÓN HIDROMETEOROLÓGICA","NO","GRUPO DE SERVICIO AL CIUDADANO ","2021-07-16","CORREO ELECTRÓNICO",null,{"$f":"IFERROR(WORKDAY(C2376,S2375,DiasNOLaborables),\"\")","v":"2021-07-21"},{"$f":"+IF(C2376=\"\",\"\",IF(J2376=\"\",\"SIN RESPUESTA\",(IF(J2376<=M2376,\"A TIEMPO\",\"FUERA DE TIEMPO\"))))","v":"A TIEMPO"},{"$f":"IF(J2376=\"\",\"\",NETWORKDAYS(C2376+1,J2376,DiasNOLaborables))","v":18},"",null,null,20]
[2366,20219050074522,"2021-06-21","CIUDADANO","MODULO CONTACTENOS","SOLICITUD DE INFORMACIÓN Y DOCUMENTOS","SOLICITUD DE INFORMACIÓN HIDROMETEOROLÓGICA","NO","GRUPO DE SERVICIO AL CIUDADANO ","2021-07-19","CORREO ELECTRÓNICO",null,{"$f":"IFERROR(WORKDAY(C2377,S2376,DiasNOLaborables),\"\")","v":"2021-07-21"},{"$f":"+IF(C2377=\"\",\"\",IF(J2377=\"\",\"SIN RESPUESTA\",(IF(J2377<=M2377,\"A TIEMPO\",\"FUERA DE TIEMPO\"))))","v":"A TIEMPO"},{"$f":"IF(J2377=\"\",\"\",NETWORKDAYS(C2377+1,J2377,DiasNOLaborables))","v":19},"",null,null,20]
[2367,20219050074552,"2021-06-21","CIUDADANO","MODULO CONTACTENOS","SOLICITUD DE INFORMACIÓN Y DOCUMENTOS","SOLICITUD DE INFORMACIÓN HIDROMETEOROLÓGICA","NO","GRUPO DE SERVICIO AL CIUDADANO ","2021-07-19","CORREO ELECTRÓNICO",null,{"$f":"IFERROR(WORKDAY(C2378,S2377,DiasNOLaborables),\"\")","v":"2021-07-21"},{"$f":"+IF(C2378=\"\",\"\",IF(J2378=\"\",\"SIN RESPUESTA\",(IF(J2378<=M2378,\"A TIEMPO\",\"FUERA DE TIEMPO\"))))","v":"A TIEMPO"},{"$f":"IF(J2378=\"\",\"\",NETWORKDAYS(C2378+1,J2378,DiasNOLaborables))","v":19},"",null,null,20]
[2368,20219050074572,"2021-06-21","CIUDADANO","MODULO CONTACTENOS","SOLICITUD DE INFORMACIÓN Y DOCUMENTOS","SOLICITUD DE INFORMACIÓN HIDROMETEOROLÓGICA","NO","GRUPO DE SERVICIO AL CIUDADANO ","2021-07-19","CORREO ELECTRÓNICO",null,{"$f":"IFERROR(WORKDAY(C2379,S2378,DiasNOLaborables),\"\")","v":"2021-07-21"},{"$f":"+IF(C2379=\"\",\"\",IF(J2379=\"\",\"SIN RESPUESTA\",(IF(J2379<=M2379,\"A TIEMPO\",\"FUERA DE TIEMPO\"))))","v":"A TIEMPO"},{"$f":"IF(J2379=\"\",\"\",NETWORKDAYS(C2379+1,J2379,DiasNOLaborables))","v":19},"",null,null,20]
[2369,20219050074592,"2021-06-21","CIUDADANO","MODULO CONTACTENOS","SOLICITUD DE INFORMACIÓN Y DOCUMENTOS","SOLICITUD DE INFORMACIÓN HIDROMETEOROLÓGICA","NO","GRUPO DE SERVICIO AL CIUDADANO ","2021-07-19","CORREO ELECTRÓNICO",null,{"$f":"IFERROR(WORKDAY(C2380,S2379,DiasNOLaborables),\"\")","v":"2021-07-21"},{"$f":"+IF(C2380=\"\",\"\",IF(J2380=\"\",\"SIN RESPUESTA\",(IF(J2380<=M2380,\"A TIEMPO\",\"FUERA DE TIEMPO\"))))","v":"A TIEMPO"},{"$f":"IF(J2380=\"\",\"\",NETWORKDAYS(C2380+1,J2380,DiasNOLaborables))","v":19},"",null,null,20]
[2370,20219050074602,"2021-06-21","CIUDADANO","MODULO CONTACTENOS","SOLICITUD DE INFORMACIÓN Y DOCUMENTOS","SOLICITUD DE INFORMACIÓN HIDROMETEOROLÓGICA","NO","GRUPO DE SERVICIO AL CIUDADANO ","2021-07-19","CORREO ELECTRÓNICO",null,{"$f":"IFERROR(WORKDAY(C2381,S2380,DiasNOLaborables),\"\")","v":"2021-07-21"},{"$f":"+IF(C2381=\"\",\"\",IF(J2381=\"\",\"SIN RESPUESTA\",(IF(J2381<=M2381,\"A TIEMPO\",\"FUERA DE TIEMPO\"))))","v":"A TIEMPO"},{"$f":"IF(J2381=\"\",\"\",NETWORKDAYS(C2381+1,J2381,DiasNOLaborables))","v":19},"",null,null,{"$f":"IFERROR(VLOOKUP(F2382,$AA$51:$AB$64,2),\"\")","v":20}]
[{"$f":"IF(B2382<>\"\",A2381+1,\"\")","v":2371},20219050074612,"2021-06-21","CIUDADANO","MODULO CONTACTENOS","SOLICITUD DE INFORMACIÓN Y DOCUMENTOS","SOLICITUD DE INFORMACIÓN HIDROMETEOROLÓGICA","NO","GRUPO DE SERVICIO AL CIUDADANO ","2021-07-19","CORREO ELECTRÓNICO",null,{"$f":"IFERROR(WORKDAY(C2382,S2381,DiasNOLaborables),\"\")","v":"2021-07-21"},{"$f":"+IF(C2382=\"\",\"\",IF(J2382=\"\",\"SIN RESPUESTA\",(IF(J2382<=M2382,\"A TIEMPO\",\"FUERA DE TIEMPO\"))))","v":"A TIEMPO"},{"$f":"IF(J2382=\"\",\"\",NETWORKDAYS(C2382+1,J2382,DiasNOLaborables))","v":19},"",null,null,20]
[2372,20219050074652,"2021-06-21","ACADEMIA","MODULO CONTACTENOS","SOLICITUD DE INFORMACIÓN Y DOCUMENTOS","SOLICITUD DE INFORMACIÓN HIDROMETEOROLÓGICA","NO","GRUPO DE SERVICIO AL CIUDADANO ","2021-07-19","CORREO ELECTRÓNICO",null,{"$f":"IFERROR(WORKDAY(C2383,S2382,DiasNOLaborables),\"\")","v":"2021-07-21"},{"$f":"+IF(C2383=\"\",\"\",IF(J2383=\"\",\"SIN RESPUESTA\",(IF(J2383<=M2383,\"A TIEMPO\",\"FUERA DE TIEMPO\"))))","v":"A TIEMPO"},{"$f":"IF(J2383=\"\",\"\",NETWORKDAYS(C2383+1,J2383,DiasNOLaborables))","v":19},"",null,null,20]
[2373,20219050074662,"2021-06-21","ACADEMIA","MODULO CONTACTENOS","SOLICITUD DE INFORMACIÓN Y DOCUMENTOS","SOLICITUD DE INFORMACIÓN HIDROMETEOROLÓGICA","NO","GRUPO DE SERVICIO AL CIUDADANO ","2021-07-19","CORREO ELECTRÓNICO",null,{"$f":"IFERROR(WORKDAY(C2384,S2383,DiasNOLaborables),\"\")","v":"2021-07-21"},{"$f":"+IF(C2384=\"\",\"\",IF(J2384=\"\",\"SIN RESPUESTA\",(IF(J2384<=M2384,\"A TIEMPO\",\"FUERA DE TIEMPO\"))))","v":"A TIEMPO"},{"$f":"IF(J2384=\"\",\"\",NETWORKDAYS(C2384+1,J2384,DiasNOLaborables))","v":19},"",null,null,20]
[2374,20219050074722,"2021-06-22","ACADEMIA","MODULO CONTACTENOS","SOLICITUD DE INFORMACIÓN Y DOCUMENTOS","SOLICITUD DE INFORMACIÓN HIDROMETEOROLÓGICA","NO","GRUPO DE SERVICIO AL CIUDADANO ","2021-07-19","CORREO ELECTRÓNICO",null,{"$f":"IFERROR(WORKDAY(C2385,S2384,DiasNOLaborables),\"\")","v":"2021-07-22"},{"$f":"+IF(C2385=\"\",\"\",IF(J2385=\"\",\"SIN RESPUESTA\",(IF(J2385<=M2385,\"A TIEMPO\",\"FUERA DE TIEMPO\"))))","v":"A TIEMPO"},{"$f":"IF(J2385=\"\",\"\",NETWORKDAYS(C2385+1,J2385,DiasNOLaborables))","v":18},"",null,null,20]
[2375,20219050074782,"2021-06-22","CIUDADANO","MODULO CONTACTENOS","SOLICITUD DE INFORMACIÓN Y DOCUMENTOS","SOLICITUD DE INFORMACIÓN HIDROMETEOROLÓGICA","NO","GRUPO DE SERVICIO AL CIUDADANO ","2021-07-19","CORREO ELECTRÓNICO",null,{"$f":"IFERROR(WORKDAY(C2386,S2385,DiasNOLaborables),\"\")","v":"2021-07-22"},{"$f":"+IF(C2386=\"\",\"\",IF(J2386=\"\",\"SIN RESPUESTA\",(IF(J2386<=M2386,\"A TIEMPO\",\"FUERA DE TIEMPO\"))))","v":"A TIEMPO"},{"$f":"IF(J2386=\"\",\"\",NETWORKDAYS(C2386+1,J2386,DiasNOLaborables))","v":18},"",null,null,20]
[2376,20219050074812,"2021-06-22","CIUDADANO","MODULO CONTACTENOS","SOLICITUD DE INFORMACIÓN Y DOCUMENTOS","SOLICITUD DE INFORMACIÓN HIDROMETEOROLÓGICA","NO","GRUPO DE SERVICIO AL CIUDADANO ","2021-07-19","CORREO ELECTRÓNICO",null,{"$f":"IFERROR(WORKDAY(C2387,S2386,DiasNOLaborables),\"\")","v":"2021-07-22"},{"$f":"+IF(C2387=\"\",\"\",IF(J2387=\"\",\"SIN RESPUESTA\",(IF(J2387<=M2387,\"A TIEMPO\",\"FUERA DE TIEMPO\"))))","v":"A TIEMPO"},{"$f":"IF(J2387=\"\",\"\",NETWORKDAYS(C2387+1,J2387,DiasNOLaborables))","v":18},"",null,null,20]
[2377,20219050074842,"2021-06-22","CIUDADANO","MODULO CONTACTENOS","SOLICITUD DE INFORMACIÓN Y DOCUMENTOS","SOLICITUD DE INFORMACIÓN HIDROMETEOROLÓGICA","NO","GRUPO DE SERVICIO AL CIUDADANO ","2021-07-19","CORREO ELECTRÓNICO",null,{"$f":"IFERROR(WORKDAY(C2388,S2387,DiasNOLaborables),\"\")","v":"2021-07-22"},{"$f":"+IF(C2388=\"\",\"\",IF(J2388=\"\",\"SIN RESPUESTA\",(IF(J2388<=M2388,\"A TIEMPO\",\"FUERA DE TIEMPO\"))))","v":"A TIEMPO"},{"$f":"IF(J2388=\"\",\"\",NETWORKDAYS(C2388+1,J2388,DiasNOLaborables))","v":18},"",null,null,20]
[2378,20219050075012,"2021-06-22","CIUDADANO","MODULO CONTACTENOS","SOLICITUD DE INFORMACIÓN Y DOCUMENTOS","SOLICITUD DE INFORMACIÓN HIDROMETEOROLÓGICA","NO","GRUPO DE SERVICIO AL CIUDADANO ","2021-07-19","CORREO ELECTRÓNICO",null,{"$f":"IFERROR(WORKDAY(C2389,S2388,DiasNOLaborables),\"\")","v":"2021-07-22"},{"$f":"+IF(C2389=\"\",\"\",IF(J2389=\"\",\"SIN RESPUESTA\",(IF(J2389<=M2389,\"A TIEMPO\",\"FUERA DE TIEMPO\"))))","v":"A TIEMPO"},{"$f":"IF(J2389=\"\",\"\",NETWORKDAYS(C2389+1,J2389,DiasNOLaborables))","v":18},"",null,null,20]
[2379,20219050075062,"2021-06-22","CIUDADANO","MODULO CONTACTENOS","SOLICITUD DE INFORMACIÓN Y DOCUMENTOS","SOLICITUD DE INFORMACIÓN HIDROMETEOROLÓGICA","NO","GRUPO DE SERVICIO AL CIUDADANO ","2021-07-19","CORREO ELECTRÓNICO",null,{"$f":"IFERROR(WORKDAY(C2390,S2389,DiasNOLaborables),\"\")","v":"2021-07-22"},{"$f":"+IF(C2390=\"\",\"\",IF(J2390=\"\",\"SIN RESPUESTA\",(IF(J2390<=M2390,\"A TIEMPO\",\"FUERA DE TIEMPO\"))))","v":"A TIEMPO"},{"$f":"IF(J2390=\"\",\"\",NETWORKDAYS(C2390+1,J2390,DiasNOLaborables))","v":18},"",null,null,20]
[2380,20219050075072,"2021-06-22","CIUDADANO","MODULO CONTACTENOS","SOLICITUD DE INFORMACIÓN Y DOCUMENTOS","SOLICITUD DE INFORMACIÓN HIDROMETEOROLÓGICA","NO","GRUPO DE SERVICIO AL CIUDADANO ","2021-07-19","CORREO ELECTRÓNICO",null,{"$f":"IFERROR(WORKDAY(C2391,S2390,DiasNOLaborables),\"\")","v":"2021-07-22"},{"$f":"+IF(C2391=\"\",\"\",IF(J2391=\"\",\"SIN RESPUESTA\",(IF(J2391<=M2391,\"A TIEMPO\",\"FUERA DE TIEMPO\"))))","v":"A TIEMPO"},{"$f":"IF(J2391=\"\",\"\",NETWORKDAYS(C2391+1,J2391,DiasNOLaborables))","v":18},"",null,null,20]
[2381,20219050075132,"2021-06-22","CIUDADANO","MODULO CONTACTENOS","SOLICITUD DE INFORMACIÓN Y DOCUMENTOS","SOLICITUD DE INFORMACIÓN HIDROMETEOROLÓGICA","NO","GRUPO DE SERVICIO AL CIUDADANO ","2021-07-19","CORREO ELECTRÓNICO",null,{"$f":"IFERROR(WORKDAY(C2392,S2391,DiasNOLaborables),\"\")","v":"2021-07-22"},{"$f":"+IF(C2392=\"\",\"\",IF(J2392=\"\",\"SIN RESPUESTA\",(IF(J2392<=M2392,\"A TIEMPO\",\"FUERA DE TIEMPO\"))))","v":"A TIEMPO"},{"$f":"IF(J2392=\"\",\"\",NETWORKDAYS(C2392+1,J2392,DiasNOLaborables))","v":18},"",null,null,20]
[2382,20219050075142,"2021-06-22","CIUDADANO","MODULO CONTACTENOS","SOLICITUD DE INFORMACIÓN Y DOCUMENTOS","SOLICITUD DE INFORMACIÓN HIDROMETEOROLÓGICA","NO","GRUPO DE SERVICIO AL CIUDADANO ","2021-07-21","CORREO ELECTRÓNICO",null,{"$f":"IFERROR(WORKDAY(C2393,S2392,DiasNOLaborables),\"\")","v":"2021-07-22"},{"$f":"+IF(C2393=\"\",\"\",IF(J2393=\"\",\"SIN RESPUESTA\",(IF(J2393<=M2393,\"A TIEMPO\",\"FUERA DE TIEMPO\"))))","v":"A TIEMPO"},{"$f":"IF(J2393=\"\",\"\",NETWORKDAYS(C2393+1,J2393,DiasNOLaborables))","v":19},"",null,null,20]
[2383,20219050075152,"2021-06-22","CIUDADANO","MODULO CONTACTENOS","SOLICITUD DE INFORMACIÓN Y DOCUMENTOS","SOLICITUD DE INFORMACIÓN HIDROMETEOROLÓGICA","NO","GRUPO DE SERVICIO AL CIUDADANO ","2021-07-21","CORREO ELECTRÓNICO",null,{"$f":"IFERROR(WORKDAY(C2394,S2393,DiasNOLaborables),\"\")","v":"2021-07-22"},{"$f":"+IF(C2394=\"\",\"\",IF(J2394=\"\",\"SIN RESPUESTA\",(IF(J2394<=M2394,\"A TIEMPO\",\"FUERA DE TIEMPO\"))))","v":"A TIEMPO"},{"$f":"IF(J2394=\"\",\"\",NETWORKDAYS(C2394+1,J2394,DiasNOLaborables))","v":19},"",null,null,20]
[2384,20219050075162,"2021-06-22","ACADEMIA","MODULO CONTACTENOS","SOLICITUD DE INFORMACIÓN Y DOCUMENTOS","SOLICITUD DE INFORMACIÓN HIDROMETEOROLÓGICA","NO","GRUPO DE SERVICIO AL CIUDADANO ","2021-07-21","CORREO ELECTRÓNICO",null,{"$f":"IFERROR(WORKDAY(C2395,S2394,DiasNOLaborables),\"\")","v":"2021-07-22"},{"$f":"+IF(C2395=\"\",\"\",IF(J2395=\"\",\"SIN RESPUESTA\",(IF(J2395<=M2395,\"A TIEMPO\",\"FUERA DE TIEMPO\"))))","v":"A TIEMPO"},{"$f":"IF(J2395=\"\",\"\",NETWORKDAYS(C2395+1,J2395,DiasNOLaborables))","v":19},"",null,null,20]
[2385,20219050075212,"2021-06-22","CIUDADANO","MODULO CONTACTENOS","SOLICITUD DE INFORMACIÓN Y DOCUMENTOS","SOLICITUD DE INFORMACIÓN HIDROMETEOROLÓGICA","NO","GRUPO DE SERVICIO AL CIUDADANO ","2021-07-21","CORREO ELECTRÓNICO",null,{"$f":"IFERROR(WORKDAY(C2396,S2395,DiasNOLaborables),\"\")","v":"2021-07-22"},{"$f":"+IF(C2396=\"\",\"\",IF(J2396=\"\",\"SIN RESPUESTA\",(IF(J2396<=M2396,\"A TIEMPO\",\"FUERA DE TIEMPO\"))))","v":"A TIEMPO"},{"$f":"IF(J2396=\"\",\"\",NETWORKDAYS(C2396+1,J2396,DiasNOLaborables))","v":19},"",null,null,20]
[2386,20219050075232,"2021-06-22","CIUDADANO","MODULO CONTACTENOS","SOLICITUD DE INFORMACIÓN Y DOCUMENTOS","SOLICITUD DE INFORMACIÓN HIDROMETEOROLÓGICA","NO","GRUPO DE SERVICIO AL CIUDADANO ","2021-07-21","CORREO ELECTRÓNICO",null,{"$f":"IFERROR(WORKDAY(C2397,S2396,DiasNOLaborables),\"\")","v":"2021-07-22"},{"$f":"+IF(C2397=\"\",\"\",IF(J2397=\"\",\"SIN RESPUESTA\",(IF(J2397<=M2397,\"A TIEMPO\",\"FUERA DE TIEMPO\"))))","v":"A TIEMPO"},{"$f":"IF(J2397=\"\",\"\",NETWORKDAYS(C2397+1,J2397,DiasNOLaborables))","v":19},"",null,null,20]
[2387,20219050075272,"2021-06-22","ACADEMIA","MODULO CONTACTENOS","SOLICITUD DE INFORMACIÓN Y DOCUMENTOS","SOLICITUD DE INFORMACIÓN HIDROMETEOROLÓGICA","NO","GRUPO DE SERVICIO AL CIUDADANO ","2021-07-21","CORREO ELECTRÓNICO",null,{"$f":"IFERROR(WORKDAY(C2398,S2397,DiasNOLaborables),\"\")","v":"2021-07-22"},{"$f":"+IF(C2398=\"\",\"\",IF(J2398=\"\",\"SIN RESPUESTA\",(IF(J2398<=M2398,\"A TIEMPO\",\"FUERA DE TIEMPO\"))))","v":"A TIEMPO"},{"$f":"IF(J2398=\"\",\"\",NETWORKDAYS(C2398+1,J2398,DiasNOLaborables))","v":19},"",null,null,20]
[2388,20219050075282,"2021-06-22","ACADEMIA","MODULO CONTACTENOS","SOLICITUD DE INFORMACIÓN Y DOCUMENTOS","SOLICITUD DE INFORMACIÓN HIDROMETEOROLÓGICA","NO","GRUPO DE SERVICIO AL CIUDADANO ","2021-07-21","CORREO ELECTRÓNICO",null,{"$f":"IFERROR(WORKDAY(C2399,S2398,DiasNOLaborables),\"\")","v":"2021-07-22"},{"$f":"+IF(C2399=\"\",\"\",IF(J2399=\"\",\"SIN RESPUESTA\",(IF(J2399<=M2399,\"A TIEMPO\",\"FUERA DE TIEMPO\"))))","v":"A TIEMPO"},{"$f":"IF(J2399=\"\",\"\",NETWORKDAYS(C2399+1,J2399,DiasNOLaborables))","v":19},"",null,null,20]
[2389,20219050075292,"2021-06-22","ACADEMIA","MODULO CONTACTENOS","SOLICITUD DE INFORMACIÓN Y DOCUMENTOS","SOLICITUD DE INFORMACIÓN HIDROMETEOROLÓGICA","NO","GRUPO DE SERVICIO AL CIUDADANO ","2021-07-21","CORREO ELECTRÓNICO",null,{"$f":"IFERROR(WORKDAY(C2400,S2399,DiasNOLaborables),\"\")","v":"2021-07-22"},{"$f":"+IF(C2400=\"\",\"\",IF(J2400=\"\",\"SIN RESPUESTA\",(IF(J2400<=M2400,\"A TIEMPO\",\"FUERA DE TIEMPO\"))))","v":"A TIEMPO"},{"$f":"IF(J2400=\"\",\"\",NETWORKDAYS(C2400+1,J2400,DiasNOLaborables))","v":19},{"$f":"IF(NETWORKDAYS(M2400+1,J2400,DiasNOLaborables)<=0,\"\",NETWORKDAYS(M2400+1,J2400,DiasNOLaborables))","v":""},null,null,20]
[2390,20219050075302,"2021-06-22","CIUDADANO","MODULO CONTACTENOS","SOLICITUD DE INFORMACIÓN Y DOCUMENTOS","SOLICITUD DE INFORMACIÓN HIDROMETEOROLÓGICA","NO","GRUPO DE SERVICIO AL CIUDADANO ","2021-07-21","CORREO ELECTRÓNICO",null,{"$f":"IFERROR(WORKDAY(C2401,S2400,DiasNOLaborables),\"\")","v":"2021-07-22"},{"$f":"+IF(C2401=\"\",\"\",IF(J2401=\"\",\"SIN RESPUESTA\",(IF(J2401<=M2401,\"A TIEMPO\",\"FUERA DE TIEMPO\"))))","v":"A TIEMPO"},{"$f":"IF(J2401=\"\",\"\",NETWORKDAYS(C2401+1,J2401,DiasNOLaborables))","v":19},"",null,null,20]
[2391,20219050075322,"2021-06-22","CIUDADANO","MODULO CONTACTENOS","SOLICITUD DE INFORMACIÓN Y DOCUMENTOS","SOLICITUD DE INFORMACIÓN HIDROMETEOROLÓGICA","NO","GRUPO DE SERVICIO AL CIUDADANO ","2021-07-21","CORREO ELECTRÓNICO",null,{"$f":"IFERROR(WORKDAY(C2402,S2401,DiasNOLaborables),\"\")","v":"2021-07-22"},{"$f":"+IF(C2402=\"\",\"\",IF(J2402=\"\",\"SIN RESPUESTA\",(IF(J2402<=M2402,\"A TIEMPO\",\"FUERA DE TIEMPO\"))))","v":"A TIEMPO"},{"$f":"IF(J2402=\"\",\"\",NETWORKDAYS(C2402+1,J2402,DiasNOLaborables))","v":19},"",null,null,20]
[2392,20219050075352,"2021-06-22","ACADEMIA","MODULO CONTACTENOS","SOLICITUD DE INFORMACIÓN Y DOCUMENTOS","SOLICITUD DE INFORMACIÓN HIDROMETEOROLÓGICA","NO","GRUPO DE SERVICIO AL CIUDADANO ","2021-07-21","CORREO ELECTRÓNICO",null,{"$f":"IFERROR(WORKDAY(C2403,S2402,DiasNOLaborables),\"\")","v":"2021-07-22"},{"$f":"+IF(C2403=\"\",\"\",IF(J2403=\"\",\"SIN RESPUESTA\",(IF(J2403<=M2403,\"A TIEMPO\",\"FUERA DE TIEMPO\"))))","v":"A TIEMPO"},{"$f":"IF(J2403=\"\",\"\",NETWORKDAYS(C2403+1,J2403,DiasNOLaborables))","v":19},"",null,null,20]
[2393,20219050075412,"2021-06-23","CIUDADANO","MODULO CONTACTENOS","SOLICITUD DE INFORMACIÓN Y DOCUMENTOS","BOSQUES","SI","SUBDIRECCIÓN DE ECOSISTEMAS E INFORMACIÓN AMBIENTAL","2021-06-23","CORREO ELECTRÓNICO",null,{"$f":"IFERROR(WORKDAY(C2404,S2403,DiasNOLaborables),\"\")","v":"2021-07-23"},{"$f":"+IF(C2404=\"\",\"\",IF(J2404=\"\",\"SIN RESPUESTA\",(IF(J2404<=M2404,\"A TIEMPO\",\"FUERA DE TIEMPO\"))))","v":"A TIEMPO"},{"$f":"IF(J2404=\"\",\"\",NETWORKDAYS(C2404+1,J2404,DiasNOLaborables))","v":-2},"",null,null,20]
[2394,20219050075482,"2021-06-23","CIUDADANO","MODULO CONTACTENOS","SOLICITUD DE INFORMACIÓN Y DOCUMENTOS","ADMINISTRATIVA","SI","GRUPO DE TESORERÍA","2021-06-29","CORREO ELECTRÓNICO",null,{"$f":"IFERROR(WORKDAY(C2405,S2404,DiasNOLaborables),\"\")","v":"2021-07-23"},{"$f":"+IF(C2405=\"\",\"\",IF(J2405=\"\",\"SIN RESPUESTA\",(IF(J2405<=M2405,\"A TIEMPO\",\"FUERA DE TIEMPO\"))))","v":"A TIEMPO"},{"$f":"IF(J2405=\"\",\"\",NETWORKDAYS(C2405+1,J2405,DiasNOLaborables))","v":4},"",null,null,30]
[2395,20219050075492,"2021-06-23","FUNCIONARIO IDEAM","MODULO CONTACTENOS","PETICIÓN","ADMINISTRATIVA","SI","GRUPO DE ADMINISTRACIÓN Y DESARROLLO DEL TALENTO HUMANO","2021-07-28",null,null,{"$f":"IFERROR(WORKDAY(C2406,S2405,DiasNOLaborables),\"\")","v":"2021-08-06"},{"$f":"+IF(C2406=\"\",\"\",IF(J2406=\"\",\"SIN RESPUESTA\",(IF(J2406<=M2406,\"A TIEMPO\",\"FUERA DE TIEMPO\"))))","v":"A TIEMPO"},{"$f":"IF(J2406=\"\",\"\",NETWORKDAYS(C2406+1,J2406,DiasNOLaborables))","v":23},"",null,null,20]
[2396,20219050075572,"2021-06-23","CIUDADANO","MODULO CONTACTENOS","SOLICITUD DE INFORMACIÓN Y DOCUMENTOS","ACREDITACIÓN DE LABORATORIOS","SI","SUBDIRECCIÓN DE ESTUDIOS AMBIENTALES","2021-06-30","CORREO ELECTRÓNICO",null,{"$f":"IFERROR(WORKDAY(C2407,S2406,DiasNOLaborables),\"\")","v":"2021-07-23"},{"$f":"+IF(C2407=\"\",\"\",IF(J2407=\"\",\"SIN RESPUESTA\",(IF(J2407<=M2407,\"A TIEMPO\",\"FUERA DE TIEMPO\"))))","v":"A TIEMPO"},{"$f":"IF(J2407=\"\",\"\",NETWORKDAYS(C2407+1,J2407,DiasNOLaborables))","v":5},"",null,null,20]
[2397,20219050075712,"2021-06-23","CIUDADANO","MODULO CONTACTENOS","SOLICITUD DE INFORMACIÓN Y DOCUMENTOS","ADMINISTRATIVA","SI","GRUPO DE TESORERÍA","2021-06-29","CORREO ELECTRÓNICO",null,{"$f":"IFERROR(WORKDAY(C2408,S2407,DiasNOLaborables),\"\")","v":"2021-07-23"},{"$f":"+IF(C2408=\"\",\"\",IF(J2408=\"\",\"SIN RESPUESTA\",(IF(J2408<=M2408,\"A TIEMPO\",\"FUERA DE TIEMPO\"))))","v":"A TIEMPO"},{"$f":"IF(J2408=\"\",\"\",NETWORKDAYS(C2408+1,J2408,DiasNOLaborables))","v":4},"",null,null,20]
[2398,20219050075802,"2021-06-23","EMPRESA PRIVADA","MODULO CONTACTENOS","SOLICITUD DE INFORMACIÓN Y DOCUMENTOS","CLIMATOLOGÍA","SI","SUBDIRECCIÓN DE METEOROLOGÍA","2021-06-29","CORREO ELECTRÓNICO",null,{"$f":"IFERROR(WORKDAY(C2409,S2408,DiasNOLaborables),\"\")","v":"2021-07-23"},{"$f":"+IF(C2409=\"\",\"\",IF(J2409=\"\",\"SIN RESPUESTA\",(IF(J2409<=M2409,\"A TIEMPO\",\"FUERA DE TIEMPO\"))))","v":"A TIEMPO"},{"$f":"IF(J2409=\"\",\"\",NETWORKDAYS(C2409+1,J2409,DiasNOLaborables))","v":4},"",null,null,35]
[2399,20219050075472,"2021-06-23","CIUDADANO","CORREO ELECTRÓNICO","CERTIFICACIONES DE TIEMPO, CLIMA Y EVENTOS HIDROLÓGICOS","CERTIFICACIONES DE TIEMPO Y CLIMA","SI","SUBDIRECCIÓN DE METEOROLOGÍA","2021-06-30","CORREO ELECTRÓNICO",null,{"$f":"IFERROR(WORKDAY(C2410,S2409,DiasNOLaborables),\"\")","v":"2021-08-13"},{"$f":"+IF(C2410=\"\",\"\",IF(J2410=\"\",\"SIN RESPUESTA\",(IF(J2410<=M2410,\"A TIEMPO\",\"FUERA DE TIEMPO\"))))","v":"A TIEMPO"},{"$f":"IF(J2410=\"\",\"\",NETWORKDAYS(C2410+1,J2410,DiasNOLaborables))","v":5},"",null,null,20]
[2400,20219050075402,"2021-06-23","CIUDADANO","CORREO ELECTRÓNICO","SOLICITUD DE INFORMACIÓN Y DOCUMENTOS","REGISTROS AMBIENTALES","SI","SUBDIRECCIÓN DE ESTUDIOS AMBIENTALES","2021-06-23","CORREO ELECTRÓNICO",null,{"$f":"IFERROR(WORKDAY(C2411,S2410,DiasNOLaborables),\"\")","v":"2021-07-23"},{"$f":"+IF(C2411=\"\",\"\",IF(J2411=\"\",\"SIN RESPUESTA\",(IF(J2411<=M2411,\"A TIEMPO\",\"FUERA DE TIEMPO\"))))","v":"A TIEMPO"},{"$f":"IF(J2411=\"\",\"\",NETWORKDAYS(C2411+1,J2411,DiasNOLaborables))","v":-2},"",null,null,20]
[2401,20219050075432,"2021-06-23","CIUDADANO","CORREO ELECTRÓNICO","SOLICITUD DE INFORMACIÓN Y DOCUMENTOS","REGISTROS AMBIENTALES","SI","SUBDIRECCIÓN DE ESTUDIOS AMBIENTALES","2021-07-07","CORREO ELECTRÓNICO",null,{"$f":"IFERROR(WORKDAY(C2412,S2411,DiasNOLaborables),\"\")","v":"2021-07-23"},{"$f":"+IF(C2412=\"\",\"\",IF(J2412=\"\",\"SIN RESPUESTA\",(IF(J2412<=M2412,\"A TIEMPO\",\"FUERA DE TIEMPO\"))))","v":"A TIEMPO"},{"$f":"IF(J2412=\"\",\"\",NETWORKDAYS(C2412+1,J2412,DiasNOLaborables))","v":9},"",null,null,20]
[2402,20219050075442,"2021-06-23","CIUDADANO","CORREO ELECTRÓNICO","SOLICITUD DE INFORMACIÓN Y DOCUMENTOS","REGISTROS AMBIENTALES","SI","SUBDIRECCIÓN DE ESTUDIOS AMBIENTALES","2021-07-07","CORREO ELECTRÓNICO",null,{"$f":"IFERROR(WORKDAY(C2413,S2412,DiasNOLaborables),\"\")","v":"2021-07-23"},{"$f":"+IF(C2413=\"\",\"\",IF(J2413=\"\",\"SIN RESPUESTA\",(IF(J2413<=M2413,\"A TIEMPO\",\"FUERA DE TIEMPO\"))))","v":"A TIEMPO"},{"$f":"IF(J2413=\"\",\"\",NETWORKDAYS(C2413+1,J2413,DiasNOLaborables))","v":9},"",null,null,20]
[2403,20219050075602,"2021-06-23","CIUDADANO","CORREO ELECTRÓNICO","SOLICITUD DE INFORMACIÓN Y DOCUMENTOS","INFORMES AMBIENTALES","SI","SUBDIRECCIÓN DE ESTUDIOS AMBIENTALES","2021-06-23","CORREO ELECTRÓNICO",null,{"$f":"IFERROR(WORKDAY(C2414,S2413,DiasNOLaborables),\"\")","v":"2021-07-23"},{"$f":"+IF(C2414=\"\",\"\",IF(J2414=\"\",\"SIN RESPUESTA\",(IF(J2414<=M2414,\"A TIEMPO\",\"FUERA DE TIEMPO\"))))","v":"A TIEMPO"},{"$f":"IF(J2414=\"\",\"\",NETWORKDAYS(C2414+1,J2414,DiasNOLaborables))","v":-2},"",null,null,20]
[2404,20219050075512,"2021-06-23","CIUDADANO","CORREO ELECTRÓNICO","SOLICITUD DE INFORMACIÓN Y DOCUMENTOS","INFORMES AMBIENTALES","SI","SUBDIRECCIÓN DE METEOROLOGÍA","2021-06-23","CORREO ELECTRÓNICO",null,{"$f":"IFERROR(WORKDAY(C2415,S2414,DiasNOLaborables),\"\")","v":"2021-07-23"},{"$f":"+IF(C2415=\"\",\"\",IF(J2415=\"\",\"SIN RESPUESTA\",(IF(J2415<=M2415,\"A TIEMPO\",\"FUERA DE TIEMPO\"))))","v":"A TIEMPO"},{"$f":"IF(J2415=\"\",\"\",NETWORKDAYS(C2415+1,J2415,DiasNOLaborables))","v":-2},"",null,null,20]
[2405,20219050075542,"2021-06-23","CIUDADANO","CORREO ELECTRÓNICO","SOLICITUD DE INFORMACIÓN Y DOCUMENTOS","INFORMES AMBIENTALES","SI","SUBDIRECCIÓN DE ESTUDIOS AMBIENTALES","2021-07-14","CORREO ELECTRÓNICO",null,{"$f":"IFERROR(WORKDAY(C2416,S2415,DiasNOLaborables),\"\")","v":"2021-07-23"},{"$f":"+IF(C2416=\"\",\"\",IF(J2416=\"\",\"SIN RESPUESTA\",(IF(J2416<=M2416,\"A TIEMPO\",\"FUERA DE TIEMPO\"))))","v":"A TIEMPO"},{"$f":"IF(J2416=\"\",\"\",NETWORKDAYS(C2416+1,J2416,DiasNOLaborables))","v":14},"",null,null,20]
[2406,20219050075582,"2021-06-23","CIUDADANO","CORREO ELECTRÓNICO","SOLICITUD DE INFORMACIÓN Y DOCUMENTOS","INFORMES AMBIENTALES","SI","SUBDIRECCIÓN DE METEOROLOGÍA","2021-06-23","CORREO ELECTRÓNICO",null,{"$f":"IFERROR(WORKDAY(C2417,S2416,DiasNOLaborables),\"\")","v":"2021-07-23"},{"$f":"+IF(C2417=\"\",\"\",IF(J2417=\"\",\"SIN RESPUESTA\",(IF(J2417<=M2417,\"A TIEMPO\",\"FUERA DE TIEMPO\"))))","v":"A TIEMPO"},{"$f":"IF(J2417=\"\",\"\",NETWORKDAYS(C2417+1,J2417,DiasNOLaborables))","v":-2},"",null,null,20]
[2407,20219050075592,"2021-06-23","CIUDADANO","CORREO ELECTRÓNICO","SOLICITUD DE INFORMACIÓN Y DOCUMENTOS","INFORMES AMBIENTALES","SI","SUBDIRECCIÓN DE METEOROLOGÍA","2021-06-23","CORREO ELECTRÓNICO",null,{"$f":"IFERROR(WORKDAY(C2418,S2417,DiasNOLaborables),\"\")","v":"2021-07-23"},{"$f":"+IF(C2418=\"\",\"\",IF(J2418=\"\",\"SIN RESPUESTA\",(IF(J2418<=M2418,\"A TIEMPO\",\"FUERA DE TIEMPO\"))))","v":"A TIEMPO"},{"$f":"IF(J2418=\"\",\"\",NETWORKDAYS(C2418+1,J2418,DiasNOLaborables))","v":-2},"",null,null,35]
[2408,20219050075622,"2021-06-23","CIUDADANO","CORREO ELECTRÓNICO","CERTIFICACIONES DE TIEMPO, CLIMA Y EVENTOS HIDROLÓGICOS","CERTIFICACIONES DE TIEMPO Y CLIMA","SI","SUBDIRECCIÓN DE METEOROLOGÍA","2021-07-16","CORREO ELECTRÓNICO",null,{"$f":"IFERROR(WORKDAY(C2419,S2418,DiasNOLaborables),\"\")","v":"2021-08-13"},{"$f":"+IF(C2419=\"\",\"\",IF(J2419=\"\",\"SIN RESPUESTA\",(IF(J2419<=M2419,\"A TIEMPO\",\"FUERA DE TIEMPO\"))))","v":"A TIEMPO"},{"$f":"IF(J2419=\"\",\"\",NETWORKDAYS(C2419+1,J2419,DiasNOLaborables))","v":16},"",null,null,20]
[2409,20219050075632,"2021-06-23","CIUDADANO","CORREO ELECTRÓNICO","SOLICITUD DE INFORMACIÓN Y DOCUMENTOS","INFORMES AMBIENTALES","SI","SUBDIRECCIÓN DE ESTUDIOS AMBIENTALES","2021-07-07","CORREO ELECTRÓNICO",null,{"$f":"IFERROR(WORKDAY(C2420,S2419,DiasNOLaborables),\"\")","v":"2021-07-23"},{"$f":"+IF(C2420=\"\",\"\",IF(J2420=\"\",\"SIN RESPUESTA\",(IF(J2420<=M2420,\"A TIEMPO\",\"FUERA DE TIEMPO\"))))","v":"A TIEMPO"},{"$f":"IF(J2420=\"\",\"\",NETWORKDAYS(C2420+1,J2420,DiasNOLaborables))","v":9},"",null,null,20]
[2410,20219050075642,"2021-06-23","CIUDADANO","CORREO ELECTRÓNICO","SOLICITUD DE INFORMACIÓN Y DOCUMENTOS","BOSQUES","SI","SUBDIRECCIÓN DE ECOSISTEMAS E INFORMACIÓN AMBIENTAL","2021-06-25","CORREO ELECTRÓNICO",null,{"$f":"IFERROR(WORKDAY(C2421,S2420,DiasNOLaborables),\"\")","v":"2021-07-23"},{"$f":"+IF(C2421=\"\",\"\",IF(J2421=\"\",\"SIN RESPUESTA\",(IF(J2421<=M2421,\"A TIEMPO\",\"FUERA DE TIEMPO\"))))","v":"A TIEMPO"},{"$f":"IF(J2421=\"\",\"\",NETWORKDAYS(C2421+1,J2421,DiasNOLaborables))","v":2},"",null,null,35]
[2411,20219050075652,"2021-06-23","CIUDADANO","CORREO ELECTRÓNICO","CERTIFICACIONES DE TIEMPO, CLIMA Y EVENTOS HIDROLÓGICOS","CERTIFICACIONES DE TIEMPO Y CLIMA","SI","SUBDIRECCIÓN DE METEOROLOGÍA","2021-07-16","CORREO ELECTRÓNICO",null,{"$f":"IFERROR(WORKDAY(C2422,S2421,DiasNOLaborables),\"\")","v":"2021-08-13"},{"$f":"+IF(C2422=\"\",\"\",IF(J2422=\"\",\"SIN RESPUESTA\",(IF(J2422<=M2422,\"A TIEMPO\",\"FUERA DE TIEMPO\"))))","v":"A TIEMPO"},{"$f":"IF(J2422=\"\",\"\",NETWORKDAYS(C2422+1,J2422,DiasNOLaborables))","v":16},"",null,null,35]
[2412,20219050075662,"2021-06-23","CIUDADANO","CORREO ELECTRÓNICO","CERTIFICACIONES DE TIEMPO, CLIMA Y EVENTOS HIDROLÓGICOS","CERTIFICACIONES DE TIEMPO Y CLIMA","SI","SUBDIRECCIÓN DE METEOROLOGÍA","2021-07-16","CORREO ELECTRÓNICO",null,{"$f":"IFERROR(WORKDAY(C2423,S2422,DiasNOLaborables),\"\")","v":"2021-08-13"},{"$f":"+IF(C2423=\"\",\"\",IF(J2423=\"\",\"SIN RESPUESTA\",(IF(J2423<=M2423,\"A TIEMPO\",\"FUERA DE TIEMPO\"))))","v":"A TIEMPO"},{"$f":"IF(J2423=\"\",\"\",NETWORKDAYS(C2423+1,J2423,DiasNOLaborables))","v":16},"",null,null,35]
[2413,20219050075682,"2021-06-23","CIUDADANO","CORREO ELECTRÓNICO","CERTIFICACIONES DE TIEMPO, CLIMA Y EVENTOS HIDROLÓGICOS","CERTIFICACIONES DE TIEMPO Y CLIMA","SI","SUBDIRECCIÓN DE METEOROLOGÍA","2021-07-16","CORREO ELECTRÓNICO",null,{"$f":"IFERROR(WORKDAY(C2424,S2423,DiasNOLaborables),\"\")","v":"2021-08-13"},{"$f":"+IF(C2424=\"\",\"\",IF(J2424=\"\",\"SIN RESPUESTA\",(IF(J2424<=M2424,\"A TIEMPO\",\"FUERA DE TIEMPO\"))))","v":"A TIEMPO"},{"$f":"IF(J2424=\"\",\"\",NETWORKDAYS(C2424+1,J2424,DiasNOLaborables))","v":16},"",null,null,20]
[2414,20219050075692,"2021-06-23","CIUDADANO","CORREO ELECTRÓNICO","SOLICITUD DE INFORMACIÓN Y DOCUMENTOS","REGISTROS AMBIENTALES","SI","SUBDIRECCIÓN DE ESTUDIOS AMBIENTALES","2021-07-07","CORREO ELECTRÓNICO",null,{"$f":"IFERROR(WORKDAY(C2425,S2424,DiasNOLaborables),\"\")","v":"2021-07-23"},{"$f":"+IF(C2425=\"\",\"\",IF(J2425=\"\",\"SIN RESPUESTA\",(IF(J2425<=M2425,\"A TIEMPO\",\"FUERA DE TIEMPO\"))))","v":"A TIEMPO"},{"$f":"IF(J2425=\"\",\"\",NETWORKDAYS(C2425+1,J2425,DiasNOLaborables))","v":9},"",null,null,20]
[2415,20219050075702,"2021-06-23","CIUDADANO","CORREO ELECTRÓNICO","SOLICITUD DE INFORMACIÓN Y DOCUMENTOS","ADMINISTRATIVA","SI","GRUPO DE ADMINISTRACIÓN Y DESARROLLO DEL TALENTO HUMANO","2021-07-12","CORREO ELECTRÓNICO",null,{"$f":"IFERROR(WORKDAY(C2426,S2425,DiasNOLaborables),\"\")","v":"2021-07-23"},{"$f":"+IF(C2426=\"\",\"\",IF(J2426=\"\",\"SIN RESPUESTA\",(IF(J2426<=M2426,\"A TIEMPO\",\"FUERA DE TIEMPO\"))))","v":"A TIEMPO"},{"$f":"IF(J2426=\"\",\"\",NETWORKDAYS(C2426+1,J2426,DiasNOLaborables))","v":12},"",null,null,20]
[2416,20219050075722,"2021-06-23","CIUDADANO","CORREO ELECTRÓNICO","SOLICITUD DE INFORMACIÓN Y DOCUMENTOS","REGISTROS AMBIENTALES","SI","SUBDIRECCIÓN DE ESTUDIOS AMBIENTALES","2021-07-04","CORREO ELECTRÓNICO",null,{"$f":"IFERROR(WORKDAY(C2427,S2426,DiasNOLaborables),\"\")","v":"2021-07-23"},{"$f":"+IF(C2427=\"\",\"\",IF(J2427=\"\",\"SIN RESPUESTA\",(IF(J2427<=M2427,\"A TIEMPO\",\"FUERA DE TIEMPO\"))))","v":"A TIEMPO"},{"$f":"IF(J2427=\"\",\"\",NETWORKDAYS(C2427+1,J2427,DiasNOLaborables))","v":7},"",null,null,20]
[2417,20219050075732,"2021-06-23","CIUDADANO","CORREO ELECTRÓNICO","SOLICITUD DE INFORMACIÓN Y DOCUMENTOS","ADMINISTRATIVA","SI","GRUPO DE ADMINISTRACIÓN Y DESARROLLO DEL TALENTO HUMANO","2021-07-06","CORREO ELECTRÓNICO",null,{"$f":"IFERROR(WORKDAY(C2428,S2427,DiasNOLaborables),\"\")","v":"2021-07-23"},{"$f":"+IF(C2428=\"\",\"\",IF(J2428=\"\",\"SIN RESPUESTA\",(IF(J2428<=M2428,\"A TIEMPO\",\"FUERA DE TIEMPO\"))))","v":"A TIEMPO"},{"$f":"IF(J2428=\"\",\"\",NETWORKDAYS(C2428+1,J2428,DiasNOLaborables))","v":8},"",null,null,20]
[2418,20219050075612,"2021-06-23","EMPRESA PRIVADA","CORREO ELECTRÓNICO","SOLICITUD DE INFORMACIÓN Y DOCUMENTOS","SOLICITUD DE INFORMACIÓN HIDROMETEOROLÓGICA","NO","GRUPO DE SERVICIO AL CIUDADANO ","2021-06-30","CORREO ELECTRÓNICO",null,{"$f":"IFERROR(WORKDAY(C2429,S2428,DiasNOLaborables),\"\")","v":"2021-07-23"},{"$f":"+IF(C2429=\"\",\"\",IF(J2429=\"\",\"SIN RESPUESTA\",(IF(J2429<=M2429,\"A TIEMPO\",\"FUERA DE TIEMPO\"))))","v":"A TIEMPO"},{"$f":"IF(J2429=\"\",\"\",NETWORKDAYS(C2429+1,J2429,DiasNOLaborables))","v":5},"",null,null,20]
[2419,20219050075372,"2021-06-23","CIUDADANO","MODULO CONTACTENOS","SOLICITUD DE INFORMACIÓN Y DOCUMENTOS","SOLICITUD DE INFORMACIÓN HIDROMETEOROLÓGICA","NO","GRUPO DE SERVICIO AL CIUDADANO ","2021-07-21","CORREO ELECTRÓNICO",null,{"$f":"IFERROR(WORKDAY(C2430,S2429,DiasNOLaborables),\"\")","v":"2021-07-23"},{"$f":"+IF(C2430=\"\",\"\",IF(J2430=\"\",\"SIN RESPUESTA\",(IF(J2430<=M2430,\"A TIEMPO\",\"FUERA DE TIEMPO\"))))","v":"A TIEMPO"},{"$f":"IF(J2430=\"\",\"\",NETWORKDAYS(C2430+1,J2430,DiasNOLaborables))","v":18},"",null,null,20]
[2420,20219050075382,"2021-06-23","CIUDADANO","MODULO CONTACTENOS","SOLICITUD DE INFORMACIÓN Y DOCUMENTOS","SOLICITUD DE INFORMACIÓN HIDROMETEOROLÓGICA","NO","GRUPO DE SERVICIO AL CIUDADANO ","2021-07-21","CORREO ELECTRÓNICO",null,{"$f":"IFERROR(WORKDAY(C2431,S2430,DiasNOLaborables),\"\")","v":"2021-07-23"},{"$f":"+IF(C2431=\"\",\"\",IF(J2431=\"\",\"SIN RESPUESTA\",(IF(J2431<=M2431,\"A TIEMPO\",\"FUERA DE TIEMPO\"))))","v":"A TIEMPO"},{"$f":"IF(J2431=\"\",\"\",NETWORKDAYS(C2431+1,J2431,DiasNOLaborables))","v":18},"",null,null,20]
[2421,20219050075422,"2021-06-23","CIUDADANO","MODULO CONTACTENOS","SOLICITUD DE INFORMACIÓN Y DOCUMENTOS","SOLICITUD DE INFORMACIÓN HIDROMETEOROLÓGICA","NO","GRUPO DE SERVICIO AL CIUDADANO ","2021-07-21","CORREO ELECTRÓNICO",null,{"$f":"IFERROR(WORKDAY(C2432,S2431,DiasNOLaborables),\"\")","v":"2021-07-23"},{"$f":"+IF(C2432=\"\",\"\",IF(J2432=\"\",\"SIN RESPUESTA\",(IF(J2432<=M2432,\"A TIEMPO\",\"FUERA DE TIEMPO\"))))","v":"A TIEMPO"},{"$f":"IF(J2432=\"\",\"\",NETWORKDAYS(C2432+1,J2432,DiasNOLaborables))","v":18},"",null,null,20]
[2422,20219050075462,"2021-06-23","CIUDADANO","MODULO CONTACTENOS","SOLICITUD DE INFORMACIÓN Y DOCUMENTOS","SOLICITUD DE INFORMACIÓN HIDROMETEOROLÓGICA","NO","GRUPO DE SERVICIO AL CIUDADANO ","2021-07-21","CORREO ELECTRÓNICO",null,{"$f":"IFERROR(WORKDAY(C2433,S2432,DiasNOLaborables),\"\")","v":"2021-07-23"},{"$f":"+IF(C2433=\"\",\"\",IF(J2433=\"\",\"SIN RESPUESTA\",(IF(J2433<=M2433,\"A TIEMPO\",\"FUERA DE TIEMPO\"))))","v":"A TIEMPO"},{"$f":"IF(J2433=\"\",\"\",NETWORKDAYS(C2433+1,J2433,DiasNOLaborables))","v":18},"",null,null,20]
[2423,20219050075502,"2021-06-23","CIUDADANO","MODULO CONTACTENOS","SOLICITUD DE INFORMACIÓN Y DOCUMENTOS","SOLICITUD DE INFORMACIÓN HIDROMETEOROLÓGICA","NO","GRUPO DE SERVICIO AL CIUDADANO ","2021-07-21","CORREO ELECTRÓNICO",null,{"$f":"IFERROR(WORKDAY(C2434,S2433,DiasNOLaborables),\"\")","v":"2021-07-23"},{"$f":"+IF(C2434=\"\",\"\",IF(J2434=\"\",\"SIN RESPUESTA\",(IF(J2434<=M2434,\"A TIEMPO\",\"FUERA DE TIEMPO\"))))","v":"A TIEMPO"},{"$f":"IF(J2434=\"\",\"\",NETWORKDAYS(C2434+1,J2434,DiasNOLaborables))","v":18},"",null,null,20]
[2424,20219050075672,"2021-06-23","CIUDADANO","MODULO CONTACTENOS","SOLICITUD DE INFORMACIÓN Y DOCUMENTOS","SOLICITUD DE INFORMACIÓN HIDROMETEOROLÓGICA","NO","GRUPO DE SERVICIO AL CIUDADANO ","2021-07-22","CORREO ELECTRÓNICO",null,{"$f":"IFERROR(WORKDAY(C2435,S2434,DiasNOLaborables),\"\")","v":"2021-07-23"},{"$f":"+IF(C2435=\"\",\"\",IF(J2435=\"\",\"SIN RESPUESTA\",(IF(J2435<=M2435,\"A TIEMPO\",\"FUERA DE TIEMPO\"))))","v":"A TIEMPO"},{"$f":"IF(J2435=\"\",\"\",NETWORKDAYS(C2435+1,J2435,DiasNOLaborables))","v":19},"",null,null,20]
[2425,20219050075882,"2021-06-23","CIUDADANO","MODULO CONTACTENOS","SOLICITUD DE INFORMACIÓN Y DOCUMENTOS","SOLICITUD DE INFORMACIÓN HIDROMETEOROLÓGICA","NO","GRUPO DE SERVICIO AL CIUDADANO ","2021-07-22","CORREO ELECTRÓNICO",null,{"$f":"IFERROR(WORKDAY(C2436,S2435,DiasNOLaborables),\"\")","v":"2021-07-23"},{"$f":"+IF(C2436=\"\",\"\",IF(J2436=\"\",\"SIN RESPUESTA\",(IF(J2436<=M2436,\"A TIEMPO\",\"FUERA DE TIEMPO\"))))","v":"A TIEMPO"},{"$f":"IF(J2436=\"\",\"\",NETWORKDAYS(C2436+1,J2436,DiasNOLaborables))","v":19},"",null,null,20]
[2426,20219050075952,"2021-06-24","CIUDADANO","MODULO CONTACTENOS","SOLICITUD DE INFORMACIÓN Y DOCUMENTOS","SOLICITUD DE INFORMACIÓN HIDROMETEOROLÓGICA","NO","GRUPO DE SERVICIO AL CIUDADANO ","2021-07-22","CORREO ELECTRÓNICO",null,{"$f":"IFERROR(WORKDAY(C2437,S2436,DiasNOLaborables),\"\")","v":"2021-07-26"},{"$f":"+IF(C2437=\"\",\"\",IF(J2437=\"\",\"SIN RESPUESTA\",(IF(J2437<=M2437,\"A TIEMPO\",\"FUERA DE TIEMPO\"))))","v":"A TIEMPO"},{"$f":"IF(J2437=\"\",\"\",NETWORKDAYS(C2437+1,J2437,DiasNOLaborables))","v":18},{"$f":"IF(NETWORKDAYS(M2437+1,J2437,DiasNOLaborables)<=0,\"\",NETWORKDAYS(M2437+1,J2437,DiasNOLaborables))","v":""},null,null,20]
[2427,20219050076012,"2021-06-24","CIUDADANO","MODULO CONTACTENOS","SOLICITUD DE INFORMACIÓN Y DOCUMENTOS","SOLICITUD DE INFORMACIÓN HIDROMETEOROLÓGICA","NO","GRUPO DE SERVICIO AL CIUDADANO ","2021-07-22","CORREO ELECTRÓNICO",null,{"$f":"IFERROR(WORKDAY(C2438,S2437,DiasNOLaborables),\"\")","v":"2021-07-26"},{"$f":"+IF(C2438=\"\",\"\",IF(J2438=\"\",\"SIN RESPUESTA\",(IF(J2438<=M2438,\"A TIEMPO\",\"FUERA DE TIEMPO\"))))","v":"A TIEMPO"},{"$f":"IF(J2438=\"\",\"\",NETWORKDAYS(C2438+1,J2438,DiasNOLaborables))","v":18},"",null,null,20]
[2428,20219050076082,"2021-06-24","CIUDADANO","MODULO CONTACTENOS","SOLICITUD DE INFORMACIÓN Y DOCUMENTOS","SOLICITUD DE INFORMACIÓN HIDROMETEOROLÓGICA","NO","GRUPO DE SERVICIO AL CIUDADANO ","2021-07-22","CORREO ELECTRÓNICO",null,{"$f":"IFERROR(WORKDAY(C2439,S2438,DiasNOLaborables),\"\")","v":"2021-07-26"},{"$f":"+IF(C2439=\"\",\"\",IF(J2439=\"\",\"SIN RESPUESTA\",(IF(J2439<=M2439,\"A TIEMPO\",\"FUERA DE TIEMPO\"))))","v":"A TIEMPO"},{"$f":"IF(J2439=\"\",\"\",NETWORKDAYS(C2439+1,J2439,DiasNOLaborables))","v":18},"",null,null,20]
[2429,20219050076132,"2021-06-24","CIUDADANO","MODULO CONTACTENOS","SOLICITUD DE INFORMACIÓN Y DOCUMENTOS","SOLICITUD DE INFORMACIÓN HIDROMETEOROLÓGICA","NO","GRUPO DE SERVICIO AL CIUDADANO ","2021-07-22","CORREO ELECTRÓNICO",null,{"$f":"IFERROR(WORKDAY(C2440,S2439,DiasNOLaborables),\"\")","v":"2021-07-26"},{"$f":"+IF(C2440=\"\",\"\",IF(J2440=\"\",\"SIN RESPUESTA\",(IF(J2440<=M2440,\"A TIEMPO\",\"FUERA DE TIEMPO\"))))","v":"A TIEMPO"},{"$f":"IF(J2440=\"\",\"\",NETWORKDAYS(C2440+1,J2440,DiasNOLaborables))","v":18},"",null,null,20]
[2430,20219050076032,"2021-06-24","CIUDADANO","MODULO CONTACTENOS","SOLICITUD DE INFORMACIÓN Y DOCUMENTOS","SOLICITUD DE INFORMACIÓN HIDROMETEOROLÓGICA","NO","GRUPO DE SERVICIO AL CIUDADANO ","2021-06-30","CORREO ELECTRÓNICO",null,{"$f":"IFERROR(WORKDAY(C2441,S2440,DiasNOLaborables),\"\")","v":"2021-07-26"},{"$f":"+IF(C2441=\"\",\"\",IF(J2441=\"\",\"SIN RESPUESTA\",(IF(J2441<=M2441,\"A TIEMPO\",\"FUERA DE TIEMPO\"))))","v":"A TIEMPO"},{"$f":"IF(J2441=\"\",\"\",NETWORKDAYS(C2441+1,J2441,DiasNOLaborables))","v":4},"",null,null,20]
[2431,20219050076042,"2021-06-24","CIUDADANO","MODULO CONTACTENOS","SOLICITUD DE INFORMACIÓN Y DOCUMENTOS","SOLICITUD DE INFORMACIÓN HIDROMETEOROLÓGICA","NO","GRUPO DE SERVICIO AL CIUDADANO ","2021-06-30","CORREO ELECTRÓNICO",null,{"$f":"IFERROR(WORKDAY(C2442,S2441,DiasNOLaborables),\"\")","v":"2021-07-26"},{"$f":"+IF(C2442=\"\",\"\",IF(J2442=\"\",\"SIN RESPUESTA\",(IF(J2442<=M2442,\"A TIEMPO\",\"FUERA DE TIEMPO\"))))","v":"A TIEMPO"},{"$f":"IF(J2442=\"\",\"\",NETWORKDAYS(C2442+1,J2442,DiasNOLaborables))","v":4},"",null,null,20]
[2432,20219050076062,"2021-06-24","CIUDADANO","MODULO CONTACTENOS","SOLICITUD DE INFORMACIÓN Y DOCUMENTOS","SOLICITUD DE INFORMACIÓN HIDROMETEOROLÓGICA","NO","GRUPO DE SERVICIO AL CIUDADANO ","2021-06-30","CORREO ELECTRÓNICO",null,{"$f":"IFERROR(WORKDAY(C2443,S2442,DiasNOLaborables),\"\")","v":"2021-07-26"},{"$f":"+IF(C2443=\"\",\"\",IF(J2443=\"\",\"SIN RESPUESTA\",(IF(J2443<=M2443,\"A TIEMPO\",\"FUERA DE TIEMPO\"))))","v":"A TIEMPO"},{"$f":"IF(J2443=\"\",\"\",NETWORKDAYS(C2443+1,J2443,DiasNOLaborables))","v":4},"",null,null,20]
[2433,20219050076092,"2021-06-24","CIUDADANO","MODULO CONTACTENOS","SOLICITUD DE INFORMACIÓN Y DOCUMENTOS","SOLICITUD DE INFORMACIÓN HIDROMETEOROLÓGICA","NO","GRUPO DE SERVICIO AL CIUDADANO ","2021-06-30","CORREO ELECTRÓNICO",null,{"$f":"IFERROR(WORKDAY(C2444,S2443,DiasNOLaborables),\"\")","v":"2021-07-26"},{"$f":"+IF(C2444=\"\",\"\",IF(J2444=\"\",\"SIN RESPUESTA\",(IF(J2444<=M2444,\"A TIEMPO\",\"FUERA DE TIEMPO\"))))","v":"A TIEMPO"},{"$f":"IF(J2444=\"\",\"\",NETWORKDAYS(C2444+1,J2444,DiasNOLaborables))","v":4},"",null,null,20]
[2434,20219050076102,"2021-06-24","ACADEMIA ","MODULO CONTACTENOS","SOLICITUD DE INFORMACIÓN Y DOCUMENTOS","SOLICITUD DE INFORMACIÓN HIDROMETEOROLÓGICA","NO","GRUPO DE SERVICIO AL CIUDADANO ","2021-06-30","CORREO ELECTRÓNICO",null,{"$f":"IFERROR(WORKDAY(C2445,S2444,DiasNOLaborables),\"\")","v":"2021-07-26"},{"$f":"+IF(C2445=\"\",\"\",IF(J2445=\"\",\"SIN RESPUESTA\",(IF(J2445<=M2445,\"A TIEMPO\",\"FUERA DE TIEMPO\"))))","v":"A TIEMPO"},{"$f":"IF(J2445=\"\",\"\",NETWORKDAYS(C2445+1,J2445,DiasNOLaborables))","v":4},"",null,null,{"$f":"IFERROR(VLOOKUP(F2446,$AA$51:$AB$64,2),\"\")","v":20}]
[{"$f":"IF(B2446<>\"\",A2445+1,\"\")","v":2435},20219050076112,"2021-06-24","CIUDADANO","MODULO CONTACTENOS","SOLICITUD DE INFORMACIÓN Y DOCUMENTOS","SOLICITUD DE INFORMACIÓN HIDROMETEOROLÓGICA","NO","GRUPO DE SERVICIO AL CIUDADANO ","2021-06-30","CORREO ELECTRÓNICO",null,{"$f":"IFERROR(WORKDAY(C2446,S2445,DiasNOLaborables),\"\")","v":"2021-07-26"},{"$f":"+IF(C2446=\"\",\"\",IF(J2446=\"\",\"SIN RESPUESTA\",(IF(J2446<=M2446,\"A TIEMPO\",\"FUERA DE TIEMPO\"))))","v":"A TIEMPO"},{"$f":"IF(J2446=\"\",\"\",NETWORKDAYS(C2446+1,J2446,DiasNOLaborables))","v":4},"",null,null,20]
[2436,20217090001922,"2021-06-24","ACADEMIA ","MODULO CONTACTENOS","SOLICITUD DE INFORMACIÓN Y DOCUMENTOS","SOLICITUD DE INFORMACIÓN HIDROMETEOROLÓGICA","NO","GRUPO DE SERVICIO AL CIUDADANO ","2021-07-01","CORREO ELECTRÓNICO",null,{"$f":"IFERROR(WORKDAY(C2447,S2446,DiasNOLaborables),\"\")","v":"2021-07-26"},{"$f":"+IF(C2447=\"\",\"\",IF(J2447=\"\",\"SIN RESPUESTA\",(IF(J2447<=M2447,\"A TIEMPO\",\"FUERA DE TIEMPO\"))))","v":"A TIEMPO"},{"$f":"IF(J2447=\"\",\"\",NETWORKDAYS(C2447+1,J2447,DiasNOLaborables))","v":5},"",null,null,20]
[2437,20219050076232,"2021-06-24","CIUDADANO","MODULO CONTACTENOS","SOLICITUD DE INFORMACIÓN Y DOCUMENTOS","SOLICITUD DE INFORMACIÓN HIDROMETEOROLÓGICA","NO","GRUPO DE SERVICIO AL CIUDADANO ","2021-07-01","CORREO ELECTRÓNICO",null,{"$f":"IFERROR(WORKDAY(C2448,S2447,DiasNOLaborables),\"\")","v":"2021-07-26"},{"$f":"+IF(C2448=\"\",\"\",IF(J2448=\"\",\"SIN RESPUESTA\",(IF(J2448<=M2448,\"A TIEMPO\",\"FUERA DE TIEMPO\"))))","v":"A TIEMPO"},{"$f":"IF(J2448=\"\",\"\",NETWORKDAYS(C2448+1,J2448,DiasNOLaborables))","v":5},"",null,null,20]
[2438,20219050076242,"2021-06-24","CIUDADANO","MODULO CONTACTENOS","SOLICITUD DE INFORMACIÓN Y DOCUMENTOS","SOLICITUD DE INFORMACIÓN HIDROMETEOROLÓGICA","NO","GRUPO DE SERVICIO AL CIUDADANO ","2021-07-01","CORREO ELECTRÓNICO",null,{"$f":"IFERROR(WORKDAY(C2449,S2448,DiasNOLaborables),\"\")","v":"2021-07-26"},{"$f":"+IF(C2449=\"\",\"\",IF(J2449=\"\",\"SIN RESPUESTA\",(IF(J2449<=M2449,\"A TIEMPO\",\"FUERA DE TIEMPO\"))))","v":"A TIEMPO"},{"$f":"IF(J2449=\"\",\"\",NETWORKDAYS(C2449+1,J2449,DiasNOLaborables))","v":5},"",null,null,20]
[2439,20219050076222,"2021-06-24","CIUDADANO","MODULO CONTACTENOS","SOLICITUD DE INFORMACIÓN Y DOCUMENTOS","SOLICITUD DE INFORMACIÓN HIDROMETEOROLÓGICA","NO","GRUPO DE SERVICIO AL CIUDADANO ","2021-07-01","CORREO ELECTRÓNICO",null,{"$f":"IFERROR(WORKDAY(C2450,S2449,DiasNOLaborables),\"\")","v":"2021-07-26"},{"$f":"+IF(C2450=\"\",\"\",IF(J2450=\"\",\"SIN RESPUESTA\",(IF(J2450<=M2450,\"A TIEMPO\",\"FUERA DE TIEMPO\"))))","v":"A TIEMPO"},{"$f":"IF(J2450=\"\",\"\",NETWORKDAYS(C2450+1,J2450,DiasNOLaborables))","v":5},"",null,null,20]
[2440,20219050076252,"2021-06-24","CIUDADANO","MODULO CONTACTENOS","SOLICITUD DE INFORMACIÓN Y DOCUMENTOS","SOLICITUD DE INFORMACIÓN HIDROMETEOROLÓGICA","NO","GRUPO DE SERVICIO AL CIUDADANO ","2021-07-01","CORREO ELECTRÓNICO",null,{"$f":"IFERROR(WORKDAY(C2451,S2450,DiasNOLaborables),\"\")","v":"2021-07-26"},{"$f":"+IF(C2451=\"\",\"\",IF(J2451=\"\",\"SIN RESPUESTA\",(IF(J2451<=M2451,\"A TIEMPO\",\"FUERA DE TIEMPO\"))))","v":"A TIEMPO"},{"$f":"IF(J2451=\"\",\"\",NETWORKDAYS(C2451+1,J2451,DiasNOLaborables))","v":5},"",null,null,20]
[2441,20219050076262,"2021-06-24","CIUDADANO","MODULO CONTACTENOS","SOLICITUD DE INFORMACIÓN Y DOCUMENTOS","SOLICITUD DE INFORMACIÓN HIDROMETEOROLÓGICA","NO","GRUPO DE SERVICIO AL CIUDADANO ","2021-07-01","CORREO ELECTRÓNICO",null,{"$f":"IFERROR(WORKDAY(C2452,S2451,DiasNOLaborables),\"\")","v":"2021-07-26"},{"$f":"+IF(C2452=\"\",\"\",IF(J2452=\"\",\"SIN RESPUESTA\",(IF(J2452<=M2452,\"A TIEMPO\",\"FUERA DE TIEMPO\"))))","v":"A TIEMPO"},{"$f":"IF(J2452=\"\",\"\",NETWORKDAYS(C2452+1,J2452,DiasNOLaborables))","v":5},"",null,null,20]
[2442,20219050076272,"2021-06-24","CIUDADANO","MODULO CONTACTENOS","SOLICITUD DE INFORMACIÓN Y DOCUMENTOS","SOLICITUD DE INFORMACIÓN HIDROMETEOROLÓGICA","NO","GRUPO DE SERVICIO AL CIUDADANO ","2021-07-01","CORREO ELECTRÓNICO",null,{"$f":"IFERROR(WORKDAY(C2453,S2452,DiasNOLaborables),\"\")","v":"2021-07-26"},{"$f":"+IF(C2453=\"\",\"\",IF(J2453=\"\",\"SIN RESPUESTA\",(IF(J2453<=M2453,\"A TIEMPO\",\"FUERA DE TIEMPO\"))))","v":"A TIEMPO"},{"$f":"IF(J2453=\"\",\"\",NETWORKDAYS(C2453+1,J2453,DiasNOLaborables))","v":5},"",null,null,20]
[2443,20219050076292,"2021-06-24","ACADEMIA ","MODULO CONTACTENOS","SOLICITUD DE INFORMACIÓN Y DOCUMENTOS","SOLICITUD DE INFORMACIÓN HIDROMETEOROLÓGICA","NO","GRUPO DE SERVICIO AL CIUDADANO ","2021-07-01","CORREO ELECTRÓNICO",null,{"$f":"IFERROR(WORKDAY(C2454,S2453,DiasNOLaborables),\"\")","v":"2021-07-26"},{"$f":"+IF(C2454=\"\",\"\",IF(J2454=\"\",\"SIN RESPUESTA\",(IF(J2454<=M2454,\"A TIEMPO\",\"FUERA DE TIEMPO\"))))","v":"A TIEMPO"},{"$f":"IF(J2454=\"\",\"\",NETWORKDAYS(C2454+1,J2454,DiasNOLaborables))","v":5},"",null,null,20]
[2444,20219050075932,"2021-06-24","CIUDADANO","CORREO ELECTRÓNICO","SOLICITUD DE INFORMACIÓN Y DOCUMENTOS","BOSQUES","SI","SUBDIRECCIÓN DE ECOSISTEMAS E INFORMACIÓN AMBIENTAL","2021-07-02","CORREO ELECTRÓNICO",null,{"$f":"IFERROR(WORKDAY(C2455,S2454,DiasNOLaborables),\"\")","v":"2021-07-26"},{"$f":"+IF(C2455=\"\",\"\",IF(J2455=\"\",\"SIN RESPUESTA\",(IF(J2455<=M2455,\"A TIEMPO\",\"FUERA DE TIEMPO\"))))","v":"A TIEMPO"},{"$f":"IF(J2455=\"\",\"\",NETWORKDAYS(C2455+1,J2455,DiasNOLaborables))","v":6},"",null,null,20]
[2445,20219050075942,"2021-06-24","CIUDADANO","CORREO ELECTRÓNICO","SOLICITUD DE INFORMACIÓN Y DOCUMENTOS","ADMINISTRATIVA",null,"GRUPO DE ADMINISTRACIÓN Y DESARROLLO DEL TALENTO HUMANO","2021-06-29","CORREO ELECTRÓNICO",null,{"$f":"IFERROR(WORKDAY(C2456,S2455,DiasNOLaborables),\"\")","v":"2021-07-26"},{"$f":"+IF(C2456=\"\",\"\",IF(J2456=\"\",\"SIN RESPUESTA\",(IF(J2456<=M2456,\"A TIEMPO\",\"FUERA DE TIEMPO\"))))","v":"A TIEMPO"},{"$f":"IF(J2456=\"\",\"\",NETWORKDAYS(C2456+1,J2456,DiasNOLaborables))","v":3},"",null,null,20]
[2446,20219050075962,"2021-06-24","CIUDADANO","CORREO ELECTRÓNICO","SOLICITUD DE INFORMACIÓN Y DOCUMENTOS","ADMINISTRATIVA","SI","GRUPO DE ADMINISTRACIÓN Y DESARROLLO DEL TALENTO HUMANO","2021-06-29","CORREO ELECTRÓNICO",null,{"$f":"IFERROR(WORKDAY(C2457,S2456,DiasNOLaborables),\"\")","v":"2021-07-26"},{"$f":"+IF(C2457=\"\",\"\",IF(J2457=\"\",\"SIN RESPUESTA\",(IF(J2457<=M2457,\"A TIEMPO\",\"FUERA DE TIEMPO\"))))","v":"A TIEMPO"},{"$f":"IF(J2457=\"\",\"\",NETWORKDAYS(C2457+1,J2457,DiasNOLaborables))","v":3},"",null,null,20]
[2447,20219050076122,"2021-06-24","CIUDADANO","CORREO ELECTRÓNICO","SOLICITUD DE INFORMACIÓN Y DOCUMENTOS",null,"SI","SUBDIRECCIÓN DE METEOROLOGÍA","2021-06-30","CORREO ELECTRÓNICO",null,{"$f":"IFERROR(WORKDAY(C2458,S2457,DiasNOLaborables),\"\")","v":"2021-07-26"},{"$f":"+IF(C2458=\"\",\"\",IF(J2458=\"\",\"SIN RESPUESTA\",(IF(J2458<=M2458,\"A TIEMPO\",\"FUERA DE TIEMPO\"))))","v":"A TIEMPO"},{"$f":"IF(J2458=\"\",\"\",NETWORKDAYS(C2458+1,J2458,DiasNOLaborables))","v":4},"",null,null,20]
[2448,20219050076192,"2021-06-24","CIUDADANO","CORREO ELECTRÓNICO","SOLICITUD DE INFORMACIÓN Y DOCUMENTOS","REGISTROS AMBIENTALES","SI","SUBDIRECCIÓN DE ESTUDIOS AMBIENTALES","2021-07-01","CORREO ELECTRÓNICO",null,{"$f":"IFERROR(WORKDAY(C2459,S2458,DiasNOLaborables),\"\")","v":"2021-07-26"},{"$f":"+IF(C2459=\"\",\"\",IF(J2459=\"\",\"SIN RESPUESTA\",(IF(J2459<=M2459,\"A TIEMPO\",\"FUERA DE TIEMPO\"))))","v":"A TIEMPO"},{"$f":"IF(J2459=\"\",\"\",NETWORKDAYS(C2459+1,J2459,DiasNOLaborables))","v":5},"",null,null,20]
[2449,20219050076202,"2021-06-24","CIUDADANO","CORREO ELECTRÓNICO","SOLICITUD DE INFORMACIÓN Y DOCUMENTOS","REGISTROS AMBIENTALES","SI","SUBDIRECCIÓN DE ESTUDIOS AMBIENTALES","2021-07-07","CORREO ELECTRÓNICO",null,{"$f":"IFERROR(WORKDAY(C2460,S2459,DiasNOLaborables),\"\")","v":"2021-07-26"},{"$f":"+IF(C2460=\"\",\"\",IF(J2460=\"\",\"SIN RESPUESTA\",(IF(J2460<=M2460,\"A TIEMPO\",\"FUERA DE TIEMPO\"))))","v":"A TIEMPO"},{"$f":"IF(J2460=\"\",\"\",NETWORKDAYS(C2460+1,J2460,DiasNOLaborables))","v":8},"",null,null,20]
[2450,20219050076002,"2021-06-24","FUNCIONARIO IDEAM","MODULO CONTACTENOS","SOLICITUD DE INFORMACIÓN Y DOCUMENTOS","ADMINISTRATIVA","SI","GRUPO DE ADMINISTRACIÓN Y DESARROLLO DEL TALENTO HUMANO","2021-07-07","CORREO ELECTRÓNICO",null,{"$f":"IFERROR(WORKDAY(C2461,S2460,DiasNOLaborables),\"\")","v":"2021-07-26"},{"$f":"+IF(C2461=\"\",\"\",IF(J2461=\"\",\"SIN RESPUESTA\",(IF(J2461<=M2461,\"A TIEMPO\",\"FUERA DE TIEMPO\"))))","v":"A TIEMPO"},{"$f":"IF(J2461=\"\",\"\",NETWORKDAYS(C2461+1,J2461,DiasNOLaborables))","v":8},"",null,null,20]
[2451,20219050076022,"2021-06-24","EMPRESA PRIVADA","MODULO CONTACTENOS","SOLICITUD DE INFORMACIÓN Y DOCUMENTOS","ACREDITACIÓN DE LABORATORIOS","SI","SUBDIRECCIÓN DE ESTUDIOS AMBIENTALES","2021-07-02","CORREO ELECTRÓNICO",null,{"$f":"IFERROR(WORKDAY(C2462,S2461,DiasNOLaborables),\"\")","v":"2021-07-26"},{"$f":"+IF(C2462=\"\",\"\",IF(J2462=\"\",\"SIN RESPUESTA\",(IF(J2462<=M2462,\"A TIEMPO\",\"FUERA DE TIEMPO\"))))","v":"A TIEMPO"},{"$f":"IF(J2462=\"\",\"\",NETWORKDAYS([5]Hoja1!C2460+1,[5]Hoja1!P2460,DiasNOLaborables))","v":18},"",null,null,20]
[2452,20219910034612,"2021-06-24","CIUDADANO","MODULO CONTACTENOS","SOLICITUD DE INFORMACIÓN Y DOCUMENTOS","SIA","SI","SUBDIRECCIÓN DE ECOSISTEMAS E INFORMACIÓN AMBIENTAL","2021-07-07","CORREO ELECTRÓNICO",null,{"$f":"IFERROR(WORKDAY(C2463,S2462,DiasNOLaborables),\"\")","v":"2021-07-26"},{"$f":"+IF(C2463=\"\",\"\",IF(J2463=\"\",\"SIN RESPUESTA\",(IF(J2463<=M2463,\"A TIEMPO\",\"FUERA DE TIEMPO\"))))","v":"A TIEMPO"},{"$f":"IF(J2463=\"\",\"\",NETWORKDAYS(C2463+1,J2463,DiasNOLaborables))","v":8},"",null,null,20]
[2453,20219050076072,"2021-06-24","FUNCIONARIO IDEAM","MODULO CONTACTENOS","SOLICITUD DE INFORMACIÓN Y DOCUMENTOS","ADMINISTRATIVA","SI","GRUPO DE ADMINISTRACIÓN Y DESARROLLO DEL TALENTO HUMANO","2021-06-30","CORREO ELECTRÓNICO",null,{"$f":"IFERROR(WORKDAY(C2464,S2463,DiasNOLaborables),\"\")","v":"2021-07-26"},{"$f":"+IF(C2464=\"\",\"\",IF(J2464=\"\",\"SIN RESPUESTA\",(IF(J2464<=M2464,\"A TIEMPO\",\"FUERA DE TIEMPO\"))))","v":"A TIEMPO"},{"$f":"IF(J2464=\"\",\"\",NETWORKDAYS(C2464+1,J2464,DiasNOLaborables))","v":4},"",null,null,20]
[2454,20219050076182,"2021-06-24","ACADEMIA ","CORREO ELECTRÓNICO","SOLICITUD DE INFORMACIÓN Y DOCUMENTOS","SOLICITUD DE INFORMACIÓN HIDROMETEOROLÓGICA","NO","GRUPO DE SERVICIO AL CIUDADANO ","2021-07-01","CORREO ELECTRÓNICO",null,{"$f":"IFERROR(WORKDAY(C2465,S2464,DiasNOLaborables),\"\")","v":"2021-07-26"},{"$f":"+IF(C2465=\"\",\"\",IF(J2465=\"\",\"SIN RESPUESTA\",(IF(J2465<=M2465,\"A TIEMPO\",\"FUERA DE TIEMPO\"))))","v":"A TIEMPO"},{"$f":"IF(J2465=\"\",\"\",NETWORKDAYS(C2465+1,J2465,DiasNOLaborables))","v":5},"",null,null,20]
[2455,20219050076212,"2021-06-24","CIUDADANO","MODULO CONTACTENOS","SOLICITUD DE INFORMACIÓN Y DOCUMENTOS","SOLICITUD DE INFORMACIÓN HIDROMETEOROLÓGICA","NO","GRUPO DE SERVICIO AL CIUDADANO ","2021-07-07","CORREO ELECTRÓNICO",null,{"$f":"IFERROR(WORKDAY(C2466,S2465,DiasNOLaborables),\"\")","v":"2021-07-26"},{"$f":"+IF(C2466=\"\",\"\",IF(J2466=\"\",\"SIN RESPUESTA\",(IF(J2466<=M2466,\"A TIEMPO\",\"FUERA DE TIEMPO\"))))","v":"A TIEMPO"},{"$f":"IF(J2466=\"\",\"\",NETWORKDAYS(C2466+1,J2466,DiasNOLaborables))","v":8},"",null,null,20]
[2456,20219050076452,"2021-06-25","EMPRESA PRIVADA","CORREO ELECTRÓNICO","SOLICITUD DE INFORMACIÓN Y DOCUMENTOS","SOLICITUD DE INFORMACIÓN HIDROMETEOROLÓGICA","NO","GRUPO DE SERVICIO AL CIUDADANO ","2021-07-01","CORREO ELECTRÓNICO",null,{"$f":"IFERROR(WORKDAY(C2467,S2466,DiasNOLaborables),\"\")","v":"2021-07-27"},{"$f":"+IF(C2467=\"\",\"\",IF(J2467=\"\",\"SIN RESPUESTA\",(IF(J2467<=M2467,\"A TIEMPO\",\"FUERA DE TIEMPO\"))))","v":"A TIEMPO"},{"$f":"IF(J2467=\"\",\"\",NETWORKDAYS(C2467+1,J2467,DiasNOLaborables))","v":4},"",null,null,20]
[2457,20219050076462,"2021-06-25","EMPRESA PRIVADA","CORREO ELECTRÓNICO","SOLICITUD DE INFORMACIÓN Y DOCUMENTOS","SOLICITUD DE INFORMACIÓN HIDROMETEOROLÓGICA","NO","GRUPO DE SERVICIO AL CIUDADANO ","2021-07-01","CORREO ELECTRÓNICO",null,{"$f":"IFERROR(WORKDAY(C2468,S2467,DiasNOLaborables),\"\")","v":"2021-07-27"},{"$f":"+IF(C2468=\"\",\"\",IF(J2468=\"\",\"SIN RESPUESTA\",(IF(J2468<=M2468,\"A TIEMPO\",\"FUERA DE TIEMPO\"))))","v":"A TIEMPO"},{"$f":"IF(J2468=\"\",\"\",NETWORKDAYS(C2468+1,J2468,DiasNOLaborables))","v":4},"",null,null,20]
[2458,20219050076512,"2021-06-25","CIUDADANO","MODULO CONTACTENOS","SOLICITUD DE INFORMACIÓN Y DOCUMENTOS","CLIMATOLOGÍA","SI","SUBDIRECCIÓN DE METEOROLOGÍA","2021-06-25","CORREO ELECTRÓNICO",null,{"$f":"IFERROR(WORKDAY(C2469,S2468,DiasNOLaborables),\"\")","v":"2021-07-27"},{"$f":"+IF(C2469=\"\",\"\",IF(J2469=\"\",\"SIN RESPUESTA\",(IF(J2469<=M2469,\"A TIEMPO\",\"FUERA DE TIEMPO\"))))","v":"A TIEMPO"},{"$f":"IF(J2469=\"\",\"\",NETWORKDAYS(C2469+1,J2469,DiasNOLaborables))","v":-1},"",null,null,20]
[2459,20219050076382,"2021-06-25","CIUDADANO","CORREO ELECTRÓNICO","SOLICITUD DE INFORMACIÓN Y DOCUMENTOS","REGISTROS AMBIENTALES","SI","SUBDIRECCIÓN DE ESTUDIOS AMBIENTALES","2021-07-07","CORREO ELECTRÓNICO",null,{"$f":"IFERROR(WORKDAY(C2470,S2469,DiasNOLaborables),\"\")","v":"2021-07-27"},{"$f":"+IF(C2470=\"\",\"\",IF(J2470=\"\",\"SIN RESPUESTA\",(IF(J2470<=M2470,\"A TIEMPO\",\"FUERA DE TIEMPO\"))))","v":"A TIEMPO"},{"$f":"IF(J2470=\"\",\"\",NETWORKDAYS(C2470+1,J2470,DiasNOLaborables))","v":7},"",null,null,35]
[2460,20219050076422,"2021-06-25","CIUDADANO","CORREO ELECTRÓNICO","CERTIFICACIONES DE TIEMPO, CLIMA Y EVENTOS HIDROLÓGICOS","CERTIFICACIONES DE TIEMPO Y CLIMA","SI","SUBDIRECCIÓN DE METEOROLOGÍA","2021-07-16","CORREO ELECTRÓNICO",null,{"$f":"IFERROR(WORKDAY(C2471,S2470,DiasNOLaborables),\"\")","v":"2021-08-18"},{"$f":"+IF(C2471=\"\",\"\",IF(J2471=\"\",\"SIN RESPUESTA\",(IF(J2471<=M2471,\"A TIEMPO\",\"FUERA DE TIEMPO\"))))","v":"A TIEMPO"},{"$f":"IF(J2471=\"\",\"\",NETWORKDAYS(C2471+1,J2471,DiasNOLaborables))","v":14},"",null,null,20]
[2461,20219050076472,"2021-06-25","CIUDADANO","CORREO ELECTRÓNICO","SOLICITUD DE INFORMACIÓN Y DOCUMENTOS","BOSQUES","SI","SUBDIRECCIÓN DE ECOSISTEMAS E INFORMACIÓN AMBIENTAL","2021-07-09","CORREO ELECTRÓNICO",null,{"$f":"IFERROR(WORKDAY(C2472,S2471,DiasNOLaborables),\"\")","v":"2021-07-27"},{"$f":"+IF(C2472=\"\",\"\",IF(J2472=\"\",\"SIN RESPUESTA\",(IF(J2472<=M2472,\"A TIEMPO\",\"FUERA DE TIEMPO\"))))","v":"A TIEMPO"},{"$f":"IF(J2472=\"\",\"\",NETWORKDAYS(C2472+1,J2472,DiasNOLaborables))","v":9},"",null,null,20]
[2462,20219050076482,"2021-06-25","CIUDADANO","CORREO ELECTRÓNICO","SOLICITUD DE INFORMACIÓN Y DOCUMENTOS","ACREDITACIÓN DE LABORATORIOS","SI","SUBDIRECCIÓN DE ESTUDIOS AMBIENTALES","2021-07-08","CORREO ELECTRÓNICO",null,{"$f":"IFERROR(WORKDAY(C2473,S2472,DiasNOLaborables),\"\")","v":"2021-07-27"},{"$f":"+IF(C2473=\"\",\"\",IF(J2473=\"\",\"SIN RESPUESTA\",(IF(J2473<=M2473,\"A TIEMPO\",\"FUERA DE TIEMPO\"))))","v":"A TIEMPO"},{"$f":"IF(J2473=\"\",\"\",NETWORKDAYS(C2473+1,J2473,DiasNOLaborables))","v":8},"",null,null,20]
[2463,20219050076522,"2021-06-25","CIUDADANO","CORREO ELECTRÓNICO","SOLICITUD DE INFORMACIÓN Y DOCUMENTOS","INFORMES AMBIENTALES","SI","SUBDIRECCIÓN DE ESTUDIOS AMBIENTALES","2021-07-23","CORREO ELECTRÓNICO",null,{"$f":"IFERROR(WORKDAY(C2474,S2473,DiasNOLaborables),\"\")","v":"2021-07-27"},{"$f":"+IF(C2474=\"\",\"\",IF(J2474=\"\",\"SIN RESPUESTA\",(IF(J2474<=M2474,\"A TIEMPO\",\"FUERA DE TIEMPO\"))))","v":"A TIEMPO"},{"$f":"IF(J2474=\"\",\"\",NETWORKDAYS(C2474+1,J2474,DiasNOLaborables))","v":18},"",null,null,35]
[2464,20219050076532,"2021-06-25","CIUDADANO","CORREO ELECTRÓNICO","CERTIFICACIONES DE TIEMPO, CLIMA Y EVENTOS HIDROLÓGICOS","CERTIFICACIONES DE TIEMPO Y CLIMA","SI","SUBDIRECCIÓN DE METEOROLOGÍA","2021-07-16","CORREO ELECTRÓNICO",null,{"$f":"IFERROR(WORKDAY(C2475,S2474,DiasNOLaborables),\"\")","v":"2021-08-18"},{"$f":"+IF(C2475=\"\",\"\",IF(J2475=\"\",\"SIN RESPUESTA\",(IF(J2475<=M2475,\"A TIEMPO\",\"FUERA DE TIEMPO\"))))","v":"A TIEMPO"},{"$f":"IF(J2475=\"\",\"\",NETWORKDAYS(C2475+1,J2475,DiasNOLaborables))","v":14},"",null,null,35]
[2465,20219050076542,"2021-06-25","CIUDADANO","CORREO ELECTRÓNICO","CERTIFICACIONES DE TIEMPO, CLIMA Y EVENTOS HIDROLÓGICOS","CERTIFICACIONES DE TIEMPO Y CLIMA","SI","SUBDIRECCIÓN DE METEOROLOGÍA","2021-07-12","CORREO ELECTRÓNICO",null,{"$f":"IFERROR(WORKDAY(C2476,S2475,DiasNOLaborables),\"\")","v":"2021-08-18"},{"$f":"+IF(C2476=\"\",\"\",IF(J2476=\"\",\"SIN RESPUESTA\",(IF(J2476<=M2476,\"A TIEMPO\",\"FUERA DE TIEMPO\"))))","v":"A TIEMPO"},{"$f":"IF(J2476=\"\",\"\",NETWORKDAYS(C2476+1,J2476,DiasNOLaborables))","v":10},"",null,null,35]
[2466,20219050076552,"2021-06-25","CIUDADANO","CORREO ELECTRÓNICO","CERTIFICACIONES DE TIEMPO, CLIMA Y EVENTOS HIDROLÓGICOS","OPERACIÓN DE REDES","SI","SUBDIRECCIÓN DE HIDROLOGÍA","2021-07-08","CORREO ELECTRÓNICO",null,{"$f":"IFERROR(WORKDAY(C2477,S2476,DiasNOLaborables),\"\")","v":"2021-08-18"},{"$f":"+IF(C2477=\"\",\"\",IF(J2477=\"\",\"SIN RESPUESTA\",(IF(J2477<=M2477,\"A TIEMPO\",\"FUERA DE TIEMPO\"))))","v":"A TIEMPO"},{"$f":"IF(J2477=\"\",\"\",NETWORKDAYS(C2477+1,J2477,DiasNOLaborables))","v":8},"",null,null,35]
[2467,20219050076562,"2021-06-25","CIUDADANO","CORREO ELECTRÓNICO","CERTIFICACIONES DE TIEMPO, CLIMA Y EVENTOS HIDROLÓGICOS","CERTIFICACIONES DE TIEMPO Y CLIMA","SI","SUBDIRECCIÓN DE METEOROLOGÍA","2021-07-12","CORREO ELECTRÓNICO",null,{"$f":"IFERROR(WORKDAY(C2478,S2477,DiasNOLaborables),\"\")","v":"2021-08-18"},{"$f":"+IF(C2478=\"\",\"\",IF(J2478=\"\",\"SIN RESPUESTA\",(IF(J2478<=M2478,\"A TIEMPO\",\"FUERA DE TIEMPO\"))))","v":"A TIEMPO"},{"$f":"IF(J2478=\"\",\"\",NETWORKDAYS(C2478+1,J2478,DiasNOLaborables))","v":10},"",null,null,20]
[2468,20219050076622,"2021-06-25","CIUDADANO","CORREO ELECTRÓNICO","SOLICITUD DE INFORMACIÓN Y DOCUMENTOS","REGISTROS AMBIENTALES","SI","SUBDIRECCIÓN DE ESTUDIOS AMBIENTALES","2021-07-10","CORREO ELECTRÓNICO",null,{"$f":"IFERROR(WORKDAY(C2479,S2478,DiasNOLaborables),\"\")","v":"2021-07-27"},{"$f":"+IF(C2479=\"\",\"\",IF(J2479=\"\",\"SIN RESPUESTA\",(IF(J2479<=M2479,\"A TIEMPO\",\"FUERA DE TIEMPO\"))))","v":"A TIEMPO"},{"$f":"IF(J2479=\"\",\"\",NETWORKDAYS(C2479+1,J2479,DiasNOLaborables))","v":9},"",null,null,20]
[2469,20219050076642,"2021-06-25","CIUDADANO","CORREO ELECTRÓNICO","SOLICITUD DE INFORMACIÓN Y DOCUMENTOS","BOSQUES","SI","SUBDIRECCIÓN DE ECOSISTEMAS E INFORMACIÓN AMBIENTAL","2021-07-09","CORREO ELECTRÓNICO",null,{"$f":"IFERROR(WORKDAY(C2480,S2479,DiasNOLaborables),\"\")","v":"2021-07-27"},{"$f":"+IF(C2480=\"\",\"\",IF(J2480=\"\",\"SIN RESPUESTA\",(IF(J2480<=M2480,\"A TIEMPO\",\"FUERA DE TIEMPO\"))))","v":"A TIEMPO"},{"$f":"IF(J2480=\"\",\"\",NETWORKDAYS(C2480+1,J2480,DiasNOLaborables))","v":9},"",null,null,20]
[2470,20219050076652,"2021-06-25","CIUDADANO","CORREO ELECTRÓNICO","SOLICITUD DE INFORMACIÓN Y DOCUMENTOS","REGISTROS AMBIENTALES","SI","SUBDIRECCIÓN DE ESTUDIOS AMBIENTALES","2021-07-01","CORREO ELECTRÓNICO",null,{"$f":"IFERROR(WORKDAY(C2481,S2480,DiasNOLaborables),\"\")","v":"2021-07-27"},{"$f":"+IF(C2481=\"\",\"\",IF(J2481=\"\",\"SIN RESPUESTA\",(IF(J2481<=M2481,\"A TIEMPO\",\"FUERA DE TIEMPO\"))))","v":"A TIEMPO"},{"$f":"IF(J2481=\"\",\"\",NETWORKDAYS(C2481+1,J2481,DiasNOLaborables))","v":4},"",null,null,20]
[2471,20219050076662,"2021-06-25","CIUDADANO","CORREO ELECTRÓNICO","SOLICITUD DE INFORMACIÓN Y DOCUMENTOS","INFORMES AMBIENTALES","SI","SUBDIRECCIÓN DE METEOROLOGÍA","2021-07-22","CORREO ELECTRÓNICO",null,{"$f":"IFERROR(WORKDAY(C2482,S2481,DiasNOLaborables),\"\")","v":"2021-07-27"},{"$f":"+IF(C2482=\"\",\"\",IF(J2482=\"\",\"SIN RESPUESTA\",(IF(J2482<=M2482,\"A TIEMPO\",\"FUERA DE TIEMPO\"))))","v":"A TIEMPO"},{"$f":"IF(J2482=\"\",\"\",NETWORKDAYS(C2482+1,J2482,DiasNOLaborables))","v":17},"",null,null,20]
[2472,20219050076302,"2021-06-25","CIUDADANO","MODULO CONTACTENOS","SOLICITUD DE INFORMACIÓN Y DOCUMENTOS","SOLICITUD DE INFORMACIÓN HIDROMETEOROLÓGICA","NO","GRUPO DE SERVICIO AL CIUDADANO ","2021-07-02","CORREO ELECTRÓNICO",null,{"$f":"IFERROR(WORKDAY(C2483,S2482,DiasNOLaborables),\"\")","v":"2021-07-27"},{"$f":"+IF(C2483=\"\",\"\",IF(J2483=\"\",\"SIN RESPUESTA\",(IF(J2483<=M2483,\"A TIEMPO\",\"FUERA DE TIEMPO\"))))","v":"A TIEMPO"},{"$f":"IF(J2483=\"\",\"\",NETWORKDAYS(C2483+1,J2483,DiasNOLaborables))","v":5},"",null,null,20]
[2473,20219050076392,"2021-06-25","CIUDADANO","CORREO ELECTRÓNICO","SOLICITUD DE INFORMACIÓN Y DOCUMENTOS","SOLICITUD DE INFORMACIÓN HIDROMETEOROLÓGICA","NO","GRUPO DE SERVICIO AL CIUDADANO ","2021-07-02","CORREO ELECTRÓNICO",null,{"$f":"IFERROR(WORKDAY(C2484,S2483,DiasNOLaborables),\"\")","v":"2021-07-27"},{"$f":"+IF(C2484=\"\",\"\",IF(J2484=\"\",\"SIN RESPUESTA\",(IF(J2484<=M2484,\"A TIEMPO\",\"FUERA DE TIEMPO\"))))","v":"A TIEMPO"},{"$f":"IF(J2484=\"\",\"\",NETWORKDAYS(C2484+1,J2484,DiasNOLaborables))","v":5},"",null,null,20]
[2474,20219050076402,"2021-06-25","CIUDADANO","CORREO ELECTRÓNICO","SOLICITUD DE INFORMACIÓN Y DOCUMENTOS","SOLICITUD DE INFORMACIÓN HIDROMETEOROLÓGICA","NO","GRUPO DE SERVICIO AL CIUDADANO ","2021-07-02","CORREO ELECTRÓNICO",null,{"$f":"IFERROR(WORKDAY(C2485,S2484,DiasNOLaborables),\"\")","v":"2021-07-27"},{"$f":"+IF(C2485=\"\",\"\",IF(J2485=\"\",\"SIN RESPUESTA\",(IF(J2485<=M2485,\"A TIEMPO\",\"FUERA DE TIEMPO\"))))","v":"A TIEMPO"},{"$f":"IF(J2485=\"\",\"\",NETWORKDAYS(C2485+1,J2485,DiasNOLaborables))","v":5},"",null,null,20]
[2475,20219050076412,"2021-06-25","CIUDADANO","CORREO ELECTRÓNICO","SOLICITUD DE INFORMACIÓN Y DOCUMENTOS","SOLICITUD DE INFORMACIÓN HIDROMETEOROLÓGICA","NO","GRUPO DE SERVICIO AL CIUDADANO ","2021-07-02","CORREO ELECTRÓNICO",null,{"$f":"IFERROR(WORKDAY(C2486,S2485,DiasNOLaborables),\"\")","v":"2021-07-27"},{"$f":"+IF(C2486=\"\",\"\",IF(J2486=\"\",\"SIN RESPUESTA\",(IF(J2486<=M2486,\"A TIEMPO\",\"FUERA DE TIEMPO\"))))","v":"A TIEMPO"},{"$f":"IF(J2486=\"\",\"\",NETWORKDAYS(C2486+1,J2486,DiasNOLaborables))","v":5},"",null,null,20]
[2476,20219050076672,"2021-06-25","CIUDADANO","CORREO ELECTRÓNICO","SOLICITUD DE INFORMACIÓN Y DOCUMENTOS","INFORMES AMBIENTALES","SI","SUBDIRECCIÓN DE METEOROLOGÍA","2021-07-22","CORREO ELECTRÓNICO",null,{"$f":"IFERROR(WORKDAY(C2487,S2486,DiasNOLaborables),\"\")","v":"2021-07-27"},{"$f":"+IF(C2487=\"\",\"\",IF(J2487=\"\",\"SIN RESPUESTA\",(IF(J2487<=M2487,\"A TIEMPO\",\"FUERA DE TIEMPO\"))))","v":"A TIEMPO"},{"$f":"IF(J2487=\"\",\"\",NETWORKDAYS(C2487+1,J2487,DiasNOLaborables))","v":17},"",null,null,20]
[2477,20219050076682,"2021-06-25","CIUDADANO","CORREO ELECTRÓNICO","SOLICITUD DE INFORMACIÓN Y DOCUMENTOS","REGISTROS AMBIENTALES","SI","SUBDIRECCIÓN DE ESTUDIOS AMBIENTALES","2021-07-08","CORREO ELECTRÓNICO",null,{"$f":"IFERROR(WORKDAY(C2488,S2487,DiasNOLaborables),\"\")","v":"2021-07-27"},{"$f":"+IF(C2488=\"\",\"\",IF(J2488=\"\",\"SIN RESPUESTA\",(IF(J2488<=M2488,\"A TIEMPO\",\"FUERA DE TIEMPO\"))))","v":"A TIEMPO"},{"$f":"IF(J2488=\"\",\"\",NETWORKDAYS(C2488+1,J2488,DiasNOLaborables))","v":8},"",null,null,20]
[2478,20219050076692,"2021-06-25","CIUDADANO","CORREO ELECTRÓNICO","SOLICITUD DE INFORMACIÓN Y DOCUMENTOS","REGISTROS AMBIENTALES","SI","SUBDIRECCIÓN DE ESTUDIOS AMBIENTALES","2021-07-08","CORREO ELECTRÓNICO",null,{"$f":"IFERROR(WORKDAY(C2489,S2488,DiasNOLaborables),\"\")","v":"2021-07-27"},{"$f":"+IF(C2489=\"\",\"\",IF(J2489=\"\",\"SIN RESPUESTA\",(IF(J2489<=M2489,\"A TIEMPO\",\"FUERA DE TIEMPO\"))))","v":"A TIEMPO"},{"$f":"IF(J2489=\"\",\"\",NETWORKDAYS(C2489+1,J2489,DiasNOLaborables))","v":8},"",null,null,20]
[2479,20219050076582,"2021-06-25","CIUDADANO","CORREO ELECTRÓNICO","SOLICITUD DE INFORMACIÓN Y DOCUMENTOS","REGISTROS AMBIENTALES","SI","SUBDIRECCIÓN DE ESTUDIOS AMBIENTALES","2021-07-09","CORREO ELECTRÓNICO",null,{"$f":"IFERROR(WORKDAY(C2490,S2489,DiasNOLaborables),\"\")","v":"2021-07-27"},{"$f":"+IF(C2490=\"\",\"\",IF(J2490=\"\",\"SIN RESPUESTA\",(IF(J2490<=M2490,\"A TIEMPO\",\"FUERA DE TIEMPO\"))))","v":"A TIEMPO"},{"$f":"IF(J2490=\"\",\"\",NETWORKDAYS(C2490+1,J2490,DiasNOLaborables))","v":9},"",null,null,20]
[2480,20219050076632,"2021-06-25","CIUDADANO","MODULO CONTACTENOS","SOLICITUD DE INFORMACIÓN Y DOCUMENTOS","REGISTROS AMBIENTALES","SI","SUBDIRECCIÓN DE ESTUDIOS AMBIENTALES","2021-07-01","CORREO ELECTRÓNICO",null,{"$f":"IFERROR(WORKDAY(C2491,S2490,DiasNOLaborables),\"\")","v":"2021-07-27"},{"$f":"+IF(C2491=\"\",\"\",IF(J2491=\"\",\"SIN RESPUESTA\",(IF(J2491<=M2491,\"A TIEMPO\",\"FUERA DE TIEMPO\"))))","v":"A TIEMPO"},{"$f":"IF(J2491=\"\",\"\",NETWORKDAYS(C2491+1,J2491,DiasNOLaborables))","v":4},"",null,null,20]
[2481,20219050076312,"2021-06-25","CIUDADANO","MODULO CONTACTENOS","SOLICITUD DE INFORMACIÓN Y DOCUMENTOS","SOLICITUD DE INFORMACIÓN HIDROMETEOROLÓGICA","NO","GRUPO DE SERVICIO AL CIUDADANO ","2021-07-22","CORREO ELECTRÓNICO",null,{"$f":"IFERROR(WORKDAY(C2492,S2491,DiasNOLaborables),\"\")","v":"2021-07-27"},{"$f":"+IF(C2492=\"\",\"\",IF(J2492=\"\",\"SIN RESPUESTA\",(IF(J2492<=M2492,\"A TIEMPO\",\"FUERA DE TIEMPO\"))))","v":"A TIEMPO"},{"$f":"IF(J2492=\"\",\"\",NETWORKDAYS(C2492+1,J2492,DiasNOLaborables))","v":17},"",null,null,20]
[2482,20219050076362,"2021-06-25","CIUDADANO","MODULO CONTACTENOS","SOLICITUD DE INFORMACIÓN Y DOCUMENTOS","SOLICITUD DE INFORMACIÓN HIDROMETEOROLÓGICA","NO","GRUPO DE SERVICIO AL CIUDADANO ","2021-07-22","CORREO ELECTRÓNICO",null,{"$f":"IFERROR(WORKDAY(C2493,S2492,DiasNOLaborables),\"\")","v":"2021-07-27"},{"$f":"+IF(C2493=\"\",\"\",IF(J2493=\"\",\"SIN RESPUESTA\",(IF(J2493<=M2493,\"A TIEMPO\",\"FUERA DE TIEMPO\"))))","v":"A TIEMPO"},{"$f":"IF(J2493=\"\",\"\",NETWORKDAYS(C2493+1,J2493,DiasNOLaborables))","v":17},"",null,null,20]
[2483,20219050076372,"2021-06-25","CIUDADANO","MODULO CONTACTENOS","SOLICITUD DE INFORMACIÓN Y DOCUMENTOS","SOLICITUD DE INFORMACIÓN HIDROMETEOROLÓGICA","NO","GRUPO DE SERVICIO AL CIUDADANO ","2021-07-22","CORREO ELECTRÓNICO",null,{"$f":"IFERROR(WORKDAY(C2494,S2493,DiasNOLaborables),\"\")","v":"2021-07-27"},{"$f":"+IF(C2494=\"\",\"\",IF(J2494=\"\",\"SIN RESPUESTA\",(IF(J2494<=M2494,\"A TIEMPO\",\"FUERA DE TIEMPO\"))))","v":"A TIEMPO"},{"$f":"IF(J2494=\"\",\"\",NETWORKDAYS(C2494+1,J2494,DiasNOLaborables))","v":17},"",null,null,20]
[2484,20219050076432,"2021-06-25","CIUDADANO","MODULO CONTACTENOS","SOLICITUD DE INFORMACIÓN Y DOCUMENTOS","SOLICITUD DE INFORMACIÓN HIDROMETEOROLÓGICA","NO","GRUPO DE SERVICIO AL CIUDADANO ","2021-07-22","CORREO ELECTRÓNICO",null,{"$f":"IFERROR(WORKDAY(C2495,S2494,DiasNOLaborables),\"\")","v":"2021-07-27"},{"$f":"+IF(C2495=\"\",\"\",IF(J2495=\"\",\"SIN RESPUESTA\",(IF(J2495<=M2495,\"A TIEMPO\",\"FUERA DE TIEMPO\"))))","v":"A TIEMPO"},{"$f":"IF(J2495=\"\",\"\",NETWORKDAYS(C2495+1,J2495,DiasNOLaborables))","v":17},"",null,null,20]
[2485,20219050076502,"2021-06-25","CIUDADANO","MODULO CONTACTENOS","SOLICITUD DE INFORMACIÓN Y DOCUMENTOS","SOLICITUD DE INFORMACIÓN HIDROMETEOROLÓGICA","NO","GRUPO DE SERVICIO AL CIUDADANO ","2021-07-22","CORREO ELECTRÓNICO",null,{"$f":"IFERROR(WORKDAY(C2496,S2495,DiasNOLaborables),\"\")","v":"2021-07-27"},{"$f":"+IF(C2496=\"\",\"\",IF(J2496=\"\",\"SIN RESPUESTA\",(IF(J2496<=M2496,\"A TIEMPO\",\"FUERA DE TIEMPO\"))))","v":"A TIEMPO"},{"$f":"IF(J2496=\"\",\"\",NETWORKDAYS(C2496+1,J2496,DiasNOLaborables))","v":17},"",null,null,20]
[2486,20219050076592,"2021-06-25","ACADEMIA","MODULO CONTACTENOS","SOLICITUD DE INFORMACIÓN Y DOCUMENTOS","SOLICITUD DE INFORMACIÓN HIDROMETEOROLÓGICA","NO","GRUPO DE SERVICIO AL CIUDADANO ","2021-07-22","CORREO ELECTRÓNICO",null,{"$f":"IFERROR(WORKDAY(C2497,S2496,DiasNOLaborables),\"\")","v":"2021-07-27"},{"$f":"+IF(C2497=\"\",\"\",IF(J2497=\"\",\"SIN RESPUESTA\",(IF(J2497<=M2497,\"A TIEMPO\",\"FUERA DE TIEMPO\"))))","v":"A TIEMPO"},{"$f":"IF(J2497=\"\",\"\",NETWORKDAYS(C2497+1,J2497,DiasNOLaborables))","v":17},"",null,null,20]
[2487,20219050076702,"2021-06-25","CIUDADANO","MODULO CONTACTENOS","SOLICITUD DE INFORMACIÓN Y DOCUMENTOS","SOLICITUD DE INFORMACIÓN HIDROMETEOROLÓGICA","NO","GRUPO DE SERVICIO AL CIUDADANO ","2021-07-22","CORREO ELECTRÓNICO",null,{"$f":"IFERROR(WORKDAY(C2498,S2497,DiasNOLaborables),\"\")","v":"2021-07-27"},{"$f":"+IF(C2498=\"\",\"\",IF(J2498=\"\",\"SIN RESPUESTA\",(IF(J2498<=M2498,\"A TIEMPO\",\"FUERA DE TIEMPO\"))))","v":"A TIEMPO"},{"$f":"IF(J2498=\"\",\"\",NETWORKDAYS(C2498+1,J2498,DiasNOLaborables))","v":17},{"$f":"IF(NETWORKDAYS(M2498+1,J2498,DiasNOLaborables)<=0,\"\",NETWORKDAYS(M2498+1,J2498,DiasNOLaborables))","v":""},null,null,20]
[2488,20219050076712,"2021-06-25","CIUDADANO","MODULO CONTACTENOS","SOLICITUD DE INFORMACIÓN Y DOCUMENTOS","SOLICITUD DE INFORMACIÓN HIDROMETEOROLÓGICA","NO","GRUPO DE SERVICIO AL CIUDADANO ","2021-07-22","CORREO ELECTRÓNICO",null,{"$f":"IFERROR(WORKDAY(C2499,S2498,DiasNOLaborables),\"\")","v":"2021-07-27"},{"$f":"+IF(C2499=\"\",\"\",IF(J2499=\"\",\"SIN RESPUESTA\",(IF(J2499<=M2499,\"A TIEMPO\",\"FUERA DE TIEMPO\"))))","v":"A TIEMPO"},{"$f":"IF(J2499=\"\",\"\",NETWORKDAYS(C2499+1,J2499,DiasNOLaborables))","v":17},{"$f":"IF(NETWORKDAYS(M2499+1,J2499,DiasNOLaborables)<=0,\"\",NETWORKDAYS(M2499+1,J2499,DiasNOLaborables))","v":""},null,null,20]
[2489,20219050076742,"2021-06-25","CIUDADANO","MODULO CONTACTENOS","SOLICITUD DE INFORMACIÓN Y DOCUMENTOS","SOLICITUD DE INFORMACIÓN HIDROMETEOROLÓGICA","NO","GRUPO DE SERVICIO AL CIUDADANO ","2021-07-22","CORREO ELECTRÓNICO",null,{"$f":"IFERROR(WORKDAY(C2500,S2499,DiasNOLaborables),\"\")","v":"2021-07-27"},{"$f":"+IF(C2500=\"\",\"\",IF(J2500=\"\",\"SIN RESPUESTA\",(IF(J2500<=M2500,\"A TIEMPO\",\"FUERA DE TIEMPO\"))))","v":"A TIEMPO"},{"$f":"IF(J2500=\"\",\"\",NETWORKDAYS(C2500+1,J2500,DiasNOLaborables))","v":17},"",null,null,20]
[2490,20219050076792,"2021-06-25","ACADEMIA","MODULO CONTACTENOS","SOLICITUD DE INFORMACIÓN Y DOCUMENTOS","SOLICITUD DE INFORMACIÓN HIDROMETEOROLÓGICA","NO","GRUPO DE SERVICIO AL CIUDADANO ","2021-07-22","CORREO ELECTRÓNICO",null,{"$f":"IFERROR(WORKDAY(C2501,S2500,DiasNOLaborables),\"\")","v":"2021-07-27"},{"$f":"+IF(C2501=\"\",\"\",IF(J2501=\"\",\"SIN RESPUESTA\",(IF(J2501<=M2501,\"A TIEMPO\",\"FUERA DE TIEMPO\"))))","v":"A TIEMPO"},{"$f":"IF(J2501=\"\",\"\",NETWORKDAYS(C2501+1,J2501,DiasNOLaborables))","v":17},"",null,null,20]
[2491,20219050076802,"2021-06-26","CIUDADANO","MODULO CONTACTENOS","SOLICITUD DE INFORMACIÓN Y DOCUMENTOS","SOLICITUD DE INFORMACIÓN HIDROMETEOROLÓGICA","NO","GRUPO DE SERVICIO AL CIUDADANO ","2021-07-22","CORREO ELECTRÓNICO",null,{"$f":"IFERROR(WORKDAY(C2502,S2501,DiasNOLaborables),\"\")","v":"2021-07-27"},{"$f":"+IF(C2502=\"\",\"\",IF(J2502=\"\",\"SIN RESPUESTA\",(IF(J2502<=M2502,\"A TIEMPO\",\"FUERA DE TIEMPO\"))))","v":"A TIEMPO"},{"$f":"IF(J2502=\"\",\"\",NETWORKDAYS(C2502+1,J2502,DiasNOLaborables))","v":17},"",null,null,20]
[2492,20219050076842,"2021-06-26","CIUDADANO","MODULO CONTACTENOS","SOLICITUD DE INFORMACIÓN Y DOCUMENTOS","SOLICITUD DE INFORMACIÓN HIDROMETEOROLÓGICA","NO","GRUPO DE SERVICIO AL CIUDADANO ","2021-07-22","CORREO ELECTRÓNICO",null,{"$f":"IFERROR(WORKDAY(C2503,S2502,DiasNOLaborables),\"\")","v":"2021-07-27"},{"$f":"+IF(C2503=\"\",\"\",IF(J2503=\"\",\"SIN RESPUESTA\",(IF(J2503<=M2503,\"A TIEMPO\",\"FUERA DE TIEMPO\"))))","v":"A TIEMPO"},{"$f":"IF(J2503=\"\",\"\",NETWORKDAYS(C2503+1,J2503,DiasNOLaborables))","v":17},{"$f":"IF(NETWORKDAYS(M2503+1,J2503,DiasNOLaborables)<=0,\"\",NETWORKDAYS(M2503+1,J2503,DiasNOLaborables))","v":""},null,null,20]
[2493,20219050076872,"2021-06-26","CIUDADANO","MODULO CONTACTENOS","SOLICITUD DE INFORMACIÓN Y DOCUMENTOS","SOLICITUD DE INFORMACIÓN HIDROMETEOROLÓGICA","NO","GRUPO DE SERVICIO AL CIUDADANO ","2021-07-22","CORREO ELECTRÓNICO",null,{"$f":"IFERROR(WORKDAY(C2504,S2503,DiasNOLaborables),\"\")","v":"2021-07-27"},{"$f":"+IF(C2504=\"\",\"\",IF(J2504=\"\",\"SIN RESPUESTA\",(IF(J2504<=M2504,\"A TIEMPO\",\"FUERA DE TIEMPO\"))))","v":"A TIEMPO"},{"$f":"IF(J2504=\"\",\"\",NETWORKDAYS(C2504+1,J2504,DiasNOLaborables))","v":17},"",null,null,20]
[2494,20219050076892,"2021-06-27","ACADEMIA","MODULO CONTACTENOS","SOLICITUD DE INFORMACIÓN Y DOCUMENTOS","SOLICITUD DE INFORMACIÓN HIDROMETEOROLÓGICA","NO","GRUPO DE SERVICIO AL CIUDADANO ","2021-07-22","CORREO ELECTRÓNICO",null,{"$f":"IFERROR(WORKDAY(C2505,S2504,DiasNOLaborables),\"\")","v":"2021-07-27"},{"$f":"+IF(C2505=\"\",\"\",IF(J2505=\"\",\"SIN RESPUESTA\",(IF(J2505<=M2505,\"A TIEMPO\",\"FUERA DE TIEMPO\"))))","v":"A TIEMPO"},{"$f":"IF(J2505=\"\",\"\",NETWORKDAYS(C2505+1,J2505,DiasNOLaborables))","v":17},"",null,null,20]
[2495,20219050076902,"2021-06-27","CIUDADANO","MODULO CONTACTENOS","SOLICITUD DE INFORMACIÓN Y DOCUMENTOS","SOLICITUD DE INFORMACIÓN HIDROMETEOROLÓGICA","NO","GRUPO DE SERVICIO AL CIUDADANO ","2021-07-22","CORREO ELECTRÓNICO",null,{"$f":"IFERROR(WORKDAY(C2506,S2505,DiasNOLaborables),\"\")","v":"2021-07-27"},{"$f":"+IF(C2506=\"\",\"\",IF(J2506=\"\",\"SIN RESPUESTA\",(IF(J2506<=M2506,\"A TIEMPO\",\"FUERA DE TIEMPO\"))))","v":"A TIEMPO"},{"$f":"IF(J2506=\"\",\"\",NETWORKDAYS(C2506+1,J2506,DiasNOLaborables))","v":17},"",null,null,20]
[2496,20219050076922,"2021-06-27","CIUDADANO","MODULO CONTACTENOS","SOLICITUD DE INFORMACIÓN Y DOCUMENTOS","SOLICITUD DE INFORMACIÓN HIDROMETEOROLÓGICA","NO","GRUPO DE SERVICIO AL CIUDADANO ","2021-07-22","CORREO ELECTRÓNICO",null,{"$f":"IFERROR(WORKDAY(C2507,S2506,DiasNOLaborables),\"\")","v":"2021-07-27"},{"$f":"+IF(C2507=\"\",\"\",IF(J2507=\"\",\"SIN RESPUESTA\",(IF(J2507<=M2507,\"A TIEMPO\",\"FUERA DE TIEMPO\"))))","v":"A TIEMPO"},{"$f":"IF(J2507=\"\",\"\",NETWORKDAYS(C2507+1,J2507,DiasNOLaborables))","v":17},"",null,null,20]
[2497,20219050076952,"2021-06-28","ACADEMIA","MODULO CONTACTENOS","SOLICITUD DE INFORMACIÓN Y DOCUMENTOS","SOLICITUD DE INFORMACIÓN HIDROMETEOROLÓGICA","NO","GRUPO DE SERVICIO AL CIUDADANO ","2021-07-22","CORREO ELECTRÓNICO",null,{"$f":"IFERROR(WORKDAY(C2508,S2507,DiasNOLaborables),\"\")","v":"2021-07-28"},{"$f":"+IF(C2508=\"\",\"\",IF(J2508=\"\",\"SIN RESPUESTA\",(IF(J2508<=M2508,\"A TIEMPO\",\"FUERA DE TIEMPO\"))))","v":"A TIEMPO"},{"$f":"IF(J2508=\"\",\"\",NETWORKDAYS(C2508+1,J2508,DiasNOLaborables))","v":16},"",null,null,20]
[2498,20219050077002,"2021-06-28","ENTIDAD PÚBLICA","MODULO CONTACTENOS","SOLICITUD DE INFORMACIÓN Y DOCUMENTOS","SOLICITUD DE INFORMACIÓN HIDROMETEOROLÓGICA","NO","GRUPO DE SERVICIO AL CIUDADANO ","2021-07-02","CORREO ELECTRÓNICO",null,{"$f":"IFERROR(WORKDAY(C2509,S2508,DiasNOLaborables),\"\")","v":"2021-07-28"},{"$f":"+IF(C2509=\"\",\"\",IF(J2509=\"\",\"SIN RESPUESTA\",(IF(J2509<=M2509,\"A TIEMPO\",\"FUERA DE TIEMPO\"))))","v":"A TIEMPO"},{"$f":"IF(J2509=\"\",\"\",NETWORKDAYS(C2509+1,J2509,DiasNOLaborables))","v":4},"",null,null,{"$f":"IFERROR(VLOOKUP(F2510,$AA$51:$AB$64,2),\"\")","v":30}]
[{"$f":"IF(B2510<>\"\",A2509+1,\"\")","v":2499},20219910035052,"2021-06-28","EMPRESA PRIVADA","CORREO ELECTRÓNICO","PETICIÓN","ADMINISTRATIVA","SI","OFICINA ASESORA JURÍDICA","2021-07-30",null,null,{"$f":"IFERROR(WORKDAY(C2510,S2509,DiasNOLaborables),\"\")","v":"2021-08-11"},{"$f":"+IF(C2510=\"\",\"\",IF(J2510=\"\",\"SIN RESPUESTA\",(IF(J2510<=M2510,\"A TIEMPO\",\"FUERA DE TIEMPO\"))))","v":"A TIEMPO"},{"$f":"IF(J2510=\"\",\"\",NETWORKDAYS(C2510+1,J2510,DiasNOLaborables))","v":22},"",null,null,20]
[2500,20219050077012,"2021-06-28","ENTIDAD PÚBLICA","MODULO CONTACTENOS","SOLICITUD DE INFORMACIÓN Y DOCUMENTOS","SOLICITUD DE INFORMACIÓN HIDROMETEOROLÓGICA","NO","GRUPO DE SERVICIO AL CIUDADANO ","2021-07-02","CORREO ELECTRÓNICO",null,{"$f":"IFERROR(WORKDAY(C2511,S2510,DiasNOLaborables),\"\")","v":"2021-07-28"},{"$f":"+IF(C2511=\"\",\"\",IF(J2511=\"\",\"SIN RESPUESTA\",(IF(J2511<=M2511,\"A TIEMPO\",\"FUERA DE TIEMPO\"))))","v":"A TIEMPO"},{"$f":"IF(J2511=\"\",\"\",NETWORKDAYS(C2511+1,J2511,DiasNOLaborables))","v":4},"",null,null,20]
[2501,20219050077022,"2021-06-28","ENTIDAD PÚBLICA","MODULO CONTACTENOS","SOLICITUD DE INFORMACIÓN Y DOCUMENTOS","SOLICITUD DE INFORMACIÓN HIDROMETEOROLÓGICA","NO","GRUPO DE SERVICIO AL CIUDADANO ","2021-07-02","CORREO ELECTRÓNICO",null,{"$f":"IFERROR(WORKDAY(C2512,S2511,DiasNOLaborables),\"\")","v":"2021-07-28"},{"$f":"+IF(C2512=\"\",\"\",IF(J2512=\"\",\"SIN RESPUESTA\",(IF(J2512<=M2512,\"A TIEMPO\",\"FUERA DE TIEMPO\"))))","v":"A TIEMPO"},{"$f":"IF(J2512=\"\",\"\",NETWORKDAYS(C2512+1,J2512,DiasNOLaborables))","v":4},"",null,null,20]
[2502,20219050077032,"2021-06-28","ENTIDAD PÚBLICA","MODULO CONTACTENOS","SOLICITUD DE INFORMACIÓN Y DOCUMENTOS","SOLICITUD DE INFORMACIÓN HIDROMETEOROLÓGICA","NO","GRUPO DE SERVICIO AL CIUDADANO ","2021-07-02","CORREO ELECTRÓNICO",null,{"$f":"IFERROR(WORKDAY(C2513,S2512,DiasNOLaborables),\"\")","v":"2021-07-28"},{"$f":"+IF(C2513=\"\",\"\",IF(J2513=\"\",\"SIN RESPUESTA\",(IF(J2513<=M2513,\"A TIEMPO\",\"FUERA DE TIEMPO\"))))","v":"A TIEMPO"},{"$f":"IF(J2513=\"\",\"\",NETWORKDAYS(C2513+1,J2513,DiasNOLaborables))","v":4},"",null,null,20]
[2503,20219050077042,"2021-06-28","ENTIDAD PÚBLICA","MODULO CONTACTENOS","SOLICITUD DE INFORMACIÓN Y DOCUMENTOS","SOLICITUD DE INFORMACIÓN HIDROMETEOROLÓGICA","NO","GRUPO DE SERVICIO AL CIUDADANO ","2021-07-02","CORREO ELECTRÓNICO",null,{"$f":"IFERROR(WORKDAY(C2514,S2513,DiasNOLaborables),\"\")","v":"2021-07-28"},{"$f":"+IF(C2514=\"\",\"\",IF(J2514=\"\",\"SIN RESPUESTA\",(IF(J2514<=M2514,\"A TIEMPO\",\"FUERA DE TIEMPO\"))))","v":"A TIEMPO"},{"$f":"IF(J2514=\"\",\"\",NETWORKDAYS(C2514+1,J2514,DiasNOLaborables))","v":4},"",null,null,20]
[2504,20219050077052,"2021-06-28","ENTIDAD PÚBLICA","MODULO CONTACTENOS","SOLICITUD DE INFORMACIÓN Y DOCUMENTOS","SOLICITUD DE INFORMACIÓN HIDROMETEOROLÓGICA","NO","GRUPO DE SERVICIO AL CIUDADANO ","2021-07-02","CORREO ELECTRÓNICO",null,{"$f":"IFERROR(WORKDAY(C2515,S2514,DiasNOLaborables),\"\")","v":"2021-07-28"},{"$f":"+IF(C2515=\"\",\"\",IF(J2515=\"\",\"SIN RESPUESTA\",(IF(J2515<=M2515,\"A TIEMPO\",\"FUERA DE TIEMPO\"))))","v":"A TIEMPO"},{"$f":"IF(J2515=\"\",\"\",NETWORKDAYS(C2515+1,J2515,DiasNOLaborables))","v":4},"",null,null,20]
[2505,20219050077072,"2021-06-28","ENTIDAD PÚBLICA","MODULO CONTACTENOS","SOLICITUD DE INFORMACIÓN Y DOCUMENTOS","SOLICITUD DE INFORMACIÓN HIDROMETEOROLÓGICA","NO","GRUPO DE SERVICIO AL CIUDADANO ","2021-07-02","CORREO ELECTRÓNICO",null,{"$f":"IFERROR(WORKDAY(C2516,S2515,DiasNOLaborables),\"\")","v":"2021-07-28"},{"$f":"+IF(C2516=\"\",\"\",IF(J2516=\"\",\"SIN RESPUESTA\",(IF(J2516<=M2516,\"A TIEMPO\",\"FUERA DE TIEMPO\"))))","v":"A TIEMPO"},{"$f":"IF(J2516=\"\",\"\",NETWORKDAYS(C2516+1,J2516,DiasNOLaborables))","v":4},"",null,null,20]
[2506,20219050077082,"2021-06-28","ENTIDAD PÚBLICA","MODULO CONTACTENOS","SOLICITUD DE INFORMACIÓN Y DOCUMENTOS","SOLICITUD DE INFORMACIÓN HIDROMETEOROLÓGICA","NO","GRUPO DE SERVICIO AL CIUDADANO ","2021-07-02","CORREO ELECTRÓNICO",null,{"$f":"IFERROR(WORKDAY(C2517,S2516,DiasNOLaborables),\"\")","v":"2021-07-28"},{"$f":"+IF(C2517=\"\",\"\",IF(J2517=\"\",\"SIN RESPUESTA\",(IF(J2517<=M2517,\"A TIEMPO\",\"FUERA DE TIEMPO\"))))","v":"A TIEMPO"},{"$f":"IF(J2517=\"\",\"\",NETWORKDAYS(C2517+1,J2517,DiasNOLaborables))","v":4},"",null,null,5]
[2507,20219050077132,"2021-06-28","CIUDADANO","MODULO CONTACTENOS","REMISIÓN POR COMPETENCIA","ADMINISTRATIVA","NO","GRUPO DE SERVICIO AL CIUDADANO ","2021-07-02","CORREO ELECTRÓNICO",null,{"$f":"IFERROR(WORKDAY(C2518,S2517,DiasNOLaborables),\"\")","v":"2021-07-06"},{"$f":"+IF(C2518=\"\",\"\",IF(J2518=\"\",\"SIN RESPUESTA\",(IF(J2518<=M2518,\"A TIEMPO\",\"FUERA DE TIEMPO\"))))","v":"A TIEMPO"},{"$f":"IF(J2518=\"\",\"\",NETWORKDAYS(C2518+1,J2518,DiasNOLaborables))","v":4},"",null,null,20]
[2508,20219050077102,"2021-06-28","ACADEMIA ","MODULO CONTACTENOS","SOLICITUD DE INFORMACIÓN Y DOCUMENTOS","SOLICITUD DE INFORMACIÓN HIDROMETEOROLÓGICA","NO","GRUPO DE SERVICIO AL CIUDADANO ","2021-07-02","CORREO ELECTRÓNICO",null,{"$f":"IFERROR(WORKDAY(C2519,S2518,DiasNOLaborables),\"\")","v":"2021-07-28"},{"$f":"+IF(C2519=\"\",\"\",IF(J2519=\"\",\"SIN RESPUESTA\",(IF(J2519<=M2519,\"A TIEMPO\",\"FUERA DE TIEMPO\"))))","v":"A TIEMPO"},{"$f":"IF(J2519=\"\",\"\",NETWORKDAYS(C2519+1,J2519,DiasNOLaborables))","v":4},"",null,null,20]
[2509,20219050076932,"2021-06-28","CIUDADANO","MODULO CONTACTENOS","SOLICITUD DE INFORMACIÓN Y DOCUMENTOS","ADMINISTRATIVA","SI","GRUPO DE TESORERÍA","2021-07-01","CORREO ELECTRÓNICO",null,{"$f":"IFERROR(WORKDAY(C2520,S2519,DiasNOLaborables),\"\")","v":"2021-07-28"},{"$f":"+IF(C2520=\"\",\"\",IF(J2520=\"\",\"SIN RESPUESTA\",(IF(J2520<=M2520,\"A TIEMPO\",\"FUERA DE TIEMPO\"))))","v":"A TIEMPO"},{"$f":"IF(J2520=\"\",\"\",NETWORKDAYS([5]Hoja1!C2518+1,[5]Hoja1!P2518,DiasNOLaborables))","v":2},"",null,null,35]
[2510,20219050076942,"2021-06-28","EMPRESA PRIVADA","MODULO CONTACTENOS","CERTIFICACIONES DE TIEMPO, CLIMA Y EVENTOS HIDROLÓGICOS","CERTIFICACIONES DE TIEMPO Y CLIMA","SI","SUBDIRECCIÓN DE METEOROLOGÍA","2021-07-21","CORREO ELECTRÓNICO",null,{"$f":"IFERROR(WORKDAY(C2521,S2520,DiasNOLaborables),\"\")","v":"2021-08-19"},{"$f":"+IF(C2521=\"\",\"\",IF(J2521=\"\",\"SIN RESPUESTA\",(IF(J2521<=M2521,\"A TIEMPO\",\"FUERA DE TIEMPO\"))))","v":"A TIEMPO"},{"$f":"IF(J2521=\"\",\"\",NETWORKDAYS(C2521+1,J2521,DiasNOLaborables))","v":15},"",null,null,20]
[2511,20219050077062,"2021-06-28","FUNCIONARIO IDEAM","MODULO CONTACTENOS","SOLICITUD DE INFORMACIÓN Y DOCUMENTOS","ADMINISTRATIVA","SI","GRUPO DE ADMINISTRACIÓN Y DESARROLLO DEL TALENTO HUMANO","2021-06-30","CORREO ELECTRÓNICO",null,{"$f":"IFERROR(WORKDAY(C2522,S2521,DiasNOLaborables),\"\")","v":"2021-07-28"},{"$f":"+IF(C2522=\"\",\"\",IF(J2522=\"\",\"SIN RESPUESTA\",(IF(J2522<=M2522,\"A TIEMPO\",\"FUERA DE TIEMPO\"))))","v":"A TIEMPO"},{"$f":"IF(J2522=\"\",\"\",NETWORKDAYS(C2522+1,J2522,DiasNOLaborables))","v":2},"",null,null,20]
[2512,20219050077162,"2021-06-28","FUNCIONARIO IDEAM","MODULO CONTACTENOS","SOLICITUD DE INFORMACIÓN Y DOCUMENTOS","ADMINISTRATIVA","SI","GRUPO DE TESORERÍA","2021-07-01","CORREO ELECTRÓNICO",null,{"$f":"IFERROR(WORKDAY(C2523,S2522,DiasNOLaborables),\"\")","v":"2021-07-28"},{"$f":"+IF(C2523=\"\",\"\",IF(J2523=\"\",\"SIN RESPUESTA\",(IF(J2523<=M2523,\"A TIEMPO\",\"FUERA DE TIEMPO\"))))","v":"A TIEMPO"},{"$f":"IF(J2523=\"\",\"\",NETWORKDAYS(C2523+1,J2523,DiasNOLaborables))","v":3},"",null,null,5]
[2513,20219050077172,"2021-06-28","CIUDADANO","MODULO CONTACTENOS","SOLICITUD JUDICIAL","CERTIFICACIONES DE TIEMPO Y CLIMA","SI","SUBDIRECCIÓN DE METEOROLOGÍA","2021-07-01","CORREO ELECTRÓNICO",null,{"$f":"IFERROR(WORKDAY(C2524,S2523,DiasNOLaborables),\"\")","v":"2021-07-06"},{"$f":"+IF(C2524=\"\",\"\",IF(J2524=\"\",\"SIN RESPUESTA\",(IF(J2524<=M2524,\"A TIEMPO\",\"FUERA DE TIEMPO\"))))","v":"A TIEMPO"},{"$f":"IF(J2524=\"\",\"\",NETWORKDAYS(C2524+1,J2524,DiasNOLaborables))","v":3},"",null,null,35]
[2514,20219050077202,"2021-06-28","CIUDADANO","MODULO CONTACTENOS","CERTIFICACIONES DE TIEMPO, CLIMA Y EVENTOS HIDROLÓGICOS","CERTIFICACIONES DE TIEMPO Y CLIMA","SI","SUBDIRECCIÓN DE METEOROLOGÍA","2021-07-26","CORREO ELECTRÓNICO",null,{"$f":"IFERROR(WORKDAY(C2525,S2524,DiasNOLaborables),\"\")","v":"2021-08-19"},{"$f":"+IF(C2525=\"\",\"\",IF(J2525=\"\",\"SIN RESPUESTA\",(IF(J2525<=M2525,\"A TIEMPO\",\"FUERA DE TIEMPO\"))))","v":"A TIEMPO"},{"$f":"IF(J2525=\"\",\"\",NETWORKDAYS(C2525+1,J2525,DiasNOLaborables))","v":18},"",null,null,20]
[2515,20219050077242,"2021-06-28","FUNCIONARIO IDEAM","MODULO CONTACTENOS","SOLICITUD DE INFORMACIÓN Y DOCUMENTOS","ADMINISTRATIVA","SI","GRUPO DE TESORERÍA","2021-07-01","CORREO ELECTRÓNICO",null,{"$f":"IFERROR(WORKDAY(C2526,S2525,DiasNOLaborables),\"\")","v":"2021-07-28"},{"$f":"+IF(C2526=\"\",\"\",IF(J2526=\"\",\"SIN RESPUESTA\",(IF(J2526<=M2526,\"A TIEMPO\",\"FUERA DE TIEMPO\"))))","v":"A TIEMPO"},{"$f":"IF(J2526=\"\",\"\",NETWORKDAYS(C2526+1,J2526,DiasNOLaborables))","v":3},"",null,null,20]
[2516,20219050076962,"2021-06-28","ENTIDAD PÚBLICA","MODULO CONTACTENOS","SOLICITUD DE INFORMACIÓN Y DOCUMENTOS","SOLICITUD DE INFORMACIÓN HIDROMETEOROLÓGICA","NO","GRUPO DE SERVICIO AL CIUDADANO ","2021-07-02","CORREO ELECTRÓNICO",null,{"$f":"IFERROR(WORKDAY(C2527,S2526,DiasNOLaborables),\"\")","v":"2021-07-28"},{"$f":"+IF(C2527=\"\",\"\",IF(J2527=\"\",\"SIN RESPUESTA\",(IF(J2527<=M2527,\"A TIEMPO\",\"FUERA DE TIEMPO\"))))","v":"A TIEMPO"},{"$f":"IF(J2527=\"\",\"\",NETWORKDAYS(C2527+1,J2527,DiasNOLaborables))","v":4},"",null,null,20]
[2517,20219050076972,"2021-06-28","ENTIDAD PÚBLICA","MODULO CONTACTENOS","SOLICITUD DE INFORMACIÓN Y DOCUMENTOS","SOLICITUD DE INFORMACIÓN HIDROMETEOROLÓGICA","NO","GRUPO DE SERVICIO AL CIUDADANO ","2021-07-02","CORREO ELECTRÓNICO",null,{"$f":"IFERROR(WORKDAY(C2528,S2527,DiasNOLaborables),\"\")","v":"2021-07-28"},{"$f":"+IF(C2528=\"\",\"\",IF(J2528=\"\",\"SIN RESPUESTA\",(IF(J2528<=M2528,\"A TIEMPO\",\"FUERA DE TIEMPO\"))))","v":"A TIEMPO"},{"$f":"IF(J2528=\"\",\"\",NETWORKDAYS(C2528+1,J2528,DiasNOLaborables))","v":4},"",null,null,20]
[2518,20219050076982,"2021-06-28","ENTIDAD PÚBLICA","MODULO CONTACTENOS","SOLICITUD DE INFORMACIÓN Y DOCUMENTOS","SOLICITUD DE INFORMACIÓN HIDROMETEOROLÓGICA","NO","GRUPO DE SERVICIO AL CIUDADANO ","2021-07-02","CORREO ELECTRÓNICO",null,{"$f":"IFERROR(WORKDAY(C2529,S2528,DiasNOLaborables),\"\")","v":"2021-07-28"},{"$f":"+IF(C2529=\"\",\"\",IF(J2529=\"\",\"SIN RESPUESTA\",(IF(J2529<=M2529,\"A TIEMPO\",\"FUERA DE TIEMPO\"))))","v":"A TIEMPO"},{"$f":"IF(J2529=\"\",\"\",NETWORKDAYS(C2529+1,J2529,DiasNOLaborables))","v":4},"",null,null,20]
[2519,20219050076992,"2021-06-28","ENTIDAD PÚBLICA","MODULO CONTACTENOS","SOLICITUD DE INFORMACIÓN Y DOCUMENTOS","SOLICITUD DE INFORMACIÓN HIDROMETEOROLÓGICA","NO","GRUPO DE SERVICIO AL CIUDADANO ","2021-07-02","CORREO ELECTRÓNICO",null,{"$f":"IFERROR(WORKDAY(C2530,S2529,DiasNOLaborables),\"\")","v":"2021-07-28"},{"$f":"+IF(C2530=\"\",\"\",IF(J2530=\"\",\"SIN RESPUESTA\",(IF(J2530<=M2530,\"A TIEMPO\",\"FUERA DE TIEMPO\"))))","v":"A TIEMPO"},{"$f":"IF(J2530=\"\",\"\",NETWORKDAYS(C2530+1,J2530,DiasNOLaborables))","v":4},"",null,null,20]
[2520,20219050077112,"2021-06-28","CIUDADANO","MODULO CONTACTENOS","SOLICITUD DE INFORMACIÓN Y DOCUMENTOS","SOLICITUD DE INFORMACIÓN HIDROMETEOROLÓGICA","NO","GRUPO DE SERVICIO AL CIUDADANO ","2021-07-06","CORREO ELECTRÓNICO",null,{"$f":"IFERROR(WORKDAY(C2531,S2530,DiasNOLaborables),\"\")","v":"2021-07-28"},{"$f":"+IF(C2531=\"\",\"\",IF(J2531=\"\",\"SIN RESPUESTA\",(IF(J2531<=M2531,\"A TIEMPO\",\"FUERA DE TIEMPO\"))))","v":"A TIEMPO"},{"$f":"IF(J2531=\"\",\"\",NETWORKDAYS(C2531+1,J2531,DiasNOLaborables))","v":5},"",null,null,20]
[2521,20219050077122,"2021-06-28","CIUDADANO","MODULO CONTACTENOS","SOLICITUD DE INFORMACIÓN Y DOCUMENTOS","SOLICITUD DE INFORMACIÓN HIDROMETEOROLÓGICA","NO","GRUPO DE SERVICIO AL CIUDADANO ","2021-07-06","CORREO ELECTRÓNICO",null,{"$f":"IFERROR(WORKDAY(C2532,S2531,DiasNOLaborables),\"\")","v":"2021-07-28"},{"$f":"+IF(C2532=\"\",\"\",IF(J2532=\"\",\"SIN RESPUESTA\",(IF(J2532<=M2532,\"A TIEMPO\",\"FUERA DE TIEMPO\"))))","v":"A TIEMPO"},{"$f":"IF(J2532=\"\",\"\",NETWORKDAYS(C2532+1,J2532,DiasNOLaborables))","v":5},"",null,null,20]
[2522,20219050077152,"2021-06-28","ACADEMIA ","MODULO CONTACTENOS","SOLICITUD DE INFORMACIÓN Y DOCUMENTOS","SOLICITUD DE INFORMACIÓN HIDROMETEOROLÓGICA","NO","GRUPO DE SERVICIO AL CIUDADANO ","2021-07-06","CORREO ELECTRÓNICO",null,{"$f":"IFERROR(WORKDAY(C2533,S2532,DiasNOLaborables),\"\")","v":"2021-07-28"},{"$f":"+IF(C2533=\"\",\"\",IF(J2533=\"\",\"SIN RESPUESTA\",(IF(J2533<=M2533,\"A TIEMPO\",\"FUERA DE TIEMPO\"))))","v":"A TIEMPO"},{"$f":"IF(J2533=\"\",\"\",NETWORKDAYS(C2533+1,J2533,DiasNOLaborables))","v":5},"",null,null,20]
[2523,20219050077192,"2021-06-28","EMPRESA PRIVADA","MODULO CONTACTENOS","SOLICITUD DE INFORMACIÓN Y DOCUMENTOS","SOLICITUD DE INFORMACIÓN HIDROMETEOROLÓGICA","NO","GRUPO DE SERVICIO AL CIUDADANO ","2021-07-07","CORREO ELECTRÓNICO",null,{"$f":"IFERROR(WORKDAY(C2534,S2533,DiasNOLaborables),\"\")","v":"2021-07-28"},{"$f":"+IF(C2534=\"\",\"\",IF(J2534=\"\",\"SIN RESPUESTA\",(IF(J2534<=M2534,\"A TIEMPO\",\"FUERA DE TIEMPO\"))))","v":"A TIEMPO"},{"$f":"IF(J2534=\"\",\"\",NETWORKDAYS(C2534+1,J2534,DiasNOLaborables))","v":6},"",null,null,20]
[2524,20219050077212,"2021-06-28","ACADEMIA ","MODULO CONTACTENOS","SOLICITUD DE INFORMACIÓN Y DOCUMENTOS","SOLICITUD DE INFORMACIÓN HIDROMETEOROLÓGICA","NO","GRUPO DE SERVICIO AL CIUDADANO ","2021-07-07","CORREO ELECTRÓNICO",null,{"$f":"IFERROR(WORKDAY(C2535,S2534,DiasNOLaborables),\"\")","v":"2021-07-28"},{"$f":"+IF(C2535=\"\",\"\",IF(J2535=\"\",\"SIN RESPUESTA\",(IF(J2535<=M2535,\"A TIEMPO\",\"FUERA DE TIEMPO\"))))","v":"A TIEMPO"},{"$f":"IF(J2535=\"\",\"\",NETWORKDAYS(C2535+1,J2535,DiasNOLaborables))","v":6},"",null,null,20]
[2525,20219050077222,"2021-06-28","EMPRESA PRIVADA","MODULO CONTACTENOS","SOLICITUD DE INFORMACIÓN Y DOCUMENTOS","SOLICITUD DE INFORMACIÓN HIDROMETEOROLÓGICA","NO","GRUPO DE SERVICIO AL CIUDADANO ","2021-07-07","CORREO ELECTRÓNICO",null,{"$f":"IFERROR(WORKDAY(C2536,S2535,DiasNOLaborables),\"\")","v":"2021-07-28"},{"$f":"+IF(C2536=\"\",\"\",IF(J2536=\"\",\"SIN RESPUESTA\",(IF(J2536<=M2536,\"A TIEMPO\",\"FUERA DE TIEMPO\"))))","v":"A TIEMPO"},{"$f":"IF(J2536=\"\",\"\",NETWORKDAYS([5]Hoja1!C2534+1,[5]Hoja1!P2534,DiasNOLaborables))","v":-2},"",null,null,20]
[2526,20219050077232,"2021-06-28","EMPRESA PRIVADA","MODULO CONTACTENOS","SOLICITUD DE INFORMACIÓN Y DOCUMENTOS","SOLICITUD DE INFORMACIÓN HIDROMETEOROLÓGICA","NO","GRUPO DE SERVICIO AL CIUDADANO ","2021-07-07","CORREO ELECTRÓNICO",null,{"$f":"IFERROR(WORKDAY(C2537,S2536,DiasNOLaborables),\"\")","v":"2021-07-28"},{"$f":"+IF(C2537=\"\",\"\",IF(J2537=\"\",\"SIN RESPUESTA\",(IF(J2537<=M2537,\"A TIEMPO\",\"FUERA DE TIEMPO\"))))","v":"A TIEMPO"},{"$f":"IF(J2537=\"\",\"\",NETWORKDAYS(C2537+1,J2537,DiasNOLaborables))","v":6},{"$f":"IF(NETWORKDAYS(M2537+1,J2537,DiasNOLaborables)<=0,\"\",NETWORKDAYS(M2537+1,J2537,DiasNOLaborables))","v":""},null,null,20]
[2527,20219050077252,"2021-06-28","CIUDADANO","MODULO CONTACTENOS","SOLICITUD DE INFORMACIÓN Y DOCUMENTOS","SOLICITUD DE INFORMACIÓN HIDROMETEOROLÓGICA","NO","GRUPO DE SERVICIO AL CIUDADANO ","2021-07-07","CORREO ELECTRÓNICO",null,{"$f":"IFERROR(WORKDAY(C2538,S2537,DiasNOLaborables),\"\")","v":"2021-07-28"},{"$f":"+IF(C2538=\"\",\"\",IF(J2538=\"\",\"SIN RESPUESTA\",(IF(J2538<=M2538,\"A TIEMPO\",\"FUERA DE TIEMPO\"))))","v":"A TIEMPO"},{"$f":"IF(J2538=\"\",\"\",NETWORKDAYS(C2538+1,J2538,DiasNOLaborables))","v":6},{"$f":"IF(NETWORKDAYS(M2538+1,J2538,DiasNOLaborables)<=0,\"\",NETWORKDAYS(M2538+1,J2538,DiasNOLaborables))","v":""},null,null,20]
[2528,20219050077262,"2021-06-28","CIUDADANO","MODULO CONTACTENOS","SOLICITUD DE INFORMACIÓN Y DOCUMENTOS","SOLICITUD DE INFORMACIÓN HIDROMETEOROLÓGICA","NO","GRUPO DE SERVICIO AL CIUDADANO ","2021-07-07","CORREO ELECTRÓNICO",null,{"$f":"IFERROR(WORKDAY(C2539,S2538,DiasNOLaborables),\"\")","v":"2021-07-28"},{"$f":"+IF(C2539=\"\",\"\",IF(J2539=\"\",\"SIN RESPUESTA\",(IF(J2539<=M2539,\"A TIEMPO\",\"FUERA DE TIEMPO\"))))","v":"A TIEMPO"},{"$f":"IF(J2539=\"\",\"\",NETWORKDAYS(C2539+1,J2539,DiasNOLaborables))","v":6},{"$f":"IF(NETWORKDAYS(M2539+1,J2539,DiasNOLaborables)<=0,\"\",NETWORKDAYS(M2539+1,J2539,DiasNOLaborables))","v":""},null,null,20]
[2529,20219050077302,"2021-06-29","CIUDADANO","MODULO CONTACTENOS","SOLICITUD DE INFORMACIÓN Y DOCUMENTOS","SOLICITUD DE INFORMACIÓN HIDROMETEOROLÓGICA","NO","GRUPO DE SERVICIO AL CIUDADANO ","2021-07-08","CORREO ELECTRÓNICO",null,{"$f":"IFERROR(WORKDAY(C2540,S2539,DiasNOLaborables),\"\")","v":"2021-07-29"},{"$f":"+IF(C2540=\"\",\"\",IF(J2540=\"\",\"SIN RESPUESTA\",(IF(J2540<=M2540,\"A TIEMPO\",\"FUERA DE TIEMPO\"))))","v":"A TIEMPO"},{"$f":"IF(J2540=\"\",\"\",NETWORKDAYS(C2540+1,J2540,DiasNOLaborables))","v":6},{"$f":"IF(NETWORKDAYS(M2540+1,J2540,DiasNOLaborables)<=0,\"\",NETWORKDAYS(M2540+1,J2540,DiasNOLaborables))","v":""},null,null,20]
[2530,20219050077362,"2021-06-29","CIUDADANO","CORREO ELECTRÓNICO","SOLICITUD DE INFORMACIÓN Y DOCUMENTOS","SOLICITUD DE INFORMACIÓN HIDROMETEOROLÓGICA","NO","GRUPO DE SERVICIO AL CIUDADANO ","2021-07-08","CORREO ELECTRÓNICO",null,{"$f":"IFERROR(WORKDAY(C2541,S2540,DiasNOLaborables),\"\")","v":"2021-07-29"},{"$f":"+IF(C2541=\"\",\"\",IF(J2541=\"\",\"SIN RESPUESTA\",(IF(J2541<=M2541,\"A TIEMPO\",\"FUERA DE TIEMPO\"))))","v":"A TIEMPO"},{"$f":"IF(J2541=\"\",\"\",NETWORKDAYS(C2541+1,J2541,DiasNOLaborables))","v":6},{"$f":"IF(NETWORKDAYS(M2541+1,J2541,DiasNOLaborables)<=0,\"\",NETWORKDAYS(M2541+1,J2541,DiasNOLaborables))","v":""},null,null,20]
[2531,20219050077372,"2021-06-29","ACADEMIA ","CORREO ELECTRÓNICO","SOLICITUD DE INFORMACIÓN Y DOCUMENTOS","SOLICITUD DE INFORMACIÓN HIDROMETEOROLÓGICA","NO","GRUPO DE SERVICIO AL CIUDADANO ","2021-07-08","CORREO ELECTRÓNICO",null,{"$f":"IFERROR(WORKDAY(C2542,S2541,DiasNOLaborables),\"\")","v":"2021-07-29"},{"$f":"+IF(C2542=\"\",\"\",IF(J2542=\"\",\"SIN RESPUESTA\",(IF(J2542<=M2542,\"A TIEMPO\",\"FUERA DE TIEMPO\"))))","v":"A TIEMPO"},{"$f":"IF(J2542=\"\",\"\",NETWORKDAYS(C2542+1,J2542,DiasNOLaborables))","v":6},"",null,null,20]
[2532,20219050077392,"2021-06-29","CIUDADANO","CORREO ELECTRÓNICO","SOLICITUD DE INFORMACIÓN Y DOCUMENTOS","SOLICITUD DE INFORMACIÓN HIDROMETEOROLÓGICA","NO","GRUPO DE SERVICIO AL CIUDADANO ","2021-07-08","CORREO ELECTRÓNICO",null,{"$f":"IFERROR(WORKDAY(C2543,S2542,DiasNOLaborables),\"\")","v":"2021-07-29"},{"$f":"+IF(C2543=\"\",\"\",IF(J2543=\"\",\"SIN RESPUESTA\",(IF(J2543<=M2543,\"A TIEMPO\",\"FUERA DE TIEMPO\"))))","v":"A TIEMPO"},{"$f":"IF(J2543=\"\",\"\",NETWORKDAYS(C2543+1,J2543,DiasNOLaborables))","v":6},"",null,null,20]
[2533,20219050077442,"2021-06-29","EMPRESA PRIVADA","CORREO ELECTRÓNICO","SOLICITUD DE INFORMACIÓN Y DOCUMENTOS","SOLICITUD DE INFORMACIÓN HIDROMETEOROLÓGICA","NO","GRUPO DE SERVICIO AL CIUDADANO ","2021-07-09","CORREO ELECTRÓNICO",null,{"$f":"IFERROR(WORKDAY(C2544,S2543,DiasNOLaborables),\"\")","v":"2021-07-29"},{"$f":"+IF(C2544=\"\",\"\",IF(J2544=\"\",\"SIN RESPUESTA\",(IF(J2544<=M2544,\"A TIEMPO\",\"FUERA DE TIEMPO\"))))","v":"A TIEMPO"},{"$f":"IF(J2544=\"\",\"\",NETWORKDAYS(C2544+1,J2544,DiasNOLaborables))","v":7},"",null,null,20]
[2534,20219050077452,"2021-06-29","ACADEMIA ","CORREO ELECTRÓNICO","SOLICITUD DE INFORMACIÓN Y DOCUMENTOS","SOLICITUD DE INFORMACIÓN HIDROMETEOROLÓGICA","NO","GRUPO DE SERVICIO AL CIUDADANO ","2021-07-09","CORREO ELECTRÓNICO",null,{"$f":"IFERROR(WORKDAY(C2545,S2544,DiasNOLaborables),\"\")","v":"2021-07-29"},{"$f":"+IF(C2545=\"\",\"\",IF(J2545=\"\",\"SIN RESPUESTA\",(IF(J2545<=M2545,\"A TIEMPO\",\"FUERA DE TIEMPO\"))))","v":"A TIEMPO"},{"$f":"IF(J2545=\"\",\"\",NETWORKDAYS(C2545+1,J2545,DiasNOLaborables))","v":7},"",null,null,20]
[2535,20219050077622,"2021-06-29","CIUDADANO","CORREO ELECTRÓNICO","SOLICITUD DE INFORMACIÓN Y DOCUMENTOS","SOLICITUD DE INFORMACIÓN HIDROMETEOROLÓGICA","SI","SUBDIRECCIÓN DE METEOROLOGÍA","2021-07-09","CORREO ELECTRÓNICO",null,{"$f":"IFERROR(WORKDAY(C2546,S2545,DiasNOLaborables),\"\")","v":"2021-07-29"},{"$f":"+IF(C2546=\"\",\"\",IF(J2546=\"\",\"SIN RESPUESTA\",(IF(J2546<=M2546,\"A TIEMPO\",\"FUERA DE TIEMPO\"))))","v":"A TIEMPO"},{"$f":"IF(J2546=\"\",\"\",NETWORKDAYS(C2546+1,J2546,DiasNOLaborables))","v":7},"",null,null,20]
[2536,20219050077642,"2021-06-29","EMPRESA PRIVADA","CORREO ELECTRÓNICO","SOLICITUD DE INFORMACIÓN Y DOCUMENTOS","SOLICITUD DE INFORMACIÓN HIDROMETEOROLÓGICA","NO","GRUPO DE SERVICIO AL CIUDADANO ","2021-07-09","CORREO ELECTRÓNICO",null,{"$f":"IFERROR(WORKDAY(C2547,S2546,DiasNOLaborables),\"\")","v":"2021-07-29"},{"$f":"+IF(C2547=\"\",\"\",IF(J2547=\"\",\"SIN RESPUESTA\",(IF(J2547<=M2547,\"A TIEMPO\",\"FUERA DE TIEMPO\"))))","v":"A TIEMPO"},{"$f":"IF(J2547=\"\",\"\",NETWORKDAYS(C2547+1,J2547,DiasNOLaborables))","v":7},"",null,null,20]
[2537,20219050077382,"2021-06-29","CIUDADANO","MODULO CONTACTENOS","SOLICITUD DE INFORMACIÓN Y DOCUMENTOS","SOLICITUD DE INFORMACIÓN HIDROMETEOROLÓGICA","NO","GRUPO DE SERVICIO AL CIUDADANO ","2021-07-02","CORREO ELECTRÓNICO",null,{"$f":"IFERROR(WORKDAY(C2548,S2547,DiasNOLaborables),\"\")","v":"2021-07-29"},{"$f":"+IF(C2548=\"\",\"\",IF(J2548=\"\",\"SIN RESPUESTA\",(IF(J2548<=M2548,\"A TIEMPO\",\"FUERA DE TIEMPO\"))))","v":"A TIEMPO"},{"$f":"IF(J2548=\"\",\"\",NETWORKDAYS(C2548+1,J2548,DiasNOLaborables))","v":3},"",null,null,20]
[2538,20219050077522,"2021-06-29","ACADEMIA ","MODULO CONTACTENOS","SOLICITUD DE INFORMACIÓN Y DOCUMENTOS","SOLICITUD DE INFORMACIÓN HIDROMETEOROLÓGICA","NO","GRUPO DE SERVICIO AL CIUDADANO ","2021-07-02","CORREO ELECTRÓNICO",null,{"$f":"IFERROR(WORKDAY(C2549,S2548,DiasNOLaborables),\"\")","v":"2021-07-29"},{"$f":"+IF(C2549=\"\",\"\",IF(J2549=\"\",\"SIN RESPUESTA\",(IF(J2549<=M2549,\"A TIEMPO\",\"FUERA DE TIEMPO\"))))","v":"A TIEMPO"},{"$f":"IF(J2549=\"\",\"\",NETWORKDAYS(C2549+1,J2549,DiasNOLaborables))","v":3},"",null,null,20]
[2539,20219050077602,"2021-06-29","CIUDADANO","MODULO CONTACTENOS","SOLICITUD DE INFORMACIÓN Y DOCUMENTOS","SOLICITUD DE INFORMACIÓN HIDROMETEOROLÓGICA","NO","GRUPO DE SERVICIO AL CIUDADANO ","2021-07-02","CORREO ELECTRÓNICO",null,{"$f":"IFERROR(WORKDAY(C2550,S2549,DiasNOLaborables),\"\")","v":"2021-07-29"},{"$f":"+IF(C2550=\"\",\"\",IF(J2550=\"\",\"SIN RESPUESTA\",(IF(J2550<=M2550,\"A TIEMPO\",\"FUERA DE TIEMPO\"))))","v":"A TIEMPO"},{"$f":"IF(J2550=\"\",\"\",NETWORKDAYS(C2550+1,J2550,DiasNOLaborables))","v":3},"",null,null,20]
[2540,20219050077682,"2021-06-29","CIUDADANO","MODULO CONTACTENOS","SOLICITUD DE INFORMACIÓN Y DOCUMENTOS","SOLICITUD DE INFORMACIÓN HIDROMETEOROLÓGICA","NO","GRUPO DE SERVICIO AL CIUDADANO ","2021-07-02","CORREO ELECTRÓNICO",null,{"$f":"IFERROR(WORKDAY(C2551,S2550,DiasNOLaborables),\"\")","v":"2021-07-29"},{"$f":"+IF(C2551=\"\",\"\",IF(J2551=\"\",\"SIN RESPUESTA\",(IF(J2551<=M2551,\"A TIEMPO\",\"FUERA DE TIEMPO\"))))","v":"A TIEMPO"},{"$f":"IF(J2551=\"\",\"\",NETWORKDAYS(C2551+1,J2551,DiasNOLaborables))","v":3},"",null,null,20]
[2541,20219050077722,"2021-06-29","CIUDADANO","MODULO CONTACTENOS","SOLICITUD DE INFORMACIÓN Y DOCUMENTOS","SOLICITUD DE INFORMACIÓN HIDROMETEOROLÓGICA","NO","GRUPO DE SERVICIO AL CIUDADANO ","2021-07-02","CORREO ELECTRÓNICO",null,{"$f":"IFERROR(WORKDAY(C2552,S2551,DiasNOLaborables),\"\")","v":"2021-07-29"},{"$f":"+IF(C2552=\"\",\"\",IF(J2552=\"\",\"SIN RESPUESTA\",(IF(J2552<=M2552,\"A TIEMPO\",\"FUERA DE TIEMPO\"))))","v":"A TIEMPO"},{"$f":"IF(J2552=\"\",\"\",NETWORKDAYS(C2552+1,J2552,DiasNOLaborables))","v":3},"",null,null,20]
[2542,20219050077812,"2021-06-29","ENTIDAD PÚBLICA","MODULO CONTACTENOS","SOLICITUD DE INFORMACIÓN Y DOCUMENTOS","SOLICITUD DE INFORMACIÓN HIDROMETEOROLÓGICA","NO","GRUPO DE SERVICIO AL CIUDADANO ","2021-07-02","CORREO ELECTRÓNICO",null,{"$f":"IFERROR(WORKDAY(C2553,S2552,DiasNOLaborables),\"\")","v":"2021-07-29"},{"$f":"+IF(C2553=\"\",\"\",IF(J2553=\"\",\"SIN RESPUESTA\",(IF(J2553<=M2553,\"A TIEMPO\",\"FUERA DE TIEMPO\"))))","v":"A TIEMPO"},{"$f":"IF(J2553=\"\",\"\",NETWORKDAYS(C2553+1,J2553,DiasNOLaborables))","v":3},"",null,null,20]
[2543,20219050077842,"2021-06-29","CIUDADANO","MODULO CONTACTENOS","SOLICITUD DE INFORMACIÓN Y DOCUMENTOS","SOLICITUD DE INFORMACIÓN HIDROMETEOROLÓGICA","NO","GRUPO DE SERVICIO AL CIUDADANO ","2021-07-02","CORREO ELECTRÓNICO",null,{"$f":"IFERROR(WORKDAY(C2554,S2553,DiasNOLaborables),\"\")","v":"2021-07-29"},{"$f":"+IF(C2554=\"\",\"\",IF(J2554=\"\",\"SIN RESPUESTA\",(IF(J2554<=M2554,\"A TIEMPO\",\"FUERA DE TIEMPO\"))))","v":"A TIEMPO"},{"$f":"IF(J2554=\"\",\"\",NETWORKDAYS(C2554+1,J2554,DiasNOLaborables))","v":3},"",null,null,35]
[2544,20219050077332,"2021-06-29","CIUDADANO","MODULO CONTACTENOS","CERTIFICACIONES DE TIEMPO, CLIMA Y EVENTOS HIDROLÓGICOS","CERTIFICACIONES DE TIEMPO Y CLIMA","SI","SUBDIRECCIÓN DE METEOROLOGÍA","2021-08-03","CORREO ELECTRÓNICO",null,{"$f":"IFERROR(WORKDAY(C2555,S2554,DiasNOLaborables),\"\")","v":"2021-08-20"},{"$f":"+IF(C2555=\"\",\"\",IF(J2555=\"\",\"SIN RESPUESTA\",(IF(J2555<=M2555,\"A TIEMPO\",\"FUERA DE TIEMPO\"))))","v":"A TIEMPO"},{"$f":"IF(J2555=\"\",\"\",NETWORKDAYS(C2555+1,J2555,DiasNOLaborables))","v":23},"",null,null,20]
[2545,20219050077492,"2021-06-29","CIUDADANO","MODULO CONTACTENOS","SOLICITUD DE INFORMACIÓN Y DOCUMENTOS","BOSQUES","SI","SUBDIRECCIÓN DE ECOSISTEMAS E INFORMACIÓN AMBIENTAL","2021-07-09","CORREO ELECTRÓNICO",null,{"$f":"IFERROR(WORKDAY(C2556,S2555,DiasNOLaborables),\"\")","v":"2021-07-29"},{"$f":"+IF(C2556=\"\",\"\",IF(J2556=\"\",\"SIN RESPUESTA\",(IF(J2556<=M2556,\"A TIEMPO\",\"FUERA DE TIEMPO\"))))","v":"A TIEMPO"},{"$f":"IF(J2556=\"\",\"\",NETWORKDAYS(C2556+1,J2556,DiasNOLaborables))","v":7},"",null,null,35]
[2546,20219050077582,"2021-06-29","CIUDADANO","MODULO CONTACTENOS","CERTIFICACIONES DE TIEMPO, CLIMA Y EVENTOS HIDROLÓGICOS","CERTIFICACIONES DE TIEMPO Y CLIMA","SI","SUBDIRECCIÓN DE METEOROLOGÍA","2021-07-26","CORREO ELECTRÓNICO",null,{"$f":"IFERROR(WORKDAY(C2557,S2556,DiasNOLaborables),\"\")","v":"2021-08-20"},{"$f":"+IF(C2557=\"\",\"\",IF(J2557=\"\",\"SIN RESPUESTA\",(IF(J2557<=M2557,\"A TIEMPO\",\"FUERA DE TIEMPO\"))))","v":"A TIEMPO"},{"$f":"IF(J2557=\"\",\"\",NETWORKDAYS(C2557+1,J2557,DiasNOLaborables))","v":17},"",null,null,35]
[2547,20219050077562,"2021-06-29","CIUDADANO","MODULO CONTACTENOS","CERTIFICACIONES DE TIEMPO, CLIMA Y EVENTOS HIDROLÓGICOS","CERTIFICACIONES DE TIEMPO Y CLIMA","SI","SUBDIRECCIÓN DE METEOROLOGÍA","2021-07-26","CORREO ELECTRÓNICO",null,{"$f":"IFERROR(WORKDAY(C2558,S2557,DiasNOLaborables),\"\")","v":"2021-08-20"},{"$f":"+IF(C2558=\"\",\"\",IF(J2558=\"\",\"SIN RESPUESTA\",(IF(J2558<=M2558,\"A TIEMPO\",\"FUERA DE TIEMPO\"))))","v":"A TIEMPO"},{"$f":"IF(J2558=\"\",\"\",NETWORKDAYS(C2558+1,J2558,DiasNOLaborables))","v":17},"",null,null,20]
[2548,20219050077862,"2021-06-29","CIUDADANO","MODULO CONTACTENOS","SOLICITUD DE INFORMACIÓN Y DOCUMENTOS","ADMINISTRATIVA","SI","GRUPO DE TESORERÍA","2021-07-01","CORREO ELECTRÓNICO",null,{"$f":"IFERROR(WORKDAY(C2559,S2558,DiasNOLaborables),\"\")","v":"2021-07-29"},{"$f":"+IF(C2559=\"\",\"\",IF(J2559=\"\",\"SIN RESPUESTA\",(IF(J2559<=M2559,\"A TIEMPO\",\"FUERA DE TIEMPO\"))))","v":"A TIEMPO"},{"$f":"IF(J2559=\"\",\"\",NETWORKDAYS(C2559+1,J2559,DiasNOLaborables))","v":2},"",null,null,35]
[2549,20219050077342,"2021-06-29","CIUDADANO","CORREO ELECTRÓNICO","CERTIFICACIONES DE TIEMPO, CLIMA Y EVENTOS HIDROLÓGICOS","CERTIFICACIONES DE TIEMPO Y CLIMA","SI","SUBDIRECCIÓN DE METEOROLOGÍA","2021-07-22","CORREO ELECTRÓNICO",null,{"$f":"IFERROR(WORKDAY(C2560,S2559,DiasNOLaborables),\"\")","v":"2021-08-20"},{"$f":"+IF(C2560=\"\",\"\",IF(J2560=\"\",\"SIN RESPUESTA\",(IF(J2560<=M2560,\"A TIEMPO\",\"FUERA DE TIEMPO\"))))","v":"A TIEMPO"},{"$f":"IF(J2560=\"\",\"\",NETWORKDAYS(C2560+1,J2560,DiasNOLaborables))","v":15},"",null,null,20]
[2550,20219050077352,"2021-06-29","CIUDADANO","CORREO ELECTRÓNICO","SOLICITUD DE INFORMACIÓN Y DOCUMENTOS","REGISTROS AMBIENTALES","SI","SUBDIRECCIÓN DE ESTUDIOS AMBIENTALES","2021-06-29","CORREO ELECTRÓNICO",null,{"$f":"IFERROR(WORKDAY(C2561,S2560,DiasNOLaborables),\"\")","v":"2021-07-29"},{"$f":"+IF(C2561=\"\",\"\",IF(J2561=\"\",\"SIN RESPUESTA\",(IF(J2561<=M2561,\"A TIEMPO\",\"FUERA DE TIEMPO\"))))","v":"A TIEMPO"},{"$f":"IF(J2561=\"\",\"\",NETWORKDAYS(C2561+1,J2561,DiasNOLaborables))","v":-2},"",null,null,5]
[2551,20219050077402,"2021-06-29","CIUDADANO","CORREO ELECTRÓNICO","SOLICITUD JUDICIAL","JURIDICO","SI","OFICINA ASESORA JURÍDICA","2021-07-06","CORREO ELECTRÓNICO",null,{"$f":"IFERROR(WORKDAY(C2562,S2561,DiasNOLaborables),\"\")","v":"2021-07-07"},{"$f":"+IF(C2562=\"\",\"\",IF(J2562=\"\",\"SIN RESPUESTA\",(IF(J2562<=M2562,\"A TIEMPO\",\"FUERA DE TIEMPO\"))))","v":"A TIEMPO"},{"$f":"IF(J2562=\"\",\"\",NETWORKDAYS(C2562+1,J2562,DiasNOLaborables))","v":4},"",null,null,35]
[2552,20219050077412,"2021-06-29","CIUDADANO","CORREO ELECTRÓNICO","CERTIFICACIONES DE TIEMPO, CLIMA Y EVENTOS HIDROLÓGICOS","CERTIFICACIONES DE TIEMPO Y CLIMA","SI","SUBDIRECCIÓN DE METEOROLOGÍA","2021-07-12","CORREO ELECTRÓNICO",null,{"$f":"IFERROR(WORKDAY(C2563,S2562,DiasNOLaborables),\"\")","v":"2021-08-20"},{"$f":"+IF(C2563=\"\",\"\",IF(J2563=\"\",\"SIN RESPUESTA\",(IF(J2563<=M2563,\"A TIEMPO\",\"FUERA DE TIEMPO\"))))","v":"A TIEMPO"},{"$f":"IF(J2563=\"\",\"\",NETWORKDAYS(C2563+1,J2563,DiasNOLaborables))","v":8},"",null,null,20]
[2553,20219050077422,"2021-06-29","CIUDADANO","CORREO ELECTRÓNICO","SOLICITUD DE INFORMACIÓN Y DOCUMENTOS","INFORMES AMBIENTALES","SI","SUBDIRECCIÓN DE ESTUDIOS AMBIENTALES","2021-07-21","CORREO ELECTRÓNICO",null,{"$f":"IFERROR(WORKDAY(C2564,S2563,DiasNOLaborables),\"\")","v":"2021-07-29"},{"$f":"+IF(C2564=\"\",\"\",IF(J2564=\"\",\"SIN RESPUESTA\",(IF(J2564<=M2564,\"A TIEMPO\",\"FUERA DE TIEMPO\"))))","v":"A TIEMPO"},{"$f":"IF(J2564=\"\",\"\",NETWORKDAYS(C2564+1,J2564,DiasNOLaborables))","v":14},"",null,null,35]
[2554,20219050077432,"2021-06-29","CIUDADANO","CORREO ELECTRÓNICO","CERTIFICACIONES DE TIEMPO, CLIMA Y EVENTOS HIDROLÓGICOS","CERTIFICACIONES DE TIEMPO Y CLIMA","SI","SUBDIRECCIÓN DE METEOROLOGÍA","2021-07-23","CORREO ELECTRÓNICO",null,{"$f":"IFERROR(WORKDAY(C2565,S2564,DiasNOLaborables),\"\")","v":"2021-08-20"},{"$f":"+IF(C2565=\"\",\"\",IF(J2565=\"\",\"SIN RESPUESTA\",(IF(J2565<=M2565,\"A TIEMPO\",\"FUERA DE TIEMPO\"))))","v":"A TIEMPO"},{"$f":"IF(J2565=\"\",\"\",NETWORKDAYS(C2565+1,J2565,DiasNOLaborables))","v":16},"",null,null,20]
[2555,20219050077462,"2021-06-29","CIUDADANO","CORREO ELECTRÓNICO","SOLICITUD DE INFORMACIÓN Y DOCUMENTOS","REGISTROS AMBIENTALES","SI","SUBDIRECCIÓN DE ESTUDIOS AMBIENTALES","2021-07-11","CORREO ELECTRÓNICO",null,{"$f":"IFERROR(WORKDAY(C2566,S2565,DiasNOLaborables),\"\")","v":"2021-07-29"},{"$f":"+IF(C2566=\"\",\"\",IF(J2566=\"\",\"SIN RESPUESTA\",(IF(J2566<=M2566,\"A TIEMPO\",\"FUERA DE TIEMPO\"))))","v":"A TIEMPO"},{"$f":"IF(J2566=\"\",\"\",NETWORKDAYS(C2566+1,J2566,DiasNOLaborables))","v":7},"",null,null,20]
[2556,20219050077482,"2021-06-29","CIUDADANO","CORREO ELECTRÓNICO","SOLICITUD DE INFORMACIÓN Y DOCUMENTOS","REGISTROS AMBIENTALES","SI","SUBDIRECCIÓN DE ESTUDIOS AMBIENTALES","2021-07-11","CORREO ELECTRÓNICO",null,{"$f":"IFERROR(WORKDAY(C2567,S2566,DiasNOLaborables),\"\")","v":"2021-07-29"},{"$f":"+IF(C2567=\"\",\"\",IF(J2567=\"\",\"SIN RESPUESTA\",(IF(J2567<=M2567,\"A TIEMPO\",\"FUERA DE TIEMPO\"))))","v":"A TIEMPO"},{"$f":"IF(J2567=\"\",\"\",NETWORKDAYS(C2567+1,J2567,DiasNOLaborables))","v":7},"",null,null,20]
[2557,20219050077532,"2021-06-29","CIUDADANO","CORREO ELECTRÓNICO","SOLICITUD DE INFORMACIÓN Y DOCUMENTOS","BOSQUES","SI","SUBDIRECCIÓN DE ECOSISTEMAS E INFORMACIÓN AMBIENTAL","2021-07-09","CORREO ELECTRÓNICO",null,{"$f":"IFERROR(WORKDAY(C2568,S2567,DiasNOLaborables),\"\")","v":"2021-07-29"},{"$f":"+IF(C2568=\"\",\"\",IF(J2568=\"\",\"SIN RESPUESTA\",(IF(J2568<=M2568,\"A TIEMPO\",\"FUERA DE TIEMPO\"))))","v":"A TIEMPO"},{"$f":"IF(J2568=\"\",\"\",NETWORKDAYS(C2568+1,J2568,DiasNOLaborables))","v":7},"",null,null,20]
[2558,20219050077542,"2021-06-29","CIUDADANO","CORREO ELECTRÓNICO","SOLICITUD DE INFORMACIÓN Y DOCUMENTOS","REGISTROS AMBIENTALES","SI","SUBDIRECCIÓN DE ESTUDIOS AMBIENTALES","2021-07-11","CORREO ELECTRÓNICO",null,{"$f":"IFERROR(WORKDAY(C2569,S2568,DiasNOLaborables),\"\")","v":"2021-07-29"},{"$f":"+IF(C2569=\"\",\"\",IF(J2569=\"\",\"SIN RESPUESTA\",(IF(J2569<=M2569,\"A TIEMPO\",\"FUERA DE TIEMPO\"))))","v":"A TIEMPO"},{"$f":"IF(J2569=\"\",\"\",NETWORKDAYS(C2569+1,J2569,DiasNOLaborables))","v":7},"",null,null,20]
[2559,20219050077592,"2021-06-29","CIUDADANO","CORREO ELECTRÓNICO","SOLICITUD DE INFORMACIÓN Y DOCUMENTOS","REGISTROS AMBIENTALES","SI","SUBDIRECCIÓN DE ESTUDIOS AMBIENTALES","2021-07-12","CORREO ELECTRÓNICO",null,{"$f":"IFERROR(WORKDAY(C2570,S2569,DiasNOLaborables),\"\")","v":"2021-07-29"},{"$f":"+IF(C2570=\"\",\"\",IF(J2570=\"\",\"SIN RESPUESTA\",(IF(J2570<=M2570,\"A TIEMPO\",\"FUERA DE TIEMPO\"))))","v":"A TIEMPO"},{"$f":"IF(J2570=\"\",\"\",NETWORKDAYS(C2570+1,J2570,DiasNOLaborables))","v":8},"",null,null,20]
[2560,20219050077552,"2021-06-29","CIUDADANO","CORREO ELECTRÓNICO","SOLICITUD DE INFORMACIÓN Y DOCUMENTOS","REGISTROS AMBIENTALES","SI","SUBDIRECCIÓN DE ESTUDIOS AMBIENTALES","2021-07-11","CORREO ELECTRÓNICO",null,{"$f":"IFERROR(WORKDAY(C2571,S2570,DiasNOLaborables),\"\")","v":"2021-07-29"},{"$f":"+IF(C2571=\"\",\"\",IF(J2571=\"\",\"SIN RESPUESTA\",(IF(J2571<=M2571,\"A TIEMPO\",\"FUERA DE TIEMPO\"))))","v":"A TIEMPO"},{"$f":"IF(J2571=\"\",\"\",NETWORKDAYS(C2571+1,J2571,DiasNOLaborables))","v":7},"",null,null,20]
[2561,20219050077612,"2021-06-29","CIUDADANO","CORREO ELECTRÓNICO","SOLICITUD DE INFORMACIÓN Y DOCUMENTOS","REGISTROS AMBIENTALES","SI","SUBDIRECCIÓN DE ESTUDIOS AMBIENTALES","2021-07-15","CORREO ELECTRÓNICO",null,{"$f":"IFERROR(WORKDAY(C2572,S2571,DiasNOLaborables),\"\")","v":"2021-07-29"},{"$f":"+IF(C2572=\"\",\"\",IF(J2572=\"\",\"SIN RESPUESTA\",(IF(J2572<=M2572,\"A TIEMPO\",\"FUERA DE TIEMPO\"))))","v":"A TIEMPO"},{"$f":"IF(J2572=\"\",\"\",NETWORKDAYS([5]Hoja1!C2570+1,[5]Hoja1!P2570,DiasNOLaborables))","v":3},{"$f":"IF(NETWORKDAYS(M2572+1,J2572,DiasNOLaborables)<=0,\"\",NETWORKDAYS(M2572+1,J2572,DiasNOLaborables))","v":""},null,null,20]
[2562,20219050077632,"2021-06-29","CIUDADANO","CORREO ELECTRÓNICO","SOLICITUD DE INFORMACIÓN Y DOCUMENTOS","ADMINISTRATIVA","SI","GRUPO DE ADMINISTRACIÓN Y DESARROLLO DEL TALENTO HUMANO","2021-07-01","CORREO ELECTRÓNICO",null,{"$f":"IFERROR(WORKDAY(C2573,S2572,DiasNOLaborables),\"\")","v":"2021-07-29"},{"$f":"+IF(C2573=\"\",\"\",IF(J2573=\"\",\"SIN RESPUESTA\",(IF(J2573<=M2573,\"A TIEMPO\",\"FUERA DE TIEMPO\"))))","v":"A TIEMPO"},{"$f":"IF(J2573=\"\",\"\",NETWORKDAYS(C2573+1,J2573,DiasNOLaborables))","v":2},"",null,null,{"$f":"IFERROR(VLOOKUP(F2574,$AA$51:$AB$64,2),\"\")","v":20}]
[{"$f":"IF(B2574<>\"\",A2573+1,\"\")","v":2563},20219050077652,"2021-06-29","CIUDADANO","CORREO ELECTRÓNICO","SOLICITUD DE INFORMACIÓN Y DOCUMENTOS","ADMINISTRATIVA","SI","GRUPO DE TESORERÍA","2021-07-01","CORREO ELECTRÓNICO",null,{"$f":"IFERROR(WORKDAY(C2574,S2573,DiasNOLaborables),\"\")","v":"2021-07-29"},{"$f":"+IF(C2574=\"\",\"\",IF(J2574=\"\",\"SIN RESPUESTA\",(IF(J2574<=M2574,\"A TIEMPO\",\"FUERA DE TIEMPO\"))))","v":"A TIEMPO"},{"$f":"IF(J2574=\"\",\"\",NETWORKDAYS(C2574+1,J2574,DiasNOLaborables))","v":2},"",null,null,20]
[2564,20219050077662,"2021-06-29","CIUDADANO","CORREO ELECTRÓNICO","SOLICITUD DE INFORMACIÓN Y DOCUMENTOS","REGISTROS AMBIENTALES","SI","SUBDIRECCIÓN DE ESTUDIOS AMBIENTALES","2021-06-29","CORREO ELECTRÓNICO",null,{"$f":"IFERROR(WORKDAY(C2575,S2574,DiasNOLaborables),\"\")","v":"2021-07-29"},{"$f":"+IF(C2575=\"\",\"\",IF(J2575=\"\",\"SIN RESPUESTA\",(IF(J2575<=M2575,\"A TIEMPO\",\"FUERA DE TIEMPO\"))))","v":"A TIEMPO"},{"$f":"IF(J2575=\"\",\"\",NETWORKDAYS(C2575+1,J2575,DiasNOLaborables))","v":-2},"",null,null,30]
[2565,20219050077672,"2021-06-29","CIUDADANO","CORREO ELECTRÓNICO","PETICIÓN","BOSQUES","SI","SUBDIRECCIÓN DE ECOSISTEMAS E INFORMACIÓN AMBIENTAL","2021-07-09","CORREO ELECTRÓNICO",null,{"$f":"IFERROR(WORKDAY(C2576,S2575,DiasNOLaborables),\"\")","v":"2021-08-12"},{"$f":"+IF(C2576=\"\",\"\",IF(J2576=\"\",\"SIN RESPUESTA\",(IF(J2576<=M2576,\"A TIEMPO\",\"FUERA DE TIEMPO\"))))","v":"A TIEMPO"},{"$f":"IF(J2576=\"\",\"\",NETWORKDAYS(C2576+1,J2576,DiasNOLaborables))","v":7},"",null,null,20]
[2566,20219050077692,"2021-06-29","CIUDADANO","CORREO ELECTRÓNICO","SOLICITUD DE INFORMACIÓN Y DOCUMENTOS","REGISTROS AMBIENTALES","SI","SUBDIRECCIÓN DE ESTUDIOS AMBIENTALES","2021-07-01","CORREO ELECTRÓNICO",null,{"$f":"IFERROR(WORKDAY(C2577,S2576,DiasNOLaborables),\"\")","v":"2021-07-29"},{"$f":"+IF(C2577=\"\",\"\",IF(J2577=\"\",\"SIN RESPUESTA\",(IF(J2577<=M2577,\"A TIEMPO\",\"FUERA DE TIEMPO\"))))","v":"A TIEMPO"},{"$f":"IF(J2577=\"\",\"\",NETWORKDAYS(C2577+1,J2577,DiasNOLaborables))","v":2},"",null,null,20]
[2567,20219050077702,"2021-06-29","CIUDADANO","CORREO ELECTRÓNICO","SOLICITUD DE INFORMACIÓN Y DOCUMENTOS","REGISTROS AMBIENTALES","SI","SUBDIRECCIÓN DE ESTUDIOS AMBIENTALES","2021-07-15","CORREO ELECTRÓNICO",null,{"$f":"IFERROR(WORKDAY(C2578,S2577,DiasNOLaborables),\"\")","v":"2021-07-29"},{"$f":"+IF(C2578=\"\",\"\",IF(J2578=\"\",\"SIN RESPUESTA\",(IF(J2578<=M2578,\"A TIEMPO\",\"FUERA DE TIEMPO\"))))","v":"A TIEMPO"},{"$f":"IF(J2578=\"\",\"\",NETWORKDAYS(C2578+1,J2578,DiasNOLaborables))","v":11},"",null,null,20]
[2568,20219050077712,"2021-06-29","CIUDADANO","CORREO ELECTRÓNICO","SOLICITUD DE INFORMACIÓN Y DOCUMENTOS","ADMINISTRATIVA","SI","GRUPO DE ADMINISTRACIÓN Y DESARROLLO DEL TALENTO HUMANO","2021-07-06","CORREO ELECTRÓNICO",null,{"$f":"IFERROR(WORKDAY(C2579,S2578,DiasNOLaborables),\"\")","v":"2021-07-29"},{"$f":"+IF(C2579=\"\",\"\",IF(J2579=\"\",\"SIN RESPUESTA\",(IF(J2579<=M2579,\"A TIEMPO\",\"FUERA DE TIEMPO\"))))","v":"A TIEMPO"},{"$f":"IF(J2579=\"\",\"\",NETWORKDAYS(C2579+1,J2579,DiasNOLaborables))","v":4},"",null,null,35]
[2569,20219050077732,"2021-06-29","CIUDADANO","CORREO ELECTRÓNICO","CERTIFICACIONES DE TIEMPO, CLIMA Y EVENTOS HIDROLÓGICOS","CERTIFICACIONES DE TIEMPO Y CLIMA","SI","SUBDIRECCIÓN DE METEOROLOGÍA","2021-07-21","CORREO ELECTRÓNICO",null,{"$f":"IFERROR(WORKDAY(C2580,S2579,DiasNOLaborables),\"\")","v":"2021-08-20"},{"$f":"+IF(C2580=\"\",\"\",IF(J2580=\"\",\"SIN RESPUESTA\",(IF(J2580<=M2580,\"A TIEMPO\",\"FUERA DE TIEMPO\"))))","v":"A TIEMPO"},{"$f":"IF(J2580=\"\",\"\",NETWORKDAYS(C2580+1,J2580,DiasNOLaborables))","v":14},"",null,null,35]
[2570,20219050077742,"2021-06-29","CIUDADANO","CORREO ELECTRÓNICO","CERTIFICACIONES DE TIEMPO, CLIMA Y EVENTOS HIDROLÓGICOS","CERTIFICACIONES DE TIEMPO Y CLIMA","SI","SUBDIRECCIÓN DE METEOROLOGÍA","2021-07-21","CORREO ELECTRÓNICO",null,{"$f":"IFERROR(WORKDAY(C2581,S2580,DiasNOLaborables),\"\")","v":"2021-08-20"},{"$f":"+IF(C2581=\"\",\"\",IF(J2581=\"\",\"SIN RESPUESTA\",(IF(J2581<=M2581,\"A TIEMPO\",\"FUERA DE TIEMPO\"))))","v":"A TIEMPO"},{"$f":"IF(J2581=\"\",\"\",NETWORKDAYS(C2581+1,J2581,DiasNOLaborables))","v":14},"",null,null,35]
[2571,20219050077752,"2021-06-29","CIUDADANO","CORREO ELECTRÓNICO","CERTIFICACIONES DE TIEMPO, CLIMA Y EVENTOS HIDROLÓGICOS","CERTIFICACIONES DE TIEMPO Y CLIMA","SI","SUBDIRECCIÓN DE METEOROLOGÍA","2021-07-12","CORREO ELECTRÓNICO",null,{"$f":"IFERROR(WORKDAY(C2582,S2581,DiasNOLaborables),\"\")","v":"2021-08-20"},{"$f":"+IF(C2582=\"\",\"\",IF(J2582=\"\",\"SIN RESPUESTA\",(IF(J2582<=M2582,\"A TIEMPO\",\"FUERA DE TIEMPO\"))))","v":"A TIEMPO"},{"$f":"IF(J2582=\"\",\"\",NETWORKDAYS(C2582+1,J2582,DiasNOLaborables))","v":8},"",null,null,20]
[2572,20219050077762,"2021-06-29","CIUDADANO","CORREO ELECTRÓNICO","SOLICITUD DE INFORMACIÓN Y DOCUMENTOS","REGISTROS AMBIENTALES","SI","SUBDIRECCIÓN DE ESTUDIOS AMBIENTALES","2021-07-15","CORREO ELECTRÓNICO",null,{"$f":"IFERROR(WORKDAY(C2583,S2582,DiasNOLaborables),\"\")","v":"2021-07-29"},{"$f":"+IF(C2583=\"\",\"\",IF(J2583=\"\",\"SIN RESPUESTA\",(IF(J2583<=M2583,\"A TIEMPO\",\"FUERA DE TIEMPO\"))))","v":"A TIEMPO"},{"$f":"IF(J2583=\"\",\"\",NETWORKDAYS(C2583+1,J2583,DiasNOLaborables))","v":11},"",null,null,20]
[2573,20219050077832,"2021-06-29","CIUDADANO","CORREO ELECTRÓNICO","SOLICITUD DE INFORMACIÓN Y DOCUMENTOS","ADMINISTRATIVA","SI","GRUPO DE ADMINISTRACIÓN Y DESARROLLO DEL TALENTO HUMANO","2021-06-29","CORREO ELECTRÓNICO",null,{"$f":"IFERROR(WORKDAY(C2584,S2583,DiasNOLaborables),\"\")","v":"2021-07-29"},{"$f":"+IF(C2584=\"\",\"\",IF(J2584=\"\",\"SIN RESPUESTA\",(IF(J2584<=M2584,\"A TIEMPO\",\"FUERA DE TIEMPO\"))))","v":"A TIEMPO"},{"$f":"IF(J2584=\"\",\"\",NETWORKDAYS(C2584+1,J2584,DiasNOLaborables))","v":-2},"",null,null,20]
[2574,20219050077892,"2021-06-29","CIUDADANO","MODULO CONTACTENOS","SOLICITUD DE INFORMACIÓN Y DOCUMENTOS","SOLICITUD DE INFORMACIÓN HIDROMETEOROLÓGICA","NO","GRUPO DE SERVICIO AL CIUDADANO ","2021-07-06","CORREO ELECTRÓNICO",null,{"$f":"IFERROR(WORKDAY(C2585,S2584,DiasNOLaborables),\"\")","v":"2021-07-29"},{"$f":"+IF(C2585=\"\",\"\",IF(J2585=\"\",\"SIN RESPUESTA\",(IF(J2585<=M2585,\"A TIEMPO\",\"FUERA DE TIEMPO\"))))","v":"A TIEMPO"},{"$f":"IF(J2585=\"\",\"\",NETWORKDAYS(C2585+1,J2585,DiasNOLaborables))","v":4},"",null,null,20]
[2575,20219050077902,"2021-06-29","CIUDADANO","MODULO CONTACTENOS","SOLICITUD DE INFORMACIÓN Y DOCUMENTOS","SOLICITUD DE INFORMACIÓN HIDROMETEOROLÓGICA","NO","GRUPO DE SERVICIO AL CIUDADANO ","2021-07-06","CORREO ELECTRÓNICO",null,{"$f":"IFERROR(WORKDAY(C2586,S2585,DiasNOLaborables),\"\")","v":"2021-07-29"},{"$f":"+IF(C2586=\"\",\"\",IF(J2586=\"\",\"SIN RESPUESTA\",(IF(J2586<=M2586,\"A TIEMPO\",\"FUERA DE TIEMPO\"))))","v":"A TIEMPO"},{"$f":"IF(J2586=\"\",\"\",NETWORKDAYS(C2586+1,J2586,DiasNOLaborables))","v":4},"",null,null,20]
[2576,20219050077852,"2021-06-29","CIUDADANO","CORREO ELECTRÓNICO","SOLICITUD DE INFORMACIÓN Y DOCUMENTOS","SOLICITUD DE INFORMACIÓN HIDROMETEOROLÓGICA","SI","SUBDIRECCIÓN DE METEOROLOGÍA","2021-07-09","CORREO ELECTRÓNICO",null,{"$f":"IFERROR(WORKDAY(C2587,S2586,DiasNOLaborables),\"\")","v":"2021-07-29"},{"$f":"+IF(C2587=\"\",\"\",IF(J2587=\"\",\"SIN RESPUESTA\",(IF(J2587<=M2587,\"A TIEMPO\",\"FUERA DE TIEMPO\"))))","v":"A TIEMPO"},{"$f":"IF(J2587=\"\",\"\",NETWORKDAYS(C2587+1,J2587,DiasNOLaborables))","v":7},"",null,null,20]
[2577,20219050077912,"2021-06-30","ACADEMIA ","MODULO CONTACTENOS","SOLICITUD DE INFORMACIÓN Y DOCUMENTOS","SOLICITUD DE INFORMACIÓN HIDROMETEOROLÓGICA","NO","GRUPO DE SERVICIO AL CIUDADANO ","2021-07-06","CORREO ELECTRÓNICO",null,{"$f":"IFERROR(WORKDAY(C2588,S2587,DiasNOLaborables),\"\")","v":"2021-07-30"},{"$f":"+IF(C2588=\"\",\"\",IF(J2588=\"\",\"SIN RESPUESTA\",(IF(J2588<=M2588,\"A TIEMPO\",\"FUERA DE TIEMPO\"))))","v":"A TIEMPO"},{"$f":"IF(J2588=\"\",\"\",NETWORKDAYS(C2588+1,J2588,DiasNOLaborables))","v":3},"",null,null,20]
[2578,20219050077922,"2021-06-30","ACADEMIA ","MODULO CONTACTENOS","SOLICITUD DE INFORMACIÓN Y DOCUMENTOS","SOLICITUD DE INFORMACIÓN HIDROMETEOROLÓGICA","NO","GRUPO DE SERVICIO AL CIUDADANO ","2021-07-06","CORREO ELECTRÓNICO",null,{"$f":"IFERROR(WORKDAY(C2589,S2588,DiasNOLaborables),\"\")","v":"2021-07-30"},{"$f":"+IF(C2589=\"\",\"\",IF(J2589=\"\",\"SIN RESPUESTA\",(IF(J2589<=M2589,\"A TIEMPO\",\"FUERA DE TIEMPO\"))))","v":"A TIEMPO"},{"$f":"IF(J2589=\"\",\"\",NETWORKDAYS(C2589+1,J2589,DiasNOLaborables))","v":3},"",null,null,20]
[2579,20219050077972,"2021-06-30","ACADEMIA ","MODULO CONTACTENOS","SOLICITUD DE INFORMACIÓN Y DOCUMENTOS","SOLICITUD DE INFORMACIÓN HIDROMETEOROLÓGICA","NO","GRUPO DE SERVICIO AL CIUDADANO ","2021-07-06","CORREO ELECTRÓNICO",null,{"$f":"IFERROR(WORKDAY(C2590,S2589,DiasNOLaborables),\"\")","v":"2021-07-30"},{"$f":"+IF(C2590=\"\",\"\",IF(J2590=\"\",\"SIN RESPUESTA\",(IF(J2590<=M2590,\"A TIEMPO\",\"FUERA DE TIEMPO\"))))","v":"A TIEMPO"},{"$f":"IF(J2590=\"\",\"\",NETWORKDAYS([5]Hoja1!C2588+1,[5]Hoja1!P2588,DiasNOLaborables))","v":-3},"",null,null,20]
[2580,20219050077932,"2021-06-30","CIUDADANO","CORREO ELECTRÓNICO","SOLICITUD DE INFORMACIÓN Y DOCUMENTOS","BOSQUES","SI","SUBDIRECCIÓN DE ECOSISTEMAS E INFORMACIÓN AMBIENTAL","2021-07-02","CORREO ELECTRÓNICO",null,{"$f":"IFERROR(WORKDAY(C2591,S2590,DiasNOLaborables),\"\")","v":"2021-07-30"},{"$f":"+IF(C2591=\"\",\"\",IF(J2591=\"\",\"SIN RESPUESTA\",(IF(J2591<=M2591,\"A TIEMPO\",\"FUERA DE TIEMPO\"))))","v":"A TIEMPO"},{"$f":"IF(J2591=\"\",\"\",NETWORKDAYS(C2591+1,J2591,DiasNOLaborables))","v":2},"",null,null,20]
[2581,20219050077952,"2021-06-30","CIUDADANO","CORREO ELECTRÓNICO","SOLICITUD DE INFORMACIÓN Y DOCUMENTOS","INFORMES AMBIENTALES","SI","SUBDIRECCIÓN DE HIDROLOGÍA","2021-07-08","CORREO ELECTRÓNICO",null,{"$f":"IFERROR(WORKDAY(C2592,S2591,DiasNOLaborables),\"\")","v":"2021-07-30"},{"$f":"+IF(C2592=\"\",\"\",IF(J2592=\"\",\"SIN RESPUESTA\",(IF(J2592<=M2592,\"A TIEMPO\",\"FUERA DE TIEMPO\"))))","v":"A TIEMPO"},{"$f":"IF(J2592=\"\",\"\",NETWORKDAYS(C2592+1,J2592,DiasNOLaborables))","v":5},"",null,null,20]
[2582,20219050077962,"2021-06-30","CIUDADANO","CORREO ELECTRÓNICO","SOLICITUD DE INFORMACIÓN Y DOCUMENTOS","BOSQUES","SI","SUBDIRECCIÓN DE ECOSISTEMAS E INFORMACIÓN AMBIENTAL","2021-07-15","CORREO ELECTRÓNICO",null,{"$f":"IFERROR(WORKDAY(C2593,S2592,DiasNOLaborables),\"\")","v":"2021-07-30"},{"$f":"+IF(C2593=\"\",\"\",IF(J2593=\"\",\"SIN RESPUESTA\",(IF(J2593<=M2593,\"A TIEMPO\",\"FUERA DE TIEMPO\"))))","v":"A TIEMPO"},{"$f":"IF(J2593=\"\",\"\",NETWORKDAYS(C2593+1,J2593,DiasNOLaborables))","v":10},"",null,null,20]
[2583,20219050077982,"2021-06-30","CIUDADANO","CORREO ELECTRÓNICO","SOLICITUD DE INFORMACIÓN Y DOCUMENTOS","CLIMATOLOGÍA","SI","SUBDIRECCIÓN DE METEOROLOGÍA","2021-07-09","CORREO ELECTRÓNICO",null,{"$f":"IFERROR(WORKDAY(C2594,S2593,DiasNOLaborables),\"\")","v":"2021-07-30"},{"$f":"+IF(C2594=\"\",\"\",IF(J2594=\"\",\"SIN RESPUESTA\",(IF(J2594<=M2594,\"A TIEMPO\",\"FUERA DE TIEMPO\"))))","v":"A TIEMPO"},{"$f":"IF(J2594=\"\",\"\",NETWORKDAYS(C2594+1,J2594,DiasNOLaborables))","v":6},"",null,null,20]
[2584,20219050078002,"2021-06-30","CIUDADANO","CORREO ELECTRÓNICO","SOLICITUD DE INFORMACIÓN Y DOCUMENTOS","OPERACIÓN DE REDES","SI","OFICINA DE INFORMÁTICA","2021-06-30","CORREO ELECTRÓNICO",null,{"$f":"IFERROR(WORKDAY(C2595,S2594,DiasNOLaborables),\"\")","v":"2021-07-30"},{"$f":"+IF(C2595=\"\",\"\",IF(J2595=\"\",\"SIN RESPUESTA\",(IF(J2595<=M2595,\"A TIEMPO\",\"FUERA DE TIEMPO\"))))","v":"A TIEMPO"},{"$f":"IF(J2595=\"\",\"\",NETWORKDAYS(C2595+1,J2595,DiasNOLaborables))","v":-2},"",null,null,20]
[2585,20219050077992,"2021-06-30","CIUDADANO","CORREO ELECTRÓNICO","SOLICITUD DE INFORMACIÓN Y DOCUMENTOS","INFORMES AMBIENTALES","SI","SUBDIRECCIÓN DE HIDROLOGÍA","2021-07-07","CORREO ELECTRÓNICO",null,{"$f":"IFERROR(WORKDAY(C2596,S2595,DiasNOLaborables),\"\")","v":"2021-07-30"},{"$f":"+IF(C2596=\"\",\"\",IF(J2596=\"\",\"SIN RESPUESTA\",(IF(J2596<=M2596,\"A TIEMPO\",\"FUERA DE TIEMPO\"))))","v":"A TIEMPO"},{"$f":"IF(J2596=\"\",\"\",NETWORKDAYS(C2596+1,J2596,DiasNOLaborables))","v":4},"",null,null,20]
[2586,20219050078022,"2021-06-30","CIUDADANO","CORREO ELECTRÓNICO","SOLICITUD DE INFORMACIÓN Y DOCUMENTOS","INFORMES AMBIENTALES","SI","SUBDIRECCIÓN DE ESTUDIOS AMBIENTALES","2021-07-15","CORREO ELECTRÓNICO",null,{"$f":"IFERROR(WORKDAY(C2597,S2596,DiasNOLaborables),\"\")","v":"2021-07-30"},{"$f":"+IF(C2597=\"\",\"\",IF(J2597=\"\",\"SIN RESPUESTA\",(IF(J2597<=M2597,\"A TIEMPO\",\"FUERA DE TIEMPO\"))))","v":"A TIEMPO"},{"$f":"IF(J2597=\"\",\"\",NETWORKDAYS(C2597+1,J2597,DiasNOLaborables))","v":10},"",null,null,20]
[2587,20219050078032,"2021-06-30","CIUDADANO","CORREO ELECTRÓNICO","SOLICITUD DE INFORMACIÓN Y DOCUMENTOS","REGISTROS AMBIENTALES","SI","SUBDIRECCIÓN DE ESTUDIOS AMBIENTALES","2021-07-16","CORREO ELECTRÓNICO",null,{"$f":"IFERROR(WORKDAY(C2598,S2597,DiasNOLaborables),\"\")","v":"2021-07-30"},{"$f":"+IF(C2598=\"\",\"\",IF(J2598=\"\",\"SIN RESPUESTA\",(IF(J2598<=M2598,\"A TIEMPO\",\"FUERA DE TIEMPO\"))))","v":"A TIEMPO"},{"$f":"IF(J2598=\"\",\"\",NETWORKDAYS(C2598+1,J2598,DiasNOLaborables))","v":11},"",null,null,20]
[2588,20219050078052,"2021-06-30","CIUDADANO","CORREO ELECTRÓNICO","SOLICITUD DE INFORMACIÓN Y DOCUMENTOS","INFORMES AMBIENTALES","SI","SUBDIRECCIÓN DE ESTUDIOS AMBIENTALES","2021-07-15","CORREO ELECTRÓNICO",null,{"$f":"IFERROR(WORKDAY(C2599,S2598,DiasNOLaborables),\"\")","v":"2021-07-30"},{"$f":"+IF(C2599=\"\",\"\",IF(J2599=\"\",\"SIN RESPUESTA\",(IF(J2599<=M2599,\"A TIEMPO\",\"FUERA DE TIEMPO\"))))","v":"A TIEMPO"},{"$f":"IF(J2599=\"\",\"\",NETWORKDAYS(C2599+1,J2599,DiasNOLaborables))","v":10},"",null,null,20]
[2589,20219050078082,"2021-06-30","CIUDADANO","CORREO ELECTRÓNICO","SOLICITUD DE INFORMACIÓN Y DOCUMENTOS","BOSQUES","SI","SUBDIRECCIÓN DE ECOSISTEMAS E INFORMACIÓN AMBIENTAL","2021-07-15","CORREO ELECTRÓNICO",null,{"$f":"IFERROR(WORKDAY(C2600,S2599,DiasNOLaborables),\"\")","v":"2021-07-30"},{"$f":"+IF(C2600=\"\",\"\",IF(J2600=\"\",\"SIN RESPUESTA\",(IF(J2600<=M2600,\"A TIEMPO\",\"FUERA DE TIEMPO\"))))","v":"A TIEMPO"},{"$f":"IF(J2600=\"\",\"\",NETWORKDAYS(C2600+1,J2600,DiasNOLaborables))","v":10},{"$f":"IF(NETWORKDAYS(M2600+1,J2600,DiasNOLaborables)<=0,\"\",NETWORKDAYS(M2600+1,J2600,DiasNOLaborables))","v":""},null,null,20]
[2590,20219050078092,"2021-06-30","CIUDADANO","CORREO ELECTRÓNICO","SOLICITUD DE INFORMACIÓN Y DOCUMENTOS","ADMINISTRATIVA","SI","GRUPO DE TESORERÍA","2021-06-30","CORREO ELECTRÓNICO",null,{"$f":"IFERROR(WORKDAY(C2601,S2600,DiasNOLaborables),\"\")","v":"2021-07-30"},{"$f":"+IF(C2601=\"\",\"\",IF(J2601=\"\",\"SIN RESPUESTA\",(IF(J2601<=M2601,\"A TIEMPO\",\"FUERA DE TIEMPO\"))))","v":"A TIEMPO"},{"$f":"IF(J2601=\"\",\"\",NETWORKDAYS(C2601+1,J2601,DiasNOLaborables))","v":-2},"",null,null,20]
[2591,20219050078132,"2021-06-30","CIUDADANO","CORREO ELECTRÓNICO","SOLICITUD DE INFORMACIÓN Y DOCUMENTOS","INFORMES AMBIENTALES","SI","SUBDIRECCIÓN DE ESTUDIOS AMBIENTALES","2021-07-15","CORREO ELECTRÓNICO",null,{"$f":"IFERROR(WORKDAY(C2602,S2601,DiasNOLaborables),\"\")","v":"2021-07-30"},{"$f":"+IF(C2602=\"\",\"\",IF(J2602=\"\",\"SIN RESPUESTA\",(IF(J2602<=M2602,\"A TIEMPO\",\"FUERA DE TIEMPO\"))))","v":"A TIEMPO"},{"$f":"IF(J2602=\"\",\"\",NETWORKDAYS(C2602+1,J2602,DiasNOLaborables))","v":10},"",null,null,20]
[2592,20219050078142,"2021-06-30","CIUDADANO","CORREO ELECTRÓNICO","SOLICITUD DE INFORMACIÓN Y DOCUMENTOS","INFORMES AMBIENTALES","SI","SUBDIRECCIÓN DE METEOROLOGÍA","2021-07-30","CORREO ELECTRÓNICO",null,{"$f":"IFERROR(WORKDAY(C2603,S2602,DiasNOLaborables),\"\")","v":"2021-07-30"},{"$f":"+IF(C2603=\"\",\"\",IF(J2603=\"\",\"SIN RESPUESTA\",(IF(J2603<=M2603,\"A TIEMPO\",\"FUERA DE TIEMPO\"))))","v":"A TIEMPO"},{"$f":"IF(J2603=\"\",\"\",NETWORKDAYS(C2603+1,J2603,DiasNOLaborables))","v":20},"",null,null,20]
[2593,20219050078152,"2021-06-30","CIUDADANO","CORREO ELECTRÓNICO","SOLICITUD DE INFORMACIÓN Y DOCUMENTOS","REGISTROS AMBIENTALES","SI","SUBDIRECCIÓN DE ESTUDIOS AMBIENTALES","2021-06-30","CORREO ELECTRÓNICO",null,{"$f":"IFERROR(WORKDAY(C2604,S2603,DiasNOLaborables),\"\")","v":"2021-07-30"},{"$f":"+IF(C2604=\"\",\"\",IF(J2604=\"\",\"SIN RESPUESTA\",(IF(J2604<=M2604,\"A TIEMPO\",\"FUERA DE TIEMPO\"))))","v":"A TIEMPO"},{"$f":"IF(J2604=\"\",\"\",NETWORKDAYS(C2604+1,J2604,DiasNOLaborables))","v":-2},"",null,null,20]
[2594,20219050078162,"2021-06-30","CIUDADANO","CORREO ELECTRÓNICO","SOLICITUD DE INFORMACIÓN Y DOCUMENTOS","REGISTROS AMBIENTALES","SI","SUBDIRECCIÓN DE ESTUDIOS AMBIENTALES","2021-06-29","CORREO ELECTRÓNICO",null,{"$f":"IFERROR(WORKDAY(C2605,S2604,DiasNOLaborables),\"\")","v":"2021-07-30"},{"$f":"+IF(C2605=\"\",\"\",IF(J2605=\"\",\"SIN RESPUESTA\",(IF(J2605<=M2605,\"A TIEMPO\",\"FUERA DE TIEMPO\"))))","v":"A TIEMPO"},{"$f":"IF(J2605=\"\",\"\",NETWORKDAYS(C2605+1,J2605,DiasNOLaborables))","v":-3},"",null,null,20]
[2595,20219050078172,"2021-06-30","CIUDADANO","CORREO ELECTRÓNICO","SOLICITUD DE INFORMACIÓN Y DOCUMENTOS","BOSQUES","SI","SUBDIRECCIÓN DE ECOSISTEMAS E INFORMACIÓN AMBIENTAL","2021-07-02","CORREO ELECTRÓNICO",null,{"$f":"IFERROR(WORKDAY(C2606,S2605,DiasNOLaborables),\"\")","v":"2021-07-30"},{"$f":"+IF(C2606=\"\",\"\",IF(J2606=\"\",\"SIN RESPUESTA\",(IF(J2606<=M2606,\"A TIEMPO\",\"FUERA DE TIEMPO\"))))","v":"A TIEMPO"},{"$f":"IF(J2606=\"\",\"\",NETWORKDAYS(C2606+1,J2606,DiasNOLaborables))","v":2},"",null,null,20]
[2596,20219050078182,"2021-06-30","CIUDADANO","CORREO ELECTRÓNICO","SOLICITUD DE INFORMACIÓN Y DOCUMENTOS","BOSQUES","SI","SUBDIRECCIÓN DE ECOSISTEMAS E INFORMACIÓN AMBIENTAL","2021-07-02","CORREO ELECTRÓNICO",null,{"$f":"IFERROR(WORKDAY(C2607,S2606,DiasNOLaborables),\"\")","v":"2021-07-30"},{"$f":"+IF(C2607=\"\",\"\",IF(J2607=\"\",\"SIN RESPUESTA\",(IF(J2607<=M2607,\"A TIEMPO\",\"FUERA DE TIEMPO\"))))","v":"A TIEMPO"},{"$f":"IF(J2607=\"\",\"\",NETWORKDAYS(C2607+1,J2607,DiasNOLaborables))","v":2},"",null,null,35]
[2597,20219050078202,"2021-06-30","CIUDADANO","CORREO ELECTRÓNICO","CERTIFICACIONES DE TIEMPO, CLIMA Y EVENTOS HIDROLÓGICOS","CERTIFICACIONES DE TIEMPO Y CLIMA","SI","SUBDIRECCIÓN DE METEOROLOGÍA","2021-07-14","CORREO ELECTRÓNICO",null,{"$f":"IFERROR(WORKDAY(C2608,S2607,DiasNOLaborables),\"\")","v":"2021-08-23"},{"$f":"+IF(C2608=\"\",\"\",IF(J2608=\"\",\"SIN RESPUESTA\",(IF(J2608<=M2608,\"A TIEMPO\",\"FUERA DE TIEMPO\"))))","v":"A TIEMPO"},{"$f":"IF(J2608=\"\",\"\",NETWORKDAYS(C2608+1,J2608,DiasNOLaborables))","v":9},"",null,null,5]
[2598,20219050078212,"2021-06-30","CIUDADANO","CORREO ELECTRÓNICO","SOLICITUD JUDICIAL","JURIDICO","SI","OFICINA ASESORA JURÍDICA","2021-07-02","CORREO ELECTRÓNICO",null,{"$f":"IFERROR(WORKDAY(C2609,S2608,DiasNOLaborables),\"\")","v":"2021-07-08"},{"$f":"+IF(C2609=\"\",\"\",IF(J2609=\"\",\"SIN RESPUESTA\",(IF(J2609<=M2609,\"A TIEMPO\",\"FUERA DE TIEMPO\"))))","v":"A TIEMPO"},{"$f":"IF(J2609=\"\",\"\",NETWORKDAYS(C2609+1,J2609,DiasNOLaborables))","v":2},"",null,null,35]
[2599,20219050078232,"2021-06-30","CIUDADANO","CORREO ELECTRÓNICO","CERTIFICACIONES DE TIEMPO, CLIMA Y EVENTOS HIDROLÓGICOS","CERTIFICACIONES DE TIEMPO Y CLIMA","SI","SUBDIRECCIÓN DE METEOROLOGÍA",44404,null,null,{"$f":"IFERROR(WORKDAY(C2610,S2609,DiasNOLaborables),\"\")","v":"2021-08-23"},{"$f":"+IF(C2610=\"\",\"\",IF(J2610=\"\",\"SIN RESPUESTA\",(IF(J2610<=M2610,\"A TIEMPO\",\"FUERA DE TIEMPO\"))))","v":"A TIEMPO"},{"$f":"IF(J2610=\"\",\"\",NETWORKDAYS(C2610+1,J2610,DiasNOLaborables))","v":17},"",null,null,20]
[2600,20219050078262,"2021-06-30","CIUDADANO","CORREO ELECTRÓNICO","SOLICITUD DE INFORMACIÓN Y DOCUMENTOS","REGISTROS AMBIENTALES","SI","SUBDIRECCIÓN DE ESTUDIOS AMBIENTALES","2021-07-17","CORREO ELECTRÓNICO",null,{"$f":"IFERROR(WORKDAY(C2611,S2610,DiasNOLaborables),\"\")","v":"2021-07-30"},{"$f":"+IF(C2611=\"\",\"\",IF(J2611=\"\",\"SIN RESPUESTA\",(IF(J2611<=M2611,\"A TIEMPO\",\"FUERA DE TIEMPO\"))))","v":"A TIEMPO"},{"$f":"IF(J2611=\"\",\"\",NETWORKDAYS(C2611+1,J2611,DiasNOLaborables))","v":11},"",null,null,20]
[2601,20219050078282,"2021-06-30","CIUDADANO","CORREO ELECTRÓNICO","SOLICITUD DE INFORMACIÓN Y DOCUMENTOS","ADMINISTRATIVA","SI","GRUPO DE ADMINISTRACIÓN Y DESARROLLO DEL TALENTO HUMANO","2021-07-09","CORREO ELECTRÓNICO",null,{"$f":"IFERROR(WORKDAY(C2612,S2611,DiasNOLaborables),\"\")","v":"2021-07-30"},{"$f":"+IF(C2612=\"\",\"\",IF(J2612=\"\",\"SIN RESPUESTA\",(IF(J2612<=M2612,\"A TIEMPO\",\"FUERA DE TIEMPO\"))))","v":"A TIEMPO"},{"$f":"IF(J2612=\"\",\"\",NETWORKDAYS(C2612+1,J2612,DiasNOLaborables))","v":6},"",null,null,20]
[2602,20219050078302,"2021-06-30","CIUDADANO","CORREO ELECTRÓNICO","SOLICITUD DE INFORMACIÓN Y DOCUMENTOS","ADMINISTRATIVA","SI","GRUPO DE TESORERÍA","2021-07-01","CORREO ELECTRÓNICO",null,{"$f":"IFERROR(WORKDAY(C2613,S2612,DiasNOLaborables),\"\")","v":"2021-07-30"},{"$f":"+IF(C2613=\"\",\"\",IF(J2613=\"\",\"SIN RESPUESTA\",(IF(J2613<=M2613,\"A TIEMPO\",\"FUERA DE TIEMPO\"))))","v":"A TIEMPO"},{"$f":"IF(J2613=\"\",\"\",NETWORKDAYS(C2613+1,J2613,DiasNOLaborables))","v":1},"",null,null,35]
[2603,20219050078342,"2021-06-30","CIUDADANO","CORREO ELECTRÓNICO","CERTIFICACIONES DE TIEMPO, CLIMA Y EVENTOS HIDROLÓGICOS","CERTIFICACIONES DE TIEMPO Y CLIMA","SI","SUBDIRECCIÓN DE METEOROLOGÍA","2021-07-14","CORREO ELECTRÓNICO",null,{"$f":"IFERROR(WORKDAY(C2614,S2613,DiasNOLaborables),\"\")","v":"2021-08-23"},{"$f":"+IF(C2614=\"\",\"\",IF(J2614=\"\",\"SIN RESPUESTA\",(IF(J2614<=M2614,\"A TIEMPO\",\"FUERA DE TIEMPO\"))))","v":"A TIEMPO"},{"$f":"IF(J2614=\"\",\"\",NETWORKDAYS(C2614+1,J2614,DiasNOLaborables))","v":9},"",null,null,35]
[2604,20219910035212,"2021-06-30","ENTIDAD PÚBLICA","CORREO CERTIFICADO","CERTIFICACIONES DE TIEMPO, CLIMA Y EVENTOS HIDROLÓGICOS","CERTIFICACIONES DE TIEMPO Y CLIMA","SI","SUBDIRECCIÓN DE METEOROLOGÍA","2021-07-14","CORREO ELECTRÓNICO",null,{"$f":"IFERROR(WORKDAY(C2615,S2614,DiasNOLaborables),\"\")","v":"2021-08-23"},{"$f":"+IF(C2615=\"\",\"\",IF(J2615=\"\",\"SIN RESPUESTA\",(IF(J2615<=M2615,\"A TIEMPO\",\"FUERA DE TIEMPO\"))))","v":"A TIEMPO"},{"$f":"IF(J2615=\"\",\"\",NETWORKDAYS(C2615+1,J2615,DiasNOLaborables))","v":9},"",null,null,20]
[2605,20219910035332,"2021-06-30","ENTIDAD PÚBLICA","CORREO ELECTRÓNICO","SOLICITUD DE INFORMACIÓN Y DOCUMENTOS","CLIMATOLOGÍA","SI","SUBDIRECCIÓN DE METEOROLOGÍA","2021-07-22","CORREO ELECTRÓNICO",null,{"$f":"IFERROR(WORKDAY(C2616,S2615,DiasNOLaborables),\"\")","v":"2021-07-30"},{"$f":"+IF(C2616=\"\",\"\",IF(J2616=\"\",\"SIN RESPUESTA\",(IF(J2616<=M2616,\"A TIEMPO\",\"FUERA DE TIEMPO\"))))","v":"A TIEMPO"},{"$f":"IF(J2616=\"\",\"\",NETWORKDAYS(C2616+1,J2616,DiasNOLaborables))","v":14},"",null,null,20]
[2606,20219050078372,"2021-06-30","CIUDADANO","CORREO ELECTRÓNICO","SOLICITUD DE INFORMACIÓN Y DOCUMENTOS","INFORMES AMBIENTALES","SI","SUBDIRECCIÓN DE METEOROLOGÍA","2021-07-02","CORREO ELECTRÓNICO",null,{"$f":"IFERROR(WORKDAY(C2617,S2616,DiasNOLaborables),\"\")","v":"2021-07-30"},{"$f":"+IF(C2617=\"\",\"\",IF(J2617=\"\",\"SIN RESPUESTA\",(IF(J2617<=M2617,\"A TIEMPO\",\"FUERA DE TIEMPO\"))))","v":"A TIEMPO"},{"$f":"IF(J2617=\"\",\"\",NETWORKDAYS(C2617+1,J2617,DiasNOLaborables))","v":2},"",null,null,20]
[2607,20219050077942,"2021-06-30","FUNCIONARIO IDEAM","MODULO CONTACTENOS","SOLICITUD DE INFORMACIÓN Y DOCUMENTOS","ADMINISTRATIVA","SI","GRUPO DE ADMINISTRACIÓN Y DESARROLLO DEL TALENTO HUMANO","2021-06-30","CORREO ELECTRÓNICO",null,{"$f":"IFERROR(WORKDAY(C2618,S2617,DiasNOLaborables),\"\")","v":"2021-07-30"},{"$f":"+IF(C2618=\"\",\"\",IF(J2618=\"\",\"SIN RESPUESTA\",(IF(J2618<=M2618,\"A TIEMPO\",\"FUERA DE TIEMPO\"))))","v":"A TIEMPO"},{"$f":"IF(J2618=\"\",\"\",NETWORKDAYS(C2618+1,J2618,DiasNOLaborables))","v":-2},"",null,null,20]
[2608,20219050078122,"2021-06-30","CIUDADANO","MODULO CONTACTENOS","SOLICITUD DE INFORMACIÓN Y DOCUMENTOS","SOLICITUD DE INFORMACIÓN HIDROMETEOROLÓGICA","NO","GRUPO DE SERVICIO AL CIUDADANO ","2021-07-22","CORREO ELECTRÓNICO",null,{"$f":"IFERROR(WORKDAY(C2619,S2618,DiasNOLaborables),\"\")","v":"2021-07-30"},{"$f":"+IF(C2619=\"\",\"\",IF(J2619=\"\",\"SIN RESPUESTA\",(IF(J2619<=M2619,\"A TIEMPO\",\"FUERA DE TIEMPO\"))))","v":"A TIEMPO"},{"$f":"IF(J2619=\"\",\"\",NETWORKDAYS(C2619+1,J2619,DiasNOLaborables))","v":14},"",null,null,20]
[2609,20219050078192,"2021-06-30","CIUDADANO","MODULO CONTACTENOS","SOLICITUD DE INFORMACIÓN Y DOCUMENTOS","SOLICITUD DE INFORMACIÓN HIDROMETEOROLÓGICA","NO","GRUPO DE SERVICIO AL CIUDADANO ","2021-07-22","CORREO ELECTRÓNICO",null,{"$f":"IFERROR(WORKDAY(C2620,S2619,DiasNOLaborables),\"\")","v":"2021-07-30"},{"$f":"+IF(C2620=\"\",\"\",IF(J2620=\"\",\"SIN RESPUESTA\",(IF(J2620<=M2620,\"A TIEMPO\",\"FUERA DE TIEMPO\"))))","v":"A TIEMPO"},{"$f":"IF(J2620=\"\",\"\",NETWORKDAYS(C2620+1,J2620,DiasNOLaborables))","v":14},"",null,null,20]
[2610,20219050078242,"2021-06-30","CIUDADANO","MODULO CONTACTENOS","SOLICITUD DE INFORMACIÓN Y DOCUMENTOS","SOLICITUD DE INFORMACIÓN HIDROMETEOROLÓGICA","NO","GRUPO DE SERVICIO AL CIUDADANO ","2021-07-22","CORREO ELECTRÓNICO",null,{"$f":"IFERROR(WORKDAY(C2621,S2620,DiasNOLaborables),\"\")","v":"2021-07-30"},{"$f":"+IF(C2621=\"\",\"\",IF(J2621=\"\",\"SIN RESPUESTA\",(IF(J2621<=M2621,\"A TIEMPO\",\"FUERA DE TIEMPO\"))))","v":"A TIEMPO"},{"$f":"IF(J2621=\"\",\"\",NETWORKDAYS(C2621+1,J2621,DiasNOLaborables))","v":14},{"$f":"IF(NETWORKDAYS(M2621+1,J2621,DiasNOLaborables)<=0,\"\",NETWORKDAYS(M2621+1,J2621,DiasNOLaborables))","v":""},null,null,20]
[2611,20219050078252,"2021-06-30","CIUDADANO","MODULO CONTACTENOS","SOLICITUD DE INFORMACIÓN Y DOCUMENTOS","SOLICITUD DE INFORMACIÓN HIDROMETEOROLÓGICA","NO","GRUPO DE SERVICIO AL CIUDADANO ","2021-07-22","CORREO ELECTRÓNICO",null,{"$f":"IFERROR(WORKDAY(C2622,S2621,DiasNOLaborables),\"\")","v":"2021-07-30"},{"$f":"+IF(C2622=\"\",\"\",IF(J2622=\"\",\"SIN RESPUESTA\",(IF(J2622<=M2622,\"A TIEMPO\",\"FUERA DE TIEMPO\"))))","v":"A TIEMPO"},{"$f":"IF(J2622=\"\",\"\",NETWORKDAYS(C2622+1,J2622,DiasNOLaborables))","v":14},"",null,null,20]
[2612,20219050078272,"2021-06-30","ACADEMIA","MODULO CONTACTENOS","SOLICITUD DE INFORMACIÓN Y DOCUMENTOS","SOLICITUD DE INFORMACIÓN HIDROMETEOROLÓGICA","NO","GRUPO DE SERVICIO AL CIUDADANO ","2021-07-22","CORREO ELECTRÓNICO",null,{"$f":"IFERROR(WORKDAY(C2623,S2622,DiasNOLaborables),\"\")","v":"2021-07-30"},{"$f":"+IF(C2623=\"\",\"\",IF(J2623=\"\",\"SIN RESPUESTA\",(IF(J2623<=M2623,\"A TIEMPO\",\"FUERA DE TIEMPO\"))))","v":"A TIEMPO"},{"$f":"IF(J2623=\"\",\"\",NETWORKDAYS(C2623+1,J2623,DiasNOLaborables))","v":14},"",null,null,20]
[2613,20219050078292,"2021-06-30","CIUDADANO","MODULO CONTACTENOS","SOLICITUD DE INFORMACIÓN Y DOCUMENTOS","SOLICITUD DE INFORMACIÓN HIDROMETEOROLÓGICA","NO","GRUPO DE SERVICIO AL CIUDADANO ","2021-07-22","CORREO ELECTRÓNICO",null,{"$f":"IFERROR(WORKDAY(C2624,S2623,DiasNOLaborables),\"\")","v":"2021-07-30"},{"$f":"+IF(C2624=\"\",\"\",IF(J2624=\"\",\"SIN RESPUESTA\",(IF(J2624<=M2624,\"A TIEMPO\",\"FUERA DE TIEMPO\"))))","v":"A TIEMPO"},{"$f":"IF(J2624=\"\",\"\",NETWORKDAYS(C2624+1,J2624,DiasNOLaborables))","v":14},"",null,null,20]
[2614,20219050078012,"2021-06-30","CIUDADANO","MODULO CONTACTENOS","SOLICITUD DE INFORMACIÓN Y DOCUMENTOS","ADMINISTRATIVA","SI","OFICINA ASESORA JURÍDICA","2021-07-06","CORREO ELECTRÓNICO",null,{"$f":"IFERROR(WORKDAY(C2625,S2624,DiasNOLaborables),\"\")","v":"2021-07-30"},{"$f":"+IF(C2625=\"\",\"\",IF(J2625=\"\",\"SIN RESPUESTA\",(IF(J2625<=M2625,\"A TIEMPO\",\"FUERA DE TIEMPO\"))))","v":"A TIEMPO"},{"$f":"IF(J2625=\"\",\"\",NETWORKDAYS(C2625+1,J2625,DiasNOLaborables))","v":3},"",null,null,20]
[2615,20219050078072,"2021-06-30","CIUDADANO","MODULO CONTACTENOS","SOLICITUD DE INFORMACIÓN Y DOCUMENTOS","SOLICITUD DE INFORMACIÓN HIDROMETEOROLÓGICA","SI","SUBDIRECCIÓN DE HIDROLOGÍA","2021-07-01","CORREO ELECTRÓNICO",null,{"$f":"IFERROR(WORKDAY(C2626,S2625,DiasNOLaborables),\"\")","v":"2021-07-30"},{"$f":"+IF(C2626=\"\",\"\",IF(J2626=\"\",\"SIN RESPUESTA\",(IF(J2626<=M2626,\"A TIEMPO\",\"FUERA DE TIEMPO\"))))","v":"A TIEMPO"},{"$f":"IF(J2626=\"\",\"\",NETWORKDAYS(C2626+1,J2626,DiasNOLaborables))","v":1},"",null,null,20]
[2616,20219050078312,"2021-06-30","CIUDADANO","MODULO CONTACTENOS","SOLICITUD DE INFORMACIÓN Y DOCUMENTOS","PRONÓSTICOS Y ALERTAS","SI","OFICINA DEL SERVICIO DE PRONÓSTICOS Y ALERTAS","2021-07-01","CORREO ELECTRÓNICO","NASLY SUSANA PUERTA GUTIERREZ",{"$f":"IFERROR(WORKDAY(C2627,S2626,DiasNOLaborables),\"\")","v":"2021-07-30"},{"$f":"+IF(C2627=\"\",\"\",IF(J2627=\"\",\"SIN RESPUESTA\",(IF(J2627<=M2627,\"A TIEMPO\",\"FUERA DE TIEMPO\"))))","v":"A TIEMPO"},{"$f":"IF(J2627=\"\",\"\",NETWORKDAYS(C2627+1,J2627,DiasNOLaborables))","v":1},"",null,null,""]
[null,null,null,null,null,null,null,null,null,null,null,null,null,null,null,null,null,null,""]
[null,null,null,null,null,null,null,null,null,null,null,null,null,null,null,null,null,null,""]
[null,null,null,null,null,null,null,null,null,null,null,null,null,null,null,null,null,null,""]
[null,null,null,null,null,null,null,null,null,null,null,null,null,null,null,null,null,null,""]
[null,null,null,null,null,null,null,null,null,null,null,null,null,null,null,null,null,null,""]
[null,null,null,null,null,null,null,null,null,null,null,null,null,null,null,null,null,null,""]
[null,null,null,null,null,null,null,null,null,null,null,null,null,null,null,null,null,null,""]
[null,null,null,null,null,null,null,null,null,null,null,null,null,null,null,null,null,null,""]
[null,null,null,null,null,null,null,null,null,null,null,null,null,null,null,null,null,null,""]
[null,null,null,null,null,null,null,null,null,null,null,null,null,null,null,null,null,null,{"$f":"IFERROR(VLOOKUP(F2638,$AA$51:$AB$64,2),\"\")","v":""}]
[null,null,null,null,null,null,null,null,null,null,null,null,null,null,null,null,null,null,""]
[null,null,null,null,null,null,null,null,null,null,null,null,null,null,null,null,null,null,""]
[null,null,null,null,null,null,null,null,null,null,null,null,null,null,null,null,null,null,""]
[null,null,null,null,null,null,null,null,null,null,null,null,null,null,null,null,null,null,""]
[null,null,null,null,null,null,null,null,null,null,null,null,null,null,null,null,null,null,""]
[null,null,null,null,null,null,null,null,null,null,null,null,null,null,null,null,null,null,""]
[null,null,null,null,null,null,null,null,null,null,null,null,null,null,null,null,null,null,""]
[null,null,null,null,null,null,null,null,null,null,null,null,null,null,null,null,null,null,""]
[null,null,null,null,null,null,null,null,null,null,null,null,null,null,null,null,null,null,""]
[null,null,null,null,null,null,null,null,null,null,null,null,null,null,null,null,null,null,""]
[null,null,null,null,null,null,null,null,null,null,null,null,null,null,null,null,null,null,""]
[null,null,null,null,null,null,null,null,null,null,null,null,null,null,null,null,null,null,""]
[null,null,null,null,null,null,null,null,null,null,null,null,null,null,null,null,null,null,""]
[null,null,null,null,null,null,null,null,null,null,null,null,null,null,null,null,null,null,""]
[null,null,null,null,null,null,null,null,null,null,null,null,null,null,null,null,null,null,""]
[null,null,null,null,null,null,null,null,null,null,null,null,null,null,null,null,null,null,""]
[null,null,null,null,null,null,null,null,null,null,null,null,null,null,null,null,null,null,""]
[null,null,null,null,null,null,null,null,null,null,null,null,null,null,null,null,null,null,""]
[null,null,null,null,null,null,null,null,null,null,null,null,null,null,null,null,null,null,""]
[null,null,null,null,null,null,null,null,null,null,null,null,null,null,null,null,null,null,""]
[null,null,null,null,null,null,null,null,null,null,null,null,null,null,null,null,null,null,""]
[null,null,null,null,null,null,null,null,null,null,null,null,null,null,null,null,null,null,""]
[null,null,null,null,null,null,null,null,null,null,null,null,null,null,null,null,null,null,""]
[null,null,null,null,null,null,null,null,null,null,null,null,null,null,null,null,null,null,""]
[null,null,null,null,null,null,null,null,null,null,null,null,null,null,null,null,null,null,""]
[null,null,null,null,null,null,null,null,null,null,null,null,null,null,null,null,null,null,""]
[null,null,null,null,null,null,null,null,null,null,null,null,null,null,null,null,null,null,""]
[null,null,null,null,null,null,null,null,null,null,null,null,null,null,null,null,null,null,""]
[null,null,null,null,null,null,null,null,null,null,null,null,null,null,null,null,null,null,""]
[null,null,null,null,null,null,null,null,null,null,null,null,null,null,null,null,null,null,""]
[null,null,null,null,null,null,null,null,null,null,null,null,null,null,null,null,null,null,""]
[null,null,null,null,null,null,null,null,null,null,null,null,null,null,null,null,null,null,""]
[null,null,null,null,null,null,null,null,null,null,null,null,null,null,null,null,null,null,""]
[null,null,null,null,null,null,null,null,null,null,null,null,null,null,null,null,null,null,""]
[null,null,null,null,null,null,null,null,null,null,null,null,null,null,null,null,null,null,""]
[null,null,null,null,null,null,null,null,null,null,null,null,null,null,null,null,null,null,""]
[null,null,null,null,null,null,null,null,null,null,null,null,null,null,null,null,null,null,""]
[null,null,null,null,null,null,null,null,null,null,null,null,null,null,null,null,null,null,""]
[null,null,null,null,null,null,null,null,null,null,null,null,null,null,null,null,null,null,""]
[null,null,null,null,null,null,null,null,null,null,null,null,null,null,null,null,null,null,""]
[null,null,null,null,null,null,null,null,null,null,null,null,null,null,null,null,null,null,""]
[null,null,null,null,null,null,null,null,null,null,null,null,null,null,null,null,null,null,""]
[null,null,null,null,null,null,null,null,null,null,null,null,null,null,null,null,null,null,""]
[null,null,null,null,null,null,null,null,null,null,null,null,null,null,null,null,null,null,""]
[null,null,null,null,null,null,null,null,null,null,null,null,null,null,null,null,null,null,""]
[null,null,null,null,null,null,null,null,null,null,null,null,null,null,null,null,null,null,""]
[null,null,null,null,null,null,null,null,null,null,null,null,null,null,null,null,null,null,""]
[null,null,null,null,null,null,null,null,null,null,null,null,null,null,null,null,null,null,""]
[null,null,null,null,null,null,null,null,null,null,null,null,null,null,null,null,null,null,""]
[null,null,null,null,null,null,null,null,null,null,null,null,null,null,null,null,null,null,""]
[null,null,null,null,null,null,null,null,null,null,null,null,null,null,null,null,null,null,""]
[null,null,null,null,null,null,null,null,null,null,null,null,null,null,null,null,null,null,""]
[null,null,null,null,null,null,null,null,null,null,null,null,null,null,null,null,null,null,""]
[null,null,null,null,null,null,null,null,null,null,null,null,null,null,null,null,null,null,""]
[null,null,null,null,null,null,null,null,null,null,null,null,null,null,null,null,null,null,""]
[null,null,null,null,null,null,null,null,null,null,null,null,null,null,null,null,null,null,""]
[null,null,null,null,null,null,null,null,null,null,null,null,null,null,null,null,null,null,""]
[null,null,null,null,null,null,null,null,null,null,null,null,null,null,null,null,null,null,""]
[null,null,null,null,null,null,null,null,null,null,null,null,null,null,null,null,null,null,""]
[null,null,null,null,null,null,null,null,null,null,null,null,null,null,null,null,null,null,""]
[null,null,null,null,null,null,null,null,null,null,null,null,null,null,null,null,null,null,""]
[null,null,null,null,null,null,null,null,null,null,null,null,null,null,null,null,null,null,""]
[null,null,null,null,null,null,null,null,null,null,null,null,null,null,null,null,null,null,""]
[null,null,null,null,null,null,null,null,null,null,null,null,null,null,null,null,null,null,{"$f":"IFERROR(VLOOKUP(F2702,$AA$51:$AB$64,2),\"\")","v":""}]
[null,null,null,null,null,null,null,null,null,null,null,null,null,null,null,null,null,null,""]
[null,null,null,null,null,null,null,null,null,null,null,null,null,null,null,null,null,null,""]
[null,null,null,null,null,null,null,null,null,null,null,null,null,null,null,null,null,null,""]
[null,null,null,null,null,null,null,null,null,null,null,null,null,null,null,null,null,null,""]
[null,null,null,null,null,null,null,null,null,null,null,null,null,null,null,null,null,null,""]
[null,null,null,null,null,null,null,null,null,null,null,null,null,null,null,null,null,null,""]
[null,null,null,null,null,null,null,null,null,null,null,null,null,null,null,null,null,null,""]
[null,null,null,null,null,null,null,null,null,null,null,null,null,null,null,null,null,null,""]
[null,null,null,null,null,null,null,null,null,null,null,null,null,null,null,null,null,null,""]
[null,null,null,null,null,null,null,null,null,null,null,null,null,null,null,null,null,null,""]
[null,null,null,null,null,null,null,null,null,null,null,null,null,null,null,null,null,null,""]
[null,null,null,null,null,null,null,null,null,null,null,null,null,null,null,null,null,null,""]
[null,null,null,null,null,null,null,null,null,null,null,null,null,null,null,null,null,null,""]
[null,null,null,null,null,null,null,null,null,null,null,null,null,null,null,null,null,null,""]
[null,null,null,null,null,null,null,null,null,null,null,null,null,null,null,null,null,null,""]
[null,null,null,null,null,null,null,null,null,null,null,null,null,null,null,null,null,null,""]
[null,null,null,null,null,null,null,null,null,null,null,null,null,null,null,null,null,null,""]
[null,null,null,null,null,null,null,null,null,null,null,null,null,null,null,null,null,null,""]
[null,null,null,null,null,null,null,null,null,null,null,null,null,null,null,null,null,null,""]
[null,null,null,null,null,null,null,null,null,null,null,null,null,null,null,null,null,null,""]
[null,null,null,null,null,null,null,null,null,null,null,null,null,null,null,null,null,null,""]
[null,null,null,null,null,null,null,null,null,null,null,null,null,null,null,null,null,null,""]
[null,null,null,null,null,null,null,null,null,null,null,null,null,null,null,null,null,null,""]
[null,null,null,null,null,null,null,null,null,null,null,null,null,null,null,null,null,null,""]
[null,null,null,null,null,null,null,null,null,null,null,null,null,null,null,null,null,null,""]
[null,null,null,null,null,null,null,null,null,null,null,null,null,null,null,null,null,null,""]
[null,null,null,null,null,null,null,null,null,null,null,null,null,null,null,null,null,null,""]
[null,null,null,null,null,null,null,null,null,null,null,null,null,null,null,null,null,null,""]
[null,null,null,null,null,null,null,null,null,null,null,null,null,null,null,null,null,null,""]
[null,null,null,null,null,null,null,null,null,null,null,null,null,null,null,null,null,null,""]
[null,null,null,null,null,null,null,null,null,null,null,null,null,null,null,null,null,null,""]
[null,null,null,null,null,null,null,null,null,null,null,null,null,null,null,null,null,null,""]
[null,null,null,null,null,null,null,null,null,null,null,null,null,null,null,null,null,null,""]
[null,null,null,null,null,null,null,null,null,null,null,null,null,null,null,null,null,null,""]
[null,null,null,null,null,null,null,null,null,null,null,null,null,null,null,null,null,null,""]
[null,null,null,null,null,null,null,null,null,null,null,null,null,null,null,null,null,null,""]
[null,null,null,null,null,null,null,null,null,null,null,null,null,null,null,null,null,null,""]
[null,null,null,null,null,null,null,null,null,null,null,null,null,null,null,null,null,null,""]
[null,null,null,null,null,null,null,null,null,null,null,null,null,null,null,null,null,null,""]
[null,null,null,null,null,null,null,null,null,null,null,null,null,null,null,null,null,null,""]
[null,null,null,null,null,null,null,null,null,null,null,null,null,null,null,null,null,null,""]
[null,null,null,null,null,null,null,null,null,null,null,null,null,null,null,null,null,null,""]
[null,null,null,null,null,null,null,null,null,null,null,null,null,null,null,null,null,null,""]
[null,null,null,null,null,null,null,null,null,null,null,null,null,null,null,null,null,null,""]
[null,null,null,null,null,null,null,null,null,null,null,null,null,null,null,null,null,null,""]
[null,null,null,null,null,null,null,null,null,null,null,null,null,null,null,null,null,null,""]
[null,null,null,null,null,null,null,null,null,null,null,null,null,null,null,null,null,null,""]
[null,null,null,null,null,null,null,null,null,null,null,null,null,null,null,null,null,null,""]
[null,null,null,null,null,null,null,null,null,null,null,null,null,null,null,null,null,null,""]
[null,null,null,null,null,null,null,null,null,null,null,null,null,null,null,null,null,null,""]
[null,null,null,null,null,null,null,null,null,null,null,null,null,null,null,null,null,null,""]
[null,null,null,null,null,null,null,null,null,null,null,null,null,null,null,null,null,null,""]
[null,null,null,null,null,null,null,null,null,null,null,null,null,null,null,null,null,null,""]
[null,null,null,null,null,null,null,null,null,null,null,null,null,null,null,null,null,null,""]
[null,null,null,null,null,null,null,null,null,null,null,null,null,null,null,null,null,null,""]
[null,null,null,null,null,null,null,null,null,null,null,null,null,null,null,null,null,null,""]
[null,null,null,null,null,null,null,null,null,null,null,null,null,null,null,null,null,null,""]
[null,null,null,null,null,null,null,null,null,null,null,null,null,null,null,null,null,null,""]
[null,null,null,null,null,null,null,null,null,null,null,null,null,null,null,null,null,null,""]
[null,null,null,null,null,null,null,null,null,null,null,null,null,null,null,null,null,null,""]
[null,null,null,null,null,null,null,null,null,null,null,null,null,null,null,null,null,null,""]
[null,null,null,null,null,null,null,null,null,null,null,null,null,null,null,null,null,null,""]
[null,null,null,null,null,null,null,null,null,null,null,null,null,null,null,null,null,null,""]
[null,null,null,null,null,null,null,null,null,null,null,null,null,null,null,null,null,null,{"$f":"IFERROR(VLOOKUP(F2766,$AA$51:$AB$64,2),\"\")","v":""}]
[null,null,null,null,null,null,null,null,null,null,null,null,null,null,null,null,null,null,""]
[null,null,null,null,null,null,null,null,null,null,null,null,null,null,null,null,null,null,""]
[null,null,null,null,null,null,null,null,null,null,null,null,null,null,null,null,null,null,""]
[null,null,null,null,null,null,null,null,null,null,null,null,null,null,null,null,null,null,""]
[null,null,null,null,null,null,null,null,null,null,null,null,null,null,null,null,null,null,""]
[null,null,null,null,null,null,null,null,null,null,null,null,null,null,null,null,null,null,""]
[null,null,null,null,null,null,null,null,null,null,null,null,null,null,null,null,null,null,""]
[null,null,null,null,null,null,null,null,null,null,null,null,null,null,null,null,null,null,""]
[null,null,null,null,null,null,null,null,null,null,null,null,null,null,null,null,null,null,""]
[null,null,null,null,null,null,null,null,null,null,null,null,null,null,null,null,null,null,""]
[null,null,null,null,null,null,null,null,null,null,null,null,null,null,null,null,null,null,""]
[null,null,null,null,null,null,null,null,null,null,null,null,null,null,null,null,null,null,""]
[null,null,null,null,null,null,null,null,null,null,null,null,null,null,null,null,null,null,""]
[null,null,null,null,null,null,null,null,null,null,null,null,null,null,null,null,null,null,""]
[null,null,null,null,null,null,null,null,null,null,null,null,null,null,null,null,null,null,""]
[null,null,null,null,null,null,null,null,null,null,null,null,null,null,null,null,null,null,""]
[null,null,null,null,null,null,null,null,null,null,null,null,null,null,null,null,null,null,""]
[null,null,null,null,null,null,null,null,null,null,null,null,null,null,null,null,null,null,""]
[null,null,null,null,null,null,null,null,null,null,null,null,null,null,null,null,null,null,""]
[null,null,null,null,null,null,null,null,null,null,null,null,null,null,null,null,null,null,""]
[null,null,null,null,null,null,null,null,null,null,null,null,null,null,null,null,null,null,""]
[null,null,null,null,null,null,null,null,null,null,null,null,null,null,null,null,null,null,""]
[null,null,null,null,null,null,null,null,null,null,null,null,null,null,null,null,null,null,""]
[null,null,null,null,null,null,null,null,null,null,null,null,null,null,null,null,null,null,""]
[null,null,null,null,null,null,null,null,null,null,null,null,null,null,null,null,null,null,""]
[null,null,null,null,null,null,null,null,null,null,null,null,null,null,null,null,null,null,""]
[null,null,null,null,null,null,null,null,null,null,null,null,null,null,null,null,null,null,""]
[null,null,null,null,null,null,null,null,null,null,null,null,null,null,null,null,null,null,""]
[null,null,null,null,null,null,null,null,null,null,null,null,null,null,null,null,null,null,""]
[null,null,null,null,null,null,null,null,null,null,null,null,null,null,null,null,null,null,""]
[null,null,null,null,null,null,null,null,null,null,null,null,null,null,null,null,null,null,""]
[null,null,null,null,null,null,null,null,null,null,null,null,null,null,null,null,null,null,""]
[null,null,null,null,null,null,null,null,null,null,null,null,null,null,null,null,null,null,""]
[null,null,null,null,null,null,null,null,null,null,null,null,null,null,null,null,null,null,""]
[null,null,null,null,null,null,null,null,null,null,null,null,null,null,null,null,null,null,""]
[null,null,null,null,null,null,null,null,null,null,null,null,null,null,null,null,null,null,""]
[null,null,null,null,null,null,null,null,null,null,null,null,null,null,null,null,null,null,""]
[null,null,null,null,null,null,null,null,null,null,null,null,null,null,null,null,null,null,""]
[null,null,null,null,null,null,null,null,null,null,null,null,null,null,null,null,null,null,""]
[null,null,null,null,null,null,null,null,null,null,null,null,null,null,null,null,null,null,""]
[null,null,null,null,null,null,null,null,null,null,null,null,null,null,null,null,null,null,""]
[null,null,null,null,null,null,null,null,null,null,null,null,null,null,null,null,null,null,""]
[null,null,null,null,null,null,null,null,null,null,null,null,null,null,null,null,null,null,""]
[null,null,null,null,null,null,null,null,null,null,null,null,null,null,null,null,null,null,""]
[null,null,null,null,null,null,null,null,null,null,null,null,null,null,null,null,null,null,""]
[null,null,null,null,null,null,null,null,null,null,null,null,null,null,null,null,null,null,""]
[null,null,null,null,null,null,null,null,null,null,null,null,null,null,null,null,null,null,""]
[null,null,null,null,null,null,null,null,null,null,null,null,null,null,null,null,null,null,""]
[null,null,null,null,null,null,null,null,null,null,null,null,null,null,null,null,null,null,""]
[null,null,null,null,null,null,null,null,null,null,null,null,null,null,null,null,null,null,""]
[null,null,null,null,null,null,null,null,null,null,null,null,null,null,null,null,null,null,""]
[null,null,null,null,null,null,null,null,null,null,null,null,null,null,null,null,null,null,""]
[null,null,null,null,null,null,null,null,null,null,null,null,null,null,null,null,null,null,""]
[null,null,null,null,null,null,null,null,null,null,null,null,null,null,null,null,null,null,""]
[null,null,null,null,null,null,null,null,null,null,null,null,null,null,null,null,null,null,""]
[null,null,null,null,null,null,null,null,null,null,null,null,null,null,null,null,null,null,""]
[null,null,null,null,null,null,null,null,null,null,null,null,null,null,null,null,null,null,""]
[null,null,null,null,null,null,null,null,null,null,null,null,null,null,null,null,null,null,""]
[null,null,null,null,null,null,null,null,null,null,null,null,null,null,null,null,null,null,""]
[null,null,null,null,null,null,null,null,null,null,null,null,null,null,null,null,null,null,""]
[null,null,null,null,null,null,null,null,null,null,null,null,null,null,null,null,null,null,""]
[null,null,null,null,null,null,null,null,null,null,null,null,null,null,null,null,null,null,""]
[null,null,null,null,null,null,null,null,null,null,null,null,null,null,null,null,null,null,""]
[null,null,null,null,null,null,null,null,null,null,null,null,null,null,null,null,null,null,{"$f":"IFERROR(VLOOKUP(F2830,$AA$51:$AB$64,2),\"\")","v":""}]
[null,null,null,null,null,null,null,null,null,null,null,null,null,null,null,null,null,null,""]
[null,null,null,null,null,null,null,null,null,null,null,null,null,null,null,null,null,null,""]
[null,null,null,null,null,null,null,null,null,null,null,null,null,null,null,null,null,null,""]
[null,null,null,null,null,null,null,null,null,null,null,null,null,null,null,null,null,null,""]
[null,null,null,null,null,null,null,null,null,null,null,null,null,null,null,null,null,null,""]
[null,null,null,null,null,null,null,null,null,null,null,null,null,null,null,null,null,null,""]
[null,null,null,null,null,null,null,null,null,null,null,null,null,null,null,null,null,null,""]
[null,null,null,null,null,null,null,null,null,null,null,null,null,null,null,null,null,null,""]
[null,null,null,null,null,null,null,null,null,null,null,null,null,null,null,null,null,null,""]
[null,null,null,null,null,null,null,null,null,null,null,null,null,null,null,null,null,null,""]
[null,null,null,null,null,null,null,null,null,null,null,null,null,null,null,null,null,null,""]
[null,null,null,null,null,null,null,null,null,null,null,null,null,null,null,null,null,null,""]
[null,null,null,null,null,null,null,null,null,null,null,null,null,null,null,null,null,null,""]
[null,null,null,null,null,null,null,null,null,null,null,null,null,null,null,null,null,null,""]
[null,null,null,null,null,null,null,null,null,null,null,null,null,null,null,null,null,null,""]
[null,null,null,null,null,null,null,null,null,null,null,null,null,null,null,null,null,null,""]
[null,null,null,null,null,null,null,null,null,null,null,null,null,null,null,null,null,null,""]
[null,null,null,null,null,null,null,null,null,null,null,null,null,null,null,null,null,null,""]
[null,null,null,null,null,null,null,null,null,null,null,null,null,null,null,null,null,null,""]
[null,null,null,null,null,null,null,null,null,null,null,null,null,null,null,null,null,null,""]
[null,null,null,null,null,null,null,null,null,null,null,null,null,null,null,null,null,null,""]
[null,null,null,null,null,null,null,null,null,null,null,null,null,null,null,null,null,null,""]
[null,null,null,null,null,null,null,null,null,null,null,null,null,null,null,null,null,null,""]
[null,null,null,null,null,null,null,null,null,null,null,null,null,null,null,null,null,null,""]
[null,null,null,null,null,null,null,null,null,null,null,null,null,null,null,null,null,null,""]
[null,null,null,null,null,null,null,null,null,null,null,null,null,null,null,null,null,null,""]
[null,null,null,null,null,null,null,null,null,null,null,null,null,null,null,null,null,null,""]
[null,null,null,null,null,null,null,null,null,null,null,null,null,null,null,null,null,null,""]
[null,null,null,null,null,null,null,null,null,null,null,null,null,null,null,null,null,null,""]
[null,null,null,null,null,null,null,null,null,null,null,null,null,null,null,null,null,null,""]
[null,null,null,null,null,null,null,null,null,null,null,null,null,null,null,null,null,null,""]
[null,null,null,null,null,null,null,null,null,null,null,null,null,null,null,null,null,null,""]
[null,null,null,null,null,null,null,null,null,null,null,null,null,null,null,null,null,null,""]
[null,null,null,null,null,null,null,null,null,null,null,null,null,null,null,null,null,null,""]
[null,null,null,null,null,null,null,null,null,null,null,null,null,null,null,null,null,null,""]
[null,null,null,null,null,null,null,null,null,null,null,null,null,null,null,null,null,null,""]
[null,null,null,null,null,null,null,null,null,null,null,null,null,null,null,null,null,null,""]
[null,null,null,null,null,null,null,null,null,null,null,null,null,null,null,null,null,null,""]
[null,null,null,null,null,null,null,null,null,null,null,null,null,null,null,null,null,null,""]
[null,null,null,null,null,null,null,null,null,null,null,null,null,null,null,null,null,null,""]
[null,null,null,null,null,null,null,null,null,null,null,null,null,null,null,null,null,null,""]
[null,null,null,null,null,null,null,null,null,null,null,null,null,null,null,null,null,null,""]
[null,null,null,null,null,null,null,null,null,null,null,null,null,null,null,null,null,null,""]
[null,null,null,null,null,null,null,null,null,null,null,null,null,null,null,null,null,null,""]
[null,null,null,null,null,null,null,null,null,null,null,null,null,null,null,null,null,null,""]
[null,null,null,null,null,null,null,null,null,null,null,null,null,null,null,null,null,null,""]
[null,null,null,null,null,null,null,null,null,null,null,null,null,null,null,null,null,null,""]
[null,null,null,null,null,null,null,null,null,null,null,null,null,null,null,null,null,null,""]
[null,null,null,null,null,null,null,null,null,null,null,null,null,null,null,null,null,null,""]
[null,null,null,null,null,null,null,null,null,null,null,null,null,null,null,null,null,null,""]
[null,null,null,null,null,null,null,null,null,null,null,null,null,null,null,null,null,null,""]
[null,null,null,null,null,null,null,null,null,null,null,null,null,null,null,null,null,null,""]
[null,null,null,null,null,null,null,null,null,null,null,null,null,null,null,null,null,null,""]
[null,null,null,null,null,null,null,null,null,null,null,null,null,null,null,null,null,null,""]
[null,null,null,null,null,null,null,null,null,null,null,null,null,null,null,null,null,null,""]
[null,null,null,null,null,null,null,null,null,null,null,null,null,null,null,null,null,null,""]
[null,null,null,null,null,null,null,null,null,null,null,null,null,null,null,null,null,null,""]
[null,null,null,null,null,null,null,null,null,null,null,null,null,null,null,null,null,null,""]
[null,null,null,null,null,null,null,null,null,null,null,null,null,null,null,null,null,null,""]
[null,null,null,null,null,null,null,null,null,null,null,null,null,null,null,null,null,null,""]
[null,null,null,null,null,null,null,null,null,null,null,null,null,null,null,null,null,null,""]
[null,null,null,null,null,null,null,null,null,null,null,null,null,null,null,null,null,null,""]
[null,null,null,null,null,null,null,null,null,null,null,null,null,null,null,null,null,null,""]
[null,null,null,null,null,null,null,null,null,null,null,null,null,null,null,null,null,null,{"$f":"IFERROR(VLOOKUP(F2894,$AA$51:$AB$64,2),\"\")","v":""}]
[null,null,null,null,null,null,null,null,null,null,null,null,null,null,null,null,null,null,""]
[null,null,null,null,null,null,null,null,null,null,null,null,null,null,null,null,null,null,""]
[null,null,null,null,null,null,null,null,null,null,null,null,null,null,null,null,null,null,""]
[null,null,null,null,null,null,null,null,null,null,null,null,null,null,null,null,null,null,""]
[null,null,null,null,null,null,null,null,null,null,null,null,null,null,null,null,null,null,""]
[null,null,null,null,null,null,null,null,null,null,null,null,null,null,null,null,null,null,""]
[null,null,null,null,null,null,null,null,null,null,null,null,null,null,null,null,null,null,""]
[null,null,null,null,null,null,null,null,null,null,null,null,null,null,null,null,null,null,""]
[null,null,null,null,null,null,null,null,null,null,null,null,null,null,null,null,null,null,""]
[null,null,null,null,null,null,null,null,null,null,null,null,null,null,null,null,null,null,""]
[null,null,null,null,null,null,null,null,null,null,null,null,null,null,null,null,null,null,""]
[null,null,null,null,null,null,null,null,null,null,null,null,null,null,null,null,null,null,""]
[null,null,null,null,null,null,null,null,null,null,null,null,null,null,null,null,null,null,""]
[null,null,null,null,null,null,null,null,null,null,null,null,null,null,null,null,null,null,""]
[null,null,null,null,null,null,null,null,null,null,null,null,null,null,null,null,null,null,""]
[null,null,null,null,null,null,null,null,null,null,null,null,null,null,null,null,null,null,""]
[null,null,null,null,null,null,null,null,null,null,null,null,null,null,null,null,null,null,""]
[null,null,null,null,null,null,null,null,null,null,null,null,null,null,null,null,null,null,""]
[null,null,null,null,null,null,null,null,null,null,null,null,null,null,null,null,null,null,""]
[null,null,null,null,null,null,null,null,null,null,null,null,null,null,null,null,null,null,""]
[null,null,null,null,null,null,null,null,null,null,null,null,null,null,null,null,null,null,""]
[null,null,null,null,null,null,null,null,null,null,null,null,null,null,null,null,null,null,""]
[null,null,null,null,null,null,null,null,null,null,null,null,null,null,null,null,null,null,""]
[null,null,null,null,null,null,null,null,null,null,null,null,null,null,null,null,null,null,""]
[null,null,null,null,null,null,null,null,null,null,null,null,null,null,null,null,null,null,""]
[null,null,null,null,null,null,null,null,null,null,null,null,null,null,null,null,null,null,""]
[null,null,null,null,null,null,null,null,null,null,null,null,null,null,null,null,null,null,""]
[null,null,null,null,null,null,null,null,null,null,null,null,null,null,null,null,null,null,""]
[null,null,null,null,null,null,null,null,null,null,null,null,null,null,null,null,null,null,""]
[null,null,null,null,null,null,null,null,null,null,null,null,null,null,null,null,null,null,""]
[null,null,null,null,null,null,null,null,null,null,null,null,null,null,null,null,null,null,""]
[null,null,null,null,null,null,null,null,null,null,null,null,null,null,null,null,null,null,""]
[null,null,null,null,null,null,null,null,null,null,null,null,null,null,null,null,null,null,""]
[null,null,null,null,null,null,null,null,null,null,null,null,null,null,null,null,null,null,""]
[null,null,null,null,null,null,null,null,null,null,null,null,null,null,null,null,null,null,""]
[null,null,null,null,null,null,null,null,null,null,null,null,null,null,null,null,null,null,""]
[null,null,null,null,null,null,null,null,null,null,null,null,null,null,null,null,null,null,""]
[null,null,null,null,null,null,null,null,null,null,null,null,null,null,null,null,null,null,""]
[null,null,null,null,null,null,null,null,null,null,null,null,null,null,null,null,null,null,""]
[null,null,null,null,null,null,null,null,null,null,null,null,null,null,null,null,null,null,""]
[null,null,null,null,null,null,null,null,null,null,null,null,null,null,null,null,null,null,""]
[null,null,null,null,null,null,null,null,null,null,null,null,null,null,null,null,null,null,""]
[null,null,null,null,null,null,null,null,null,null,null,null,null,null,null,null,null,null,""]
[null,null,null,null,null,null,null,null,null,null,null,null,null,null,null,null,null,null,""]
[null,null,null,null,null,null,null,null,null,null,null,null,null,null,null,null,null,null,""]
[null,null,null,null,null,null,null,null,null,null,null,null,null,null,null,null,null,null,""]
[null,null,null,null,null,null,null,null,null,null,null,null,null,null,null,null,null,null,""]
[null,null,null,null,null,null,null,null,null,null,null,null,null,null,null,null,null,null,""]
[null,null,null,null,null,null,null,null,null,null,null,null,null,null,null,null,null,null,""]
[null,null,null,null,null,null,null,null,null,null,null,null,null,null,null,null,null,null,""]
[null,null,null,null,null,null,null,null,null,null,null,null,null,null,null,null,null,null,""]
[null,null,null,null,null,null,null,null,null,null,null,null,null,null,null,null,null,null,""]
[null,null,null,null,null,null,null,null,null,null,null,null,null,null,null,null,null,null,""]
[null,null,null,null,null,null,null,null,null,null,null,null,null,null,null,null,null,null,""]
[null,null,null,null,null,null,null,null,null,null,null,null,null,null,null,null,null,null,""]
[null,null,null,null,null,null,null,null,null,null,null,null,null,null,null,null,null,null,""]
[null,null,null,null,null,null,null,null,null,null,null,null,null,null,null,null,null,null,""]
[null,null,null,null,null,null,null,null,null,null,null,null,null,null,null,null,null,null,""]
[null,null,null,null,null,null,null,null,null,null,null,null,null,null,null,null,null,null,""]
[null,null,null,null,null,null,null,null,null,null,null,null,null,null,null,null,null,null,""]
[null,null,null,null,null,null,null,null,null,null,null,null,null,null,null,null,null,null,""]
[null,null,null,null,null,null,null,null,null,null,null,null,null,null,null,null,null,null,""]
[null,null,null,null,null,null,null,null,null,null,null,null,null,null,null,null,null,null,""]
[null,null,null,null,null,null,null,null,null,null,null,null,null,null,null,null,null,null,{"$f":"IFERROR(VLOOKUP(F2958,$AA$51:$AB$64,2),\"\")","v":""}]
[null,null,null,null,null,null,null,null,null,null,null,null,null,null,null,null,null,null,""]
[null,null,null,null,null,null,null,null,null,null,null,null,null,null,null,null,null,null,""]
[null,null,null,null,null,null,null,null,null,null,null,null,null,null,null,null,null,null,""]
[null,null,null,null,null,null,null,null,null,null,null,null,null,null,null,null,null,null,""]
[null,null,null,null,null,null,null,null,null,null,null,null,null,null,null,null,null,null,""]
[null,null,null,null,null,null,null,null,null,null,null,null,null,null,null,null,null,null,""]
[null,null,null,null,null,null,null,null,null,null,null,null,null,null,null,null,null,null,""]
[null,null,null,null,null,null,null,null,null,null,null,null,null,null,null,null,null,null,""]
[null,null,null,null,null,null,null,null,null,null,null,null,null,null,null,null,null,null,""]
[null,null,null,null,null,null,null,null,null,null,null,null,null,null,null,null,null,null,""]
[null,null,null,null,null,null,null,null,null,null,null,null,null,null,null,null,null,null,""]
[null,null,null,null,null,null,null,null,null,null,null,null,null,null,null,null,null,null,""]
[null,null,null,null,null,null,null,null,null,null,null,null,null,null,null,null,null,null,""]
[null,null,null,null,null,null,null,null,null,null,null,null,null,null,null,null,null,null,""]
[null,null,null,null,null,null,null,null,null,null,null,null,null,null,null,null,null,null,""]
[null,null,null,null,null,null,null,null,null,null,null,null,null,null,null,null,null,null,""]
[null,null,null,null,null,null,null,null,null,null,null,null,null,null,null,null,null,null,""]
[null,null,null,null,null,null,null,null,null,null,null,null,null,null,null,null,null,null,""]
[null,null,null,null,null,null,null,null,null,null,null,null,null,null,null,null,null,null,""]
[null,null,null,null,null,null,null,null,null,null,null,null,null,null,null,null,null,null,""]
[null,null,null,null,null,null,null,null,null,null,null,null,null,null,null,null,null,null,""]
[null,null,null,null,null,null,null,null,null,null,null,null,null,null,null,null,null,null,""]
[null,null,null,null,null,null,null,null,null,null,null,null,null,null,null,null,null,null,""]
[null,null,null,null,null,null,null,null,null,null,null,null,null,null,null,null,null,null,""]
[null,null,null,null,null,null,null,null,null,null,null,null,null,null,null,null,null,null,""]
[null,null,null,null,null,null,null,null,null,null,null,null,null,null,null,null,null,null,""]
[null,null,null,null,null,null,null,null,null,null,null,null,null,null,null,null,null,null,""]
[null,null,null,null,null,null,null,null,null,null,null,null,null,null,null,null,null,null,""]
[null,null,null,null,null,null,null,null,null,null,null,null,null,null,null,null,null,null,""]
[null,null,null,null,null,null,null,null,null,null,null,null,null,null,null,null,null,null,""]
[null,null,null,null,null,null,null,null,null,null,null,null,null,null,null,null,null,null,""]
[null,null,null,null,null,null,null,null,null,null,null,null,null,null,null,null,null,null,""]
[null,null,null,null,null,null,null,null,null,null,null,null,null,null,null,null,null,null,""]
[null,null,null,null,null,null,null,null,null,null,null,null,null,null,null,null,null,null,""]
[null,null,null,null,null,null,null,null,null,null,null,null,null,null,null,null,null,null,""]
[null,null,null,null,null,null,null,null,null,null,null,null,null,null,null,null,null,null,""]
[null,null,null,null,null,null,null,null,null,null,null,null,null,null,null,null,null,null,""]
[null,null,null,null,null,null,null,null,null,null,null,null,null,null,null,null,null,null,""]
[null,null,null,null,null,null,null,null,null,null,null,null,null,null,null,null,null,null,""]
[null,null,null,null,null,null,null,null,null,null,null,null,null,null,null,null,null,null,""]
[null,null,null,null,null,null,null,null,null,null,null,null,null,null,null,null,null,null,""]
[null,null,null,null,null,null,null,null,null,null,null,null,null,null,null,null,null,null,""]
[null,null,null,null,null,null,null,null,null,null,null,null,null,null,null,null,null,null,""]
[null,null,null,null,null,null,null,null,null,null,null,null,null,null,null,null,null,null,""]
[null,null,null,null,null,null,null,null,null,null,null,null,null,null,null,null,null,null,""]
[null,null,null,null,null,null,null,null,null,null,null,null,null,null,null,null,null,null,""]
[null,null,null,null,null,null,null,null,null,null,null,null,null,null,null,null,null,null,""]
[null,null,null,null,null,null,null,null,null,null,null,null,null,null,null,null,null,null,""]
[null,null,null,null,null,null,null,null,null,null,null,null,null,null,null,null,null,null,""]
[null,null,null,null,null,null,null,null,null,null,null,null,null,null,null,null,null,null,""]
[null,null,null,null,null,null,null,null,null,null,null,null,null,null,null,null,null,null,""]
[null,null,null,null,null,null,null,null,null,null,null,null,null,null,null,null,null,null,""]
[null,null,null,null,null,null,null,null,null,null,null,null,null,null,null,null,null,null,""]
[null,null,null,null,null,null,null,null,null,null,null,null,null,null,null,null,null,null,""]
[null,null,null,null,null,null,null,null,null,null,null,null,null,null,null,null,null,null,""]
[null,null,null,null,null,null,null,null,null,null,null,null,null,null,null,null,null,null,""]
[null,null,null,null,null,null,null,null,null,null,null,null,null,null,null,null,null,null,""]
[null,null,null,null,null,null,null,null,null,null,null,null,null,null,null,null,null,null,""]
[null,null,null,null,null,null,null,null,null,null,null,null,null,null,null,null,null,null,""]
[null,null,null,null,null,null,null,null,null,null,null,null,null,null,null,null,null,null,""]
[null,null,null,null,null,null,null,null,null,null,null,null,null,null,null,null,null,null,""]
[null,null,null,null,null,null,null,null,null,null,null,null,null,null,null,null,null,null,""]
[null,null,null,null,null,null,null,null,null,null,null,null,null,null,null,null,null,null,""]
[null,null,null,null,null,null,null,null,null,null,null,null,null,null,null,null,null,null,{"$f":"IFERROR(VLOOKUP(F3022,$AA$51:$AB$64,2),\"\")","v":""}]
[null,null,null,null,null,null,null,null,null,null,null,null,null,null,null,null,null,null,""]
[null,null,null,null,null,null,null,null,null,null,null,null,null,null,null,null,null,null,""]
[null,null,null,null,null,null,null,null,null,null,null,null,null,null,null,null,null,null,""]
[null,null,null,null,null,null,null,null,null,null,null,null,null,null,null,null,null,null,""]
[null,null,null,null,null,null,null,null,null,null,null,null,null,null,null,null,null,null,""]
[null,null,null,null,null,null,null,null,null,null,null,null,null,null,null,null,null,null,""]
[null,null,null,null,null,null,null,null,null,null,null,null,null,null,null,null,null,null,""]
[null,null,null,null,null,null,null,null,null,null,null,null,null,null,null,null,null,null,""]
[null,null,null,null,null,null,null,null,null,null,null,null,null,null,null,null,null,null,""]
[null,null,null,null,null,null,null,null,null,null,null,null,null,null,null,null,null,null,""]
[null,null,null,null,null,null,null,null,null,null,null,null,null,null,null,null,null,null,""]
[null,null,null,null,null,null,null,null,null,null,null,null,null,null,null,null,null,null,""]
[null,null,null,null,null,null,null,null,null,null,null,null,null,null,null,null,null,null,""]
[null,null,null,null,null,null,null,null,null,null,null,null,null,null,null,null,null,null,""]
[null,null,null,null,null,null,null,null,null,null,null,null,null,null,null,null,null,null,""]
[null,null,null,null,null,null,null,null,null,null,null,null,null,null,null,null,null,null,""]
[null,null,null,null,null,null,null,null,null,null,null,null,null,null,null,null,null,null,""]
[null,null,null,null,null,null,null,null,null,null,null,null,null,null,null,null,null,null,""]
[null,null,null,null,null,null,null,null,null,null,null,null,null,null,null,null,null,null,""]
[null,null,null,null,null,null,null,null,null,null,null,null,null,null,null,null,null,null,""]
[null,null,null,null,null,null,null,null,null,null,null,null,null,null,null,null,null,null,""]
[null,null,null,null,null,null,null,null,null,null,null,null,null,null,null,null,null,null,""]
[null,null,null,null,null,null,null,null,null,null,null,null,null,null,null,null,null,null,""]
[null,null,null,null,null,null,null,null,null,null,null,null,null,null,null,null,null,null,""]
[null,null,null,null,null,null,null,null,null,null,null,null,null,null,null,null,null,null,""]
[null,null,null,null,null,null,null,null,null,null,null,null,null,null,null,null,null,null,""]
[null,null,null,null,null,null,null,null,null,null,null,null,null,null,null,null,null,null,""]
[null,null,null,null,null,null,null,null,null,null,null,null,null,null,null,null,null,null,""]
[null,null,null,null,null,null,null,null,null,null,null,null,null,null,null,null,null,null,""]
[null,null,null,null,null,null,null,null,null,null,null,null,null,null,null,null,null,null,""]
[null,null,null,null,null,null,null,null,null,null,null,null,null,null,null,null,null,null,""]
[null,null,null,null,null,null,null,null,null,null,null,null,null,null,null,null,null,null,""]
[null,null,null,null,null,null,null,null,null,null,null,null,null,null,null,null,null,null,""]
[null,null,null,null,null,null,null,null,null,null,null,null,null,null,null,null,null,null,""]
[null,null,null,null,null,null,null,null,null,null,null,null,null,null,null,null,null,null,""]
[null,null,null,null,null,null,null,null,null,null,null,null,null,null,null,null,null,null,""]
[null,null,null,null,null,null,null,null,null,null,null,null,null,null,null,null,null,null,""]
[null,null,null,null,null,null,null,null,null,null,null,null,null,null,null,null,null,null,""]
[null,null,null,null,null,null,null,null,null,null,null,null,null,null,null,null,null,null,""]
[null,null,null,null,null,null,null,null,null,null,null,null,null,null,null,null,null,null,""]
[null,null,null,null,null,null,null,null,null,null,null,null,null,null,null,null,null,null,""]
[null,null,null,null,null,null,null,null,null,null,null,null,null,null,null,null,null,null,""]
[null,null,null,null,null,null,null,null,null,null,null,null,null,null,null,null,null,null,""]
[null,null,null,null,null,null,null,null,null,null,null,null,null,null,null,null,null,null,""]
[null,null,null,null,null,null,null,null,null,null,null,null,null,null,null,null,null,null,""]
[null,null,null,null,null,null,null,null,null,null,null,null,null,null,null,null,null,null,""]
[null,null,null,null,null,null,null,null,null,null,null,null,null,null,null,null,null,null,""]
[null,null,null,null,null,null,null,null,null,null,null,null,null,null,null,null,null,null,""]
[null,null,null,null,null,null,null,null,null,null,null,null,null,null,null,null,null,null,""]
[null,null,null,null,null,null,null,null,null,null,null,null,null,null,null,null,null,null,""]
[null,null,null,null,null,null,null,null,null,null,null,null,null,null,null,null,null,null,""]
[null,null,null,null,null,null,null,null,null,null,null,null,null,null,null,null,null,null,""]
[null,null,null,null,null,null,null,null,null,null,null,null,null,null,null,null,null,null,""]
[null,null,null,null,null,null,null,null,null,null,null,null,null,null,null,null,null,null,""]
[null,null,null,null,null,null,null,null,null,null,null,null,null,null,null,null,null,null,""]
[null,null,null,null,null,null,null,null,null,null,null,null,null,null,null,null,null,null,""]
[null,null,null,null,null,null,null,null,null,null,null,null,null,null,null,null,null,null,""]
[null,null,null,null,null,null,null,null,null,null,null,null,null,null,null,null,null,null,""]
[null,null,null,null,null,null,null,null,null,null,null,null,null,null,null,null,null,null,""]
[null,null,null,null,null,null,null,null,null,null,null,null,null,null,null,null,null,null,""]
[null,null,null,null,null,null,null,null,null,null,null,null,null,null,null,null,null,null,""]
[null,null,null,null,null,null,null,null,null,null,null,null,null,null,null,null,null,null,""]
[null,null,null,null,null,null,null,null,null,null,null,null,null,null,null,null,null,null,""]
[null,null,null,null,null,null,null,null,null,null,null,null,null,null,null,null,null,null,{"$f":"IFERROR(VLOOKUP(F3086,$AA$51:$AB$64,2),\"\")","v":""}]
[null,null,null,null,null,null,null,null,null,null,null,null,null,null,null,null,null,null,""]
[null,null,null,null,null,null,null,null,null,null,null,null,null,null,null,null,null,null,""]
[null,null,null,null,null,null,null,null,null,null,null,null,null,null,null,null,null,null,""]
[null,null,null,null,null,null,null,null,null,null,null,null,null,null,null,null,null,null,""]
[null,null,null,null,null,null,null,null,null,null,null,null,null,null,null,null,null,null,""]
[null,null,null,null,null,null,null,null,null,null,null,null,null,null,null,null,null,null,""]
[null,null,null,null,null,null,null,null,null,null,null,null,null,null,null,null,null,null,""]
[null,null,null,null,null,null,null,null,null,null,null,null,null,null,null,null,null,null,""]
[null,null,null,null,null,null,null,null,null,null,null,null,null,null,null,null,null,null,""]
[null,null,null,null,null,null,null,null,null,null,null,null,null,null,null,null,null,null,""]
[null,null,null,null,null,null,null,null,null,null,null,null,null,null,null,null,null,null,""]
[null,null,null,null,null,null,null,null,null,null,null,null,null,null,null,null,null,null,""]
[null,null,null,null,null,null,null,null,null,null,null,null,null,null,null,null,null,null,""]
[null,null,null,null,null,null,null,null,null,null,null,null,null,null,null,null,null,null,""]
[null,null,null,null,null,null,null,null,null,null,null,null,null,null,null,null,null,null,""]
[null,null,null,null,null,null,null,null,null,null,null,null,null,null,null,null,null,null,""]
[null,null,null,null,null,null,null,null,null,null,null,null,null,null,null,null,null,null,""]
[null,null,null,null,null,null,null,null,null,null,null,null,null,null,null,null,null,null,""]
[null,null,null,null,null,null,null,null,null,null,null,null,null,null,null,null,null,null,""]
[null,null,null,null,null,null,null,null,null,null,null,null,null,null,null,null,null,null,""]
[null,null,null,null,null,null,null,null,null,null,null,null,null,null,null,null,null,null,""]
[null,null,null,null,null,null,null,null,null,null,null,null,null,null,null,null,null,null,""]