{"text_format":"1","workbook":"xlsx","n_sheets":1,"sheets":["Hoja1"],"not_rendered":{"charts":0,"images":0,"macros":0,"external_links":7,"defined_names":18,"comments":1,"pivot_tables":0},"unopened":[],"bounds":{"document_bytes":16777216,"sheet_cells":100000,"rows_first":2000,"rows_last":500,"rows_between":2000,"halvings":0,"cell_chars":16384,"cell_head_chars":4096},"cells_cut":0,"cells_raw":0,"read":"whole","date_system":"1900"}

{"sheet":"Hoja1","index":0,"n_rows":2172,"n_cols":29,"rows_kept":2172,"cut":false,"hidden":false,"merged":[[0,0,3,2],[0,3,3,10],[0,11,0,12],[1,11,1,12],[2,11,2,12],[3,11,3,12],[9,9,9,12],[9,3,9,5],[9,6,9,8],[5,1,5,2],[7,1,7,2],[9,0,9,2]]}
[null,null,null,null,null,null,null,null,null,null,null,"Código: M-AC-F012"]
[null,null,null,null,null,null,null,null,null,null,null,"Versión: 01",null,null,null,null,null,null,null,null,null,null,null,"TIPO DE ENTIDAD O USUARIO",null,null,null,null,"DÍAS NO  LABORABLES "]
[null,null,null,null,null,null,null,null,null,null,null,"Fecha: 15/01/2017",null,null,null,null,null,null,null,null,null,null,null,"CIUDADANO",null,null,null,null,"2021-01-01"]
[null,null,null,null,null,null,null,null,null,null,null,"Página: 1 de 1",null,null,null,null,null,null,null,null,null,null,null,"ACADEMIA ",null,null,null,null,"2021-01-02"]
[null,null,null,null,null,null,null,null,null,null,null,null,null,null,null,null,null,null,null,null,null,null,null,"EMPRESA PRIVADA",null,null,null,null,"2021-01-03"]
[null,"Dependencia:",null,null,null,null,null,null,null,null,null,null,null,null,null,null,null,null,null,null,null,null,null,"ENTIDAD PÚBLICA",null,null,null,null,"2021-01-09"]
[null,null,null,null,null,null,null,null,null,null,null,null,null,null,null,null,null,null,null,null,null,null,null,"EXTRANJERO",null,null,null,null,"2021-01-10"]
[null,"Período de Reporte",null,null,null,null,null,null,null,null,null,null,null,null,null,null,null,null,null,null,null,null,null,"FUNCIONARIO IDEAM",null,null,null,null,"2021-01-11"]
[null,null,null,null,null,null,null,null,null,null,null,null,null,null,null,null,null,null,null,null,null,null,null,"ONG/ORG",null,null,null,null,"2021-01-16"]
["DATOS DEL REQUERIMIENTO",null,null,"POSTURA DE REQUERIMIENTO",null,null,null,null,null,"ANÁLISIS DE RESPUESTAS",null,null,null,null,null,null,null,null,null,null,null,null,null,null,null,null,null,null,"2021-01-17"]
["No.","No.  DE REQUERIMIENTO","FECHA DE REQUERIMIENTO\n(dd/mm/aaaa)","MEDIO RECEPCIÓN","TIPO DE REQUERIMIENTO","PRODUCTO O SERVICIO AL CUAL SE REFIERE EL REQUERIMIENTO","DEPENDENCIA QUE DA RESPUESTA O A LA QUE SE DIRECCIONA","FECHA DE RESOLUCIÓN DEL REQUERIMIENTO\n(dd/mm/aaaa)","CANAL POR EL CUAL FUE RESUELTO EL REQUERIMIENTO","FECHA OPORTUNA DE RESPUESTA","ESTADO (A TIEMPO, FUERA DE TIEMPO, SIN RESPUESTA)","TIEMPO QUE TARDÓ EN  DAR RESPUESTA","DÍAS VENCIDOS CON RESPECTO A FECHA OPORTUNA DE RESPUESTA",null,null,null,null,null,null,null,null,null,null,"GÉNERO",null,null,null,null,"2021-01-23"]
[{"$f":"IF(B12<>\"\",1,\"\")","v":1},20219050114502,"2021-10-01","MODULO CONTACTENOS","SOLICITUD DE INFORMACIÓN Y DOCUMENTOS","ADMINISTRATIVA","OFICINA ASESORA JURÍDICA","2021-10-08","CORREO ELECTRÓNICO",{"$f":"IFERROR(WORKDAY(C12,P12,DiasNOLaborables),\"\")","v":"2021-11-02"},{"$f":"+IF(C12=\"\",\"\",IF(H12=\"\",\"SIN RESPUESTA\",(IF(H12<=J12,\"A TIEMPO\",\"FUERA DE TIEMPO\"))))","v":"A TIEMPO"},{"$f":"IF(H12=\"\",\"\",NETWORKDAYS(C12+1,H12,DiasNOLaborables))","v":5},{"$f":"IF(NETWORKDAYS(J12+1,H12,DiasNOLaborables)<=0,\"\",NETWORKDAYS(J12+1,H12,DiasNOLaborables))","v":""},null,null,{"$f":"IFERROR(VLOOKUP(E12,$X$51:$Y$64,2),\"\")","v":20}]
[{"$f":"IF(B13<>\"\",A12+1,\"\")","v":2},20219050114662,"2021-10-01","MODULO CONTACTENOS","CERTIFICACIONES DE TIEMPO, CLIMA Y EVENTOS HIDROLÓGICOS","CERTIFICACIONES DE TIEMPO Y CLIMA","SUBDIRECCIÓN DE METEOROLOGÍA","2021-10-21","CORREO ELECTRÓNICO",{"$f":"IFERROR(WORKDAY(C13,P13,DiasNOLaborables),\"\")","v":"2021-11-24"},{"$f":"+IF(C13=\"\",\"\",IF(H13=\"\",\"SIN RESPUESTA\",(IF(H13<=J13,\"A TIEMPO\",\"FUERA DE TIEMPO\"))))","v":"A TIEMPO"},{"$f":"IF(H13=\"\",\"\",NETWORKDAYS(C13+1,H13,DiasNOLaborables))","v":13},{"$f":"IF(NETWORKDAYS(J13+1,H13,DiasNOLaborables)<=0,\"\",NETWORKDAYS(J13+1,H13,DiasNOLaborables))","v":""},null,null,{"$f":"IFERROR(VLOOKUP(E13,$X$51:$Y$64,2),\"\")","v":35},null,null,null,null,null,null,null,"FEMENINO",null,null,null,null,"2021-01-24"]
[{"$f":"IF(B14<>\"\",A13+1,\"\")","v":3},20219050114702,"2021-10-01","MODULO CONTACTENOS","SOLICITUD DE INFORMACIÓN Y DOCUMENTOS","BOSQUES","SUBDIRECCIÓN DE ECOSISTEMAS E INFORMACIÓN AMBIENTAL","2021-10-15","CORREO ELECTRÓNICO",{"$f":"IFERROR(WORKDAY(C14,P14,DiasNOLaborables),\"\")","v":"2021-11-02"},{"$f":"+IF(C14=\"\",\"\",IF(H14=\"\",\"SIN RESPUESTA\",(IF(H14<=J14,\"A TIEMPO\",\"FUERA DE TIEMPO\"))))","v":"A TIEMPO"},{"$f":"IF(H14=\"\",\"\",NETWORKDAYS(C14+1,H14,DiasNOLaborables))","v":10},{"$f":"IF(NETWORKDAYS(J14+1,H14,DiasNOLaborables)<=0,\"\",NETWORKDAYS(J14+1,H14,DiasNOLaborables))","v":""},null,null,{"$f":"IFERROR(VLOOKUP(E14,$X$51:$Y$64,2),\"\")","v":20},null,null,null,null,null,null,null,"MASCULINO",null,null,null,null,"2021-01-30"]
[4,20219050114542,"2021-10-01","CORREO ELECTRÓNICO","SOLICITUD DE INFORMACIÓN Y DOCUMENTOS","SOLICITUD DE INFORMACIÓN HIDROMETEOROLÓGICA","GRUPO DE SERVICIO AL CIUDADANO ","2021-10-04","CORREO ELECTRÓNICO",{"$f":"IFERROR(WORKDAY(C15,P15,DiasNOLaborables),\"\")","v":"2021-11-02"},{"$f":"+IF(C15=\"\",\"\",IF(H15=\"\",\"SIN RESPUESTA\",(IF(H15<=J15,\"A TIEMPO\",\"FUERA DE TIEMPO\"))))","v":"A TIEMPO"},{"$f":"IF(H15=\"\",\"\",NETWORKDAYS(C15+1,H15,DiasNOLaborables))","v":1},{"$f":"IF(NETWORKDAYS(J15+1,H15,DiasNOLaborables)<=0,\"\",NETWORKDAYS(J15+1,H15,DiasNOLaborables))","v":""},null,null,{"$f":"IFERROR(VLOOKUP(E15,$X$51:$Y$64,2),\"\")","v":20},null,null,null,null,null,null,null,"PERSONA JURÍDICA",null,null,null,null,"2021-01-31"]
[5,20219050114552,"2021-10-01","CORREO ELECTRÓNICO","SOLICITUD DE INFORMACIÓN Y DOCUMENTOS","SOLICITUD DE INFORMACIÓN HIDROMETEOROLÓGICA","GRUPO DE SERVICIO AL CIUDADANO ","2021-10-04","CORREO ELECTRÓNICO",{"$f":"IFERROR(WORKDAY(C16,P16,DiasNOLaborables),\"\")","v":"2021-11-02"},{"$f":"+IF(C16=\"\",\"\",IF(H16=\"\",\"SIN RESPUESTA\",(IF(H16<=J16,\"A TIEMPO\",\"FUERA DE TIEMPO\"))))","v":"A TIEMPO"},{"$f":"IF(H16=\"\",\"\",NETWORKDAYS(C16+1,H16,DiasNOLaborables))","v":1},{"$f":"IF(NETWORKDAYS(J16+1,H16,DiasNOLaborables)<=0,\"\",NETWORKDAYS(J16+1,H16,DiasNOLaborables))","v":""},null,null,{"$f":"IFERROR(VLOOKUP(E16,$X$51:$Y$64,2),\"\")","v":20},null,null,null,null,null,null,null,null,null,null,null,null,"2021-02-06"]
[6,20219050114562,"2021-10-01","CORREO ELECTRÓNICO","SOLICITUD DE INFORMACIÓN Y DOCUMENTOS","SOLICITUD DE INFORMACIÓN HIDROMETEOROLÓGICA","GRUPO DE SERVICIO AL CIUDADANO ","2021-10-05","CORREO ELECTRÓNICO",{"$f":"IFERROR(WORKDAY(C17,P17,DiasNOLaborables),\"\")","v":"2021-11-02"},{"$f":"+IF(C17=\"\",\"\",IF(H17=\"\",\"SIN RESPUESTA\",(IF(H17<=J17,\"A TIEMPO\",\"FUERA DE TIEMPO\"))))","v":"A TIEMPO"},{"$f":"IF(H17=\"\",\"\",NETWORKDAYS(C17+1,H17,DiasNOLaborables))","v":2},{"$f":"IF(NETWORKDAYS(J17+1,H17,DiasNOLaborables)<=0,\"\",NETWORKDAYS(J17+1,H17,DiasNOLaborables))","v":""},null,null,{"$f":"IFERROR(VLOOKUP(E17,$X$51:$Y$64,2),\"\")","v":20},null,null,null,null,null,null,null,"DEPENDENCIA QUE DA RESPUESTA O LA QUE SE DIRECCIONA",null,null,null,null,"2021-02-07"]
[7,20219050114692,"2021-10-01","CORREO ELECTRÓNICO","SOLICITUD DE INFORMACIÓN Y DOCUMENTOS","SOLICITUD DE INFORMACIÓN HIDROMETEOROLÓGICA","GRUPO DE SERVICIO AL CIUDADANO ","2021-10-05","CORREO ELECTRÓNICO",{"$f":"IFERROR(WORKDAY(C18,P18,DiasNOLaborables),\"\")","v":"2021-11-02"},{"$f":"+IF(C18=\"\",\"\",IF(H18=\"\",\"SIN RESPUESTA\",(IF(H18<=J18,\"A TIEMPO\",\"FUERA DE TIEMPO\"))))","v":"A TIEMPO"},{"$f":"IF(H18=\"\",\"\",NETWORKDAYS(C18+1,H18,DiasNOLaborables))","v":2},{"$f":"IF(NETWORKDAYS(J18+1,H18,DiasNOLaborables)<=0,\"\",NETWORKDAYS(J18+1,H18,DiasNOLaborables))","v":""},null,null,{"$f":"IFERROR(VLOOKUP(E18,$X$51:$Y$64,2),\"\")","v":20},null,null,null,null,null,null,null,"AREA OPERATIVA No. 1",null,null,null,null,"2021-02-13"]
[8,20219050114722,"2021-10-01","MODULO CONTACTENOS","SOLICITUD DE INFORMACIÓN Y DOCUMENTOS","SOLICITUD DE INFORMACIÓN HIDROMETEOROLÓGICA","GRUPO DE SERVICIO AL CIUDADANO ","2021-10-05","CORREO ELECTRÓNICO",{"$f":"IFERROR(WORKDAY(C19,P19,DiasNOLaborables),\"\")","v":"2021-11-02"},{"$f":"+IF(C19=\"\",\"\",IF(H19=\"\",\"SIN RESPUESTA\",(IF(H19<=J19,\"A TIEMPO\",\"FUERA DE TIEMPO\"))))","v":"A TIEMPO"},{"$f":"IF(H19=\"\",\"\",NETWORKDAYS(C19+1,H19,DiasNOLaborables))","v":2},{"$f":"IF(NETWORKDAYS(J19+1,H19,DiasNOLaborables)<=0,\"\",NETWORKDAYS(J19+1,H19,DiasNOLaborables))","v":""},null,null,{"$f":"IFERROR(VLOOKUP(E19,$X$51:$Y$64,2),\"\")","v":20},null,null,null,null,null,null,null,"AREA OPERATIVA No. 2",null,null,null,null,"2021-02-14"]
[9,20219050114782,"2021-10-01","MODULO CONTACTENOS","SOLICITUD DE INFORMACIÓN Y DOCUMENTOS","SOLICITUD DE INFORMACIÓN HIDROMETEOROLÓGICA","GRUPO DE SERVICIO AL CIUDADANO ","2021-10-05","CORREO ELECTRÓNICO",{"$f":"IFERROR(WORKDAY(C20,P20,DiasNOLaborables),\"\")","v":"2021-11-02"},{"$f":"+IF(C20=\"\",\"\",IF(H20=\"\",\"SIN RESPUESTA\",(IF(H20<=J20,\"A TIEMPO\",\"FUERA DE TIEMPO\"))))","v":"A TIEMPO"},{"$f":"IF(H20=\"\",\"\",NETWORKDAYS(C20+1,H20,DiasNOLaborables))","v":2},{"$f":"IF(NETWORKDAYS(J20+1,H20,DiasNOLaborables)<=0,\"\",NETWORKDAYS(J20+1,H20,DiasNOLaborables))","v":""},null,null,{"$f":"IFERROR(VLOOKUP(E20,$X$51:$Y$64,2),\"\")","v":20},null,null,null,null,null,null,null,"AREA OPERATIVA No. 3",null,null,null,null,"2021-01-20"]
[10,20219050114812,"2021-10-01","MODULO CONTACTENOS","SOLICITUD DE INFORMACIÓN Y DOCUMENTOS","SOLICITUD DE INFORMACIÓN HIDROMETEOROLÓGICA","GRUPO DE SERVICIO AL CIUDADANO ","2021-10-05","CORREO ELECTRÓNICO",{"$f":"IFERROR(WORKDAY(C21,P21,DiasNOLaborables),\"\")","v":"2021-11-02"},{"$f":"+IF(C21=\"\",\"\",IF(H21=\"\",\"SIN RESPUESTA\",(IF(H21<=J21,\"A TIEMPO\",\"FUERA DE TIEMPO\"))))","v":"A TIEMPO"},{"$f":"IF(H21=\"\",\"\",NETWORKDAYS(C21+1,H21,DiasNOLaborables))","v":2},{"$f":"IF(NETWORKDAYS(J21+1,H21,DiasNOLaborables)<=0,\"\",NETWORKDAYS(J21+1,H21,DiasNOLaborables))","v":""},null,null,{"$f":"IFERROR(VLOOKUP(E21,$X$51:$Y$64,2),\"\")","v":20},null,null,null,null,null,null,null,"AREA OPERATIVA No. 4",null,null,null,null,"2021-02-21"]
[11,20219050114822,"2021-10-01","MODULO CONTACTENOS","SOLICITUD DE INFORMACIÓN Y DOCUMENTOS","SOLICITUD DE INFORMACIÓN HIDROMETEOROLÓGICA","GRUPO DE SERVICIO AL CIUDADANO ","2021-10-05","CORREO ELECTRÓNICO",{"$f":"IFERROR(WORKDAY(C22,P22,DiasNOLaborables),\"\")","v":"2021-11-02"},{"$f":"+IF(C22=\"\",\"\",IF(H22=\"\",\"SIN RESPUESTA\",(IF(H22<=J22,\"A TIEMPO\",\"FUERA DE TIEMPO\"))))","v":"A TIEMPO"},{"$f":"IF(H22=\"\",\"\",NETWORKDAYS(C22+1,H22,DiasNOLaborables))","v":2},{"$f":"IF(NETWORKDAYS(J22+1,H22,DiasNOLaborables)<=0,\"\",NETWORKDAYS(J22+1,H22,DiasNOLaborables))","v":""},null,null,{"$f":"IFERROR(VLOOKUP(E22,$X$51:$Y$64,2),\"\")","v":20},null,null,null,null,null,null,null,"AREA OPERATIVA No. 5",null,null,null,null,"2021-02-27"]
[12,20219050114732,"2021-10-01","MODULO CONTACTENOS","SOLICITUD DE INFORMACIÓN Y DOCUMENTOS","SOLICITUD DE INFORMACIÓN HIDROMETEOROLÓGICA","GRUPO DE SERVICIO AL CIUDADANO ","2021-10-06","CORREO ELECTRÓNICO",{"$f":"IFERROR(WORKDAY(C23,P23,DiasNOLaborables),\"\")","v":"2021-11-02"},{"$f":"+IF(C23=\"\",\"\",IF(H23=\"\",\"SIN RESPUESTA\",(IF(H23<=J23,\"A TIEMPO\",\"FUERA DE TIEMPO\"))))","v":"A TIEMPO"},{"$f":"IF(H23=\"\",\"\",NETWORKDAYS(C23+1,H23,DiasNOLaborables))","v":3},{"$f":"IF(NETWORKDAYS(J23+1,H23,DiasNOLaborables)<=0,\"\",NETWORKDAYS(J23+1,H23,DiasNOLaborables))","v":""},null,null,{"$f":"IFERROR(VLOOKUP(E23,$X$51:$Y$64,2),\"\")","v":20},null,null,null,null,null,null,null,"AREA OPERATIVA No. 6",null,null,null,null,"2021-02-28"]
[13,20219050114712,"2021-10-01","MODULO CONTACTENOS","SOLICITUD DE INFORMACIÓN Y DOCUMENTOS","SIA","SUBDIRECCIÓN DE ECOSISTEMAS E INFORMACIÓN AMBIENTAL","2021-10-13","CORREO ELECTRÓNICO",{"$f":"IFERROR(WORKDAY(C24,P24,DiasNOLaborables),\"\")","v":"2021-11-02"},{"$f":"+IF(C24=\"\",\"\",IF(H24=\"\",\"SIN RESPUESTA\",(IF(H24<=J24,\"A TIEMPO\",\"FUERA DE TIEMPO\"))))","v":"A TIEMPO"},{"$f":"IF(H24=\"\",\"\",NETWORKDAYS(C24+1,H24,DiasNOLaborables))","v":8},{"$f":"IF(NETWORKDAYS(J24+1,H24,DiasNOLaborables)<=0,\"\",NETWORKDAYS(J24+1,H24,DiasNOLaborables))","v":""},null,null,{"$f":"IFERROR(VLOOKUP(E24,$X$51:$Y$64,2),\"\")","v":20},null,null,null,null,null,null,null,"AREA OPERATIVA No. 7",null,null,null,null,"2021-03-06"]
[14,20219050114512,"2021-10-01","CORREO ELECTRÓNICO","SOLICITUD DE INFORMACIÓN Y DOCUMENTOS","ADMINISTRATIVA","GRUPO DE TESORERÍA","2021-10-06","CORREO ELECTRÓNICO",{"$f":"IFERROR(WORKDAY(C25,P25,DiasNOLaborables),\"\")","v":"2021-11-02"},{"$f":"+IF(C25=\"\",\"\",IF(H25=\"\",\"SIN RESPUESTA\",(IF(H25<=J25,\"A TIEMPO\",\"FUERA DE TIEMPO\"))))","v":"A TIEMPO"},{"$f":"IF(H25=\"\",\"\",NETWORKDAYS(C25+1,H25,DiasNOLaborables))","v":3},{"$f":"IF(NETWORKDAYS(J25+1,H25,DiasNOLaborables)<=0,\"\",NETWORKDAYS(J25+1,H25,DiasNOLaborables))","v":""},null,null,{"$f":"IFERROR(VLOOKUP(E25,$X$51:$Y$64,2),\"\")","v":20},null,null,null,null,null,null,null,"AREA OPERATIVA No. 8",null,null,null,null,"2021-03-07"]
[15,20219050114522,"2021-10-01","CORREO ELECTRÓNICO","SOLICITUD DE INFORMACIÓN Y DOCUMENTOS","ADMINISTRATIVA","GRUPO DE TESORERÍA","2021-10-01","CORREO ELECTRÓNICO",{"$f":"IFERROR(WORKDAY(C26,P26,DiasNOLaborables),\"\")","v":"2021-11-02"},{"$f":"+IF(C26=\"\",\"\",IF(H26=\"\",\"SIN RESPUESTA\",(IF(H26<=J26,\"A TIEMPO\",\"FUERA DE TIEMPO\"))))","v":"A TIEMPO"},{"$f":"IF(H26=\"\",\"\",NETWORKDAYS(C26+1,H26,DiasNOLaborables))","v":-1},{"$f":"IF(NETWORKDAYS(J26+1,H26,DiasNOLaborables)<=0,\"\",NETWORKDAYS(J26+1,H26,DiasNOLaborables))","v":""},null,null,{"$f":"IFERROR(VLOOKUP(E26,$X$51:$Y$64,2),\"\")","v":20},null,null,null,null,null,null,null,"AREA OPERATIVA No. 9",null,null,null,null,"2021-03-13"]
[16,20219050114532,"2021-10-01","CORREO ELECTRÓNICO","CERTIFICACIONES DE TIEMPO, CLIMA Y EVENTOS HIDROLÓGICOS","CERTIFICACIONES DE TIEMPO Y CLIMA","SUBDIRECCIÓN DE METEOROLOGÍA","2021-10-25","CORREO ELECTRÓNICO",{"$f":"IFERROR(WORKDAY(C27,P27,DiasNOLaborables),\"\")","v":"2021-11-24"},{"$f":"+IF(C27=\"\",\"\",IF(H27=\"\",\"SIN RESPUESTA\",(IF(H27<=J27,\"A TIEMPO\",\"FUERA DE TIEMPO\"))))","v":"A TIEMPO"},{"$f":"IF(H27=\"\",\"\",NETWORKDAYS(C27+1,H27,DiasNOLaborables))","v":15},{"$f":"IF(NETWORKDAYS(J27+1,H27,DiasNOLaborables)<=0,\"\",NETWORKDAYS(J27+1,H27,DiasNOLaborables))","v":""},null,null,{"$f":"IFERROR(VLOOKUP(E27,$X$51:$Y$64,2),\"\")","v":35},null,null,null,null,null,null,null,"AREA OPERATIVA No. 10",null,null,null,null,"2021-03-14"]
[17,20219050114572,"2021-10-01","CORREO ELECTRÓNICO","SOLICITUD DE INFORMACIÓN Y DOCUMENTOS","JURIDICO","OFICINA ASESORA JURÍDICA","2021-10-08","CORREO ELECTRÓNICO",{"$f":"IFERROR(WORKDAY(C28,P28,DiasNOLaborables),\"\")","v":"2021-11-02"},{"$f":"+IF(C28=\"\",\"\",IF(H28=\"\",\"SIN RESPUESTA\",(IF(H28<=J28,\"A TIEMPO\",\"FUERA DE TIEMPO\"))))","v":"A TIEMPO"},{"$f":"IF(H28=\"\",\"\",NETWORKDAYS(C28+1,H28,DiasNOLaborables))","v":5},{"$f":"IF(NETWORKDAYS(J28+1,H28,DiasNOLaborables)<=0,\"\",NETWORKDAYS(J28+1,H28,DiasNOLaborables))","v":""},null,null,{"$f":"IFERROR(VLOOKUP(E28,$X$51:$Y$64,2),\"\")","v":20},null,null,null,null,null,null,null,"AREA OPERATIVA No. 11",null,null,null,null,"2021-03-20"]
[18,20219050114582,"2021-10-01","CORREO ELECTRÓNICO","SOLICITUD DE INFORMACIÓN Y DOCUMENTOS","JURIDICO","OFICINA ASESORA JURÍDICA","2021-10-21","CORREO ELECTRÓNICO",{"$f":"IFERROR(WORKDAY(C29,P29,DiasNOLaborables),\"\")","v":"2021-11-02"},{"$f":"+IF(C29=\"\",\"\",IF(H29=\"\",\"SIN RESPUESTA\",(IF(H29<=J29,\"A TIEMPO\",\"FUERA DE TIEMPO\"))))","v":"A TIEMPO"},{"$f":"IF(H29=\"\",\"\",NETWORKDAYS(C29+1,H29,DiasNOLaborables))","v":13},{"$f":"IF(NETWORKDAYS(J29+1,H29,DiasNOLaborables)<=0,\"\",NETWORKDAYS(J29+1,H29,DiasNOLaborables))","v":""},null,null,{"$f":"IFERROR(VLOOKUP(E29,$X$51:$Y$64,2),\"\")","v":20},null,null,null,null,null,null,null,"DIRECCIÓN GENERAL",null,null,null,null,"2021-03-21"]
[19,20219050114632,"2021-10-01","CORREO ELECTRÓNICO","SOLICITUD DE INFORMACIÓN Y DOCUMENTOS","SOLICITUD DE INFORMACIÓN HIDROMETEOROLÓGICA","SUBDIRECCIÓN DE METEOROLOGÍA","2021-10-04","CORREO ELECTRÓNICO",{"$f":"IFERROR(WORKDAY(C30,P30,DiasNOLaborables),\"\")","v":"2021-11-02"},{"$f":"+IF(C30=\"\",\"\",IF(H30=\"\",\"SIN RESPUESTA\",(IF(H30<=J30,\"A TIEMPO\",\"FUERA DE TIEMPO\"))))","v":"A TIEMPO"},{"$f":"IF(H30=\"\",\"\",NETWORKDAYS(C30+1,H30,DiasNOLaborables))","v":1},{"$f":"IF(NETWORKDAYS(J30+1,H30,DiasNOLaborables)<=0,\"\",NETWORKDAYS(J30+1,H30,DiasNOLaborables))","v":""},null,null,{"$f":"IFERROR(VLOOKUP(E30,$X$51:$Y$64,2),\"\")","v":20},null,null,null,null,null,null,null,"GRUPO DE ADMINISTRACIÓN Y DESARROLLO DEL TALENTO HUMANO",null,null,null,null,"2021-03-22"]
[20,20219050114642,"2021-10-01","CORREO ELECTRÓNICO","SOLICITUD DE INFORMACIÓN Y DOCUMENTOS","SOLICITUD DE INFORMACIÓN HIDROMETEOROLÓGICA","SUBDIRECCIÓN DE METEOROLOGÍA","2021-10-04","CORREO ELECTRÓNICO",{"$f":"IFERROR(WORKDAY(C31,P31,DiasNOLaborables),\"\")","v":"2021-11-02"},{"$f":"+IF(C31=\"\",\"\",IF(H31=\"\",\"SIN RESPUESTA\",(IF(H31<=J31,\"A TIEMPO\",\"FUERA DE TIEMPO\"))))","v":"A TIEMPO"},{"$f":"IF(H31=\"\",\"\",NETWORKDAYS(C31+1,H31,DiasNOLaborables))","v":1},{"$f":"IF(NETWORKDAYS(J31+1,H31,DiasNOLaborables)<=0,\"\",NETWORKDAYS(J31+1,H31,DiasNOLaborables))","v":""},null,null,{"$f":"IFERROR(VLOOKUP(E31,$X$51:$Y$64,2),\"\")","v":20},null,null,null,null,null,null,null,"GRUPO DE COMUNICACIONES",null,null,null,null,"2021-03-27"]
[21,20219050114832,"2021-10-01","CORREO ELECTRÓNICO","CERTIFICACIONES DE TIEMPO, CLIMA Y EVENTOS HIDROLÓGICOS","CERTIFICACIONES DE TIEMPO Y CLIMA","SUBDIRECCIÓN DE METEOROLOGÍA","2021-10-20","CORREO ELECTRÓNICO",{"$f":"IFERROR(WORKDAY(C32,P32,DiasNOLaborables),\"\")","v":"2021-11-24"},{"$f":"+IF(C32=\"\",\"\",IF(H32=\"\",\"SIN RESPUESTA\",(IF(H32<=J32,\"A TIEMPO\",\"FUERA DE TIEMPO\"))))","v":"A TIEMPO"},{"$f":"IF(H32=\"\",\"\",NETWORKDAYS(C32+1,H32,DiasNOLaborables))","v":12},{"$f":"IF(NETWORKDAYS(J32+1,H32,DiasNOLaborables)<=0,\"\",NETWORKDAYS(J32+1,H32,DiasNOLaborables))","v":""},null,null,{"$f":"IFERROR(VLOOKUP(E32,$X$51:$Y$64,2),\"\")","v":35},null,null,null,null,null,null,null,"GRUPO DE CONTABILIDAD",null,null,null,null,"2021-03-28"]
[22,20219050114862,"2021-10-01","CORREO ELECTRÓNICO","CERTIFICACIONES DE TIEMPO, CLIMA Y EVENTOS HIDROLÓGICOS","CERTIFICACIONES DE TIEMPO Y CLIMA","SUBDIRECCIÓN DE METEOROLOGÍA","2021-11-08","CORREO ELECTRÓNICO",{"$f":"IFERROR(WORKDAY(C33,P33,DiasNOLaborables),\"\")","v":"2021-11-24"},{"$f":"+IF(C33=\"\",\"\",IF(H33=\"\",\"SIN RESPUESTA\",(IF(H33<=J33,\"A TIEMPO\",\"FUERA DE TIEMPO\"))))","v":"A TIEMPO"},{"$f":"IF(H33=\"\",\"\",NETWORKDAYS(C33+1,H33,DiasNOLaborables))","v":24},{"$f":"IF(NETWORKDAYS(J33+1,H33,DiasNOLaborables)<=0,\"\",NETWORKDAYS(J33+1,H33,DiasNOLaborables))","v":""},null,null,{"$f":"IFERROR(VLOOKUP(E33,$X$51:$Y$64,2),\"\")","v":35},null,null,null,null,null,null,null,"GRUPO DE CONTROL DISCIPLINARIO INTERNO",null,null,null,null,"2021-04-01"]
[23,20219050114872,"2021-10-01","CORREO ELECTRÓNICO","SOLICITUD DE INFORMACIÓN Y DOCUMENTOS","REGISTROS AMBIENTALES","SUBDIRECCIÓN DE ESTUDIOS AMBIENTALES","2021-10-10","CORREO ELECTRÓNICO",{"$f":"IFERROR(WORKDAY(C34,P34,DiasNOLaborables),\"\")","v":"2021-11-02"},{"$f":"+IF(C34=\"\",\"\",IF(H34=\"\",\"SIN RESPUESTA\",(IF(H34<=J34,\"A TIEMPO\",\"FUERA DE TIEMPO\"))))","v":"A TIEMPO"},{"$f":"IF(H34=\"\",\"\",NETWORKDAYS(C34+1,H34,DiasNOLaborables))","v":5},{"$f":"IF(NETWORKDAYS(J34+1,H34,DiasNOLaborables)<=0,\"\",NETWORKDAYS(J34+1,H34,DiasNOLaborables))","v":""},null,null,{"$f":"IFERROR(VLOOKUP(E34,$X$51:$Y$64,2),\"\")","v":20},null,null,null,null,null,null,null,"GRUPO DE GESTIÓN DOCUMENTAL Y CENTRO DE DOCUMENTACIÓN",null,null,null,null,"2021-04-02"]
[24,20219050114882,"2021-10-01","CORREO ELECTRÓNICO","CERTIFICACIONES DE TIEMPO, CLIMA Y EVENTOS HIDROLÓGICOS","CERTIFICACIONES DE TIEMPO Y CLIMA","SUBDIRECCIÓN DE METEOROLOGÍA","2021-11-08","CORREO ELECTRÓNICO",{"$f":"IFERROR(WORKDAY(C35,P35,DiasNOLaborables),\"\")","v":"2021-11-24"},{"$f":"+IF(C35=\"\",\"\",IF(H35=\"\",\"SIN RESPUESTA\",(IF(H35<=J35,\"A TIEMPO\",\"FUERA DE TIEMPO\"))))","v":"A TIEMPO"},{"$f":"IF(H35=\"\",\"\",NETWORKDAYS(C35+1,H35,DiasNOLaborables))","v":24},{"$f":"IF(NETWORKDAYS(J35+1,H35,DiasNOLaborables)<=0,\"\",NETWORKDAYS(J35+1,H35,DiasNOLaborables))","v":""},null,null,{"$f":"IFERROR(VLOOKUP(E35,$X$51:$Y$64,2),\"\")","v":35},null,null,null,null,null,null,null,"GRUPO DE PRESUPUESTO",null,null,null,null,"2021-04-03"]
[25,20219050114902,"2021-10-01","CORREO ELECTRÓNICO","SOLICITUD DE INFORMACIÓN Y DOCUMENTOS","INFORMES AMBIENTALES","SUBDIRECCIÓN DE ESTUDIOS AMBIENTALES","2021-10-06","CORREO ELECTRÓNICO",{"$f":"IFERROR(WORKDAY(C36,P36,DiasNOLaborables),\"\")","v":"2021-11-02"},{"$f":"+IF(C36=\"\",\"\",IF(H36=\"\",\"SIN RESPUESTA\",(IF(H36<=J36,\"A TIEMPO\",\"FUERA DE TIEMPO\"))))","v":"A TIEMPO"},{"$f":"IF(H36=\"\",\"\",NETWORKDAYS(C36+1,H36,DiasNOLaborables))","v":3},{"$f":"IF(NETWORKDAYS(J36+1,H36,DiasNOLaborables)<=0,\"\",NETWORKDAYS(J36+1,H36,DiasNOLaborables))","v":""},null,null,{"$f":"IFERROR(VLOOKUP(E36,$X$51:$Y$64,2),\"\")","v":20},null,null,null,null,null,null,null,"GRUPO DE SERVICIO AL CIUDADANO",null,null,null,null,"2021-04-04"]
[26,20219050114652,"2021-10-01","CORREO ELECTRÓNICO","SOLICITUD DE INFORMACIÓN Y DOCUMENTOS","SOLICITUD DE INFORMACIÓN HIDROMETEOROLÓGICA","SUBDIRECCIÓN DE METEOROLOGÍA","2021-10-04","CORREO ELECTRÓNICO",{"$f":"IFERROR(WORKDAY(C37,P37,DiasNOLaborables),\"\")","v":"2021-11-02"},{"$f":"+IF(C37=\"\",\"\",IF(H37=\"\",\"SIN RESPUESTA\",(IF(H37<=J37,\"A TIEMPO\",\"FUERA DE TIEMPO\"))))","v":"A TIEMPO"},{"$f":"IF(H37=\"\",\"\",NETWORKDAYS(C37+1,H37,DiasNOLaborables))","v":1},{"$f":"IF(NETWORKDAYS(J37+1,H37,DiasNOLaborables)<=0,\"\",NETWORKDAYS(J37+1,H37,DiasNOLaborables))","v":""},null,null,{"$f":"IFERROR(VLOOKUP(E37,$X$51:$Y$64,2),\"\")","v":20},null,null,null,null,null,null,null,"GRUPO DE SERVICIOS ADMINISTRATIVOS",null,null,null,null,"2021-04-10"]
[27,20219050114672,"2021-10-01","CORREO ELECTRÓNICO","SOLICITUD DE INFORMACIÓN Y DOCUMENTOS","PRONÓSTICOS Y ALERTAS","OFICINA DEL SERVICIO DE PRONÓSTICOS Y ALERTAS","2021-10-19","CORREO ELECTRÓNICO",{"$f":"IFERROR(WORKDAY(C38,P38,DiasNOLaborables),\"\")","v":"2021-11-02"},{"$f":"+IF(C38=\"\",\"\",IF(H38=\"\",\"SIN RESPUESTA\",(IF(H38<=J38,\"A TIEMPO\",\"FUERA DE TIEMPO\"))))","v":"A TIEMPO"},{"$f":"IF(H38=\"\",\"\",NETWORKDAYS(C38+1,H38,DiasNOLaborables))","v":11},{"$f":"IF(NETWORKDAYS(J38+1,H38,DiasNOLaborables)<=0,\"\",NETWORKDAYS(J38+1,H38,DiasNOLaborables))","v":""},null,null,{"$f":"IFERROR(VLOOKUP(E38,$X$51:$Y$64,2),\"\")","v":20},null,null,null,null,null,null,null,"GRUPO DE TESORERÍA",null,null,null,null,"2021-04-11"]
[28,20219050114682,"2021-10-01","CORREO ELECTRÓNICO","SOLICITUD DE INFORMACIÓN Y DOCUMENTOS","INFORMES AMBIENTALES","SUBDIRECCIÓN DE ESTUDIOS AMBIENTALES","2021-10-21","CORREO ELECTRÓNICO",{"$f":"IFERROR(WORKDAY(C39,P39,DiasNOLaborables),\"\")","v":"2021-11-02"},{"$f":"+IF(C39=\"\",\"\",IF(H39=\"\",\"SIN RESPUESTA\",(IF(H39<=J39,\"A TIEMPO\",\"FUERA DE TIEMPO\"))))","v":"A TIEMPO"},{"$f":"IF(H39=\"\",\"\",NETWORKDAYS(C39+1,H39,DiasNOLaborables))","v":13},{"$f":"IF(NETWORKDAYS(J39+1,H39,DiasNOLaborables)<=0,\"\",NETWORKDAYS(J39+1,H39,DiasNOLaborables))","v":""},null,null,{"$f":"IFERROR(VLOOKUP(E39,$X$51:$Y$64,2),\"\")","v":20},null,null,null,null,null,null,null,"OFICINA ASESORA DE PLANEACIÓN",null,null,null,null,"2021-04-17"]
[29,20219050114752,"2021-10-01","CORREO ELECTRÓNICO","CERTIFICACIONES DE TIEMPO, CLIMA Y EVENTOS HIDROLÓGICOS","CERTIFICACIONES DE TIEMPO Y CLIMA","SUBDIRECCIÓN DE METEOROLOGÍA","2021-10-25","CORREO ELECTRÓNICO",{"$f":"IFERROR(WORKDAY(C40,P40,DiasNOLaborables),\"\")","v":"2021-11-24"},{"$f":"+IF(C40=\"\",\"\",IF(H40=\"\",\"SIN RESPUESTA\",(IF(H40<=J40,\"A TIEMPO\",\"FUERA DE TIEMPO\"))))","v":"A TIEMPO"},{"$f":"IF(H40=\"\",\"\",NETWORKDAYS(C40+1,H40,DiasNOLaborables))","v":15},{"$f":"IF(NETWORKDAYS(J40+1,H40,DiasNOLaborables)<=0,\"\",NETWORKDAYS(J40+1,H40,DiasNOLaborables))","v":""},null,null,{"$f":"IFERROR(VLOOKUP(E40,$X$51:$Y$64,2),\"\")","v":35},null,null,null,null,null,null,null,"OFICINA ASESORA JURÍDICA",null,null,null,null,"2021-04-18"]
[30,20219050114922,"2021-10-01","MODULO CONTACTENOS","PETICIÓN","ADMINISTRATIVA","GRUPO DE ADMINISTRACIÓN Y DESARROLLO DEL TALENTO HUMANO","2021-11-11","CORREO ELECTRÓNICO",{"$f":"IFERROR(WORKDAY(C41,P41,DiasNOLaborables),\"\")","v":"2021-11-17"},{"$f":"+IF(C41=\"\",\"\",IF(H41=\"\",\"SIN RESPUESTA\",(IF(H41<=J41,\"A TIEMPO\",\"FUERA DE TIEMPO\"))))","v":"A TIEMPO"},{"$f":"IF(H41=\"\",\"\",NETWORKDAYS(C41+1,H41,DiasNOLaborables))","v":27},{"$f":"IF(NETWORKDAYS(J41+1,H41,DiasNOLaborables)<=0,\"\",NETWORKDAYS(J41+1,H41,DiasNOLaborables))","v":""},null,null,{"$f":"IFERROR(VLOOKUP(E41,$X$51:$Y$64,2),\"\")","v":30},null,null,null,null,null,null,null,"OFICINA DE CONTROL INTERNO",null,null,null,null,"2021-04-24"]
[31,20219050114892,"2021-10-01","MODULO CONTACTENOS","SOLICITUD DE INFORMACIÓN Y DOCUMENTOS","SOLICITUD DE INFORMACIÓN HIDROMETEOROLÓGICA","GRUPO DE SERVICIO AL CIUDADANO ","2021-10-21","CORREO ELECTRÓNICO",{"$f":"IFERROR(WORKDAY(C42,P42,DiasNOLaborables),\"\")","v":"2021-11-02"},{"$f":"+IF(C42=\"\",\"\",IF(H42=\"\",\"SIN RESPUESTA\",(IF(H42<=J42,\"A TIEMPO\",\"FUERA DE TIEMPO\"))))","v":"A TIEMPO"},{"$f":"IF(H42=\"\",\"\",NETWORKDAYS(C42+1,H42,DiasNOLaborables))","v":13},{"$f":"IF(NETWORKDAYS(J42+1,H42,DiasNOLaborables)<=0,\"\",NETWORKDAYS(J42+1,H42,DiasNOLaborables))","v":""},null,null,{"$f":"IFERROR(VLOOKUP(E42,$X$51:$Y$64,2),\"\")","v":20},null,null,null,null,null,null,null,"OFICINA DE INFORMÁTICA",null,null,null,null,"2021-04-25"]
[32,20219050114912,"2021-10-01","MODULO CONTACTENOS","SOLICITUD DE INFORMACIÓN Y DOCUMENTOS","SOLICITUD DE INFORMACIÓN HIDROMETEOROLÓGICA","GRUPO DE SERVICIO AL CIUDADANO ","2021-10-20","CORREO ELECTRÓNICO",{"$f":"IFERROR(WORKDAY(C43,P43,DiasNOLaborables),\"\")","v":"2021-11-02"},{"$f":"+IF(C43=\"\",\"\",IF(H43=\"\",\"SIN RESPUESTA\",(IF(H43<=J43,\"A TIEMPO\",\"FUERA DE TIEMPO\"))))","v":"A TIEMPO"},{"$f":"IF(H43=\"\",\"\",NETWORKDAYS([5]Hoja1!C41+1,[5]Hoja1!P41,DiasNOLaborables))","v":6},{"$f":"IF(NETWORKDAYS(J43+1,H43,DiasNOLaborables)<=0,\"\",NETWORKDAYS(J43+1,H43,DiasNOLaborables))","v":""},null,null,{"$f":"IFERROR(VLOOKUP(E43,$X$51:$Y$64,2),\"\")","v":20},null,null,null,null,null,null,null,"OFICINA DEL SERVICIO DE PRONÓSTICOS Y ALERTAS",null,null,null,null,"2021-05-01"]
[33,20219050114932,"2021-10-02","MODULO CONTACTENOS","SOLICITUD DE INFORMACIÓN Y DOCUMENTOS","SOLICITUD DE INFORMACIÓN HIDROMETEOROLÓGICA","GRUPO DE SERVICIO AL CIUDADANO ","2021-10-22","CORREO ELECTRÓNICO",{"$f":"IFERROR(WORKDAY(C44,P44,DiasNOLaborables),\"\")","v":"2021-11-02"},{"$f":"+IF(C44=\"\",\"\",IF(H44=\"\",\"SIN RESPUESTA\",(IF(H44<=J44,\"A TIEMPO\",\"FUERA DE TIEMPO\"))))","v":"A TIEMPO"},{"$f":"IF(H44=\"\",\"\",NETWORKDAYS(C44+1,H44,DiasNOLaborables))","v":14},{"$f":"IF(NETWORKDAYS(J44+1,H44,DiasNOLaborables)<=0,\"\",NETWORKDAYS(J44+1,H44,DiasNOLaborables))","v":""},null,null,{"$f":"IFERROR(VLOOKUP(E44,$X$51:$Y$64,2),\"\")","v":20},null,null,null,null,null,null,null,"SECRETARÍA GENERAL",null,null,null,null,"2021-05-02"]
[34,20219050114942,"2021-10-02","MODULO CONTACTENOS","SOLICITUD DE INFORMACIÓN Y DOCUMENTOS","SOLICITUD DE INFORMACIÓN HIDROMETEOROLÓGICA","GRUPO DE SERVICIO AL CIUDADANO ","2021-10-20","CORREO ELECTRÓNICO",{"$f":"IFERROR(WORKDAY(C45,P45,DiasNOLaborables),\"\")","v":"2021-11-02"},{"$f":"+IF(C45=\"\",\"\",IF(H45=\"\",\"SIN RESPUESTA\",(IF(H45<=J45,\"A TIEMPO\",\"FUERA DE TIEMPO\"))))","v":"A TIEMPO"},{"$f":"IF(H45=\"\",\"\",NETWORKDAYS(C45+1,H45,DiasNOLaborables))","v":12},{"$f":"IF(NETWORKDAYS(J45+1,H45,DiasNOLaborables)<=0,\"\",NETWORKDAYS(J45+1,H45,DiasNOLaborables))","v":""},null,null,{"$f":"IFERROR(VLOOKUP(E45,$X$51:$Y$64,2),\"\")","v":20},null,null,null,null,null,null,null,"SUBDIRECCIÓN DE ECOSISTEMAS E INFORMACIÓN AMBIENTAL",null,null,null,null,"2021-05-08"]
[35,20219050114982,"2021-10-02","MODULO CONTACTENOS","SOLICITUD DE INFORMACIÓN Y DOCUMENTOS","SOLICITUD DE INFORMACIÓN HIDROMETEOROLÓGICA","GRUPO DE SERVICIO AL CIUDADANO ","2021-10-21","CORREO ELECTRÓNICO",{"$f":"IFERROR(WORKDAY(C46,P46,DiasNOLaborables),\"\")","v":"2021-11-02"},{"$f":"+IF(C46=\"\",\"\",IF(H46=\"\",\"SIN RESPUESTA\",(IF(H46<=J46,\"A TIEMPO\",\"FUERA DE TIEMPO\"))))","v":"A TIEMPO"},{"$f":"IF(H46=\"\",\"\",NETWORKDAYS(C46+1,H46,DiasNOLaborables))","v":13},{"$f":"IF(NETWORKDAYS(J46+1,H46,DiasNOLaborables)<=0,\"\",NETWORKDAYS(J46+1,H46,DiasNOLaborables))","v":""},null,null,{"$f":"IFERROR(VLOOKUP(E46,$X$51:$Y$64,2),\"\")","v":20},null,null,null,null,null,null,null,"SUBDIRECCIÓN DE ESTUDIOS AMBIENTALES",null,null,null,null,"2021-05-09"]
[36,20219050114992,"2021-10-02","MODULO CONTACTENOS","SOLICITUD DE INFORMACIÓN Y DOCUMENTOS","SOLICITUD DE INFORMACIÓN HIDROMETEOROLÓGICA","GRUPO DE SERVICIO AL CIUDADANO ","2021-10-22","CORREO ELECTRÓNICO",{"$f":"IFERROR(WORKDAY(C47,P47,DiasNOLaborables),\"\")","v":"2021-11-02"},{"$f":"+IF(C47=\"\",\"\",IF(H47=\"\",\"SIN RESPUESTA\",(IF(H47<=J47,\"A TIEMPO\",\"FUERA DE TIEMPO\"))))","v":"A TIEMPO"},{"$f":"IF(H47=\"\",\"\",NETWORKDAYS(C47+1,H47,DiasNOLaborables))","v":14},{"$f":"IF(NETWORKDAYS(J47+1,H47,DiasNOLaborables)<=0,\"\",NETWORKDAYS(J47+1,H47,DiasNOLaborables))","v":""},null,null,{"$f":"IFERROR(VLOOKUP(E47,$X$51:$Y$64,2),\"\")","v":20},null,null,null,null,null,null,null,"SUBDIRECCIÓN DE HIDROLOGÍA",null,null,null,null,"2021-05-15"]
[37,20219050114972,"2021-10-02","MODULO CONTACTENOS","SOLICITUD DE INFORMACIÓN Y DOCUMENTOS","ADMINISTRATIVA","GRUPO DE ADMINISTRACIÓN Y DESARROLLO DEL TALENTO HUMANO","2021-10-06","CORREO ELECTRÓNICO",{"$f":"IFERROR(WORKDAY(C48,P48,DiasNOLaborables),\"\")","v":"2021-11-02"},{"$f":"+IF(C48=\"\",\"\",IF(H48=\"\",\"SIN RESPUESTA\",(IF(H48<=J48,\"A TIEMPO\",\"FUERA DE TIEMPO\"))))","v":"A TIEMPO"},{"$f":"IF(H48=\"\",\"\",NETWORKDAYS(C48+1,H48,DiasNOLaborables))","v":3},{"$f":"IF(NETWORKDAYS(J48+1,H48,DiasNOLaborables)<=0,\"\",NETWORKDAYS(J48+1,H48,DiasNOLaborables))","v":""},null,null,{"$f":"IFERROR(VLOOKUP(E48,$X$51:$Y$64,2),\"\")","v":20},null,null,null,null,null,null,null,"SUBDIRECCIÓN DE METEOROLOGÍA",null,null,null,null,"2021-05-16"]
[38,20219050115072,"2021-10-03","MODULO CONTACTENOS","SOLICITUD DE INFORMACIÓN Y DOCUMENTOS","ADMINISTRATIVA","GRUPO DE TESORERÍA","2021-10-05","CORREO ELECTRÓNICO",{"$f":"IFERROR(WORKDAY(C49,P49,DiasNOLaborables),\"\")","v":"2021-11-02"},{"$f":"+IF(C49=\"\",\"\",IF(H49=\"\",\"SIN RESPUESTA\",(IF(H49<=J49,\"A TIEMPO\",\"FUERA DE TIEMPO\"))))","v":"A TIEMPO"},{"$f":"IF(H49=\"\",\"\",NETWORKDAYS(C49+1,H49,DiasNOLaborables))","v":2},{"$f":"IF(NETWORKDAYS(J49+1,H49,DiasNOLaborables)<=0,\"\",NETWORKDAYS(J49+1,H49,DiasNOLaborables))","v":""},null,null,{"$f":"IFERROR(VLOOKUP(E49,$X$51:$Y$64,2),\"\")","v":20},null,null,null,null,null,null,null,null,null,null,null,null,"2021-05-17"]
[39,20219050115082,"2021-10-03","MODULO CONTACTENOS","SOLICITUD DE INFORMACIÓN Y DOCUMENTOS","SIA","SUBDIRECCIÓN DE ECOSISTEMAS E INFORMACIÓN AMBIENTAL","2021-10-13","CORREO ELECTRÓNICO",{"$f":"IFERROR(WORKDAY(C50,P50,DiasNOLaborables),\"\")","v":"2021-11-02"},{"$f":"+IF(C50=\"\",\"\",IF(H50=\"\",\"SIN RESPUESTA\",(IF(H50<=J50,\"A TIEMPO\",\"FUERA DE TIEMPO\"))))","v":"A TIEMPO"},{"$f":"IF(H50=\"\",\"\",NETWORKDAYS(C50+1,H50,DiasNOLaborables))","v":8},{"$f":"IF(NETWORKDAYS(J50+1,H50,DiasNOLaborables)<=0,\"\",NETWORKDAYS(J50+1,H50,DiasNOLaborables))","v":""},null,null,{"$f":"IFERROR(VLOOKUP(E50,$X$51:$Y$64,2),\"\")","v":20},null,null,null,null,null,null,null,"TIPO DE REQUERIMIENTO","Término ",null,null,null,"2021-05-22"]
[40,20219050115012,"2021-10-03","MODULO CONTACTENOS","SOLICITUD DE INFORMACIÓN Y DOCUMENTOS","SOLICITUD DE INFORMACIÓN HIDROMETEOROLÓGICA","GRUPO DE SERVICIO AL CIUDADANO ","2021-10-21","CORREO ELECTRÓNICO",{"$f":"IFERROR(WORKDAY(C51,P51,DiasNOLaborables),\"\")","v":"2021-11-02"},{"$f":"+IF(C51=\"\",\"\",IF(H51=\"\",\"SIN RESPUESTA\",(IF(H51<=J51,\"A TIEMPO\",\"FUERA DE TIEMPO\"))))","v":"A TIEMPO"},{"$f":"IF(H51=\"\",\"\",NETWORKDAYS(C51+1,H51,DiasNOLaborables))","v":13},{"$f":"IF(NETWORKDAYS(J51+1,H51,DiasNOLaborables)<=0,\"\",NETWORKDAYS(J51+1,H51,DiasNOLaborables))","v":""},null,null,{"$f":"IFERROR(VLOOKUP(E51,$X$51:$Y$64,2),\"\")","v":20},null,null,null,null,null,null,null,"AGRADECIMIENTO/FELICITACION",15,null,null,null,"2021-05-23"]
[41,20219050115032,"2021-10-03","MODULO CONTACTENOS","SOLICITUD DE INFORMACIÓN Y DOCUMENTOS","SOLICITUD DE INFORMACIÓN HIDROMETEOROLÓGICA","GRUPO DE SERVICIO AL CIUDADANO ","2021-10-21","CORREO ELECTRÓNICO",{"$f":"IFERROR(WORKDAY(C52,P52,DiasNOLaborables),\"\")","v":"2021-11-02"},{"$f":"+IF(C52=\"\",\"\",IF(H52=\"\",\"SIN RESPUESTA\",(IF(H52<=J52,\"A TIEMPO\",\"FUERA DE TIEMPO\"))))","v":"A TIEMPO"},{"$f":"IF(H52=\"\",\"\",NETWORKDAYS(C52+1,H52,DiasNOLaborables))","v":13},{"$f":"IF(NETWORKDAYS(J52+1,H52,DiasNOLaborables)<=0,\"\",NETWORKDAYS(J52+1,H52,DiasNOLaborables))","v":""},null,null,{"$f":"IFERROR(VLOOKUP(E52,$X$51:$Y$64,2),\"\")","v":20},null,null,null,null,null,null,null,"CERTIFICACIONES DE TIEMPO, CLIMA Y EVENTOS HIDROLÓGICOS",35,null,null,null,"2021-05-29"]
[42,20219050115042,"2021-10-03","MODULO CONTACTENOS","SOLICITUD DE INFORMACIÓN Y DOCUMENTOS","SOLICITUD DE INFORMACIÓN HIDROMETEOROLÓGICA","GRUPO DE SERVICIO AL CIUDADANO ","2021-10-21","CORREO ELECTRÓNICO",{"$f":"IFERROR(WORKDAY(C53,P53,DiasNOLaborables),\"\")","v":"2021-11-02"},{"$f":"+IF(C53=\"\",\"\",IF(H53=\"\",\"SIN RESPUESTA\",(IF(H53<=J53,\"A TIEMPO\",\"FUERA DE TIEMPO\"))))","v":"A TIEMPO"},{"$f":"IF(H53=\"\",\"\",NETWORKDAYS(C53+1,H53,DiasNOLaborables))","v":13},{"$f":"IF(NETWORKDAYS(J53+1,H53,DiasNOLaborables)<=0,\"\",NETWORKDAYS(J53+1,H53,DiasNOLaborables))","v":""},null,null,{"$f":"IFERROR(VLOOKUP(E53,$X$51:$Y$64,2),\"\")","v":20},null,null,null,null,null,null,null,"CONSULTA",35,null,null,null,"2021-05-30"]
[43,20219050115052,"2021-10-03","MODULO CONTACTENOS","SOLICITUD DE INFORMACIÓN Y DOCUMENTOS","SOLICITUD DE INFORMACIÓN HIDROMETEOROLÓGICA","GRUPO DE SERVICIO AL CIUDADANO ","2021-10-21","CORREO ELECTRÓNICO",{"$f":"IFERROR(WORKDAY(C54,P54,DiasNOLaborables),\"\")","v":"2021-11-02"},{"$f":"+IF(C54=\"\",\"\",IF(H54=\"\",\"SIN RESPUESTA\",(IF(H54<=J54,\"A TIEMPO\",\"FUERA DE TIEMPO\"))))","v":"A TIEMPO"},{"$f":"IF(H54=\"\",\"\",NETWORKDAYS(C54+1,H54,DiasNOLaborables))","v":13},{"$f":"IF(NETWORKDAYS(J54+1,H54,DiasNOLaborables)<=0,\"\",NETWORKDAYS(J54+1,H54,DiasNOLaborables))","v":""},null,null,{"$f":"IFERROR(VLOOKUP(E54,$X$51:$Y$64,2),\"\")","v":20},null,null,null,null,null,null,null,"DENUNCIA",15,null,null,null,"2021-06-05"]
[44,20219050115702,"2021-10-04","MODULO CONTACTENOS","SOLICITUD DE INFORMACIÓN Y DOCUMENTOS","SOLICITUD DE INFORMACIÓN HIDROMETEOROLÓGICA","GRUPO DE SERVICIO AL CIUDADANO ","2021-10-23","CORREO ELECTRÓNICO",{"$f":"IFERROR(WORKDAY(C55,P55,DiasNOLaborables),\"\")","v":"2021-11-03"},{"$f":"+IF(C55=\"\",\"\",IF(H55=\"\",\"SIN RESPUESTA\",(IF(H55<=J55,\"A TIEMPO\",\"FUERA DE TIEMPO\"))))","v":"A TIEMPO"},{"$f":"IF(H55=\"\",\"\",NETWORKDAYS(C55+1,H55,DiasNOLaborables))","v":13},{"$f":"IF(NETWORKDAYS(J55+1,H55,DiasNOLaborables)<=0,\"\",NETWORKDAYS(J55+1,H55,DiasNOLaborables))","v":""},null,null,{"$f":"IFERROR(VLOOKUP(E55,$X$51:$Y$64,2),\"\")","v":20},null,null,null,null,null,null,null,"PETICIÓN",30,null,null,null,"2021-06-06"]
[45,20219050115712,"2021-10-04","MODULO CONTACTENOS","SOLICITUD DE INFORMACIÓN Y DOCUMENTOS","SOLICITUD DE INFORMACIÓN HIDROMETEOROLÓGICA","GRUPO DE SERVICIO AL CIUDADANO ","2021-10-23","CORREO ELECTRÓNICO",{"$f":"IFERROR(WORKDAY(C56,P56,DiasNOLaborables),\"\")","v":"2021-11-03"},{"$f":"+IF(C56=\"\",\"\",IF(H56=\"\",\"SIN RESPUESTA\",(IF(H56<=J56,\"A TIEMPO\",\"FUERA DE TIEMPO\"))))","v":"A TIEMPO"},{"$f":"IF(H56=\"\",\"\",NETWORKDAYS(C56+1,H56,DiasNOLaborables))","v":13},{"$f":"IF(NETWORKDAYS(J56+1,H56,DiasNOLaborables)<=0,\"\",NETWORKDAYS(J56+1,H56,DiasNOLaborables))","v":""},null,null,{"$f":"IFERROR(VLOOKUP(E56,$X$51:$Y$64,2),\"\")","v":20},null,null,null,null,null,null,null,"PETICIÓN ENTRE AUTORIDADES",10,null,null,null,"2021-06-07"]
[46,20219050115092,"2021-10-04","MODULO CONTACTENOS","SOLICITUD DE INFORMACIÓN Y DOCUMENTOS","SOLICITUD DE INFORMACIÓN HIDROMETEOROLÓGICA","GRUPO DE SERVICIO AL CIUDADANO ","2021-10-07","CORREO ELECTRÓNICO",{"$f":"IFERROR(WORKDAY(C57,P57,DiasNOLaborables),\"\")","v":"2021-11-03"},{"$f":"+IF(C57=\"\",\"\",IF(H57=\"\",\"SIN RESPUESTA\",(IF(H57<=J57,\"A TIEMPO\",\"FUERA DE TIEMPO\"))))","v":"A TIEMPO"},{"$f":"IF(H57=\"\",\"\",NETWORKDAYS(C57+1,H57,DiasNOLaborables))","v":3},{"$f":"IF(NETWORKDAYS(J57+1,H57,DiasNOLaborables)<=0,\"\",NETWORKDAYS(J57+1,H57,DiasNOLaborables))","v":""},null,null,{"$f":"IFERROR(VLOOKUP(E57,$X$51:$Y$64,2),\"\")","v":20},null,null,null,null,null,null,null,"PETICION VERBAL",15,null,null,null,"2021-06-12"]
[47,20219050115102,"2021-10-04","MODULO CONTACTENOS","SOLICITUD DE INFORMACIÓN Y DOCUMENTOS","SOLICITUD DE INFORMACIÓN HIDROMETEOROLÓGICA","GRUPO DE SERVICIO AL CIUDADANO ","2021-10-07","CORREO ELECTRÓNICO",{"$f":"IFERROR(WORKDAY(C58,P58,DiasNOLaborables),\"\")","v":"2021-11-03"},{"$f":"+IF(C58=\"\",\"\",IF(H58=\"\",\"SIN RESPUESTA\",(IF(H58<=J58,\"A TIEMPO\",\"FUERA DE TIEMPO\"))))","v":"A TIEMPO"},{"$f":"IF(H58=\"\",\"\",NETWORKDAYS(C58+1,H58,DiasNOLaborables))","v":3},{"$f":"IF(NETWORKDAYS(J58+1,H58,DiasNOLaborables)<=0,\"\",NETWORKDAYS(J58+1,H58,DiasNOLaborables))","v":""},null,null,{"$f":"IFERROR(VLOOKUP(E58,$X$51:$Y$64,2),\"\")","v":20},null,null,null,null,null,null,null,"QUEJA",15,null,null,null,"2021-06-13"]
[48,20219050115112,"2021-10-04","MODULO CONTACTENOS","SOLICITUD DE INFORMACIÓN Y DOCUMENTOS","SOLICITUD DE INFORMACIÓN HIDROMETEOROLÓGICA","GRUPO DE SERVICIO AL CIUDADANO ","2021-10-07","CORREO ELECTRÓNICO",{"$f":"IFERROR(WORKDAY(C59,P59,DiasNOLaborables),\"\")","v":"2021-11-03"},{"$f":"+IF(C59=\"\",\"\",IF(H59=\"\",\"SIN RESPUESTA\",(IF(H59<=J59,\"A TIEMPO\",\"FUERA DE TIEMPO\"))))","v":"A TIEMPO"},{"$f":"IF(H59=\"\",\"\",NETWORKDAYS(C59+1,H59,DiasNOLaborables))","v":3},{"$f":"IF(NETWORKDAYS(J59+1,H59,DiasNOLaborables)<=0,\"\",NETWORKDAYS(J59+1,H59,DiasNOLaborables))","v":""},null,null,{"$f":"IFERROR(VLOOKUP(E59,$X$51:$Y$64,2),\"\")","v":20},null,null,null,null,null,null,null,"RECLAMO",15,null,null,null,"2021-06-14"]
[49,20219050115152,"2021-10-04","MODULO CONTACTENOS","SOLICITUD DE INFORMACIÓN Y DOCUMENTOS","SOLICITUD DE INFORMACIÓN HIDROMETEOROLÓGICA","GRUPO DE SERVICIO AL CIUDADANO ","2021-10-07","CORREO ELECTRÓNICO",{"$f":"IFERROR(WORKDAY(C60,P60,DiasNOLaborables),\"\")","v":"2021-11-03"},{"$f":"+IF(C60=\"\",\"\",IF(H60=\"\",\"SIN RESPUESTA\",(IF(H60<=J60,\"A TIEMPO\",\"FUERA DE TIEMPO\"))))","v":"A TIEMPO"},{"$f":"IF(H60=\"\",\"\",NETWORKDAYS(C60+1,H60,DiasNOLaborables))","v":3},{"$f":"IF(NETWORKDAYS(J60+1,H60,DiasNOLaborables)<=0,\"\",NETWORKDAYS(J60+1,H60,DiasNOLaborables))","v":""},null,null,{"$f":"IFERROR(VLOOKUP(E60,$X$51:$Y$64,2),\"\")","v":20},null,null,null,null,null,null,null,"REMISIÓN POR COMPETENCIA",5,null,null,null,"2021-06-19"]
[50,20219050115162,"2021-10-04","MODULO CONTACTENOS","SOLICITUD DE INFORMACIÓN Y DOCUMENTOS","SOLICITUD DE INFORMACIÓN HIDROMETEOROLÓGICA","GRUPO DE SERVICIO AL CIUDADANO ","2021-10-07","CORREO ELECTRÓNICO",{"$f":"IFERROR(WORKDAY(C61,P61,DiasNOLaborables),\"\")","v":"2021-11-03"},{"$f":"+IF(C61=\"\",\"\",IF(H61=\"\",\"SIN RESPUESTA\",(IF(H61<=J61,\"A TIEMPO\",\"FUERA DE TIEMPO\"))))","v":"A TIEMPO"},{"$f":"IF(H61=\"\",\"\",NETWORKDAYS(C61+1,H61,DiasNOLaborables))","v":3},{"$f":"IF(NETWORKDAYS(J61+1,H61,DiasNOLaborables)<=0,\"\",NETWORKDAYS(J61+1,H61,DiasNOLaborables))","v":""},null,null,{"$f":"IFERROR(VLOOKUP(E61,$X$51:$Y$64,2),\"\")","v":20},null,null,null,null,null,null,null,"SOLICITUD CONGRESITAS",5,null,null,null,"2021-06-20"]
[51,20219050115212,"2021-10-04","MODULO CONTACTENOS","SOLICITUD DE INFORMACIÓN Y DOCUMENTOS","SOLICITUD DE INFORMACIÓN HIDROMETEOROLÓGICA","GRUPO DE SERVICIO AL CIUDADANO ","2021-10-07","CORREO ELECTRÓNICO",{"$f":"IFERROR(WORKDAY(C62,P62,DiasNOLaborables),\"\")","v":"2021-11-03"},{"$f":"+IF(C62=\"\",\"\",IF(H62=\"\",\"SIN RESPUESTA\",(IF(H62<=J62,\"A TIEMPO\",\"FUERA DE TIEMPO\"))))","v":"A TIEMPO"},{"$f":"IF(H62=\"\",\"\",NETWORKDAYS(C62+1,H62,DiasNOLaborables))","v":3},{"$f":"IF(NETWORKDAYS(J62+1,H62,DiasNOLaborables)<=0,\"\",NETWORKDAYS(J62+1,H62,DiasNOLaborables))","v":""},null,null,{"$f":"IFERROR(VLOOKUP(E62,$X$51:$Y$64,2),\"\")","v":20},null,null,null,null,null,null,null,"SOLICITUD DE INFORMACIÓN Y DOCUMENTOS",20,null,null,null,"2021-06-26"]
[52,20219050115352,"2021-10-04","MODULO CONTACTENOS","SOLICITUD DE INFORMACIÓN Y DOCUMENTOS","SOLICITUD DE INFORMACIÓN HIDROMETEOROLÓGICA","GRUPO DE SERVICIO AL CIUDADANO ","2021-10-07","CORREO ELECTRÓNICO",{"$f":"IFERROR(WORKDAY(C63,P63,DiasNOLaborables),\"\")","v":"2021-11-03"},{"$f":"+IF(C63=\"\",\"\",IF(H63=\"\",\"SIN RESPUESTA\",(IF(H63<=J63,\"A TIEMPO\",\"FUERA DE TIEMPO\"))))","v":"A TIEMPO"},{"$f":"IF(H63=\"\",\"\",NETWORKDAYS(C63+1,H63,DiasNOLaborables))","v":3},{"$f":"IF(NETWORKDAYS(J63+1,H63,DiasNOLaborables)<=0,\"\",NETWORKDAYS(J63+1,H63,DiasNOLaborables))","v":""},null,null,{"$f":"IFERROR(VLOOKUP(E63,$X$51:$Y$64,2),\"\")","v":20},null,null,null,null,null,null,null,"SOLICITUD JUDICIAL",5,null,null,null,"2021-06-27"]
[53,20219050115372,"2021-10-04","MODULO CONTACTENOS","SOLICITUD DE INFORMACIÓN Y DOCUMENTOS","SOLICITUD DE INFORMACIÓN HIDROMETEOROLÓGICA","GRUPO DE SERVICIO AL CIUDADANO ","2021-10-07","CORREO ELECTRÓNICO",{"$f":"IFERROR(WORKDAY(C64,P64,DiasNOLaborables),\"\")","v":"2021-11-03"},{"$f":"+IF(C64=\"\",\"\",IF(H64=\"\",\"SIN RESPUESTA\",(IF(H64<=J64,\"A TIEMPO\",\"FUERA DE TIEMPO\"))))","v":"A TIEMPO"},{"$f":"IF(H64=\"\",\"\",NETWORKDAYS(C64+1,H64,DiasNOLaborables))","v":3},{"$f":"IF(NETWORKDAYS(J64+1,H64,DiasNOLaborables)<=0,\"\",NETWORKDAYS(J64+1,H64,DiasNOLaborables))","v":""},null,null,{"$f":"IFERROR(VLOOKUP(E64,$X$51:$Y$64,2),\"\")","v":20},null,null,null,null,null,null,null,"SUGERENCIA",15,null,null,null,"2021-07-03"]
[54,20219050115412,"2021-10-04","MODULO CONTACTENOS","SOLICITUD DE INFORMACIÓN Y DOCUMENTOS","SOLICITUD DE INFORMACIÓN HIDROMETEOROLÓGICA","GRUPO DE SERVICIO AL CIUDADANO ","2021-10-08","CORREO ELECTRÓNICO",{"$f":"IFERROR(WORKDAY(C65,P65,DiasNOLaborables),\"\")","v":"2021-11-03"},{"$f":"+IF(C65=\"\",\"\",IF(H65=\"\",\"SIN RESPUESTA\",(IF(H65<=J65,\"A TIEMPO\",\"FUERA DE TIEMPO\"))))","v":"A TIEMPO"},{"$f":"IF(H65=\"\",\"\",NETWORKDAYS(C65+1,H65,DiasNOLaborables))","v":4},{"$f":"IF(NETWORKDAYS(J65+1,H65,DiasNOLaborables)<=0,\"\",NETWORKDAYS(J65+1,H65,DiasNOLaborables))","v":""},null,null,{"$f":"IFERROR(VLOOKUP(E65,$X$51:$Y$64,2),\"\")","v":20},null,null,null,null,null,null,null,null,null,null,null,null,"2021-07-04"]
[55,20219050115442,"2021-10-04","MODULO CONTACTENOS","SOLICITUD DE INFORMACIÓN Y DOCUMENTOS","SOLICITUD DE INFORMACIÓN HIDROMETEOROLÓGICA","GRUPO DE SERVICIO AL CIUDADANO ","2021-10-08","CORREO ELECTRÓNICO",{"$f":"IFERROR(WORKDAY(C66,P66,DiasNOLaborables),\"\")","v":"2021-11-03"},{"$f":"+IF(C66=\"\",\"\",IF(H66=\"\",\"SIN RESPUESTA\",(IF(H66<=J66,\"A TIEMPO\",\"FUERA DE TIEMPO\"))))","v":"A TIEMPO"},{"$f":"IF(H66=\"\",\"\",NETWORKDAYS(C66+1,H66,DiasNOLaborables))","v":4},{"$f":"IF(NETWORKDAYS(J66+1,H66,DiasNOLaborables)<=0,\"\",NETWORKDAYS(J66+1,H66,DiasNOLaborables))","v":""},null,null,{"$f":"IFERROR(VLOOKUP(E66,$X$51:$Y$64,2),\"\")","v":20},null,null,null,null,null,null,null,"PRODUCTO O SERVICIO",null,null,null,null,"2021-07-05"]
[56,20219050115502,"2021-10-04","MODULO CONTACTENOS","SOLICITUD DE INFORMACIÓN Y DOCUMENTOS","SOLICITUD DE INFORMACIÓN HIDROMETEOROLÓGICA","GRUPO DE SERVICIO AL CIUDADANO ","2021-10-08","CORREO ELECTRÓNICO",{"$f":"IFERROR(WORKDAY(C67,P67,DiasNOLaborables),\"\")","v":"2021-11-03"},{"$f":"+IF(C67=\"\",\"\",IF(H67=\"\",\"SIN RESPUESTA\",(IF(H67<=J67,\"A TIEMPO\",\"FUERA DE TIEMPO\"))))","v":"A TIEMPO"},{"$f":"IF(H67=\"\",\"\",NETWORKDAYS(C67+1,H67,DiasNOLaborables))","v":4},{"$f":"IF(NETWORKDAYS(J67+1,H67,DiasNOLaborables)<=0,\"\",NETWORKDAYS(J67+1,H67,DiasNOLaborables))","v":""},null,null,{"$f":"IFERROR(VLOOKUP(E67,$X$51:$Y$64,2),\"\")","v":20},null,null,null,null,null,null,null,"ACREDITACIÓN DE LABORATORIOS",null,null,null,null,"2021-07-10"]
[57,20219050115762,"2021-10-04","MODULO CONTACTENOS","SOLICITUD DE INFORMACIÓN Y DOCUMENTOS","SOLICITUD DE INFORMACIÓN HIDROMETEOROLÓGICA","GRUPO DE SERVICIO AL CIUDADANO ","2021-10-23","CORREO ELECTRÓNICO",{"$f":"IFERROR(WORKDAY(C68,P68,DiasNOLaborables),\"\")","v":"2021-11-03"},{"$f":"+IF(C68=\"\",\"\",IF(H68=\"\",\"SIN RESPUESTA\",(IF(H68<=J68,\"A TIEMPO\",\"FUERA DE TIEMPO\"))))","v":"A TIEMPO"},{"$f":"IF(H68=\"\",\"\",NETWORKDAYS(C68+1,H68,DiasNOLaborables))","v":13},{"$f":"IF(NETWORKDAYS(J68+1,H68,DiasNOLaborables)<=0,\"\",NETWORKDAYS(J68+1,H68,DiasNOLaborables))","v":""},null,null,{"$f":"IFERROR(VLOOKUP(E68,$X$51:$Y$64,2),\"\")","v":20},null,null,null,null,null,null,null,"ADMINISTRATIVA",null,null,null,null,"2021-07-11"]
[58,20219050115822,"2021-10-04","MODULO CONTACTENOS","SOLICITUD DE INFORMACIÓN Y DOCUMENTOS","SOLICITUD DE INFORMACIÓN HIDROMETEOROLÓGICA","GRUPO DE SERVICIO AL CIUDADANO ","2021-10-23","CORREO ELECTRÓNICO",{"$f":"IFERROR(WORKDAY(C69,P69,DiasNOLaborables),\"\")","v":"2021-11-03"},{"$f":"+IF(C69=\"\",\"\",IF(H69=\"\",\"SIN RESPUESTA\",(IF(H69<=J69,\"A TIEMPO\",\"FUERA DE TIEMPO\"))))","v":"A TIEMPO"},{"$f":"IF(H69=\"\",\"\",NETWORKDAYS(C69+1,H69,DiasNOLaborables))","v":13},{"$f":"IF(NETWORKDAYS(J69+1,H69,DiasNOLaborables)<=0,\"\",NETWORKDAYS(J69+1,H69,DiasNOLaborables))","v":""},null,null,{"$f":"IFERROR(VLOOKUP(E69,$X$51:$Y$64,2),\"\")","v":20},null,null,null,null,null,null,null,"AGUAS SUBTERRANEAS",null,null,null,null,"2021-07-17"]
[59,20219050115852,"2021-10-04","MODULO CONTACTENOS","SOLICITUD DE INFORMACIÓN Y DOCUMENTOS","SOLICITUD DE INFORMACIÓN HIDROMETEOROLÓGICA","GRUPO DE SERVICIO AL CIUDADANO ","2021-10-23","CORREO ELECTRÓNICO",{"$f":"IFERROR(WORKDAY(C70,P70,DiasNOLaborables),\"\")","v":"2021-11-03"},{"$f":"+IF(C70=\"\",\"\",IF(H70=\"\",\"SIN RESPUESTA\",(IF(H70<=J70,\"A TIEMPO\",\"FUERA DE TIEMPO\"))))","v":"A TIEMPO"},{"$f":"IF(H70=\"\",\"\",NETWORKDAYS(C70+1,H70,DiasNOLaborables))","v":13},{"$f":"IF(NETWORKDAYS(J70+1,H70,DiasNOLaborables)<=0,\"\",NETWORKDAYS(J70+1,H70,DiasNOLaborables))","v":""},null,null,{"$f":"IFERROR(VLOOKUP(E70,$X$51:$Y$64,2),\"\")","v":20},null,null,null,null,null,null,null,"ASESORÍAS Y CHARLAS",null,null,null,null,"2021-07-18"]
[60,20219050115262,"2021-10-04","MODULO CONTACTENOS","SOLICITUD DE INFORMACIÓN Y DOCUMENTOS","CLIMATOLOGÍA","SUBDIRECCIÓN DE METEOROLOGÍA","2021-10-06","CORREO ELECTRÓNICO",{"$f":"IFERROR(WORKDAY(C71,P71,DiasNOLaborables),\"\")","v":"2021-11-03"},{"$f":"+IF(C71=\"\",\"\",IF(H71=\"\",\"SIN RESPUESTA\",(IF(H71<=J71,\"A TIEMPO\",\"FUERA DE TIEMPO\"))))","v":"A TIEMPO"},{"$f":"IF(H71=\"\",\"\",NETWORKDAYS(C71+1,H71,DiasNOLaborables))","v":2},{"$f":"IF(NETWORKDAYS(J71+1,H71,DiasNOLaborables)<=0,\"\",NETWORKDAYS(J71+1,H71,DiasNOLaborables))","v":""},null,null,{"$f":"IFERROR(VLOOKUP(E71,$X$51:$Y$64,2),\"\")","v":20},null,null,null,null,null,null,null,"BOSQUES",null,null,null,null,"2021-07-20"]
[61,20219050115272,"2021-10-04","MODULO CONTACTENOS","SOLICITUD DE INFORMACIÓN Y DOCUMENTOS","SIA","SUBDIRECCIÓN DE ECOSISTEMAS E INFORMACIÓN AMBIENTAL","2021-10-13","CORREO ELECTRÓNICO",{"$f":"IFERROR(WORKDAY(C72,P72,DiasNOLaborables),\"\")","v":"2021-11-03"},{"$f":"+IF(C72=\"\",\"\",IF(H72=\"\",\"SIN RESPUESTA\",(IF(H72<=J72,\"A TIEMPO\",\"FUERA DE TIEMPO\"))))","v":"A TIEMPO"},{"$f":"IF(H72=\"\",\"\",NETWORKDAYS(C72+1,H72,DiasNOLaborables))","v":7},{"$f":"IF(NETWORKDAYS(J72+1,H72,DiasNOLaborables)<=0,\"\",NETWORKDAYS(J72+1,H72,DiasNOLaborables))","v":""},null,null,{"$f":"IFERROR(VLOOKUP(E72,$X$51:$Y$64,2),\"\")","v":20},null,null,null,null,null,null,null,"CAMBIO CLIMÁTICO",null,null,null,null,"2021-07-24"]
[62,20219050115382,"2021-10-04","MODULO CONTACTENOS","SOLICITUD DE INFORMACIÓN Y DOCUMENTOS","BOSQUES","SUBDIRECCIÓN DE ECOSISTEMAS E INFORMACIÓN AMBIENTAL","2021-10-26","CORREO ELECTRÓNICO",{"$f":"IFERROR(WORKDAY(C73,P73,DiasNOLaborables),\"\")","v":"2021-11-03"},{"$f":"+IF(C73=\"\",\"\",IF(H73=\"\",\"SIN RESPUESTA\",(IF(H73<=J73,\"A TIEMPO\",\"FUERA DE TIEMPO\"))))","v":"A TIEMPO"},{"$f":"IF(H73=\"\",\"\",NETWORKDAYS(C73+1,H73,DiasNOLaborables))","v":15},{"$f":"IF(NETWORKDAYS(J73+1,H73,DiasNOLaborables)<=0,\"\",NETWORKDAYS(J73+1,H73,DiasNOLaborables))","v":""},null,null,{"$f":"IFERROR(VLOOKUP(E73,$X$51:$Y$64,2),\"\")","v":20},null,null,null,null,null,null,null,"CERTIFICACIONES DE TIEMPO Y CLIMA",null,null,null,null,"2021-07-25"]
[63,20219050115452,"2021-10-04","MODULO CONTACTENOS","SOLICITUD DE INFORMACIÓN Y DOCUMENTOS","ADMINISTRATIVA","GRUPO DE TESORERÍA","2021-10-07","CORREO ELECTRÓNICO",{"$f":"IFERROR(WORKDAY(C74,P74,DiasNOLaborables),\"\")","v":"2021-11-03"},{"$f":"+IF(C74=\"\",\"\",IF(H74=\"\",\"SIN RESPUESTA\",(IF(H74<=J74,\"A TIEMPO\",\"FUERA DE TIEMPO\"))))","v":"A TIEMPO"},{"$f":"IF(H74=\"\",\"\",NETWORKDAYS([5]Hoja1!C72+1,[5]Hoja1!P72,DiasNOLaborables))","v":10},{"$f":"IF(NETWORKDAYS(J74+1,H74,DiasNOLaborables)<=0,\"\",NETWORKDAYS(J74+1,H74,DiasNOLaborables))","v":""},null,null,{"$f":"IFERROR(VLOOKUP(E74,$X$51:$Y$64,2),\"\")","v":20},null,null,null,null,null,null,null,"CERTIFICACIONES HIDROLOGICAS",null,null,null,null,"2021-07-31"]
[64,20219050115462,"2021-10-04","MODULO CONTACTENOS","PETICIÓN","ACREDITACIÓN DE LABORATORIOS","SUBDIRECCIÓN DE ESTUDIOS AMBIENTALES","2021-10-21","CORREO ELECTRÓNICO",{"$f":"IFERROR(WORKDAY(C75,P75,DiasNOLaborables),\"\")","v":"2021-11-18"},{"$f":"+IF(C75=\"\",\"\",IF(H75=\"\",\"SIN RESPUESTA\",(IF(H75<=J75,\"A TIEMPO\",\"FUERA DE TIEMPO\"))))","v":"A TIEMPO"},{"$f":"IF(H75=\"\",\"\",NETWORKDAYS(C75+1,H75,DiasNOLaborables))","v":12},{"$f":"IF(NETWORKDAYS(J75+1,H75,DiasNOLaborables)<=0,\"\",NETWORKDAYS(J75+1,H75,DiasNOLaborables))","v":""},null,null,{"$f":"IFERROR(VLOOKUP(E75,$X$51:$Y$64,2),\"\")","v":30},null,null,null,null,null,null,null,"CLIMATOLOGÍA",null,null,null,null,"2021-08-01"]
[65,20219050115772,"2021-10-04","MODULO CONTACTENOS","SOLICITUD DE INFORMACIÓN Y DOCUMENTOS","BOSQUES","SUBDIRECCIÓN DE ECOSISTEMAS E INFORMACIÓN AMBIENTAL","2021-10-12","CORREO ELECTRÓNICO",{"$f":"IFERROR(WORKDAY(C76,P76,DiasNOLaborables),\"\")","v":"2021-11-03"},{"$f":"+IF(C76=\"\",\"\",IF(H76=\"\",\"SIN RESPUESTA\",(IF(H76<=J76,\"A TIEMPO\",\"FUERA DE TIEMPO\"))))","v":"A TIEMPO"},{"$f":"IF(H76=\"\",\"\",NETWORKDAYS(C76+1,H76,DiasNOLaborables))","v":6},{"$f":"IF(NETWORKDAYS(J76+1,H76,DiasNOLaborables)<=0,\"\",NETWORKDAYS(J76+1,H76,DiasNOLaborables))","v":""},null,null,{"$f":"IFERROR(VLOOKUP(E76,$X$51:$Y$64,2),\"\")","v":20},null,null,null,null,null,null,null,"ERA","EVALUACIÓN REGIONAL DEL AGUA",null,null,null,"2021-08-07"]
[66,20219050115842,"2021-10-04","MODULO CONTACTENOS","SOLICITUD DE INFORMACIÓN Y DOCUMENTOS","BOSQUES","SUBDIRECCIÓN DE ECOSISTEMAS E INFORMACIÓN AMBIENTAL","2021-10-19","CORREO ELECTRÓNICO",{"$f":"IFERROR(WORKDAY(C77,P77,DiasNOLaborables),\"\")","v":"2021-11-03"},{"$f":"+IF(C77=\"\",\"\",IF(H77=\"\",\"SIN RESPUESTA\",(IF(H77<=J77,\"A TIEMPO\",\"FUERA DE TIEMPO\"))))","v":"A TIEMPO"},{"$f":"IF(H77=\"\",\"\",NETWORKDAYS(C77+1,H77,DiasNOLaborables))","v":10},{"$f":"IF(NETWORKDAYS(J77+1,H77,DiasNOLaborables)<=0,\"\",NETWORKDAYS(J77+1,H77,DiasNOLaborables))","v":""},null,null,{"$f":"IFERROR(VLOOKUP(E77,$X$51:$Y$64,2),\"\")","v":20},null,null,null,null,null,null,null,"ESTUDIO NACIONAL DEL AGUA",null,null,null,null,"2021-08-08"]
[{"$f":"IF(B78<>\"\",A77+1,\"\")","v":67},20219050115872,"2021-10-04","MODULO CONTACTENOS","SOLICITUD DE INFORMACIÓN Y DOCUMENTOS","SIRH","SUBDIRECCIÓN DE ECOSISTEMAS E INFORMACIÓN AMBIENTAL","2021-10-12","CORREO ELECTRÓNICO",{"$f":"IFERROR(WORKDAY(C78,P78,DiasNOLaborables),\"\")","v":"2021-11-03"},{"$f":"+IF(C78=\"\",\"\",IF(H78=\"\",\"SIN RESPUESTA\",(IF(H78<=J78,\"A TIEMPO\",\"FUERA DE TIEMPO\"))))","v":"A TIEMPO"},{"$f":"IF(H78=\"\",\"\",NETWORKDAYS(C78+1,H78,DiasNOLaborables))","v":6},{"$f":"IF(NETWORKDAYS(J78+1,H78,DiasNOLaborables)<=0,\"\",NETWORKDAYS(J78+1,H78,DiasNOLaborables))","v":""},null,null,{"$f":"IFERROR(VLOOKUP(E78,$X$51:$Y$64,2),\"\")","v":20},null,null,null,null,null,null,null,"INFORMES AMBIENTALES",null,null,null,null,"2021-08-14"]
[68,20219050115922,"2021-10-04","MODULO CONTACTENOS","SOLICITUD DE INFORMACIÓN Y DOCUMENTOS","BOSQUES","SUBDIRECCIÓN DE ECOSISTEMAS E INFORMACIÓN AMBIENTAL","2021-10-19","CORREO ELECTRÓNICO",{"$f":"IFERROR(WORKDAY(C79,P79,DiasNOLaborables),\"\")","v":"2021-11-03"},{"$f":"+IF(C79=\"\",\"\",IF(H79=\"\",\"SIN RESPUESTA\",(IF(H79<=J79,\"A TIEMPO\",\"FUERA DE TIEMPO\"))))","v":"A TIEMPO"},{"$f":"IF(H79=\"\",\"\",NETWORKDAYS(C79+1,H79,DiasNOLaborables))","v":10},{"$f":"IF(NETWORKDAYS(J79+1,H79,DiasNOLaborables)<=0,\"\",NETWORKDAYS(J79+1,H79,DiasNOLaborables))","v":""},null,null,{"$f":"IFERROR(VLOOKUP(E79,$X$51:$Y$64,2),\"\")","v":20},null,null,null,null,null,null,null,"JURIDICO",null,null,null,null,"2021-08-15"]
[69,20219050115122,"2021-10-04","CORREO ELECTRÓNICO","SOLICITUD DE INFORMACIÓN Y DOCUMENTOS","INFORMES AMBIENTALES","SUBDIRECCIÓN DE ESTUDIOS AMBIENTALES","2021-10-09","CORREO ELECTRÓNICO",{"$f":"IFERROR(WORKDAY(C80,P80,DiasNOLaborables),\"\")","v":"2021-11-03"},{"$f":"+IF(C80=\"\",\"\",IF(H80=\"\",\"SIN RESPUESTA\",(IF(H80<=J80,\"A TIEMPO\",\"FUERA DE TIEMPO\"))))","v":"A TIEMPO"},{"$f":"IF(H80=\"\",\"\",NETWORKDAYS(C80+1,H80,DiasNOLaborables))","v":4},{"$f":"IF(NETWORKDAYS(J80+1,H80,DiasNOLaborables)<=0,\"\",NETWORKDAYS(J80+1,H80,DiasNOLaborables))","v":""},null,null,{"$f":"IFERROR(VLOOKUP(E80,$X$51:$Y$64,2),\"\")","v":20},null,null,null,null,null,null,null,"LABORATORIO DE CALIDAD AMBIENTAL",null,null,null,null,"2021-08-16"]
[70,20219050115132,"2021-10-04","CORREO ELECTRÓNICO","SOLICITUD DE INFORMACIÓN Y DOCUMENTOS","INFORMES AMBIENTALES","SUBDIRECCIÓN DE ESTUDIOS AMBIENTALES","2021-10-01","CORREO ELECTRÓNICO",{"$f":"IFERROR(WORKDAY(C81,P81,DiasNOLaborables),\"\")","v":"2021-11-03"},{"$f":"+IF(C81=\"\",\"\",IF(H81=\"\",\"SIN RESPUESTA\",(IF(H81<=J81,\"A TIEMPO\",\"FUERA DE TIEMPO\"))))","v":"A TIEMPO"},{"$f":"IF(H81=\"\",\"\",NETWORKDAYS(C81+1,H81,DiasNOLaborables))","v":-3},{"$f":"IF(NETWORKDAYS(J81+1,H81,DiasNOLaborables)<=0,\"\",NETWORKDAYS(J81+1,H81,DiasNOLaborables))","v":""},null,null,{"$f":"IFERROR(VLOOKUP(E81,$X$51:$Y$64,2),\"\")","v":20},null,null,null,null,null,null,null,"MEDIOS DE COMUNICACIÓN",null,null,null,null,"2021-08-21"]
[71,20219050115142,"2021-10-04","CORREO ELECTRÓNICO","SOLICITUD DE INFORMACIÓN Y DOCUMENTOS","INFORMES AMBIENTALES","SUBDIRECCIÓN DE ESTUDIOS AMBIENTALES","2021-10-01","CORREO ELECTRÓNICO",{"$f":"IFERROR(WORKDAY(C82,P82,DiasNOLaborables),\"\")","v":"2021-11-03"},{"$f":"+IF(C82=\"\",\"\",IF(H82=\"\",\"SIN RESPUESTA\",(IF(H82<=J82,\"A TIEMPO\",\"FUERA DE TIEMPO\"))))","v":"A TIEMPO"},{"$f":"IF(H82=\"\",\"\",NETWORKDAYS(C82+1,H82,DiasNOLaborables))","v":-3},{"$f":"IF(NETWORKDAYS(J82+1,H82,DiasNOLaborables)<=0,\"\",NETWORKDAYS(J82+1,H82,DiasNOLaborables))","v":""},null,null,{"$f":"IFERROR(VLOOKUP(E82,$X$51:$Y$64,2),\"\")","v":20},null,null,null,null,null,null,null,"METEOROLOGÍA AERONAÚTICA",null,null,null,null,"2021-08-22"]
[72,20219050115172,"2021-10-04","CORREO ELECTRÓNICO","PETICIÓN","JURIDICO","OFICINA ASESORA JURÍDICA","2021-10-26","CORREO ELECTRÓNICO",{"$f":"IFERROR(WORKDAY(C83,P83,DiasNOLaborables),\"\")","v":"2021-11-18"},{"$f":"+IF(C83=\"\",\"\",IF(H83=\"\",\"SIN RESPUESTA\",(IF(H83<=J83,\"A TIEMPO\",\"FUERA DE TIEMPO\"))))","v":"A TIEMPO"},{"$f":"IF(H83=\"\",\"\",NETWORKDAYS(C83+1,H83,DiasNOLaborables))","v":15},{"$f":"IF(NETWORKDAYS(J83+1,H83,DiasNOLaborables)<=0,\"\",NETWORKDAYS(J83+1,H83,DiasNOLaborables))","v":""},null,null,{"$f":"IFERROR(VLOOKUP(E83,$X$51:$Y$64,2),\"\")","v":30},null,null,null,null,null,null,null,"MODELACIÓN HIDROLÓGICA",null,null,null,null,"2021-08-28"]
[73,20219050115182,"2021-10-04","CORREO ELECTRÓNICO","SOLICITUD DE INFORMACIÓN Y DOCUMENTOS","INFORMES AMBIENTALES","SUBDIRECCIÓN DE ESTUDIOS AMBIENTALES","2021-10-18","CORREO ELECTRÓNICO",{"$f":"IFERROR(WORKDAY(C84,P84,DiasNOLaborables),\"\")","v":"2021-11-03"},{"$f":"+IF(C84=\"\",\"\",IF(H84=\"\",\"SIN RESPUESTA\",(IF(H84<=J84,\"A TIEMPO\",\"FUERA DE TIEMPO\"))))","v":"A TIEMPO"},{"$f":"IF(H84=\"\",\"\",NETWORKDAYS(C84+1,H84,DiasNOLaborables))","v":9},{"$f":"IF(NETWORKDAYS(J84+1,H84,DiasNOLaborables)<=0,\"\",NETWORKDAYS(J84+1,H84,DiasNOLaborables))","v":""},null,null,{"$f":"IFERROR(VLOOKUP(E84,$X$51:$Y$64,2),\"\")","v":20},null,null,null,null,null,null,null,"MODELAMIENTO METEOROLÓGICO",null,null,null,null,"2021-08-29"]
[74,20219050115232,"2021-10-04","CORREO ELECTRÓNICO","CERTIFICACIONES DE TIEMPO, CLIMA Y EVENTOS HIDROLÓGICOS","CERTIFICACIONES DE TIEMPO Y CLIMA","SUBDIRECCIÓN DE METEOROLOGÍA","2021-11-08","CORREO ELECTRÓNICO",{"$f":"IFERROR(WORKDAY(C85,P85,DiasNOLaborables),\"\")","v":"2021-11-25"},{"$f":"+IF(C85=\"\",\"\",IF(H85=\"\",\"SIN RESPUESTA\",(IF(H85<=J85,\"A TIEMPO\",\"FUERA DE TIEMPO\"))))","v":"A TIEMPO"},{"$f":"IF(H85=\"\",\"\",NETWORKDAYS(C85+1,H85,DiasNOLaborables))","v":23},{"$f":"IF(NETWORKDAYS(J85+1,H85,DiasNOLaborables)<=0,\"\",NETWORKDAYS(J85+1,H85,DiasNOLaborables))","v":""},null,null,{"$f":"IFERROR(VLOOKUP(E85,$X$51:$Y$64,2),\"\")","v":35},null,null,null,null,null,null,null,"OPERACIÓN DE REDES",null,null,null,null,"2021-09-04"]
[75,20219050115282,"2021-10-04","CORREO ELECTRÓNICO","CERTIFICACIONES DE TIEMPO, CLIMA Y EVENTOS HIDROLÓGICOS","CERTIFICACIONES DE TIEMPO Y CLIMA","SUBDIRECCIÓN DE METEOROLOGÍA","2021-10-21","CORREO ELECTRÓNICO",{"$f":"IFERROR(WORKDAY(C86,P86,DiasNOLaborables),\"\")","v":"2021-11-25"},{"$f":"+IF(C86=\"\",\"\",IF(H86=\"\",\"SIN RESPUESTA\",(IF(H86<=J86,\"A TIEMPO\",\"FUERA DE TIEMPO\"))))","v":"A TIEMPO"},{"$f":"IF(H86=\"\",\"\",NETWORKDAYS(C86+1,H86,DiasNOLaborables))","v":12},{"$f":"IF(NETWORKDAYS(J86+1,H86,DiasNOLaborables)<=0,\"\",NETWORKDAYS(J86+1,H86,DiasNOLaborables))","v":""},null,null,{"$f":"IFERROR(VLOOKUP(E86,$X$51:$Y$64,2),\"\")","v":35},null,null,null,null,null,null,null,"PRONÓSTICOS Y ALERTAS",null,null,null,null,"2021-09-05"]
[76,20219050115392,"2021-10-04","CORREO ELECTRÓNICO","SOLICITUD DE INFORMACIÓN Y DOCUMENTOS",null,"SUBDIRECCIÓN DE HIDROLOGÍA","2021-10-07","CORREO ELECTRÓNICO",{"$f":"IFERROR(WORKDAY(C87,P87,DiasNOLaborables),\"\")","v":"2021-11-03"},{"$f":"+IF(C87=\"\",\"\",IF(H87=\"\",\"SIN RESPUESTA\",(IF(H87<=J87,\"A TIEMPO\",\"FUERA DE TIEMPO\"))))","v":"A TIEMPO"},{"$f":"IF(H87=\"\",\"\",NETWORKDAYS(C87+1,H87,DiasNOLaborables))","v":3},{"$f":"IF(NETWORKDAYS(J87+1,H87,DiasNOLaborables)<=0,\"\",NETWORKDAYS(J87+1,H87,DiasNOLaborables))","v":""},null,null,{"$f":"IFERROR(VLOOKUP(E87,$X$51:$Y$64,2),\"\")","v":20},null,null,null,null,null,null,null,"REGISTROS AMBIENTALES",null,null,null,null,"2021-09-11"]
[77,20219050115402,"2021-10-04","CORREO ELECTRÓNICO","SOLICITUD DE INFORMACIÓN Y DOCUMENTOS","ADMINISTRATIVA","OFICINA DE INFORMÁTICA","2021-10-10","CORREO ELECTRÓNICO",{"$f":"IFERROR(WORKDAY(C88,P88,DiasNOLaborables),\"\")","v":"2021-11-03"},{"$f":"+IF(C88=\"\",\"\",IF(H88=\"\",\"SIN RESPUESTA\",(IF(H88<=J88,\"A TIEMPO\",\"FUERA DE TIEMPO\"))))","v":"A TIEMPO"},{"$f":"IF(H88=\"\",\"\",NETWORKDAYS(C88+1,H88,DiasNOLaborables))","v":4},{"$f":"IF(NETWORKDAYS(J88+1,H88,DiasNOLaborables)<=0,\"\",NETWORKDAYS(J88+1,H88,DiasNOLaborables))","v":""},null,null,{"$f":"IFERROR(VLOOKUP(E88,$X$51:$Y$64,2),\"\")","v":20},null,null,null,null,null,null,null,"SEDIMENTOS",null,null,null,null,"2021-09-12"]
[78,20219050115422,"2021-10-04","CORREO ELECTRÓNICO","SOLICITUD DE INFORMACIÓN Y DOCUMENTOS","SOLICITUD DE INFORMACIÓN HIDROMETEOROLÓGICA","SUBDIRECCIÓN DE HIDROLOGÍA","2021-10-12","CORREO ELECTRÓNICO",{"$f":"IFERROR(WORKDAY(C89,P89,DiasNOLaborables),\"\")","v":"2021-11-03"},{"$f":"+IF(C89=\"\",\"\",IF(H89=\"\",\"SIN RESPUESTA\",(IF(H89<=J89,\"A TIEMPO\",\"FUERA DE TIEMPO\"))))","v":"A TIEMPO"},{"$f":"IF(H89=\"\",\"\",NETWORKDAYS(C89+1,H89,DiasNOLaborables))","v":6},{"$f":"IF(NETWORKDAYS(J89+1,H89,DiasNOLaborables)<=0,\"\",NETWORKDAYS(J89+1,H89,DiasNOLaborables))","v":""},null,null,{"$f":"IFERROR(VLOOKUP(E89,$X$51:$Y$64,2),\"\")","v":20},null,null,null,null,null,null,null,"SIA","SISTEMA DE INFORMACIÓN AMBIENTAL",null,null,null,"2021-09-18"]
[79,20219050115472,"2021-10-04","CORREO ELECTRÓNICO","SOLICITUD DE INFORMACIÓN Y DOCUMENTOS","SOLICITUD DE INFORMACIÓN HIDROMETEOROLÓGICA","SUBDIRECCIÓN DE METEOROLOGÍA","2021-10-04","CORREO ELECTRÓNICO",{"$f":"IFERROR(WORKDAY(C90,P90,DiasNOLaborables),\"\")","v":"2021-11-03"},{"$f":"+IF(C90=\"\",\"\",IF(H90=\"\",\"SIN RESPUESTA\",(IF(H90<=J90,\"A TIEMPO\",\"FUERA DE TIEMPO\"))))","v":"A TIEMPO"},{"$f":"IF(H90=\"\",\"\",NETWORKDAYS(C90+1,H90,DiasNOLaborables))","v":-2},{"$f":"IF(NETWORKDAYS(J90+1,H90,DiasNOLaborables)<=0,\"\",NETWORKDAYS(J90+1,H90,DiasNOLaborables))","v":""},null,null,{"$f":"IFERROR(VLOOKUP(E90,$X$51:$Y$64,2),\"\")","v":20},null,null,null,null,null,null,null,"SIRH","SISTEMA DE INFORMACIÓN DEL RECURDO HÍDRICO",null,null,null,"2021-09-19"]
[80,20219050115482,"2021-10-04","CORREO ELECTRÓNICO","SOLICITUD DE INFORMACIÓN Y DOCUMENTOS","SOLICITUD DE INFORMACIÓN HIDROMETEOROLÓGICA","SUBDIRECCIÓN DE METEOROLOGÍA","2021-10-04","CORREO ELECTRÓNICO",{"$f":"IFERROR(WORKDAY(C91,P91,DiasNOLaborables),\"\")","v":"2021-11-03"},{"$f":"+IF(C91=\"\",\"\",IF(H91=\"\",\"SIN RESPUESTA\",(IF(H91<=J91,\"A TIEMPO\",\"FUERA DE TIEMPO\"))))","v":"A TIEMPO"},{"$f":"IF(H91=\"\",\"\",NETWORKDAYS(C91+1,H91,DiasNOLaborables))","v":-2},{"$f":"IF(NETWORKDAYS(J91+1,H91,DiasNOLaborables)<=0,\"\",NETWORKDAYS(J91+1,H91,DiasNOLaborables))","v":""},null,null,{"$f":"IFERROR(VLOOKUP(E91,$X$51:$Y$64,2),\"\")","v":20},null,null,null,null,null,null,null,"SOLICITUD DE INFORMACIÓN HIDROMETEOROLÓGICA",null,null,null,null,"2021-09-25"]
[81,20219050115522,"2021-10-04","CORREO ELECTRÓNICO","SOLICITUD DE INFORMACIÓN Y DOCUMENTOS","ADMINISTRATIVA","GRUPO DE ADMINISTRACIÓN Y DESARROLLO DEL TALENTO HUMANO","2021-10-04","CORREO ELECTRÓNICO",{"$f":"IFERROR(WORKDAY(C92,P92,DiasNOLaborables),\"\")","v":"2021-11-03"},{"$f":"+IF(C92=\"\",\"\",IF(H92=\"\",\"SIN RESPUESTA\",(IF(H92<=J92,\"A TIEMPO\",\"FUERA DE TIEMPO\"))))","v":"A TIEMPO"},{"$f":"IF(H92=\"\",\"\",NETWORKDAYS(C92+1,H92,DiasNOLaborables))","v":-2},{"$f":"IF(NETWORKDAYS(J92+1,H92,DiasNOLaborables)<=0,\"\",NETWORKDAYS(J92+1,H92,DiasNOLaborables))","v":""},null,null,{"$f":"IFERROR(VLOOKUP(E92,$X$51:$Y$64,2),\"\")","v":20},null,null,null,null,null,null,null,"SUELOS Y TIERRAS",null,null,null,null,"2021-09-26"]
[82,20219050115532,"2021-10-04","CORREO ELECTRÓNICO","SOLICITUD DE INFORMACIÓN Y DOCUMENTOS","ADMINISTRATIVA","GRUPO DE ADMINISTRACIÓN Y DESARROLLO DEL TALENTO HUMANO","2021-10-04","CORREO ELECTRÓNICO",{"$f":"IFERROR(WORKDAY(C93,P93,DiasNOLaborables),\"\")","v":"2021-11-03"},{"$f":"+IF(C93=\"\",\"\",IF(H93=\"\",\"SIN RESPUESTA\",(IF(H93<=J93,\"A TIEMPO\",\"FUERA DE TIEMPO\"))))","v":"A TIEMPO"},{"$f":"IF(H93=\"\",\"\",NETWORKDAYS(C93+1,H93,DiasNOLaborables))","v":-2},{"$f":"IF(NETWORKDAYS(J93+1,H93,DiasNOLaborables)<=0,\"\",NETWORKDAYS(J93+1,H93,DiasNOLaborables))","v":""},null,null,{"$f":"IFERROR(VLOOKUP(E93,$X$51:$Y$64,2),\"\")","v":20},null,null,null,null,null,null,null,"VISITAS ACADÉMICAS",null,null,null,null,"2021-10-02"]
[83,20219050115552,"2021-10-04","CORREO ELECTRÓNICO","SOLICITUD DE INFORMACIÓN Y DOCUMENTOS","INFORMES AMBIENTALES","SUBDIRECCIÓN DE METEOROLOGÍA","2021-10-26","CORREO ELECTRÓNICO",{"$f":"IFERROR(WORKDAY(C94,P94,DiasNOLaborables),\"\")","v":"2021-11-03"},{"$f":"+IF(C94=\"\",\"\",IF(H94=\"\",\"SIN RESPUESTA\",(IF(H94<=J94,\"A TIEMPO\",\"FUERA DE TIEMPO\"))))","v":"A TIEMPO"},{"$f":"IF(H94=\"\",\"\",NETWORKDAYS(C94+1,H94,DiasNOLaborables))","v":15},{"$f":"IF(NETWORKDAYS(J94+1,H94,DiasNOLaborables)<=0,\"\",NETWORKDAYS(J94+1,H94,DiasNOLaborables))","v":""},null,null,{"$f":"IFERROR(VLOOKUP(E94,$X$51:$Y$64,2),\"\")","v":20},null,null,null,null,null,null,null,"WEB Y CORREO",null,null,null,null,"2021-10-03"]
[84,20219050115562,"2021-10-04","CORREO ELECTRÓNICO","SOLICITUD DE INFORMACIÓN Y DOCUMENTOS","INFORMES AMBIENTALES","SUBDIRECCIÓN DE HIDROLOGÍA","2021-10-12","CORREO ELECTRÓNICO",{"$f":"IFERROR(WORKDAY(C95,P95,DiasNOLaborables),\"\")","v":"2021-11-03"},{"$f":"+IF(C95=\"\",\"\",IF(H95=\"\",\"SIN RESPUESTA\",(IF(H95<=J95,\"A TIEMPO\",\"FUERA DE TIEMPO\"))))","v":"A TIEMPO"},{"$f":"IF(H95=\"\",\"\",NETWORKDAYS(C95+1,H95,DiasNOLaborables))","v":6},{"$f":"IF(NETWORKDAYS(J95+1,H95,DiasNOLaborables)<=0,\"\",NETWORKDAYS(J95+1,H95,DiasNOLaborables))","v":""},null,null,{"$f":"IFERROR(VLOOKUP(E95,$X$51:$Y$64,2),\"\")","v":20},null,null,null,null,null,null,null,"ZONIFICACIÓN HIDROGRÁFICA",null,null,null,null,"2021-10-09"]
[85,20219050115572,"2021-10-04","CORREO ELECTRÓNICO","SOLICITUD JUDICIAL","JURIDICO","OFICINA ASESORA JURÍDICA","2021-10-07","CORREO ELECTRÓNICO",{"$f":"IFERROR(WORKDAY(C96,P96,DiasNOLaborables),\"\")","v":"2021-10-11"},{"$f":"+IF(C96=\"\",\"\",IF(H96=\"\",\"SIN RESPUESTA\",(IF(H96<=J96,\"A TIEMPO\",\"FUERA DE TIEMPO\"))))","v":"A TIEMPO"},{"$f":"IF(H96=\"\",\"\",NETWORKDAYS(C96+1,H96,DiasNOLaborables))","v":3},{"$f":"IF(NETWORKDAYS(J96+1,H96,DiasNOLaborables)<=0,\"\",NETWORKDAYS(J96+1,H96,DiasNOLaborables))","v":""},null,null,{"$f":"IFERROR(VLOOKUP(E96,$X$51:$Y$64,2),\"\")","v":5},null,null,null,null,null,null,null,null,null,null,null,null,"2021-10-10"]
[86,20219050115582,"2021-10-04","CORREO ELECTRÓNICO","SOLICITUD DE INFORMACIÓN Y DOCUMENTOS","REGISTROS AMBIENTALES","SUBDIRECCIÓN DE ESTUDIOS AMBIENTALES","2021-10-04","CORREO ELECTRÓNICO",{"$f":"IFERROR(WORKDAY(C97,P97,DiasNOLaborables),\"\")","v":"2021-11-03"},{"$f":"+IF(C97=\"\",\"\",IF(H97=\"\",\"SIN RESPUESTA\",(IF(H97<=J97,\"A TIEMPO\",\"FUERA DE TIEMPO\"))))","v":"A TIEMPO"},{"$f":"IF(H97=\"\",\"\",NETWORKDAYS(C97+1,H97,DiasNOLaborables))","v":-2},{"$f":"IF(NETWORKDAYS(J97+1,H97,DiasNOLaborables)<=0,\"\",NETWORKDAYS(J97+1,H97,DiasNOLaborables))","v":""},null,null,{"$f":"IFERROR(VLOOKUP(E97,$X$51:$Y$64,2),\"\")","v":20},null,null,null,null,null,null,null,"MEDIO DE RECEPCIÓN",null,null,null,null,"2021-10-16"]
[87,20219050115602,"2021-10-04","CORREO ELECTRÓNICO","SOLICITUD DE INFORMACIÓN Y DOCUMENTOS","INFORMES AMBIENTALES","SUBDIRECCIÓN DE ESTUDIOS AMBIENTALES","2021-10-04","CORREO ELECTRÓNICO",{"$f":"IFERROR(WORKDAY(C98,P98,DiasNOLaborables),\"\")","v":"2021-11-03"},{"$f":"+IF(C98=\"\",\"\",IF(H98=\"\",\"SIN RESPUESTA\",(IF(H98<=J98,\"A TIEMPO\",\"FUERA DE TIEMPO\"))))","v":"A TIEMPO"},{"$f":"IF(H98=\"\",\"\",NETWORKDAYS(C98+1,H98,DiasNOLaborables))","v":-2},{"$f":"IF(NETWORKDAYS(J98+1,H98,DiasNOLaborables)<=0,\"\",NETWORKDAYS(J98+1,H98,DiasNOLaborables))","v":""},null,null,{"$f":"IFERROR(VLOOKUP(E98,$X$51:$Y$64,2),\"\")","v":20},null,null,null,null,null,null,null,"ATENCIÓN PRESENCIAL",null,null,null,null,"2021-10-17"]
[88,20219050115612,"2021-10-04","CORREO ELECTRÓNICO","CERTIFICACIONES DE TIEMPO, CLIMA Y EVENTOS HIDROLÓGICOS","CERTIFICACIONES DE TIEMPO Y CLIMA","SUBDIRECCIÓN DE METEOROLOGÍA","2021-10-15","CORREO ELECTRÓNICO",{"$f":"IFERROR(WORKDAY(C99,P99,DiasNOLaborables),\"\")","v":"2021-11-25"},{"$f":"+IF(C99=\"\",\"\",IF(H99=\"\",\"SIN RESPUESTA\",(IF(H99<=J99,\"A TIEMPO\",\"FUERA DE TIEMPO\"))))","v":"A TIEMPO"},{"$f":"IF(H99=\"\",\"\",NETWORKDAYS(C99+1,H99,DiasNOLaborables))","v":9},{"$f":"IF(NETWORKDAYS(J99+1,H99,DiasNOLaborables)<=0,\"\",NETWORKDAYS(J99+1,H99,DiasNOLaborables))","v":""},null,null,{"$f":"IFERROR(VLOOKUP(E99,$X$51:$Y$64,2),\"\")","v":35},null,null,null,null,null,null,null,"ATENCIÓN TELEFÓNICA",null,null,null,null,"2021-10-18"]
[89,20219050115622,"2021-10-04","CORREO ELECTRÓNICO","SOLICITUD DE INFORMACIÓN Y DOCUMENTOS","SOLICITUD DE INFORMACIÓN HIDROMETEOROLÓGICA","SUBDIRECCIÓN DE METEOROLOGÍA","2021-10-25","CORREO ELECTRÓNICO",{"$f":"IFERROR(WORKDAY(C100,P100,DiasNOLaborables),\"\")","v":"2021-11-03"},{"$f":"+IF(C100=\"\",\"\",IF(H100=\"\",\"SIN RESPUESTA\",(IF(H100<=J100,\"A TIEMPO\",\"FUERA DE TIEMPO\"))))","v":"A TIEMPO"},{"$f":"IF(H100=\"\",\"\",NETWORKDAYS(C100+1,H100,DiasNOLaborables))","v":14},{"$f":"IF(NETWORKDAYS(J100+1,H100,DiasNOLaborables)<=0,\"\",NETWORKDAYS(J100+1,H100,DiasNOLaborables))","v":""},null,null,{"$f":"IFERROR(VLOOKUP(E100,$X$51:$Y$64,2),\"\")","v":20},null,null,null,null,null,null,null,"BUZÓN DE SUGERENCIAS",null,null,null,null,"2021-10-23"]
[90,20219050115632,"2021-10-04","CORREO ELECTRÓNICO","SOLICITUD JUDICIAL","JURIDICO","OFICINA ASESORA JURÍDICA","2021-10-08","CORREO ELECTRÓNICO",{"$f":"IFERROR(WORKDAY(C101,P101,DiasNOLaborables),\"\")","v":"2021-10-11"},{"$f":"+IF(C101=\"\",\"\",IF(H101=\"\",\"SIN RESPUESTA\",(IF(H101<=J101,\"A TIEMPO\",\"FUERA DE TIEMPO\"))))","v":"A TIEMPO"},{"$f":"IF(H101=\"\",\"\",NETWORKDAYS(C101+1,H101,DiasNOLaborables))","v":4},{"$f":"IF(NETWORKDAYS(J101+1,H101,DiasNOLaborables)<=0,\"\",NETWORKDAYS(J101+1,H101,DiasNOLaborables))","v":""},null,null,{"$f":"IFERROR(VLOOKUP(E101,$X$51:$Y$64,2),\"\")","v":5},null,null,null,null,null,null,null,"CHAT",null,null,null,null,"2021-10-24"]
[91,20219050115642,"2021-10-04","CORREO ELECTRÓNICO","SOLICITUD DE INFORMACIÓN Y DOCUMENTOS","REGISTROS AMBIENTALES","SUBDIRECCIÓN DE ESTUDIOS AMBIENTALES","2021-10-04","CORREO ELECTRÓNICO",{"$f":"IFERROR(WORKDAY(C102,P102,DiasNOLaborables),\"\")","v":"2021-11-03"},{"$f":"+IF(C102=\"\",\"\",IF(H102=\"\",\"SIN RESPUESTA\",(IF(H102<=J102,\"A TIEMPO\",\"FUERA DE TIEMPO\"))))","v":"A TIEMPO"},{"$f":"IF(H102=\"\",\"\",NETWORKDAYS(C102+1,H102,DiasNOLaborables))","v":-2},{"$f":"IF(NETWORKDAYS(J102+1,H102,DiasNOLaborables)<=0,\"\",NETWORKDAYS(J102+1,H102,DiasNOLaborables))","v":""},null,null,{"$f":"IFERROR(VLOOKUP(E102,$X$51:$Y$64,2),\"\")","v":20},null,null,null,null,null,null,null,"CORREO CERTIFICADO",null,null,null,null,"2021-10-30"]
[92,20219050115652,"2021-10-04","CORREO ELECTRÓNICO","CERTIFICACIONES DE TIEMPO, CLIMA Y EVENTOS HIDROLÓGICOS","CERTIFICACIONES DE TIEMPO Y CLIMA","SUBDIRECCIÓN DE METEOROLOGÍA","2021-10-08","CORREO ELECTRÓNICO",{"$f":"IFERROR(WORKDAY(C103,P103,DiasNOLaborables),\"\")","v":"2021-11-25"},{"$f":"+IF(C103=\"\",\"\",IF(H103=\"\",\"SIN RESPUESTA\",(IF(H103<=J103,\"A TIEMPO\",\"FUERA DE TIEMPO\"))))","v":"A TIEMPO"},{"$f":"IF(H103=\"\",\"\",NETWORKDAYS(C103+1,H103,DiasNOLaborables))","v":4},{"$f":"IF(NETWORKDAYS(J103+1,H103,DiasNOLaborables)<=0,\"\",NETWORKDAYS(J103+1,H103,DiasNOLaborables))","v":""},null,null,{"$f":"IFERROR(VLOOKUP(E103,$X$51:$Y$64,2),\"\")","v":35},null,null,null,null,null,null,null,"CORREO ELECTRÓNICO",null,null,null,null,"2021-10-31"]
[93,20219050115662,"2021-10-04","CORREO ELECTRÓNICO","SOLICITUD DE INFORMACIÓN Y DOCUMENTOS",null,"SUBDIRECCIÓN DE HIDROLOGÍA","2021-10-15","CORREO ELECTRÓNICO",{"$f":"IFERROR(WORKDAY(C104,P104,DiasNOLaborables),\"\")","v":"2021-11-03"},{"$f":"+IF(C104=\"\",\"\",IF(H104=\"\",\"SIN RESPUESTA\",(IF(H104<=J104,\"A TIEMPO\",\"FUERA DE TIEMPO\"))))","v":"A TIEMPO"},{"$f":"IF(H104=\"\",\"\",NETWORKDAYS(C104+1,H104,DiasNOLaborables))","v":9},{"$f":"IF(NETWORKDAYS(J104+1,H104,DiasNOLaborables)<=0,\"\",NETWORKDAYS(J104+1,H104,DiasNOLaborables))","v":""},null,null,{"$f":"IFERROR(VLOOKUP(E104,$X$51:$Y$64,2),\"\")","v":20},null,null,null,null,null,null,null,"FAX",null,null,null,null,"2021-11-01"]
[94,20219050115672,"2021-10-04","CORREO ELECTRÓNICO","SOLICITUD DE INFORMACIÓN Y DOCUMENTOS","ADMINISTRATIVA","OFICINA DE INFORMÁTICA","2021-10-15","CORREO ELECTRÓNICO",{"$f":"IFERROR(WORKDAY(C105,P105,DiasNOLaborables),\"\")","v":"2021-11-03"},{"$f":"+IF(C105=\"\",\"\",IF(H105=\"\",\"SIN RESPUESTA\",(IF(H105<=J105,\"A TIEMPO\",\"FUERA DE TIEMPO\"))))","v":"A TIEMPO"},{"$f":"IF(H105=\"\",\"\",NETWORKDAYS(C105+1,H105,DiasNOLaborables))","v":9},{"$f":"IF(NETWORKDAYS(J105+1,H105,DiasNOLaborables)<=0,\"\",NETWORKDAYS(J105+1,H105,DiasNOLaborables))","v":""},null,null,{"$f":"IFERROR(VLOOKUP(E105,$X$51:$Y$64,2),\"\")","v":20},null,null,null,null,null,null,null,"INTERNO",null,null,null,null,"2021-11-06"]
[95,20219050115692,"2021-10-04","CORREO ELECTRÓNICO","SOLICITUD DE INFORMACIÓN Y DOCUMENTOS","INFORMES AMBIENTALES","SUBDIRECCIÓN DE ESTUDIOS AMBIENTALES","2021-10-13","CORREO ELECTRÓNICO",{"$f":"IFERROR(WORKDAY(C106,P106,DiasNOLaborables),\"\")","v":"2021-11-03"},{"$f":"+IF(C106=\"\",\"\",IF(H106=\"\",\"SIN RESPUESTA\",(IF(H106<=J106,\"A TIEMPO\",\"FUERA DE TIEMPO\"))))","v":"A TIEMPO"},{"$f":"IF(H106=\"\",\"\",NETWORKDAYS(C106+1,H106,DiasNOLaborables))","v":7},{"$f":"IF(NETWORKDAYS(J106+1,H106,DiasNOLaborables)<=0,\"\",NETWORKDAYS(J106+1,H106,DiasNOLaborables))","v":""},null,null,{"$f":"IFERROR(VLOOKUP(E106,$X$51:$Y$64,2),\"\")","v":20},null,null,null,null,null,null,null,"MODULO CONTACTENOS",null,null,null,null,"2021-11-07"]
[96,20219050115752,"2021-10-04","CORREO ELECTRÓNICO","SOLICITUD DE INFORMACIÓN Y DOCUMENTOS","REGISTROS AMBIENTALES","SUBDIRECCIÓN DE ESTUDIOS AMBIENTALES","2021-10-04","CORREO ELECTRÓNICO",{"$f":"IFERROR(WORKDAY(C107,P107,DiasNOLaborables),\"\")","v":"2021-11-03"},{"$f":"+IF(C107=\"\",\"\",IF(H107=\"\",\"SIN RESPUESTA\",(IF(H107<=J107,\"A TIEMPO\",\"FUERA DE TIEMPO\"))))","v":"A TIEMPO"},{"$f":"IF(H107=\"\",\"\",NETWORKDAYS([5]Hoja1!C105+1,[5]Hoja1!P105,DiasNOLaborables))","v":8},{"$f":"IF(NETWORKDAYS(J107+1,H107,DiasNOLaborables)<=0,\"\",NETWORKDAYS(J107+1,H107,DiasNOLaborables))","v":""},null,null,{"$f":"IFERROR(VLOOKUP(E107,$X$51:$Y$64,2),\"\")","v":20},null,null,null,null,null,null,null,"WEB (MÓDULO DE SOLICITUD DE INFORMACIÓN HIDROMETEOROLÓGICA)",null,null,null,null,"2021-11-13"]
[97,20219050115792,"2021-10-04","CORREO ELECTRÓNICO","CERTIFICACIONES DE TIEMPO, CLIMA Y EVENTOS HIDROLÓGICOS","CERTIFICACIONES DE TIEMPO Y CLIMA","SUBDIRECCIÓN DE METEOROLOGÍA","2021-10-20","CORREO ELECTRÓNICO",{"$f":"IFERROR(WORKDAY(C108,P108,DiasNOLaborables),\"\")","v":"2021-11-25"},{"$f":"+IF(C108=\"\",\"\",IF(H108=\"\",\"SIN RESPUESTA\",(IF(H108<=J108,\"A TIEMPO\",\"FUERA DE TIEMPO\"))))","v":"A TIEMPO"},{"$f":"IF(H108=\"\",\"\",NETWORKDAYS(C108+1,H108,DiasNOLaborables))","v":11},{"$f":"IF(NETWORKDAYS(J108+1,H108,DiasNOLaborables)<=0,\"\",NETWORKDAYS(J108+1,H108,DiasNOLaborables))","v":""},null,null,{"$f":"IFERROR(VLOOKUP(E108,$X$51:$Y$64,2),\"\")","v":35},null,null,null,null,null,null,null,null,null,null,null,null,"2021-11-14"]
[98,20219050115812,"2021-10-04","CORREO ELECTRÓNICO","SOLICITUD DE INFORMACIÓN Y DOCUMENTOS","BOSQUES","SUBDIRECCIÓN DE ECOSISTEMAS E INFORMACIÓN AMBIENTAL","2021-10-21","CORREO ELECTRÓNICO",{"$f":"IFERROR(WORKDAY(C109,P109,DiasNOLaborables),\"\")","v":"2021-11-03"},{"$f":"+IF(C109=\"\",\"\",IF(H109=\"\",\"SIN RESPUESTA\",(IF(H109<=J109,\"A TIEMPO\",\"FUERA DE TIEMPO\"))))","v":"A TIEMPO"},{"$f":"IF(H109=\"\",\"\",NETWORKDAYS(C109+1,H109,DiasNOLaborables))","v":12},{"$f":"IF(NETWORKDAYS(J109+1,H109,DiasNOLaborables)<=0,\"\",NETWORKDAYS(J109+1,H109,DiasNOLaborables))","v":""},null,null,{"$f":"IFERROR(VLOOKUP(E109,$X$51:$Y$64,2),\"\")","v":20},null,null,null,null,null,null,null,"¿REQUERIMIENTO FUE ESCALADO?",null,null,null,null,"2021-11-15"]
[99,20219050115342,"2021-10-04","MODULO CONTACTENOS","SOLICITUD DE INFORMACIÓN Y DOCUMENTOS","SOLICITUD DE INFORMACIÓN HIDROMETEOROLÓGICA","GRUPO DE SERVICIO AL CIUDADANO ","2021-10-06","CORREO ELECTRÓNICO",{"$f":"IFERROR(WORKDAY(C110,P110,DiasNOLaborables),\"\")","v":"2021-11-03"},{"$f":"+IF(C110=\"\",\"\",IF(H110=\"\",\"SIN RESPUESTA\",(IF(H110<=J110,\"A TIEMPO\",\"FUERA DE TIEMPO\"))))","v":"A TIEMPO"},{"$f":"IF(H110=\"\",\"\",NETWORKDAYS(C110+1,H110,DiasNOLaborables))","v":2},{"$f":"IF(NETWORKDAYS(J110+1,H110,DiasNOLaborables)<=0,\"\",NETWORKDAYS(J110+1,H110,DiasNOLaborables))","v":""},null,null,{"$f":"IFERROR(VLOOKUP(E110,$X$51:$Y$64,2),\"\")","v":20},null,null,null,null,null,null,null,"SI",null,null,null,null,"2021-11-20"]
[100,20219050115362,"2021-10-04","MODULO CONTACTENOS","SOLICITUD DE INFORMACIÓN Y DOCUMENTOS","SOLICITUD DE INFORMACIÓN HIDROMETEOROLÓGICA","GRUPO DE SERVICIO AL CIUDADANO ","2021-10-06","CORREO ELECTRÓNICO",{"$f":"IFERROR(WORKDAY(C111,P111,DiasNOLaborables),\"\")","v":"2021-11-03"},{"$f":"+IF(C111=\"\",\"\",IF(H111=\"\",\"SIN RESPUESTA\",(IF(H111<=J111,\"A TIEMPO\",\"FUERA DE TIEMPO\"))))","v":"A TIEMPO"},{"$f":"IF(H111=\"\",\"\",NETWORKDAYS(C111+1,H111,DiasNOLaborables))","v":2},{"$f":"IF(NETWORKDAYS(J111+1,H111,DiasNOLaborables)<=0,\"\",NETWORKDAYS(J111+1,H111,DiasNOLaborables))","v":""},null,null,{"$f":"IFERROR(VLOOKUP(E111,$X$51:$Y$64,2),\"\")","v":20},null,null,null,null,null,null,null,"NO",null,null,null,null,"2021-11-21"]
[101,20219050115782,"2021-10-04","MODULO CONTACTENOS","SOLICITUD DE INFORMACIÓN Y DOCUMENTOS","SOLICITUD DE INFORMACIÓN HIDROMETEOROLÓGICA","GRUPO DE SERVICIO AL CIUDADANO ","2021-10-06","CORREO ELECTRÓNICO",{"$f":"IFERROR(WORKDAY(C112,P112,DiasNOLaborables),\"\")","v":"2021-11-03"},{"$f":"+IF(C112=\"\",\"\",IF(H112=\"\",\"SIN RESPUESTA\",(IF(H112<=J112,\"A TIEMPO\",\"FUERA DE TIEMPO\"))))","v":"A TIEMPO"},{"$f":"IF(H112=\"\",\"\",NETWORKDAYS(C112+1,H112,DiasNOLaborables))","v":2},{"$f":"IF(NETWORKDAYS(J112+1,H112,DiasNOLaborables)<=0,\"\",NETWORKDAYS(J112+1,H112,DiasNOLaborables))","v":""},null,null,{"$f":"IFERROR(VLOOKUP(E112,$X$51:$Y$64,2),\"\")","v":20},null,null,null,null,null,null,null,null,null,null,null,null,"2021-11-27"]
[102,20219050115902,"2021-10-04","MODULO CONTACTENOS","SOLICITUD DE INFORMACIÓN Y DOCUMENTOS","SOLICITUD DE INFORMACIÓN HIDROMETEOROLÓGICA","GRUPO DE SERVICIO AL CIUDADANO ","2021-10-07","CORREO ELECTRÓNICO",{"$f":"IFERROR(WORKDAY(C113,P113,DiasNOLaborables),\"\")","v":"2021-11-03"},{"$f":"+IF(C113=\"\",\"\",IF(H113=\"\",\"SIN RESPUESTA\",(IF(H113<=J113,\"A TIEMPO\",\"FUERA DE TIEMPO\"))))","v":"A TIEMPO"},{"$f":"IF(H113=\"\",\"\",NETWORKDAYS(C113+1,H113,DiasNOLaborables))","v":3},{"$f":"IF(NETWORKDAYS(J113+1,H113,DiasNOLaborables)<=0,\"\",NETWORKDAYS(J113+1,H113,DiasNOLaborables))","v":""},null,null,{"$f":"IFERROR(VLOOKUP(E113,$X$51:$Y$64,2),\"\")","v":20},null,null,null,null,null,null,null,"CANAL POR EL CUAL FUE RESUELTO EL REQUERIMIENTO",null,null,null,null,"2021-11-28"]
[103,20219050115912,"2021-10-04","MODULO CONTACTENOS","SOLICITUD DE INFORMACIÓN Y DOCUMENTOS","SOLICITUD DE INFORMACIÓN HIDROMETEOROLÓGICA","GRUPO DE SERVICIO AL CIUDADANO ","2021-10-07","CORREO ELECTRÓNICO",{"$f":"IFERROR(WORKDAY(C114,P114,DiasNOLaborables),\"\")","v":"2021-11-03"},{"$f":"+IF(C114=\"\",\"\",IF(H114=\"\",\"SIN RESPUESTA\",(IF(H114<=J114,\"A TIEMPO\",\"FUERA DE TIEMPO\"))))","v":"A TIEMPO"},{"$f":"IF(H114=\"\",\"\",NETWORKDAYS(C114+1,H114,DiasNOLaborables))","v":3},{"$f":"IF(NETWORKDAYS(J114+1,H114,DiasNOLaborables)<=0,\"\",NETWORKDAYS(J114+1,H114,DiasNOLaborables))","v":""},null,null,{"$f":"IFERROR(VLOOKUP(E114,$X$51:$Y$64,2),\"\")","v":20},null,null,null,null,null,null,null,"CORREO ELECTRÓNICO",null,null,null,null,"2021-12-04"]
[104,20219050115942,"2021-10-04","MODULO CONTACTENOS","SOLICITUD DE INFORMACIÓN Y DOCUMENTOS","SOLICITUD DE INFORMACIÓN HIDROMETEOROLÓGICA","GRUPO DE SERVICIO AL CIUDADANO ","2021-10-07","CORREO ELECTRÓNICO",{"$f":"IFERROR(WORKDAY(C115,P115,DiasNOLaborables),\"\")","v":"2021-11-03"},{"$f":"+IF(C115=\"\",\"\",IF(H115=\"\",\"SIN RESPUESTA\",(IF(H115<=J115,\"A TIEMPO\",\"FUERA DE TIEMPO\"))))","v":"A TIEMPO"},{"$f":"IF(H115=\"\",\"\",NETWORKDAYS(C115+1,H115,DiasNOLaborables))","v":3},{"$f":"IF(NETWORKDAYS(J115+1,H115,DiasNOLaborables)<=0,\"\",NETWORKDAYS(J115+1,H115,DiasNOLaborables))","v":""},null,null,{"$f":"IFERROR(VLOOKUP(E115,$X$51:$Y$64,2),\"\")","v":20},null,null,null,null,null,null,null,"CORREO CERTIFICADO",null,null,null,null,"2021-12-05"]
[105,20219050115932,"2021-10-04","MODULO CONTACTENOS","SOLICITUD DE INFORMACIÓN Y DOCUMENTOS","SOLICITUD DE INFORMACIÓN HIDROMETEOROLÓGICA","GRUPO DE SERVICIO AL CIUDADANO ","2021-10-08","CORREO ELECTRÓNICO",{"$f":"IFERROR(WORKDAY(C116,P116,DiasNOLaborables),\"\")","v":"2021-11-03"},{"$f":"+IF(C116=\"\",\"\",IF(H116=\"\",\"SIN RESPUESTA\",(IF(H116<=J116,\"A TIEMPO\",\"FUERA DE TIEMPO\"))))","v":"A TIEMPO"},{"$f":"IF(H116=\"\",\"\",NETWORKDAYS(C116+1,H116,DiasNOLaborables))","v":4},{"$f":"IF(NETWORKDAYS(J116+1,H116,DiasNOLaborables)<=0,\"\",NETWORKDAYS(J116+1,H116,DiasNOLaborables))","v":""},null,null,{"$f":"IFERROR(VLOOKUP(E116,$X$51:$Y$64,2),\"\")","v":20},null,null,null,null,null,null,null,null,null,null,null,null,"2021-12-08"]
[106,20219050115192,"2021-10-04","CORREO ELECTRÓNICO","SOLICITUD DE INFORMACIÓN Y DOCUMENTOS","SOLICITUD DE INFORMACIÓN HIDROMETEOROLÓGICA","GRUPO DE SERVICIO AL CIUDADANO ","2021-10-08","CORREO ELECTRÓNICO",{"$f":"IFERROR(WORKDAY(C117,P117,DiasNOLaborables),\"\")","v":"2021-11-03"},{"$f":"+IF(C117=\"\",\"\",IF(H117=\"\",\"SIN RESPUESTA\",(IF(H117<=J117,\"A TIEMPO\",\"FUERA DE TIEMPO\"))))","v":"A TIEMPO"},{"$f":"IF(H117=\"\",\"\",NETWORKDAYS(C117+1,H117,DiasNOLaborables))","v":4},{"$f":"IF(NETWORKDAYS(J117+1,H117,DiasNOLaborables)<=0,\"\",NETWORKDAYS(J117+1,H117,DiasNOLaborables))","v":""},null,null,{"$f":"IFERROR(VLOOKUP(E117,$X$51:$Y$64,2),\"\")","v":20},null,null,null,null,null,null,null,null,null,null,null,null,"2021-12-11"]
[107,20219050115202,"2021-10-04","CORREO ELECTRÓNICO","SOLICITUD DE INFORMACIÓN Y DOCUMENTOS","SOLICITUD DE INFORMACIÓN HIDROMETEOROLÓGICA","GRUPO DE SERVICIO AL CIUDADANO ","2021-10-08","CORREO ELECTRÓNICO",{"$f":"IFERROR(WORKDAY(C118,P118,DiasNOLaborables),\"\")","v":"2021-11-03"},{"$f":"+IF(C118=\"\",\"\",IF(H118=\"\",\"SIN RESPUESTA\",(IF(H118<=J118,\"A TIEMPO\",\"FUERA DE TIEMPO\"))))","v":"A TIEMPO"},{"$f":"IF(H118=\"\",\"\",NETWORKDAYS(C118+1,H118,DiasNOLaborables))","v":4},{"$f":"IF(NETWORKDAYS(J118+1,H118,DiasNOLaborables)<=0,\"\",NETWORKDAYS(J118+1,H118,DiasNOLaborables))","v":""},null,null,{"$f":"IFERROR(VLOOKUP(E118,$X$51:$Y$64,2),\"\")","v":20},null,null,null,null,null,null,null,null,null,null,null,null,"2021-12-12"]
[108,20219050115432,"2021-10-04","CORREO ELECTRÓNICO","SOLICITUD DE INFORMACIÓN Y DOCUMENTOS","SOLICITUD DE INFORMACIÓN HIDROMETEOROLÓGICA","GRUPO DE SERVICIO AL CIUDADANO ","2021-10-08","CORREO ELECTRÓNICO",{"$f":"IFERROR(WORKDAY(C119,P119,DiasNOLaborables),\"\")","v":"2021-11-03"},{"$f":"+IF(C119=\"\",\"\",IF(H119=\"\",\"SIN RESPUESTA\",(IF(H119<=J119,\"A TIEMPO\",\"FUERA DE TIEMPO\"))))","v":"A TIEMPO"},{"$f":"IF(H119=\"\",\"\",NETWORKDAYS(C119+1,H119,DiasNOLaborables))","v":4},{"$f":"IF(NETWORKDAYS(J119+1,H119,DiasNOLaborables)<=0,\"\",NETWORKDAYS(J119+1,H119,DiasNOLaborables))","v":""},null,null,{"$f":"IFERROR(VLOOKUP(E119,$X$51:$Y$64,2),\"\")","v":20},null,null,null,null,null,null,null,null,null,null,null,null,"2021-12-18"]
[109,20219050115492,"2021-10-04","CORREO ELECTRÓNICO","SOLICITUD DE INFORMACIÓN Y DOCUMENTOS","SOLICITUD DE INFORMACIÓN HIDROMETEOROLÓGICA","GRUPO DE SERVICIO AL CIUDADANO ","2021-10-08","CORREO ELECTRÓNICO",{"$f":"IFERROR(WORKDAY(C120,P120,DiasNOLaborables),\"\")","v":"2021-11-03"},{"$f":"+IF(C120=\"\",\"\",IF(H120=\"\",\"SIN RESPUESTA\",(IF(H120<=J120,\"A TIEMPO\",\"FUERA DE TIEMPO\"))))","v":"A TIEMPO"},{"$f":"IF(H120=\"\",\"\",NETWORKDAYS(C120+1,H120,DiasNOLaborables))","v":4},{"$f":"IF(NETWORKDAYS(J120+1,H120,DiasNOLaborables)<=0,\"\",NETWORKDAYS(J120+1,H120,DiasNOLaborables))","v":""},null,null,{"$f":"IFERROR(VLOOKUP(E120,$X$51:$Y$64,2),\"\")","v":20},null,null,null,null,null,null,null,null,null,null,null,null,"2021-12-19"]
[110,20219050115512,"2021-10-04","CORREO ELECTRÓNICO","SOLICITUD DE INFORMACIÓN Y DOCUMENTOS","SOLICITUD DE INFORMACIÓN HIDROMETEOROLÓGICA","GRUPO DE SERVICIO AL CIUDADANO ","2021-10-11","CORREO ELECTRÓNICO",{"$f":"IFERROR(WORKDAY(C121,P121,DiasNOLaborables),\"\")","v":"2021-11-03"},{"$f":"+IF(C121=\"\",\"\",IF(H121=\"\",\"SIN RESPUESTA\",(IF(H121<=J121,\"A TIEMPO\",\"FUERA DE TIEMPO\"))))","v":"A TIEMPO"},{"$f":"IF(H121=\"\",\"\",NETWORKDAYS(C121+1,H121,DiasNOLaborables))","v":5},{"$f":"IF(NETWORKDAYS(J121+1,H121,DiasNOLaborables)<=0,\"\",NETWORKDAYS(J121+1,H121,DiasNOLaborables))","v":""},null,null,{"$f":"IFERROR(VLOOKUP(E121,$X$51:$Y$64,2),\"\")","v":20},null,null,null,null,null,null,null,null,null,null,null,null,"2021-12-25"]
[111,20219050115882,"2021-10-04","MODULO CONTACTENOS","SOLICITUD DE INFORMACIÓN Y DOCUMENTOS","SOLICITUD DE INFORMACIÓN HIDROMETEOROLÓGICA","GRUPO DE SERVICIO AL CIUDADANO ","2021-10-28","CORREO ELECTRÓNICO",{"$f":"IFERROR(WORKDAY(C122,P122,DiasNOLaborables),\"\")","v":"2021-11-03"},{"$f":"+IF(C122=\"\",\"\",IF(H122=\"\",\"SIN RESPUESTA\",(IF(H122<=J122,\"A TIEMPO\",\"FUERA DE TIEMPO\"))))","v":"A TIEMPO"},{"$f":"IF(H122=\"\",\"\",NETWORKDAYS(C122+1,H122,DiasNOLaborables))","v":17},{"$f":"IF(NETWORKDAYS(J122+1,H122,DiasNOLaborables)<=0,\"\",NETWORKDAYS(J122+1,H122,DiasNOLaborables))","v":""},null,null,{"$f":"IFERROR(VLOOKUP(E122,$X$51:$Y$64,2),\"\")","v":20},null,null,null,null,null,null,null,null,null,null,null,null,"2021-12-26"]
[112,20219050115892,"2021-10-04","MODULO CONTACTENOS","SOLICITUD DE INFORMACIÓN Y DOCUMENTOS","SOLICITUD DE INFORMACIÓN HIDROMETEOROLÓGICA","GRUPO DE SERVICIO AL CIUDADANO ","2021-10-26","CORREO ELECTRÓNICO",{"$f":"IFERROR(WORKDAY(C123,P123,DiasNOLaborables),\"\")","v":"2021-11-03"},{"$f":"+IF(C123=\"\",\"\",IF(H123=\"\",\"SIN RESPUESTA\",(IF(H123<=J123,\"A TIEMPO\",\"FUERA DE TIEMPO\"))))","v":"A TIEMPO"},{"$f":"IF(H123=\"\",\"\",NETWORKDAYS(C123+1,H123,DiasNOLaborables))","v":15},{"$f":"IF(NETWORKDAYS(J123+1,H123,DiasNOLaborables)<=0,\"\",NETWORKDAYS(J123+1,H123,DiasNOLaborables))","v":""},null,null,{"$f":"IFERROR(VLOOKUP(E123,$X$51:$Y$64,2),\"\")","v":20}]
[113,20219050115952,"2021-10-05","MODULO CONTACTENOS","SOLICITUD DE INFORMACIÓN Y DOCUMENTOS","SOLICITUD DE INFORMACIÓN HIDROMETEOROLÓGICA","GRUPO DE SERVICIO AL CIUDADANO ","2021-10-27","CORREO ELECTRÓNICO",{"$f":"IFERROR(WORKDAY(C124,P124,DiasNOLaborables),\"\")","v":"2021-11-04"},{"$f":"+IF(C124=\"\",\"\",IF(H124=\"\",\"SIN RESPUESTA\",(IF(H124<=J124,\"A TIEMPO\",\"FUERA DE TIEMPO\"))))","v":"A TIEMPO"},{"$f":"IF(H124=\"\",\"\",NETWORKDAYS(C124+1,H124,DiasNOLaborables))","v":15},{"$f":"IF(NETWORKDAYS(J124+1,H124,DiasNOLaborables)<=0,\"\",NETWORKDAYS(J124+1,H124,DiasNOLaborables))","v":""},null,null,{"$f":"IFERROR(VLOOKUP(E124,$X$51:$Y$64,2),\"\")","v":20}]
[114,20219050116102,"2021-10-05","MODULO CONTACTENOS","SOLICITUD DE INFORMACIÓN Y DOCUMENTOS","SOLICITUD DE INFORMACIÓN HIDROMETEOROLÓGICA","GRUPO DE SERVICIO AL CIUDADANO ","2021-10-26","CORREO ELECTRÓNICO",{"$f":"IFERROR(WORKDAY(C125,P125,DiasNOLaborables),\"\")","v":"2021-11-04"},{"$f":"+IF(C125=\"\",\"\",IF(H125=\"\",\"SIN RESPUESTA\",(IF(H125<=J125,\"A TIEMPO\",\"FUERA DE TIEMPO\"))))","v":"A TIEMPO"},{"$f":"IF(H125=\"\",\"\",NETWORKDAYS(C125+1,H125,DiasNOLaborables))","v":14},{"$f":"IF(NETWORKDAYS(J125+1,H125,DiasNOLaborables)<=0,\"\",NETWORKDAYS(J125+1,H125,DiasNOLaborables))","v":""},null,null,{"$f":"IFERROR(VLOOKUP(E125,$X$51:$Y$64,2),\"\")","v":20}]
[115,20219050116232,"2021-10-05","MODULO CONTACTENOS","SOLICITUD DE INFORMACIÓN Y DOCUMENTOS","SOLICITUD DE INFORMACIÓN HIDROMETEOROLÓGICA","GRUPO DE SERVICIO AL CIUDADANO ","2021-10-27","CORREO ELECTRÓNICO",{"$f":"IFERROR(WORKDAY(C126,P126,DiasNOLaborables),\"\")","v":"2021-11-04"},{"$f":"+IF(C126=\"\",\"\",IF(H126=\"\",\"SIN RESPUESTA\",(IF(H126<=J126,\"A TIEMPO\",\"FUERA DE TIEMPO\"))))","v":"A TIEMPO"},{"$f":"IF(H126=\"\",\"\",NETWORKDAYS(C126+1,H126,DiasNOLaborables))","v":15},{"$f":"IF(NETWORKDAYS(J126+1,H126,DiasNOLaborables)<=0,\"\",NETWORKDAYS(J126+1,H126,DiasNOLaborables))","v":""},null,null,{"$f":"IFERROR(VLOOKUP(E126,$X$51:$Y$64,2),\"\")","v":20}]
[116,20219050116242,"2021-10-05","MODULO CONTACTENOS","SOLICITUD DE INFORMACIÓN Y DOCUMENTOS","SOLICITUD DE INFORMACIÓN HIDROMETEOROLÓGICA","GRUPO DE SERVICIO AL CIUDADANO ","2021-10-11","CORREO ELECTRÓNICO",{"$f":"IFERROR(WORKDAY(C127,P127,DiasNOLaborables),\"\")","v":"2021-11-04"},{"$f":"+IF(C127=\"\",\"\",IF(H127=\"\",\"SIN RESPUESTA\",(IF(H127<=J127,\"A TIEMPO\",\"FUERA DE TIEMPO\"))))","v":"A TIEMPO"},{"$f":"IF(H127=\"\",\"\",NETWORKDAYS(C127+1,H127,DiasNOLaborables))","v":4},{"$f":"IF(NETWORKDAYS(J127+1,H127,DiasNOLaborables)<=0,\"\",NETWORKDAYS(J127+1,H127,DiasNOLaborables))","v":""},null,null,{"$f":"IFERROR(VLOOKUP(E127,$X$51:$Y$64,2),\"\")","v":20}]
[117,20219050116252,"2021-10-05","MODULO CONTACTENOS","SOLICITUD DE INFORMACIÓN Y DOCUMENTOS","SOLICITUD DE INFORMACIÓN HIDROMETEOROLÓGICA","GRUPO DE SERVICIO AL CIUDADANO ","2021-10-11","CORREO ELECTRÓNICO",{"$f":"IFERROR(WORKDAY(C128,P128,DiasNOLaborables),\"\")","v":"2021-11-04"},{"$f":"+IF(C128=\"\",\"\",IF(H128=\"\",\"SIN RESPUESTA\",(IF(H128<=J128,\"A TIEMPO\",\"FUERA DE TIEMPO\"))))","v":"A TIEMPO"},{"$f":"IF(H128=\"\",\"\",NETWORKDAYS(C128+1,H128,DiasNOLaborables))","v":4},{"$f":"IF(NETWORKDAYS(J128+1,H128,DiasNOLaborables)<=0,\"\",NETWORKDAYS(J128+1,H128,DiasNOLaborables))","v":""},null,null,{"$f":"IFERROR(VLOOKUP(E128,$X$51:$Y$64,2),\"\")","v":20}]
[118,20219050116262,"2021-10-05","MODULO CONTACTENOS","SOLICITUD DE INFORMACIÓN Y DOCUMENTOS","SOLICITUD DE INFORMACIÓN HIDROMETEOROLÓGICA","GRUPO DE SERVICIO AL CIUDADANO ","2021-10-11","CORREO ELECTRÓNICO",{"$f":"IFERROR(WORKDAY(C129,P129,DiasNOLaborables),\"\")","v":"2021-11-04"},{"$f":"+IF(C129=\"\",\"\",IF(H129=\"\",\"SIN RESPUESTA\",(IF(H129<=J129,\"A TIEMPO\",\"FUERA DE TIEMPO\"))))","v":"A TIEMPO"},{"$f":"IF(H129=\"\",\"\",NETWORKDAYS(C129+1,H129,DiasNOLaborables))","v":4},{"$f":"IF(NETWORKDAYS(J129+1,H129,DiasNOLaborables)<=0,\"\",NETWORKDAYS(J129+1,H129,DiasNOLaborables))","v":""},null,null,{"$f":"IFERROR(VLOOKUP(E129,$X$51:$Y$64,2),\"\")","v":20}]
[119,20219050116272,"2021-10-05","MODULO CONTACTENOS","SOLICITUD DE INFORMACIÓN Y DOCUMENTOS","SOLICITUD DE INFORMACIÓN HIDROMETEOROLÓGICA","GRUPO DE SERVICIO AL CIUDADANO ","2021-10-11","CORREO ELECTRÓNICO",{"$f":"IFERROR(WORKDAY(C130,P130,DiasNOLaborables),\"\")","v":"2021-11-04"},{"$f":"+IF(C130=\"\",\"\",IF(H130=\"\",\"SIN RESPUESTA\",(IF(H130<=J130,\"A TIEMPO\",\"FUERA DE TIEMPO\"))))","v":"A TIEMPO"},{"$f":"IF(H130=\"\",\"\",NETWORKDAYS(C130+1,H130,DiasNOLaborables))","v":4},{"$f":"IF(NETWORKDAYS(J130+1,H130,DiasNOLaborables)<=0,\"\",NETWORKDAYS(J130+1,H130,DiasNOLaborables))","v":""},null,null,{"$f":"IFERROR(VLOOKUP(E130,$X$51:$Y$64,2),\"\")","v":20}]
[120,20219050116282,"2021-10-05","MODULO CONTACTENOS","SOLICITUD DE INFORMACIÓN Y DOCUMENTOS","SOLICITUD DE INFORMACIÓN HIDROMETEOROLÓGICA","GRUPO DE SERVICIO AL CIUDADANO ","2021-10-11","CORREO ELECTRÓNICO",{"$f":"IFERROR(WORKDAY(C131,P131,DiasNOLaborables),\"\")","v":"2021-11-04"},{"$f":"+IF(C131=\"\",\"\",IF(H131=\"\",\"SIN RESPUESTA\",(IF(H131<=J131,\"A TIEMPO\",\"FUERA DE TIEMPO\"))))","v":"A TIEMPO"},{"$f":"IF(H131=\"\",\"\",NETWORKDAYS(C131+1,H131,DiasNOLaborables))","v":4},{"$f":"IF(NETWORKDAYS(J131+1,H131,DiasNOLaborables)<=0,\"\",NETWORKDAYS(J131+1,H131,DiasNOLaborables))","v":""},null,null,{"$f":"IFERROR(VLOOKUP(E131,$X$51:$Y$64,2),\"\")","v":20}]
[121,20219050116292,"2021-10-05","MODULO CONTACTENOS","SOLICITUD DE INFORMACIÓN Y DOCUMENTOS","SOLICITUD DE INFORMACIÓN HIDROMETEOROLÓGICA","GRUPO DE SERVICIO AL CIUDADANO ","2021-10-11","CORREO ELECTRÓNICO",{"$f":"IFERROR(WORKDAY(C132,P132,DiasNOLaborables),\"\")","v":"2021-11-04"},{"$f":"+IF(C132=\"\",\"\",IF(H132=\"\",\"SIN RESPUESTA\",(IF(H132<=J132,\"A TIEMPO\",\"FUERA DE TIEMPO\"))))","v":"A TIEMPO"},{"$f":"IF(H132=\"\",\"\",NETWORKDAYS(C132+1,H132,DiasNOLaborables))","v":4},{"$f":"IF(NETWORKDAYS(J132+1,H132,DiasNOLaborables)<=0,\"\",NETWORKDAYS(J132+1,H132,DiasNOLaborables))","v":""},null,null,{"$f":"IFERROR(VLOOKUP(E132,$X$51:$Y$64,2),\"\")","v":20}]
[122,20219050116302,"2021-10-05","MODULO CONTACTENOS","SOLICITUD DE INFORMACIÓN Y DOCUMENTOS","SOLICITUD DE INFORMACIÓN HIDROMETEOROLÓGICA","GRUPO DE SERVICIO AL CIUDADANO ","2021-10-11","CORREO ELECTRÓNICO",{"$f":"IFERROR(WORKDAY(C133,P133,DiasNOLaborables),\"\")","v":"2021-11-04"},{"$f":"+IF(C133=\"\",\"\",IF(H133=\"\",\"SIN RESPUESTA\",(IF(H133<=J133,\"A TIEMPO\",\"FUERA DE TIEMPO\"))))","v":"A TIEMPO"},{"$f":"IF(H133=\"\",\"\",NETWORKDAYS(C133+1,H133,DiasNOLaborables))","v":4},{"$f":"IF(NETWORKDAYS(J133+1,H133,DiasNOLaborables)<=0,\"\",NETWORKDAYS(J133+1,H133,DiasNOLaborables))","v":""},null,null,{"$f":"IFERROR(VLOOKUP(E133,$X$51:$Y$64,2),\"\")","v":20}]
[123,20219050116312,"2021-10-05","MODULO CONTACTENOS","SOLICITUD DE INFORMACIÓN Y DOCUMENTOS","SOLICITUD DE INFORMACIÓN HIDROMETEOROLÓGICA","GRUPO DE SERVICIO AL CIUDADANO ","2021-10-11","CORREO ELECTRÓNICO",{"$f":"IFERROR(WORKDAY(C134,P134,DiasNOLaborables),\"\")","v":"2021-11-04"},{"$f":"+IF(C134=\"\",\"\",IF(H134=\"\",\"SIN RESPUESTA\",(IF(H134<=J134,\"A TIEMPO\",\"FUERA DE TIEMPO\"))))","v":"A TIEMPO"},{"$f":"IF(H134=\"\",\"\",NETWORKDAYS(C134+1,H134,DiasNOLaborables))","v":4},{"$f":"IF(NETWORKDAYS(J134+1,H134,DiasNOLaborables)<=0,\"\",NETWORKDAYS(J134+1,H134,DiasNOLaborables))","v":""},null,null,{"$f":"IFERROR(VLOOKUP(E134,$X$51:$Y$64,2),\"\")","v":20}]
[124,20219050116332,"2021-10-05","MODULO CONTACTENOS","SOLICITUD DE INFORMACIÓN Y DOCUMENTOS","SOLICITUD DE INFORMACIÓN HIDROMETEOROLÓGICA","GRUPO DE SERVICIO AL CIUDADANO ","2021-10-11","CORREO ELECTRÓNICO",{"$f":"IFERROR(WORKDAY(C135,P135,DiasNOLaborables),\"\")","v":"2021-11-04"},{"$f":"+IF(C135=\"\",\"\",IF(H135=\"\",\"SIN RESPUESTA\",(IF(H135<=J135,\"A TIEMPO\",\"FUERA DE TIEMPO\"))))","v":"A TIEMPO"},{"$f":"IF(H135=\"\",\"\",NETWORKDAYS(C135+1,H135,DiasNOLaborables))","v":4},{"$f":"IF(NETWORKDAYS(J135+1,H135,DiasNOLaborables)<=0,\"\",NETWORKDAYS(J135+1,H135,DiasNOLaborables))","v":""},null,null,{"$f":"IFERROR(VLOOKUP(E135,$X$51:$Y$64,2),\"\")","v":20}]
[125,20219050116322,"2021-10-05","MODULO CONTACTENOS","SOLICITUD DE INFORMACIÓN Y DOCUMENTOS","SOLICITUD DE INFORMACIÓN HIDROMETEOROLÓGICA","GRUPO DE SERVICIO AL CIUDADANO ","2021-10-11","CORREO ELECTRÓNICO",{"$f":"IFERROR(WORKDAY(C136,P136,DiasNOLaborables),\"\")","v":"2021-11-04"},{"$f":"+IF(C136=\"\",\"\",IF(H136=\"\",\"SIN RESPUESTA\",(IF(H136<=J136,\"A TIEMPO\",\"FUERA DE TIEMPO\"))))","v":"A TIEMPO"},{"$f":"IF(H136=\"\",\"\",NETWORKDAYS(C136+1,H136,DiasNOLaborables))","v":4},{"$f":"IF(NETWORKDAYS(J136+1,H136,DiasNOLaborables)<=0,\"\",NETWORKDAYS(J136+1,H136,DiasNOLaborables))","v":""},null,null,{"$f":"IFERROR(VLOOKUP(E136,$X$51:$Y$64,2),\"\")","v":20}]
[126,20219050116342,"2021-10-05","MODULO CONTACTENOS","SOLICITUD DE INFORMACIÓN Y DOCUMENTOS","SOLICITUD DE INFORMACIÓN HIDROMETEOROLÓGICA","GRUPO DE SERVICIO AL CIUDADANO ","2021-10-11","CORREO ELECTRÓNICO",{"$f":"IFERROR(WORKDAY(C137,P137,DiasNOLaborables),\"\")","v":"2021-11-04"},{"$f":"+IF(C137=\"\",\"\",IF(H137=\"\",\"SIN RESPUESTA\",(IF(H137<=J137,\"A TIEMPO\",\"FUERA DE TIEMPO\"))))","v":"A TIEMPO"},{"$f":"IF(H137=\"\",\"\",NETWORKDAYS(C137+1,H137,DiasNOLaborables))","v":4},{"$f":"IF(NETWORKDAYS(J137+1,H137,DiasNOLaborables)<=0,\"\",NETWORKDAYS(J137+1,H137,DiasNOLaborables))","v":""},null,null,{"$f":"IFERROR(VLOOKUP(E137,$X$51:$Y$64,2),\"\")","v":20}]
[127,20219050116352,"2021-10-05","MODULO CONTACTENOS","SOLICITUD DE INFORMACIÓN Y DOCUMENTOS","SOLICITUD DE INFORMACIÓN HIDROMETEOROLÓGICA","GRUPO DE SERVICIO AL CIUDADANO ","2021-10-11","CORREO ELECTRÓNICO",{"$f":"IFERROR(WORKDAY(C138,P138,DiasNOLaborables),\"\")","v":"2021-11-04"},{"$f":"+IF(C138=\"\",\"\",IF(H138=\"\",\"SIN RESPUESTA\",(IF(H138<=J138,\"A TIEMPO\",\"FUERA DE TIEMPO\"))))","v":"A TIEMPO"},{"$f":"IF(H138=\"\",\"\",NETWORKDAYS(C138+1,H138,DiasNOLaborables))","v":4},{"$f":"IF(NETWORKDAYS(J138+1,H138,DiasNOLaborables)<=0,\"\",NETWORKDAYS(J138+1,H138,DiasNOLaborables))","v":""},null,null,{"$f":"IFERROR(VLOOKUP(E138,$X$51:$Y$64,2),\"\")","v":20}]
[128,20219050116362,"2021-10-05","MODULO CONTACTENOS","SOLICITUD DE INFORMACIÓN Y DOCUMENTOS","SOLICITUD DE INFORMACIÓN HIDROMETEOROLÓGICA","GRUPO DE SERVICIO AL CIUDADANO ","2021-10-12","CORREO ELECTRÓNICO",{"$f":"IFERROR(WORKDAY(C139,P139,DiasNOLaborables),\"\")","v":"2021-11-04"},{"$f":"+IF(C139=\"\",\"\",IF(H139=\"\",\"SIN RESPUESTA\",(IF(H139<=J139,\"A TIEMPO\",\"FUERA DE TIEMPO\"))))","v":"A TIEMPO"},{"$f":"IF(H139=\"\",\"\",NETWORKDAYS(C139+1,H139,DiasNOLaborables))","v":5},{"$f":"IF(NETWORKDAYS(J139+1,H139,DiasNOLaborables)<=0,\"\",NETWORKDAYS(J139+1,H139,DiasNOLaborables))","v":""},null,null,{"$f":"IFERROR(VLOOKUP(E139,$X$51:$Y$64,2),\"\")","v":20}]
[129,20219050116372,"2021-10-05","MODULO CONTACTENOS","SOLICITUD DE INFORMACIÓN Y DOCUMENTOS","SOLICITUD DE INFORMACIÓN HIDROMETEOROLÓGICA","GRUPO DE SERVICIO AL CIUDADANO ","2021-10-12","CORREO ELECTRÓNICO",{"$f":"IFERROR(WORKDAY(C140,P140,DiasNOLaborables),\"\")","v":"2021-11-04"},{"$f":"+IF(C140=\"\",\"\",IF(H140=\"\",\"SIN RESPUESTA\",(IF(H140<=J140,\"A TIEMPO\",\"FUERA DE TIEMPO\"))))","v":"A TIEMPO"},{"$f":"IF(H140=\"\",\"\",NETWORKDAYS(C140+1,H140,DiasNOLaborables))","v":5},{"$f":"IF(NETWORKDAYS(J140+1,H140,DiasNOLaborables)<=0,\"\",NETWORKDAYS(J140+1,H140,DiasNOLaborables))","v":""},null,null,{"$f":"IFERROR(VLOOKUP(E140,$X$51:$Y$64,2),\"\")","v":20}]
[130,20219050116382,"2021-10-05","MODULO CONTACTENOS","SOLICITUD DE INFORMACIÓN Y DOCUMENTOS","SOLICITUD DE INFORMACIÓN HIDROMETEOROLÓGICA","GRUPO DE SERVICIO AL CIUDADANO ","2021-10-12","CORREO ELECTRÓNICO",{"$f":"IFERROR(WORKDAY(C141,P141,DiasNOLaborables),\"\")","v":"2021-11-04"},{"$f":"+IF(C141=\"\",\"\",IF(H141=\"\",\"SIN RESPUESTA\",(IF(H141<=J141,\"A TIEMPO\",\"FUERA DE TIEMPO\"))))","v":"A TIEMPO"},{"$f":"IF(H141=\"\",\"\",NETWORKDAYS(C141+1,H141,DiasNOLaborables))","v":5},{"$f":"IF(NETWORKDAYS(J141+1,H141,DiasNOLaborables)<=0,\"\",NETWORKDAYS(J141+1,H141,DiasNOLaborables))","v":""},null,null,{"$f":"IFERROR(VLOOKUP(E141,$X$51:$Y$64,2),\"\")","v":20}]
[{"$f":"IF(B142<>\"\",A141+1,\"\")","v":131},20219050116392,"2021-10-05","MODULO CONTACTENOS","SOLICITUD DE INFORMACIÓN Y DOCUMENTOS","SOLICITUD DE INFORMACIÓN HIDROMETEOROLÓGICA","GRUPO DE SERVICIO AL CIUDADANO ","2021-10-12","CORREO ELECTRÓNICO",{"$f":"IFERROR(WORKDAY(C142,P142,DiasNOLaborables),\"\")","v":"2021-11-04"},{"$f":"+IF(C142=\"\",\"\",IF(H142=\"\",\"SIN RESPUESTA\",(IF(H142<=J142,\"A TIEMPO\",\"FUERA DE TIEMPO\"))))","v":"A TIEMPO"},{"$f":"IF(H142=\"\",\"\",NETWORKDAYS(C142+1,H142,DiasNOLaborables))","v":5},{"$f":"IF(NETWORKDAYS(J142+1,H142,DiasNOLaborables)<=0,\"\",NETWORKDAYS(J142+1,H142,DiasNOLaborables))","v":""},null,null,{"$f":"IFERROR(VLOOKUP(E142,$X$51:$Y$64,2),\"\")","v":20}]
[132,20219050116022,"2021-10-05","MODULO CONTACTENOS","SOLICITUD DE INFORMACIÓN Y DOCUMENTOS","SOLICITUD DE INFORMACIÓN HIDROMETEOROLÓGICA","GRUPO DE SERVICIO AL CIUDADANO ","2021-10-07","CORREO ELECTRÓNICO",{"$f":"IFERROR(WORKDAY(C143,P143,DiasNOLaborables),\"\")","v":"2021-11-04"},{"$f":"+IF(C143=\"\",\"\",IF(H143=\"\",\"SIN RESPUESTA\",(IF(H143<=J143,\"A TIEMPO\",\"FUERA DE TIEMPO\"))))","v":"A TIEMPO"},{"$f":"IF(H143=\"\",\"\",NETWORKDAYS(C143+1,H143,DiasNOLaborables))","v":2},{"$f":"IF(NETWORKDAYS(J143+1,H143,DiasNOLaborables)<=0,\"\",NETWORKDAYS(J143+1,H143,DiasNOLaborables))","v":""},null,null,{"$f":"IFERROR(VLOOKUP(E143,$X$51:$Y$64,2),\"\")","v":20}]
[133,20219050116072,"2021-10-05","MODULO CONTACTENOS","SOLICITUD DE INFORMACIÓN Y DOCUMENTOS","SOLICITUD DE INFORMACIÓN HIDROMETEOROLÓGICA","GRUPO DE SERVICIO AL CIUDADANO ","2021-10-07","CORREO ELECTRÓNICO",{"$f":"IFERROR(WORKDAY(C144,P144,DiasNOLaborables),\"\")","v":"2021-11-04"},{"$f":"+IF(C144=\"\",\"\",IF(H144=\"\",\"SIN RESPUESTA\",(IF(H144<=J144,\"A TIEMPO\",\"FUERA DE TIEMPO\"))))","v":"A TIEMPO"},{"$f":"IF(H144=\"\",\"\",NETWORKDAYS(C144+1,H144,DiasNOLaborables))","v":2},{"$f":"IF(NETWORKDAYS(J144+1,H144,DiasNOLaborables)<=0,\"\",NETWORKDAYS(J144+1,H144,DiasNOLaborables))","v":""},null,null,{"$f":"IFERROR(VLOOKUP(E144,$X$51:$Y$64,2),\"\")","v":20}]
[134,20219050116082,"2021-10-05","MODULO CONTACTENOS","SOLICITUD DE INFORMACIÓN Y DOCUMENTOS","SOLICITUD DE INFORMACIÓN HIDROMETEOROLÓGICA","GRUPO DE SERVICIO AL CIUDADANO ","2021-10-07","CORREO ELECTRÓNICO",{"$f":"IFERROR(WORKDAY(C145,P145,DiasNOLaborables),\"\")","v":"2021-11-04"},{"$f":"+IF(C145=\"\",\"\",IF(H145=\"\",\"SIN RESPUESTA\",(IF(H145<=J145,\"A TIEMPO\",\"FUERA DE TIEMPO\"))))","v":"A TIEMPO"},{"$f":"IF(H145=\"\",\"\",NETWORKDAYS(C145+1,H145,DiasNOLaborables))","v":2},{"$f":"IF(NETWORKDAYS(J145+1,H145,DiasNOLaborables)<=0,\"\",NETWORKDAYS(J145+1,H145,DiasNOLaborables))","v":""},null,null,{"$f":"IFERROR(VLOOKUP(E145,$X$51:$Y$64,2),\"\")","v":20}]
[135,20219050116112,"2021-10-05","MODULO CONTACTENOS","SOLICITUD DE INFORMACIÓN Y DOCUMENTOS","SOLICITUD DE INFORMACIÓN HIDROMETEOROLÓGICA","GRUPO DE SERVICIO AL CIUDADANO ","2021-10-07","CORREO ELECTRÓNICO",{"$f":"IFERROR(WORKDAY(C146,P146,DiasNOLaborables),\"\")","v":"2021-11-04"},{"$f":"+IF(C146=\"\",\"\",IF(H146=\"\",\"SIN RESPUESTA\",(IF(H146<=J146,\"A TIEMPO\",\"FUERA DE TIEMPO\"))))","v":"A TIEMPO"},{"$f":"IF(H146=\"\",\"\",NETWORKDAYS(C146+1,H146,DiasNOLaborables))","v":2},{"$f":"IF(NETWORKDAYS(J146+1,H146,DiasNOLaborables)<=0,\"\",NETWORKDAYS(J146+1,H146,DiasNOLaborables))","v":""},null,null,{"$f":"IFERROR(VLOOKUP(E146,$X$51:$Y$64,2),\"\")","v":20}]
[136,20219050116032,"2021-10-05","MODULO CONTACTENOS","SOLICITUD DE INFORMACIÓN Y DOCUMENTOS","SOLICITUD DE INFORMACIÓN HIDROMETEOROLÓGICA","GRUPO DE SERVICIO AL CIUDADANO ","2021-10-08","CORREO ELECTRÓNICO",{"$f":"IFERROR(WORKDAY(C147,P147,DiasNOLaborables),\"\")","v":"2021-11-04"},{"$f":"+IF(C147=\"\",\"\",IF(H147=\"\",\"SIN RESPUESTA\",(IF(H147<=J147,\"A TIEMPO\",\"FUERA DE TIEMPO\"))))","v":"A TIEMPO"},{"$f":"IF(H147=\"\",\"\",NETWORKDAYS(C147+1,H147,DiasNOLaborables))","v":3},{"$f":"IF(NETWORKDAYS(J147+1,H147,DiasNOLaborables)<=0,\"\",NETWORKDAYS(J147+1,H147,DiasNOLaborables))","v":""},null,null,{"$f":"IFERROR(VLOOKUP(E147,$X$51:$Y$64,2),\"\")","v":20}]
[137,20219050116162,"2021-10-05","CORREO ELECTRÓNICO","SOLICITUD DE INFORMACIÓN Y DOCUMENTOS","SOLICITUD DE INFORMACIÓN HIDROMETEOROLÓGICA","GRUPO DE SERVICIO AL CIUDADANO ","2021-10-08","CORREO ELECTRÓNICO",{"$f":"IFERROR(WORKDAY(C148,P148,DiasNOLaborables),\"\")","v":"2021-11-04"},{"$f":"+IF(C148=\"\",\"\",IF(H148=\"\",\"SIN RESPUESTA\",(IF(H148<=J148,\"A TIEMPO\",\"FUERA DE TIEMPO\"))))","v":"A TIEMPO"},{"$f":"IF(H148=\"\",\"\",NETWORKDAYS(C148+1,H148,DiasNOLaborables))","v":3},{"$f":"IF(NETWORKDAYS(J148+1,H148,DiasNOLaborables)<=0,\"\",NETWORKDAYS(J148+1,H148,DiasNOLaborables))","v":""},null,null,{"$f":"IFERROR(VLOOKUP(E148,$X$51:$Y$64,2),\"\")","v":20}]
[138,20219050116192,"2021-10-05","CORREO ELECTRÓNICO","SOLICITUD DE INFORMACIÓN Y DOCUMENTOS","SOLICITUD DE INFORMACIÓN HIDROMETEOROLÓGICA","GRUPO DE SERVICIO AL CIUDADANO ","2021-10-10","CORREO ELECTRÓNICO",{"$f":"IFERROR(WORKDAY(C149,P149,DiasNOLaborables),\"\")","v":"2021-11-04"},{"$f":"+IF(C149=\"\",\"\",IF(H149=\"\",\"SIN RESPUESTA\",(IF(H149<=J149,\"A TIEMPO\",\"FUERA DE TIEMPO\"))))","v":"A TIEMPO"},{"$f":"IF(H149=\"\",\"\",NETWORKDAYS(C149+1,H149,DiasNOLaborables))","v":3},{"$f":"IF(NETWORKDAYS(J149+1,H149,DiasNOLaborables)<=0,\"\",NETWORKDAYS(J149+1,H149,DiasNOLaborables))","v":""},null,null,{"$f":"IFERROR(VLOOKUP(E149,$X$51:$Y$64,2),\"\")","v":20}]
[139,20219050116222,"2021-10-05","MODULO CONTACTENOS","SOLICITUD DE INFORMACIÓN Y DOCUMENTOS","SOLICITUD DE INFORMACIÓN HIDROMETEOROLÓGICA","GRUPO DE SERVICIO AL CIUDADANO ","2021-10-10","CORREO ELECTRÓNICO",{"$f":"IFERROR(WORKDAY(C150,P150,DiasNOLaborables),\"\")","v":"2021-11-04"},{"$f":"+IF(C150=\"\",\"\",IF(H150=\"\",\"SIN RESPUESTA\",(IF(H150<=J150,\"A TIEMPO\",\"FUERA DE TIEMPO\"))))","v":"A TIEMPO"},{"$f":"IF(H150=\"\",\"\",NETWORKDAYS(C150+1,H150,DiasNOLaborables))","v":3},{"$f":"IF(NETWORKDAYS(J150+1,H150,DiasNOLaborables)<=0,\"\",NETWORKDAYS(J150+1,H150,DiasNOLaborables))","v":""},null,null,{"$f":"IFERROR(VLOOKUP(E150,$X$51:$Y$64,2),\"\")","v":20}]
[140,20219050115962,"2021-10-05","CORREO ELECTRÓNICO","SOLICITUD DE INFORMACIÓN Y DOCUMENTOS","ADMINISTRATIVA","GRUPO DE ADMINISTRACIÓN Y DESARROLLO DEL TALENTO HUMANO","2021-10-05","CORREO ELECTRÓNICO",{"$f":"IFERROR(WORKDAY(C151,P151,DiasNOLaborables),\"\")","v":"2021-11-04"},{"$f":"+IF(C151=\"\",\"\",IF(H151=\"\",\"SIN RESPUESTA\",(IF(H151<=J151,\"A TIEMPO\",\"FUERA DE TIEMPO\"))))","v":"A TIEMPO"},{"$f":"IF(H151=\"\",\"\",NETWORKDAYS(C151+1,H151,DiasNOLaborables))","v":-2},{"$f":"IF(NETWORKDAYS(J151+1,H151,DiasNOLaborables)<=0,\"\",NETWORKDAYS(J151+1,H151,DiasNOLaborables))","v":""},null,null,{"$f":"IFERROR(VLOOKUP(E151,$X$51:$Y$64,2),\"\")","v":20}]
[141,20219050115982,"2021-10-05","CORREO ELECTRÓNICO","SOLICITUD DE INFORMACIÓN Y DOCUMENTOS","SOLICITUD DE INFORMACIÓN HIDROMETEOROLÓGICA","SUBDIRECCIÓN DE METEOROLOGÍA","2021-11-04","CORREO ELECTRÓNICO",{"$f":"IFERROR(WORKDAY(C152,P152,DiasNOLaborables),\"\")","v":"2021-11-04"},{"$f":"+IF(C152=\"\",\"\",IF(H152=\"\",\"SIN RESPUESTA\",(IF(H152<=J152,\"A TIEMPO\",\"FUERA DE TIEMPO\"))))","v":"A TIEMPO"},{"$f":"IF(H152=\"\",\"\",NETWORKDAYS(C152+1,H152,DiasNOLaborables))","v":20},{"$f":"IF(NETWORKDAYS(J152+1,H152,DiasNOLaborables)<=0,\"\",NETWORKDAYS(J152+1,H152,DiasNOLaborables))","v":""},null,null,{"$f":"IFERROR(VLOOKUP(E152,$X$51:$Y$64,2),\"\")","v":20}]
[142,20219050115992,"2021-10-05","CORREO ELECTRÓNICO","SOLICITUD DE INFORMACIÓN Y DOCUMENTOS","SOLICITUD DE INFORMACIÓN HIDROMETEOROLÓGICA","SUBDIRECCIÓN DE METEOROLOGÍA","2021-10-05","CORREO ELECTRÓNICO",{"$f":"IFERROR(WORKDAY(C153,P153,DiasNOLaborables),\"\")","v":"2021-11-04"},{"$f":"+IF(C153=\"\",\"\",IF(H153=\"\",\"SIN RESPUESTA\",(IF(H153<=J153,\"A TIEMPO\",\"FUERA DE TIEMPO\"))))","v":"A TIEMPO"},{"$f":"IF(H153=\"\",\"\",NETWORKDAYS(C153+1,H153,DiasNOLaborables))","v":-2},{"$f":"IF(NETWORKDAYS(J153+1,H153,DiasNOLaborables)<=0,\"\",NETWORKDAYS(J153+1,H153,DiasNOLaborables))","v":""},null,null,{"$f":"IFERROR(VLOOKUP(E153,$X$51:$Y$64,2),\"\")","v":20}]
[143,20219050116002,"2021-10-05","CORREO ELECTRÓNICO","CERTIFICACIONES DE TIEMPO, CLIMA Y EVENTOS HIDROLÓGICOS","CERTIFICACIONES DE TIEMPO Y CLIMA","SUBDIRECCIÓN DE METEOROLOGÍA","2021-10-25","CORREO ELECTRÓNICO",{"$f":"IFERROR(WORKDAY(C154,P154,DiasNOLaborables),\"\")","v":"2021-11-26"},{"$f":"+IF(C154=\"\",\"\",IF(H154=\"\",\"SIN RESPUESTA\",(IF(H154<=J154,\"A TIEMPO\",\"FUERA DE TIEMPO\"))))","v":"A TIEMPO"},{"$f":"IF(H154=\"\",\"\",NETWORKDAYS(C154+1,H154,DiasNOLaborables))","v":13},{"$f":"IF(NETWORKDAYS(J154+1,H154,DiasNOLaborables)<=0,\"\",NETWORKDAYS(J154+1,H154,DiasNOLaborables))","v":""},null,null,{"$f":"IFERROR(VLOOKUP(E154,$X$51:$Y$64,2),\"\")","v":35}]
[144,20219050116062,"2021-10-05","CORREO ELECTRÓNICO","CERTIFICACIONES DE TIEMPO, CLIMA Y EVENTOS HIDROLÓGICOS","CERTIFICACIONES DE TIEMPO Y CLIMA","SUBDIRECCIÓN DE METEOROLOGÍA","2021-11-05","CORREO ELECTRÓNICO",{"$f":"IFERROR(WORKDAY(C155,P155,DiasNOLaborables),\"\")","v":"2021-11-26"},{"$f":"+IF(C155=\"\",\"\",IF(H155=\"\",\"SIN RESPUESTA\",(IF(H155<=J155,\"A TIEMPO\",\"FUERA DE TIEMPO\"))))","v":"A TIEMPO"},{"$f":"IF(H155=\"\",\"\",NETWORKDAYS(C155+1,H155,DiasNOLaborables))","v":21},{"$f":"IF(NETWORKDAYS(J155+1,H155,DiasNOLaborables)<=0,\"\",NETWORKDAYS(J155+1,H155,DiasNOLaborables))","v":""},null,null,{"$f":"IFERROR(VLOOKUP(E155,$X$51:$Y$64,2),\"\")","v":35}]
[145,20219050116092,"2021-10-05","CORREO ELECTRÓNICO","CERTIFICACIONES DE TIEMPO, CLIMA Y EVENTOS HIDROLÓGICOS","CERTIFICACIONES DE TIEMPO Y CLIMA","SUBDIRECCIÓN DE METEOROLOGÍA","2021-10-26","CORREO ELECTRÓNICO",{"$f":"IFERROR(WORKDAY(C156,P156,DiasNOLaborables),\"\")","v":"2021-11-26"},{"$f":"+IF(C156=\"\",\"\",IF(H156=\"\",\"SIN RESPUESTA\",(IF(H156<=J156,\"A TIEMPO\",\"FUERA DE TIEMPO\"))))","v":"A TIEMPO"},{"$f":"IF(H156=\"\",\"\",NETWORKDAYS(C156+1,H156,DiasNOLaborables))","v":14},{"$f":"IF(NETWORKDAYS(J156+1,H156,DiasNOLaborables)<=0,\"\",NETWORKDAYS(J156+1,H156,DiasNOLaborables))","v":""},null,null,{"$f":"IFERROR(VLOOKUP(E156,$X$51:$Y$64,2),\"\")","v":35}]
[146,20219050116172,"2021-10-05","CORREO ELECTRÓNICO","PETICIÓN","JURIDICO","OFICINA ASESORA JURÍDICA","2021-11-12","CORREO ELECTRÓNICO",{"$f":"IFERROR(WORKDAY(C157,P157,DiasNOLaborables),\"\")","v":"2021-11-19"},{"$f":"+IF(C157=\"\",\"\",IF(H157=\"\",\"SIN RESPUESTA\",(IF(H157<=J157,\"A TIEMPO\",\"FUERA DE TIEMPO\"))))","v":"A TIEMPO"},{"$f":"IF(H157=\"\",\"\",NETWORKDAYS(C157+1,H157,DiasNOLaborables))","v":26},{"$f":"IF(NETWORKDAYS(J157+1,H157,DiasNOLaborables)<=0,\"\",NETWORKDAYS(J157+1,H157,DiasNOLaborables))","v":""},null,null,{"$f":"IFERROR(VLOOKUP(E157,$X$51:$Y$64,2),\"\")","v":30}]
[147,20219050116052,"2021-10-05","MODULO CONTACTENOS","SOLICITUD DE INFORMACIÓN Y DOCUMENTOS","ADMINISTRATIVA","GRUPO DE TESORERÍA","2021-10-08","CORREO ELECTRÓNICO",{"$f":"IFERROR(WORKDAY(C158,P158,DiasNOLaborables),\"\")","v":"2021-11-04"},{"$f":"+IF(C158=\"\",\"\",IF(H158=\"\",\"SIN RESPUESTA\",(IF(H158<=J158,\"A TIEMPO\",\"FUERA DE TIEMPO\"))))","v":"A TIEMPO"},{"$f":"IF(H158=\"\",\"\",NETWORKDAYS(C158+1,H158,DiasNOLaborables))","v":3},{"$f":"IF(NETWORKDAYS(J158+1,H158,DiasNOLaborables)<=0,\"\",NETWORKDAYS(J158+1,H158,DiasNOLaborables))","v":""},null,null,{"$f":"IFERROR(VLOOKUP(E158,$X$51:$Y$64,2),\"\")","v":20}]
[148,20219050116182,"2021-10-05","MODULO CONTACTENOS","SOLICITUD DE INFORMACIÓN Y DOCUMENTOS","OPERACIÓN DE REDES","SUBDIRECCIÓN DE HIDROLOGÍA","2021-10-12","CORREO ELECTRÓNICO",{"$f":"IFERROR(WORKDAY(C159,P159,DiasNOLaborables),\"\")","v":"2021-11-04"},{"$f":"+IF(C159=\"\",\"\",IF(H159=\"\",\"SIN RESPUESTA\",(IF(H159<=J159,\"A TIEMPO\",\"FUERA DE TIEMPO\"))))","v":"A TIEMPO"},{"$f":"IF(H159=\"\",\"\",NETWORKDAYS(C159+1,H159,DiasNOLaborables))","v":5},{"$f":"IF(NETWORKDAYS(J159+1,H159,DiasNOLaborables)<=0,\"\",NETWORKDAYS(J159+1,H159,DiasNOLaborables))","v":""},null,null,{"$f":"IFERROR(VLOOKUP(E159,$X$51:$Y$64,2),\"\")","v":20}]
[149,20219050116132,"2021-10-05","MODULO CONTACTENOS","SOLICITUD DE INFORMACIÓN Y DOCUMENTOS","REGISTROS AMBIENTALES","SUBDIRECCIÓN DE ESTUDIOS AMBIENTALES","2021-10-13","CORREO ELECTRÓNICO",{"$f":"IFERROR(WORKDAY(C160,P160,DiasNOLaborables),\"\")","v":"2021-11-04"},{"$f":"+IF(C160=\"\",\"\",IF(H160=\"\",\"SIN RESPUESTA\",(IF(H160<=J160,\"A TIEMPO\",\"FUERA DE TIEMPO\"))))","v":"A TIEMPO"},{"$f":"IF(H160=\"\",\"\",NETWORKDAYS(C160+1,H160,DiasNOLaborables))","v":6},{"$f":"IF(NETWORKDAYS(J160+1,H160,DiasNOLaborables)<=0,\"\",NETWORKDAYS(J160+1,H160,DiasNOLaborables))","v":""},null,null,{"$f":"IFERROR(VLOOKUP(E160,$X$51:$Y$64,2),\"\")","v":20}]
[150,20219050116152,"2021-10-05","MODULO CONTACTENOS","SOLICITUD DE INFORMACIÓN Y DOCUMENTOS","SIA","SUBDIRECCIÓN DE ECOSISTEMAS E INFORMACIÓN AMBIENTAL","2021-10-19","CORREO ELECTRÓNICO",{"$f":"IFERROR(WORKDAY(C161,P161,DiasNOLaborables),\"\")","v":"2021-11-04"},{"$f":"+IF(C161=\"\",\"\",IF(H161=\"\",\"SIN RESPUESTA\",(IF(H161<=J161,\"A TIEMPO\",\"FUERA DE TIEMPO\"))))","v":"A TIEMPO"},{"$f":"IF(H161=\"\",\"\",NETWORKDAYS(C161+1,H161,DiasNOLaborables))","v":9},{"$f":"IF(NETWORKDAYS(J161+1,H161,DiasNOLaborables)<=0,\"\",NETWORKDAYS(J161+1,H161,DiasNOLaborables))","v":""},null,null,{"$f":"IFERROR(VLOOKUP(E161,$X$51:$Y$64,2),\"\")","v":20}]
[151,20219050116202,"2021-10-05","MODULO CONTACTENOS","SOLICITUD DE INFORMACIÓN Y DOCUMENTOS","ADMINISTRATIVA","GRUPO DE TESORERÍA","2021-10-08","CORREO ELECTRÓNICO",{"$f":"IFERROR(WORKDAY(C162,P162,DiasNOLaborables),\"\")","v":"2021-11-04"},{"$f":"+IF(C162=\"\",\"\",IF(H162=\"\",\"SIN RESPUESTA\",(IF(H162<=J162,\"A TIEMPO\",\"FUERA DE TIEMPO\"))))","v":"A TIEMPO"},{"$f":"IF(H162=\"\",\"\",NETWORKDAYS(C162+1,H162,DiasNOLaborables))","v":3},{"$f":"IF(NETWORKDAYS(J162+1,H162,DiasNOLaborables)<=0,\"\",NETWORKDAYS(J162+1,H162,DiasNOLaborables))","v":""},null,null,{"$f":"IFERROR(VLOOKUP(E162,$X$51:$Y$64,2),\"\")","v":20}]
[152,20219050116212,"2021-10-05","MODULO CONTACTENOS","SOLICITUD DE INFORMACIÓN Y DOCUMENTOS","BOSQUES","SUBDIRECCIÓN DE ECOSISTEMAS E INFORMACIÓN AMBIENTAL","2021-10-06","CORREO ELECTRÓNICO",{"$f":"IFERROR(WORKDAY(C163,P163,DiasNOLaborables),\"\")","v":"2021-11-04"},{"$f":"+IF(C163=\"\",\"\",IF(H163=\"\",\"SIN RESPUESTA\",(IF(H163<=J163,\"A TIEMPO\",\"FUERA DE TIEMPO\"))))","v":"A TIEMPO"},{"$f":"IF(H163=\"\",\"\",NETWORKDAYS(C163+1,H163,DiasNOLaborables))","v":1},{"$f":"IF(NETWORKDAYS(J163+1,H163,DiasNOLaborables)<=0,\"\",NETWORKDAYS(J163+1,H163,DiasNOLaborables))","v":""},null,null,{"$f":"IFERROR(VLOOKUP(E163,$X$51:$Y$64,2),\"\")","v":20}]
[153,20219050116482,"2021-10-06","MODULO CONTACTENOS","SOLICITUD DE INFORMACIÓN Y DOCUMENTOS","REGISTROS AMBIENTALES","SUBDIRECCIÓN DE ESTUDIOS AMBIENTALES","2021-11-03","CORREO ELECTRÓNICO",{"$f":"IFERROR(WORKDAY(C164,P164,DiasNOLaborables),\"\")","v":"2021-11-05"},{"$f":"+IF(C164=\"\",\"\",IF(H164=\"\",\"SIN RESPUESTA\",(IF(H164<=J164,\"A TIEMPO\",\"FUERA DE TIEMPO\"))))","v":"A TIEMPO"},{"$f":"IF(H164=\"\",\"\",NETWORKDAYS(C164+1,H164,DiasNOLaborables))","v":18},{"$f":"IF(NETWORKDAYS(J164+1,H164,DiasNOLaborables)<=0,\"\",NETWORKDAYS(J164+1,H164,DiasNOLaborables))","v":""},null,null,{"$f":"IFERROR(VLOOKUP(E164,$X$51:$Y$64,2),\"\")","v":20}]
[154,20219050116582,"2021-10-06","MODULO CONTACTENOS","CERTIFICACIONES DE TIEMPO, CLIMA Y EVENTOS HIDROLÓGICOS","CERTIFICACIONES DE TIEMPO Y CLIMA","SUBDIRECCIÓN DE METEOROLOGÍA","2021-11-02","CORREO ELECTRÓNICO",{"$f":"IFERROR(WORKDAY(C165,P165,DiasNOLaborables),\"\")","v":"2021-11-29"},{"$f":"+IF(C165=\"\",\"\",IF(H165=\"\",\"SIN RESPUESTA\",(IF(H165<=J165,\"A TIEMPO\",\"FUERA DE TIEMPO\"))))","v":"A TIEMPO"},{"$f":"IF(H165=\"\",\"\",NETWORKDAYS(C165+1,H165,DiasNOLaborables))","v":17},{"$f":"IF(NETWORKDAYS(J165+1,H165,DiasNOLaborables)<=0,\"\",NETWORKDAYS(J165+1,H165,DiasNOLaborables))","v":""},null,null,{"$f":"IFERROR(VLOOKUP(E165,$X$51:$Y$64,2),\"\")","v":35}]
[155,20219050116692,"2021-10-06","MODULO CONTACTENOS","SOLICITUD DE INFORMACIÓN Y DOCUMENTOS","VISITAS ACADÉMICAS","GRUPO DE SERVICIO AL CIUDADANO ","2021-10-14","CORREO ELECTRÓNICO",{"$f":"IFERROR(WORKDAY(C166,P166,DiasNOLaborables),\"\")","v":"2021-11-05"},{"$f":"+IF(C166=\"\",\"\",IF(H166=\"\",\"SIN RESPUESTA\",(IF(H166<=J166,\"A TIEMPO\",\"FUERA DE TIEMPO\"))))","v":"A TIEMPO"},{"$f":"IF(H166=\"\",\"\",NETWORKDAYS(C166+1,H166,DiasNOLaborables))","v":6},{"$f":"IF(NETWORKDAYS(J166+1,H166,DiasNOLaborables)<=0,\"\",NETWORKDAYS(J166+1,H166,DiasNOLaborables))","v":""},null,null,{"$f":"IFERROR(VLOOKUP(E166,$X$51:$Y$64,2),\"\")","v":20}]
[156,20219050116772,"2021-10-06","MODULO CONTACTENOS","SOLICITUD DE INFORMACIÓN Y DOCUMENTOS","ACREDITACIÓN DE LABORATORIOS","SUBDIRECCIÓN DE ESTUDIOS AMBIENTALES","2021-10-20","CORREO ELECTRÓNICO",{"$f":"IFERROR(WORKDAY(C167,P167,DiasNOLaborables),\"\")","v":"2021-11-05"},{"$f":"+IF(C167=\"\",\"\",IF(H167=\"\",\"SIN RESPUESTA\",(IF(H167<=J167,\"A TIEMPO\",\"FUERA DE TIEMPO\"))))","v":"A TIEMPO"},{"$f":"IF(H167=\"\",\"\",NETWORKDAYS(C167+1,H167,DiasNOLaborables))","v":9},{"$f":"IF(NETWORKDAYS(J167+1,H167,DiasNOLaborables)<=0,\"\",NETWORKDAYS(J167+1,H167,DiasNOLaborables))","v":""},null,null,{"$f":"IFERROR(VLOOKUP(E167,$X$51:$Y$64,2),\"\")","v":20}]
[157,20219050116472,"2021-10-06","MODULO CONTACTENOS","SOLICITUD DE INFORMACIÓN Y DOCUMENTOS","SOLICITUD DE INFORMACIÓN HIDROMETEOROLÓGICA","GRUPO DE SERVICIO AL CIUDADANO ","2021-10-11","CORREO ELECTRÓNICO",{"$f":"IFERROR(WORKDAY(C168,P168,DiasNOLaborables),\"\")","v":"2021-11-05"},{"$f":"+IF(C168=\"\",\"\",IF(H168=\"\",\"SIN RESPUESTA\",(IF(H168<=J168,\"A TIEMPO\",\"FUERA DE TIEMPO\"))))","v":"A TIEMPO"},{"$f":"IF(H168=\"\",\"\",NETWORKDAYS(C168+1,H168,DiasNOLaborables))","v":3},{"$f":"IF(NETWORKDAYS(J168+1,H168,DiasNOLaborables)<=0,\"\",NETWORKDAYS(J168+1,H168,DiasNOLaborables))","v":""},null,null,{"$f":"IFERROR(VLOOKUP(E168,$X$51:$Y$64,2),\"\")","v":20}]
[158,20219050116542,"2021-10-06","MODULO CONTACTENOS","SOLICITUD DE INFORMACIÓN Y DOCUMENTOS","SOLICITUD DE INFORMACIÓN HIDROMETEOROLÓGICA","GRUPO DE SERVICIO AL CIUDADANO ","2021-10-11","CORREO ELECTRÓNICO",{"$f":"IFERROR(WORKDAY(C169,P169,DiasNOLaborables),\"\")","v":"2021-11-05"},{"$f":"+IF(C169=\"\",\"\",IF(H169=\"\",\"SIN RESPUESTA\",(IF(H169<=J169,\"A TIEMPO\",\"FUERA DE TIEMPO\"))))","v":"A TIEMPO"},{"$f":"IF(H169=\"\",\"\",NETWORKDAYS(C169+1,H169,DiasNOLaborables))","v":3},{"$f":"IF(NETWORKDAYS(J169+1,H169,DiasNOLaborables)<=0,\"\",NETWORKDAYS(J169+1,H169,DiasNOLaborables))","v":""},null,null,{"$f":"IFERROR(VLOOKUP(E169,$X$51:$Y$64,2),\"\")","v":20}]
[159,20219050116572,"2021-10-06","MODULO CONTACTENOS","SOLICITUD DE INFORMACIÓN Y DOCUMENTOS","SOLICITUD DE INFORMACIÓN HIDROMETEOROLÓGICA","GRUPO DE SERVICIO AL CIUDADANO ","2021-10-11","CORREO ELECTRÓNICO",{"$f":"IFERROR(WORKDAY(C170,P170,DiasNOLaborables),\"\")","v":"2021-11-05"},{"$f":"+IF(C170=\"\",\"\",IF(H170=\"\",\"SIN RESPUESTA\",(IF(H170<=J170,\"A TIEMPO\",\"FUERA DE TIEMPO\"))))","v":"A TIEMPO"},{"$f":"IF(H170=\"\",\"\",NETWORKDAYS(C170+1,H170,DiasNOLaborables))","v":3},{"$f":"IF(NETWORKDAYS(J170+1,H170,DiasNOLaborables)<=0,\"\",NETWORKDAYS(J170+1,H170,DiasNOLaborables))","v":""},null,null,{"$f":"IFERROR(VLOOKUP(E170,$X$51:$Y$64,2),\"\")","v":20}]
[160,20219050116622,"2021-10-06","MODULO CONTACTENOS","SOLICITUD DE INFORMACIÓN Y DOCUMENTOS","SOLICITUD DE INFORMACIÓN HIDROMETEOROLÓGICA","GRUPO DE SERVICIO AL CIUDADANO ","2021-10-11","CORREO ELECTRÓNICO",{"$f":"IFERROR(WORKDAY(C171,P171,DiasNOLaborables),\"\")","v":"2021-11-05"},{"$f":"+IF(C171=\"\",\"\",IF(H171=\"\",\"SIN RESPUESTA\",(IF(H171<=J171,\"A TIEMPO\",\"FUERA DE TIEMPO\"))))","v":"A TIEMPO"},{"$f":"IF(H171=\"\",\"\",NETWORKDAYS(C171+1,H171,DiasNOLaborables))","v":3},{"$f":"IF(NETWORKDAYS(J171+1,H171,DiasNOLaborables)<=0,\"\",NETWORKDAYS(J171+1,H171,DiasNOLaborables))","v":""},null,null,{"$f":"IFERROR(VLOOKUP(E171,$X$51:$Y$64,2),\"\")","v":20}]
[161,20219050116632,"2021-10-06","MODULO CONTACTENOS","SOLICITUD DE INFORMACIÓN Y DOCUMENTOS","SOLICITUD DE INFORMACIÓN HIDROMETEOROLÓGICA","GRUPO DE SERVICIO AL CIUDADANO ","2021-10-11","CORREO ELECTRÓNICO",{"$f":"IFERROR(WORKDAY(C172,P172,DiasNOLaborables),\"\")","v":"2021-11-05"},{"$f":"+IF(C172=\"\",\"\",IF(H172=\"\",\"SIN RESPUESTA\",(IF(H172<=J172,\"A TIEMPO\",\"FUERA DE TIEMPO\"))))","v":"A TIEMPO"},{"$f":"IF(H172=\"\",\"\",NETWORKDAYS(C172+1,H172,DiasNOLaborables))","v":3},{"$f":"IF(NETWORKDAYS(J172+1,H172,DiasNOLaborables)<=0,\"\",NETWORKDAYS(J172+1,H172,DiasNOLaborables))","v":""},null,null,{"$f":"IFERROR(VLOOKUP(E172,$X$51:$Y$64,2),\"\")","v":20}]
[162,20219050116642,"2021-10-06","MODULO CONTACTENOS","SOLICITUD DE INFORMACIÓN Y DOCUMENTOS","SOLICITUD DE INFORMACIÓN HIDROMETEOROLÓGICA","GRUPO DE SERVICIO AL CIUDADANO ","2021-10-11","CORREO ELECTRÓNICO",{"$f":"IFERROR(WORKDAY(C173,P173,DiasNOLaborables),\"\")","v":"2021-11-05"},{"$f":"+IF(C173=\"\",\"\",IF(H173=\"\",\"SIN RESPUESTA\",(IF(H173<=J173,\"A TIEMPO\",\"FUERA DE TIEMPO\"))))","v":"A TIEMPO"},{"$f":"IF(H173=\"\",\"\",NETWORKDAYS(C173+1,H173,DiasNOLaborables))","v":3},{"$f":"IF(NETWORKDAYS(J173+1,H173,DiasNOLaborables)<=0,\"\",NETWORKDAYS(J173+1,H173,DiasNOLaborables))","v":""},null,null,{"$f":"IFERROR(VLOOKUP(E173,$X$51:$Y$64,2),\"\")","v":20}]
[163,20217080002152,"2021-10-06","CORREO CERTIFICADO","SOLICITUD DE INFORMACIÓN Y DOCUMENTOS","REGISTROS AMBIENTALES","SUBDIRECCIÓN DE ESTUDIOS AMBIENTALES","2021-10-14","CORREO ELECTRÓNICO",{"$f":"IFERROR(WORKDAY(C174,P174,DiasNOLaborables),\"\")","v":"2021-11-05"},{"$f":"+IF(C174=\"\",\"\",IF(H174=\"\",\"SIN RESPUESTA\",(IF(H174<=J174,\"A TIEMPO\",\"FUERA DE TIEMPO\"))))","v":"A TIEMPO"},{"$f":"IF(H174=\"\",\"\",NETWORKDAYS(C174+1,H174,DiasNOLaborables))","v":6},{"$f":"IF(NETWORKDAYS(J174+1,H174,DiasNOLaborables)<=0,\"\",NETWORKDAYS(J174+1,H174,DiasNOLaborables))","v":""},null,null,{"$f":"IFERROR(VLOOKUP(E174,$X$51:$Y$64,2),\"\")","v":20}]
[164,20219050116882,"2021-10-06","MODULO CONTACTENOS","SOLICITUD DE INFORMACIÓN Y DOCUMENTOS","ADMINISTRATIVA","OFICINA ASESORA JURÍDICA","2021-10-08","CORREO ELECTRÓNICO",{"$f":"IFERROR(WORKDAY(C175,P175,DiasNOLaborables),\"\")","v":"2021-11-05"},{"$f":"+IF(C175=\"\",\"\",IF(H175=\"\",\"SIN RESPUESTA\",(IF(H175<=J175,\"A TIEMPO\",\"FUERA DE TIEMPO\"))))","v":"A TIEMPO"},{"$f":"IF(H175=\"\",\"\",NETWORKDAYS(C175+1,H175,DiasNOLaborables))","v":2},{"$f":"IF(NETWORKDAYS(J175+1,H175,DiasNOLaborables)<=0,\"\",NETWORKDAYS(J175+1,H175,DiasNOLaborables))","v":""},null,null,{"$f":"IFERROR(VLOOKUP(E175,$X$51:$Y$64,2),\"\")","v":20}]
[165,20219050116412,"2021-10-06","CORREO ELECTRÓNICO","CERTIFICACIONES DE TIEMPO, CLIMA Y EVENTOS HIDROLÓGICOS","CERTIFICACIONES DE TIEMPO Y CLIMA","SUBDIRECCIÓN DE METEOROLOGÍA","2021-10-26","CORREO ELECTRÓNICO",{"$f":"IFERROR(WORKDAY(C176,P176,DiasNOLaborables),\"\")","v":"2021-11-29"},{"$f":"+IF(C176=\"\",\"\",IF(H176=\"\",\"SIN RESPUESTA\",(IF(H176<=J176,\"A TIEMPO\",\"FUERA DE TIEMPO\"))))","v":"A TIEMPO"},{"$f":"IF(H176=\"\",\"\",NETWORKDAYS(C176+1,H176,DiasNOLaborables))","v":13},{"$f":"IF(NETWORKDAYS(J176+1,H176,DiasNOLaborables)<=0,\"\",NETWORKDAYS(J176+1,H176,DiasNOLaborables))","v":""},null,null,{"$f":"IFERROR(VLOOKUP(E176,$X$51:$Y$64,2),\"\")","v":35}]
[166,20219050116492,"2021-10-06","CORREO ELECTRÓNICO","SOLICITUD DE INFORMACIÓN Y DOCUMENTOS","CAMBIO CLIMÁTICO","SUBDIRECCIÓN DE METEOROLOGÍA","2021-10-14","CORREO ELECTRÓNICO",{"$f":"IFERROR(WORKDAY(C177,P177,DiasNOLaborables),\"\")","v":"2021-11-05"},{"$f":"+IF(C177=\"\",\"\",IF(H177=\"\",\"SIN RESPUESTA\",(IF(H177<=J177,\"A TIEMPO\",\"FUERA DE TIEMPO\"))))","v":"A TIEMPO"},{"$f":"IF(H177=\"\",\"\",NETWORKDAYS(C177+1,H177,DiasNOLaborables))","v":6},{"$f":"IF(NETWORKDAYS(J177+1,H177,DiasNOLaborables)<=0,\"\",NETWORKDAYS(J177+1,H177,DiasNOLaborables))","v":""},null,null,{"$f":"IFERROR(VLOOKUP(E177,$X$51:$Y$64,2),\"\")","v":20}]
[167,20219050116502,"2021-10-06","CORREO ELECTRÓNICO","SOLICITUD DE INFORMACIÓN Y DOCUMENTOS","BOSQUES","SUBDIRECCIÓN DE ECOSISTEMAS E INFORMACIÓN AMBIENTAL","2021-10-06","CORREO ELECTRÓNICO",{"$f":"IFERROR(WORKDAY(C178,P178,DiasNOLaborables),\"\")","v":"2021-11-05"},{"$f":"+IF(C178=\"\",\"\",IF(H178=\"\",\"SIN RESPUESTA\",(IF(H178<=J178,\"A TIEMPO\",\"FUERA DE TIEMPO\"))))","v":"A TIEMPO"},{"$f":"IF(H178=\"\",\"\",NETWORKDAYS(C178+1,H178,DiasNOLaborables))","v":-2},{"$f":"IF(NETWORKDAYS(J178+1,H178,DiasNOLaborables)<=0,\"\",NETWORKDAYS(J178+1,H178,DiasNOLaborables))","v":""},null,null,{"$f":"IFERROR(VLOOKUP(E178,$X$51:$Y$64,2),\"\")","v":20}]
[168,20219050116512,"2021-10-06","CORREO ELECTRÓNICO","SOLICITUD DE INFORMACIÓN Y DOCUMENTOS","REGISTROS AMBIENTALES","SUBDIRECCIÓN DE ESTUDIOS AMBIENTALES","2021-10-08","CORREO ELECTRÓNICO",{"$f":"IFERROR(WORKDAY(C179,P179,DiasNOLaborables),\"\")","v":"2021-11-05"},{"$f":"+IF(C179=\"\",\"\",IF(H179=\"\",\"SIN RESPUESTA\",(IF(H179<=J179,\"A TIEMPO\",\"FUERA DE TIEMPO\"))))","v":"A TIEMPO"},{"$f":"IF(H179=\"\",\"\",NETWORKDAYS(C179+1,H179,DiasNOLaborables))","v":2},{"$f":"IF(NETWORKDAYS(J179+1,H179,DiasNOLaborables)<=0,\"\",NETWORKDAYS(J179+1,H179,DiasNOLaborables))","v":""},null,null,{"$f":"IFERROR(VLOOKUP(E179,$X$51:$Y$64,2),\"\")","v":20}]
[169,20219050116532,"2021-10-06","CORREO ELECTRÓNICO","SOLICITUD DE INFORMACIÓN Y DOCUMENTOS","BOSQUES","SUBDIRECCIÓN DE ECOSISTEMAS E INFORMACIÓN AMBIENTAL","2021-10-06","CORREO ELECTRÓNICO",{"$f":"IFERROR(WORKDAY(C180,P180,DiasNOLaborables),\"\")","v":"2021-11-05"},{"$f":"+IF(C180=\"\",\"\",IF(H180=\"\",\"SIN RESPUESTA\",(IF(H180<=J180,\"A TIEMPO\",\"FUERA DE TIEMPO\"))))","v":"A TIEMPO"},{"$f":"IF(H180=\"\",\"\",NETWORKDAYS(C180+1,H180,DiasNOLaborables))","v":-2},{"$f":"IF(NETWORKDAYS(J180+1,H180,DiasNOLaborables)<=0,\"\",NETWORKDAYS(J180+1,H180,DiasNOLaborables))","v":""},null,null,{"$f":"IFERROR(VLOOKUP(E180,$X$51:$Y$64,2),\"\")","v":20}]
[170,20219050116562,"2021-10-06","CORREO ELECTRÓNICO","SOLICITUD DE INFORMACIÓN Y DOCUMENTOS","REGISTROS AMBIENTALES","SUBDIRECCIÓN DE ESTUDIOS AMBIENTALES","2021-10-06","CORREO ELECTRÓNICO",{"$f":"IFERROR(WORKDAY(C181,P181,DiasNOLaborables),\"\")","v":"2021-11-05"},{"$f":"+IF(C181=\"\",\"\",IF(H181=\"\",\"SIN RESPUESTA\",(IF(H181<=J181,\"A TIEMPO\",\"FUERA DE TIEMPO\"))))","v":"A TIEMPO"},{"$f":"IF(H181=\"\",\"\",NETWORKDAYS(C181+1,H181,DiasNOLaborables))","v":-2},{"$f":"IF(NETWORKDAYS(J181+1,H181,DiasNOLaborables)<=0,\"\",NETWORKDAYS(J181+1,H181,DiasNOLaborables))","v":""},null,null,{"$f":"IFERROR(VLOOKUP(E181,$X$51:$Y$64,2),\"\")","v":20}]
[171,20219050116832,"2021-10-06","CORREO ELECTRÓNICO","SOLICITUD DE INFORMACIÓN Y DOCUMENTOS","SOLICITUD DE INFORMACIÓN HIDROMETEOROLÓGICA","GRUPO DE SERVICIO AL CIUDADANO ","2021-10-15","CORREO ELECTRÓNICO",{"$f":"IFERROR(WORKDAY(C182,P182,DiasNOLaborables),\"\")","v":"2021-11-05"},{"$f":"+IF(C182=\"\",\"\",IF(H182=\"\",\"SIN RESPUESTA\",(IF(H182<=J182,\"A TIEMPO\",\"FUERA DE TIEMPO\"))))","v":"A TIEMPO"},{"$f":"IF(H182=\"\",\"\",NETWORKDAYS(C182+1,H182,DiasNOLaborables))","v":7},{"$f":"IF(NETWORKDAYS(J182+1,H182,DiasNOLaborables)<=0,\"\",NETWORKDAYS(J182+1,H182,DiasNOLaborables))","v":""},null,null,{"$f":"IFERROR(VLOOKUP(E182,$X$51:$Y$64,2),\"\")","v":20}]
[172,20219050116592,"2021-10-06","CORREO ELECTRÓNICO","SOLICITUD DE INFORMACIÓN Y DOCUMENTOS","INFORMES AMBIENTALES","SUBDIRECCIÓN DE ESTUDIOS AMBIENTALES","2021-10-06","CORREO ELECTRÓNICO",{"$f":"IFERROR(WORKDAY(C183,P183,DiasNOLaborables),\"\")","v":"2021-11-05"},{"$f":"+IF(C183=\"\",\"\",IF(H183=\"\",\"SIN RESPUESTA\",(IF(H183<=J183,\"A TIEMPO\",\"FUERA DE TIEMPO\"))))","v":"A TIEMPO"},{"$f":"IF(H183=\"\",\"\",NETWORKDAYS(C183+1,H183,DiasNOLaborables))","v":-2},{"$f":"IF(NETWORKDAYS(J183+1,H183,DiasNOLaborables)<=0,\"\",NETWORKDAYS(J183+1,H183,DiasNOLaborables))","v":""},null,null,{"$f":"IFERROR(VLOOKUP(E183,$X$51:$Y$64,2),\"\")","v":20}]
[173,20219050116602,"2021-10-06","CORREO ELECTRÓNICO","SOLICITUD DE INFORMACIÓN Y DOCUMENTOS","JURIDICO","OFICINA ASESORA JURÍDICA","2021-10-28","CORREO ELECTRÓNICO",{"$f":"IFERROR(WORKDAY(C184,P184,DiasNOLaborables),\"\")","v":"2021-11-05"},{"$f":"+IF(C184=\"\",\"\",IF(H184=\"\",\"SIN RESPUESTA\",(IF(H184<=J184,\"A TIEMPO\",\"FUERA DE TIEMPO\"))))","v":"A TIEMPO"},{"$f":"IF(H184=\"\",\"\",NETWORKDAYS(C184+1,H184,DiasNOLaborables))","v":15},{"$f":"IF(NETWORKDAYS(J184+1,H184,DiasNOLaborables)<=0,\"\",NETWORKDAYS(J184+1,H184,DiasNOLaborables))","v":""},null,null,{"$f":"IFERROR(VLOOKUP(E184,$X$51:$Y$64,2),\"\")","v":20}]
[174,20219050116612,"2021-10-06","CORREO ELECTRÓNICO","SOLICITUD DE INFORMACIÓN Y DOCUMENTOS","REGISTROS AMBIENTALES","SUBDIRECCIÓN DE ESTUDIOS AMBIENTALES","2021-10-08","CORREO ELECTRÓNICO",{"$f":"IFERROR(WORKDAY(C185,P185,DiasNOLaborables),\"\")","v":"2021-11-05"},{"$f":"+IF(C185=\"\",\"\",IF(H185=\"\",\"SIN RESPUESTA\",(IF(H185<=J185,\"A TIEMPO\",\"FUERA DE TIEMPO\"))))","v":"A TIEMPO"},{"$f":"IF(H185=\"\",\"\",NETWORKDAYS(C185+1,H185,DiasNOLaborables))","v":2},{"$f":"IF(NETWORKDAYS(J185+1,H185,DiasNOLaborables)<=0,\"\",NETWORKDAYS(J185+1,H185,DiasNOLaborables))","v":""},null,null,{"$f":"IFERROR(VLOOKUP(E185,$X$51:$Y$64,2),\"\")","v":20}]
[175,20219050116652,"2021-10-06","CORREO ELECTRÓNICO","CERTIFICACIONES DE TIEMPO, CLIMA Y EVENTOS HIDROLÓGICOS","CERTIFICACIONES DE TIEMPO Y CLIMA","SUBDIRECCIÓN DE METEOROLOGÍA","2021-10-07","CORREO ELECTRÓNICO",{"$f":"IFERROR(WORKDAY(C186,P186,DiasNOLaborables),\"\")","v":"2021-11-29"},{"$f":"+IF(C186=\"\",\"\",IF(H186=\"\",\"SIN RESPUESTA\",(IF(H186<=J186,\"A TIEMPO\",\"FUERA DE TIEMPO\"))))","v":"A TIEMPO"},{"$f":"IF(H186=\"\",\"\",NETWORKDAYS(C186+1,H186,DiasNOLaborables))","v":1},{"$f":"IF(NETWORKDAYS(J186+1,H186,DiasNOLaborables)<=0,\"\",NETWORKDAYS(J186+1,H186,DiasNOLaborables))","v":""},null,null,{"$f":"IFERROR(VLOOKUP(E186,$X$51:$Y$64,2),\"\")","v":35}]
[176,20219050116722,"2021-10-06","CORREO ELECTRÓNICO","SOLICITUD DE INFORMACIÓN Y DOCUMENTOS","BOSQUES","SUBDIRECCIÓN DE ECOSISTEMAS E INFORMACIÓN AMBIENTAL","2021-10-19","CORREO ELECTRÓNICO",{"$f":"IFERROR(WORKDAY(C187,P187,DiasNOLaborables),\"\")","v":"2021-11-05"},{"$f":"+IF(C187=\"\",\"\",IF(H187=\"\",\"SIN RESPUESTA\",(IF(H187<=J187,\"A TIEMPO\",\"FUERA DE TIEMPO\"))))","v":"A TIEMPO"},{"$f":"IF(H187=\"\",\"\",NETWORKDAYS(C187+1,H187,DiasNOLaborables))","v":8},{"$f":"IF(NETWORKDAYS(J187+1,H187,DiasNOLaborables)<=0,\"\",NETWORKDAYS(J187+1,H187,DiasNOLaborables))","v":""},null,null,{"$f":"IFERROR(VLOOKUP(E187,$X$51:$Y$64,2),\"\")","v":20}]
[177,20219050116732,"2021-10-06","CORREO ELECTRÓNICO","SOLICITUD DE INFORMACIÓN Y DOCUMENTOS","REGISTROS AMBIENTALES","SUBDIRECCIÓN DE ESTUDIOS AMBIENTALES","2021-10-06","CORREO ELECTRÓNICO",{"$f":"IFERROR(WORKDAY(C188,P188,DiasNOLaborables),\"\")","v":"2021-11-05"},{"$f":"+IF(C188=\"\",\"\",IF(H188=\"\",\"SIN RESPUESTA\",(IF(H188<=J188,\"A TIEMPO\",\"FUERA DE TIEMPO\"))))","v":"A TIEMPO"},{"$f":"IF(H188=\"\",\"\",NETWORKDAYS(C188+1,H188,DiasNOLaborables))","v":-2},{"$f":"IF(NETWORKDAYS(J188+1,H188,DiasNOLaborables)<=0,\"\",NETWORKDAYS(J188+1,H188,DiasNOLaborables))","v":""},null,null,{"$f":"IFERROR(VLOOKUP(E188,$X$51:$Y$64,2),\"\")","v":20}]
[178,20219050116742,"2021-10-06","CORREO ELECTRÓNICO","SOLICITUD DE INFORMACIÓN Y DOCUMENTOS","ADMINISTRATIVA","GRUPO DE GESTIÓN DOCUMENTAL Y CENTRO DE DOCUMENTACIÓN","2021-10-08","CORREO ELECTRÓNICO",{"$f":"IFERROR(WORKDAY(C189,P189,DiasNOLaborables),\"\")","v":"2021-11-05"},{"$f":"+IF(C189=\"\",\"\",IF(H189=\"\",\"SIN RESPUESTA\",(IF(H189<=J189,\"A TIEMPO\",\"FUERA DE TIEMPO\"))))","v":"A TIEMPO"},{"$f":"IF(H189=\"\",\"\",NETWORKDAYS(C189+1,H189,DiasNOLaborables))","v":2},{"$f":"IF(NETWORKDAYS(J189+1,H189,DiasNOLaborables)<=0,\"\",NETWORKDAYS(J189+1,H189,DiasNOLaborables))","v":""},null,null,{"$f":"IFERROR(VLOOKUP(E189,$X$51:$Y$64,2),\"\")","v":20}]
[179,20219050116792,"2021-10-06","CORREO ELECTRÓNICO","CERTIFICACIONES DE TIEMPO, CLIMA Y EVENTOS HIDROLÓGICOS","CERTIFICACIONES DE TIEMPO Y CLIMA","SUBDIRECCIÓN DE METEOROLOGÍA","2021-10-26","CORREO ELECTRÓNICO",{"$f":"IFERROR(WORKDAY(C190,P190,DiasNOLaborables),\"\")","v":"2021-11-29"},{"$f":"+IF(C190=\"\",\"\",IF(H190=\"\",\"SIN RESPUESTA\",(IF(H190<=J190,\"A TIEMPO\",\"FUERA DE TIEMPO\"))))","v":"A TIEMPO"},{"$f":"IF(H190=\"\",\"\",NETWORKDAYS(C190+1,H190,DiasNOLaborables))","v":13},{"$f":"IF(NETWORKDAYS(J190+1,H190,DiasNOLaborables)<=0,\"\",NETWORKDAYS(J190+1,H190,DiasNOLaborables))","v":""},null,null,{"$f":"IFERROR(VLOOKUP(E190,$X$51:$Y$64,2),\"\")","v":35}]
[180,20219050116842,"2021-10-06","CORREO ELECTRÓNICO","SOLICITUD DE INFORMACIÓN Y DOCUMENTOS","REGISTROS AMBIENTALES","SUBDIRECCIÓN DE ESTUDIOS AMBIENTALES","2021-10-06","CORREO ELECTRÓNICO",{"$f":"IFERROR(WORKDAY(C191,P191,DiasNOLaborables),\"\")","v":"2021-11-05"},{"$f":"+IF(C191=\"\",\"\",IF(H191=\"\",\"SIN RESPUESTA\",(IF(H191<=J191,\"A TIEMPO\",\"FUERA DE TIEMPO\"))))","v":"A TIEMPO"},{"$f":"IF(H191=\"\",\"\",NETWORKDAYS(C191+1,H191,DiasNOLaborables))","v":-2},{"$f":"IF(NETWORKDAYS(J191+1,H191,DiasNOLaborables)<=0,\"\",NETWORKDAYS(J191+1,H191,DiasNOLaborables))","v":""},null,null,{"$f":"IFERROR(VLOOKUP(E191,$X$51:$Y$64,2),\"\")","v":20}]
[181,20219050116422,"2021-10-06","CORREO ELECTRÓNICO","SOLICITUD DE INFORMACIÓN Y DOCUMENTOS","SOLICITUD DE INFORMACIÓN HIDROMETEOROLÓGICA","GRUPO DE SERVICIO AL CIUDADANO ","2021-10-11","CORREO ELECTRÓNICO",{"$f":"IFERROR(WORKDAY(C192,P192,DiasNOLaborables),\"\")","v":"2021-11-05"},{"$f":"+IF(C192=\"\",\"\",IF(H192=\"\",\"SIN RESPUESTA\",(IF(H192<=J192,\"A TIEMPO\",\"FUERA DE TIEMPO\"))))","v":"A TIEMPO"},{"$f":"IF(H192=\"\",\"\",NETWORKDAYS(C192+1,H192,DiasNOLaborables))","v":3},{"$f":"IF(NETWORKDAYS(J192+1,H192,DiasNOLaborables)<=0,\"\",NETWORKDAYS(J192+1,H192,DiasNOLaborables))","v":""},null,null,{"$f":"IFERROR(VLOOKUP(E192,$X$51:$Y$64,2),\"\")","v":20}]
[182,20219050116402,"2021-10-06","CORREO ELECTRÓNICO","SOLICITUD DE INFORMACIÓN Y DOCUMENTOS","SOLICITUD DE INFORMACIÓN HIDROMETEOROLÓGICA","GRUPO DE SERVICIO AL CIUDADANO ","2021-10-12","CORREO ELECTRÓNICO",{"$f":"IFERROR(WORKDAY(C193,P193,DiasNOLaborables),\"\")","v":"2021-11-05"},{"$f":"+IF(C193=\"\",\"\",IF(H193=\"\",\"SIN RESPUESTA\",(IF(H193<=J193,\"A TIEMPO\",\"FUERA DE TIEMPO\"))))","v":"A TIEMPO"},{"$f":"IF(H193=\"\",\"\",NETWORKDAYS(C193+1,H193,DiasNOLaborables))","v":4},{"$f":"IF(NETWORKDAYS(J193+1,H193,DiasNOLaborables)<=0,\"\",NETWORKDAYS(J193+1,H193,DiasNOLaborables))","v":""},null,null,{"$f":"IFERROR(VLOOKUP(E193,$X$51:$Y$64,2),\"\")","v":20}]
[183,20219050116662,"2021-10-06","CORREO ELECTRÓNICO","SOLICITUD DE INFORMACIÓN Y DOCUMENTOS","SOLICITUD DE INFORMACIÓN HIDROMETEOROLÓGICA","GRUPO DE SERVICIO AL CIUDADANO ","2021-10-26","CORREO ELECTRÓNICO",{"$f":"IFERROR(WORKDAY(C194,P194,DiasNOLaborables),\"\")","v":"2021-11-05"},{"$f":"+IF(C194=\"\",\"\",IF(H194=\"\",\"SIN RESPUESTA\",(IF(H194<=J194,\"A TIEMPO\",\"FUERA DE TIEMPO\"))))","v":"A TIEMPO"},{"$f":"IF(H194=\"\",\"\",NETWORKDAYS(C194+1,H194,DiasNOLaborables))","v":13},{"$f":"IF(NETWORKDAYS(J194+1,H194,DiasNOLaborables)<=0,\"\",NETWORKDAYS(J194+1,H194,DiasNOLaborables))","v":""},null,null,{"$f":"IFERROR(VLOOKUP(E194,$X$51:$Y$64,2),\"\")","v":20}]
[184,20219050116702,"2021-10-06","MODULO CONTACTENOS","SOLICITUD DE INFORMACIÓN Y DOCUMENTOS","SOLICITUD DE INFORMACIÓN HIDROMETEOROLÓGICA","GRUPO DE SERVICIO AL CIUDADANO ","2021-10-26","CORREO ELECTRÓNICO",{"$f":"IFERROR(WORKDAY(C195,P195,DiasNOLaborables),\"\")","v":"2021-11-05"},{"$f":"+IF(C195=\"\",\"\",IF(H195=\"\",\"SIN RESPUESTA\",(IF(H195<=J195,\"A TIEMPO\",\"FUERA DE TIEMPO\"))))","v":"A TIEMPO"},{"$f":"IF(H195=\"\",\"\",NETWORKDAYS(C195+1,H195,DiasNOLaborables))","v":13},{"$f":"IF(NETWORKDAYS(J195+1,H195,DiasNOLaborables)<=0,\"\",NETWORKDAYS(J195+1,H195,DiasNOLaborables))","v":""},null,null,{"$f":"IFERROR(VLOOKUP(E195,$X$51:$Y$64,2),\"\")","v":20}]
[185,20219050116752,"2021-10-06","MODULO CONTACTENOS","SOLICITUD DE INFORMACIÓN Y DOCUMENTOS","SOLICITUD DE INFORMACIÓN HIDROMETEOROLÓGICA","GRUPO DE SERVICIO AL CIUDADANO ","2021-10-26","CORREO ELECTRÓNICO",{"$f":"IFERROR(WORKDAY(C196,P196,DiasNOLaborables),\"\")","v":"2021-11-05"},{"$f":"+IF(C196=\"\",\"\",IF(H196=\"\",\"SIN RESPUESTA\",(IF(H196<=J196,\"A TIEMPO\",\"FUERA DE TIEMPO\"))))","v":"A TIEMPO"},{"$f":"IF(H196=\"\",\"\",NETWORKDAYS(C196+1,H196,DiasNOLaborables))","v":13},{"$f":"IF(NETWORKDAYS(J196+1,H196,DiasNOLaborables)<=0,\"\",NETWORKDAYS(J196+1,H196,DiasNOLaborables))","v":""},null,null,{"$f":"IFERROR(VLOOKUP(E196,$X$51:$Y$64,2),\"\")","v":20}]
[186,20219050116762,"2021-10-06","MODULO CONTACTENOS","SOLICITUD DE INFORMACIÓN Y DOCUMENTOS","SOLICITUD DE INFORMACIÓN HIDROMETEOROLÓGICA","GRUPO DE SERVICIO AL CIUDADANO ","2021-10-28","CORREO ELECTRÓNICO",{"$f":"IFERROR(WORKDAY(C197,P197,DiasNOLaborables),\"\")","v":"2021-11-05"},{"$f":"+IF(C197=\"\",\"\",IF(H197=\"\",\"SIN RESPUESTA\",(IF(H197<=J197,\"A TIEMPO\",\"FUERA DE TIEMPO\"))))","v":"A TIEMPO"},{"$f":"IF(H197=\"\",\"\",NETWORKDAYS(C197+1,H197,DiasNOLaborables))","v":15},{"$f":"IF(NETWORKDAYS(J197+1,H197,DiasNOLaborables)<=0,\"\",NETWORKDAYS(J197+1,H197,DiasNOLaborables))","v":""},null,null,{"$f":"IFERROR(VLOOKUP(E197,$X$51:$Y$64,2),\"\")","v":20}]
[187,20219050116782,"2021-10-06","MODULO CONTACTENOS","SOLICITUD DE INFORMACIÓN Y DOCUMENTOS","SOLICITUD DE INFORMACIÓN HIDROMETEOROLÓGICA","GRUPO DE SERVICIO AL CIUDADANO ","2021-10-28","CORREO ELECTRÓNICO",{"$f":"IFERROR(WORKDAY(C198,P198,DiasNOLaborables),\"\")","v":"2021-11-05"},{"$f":"+IF(C198=\"\",\"\",IF(H198=\"\",\"SIN RESPUESTA\",(IF(H198<=J198,\"A TIEMPO\",\"FUERA DE TIEMPO\"))))","v":"A TIEMPO"},{"$f":"IF(H198=\"\",\"\",NETWORKDAYS(C198+1,H198,DiasNOLaborables))","v":15},{"$f":"IF(NETWORKDAYS(J198+1,H198,DiasNOLaborables)<=0,\"\",NETWORKDAYS(J198+1,H198,DiasNOLaborables))","v":""},null,null,{"$f":"IFERROR(VLOOKUP(E198,$X$51:$Y$64,2),\"\")","v":20}]
[188,20219050116822,"2021-10-06","MODULO CONTACTENOS","SOLICITUD DE INFORMACIÓN Y DOCUMENTOS","SOLICITUD DE INFORMACIÓN HIDROMETEOROLÓGICA","GRUPO DE SERVICIO AL CIUDADANO ","2021-10-28","CORREO ELECTRÓNICO",{"$f":"IFERROR(WORKDAY(C199,P199,DiasNOLaborables),\"\")","v":"2021-11-05"},{"$f":"+IF(C199=\"\",\"\",IF(H199=\"\",\"SIN RESPUESTA\",(IF(H199<=J199,\"A TIEMPO\",\"FUERA DE TIEMPO\"))))","v":"A TIEMPO"},{"$f":"IF(H199=\"\",\"\",NETWORKDAYS(C199+1,H199,DiasNOLaborables))","v":15},{"$f":"IF(NETWORKDAYS(J199+1,H199,DiasNOLaborables)<=0,\"\",NETWORKDAYS(J199+1,H199,DiasNOLaborables))","v":""},null,null,{"$f":"IFERROR(VLOOKUP(E199,$X$51:$Y$64,2),\"\")","v":20}]
[189,20219050116872,"2021-10-06","MODULO CONTACTENOS","SOLICITUD DE INFORMACIÓN Y DOCUMENTOS","SOLICITUD DE INFORMACIÓN HIDROMETEOROLÓGICA","GRUPO DE SERVICIO AL CIUDADANO ","2021-10-29","CORREO ELECTRÓNICO",{"$f":"IFERROR(WORKDAY(C200,P200,DiasNOLaborables),\"\")","v":"2021-11-05"},{"$f":"+IF(C200=\"\",\"\",IF(H200=\"\",\"SIN RESPUESTA\",(IF(H200<=J200,\"A TIEMPO\",\"FUERA DE TIEMPO\"))))","v":"A TIEMPO"},{"$f":"IF(H200=\"\",\"\",NETWORKDAYS(C200+1,H200,DiasNOLaborables))","v":16},{"$f":"IF(NETWORKDAYS(J200+1,H200,DiasNOLaborables)<=0,\"\",NETWORKDAYS(J200+1,H200,DiasNOLaborables))","v":""},null,null,{"$f":"IFERROR(VLOOKUP(E200,$X$51:$Y$64,2),\"\")","v":20}]
[190,20219050116892,"2021-10-06","MODULO CONTACTENOS","SOLICITUD DE INFORMACIÓN Y DOCUMENTOS","SOLICITUD DE INFORMACIÓN HIDROMETEOROLÓGICA","GRUPO DE SERVICIO AL CIUDADANO ","2021-10-26","CORREO ELECTRÓNICO",{"$f":"IFERROR(WORKDAY(C201,P201,DiasNOLaborables),\"\")","v":"2021-11-05"},{"$f":"+IF(C201=\"\",\"\",IF(H201=\"\",\"SIN RESPUESTA\",(IF(H201<=J201,\"A TIEMPO\",\"FUERA DE TIEMPO\"))))","v":"A TIEMPO"},{"$f":"IF(H201=\"\",\"\",NETWORKDAYS(C201+1,H201,DiasNOLaborables))","v":13},{"$f":"IF(NETWORKDAYS(J201+1,H201,DiasNOLaborables)<=0,\"\",NETWORKDAYS(J201+1,H201,DiasNOLaborables))","v":""},null,null,{"$f":"IFERROR(VLOOKUP(E201,$X$51:$Y$64,2),\"\")","v":20}]
[191,20219050116902,"2021-10-06","MODULO CONTACTENOS","SOLICITUD DE INFORMACIÓN Y DOCUMENTOS","SOLICITUD DE INFORMACIÓN HIDROMETEOROLÓGICA","GRUPO DE SERVICIO AL CIUDADANO ","2021-10-27","CORREO ELECTRÓNICO",{"$f":"IFERROR(WORKDAY(C202,P202,DiasNOLaborables),\"\")","v":"2021-11-05"},{"$f":"+IF(C202=\"\",\"\",IF(H202=\"\",\"SIN RESPUESTA\",(IF(H202<=J202,\"A TIEMPO\",\"FUERA DE TIEMPO\"))))","v":"A TIEMPO"},{"$f":"IF(H202=\"\",\"\",NETWORKDAYS(C202+1,H202,DiasNOLaborables))","v":14},{"$f":"IF(NETWORKDAYS(J202+1,H202,DiasNOLaborables)<=0,\"\",NETWORKDAYS(J202+1,H202,DiasNOLaborables))","v":""},null,null,{"$f":"IFERROR(VLOOKUP(E202,$X$51:$Y$64,2),\"\")","v":20}]
[192,20219050116912,"2021-10-06","MODULO CONTACTENOS","SOLICITUD DE INFORMACIÓN Y DOCUMENTOS","SOLICITUD DE INFORMACIÓN HIDROMETEOROLÓGICA","GRUPO DE SERVICIO AL CIUDADANO ","2021-10-29","CORREO ELECTRÓNICO",{"$f":"IFERROR(WORKDAY(C203,P203,DiasNOLaborables),\"\")","v":"2021-11-05"},{"$f":"+IF(C203=\"\",\"\",IF(H203=\"\",\"SIN RESPUESTA\",(IF(H203<=J203,\"A TIEMPO\",\"FUERA DE TIEMPO\"))))","v":"A TIEMPO"},{"$f":"IF(H203=\"\",\"\",NETWORKDAYS(C203+1,H203,DiasNOLaborables))","v":16},{"$f":"IF(NETWORKDAYS(J203+1,H203,DiasNOLaborables)<=0,\"\",NETWORKDAYS(J203+1,H203,DiasNOLaborables))","v":""},null,null,{"$f":"IFERROR(VLOOKUP(E203,$X$51:$Y$64,2),\"\")","v":20}]
[193,20219910053822,"2021-10-06","CORREO ELECTRÓNICO","SOLICITUD DE INFORMACIÓN Y DOCUMENTOS","SOLICITUD DE INFORMACIÓN HIDROMETEOROLÓGICA","GRUPO DE SERVICIO AL CIUDADANO ","2021-10-29","CORREO ELECTRÓNICO",{"$f":"IFERROR(WORKDAY(C204,P204,DiasNOLaborables),\"\")","v":"2021-11-05"},{"$f":"+IF(C204=\"\",\"\",IF(H204=\"\",\"SIN RESPUESTA\",(IF(H204<=J204,\"A TIEMPO\",\"FUERA DE TIEMPO\"))))","v":"A TIEMPO"},{"$f":"IF(H204=\"\",\"\",NETWORKDAYS(C204+1,H204,DiasNOLaborables))","v":16},{"$f":"IF(NETWORKDAYS(J204+1,H204,DiasNOLaborables)<=0,\"\",NETWORKDAYS(J204+1,H204,DiasNOLaborables))","v":""},null,null,{"$f":"IFERROR(VLOOKUP(E204,$X$51:$Y$64,2),\"\")","v":20}]
[194,20219050116922,"2021-10-06","MODULO CONTACTENOS","SOLICITUD DE INFORMACIÓN Y DOCUMENTOS","SOLICITUD DE INFORMACIÓN HIDROMETEOROLÓGICA","GRUPO DE SERVICIO AL CIUDADANO ","2021-10-29","CORREO ELECTRÓNICO",{"$f":"IFERROR(WORKDAY(C205,P205,DiasNOLaborables),\"\")","v":"2021-11-05"},{"$f":"+IF(C205=\"\",\"\",IF(H205=\"\",\"SIN RESPUESTA\",(IF(H205<=J205,\"A TIEMPO\",\"FUERA DE TIEMPO\"))))","v":"A TIEMPO"},{"$f":"IF(H205=\"\",\"\",NETWORKDAYS(C205+1,H205,DiasNOLaborables))","v":16},{"$f":"IF(NETWORKDAYS(J205+1,H205,DiasNOLaborables)<=0,\"\",NETWORKDAYS(J205+1,H205,DiasNOLaborables))","v":""},null,null,{"$f":"IFERROR(VLOOKUP(E205,$X$51:$Y$64,2),\"\")","v":20}]
[{"$f":"IF(B206<>\"\",A205+1,\"\")","v":195},20219050116932,"2021-10-07","MODULO CONTACTENOS","SOLICITUD DE INFORMACIÓN Y DOCUMENTOS","SOLICITUD DE INFORMACIÓN HIDROMETEOROLÓGICA","GRUPO DE SERVICIO AL CIUDADANO ","2021-10-29","CORREO ELECTRÓNICO",{"$f":"IFERROR(WORKDAY(C206,P206,DiasNOLaborables),\"\")","v":"2021-11-08"},{"$f":"+IF(C206=\"\",\"\",IF(H206=\"\",\"SIN RESPUESTA\",(IF(H206<=J206,\"A TIEMPO\",\"FUERA DE TIEMPO\"))))","v":"A TIEMPO"},{"$f":"IF(H206=\"\",\"\",NETWORKDAYS(C206+1,H206,DiasNOLaborables))","v":15},{"$f":"IF(NETWORKDAYS(J206+1,H206,DiasNOLaborables)<=0,\"\",NETWORKDAYS(J206+1,H206,DiasNOLaborables))","v":""},null,null,{"$f":"IFERROR(VLOOKUP(E206,$X$51:$Y$64,2),\"\")","v":20}]
[196,20219050116952,"2021-10-07","MODULO CONTACTENOS","SOLICITUD DE INFORMACIÓN Y DOCUMENTOS","SOLICITUD DE INFORMACIÓN HIDROMETEOROLÓGICA","GRUPO DE SERVICIO AL CIUDADANO ","2021-10-29","CORREO ELECTRÓNICO",{"$f":"IFERROR(WORKDAY(C207,P207,DiasNOLaborables),\"\")","v":"2021-11-08"},{"$f":"+IF(C207=\"\",\"\",IF(H207=\"\",\"SIN RESPUESTA\",(IF(H207<=J207,\"A TIEMPO\",\"FUERA DE TIEMPO\"))))","v":"A TIEMPO"},{"$f":"IF(H207=\"\",\"\",NETWORKDAYS(C207+1,H207,DiasNOLaborables))","v":15},{"$f":"IF(NETWORKDAYS(J207+1,H207,DiasNOLaborables)<=0,\"\",NETWORKDAYS(J207+1,H207,DiasNOLaborables))","v":""},null,null,{"$f":"IFERROR(VLOOKUP(E207,$X$51:$Y$64,2),\"\")","v":20}]
[197,20219050116982,"2021-10-07","MODULO CONTACTENOS","SOLICITUD DE INFORMACIÓN Y DOCUMENTOS","SOLICITUD DE INFORMACIÓN HIDROMETEOROLÓGICA","GRUPO DE SERVICIO AL CIUDADANO ","2021-10-29","CORREO ELECTRÓNICO",{"$f":"IFERROR(WORKDAY(C208,P208,DiasNOLaborables),\"\")","v":"2021-11-08"},{"$f":"+IF(C208=\"\",\"\",IF(H208=\"\",\"SIN RESPUESTA\",(IF(H208<=J208,\"A TIEMPO\",\"FUERA DE TIEMPO\"))))","v":"A TIEMPO"},{"$f":"IF(H208=\"\",\"\",NETWORKDAYS(C208+1,H208,DiasNOLaborables))","v":15},{"$f":"IF(NETWORKDAYS(J208+1,H208,DiasNOLaborables)<=0,\"\",NETWORKDAYS(J208+1,H208,DiasNOLaborables))","v":""},null,null,{"$f":"IFERROR(VLOOKUP(E208,$X$51:$Y$64,2),\"\")","v":20}]
[198,20219050116992,"2021-10-07","CORREO ELECTRÓNICO","SOLICITUD DE INFORMACIÓN Y DOCUMENTOS","SOLICITUD DE INFORMACIÓN HIDROMETEOROLÓGICA","GRUPO DE SERVICIO AL CIUDADANO ","2021-10-29","CORREO ELECTRÓNICO",{"$f":"IFERROR(WORKDAY(C209,P209,DiasNOLaborables),\"\")","v":"2021-11-08"},{"$f":"+IF(C209=\"\",\"\",IF(H209=\"\",\"SIN RESPUESTA\",(IF(H209<=J209,\"A TIEMPO\",\"FUERA DE TIEMPO\"))))","v":"A TIEMPO"},{"$f":"IF(H209=\"\",\"\",NETWORKDAYS(C209+1,H209,DiasNOLaborables))","v":15},{"$f":"IF(NETWORKDAYS(J209+1,H209,DiasNOLaborables)<=0,\"\",NETWORKDAYS(J209+1,H209,DiasNOLaborables))","v":""},null,null,{"$f":"IFERROR(VLOOKUP(E209,$X$51:$Y$64,2),\"\")","v":20}]
[199,20219050117032,"2021-10-07","MODULO CONTACTENOS","SOLICITUD DE INFORMACIÓN Y DOCUMENTOS","SOLICITUD DE INFORMACIÓN HIDROMETEOROLÓGICA","GRUPO DE SERVICIO AL CIUDADANO ","2021-10-12","CORREO ELECTRÓNICO",{"$f":"IFERROR(WORKDAY(C210,P210,DiasNOLaborables),\"\")","v":"2021-11-08"},{"$f":"+IF(C210=\"\",\"\",IF(H210=\"\",\"SIN RESPUESTA\",(IF(H210<=J210,\"A TIEMPO\",\"FUERA DE TIEMPO\"))))","v":"A TIEMPO"},{"$f":"IF(H210=\"\",\"\",NETWORKDAYS(C210+1,H210,DiasNOLaborables))","v":3},{"$f":"IF(NETWORKDAYS(J210+1,H210,DiasNOLaborables)<=0,\"\",NETWORKDAYS(J210+1,H210,DiasNOLaborables))","v":""},null,null,{"$f":"IFERROR(VLOOKUP(E210,$X$51:$Y$64,2),\"\")","v":20}]
[200,20219050117052,"2021-10-07","CORREO ELECTRÓNICO","SOLICITUD DE INFORMACIÓN Y DOCUMENTOS","SOLICITUD DE INFORMACIÓN HIDROMETEOROLÓGICA","GRUPO DE SERVICIO AL CIUDADANO ","2021-10-12","CORREO ELECTRÓNICO",{"$f":"IFERROR(WORKDAY(C211,P211,DiasNOLaborables),\"\")","v":"2021-11-08"},{"$f":"+IF(C211=\"\",\"\",IF(H211=\"\",\"SIN RESPUESTA\",(IF(H211<=J211,\"A TIEMPO\",\"FUERA DE TIEMPO\"))))","v":"A TIEMPO"},{"$f":"IF(H211=\"\",\"\",NETWORKDAYS(C211+1,H211,DiasNOLaborables))","v":3},{"$f":"IF(NETWORKDAYS(J211+1,H211,DiasNOLaborables)<=0,\"\",NETWORKDAYS(J211+1,H211,DiasNOLaborables))","v":""},null,null,{"$f":"IFERROR(VLOOKUP(E211,$X$51:$Y$64,2),\"\")","v":20}]
[201,20219050117092,"2021-10-07","CORREO ELECTRÓNICO","SOLICITUD DE INFORMACIÓN Y DOCUMENTOS","SOLICITUD DE INFORMACIÓN HIDROMETEOROLÓGICA","GRUPO DE SERVICIO AL CIUDADANO ","2021-10-11","CORREO ELECTRÓNICO",{"$f":"IFERROR(WORKDAY(C212,P212,DiasNOLaborables),\"\")","v":"2021-11-08"},{"$f":"+IF(C212=\"\",\"\",IF(H212=\"\",\"SIN RESPUESTA\",(IF(H212<=J212,\"A TIEMPO\",\"FUERA DE TIEMPO\"))))","v":"A TIEMPO"},{"$f":"IF(H212=\"\",\"\",NETWORKDAYS(C212+1,H212,DiasNOLaborables))","v":2},{"$f":"IF(NETWORKDAYS(J212+1,H212,DiasNOLaborables)<=0,\"\",NETWORKDAYS(J212+1,H212,DiasNOLaborables))","v":""},null,null,{"$f":"IFERROR(VLOOKUP(E212,$X$51:$Y$64,2),\"\")","v":20}]
[202,20219050117122,"2021-10-07","MODULO CONTACTENOS","SOLICITUD DE INFORMACIÓN Y DOCUMENTOS","SOLICITUD DE INFORMACIÓN HIDROMETEOROLÓGICA","GRUPO DE SERVICIO AL CIUDADANO ","2021-10-11","CORREO ELECTRÓNICO",{"$f":"IFERROR(WORKDAY(C213,P213,DiasNOLaborables),\"\")","v":"2021-11-08"},{"$f":"+IF(C213=\"\",\"\",IF(H213=\"\",\"SIN RESPUESTA\",(IF(H213<=J213,\"A TIEMPO\",\"FUERA DE TIEMPO\"))))","v":"A TIEMPO"},{"$f":"IF(H213=\"\",\"\",NETWORKDAYS(C213+1,H213,DiasNOLaborables))","v":2},{"$f":"IF(NETWORKDAYS(J213+1,H213,DiasNOLaborables)<=0,\"\",NETWORKDAYS(J213+1,H213,DiasNOLaborables))","v":""},null,null,{"$f":"IFERROR(VLOOKUP(E213,$X$51:$Y$64,2),\"\")","v":20}]
[203,20219050117132,"2021-10-07","MODULO CONTACTENOS","SOLICITUD DE INFORMACIÓN Y DOCUMENTOS","SOLICITUD DE INFORMACIÓN HIDROMETEOROLÓGICA","GRUPO DE SERVICIO AL CIUDADANO ","2021-10-12","CORREO ELECTRÓNICO",{"$f":"IFERROR(WORKDAY(C214,P214,DiasNOLaborables),\"\")","v":"2021-11-08"},{"$f":"+IF(C214=\"\",\"\",IF(H214=\"\",\"SIN RESPUESTA\",(IF(H214<=J214,\"A TIEMPO\",\"FUERA DE TIEMPO\"))))","v":"A TIEMPO"},{"$f":"IF(H214=\"\",\"\",NETWORKDAYS(C214+1,H214,DiasNOLaborables))","v":3},{"$f":"IF(NETWORKDAYS(J214+1,H214,DiasNOLaborables)<=0,\"\",NETWORKDAYS(J214+1,H214,DiasNOLaborables))","v":""},null,null,{"$f":"IFERROR(VLOOKUP(E214,$X$51:$Y$64,2),\"\")","v":20}]
[204,20219050117152,"2021-10-07","CORREO ELECTRÓNICO","SOLICITUD DE INFORMACIÓN Y DOCUMENTOS","SOLICITUD DE INFORMACIÓN HIDROMETEOROLÓGICA","GRUPO DE SERVICIO AL CIUDADANO ","2021-10-12","CORREO ELECTRÓNICO",{"$f":"IFERROR(WORKDAY(C215,P215,DiasNOLaborables),\"\")","v":"2021-11-08"},{"$f":"+IF(C215=\"\",\"\",IF(H215=\"\",\"SIN RESPUESTA\",(IF(H215<=J215,\"A TIEMPO\",\"FUERA DE TIEMPO\"))))","v":"A TIEMPO"},{"$f":"IF(H215=\"\",\"\",NETWORKDAYS(C215+1,H215,DiasNOLaborables))","v":3},{"$f":"IF(NETWORKDAYS(J215+1,H215,DiasNOLaborables)<=0,\"\",NETWORKDAYS(J215+1,H215,DiasNOLaborables))","v":""},null,null,{"$f":"IFERROR(VLOOKUP(E215,$X$51:$Y$64,2),\"\")","v":20}]
[205,20219050117162,"2021-10-07","CORREO ELECTRÓNICO","SOLICITUD DE INFORMACIÓN Y DOCUMENTOS","SOLICITUD DE INFORMACIÓN HIDROMETEOROLÓGICA","GRUPO DE SERVICIO AL CIUDADANO ","2021-10-12","CORREO ELECTRÓNICO",{"$f":"IFERROR(WORKDAY(C216,P216,DiasNOLaborables),\"\")","v":"2021-11-08"},{"$f":"+IF(C216=\"\",\"\",IF(H216=\"\",\"SIN RESPUESTA\",(IF(H216<=J216,\"A TIEMPO\",\"FUERA DE TIEMPO\"))))","v":"A TIEMPO"},{"$f":"IF(H216=\"\",\"\",NETWORKDAYS(C216+1,H216,DiasNOLaborables))","v":3},{"$f":"IF(NETWORKDAYS(J216+1,H216,DiasNOLaborables)<=0,\"\",NETWORKDAYS(J216+1,H216,DiasNOLaborables))","v":""},null,null,{"$f":"IFERROR(VLOOKUP(E216,$X$51:$Y$64,2),\"\")","v":20}]
[206,20219050117172,"2021-10-07","CORREO ELECTRÓNICO","SOLICITUD DE INFORMACIÓN Y DOCUMENTOS","SOLICITUD DE INFORMACIÓN HIDROMETEOROLÓGICA","GRUPO DE SERVICIO AL CIUDADANO ","2021-10-12","CORREO ELECTRÓNICO",{"$f":"IFERROR(WORKDAY(C217,P217,DiasNOLaborables),\"\")","v":"2021-11-08"},{"$f":"+IF(C217=\"\",\"\",IF(H217=\"\",\"SIN RESPUESTA\",(IF(H217<=J217,\"A TIEMPO\",\"FUERA DE TIEMPO\"))))","v":"A TIEMPO"},{"$f":"IF(H217=\"\",\"\",NETWORKDAYS(C217+1,H217,DiasNOLaborables))","v":3},{"$f":"IF(NETWORKDAYS(J217+1,H217,DiasNOLaborables)<=0,\"\",NETWORKDAYS(J217+1,H217,DiasNOLaborables))","v":""},null,null,{"$f":"IFERROR(VLOOKUP(E217,$X$51:$Y$64,2),\"\")","v":20}]
[207,20219050117232,"2021-10-07","MODULO CONTACTENOS","SOLICITUD DE INFORMACIÓN Y DOCUMENTOS","SOLICITUD DE INFORMACIÓN HIDROMETEOROLÓGICA","GRUPO DE SERVICIO AL CIUDADANO ","2021-10-12","CORREO ELECTRÓNICO",{"$f":"IFERROR(WORKDAY(C218,P218,DiasNOLaborables),\"\")","v":"2021-11-08"},{"$f":"+IF(C218=\"\",\"\",IF(H218=\"\",\"SIN RESPUESTA\",(IF(H218<=J218,\"A TIEMPO\",\"FUERA DE TIEMPO\"))))","v":"A TIEMPO"},{"$f":"IF(H218=\"\",\"\",NETWORKDAYS(C218+1,H218,DiasNOLaborables))","v":3},{"$f":"IF(NETWORKDAYS(J218+1,H218,DiasNOLaborables)<=0,\"\",NETWORKDAYS(J218+1,H218,DiasNOLaborables))","v":""},null,null,{"$f":"IFERROR(VLOOKUP(E218,$X$51:$Y$64,2),\"\")","v":20}]
[208,20219050117242,"2021-10-07","MODULO CONTACTENOS","SOLICITUD DE INFORMACIÓN Y DOCUMENTOS","SOLICITUD DE INFORMACIÓN HIDROMETEOROLÓGICA","GRUPO DE SERVICIO AL CIUDADANO ","2021-10-12","CORREO ELECTRÓNICO",{"$f":"IFERROR(WORKDAY(C219,P219,DiasNOLaborables),\"\")","v":"2021-11-08"},{"$f":"+IF(C219=\"\",\"\",IF(H219=\"\",\"SIN RESPUESTA\",(IF(H219<=J219,\"A TIEMPO\",\"FUERA DE TIEMPO\"))))","v":"A TIEMPO"},{"$f":"IF(H219=\"\",\"\",NETWORKDAYS(C219+1,H219,DiasNOLaborables))","v":3},{"$f":"IF(NETWORKDAYS(J219+1,H219,DiasNOLaborables)<=0,\"\",NETWORKDAYS(J219+1,H219,DiasNOLaborables))","v":""},null,null,{"$f":"IFERROR(VLOOKUP(E219,$X$51:$Y$64,2),\"\")","v":20}]
[209,20219050117262,"2021-10-07","CORREO ELECTRÓNICO","SOLICITUD DE INFORMACIÓN Y DOCUMENTOS","SOLICITUD DE INFORMACIÓN HIDROMETEOROLÓGICA","GRUPO DE SERVICIO AL CIUDADANO ","2021-10-12","CORREO ELECTRÓNICO",{"$f":"IFERROR(WORKDAY(C220,P220,DiasNOLaborables),\"\")","v":"2021-11-08"},{"$f":"+IF(C220=\"\",\"\",IF(H220=\"\",\"SIN RESPUESTA\",(IF(H220<=J220,\"A TIEMPO\",\"FUERA DE TIEMPO\"))))","v":"A TIEMPO"},{"$f":"IF(H220=\"\",\"\",NETWORKDAYS(C220+1,H220,DiasNOLaborables))","v":3},{"$f":"IF(NETWORKDAYS(J220+1,H220,DiasNOLaborables)<=0,\"\",NETWORKDAYS(J220+1,H220,DiasNOLaborables))","v":""},null,null,{"$f":"IFERROR(VLOOKUP(E220,$X$51:$Y$64,2),\"\")","v":20}]
[210,20219050117292,"2021-10-07","MODULO CONTACTENOS","SOLICITUD DE INFORMACIÓN Y DOCUMENTOS","SOLICITUD DE INFORMACIÓN HIDROMETEOROLÓGICA","GRUPO DE SERVICIO AL CIUDADANO ","2021-10-13","CORREO ELECTRÓNICO",{"$f":"IFERROR(WORKDAY(C221,P221,DiasNOLaborables),\"\")","v":"2021-11-08"},{"$f":"+IF(C221=\"\",\"\",IF(H221=\"\",\"SIN RESPUESTA\",(IF(H221<=J221,\"A TIEMPO\",\"FUERA DE TIEMPO\"))))","v":"A TIEMPO"},{"$f":"IF(H221=\"\",\"\",NETWORKDAYS(C221+1,H221,DiasNOLaborables))","v":4},{"$f":"IF(NETWORKDAYS(J221+1,H221,DiasNOLaborables)<=0,\"\",NETWORKDAYS(J221+1,H221,DiasNOLaborables))","v":""},null,null,{"$f":"IFERROR(VLOOKUP(E221,$X$51:$Y$64,2),\"\")","v":20}]
[211,20219050117332,"2021-10-07","MODULO CONTACTENOS","SOLICITUD DE INFORMACIÓN Y DOCUMENTOS","SOLICITUD DE INFORMACIÓN HIDROMETEOROLÓGICA","GRUPO DE SERVICIO AL CIUDADANO ","2021-10-13","CORREO ELECTRÓNICO",{"$f":"IFERROR(WORKDAY(C222,P222,DiasNOLaborables),\"\")","v":"2021-11-08"},{"$f":"+IF(C222=\"\",\"\",IF(H222=\"\",\"SIN RESPUESTA\",(IF(H222<=J222,\"A TIEMPO\",\"FUERA DE TIEMPO\"))))","v":"A TIEMPO"},{"$f":"IF(H222=\"\",\"\",NETWORKDAYS(C222+1,H222,DiasNOLaborables))","v":4},{"$f":"IF(NETWORKDAYS(J222+1,H222,DiasNOLaborables)<=0,\"\",NETWORKDAYS(J222+1,H222,DiasNOLaborables))","v":""},null,null,{"$f":"IFERROR(VLOOKUP(E222,$X$51:$Y$64,2),\"\")","v":20}]
[212,20219050117342,"2021-10-07","MODULO CONTACTENOS","SOLICITUD DE INFORMACIÓN Y DOCUMENTOS","SOLICITUD DE INFORMACIÓN HIDROMETEOROLÓGICA","GRUPO DE SERVICIO AL CIUDADANO ","2021-10-13","CORREO ELECTRÓNICO",{"$f":"IFERROR(WORKDAY(C223,P223,DiasNOLaborables),\"\")","v":"2021-11-08"},{"$f":"+IF(C223=\"\",\"\",IF(H223=\"\",\"SIN RESPUESTA\",(IF(H223<=J223,\"A TIEMPO\",\"FUERA DE TIEMPO\"))))","v":"A TIEMPO"},{"$f":"IF(H223=\"\",\"\",NETWORKDAYS(C223+1,H223,DiasNOLaborables))","v":4},{"$f":"IF(NETWORKDAYS(J223+1,H223,DiasNOLaborables)<=0,\"\",NETWORKDAYS(J223+1,H223,DiasNOLaborables))","v":""},null,null,{"$f":"IFERROR(VLOOKUP(E223,$X$51:$Y$64,2),\"\")","v":20}]
[213,20219050117352,"2021-10-07","MODULO CONTACTENOS","SOLICITUD DE INFORMACIÓN Y DOCUMENTOS","SOLICITUD DE INFORMACIÓN HIDROMETEOROLÓGICA","GRUPO DE SERVICIO AL CIUDADANO ","2021-10-13","CORREO ELECTRÓNICO",{"$f":"IFERROR(WORKDAY(C224,P224,DiasNOLaborables),\"\")","v":"2021-11-08"},{"$f":"+IF(C224=\"\",\"\",IF(H224=\"\",\"SIN RESPUESTA\",(IF(H224<=J224,\"A TIEMPO\",\"FUERA DE TIEMPO\"))))","v":"A TIEMPO"},{"$f":"IF(H224=\"\",\"\",NETWORKDAYS(C224+1,H224,DiasNOLaborables))","v":4},{"$f":"IF(NETWORKDAYS(J224+1,H224,DiasNOLaborables)<=0,\"\",NETWORKDAYS(J224+1,H224,DiasNOLaborables))","v":""},null,null,{"$f":"IFERROR(VLOOKUP(E224,$X$51:$Y$64,2),\"\")","v":20}]
[214,20219050117362,"2021-10-07","MODULO CONTACTENOS","SOLICITUD DE INFORMACIÓN Y DOCUMENTOS","SOLICITUD DE INFORMACIÓN HIDROMETEOROLÓGICA","GRUPO DE SERVICIO AL CIUDADANO ","2021-10-13","CORREO ELECTRÓNICO",{"$f":"IFERROR(WORKDAY(C225,P225,DiasNOLaborables),\"\")","v":"2021-11-08"},{"$f":"+IF(C225=\"\",\"\",IF(H225=\"\",\"SIN RESPUESTA\",(IF(H225<=J225,\"A TIEMPO\",\"FUERA DE TIEMPO\"))))","v":"A TIEMPO"},{"$f":"IF(H225=\"\",\"\",NETWORKDAYS(C225+1,H225,DiasNOLaborables))","v":4},{"$f":"IF(NETWORKDAYS(J225+1,H225,DiasNOLaborables)<=0,\"\",NETWORKDAYS(J225+1,H225,DiasNOLaborables))","v":""},null,null,{"$f":"IFERROR(VLOOKUP(E225,$X$51:$Y$64,2),\"\")","v":20}]
[215,20219050117372,"2021-10-07","MODULO CONTACTENOS","SOLICITUD DE INFORMACIÓN Y DOCUMENTOS","SOLICITUD DE INFORMACIÓN HIDROMETEOROLÓGICA","GRUPO DE SERVICIO AL CIUDADANO ","2021-10-13","CORREO ELECTRÓNICO",{"$f":"IFERROR(WORKDAY(C226,P226,DiasNOLaborables),\"\")","v":"2021-11-08"},{"$f":"+IF(C226=\"\",\"\",IF(H226=\"\",\"SIN RESPUESTA\",(IF(H226<=J226,\"A TIEMPO\",\"FUERA DE TIEMPO\"))))","v":"A TIEMPO"},{"$f":"IF(H226=\"\",\"\",NETWORKDAYS(C226+1,H226,DiasNOLaborables))","v":4},{"$f":"IF(NETWORKDAYS(J226+1,H226,DiasNOLaborables)<=0,\"\",NETWORKDAYS(J226+1,H226,DiasNOLaborables))","v":""},null,null,{"$f":"IFERROR(VLOOKUP(E226,$X$51:$Y$64,2),\"\")","v":20}]
[216,20219050117042,"2021-10-07","CORREO ELECTRÓNICO","CERTIFICACIONES DE TIEMPO, CLIMA Y EVENTOS HIDROLÓGICOS","CERTIFICACIONES DE TIEMPO Y CLIMA","SUBDIRECCIÓN DE HIDROLOGÍA","2021-10-27","CORREO ELECTRÓNICO",{"$f":"IFERROR(WORKDAY(C227,P227,DiasNOLaborables),\"\")","v":"2021-11-30"},{"$f":"+IF(C227=\"\",\"\",IF(H227=\"\",\"SIN RESPUESTA\",(IF(H227<=J227,\"A TIEMPO\",\"FUERA DE TIEMPO\"))))","v":"A TIEMPO"},{"$f":"IF(H227=\"\",\"\",NETWORKDAYS(C227+1,H227,DiasNOLaborables))","v":13},{"$f":"IF(NETWORKDAYS(J227+1,H227,DiasNOLaborables)<=0,\"\",NETWORKDAYS(J227+1,H227,DiasNOLaborables))","v":""},null,null,{"$f":"IFERROR(VLOOKUP(E227,$X$51:$Y$64,2),\"\")","v":35}]
[217,20219050117062,"2021-10-07","CORREO ELECTRÓNICO","SOLICITUD DE INFORMACIÓN Y DOCUMENTOS","ADMINISTRATIVA","GRUPO DE TESORERÍA","2021-10-08","CORREO ELECTRÓNICO",{"$f":"IFERROR(WORKDAY(C228,P228,DiasNOLaborables),\"\")","v":"2021-11-08"},{"$f":"+IF(C228=\"\",\"\",IF(H228=\"\",\"SIN RESPUESTA\",(IF(H228<=J228,\"A TIEMPO\",\"FUERA DE TIEMPO\"))))","v":"A TIEMPO"},{"$f":"IF(H228=\"\",\"\",NETWORKDAYS(C228+1,H228,DiasNOLaborables))","v":1},{"$f":"IF(NETWORKDAYS(J228+1,H228,DiasNOLaborables)<=0,\"\",NETWORKDAYS(J228+1,H228,DiasNOLaborables))","v":""},null,null,{"$f":"IFERROR(VLOOKUP(E228,$X$51:$Y$64,2),\"\")","v":20}]
[218,20219050117112,"2021-10-07","CORREO ELECTRÓNICO","SOLICITUD DE INFORMACIÓN Y DOCUMENTOS","JURIDICO","OFICINA ASESORA JURÍDICA","2021-10-08","CORREO ELECTRÓNICO",{"$f":"IFERROR(WORKDAY(C229,P229,DiasNOLaborables),\"\")","v":"2021-11-08"},{"$f":"+IF(C229=\"\",\"\",IF(H229=\"\",\"SIN RESPUESTA\",(IF(H229<=J229,\"A TIEMPO\",\"FUERA DE TIEMPO\"))))","v":"A TIEMPO"},{"$f":"IF(H229=\"\",\"\",NETWORKDAYS(C229+1,H229,DiasNOLaborables))","v":1},{"$f":"IF(NETWORKDAYS(J229+1,H229,DiasNOLaborables)<=0,\"\",NETWORKDAYS(J229+1,H229,DiasNOLaborables))","v":""},null,null,{"$f":"IFERROR(VLOOKUP(E229,$X$51:$Y$64,2),\"\")","v":20}]
[219,20219050117142,"2021-10-07","CORREO ELECTRÓNICO","SOLICITUD DE INFORMACIÓN Y DOCUMENTOS","ADMINISTRATIVA","GRUPO DE ADMINISTRACIÓN Y DESARROLLO DEL TALENTO HUMANO","2021-10-08","CORREO ELECTRÓNICO",{"$f":"IFERROR(WORKDAY(C230,P230,DiasNOLaborables),\"\")","v":"2021-11-08"},{"$f":"+IF(C230=\"\",\"\",IF(H230=\"\",\"SIN RESPUESTA\",(IF(H230<=J230,\"A TIEMPO\",\"FUERA DE TIEMPO\"))))","v":"A TIEMPO"},{"$f":"IF(H230=\"\",\"\",NETWORKDAYS(C230+1,H230,DiasNOLaborables))","v":1},{"$f":"IF(NETWORKDAYS(J230+1,H230,DiasNOLaborables)<=0,\"\",NETWORKDAYS(J230+1,H230,DiasNOLaborables))","v":""},null,null,{"$f":"IFERROR(VLOOKUP(E230,$X$51:$Y$64,2),\"\")","v":20}]
[220,20219050117022,"2021-10-07","MODULO CONTACTENOS","SOLICITUD DE INFORMACIÓN Y DOCUMENTOS","SUELOS Y TIERRAS","SUBDIRECCIÓN DE ECOSISTEMAS E INFORMACIÓN AMBIENTAL","2021-10-12","CORREO ELECTRÓNICO",{"$f":"IFERROR(WORKDAY(C231,P231,DiasNOLaborables),\"\")","v":"2021-11-08"},{"$f":"+IF(C231=\"\",\"\",IF(H231=\"\",\"SIN RESPUESTA\",(IF(H231<=J231,\"A TIEMPO\",\"FUERA DE TIEMPO\"))))","v":"A TIEMPO"},{"$f":"IF(H231=\"\",\"\",NETWORKDAYS(C231+1,H231,DiasNOLaborables))","v":3},{"$f":"IF(NETWORKDAYS(J231+1,H231,DiasNOLaborables)<=0,\"\",NETWORKDAYS(J231+1,H231,DiasNOLaborables))","v":""},null,null,{"$f":"IFERROR(VLOOKUP(E231,$X$51:$Y$64,2),\"\")","v":20}]
[221,20219050117222,"2021-10-07","MODULO CONTACTENOS","SOLICITUD DE INFORMACIÓN Y DOCUMENTOS","REGISTROS AMBIENTALES","SUBDIRECCIÓN DE ESTUDIOS AMBIENTALES","2021-10-13","CORREO ELECTRÓNICO",{"$f":"IFERROR(WORKDAY(C232,P232,DiasNOLaborables),\"\")","v":"2021-11-08"},{"$f":"+IF(C232=\"\",\"\",IF(H232=\"\",\"SIN RESPUESTA\",(IF(H232<=J232,\"A TIEMPO\",\"FUERA DE TIEMPO\"))))","v":"A TIEMPO"},{"$f":"IF(H232=\"\",\"\",NETWORKDAYS(C232+1,H232,DiasNOLaborables))","v":4},{"$f":"IF(NETWORKDAYS(J232+1,H232,DiasNOLaborables)<=0,\"\",NETWORKDAYS(J232+1,H232,DiasNOLaborables))","v":""},null,null,{"$f":"IFERROR(VLOOKUP(E232,$X$51:$Y$64,2),\"\")","v":20}]
[222,20219050117422,"2021-10-07","MODULO CONTACTENOS","SOLICITUD DE INFORMACIÓN Y DOCUMENTOS","SUELOS Y TIERRAS","SUBDIRECCIÓN DE ECOSISTEMAS E INFORMACIÓN AMBIENTAL","2021-10-12","CORREO ELECTRÓNICO",{"$f":"IFERROR(WORKDAY(C233,P233,DiasNOLaborables),\"\")","v":"2021-11-08"},{"$f":"+IF(C233=\"\",\"\",IF(H233=\"\",\"SIN RESPUESTA\",(IF(H233<=J233,\"A TIEMPO\",\"FUERA DE TIEMPO\"))))","v":"A TIEMPO"},{"$f":"IF(H233=\"\",\"\",NETWORKDAYS(C233+1,H233,DiasNOLaborables))","v":3},{"$f":"IF(NETWORKDAYS(J233+1,H233,DiasNOLaborables)<=0,\"\",NETWORKDAYS(J233+1,H233,DiasNOLaborables))","v":""},null,null,{"$f":"IFERROR(VLOOKUP(E233,$X$51:$Y$64,2),\"\")","v":20}]
[223,20219050117432,"2021-10-08","MODULO CONTACTENOS","SOLICITUD DE INFORMACIÓN Y DOCUMENTOS","SUELOS Y TIERRAS","SUBDIRECCIÓN DE ECOSISTEMAS E INFORMACIÓN AMBIENTAL","2021-10-12","CORREO ELECTRÓNICO",{"$f":"IFERROR(WORKDAY(C234,P234,DiasNOLaborables),\"\")","v":"2021-11-09"},{"$f":"+IF(C234=\"\",\"\",IF(H234=\"\",\"SIN RESPUESTA\",(IF(H234<=J234,\"A TIEMPO\",\"FUERA DE TIEMPO\"))))","v":"A TIEMPO"},{"$f":"IF(H234=\"\",\"\",NETWORKDAYS(C234+1,H234,DiasNOLaborables))","v":2},{"$f":"IF(NETWORKDAYS(J234+1,H234,DiasNOLaborables)<=0,\"\",NETWORKDAYS(J234+1,H234,DiasNOLaborables))","v":""},null,null,{"$f":"IFERROR(VLOOKUP(E234,$X$51:$Y$64,2),\"\")","v":20}]
[224,20219050117442,"2021-10-08","MODULO CONTACTENOS","SOLICITUD DE INFORMACIÓN Y DOCUMENTOS","METEOROLOGÍA AERONAÚTICA","SUBDIRECCIÓN DE METEOROLOGÍA","2021-10-27","CORREO ELECTRÓNICO",{"$f":"IFERROR(WORKDAY(C235,P235,DiasNOLaborables),\"\")","v":"2021-11-09"},{"$f":"+IF(C235=\"\",\"\",IF(H235=\"\",\"SIN RESPUESTA\",(IF(H235<=J235,\"A TIEMPO\",\"FUERA DE TIEMPO\"))))","v":"A TIEMPO"},{"$f":"IF(H235=\"\",\"\",NETWORKDAYS(C235+1,H235,DiasNOLaborables))","v":12},{"$f":"IF(NETWORKDAYS(J235+1,H235,DiasNOLaborables)<=0,\"\",NETWORKDAYS(J235+1,H235,DiasNOLaborables))","v":""},null,null,{"$f":"IFERROR(VLOOKUP(E235,$X$51:$Y$64,2),\"\")","v":20}]
[225,20219050117452,"2021-10-08","MODULO CONTACTENOS","SOLICITUD DE INFORMACIÓN Y DOCUMENTOS","ADMINISTRATIVA","GRUPO DE TESORERÍA","2021-10-08","CORREO ELECTRÓNICO",{"$f":"IFERROR(WORKDAY(C236,P236,DiasNOLaborables),\"\")","v":"2021-11-09"},{"$f":"+IF(C236=\"\",\"\",IF(H236=\"\",\"SIN RESPUESTA\",(IF(H236<=J236,\"A TIEMPO\",\"FUERA DE TIEMPO\"))))","v":"A TIEMPO"},{"$f":"IF(H236=\"\",\"\",NETWORKDAYS(C236+1,H236,DiasNOLaborables))","v":-1},{"$f":"IF(NETWORKDAYS(J236+1,H236,DiasNOLaborables)<=0,\"\",NETWORKDAYS(J236+1,H236,DiasNOLaborables))","v":""},null,null,{"$f":"IFERROR(VLOOKUP(E236,$X$51:$Y$64,2),\"\")","v":20}]
[226,20219050117472,"2021-10-08","MODULO CONTACTENOS","SOLICITUD DE INFORMACIÓN Y DOCUMENTOS","SOLICITUD DE INFORMACIÓN HIDROMETEOROLÓGICA","GRUPO DE SERVICIO AL CIUDADANO ","2021-10-11","CORREO ELECTRÓNICO",{"$f":"IFERROR(WORKDAY(C237,P237,DiasNOLaborables),\"\")","v":"2021-11-09"},{"$f":"+IF(C237=\"\",\"\",IF(H237=\"\",\"SIN RESPUESTA\",(IF(H237<=J237,\"A TIEMPO\",\"FUERA DE TIEMPO\"))))","v":"A TIEMPO"},{"$f":"IF(H237=\"\",\"\",NETWORKDAYS(C237+1,H237,DiasNOLaborables))","v":1},{"$f":"IF(NETWORKDAYS(J237+1,H237,DiasNOLaborables)<=0,\"\",NETWORKDAYS(J237+1,H237,DiasNOLaborables))","v":""},null,null,{"$f":"IFERROR(VLOOKUP(E237,$X$51:$Y$64,2),\"\")","v":20}]
[227,20219050117582,"2021-10-08","MODULO CONTACTENOS","SOLICITUD DE INFORMACIÓN Y DOCUMENTOS","SOLICITUD DE INFORMACIÓN HIDROMETEOROLÓGICA","GRUPO DE SERVICIO AL CIUDADANO ","2021-10-11","CORREO ELECTRÓNICO",{"$f":"IFERROR(WORKDAY(C238,P238,DiasNOLaborables),\"\")","v":"2021-11-09"},{"$f":"+IF(C238=\"\",\"\",IF(H238=\"\",\"SIN RESPUESTA\",(IF(H238<=J238,\"A TIEMPO\",\"FUERA DE TIEMPO\"))))","v":"A TIEMPO"},{"$f":"IF(H238=\"\",\"\",NETWORKDAYS(C238+1,H238,DiasNOLaborables))","v":1},{"$f":"IF(NETWORKDAYS(J238+1,H238,DiasNOLaborables)<=0,\"\",NETWORKDAYS(J238+1,H238,DiasNOLaborables))","v":""},null,null,{"$f":"IFERROR(VLOOKUP(E238,$X$51:$Y$64,2),\"\")","v":20}]
[228,20219050117632,"2021-10-08","MODULO CONTACTENOS","SOLICITUD DE INFORMACIÓN Y DOCUMENTOS","SOLICITUD DE INFORMACIÓN HIDROMETEOROLÓGICA","GRUPO DE SERVICIO AL CIUDADANO ","2021-10-11","CORREO ELECTRÓNICO",{"$f":"IFERROR(WORKDAY(C239,P239,DiasNOLaborables),\"\")","v":"2021-11-09"},{"$f":"+IF(C239=\"\",\"\",IF(H239=\"\",\"SIN RESPUESTA\",(IF(H239<=J239,\"A TIEMPO\",\"FUERA DE TIEMPO\"))))","v":"A TIEMPO"},{"$f":"IF(H239=\"\",\"\",NETWORKDAYS(C239+1,H239,DiasNOLaborables))","v":1},{"$f":"IF(NETWORKDAYS(J239+1,H239,DiasNOLaborables)<=0,\"\",NETWORKDAYS(J239+1,H239,DiasNOLaborables))","v":""},null,null,{"$f":"IFERROR(VLOOKUP(E239,$X$51:$Y$64,2),\"\")","v":20}]
[229,20219050117722,"2021-10-08","MODULO CONTACTENOS","SOLICITUD DE INFORMACIÓN Y DOCUMENTOS","SOLICITUD DE INFORMACIÓN HIDROMETEOROLÓGICA","GRUPO DE SERVICIO AL CIUDADANO ","2021-10-11","CORREO ELECTRÓNICO",{"$f":"IFERROR(WORKDAY(C240,P240,DiasNOLaborables),\"\")","v":"2021-11-09"},{"$f":"+IF(C240=\"\",\"\",IF(H240=\"\",\"SIN RESPUESTA\",(IF(H240<=J240,\"A TIEMPO\",\"FUERA DE TIEMPO\"))))","v":"A TIEMPO"},{"$f":"IF(H240=\"\",\"\",NETWORKDAYS(C240+1,H240,DiasNOLaborables))","v":1},{"$f":"IF(NETWORKDAYS(J240+1,H240,DiasNOLaborables)<=0,\"\",NETWORKDAYS(J240+1,H240,DiasNOLaborables))","v":""},null,null,{"$f":"IFERROR(VLOOKUP(E240,$X$51:$Y$64,2),\"\")","v":20}]
[230,20219050117492,"2021-10-08","CORREO ELECTRÓNICO","SOLICITUD DE INFORMACIÓN Y DOCUMENTOS","ADMINISTRATIVA","GRUPO DE ADMINISTRACIÓN Y DESARROLLO DEL TALENTO HUMANO","2021-10-08","CORREO ELECTRÓNICO",{"$f":"IFERROR(WORKDAY(C241,P241,DiasNOLaborables),\"\")","v":"2021-11-09"},{"$f":"+IF(C241=\"\",\"\",IF(H241=\"\",\"SIN RESPUESTA\",(IF(H241<=J241,\"A TIEMPO\",\"FUERA DE TIEMPO\"))))","v":"A TIEMPO"},{"$f":"IF(H241=\"\",\"\",NETWORKDAYS(C241+1,H241,DiasNOLaborables))","v":-1},{"$f":"IF(NETWORKDAYS(J241+1,H241,DiasNOLaborables)<=0,\"\",NETWORKDAYS(J241+1,H241,DiasNOLaborables))","v":""},null,null,{"$f":"IFERROR(VLOOKUP(E241,$X$51:$Y$64,2),\"\")","v":20}]
[231,20219050117712,"2021-10-08","CORREO ELECTRÓNICO","SOLICITUD DE INFORMACIÓN Y DOCUMENTOS","BOSQUES","SUBDIRECCIÓN DE ECOSISTEMAS E INFORMACIÓN AMBIENTAL","2021-10-12","CORREO ELECTRÓNICO",{"$f":"IFERROR(WORKDAY(C242,P242,DiasNOLaborables),\"\")","v":"2021-11-09"},{"$f":"+IF(C242=\"\",\"\",IF(H242=\"\",\"SIN RESPUESTA\",(IF(H242<=J242,\"A TIEMPO\",\"FUERA DE TIEMPO\"))))","v":"A TIEMPO"},{"$f":"IF(H242=\"\",\"\",NETWORKDAYS(C242+1,H242,DiasNOLaborables))","v":2},{"$f":"IF(NETWORKDAYS(J242+1,H242,DiasNOLaborables)<=0,\"\",NETWORKDAYS(J242+1,H242,DiasNOLaborables))","v":""},null,null,{"$f":"IFERROR(VLOOKUP(E242,$X$51:$Y$64,2),\"\")","v":20}]
[232,20219050117482,"2021-10-08","CORREO ELECTRÓNICO","SOLICITUD DE INFORMACIÓN Y DOCUMENTOS","SOLICITUD DE INFORMACIÓN HIDROMETEOROLÓGICA","GRUPO DE SERVICIO AL CIUDADANO ","2021-10-13","CORREO ELECTRÓNICO",{"$f":"IFERROR(WORKDAY(C243,P243,DiasNOLaborables),\"\")","v":"2021-11-09"},{"$f":"+IF(C243=\"\",\"\",IF(H243=\"\",\"SIN RESPUESTA\",(IF(H243<=J243,\"A TIEMPO\",\"FUERA DE TIEMPO\"))))","v":"A TIEMPO"},{"$f":"IF(H243=\"\",\"\",NETWORKDAYS(C243+1,H243,DiasNOLaborables))","v":3},{"$f":"IF(NETWORKDAYS(J243+1,H243,DiasNOLaborables)<=0,\"\",NETWORKDAYS(J243+1,H243,DiasNOLaborables))","v":""},null,null,{"$f":"IFERROR(VLOOKUP(E243,$X$51:$Y$64,2),\"\")","v":20}]
[233,20219050117702,"2021-10-08","CORREO ELECTRÓNICO","SOLICITUD DE INFORMACIÓN Y DOCUMENTOS","SOLICITUD DE INFORMACIÓN HIDROMETEOROLÓGICA","GRUPO DE SERVICIO AL CIUDADANO ","2021-10-13","CORREO ELECTRÓNICO",{"$f":"IFERROR(WORKDAY(C244,P244,DiasNOLaborables),\"\")","v":"2021-11-09"},{"$f":"+IF(C244=\"\",\"\",IF(H244=\"\",\"SIN RESPUESTA\",(IF(H244<=J244,\"A TIEMPO\",\"FUERA DE TIEMPO\"))))","v":"A TIEMPO"},{"$f":"IF(H244=\"\",\"\",NETWORKDAYS(C244+1,H244,DiasNOLaborables))","v":3},{"$f":"IF(NETWORKDAYS(J244+1,H244,DiasNOLaborables)<=0,\"\",NETWORKDAYS(J244+1,H244,DiasNOLaborables))","v":""},null,null,{"$f":"IFERROR(VLOOKUP(E244,$X$51:$Y$64,2),\"\")","v":20}]
[234,20219050117752,"2021-10-08","MODULO CONTACTENOS","SOLICITUD DE INFORMACIÓN Y DOCUMENTOS","SOLICITUD DE INFORMACIÓN HIDROMETEOROLÓGICA","GRUPO DE SERVICIO AL CIUDADANO ","2021-10-13","CORREO ELECTRÓNICO",{"$f":"IFERROR(WORKDAY(C245,P245,DiasNOLaborables),\"\")","v":"2021-11-09"},{"$f":"+IF(C245=\"\",\"\",IF(H245=\"\",\"SIN RESPUESTA\",(IF(H245<=J245,\"A TIEMPO\",\"FUERA DE TIEMPO\"))))","v":"A TIEMPO"},{"$f":"IF(H245=\"\",\"\",NETWORKDAYS(C245+1,H245,DiasNOLaborables))","v":3},{"$f":"IF(NETWORKDAYS(J245+1,H245,DiasNOLaborables)<=0,\"\",NETWORKDAYS(J245+1,H245,DiasNOLaborables))","v":""},null,null,{"$f":"IFERROR(VLOOKUP(E245,$X$51:$Y$64,2),\"\")","v":20}]
[235,20219050117762,"2021-10-08","MODULO CONTACTENOS","SOLICITUD DE INFORMACIÓN Y DOCUMENTOS","SOLICITUD DE INFORMACIÓN HIDROMETEOROLÓGICA","GRUPO DE SERVICIO AL CIUDADANO ","2021-10-14","CORREO ELECTRÓNICO",{"$f":"IFERROR(WORKDAY(C246,P246,DiasNOLaborables),\"\")","v":"2021-11-09"},{"$f":"+IF(C246=\"\",\"\",IF(H246=\"\",\"SIN RESPUESTA\",(IF(H246<=J246,\"A TIEMPO\",\"FUERA DE TIEMPO\"))))","v":"A TIEMPO"},{"$f":"IF(H246=\"\",\"\",NETWORKDAYS(C246+1,H246,DiasNOLaborables))","v":4},{"$f":"IF(NETWORKDAYS(J246+1,H246,DiasNOLaborables)<=0,\"\",NETWORKDAYS(J246+1,H246,DiasNOLaborables))","v":""},null,null,{"$f":"IFERROR(VLOOKUP(E246,$X$51:$Y$64,2),\"\")","v":20}]
[236,20219050117672,"2021-10-08","CORREO ELECTRÓNICO","SOLICITUD DE INFORMACIÓN Y DOCUMENTOS","SOLICITUD DE INFORMACIÓN HIDROMETEOROLÓGICA","GRUPO DE SERVICIO AL CIUDADANO ","2021-10-14","CORREO ELECTRÓNICO",{"$f":"IFERROR(WORKDAY(C247,P247,DiasNOLaborables),\"\")","v":"2021-11-09"},{"$f":"+IF(C247=\"\",\"\",IF(H247=\"\",\"SIN RESPUESTA\",(IF(H247<=J247,\"A TIEMPO\",\"FUERA DE TIEMPO\"))))","v":"A TIEMPO"},{"$f":"IF(H247=\"\",\"\",NETWORKDAYS(C247+1,H247,DiasNOLaborables))","v":4},{"$f":"IF(NETWORKDAYS(J247+1,H247,DiasNOLaborables)<=0,\"\",NETWORKDAYS(J247+1,H247,DiasNOLaborables))","v":""},null,null,{"$f":"IFERROR(VLOOKUP(E247,$X$51:$Y$64,2),\"\")","v":20}]
[237,20219050117502,"2021-10-08","CORREO ELECTRÓNICO","SOLICITUD DE INFORMACIÓN Y DOCUMENTOS","ADMINISTRATIVA","GRUPO DE ADMINISTRACIÓN Y DESARROLLO DEL TALENTO HUMANO","2021-10-21","CORREO ELECTRÓNICO",{"$f":"IFERROR(WORKDAY(C248,P248,DiasNOLaborables),\"\")","v":"2021-11-09"},{"$f":"+IF(C248=\"\",\"\",IF(H248=\"\",\"SIN RESPUESTA\",(IF(H248<=J248,\"A TIEMPO\",\"FUERA DE TIEMPO\"))))","v":"A TIEMPO"},{"$f":"IF(H248=\"\",\"\",NETWORKDAYS(C248+1,H248,DiasNOLaborables))","v":8},{"$f":"IF(NETWORKDAYS(J248+1,H248,DiasNOLaborables)<=0,\"\",NETWORKDAYS(J248+1,H248,DiasNOLaborables))","v":""},null,null,{"$f":"IFERROR(VLOOKUP(E248,$X$51:$Y$64,2),\"\")","v":20}]
[238,20219050117512,"2021-10-08","CORREO ELECTRÓNICO","SOLICITUD DE INFORMACIÓN Y DOCUMENTOS","INFORMES AMBIENTALES","SUBDIRECCIÓN DE ESTUDIOS AMBIENTALES","2021-10-18","CORREO ELECTRÓNICO",{"$f":"IFERROR(WORKDAY(C249,P249,DiasNOLaborables),\"\")","v":"2021-11-09"},{"$f":"+IF(C249=\"\",\"\",IF(H249=\"\",\"SIN RESPUESTA\",(IF(H249<=J249,\"A TIEMPO\",\"FUERA DE TIEMPO\"))))","v":"A TIEMPO"},{"$f":"IF(H249=\"\",\"\",NETWORKDAYS(C249+1,H249,DiasNOLaborables))","v":5},{"$f":"IF(NETWORKDAYS(J249+1,H249,DiasNOLaborables)<=0,\"\",NETWORKDAYS(J249+1,H249,DiasNOLaborables))","v":""},null,null,{"$f":"IFERROR(VLOOKUP(E249,$X$51:$Y$64,2),\"\")","v":20}]
[239,20219050117522,"2021-10-08","CORREO ELECTRÓNICO","SOLICITUD DE INFORMACIÓN Y DOCUMENTOS","BOSQUES","SUBDIRECCIÓN DE ECOSISTEMAS E INFORMACIÓN AMBIENTAL","2021-10-12","CORREO ELECTRÓNICO",{"$f":"IFERROR(WORKDAY(C250,P250,DiasNOLaborables),\"\")","v":"2021-11-09"},{"$f":"+IF(C250=\"\",\"\",IF(H250=\"\",\"SIN RESPUESTA\",(IF(H250<=J250,\"A TIEMPO\",\"FUERA DE TIEMPO\"))))","v":"A TIEMPO"},{"$f":"IF(H250=\"\",\"\",NETWORKDAYS(C250+1,H250,DiasNOLaborables))","v":2},{"$f":"IF(NETWORKDAYS(J250+1,H250,DiasNOLaborables)<=0,\"\",NETWORKDAYS(J250+1,H250,DiasNOLaborables))","v":""},null,null,{"$f":"IFERROR(VLOOKUP(E250,$X$51:$Y$64,2),\"\")","v":20}]
[240,20219050117552,"2021-10-08","CORREO ELECTRÓNICO","SOLICITUD DE INFORMACIÓN Y DOCUMENTOS","INFORMES AMBIENTALES","SUBDIRECCIÓN DE METEOROLOGÍA","2021-11-05","CORREO ELECTRÓNICO",{"$f":"IFERROR(WORKDAY(C251,P251,DiasNOLaborables),\"\")","v":"2021-11-09"},{"$f":"+IF(C251=\"\",\"\",IF(H251=\"\",\"SIN RESPUESTA\",(IF(H251<=J251,\"A TIEMPO\",\"FUERA DE TIEMPO\"))))","v":"A TIEMPO"},{"$f":"IF(H251=\"\",\"\",NETWORKDAYS(C251+1,H251,DiasNOLaborables))","v":18},{"$f":"IF(NETWORKDAYS(J251+1,H251,DiasNOLaborables)<=0,\"\",NETWORKDAYS(J251+1,H251,DiasNOLaborables))","v":""},null,null,{"$f":"IFERROR(VLOOKUP(E251,$X$51:$Y$64,2),\"\")","v":20}]
[241,20219050117602,"2021-10-08","CORREO ELECTRÓNICO","SOLICITUD DE INFORMACIÓN Y DOCUMENTOS","INFORMES AMBIENTALES","SUBDIRECCIÓN DE HIDROLOGÍA","2021-10-21","CORREO ELECTRÓNICO",{"$f":"IFERROR(WORKDAY(C252,P252,DiasNOLaborables),\"\")","v":"2021-11-09"},{"$f":"+IF(C252=\"\",\"\",IF(H252=\"\",\"SIN RESPUESTA\",(IF(H252<=J252,\"A TIEMPO\",\"FUERA DE TIEMPO\"))))","v":"A TIEMPO"},{"$f":"IF(H252=\"\",\"\",NETWORKDAYS(C252+1,H252,DiasNOLaborables))","v":8},{"$f":"IF(NETWORKDAYS(J252+1,H252,DiasNOLaborables)<=0,\"\",NETWORKDAYS(J252+1,H252,DiasNOLaborables))","v":""},null,null,{"$f":"IFERROR(VLOOKUP(E252,$X$51:$Y$64,2),\"\")","v":20}]
[242,20219050117622,"2021-10-08","CORREO ELECTRÓNICO","PETICIÓN","JURIDICO","OFICINA ASESORA JURÍDICA","2021-11-09","CORREO ELECTRÓNICO",{"$f":"IFERROR(WORKDAY(C253,P253,DiasNOLaborables),\"\")","v":"2021-11-24"},{"$f":"+IF(C253=\"\",\"\",IF(H253=\"\",\"SIN RESPUESTA\",(IF(H253<=J253,\"A TIEMPO\",\"FUERA DE TIEMPO\"))))","v":"A TIEMPO"},{"$f":"IF(H253=\"\",\"\",NETWORKDAYS(C253+1,H253,DiasNOLaborables))","v":20},{"$f":"IF(NETWORKDAYS(J253+1,H253,DiasNOLaborables)<=0,\"\",NETWORKDAYS(J253+1,H253,DiasNOLaborables))","v":""},null,null,{"$f":"IFERROR(VLOOKUP(E253,$X$51:$Y$64,2),\"\")","v":30}]
[243,20219050117642,"2021-10-08","CORREO ELECTRÓNICO","CERTIFICACIONES DE TIEMPO, CLIMA Y EVENTOS HIDROLÓGICOS","CERTIFICACIONES DE TIEMPO Y CLIMA","SUBDIRECCIÓN DE METEOROLOGÍA","2021-11-08","CORREO ELECTRÓNICO",{"$f":"IFERROR(WORKDAY(C254,P254,DiasNOLaborables),\"\")","v":"2021-12-01"},{"$f":"+IF(C254=\"\",\"\",IF(H254=\"\",\"SIN RESPUESTA\",(IF(H254<=J254,\"A TIEMPO\",\"FUERA DE TIEMPO\"))))","v":"A TIEMPO"},{"$f":"IF(H254=\"\",\"\",NETWORKDAYS(C254+1,H254,DiasNOLaborables))","v":19},{"$f":"IF(NETWORKDAYS(J254+1,H254,DiasNOLaborables)<=0,\"\",NETWORKDAYS(J254+1,H254,DiasNOLaborables))","v":""},null,null,{"$f":"IFERROR(VLOOKUP(E254,$X$51:$Y$64,2),\"\")","v":35}]
[244,20219050117532,"2021-10-08","MODULO CONTACTENOS","SOLICITUD DE INFORMACIÓN Y DOCUMENTOS","ADMINISTRATIVA","GRUPO DE ADMINISTRACIÓN Y DESARROLLO DEL TALENTO HUMANO","2021-10-20","CORREO ELECTRÓNICO",{"$f":"IFERROR(WORKDAY(C255,P255,DiasNOLaborables),\"\")","v":"2021-11-09"},{"$f":"+IF(C255=\"\",\"\",IF(H255=\"\",\"SIN RESPUESTA\",(IF(H255<=J255,\"A TIEMPO\",\"FUERA DE TIEMPO\"))))","v":"A TIEMPO"},{"$f":"IF(H255=\"\",\"\",NETWORKDAYS(C255+1,H255,DiasNOLaborables))","v":7},{"$f":"IF(NETWORKDAYS(J255+1,H255,DiasNOLaborables)<=0,\"\",NETWORKDAYS(J255+1,H255,DiasNOLaborables))","v":""},null,null,{"$f":"IFERROR(VLOOKUP(E255,$X$51:$Y$64,2),\"\")","v":20}]
[245,20219050117562,"2021-10-08","MODULO CONTACTENOS","SOLICITUD DE INFORMACIÓN Y DOCUMENTOS","BOSQUES","SUBDIRECCIÓN DE ECOSISTEMAS E INFORMACIÓN AMBIENTAL","2021-10-19","CORREO ELECTRÓNICO",{"$f":"IFERROR(WORKDAY(C256,P256,DiasNOLaborables),\"\")","v":"2021-11-09"},{"$f":"+IF(C256=\"\",\"\",IF(H256=\"\",\"SIN RESPUESTA\",(IF(H256<=J256,\"A TIEMPO\",\"FUERA DE TIEMPO\"))))","v":"A TIEMPO"},{"$f":"IF(H256=\"\",\"\",NETWORKDAYS(C256+1,H256,DiasNOLaborables))","v":6},{"$f":"IF(NETWORKDAYS(J256+1,H256,DiasNOLaborables)<=0,\"\",NETWORKDAYS(J256+1,H256,DiasNOLaborables))","v":""},null,null,{"$f":"IFERROR(VLOOKUP(E256,$X$51:$Y$64,2),\"\")","v":20}]
[246,20219050117682,"2021-10-08","MODULO CONTACTENOS","SOLICITUD DE INFORMACIÓN Y DOCUMENTOS","ADMINISTRATIVA","GRUPO DE TESORERÍA","2021-11-03","CORREO ELECTRÓNICO",{"$f":"IFERROR(WORKDAY(C257,P257,DiasNOLaborables),\"\")","v":"2021-11-09"},{"$f":"+IF(C257=\"\",\"\",IF(H257=\"\",\"SIN RESPUESTA\",(IF(H257<=J257,\"A TIEMPO\",\"FUERA DE TIEMPO\"))))","v":"A TIEMPO"},{"$f":"IF(H257=\"\",\"\",NETWORKDAYS(C257+1,H257,DiasNOLaborables))","v":16},{"$f":"IF(NETWORKDAYS(J257+1,H257,DiasNOLaborables)<=0,\"\",NETWORKDAYS(J257+1,H257,DiasNOLaborables))","v":""},null,null,{"$f":"IFERROR(VLOOKUP(E257,$X$51:$Y$64,2),\"\")","v":20}]
[247,20219050117692,"2021-10-08","MODULO CONTACTENOS","SOLICITUD DE INFORMACIÓN Y DOCUMENTOS","CAMBIO CLIMÁTICO","SUBDIRECCIÓN DE ESTUDIOS AMBIENTALES","2021-11-17","CORREO ELECTRÓNICO",{"$f":"IFERROR(WORKDAY(C258,P258,DiasNOLaborables),\"\")","v":"2021-11-09"},{"$f":"+IF(C258=\"\",\"\",IF(H258=\"\",\"SIN RESPUESTA\",(IF(H258<=J258,\"A TIEMPO\",\"FUERA DE TIEMPO\"))))","v":"FUERA DE TIEMPO"},{"$f":"IF(H258=\"\",\"\",NETWORKDAYS(C258+1,H258,DiasNOLaborables))","v":25},{"$f":"IF(NETWORKDAYS(J258+1,H258,DiasNOLaborables)<=0,\"\",NETWORKDAYS(J258+1,H258,DiasNOLaborables))","v":5},null,null,{"$f":"IFERROR(VLOOKUP(E258,$X$51:$Y$64,2),\"\")","v":20}]
[248,20219050117732,"2021-10-08","MODULO CONTACTENOS","SOLICITUD DE INFORMACIÓN Y DOCUMENTOS","SUELOS Y TIERRAS","SUBDIRECCIÓN DE ECOSISTEMAS E INFORMACIÓN AMBIENTAL","2021-10-12","CORREO ELECTRÓNICO",{"$f":"IFERROR(WORKDAY(C259,P259,DiasNOLaborables),\"\")","v":"2021-11-09"},{"$f":"+IF(C259=\"\",\"\",IF(H259=\"\",\"SIN RESPUESTA\",(IF(H259<=J259,\"A TIEMPO\",\"FUERA DE TIEMPO\"))))","v":"A TIEMPO"},{"$f":"IF(H259=\"\",\"\",NETWORKDAYS(C259+1,H259,DiasNOLaborables))","v":2},{"$f":"IF(NETWORKDAYS(J259+1,H259,DiasNOLaborables)<=0,\"\",NETWORKDAYS(J259+1,H259,DiasNOLaborables))","v":""},null,null,{"$f":"IFERROR(VLOOKUP(E259,$X$51:$Y$64,2),\"\")","v":20}]
[249,20219050117742,"2021-10-08","MODULO CONTACTENOS","SOLICITUD DE INFORMACIÓN Y DOCUMENTOS","ADMINISTRATIVA","GRUPO DE ADMINISTRACIÓN Y DESARROLLO DEL TALENTO HUMANO","2021-10-20","CORREO ELECTRÓNICO",{"$f":"IFERROR(WORKDAY(C260,P260,DiasNOLaborables),\"\")","v":"2021-11-09"},{"$f":"+IF(C260=\"\",\"\",IF(H260=\"\",\"SIN RESPUESTA\",(IF(H260<=J260,\"A TIEMPO\",\"FUERA DE TIEMPO\"))))","v":"A TIEMPO"},{"$f":"IF(H260=\"\",\"\",NETWORKDAYS(C260+1,H260,DiasNOLaborables))","v":7},{"$f":"IF(NETWORKDAYS(J260+1,H260,DiasNOLaborables)<=0,\"\",NETWORKDAYS(J260+1,H260,DiasNOLaborables))","v":""},null,null,{"$f":"IFERROR(VLOOKUP(E260,$X$51:$Y$64,2),\"\")","v":20}]
[250,20219050117772,"2021-10-09","MODULO CONTACTENOS","SOLICITUD DE INFORMACIÓN Y DOCUMENTOS","SOLICITUD DE INFORMACIÓN HIDROMETEOROLÓGICA","GRUPO DE SERVICIO AL CIUDADANO ","2021-10-12","CORREO ELECTRÓNICO",{"$f":"IFERROR(WORKDAY(C261,P261,DiasNOLaborables),\"\")","v":"2021-11-09"},{"$f":"+IF(C261=\"\",\"\",IF(H261=\"\",\"SIN RESPUESTA\",(IF(H261<=J261,\"A TIEMPO\",\"FUERA DE TIEMPO\"))))","v":"A TIEMPO"},{"$f":"IF(H261=\"\",\"\",NETWORKDAYS(C261+1,H261,DiasNOLaborables))","v":2},{"$f":"IF(NETWORKDAYS(J261+1,H261,DiasNOLaborables)<=0,\"\",NETWORKDAYS(J261+1,H261,DiasNOLaborables))","v":""},null,null,{"$f":"IFERROR(VLOOKUP(E261,$X$51:$Y$64,2),\"\")","v":20}]
[251,20219050117782,"2021-10-09","MODULO CONTACTENOS","SOLICITUD DE INFORMACIÓN Y DOCUMENTOS","SOLICITUD DE INFORMACIÓN HIDROMETEOROLÓGICA","GRUPO DE SERVICIO AL CIUDADANO ","2021-10-12","CORREO ELECTRÓNICO",{"$f":"IFERROR(WORKDAY(C262,P262,DiasNOLaborables),\"\")","v":"2021-11-09"},{"$f":"+IF(C262=\"\",\"\",IF(H262=\"\",\"SIN RESPUESTA\",(IF(H262<=J262,\"A TIEMPO\",\"FUERA DE TIEMPO\"))))","v":"A TIEMPO"},{"$f":"IF(H262=\"\",\"\",NETWORKDAYS(C262+1,H262,DiasNOLaborables))","v":2},{"$f":"IF(NETWORKDAYS(J262+1,H262,DiasNOLaborables)<=0,\"\",NETWORKDAYS(J262+1,H262,DiasNOLaborables))","v":""},null,null,{"$f":"IFERROR(VLOOKUP(E262,$X$51:$Y$64,2),\"\")","v":20}]
[252,20219050117792,"2021-10-09","MODULO CONTACTENOS","SOLICITUD DE INFORMACIÓN Y DOCUMENTOS","SOLICITUD DE INFORMACIÓN HIDROMETEOROLÓGICA","GRUPO DE SERVICIO AL CIUDADANO ","2021-10-12","CORREO ELECTRÓNICO",{"$f":"IFERROR(WORKDAY(C263,P263,DiasNOLaborables),\"\")","v":"2021-11-09"},{"$f":"+IF(C263=\"\",\"\",IF(H263=\"\",\"SIN RESPUESTA\",(IF(H263<=J263,\"A TIEMPO\",\"FUERA DE TIEMPO\"))))","v":"A TIEMPO"},{"$f":"IF(H263=\"\",\"\",NETWORKDAYS(C263+1,H263,DiasNOLaborables))","v":2},{"$f":"IF(NETWORKDAYS(J263+1,H263,DiasNOLaborables)<=0,\"\",NETWORKDAYS(J263+1,H263,DiasNOLaborables))","v":""},null,null,{"$f":"IFERROR(VLOOKUP(E263,$X$51:$Y$64,2),\"\")","v":20}]
[253,20219050117822,"2021-10-10","MODULO CONTACTENOS","SOLICITUD DE INFORMACIÓN Y DOCUMENTOS","SOLICITUD DE INFORMACIÓN HIDROMETEOROLÓGICA","GRUPO DE SERVICIO AL CIUDADANO ","2021-10-12","CORREO ELECTRÓNICO",{"$f":"IFERROR(WORKDAY(C264,P264,DiasNOLaborables),\"\")","v":"2021-11-09"},{"$f":"+IF(C264=\"\",\"\",IF(H264=\"\",\"SIN RESPUESTA\",(IF(H264<=J264,\"A TIEMPO\",\"FUERA DE TIEMPO\"))))","v":"A TIEMPO"},{"$f":"IF(H264=\"\",\"\",NETWORKDAYS(C264+1,H264,DiasNOLaborables))","v":2},{"$f":"IF(NETWORKDAYS(J264+1,H264,DiasNOLaborables)<=0,\"\",NETWORKDAYS(J264+1,H264,DiasNOLaborables))","v":""},null,null,{"$f":"IFERROR(VLOOKUP(E264,$X$51:$Y$64,2),\"\")","v":20}]
[254,20219050117852,"2021-10-10","MODULO CONTACTENOS","SOLICITUD DE INFORMACIÓN Y DOCUMENTOS","SOLICITUD DE INFORMACIÓN HIDROMETEOROLÓGICA","GRUPO DE SERVICIO AL CIUDADANO ","2021-10-12","CORREO ELECTRÓNICO",{"$f":"IFERROR(WORKDAY(C265,P265,DiasNOLaborables),\"\")","v":"2021-11-09"},{"$f":"+IF(C265=\"\",\"\",IF(H265=\"\",\"SIN RESPUESTA\",(IF(H265<=J265,\"A TIEMPO\",\"FUERA DE TIEMPO\"))))","v":"A TIEMPO"},{"$f":"IF(H265=\"\",\"\",NETWORKDAYS(C265+1,H265,DiasNOLaborables))","v":2},{"$f":"IF(NETWORKDAYS(J265+1,H265,DiasNOLaborables)<=0,\"\",NETWORKDAYS(J265+1,H265,DiasNOLaborables))","v":""},null,null,{"$f":"IFERROR(VLOOKUP(E265,$X$51:$Y$64,2),\"\")","v":20}]
[255,20219050117812,"2021-10-10","MODULO CONTACTENOS","SOLICITUD DE INFORMACIÓN Y DOCUMENTOS","ADMINISTRATIVA","OFICINA ASESORA JURÍDICA","2021-10-25","CORREO ELECTRÓNICO",{"$f":"IFERROR(WORKDAY(C266,P266,DiasNOLaborables),\"\")","v":"2021-11-09"},{"$f":"+IF(C266=\"\",\"\",IF(H266=\"\",\"SIN RESPUESTA\",(IF(H266<=J266,\"A TIEMPO\",\"FUERA DE TIEMPO\"))))","v":"A TIEMPO"},{"$f":"IF(H266=\"\",\"\",NETWORKDAYS(C266+1,H266,DiasNOLaborables))","v":10},{"$f":"IF(NETWORKDAYS(J266+1,H266,DiasNOLaborables)<=0,\"\",NETWORKDAYS(J266+1,H266,DiasNOLaborables))","v":""},null,null,{"$f":"IFERROR(VLOOKUP(E266,$X$51:$Y$64,2),\"\")","v":20}]
[256,20219050117832,"2021-10-10","MODULO CONTACTENOS","SOLICITUD DE INFORMACIÓN Y DOCUMENTOS","ADMINISTRATIVA","OFICINA ASESORA JURÍDICA","2021-10-25","CORREO ELECTRÓNICO",{"$f":"IFERROR(WORKDAY(C267,P267,DiasNOLaborables),\"\")","v":"2021-11-09"},{"$f":"+IF(C267=\"\",\"\",IF(H267=\"\",\"SIN RESPUESTA\",(IF(H267<=J267,\"A TIEMPO\",\"FUERA DE TIEMPO\"))))","v":"A TIEMPO"},{"$f":"IF(H267=\"\",\"\",NETWORKDAYS(C267+1,H267,DiasNOLaborables))","v":10},{"$f":"IF(NETWORKDAYS(J267+1,H267,DiasNOLaborables)<=0,\"\",NETWORKDAYS(J267+1,H267,DiasNOLaborables))","v":""},null,null,{"$f":"IFERROR(VLOOKUP(E267,$X$51:$Y$64,2),\"\")","v":20}]
[257,20219050117862,"2021-10-11","MODULO CONTACTENOS","SOLICITUD DE INFORMACIÓN Y DOCUMENTOS","SOLICITUD DE INFORMACIÓN HIDROMETEOROLÓGICA","GRUPO DE SERVICIO AL CIUDADANO ","2021-10-12","CORREO ELECTRÓNICO",{"$f":"IFERROR(WORKDAY(C268,P268,DiasNOLaborables),\"\")","v":"2021-11-10"},{"$f":"+IF(C268=\"\",\"\",IF(H268=\"\",\"SIN RESPUESTA\",(IF(H268<=J268,\"A TIEMPO\",\"FUERA DE TIEMPO\"))))","v":"A TIEMPO"},{"$f":"IF(H268=\"\",\"\",NETWORKDAYS(C268+1,H268,DiasNOLaborables))","v":1},{"$f":"IF(NETWORKDAYS(J268+1,H268,DiasNOLaborables)<=0,\"\",NETWORKDAYS(J268+1,H268,DiasNOLaborables))","v":""},null,null,{"$f":"IFERROR(VLOOKUP(E268,$X$51:$Y$64,2),\"\")","v":20}]
[258,20219050117942,"2021-10-11","MODULO CONTACTENOS","SOLICITUD DE INFORMACIÓN Y DOCUMENTOS","SOLICITUD DE INFORMACIÓN HIDROMETEOROLÓGICA","GRUPO DE SERVICIO AL CIUDADANO ","2021-10-12","CORREO ELECTRÓNICO",{"$f":"IFERROR(WORKDAY(C269,P269,DiasNOLaborables),\"\")","v":"2021-11-10"},{"$f":"+IF(C269=\"\",\"\",IF(H269=\"\",\"SIN RESPUESTA\",(IF(H269<=J269,\"A TIEMPO\",\"FUERA DE TIEMPO\"))))","v":"A TIEMPO"},{"$f":"IF(H269=\"\",\"\",NETWORKDAYS([5]Hoja1!C267+1,[5]Hoja1!P267,DiasNOLaborables))","v":4},{"$f":"IF(NETWORKDAYS(J269+1,H269,DiasNOLaborables)<=0,\"\",NETWORKDAYS(J269+1,H269,DiasNOLaborables))","v":""},null,null,{"$f":"IFERROR(VLOOKUP(E269,$X$51:$Y$64,2),\"\")","v":20}]
[{"$f":"IF(B270<>\"\",A269+1,\"\")","v":259},20219050117952,"2021-10-11","MODULO CONTACTENOS","SOLICITUD DE INFORMACIÓN Y DOCUMENTOS","SOLICITUD DE INFORMACIÓN HIDROMETEOROLÓGICA","GRUPO DE SERVICIO AL CIUDADANO ","2021-10-12","CORREO ELECTRÓNICO",{"$f":"IFERROR(WORKDAY(C270,P270,DiasNOLaborables),\"\")","v":"2021-11-10"},{"$f":"+IF(C270=\"\",\"\",IF(H270=\"\",\"SIN RESPUESTA\",(IF(H270<=J270,\"A TIEMPO\",\"FUERA DE TIEMPO\"))))","v":"A TIEMPO"},{"$f":"IF(H270=\"\",\"\",NETWORKDAYS(C270+1,H270,DiasNOLaborables))","v":1},{"$f":"IF(NETWORKDAYS(J270+1,H270,DiasNOLaborables)<=0,\"\",NETWORKDAYS(J270+1,H270,DiasNOLaborables))","v":""},null,null,{"$f":"IFERROR(VLOOKUP(E270,$X$51:$Y$64,2),\"\")","v":20}]
[260,20219050117962,"2021-10-11","MODULO CONTACTENOS","SOLICITUD DE INFORMACIÓN Y DOCUMENTOS","SOLICITUD DE INFORMACIÓN HIDROMETEOROLÓGICA","GRUPO DE SERVICIO AL CIUDADANO ","2021-10-12","CORREO ELECTRÓNICO",{"$f":"IFERROR(WORKDAY(C271,P271,DiasNOLaborables),\"\")","v":"2021-11-10"},{"$f":"+IF(C271=\"\",\"\",IF(H271=\"\",\"SIN RESPUESTA\",(IF(H271<=J271,\"A TIEMPO\",\"FUERA DE TIEMPO\"))))","v":"A TIEMPO"},{"$f":"IF(H271=\"\",\"\",NETWORKDAYS(C271+1,H271,DiasNOLaborables))","v":1},{"$f":"IF(NETWORKDAYS(J271+1,H271,DiasNOLaborables)<=0,\"\",NETWORKDAYS(J271+1,H271,DiasNOLaborables))","v":""},null,null,{"$f":"IFERROR(VLOOKUP(E271,$X$51:$Y$64,2),\"\")","v":20}]
[261,20219050117972,"2021-10-11","MODULO CONTACTENOS","SOLICITUD DE INFORMACIÓN Y DOCUMENTOS","SOLICITUD DE INFORMACIÓN HIDROMETEOROLÓGICA","GRUPO DE SERVICIO AL CIUDADANO ","2021-10-12","CORREO ELECTRÓNICO",{"$f":"IFERROR(WORKDAY(C272,P272,DiasNOLaborables),\"\")","v":"2021-11-10"},{"$f":"+IF(C272=\"\",\"\",IF(H272=\"\",\"SIN RESPUESTA\",(IF(H272<=J272,\"A TIEMPO\",\"FUERA DE TIEMPO\"))))","v":"A TIEMPO"},{"$f":"IF(H272=\"\",\"\",NETWORKDAYS(C272+1,H272,DiasNOLaborables))","v":1},{"$f":"IF(NETWORKDAYS(J272+1,H272,DiasNOLaborables)<=0,\"\",NETWORKDAYS(J272+1,H272,DiasNOLaborables))","v":""},null,null,{"$f":"IFERROR(VLOOKUP(E272,$X$51:$Y$64,2),\"\")","v":20}]
[262,20219050117982,"2021-10-11","MODULO CONTACTENOS","SOLICITUD DE INFORMACIÓN Y DOCUMENTOS","SOLICITUD DE INFORMACIÓN HIDROMETEOROLÓGICA","GRUPO DE SERVICIO AL CIUDADANO ","2021-10-13","CORREO ELECTRÓNICO",{"$f":"IFERROR(WORKDAY(C273,P273,DiasNOLaborables),\"\")","v":"2021-11-10"},{"$f":"+IF(C273=\"\",\"\",IF(H273=\"\",\"SIN RESPUESTA\",(IF(H273<=J273,\"A TIEMPO\",\"FUERA DE TIEMPO\"))))","v":"A TIEMPO"},{"$f":"IF(H273=\"\",\"\",NETWORKDAYS(C273+1,H273,DiasNOLaborables))","v":2},{"$f":"IF(NETWORKDAYS(J273+1,H273,DiasNOLaborables)<=0,\"\",NETWORKDAYS(J273+1,H273,DiasNOLaborables))","v":""},null,null,{"$f":"IFERROR(VLOOKUP(E273,$X$51:$Y$64,2),\"\")","v":20}]
[263,20219050117992,"2021-10-11","MODULO CONTACTENOS","SOLICITUD DE INFORMACIÓN Y DOCUMENTOS","SOLICITUD DE INFORMACIÓN HIDROMETEOROLÓGICA","GRUPO DE SERVICIO AL CIUDADANO ","2021-10-13","CORREO ELECTRÓNICO",{"$f":"IFERROR(WORKDAY(C274,P274,DiasNOLaborables),\"\")","v":"2021-11-10"},{"$f":"+IF(C274=\"\",\"\",IF(H274=\"\",\"SIN RESPUESTA\",(IF(H274<=J274,\"A TIEMPO\",\"FUERA DE TIEMPO\"))))","v":"A TIEMPO"},{"$f":"IF(H274=\"\",\"\",NETWORKDAYS(C274+1,H274,DiasNOLaborables))","v":2},{"$f":"IF(NETWORKDAYS(J274+1,H274,DiasNOLaborables)<=0,\"\",NETWORKDAYS(J274+1,H274,DiasNOLaborables))","v":""},null,null,{"$f":"IFERROR(VLOOKUP(E274,$X$51:$Y$64,2),\"\")","v":20}]
[264,20219050118012,"2021-10-11","MODULO CONTACTENOS","SOLICITUD DE INFORMACIÓN Y DOCUMENTOS","SOLICITUD DE INFORMACIÓN HIDROMETEOROLÓGICA","GRUPO DE SERVICIO AL CIUDADANO ","2021-10-13","CORREO ELECTRÓNICO",{"$f":"IFERROR(WORKDAY(C275,P275,DiasNOLaborables),\"\")","v":"2021-11-10"},{"$f":"+IF(C275=\"\",\"\",IF(H275=\"\",\"SIN RESPUESTA\",(IF(H275<=J275,\"A TIEMPO\",\"FUERA DE TIEMPO\"))))","v":"A TIEMPO"},{"$f":"IF(H275=\"\",\"\",NETWORKDAYS(C275+1,H275,DiasNOLaborables))","v":2},{"$f":"IF(NETWORKDAYS(J275+1,H275,DiasNOLaborables)<=0,\"\",NETWORKDAYS(J275+1,H275,DiasNOLaborables))","v":""},null,null,{"$f":"IFERROR(VLOOKUP(E275,$X$51:$Y$64,2),\"\")","v":20}]
[265,20219050118042,"2021-10-11","MODULO CONTACTENOS","SOLICITUD DE INFORMACIÓN Y DOCUMENTOS","SOLICITUD DE INFORMACIÓN HIDROMETEOROLÓGICA","GRUPO DE SERVICIO AL CIUDADANO ","2021-10-14","CORREO ELECTRÓNICO",{"$f":"IFERROR(WORKDAY(C276,P276,DiasNOLaborables),\"\")","v":"2021-11-10"},{"$f":"+IF(C276=\"\",\"\",IF(H276=\"\",\"SIN RESPUESTA\",(IF(H276<=J276,\"A TIEMPO\",\"FUERA DE TIEMPO\"))))","v":"A TIEMPO"},{"$f":"IF(H276=\"\",\"\",NETWORKDAYS(C276+1,H276,DiasNOLaborables))","v":3},{"$f":"IF(NETWORKDAYS(J276+1,H276,DiasNOLaborables)<=0,\"\",NETWORKDAYS(J276+1,H276,DiasNOLaborables))","v":""},null,null,{"$f":"IFERROR(VLOOKUP(E276,$X$51:$Y$64,2),\"\")","v":20}]
[266,20219050118072,"2021-10-11","MODULO CONTACTENOS","SOLICITUD DE INFORMACIÓN Y DOCUMENTOS","SOLICITUD DE INFORMACIÓN HIDROMETEOROLÓGICA","GRUPO DE SERVICIO AL CIUDADANO ","2021-10-14","CORREO ELECTRÓNICO",{"$f":"IFERROR(WORKDAY(C277,P277,DiasNOLaborables),\"\")","v":"2021-11-10"},{"$f":"+IF(C277=\"\",\"\",IF(H277=\"\",\"SIN RESPUESTA\",(IF(H277<=J277,\"A TIEMPO\",\"FUERA DE TIEMPO\"))))","v":"A TIEMPO"},{"$f":"IF(H277=\"\",\"\",NETWORKDAYS(C277+1,H277,DiasNOLaborables))","v":3},{"$f":"IF(NETWORKDAYS(J277+1,H277,DiasNOLaborables)<=0,\"\",NETWORKDAYS(J277+1,H277,DiasNOLaborables))","v":""},null,null,{"$f":"IFERROR(VLOOKUP(E277,$X$51:$Y$64,2),\"\")","v":20}]
[267,20219050118092,"2021-10-11","MODULO CONTACTENOS","SOLICITUD DE INFORMACIÓN Y DOCUMENTOS","SOLICITUD DE INFORMACIÓN HIDROMETEOROLÓGICA","GRUPO DE SERVICIO AL CIUDADANO ","2021-10-14","CORREO ELECTRÓNICO",{"$f":"IFERROR(WORKDAY(C278,P278,DiasNOLaborables),\"\")","v":"2021-11-10"},{"$f":"+IF(C278=\"\",\"\",IF(H278=\"\",\"SIN RESPUESTA\",(IF(H278<=J278,\"A TIEMPO\",\"FUERA DE TIEMPO\"))))","v":"A TIEMPO"},{"$f":"IF(H278=\"\",\"\",NETWORKDAYS(C278+1,H278,DiasNOLaborables))","v":3},{"$f":"IF(NETWORKDAYS(J278+1,H278,DiasNOLaborables)<=0,\"\",NETWORKDAYS(J278+1,H278,DiasNOLaborables))","v":""},null,null,{"$f":"IFERROR(VLOOKUP(E278,$X$51:$Y$64,2),\"\")","v":20}]
[268,20219050118102,"2021-10-11","MODULO CONTACTENOS","SOLICITUD DE INFORMACIÓN Y DOCUMENTOS","SOLICITUD DE INFORMACIÓN HIDROMETEOROLÓGICA","GRUPO DE SERVICIO AL CIUDADANO ","2021-10-15","CORREO ELECTRÓNICO",{"$f":"IFERROR(WORKDAY(C279,P279,DiasNOLaborables),\"\")","v":"2021-11-10"},{"$f":"+IF(C279=\"\",\"\",IF(H279=\"\",\"SIN RESPUESTA\",(IF(H279<=J279,\"A TIEMPO\",\"FUERA DE TIEMPO\"))))","v":"A TIEMPO"},{"$f":"IF(H279=\"\",\"\",NETWORKDAYS(C279+1,H279,DiasNOLaborables))","v":4},{"$f":"IF(NETWORKDAYS(J279+1,H279,DiasNOLaborables)<=0,\"\",NETWORKDAYS(J279+1,H279,DiasNOLaborables))","v":""},null,null,{"$f":"IFERROR(VLOOKUP(E279,$X$51:$Y$64,2),\"\")","v":20}]
[269,20219050118112,"2021-10-11","MODULO CONTACTENOS","SOLICITUD DE INFORMACIÓN Y DOCUMENTOS","SOLICITUD DE INFORMACIÓN HIDROMETEOROLÓGICA","GRUPO DE SERVICIO AL CIUDADANO ","2021-10-15","CORREO ELECTRÓNICO",{"$f":"IFERROR(WORKDAY(C280,P280,DiasNOLaborables),\"\")","v":"2021-11-10"},{"$f":"+IF(C280=\"\",\"\",IF(H280=\"\",\"SIN RESPUESTA\",(IF(H280<=J280,\"A TIEMPO\",\"FUERA DE TIEMPO\"))))","v":"A TIEMPO"},{"$f":"IF(H280=\"\",\"\",NETWORKDAYS(C280+1,H280,DiasNOLaborables))","v":4},{"$f":"IF(NETWORKDAYS(J280+1,H280,DiasNOLaborables)<=0,\"\",NETWORKDAYS(J280+1,H280,DiasNOLaborables))","v":""},null,null,{"$f":"IFERROR(VLOOKUP(E280,$X$51:$Y$64,2),\"\")","v":20}]
[270,20219050118132,"2021-10-11","MODULO CONTACTENOS","SOLICITUD DE INFORMACIÓN Y DOCUMENTOS","SOLICITUD DE INFORMACIÓN HIDROMETEOROLÓGICA","GRUPO DE SERVICIO AL CIUDADANO ","2021-10-15","CORREO ELECTRÓNICO",{"$f":"IFERROR(WORKDAY(C281,P281,DiasNOLaborables),\"\")","v":"2021-11-10"},{"$f":"+IF(C281=\"\",\"\",IF(H281=\"\",\"SIN RESPUESTA\",(IF(H281<=J281,\"A TIEMPO\",\"FUERA DE TIEMPO\"))))","v":"A TIEMPO"},{"$f":"IF(H281=\"\",\"\",NETWORKDAYS(C281+1,H281,DiasNOLaborables))","v":4},{"$f":"IF(NETWORKDAYS(J281+1,H281,DiasNOLaborables)<=0,\"\",NETWORKDAYS(J281+1,H281,DiasNOLaborables))","v":""},null,null,{"$f":"IFERROR(VLOOKUP(E281,$X$51:$Y$64,2),\"\")","v":20}]
[271,20219050117872,"2021-10-11","MODULO CONTACTENOS","SOLICITUD DE INFORMACIÓN Y DOCUMENTOS","ADMINISTRATIVA","GRUPO DE ADMINISTRACIÓN Y DESARROLLO DEL TALENTO HUMANO","2021-10-12","CORREO ELECTRÓNICO",{"$f":"IFERROR(WORKDAY(C282,P282,DiasNOLaborables),\"\")","v":"2021-11-10"},{"$f":"+IF(C282=\"\",\"\",IF(H282=\"\",\"SIN RESPUESTA\",(IF(H282<=J282,\"A TIEMPO\",\"FUERA DE TIEMPO\"))))","v":"A TIEMPO"},{"$f":"IF(H282=\"\",\"\",NETWORKDAYS(C282+1,H282,DiasNOLaborables))","v":1},{"$f":"IF(NETWORKDAYS(J282+1,H282,DiasNOLaborables)<=0,\"\",NETWORKDAYS(J282+1,H282,DiasNOLaborables))","v":""},null,null,{"$f":"IFERROR(VLOOKUP(E282,$X$51:$Y$64,2),\"\")","v":20}]
[272,20219050118022,"2021-10-11","MODULO CONTACTENOS","SOLICITUD DE INFORMACIÓN Y DOCUMENTOS","ADMINISTRATIVA","GRUPO DE ADMINISTRACIÓN Y DESARROLLO DEL TALENTO HUMANO","2021-10-12","CORREO ELECTRÓNICO",{"$f":"IFERROR(WORKDAY(C283,P283,DiasNOLaborables),\"\")","v":"2021-11-10"},{"$f":"+IF(C283=\"\",\"\",IF(H283=\"\",\"SIN RESPUESTA\",(IF(H283<=J283,\"A TIEMPO\",\"FUERA DE TIEMPO\"))))","v":"A TIEMPO"},{"$f":"IF(H283=\"\",\"\",NETWORKDAYS(C283+1,H283,DiasNOLaborables))","v":1},{"$f":"IF(NETWORKDAYS(J283+1,H283,DiasNOLaborables)<=0,\"\",NETWORKDAYS(J283+1,H283,DiasNOLaborables))","v":""},null,null,{"$f":"IFERROR(VLOOKUP(E283,$X$51:$Y$64,2),\"\")","v":20}]
[273,20219050118062,"2021-10-11","MODULO CONTACTENOS","SOLICITUD DE INFORMACIÓN Y DOCUMENTOS","ACREDITACIÓN DE LABORATORIOS","SUBDIRECCIÓN DE ESTUDIOS AMBIENTALES","2021-10-20","CORREO ELECTRÓNICO",{"$f":"IFERROR(WORKDAY(C284,P284,DiasNOLaborables),\"\")","v":"2021-11-10"},{"$f":"+IF(C284=\"\",\"\",IF(H284=\"\",\"SIN RESPUESTA\",(IF(H284<=J284,\"A TIEMPO\",\"FUERA DE TIEMPO\"))))","v":"A TIEMPO"},{"$f":"IF(H284=\"\",\"\",NETWORKDAYS(C284+1,H284,DiasNOLaborables))","v":6},{"$f":"IF(NETWORKDAYS(J284+1,H284,DiasNOLaborables)<=0,\"\",NETWORKDAYS(J284+1,H284,DiasNOLaborables))","v":""},null,null,{"$f":"IFERROR(VLOOKUP(E284,$X$51:$Y$64,2),\"\")","v":20}]
[274,20219050118152,"2021-10-11","MODULO CONTACTENOS","SOLICITUD DE INFORMACIÓN Y DOCUMENTOS","OPERACIÓN DE REDES","SUBDIRECCIÓN DE HIDROLOGÍA","2021-11-04","CORREO ELECTRÓNICO",{"$f":"IFERROR(WORKDAY(C285,P285,DiasNOLaborables),\"\")","v":"2021-11-10"},{"$f":"+IF(C285=\"\",\"\",IF(H285=\"\",\"SIN RESPUESTA\",(IF(H285<=J285,\"A TIEMPO\",\"FUERA DE TIEMPO\"))))","v":"A TIEMPO"},{"$f":"IF(H285=\"\",\"\",NETWORKDAYS(C285+1,H285,DiasNOLaborables))","v":16},{"$f":"IF(NETWORKDAYS(J285+1,H285,DiasNOLaborables)<=0,\"\",NETWORKDAYS(J285+1,H285,DiasNOLaborables))","v":""},null,null,{"$f":"IFERROR(VLOOKUP(E285,$X$51:$Y$64,2),\"\")","v":20}]
[275,20219050118162,"2021-10-11","MODULO CONTACTENOS","CERTIFICACIONES DE TIEMPO, CLIMA Y EVENTOS HIDROLÓGICOS","CERTIFICACIONES DE TIEMPO Y CLIMA","SUBDIRECCIÓN DE METEOROLOGÍA","2021-11-17","CORREO ELECTRÓNICO",{"$f":"IFERROR(WORKDAY(C286,P286,DiasNOLaborables),\"\")","v":"2021-12-02"},{"$f":"+IF(C286=\"\",\"\",IF(H286=\"\",\"SIN RESPUESTA\",(IF(H286<=J286,\"A TIEMPO\",\"FUERA DE TIEMPO\"))))","v":"A TIEMPO"},{"$f":"IF(H286=\"\",\"\",NETWORKDAYS(C286+1,H286,DiasNOLaborables))","v":24},{"$f":"IF(NETWORKDAYS(J286+1,H286,DiasNOLaborables)<=0,\"\",NETWORKDAYS(J286+1,H286,DiasNOLaborables))","v":""},null,null,{"$f":"IFERROR(VLOOKUP(E286,$X$51:$Y$64,2),\"\")","v":35}]
[276,20219050117882,"2021-10-11","MODULO CONTACTENOS","SOLICITUD DE INFORMACIÓN Y DOCUMENTOS","SOLICITUD DE INFORMACIÓN HIDROMETEOROLÓGICA","GRUPO DE SERVICIO AL CIUDADANO ","2021-10-11","CORREO ELECTRÓNICO",{"$f":"IFERROR(WORKDAY(C287,P287,DiasNOLaborables),\"\")","v":"2021-11-10"},{"$f":"+IF(C287=\"\",\"\",IF(H287=\"\",\"SIN RESPUESTA\",(IF(H287<=J287,\"A TIEMPO\",\"FUERA DE TIEMPO\"))))","v":"A TIEMPO"},{"$f":"IF(H287=\"\",\"\",NETWORKDAYS(C287+1,H287,DiasNOLaborables))","v":-2},{"$f":"IF(NETWORKDAYS(J287+1,H287,DiasNOLaborables)<=0,\"\",NETWORKDAYS(J287+1,H287,DiasNOLaborables))","v":""},null,null,{"$f":"IFERROR(VLOOKUP(E287,$X$51:$Y$64,2),\"\")","v":20}]
[277,20217070000752,"2021-10-11","CORREO ELECTRÓNICO","PETICIÓN","ADMINISTRATIVA","GRUPO DE SERVICIOS ADMINISTRATIVOS","2021-11-24","CORREO ELECTRÓNICO",{"$f":"IFERROR(WORKDAY(C288,P288,DiasNOLaborables),\"\")","v":"2021-11-25"},{"$f":"+IF(C288=\"\",\"\",IF(H288=\"\",\"SIN RESPUESTA\",(IF(H288<=J288,\"A TIEMPO\",\"FUERA DE TIEMPO\"))))","v":"A TIEMPO"},{"$f":"IF(H288=\"\",\"\",NETWORKDAYS(C288+1,H288,DiasNOLaborables))","v":29},{"$f":"IF(NETWORKDAYS(J288+1,H288,DiasNOLaborables)<=0,\"\",NETWORKDAYS(J288+1,H288,DiasNOLaborables))","v":""},null,null,{"$f":"IFERROR(VLOOKUP(E288,$X$51:$Y$64,2),\"\")","v":30}]
[278,20219050118342,"2021-10-11","MODULO CONTACTENOS","SOLICITUD DE INFORMACIÓN Y DOCUMENTOS","ACREDITACIÓN DE LABORATORIOS","SUBDIRECCIÓN DE ESTUDIOS AMBIENTALES","2021-10-20","CORREO ELECTRÓNICO",{"$f":"IFERROR(WORKDAY(C289,P289,DiasNOLaborables),\"\")","v":"2021-11-10"},{"$f":"+IF(C289=\"\",\"\",IF(H289=\"\",\"SIN RESPUESTA\",(IF(H289<=J289,\"A TIEMPO\",\"FUERA DE TIEMPO\"))))","v":"A TIEMPO"},{"$f":"IF(H289=\"\",\"\",NETWORKDAYS(C289+1,H289,DiasNOLaborables))","v":6},{"$f":"IF(NETWORKDAYS(J289+1,H289,DiasNOLaborables)<=0,\"\",NETWORKDAYS(J289+1,H289,DiasNOLaborables))","v":""},null,null,{"$f":"IFERROR(VLOOKUP(E289,$X$51:$Y$64,2),\"\")","v":20}]
[279,20219050117892,"2021-10-11","CORREO ELECTRÓNICO","SOLICITUD DE INFORMACIÓN Y DOCUMENTOS","BOSQUES","SUBDIRECCIÓN DE ECOSISTEMAS E INFORMACIÓN AMBIENTAL","2021-10-11","CORREO ELECTRÓNICO",{"$f":"IFERROR(WORKDAY(C290,P290,DiasNOLaborables),\"\")","v":"2021-11-10"},{"$f":"+IF(C290=\"\",\"\",IF(H290=\"\",\"SIN RESPUESTA\",(IF(H290<=J290,\"A TIEMPO\",\"FUERA DE TIEMPO\"))))","v":"A TIEMPO"},{"$f":"IF(H290=\"\",\"\",NETWORKDAYS(C290+1,H290,DiasNOLaborables))","v":-2},{"$f":"IF(NETWORKDAYS(J290+1,H290,DiasNOLaborables)<=0,\"\",NETWORKDAYS(J290+1,H290,DiasNOLaborables))","v":""},null,null,{"$f":"IFERROR(VLOOKUP(E290,$X$51:$Y$64,2),\"\")","v":20}]
[280,20219050117902,"2021-10-11","CORREO ELECTRÓNICO","SOLICITUD DE INFORMACIÓN Y DOCUMENTOS","BOSQUES","SUBDIRECCIÓN DE ECOSISTEMAS E INFORMACIÓN AMBIENTAL","2021-10-21","CORREO ELECTRÓNICO",{"$f":"IFERROR(WORKDAY(C291,P291,DiasNOLaborables),\"\")","v":"2021-11-10"},{"$f":"+IF(C291=\"\",\"\",IF(H291=\"\",\"SIN RESPUESTA\",(IF(H291<=J291,\"A TIEMPO\",\"FUERA DE TIEMPO\"))))","v":"A TIEMPO"},{"$f":"IF(H291=\"\",\"\",NETWORKDAYS(C291+1,H291,DiasNOLaborables))","v":7},{"$f":"IF(NETWORKDAYS(J291+1,H291,DiasNOLaborables)<=0,\"\",NETWORKDAYS(J291+1,H291,DiasNOLaborables))","v":""},null,null,{"$f":"IFERROR(VLOOKUP(E291,$X$51:$Y$64,2),\"\")","v":20}]
[281,20219050117912,"2021-10-11","CORREO ELECTRÓNICO","CERTIFICACIONES DE TIEMPO, CLIMA Y EVENTOS HIDROLÓGICOS","CERTIFICACIONES DE TIEMPO Y CLIMA","SUBDIRECCIÓN DE METEOROLOGÍA","2021-11-12","CORREO ELECTRÓNICO",{"$f":"IFERROR(WORKDAY(C292,P292,DiasNOLaborables),\"\")","v":"2021-12-02"},{"$f":"+IF(C292=\"\",\"\",IF(H292=\"\",\"SIN RESPUESTA\",(IF(H292<=J292,\"A TIEMPO\",\"FUERA DE TIEMPO\"))))","v":"A TIEMPO"},{"$f":"IF(H292=\"\",\"\",NETWORKDAYS(C292+1,H292,DiasNOLaborables))","v":22},{"$f":"IF(NETWORKDAYS(J292+1,H292,DiasNOLaborables)<=0,\"\",NETWORKDAYS(J292+1,H292,DiasNOLaborables))","v":""},null,null,{"$f":"IFERROR(VLOOKUP(E292,$X$51:$Y$64,2),\"\")","v":35}]
[282,20219050118172,"2021-10-11","CORREO ELECTRÓNICO","AGRADECIMIENTO/FELICITACION","SOLICITUD DE INFORMACIÓN HIDROMETEOROLÓGICA","GRUPO DE SERVICIO AL CIUDADANO ","2021-10-14","CORREO ELECTRÓNICO",{"$f":"IFERROR(WORKDAY(C293,P293,DiasNOLaborables),\"\")","v":"2021-11-03"},{"$f":"+IF(C293=\"\",\"\",IF(H293=\"\",\"SIN RESPUESTA\",(IF(H293<=J293,\"A TIEMPO\",\"FUERA DE TIEMPO\"))))","v":"A TIEMPO"},{"$f":"IF(H293=\"\",\"\",NETWORKDAYS(C293+1,H293,DiasNOLaborables))","v":3},{"$f":"IF(NETWORKDAYS(J293+1,H293,DiasNOLaborables)<=0,\"\",NETWORKDAYS(J293+1,H293,DiasNOLaborables))","v":""},null,null,{"$f":"IFERROR(VLOOKUP(E293,$X$51:$Y$64,2),\"\")","v":15}]
[283,20219050118182,"2021-10-11","CORREO ELECTRÓNICO","SOLICITUD DE INFORMACIÓN Y DOCUMENTOS","SOLICITUD DE INFORMACIÓN HIDROMETEOROLÓGICA","GRUPO DE SERVICIO AL CIUDADANO ","2021-10-14","CORREO ELECTRÓNICO",{"$f":"IFERROR(WORKDAY(C294,P294,DiasNOLaborables),\"\")","v":"2021-11-10"},{"$f":"+IF(C294=\"\",\"\",IF(H294=\"\",\"SIN RESPUESTA\",(IF(H294<=J294,\"A TIEMPO\",\"FUERA DE TIEMPO\"))))","v":"A TIEMPO"},{"$f":"IF(H294=\"\",\"\",NETWORKDAYS(C294+1,H294,DiasNOLaborables))","v":3},{"$f":"IF(NETWORKDAYS(J294+1,H294,DiasNOLaborables)<=0,\"\",NETWORKDAYS(J294+1,H294,DiasNOLaborables))","v":""},null,null,{"$f":"IFERROR(VLOOKUP(E294,$X$51:$Y$64,2),\"\")","v":20}]
[284,20219050118192,"2021-10-11","MODULO CONTACTENOS","SOLICITUD DE INFORMACIÓN Y DOCUMENTOS","SOLICITUD DE INFORMACIÓN HIDROMETEOROLÓGICA","GRUPO DE SERVICIO AL CIUDADANO ","2021-10-14","CORREO ELECTRÓNICO",{"$f":"IFERROR(WORKDAY(C295,P295,DiasNOLaborables),\"\")","v":"2021-11-10"},{"$f":"+IF(C295=\"\",\"\",IF(H295=\"\",\"SIN RESPUESTA\",(IF(H295<=J295,\"A TIEMPO\",\"FUERA DE TIEMPO\"))))","v":"A TIEMPO"},{"$f":"IF(H295=\"\",\"\",NETWORKDAYS(C295+1,H295,DiasNOLaborables))","v":3},{"$f":"IF(NETWORKDAYS(J295+1,H295,DiasNOLaborables)<=0,\"\",NETWORKDAYS(J295+1,H295,DiasNOLaborables))","v":""},null,null,{"$f":"IFERROR(VLOOKUP(E295,$X$51:$Y$64,2),\"\")","v":20}]
[285,20219050118202,"2021-10-11","MODULO CONTACTENOS","SOLICITUD DE INFORMACIÓN Y DOCUMENTOS","SOLICITUD DE INFORMACIÓN HIDROMETEOROLÓGICA","GRUPO DE SERVICIO AL CIUDADANO ","2021-10-14","CORREO ELECTRÓNICO",{"$f":"IFERROR(WORKDAY(C296,P296,DiasNOLaborables),\"\")","v":"2021-11-10"},{"$f":"+IF(C296=\"\",\"\",IF(H296=\"\",\"SIN RESPUESTA\",(IF(H296<=J296,\"A TIEMPO\",\"FUERA DE TIEMPO\"))))","v":"A TIEMPO"},{"$f":"IF(H296=\"\",\"\",NETWORKDAYS(C296+1,H296,DiasNOLaborables))","v":3},{"$f":"IF(NETWORKDAYS(J296+1,H296,DiasNOLaborables)<=0,\"\",NETWORKDAYS(J296+1,H296,DiasNOLaborables))","v":""},null,null,{"$f":"IFERROR(VLOOKUP(E296,$X$51:$Y$64,2),\"\")","v":20}]
[286,20219050118212,"2021-10-11","MODULO CONTACTENOS","SOLICITUD DE INFORMACIÓN Y DOCUMENTOS","SOLICITUD DE INFORMACIÓN HIDROMETEOROLÓGICA","GRUPO DE SERVICIO AL CIUDADANO ","2021-10-14","CORREO ELECTRÓNICO",{"$f":"IFERROR(WORKDAY(C297,P297,DiasNOLaborables),\"\")","v":"2021-11-10"},{"$f":"+IF(C297=\"\",\"\",IF(H297=\"\",\"SIN RESPUESTA\",(IF(H297<=J297,\"A TIEMPO\",\"FUERA DE TIEMPO\"))))","v":"A TIEMPO"},{"$f":"IF(H297=\"\",\"\",NETWORKDAYS(C297+1,H297,DiasNOLaborables))","v":3},{"$f":"IF(NETWORKDAYS(J297+1,H297,DiasNOLaborables)<=0,\"\",NETWORKDAYS(J297+1,H297,DiasNOLaborables))","v":""},null,null,{"$f":"IFERROR(VLOOKUP(E297,$X$51:$Y$64,2),\"\")","v":20}]
[287,20219050118262,"2021-10-11","MODULO CONTACTENOS","SOLICITUD DE INFORMACIÓN Y DOCUMENTOS","SOLICITUD DE INFORMACIÓN HIDROMETEOROLÓGICA","GRUPO DE SERVICIO AL CIUDADANO ","2021-10-14","CORREO ELECTRÓNICO",{"$f":"IFERROR(WORKDAY(C298,P298,DiasNOLaborables),\"\")","v":"2021-11-10"},{"$f":"+IF(C298=\"\",\"\",IF(H298=\"\",\"SIN RESPUESTA\",(IF(H298<=J298,\"A TIEMPO\",\"FUERA DE TIEMPO\"))))","v":"A TIEMPO"},{"$f":"IF(H298=\"\",\"\",NETWORKDAYS(C298+1,H298,DiasNOLaborables))","v":3},{"$f":"IF(NETWORKDAYS(J298+1,H298,DiasNOLaborables)<=0,\"\",NETWORKDAYS(J298+1,H298,DiasNOLaborables))","v":""},null,null,{"$f":"IFERROR(VLOOKUP(E298,$X$51:$Y$64,2),\"\")","v":20}]
[288,20219050118272,"2021-10-11","MODULO CONTACTENOS","SOLICITUD DE INFORMACIÓN Y DOCUMENTOS","SOLICITUD DE INFORMACIÓN HIDROMETEOROLÓGICA","GRUPO DE SERVICIO AL CIUDADANO ","2021-10-14","CORREO ELECTRÓNICO",{"$f":"IFERROR(WORKDAY(C299,P299,DiasNOLaborables),\"\")","v":"2021-11-10"},{"$f":"+IF(C299=\"\",\"\",IF(H299=\"\",\"SIN RESPUESTA\",(IF(H299<=J299,\"A TIEMPO\",\"FUERA DE TIEMPO\"))))","v":"A TIEMPO"},{"$f":"IF(H299=\"\",\"\",NETWORKDAYS(C299+1,H299,DiasNOLaborables))","v":3},{"$f":"IF(NETWORKDAYS(J299+1,H299,DiasNOLaborables)<=0,\"\",NETWORKDAYS(J299+1,H299,DiasNOLaborables))","v":""},null,null,{"$f":"IFERROR(VLOOKUP(E299,$X$51:$Y$64,2),\"\")","v":20}]
[289,20219050118282,"2021-10-11","MODULO CONTACTENOS","SOLICITUD DE INFORMACIÓN Y DOCUMENTOS","SOLICITUD DE INFORMACIÓN HIDROMETEOROLÓGICA","GRUPO DE SERVICIO AL CIUDADANO ","2021-10-14","CORREO ELECTRÓNICO",{"$f":"IFERROR(WORKDAY(C300,P300,DiasNOLaborables),\"\")","v":"2021-11-10"},{"$f":"+IF(C300=\"\",\"\",IF(H300=\"\",\"SIN RESPUESTA\",(IF(H300<=J300,\"A TIEMPO\",\"FUERA DE TIEMPO\"))))","v":"A TIEMPO"},{"$f":"IF(H300=\"\",\"\",NETWORKDAYS(C300+1,H300,DiasNOLaborables))","v":3},{"$f":"IF(NETWORKDAYS(J300+1,H300,DiasNOLaborables)<=0,\"\",NETWORKDAYS(J300+1,H300,DiasNOLaborables))","v":""},null,null,{"$f":"IFERROR(VLOOKUP(E300,$X$51:$Y$64,2),\"\")","v":20}]
[290,20219050118302,"2021-10-11","MODULO CONTACTENOS","SOLICITUD DE INFORMACIÓN Y DOCUMENTOS","SOLICITUD DE INFORMACIÓN HIDROMETEOROLÓGICA","AREA OPERATIVA No. 2","2021-10-14","CORREO ELECTRÓNICO",{"$f":"IFERROR(WORKDAY(C301,P301,DiasNOLaborables),\"\")","v":"2021-11-10"},{"$f":"+IF(C301=\"\",\"\",IF(H301=\"\",\"SIN RESPUESTA\",(IF(H301<=J301,\"A TIEMPO\",\"FUERA DE TIEMPO\"))))","v":"A TIEMPO"},{"$f":"IF(H301=\"\",\"\",NETWORKDAYS(C301+1,H301,DiasNOLaborables))","v":3},{"$f":"IF(NETWORKDAYS(J301+1,H301,DiasNOLaborables)<=0,\"\",NETWORKDAYS(J301+1,H301,DiasNOLaborables))","v":""},null,null,{"$f":"IFERROR(VLOOKUP(E301,$X$51:$Y$64,2),\"\")","v":20}]
[291,20219050118352,"2021-10-11","MODULO CONTACTENOS","SOLICITUD DE INFORMACIÓN Y DOCUMENTOS","SOLICITUD DE INFORMACIÓN HIDROMETEOROLÓGICA","AREA OPERATIVA No. 2","2021-10-18","CORREO ELECTRÓNICO",{"$f":"IFERROR(WORKDAY(C302,P302,DiasNOLaborables),\"\")","v":"2021-11-10"},{"$f":"+IF(C302=\"\",\"\",IF(H302=\"\",\"SIN RESPUESTA\",(IF(H302<=J302,\"A TIEMPO\",\"FUERA DE TIEMPO\"))))","v":"A TIEMPO"},{"$f":"IF(H302=\"\",\"\",NETWORKDAYS(C302+1,H302,DiasNOLaborables))","v":4},{"$f":"IF(NETWORKDAYS(J302+1,H302,DiasNOLaborables)<=0,\"\",NETWORKDAYS(J302+1,H302,DiasNOLaborables))","v":""},null,null,{"$f":"IFERROR(VLOOKUP(E302,$X$51:$Y$64,2),\"\")","v":20}]
[292,20219050118362,"2021-10-11","MODULO CONTACTENOS","SOLICITUD DE INFORMACIÓN Y DOCUMENTOS","SOLICITUD DE INFORMACIÓN HIDROMETEOROLÓGICA","AREA OPERATIVA No. 2","2021-10-18","CORREO ELECTRÓNICO",{"$f":"IFERROR(WORKDAY(C303,P303,DiasNOLaborables),\"\")","v":"2021-11-10"},{"$f":"+IF(C303=\"\",\"\",IF(H303=\"\",\"SIN RESPUESTA\",(IF(H303<=J303,\"A TIEMPO\",\"FUERA DE TIEMPO\"))))","v":"A TIEMPO"},{"$f":"IF(H303=\"\",\"\",NETWORKDAYS(C303+1,H303,DiasNOLaborables))","v":4},{"$f":"IF(NETWORKDAYS(J303+1,H303,DiasNOLaborables)<=0,\"\",NETWORKDAYS(J303+1,H303,DiasNOLaborables))","v":""},null,null,{"$f":"IFERROR(VLOOKUP(E303,$X$51:$Y$64,2),\"\")","v":20}]
[293,20219050117922,"2021-10-11","CORREO ELECTRÓNICO","SOLICITUD DE INFORMACIÓN Y DOCUMENTOS","LABORATORIO DE CALIDAD AMBIENTAL","SUBDIRECCIÓN DE HIDROLOGÍA","2021-10-28","CORREO ELECTRÓNICO",{"$f":"IFERROR(WORKDAY(C304,P304,DiasNOLaborables),\"\")","v":"2021-11-10"},{"$f":"+IF(C304=\"\",\"\",IF(H304=\"\",\"SIN RESPUESTA\",(IF(H304<=J304,\"A TIEMPO\",\"FUERA DE TIEMPO\"))))","v":"A TIEMPO"},{"$f":"IF(H304=\"\",\"\",NETWORKDAYS(C304+1,H304,DiasNOLaborables))","v":12},{"$f":"IF(NETWORKDAYS(J304+1,H304,DiasNOLaborables)<=0,\"\",NETWORKDAYS(J304+1,H304,DiasNOLaborables))","v":""},null,null,{"$f":"IFERROR(VLOOKUP(E304,$X$51:$Y$64,2),\"\")","v":20}]
[294,20219050117932,"2021-10-11","CORREO ELECTRÓNICO","SOLICITUD JUDICIAL","JURIDICO","OFICINA ASESORA JURÍDICA","2021-10-19","CORREO ELECTRÓNICO",{"$f":"IFERROR(WORKDAY(C305,P305,DiasNOLaborables),\"\")","v":"2021-10-19"},{"$f":"+IF(C305=\"\",\"\",IF(H305=\"\",\"SIN RESPUESTA\",(IF(H305<=J305,\"A TIEMPO\",\"FUERA DE TIEMPO\"))))","v":"A TIEMPO"},{"$f":"IF(H305=\"\",\"\",NETWORKDAYS(C305+1,H305,DiasNOLaborables))","v":5},{"$f":"IF(NETWORKDAYS(J305+1,H305,DiasNOLaborables)<=0,\"\",NETWORKDAYS(J305+1,H305,DiasNOLaborables))","v":""},null,null,{"$f":"IFERROR(VLOOKUP(E305,$X$51:$Y$64,2),\"\")","v":5}]
[295,20219050118002,"2021-10-11","CORREO ELECTRÓNICO","CERTIFICACIONES DE TIEMPO, CLIMA Y EVENTOS HIDROLÓGICOS","CERTIFICACIONES DE TIEMPO Y CLIMA","SUBDIRECCIÓN DE METEOROLOGÍA","2021-10-27","CORREO ELECTRÓNICO",{"$f":"IFERROR(WORKDAY(C306,P306,DiasNOLaborables),\"\")","v":"2021-12-02"},{"$f":"+IF(C306=\"\",\"\",IF(H306=\"\",\"SIN RESPUESTA\",(IF(H306<=J306,\"A TIEMPO\",\"FUERA DE TIEMPO\"))))","v":"A TIEMPO"},{"$f":"IF(H306=\"\",\"\",NETWORKDAYS(C306+1,H306,DiasNOLaborables))","v":11},{"$f":"IF(NETWORKDAYS(J306+1,H306,DiasNOLaborables)<=0,\"\",NETWORKDAYS(J306+1,H306,DiasNOLaborables))","v":""},null,null,{"$f":"IFERROR(VLOOKUP(E306,$X$51:$Y$64,2),\"\")","v":35}]
[296,20219910054622,"2021-10-11","CORREO ELECTRÓNICO","PETICIÓN","ADMINISTRATIVA","GRUPO DE ADMINISTRACIÓN Y DESARROLLO DEL TALENTO HUMANO","2021-10-25","CORREO ELECTRÓNICO",{"$f":"IFERROR(WORKDAY(C307,P307,DiasNOLaborables),\"\")","v":"2021-11-25"},{"$f":"+IF(C307=\"\",\"\",IF(H307=\"\",\"SIN RESPUESTA\",(IF(H307<=J307,\"A TIEMPO\",\"FUERA DE TIEMPO\"))))","v":"A TIEMPO"},{"$f":"IF(H307=\"\",\"\",NETWORKDAYS(C307+1,H307,DiasNOLaborables))","v":9},{"$f":"IF(NETWORKDAYS(J307+1,H307,DiasNOLaborables)<=0,\"\",NETWORKDAYS(J307+1,H307,DiasNOLaborables))","v":""},null,null,{"$f":"IFERROR(VLOOKUP(E307,$X$51:$Y$64,2),\"\")","v":30}]
[297,20219910054682,"2021-10-11","CORREO ELECTRÓNICO","PETICIÓN","ADMINISTRATIVA","GRUPO DE ADMINISTRACIÓN Y DESARROLLO DEL TALENTO HUMANO","2021-11-22","CORREO ELECTRÓNICO",{"$f":"IFERROR(WORKDAY(C308,P308,DiasNOLaborables),\"\")","v":"2021-11-25"},{"$f":"+IF(C308=\"\",\"\",IF(H308=\"\",\"SIN RESPUESTA\",(IF(H308<=J308,\"A TIEMPO\",\"FUERA DE TIEMPO\"))))","v":"A TIEMPO"},{"$f":"IF(H308=\"\",\"\",NETWORKDAYS(C308+1,H308,DiasNOLaborables))","v":27},{"$f":"IF(NETWORKDAYS(J308+1,H308,DiasNOLaborables)<=0,\"\",NETWORKDAYS(J308+1,H308,DiasNOLaborables))","v":""},null,null,{"$f":"IFERROR(VLOOKUP(E308,$X$51:$Y$64,2),\"\")","v":30}]
[298,20219910054722,"2021-10-11","CORREO CERTIFICADO","CERTIFICACIONES DE TIEMPO, CLIMA Y EVENTOS HIDROLÓGICOS","CERTIFICACIONES DE TIEMPO Y CLIMA","SUBDIRECCIÓN DE METEOROLOGÍA","2021-10-14","CORREO ELECTRÓNICO",{"$f":"IFERROR(WORKDAY(C309,P309,DiasNOLaborables),\"\")","v":"2021-12-02"},{"$f":"+IF(C309=\"\",\"\",IF(H309=\"\",\"SIN RESPUESTA\",(IF(H309<=J309,\"A TIEMPO\",\"FUERA DE TIEMPO\"))))","v":"A TIEMPO"},{"$f":"IF(H309=\"\",\"\",NETWORKDAYS(C309+1,H309,DiasNOLaborables))","v":3},{"$f":"IF(NETWORKDAYS(J309+1,H309,DiasNOLaborables)<=0,\"\",NETWORKDAYS(J309+1,H309,DiasNOLaborables))","v":""},null,null,{"$f":"IFERROR(VLOOKUP(E309,$X$51:$Y$64,2),\"\")","v":35}]
[299,20219050118032,"2021-10-11","CORREO ELECTRÓNICO","SOLICITUD DE INFORMACIÓN Y DOCUMENTOS","INFORMES AMBIENTALES","SUBDIRECCIÓN DE ESTUDIOS AMBIENTALES","2021-10-20","CORREO ELECTRÓNICO",{"$f":"IFERROR(WORKDAY(C310,P310,DiasNOLaborables),\"\")","v":"2021-11-10"},{"$f":"+IF(C310=\"\",\"\",IF(H310=\"\",\"SIN RESPUESTA\",(IF(H310<=J310,\"A TIEMPO\",\"FUERA DE TIEMPO\"))))","v":"A TIEMPO"},{"$f":"IF(H310=\"\",\"\",NETWORKDAYS(C310+1,H310,DiasNOLaborables))","v":6},{"$f":"IF(NETWORKDAYS(J310+1,H310,DiasNOLaborables)<=0,\"\",NETWORKDAYS(J310+1,H310,DiasNOLaborables))","v":""},null,null,{"$f":"IFERROR(VLOOKUP(E310,$X$51:$Y$64,2),\"\")","v":20}]
[300,20219050118052,"2021-10-11","CORREO ELECTRÓNICO","PETICIÓN","INFORMES AMBIENTALES","SUBDIRECCIÓN DE METEOROLOGÍA","2021-11-09","CORREO ELECTRÓNICO",{"$f":"IFERROR(WORKDAY(C311,P311,DiasNOLaborables),\"\")","v":"2021-11-25"},{"$f":"+IF(C311=\"\",\"\",IF(H311=\"\",\"SIN RESPUESTA\",(IF(H311<=J311,\"A TIEMPO\",\"FUERA DE TIEMPO\"))))","v":"A TIEMPO"},{"$f":"IF(H311=\"\",\"\",NETWORKDAYS(C311+1,H311,DiasNOLaborables))","v":19},{"$f":"IF(NETWORKDAYS(J311+1,H311,DiasNOLaborables)<=0,\"\",NETWORKDAYS(J311+1,H311,DiasNOLaborables))","v":""},null,null,{"$f":"IFERROR(VLOOKUP(E311,$X$51:$Y$64,2),\"\")","v":30}]
[301,20219050118122,"2021-10-11","CORREO ELECTRÓNICO","SOLICITUD DE INFORMACIÓN Y DOCUMENTOS","ADMINISTRATIVA","GRUPO DE TESORERÍA","2021-10-14","CORREO ELECTRÓNICO",{"$f":"IFERROR(WORKDAY(C312,P312,DiasNOLaborables),\"\")","v":"2021-11-10"},{"$f":"+IF(C312=\"\",\"\",IF(H312=\"\",\"SIN RESPUESTA\",(IF(H312<=J312,\"A TIEMPO\",\"FUERA DE TIEMPO\"))))","v":"A TIEMPO"},{"$f":"IF(H312=\"\",\"\",NETWORKDAYS(C312+1,H312,DiasNOLaborables))","v":3},{"$f":"IF(NETWORKDAYS(J312+1,H312,DiasNOLaborables)<=0,\"\",NETWORKDAYS(J312+1,H312,DiasNOLaborables))","v":""},null,null,{"$f":"IFERROR(VLOOKUP(E312,$X$51:$Y$64,2),\"\")","v":20}]
[302,20219050118222,"2021-10-11","CORREO ELECTRÓNICO","SOLICITUD DE INFORMACIÓN Y DOCUMENTOS","INFORMES AMBIENTALES","SUBDIRECCIÓN DE ESTUDIOS AMBIENTALES","2021-10-13","CORREO ELECTRÓNICO",{"$f":"IFERROR(WORKDAY(C313,P313,DiasNOLaborables),\"\")","v":"2021-11-10"},{"$f":"+IF(C313=\"\",\"\",IF(H313=\"\",\"SIN RESPUESTA\",(IF(H313<=J313,\"A TIEMPO\",\"FUERA DE TIEMPO\"))))","v":"A TIEMPO"},{"$f":"IF(H313=\"\",\"\",NETWORKDAYS(C313+1,H313,DiasNOLaborables))","v":2},{"$f":"IF(NETWORKDAYS(J313+1,H313,DiasNOLaborables)<=0,\"\",NETWORKDAYS(J313+1,H313,DiasNOLaborables))","v":""},null,null,{"$f":"IFERROR(VLOOKUP(E313,$X$51:$Y$64,2),\"\")","v":20}]
[303,20219050118232,"2021-10-11","CORREO ELECTRÓNICO","SOLICITUD DE INFORMACIÓN Y DOCUMENTOS","ADMINISTRATIVA","GRUPO DE GESTIÓN DOCUMENTAL Y CENTRO DE DOCUMENTACIÓN","2021-10-13","CORREO ELECTRÓNICO",{"$f":"IFERROR(WORKDAY(C314,P314,DiasNOLaborables),\"\")","v":"2021-11-10"},{"$f":"+IF(C314=\"\",\"\",IF(H314=\"\",\"SIN RESPUESTA\",(IF(H314<=J314,\"A TIEMPO\",\"FUERA DE TIEMPO\"))))","v":"A TIEMPO"},{"$f":"IF(H314=\"\",\"\",NETWORKDAYS(C314+1,H314,DiasNOLaborables))","v":2},{"$f":"IF(NETWORKDAYS(J314+1,H314,DiasNOLaborables)<=0,\"\",NETWORKDAYS(J314+1,H314,DiasNOLaborables))","v":""},null,null,{"$f":"IFERROR(VLOOKUP(E314,$X$51:$Y$64,2),\"\")","v":20}]
[304,20219050118242,"2021-10-11","CORREO ELECTRÓNICO","SOLICITUD DE INFORMACIÓN Y DOCUMENTOS","ADMINISTRATIVA","GRUPO DE GESTIÓN DOCUMENTAL Y CENTRO DE DOCUMENTACIÓN","2021-10-13","CORREO ELECTRÓNICO",{"$f":"IFERROR(WORKDAY(C315,P315,DiasNOLaborables),\"\")","v":"2021-11-10"},{"$f":"+IF(C315=\"\",\"\",IF(H315=\"\",\"SIN RESPUESTA\",(IF(H315<=J315,\"A TIEMPO\",\"FUERA DE TIEMPO\"))))","v":"A TIEMPO"},{"$f":"IF(H315=\"\",\"\",NETWORKDAYS(C315+1,H315,DiasNOLaborables))","v":2},{"$f":"IF(NETWORKDAYS(J315+1,H315,DiasNOLaborables)<=0,\"\",NETWORKDAYS(J315+1,H315,DiasNOLaborables))","v":""},null,null,{"$f":"IFERROR(VLOOKUP(E315,$X$51:$Y$64,2),\"\")","v":20}]
[305,20219050118372,"2021-10-11","MODULO CONTACTENOS","SOLICITUD DE INFORMACIÓN Y DOCUMENTOS","SOLICITUD DE INFORMACIÓN HIDROMETEOROLÓGICA","GRUPO DE SERVICIO AL CIUDADANO ","2021-10-19","CORREO ELECTRÓNICO",{"$f":"IFERROR(WORKDAY(C316,P316,DiasNOLaborables),\"\")","v":"2021-11-10"},{"$f":"+IF(C316=\"\",\"\",IF(H316=\"\",\"SIN RESPUESTA\",(IF(H316<=J316,\"A TIEMPO\",\"FUERA DE TIEMPO\"))))","v":"A TIEMPO"},{"$f":"IF(H316=\"\",\"\",NETWORKDAYS(C316+1,H316,DiasNOLaborables))","v":5},{"$f":"IF(NETWORKDAYS(J316+1,H316,DiasNOLaborables)<=0,\"\",NETWORKDAYS(J316+1,H316,DiasNOLaborables))","v":""},null,null,{"$f":"IFERROR(VLOOKUP(E316,$X$51:$Y$64,2),\"\")","v":20}]
[306,20219050118382,"2021-10-12","MODULO CONTACTENOS","SOLICITUD DE INFORMACIÓN Y DOCUMENTOS","SOLICITUD DE INFORMACIÓN HIDROMETEOROLÓGICA","GRUPO DE SERVICIO AL CIUDADANO ","2021-10-19","CORREO ELECTRÓNICO",{"$f":"IFERROR(WORKDAY(C317,P317,DiasNOLaborables),\"\")","v":"2021-11-11"},{"$f":"+IF(C317=\"\",\"\",IF(H317=\"\",\"SIN RESPUESTA\",(IF(H317<=J317,\"A TIEMPO\",\"FUERA DE TIEMPO\"))))","v":"A TIEMPO"},{"$f":"IF(H317=\"\",\"\",NETWORKDAYS(C317+1,H317,DiasNOLaborables))","v":4},{"$f":"IF(NETWORKDAYS(J317+1,H317,DiasNOLaborables)<=0,\"\",NETWORKDAYS(J317+1,H317,DiasNOLaborables))","v":""},null,null,{"$f":"IFERROR(VLOOKUP(E317,$X$51:$Y$64,2),\"\")","v":20}]
[307,20219050118482,"2021-10-12","MODULO CONTACTENOS","SOLICITUD DE INFORMACIÓN Y DOCUMENTOS","SOLICITUD DE INFORMACIÓN HIDROMETEOROLÓGICA","GRUPO DE SERVICIO AL CIUDADANO ","2021-10-19","CORREO ELECTRÓNICO",{"$f":"IFERROR(WORKDAY(C318,P318,DiasNOLaborables),\"\")","v":"2021-11-11"},{"$f":"+IF(C318=\"\",\"\",IF(H318=\"\",\"SIN RESPUESTA\",(IF(H318<=J318,\"A TIEMPO\",\"FUERA DE TIEMPO\"))))","v":"A TIEMPO"},{"$f":"IF(H318=\"\",\"\",NETWORKDAYS(C318+1,H318,DiasNOLaborables))","v":4},{"$f":"IF(NETWORKDAYS(J318+1,H318,DiasNOLaborables)<=0,\"\",NETWORKDAYS(J318+1,H318,DiasNOLaborables))","v":""},null,null,{"$f":"IFERROR(VLOOKUP(E318,$X$51:$Y$64,2),\"\")","v":20}]
[308,20219050118492,"2021-10-12","MODULO CONTACTENOS","SOLICITUD DE INFORMACIÓN Y DOCUMENTOS","SOLICITUD DE INFORMACIÓN HIDROMETEOROLÓGICA","GRUPO DE SERVICIO AL CIUDADANO ","2021-10-19","CORREO ELECTRÓNICO",{"$f":"IFERROR(WORKDAY(C319,P319,DiasNOLaborables),\"\")","v":"2021-11-11"},{"$f":"+IF(C319=\"\",\"\",IF(H319=\"\",\"SIN RESPUESTA\",(IF(H319<=J319,\"A TIEMPO\",\"FUERA DE TIEMPO\"))))","v":"A TIEMPO"},{"$f":"IF(H319=\"\",\"\",NETWORKDAYS(C319+1,H319,DiasNOLaborables))","v":4},{"$f":"IF(NETWORKDAYS(J319+1,H319,DiasNOLaborables)<=0,\"\",NETWORKDAYS(J319+1,H319,DiasNOLaborables))","v":""},null,null,{"$f":"IFERROR(VLOOKUP(E319,$X$51:$Y$64,2),\"\")","v":20}]
[309,20219050118522,"2021-10-12","CORREO ELECTRÓNICO","SOLICITUD DE INFORMACIÓN Y DOCUMENTOS","SOLICITUD DE INFORMACIÓN HIDROMETEOROLÓGICA","GRUPO DE SERVICIO AL CIUDADANO ","2021-10-19","CORREO ELECTRÓNICO",{"$f":"IFERROR(WORKDAY(C320,P320,DiasNOLaborables),\"\")","v":"2021-11-11"},{"$f":"+IF(C320=\"\",\"\",IF(H320=\"\",\"SIN RESPUESTA\",(IF(H320<=J320,\"A TIEMPO\",\"FUERA DE TIEMPO\"))))","v":"A TIEMPO"},{"$f":"IF(H320=\"\",\"\",NETWORKDAYS(C320+1,H320,DiasNOLaborables))","v":4},{"$f":"IF(NETWORKDAYS(J320+1,H320,DiasNOLaborables)<=0,\"\",NETWORKDAYS(J320+1,H320,DiasNOLaborables))","v":""},null,null,{"$f":"IFERROR(VLOOKUP(E320,$X$51:$Y$64,2),\"\")","v":20}]
[310,20219050118622,"2021-10-12","MODULO CONTACTENOS","SOLICITUD DE INFORMACIÓN Y DOCUMENTOS","SOLICITUD DE INFORMACIÓN HIDROMETEOROLÓGICA","GRUPO DE SERVICIO AL CIUDADANO ","2021-10-19","CORREO ELECTRÓNICO",{"$f":"IFERROR(WORKDAY(C321,P321,DiasNOLaborables),\"\")","v":"2021-11-11"},{"$f":"+IF(C321=\"\",\"\",IF(H321=\"\",\"SIN RESPUESTA\",(IF(H321<=J321,\"A TIEMPO\",\"FUERA DE TIEMPO\"))))","v":"A TIEMPO"},{"$f":"IF(H321=\"\",\"\",NETWORKDAYS(C321+1,H321,DiasNOLaborables))","v":4},{"$f":"IF(NETWORKDAYS(J321+1,H321,DiasNOLaborables)<=0,\"\",NETWORKDAYS(J321+1,H321,DiasNOLaborables))","v":""},null,null,{"$f":"IFERROR(VLOOKUP(E321,$X$51:$Y$64,2),\"\")","v":20}]
[311,20219050118702,"2021-10-12","MODULO CONTACTENOS","SOLICITUD DE INFORMACIÓN Y DOCUMENTOS","SOLICITUD DE INFORMACIÓN HIDROMETEOROLÓGICA","GRUPO DE SERVICIO AL CIUDADANO ","2021-10-19","CORREO ELECTRÓNICO",{"$f":"IFERROR(WORKDAY(C322,P322,DiasNOLaborables),\"\")","v":"2021-11-11"},{"$f":"+IF(C322=\"\",\"\",IF(H322=\"\",\"SIN RESPUESTA\",(IF(H322<=J322,\"A TIEMPO\",\"FUERA DE TIEMPO\"))))","v":"A TIEMPO"},{"$f":"IF(H322=\"\",\"\",NETWORKDAYS(C322+1,H322,DiasNOLaborables))","v":4},{"$f":"IF(NETWORKDAYS(J322+1,H322,DiasNOLaborables)<=0,\"\",NETWORKDAYS(J322+1,H322,DiasNOLaborables))","v":""},null,null,{"$f":"IFERROR(VLOOKUP(E322,$X$51:$Y$64,2),\"\")","v":20}]
[312,20219050118712,"2021-10-12","CORREO ELECTRÓNICO","SOLICITUD DE INFORMACIÓN Y DOCUMENTOS","SOLICITUD DE INFORMACIÓN HIDROMETEOROLÓGICA","GRUPO DE SERVICIO AL CIUDADANO ","2021-10-19","CORREO ELECTRÓNICO",{"$f":"IFERROR(WORKDAY(C323,P323,DiasNOLaborables),\"\")","v":"2021-11-11"},{"$f":"+IF(C323=\"\",\"\",IF(H323=\"\",\"SIN RESPUESTA\",(IF(H323<=J323,\"A TIEMPO\",\"FUERA DE TIEMPO\"))))","v":"A TIEMPO"},{"$f":"IF(H323=\"\",\"\",NETWORKDAYS(C323+1,H323,DiasNOLaborables))","v":4},{"$f":"IF(NETWORKDAYS(J323+1,H323,DiasNOLaborables)<=0,\"\",NETWORKDAYS(J323+1,H323,DiasNOLaborables))","v":""},null,null,{"$f":"IFERROR(VLOOKUP(E323,$X$51:$Y$64,2),\"\")","v":20}]
[313,20219050118642,"2021-10-12","MODULO CONTACTENOS","SOLICITUD DE INFORMACIÓN Y DOCUMENTOS","SOLICITUD DE INFORMACIÓN HIDROMETEOROLÓGICA","GRUPO DE SERVICIO AL CIUDADANO ","2021-10-20","CORREO ELECTRÓNICO",{"$f":"IFERROR(WORKDAY(C324,P324,DiasNOLaborables),\"\")","v":"2021-11-11"},{"$f":"+IF(C324=\"\",\"\",IF(H324=\"\",\"SIN RESPUESTA\",(IF(H324<=J324,\"A TIEMPO\",\"FUERA DE TIEMPO\"))))","v":"A TIEMPO"},{"$f":"IF(H324=\"\",\"\",NETWORKDAYS(C324+1,H324,DiasNOLaborables))","v":5},{"$f":"IF(NETWORKDAYS(J324+1,H324,DiasNOLaborables)<=0,\"\",NETWORKDAYS(J324+1,H324,DiasNOLaborables))","v":""},null,null,{"$f":"IFERROR(VLOOKUP(E324,$X$51:$Y$64,2),\"\")","v":20}]
[314,20219050118742,"2021-10-12","MODULO CONTACTENOS","SOLICITUD DE INFORMACIÓN Y DOCUMENTOS","SOLICITUD DE INFORMACIÓN HIDROMETEOROLÓGICA","GRUPO DE SERVICIO AL CIUDADANO ","2021-10-20","CORREO ELECTRÓNICO",{"$f":"IFERROR(WORKDAY(C325,P325,DiasNOLaborables),\"\")","v":"2021-11-11"},{"$f":"+IF(C325=\"\",\"\",IF(H325=\"\",\"SIN RESPUESTA\",(IF(H325<=J325,\"A TIEMPO\",\"FUERA DE TIEMPO\"))))","v":"A TIEMPO"},{"$f":"IF(H325=\"\",\"\",NETWORKDAYS(C325+1,H325,DiasNOLaborables))","v":5},{"$f":"IF(NETWORKDAYS(J325+1,H325,DiasNOLaborables)<=0,\"\",NETWORKDAYS(J325+1,H325,DiasNOLaborables))","v":""},null,null,{"$f":"IFERROR(VLOOKUP(E325,$X$51:$Y$64,2),\"\")","v":20}]
[315,20219050118762,"2021-10-12","CORREO ELECTRÓNICO","SOLICITUD DE INFORMACIÓN Y DOCUMENTOS","SOLICITUD DE INFORMACIÓN HIDROMETEOROLÓGICA","GRUPO DE SERVICIO AL CIUDADANO ","2021-10-20","CORREO ELECTRÓNICO",{"$f":"IFERROR(WORKDAY(C326,P326,DiasNOLaborables),\"\")","v":"2021-11-11"},{"$f":"+IF(C326=\"\",\"\",IF(H326=\"\",\"SIN RESPUESTA\",(IF(H326<=J326,\"A TIEMPO\",\"FUERA DE TIEMPO\"))))","v":"A TIEMPO"},{"$f":"IF(H326=\"\",\"\",NETWORKDAYS(C326+1,H326,DiasNOLaborables))","v":5},{"$f":"IF(NETWORKDAYS(J326+1,H326,DiasNOLaborables)<=0,\"\",NETWORKDAYS(J326+1,H326,DiasNOLaborables))","v":""},null,null,{"$f":"IFERROR(VLOOKUP(E326,$X$51:$Y$64,2),\"\")","v":20}]
[316,20219050118792,"2021-10-12","MODULO CONTACTENOS","SOLICITUD DE INFORMACIÓN Y DOCUMENTOS","SOLICITUD DE INFORMACIÓN HIDROMETEOROLÓGICA","GRUPO DE SERVICIO AL CIUDADANO ","2021-10-20","CORREO ELECTRÓNICO",{"$f":"IFERROR(WORKDAY(C327,P327,DiasNOLaborables),\"\")","v":"2021-11-11"},{"$f":"+IF(C327=\"\",\"\",IF(H327=\"\",\"SIN RESPUESTA\",(IF(H327<=J327,\"A TIEMPO\",\"FUERA DE TIEMPO\"))))","v":"A TIEMPO"},{"$f":"IF(H327=\"\",\"\",NETWORKDAYS(C327+1,H327,DiasNOLaborables))","v":5},{"$f":"IF(NETWORKDAYS(J327+1,H327,DiasNOLaborables)<=0,\"\",NETWORKDAYS(J327+1,H327,DiasNOLaborables))","v":""},null,null,{"$f":"IFERROR(VLOOKUP(E327,$X$51:$Y$64,2),\"\")","v":20}]
[317,20219050118812,"2021-10-12","MODULO CONTACTENOS","SOLICITUD DE INFORMACIÓN Y DOCUMENTOS","SOLICITUD DE INFORMACIÓN HIDROMETEOROLÓGICA","GRUPO DE SERVICIO AL CIUDADANO ","2021-10-20","CORREO ELECTRÓNICO",{"$f":"IFERROR(WORKDAY(C328,P328,DiasNOLaborables),\"\")","v":"2021-11-11"},{"$f":"+IF(C328=\"\",\"\",IF(H328=\"\",\"SIN RESPUESTA\",(IF(H328<=J328,\"A TIEMPO\",\"FUERA DE TIEMPO\"))))","v":"A TIEMPO"},{"$f":"IF(H328=\"\",\"\",NETWORKDAYS(C328+1,H328,DiasNOLaborables))","v":5},{"$f":"IF(NETWORKDAYS(J328+1,H328,DiasNOLaborables)<=0,\"\",NETWORKDAYS(J328+1,H328,DiasNOLaborables))","v":""},null,null,{"$f":"IFERROR(VLOOKUP(E328,$X$51:$Y$64,2),\"\")","v":20}]
[318,20219050118822,"2021-10-12","MODULO CONTACTENOS","SOLICITUD DE INFORMACIÓN Y DOCUMENTOS","SOLICITUD DE INFORMACIÓN HIDROMETEOROLÓGICA","GRUPO DE SERVICIO AL CIUDADANO ","2021-10-20","CORREO ELECTRÓNICO",{"$f":"IFERROR(WORKDAY(C329,P329,DiasNOLaborables),\"\")","v":"2021-11-11"},{"$f":"+IF(C329=\"\",\"\",IF(H329=\"\",\"SIN RESPUESTA\",(IF(H329<=J329,\"A TIEMPO\",\"FUERA DE TIEMPO\"))))","v":"A TIEMPO"},{"$f":"IF(H329=\"\",\"\",NETWORKDAYS(C329+1,H329,DiasNOLaborables))","v":5},{"$f":"IF(NETWORKDAYS(J329+1,H329,DiasNOLaborables)<=0,\"\",NETWORKDAYS(J329+1,H329,DiasNOLaborables))","v":""},null,null,{"$f":"IFERROR(VLOOKUP(E329,$X$51:$Y$64,2),\"\")","v":20}]
[319,20219050118402,"2021-10-12","CORREO ELECTRÓNICO","SOLICITUD DE INFORMACIÓN Y DOCUMENTOS","INFORMES AMBIENTALES","SUBDIRECCIÓN DE ESTUDIOS AMBIENTALES","2021-10-29","CORREO ELECTRÓNICO",{"$f":"IFERROR(WORKDAY(C330,P330,DiasNOLaborables),\"\")","v":"2021-11-11"},{"$f":"+IF(C330=\"\",\"\",IF(H330=\"\",\"SIN RESPUESTA\",(IF(H330<=J330,\"A TIEMPO\",\"FUERA DE TIEMPO\"))))","v":"A TIEMPO"},{"$f":"IF(H330=\"\",\"\",NETWORKDAYS(C330+1,H330,DiasNOLaborables))","v":12},{"$f":"IF(NETWORKDAYS(J330+1,H330,DiasNOLaborables)<=0,\"\",NETWORKDAYS(J330+1,H330,DiasNOLaborables))","v":""},null,null,{"$f":"IFERROR(VLOOKUP(E330,$X$51:$Y$64,2),\"\")","v":20}]
[320,20219050118412,"2021-10-12","CORREO ELECTRÓNICO","SOLICITUD DE INFORMACIÓN Y DOCUMENTOS","INFORMES AMBIENTALES","SUBDIRECCIÓN DE ESTUDIOS AMBIENTALES","2021-10-14","CORREO ELECTRÓNICO",{"$f":"IFERROR(WORKDAY(C331,P331,DiasNOLaborables),\"\")","v":"2021-11-11"},{"$f":"+IF(C331=\"\",\"\",IF(H331=\"\",\"SIN RESPUESTA\",(IF(H331<=J331,\"A TIEMPO\",\"FUERA DE TIEMPO\"))))","v":"A TIEMPO"},{"$f":"IF(H331=\"\",\"\",NETWORKDAYS(C331+1,H331,DiasNOLaborables))","v":2},{"$f":"IF(NETWORKDAYS(J331+1,H331,DiasNOLaborables)<=0,\"\",NETWORKDAYS(J331+1,H331,DiasNOLaborables))","v":""},null,null,{"$f":"IFERROR(VLOOKUP(E331,$X$51:$Y$64,2),\"\")","v":20}]
[321,20219050118422,"2021-10-12","CORREO ELECTRÓNICO","SOLICITUD DE INFORMACIÓN Y DOCUMENTOS","BOSQUES","SUBDIRECCIÓN DE ECOSISTEMAS E INFORMACIÓN AMBIENTAL","2021-10-13","CORREO ELECTRÓNICO",{"$f":"IFERROR(WORKDAY(C332,P332,DiasNOLaborables),\"\")","v":"2021-11-11"},{"$f":"+IF(C332=\"\",\"\",IF(H332=\"\",\"SIN RESPUESTA\",(IF(H332<=J332,\"A TIEMPO\",\"FUERA DE TIEMPO\"))))","v":"A TIEMPO"},{"$f":"IF(H332=\"\",\"\",NETWORKDAYS(C332+1,H332,DiasNOLaborables))","v":1},{"$f":"IF(NETWORKDAYS(J332+1,H332,DiasNOLaborables)<=0,\"\",NETWORKDAYS(J332+1,H332,DiasNOLaborables))","v":""},null,null,{"$f":"IFERROR(VLOOKUP(E332,$X$51:$Y$64,2),\"\")","v":20}]
[322,20219050118432,"2021-10-12","CORREO ELECTRÓNICO","CERTIFICACIONES DE TIEMPO, CLIMA Y EVENTOS HIDROLÓGICOS","CERTIFICACIONES DE TIEMPO Y CLIMA","SUBDIRECCIÓN DE METEOROLOGÍA","2021-11-08","CORREO ELECTRÓNICO",{"$f":"IFERROR(WORKDAY(C333,P333,DiasNOLaborables),\"\")","v":"2021-12-03"},{"$f":"+IF(C333=\"\",\"\",IF(H333=\"\",\"SIN RESPUESTA\",(IF(H333<=J333,\"A TIEMPO\",\"FUERA DE TIEMPO\"))))","v":"A TIEMPO"},{"$f":"IF(H333=\"\",\"\",NETWORKDAYS(C333+1,H333,DiasNOLaborables))","v":17},{"$f":"IF(NETWORKDAYS(J333+1,H333,DiasNOLaborables)<=0,\"\",NETWORKDAYS(J333+1,H333,DiasNOLaborables))","v":""},null,null,{"$f":"IFERROR(VLOOKUP(E333,$X$51:$Y$64,2),\"\")","v":35}]
[{"$f":"IF(B334<>\"\",A333+1,\"\")","v":323},20219050118442,"2021-10-12","CORREO ELECTRÓNICO","SOLICITUD DE INFORMACIÓN Y DOCUMENTOS","BOSQUES","SUBDIRECCIÓN DE ESTUDIOS AMBIENTALES",null,null,{"$f":"IFERROR(WORKDAY(C334,P334,DiasNOLaborables),\"\")","v":"2021-11-11"},{"$f":"+IF(C334=\"\",\"\",IF(H334=\"\",\"SIN RESPUESTA\",(IF(H334<=J334,\"A TIEMPO\",\"FUERA DE TIEMPO\"))))","v":"SIN RESPUESTA"},{"$f":"IF(H334=\"\",\"\",NETWORKDAYS(C334+1,H334,DiasNOLaborables))","v":""},{"$f":"IF(NETWORKDAYS(J334+1,H334,DiasNOLaborables)<=0,\"\",NETWORKDAYS(J334+1,H334,DiasNOLaborables))","v":""},null,null,{"$f":"IFERROR(VLOOKUP(E334,$X$51:$Y$64,2),\"\")","v":20}]
[324,20219050118512,"2021-10-12","CORREO ELECTRÓNICO","SOLICITUD DE INFORMACIÓN Y DOCUMENTOS","INFORMES AMBIENTALES","SUBDIRECCIÓN DE ESTUDIOS AMBIENTALES","2021-10-20","CORREO ELECTRÓNICO",{"$f":"IFERROR(WORKDAY(C335,P335,DiasNOLaborables),\"\")","v":"2021-11-11"},{"$f":"+IF(C335=\"\",\"\",IF(H335=\"\",\"SIN RESPUESTA\",(IF(H335<=J335,\"A TIEMPO\",\"FUERA DE TIEMPO\"))))","v":"A TIEMPO"},{"$f":"IF(H335=\"\",\"\",NETWORKDAYS(C335+1,H335,DiasNOLaborables))","v":5},{"$f":"IF(NETWORKDAYS(J335+1,H335,DiasNOLaborables)<=0,\"\",NETWORKDAYS(J335+1,H335,DiasNOLaborables))","v":""},null,null,{"$f":"IFERROR(VLOOKUP(E335,$X$51:$Y$64,2),\"\")","v":20}]
[325,20219050118552,"2021-10-12","CORREO ELECTRÓNICO","SOLICITUD DE INFORMACIÓN Y DOCUMENTOS","BOSQUES","SUBDIRECCIÓN DE ECOSISTEMAS E INFORMACIÓN AMBIENTAL","2021-10-12","CORREO ELECTRÓNICO",{"$f":"IFERROR(WORKDAY(C336,P336,DiasNOLaborables),\"\")","v":"2021-11-11"},{"$f":"+IF(C336=\"\",\"\",IF(H336=\"\",\"SIN RESPUESTA\",(IF(H336<=J336,\"A TIEMPO\",\"FUERA DE TIEMPO\"))))","v":"A TIEMPO"},{"$f":"IF(H336=\"\",\"\",NETWORKDAYS(C336+1,H336,DiasNOLaborables))","v":-2},{"$f":"IF(NETWORKDAYS(J336+1,H336,DiasNOLaborables)<=0,\"\",NETWORKDAYS(J336+1,H336,DiasNOLaborables))","v":""},null,null,{"$f":"IFERROR(VLOOKUP(E336,$X$51:$Y$64,2),\"\")","v":20}]
[326,20219050118582,"2021-10-12","CORREO ELECTRÓNICO","SOLICITUD JUDICIAL","JURIDICO","OFICINA ASESORA JURÍDICA","2021-10-20","CORREO ELECTRÓNICO",{"$f":"IFERROR(WORKDAY(C337,P337,DiasNOLaborables),\"\")","v":"2021-10-20"},{"$f":"+IF(C337=\"\",\"\",IF(H337=\"\",\"SIN RESPUESTA\",(IF(H337<=J337,\"A TIEMPO\",\"FUERA DE TIEMPO\"))))","v":"A TIEMPO"},{"$f":"IF(H337=\"\",\"\",NETWORKDAYS(C337+1,H337,DiasNOLaborables))","v":5},{"$f":"IF(NETWORKDAYS(J337+1,H337,DiasNOLaborables)<=0,\"\",NETWORKDAYS(J337+1,H337,DiasNOLaborables))","v":""},null,null,{"$f":"IFERROR(VLOOKUP(E337,$X$51:$Y$64,2),\"\")","v":5}]
[327,20219050118632,"2021-10-12","CORREO ELECTRÓNICO","SOLICITUD DE INFORMACIÓN Y DOCUMENTOS","CLIMATOLOGÍA","SUBDIRECCIÓN DE METEOROLOGÍA","2021-11-04","CORREO ELECTRÓNICO",{"$f":"IFERROR(WORKDAY(C338,P338,DiasNOLaborables),\"\")","v":"2021-11-11"},{"$f":"+IF(C338=\"\",\"\",IF(H338=\"\",\"SIN RESPUESTA\",(IF(H338<=J338,\"A TIEMPO\",\"FUERA DE TIEMPO\"))))","v":"A TIEMPO"},{"$f":"IF(H338=\"\",\"\",NETWORKDAYS(C338+1,H338,DiasNOLaborables))","v":15},{"$f":"IF(NETWORKDAYS(J338+1,H338,DiasNOLaborables)<=0,\"\",NETWORKDAYS(J338+1,H338,DiasNOLaborables))","v":""},null,null,{"$f":"IFERROR(VLOOKUP(E338,$X$51:$Y$64,2),\"\")","v":20}]
[328,20219050118772,"2021-10-12","CORREO ELECTRÓNICO","SOLICITUD DE INFORMACIÓN Y DOCUMENTOS","JURIDICO","OFICINA ASESORA JURÍDICA","2021-10-26","CORREO ELECTRÓNICO",{"$f":"IFERROR(WORKDAY(C339,P339,DiasNOLaborables),\"\")","v":"2021-11-11"},{"$f":"+IF(C339=\"\",\"\",IF(H339=\"\",\"SIN RESPUESTA\",(IF(H339<=J339,\"A TIEMPO\",\"FUERA DE TIEMPO\"))))","v":"A TIEMPO"},{"$f":"IF(H339=\"\",\"\",NETWORKDAYS(C339+1,H339,DiasNOLaborables))","v":9},{"$f":"IF(NETWORKDAYS(J339+1,H339,DiasNOLaborables)<=0,\"\",NETWORKDAYS(J339+1,H339,DiasNOLaborables))","v":""},null,null,{"$f":"IFERROR(VLOOKUP(E339,$X$51:$Y$64,2),\"\")","v":20}]
[329,20219050118392,"2021-10-12","MODULO CONTACTENOS","SOLICITUD DE INFORMACIÓN Y DOCUMENTOS","ADMINISTRATIVA","GRUPO DE ADMINISTRACIÓN Y DESARROLLO DEL TALENTO HUMANO","2021-10-13","CORREO ELECTRÓNICO",{"$f":"IFERROR(WORKDAY(C340,P340,DiasNOLaborables),\"\")","v":"2021-11-11"},{"$f":"+IF(C340=\"\",\"\",IF(H340=\"\",\"SIN RESPUESTA\",(IF(H340<=J340,\"A TIEMPO\",\"FUERA DE TIEMPO\"))))","v":"A TIEMPO"},{"$f":"IF(H340=\"\",\"\",NETWORKDAYS(C340+1,H340,DiasNOLaborables))","v":1},{"$f":"IF(NETWORKDAYS(J340+1,H340,DiasNOLaborables)<=0,\"\",NETWORKDAYS(J340+1,H340,DiasNOLaborables))","v":""},null,null,{"$f":"IFERROR(VLOOKUP(E340,$X$51:$Y$64,2),\"\")","v":20}]
[330,20219050118562,"2021-10-12","MODULO CONTACTENOS","SOLICITUD DE INFORMACIÓN Y DOCUMENTOS","SIRH","SUBDIRECCIÓN DE HIDROLOGÍA","2021-11-02","CORREO ELECTRÓNICO",{"$f":"IFERROR(WORKDAY(C341,P341,DiasNOLaborables),\"\")","v":"2021-11-11"},{"$f":"+IF(C341=\"\",\"\",IF(H341=\"\",\"SIN RESPUESTA\",(IF(H341<=J341,\"A TIEMPO\",\"FUERA DE TIEMPO\"))))","v":"A TIEMPO"},{"$f":"IF(H341=\"\",\"\",NETWORKDAYS(C341+1,H341,DiasNOLaborables))","v":13},{"$f":"IF(NETWORKDAYS(J341+1,H341,DiasNOLaborables)<=0,\"\",NETWORKDAYS(J341+1,H341,DiasNOLaborables))","v":""},null,null,{"$f":"IFERROR(VLOOKUP(E341,$X$51:$Y$64,2),\"\")","v":20}]
[331,20219050118572,"2021-10-12","MODULO CONTACTENOS","SOLICITUD DE INFORMACIÓN Y DOCUMENTOS","SIRH","SUBDIRECCIÓN DE HIDROLOGÍA","2021-11-02","CORREO ELECTRÓNICO",{"$f":"IFERROR(WORKDAY(C342,P342,DiasNOLaborables),\"\")","v":"2021-11-11"},{"$f":"+IF(C342=\"\",\"\",IF(H342=\"\",\"SIN RESPUESTA\",(IF(H342<=J342,\"A TIEMPO\",\"FUERA DE TIEMPO\"))))","v":"A TIEMPO"},{"$f":"IF(H342=\"\",\"\",NETWORKDAYS(C342+1,H342,DiasNOLaborables))","v":13},{"$f":"IF(NETWORKDAYS(J342+1,H342,DiasNOLaborables)<=0,\"\",NETWORKDAYS(J342+1,H342,DiasNOLaborables))","v":""},null,null,{"$f":"IFERROR(VLOOKUP(E342,$X$51:$Y$64,2),\"\")","v":20}]
[332,20219050118652,"2021-10-12","MODULO CONTACTENOS","SOLICITUD DE INFORMACIÓN Y DOCUMENTOS","OPERACIÓN DE REDES","SUBDIRECCIÓN DE HIDROLOGÍA","2021-10-26","CORREO ELECTRÓNICO",{"$f":"IFERROR(WORKDAY(C343,P343,DiasNOLaborables),\"\")","v":"2021-11-11"},{"$f":"+IF(C343=\"\",\"\",IF(H343=\"\",\"SIN RESPUESTA\",(IF(H343<=J343,\"A TIEMPO\",\"FUERA DE TIEMPO\"))))","v":"A TIEMPO"},{"$f":"IF(H343=\"\",\"\",NETWORKDAYS(C343+1,H343,DiasNOLaborables))","v":9},{"$f":"IF(NETWORKDAYS(J343+1,H343,DiasNOLaborables)<=0,\"\",NETWORKDAYS(J343+1,H343,DiasNOLaborables))","v":""},null,null,{"$f":"IFERROR(VLOOKUP(E343,$X$51:$Y$64,2),\"\")","v":20}]
[333,20219050118722,"2021-10-12","MODULO CONTACTENOS","CERTIFICACIONES DE TIEMPO, CLIMA Y EVENTOS HIDROLÓGICOS","CERTIFICACIONES DE TIEMPO Y CLIMA","SUBDIRECCIÓN DE METEOROLOGÍA","2021-10-28","CORREO ELECTRÓNICO",{"$f":"IFERROR(WORKDAY(C344,P344,DiasNOLaborables),\"\")","v":"2021-12-03"},{"$f":"+IF(C344=\"\",\"\",IF(H344=\"\",\"SIN RESPUESTA\",(IF(H344<=J344,\"A TIEMPO\",\"FUERA DE TIEMPO\"))))","v":"A TIEMPO"},{"$f":"IF(H344=\"\",\"\",NETWORKDAYS(C344+1,H344,DiasNOLaborables))","v":11},{"$f":"IF(NETWORKDAYS(J344+1,H344,DiasNOLaborables)<=0,\"\",NETWORKDAYS(J344+1,H344,DiasNOLaborables))","v":""},null,null,{"$f":"IFERROR(VLOOKUP(E344,$X$51:$Y$64,2),\"\")","v":35}]
[334,20219050118752,"2021-10-12","MODULO CONTACTENOS","SOLICITUD DE INFORMACIÓN Y DOCUMENTOS","ADMINISTRATIVA","OFICINA ASESORA JURÍDICA","2021-10-25","CORREO ELECTRÓNICO",{"$f":"IFERROR(WORKDAY(C345,P345,DiasNOLaborables),\"\")","v":"2021-11-11"},{"$f":"+IF(C345=\"\",\"\",IF(H345=\"\",\"SIN RESPUESTA\",(IF(H345<=J345,\"A TIEMPO\",\"FUERA DE TIEMPO\"))))","v":"A TIEMPO"},{"$f":"IF(H345=\"\",\"\",NETWORKDAYS(C345+1,H345,DiasNOLaborables))","v":8},{"$f":"IF(NETWORKDAYS(J345+1,H345,DiasNOLaborables)<=0,\"\",NETWORKDAYS(J345+1,H345,DiasNOLaborables))","v":""},null,null,{"$f":"IFERROR(VLOOKUP(E345,$X$51:$Y$64,2),\"\")","v":20}]
[335,20219050118782,"2021-10-12","MODULO CONTACTENOS","SOLICITUD DE INFORMACIÓN Y DOCUMENTOS","ADMINISTRATIVA","GRUPO DE TESORERÍA","2021-10-14","CORREO ELECTRÓNICO",{"$f":"IFERROR(WORKDAY(C346,P346,DiasNOLaborables),\"\")","v":"2021-11-11"},{"$f":"+IF(C346=\"\",\"\",IF(H346=\"\",\"SIN RESPUESTA\",(IF(H346<=J346,\"A TIEMPO\",\"FUERA DE TIEMPO\"))))","v":"A TIEMPO"},{"$f":"IF(H346=\"\",\"\",NETWORKDAYS(C346+1,H346,DiasNOLaborables))","v":2},{"$f":"IF(NETWORKDAYS(J346+1,H346,DiasNOLaborables)<=0,\"\",NETWORKDAYS(J346+1,H346,DiasNOLaborables))","v":""},null,null,{"$f":"IFERROR(VLOOKUP(E346,$X$51:$Y$64,2),\"\")","v":20}]
[336,20219050118802,"2021-10-12","MODULO CONTACTENOS","SOLICITUD DE INFORMACIÓN Y DOCUMENTOS","OPERACIÓN DE REDES","SUBDIRECCIÓN DE HIDROLOGÍA","2021-10-28","CORREO ELECTRÓNICO",{"$f":"IFERROR(WORKDAY(C347,P347,DiasNOLaborables),\"\")","v":"2021-11-11"},{"$f":"+IF(C347=\"\",\"\",IF(H347=\"\",\"SIN RESPUESTA\",(IF(H347<=J347,\"A TIEMPO\",\"FUERA DE TIEMPO\"))))","v":"A TIEMPO"},{"$f":"IF(H347=\"\",\"\",NETWORKDAYS(C347+1,H347,DiasNOLaborables))","v":11},{"$f":"IF(NETWORKDAYS(J347+1,H347,DiasNOLaborables)<=0,\"\",NETWORKDAYS(J347+1,H347,DiasNOLaborables))","v":""},null,null,{"$f":"IFERROR(VLOOKUP(E347,$X$51:$Y$64,2),\"\")","v":20}]
[337,20219050118832,"2021-10-12","MODULO CONTACTENOS","CERTIFICACIONES DE TIEMPO, CLIMA Y EVENTOS HIDROLÓGICOS","CERTIFICACIONES DE TIEMPO Y CLIMA","SUBDIRECCIÓN DE METEOROLOGÍA","2021-10-28","CORREO ELECTRÓNICO",{"$f":"IFERROR(WORKDAY(C348,P348,DiasNOLaborables),\"\")","v":"2021-12-03"},{"$f":"+IF(C348=\"\",\"\",IF(H348=\"\",\"SIN RESPUESTA\",(IF(H348<=J348,\"A TIEMPO\",\"FUERA DE TIEMPO\"))))","v":"A TIEMPO"},{"$f":"IF(H348=\"\",\"\",NETWORKDAYS(C348+1,H348,DiasNOLaborables))","v":11},{"$f":"IF(NETWORKDAYS(J348+1,H348,DiasNOLaborables)<=0,\"\",NETWORKDAYS(J348+1,H348,DiasNOLaborables))","v":""},null,null,{"$f":"IFERROR(VLOOKUP(E348,$X$51:$Y$64,2),\"\")","v":35}]
[338,20219050119082,"2021-10-13","MODULO CONTACTENOS","PETICIÓN ENTRE AUTORIDADES","BOSQUES","SUBDIRECCIÓN DE ECOSISTEMAS E INFORMACIÓN AMBIENTAL","2021-10-13","CORREO ELECTRÓNICO",{"$f":"IFERROR(WORKDAY(C349,P349,DiasNOLaborables),\"\")","v":"2021-10-28"},{"$f":"+IF(C349=\"\",\"\",IF(H349=\"\",\"SIN RESPUESTA\",(IF(H349<=J349,\"A TIEMPO\",\"FUERA DE TIEMPO\"))))","v":"A TIEMPO"},{"$f":"IF(H349=\"\",\"\",NETWORKDAYS(C349+1,H349,DiasNOLaborables))","v":-2},{"$f":"IF(NETWORKDAYS(J349+1,H349,DiasNOLaborables)<=0,\"\",NETWORKDAYS(J349+1,H349,DiasNOLaborables))","v":""},null,null,{"$f":"IFERROR(VLOOKUP(E349,$X$51:$Y$64,2),\"\")","v":10}]
[339,20219050119142,"2021-10-13","MODULO CONTACTENOS","CERTIFICACIONES DE TIEMPO, CLIMA Y EVENTOS HIDROLÓGICOS","CERTIFICACIONES DE TIEMPO Y CLIMA","SUBDIRECCIÓN DE METEOROLOGÍA","2021-10-28","CORREO ELECTRÓNICO",{"$f":"IFERROR(WORKDAY(C350,P350,DiasNOLaborables),\"\")","v":"2021-12-06"},{"$f":"+IF(C350=\"\",\"\",IF(H350=\"\",\"SIN RESPUESTA\",(IF(H350<=J350,\"A TIEMPO\",\"FUERA DE TIEMPO\"))))","v":"A TIEMPO"},{"$f":"IF(H350=\"\",\"\",NETWORKDAYS(C350+1,H350,DiasNOLaborables))","v":10},{"$f":"IF(NETWORKDAYS(J350+1,H350,DiasNOLaborables)<=0,\"\",NETWORKDAYS(J350+1,H350,DiasNOLaborables))","v":""},null,null,{"$f":"IFERROR(VLOOKUP(E350,$X$51:$Y$64,2),\"\")","v":35}]
[340,20219050119162,"2021-10-13","MODULO CONTACTENOS","SOLICITUD DE INFORMACIÓN Y DOCUMENTOS","SIRH","SUBDIRECCIÓN DE HIDROLOGÍA","2021-10-25","CORREO ELECTRÓNICO",{"$f":"IFERROR(WORKDAY(C351,P351,DiasNOLaborables),\"\")","v":"2021-11-12"},{"$f":"+IF(C351=\"\",\"\",IF(H351=\"\",\"SIN RESPUESTA\",(IF(H351<=J351,\"A TIEMPO\",\"FUERA DE TIEMPO\"))))","v":"A TIEMPO"},{"$f":"IF(H351=\"\",\"\",NETWORKDAYS(C351+1,H351,DiasNOLaborables))","v":7},{"$f":"IF(NETWORKDAYS(J351+1,H351,DiasNOLaborables)<=0,\"\",NETWORKDAYS(J351+1,H351,DiasNOLaborables))","v":""},null,null,{"$f":"IFERROR(VLOOKUP(E351,$X$51:$Y$64,2),\"\")","v":20}]
[341,20219050119182,"2021-10-13","MODULO CONTACTENOS","SOLICITUD DE INFORMACIÓN Y DOCUMENTOS","ADMINISTRATIVA","GRUPO DE ADMINISTRACIÓN Y DESARROLLO DEL TALENTO HUMANO","2021-10-19","CORREO ELECTRÓNICO",{"$f":"IFERROR(WORKDAY(C352,P352,DiasNOLaborables),\"\")","v":"2021-11-12"},{"$f":"+IF(C352=\"\",\"\",IF(H352=\"\",\"SIN RESPUESTA\",(IF(H352<=J352,\"A TIEMPO\",\"FUERA DE TIEMPO\"))))","v":"A TIEMPO"},{"$f":"IF(H352=\"\",\"\",NETWORKDAYS(C352+1,H352,DiasNOLaborables))","v":3},{"$f":"IF(NETWORKDAYS(J352+1,H352,DiasNOLaborables)<=0,\"\",NETWORKDAYS(J352+1,H352,DiasNOLaborables))","v":""},null,null,{"$f":"IFERROR(VLOOKUP(E352,$X$51:$Y$64,2),\"\")","v":20}]
[342,20219050119222,"2021-10-13","MODULO CONTACTENOS","SOLICITUD DE INFORMACIÓN Y DOCUMENTOS","ADMINISTRATIVA","GRUPO DE ADMINISTRACIÓN Y DESARROLLO DEL TALENTO HUMANO","2021-10-27","CORREO ELECTRÓNICO",{"$f":"IFERROR(WORKDAY(C353,P353,DiasNOLaborables),\"\")","v":"2021-11-12"},{"$f":"+IF(C353=\"\",\"\",IF(H353=\"\",\"SIN RESPUESTA\",(IF(H353<=J353,\"A TIEMPO\",\"FUERA DE TIEMPO\"))))","v":"A TIEMPO"},{"$f":"IF(H353=\"\",\"\",NETWORKDAYS(C353+1,H353,DiasNOLaborables))","v":9},{"$f":"IF(NETWORKDAYS(J353+1,H353,DiasNOLaborables)<=0,\"\",NETWORKDAYS(J353+1,H353,DiasNOLaborables))","v":""},null,null,{"$f":"IFERROR(VLOOKUP(E353,$X$51:$Y$64,2),\"\")","v":20}]
[343,20219050119102,"2021-10-13","MODULO CONTACTENOS","SOLICITUD DE INFORMACIÓN Y DOCUMENTOS","CLIMATOLOGÍA","SUBDIRECCIÓN DE METEOROLOGÍA","2021-10-26","CORREO ELECTRÓNICO",{"$f":"IFERROR(WORKDAY(C354,P354,DiasNOLaborables),\"\")","v":"2021-11-12"},{"$f":"+IF(C354=\"\",\"\",IF(H354=\"\",\"SIN RESPUESTA\",(IF(H354<=J354,\"A TIEMPO\",\"FUERA DE TIEMPO\"))))","v":"A TIEMPO"},{"$f":"IF(H354=\"\",\"\",NETWORKDAYS(C354+1,H354,DiasNOLaborables))","v":8},{"$f":"IF(NETWORKDAYS(J354+1,H354,DiasNOLaborables)<=0,\"\",NETWORKDAYS(J354+1,H354,DiasNOLaborables))","v":""},null,null,{"$f":"IFERROR(VLOOKUP(E354,$X$51:$Y$64,2),\"\")","v":20}]
[344,20219050119242,"2021-10-13","MODULO CONTACTENOS","SOLICITUD DE INFORMACIÓN Y DOCUMENTOS","ADMINISTRATIVA","OFICINA ASESORA JURÍDICA","2021-10-25","CORREO ELECTRÓNICO",{"$f":"IFERROR(WORKDAY(C355,P355,DiasNOLaborables),\"\")","v":"2021-11-12"},{"$f":"+IF(C355=\"\",\"\",IF(H355=\"\",\"SIN RESPUESTA\",(IF(H355<=J355,\"A TIEMPO\",\"FUERA DE TIEMPO\"))))","v":"A TIEMPO"},{"$f":"IF(H355=\"\",\"\",NETWORKDAYS(C355+1,H355,DiasNOLaborables))","v":7},{"$f":"IF(NETWORKDAYS(J355+1,H355,DiasNOLaborables)<=0,\"\",NETWORKDAYS(J355+1,H355,DiasNOLaborables))","v":""},null,null,{"$f":"IFERROR(VLOOKUP(E355,$X$51:$Y$64,2),\"\")","v":20}]
[345,20219050119272,"2021-10-13","MODULO CONTACTENOS","SOLICITUD DE INFORMACIÓN Y DOCUMENTOS","ADMINISTRATIVA","GRUPO DE ADMINISTRACIÓN Y DESARROLLO DEL TALENTO HUMANO","2021-10-26","CORREO ELECTRÓNICO",{"$f":"IFERROR(WORKDAY(C356,P356,DiasNOLaborables),\"\")","v":"2021-11-12"},{"$f":"+IF(C356=\"\",\"\",IF(H356=\"\",\"SIN RESPUESTA\",(IF(H356<=J356,\"A TIEMPO\",\"FUERA DE TIEMPO\"))))","v":"A TIEMPO"},{"$f":"IF(H356=\"\",\"\",NETWORKDAYS(C356+1,H356,DiasNOLaborables))","v":8},{"$f":"IF(NETWORKDAYS(J356+1,H356,DiasNOLaborables)<=0,\"\",NETWORKDAYS(J356+1,H356,DiasNOLaborables))","v":""},null,null,{"$f":"IFERROR(VLOOKUP(E356,$X$51:$Y$64,2),\"\")","v":20}]
[346,20219050119372,"2021-10-13","MODULO CONTACTENOS","SOLICITUD DE INFORMACIÓN Y DOCUMENTOS","ADMINISTRATIVA","GRUPO DE ADMINISTRACIÓN Y DESARROLLO DEL TALENTO HUMANO","2021-10-19","CORREO ELECTRÓNICO",{"$f":"IFERROR(WORKDAY(C357,P357,DiasNOLaborables),\"\")","v":"2021-11-12"},{"$f":"+IF(C357=\"\",\"\",IF(H357=\"\",\"SIN RESPUESTA\",(IF(H357<=J357,\"A TIEMPO\",\"FUERA DE TIEMPO\"))))","v":"A TIEMPO"},{"$f":"IF(H357=\"\",\"\",NETWORKDAYS(C357+1,H357,DiasNOLaborables))","v":3},{"$f":"IF(NETWORKDAYS(J357+1,H357,DiasNOLaborables)<=0,\"\",NETWORKDAYS(J357+1,H357,DiasNOLaborables))","v":""},null,null,{"$f":"IFERROR(VLOOKUP(E357,$X$51:$Y$64,2),\"\")","v":20}]
[347,20219050118842,"2021-10-13","CORREO ELECTRÓNICO","CERTIFICACIONES DE TIEMPO, CLIMA Y EVENTOS HIDROLÓGICOS","CERTIFICACIONES DE TIEMPO Y CLIMA","SUBDIRECCIÓN DE METEOROLOGÍA","2021-11-08","CORREO ELECTRÓNICO",{"$f":"IFERROR(WORKDAY(C358,P358,DiasNOLaborables),\"\")","v":"2021-12-06"},{"$f":"+IF(C358=\"\",\"\",IF(H358=\"\",\"SIN RESPUESTA\",(IF(H358<=J358,\"A TIEMPO\",\"FUERA DE TIEMPO\"))))","v":"A TIEMPO"},{"$f":"IF(H358=\"\",\"\",NETWORKDAYS(C358+1,H358,DiasNOLaborables))","v":16},{"$f":"IF(NETWORKDAYS(J358+1,H358,DiasNOLaborables)<=0,\"\",NETWORKDAYS(J358+1,H358,DiasNOLaborables))","v":""},null,null,{"$f":"IFERROR(VLOOKUP(E358,$X$51:$Y$64,2),\"\")","v":35}]
[348,20219050118852,"2021-10-13","CORREO ELECTRÓNICO","CERTIFICACIONES DE TIEMPO, CLIMA Y EVENTOS HIDROLÓGICOS","CERTIFICACIONES DE TIEMPO Y CLIMA","SUBDIRECCIÓN DE METEOROLOGÍA","2021-11-08","CORREO ELECTRÓNICO",{"$f":"IFERROR(WORKDAY(C359,P359,DiasNOLaborables),\"\")","v":"2021-12-06"},{"$f":"+IF(C359=\"\",\"\",IF(H359=\"\",\"SIN RESPUESTA\",(IF(H359<=J359,\"A TIEMPO\",\"FUERA DE TIEMPO\"))))","v":"A TIEMPO"},{"$f":"IF(H359=\"\",\"\",NETWORKDAYS(C359+1,H359,DiasNOLaborables))","v":16},{"$f":"IF(NETWORKDAYS(J359+1,H359,DiasNOLaborables)<=0,\"\",NETWORKDAYS(J359+1,H359,DiasNOLaborables))","v":""},null,null,{"$f":"IFERROR(VLOOKUP(E359,$X$51:$Y$64,2),\"\")","v":35}]
[349,20219050119212,"2021-10-13","MODULO CONTACTENOS","SOLICITUD DE INFORMACIÓN Y DOCUMENTOS","SOLICITUD DE INFORMACIÓN HIDROMETEOROLÓGICA","AREA OPERATIVA No. 3","2021-10-29","CORREO ELECTRÓNICO",{"$f":"IFERROR(WORKDAY(C360,P360,DiasNOLaborables),\"\")","v":"2021-11-12"},{"$f":"+IF(C360=\"\",\"\",IF(H360=\"\",\"SIN RESPUESTA\",(IF(H360<=J360,\"A TIEMPO\",\"FUERA DE TIEMPO\"))))","v":"A TIEMPO"},{"$f":"IF(H360=\"\",\"\",NETWORKDAYS(C360+1,H360,DiasNOLaborables))","v":11},{"$f":"IF(NETWORKDAYS(J360+1,H360,DiasNOLaborables)<=0,\"\",NETWORKDAYS(J360+1,H360,DiasNOLaborables))","v":""},null,null,{"$f":"IFERROR(VLOOKUP(E360,$X$51:$Y$64,2),\"\")","v":20}]
[350,20219050118862,"2021-10-13","CORREO ELECTRÓNICO","SOLICITUD DE INFORMACIÓN Y DOCUMENTOS","JURIDICO","OFICINA ASESORA JURÍDICA","2021-10-20","CORREO ELECTRÓNICO",{"$f":"IFERROR(WORKDAY(C361,P361,DiasNOLaborables),\"\")","v":"2021-11-12"},{"$f":"+IF(C361=\"\",\"\",IF(H361=\"\",\"SIN RESPUESTA\",(IF(H361<=J361,\"A TIEMPO\",\"FUERA DE TIEMPO\"))))","v":"A TIEMPO"},{"$f":"IF(H361=\"\",\"\",NETWORKDAYS(C361+1,H361,DiasNOLaborables))","v":4},{"$f":"IF(NETWORKDAYS(J361+1,H361,DiasNOLaborables)<=0,\"\",NETWORKDAYS(J361+1,H361,DiasNOLaborables))","v":""},null,null,{"$f":"IFERROR(VLOOKUP(E361,$X$51:$Y$64,2),\"\")","v":20}]
[351,20219050118882,"2021-10-13","CORREO ELECTRÓNICO","CERTIFICACIONES DE TIEMPO, CLIMA Y EVENTOS HIDROLÓGICOS","CERTIFICACIONES DE TIEMPO Y CLIMA","SUBDIRECCIÓN DE METEOROLOGÍA","2021-01-16","CORREO ELECTRÓNICO",{"$f":"IFERROR(WORKDAY(C362,P362,DiasNOLaborables),\"\")","v":"2021-12-06"},{"$f":"+IF(C362=\"\",\"\",IF(H362=\"\",\"SIN RESPUESTA\",(IF(H362<=J362,\"A TIEMPO\",\"FUERA DE TIEMPO\"))))","v":"A TIEMPO"},{"$f":"IF(H362=\"\",\"\",NETWORKDAYS(C362+1,H362,DiasNOLaborables))","v":-184},{"$f":"IF(NETWORKDAYS(J362+1,H362,DiasNOLaborables)<=0,\"\",NETWORKDAYS(J362+1,H362,DiasNOLaborables))","v":""},null,null,{"$f":"IFERROR(VLOOKUP(E362,$X$51:$Y$64,2),\"\")","v":35}]
[352,20219050118892,"2021-10-13","CORREO ELECTRÓNICO","PETICIÓN","JURIDICO","OFICINA ASESORA JURÍDICA","2021-11-12","CORREO ELECTRÓNICO",{"$f":"IFERROR(WORKDAY(C363,P363,DiasNOLaborables),\"\")","v":"2021-11-29"},{"$f":"+IF(C363=\"\",\"\",IF(H363=\"\",\"SIN RESPUESTA\",(IF(H363<=J363,\"A TIEMPO\",\"FUERA DE TIEMPO\"))))","v":"A TIEMPO"},{"$f":"IF(H363=\"\",\"\",NETWORKDAYS(C363+1,H363,DiasNOLaborables))","v":20},{"$f":"IF(NETWORKDAYS(J363+1,H363,DiasNOLaborables)<=0,\"\",NETWORKDAYS(J363+1,H363,DiasNOLaborables))","v":""},null,null,{"$f":"IFERROR(VLOOKUP(E363,$X$51:$Y$64,2),\"\")","v":30}]
[353,20219050118902,"2021-10-13","CORREO ELECTRÓNICO","SOLICITUD DE INFORMACIÓN Y DOCUMENTOS","REGISTROS AMBIENTALES","SUBDIRECCIÓN DE ESTUDIOS AMBIENTALES","2021-10-13","CORREO ELECTRÓNICO",{"$f":"IFERROR(WORKDAY(C364,P364,DiasNOLaborables),\"\")","v":"2021-11-12"},{"$f":"+IF(C364=\"\",\"\",IF(H364=\"\",\"SIN RESPUESTA\",(IF(H364<=J364,\"A TIEMPO\",\"FUERA DE TIEMPO\"))))","v":"A TIEMPO"},{"$f":"IF(H364=\"\",\"\",NETWORKDAYS(C364+1,H364,DiasNOLaborables))","v":-2},{"$f":"IF(NETWORKDAYS(J364+1,H364,DiasNOLaborables)<=0,\"\",NETWORKDAYS(J364+1,H364,DiasNOLaborables))","v":""},null,null,{"$f":"IFERROR(VLOOKUP(E364,$X$51:$Y$64,2),\"\")","v":20}]
[354,20219050118912,"2021-10-13","CORREO ELECTRÓNICO","SOLICITUD DE INFORMACIÓN Y DOCUMENTOS","REGISTROS AMBIENTALES","SUBDIRECCIÓN DE ESTUDIOS AMBIENTALES","2021-10-13","CORREO ELECTRÓNICO",{"$f":"IFERROR(WORKDAY(C365,P365,DiasNOLaborables),\"\")","v":"2021-11-12"},{"$f":"+IF(C365=\"\",\"\",IF(H365=\"\",\"SIN RESPUESTA\",(IF(H365<=J365,\"A TIEMPO\",\"FUERA DE TIEMPO\"))))","v":"A TIEMPO"},{"$f":"IF(H365=\"\",\"\",NETWORKDAYS(C365+1,H365,DiasNOLaborables))","v":-2},{"$f":"IF(NETWORKDAYS(J365+1,H365,DiasNOLaborables)<=0,\"\",NETWORKDAYS(J365+1,H365,DiasNOLaborables))","v":""},null,null,{"$f":"IFERROR(VLOOKUP(E365,$X$51:$Y$64,2),\"\")","v":20}]
[355,20219910055112,"2021-10-13","CORREO ELECTRÓNICO","SOLICITUD DE INFORMACIÓN Y DOCUMENTOS","BOSQUES","SUBDIRECCIÓN DE ECOSISTEMAS E INFORMACIÓN AMBIENTAL","2021-10-25","CORREO ELECTRÓNICO",{"$f":"IFERROR(WORKDAY(C366,P366,DiasNOLaborables),\"\")","v":"2021-11-12"},{"$f":"+IF(C366=\"\",\"\",IF(H366=\"\",\"SIN RESPUESTA\",(IF(H366<=J366,\"A TIEMPO\",\"FUERA DE TIEMPO\"))))","v":"A TIEMPO"},{"$f":"IF(H366=\"\",\"\",NETWORKDAYS(C366+1,H366,DiasNOLaborables))","v":7},{"$f":"IF(NETWORKDAYS(J366+1,H366,DiasNOLaborables)<=0,\"\",NETWORKDAYS(J366+1,H366,DiasNOLaborables))","v":""},null,null,{"$f":"IFERROR(VLOOKUP(E366,$X$51:$Y$64,2),\"\")","v":20}]
[356,20219050118982,"2021-10-13","CORREO ELECTRÓNICO","SOLICITUD JUDICIAL","JURIDICO","OFICINA ASESORA JURÍDICA","2021-10-20","CORREO ELECTRÓNICO",{"$f":"IFERROR(WORKDAY(C367,P367,DiasNOLaborables),\"\")","v":"2021-10-21"},{"$f":"+IF(C367=\"\",\"\",IF(H367=\"\",\"SIN RESPUESTA\",(IF(H367<=J367,\"A TIEMPO\",\"FUERA DE TIEMPO\"))))","v":"A TIEMPO"},{"$f":"IF(H367=\"\",\"\",NETWORKDAYS(C367+1,H367,DiasNOLaborables))","v":4},{"$f":"IF(NETWORKDAYS(J367+1,H367,DiasNOLaborables)<=0,\"\",NETWORKDAYS(J367+1,H367,DiasNOLaborables))","v":""},null,null,{"$f":"IFERROR(VLOOKUP(E367,$X$51:$Y$64,2),\"\")","v":5}]
[357,20219050118872,"2021-10-13","CORREO ELECTRÓNICO","SOLICITUD DE INFORMACIÓN Y DOCUMENTOS","SOLICITUD DE INFORMACIÓN HIDROMETEOROLÓGICA","GRUPO DE SERVICIO AL CIUDADANO ","2021-10-21","CORREO ELECTRÓNICO",{"$f":"IFERROR(WORKDAY(C368,P368,DiasNOLaborables),\"\")","v":"2021-11-12"},{"$f":"+IF(C368=\"\",\"\",IF(H368=\"\",\"SIN RESPUESTA\",(IF(H368<=J368,\"A TIEMPO\",\"FUERA DE TIEMPO\"))))","v":"A TIEMPO"},{"$f":"IF(H368=\"\",\"\",NETWORKDAYS(C368+1,H368,DiasNOLaborables))","v":5},{"$f":"IF(NETWORKDAYS(J368+1,H368,DiasNOLaborables)<=0,\"\",NETWORKDAYS(J368+1,H368,DiasNOLaborables))","v":""},null,null,{"$f":"IFERROR(VLOOKUP(E368,$X$51:$Y$64,2),\"\")","v":20}]
[358,20219050118962,"2021-10-13","MODULO CONTACTENOS","SOLICITUD DE INFORMACIÓN Y DOCUMENTOS","SOLICITUD DE INFORMACIÓN HIDROMETEOROLÓGICA","SUBDIRECCIÓN DE METEOROLOGÍA","2021-10-21","CORREO ELECTRÓNICO",{"$f":"IFERROR(WORKDAY(C369,P369,DiasNOLaborables),\"\")","v":"2021-11-12"},{"$f":"+IF(C369=\"\",\"\",IF(H369=\"\",\"SIN RESPUESTA\",(IF(H369<=J369,\"A TIEMPO\",\"FUERA DE TIEMPO\"))))","v":"A TIEMPO"},{"$f":"IF(H369=\"\",\"\",NETWORKDAYS(C369+1,H369,DiasNOLaborables))","v":5},{"$f":"IF(NETWORKDAYS(J369+1,H369,DiasNOLaborables)<=0,\"\",NETWORKDAYS(J369+1,H369,DiasNOLaborables))","v":""},null,null,{"$f":"IFERROR(VLOOKUP(E369,$X$51:$Y$64,2),\"\")","v":20}]
[359,20219050118972,"2021-10-13","MODULO CONTACTENOS","SOLICITUD DE INFORMACIÓN Y DOCUMENTOS","SOLICITUD DE INFORMACIÓN HIDROMETEOROLÓGICA","GRUPO DE SERVICIO AL CIUDADANO ","2021-10-21","CORREO ELECTRÓNICO",{"$f":"IFERROR(WORKDAY(C370,P370,DiasNOLaborables),\"\")","v":"2021-11-12"},{"$f":"+IF(C370=\"\",\"\",IF(H370=\"\",\"SIN RESPUESTA\",(IF(H370<=J370,\"A TIEMPO\",\"FUERA DE TIEMPO\"))))","v":"A TIEMPO"},{"$f":"IF(H370=\"\",\"\",NETWORKDAYS(C370+1,H370,DiasNOLaborables))","v":5},{"$f":"IF(NETWORKDAYS(J370+1,H370,DiasNOLaborables)<=0,\"\",NETWORKDAYS(J370+1,H370,DiasNOLaborables))","v":""},null,null,{"$f":"IFERROR(VLOOKUP(E370,$X$51:$Y$64,2),\"\")","v":20}]
[360,20219050119012,"2021-10-13","CORREO ELECTRÓNICO","SOLICITUD DE INFORMACIÓN Y DOCUMENTOS","SOLICITUD DE INFORMACIÓN HIDROMETEOROLÓGICA","GRUPO DE SERVICIO AL CIUDADANO ","2021-10-21","CORREO ELECTRÓNICO",{"$f":"IFERROR(WORKDAY(C371,P371,DiasNOLaborables),\"\")","v":"2021-11-12"},{"$f":"+IF(C371=\"\",\"\",IF(H371=\"\",\"SIN RESPUESTA\",(IF(H371<=J371,\"A TIEMPO\",\"FUERA DE TIEMPO\"))))","v":"A TIEMPO"},{"$f":"IF(H371=\"\",\"\",NETWORKDAYS(C371+1,H371,DiasNOLaborables))","v":5},{"$f":"IF(NETWORKDAYS(J371+1,H371,DiasNOLaborables)<=0,\"\",NETWORKDAYS(J371+1,H371,DiasNOLaborables))","v":""},null,null,{"$f":"IFERROR(VLOOKUP(E371,$X$51:$Y$64,2),\"\")","v":20}]
[361,20219050119022,"2021-10-13","MODULO CONTACTENOS","SOLICITUD DE INFORMACIÓN Y DOCUMENTOS","SOLICITUD DE INFORMACIÓN HIDROMETEOROLÓGICA","GRUPO DE SERVICIO AL CIUDADANO ","2021-10-21","CORREO ELECTRÓNICO",{"$f":"IFERROR(WORKDAY(C372,P372,DiasNOLaborables),\"\")","v":"2021-11-12"},{"$f":"+IF(C372=\"\",\"\",IF(H372=\"\",\"SIN RESPUESTA\",(IF(H372<=J372,\"A TIEMPO\",\"FUERA DE TIEMPO\"))))","v":"A TIEMPO"},{"$f":"IF(H372=\"\",\"\",NETWORKDAYS(C372+1,H372,DiasNOLaborables))","v":5},{"$f":"IF(NETWORKDAYS(J372+1,H372,DiasNOLaborables)<=0,\"\",NETWORKDAYS(J372+1,H372,DiasNOLaborables))","v":""},null,null,{"$f":"IFERROR(VLOOKUP(E372,$X$51:$Y$64,2),\"\")","v":20}]
[362,20219050119092,"2021-10-13","MODULO CONTACTENOS","SOLICITUD DE INFORMACIÓN Y DOCUMENTOS","SOLICITUD DE INFORMACIÓN HIDROMETEOROLÓGICA","GRUPO DE SERVICIO AL CIUDADANO ","2021-10-22","CORREO ELECTRÓNICO",{"$f":"IFERROR(WORKDAY(C373,P373,DiasNOLaborables),\"\")","v":"2021-11-12"},{"$f":"+IF(C373=\"\",\"\",IF(H373=\"\",\"SIN RESPUESTA\",(IF(H373<=J373,\"A TIEMPO\",\"FUERA DE TIEMPO\"))))","v":"A TIEMPO"},{"$f":"IF(H373=\"\",\"\",NETWORKDAYS(C373+1,H373,DiasNOLaborables))","v":6},{"$f":"IF(NETWORKDAYS(J373+1,H373,DiasNOLaborables)<=0,\"\",NETWORKDAYS(J373+1,H373,DiasNOLaborables))","v":""},null,null,{"$f":"IFERROR(VLOOKUP(E373,$X$51:$Y$64,2),\"\")","v":20}]
[363,20219050118992,"2021-10-13","CORREO ELECTRÓNICO","SOLICITUD DE INFORMACIÓN Y DOCUMENTOS","INFORMES AMBIENTALES","SUBDIRECCIÓN DE HIDROLOGÍA","2021-10-27","CORREO ELECTRÓNICO",{"$f":"IFERROR(WORKDAY(C374,P374,DiasNOLaborables),\"\")","v":"2021-11-12"},{"$f":"+IF(C374=\"\",\"\",IF(H374=\"\",\"SIN RESPUESTA\",(IF(H374<=J374,\"A TIEMPO\",\"FUERA DE TIEMPO\"))))","v":"A TIEMPO"},{"$f":"IF(H374=\"\",\"\",NETWORKDAYS(C374+1,H374,DiasNOLaborables))","v":9},{"$f":"IF(NETWORKDAYS(J374+1,H374,DiasNOLaborables)<=0,\"\",NETWORKDAYS(J374+1,H374,DiasNOLaborables))","v":""},null,null,{"$f":"IFERROR(VLOOKUP(E374,$X$51:$Y$64,2),\"\")","v":20}]
[364,20219050119002,"2021-10-13","CORREO ELECTRÓNICO","SOLICITUD DE INFORMACIÓN Y DOCUMENTOS","CAMBIO CLIMÁTICO","SUBDIRECCIÓN DE METEOROLOGÍA","2021-10-27","CORREO ELECTRÓNICO",{"$f":"IFERROR(WORKDAY(C375,P375,DiasNOLaborables),\"\")","v":"2021-11-12"},{"$f":"+IF(C375=\"\",\"\",IF(H375=\"\",\"SIN RESPUESTA\",(IF(H375<=J375,\"A TIEMPO\",\"FUERA DE TIEMPO\"))))","v":"A TIEMPO"},{"$f":"IF(H375=\"\",\"\",NETWORKDAYS(C375+1,H375,DiasNOLaborables))","v":9},{"$f":"IF(NETWORKDAYS(J375+1,H375,DiasNOLaborables)<=0,\"\",NETWORKDAYS(J375+1,H375,DiasNOLaborables))","v":""},null,null,{"$f":"IFERROR(VLOOKUP(E375,$X$51:$Y$64,2),\"\")","v":20}]
[365,20219050119032,"2021-10-13","CORREO ELECTRÓNICO","SOLICITUD DE INFORMACIÓN Y DOCUMENTOS","INFORMES AMBIENTALES","SUBDIRECCIÓN DE HIDROLOGÍA","2021-10-27","CORREO ELECTRÓNICO",{"$f":"IFERROR(WORKDAY(C376,P376,DiasNOLaborables),\"\")","v":"2021-11-12"},{"$f":"+IF(C376=\"\",\"\",IF(H376=\"\",\"SIN RESPUESTA\",(IF(H376<=J376,\"A TIEMPO\",\"FUERA DE TIEMPO\"))))","v":"A TIEMPO"},{"$f":"IF(H376=\"\",\"\",NETWORKDAYS(C376+1,H376,DiasNOLaborables))","v":9},{"$f":"IF(NETWORKDAYS(J376+1,H376,DiasNOLaborables)<=0,\"\",NETWORKDAYS(J376+1,H376,DiasNOLaborables))","v":""},null,null,{"$f":"IFERROR(VLOOKUP(E376,$X$51:$Y$64,2),\"\")","v":20}]
[366,20219050119112,"2021-10-13","CORREO ELECTRÓNICO","SOLICITUD DE INFORMACIÓN Y DOCUMENTOS","ADMINISTRATIVA","GRUPO DE ADMINISTRACIÓN Y DESARROLLO DEL TALENTO HUMANO","2021-10-15","CORREO ELECTRÓNICO",{"$f":"IFERROR(WORKDAY(C377,P377,DiasNOLaborables),\"\")","v":"2021-11-12"},{"$f":"+IF(C377=\"\",\"\",IF(H377=\"\",\"SIN RESPUESTA\",(IF(H377<=J377,\"A TIEMPO\",\"FUERA DE TIEMPO\"))))","v":"A TIEMPO"},{"$f":"IF(H377=\"\",\"\",NETWORKDAYS(C377+1,H377,DiasNOLaborables))","v":2},{"$f":"IF(NETWORKDAYS(J377+1,H377,DiasNOLaborables)<=0,\"\",NETWORKDAYS(J377+1,H377,DiasNOLaborables))","v":""},null,null,{"$f":"IFERROR(VLOOKUP(E377,$X$51:$Y$64,2),\"\")","v":20}]
[367,20219050119232,"2021-10-13","CORREO ELECTRÓNICO","SOLICITUD DE INFORMACIÓN Y DOCUMENTOS","INFORMES AMBIENTALES","SUBDIRECCIÓN DE HIDROLOGÍA","2021-11-03","CORREO ELECTRÓNICO",{"$f":"IFERROR(WORKDAY(C378,P378,DiasNOLaborables),\"\")","v":"2021-11-12"},{"$f":"+IF(C378=\"\",\"\",IF(H378=\"\",\"SIN RESPUESTA\",(IF(H378<=J378,\"A TIEMPO\",\"FUERA DE TIEMPO\"))))","v":"A TIEMPO"},{"$f":"IF(H378=\"\",\"\",NETWORKDAYS(C378+1,H378,DiasNOLaborables))","v":13},{"$f":"IF(NETWORKDAYS(J378+1,H378,DiasNOLaborables)<=0,\"\",NETWORKDAYS(J378+1,H378,DiasNOLaborables))","v":""},null,null,{"$f":"IFERROR(VLOOKUP(E378,$X$51:$Y$64,2),\"\")","v":20}]
[368,20219050119282,"2021-10-13","CORREO ELECTRÓNICO","SOLICITUD DE INFORMACIÓN Y DOCUMENTOS","CAMBIO CLIMÁTICO","SUBDIRECCIÓN DE METEOROLOGÍA","2021-10-15","CORREO ELECTRÓNICO",{"$f":"IFERROR(WORKDAY(C379,P379,DiasNOLaborables),\"\")","v":"2021-11-12"},{"$f":"+IF(C379=\"\",\"\",IF(H379=\"\",\"SIN RESPUESTA\",(IF(H379<=J379,\"A TIEMPO\",\"FUERA DE TIEMPO\"))))","v":"A TIEMPO"},{"$f":"IF(H379=\"\",\"\",NETWORKDAYS(C379+1,H379,DiasNOLaborables))","v":2},{"$f":"IF(NETWORKDAYS(J379+1,H379,DiasNOLaborables)<=0,\"\",NETWORKDAYS(J379+1,H379,DiasNOLaborables))","v":""},null,null,{"$f":"IFERROR(VLOOKUP(E379,$X$51:$Y$64,2),\"\")","v":20}]
[369,20219050119122,"2021-10-13","MODULO CONTACTENOS","SOLICITUD DE INFORMACIÓN Y DOCUMENTOS","SOLICITUD DE INFORMACIÓN HIDROMETEOROLÓGICA","GRUPO DE SERVICIO AL CIUDADANO ","2021-11-02","CORREO ELECTRÓNICO",{"$f":"IFERROR(WORKDAY(C380,P380,DiasNOLaborables),\"\")","v":"2021-11-12"},{"$f":"+IF(C380=\"\",\"\",IF(H380=\"\",\"SIN RESPUESTA\",(IF(H380<=J380,\"A TIEMPO\",\"FUERA DE TIEMPO\"))))","v":"A TIEMPO"},{"$f":"IF(H380=\"\",\"\",NETWORKDAYS(C380+1,H380,DiasNOLaborables))","v":12},{"$f":"IF(NETWORKDAYS(J380+1,H380,DiasNOLaborables)<=0,\"\",NETWORKDAYS(J380+1,H380,DiasNOLaborables))","v":""},null,null,{"$f":"IFERROR(VLOOKUP(E380,$X$51:$Y$64,2),\"\")","v":20}]
[370,20219050119132,"2021-10-13","CORREO ELECTRÓNICO","SOLICITUD DE INFORMACIÓN Y DOCUMENTOS","SOLICITUD DE INFORMACIÓN HIDROMETEOROLÓGICA","GRUPO DE SERVICIO AL CIUDADANO ","2021-11-02","CORREO ELECTRÓNICO",{"$f":"IFERROR(WORKDAY(C381,P381,DiasNOLaborables),\"\")","v":"2021-11-12"},{"$f":"+IF(C381=\"\",\"\",IF(H381=\"\",\"SIN RESPUESTA\",(IF(H381<=J381,\"A TIEMPO\",\"FUERA DE TIEMPO\"))))","v":"A TIEMPO"},{"$f":"IF(H381=\"\",\"\",NETWORKDAYS(C381+1,H381,DiasNOLaborables))","v":12},{"$f":"IF(NETWORKDAYS(J381+1,H381,DiasNOLaborables)<=0,\"\",NETWORKDAYS(J381+1,H381,DiasNOLaborables))","v":""},null,null,{"$f":"IFERROR(VLOOKUP(E381,$X$51:$Y$64,2),\"\")","v":20}]
[371,20219050119172,"2021-10-13","MODULO CONTACTENOS","SOLICITUD DE INFORMACIÓN Y DOCUMENTOS","SOLICITUD DE INFORMACIÓN HIDROMETEOROLÓGICA","GRUPO DE SERVICIO AL CIUDADANO ","2021-11-04","CORREO ELECTRÓNICO",{"$f":"IFERROR(WORKDAY(C382,P382,DiasNOLaborables),\"\")","v":"2021-11-12"},{"$f":"+IF(C382=\"\",\"\",IF(H382=\"\",\"SIN RESPUESTA\",(IF(H382<=J382,\"A TIEMPO\",\"FUERA DE TIEMPO\"))))","v":"A TIEMPO"},{"$f":"IF(H382=\"\",\"\",NETWORKDAYS(C382+1,H382,DiasNOLaborables))","v":14},{"$f":"IF(NETWORKDAYS(J382+1,H382,DiasNOLaborables)<=0,\"\",NETWORKDAYS(J382+1,H382,DiasNOLaborables))","v":""},null,null,{"$f":"IFERROR(VLOOKUP(E382,$X$51:$Y$64,2),\"\")","v":20}]
[372,20219050119192,"2021-10-13","CORREO ELECTRÓNICO","SOLICITUD DE INFORMACIÓN Y DOCUMENTOS","SOLICITUD DE INFORMACIÓN HIDROMETEOROLÓGICA","GRUPO DE SERVICIO AL CIUDADANO ","2021-11-04","CORREO ELECTRÓNICO",{"$f":"IFERROR(WORKDAY(C383,P383,DiasNOLaborables),\"\")","v":"2021-11-12"},{"$f":"+IF(C383=\"\",\"\",IF(H383=\"\",\"SIN RESPUESTA\",(IF(H383<=J383,\"A TIEMPO\",\"FUERA DE TIEMPO\"))))","v":"A TIEMPO"},{"$f":"IF(H383=\"\",\"\",NETWORKDAYS(C383+1,H383,DiasNOLaborables))","v":14},{"$f":"IF(NETWORKDAYS(J383+1,H383,DiasNOLaborables)<=0,\"\",NETWORKDAYS(J383+1,H383,DiasNOLaborables))","v":""},null,null,{"$f":"IFERROR(VLOOKUP(E383,$X$51:$Y$64,2),\"\")","v":20}]
[373,20219050119202,"2021-10-13","MODULO CONTACTENOS","SOLICITUD DE INFORMACIÓN Y DOCUMENTOS","SOLICITUD DE INFORMACIÓN HIDROMETEOROLÓGICA","GRUPO DE SERVICIO AL CIUDADANO ","2021-11-04","CORREO ELECTRÓNICO",{"$f":"IFERROR(WORKDAY(C384,P384,DiasNOLaborables),\"\")","v":"2021-11-12"},{"$f":"+IF(C384=\"\",\"\",IF(H384=\"\",\"SIN RESPUESTA\",(IF(H384<=J384,\"A TIEMPO\",\"FUERA DE TIEMPO\"))))","v":"A TIEMPO"},{"$f":"IF(H384=\"\",\"\",NETWORKDAYS(C384+1,H384,DiasNOLaborables))","v":14},{"$f":"IF(NETWORKDAYS(J384+1,H384,DiasNOLaborables)<=0,\"\",NETWORKDAYS(J384+1,H384,DiasNOLaborables))","v":""},null,null,{"$f":"IFERROR(VLOOKUP(E384,$X$51:$Y$64,2),\"\")","v":20}]
[374,20219050119252,"2021-10-13","MODULO CONTACTENOS","SOLICITUD DE INFORMACIÓN Y DOCUMENTOS","SOLICITUD DE INFORMACIÓN HIDROMETEOROLÓGICA","GRUPO DE SERVICIO AL CIUDADANO ","2021-11-04","CORREO ELECTRÓNICO",{"$f":"IFERROR(WORKDAY(C385,P385,DiasNOLaborables),\"\")","v":"2021-11-12"},{"$f":"+IF(C385=\"\",\"\",IF(H385=\"\",\"SIN RESPUESTA\",(IF(H385<=J385,\"A TIEMPO\",\"FUERA DE TIEMPO\"))))","v":"A TIEMPO"},{"$f":"IF(H385=\"\",\"\",NETWORKDAYS(C385+1,H385,DiasNOLaborables))","v":14},{"$f":"IF(NETWORKDAYS(J385+1,H385,DiasNOLaborables)<=0,\"\",NETWORKDAYS(J385+1,H385,DiasNOLaborables))","v":""},null,null,{"$f":"IFERROR(VLOOKUP(E385,$X$51:$Y$64,2),\"\")","v":20}]
[375,20219050119312,"2021-10-13","MODULO CONTACTENOS","SOLICITUD DE INFORMACIÓN Y DOCUMENTOS","SOLICITUD DE INFORMACIÓN HIDROMETEOROLÓGICA","GRUPO DE SERVICIO AL CIUDADANO ","2021-11-04","CORREO ELECTRÓNICO",{"$f":"IFERROR(WORKDAY(C386,P386,DiasNOLaborables),\"\")","v":"2021-11-12"},{"$f":"+IF(C386=\"\",\"\",IF(H386=\"\",\"SIN RESPUESTA\",(IF(H386<=J386,\"A TIEMPO\",\"FUERA DE TIEMPO\"))))","v":"A TIEMPO"},{"$f":"IF(H386=\"\",\"\",NETWORKDAYS(C386+1,H386,DiasNOLaborables))","v":14},{"$f":"IF(NETWORKDAYS(J386+1,H386,DiasNOLaborables)<=0,\"\",NETWORKDAYS(J386+1,H386,DiasNOLaborables))","v":""},null,null,{"$f":"IFERROR(VLOOKUP(E386,$X$51:$Y$64,2),\"\")","v":20}]
[376,20219050119352,"2021-10-13","MODULO CONTACTENOS","SOLICITUD DE INFORMACIÓN Y DOCUMENTOS","SOLICITUD DE INFORMACIÓN HIDROMETEOROLÓGICA","GRUPO DE SERVICIO AL CIUDADANO ","2021-11-04","CORREO ELECTRÓNICO",{"$f":"IFERROR(WORKDAY(C387,P387,DiasNOLaborables),\"\")","v":"2021-11-12"},{"$f":"+IF(C387=\"\",\"\",IF(H387=\"\",\"SIN RESPUESTA\",(IF(H387<=J387,\"A TIEMPO\",\"FUERA DE TIEMPO\"))))","v":"A TIEMPO"},{"$f":"IF(H387=\"\",\"\",NETWORKDAYS(C387+1,H387,DiasNOLaborables))","v":14},{"$f":"IF(NETWORKDAYS(J387+1,H387,DiasNOLaborables)<=0,\"\",NETWORKDAYS(J387+1,H387,DiasNOLaborables))","v":""},null,null,{"$f":"IFERROR(VLOOKUP(E387,$X$51:$Y$64,2),\"\")","v":20}]
[377,20219050119362,"2021-10-13","MODULO CONTACTENOS","SOLICITUD DE INFORMACIÓN Y DOCUMENTOS","SOLICITUD DE INFORMACIÓN HIDROMETEOROLÓGICA","GRUPO DE SERVICIO AL CIUDADANO ","2021-11-04","CORREO ELECTRÓNICO",{"$f":"IFERROR(WORKDAY(C388,P388,DiasNOLaborables),\"\")","v":"2021-11-12"},{"$f":"+IF(C388=\"\",\"\",IF(H388=\"\",\"SIN RESPUESTA\",(IF(H388<=J388,\"A TIEMPO\",\"FUERA DE TIEMPO\"))))","v":"A TIEMPO"},{"$f":"IF(H388=\"\",\"\",NETWORKDAYS(C388+1,H388,DiasNOLaborables))","v":14},{"$f":"IF(NETWORKDAYS(J388+1,H388,DiasNOLaborables)<=0,\"\",NETWORKDAYS(J388+1,H388,DiasNOLaborables))","v":""},null,null,{"$f":"IFERROR(VLOOKUP(E388,$X$51:$Y$64,2),\"\")","v":20}]
[378,20219050119392,"2021-10-13","MODULO CONTACTENOS","SOLICITUD DE INFORMACIÓN Y DOCUMENTOS","SOLICITUD DE INFORMACIÓN HIDROMETEOROLÓGICA","GRUPO DE SERVICIO AL CIUDADANO ","2021-11-04","CORREO ELECTRÓNICO",{"$f":"IFERROR(WORKDAY(C389,P389,DiasNOLaborables),\"\")","v":"2021-11-12"},{"$f":"+IF(C389=\"\",\"\",IF(H389=\"\",\"SIN RESPUESTA\",(IF(H389<=J389,\"A TIEMPO\",\"FUERA DE TIEMPO\"))))","v":"A TIEMPO"},{"$f":"IF(H389=\"\",\"\",NETWORKDAYS(C389+1,H389,DiasNOLaborables))","v":14},{"$f":"IF(NETWORKDAYS(J389+1,H389,DiasNOLaborables)<=0,\"\",NETWORKDAYS(J389+1,H389,DiasNOLaborables))","v":""},null,null,{"$f":"IFERROR(VLOOKUP(E389,$X$51:$Y$64,2),\"\")","v":20}]
[379,20219050119412,"2021-10-13","MODULO CONTACTENOS","SOLICITUD DE INFORMACIÓN Y DOCUMENTOS","SOLICITUD DE INFORMACIÓN HIDROMETEOROLÓGICA","GRUPO DE SERVICIO AL CIUDADANO ","2021-11-04","CORREO ELECTRÓNICO",{"$f":"IFERROR(WORKDAY(C390,P390,DiasNOLaborables),\"\")","v":"2021-11-12"},{"$f":"+IF(C390=\"\",\"\",IF(H390=\"\",\"SIN RESPUESTA\",(IF(H390<=J390,\"A TIEMPO\",\"FUERA DE TIEMPO\"))))","v":"A TIEMPO"},{"$f":"IF(H390=\"\",\"\",NETWORKDAYS(C390+1,H390,DiasNOLaborables))","v":14},{"$f":"IF(NETWORKDAYS(J390+1,H390,DiasNOLaborables)<=0,\"\",NETWORKDAYS(J390+1,H390,DiasNOLaborables))","v":""},null,null,{"$f":"IFERROR(VLOOKUP(E390,$X$51:$Y$64,2),\"\")","v":20}]
[380,20219050119462,"2021-10-14","MODULO CONTACTENOS","SOLICITUD DE INFORMACIÓN Y DOCUMENTOS","SOLICITUD DE INFORMACIÓN HIDROMETEOROLÓGICA","GRUPO DE SERVICIO AL CIUDADANO ","2021-11-05","CORREO ELECTRÓNICO",{"$f":"IFERROR(WORKDAY(C391,P391,DiasNOLaborables),\"\")","v":"2021-11-16"},{"$f":"+IF(C391=\"\",\"\",IF(H391=\"\",\"SIN RESPUESTA\",(IF(H391<=J391,\"A TIEMPO\",\"FUERA DE TIEMPO\"))))","v":"A TIEMPO"},{"$f":"IF(H391=\"\",\"\",NETWORKDAYS(C391+1,H391,DiasNOLaborables))","v":14},{"$f":"IF(NETWORKDAYS(J391+1,H391,DiasNOLaborables)<=0,\"\",NETWORKDAYS(J391+1,H391,DiasNOLaborables))","v":""},null,null,{"$f":"IFERROR(VLOOKUP(E391,$X$51:$Y$64,2),\"\")","v":20}]
[381,20219050119502,"2021-10-14","MODULO CONTACTENOS","SOLICITUD DE INFORMACIÓN Y DOCUMENTOS","SOLICITUD DE INFORMACIÓN HIDROMETEOROLÓGICA","GRUPO DE SERVICIO AL CIUDADANO ","2021-11-05","CORREO ELECTRÓNICO",{"$f":"IFERROR(WORKDAY(C392,P392,DiasNOLaborables),\"\")","v":"2021-11-16"},{"$f":"+IF(C392=\"\",\"\",IF(H392=\"\",\"SIN RESPUESTA\",(IF(H392<=J392,\"A TIEMPO\",\"FUERA DE TIEMPO\"))))","v":"A TIEMPO"},{"$f":"IF(H392=\"\",\"\",NETWORKDAYS(C392+1,H392,DiasNOLaborables))","v":14},{"$f":"IF(NETWORKDAYS(J392+1,H392,DiasNOLaborables)<=0,\"\",NETWORKDAYS(J392+1,H392,DiasNOLaborables))","v":""},null,null,{"$f":"IFERROR(VLOOKUP(E392,$X$51:$Y$64,2),\"\")","v":20}]
[382,20219050119472,"2021-10-14","CORREO ELECTRÓNICO","SOLICITUD DE INFORMACIÓN Y DOCUMENTOS","ADMINISTRATIVA","GRUPO DE ADMINISTRACIÓN Y DESARROLLO DEL TALENTO HUMANO","2021-10-27","CORREO ELECTRÓNICO",{"$f":"IFERROR(WORKDAY(C393,P393,DiasNOLaborables),\"\")","v":"2021-11-16"},{"$f":"+IF(C393=\"\",\"\",IF(H393=\"\",\"SIN RESPUESTA\",(IF(H393<=J393,\"A TIEMPO\",\"FUERA DE TIEMPO\"))))","v":"A TIEMPO"},{"$f":"IF(H393=\"\",\"\",NETWORKDAYS(C393+1,H393,DiasNOLaborables))","v":8},{"$f":"IF(NETWORKDAYS(J393+1,H393,DiasNOLaborables)<=0,\"\",NETWORKDAYS(J393+1,H393,DiasNOLaborables))","v":""},null,null,{"$f":"IFERROR(VLOOKUP(E393,$X$51:$Y$64,2),\"\")","v":20}]
[383,20219050119482,"2021-10-14","CORREO ELECTRÓNICO","SOLICITUD DE INFORMACIÓN Y DOCUMENTOS","BOSQUES","SUBDIRECCIÓN DE ECOSISTEMAS E INFORMACIÓN AMBIENTAL","2021-10-21","CORREO ELECTRÓNICO",{"$f":"IFERROR(WORKDAY(C394,P394,DiasNOLaborables),\"\")","v":"2021-11-16"},{"$f":"+IF(C394=\"\",\"\",IF(H394=\"\",\"SIN RESPUESTA\",(IF(H394<=J394,\"A TIEMPO\",\"FUERA DE TIEMPO\"))))","v":"A TIEMPO"},{"$f":"IF(H394=\"\",\"\",NETWORKDAYS(C394+1,H394,DiasNOLaborables))","v":4},{"$f":"IF(NETWORKDAYS(J394+1,H394,DiasNOLaborables)<=0,\"\",NETWORKDAYS(J394+1,H394,DiasNOLaborables))","v":""},null,null,{"$f":"IFERROR(VLOOKUP(E394,$X$51:$Y$64,2),\"\")","v":20}]
[384,20219050119542,"2021-10-14","CORREO ELECTRÓNICO","SOLICITUD DE INFORMACIÓN Y DOCUMENTOS","SOLICITUD DE INFORMACIÓN HIDROMETEOROLÓGICA","SUBDIRECCIÓN DE HIDROLOGÍA","2021-10-19","CORREO ELECTRÓNICO",{"$f":"IFERROR(WORKDAY(C395,P395,DiasNOLaborables),\"\")","v":"2021-11-16"},{"$f":"+IF(C395=\"\",\"\",IF(H395=\"\",\"SIN RESPUESTA\",(IF(H395<=J395,\"A TIEMPO\",\"FUERA DE TIEMPO\"))))","v":"A TIEMPO"},{"$f":"IF(H395=\"\",\"\",NETWORKDAYS(C395+1,H395,DiasNOLaborables))","v":2},{"$f":"IF(NETWORKDAYS(J395+1,H395,DiasNOLaborables)<=0,\"\",NETWORKDAYS(J395+1,H395,DiasNOLaborables))","v":""},null,null,{"$f":"IFERROR(VLOOKUP(E395,$X$51:$Y$64,2),\"\")","v":20}]
[385,20219050119602,"2021-10-14","CORREO ELECTRÓNICO","PETICIÓN","JURIDICO","OFICINA ASESORA JURÍDICA","2021-10-21","CORREO ELECTRÓNICO",{"$f":"IFERROR(WORKDAY(C396,P396,DiasNOLaborables),\"\")","v":"2021-11-30"},{"$f":"+IF(C396=\"\",\"\",IF(H396=\"\",\"SIN RESPUESTA\",(IF(H396<=J396,\"A TIEMPO\",\"FUERA DE TIEMPO\"))))","v":"A TIEMPO"},{"$f":"IF(H396=\"\",\"\",NETWORKDAYS(C396+1,H396,DiasNOLaborables))","v":4},{"$f":"IF(NETWORKDAYS(J396+1,H396,DiasNOLaborables)<=0,\"\",NETWORKDAYS(J396+1,H396,DiasNOLaborables))","v":""},null,null,{"$f":"IFERROR(VLOOKUP(E396,$X$51:$Y$64,2),\"\")","v":30}]
[386,20219050119612,"2021-10-14","CORREO ELECTRÓNICO","PETICIÓN","JURIDICO","OFICINA ASESORA JURÍDICA","2021-10-14","CORREO ELECTRÓNICO",{"$f":"IFERROR(WORKDAY(C397,P397,DiasNOLaborables),\"\")","v":"2021-11-30"},{"$f":"+IF(C397=\"\",\"\",IF(H397=\"\",\"SIN RESPUESTA\",(IF(H397<=J397,\"A TIEMPO\",\"FUERA DE TIEMPO\"))))","v":"A TIEMPO"},{"$f":"IF(H397=\"\",\"\",NETWORKDAYS(C397+1,H397,DiasNOLaborables))","v":-2},{"$f":"IF(NETWORKDAYS(J397+1,H397,DiasNOLaborables)<=0,\"\",NETWORKDAYS(J397+1,H397,DiasNOLaborables))","v":""},null,null,{"$f":"IFERROR(VLOOKUP(E397,$X$51:$Y$64,2),\"\")","v":30}]
[{"$f":"IF(B398<>\"\",A397+1,\"\")","v":387},20219050119632,"2021-10-14","CORREO ELECTRÓNICO","SOLICITUD DE INFORMACIÓN Y DOCUMENTOS","CLIMATOLOGÍA","SUBDIRECCIÓN DE HIDROLOGÍA","2021-10-15","CORREO ELECTRÓNICO",{"$f":"IFERROR(WORKDAY(C398,P398,DiasNOLaborables),\"\")","v":"2021-11-16"},{"$f":"+IF(C398=\"\",\"\",IF(H398=\"\",\"SIN RESPUESTA\",(IF(H398<=J398,\"A TIEMPO\",\"FUERA DE TIEMPO\"))))","v":"A TIEMPO"},{"$f":"IF(H398=\"\",\"\",NETWORKDAYS(C398+1,H398,DiasNOLaborables))","v":1},{"$f":"IF(NETWORKDAYS(J398+1,H398,DiasNOLaborables)<=0,\"\",NETWORKDAYS(J398+1,H398,DiasNOLaborables))","v":""},null,null,{"$f":"IFERROR(VLOOKUP(E398,$X$51:$Y$64,2),\"\")","v":20}]
[388,20219050119702,"2021-10-14","CORREO ELECTRÓNICO","SOLICITUD DE INFORMACIÓN Y DOCUMENTOS","JURIDICO","OFICINA ASESORA JURÍDICA","2021-11-04","CORREO ELECTRÓNICO",{"$f":"IFERROR(WORKDAY(C399,P399,DiasNOLaborables),\"\")","v":"2021-11-16"},{"$f":"+IF(C399=\"\",\"\",IF(H399=\"\",\"SIN RESPUESTA\",(IF(H399<=J399,\"A TIEMPO\",\"FUERA DE TIEMPO\"))))","v":"A TIEMPO"},{"$f":"IF(H399=\"\",\"\",NETWORKDAYS(C399+1,H399,DiasNOLaborables))","v":13},{"$f":"IF(NETWORKDAYS(J399+1,H399,DiasNOLaborables)<=0,\"\",NETWORKDAYS(J399+1,H399,DiasNOLaborables))","v":""},null,null,{"$f":"IFERROR(VLOOKUP(E399,$X$51:$Y$64,2),\"\")","v":20}]
[389,20219050119712,"2021-10-14","CORREO ELECTRÓNICO","SOLICITUD DE INFORMACIÓN Y DOCUMENTOS","ADMINISTRATIVA","OFICINA DE INFORMÁTICA","2021-10-19","CORREO ELECTRÓNICO",{"$f":"IFERROR(WORKDAY(C400,P400,DiasNOLaborables),\"\")","v":"2021-11-16"},{"$f":"+IF(C400=\"\",\"\",IF(H400=\"\",\"SIN RESPUESTA\",(IF(H400<=J400,\"A TIEMPO\",\"FUERA DE TIEMPO\"))))","v":"A TIEMPO"},{"$f":"IF(H400=\"\",\"\",NETWORKDAYS(C400+1,H400,DiasNOLaborables))","v":2},{"$f":"IF(NETWORKDAYS(J400+1,H400,DiasNOLaborables)<=0,\"\",NETWORKDAYS(J400+1,H400,DiasNOLaborables))","v":""},null,null,{"$f":"IFERROR(VLOOKUP(E400,$X$51:$Y$64,2),\"\")","v":20}]
[390,20219050119722,"2021-10-14","CORREO ELECTRÓNICO","SOLICITUD DE INFORMACIÓN Y DOCUMENTOS","INFORMES AMBIENTALES","SUBDIRECCIÓN DE HIDROLOGÍA","2021-10-29","CORREO ELECTRÓNICO",{"$f":"IFERROR(WORKDAY(C401,P401,DiasNOLaborables),\"\")","v":"2021-11-16"},{"$f":"+IF(C401=\"\",\"\",IF(H401=\"\",\"SIN RESPUESTA\",(IF(H401<=J401,\"A TIEMPO\",\"FUERA DE TIEMPO\"))))","v":"A TIEMPO"},{"$f":"IF(H401=\"\",\"\",NETWORKDAYS(C401+1,H401,DiasNOLaborables))","v":10},{"$f":"IF(NETWORKDAYS(J401+1,H401,DiasNOLaborables)<=0,\"\",NETWORKDAYS(J401+1,H401,DiasNOLaborables))","v":""},null,null,{"$f":"IFERROR(VLOOKUP(E401,$X$51:$Y$64,2),\"\")","v":20}]
[391,20219050119732,"2021-10-14","CORREO ELECTRÓNICO","SOLICITUD DE INFORMACIÓN Y DOCUMENTOS","INFORMES AMBIENTALES","SUBDIRECCIÓN DE HIDROLOGÍA","2021-10-29","CORREO ELECTRÓNICO",{"$f":"IFERROR(WORKDAY(C402,P402,DiasNOLaborables),\"\")","v":"2021-11-16"},{"$f":"+IF(C402=\"\",\"\",IF(H402=\"\",\"SIN RESPUESTA\",(IF(H402<=J402,\"A TIEMPO\",\"FUERA DE TIEMPO\"))))","v":"A TIEMPO"},{"$f":"IF(H402=\"\",\"\",NETWORKDAYS(C402+1,H402,DiasNOLaborables))","v":10},{"$f":"IF(NETWORKDAYS(J402+1,H402,DiasNOLaborables)<=0,\"\",NETWORKDAYS(J402+1,H402,DiasNOLaborables))","v":""},null,null,{"$f":"IFERROR(VLOOKUP(E402,$X$51:$Y$64,2),\"\")","v":20}]
[392,20219050119772,"2021-10-14","CORREO ELECTRÓNICO","SOLICITUD DE INFORMACIÓN Y DOCUMENTOS","INFORMES AMBIENTALES","SUBDIRECCIÓN DE ESTUDIOS AMBIENTALES","2021-10-21","CORREO ELECTRÓNICO",{"$f":"IFERROR(WORKDAY(C403,P403,DiasNOLaborables),\"\")","v":"2021-11-16"},{"$f":"+IF(C403=\"\",\"\",IF(H403=\"\",\"SIN RESPUESTA\",(IF(H403<=J403,\"A TIEMPO\",\"FUERA DE TIEMPO\"))))","v":"A TIEMPO"},{"$f":"IF(H403=\"\",\"\",NETWORKDAYS(C403+1,H403,DiasNOLaborables))","v":4},{"$f":"IF(NETWORKDAYS(J403+1,H403,DiasNOLaborables)<=0,\"\",NETWORKDAYS(J403+1,H403,DiasNOLaborables))","v":""},null,null,{"$f":"IFERROR(VLOOKUP(E403,$X$51:$Y$64,2),\"\")","v":20}]
[393,20219050119782,"2021-10-14","CORREO ELECTRÓNICO","SOLICITUD DE INFORMACIÓN Y DOCUMENTOS","INFORMES AMBIENTALES","SUBDIRECCIÓN DE HIDROLOGÍA","2021-10-29","CORREO ELECTRÓNICO",{"$f":"IFERROR(WORKDAY(C404,P404,DiasNOLaborables),\"\")","v":"2021-11-16"},{"$f":"+IF(C404=\"\",\"\",IF(H404=\"\",\"SIN RESPUESTA\",(IF(H404<=J404,\"A TIEMPO\",\"FUERA DE TIEMPO\"))))","v":"A TIEMPO"},{"$f":"IF(H404=\"\",\"\",NETWORKDAYS(C404+1,H404,DiasNOLaborables))","v":10},{"$f":"IF(NETWORKDAYS(J404+1,H404,DiasNOLaborables)<=0,\"\",NETWORKDAYS(J404+1,H404,DiasNOLaborables))","v":""},null,null,{"$f":"IFERROR(VLOOKUP(E404,$X$51:$Y$64,2),\"\")","v":20}]
[394,20219050119792,"2021-10-14","CORREO ELECTRÓNICO","SOLICITUD DE INFORMACIÓN Y DOCUMENTOS","INFORMES AMBIENTALES","SUBDIRECCIÓN DE HIDROLOGÍA","2021-10-29","CORREO ELECTRÓNICO",{"$f":"IFERROR(WORKDAY(C405,P405,DiasNOLaborables),\"\")","v":"2021-11-16"},{"$f":"+IF(C405=\"\",\"\",IF(H405=\"\",\"SIN RESPUESTA\",(IF(H405<=J405,\"A TIEMPO\",\"FUERA DE TIEMPO\"))))","v":"A TIEMPO"},{"$f":"IF(H405=\"\",\"\",NETWORKDAYS(C405+1,H405,DiasNOLaborables))","v":10},{"$f":"IF(NETWORKDAYS(J405+1,H405,DiasNOLaborables)<=0,\"\",NETWORKDAYS(J405+1,H405,DiasNOLaborables))","v":""},null,null,{"$f":"IFERROR(VLOOKUP(E405,$X$51:$Y$64,2),\"\")","v":20}]
[395,20219050119802,"2021-10-14","CORREO ELECTRÓNICO","SOLICITUD DE INFORMACIÓN Y DOCUMENTOS","BOSQUES","SUBDIRECCIÓN DE ECOSISTEMAS E INFORMACIÓN AMBIENTAL","2021-10-21","CORREO ELECTRÓNICO",{"$f":"IFERROR(WORKDAY(C406,P406,DiasNOLaborables),\"\")","v":"2021-11-16"},{"$f":"+IF(C406=\"\",\"\",IF(H406=\"\",\"SIN RESPUESTA\",(IF(H406<=J406,\"A TIEMPO\",\"FUERA DE TIEMPO\"))))","v":"A TIEMPO"},{"$f":"IF(H406=\"\",\"\",NETWORKDAYS(C406+1,H406,DiasNOLaborables))","v":4},{"$f":"IF(NETWORKDAYS(J406+1,H406,DiasNOLaborables)<=0,\"\",NETWORKDAYS(J406+1,H406,DiasNOLaborables))","v":""},null,null,{"$f":"IFERROR(VLOOKUP(E406,$X$51:$Y$64,2),\"\")","v":20}]
[396,20219050119842,"2021-10-14","CORREO ELECTRÓNICO","PETICIÓN","INFORMES AMBIENTALES","SUBDIRECCIÓN DE HIDROLOGÍA","2021-11-19","CORREO ELECTRÓNICO",{"$f":"IFERROR(WORKDAY(C407,P407,DiasNOLaborables),\"\")","v":"2021-11-30"},{"$f":"+IF(C407=\"\",\"\",IF(H407=\"\",\"SIN RESPUESTA\",(IF(H407<=J407,\"A TIEMPO\",\"FUERA DE TIEMPO\"))))","v":"A TIEMPO"},{"$f":"IF(H407=\"\",\"\",NETWORKDAYS(C407+1,H407,DiasNOLaborables))","v":23},{"$f":"IF(NETWORKDAYS(J407+1,H407,DiasNOLaborables)<=0,\"\",NETWORKDAYS(J407+1,H407,DiasNOLaborables))","v":""},null,null,{"$f":"IFERROR(VLOOKUP(E407,$X$51:$Y$64,2),\"\")","v":30}]
[397,20219050119432,"2021-10-14","CORREO ELECTRÓNICO","SOLICITUD DE INFORMACIÓN Y DOCUMENTOS","SOLICITUD DE INFORMACIÓN HIDROMETEOROLÓGICA","GRUPO DE SERVICIO AL CIUDADANO ","2021-11-08","CORREO ELECTRÓNICO",{"$f":"IFERROR(WORKDAY(C408,P408,DiasNOLaborables),\"\")","v":"2021-11-16"},{"$f":"+IF(C408=\"\",\"\",IF(H408=\"\",\"SIN RESPUESTA\",(IF(H408<=J408,\"A TIEMPO\",\"FUERA DE TIEMPO\"))))","v":"A TIEMPO"},{"$f":"IF(H408=\"\",\"\",NETWORKDAYS(C408+1,H408,DiasNOLaborables))","v":15},{"$f":"IF(NETWORKDAYS(J408+1,H408,DiasNOLaborables)<=0,\"\",NETWORKDAYS(J408+1,H408,DiasNOLaborables))","v":""},null,null,{"$f":"IFERROR(VLOOKUP(E408,$X$51:$Y$64,2),\"\")","v":20}]
[398,20219050119442,"2021-10-14","CORREO ELECTRÓNICO","SOLICITUD DE INFORMACIÓN Y DOCUMENTOS","SOLICITUD DE INFORMACIÓN HIDROMETEOROLÓGICA","GRUPO DE SERVICIO AL CIUDADANO ","2021-11-08","CORREO ELECTRÓNICO",{"$f":"IFERROR(WORKDAY(C409,P409,DiasNOLaborables),\"\")","v":"2021-11-16"},{"$f":"+IF(C409=\"\",\"\",IF(H409=\"\",\"SIN RESPUESTA\",(IF(H409<=J409,\"A TIEMPO\",\"FUERA DE TIEMPO\"))))","v":"A TIEMPO"},{"$f":"IF(H409=\"\",\"\",NETWORKDAYS(C409+1,H409,DiasNOLaborables))","v":15},{"$f":"IF(NETWORKDAYS(J409+1,H409,DiasNOLaborables)<=0,\"\",NETWORKDAYS(J409+1,H409,DiasNOLaborables))","v":""},null,null,{"$f":"IFERROR(VLOOKUP(E409,$X$51:$Y$64,2),\"\")","v":20}]
[399,20219050119852,"2021-10-14","CORREO ELECTRÓNICO","PETICIÓN","INFORMES AMBIENTALES","SUBDIRECCIÓN DE HIDROLOGÍA","2021-11-19","CORREO ELECTRÓNICO",{"$f":"IFERROR(WORKDAY(C410,P410,DiasNOLaborables),\"\")","v":"2021-11-30"},{"$f":"+IF(C410=\"\",\"\",IF(H410=\"\",\"SIN RESPUESTA\",(IF(H410<=J410,\"A TIEMPO\",\"FUERA DE TIEMPO\"))))","v":"A TIEMPO"},{"$f":"IF(H410=\"\",\"\",NETWORKDAYS(C410+1,H410,DiasNOLaborables))","v":23},{"$f":"IF(NETWORKDAYS(J410+1,H410,DiasNOLaborables)<=0,\"\",NETWORKDAYS(J410+1,H410,DiasNOLaborables))","v":""},null,null,{"$f":"IFERROR(VLOOKUP(E410,$X$51:$Y$64,2),\"\")","v":30}]
[400,20219050119892,"2021-10-14","CORREO ELECTRÓNICO","PETICIÓN","INFORMES AMBIENTALES","SUBDIRECCIÓN DE HIDROLOGÍA","2021-11-19","CORREO ELECTRÓNICO",{"$f":"IFERROR(WORKDAY(C411,P411,DiasNOLaborables),\"\")","v":"2021-11-30"},{"$f":"+IF(C411=\"\",\"\",IF(H411=\"\",\"SIN RESPUESTA\",(IF(H411<=J411,\"A TIEMPO\",\"FUERA DE TIEMPO\"))))","v":"A TIEMPO"},{"$f":"IF(H411=\"\",\"\",NETWORKDAYS(C411+1,H411,DiasNOLaborables))","v":23},{"$f":"IF(NETWORKDAYS(J411+1,H411,DiasNOLaborables)<=0,\"\",NETWORKDAYS(J411+1,H411,DiasNOLaborables))","v":""},null,null,{"$f":"IFERROR(VLOOKUP(E411,$X$51:$Y$64,2),\"\")","v":30}]
[401,20219050119682,"2021-10-14","MODULO CONTACTENOS","SOLICITUD DE INFORMACIÓN Y DOCUMENTOS","REGISTROS AMBIENTALES","SUBDIRECCIÓN DE ESTUDIOS AMBIENTALES","2021-10-21","CORREO ELECTRÓNICO",{"$f":"IFERROR(WORKDAY(C412,P412,DiasNOLaborables),\"\")","v":"2021-11-16"},{"$f":"+IF(C412=\"\",\"\",IF(H412=\"\",\"SIN RESPUESTA\",(IF(H412<=J412,\"A TIEMPO\",\"FUERA DE TIEMPO\"))))","v":"A TIEMPO"},{"$f":"IF(H412=\"\",\"\",NETWORKDAYS(C412+1,H412,DiasNOLaborables))","v":4},{"$f":"IF(NETWORKDAYS(J412+1,H412,DiasNOLaborables)<=0,\"\",NETWORKDAYS(J412+1,H412,DiasNOLaborables))","v":""},null,null,{"$f":"IFERROR(VLOOKUP(E412,$X$51:$Y$64,2),\"\")","v":20}]
[402,20219050119692,"2021-10-14","MODULO CONTACTENOS","SOLICITUD DE INFORMACIÓN Y DOCUMENTOS","ADMINISTRATIVA","GRUPO DE ADMINISTRACIÓN Y DESARROLLO DEL TALENTO HUMANO","2021-10-19","CORREO ELECTRÓNICO",{"$f":"IFERROR(WORKDAY(C413,P413,DiasNOLaborables),\"\")","v":"2021-11-16"},{"$f":"+IF(C413=\"\",\"\",IF(H413=\"\",\"SIN RESPUESTA\",(IF(H413<=J413,\"A TIEMPO\",\"FUERA DE TIEMPO\"))))","v":"A TIEMPO"},{"$f":"IF(H413=\"\",\"\",NETWORKDAYS(C413+1,H413,DiasNOLaborables))","v":2},{"$f":"IF(NETWORKDAYS(J413+1,H413,DiasNOLaborables)<=0,\"\",NETWORKDAYS(J413+1,H413,DiasNOLaborables))","v":""},null,null,{"$f":"IFERROR(VLOOKUP(E413,$X$51:$Y$64,2),\"\")","v":20}]
[403,20219050119812,"2021-10-14","MODULO CONTACTENOS","SOLICITUD DE INFORMACIÓN Y DOCUMENTOS","ADMINISTRATIVA","GRUPO DE ADMINISTRACIÓN Y DESARROLLO DEL TALENTO HUMANO","2021-10-20","CORREO ELECTRÓNICO",{"$f":"IFERROR(WORKDAY(C414,P414,DiasNOLaborables),\"\")","v":"2021-11-16"},{"$f":"+IF(C414=\"\",\"\",IF(H414=\"\",\"SIN RESPUESTA\",(IF(H414<=J414,\"A TIEMPO\",\"FUERA DE TIEMPO\"))))","v":"A TIEMPO"},{"$f":"IF(H414=\"\",\"\",NETWORKDAYS(C414+1,H414,DiasNOLaborables))","v":3},{"$f":"IF(NETWORKDAYS(J414+1,H414,DiasNOLaborables)<=0,\"\",NETWORKDAYS(J414+1,H414,DiasNOLaborables))","v":""},null,null,{"$f":"IFERROR(VLOOKUP(E414,$X$51:$Y$64,2),\"\")","v":20}]
[404,20219050119932,"2021-10-14","MODULO CONTACTENOS","SOLICITUD DE INFORMACIÓN Y DOCUMENTOS","ADMINISTRATIVA","GRUPO DE ADMINISTRACIÓN Y DESARROLLO DEL TALENTO HUMANO","2021-10-20","CORREO ELECTRÓNICO",{"$f":"IFERROR(WORKDAY(C415,P415,DiasNOLaborables),\"\")","v":"2021-11-16"},{"$f":"+IF(C415=\"\",\"\",IF(H415=\"\",\"SIN RESPUESTA\",(IF(H415<=J415,\"A TIEMPO\",\"FUERA DE TIEMPO\"))))","v":"A TIEMPO"},{"$f":"IF(H415=\"\",\"\",NETWORKDAYS(C415+1,H415,DiasNOLaborables))","v":3},{"$f":"IF(NETWORKDAYS(J415+1,H415,DiasNOLaborables)<=0,\"\",NETWORKDAYS(J415+1,H415,DiasNOLaborables))","v":""},null,null,{"$f":"IFERROR(VLOOKUP(E415,$X$51:$Y$64,2),\"\")","v":20}]
[405,20219050119512,"2021-10-14","MODULO CONTACTENOS","SOLICITUD DE INFORMACIÓN Y DOCUMENTOS","SOLICITUD DE INFORMACIÓN HIDROMETEOROLÓGICA","GRUPO DE SERVICIO AL CIUDADANO ","2021-10-19","CORREO ELECTRÓNICO",{"$f":"IFERROR(WORKDAY(C416,P416,DiasNOLaborables),\"\")","v":"2021-11-16"},{"$f":"+IF(C416=\"\",\"\",IF(H416=\"\",\"SIN RESPUESTA\",(IF(H416<=J416,\"A TIEMPO\",\"FUERA DE TIEMPO\"))))","v":"A TIEMPO"},{"$f":"IF(H416=\"\",\"\",NETWORKDAYS(C416+1,H416,DiasNOLaborables))","v":2},{"$f":"IF(NETWORKDAYS(J416+1,H416,DiasNOLaborables)<=0,\"\",NETWORKDAYS(J416+1,H416,DiasNOLaborables))","v":""},null,null,{"$f":"IFERROR(VLOOKUP(E416,$X$51:$Y$64,2),\"\")","v":20}]
[406,20219050119532,"2021-10-14","MODULO CONTACTENOS","SOLICITUD DE INFORMACIÓN Y DOCUMENTOS","SOLICITUD DE INFORMACIÓN HIDROMETEOROLÓGICA","GRUPO DE SERVICIO AL CIUDADANO ","2021-10-19","CORREO ELECTRÓNICO",{"$f":"IFERROR(WORKDAY(C417,P417,DiasNOLaborables),\"\")","v":"2021-11-16"},{"$f":"+IF(C417=\"\",\"\",IF(H417=\"\",\"SIN RESPUESTA\",(IF(H417<=J417,\"A TIEMPO\",\"FUERA DE TIEMPO\"))))","v":"A TIEMPO"},{"$f":"IF(H417=\"\",\"\",NETWORKDAYS(C417+1,H417,DiasNOLaborables))","v":2},{"$f":"IF(NETWORKDAYS(J417+1,H417,DiasNOLaborables)<=0,\"\",NETWORKDAYS(J417+1,H417,DiasNOLaborables))","v":""},null,null,{"$f":"IFERROR(VLOOKUP(E417,$X$51:$Y$64,2),\"\")","v":20}]
[407,20219050119562,"2021-10-14","MODULO CONTACTENOS","SOLICITUD DE INFORMACIÓN Y DOCUMENTOS","SOLICITUD DE INFORMACIÓN HIDROMETEOROLÓGICA","GRUPO DE SERVICIO AL CIUDADANO ","2021-10-19","CORREO ELECTRÓNICO",{"$f":"IFERROR(WORKDAY(C418,P418,DiasNOLaborables),\"\")","v":"2021-11-16"},{"$f":"+IF(C418=\"\",\"\",IF(H418=\"\",\"SIN RESPUESTA\",(IF(H418<=J418,\"A TIEMPO\",\"FUERA DE TIEMPO\"))))","v":"A TIEMPO"},{"$f":"IF(H418=\"\",\"\",NETWORKDAYS(C418+1,H418,DiasNOLaborables))","v":2},{"$f":"IF(NETWORKDAYS(J418+1,H418,DiasNOLaborables)<=0,\"\",NETWORKDAYS(J418+1,H418,DiasNOLaborables))","v":""},null,null,{"$f":"IFERROR(VLOOKUP(E418,$X$51:$Y$64,2),\"\")","v":20}]
[408,20219050119592,"2021-10-14","MODULO CONTACTENOS","SOLICITUD DE INFORMACIÓN Y DOCUMENTOS","SOLICITUD DE INFORMACIÓN HIDROMETEOROLÓGICA","GRUPO DE SERVICIO AL CIUDADANO ","2021-10-19","CORREO ELECTRÓNICO",{"$f":"IFERROR(WORKDAY(C419,P419,DiasNOLaborables),\"\")","v":"2021-11-16"},{"$f":"+IF(C419=\"\",\"\",IF(H419=\"\",\"SIN RESPUESTA\",(IF(H419<=J419,\"A TIEMPO\",\"FUERA DE TIEMPO\"))))","v":"A TIEMPO"},{"$f":"IF(H419=\"\",\"\",NETWORKDAYS(C419+1,H419,DiasNOLaborables))","v":2},{"$f":"IF(NETWORKDAYS(J419+1,H419,DiasNOLaborables)<=0,\"\",NETWORKDAYS(J419+1,H419,DiasNOLaborables))","v":""},null,null,{"$f":"IFERROR(VLOOKUP(E419,$X$51:$Y$64,2),\"\")","v":20}]
[409,20219050119622,"2021-10-14","MODULO CONTACTENOS","SOLICITUD DE INFORMACIÓN Y DOCUMENTOS","SOLICITUD DE INFORMACIÓN HIDROMETEOROLÓGICA","GRUPO DE SERVICIO AL CIUDADANO ","2021-10-19","CORREO ELECTRÓNICO",{"$f":"IFERROR(WORKDAY(C420,P420,DiasNOLaborables),\"\")","v":"2021-11-16"},{"$f":"+IF(C420=\"\",\"\",IF(H420=\"\",\"SIN RESPUESTA\",(IF(H420<=J420,\"A TIEMPO\",\"FUERA DE TIEMPO\"))))","v":"A TIEMPO"},{"$f":"IF(H420=\"\",\"\",NETWORKDAYS(C420+1,H420,DiasNOLaborables))","v":2},{"$f":"IF(NETWORKDAYS(J420+1,H420,DiasNOLaborables)<=0,\"\",NETWORKDAYS(J420+1,H420,DiasNOLaborables))","v":""},null,null,{"$f":"IFERROR(VLOOKUP(E420,$X$51:$Y$64,2),\"\")","v":20}]
[410,20219050119642,"2021-10-14","MODULO CONTACTENOS","SOLICITUD DE INFORMACIÓN Y DOCUMENTOS","SOLICITUD DE INFORMACIÓN HIDROMETEOROLÓGICA","GRUPO DE SERVICIO AL CIUDADANO ","2021-10-19","CORREO ELECTRÓNICO",{"$f":"IFERROR(WORKDAY(C421,P421,DiasNOLaborables),\"\")","v":"2021-11-16"},{"$f":"+IF(C421=\"\",\"\",IF(H421=\"\",\"SIN RESPUESTA\",(IF(H421<=J421,\"A TIEMPO\",\"FUERA DE TIEMPO\"))))","v":"A TIEMPO"},{"$f":"IF(H421=\"\",\"\",NETWORKDAYS(C421+1,H421,DiasNOLaborables))","v":2},{"$f":"IF(NETWORKDAYS(J421+1,H421,DiasNOLaborables)<=0,\"\",NETWORKDAYS(J421+1,H421,DiasNOLaborables))","v":""},null,null,{"$f":"IFERROR(VLOOKUP(E421,$X$51:$Y$64,2),\"\")","v":20}]
[411,20219050119672,"2021-10-14","MODULO CONTACTENOS","SOLICITUD DE INFORMACIÓN Y DOCUMENTOS","SOLICITUD DE INFORMACIÓN HIDROMETEOROLÓGICA","GRUPO DE SERVICIO AL CIUDADANO ","2021-10-21","CORREO ELECTRÓNICO",{"$f":"IFERROR(WORKDAY(C422,P422,DiasNOLaborables),\"\")","v":"2021-11-16"},{"$f":"+IF(C422=\"\",\"\",IF(H422=\"\",\"SIN RESPUESTA\",(IF(H422<=J422,\"A TIEMPO\",\"FUERA DE TIEMPO\"))))","v":"A TIEMPO"},{"$f":"IF(H422=\"\",\"\",NETWORKDAYS(C422+1,H422,DiasNOLaborables))","v":4},{"$f":"IF(NETWORKDAYS(J422+1,H422,DiasNOLaborables)<=0,\"\",NETWORKDAYS(J422+1,H422,DiasNOLaborables))","v":""},null,null,{"$f":"IFERROR(VLOOKUP(E422,$X$51:$Y$64,2),\"\")","v":20}]
[412,20219050119742,"2021-10-14","MODULO CONTACTENOS","SOLICITUD DE INFORMACIÓN Y DOCUMENTOS","SOLICITUD DE INFORMACIÓN HIDROMETEOROLÓGICA","GRUPO DE SERVICIO AL CIUDADANO ","2021-10-21","CORREO ELECTRÓNICO",{"$f":"IFERROR(WORKDAY(C423,P423,DiasNOLaborables),\"\")","v":"2021-11-16"},{"$f":"+IF(C423=\"\",\"\",IF(H423=\"\",\"SIN RESPUESTA\",(IF(H423<=J423,\"A TIEMPO\",\"FUERA DE TIEMPO\"))))","v":"A TIEMPO"},{"$f":"IF(H423=\"\",\"\",NETWORKDAYS(C423+1,H423,DiasNOLaborables))","v":4},{"$f":"IF(NETWORKDAYS(J423+1,H423,DiasNOLaborables)<=0,\"\",NETWORKDAYS(J423+1,H423,DiasNOLaborables))","v":""},null,null,{"$f":"IFERROR(VLOOKUP(E423,$X$51:$Y$64,2),\"\")","v":20}]
[413,20219050119762,"2021-10-14","MODULO CONTACTENOS","SOLICITUD DE INFORMACIÓN Y DOCUMENTOS","SOLICITUD DE INFORMACIÓN HIDROMETEOROLÓGICA","GRUPO DE SERVICIO AL CIUDADANO ","2021-10-21","CORREO ELECTRÓNICO",{"$f":"IFERROR(WORKDAY(C424,P424,DiasNOLaborables),\"\")","v":"2021-11-16"},{"$f":"+IF(C424=\"\",\"\",IF(H424=\"\",\"SIN RESPUESTA\",(IF(H424<=J424,\"A TIEMPO\",\"FUERA DE TIEMPO\"))))","v":"A TIEMPO"},{"$f":"IF(H424=\"\",\"\",NETWORKDAYS(C424+1,H424,DiasNOLaborables))","v":4},{"$f":"IF(NETWORKDAYS(J424+1,H424,DiasNOLaborables)<=0,\"\",NETWORKDAYS(J424+1,H424,DiasNOLaborables))","v":""},null,null,{"$f":"IFERROR(VLOOKUP(E424,$X$51:$Y$64,2),\"\")","v":20}]
[414,20219050119832,"2021-10-14","MODULO CONTACTENOS","SOLICITUD DE INFORMACIÓN Y DOCUMENTOS","SOLICITUD DE INFORMACIÓN HIDROMETEOROLÓGICA","GRUPO DE SERVICIO AL CIUDADANO ","2021-10-21","CORREO ELECTRÓNICO",{"$f":"IFERROR(WORKDAY(C425,P425,DiasNOLaborables),\"\")","v":"2021-11-16"},{"$f":"+IF(C425=\"\",\"\",IF(H425=\"\",\"SIN RESPUESTA\",(IF(H425<=J425,\"A TIEMPO\",\"FUERA DE TIEMPO\"))))","v":"A TIEMPO"},{"$f":"IF(H425=\"\",\"\",NETWORKDAYS(C425+1,H425,DiasNOLaborables))","v":4},{"$f":"IF(NETWORKDAYS(J425+1,H425,DiasNOLaborables)<=0,\"\",NETWORKDAYS(J425+1,H425,DiasNOLaborables))","v":""},null,null,{"$f":"IFERROR(VLOOKUP(E425,$X$51:$Y$64,2),\"\")","v":20}]
[415,20219050119882,"2021-10-14","MODULO CONTACTENOS","SOLICITUD DE INFORMACIÓN Y DOCUMENTOS","SOLICITUD DE INFORMACIÓN HIDROMETEOROLÓGICA","GRUPO DE SERVICIO AL CIUDADANO ","2021-10-21","CORREO ELECTRÓNICO",{"$f":"IFERROR(WORKDAY(C426,P426,DiasNOLaborables),\"\")","v":"2021-11-16"},{"$f":"+IF(C426=\"\",\"\",IF(H426=\"\",\"SIN RESPUESTA\",(IF(H426<=J426,\"A TIEMPO\",\"FUERA DE TIEMPO\"))))","v":"A TIEMPO"},{"$f":"IF(H426=\"\",\"\",NETWORKDAYS(C426+1,H426,DiasNOLaborables))","v":4},{"$f":"IF(NETWORKDAYS(J426+1,H426,DiasNOLaborables)<=0,\"\",NETWORKDAYS(J426+1,H426,DiasNOLaborables))","v":""},null,null,{"$f":"IFERROR(VLOOKUP(E426,$X$51:$Y$64,2),\"\")","v":20}]
[416,20219050119902,"2021-10-14","MODULO CONTACTENOS","SOLICITUD DE INFORMACIÓN Y DOCUMENTOS","SOLICITUD DE INFORMACIÓN HIDROMETEOROLÓGICA","GRUPO DE SERVICIO AL CIUDADANO ","2021-10-21","CORREO ELECTRÓNICO",{"$f":"IFERROR(WORKDAY(C427,P427,DiasNOLaborables),\"\")","v":"2021-11-16"},{"$f":"+IF(C427=\"\",\"\",IF(H427=\"\",\"SIN RESPUESTA\",(IF(H427<=J427,\"A TIEMPO\",\"FUERA DE TIEMPO\"))))","v":"A TIEMPO"},{"$f":"IF(H427=\"\",\"\",NETWORKDAYS(C427+1,H427,DiasNOLaborables))","v":4},{"$f":"IF(NETWORKDAYS(J427+1,H427,DiasNOLaborables)<=0,\"\",NETWORKDAYS(J427+1,H427,DiasNOLaborables))","v":""},null,null,{"$f":"IFERROR(VLOOKUP(E427,$X$51:$Y$64,2),\"\")","v":20}]
[417,20219050119922,"2021-10-14","MODULO CONTACTENOS","SOLICITUD DE INFORMACIÓN Y DOCUMENTOS","SOLICITUD DE INFORMACIÓN HIDROMETEOROLÓGICA","GRUPO DE SERVICIO AL CIUDADANO ","2021-10-21","CORREO ELECTRÓNICO",{"$f":"IFERROR(WORKDAY(C428,P428,DiasNOLaborables),\"\")","v":"2021-11-16"},{"$f":"+IF(C428=\"\",\"\",IF(H428=\"\",\"SIN RESPUESTA\",(IF(H428<=J428,\"A TIEMPO\",\"FUERA DE TIEMPO\"))))","v":"A TIEMPO"},{"$f":"IF(H428=\"\",\"\",NETWORKDAYS(C428+1,H428,DiasNOLaborables))","v":4},{"$f":"IF(NETWORKDAYS(J428+1,H428,DiasNOLaborables)<=0,\"\",NETWORKDAYS(J428+1,H428,DiasNOLaborables))","v":""},null,null,{"$f":"IFERROR(VLOOKUP(E428,$X$51:$Y$64,2),\"\")","v":20}]
[418,20219050119942,"2021-10-14","MODULO CONTACTENOS","SOLICITUD DE INFORMACIÓN Y DOCUMENTOS","SOLICITUD DE INFORMACIÓN HIDROMETEOROLÓGICA","GRUPO DE SERVICIO AL CIUDADANO ","2021-10-21","CORREO ELECTRÓNICO",{"$f":"IFERROR(WORKDAY(C429,P429,DiasNOLaborables),\"\")","v":"2021-11-16"},{"$f":"+IF(C429=\"\",\"\",IF(H429=\"\",\"SIN RESPUESTA\",(IF(H429<=J429,\"A TIEMPO\",\"FUERA DE TIEMPO\"))))","v":"A TIEMPO"},{"$f":"IF(H429=\"\",\"\",NETWORKDAYS(C429+1,H429,DiasNOLaborables))","v":4},{"$f":"IF(NETWORKDAYS(J429+1,H429,DiasNOLaborables)<=0,\"\",NETWORKDAYS(J429+1,H429,DiasNOLaborables))","v":""},null,null,{"$f":"IFERROR(VLOOKUP(E429,$X$51:$Y$64,2),\"\")","v":20}]
[419,20219050119982,"2021-10-15","MODULO CONTACTENOS","SOLICITUD DE INFORMACIÓN Y DOCUMENTOS","SOLICITUD DE INFORMACIÓN HIDROMETEOROLÓGICA","GRUPO DE SERVICIO AL CIUDADANO ","2021-10-21","CORREO ELECTRÓNICO",{"$f":"IFERROR(WORKDAY(C430,P430,DiasNOLaborables),\"\")","v":"2021-11-17"},{"$f":"+IF(C430=\"\",\"\",IF(H430=\"\",\"SIN RESPUESTA\",(IF(H430<=J430,\"A TIEMPO\",\"FUERA DE TIEMPO\"))))","v":"A TIEMPO"},{"$f":"IF(H430=\"\",\"\",NETWORKDAYS(C430+1,H430,DiasNOLaborables))","v":3},{"$f":"IF(NETWORKDAYS(J430+1,H430,DiasNOLaborables)<=0,\"\",NETWORKDAYS(J430+1,H430,DiasNOLaborables))","v":""},null,null,{"$f":"IFERROR(VLOOKUP(E430,$X$51:$Y$64,2),\"\")","v":20}]
[420,20219050120222,"2021-10-15","MODULO CONTACTENOS","SOLICITUD DE INFORMACIÓN Y DOCUMENTOS","SOLICITUD DE INFORMACIÓN HIDROMETEOROLÓGICA","GRUPO DE SERVICIO AL CIUDADANO ","2021-10-21","CORREO ELECTRÓNICO",{"$f":"IFERROR(WORKDAY(C431,P431,DiasNOLaborables),\"\")","v":"2021-11-17"},{"$f":"+IF(C431=\"\",\"\",IF(H431=\"\",\"SIN RESPUESTA\",(IF(H431<=J431,\"A TIEMPO\",\"FUERA DE TIEMPO\"))))","v":"A TIEMPO"},{"$f":"IF(H431=\"\",\"\",NETWORKDAYS(C431+1,H431,DiasNOLaborables))","v":3},{"$f":"IF(NETWORKDAYS(J431+1,H431,DiasNOLaborables)<=0,\"\",NETWORKDAYS(J431+1,H431,DiasNOLaborables))","v":""},null,null,{"$f":"IFERROR(VLOOKUP(E431,$X$51:$Y$64,2),\"\")","v":20}]
[421,20219050120302,"2021-10-15","MODULO CONTACTENOS","SOLICITUD DE INFORMACIÓN Y DOCUMENTOS","SOLICITUD DE INFORMACIÓN HIDROMETEOROLÓGICA","GRUPO DE SERVICIO AL CIUDADANO ","2021-10-21","CORREO ELECTRÓNICO",{"$f":"IFERROR(WORKDAY(C432,P432,DiasNOLaborables),\"\")","v":"2021-11-17"},{"$f":"+IF(C432=\"\",\"\",IF(H432=\"\",\"SIN RESPUESTA\",(IF(H432<=J432,\"A TIEMPO\",\"FUERA DE TIEMPO\"))))","v":"A TIEMPO"},{"$f":"IF(H432=\"\",\"\",NETWORKDAYS(C432+1,H432,DiasNOLaborables))","v":3},{"$f":"IF(NETWORKDAYS(J432+1,H432,DiasNOLaborables)<=0,\"\",NETWORKDAYS(J432+1,H432,DiasNOLaborables))","v":""},null,null,{"$f":"IFERROR(VLOOKUP(E432,$X$51:$Y$64,2),\"\")","v":20}]
[422,20219050120312,"2021-10-15","MODULO CONTACTENOS","SOLICITUD DE INFORMACIÓN Y DOCUMENTOS","SOLICITUD DE INFORMACIÓN HIDROMETEOROLÓGICA","GRUPO DE SERVICIO AL CIUDADANO ","2021-10-21","CORREO ELECTRÓNICO",{"$f":"IFERROR(WORKDAY(C433,P433,DiasNOLaborables),\"\")","v":"2021-11-17"},{"$f":"+IF(C433=\"\",\"\",IF(H433=\"\",\"SIN RESPUESTA\",(IF(H433<=J433,\"A TIEMPO\",\"FUERA DE TIEMPO\"))))","v":"A TIEMPO"},{"$f":"IF(H433=\"\",\"\",NETWORKDAYS(C433+1,H433,DiasNOLaborables))","v":3},{"$f":"IF(NETWORKDAYS(J433+1,H433,DiasNOLaborables)<=0,\"\",NETWORKDAYS(J433+1,H433,DiasNOLaborables))","v":""},null,null,{"$f":"IFERROR(VLOOKUP(E433,$X$51:$Y$64,2),\"\")","v":20}]
[423,20219050120522,"2021-10-15","MODULO CONTACTENOS","SOLICITUD DE INFORMACIÓN Y DOCUMENTOS","SOLICITUD DE INFORMACIÓN HIDROMETEOROLÓGICA","GRUPO DE SERVICIO AL CIUDADANO ","2021-10-21","CORREO ELECTRÓNICO",{"$f":"IFERROR(WORKDAY(C434,P434,DiasNOLaborables),\"\")","v":"2021-11-17"},{"$f":"+IF(C434=\"\",\"\",IF(H434=\"\",\"SIN RESPUESTA\",(IF(H434<=J434,\"A TIEMPO\",\"FUERA DE TIEMPO\"))))","v":"A TIEMPO"},{"$f":"IF(H434=\"\",\"\",NETWORKDAYS(C434+1,H434,DiasNOLaborables))","v":3},{"$f":"IF(NETWORKDAYS(J434+1,H434,DiasNOLaborables)<=0,\"\",NETWORKDAYS(J434+1,H434,DiasNOLaborables))","v":""},null,null,{"$f":"IFERROR(VLOOKUP(E434,$X$51:$Y$64,2),\"\")","v":20}]
[424,20219050120502,"2021-10-15","MODULO CONTACTENOS","SOLICITUD DE INFORMACIÓN Y DOCUMENTOS","SOLICITUD DE INFORMACIÓN HIDROMETEOROLÓGICA","GRUPO DE SERVICIO AL CIUDADANO ","2021-10-21","CORREO ELECTRÓNICO",{"$f":"IFERROR(WORKDAY(C435,P435,DiasNOLaborables),\"\")","v":"2021-11-17"},{"$f":"+IF(C435=\"\",\"\",IF(H435=\"\",\"SIN RESPUESTA\",(IF(H435<=J435,\"A TIEMPO\",\"FUERA DE TIEMPO\"))))","v":"A TIEMPO"},{"$f":"IF(H435=\"\",\"\",NETWORKDAYS(C435+1,H435,DiasNOLaborables))","v":3},{"$f":"IF(NETWORKDAYS(J435+1,H435,DiasNOLaborables)<=0,\"\",NETWORKDAYS(J435+1,H435,DiasNOLaborables))","v":""},null,null,{"$f":"IFERROR(VLOOKUP(E435,$X$51:$Y$64,2),\"\")","v":20}]
[425,20219050120512,"2021-10-15","MODULO CONTACTENOS","SOLICITUD DE INFORMACIÓN Y DOCUMENTOS","SOLICITUD DE INFORMACIÓN HIDROMETEOROLÓGICA","GRUPO DE SERVICIO AL CIUDADANO ","2021-10-21","CORREO ELECTRÓNICO",{"$f":"IFERROR(WORKDAY(C436,P436,DiasNOLaborables),\"\")","v":"2021-11-17"},{"$f":"+IF(C436=\"\",\"\",IF(H436=\"\",\"SIN RESPUESTA\",(IF(H436<=J436,\"A TIEMPO\",\"FUERA DE TIEMPO\"))))","v":"A TIEMPO"},{"$f":"IF(H436=\"\",\"\",NETWORKDAYS(C436+1,H436,DiasNOLaborables))","v":3},{"$f":"IF(NETWORKDAYS(J436+1,H436,DiasNOLaborables)<=0,\"\",NETWORKDAYS(J436+1,H436,DiasNOLaborables))","v":""},null,null,{"$f":"IFERROR(VLOOKUP(E436,$X$51:$Y$64,2),\"\")","v":20}]
[426,20219050120612,"2021-10-15","MODULO CONTACTENOS","SOLICITUD DE INFORMACIÓN Y DOCUMENTOS","SOLICITUD DE INFORMACIÓN HIDROMETEOROLÓGICA","GRUPO DE SERVICIO AL CIUDADANO ","2021-10-21","CORREO ELECTRÓNICO",{"$f":"IFERROR(WORKDAY(C437,P437,DiasNOLaborables),\"\")","v":"2021-11-17"},{"$f":"+IF(C437=\"\",\"\",IF(H437=\"\",\"SIN RESPUESTA\",(IF(H437<=J437,\"A TIEMPO\",\"FUERA DE TIEMPO\"))))","v":"A TIEMPO"},{"$f":"IF(H437=\"\",\"\",NETWORKDAYS(C437+1,H437,DiasNOLaborables))","v":3},{"$f":"IF(NETWORKDAYS(J437+1,H437,DiasNOLaborables)<=0,\"\",NETWORKDAYS(J437+1,H437,DiasNOLaborables))","v":""},null,null,{"$f":"IFERROR(VLOOKUP(E437,$X$51:$Y$64,2),\"\")","v":20}]
[427,20219050119972,"2021-10-15","MODULO CONTACTENOS","SOLICITUD DE INFORMACIÓN Y DOCUMENTOS","SOLICITUD DE INFORMACIÓN HIDROMETEOROLÓGICA","GRUPO DE SERVICIO AL CIUDADANO ","2021-10-21","CORREO ELECTRÓNICO",{"$f":"IFERROR(WORKDAY(C438,P438,DiasNOLaborables),\"\")","v":"2021-11-17"},{"$f":"+IF(C438=\"\",\"\",IF(H438=\"\",\"SIN RESPUESTA\",(IF(H438<=J438,\"A TIEMPO\",\"FUERA DE TIEMPO\"))))","v":"A TIEMPO"},{"$f":"IF(H438=\"\",\"\",NETWORKDAYS(C438+1,H438,DiasNOLaborables))","v":3},{"$f":"IF(NETWORKDAYS(J438+1,H438,DiasNOLaborables)<=0,\"\",NETWORKDAYS(J438+1,H438,DiasNOLaborables))","v":""},null,null,{"$f":"IFERROR(VLOOKUP(E438,$X$51:$Y$64,2),\"\")","v":20}]
[428,20219050120062,"2021-10-15","MODULO CONTACTENOS","SOLICITUD DE INFORMACIÓN Y DOCUMENTOS","SOLICITUD DE INFORMACIÓN HIDROMETEOROLÓGICA","GRUPO DE SERVICIO AL CIUDADANO ","2021-10-21","CORREO ELECTRÓNICO",{"$f":"IFERROR(WORKDAY(C439,P439,DiasNOLaborables),\"\")","v":"2021-11-17"},{"$f":"+IF(C439=\"\",\"\",IF(H439=\"\",\"SIN RESPUESTA\",(IF(H439<=J439,\"A TIEMPO\",\"FUERA DE TIEMPO\"))))","v":"A TIEMPO"},{"$f":"IF(H439=\"\",\"\",NETWORKDAYS(C439+1,H439,DiasNOLaborables))","v":3},{"$f":"IF(NETWORKDAYS(J439+1,H439,DiasNOLaborables)<=0,\"\",NETWORKDAYS(J439+1,H439,DiasNOLaborables))","v":""},null,null,{"$f":"IFERROR(VLOOKUP(E439,$X$51:$Y$64,2),\"\")","v":20}]
[429,20219050120202,"2021-10-15","MODULO CONTACTENOS","SOLICITUD DE INFORMACIÓN Y DOCUMENTOS","SOLICITUD DE INFORMACIÓN HIDROMETEOROLÓGICA","GRUPO DE SERVICIO AL CIUDADANO ","2021-10-21","CORREO ELECTRÓNICO",{"$f":"IFERROR(WORKDAY(C440,P440,DiasNOLaborables),\"\")","v":"2021-11-17"},{"$f":"+IF(C440=\"\",\"\",IF(H440=\"\",\"SIN RESPUESTA\",(IF(H440<=J440,\"A TIEMPO\",\"FUERA DE TIEMPO\"))))","v":"A TIEMPO"},{"$f":"IF(H440=\"\",\"\",NETWORKDAYS(C440+1,H440,DiasNOLaborables))","v":3},{"$f":"IF(NETWORKDAYS(J440+1,H440,DiasNOLaborables)<=0,\"\",NETWORKDAYS(J440+1,H440,DiasNOLaborables))","v":""},null,null,{"$f":"IFERROR(VLOOKUP(E440,$X$51:$Y$64,2),\"\")","v":20}]
[430,20219050120242,"2021-10-15","MODULO CONTACTENOS","SOLICITUD DE INFORMACIÓN Y DOCUMENTOS","SOLICITUD DE INFORMACIÓN HIDROMETEOROLÓGICA","GRUPO DE SERVICIO AL CIUDADANO ","2021-10-21","CORREO ELECTRÓNICO",{"$f":"IFERROR(WORKDAY(C441,P441,DiasNOLaborables),\"\")","v":"2021-11-17"},{"$f":"+IF(C441=\"\",\"\",IF(H441=\"\",\"SIN RESPUESTA\",(IF(H441<=J441,\"A TIEMPO\",\"FUERA DE TIEMPO\"))))","v":"A TIEMPO"},{"$f":"IF(H441=\"\",\"\",NETWORKDAYS(C441+1,H441,DiasNOLaborables))","v":3},{"$f":"IF(NETWORKDAYS(J441+1,H441,DiasNOLaborables)<=0,\"\",NETWORKDAYS(J441+1,H441,DiasNOLaborables))","v":""},null,null,{"$f":"IFERROR(VLOOKUP(E441,$X$51:$Y$64,2),\"\")","v":20}]
[431,20219050120372,"2021-10-15","MODULO CONTACTENOS","SOLICITUD DE INFORMACIÓN Y DOCUMENTOS","SOLICITUD DE INFORMACIÓN HIDROMETEOROLÓGICA","GRUPO DE SERVICIO AL CIUDADANO ","2021-10-21","CORREO ELECTRÓNICO",{"$f":"IFERROR(WORKDAY(C442,P442,DiasNOLaborables),\"\")","v":"2021-11-17"},{"$f":"+IF(C442=\"\",\"\",IF(H442=\"\",\"SIN RESPUESTA\",(IF(H442<=J442,\"A TIEMPO\",\"FUERA DE TIEMPO\"))))","v":"A TIEMPO"},{"$f":"IF(H442=\"\",\"\",NETWORKDAYS(C442+1,H442,DiasNOLaborables))","v":3},{"$f":"IF(NETWORKDAYS(J442+1,H442,DiasNOLaborables)<=0,\"\",NETWORKDAYS(J442+1,H442,DiasNOLaborables))","v":""},null,null,{"$f":"IFERROR(VLOOKUP(E442,$X$51:$Y$64,2),\"\")","v":20}]
[432,20219050120442,"2021-10-15","MODULO CONTACTENOS","SOLICITUD DE INFORMACIÓN Y DOCUMENTOS","SOLICITUD DE INFORMACIÓN HIDROMETEOROLÓGICA","GRUPO DE SERVICIO AL CIUDADANO ","2021-10-21","CORREO ELECTRÓNICO",{"$f":"IFERROR(WORKDAY(C443,P443,DiasNOLaborables),\"\")","v":"2021-11-17"},{"$f":"+IF(C443=\"\",\"\",IF(H443=\"\",\"SIN RESPUESTA\",(IF(H443<=J443,\"A TIEMPO\",\"FUERA DE TIEMPO\"))))","v":"A TIEMPO"},{"$f":"IF(H443=\"\",\"\",NETWORKDAYS(C443+1,H443,DiasNOLaborables))","v":3},{"$f":"IF(NETWORKDAYS(J443+1,H443,DiasNOLaborables)<=0,\"\",NETWORKDAYS(J443+1,H443,DiasNOLaborables))","v":""},null,null,{"$f":"IFERROR(VLOOKUP(E443,$X$51:$Y$64,2),\"\")","v":20}]
[433,20219050120562,"2021-10-15","MODULO CONTACTENOS","SOLICITUD DE INFORMACIÓN Y DOCUMENTOS","SOLICITUD DE INFORMACIÓN HIDROMETEOROLÓGICA","GRUPO DE SERVICIO AL CIUDADANO ","2021-10-21","CORREO ELECTRÓNICO",{"$f":"IFERROR(WORKDAY(C444,P444,DiasNOLaborables),\"\")","v":"2021-11-17"},{"$f":"+IF(C444=\"\",\"\",IF(H444=\"\",\"SIN RESPUESTA\",(IF(H444<=J444,\"A TIEMPO\",\"FUERA DE TIEMPO\"))))","v":"A TIEMPO"},{"$f":"IF(H444=\"\",\"\",NETWORKDAYS(C444+1,H444,DiasNOLaborables))","v":3},{"$f":"IF(NETWORKDAYS(J444+1,H444,DiasNOLaborables)<=0,\"\",NETWORKDAYS(J444+1,H444,DiasNOLaborables))","v":""},null,null,{"$f":"IFERROR(VLOOKUP(E444,$X$51:$Y$64,2),\"\")","v":20}]
[434,20219050120582,"2021-10-15","MODULO CONTACTENOS","SOLICITUD DE INFORMACIÓN Y DOCUMENTOS","SOLICITUD DE INFORMACIÓN HIDROMETEOROLÓGICA","GRUPO DE SERVICIO AL CIUDADANO ","2021-10-21","CORREO ELECTRÓNICO",{"$f":"IFERROR(WORKDAY(C445,P445,DiasNOLaborables),\"\")","v":"2021-11-17"},{"$f":"+IF(C445=\"\",\"\",IF(H445=\"\",\"SIN RESPUESTA\",(IF(H445<=J445,\"A TIEMPO\",\"FUERA DE TIEMPO\"))))","v":"A TIEMPO"},{"$f":"IF(H445=\"\",\"\",NETWORKDAYS(C445+1,H445,DiasNOLaborables))","v":3},{"$f":"IF(NETWORKDAYS(J445+1,H445,DiasNOLaborables)<=0,\"\",NETWORKDAYS(J445+1,H445,DiasNOLaborables))","v":""},null,null,{"$f":"IFERROR(VLOOKUP(E445,$X$51:$Y$64,2),\"\")","v":20}]
[435,20217040000532,"2021-10-15","CORREO CERTIFICADO","PETICIÓN","OPERACIÓN DE REDES","SUBDIRECCIÓN DE HIDROLOGÍA","2021-11-19","CORREO ELECTRÓNICO",{"$f":"IFERROR(WORKDAY(C446,P446,DiasNOLaborables),\"\")","v":"2021-12-01"},{"$f":"+IF(C446=\"\",\"\",IF(H446=\"\",\"SIN RESPUESTA\",(IF(H446<=J446,\"A TIEMPO\",\"FUERA DE TIEMPO\"))))","v":"A TIEMPO"},{"$f":"IF(H446=\"\",\"\",NETWORKDAYS(C446+1,H446,DiasNOLaborables))","v":22},{"$f":"IF(NETWORKDAYS(J446+1,H446,DiasNOLaborables)<=0,\"\",NETWORKDAYS(J446+1,H446,DiasNOLaborables))","v":""},null,null,{"$f":"IFERROR(VLOOKUP(E446,$X$51:$Y$64,2),\"\")","v":30}]
[436,20219050120052,"2021-10-15","MODULO CONTACTENOS","SOLICITUD DE INFORMACIÓN Y DOCUMENTOS","CLIMATOLOGÍA","OFICINA DEL SERVICIO DE PRONÓSTICOS Y ALERTAS","2021-11-04","CORREO ELECTRÓNICO",{"$f":"IFERROR(WORKDAY(C447,P447,DiasNOLaborables),\"\")","v":"2021-11-17"},{"$f":"+IF(C447=\"\",\"\",IF(H447=\"\",\"SIN RESPUESTA\",(IF(H447<=J447,\"A TIEMPO\",\"FUERA DE TIEMPO\"))))","v":"A TIEMPO"},{"$f":"IF(H447=\"\",\"\",NETWORKDAYS(C447+1,H447,DiasNOLaborables))","v":12},{"$f":"IF(NETWORKDAYS(J447+1,H447,DiasNOLaborables)<=0,\"\",NETWORKDAYS(J447+1,H447,DiasNOLaborables))","v":""},null,null,{"$f":"IFERROR(VLOOKUP(E447,$X$51:$Y$64,2),\"\")","v":20}]
[437,20219050120082,"2021-10-15","MODULO CONTACTENOS","SOLICITUD DE INFORMACIÓN Y DOCUMENTOS","REGISTROS AMBIENTALES","SUBDIRECCIÓN DE ESTUDIOS AMBIENTALES","2021-10-20","CORREO ELECTRÓNICO",{"$f":"IFERROR(WORKDAY(C448,P448,DiasNOLaborables),\"\")","v":"2021-11-17"},{"$f":"+IF(C448=\"\",\"\",IF(H448=\"\",\"SIN RESPUESTA\",(IF(H448<=J448,\"A TIEMPO\",\"FUERA DE TIEMPO\"))))","v":"A TIEMPO"},{"$f":"IF(H448=\"\",\"\",NETWORKDAYS(C448+1,H448,DiasNOLaborables))","v":2},{"$f":"IF(NETWORKDAYS(J448+1,H448,DiasNOLaborables)<=0,\"\",NETWORKDAYS(J448+1,H448,DiasNOLaborables))","v":""},null,null,{"$f":"IFERROR(VLOOKUP(E448,$X$51:$Y$64,2),\"\")","v":20}]
[438,20219050120162,"2021-10-15","MODULO CONTACTENOS","SOLICITUD DE INFORMACIÓN Y DOCUMENTOS","CLIMATOLOGÍA","SUBDIRECCIÓN DE METEOROLOGÍA","2021-11-04","CORREO ELECTRÓNICO",{"$f":"IFERROR(WORKDAY(C449,P449,DiasNOLaborables),\"\")","v":"2021-11-17"},{"$f":"+IF(C449=\"\",\"\",IF(H449=\"\",\"SIN RESPUESTA\",(IF(H449<=J449,\"A TIEMPO\",\"FUERA DE TIEMPO\"))))","v":"A TIEMPO"},{"$f":"IF(H449=\"\",\"\",NETWORKDAYS(C449+1,H449,DiasNOLaborables))","v":12},{"$f":"IF(NETWORKDAYS(J449+1,H449,DiasNOLaborables)<=0,\"\",NETWORKDAYS(J449+1,H449,DiasNOLaborables))","v":""},null,null,{"$f":"IFERROR(VLOOKUP(E449,$X$51:$Y$64,2),\"\")","v":20}]
[439,20219050120192,"2021-10-15","MODULO CONTACTENOS","SOLICITUD DE INFORMACIÓN Y DOCUMENTOS","ADMINISTRATIVA","GRUPO DE ADMINISTRACIÓN Y DESARROLLO DEL TALENTO HUMANO","2021-10-19","CORREO ELECTRÓNICO",{"$f":"IFERROR(WORKDAY(C450,P450,DiasNOLaborables),\"\")","v":"2021-11-17"},{"$f":"+IF(C450=\"\",\"\",IF(H450=\"\",\"SIN RESPUESTA\",(IF(H450<=J450,\"A TIEMPO\",\"FUERA DE TIEMPO\"))))","v":"A TIEMPO"},{"$f":"IF(H450=\"\",\"\",NETWORKDAYS(C450+1,H450,DiasNOLaborables))","v":1},{"$f":"IF(NETWORKDAYS(J450+1,H450,DiasNOLaborables)<=0,\"\",NETWORKDAYS(J450+1,H450,DiasNOLaborables))","v":""},null,null,{"$f":"IFERROR(VLOOKUP(E450,$X$51:$Y$64,2),\"\")","v":20}]
[440,20219050120212,"2021-10-15","MODULO CONTACTENOS","SOLICITUD DE INFORMACIÓN Y DOCUMENTOS","ADMINISTRATIVA","GRUPO DE ADMINISTRACIÓN Y DESARROLLO DEL TALENTO HUMANO","2021-10-19","CORREO ELECTRÓNICO",{"$f":"IFERROR(WORKDAY(C451,P451,DiasNOLaborables),\"\")","v":"2021-11-17"},{"$f":"+IF(C451=\"\",\"\",IF(H451=\"\",\"SIN RESPUESTA\",(IF(H451<=J451,\"A TIEMPO\",\"FUERA DE TIEMPO\"))))","v":"A TIEMPO"},{"$f":"IF(H451=\"\",\"\",NETWORKDAYS(C451+1,H451,DiasNOLaborables))","v":1},{"$f":"IF(NETWORKDAYS(J451+1,H451,DiasNOLaborables)<=0,\"\",NETWORKDAYS(J451+1,H451,DiasNOLaborables))","v":""},null,null,{"$f":"IFERROR(VLOOKUP(E451,$X$51:$Y$64,2),\"\")","v":20}]
[441,20219050120232,"2021-10-15","MODULO CONTACTENOS","SOLICITUD DE INFORMACIÓN Y DOCUMENTOS","ADMINISTRATIVA","GRUPO DE ADMINISTRACIÓN Y DESARROLLO DEL TALENTO HUMANO","2021-10-21","CORREO ELECTRÓNICO",{"$f":"IFERROR(WORKDAY(C452,P452,DiasNOLaborables),\"\")","v":"2021-11-17"},{"$f":"+IF(C452=\"\",\"\",IF(H452=\"\",\"SIN RESPUESTA\",(IF(H452<=J452,\"A TIEMPO\",\"FUERA DE TIEMPO\"))))","v":"A TIEMPO"},{"$f":"IF(H452=\"\",\"\",NETWORKDAYS(C452+1,H452,DiasNOLaborables))","v":3},{"$f":"IF(NETWORKDAYS(J452+1,H452,DiasNOLaborables)<=0,\"\",NETWORKDAYS(J452+1,H452,DiasNOLaborables))","v":""},null,null,{"$f":"IFERROR(VLOOKUP(E452,$X$51:$Y$64,2),\"\")","v":20}]
[442,20219050120262,"2021-10-15","MODULO CONTACTENOS","SOLICITUD DE INFORMACIÓN Y DOCUMENTOS","ADMINISTRATIVA","GRUPO DE ADMINISTRACIÓN Y DESARROLLO DEL TALENTO HUMANO","2021-10-29","CORREO ELECTRÓNICO",{"$f":"IFERROR(WORKDAY(C453,P453,DiasNOLaborables),\"\")","v":"2021-11-17"},{"$f":"+IF(C453=\"\",\"\",IF(H453=\"\",\"SIN RESPUESTA\",(IF(H453<=J453,\"A TIEMPO\",\"FUERA DE TIEMPO\"))))","v":"A TIEMPO"},{"$f":"IF(H453=\"\",\"\",NETWORKDAYS(C453+1,H453,DiasNOLaborables))","v":9},{"$f":"IF(NETWORKDAYS(J453+1,H453,DiasNOLaborables)<=0,\"\",NETWORKDAYS(J453+1,H453,DiasNOLaborables))","v":""},null,null,{"$f":"IFERROR(VLOOKUP(E453,$X$51:$Y$64,2),\"\")","v":20}]
[443,20219050120282,"2021-10-15","MODULO CONTACTENOS","CERTIFICACIONES DE TIEMPO, CLIMA Y EVENTOS HIDROLÓGICOS","CERTIFICACIONES DE TIEMPO Y CLIMA","SUBDIRECCIÓN DE METEOROLOGÍA","2021-11-05","CORREO ELECTRÓNICO",{"$f":"IFERROR(WORKDAY(C454,P454,DiasNOLaborables),\"\")","v":"2021-12-09"},{"$f":"+IF(C454=\"\",\"\",IF(H454=\"\",\"SIN RESPUESTA\",(IF(H454<=J454,\"A TIEMPO\",\"FUERA DE TIEMPO\"))))","v":"A TIEMPO"},{"$f":"IF(H454=\"\",\"\",NETWORKDAYS(C454+1,H454,DiasNOLaborables))","v":13},{"$f":"IF(NETWORKDAYS(J454+1,H454,DiasNOLaborables)<=0,\"\",NETWORKDAYS(J454+1,H454,DiasNOLaborables))","v":""},null,null,{"$f":"IFERROR(VLOOKUP(E454,$X$51:$Y$64,2),\"\")","v":35}]
[444,20219050120292,"2021-10-15","MODULO CONTACTENOS","CERTIFICACIONES DE TIEMPO, CLIMA Y EVENTOS HIDROLÓGICOS","CERTIFICACIONES DE TIEMPO Y CLIMA","SUBDIRECCIÓN DE METEOROLOGÍA","2021-11-05","CORREO ELECTRÓNICO",{"$f":"IFERROR(WORKDAY(C455,P455,DiasNOLaborables),\"\")","v":"2021-12-09"},{"$f":"+IF(C455=\"\",\"\",IF(H455=\"\",\"SIN RESPUESTA\",(IF(H455<=J455,\"A TIEMPO\",\"FUERA DE TIEMPO\"))))","v":"A TIEMPO"},{"$f":"IF(H455=\"\",\"\",NETWORKDAYS(C455+1,H455,DiasNOLaborables))","v":13},{"$f":"IF(NETWORKDAYS(J455+1,H455,DiasNOLaborables)<=0,\"\",NETWORKDAYS(J455+1,H455,DiasNOLaborables))","v":""},null,null,{"$f":"IFERROR(VLOOKUP(E455,$X$51:$Y$64,2),\"\")","v":35}]
[445,20219050119952,"2021-10-15","CORREO ELECTRÓNICO","SOLICITUD DE INFORMACIÓN Y DOCUMENTOS","INFORMES AMBIENTALES","SUBDIRECCIÓN DE HIDROLOGÍA","2021-11-09","CORREO ELECTRÓNICO",{"$f":"IFERROR(WORKDAY(C456,P456,DiasNOLaborables),\"\")","v":"2021-11-17"},{"$f":"+IF(C456=\"\",\"\",IF(H456=\"\",\"SIN RESPUESTA\",(IF(H456<=J456,\"A TIEMPO\",\"FUERA DE TIEMPO\"))))","v":"A TIEMPO"},{"$f":"IF(H456=\"\",\"\",NETWORKDAYS(C456+1,H456,DiasNOLaborables))","v":15},{"$f":"IF(NETWORKDAYS(J456+1,H456,DiasNOLaborables)<=0,\"\",NETWORKDAYS(J456+1,H456,DiasNOLaborables))","v":""},null,null,{"$f":"IFERROR(VLOOKUP(E456,$X$51:$Y$64,2),\"\")","v":20}]
[446,20219050119962,"2021-10-15","CORREO ELECTRÓNICO","PETICIÓN","INFORMES AMBIENTALES","SUBDIRECCIÓN DE HIDROLOGÍA","2021-11-19","CORREO ELECTRÓNICO",{"$f":"IFERROR(WORKDAY(C457,P457,DiasNOLaborables),\"\")","v":"2021-12-01"},{"$f":"+IF(C457=\"\",\"\",IF(H457=\"\",\"SIN RESPUESTA\",(IF(H457<=J457,\"A TIEMPO\",\"FUERA DE TIEMPO\"))))","v":"A TIEMPO"},{"$f":"IF(H457=\"\",\"\",NETWORKDAYS(C457+1,H457,DiasNOLaborables))","v":22},{"$f":"IF(NETWORKDAYS(J457+1,H457,DiasNOLaborables)<=0,\"\",NETWORKDAYS(J457+1,H457,DiasNOLaborables))","v":""},null,null,{"$f":"IFERROR(VLOOKUP(E457,$X$51:$Y$64,2),\"\")","v":30}]
[447,20219910055462,"2021-10-15","CORREO ELECTRÓNICO","SOLICITUD DE INFORMACIÓN Y DOCUMENTOS","SIRH","SUBDIRECCIÓN DE HIDROLOGÍA","2021-10-27","CORREO ELECTRÓNICO",{"$f":"IFERROR(WORKDAY(C458,P458,DiasNOLaborables),\"\")","v":"2021-11-17"},{"$f":"+IF(C458=\"\",\"\",IF(H458=\"\",\"SIN RESPUESTA\",(IF(H458<=J458,\"A TIEMPO\",\"FUERA DE TIEMPO\"))))","v":"A TIEMPO"},{"$f":"IF(H458=\"\",\"\",NETWORKDAYS(C458+1,H458,DiasNOLaborables))","v":7},{"$f":"IF(NETWORKDAYS(J458+1,H458,DiasNOLaborables)<=0,\"\",NETWORKDAYS(J458+1,H458,DiasNOLaborables))","v":""},null,null,{"$f":"IFERROR(VLOOKUP(E458,$X$51:$Y$64,2),\"\")","v":20}]
[448,20219050120332,"2021-10-15","CORREO ELECTRÓNICO","SOLICITUD DE INFORMACIÓN Y DOCUMENTOS","INFORMES AMBIENTALES","SUBDIRECCIÓN DE ESTUDIOS AMBIENTALES","2021-10-27","CORREO ELECTRÓNICO",{"$f":"IFERROR(WORKDAY(C459,P459,DiasNOLaborables),\"\")","v":"2021-11-17"},{"$f":"+IF(C459=\"\",\"\",IF(H459=\"\",\"SIN RESPUESTA\",(IF(H459<=J459,\"A TIEMPO\",\"FUERA DE TIEMPO\"))))","v":"A TIEMPO"},{"$f":"IF(H459=\"\",\"\",NETWORKDAYS(C459+1,H459,DiasNOLaborables))","v":7},{"$f":"IF(NETWORKDAYS(J459+1,H459,DiasNOLaborables)<=0,\"\",NETWORKDAYS(J459+1,H459,DiasNOLaborables))","v":""},null,null,{"$f":"IFERROR(VLOOKUP(E459,$X$51:$Y$64,2),\"\")","v":20}]
[449,20219050120432,"2021-10-15","CORREO ELECTRÓNICO","SOLICITUD DE INFORMACIÓN Y DOCUMENTOS","INFORMES AMBIENTALES","SUBDIRECCIÓN DE HIDROLOGÍA","2021-10-29","CORREO ELECTRÓNICO",{"$f":"IFERROR(WORKDAY(C460,P460,DiasNOLaborables),\"\")","v":"2021-11-17"},{"$f":"+IF(C460=\"\",\"\",IF(H460=\"\",\"SIN RESPUESTA\",(IF(H460<=J460,\"A TIEMPO\",\"FUERA DE TIEMPO\"))))","v":"A TIEMPO"},{"$f":"IF(H460=\"\",\"\",NETWORKDAYS(C460+1,H460,DiasNOLaborables))","v":9},{"$f":"IF(NETWORKDAYS(J460+1,H460,DiasNOLaborables)<=0,\"\",NETWORKDAYS(J460+1,H460,DiasNOLaborables))","v":""},null,null,{"$f":"IFERROR(VLOOKUP(E460,$X$51:$Y$64,2),\"\")","v":20}]
[450,20219050120462,"2021-10-15","CORREO ELECTRÓNICO","SOLICITUD DE INFORMACIÓN Y DOCUMENTOS","ACREDITACIÓN DE LABORATORIOS","SUBDIRECCIÓN DE ESTUDIOS AMBIENTALES","2021-10-25","CORREO ELECTRÓNICO",{"$f":"IFERROR(WORKDAY(C461,P461,DiasNOLaborables),\"\")","v":"2021-11-17"},{"$f":"+IF(C461=\"\",\"\",IF(H461=\"\",\"SIN RESPUESTA\",(IF(H461<=J461,\"A TIEMPO\",\"FUERA DE TIEMPO\"))))","v":"A TIEMPO"},{"$f":"IF(H461=\"\",\"\",NETWORKDAYS(C461+1,H461,DiasNOLaborables))","v":5},{"$f":"IF(NETWORKDAYS(J461+1,H461,DiasNOLaborables)<=0,\"\",NETWORKDAYS(J461+1,H461,DiasNOLaborables))","v":""},null,null,{"$f":"IFERROR(VLOOKUP(E461,$X$51:$Y$64,2),\"\")","v":20}]
[{"$f":"IF(B462<>\"\",A461+1,\"\")","v":451},20219050119992,"2021-10-15","CORREO ELECTRÓNICO","CERTIFICACIONES DE TIEMPO, CLIMA Y EVENTOS HIDROLÓGICOS","CERTIFICACIONES DE TIEMPO Y CLIMA","SUBDIRECCIÓN DE HIDROLOGÍA","2021-10-26","CORREO ELECTRÓNICO",{"$f":"IFERROR(WORKDAY(C462,P462,DiasNOLaborables),\"\")","v":"2021-12-09"},{"$f":"+IF(C462=\"\",\"\",IF(H462=\"\",\"SIN RESPUESTA\",(IF(H462<=J462,\"A TIEMPO\",\"FUERA DE TIEMPO\"))))","v":"A TIEMPO"},{"$f":"IF(H462=\"\",\"\",NETWORKDAYS(C462+1,H462,DiasNOLaborables))","v":6},{"$f":"IF(NETWORKDAYS(J462+1,H462,DiasNOLaborables)<=0,\"\",NETWORKDAYS(J462+1,H462,DiasNOLaborables))","v":""},null,null,{"$f":"IFERROR(VLOOKUP(E462,$X$51:$Y$64,2),\"\")","v":35}]
[452,20219050120002,"2021-10-15","CORREO ELECTRÓNICO","PETICIÓN","INFORMES AMBIENTALES","SUBDIRECCIÓN DE HIDROLOGÍA","2021-11-19","CORREO ELECTRÓNICO",{"$f":"IFERROR(WORKDAY(C463,P463,DiasNOLaborables),\"\")","v":"2021-12-01"},{"$f":"+IF(C463=\"\",\"\",IF(H463=\"\",\"SIN RESPUESTA\",(IF(H463<=J463,\"A TIEMPO\",\"FUERA DE TIEMPO\"))))","v":"A TIEMPO"},{"$f":"IF(H463=\"\",\"\",NETWORKDAYS(C463+1,H463,DiasNOLaborables))","v":22},{"$f":"IF(NETWORKDAYS(J463+1,H463,DiasNOLaborables)<=0,\"\",NETWORKDAYS(J463+1,H463,DiasNOLaborables))","v":""},null,null,{"$f":"IFERROR(VLOOKUP(E463,$X$51:$Y$64,2),\"\")","v":30}]
[453,20219050120032,"2021-10-15","CORREO ELECTRÓNICO","SOLICITUD DE INFORMACIÓN Y DOCUMENTOS","REGISTROS AMBIENTALES","SUBDIRECCIÓN DE ESTUDIOS AMBIENTALES","2021-10-21","CORREO ELECTRÓNICO",{"$f":"IFERROR(WORKDAY(C464,P464,DiasNOLaborables),\"\")","v":"2021-11-17"},{"$f":"+IF(C464=\"\",\"\",IF(H464=\"\",\"SIN RESPUESTA\",(IF(H464<=J464,\"A TIEMPO\",\"FUERA DE TIEMPO\"))))","v":"A TIEMPO"},{"$f":"IF(H464=\"\",\"\",NETWORKDAYS(C464+1,H464,DiasNOLaborables))","v":3},{"$f":"IF(NETWORKDAYS(J464+1,H464,DiasNOLaborables)<=0,\"\",NETWORKDAYS(J464+1,H464,DiasNOLaborables))","v":""},null,null,{"$f":"IFERROR(VLOOKUP(E464,$X$51:$Y$64,2),\"\")","v":20}]
[454,20219050120092,"2021-10-15","CORREO ELECTRÓNICO","SOLICITUD DE INFORMACIÓN Y DOCUMENTOS","REGISTROS AMBIENTALES","SUBDIRECCIÓN DE ESTUDIOS AMBIENTALES","2021-10-21","CORREO ELECTRÓNICO",{"$f":"IFERROR(WORKDAY(C465,P465,DiasNOLaborables),\"\")","v":"2021-11-17"},{"$f":"+IF(C465=\"\",\"\",IF(H465=\"\",\"SIN RESPUESTA\",(IF(H465<=J465,\"A TIEMPO\",\"FUERA DE TIEMPO\"))))","v":"A TIEMPO"},{"$f":"IF(H465=\"\",\"\",NETWORKDAYS(C465+1,H465,DiasNOLaborables))","v":3},{"$f":"IF(NETWORKDAYS(J465+1,H465,DiasNOLaborables)<=0,\"\",NETWORKDAYS(J465+1,H465,DiasNOLaborables))","v":""},null,null,{"$f":"IFERROR(VLOOKUP(E465,$X$51:$Y$64,2),\"\")","v":20}]
[455,20219050120112,"2021-10-15","CORREO ELECTRÓNICO","SOLICITUD DE INFORMACIÓN Y DOCUMENTOS","CAMBIO CLIMÁTICO","SUBDIRECCIÓN DE METEOROLOGÍA","2021-11-04","CORREO ELECTRÓNICO",{"$f":"IFERROR(WORKDAY(C466,P466,DiasNOLaborables),\"\")","v":"2021-11-17"},{"$f":"+IF(C466=\"\",\"\",IF(H466=\"\",\"SIN RESPUESTA\",(IF(H466<=J466,\"A TIEMPO\",\"FUERA DE TIEMPO\"))))","v":"A TIEMPO"},{"$f":"IF(H466=\"\",\"\",NETWORKDAYS(C466+1,H466,DiasNOLaborables))","v":12},{"$f":"IF(NETWORKDAYS(J466+1,H466,DiasNOLaborables)<=0,\"\",NETWORKDAYS(J466+1,H466,DiasNOLaborables))","v":""},null,null,{"$f":"IFERROR(VLOOKUP(E466,$X$51:$Y$64,2),\"\")","v":20}]
[456,20219050120172,"2021-10-15","CORREO ELECTRÓNICO","SOLICITUD DE INFORMACIÓN Y DOCUMENTOS","ADMINISTRATIVA","OFICINA DE INFORMÁTICA","2021-10-28","CORREO ELECTRÓNICO",{"$f":"IFERROR(WORKDAY(C467,P467,DiasNOLaborables),\"\")","v":"2021-11-17"},{"$f":"+IF(C467=\"\",\"\",IF(H467=\"\",\"SIN RESPUESTA\",(IF(H467<=J467,\"A TIEMPO\",\"FUERA DE TIEMPO\"))))","v":"A TIEMPO"},{"$f":"IF(H467=\"\",\"\",NETWORKDAYS(C467+1,H467,DiasNOLaborables))","v":8},{"$f":"IF(NETWORKDAYS(J467+1,H467,DiasNOLaborables)<=0,\"\",NETWORKDAYS(J467+1,H467,DiasNOLaborables))","v":""},null,null,{"$f":"IFERROR(VLOOKUP(E467,$X$51:$Y$64,2),\"\")","v":20}]
[457,20219050120182,"2021-10-15","CORREO ELECTRÓNICO","CERTIFICACIONES DE TIEMPO, CLIMA Y EVENTOS HIDROLÓGICOS","CERTIFICACIONES DE TIEMPO Y CLIMA","SUBDIRECCIÓN DE METEOROLOGÍA","2021-11-05","CORREO ELECTRÓNICO",{"$f":"IFERROR(WORKDAY(C468,P468,DiasNOLaborables),\"\")","v":"2021-12-09"},{"$f":"+IF(C468=\"\",\"\",IF(H468=\"\",\"SIN RESPUESTA\",(IF(H468<=J468,\"A TIEMPO\",\"FUERA DE TIEMPO\"))))","v":"A TIEMPO"},{"$f":"IF(H468=\"\",\"\",NETWORKDAYS(C468+1,H468,DiasNOLaborables))","v":13},{"$f":"IF(NETWORKDAYS(J468+1,H468,DiasNOLaborables)<=0,\"\",NETWORKDAYS(J468+1,H468,DiasNOLaborables))","v":""},null,null,{"$f":"IFERROR(VLOOKUP(E468,$X$51:$Y$64,2),\"\")","v":35}]
[458,20219050120322,"2021-10-15","MODULO CONTACTENOS","PETICIÓN","OPERACIÓN DE REDES","SUBDIRECCIÓN DE HIDROLOGÍA","2021-11-19","CORREO ELECTRÓNICO",{"$f":"IFERROR(WORKDAY(C469,P469,DiasNOLaborables),\"\")","v":"2021-12-01"},{"$f":"+IF(C469=\"\",\"\",IF(H469=\"\",\"SIN RESPUESTA\",(IF(H469<=J469,\"A TIEMPO\",\"FUERA DE TIEMPO\"))))","v":"A TIEMPO"},{"$f":"IF(H469=\"\",\"\",NETWORKDAYS(C469+1,H469,DiasNOLaborables))","v":22},{"$f":"IF(NETWORKDAYS(J469+1,H469,DiasNOLaborables)<=0,\"\",NETWORKDAYS(J469+1,H469,DiasNOLaborables))","v":""},null,null,{"$f":"IFERROR(VLOOKUP(E469,$X$51:$Y$64,2),\"\")","v":30}]
[459,20217080002232,"2021-10-15","MODULO CONTACTENOS","SOLICITUD DE INFORMACIÓN Y DOCUMENTOS","VISITAS ACADÉMICAS","GRUPO DE SERVICIO AL CIUDADANO ","2021-11-10","CORREO ELECTRÓNICO",{"$f":"IFERROR(WORKDAY(C470,P470,DiasNOLaborables),\"\")","v":"2021-11-17"},{"$f":"+IF(C470=\"\",\"\",IF(H470=\"\",\"SIN RESPUESTA\",(IF(H470<=J470,\"A TIEMPO\",\"FUERA DE TIEMPO\"))))","v":"A TIEMPO"},{"$f":"IF(H470=\"\",\"\",NETWORKDAYS(C470+1,H470,DiasNOLaborables))","v":16},{"$f":"IF(NETWORKDAYS(J470+1,H470,DiasNOLaborables)<=0,\"\",NETWORKDAYS(J470+1,H470,DiasNOLaborables))","v":""},null,null,{"$f":"IFERROR(VLOOKUP(E470,$X$51:$Y$64,2),\"\")","v":20}]
[460,20219050120452,"2021-10-15","MODULO CONTACTENOS","SOLICITUD DE INFORMACIÓN Y DOCUMENTOS","ACREDITACIÓN DE LABORATORIOS","SUBDIRECCIÓN DE ESTUDIOS AMBIENTALES","2021-10-25","CORREO ELECTRÓNICO",{"$f":"IFERROR(WORKDAY(C471,P471,DiasNOLaborables),\"\")","v":"2021-11-17"},{"$f":"+IF(C471=\"\",\"\",IF(H471=\"\",\"SIN RESPUESTA\",(IF(H471<=J471,\"A TIEMPO\",\"FUERA DE TIEMPO\"))))","v":"A TIEMPO"},{"$f":"IF(H471=\"\",\"\",NETWORKDAYS(C471+1,H471,DiasNOLaborables))","v":5},{"$f":"IF(NETWORKDAYS(J471+1,H471,DiasNOLaborables)<=0,\"\",NETWORKDAYS(J471+1,H471,DiasNOLaborables))","v":""},null,null,{"$f":"IFERROR(VLOOKUP(E471,$X$51:$Y$64,2),\"\")","v":20}]
[461,20219050120492,"2021-10-15","MODULO CONTACTENOS","SOLICITUD DE INFORMACIÓN Y DOCUMENTOS","ADMINISTRATIVA","GRUPO DE ADMINISTRACIÓN Y DESARROLLO DEL TALENTO HUMANO","2021-11-02","CORREO ELECTRÓNICO",{"$f":"IFERROR(WORKDAY(C472,P472,DiasNOLaborables),\"\")","v":"2021-11-17"},{"$f":"+IF(C472=\"\",\"\",IF(H472=\"\",\"SIN RESPUESTA\",(IF(H472<=J472,\"A TIEMPO\",\"FUERA DE TIEMPO\"))))","v":"A TIEMPO"},{"$f":"IF(H472=\"\",\"\",NETWORKDAYS(C472+1,H472,DiasNOLaborables))","v":10},{"$f":"IF(NETWORKDAYS(J472+1,H472,DiasNOLaborables)<=0,\"\",NETWORKDAYS(J472+1,H472,DiasNOLaborables))","v":""},null,null,{"$f":"IFERROR(VLOOKUP(E472,$X$51:$Y$64,2),\"\")","v":20}]
[462,20219050120632,"2021-10-16","MODULO CONTACTENOS","CERTIFICACIONES DE TIEMPO, CLIMA Y EVENTOS HIDROLÓGICOS","CERTIFICACIONES DE TIEMPO Y CLIMA","SUBDIRECCIÓN DE METEOROLOGÍA","2021-11-09","CORREO ELECTRÓNICO",{"$f":"IFERROR(WORKDAY(C473,P473,DiasNOLaborables),\"\")","v":"2021-12-09"},{"$f":"+IF(C473=\"\",\"\",IF(H473=\"\",\"SIN RESPUESTA\",(IF(H473<=J473,\"A TIEMPO\",\"FUERA DE TIEMPO\"))))","v":"A TIEMPO"},{"$f":"IF(H473=\"\",\"\",NETWORKDAYS(C473+1,H473,DiasNOLaborables))","v":15},{"$f":"IF(NETWORKDAYS(J473+1,H473,DiasNOLaborables)<=0,\"\",NETWORKDAYS(J473+1,H473,DiasNOLaborables))","v":""},null,null,{"$f":"IFERROR(VLOOKUP(E473,$X$51:$Y$64,2),\"\")","v":35}]
[463,20219050120622,"2021-10-16","MODULO CONTACTENOS","SOLICITUD DE INFORMACIÓN Y DOCUMENTOS","SOLICITUD DE INFORMACIÓN HIDROMETEOROLÓGICA","GRUPO DE SERVICIO AL CIUDADANO ","2021-10-21","CORREO ELECTRÓNICO",{"$f":"IFERROR(WORKDAY(C474,P474,DiasNOLaborables),\"\")","v":"2021-11-17"},{"$f":"+IF(C474=\"\",\"\",IF(H474=\"\",\"SIN RESPUESTA\",(IF(H474<=J474,\"A TIEMPO\",\"FUERA DE TIEMPO\"))))","v":"A TIEMPO"},{"$f":"IF(H474=\"\",\"\",NETWORKDAYS(C474+1,H474,DiasNOLaborables))","v":3},{"$f":"IF(NETWORKDAYS(J474+1,H474,DiasNOLaborables)<=0,\"\",NETWORKDAYS(J474+1,H474,DiasNOLaborables))","v":""},null,null,{"$f":"IFERROR(VLOOKUP(E474,$X$51:$Y$64,2),\"\")","v":20}]
[464,20219050120642,"2021-10-16","MODULO CONTACTENOS","SOLICITUD DE INFORMACIÓN Y DOCUMENTOS","SOLICITUD DE INFORMACIÓN HIDROMETEOROLÓGICA","GRUPO DE SERVICIO AL CIUDADANO ","2021-10-21","CORREO ELECTRÓNICO",{"$f":"IFERROR(WORKDAY(C475,P475,DiasNOLaborables),\"\")","v":"2021-11-17"},{"$f":"+IF(C475=\"\",\"\",IF(H475=\"\",\"SIN RESPUESTA\",(IF(H475<=J475,\"A TIEMPO\",\"FUERA DE TIEMPO\"))))","v":"A TIEMPO"},{"$f":"IF(H475=\"\",\"\",NETWORKDAYS(C475+1,H475,DiasNOLaborables))","v":3},{"$f":"IF(NETWORKDAYS(J475+1,H475,DiasNOLaborables)<=0,\"\",NETWORKDAYS(J475+1,H475,DiasNOLaborables))","v":""},null,null,{"$f":"IFERROR(VLOOKUP(E475,$X$51:$Y$64,2),\"\")","v":20}]
[465,20219050120652,"2021-10-16","MODULO CONTACTENOS","SOLICITUD DE INFORMACIÓN Y DOCUMENTOS","SOLICITUD DE INFORMACIÓN HIDROMETEOROLÓGICA","GRUPO DE SERVICIO AL CIUDADANO ","2021-10-21","CORREO ELECTRÓNICO",{"$f":"IFERROR(WORKDAY(C476,P476,DiasNOLaborables),\"\")","v":"2021-11-17"},{"$f":"+IF(C476=\"\",\"\",IF(H476=\"\",\"SIN RESPUESTA\",(IF(H476<=J476,\"A TIEMPO\",\"FUERA DE TIEMPO\"))))","v":"A TIEMPO"},{"$f":"IF(H476=\"\",\"\",NETWORKDAYS(C476+1,H476,DiasNOLaborables))","v":3},{"$f":"IF(NETWORKDAYS(J476+1,H476,DiasNOLaborables)<=0,\"\",NETWORKDAYS(J476+1,H476,DiasNOLaborables))","v":""},null,null,{"$f":"IFERROR(VLOOKUP(E476,$X$51:$Y$64,2),\"\")","v":20}]
[466,20219050120662,"2021-10-16","MODULO CONTACTENOS","SOLICITUD DE INFORMACIÓN Y DOCUMENTOS","SOLICITUD DE INFORMACIÓN HIDROMETEOROLÓGICA","GRUPO DE SERVICIO AL CIUDADANO ","2021-10-21","CORREO ELECTRÓNICO",{"$f":"IFERROR(WORKDAY(C477,P477,DiasNOLaborables),\"\")","v":"2021-11-17"},{"$f":"+IF(C477=\"\",\"\",IF(H477=\"\",\"SIN RESPUESTA\",(IF(H477<=J477,\"A TIEMPO\",\"FUERA DE TIEMPO\"))))","v":"A TIEMPO"},{"$f":"IF(H477=\"\",\"\",NETWORKDAYS(C477+1,H477,DiasNOLaborables))","v":3},{"$f":"IF(NETWORKDAYS(J477+1,H477,DiasNOLaborables)<=0,\"\",NETWORKDAYS(J477+1,H477,DiasNOLaborables))","v":""},null,null,{"$f":"IFERROR(VLOOKUP(E477,$X$51:$Y$64,2),\"\")","v":20}]
[467,20219050120692,"2021-10-16","MODULO CONTACTENOS","SOLICITUD DE INFORMACIÓN Y DOCUMENTOS","SOLICITUD DE INFORMACIÓN HIDROMETEOROLÓGICA","GRUPO DE SERVICIO AL CIUDADANO ","2021-10-21","CORREO ELECTRÓNICO",{"$f":"IFERROR(WORKDAY(C478,P478,DiasNOLaborables),\"\")","v":"2021-11-17"},{"$f":"+IF(C478=\"\",\"\",IF(H478=\"\",\"SIN RESPUESTA\",(IF(H478<=J478,\"A TIEMPO\",\"FUERA DE TIEMPO\"))))","v":"A TIEMPO"},{"$f":"IF(H478=\"\",\"\",NETWORKDAYS(C478+1,H478,DiasNOLaborables))","v":3},{"$f":"IF(NETWORKDAYS(J478+1,H478,DiasNOLaborables)<=0,\"\",NETWORKDAYS(J478+1,H478,DiasNOLaborables))","v":""},null,null,{"$f":"IFERROR(VLOOKUP(E478,$X$51:$Y$64,2),\"\")","v":20}]
[468,20219050120712,"2021-10-17","MODULO CONTACTENOS","SOLICITUD DE INFORMACIÓN Y DOCUMENTOS","SOLICITUD DE INFORMACIÓN HIDROMETEOROLÓGICA","GRUPO DE SERVICIO AL CIUDADANO ","2021-10-21","CORREO ELECTRÓNICO",{"$f":"IFERROR(WORKDAY(C479,P479,DiasNOLaborables),\"\")","v":"2021-11-17"},{"$f":"+IF(C479=\"\",\"\",IF(H479=\"\",\"SIN RESPUESTA\",(IF(H479<=J479,\"A TIEMPO\",\"FUERA DE TIEMPO\"))))","v":"A TIEMPO"},{"$f":"IF(H479=\"\",\"\",NETWORKDAYS(C479+1,H479,DiasNOLaborables))","v":3},{"$f":"IF(NETWORKDAYS(J479+1,H479,DiasNOLaborables)<=0,\"\",NETWORKDAYS(J479+1,H479,DiasNOLaborables))","v":""},null,null,{"$f":"IFERROR(VLOOKUP(E479,$X$51:$Y$64,2),\"\")","v":20}]
[469,20219050120722,"2021-10-17","MODULO CONTACTENOS","SOLICITUD DE INFORMACIÓN Y DOCUMENTOS","SOLICITUD DE INFORMACIÓN HIDROMETEOROLÓGICA","GRUPO DE SERVICIO AL CIUDADANO ","2021-10-21","CORREO ELECTRÓNICO",{"$f":"IFERROR(WORKDAY(C480,P480,DiasNOLaborables),\"\")","v":"2021-11-17"},{"$f":"+IF(C480=\"\",\"\",IF(H480=\"\",\"SIN RESPUESTA\",(IF(H480<=J480,\"A TIEMPO\",\"FUERA DE TIEMPO\"))))","v":"A TIEMPO"},{"$f":"IF(H480=\"\",\"\",NETWORKDAYS(C480+1,H480,DiasNOLaborables))","v":3},{"$f":"IF(NETWORKDAYS(J480+1,H480,DiasNOLaborables)<=0,\"\",NETWORKDAYS(J480+1,H480,DiasNOLaborables))","v":""},null,null,{"$f":"IFERROR(VLOOKUP(E480,$X$51:$Y$64,2),\"\")","v":20}]
[470,20219050120732,"2021-10-17","MODULO CONTACTENOS","SOLICITUD DE INFORMACIÓN Y DOCUMENTOS","SOLICITUD DE INFORMACIÓN HIDROMETEOROLÓGICA","GRUPO DE SERVICIO AL CIUDADANO ","2021-10-21","CORREO ELECTRÓNICO",{"$f":"IFERROR(WORKDAY(C481,P481,DiasNOLaborables),\"\")","v":"2021-11-17"},{"$f":"+IF(C481=\"\",\"\",IF(H481=\"\",\"SIN RESPUESTA\",(IF(H481<=J481,\"A TIEMPO\",\"FUERA DE TIEMPO\"))))","v":"A TIEMPO"},{"$f":"IF(H481=\"\",\"\",NETWORKDAYS(C481+1,H481,DiasNOLaborables))","v":3},{"$f":"IF(NETWORKDAYS(J481+1,H481,DiasNOLaborables)<=0,\"\",NETWORKDAYS(J481+1,H481,DiasNOLaborables))","v":""},null,null,{"$f":"IFERROR(VLOOKUP(E481,$X$51:$Y$64,2),\"\")","v":20}]
[471,20219050120762,"2021-10-17","MODULO CONTACTENOS","SOLICITUD DE INFORMACIÓN Y DOCUMENTOS","SOLICITUD DE INFORMACIÓN HIDROMETEOROLÓGICA","GRUPO DE SERVICIO AL CIUDADANO ","2021-10-21","CORREO ELECTRÓNICO",{"$f":"IFERROR(WORKDAY(C482,P482,DiasNOLaborables),\"\")","v":"2021-11-17"},{"$f":"+IF(C482=\"\",\"\",IF(H482=\"\",\"SIN RESPUESTA\",(IF(H482<=J482,\"A TIEMPO\",\"FUERA DE TIEMPO\"))))","v":"A TIEMPO"},{"$f":"IF(H482=\"\",\"\",NETWORKDAYS(C482+1,H482,DiasNOLaborables))","v":3},{"$f":"IF(NETWORKDAYS(J482+1,H482,DiasNOLaborables)<=0,\"\",NETWORKDAYS(J482+1,H482,DiasNOLaborables))","v":""},null,null,{"$f":"IFERROR(VLOOKUP(E482,$X$51:$Y$64,2),\"\")","v":20}]
[472,20219050120772,"2021-10-17","MODULO CONTACTENOS","SOLICITUD DE INFORMACIÓN Y DOCUMENTOS","SOLICITUD DE INFORMACIÓN HIDROMETEOROLÓGICA","GRUPO DE SERVICIO AL CIUDADANO ","2021-10-21","CORREO ELECTRÓNICO",{"$f":"IFERROR(WORKDAY(C483,P483,DiasNOLaborables),\"\")","v":"2021-11-17"},{"$f":"+IF(C483=\"\",\"\",IF(H483=\"\",\"SIN RESPUESTA\",(IF(H483<=J483,\"A TIEMPO\",\"FUERA DE TIEMPO\"))))","v":"A TIEMPO"},{"$f":"IF(H483=\"\",\"\",NETWORKDAYS(C483+1,H483,DiasNOLaborables))","v":3},{"$f":"IF(NETWORKDAYS(J483+1,H483,DiasNOLaborables)<=0,\"\",NETWORKDAYS(J483+1,H483,DiasNOLaborables))","v":""},null,null,{"$f":"IFERROR(VLOOKUP(E483,$X$51:$Y$64,2),\"\")","v":20}]
[473,20219050120782,"2021-10-17","MODULO CONTACTENOS","SOLICITUD DE INFORMACIÓN Y DOCUMENTOS","SOLICITUD DE INFORMACIÓN HIDROMETEOROLÓGICA","GRUPO DE SERVICIO AL CIUDADANO ","2021-10-21","CORREO ELECTRÓNICO",{"$f":"IFERROR(WORKDAY(C484,P484,DiasNOLaborables),\"\")","v":"2021-11-17"},{"$f":"+IF(C484=\"\",\"\",IF(H484=\"\",\"SIN RESPUESTA\",(IF(H484<=J484,\"A TIEMPO\",\"FUERA DE TIEMPO\"))))","v":"A TIEMPO"},{"$f":"IF(H484=\"\",\"\",NETWORKDAYS(C484+1,H484,DiasNOLaborables))","v":3},{"$f":"IF(NETWORKDAYS(J484+1,H484,DiasNOLaborables)<=0,\"\",NETWORKDAYS(J484+1,H484,DiasNOLaborables))","v":""},null,null,{"$f":"IFERROR(VLOOKUP(E484,$X$51:$Y$64,2),\"\")","v":20}]
[474,20219050120792,"2021-10-17","MODULO CONTACTENOS","SOLICITUD DE INFORMACIÓN Y DOCUMENTOS","SOLICITUD DE INFORMACIÓN HIDROMETEOROLÓGICA","GRUPO DE SERVICIO AL CIUDADANO ","2021-10-21","CORREO ELECTRÓNICO",{"$f":"IFERROR(WORKDAY(C485,P485,DiasNOLaborables),\"\")","v":"2021-11-17"},{"$f":"+IF(C485=\"\",\"\",IF(H485=\"\",\"SIN RESPUESTA\",(IF(H485<=J485,\"A TIEMPO\",\"FUERA DE TIEMPO\"))))","v":"A TIEMPO"},{"$f":"IF(H485=\"\",\"\",NETWORKDAYS(C485+1,H485,DiasNOLaborables))","v":3},{"$f":"IF(NETWORKDAYS(J485+1,H485,DiasNOLaborables)<=0,\"\",NETWORKDAYS(J485+1,H485,DiasNOLaborables))","v":""},null,null,{"$f":"IFERROR(VLOOKUP(E485,$X$51:$Y$64,2),\"\")","v":20}]
[475,20219050120812,"2021-10-17","MODULO CONTACTENOS","SOLICITUD DE INFORMACIÓN Y DOCUMENTOS","SOLICITUD DE INFORMACIÓN HIDROMETEOROLÓGICA","GRUPO DE SERVICIO AL CIUDADANO ","2021-10-21","CORREO ELECTRÓNICO",{"$f":"IFERROR(WORKDAY(C486,P486,DiasNOLaborables),\"\")","v":"2021-11-17"},{"$f":"+IF(C486=\"\",\"\",IF(H486=\"\",\"SIN RESPUESTA\",(IF(H486<=J486,\"A TIEMPO\",\"FUERA DE TIEMPO\"))))","v":"A TIEMPO"},{"$f":"IF(H486=\"\",\"\",NETWORKDAYS(C486+1,H486,DiasNOLaborables))","v":3},{"$f":"IF(NETWORKDAYS(J486+1,H486,DiasNOLaborables)<=0,\"\",NETWORKDAYS(J486+1,H486,DiasNOLaborables))","v":""},null,null,{"$f":"IFERROR(VLOOKUP(E486,$X$51:$Y$64,2),\"\")","v":20}]
[476,20219050120872,"2021-10-18","MODULO CONTACTENOS","SOLICITUD DE INFORMACIÓN Y DOCUMENTOS","SOLICITUD DE INFORMACIÓN HIDROMETEOROLÓGICA","GRUPO DE SERVICIO AL CIUDADANO ","2021-10-21","CORREO ELECTRÓNICO",{"$f":"IFERROR(WORKDAY(C487,P487,DiasNOLaborables),\"\")","v":"2021-11-17"},{"$f":"+IF(C487=\"\",\"\",IF(H487=\"\",\"SIN RESPUESTA\",(IF(H487<=J487,\"A TIEMPO\",\"FUERA DE TIEMPO\"))))","v":"A TIEMPO"},{"$f":"IF(H487=\"\",\"\",NETWORKDAYS(C487+1,H487,DiasNOLaborables))","v":3},{"$f":"IF(NETWORKDAYS(J487+1,H487,DiasNOLaborables)<=0,\"\",NETWORKDAYS(J487+1,H487,DiasNOLaborables))","v":""},null,null,{"$f":"IFERROR(VLOOKUP(E487,$X$51:$Y$64,2),\"\")","v":20}]
[477,20219050120822,"2021-10-18","MODULO CONTACTENOS","SOLICITUD DE INFORMACIÓN Y DOCUMENTOS","SOLICITUD DE INFORMACIÓN HIDROMETEOROLÓGICA","GRUPO DE SERVICIO AL CIUDADANO ","2021-10-21","CORREO ELECTRÓNICO",{"$f":"IFERROR(WORKDAY(C488,P488,DiasNOLaborables),\"\")","v":"2021-11-17"},{"$f":"+IF(C488=\"\",\"\",IF(H488=\"\",\"SIN RESPUESTA\",(IF(H488<=J488,\"A TIEMPO\",\"FUERA DE TIEMPO\"))))","v":"A TIEMPO"},{"$f":"IF(H488=\"\",\"\",NETWORKDAYS(C488+1,H488,DiasNOLaborables))","v":3},{"$f":"IF(NETWORKDAYS(J488+1,H488,DiasNOLaborables)<=0,\"\",NETWORKDAYS(J488+1,H488,DiasNOLaborables))","v":""},null,null,{"$f":"IFERROR(VLOOKUP(E488,$X$51:$Y$64,2),\"\")","v":20}]
[478,20219050120842,"2021-10-18","MODULO CONTACTENOS","SOLICITUD DE INFORMACIÓN Y DOCUMENTOS","SOLICITUD DE INFORMACIÓN HIDROMETEOROLÓGICA","GRUPO DE SERVICIO AL CIUDADANO ","2021-10-21","CORREO ELECTRÓNICO",{"$f":"IFERROR(WORKDAY(C489,P489,DiasNOLaborables),\"\")","v":"2021-11-17"},{"$f":"+IF(C489=\"\",\"\",IF(H489=\"\",\"SIN RESPUESTA\",(IF(H489<=J489,\"A TIEMPO\",\"FUERA DE TIEMPO\"))))","v":"A TIEMPO"},{"$f":"IF(H489=\"\",\"\",NETWORKDAYS(C489+1,H489,DiasNOLaborables))","v":3},{"$f":"IF(NETWORKDAYS(J489+1,H489,DiasNOLaborables)<=0,\"\",NETWORKDAYS(J489+1,H489,DiasNOLaborables))","v":""},null,null,{"$f":"IFERROR(VLOOKUP(E489,$X$51:$Y$64,2),\"\")","v":20}]
[479,20219050120852,"2021-10-18","MODULO CONTACTENOS","SOLICITUD DE INFORMACIÓN Y DOCUMENTOS","SOLICITUD DE INFORMACIÓN HIDROMETEOROLÓGICA","GRUPO DE SERVICIO AL CIUDADANO ","2021-10-21","CORREO ELECTRÓNICO",{"$f":"IFERROR(WORKDAY(C490,P490,DiasNOLaborables),\"\")","v":"2021-11-17"},{"$f":"+IF(C490=\"\",\"\",IF(H490=\"\",\"SIN RESPUESTA\",(IF(H490<=J490,\"A TIEMPO\",\"FUERA DE TIEMPO\"))))","v":"A TIEMPO"},{"$f":"IF(H490=\"\",\"\",NETWORKDAYS(C490+1,H490,DiasNOLaborables))","v":3},{"$f":"IF(NETWORKDAYS(J490+1,H490,DiasNOLaborables)<=0,\"\",NETWORKDAYS(J490+1,H490,DiasNOLaborables))","v":""},null,null,{"$f":"IFERROR(VLOOKUP(E490,$X$51:$Y$64,2),\"\")","v":20}]
[480,20219050120862,"2021-10-18","MODULO CONTACTENOS","SOLICITUD DE INFORMACIÓN Y DOCUMENTOS","SOLICITUD DE INFORMACIÓN HIDROMETEOROLÓGICA","GRUPO DE SERVICIO AL CIUDADANO ","2021-10-21","CORREO ELECTRÓNICO",{"$f":"IFERROR(WORKDAY(C491,P491,DiasNOLaborables),\"\")","v":"2021-11-17"},{"$f":"+IF(C491=\"\",\"\",IF(H491=\"\",\"SIN RESPUESTA\",(IF(H491<=J491,\"A TIEMPO\",\"FUERA DE TIEMPO\"))))","v":"A TIEMPO"},{"$f":"IF(H491=\"\",\"\",NETWORKDAYS(C491+1,H491,DiasNOLaborables))","v":3},{"$f":"IF(NETWORKDAYS(J491+1,H491,DiasNOLaborables)<=0,\"\",NETWORKDAYS(J491+1,H491,DiasNOLaborables))","v":""},null,null,{"$f":"IFERROR(VLOOKUP(E491,$X$51:$Y$64,2),\"\")","v":20}]
[481,20219910055692,"2021-10-19","MODULO CONTACTENOS","SOLICITUD DE INFORMACIÓN Y DOCUMENTOS","SOLICITUD DE INFORMACIÓN HIDROMETEOROLÓGICA","GRUPO DE SERVICIO AL CIUDADANO ","2021-10-22","CORREO ELECTRÓNICO",{"$f":"IFERROR(WORKDAY(C492,P492,DiasNOLaborables),\"\")","v":"2021-11-18"},{"$f":"+IF(C492=\"\",\"\",IF(H492=\"\",\"SIN RESPUESTA\",(IF(H492<=J492,\"A TIEMPO\",\"FUERA DE TIEMPO\"))))","v":"A TIEMPO"},{"$f":"IF(H492=\"\",\"\",NETWORKDAYS(C492+1,H492,DiasNOLaborables))","v":3},{"$f":"IF(NETWORKDAYS(J492+1,H492,DiasNOLaborables)<=0,\"\",NETWORKDAYS(J492+1,H492,DiasNOLaborables))","v":""},null,null,{"$f":"IFERROR(VLOOKUP(E492,$X$51:$Y$64,2),\"\")","v":20}]
[482,20219050120902,"2021-10-19","MODULO CONTACTENOS","SOLICITUD DE INFORMACIÓN Y DOCUMENTOS","SOLICITUD DE INFORMACIÓN HIDROMETEOROLÓGICA","GRUPO DE SERVICIO AL CIUDADANO ","2021-10-22","CORREO ELECTRÓNICO",{"$f":"IFERROR(WORKDAY(C493,P493,DiasNOLaborables),\"\")","v":"2021-11-18"},{"$f":"+IF(C493=\"\",\"\",IF(H493=\"\",\"SIN RESPUESTA\",(IF(H493<=J493,\"A TIEMPO\",\"FUERA DE TIEMPO\"))))","v":"A TIEMPO"},{"$f":"IF(H493=\"\",\"\",NETWORKDAYS(C493+1,H493,DiasNOLaborables))","v":3},{"$f":"IF(NETWORKDAYS(J493+1,H493,DiasNOLaborables)<=0,\"\",NETWORKDAYS(J493+1,H493,DiasNOLaborables))","v":""},null,null,{"$f":"IFERROR(VLOOKUP(E493,$X$51:$Y$64,2),\"\")","v":20}]
[483,20219050120922,"2021-10-19","MODULO CONTACTENOS","SOLICITUD DE INFORMACIÓN Y DOCUMENTOS","SOLICITUD DE INFORMACIÓN HIDROMETEOROLÓGICA","GRUPO DE SERVICIO AL CIUDADANO ","2021-10-22","CORREO ELECTRÓNICO",{"$f":"IFERROR(WORKDAY(C494,P494,DiasNOLaborables),\"\")","v":"2021-11-18"},{"$f":"+IF(C494=\"\",\"\",IF(H494=\"\",\"SIN RESPUESTA\",(IF(H494<=J494,\"A TIEMPO\",\"FUERA DE TIEMPO\"))))","v":"A TIEMPO"},{"$f":"IF(H494=\"\",\"\",NETWORKDAYS(C494+1,H494,DiasNOLaborables))","v":3},{"$f":"IF(NETWORKDAYS(J494+1,H494,DiasNOLaborables)<=0,\"\",NETWORKDAYS(J494+1,H494,DiasNOLaborables))","v":""},null,null,{"$f":"IFERROR(VLOOKUP(E494,$X$51:$Y$64,2),\"\")","v":20}]
[484,20219050120962,"2021-10-19","MODULO CONTACTENOS","SOLICITUD DE INFORMACIÓN Y DOCUMENTOS","SOLICITUD DE INFORMACIÓN HIDROMETEOROLÓGICA","GRUPO DE SERVICIO AL CIUDADANO ","2021-10-22","CORREO ELECTRÓNICO",{"$f":"IFERROR(WORKDAY(C495,P495,DiasNOLaborables),\"\")","v":"2021-11-18"},{"$f":"+IF(C495=\"\",\"\",IF(H495=\"\",\"SIN RESPUESTA\",(IF(H495<=J495,\"A TIEMPO\",\"FUERA DE TIEMPO\"))))","v":"A TIEMPO"},{"$f":"IF(H495=\"\",\"\",NETWORKDAYS(C495+1,H495,DiasNOLaborables))","v":3},{"$f":"IF(NETWORKDAYS(J495+1,H495,DiasNOLaborables)<=0,\"\",NETWORKDAYS(J495+1,H495,DiasNOLaborables))","v":""},null,null,{"$f":"IFERROR(VLOOKUP(E495,$X$51:$Y$64,2),\"\")","v":20}]
[485,20219050121002,"2021-10-19","MODULO CONTACTENOS","SOLICITUD DE INFORMACIÓN Y DOCUMENTOS","SOLICITUD DE INFORMACIÓN HIDROMETEOROLÓGICA","GRUPO DE SERVICIO AL CIUDADANO ","2021-10-22","CORREO ELECTRÓNICO",{"$f":"IFERROR(WORKDAY(C496,P496,DiasNOLaborables),\"\")","v":"2021-11-18"},{"$f":"+IF(C496=\"\",\"\",IF(H496=\"\",\"SIN RESPUESTA\",(IF(H496<=J496,\"A TIEMPO\",\"FUERA DE TIEMPO\"))))","v":"A TIEMPO"},{"$f":"IF(H496=\"\",\"\",NETWORKDAYS(C496+1,H496,DiasNOLaborables))","v":3},{"$f":"IF(NETWORKDAYS(J496+1,H496,DiasNOLaborables)<=0,\"\",NETWORKDAYS(J496+1,H496,DiasNOLaborables))","v":""},null,null,{"$f":"IFERROR(VLOOKUP(E496,$X$51:$Y$64,2),\"\")","v":20}]
[486,20219050121022,"2021-10-19","MODULO CONTACTENOS","SOLICITUD DE INFORMACIÓN Y DOCUMENTOS","SOLICITUD DE INFORMACIÓN HIDROMETEOROLÓGICA","GRUPO DE SERVICIO AL CIUDADANO ","2021-10-22","CORREO ELECTRÓNICO",{"$f":"IFERROR(WORKDAY(C497,P497,DiasNOLaborables),\"\")","v":"2021-11-18"},{"$f":"+IF(C497=\"\",\"\",IF(H497=\"\",\"SIN RESPUESTA\",(IF(H497<=J497,\"A TIEMPO\",\"FUERA DE TIEMPO\"))))","v":"A TIEMPO"},{"$f":"IF(H497=\"\",\"\",NETWORKDAYS(C497+1,H497,DiasNOLaborables))","v":3},{"$f":"IF(NETWORKDAYS(J497+1,H497,DiasNOLaborables)<=0,\"\",NETWORKDAYS(J497+1,H497,DiasNOLaborables))","v":""},null,null,{"$f":"IFERROR(VLOOKUP(E497,$X$51:$Y$64,2),\"\")","v":20}]
[487,20219050121032,"2021-10-19","MODULO CONTACTENOS","SOLICITUD DE INFORMACIÓN Y DOCUMENTOS","SOLICITUD DE INFORMACIÓN HIDROMETEOROLÓGICA","GRUPO DE SERVICIO AL CIUDADANO ","2021-10-22","CORREO ELECTRÓNICO",{"$f":"IFERROR(WORKDAY(C498,P498,DiasNOLaborables),\"\")","v":"2021-11-18"},{"$f":"+IF(C498=\"\",\"\",IF(H498=\"\",\"SIN RESPUESTA\",(IF(H498<=J498,\"A TIEMPO\",\"FUERA DE TIEMPO\"))))","v":"A TIEMPO"},{"$f":"IF(H498=\"\",\"\",NETWORKDAYS(C498+1,H498,DiasNOLaborables))","v":3},{"$f":"IF(NETWORKDAYS(J498+1,H498,DiasNOLaborables)<=0,\"\",NETWORKDAYS(J498+1,H498,DiasNOLaborables))","v":""},null,null,{"$f":"IFERROR(VLOOKUP(E498,$X$51:$Y$64,2),\"\")","v":20}]
[488,20219050120882,"2021-10-19","MODULO CONTACTENOS","CERTIFICACIONES DE TIEMPO, CLIMA Y EVENTOS HIDROLÓGICOS","CERTIFICACIONES DE TIEMPO Y CLIMA","SUBDIRECCIÓN DE METEOROLOGÍA","2021-11-09","CORREO ELECTRÓNICO",{"$f":"IFERROR(WORKDAY(C499,P499,DiasNOLaborables),\"\")","v":"2021-12-10"},{"$f":"+IF(C499=\"\",\"\",IF(H499=\"\",\"SIN RESPUESTA\",(IF(H499<=J499,\"A TIEMPO\",\"FUERA DE TIEMPO\"))))","v":"A TIEMPO"},{"$f":"IF(H499=\"\",\"\",NETWORKDAYS(C499+1,H499,DiasNOLaborables))","v":14},{"$f":"IF(NETWORKDAYS(J499+1,H499,DiasNOLaborables)<=0,\"\",NETWORKDAYS(J499+1,H499,DiasNOLaborables))","v":""},null,null,{"$f":"IFERROR(VLOOKUP(E499,$X$51:$Y$64,2),\"\")","v":35}]
[489,20219050120982,"2021-10-19","MODULO CONTACTENOS","SOLICITUD DE INFORMACIÓN Y DOCUMENTOS","BOSQUES","SUBDIRECCIÓN DE ECOSISTEMAS E INFORMACIÓN AMBIENTAL","2021-11-02","CORREO ELECTRÓNICO",{"$f":"IFERROR(WORKDAY(C500,P500,DiasNOLaborables),\"\")","v":"2021-11-18"},{"$f":"+IF(C500=\"\",\"\",IF(H500=\"\",\"SIN RESPUESTA\",(IF(H500<=J500,\"A TIEMPO\",\"FUERA DE TIEMPO\"))))","v":"A TIEMPO"},{"$f":"IF(H500=\"\",\"\",NETWORKDAYS(C500+1,H500,DiasNOLaborables))","v":9},{"$f":"IF(NETWORKDAYS(J500+1,H500,DiasNOLaborables)<=0,\"\",NETWORKDAYS(J500+1,H500,DiasNOLaborables))","v":""},null,null,{"$f":"IFERROR(VLOOKUP(E500,$X$51:$Y$64,2),\"\")","v":20}]
[490,20219050121072,"2021-10-19","MODULO CONTACTENOS","SOLICITUD DE INFORMACIÓN Y DOCUMENTOS","BOSQUES","SUBDIRECCIÓN DE ECOSISTEMAS E INFORMACIÓN AMBIENTAL","2021-11-02","CORREO ELECTRÓNICO",{"$f":"IFERROR(WORKDAY(C501,P501,DiasNOLaborables),\"\")","v":"2021-11-18"},{"$f":"+IF(C501=\"\",\"\",IF(H501=\"\",\"SIN RESPUESTA\",(IF(H501<=J501,\"A TIEMPO\",\"FUERA DE TIEMPO\"))))","v":"A TIEMPO"},{"$f":"IF(H501=\"\",\"\",NETWORKDAYS([5]Hoja1!C499+1,[5]Hoja1!P499,DiasNOLaborables))","v":6},{"$f":"IF(NETWORKDAYS(J501+1,H501,DiasNOLaborables)<=0,\"\",NETWORKDAYS(J501+1,H501,DiasNOLaborables))","v":""},null,null,{"$f":"IFERROR(VLOOKUP(E501,$X$51:$Y$64,2),\"\")","v":20}]
[491,20219050121102,"2021-10-19","MODULO CONTACTENOS","CERTIFICACIONES DE TIEMPO, CLIMA Y EVENTOS HIDROLÓGICOS","CERTIFICACIONES DE TIEMPO Y CLIMA","SUBDIRECCIÓN DE METEOROLOGÍA","2021-11-11","CORREO ELECTRÓNICO",{"$f":"IFERROR(WORKDAY(C502,P502,DiasNOLaborables),\"\")","v":"2021-12-10"},{"$f":"+IF(C502=\"\",\"\",IF(H502=\"\",\"SIN RESPUESTA\",(IF(H502<=J502,\"A TIEMPO\",\"FUERA DE TIEMPO\"))))","v":"A TIEMPO"},{"$f":"IF(H502=\"\",\"\",NETWORKDAYS(C502+1,H502,DiasNOLaborables))","v":16},{"$f":"IF(NETWORKDAYS(J502+1,H502,DiasNOLaborables)<=0,\"\",NETWORKDAYS(J502+1,H502,DiasNOLaborables))","v":""},null,null,{"$f":"IFERROR(VLOOKUP(E502,$X$51:$Y$64,2),\"\")","v":35}]
[492,20219050121242,"2021-10-19","MODULO CONTACTENOS","SOLICITUD DE INFORMACIÓN Y DOCUMENTOS","ADMINISTRATIVA","GRUPO DE TESORERÍA","2021-10-25","CORREO ELECTRÓNICO",{"$f":"IFERROR(WORKDAY(C503,P503,DiasNOLaborables),\"\")","v":"2021-11-18"},{"$f":"+IF(C503=\"\",\"\",IF(H503=\"\",\"SIN RESPUESTA\",(IF(H503<=J503,\"A TIEMPO\",\"FUERA DE TIEMPO\"))))","v":"A TIEMPO"},{"$f":"IF(H503=\"\",\"\",NETWORKDAYS(C503+1,H503,DiasNOLaborables))","v":4},{"$f":"IF(NETWORKDAYS(J503+1,H503,DiasNOLaborables)<=0,\"\",NETWORKDAYS(J503+1,H503,DiasNOLaborables))","v":""},null,null,{"$f":"IFERROR(VLOOKUP(E503,$X$51:$Y$64,2),\"\")","v":20}]
[493,20219050121272,"2021-10-19","MODULO CONTACTENOS","SOLICITUD DE INFORMACIÓN Y DOCUMENTOS","OPERACIÓN DE REDES","SUBDIRECCIÓN DE HIDROLOGÍA","2021-10-28","CORREO ELECTRÓNICO",{"$f":"IFERROR(WORKDAY(C504,P504,DiasNOLaborables),\"\")","v":"2021-11-18"},{"$f":"+IF(C504=\"\",\"\",IF(H504=\"\",\"SIN RESPUESTA\",(IF(H504<=J504,\"A TIEMPO\",\"FUERA DE TIEMPO\"))))","v":"A TIEMPO"},{"$f":"IF(H504=\"\",\"\",NETWORKDAYS(C504+1,H504,DiasNOLaborables))","v":7},{"$f":"IF(NETWORKDAYS(J504+1,H504,DiasNOLaborables)<=0,\"\",NETWORKDAYS(J504+1,H504,DiasNOLaborables))","v":""},null,null,{"$f":"IFERROR(VLOOKUP(E504,$X$51:$Y$64,2),\"\")","v":20}]
[494,20219050120892,"2021-10-19","CORREO ELECTRÓNICO","PETICIÓN","BOSQUES","SUBDIRECCIÓN DE ECOSISTEMAS E INFORMACIÓN AMBIENTAL","2021-10-26","CORREO ELECTRÓNICO",{"$f":"IFERROR(WORKDAY(C505,P505,DiasNOLaborables),\"\")","v":"2021-12-02"},{"$f":"+IF(C505=\"\",\"\",IF(H505=\"\",\"SIN RESPUESTA\",(IF(H505<=J505,\"A TIEMPO\",\"FUERA DE TIEMPO\"))))","v":"A TIEMPO"},{"$f":"IF(H505=\"\",\"\",NETWORKDAYS(C505+1,H505,DiasNOLaborables))","v":5},{"$f":"IF(NETWORKDAYS(J505+1,H505,DiasNOLaborables)<=0,\"\",NETWORKDAYS(J505+1,H505,DiasNOLaborables))","v":""},null,null,{"$f":"IFERROR(VLOOKUP(E505,$X$51:$Y$64,2),\"\")","v":30}]
[495,20219050120912,"2021-10-19","CORREO ELECTRÓNICO","CERTIFICACIONES DE TIEMPO, CLIMA Y EVENTOS HIDROLÓGICOS","CERTIFICACIONES DE TIEMPO Y CLIMA","SUBDIRECCIÓN DE METEOROLOGÍA","2021-11-09","CORREO ELECTRÓNICO",{"$f":"IFERROR(WORKDAY(C506,P506,DiasNOLaborables),\"\")","v":"2021-12-10"},{"$f":"+IF(C506=\"\",\"\",IF(H506=\"\",\"SIN RESPUESTA\",(IF(H506<=J506,\"A TIEMPO\",\"FUERA DE TIEMPO\"))))","v":"A TIEMPO"},{"$f":"IF(H506=\"\",\"\",NETWORKDAYS(C506+1,H506,DiasNOLaborables))","v":14},{"$f":"IF(NETWORKDAYS(J506+1,H506,DiasNOLaborables)<=0,\"\",NETWORKDAYS(J506+1,H506,DiasNOLaborables))","v":""},null,null,{"$f":"IFERROR(VLOOKUP(E506,$X$51:$Y$64,2),\"\")","v":35}]
[496,20219050120932,"2021-10-19","CORREO ELECTRÓNICO","SOLICITUD DE INFORMACIÓN Y DOCUMENTOS","ADMINISTRATIVA","OFICINA DE INFORMÁTICA","2021-10-28","CORREO ELECTRÓNICO",{"$f":"IFERROR(WORKDAY(C507,P507,DiasNOLaborables),\"\")","v":"2021-11-18"},{"$f":"+IF(C507=\"\",\"\",IF(H507=\"\",\"SIN RESPUESTA\",(IF(H507<=J507,\"A TIEMPO\",\"FUERA DE TIEMPO\"))))","v":"A TIEMPO"},{"$f":"IF(H507=\"\",\"\",NETWORKDAYS(C507+1,H507,DiasNOLaborables))","v":7},{"$f":"IF(NETWORKDAYS(J507+1,H507,DiasNOLaborables)<=0,\"\",NETWORKDAYS(J507+1,H507,DiasNOLaborables))","v":""},null,null,{"$f":"IFERROR(VLOOKUP(E507,$X$51:$Y$64,2),\"\")","v":20}]
[497,20219050120942,"2021-10-19","CORREO ELECTRÓNICO","CERTIFICACIONES DE TIEMPO, CLIMA Y EVENTOS HIDROLÓGICOS","CERTIFICACIONES DE TIEMPO Y CLIMA","SUBDIRECCIÓN DE METEOROLOGÍA","2021-11-11","CORREO ELECTRÓNICO",{"$f":"IFERROR(WORKDAY(C508,P508,DiasNOLaborables),\"\")","v":"2021-12-10"},{"$f":"+IF(C508=\"\",\"\",IF(H508=\"\",\"SIN RESPUESTA\",(IF(H508<=J508,\"A TIEMPO\",\"FUERA DE TIEMPO\"))))","v":"A TIEMPO"},{"$f":"IF(H508=\"\",\"\",NETWORKDAYS(C508+1,H508,DiasNOLaborables))","v":16},{"$f":"IF(NETWORKDAYS(J508+1,H508,DiasNOLaborables)<=0,\"\",NETWORKDAYS(J508+1,H508,DiasNOLaborables))","v":""},null,null,{"$f":"IFERROR(VLOOKUP(E508,$X$51:$Y$64,2),\"\")","v":35}]
[498,20219050120952,"2021-10-19","CORREO ELECTRÓNICO","CERTIFICACIONES DE TIEMPO, CLIMA Y EVENTOS HIDROLÓGICOS","CERTIFICACIONES DE TIEMPO Y CLIMA","SUBDIRECCIÓN DE METEOROLOGÍA","2021-11-09","CORREO ELECTRÓNICO",{"$f":"IFERROR(WORKDAY(C509,P509,DiasNOLaborables),\"\")","v":"2021-12-10"},{"$f":"+IF(C509=\"\",\"\",IF(H509=\"\",\"SIN RESPUESTA\",(IF(H509<=J509,\"A TIEMPO\",\"FUERA DE TIEMPO\"))))","v":"A TIEMPO"},{"$f":"IF(H509=\"\",\"\",NETWORKDAYS(C509+1,H509,DiasNOLaborables))","v":14},{"$f":"IF(NETWORKDAYS(J509+1,H509,DiasNOLaborables)<=0,\"\",NETWORKDAYS(J509+1,H509,DiasNOLaborables))","v":""},null,null,{"$f":"IFERROR(VLOOKUP(E509,$X$51:$Y$64,2),\"\")","v":35}]
[499,20219050120972,"2021-10-19","CORREO ELECTRÓNICO","SOLICITUD DE INFORMACIÓN Y DOCUMENTOS","ADMINISTRATIVA","DIRECCIÓN GENERAL","2021-10-21","CORREO ELECTRÓNICO",{"$f":"IFERROR(WORKDAY(C510,P510,DiasNOLaborables),\"\")","v":"2021-11-18"},{"$f":"+IF(C510=\"\",\"\",IF(H510=\"\",\"SIN RESPUESTA\",(IF(H510<=J510,\"A TIEMPO\",\"FUERA DE TIEMPO\"))))","v":"A TIEMPO"},{"$f":"IF(H510=\"\",\"\",NETWORKDAYS(C510+1,H510,DiasNOLaborables))","v":2},{"$f":"IF(NETWORKDAYS(J510+1,H510,DiasNOLaborables)<=0,\"\",NETWORKDAYS(J510+1,H510,DiasNOLaborables))","v":""},null,null,{"$f":"IFERROR(VLOOKUP(E510,$X$51:$Y$64,2),\"\")","v":20}]
[500,20219050120992,"2021-10-19","CORREO ELECTRÓNICO","SOLICITUD DE INFORMACIÓN Y DOCUMENTOS","BOSQUES","SUBDIRECCIÓN DE ECOSISTEMAS E INFORMACIÓN AMBIENTAL","2021-11-04","CORREO ELECTRÓNICO",{"$f":"IFERROR(WORKDAY(C511,P511,DiasNOLaborables),\"\")","v":"2021-11-18"},{"$f":"+IF(C511=\"\",\"\",IF(H511=\"\",\"SIN RESPUESTA\",(IF(H511<=J511,\"A TIEMPO\",\"FUERA DE TIEMPO\"))))","v":"A TIEMPO"},{"$f":"IF(H511=\"\",\"\",NETWORKDAYS(C511+1,H511,DiasNOLaborables))","v":11},{"$f":"IF(NETWORKDAYS(J511+1,H511,DiasNOLaborables)<=0,\"\",NETWORKDAYS(J511+1,H511,DiasNOLaborables))","v":""},null,null,{"$f":"IFERROR(VLOOKUP(E511,$X$51:$Y$64,2),\"\")","v":20}]
[501,20219050121012,"2021-10-19","CORREO ELECTRÓNICO","SOLICITUD DE INFORMACIÓN Y DOCUMENTOS","JURIDICO","OFICINA ASESORA JURÍDICA","2021-11-18","CORREO ELECTRÓNICO",{"$f":"IFERROR(WORKDAY(C512,P512,DiasNOLaborables),\"\")","v":"2021-11-18"},{"$f":"+IF(C512=\"\",\"\",IF(H512=\"\",\"SIN RESPUESTA\",(IF(H512<=J512,\"A TIEMPO\",\"FUERA DE TIEMPO\"))))","v":"A TIEMPO"},{"$f":"IF(H512=\"\",\"\",NETWORKDAYS(C512+1,H512,DiasNOLaborables))","v":20},{"$f":"IF(NETWORKDAYS(J512+1,H512,DiasNOLaborables)<=0,\"\",NETWORKDAYS(J512+1,H512,DiasNOLaborables))","v":""},null,null,{"$f":"IFERROR(VLOOKUP(E512,$X$51:$Y$64,2),\"\")","v":20}]
[502,20219050121052,"2021-10-19","CORREO ELECTRÓNICO","SOLICITUD DE INFORMACIÓN Y DOCUMENTOS","BOSQUES","SUBDIRECCIÓN DE ECOSISTEMAS E INFORMACIÓN AMBIENTAL","2021-10-12","CORREO ELECTRÓNICO",{"$f":"IFERROR(WORKDAY(C513,P513,DiasNOLaborables),\"\")","v":"2021-11-18"},{"$f":"+IF(C513=\"\",\"\",IF(H513=\"\",\"SIN RESPUESTA\",(IF(H513<=J513,\"A TIEMPO\",\"FUERA DE TIEMPO\"))))","v":"A TIEMPO"},{"$f":"IF(H513=\"\",\"\",NETWORKDAYS(C513+1,H513,DiasNOLaborables))","v":-6},{"$f":"IF(NETWORKDAYS(J513+1,H513,DiasNOLaborables)<=0,\"\",NETWORKDAYS(J513+1,H513,DiasNOLaborables))","v":""},null,null,{"$f":"IFERROR(VLOOKUP(E513,$X$51:$Y$64,2),\"\")","v":20}]
[503,20219050121082,"2021-10-19","MODULO CONTACTENOS","SOLICITUD DE INFORMACIÓN Y DOCUMENTOS","SOLICITUD DE INFORMACIÓN HIDROMETEOROLÓGICA","GRUPO DE SERVICIO AL CIUDADANO ","2021-10-22","CORREO ELECTRÓNICO",{"$f":"IFERROR(WORKDAY(C514,P514,DiasNOLaborables),\"\")","v":"2021-11-18"},{"$f":"+IF(C514=\"\",\"\",IF(H514=\"\",\"SIN RESPUESTA\",(IF(H514<=J514,\"A TIEMPO\",\"FUERA DE TIEMPO\"))))","v":"A TIEMPO"},{"$f":"IF(H514=\"\",\"\",NETWORKDAYS(C514+1,H514,DiasNOLaborables))","v":3},{"$f":"IF(NETWORKDAYS(J514+1,H514,DiasNOLaborables)<=0,\"\",NETWORKDAYS(J514+1,H514,DiasNOLaborables))","v":""},null,null,{"$f":"IFERROR(VLOOKUP(E514,$X$51:$Y$64,2),\"\")","v":20}]
[504,20219050121122,"2021-10-19","MODULO CONTACTENOS","SOLICITUD DE INFORMACIÓN Y DOCUMENTOS","SOLICITUD DE INFORMACIÓN HIDROMETEOROLÓGICA","GRUPO DE SERVICIO AL CIUDADANO ","2021-10-22","CORREO ELECTRÓNICO",{"$f":"IFERROR(WORKDAY(C515,P515,DiasNOLaborables),\"\")","v":"2021-11-18"},{"$f":"+IF(C515=\"\",\"\",IF(H515=\"\",\"SIN RESPUESTA\",(IF(H515<=J515,\"A TIEMPO\",\"FUERA DE TIEMPO\"))))","v":"A TIEMPO"},{"$f":"IF(H515=\"\",\"\",NETWORKDAYS(C515+1,H515,DiasNOLaborables))","v":3},{"$f":"IF(NETWORKDAYS(J515+1,H515,DiasNOLaborables)<=0,\"\",NETWORKDAYS(J515+1,H515,DiasNOLaborables))","v":""},null,null,{"$f":"IFERROR(VLOOKUP(E515,$X$51:$Y$64,2),\"\")","v":20}]
[505,20219050121112,"2021-10-19","MODULO CONTACTENOS","SOLICITUD DE INFORMACIÓN Y DOCUMENTOS","SOLICITUD DE INFORMACIÓN HIDROMETEOROLÓGICA","GRUPO DE SERVICIO AL CIUDADANO ","2021-10-20","CORREO ELECTRÓNICO",{"$f":"IFERROR(WORKDAY(C516,P516,DiasNOLaborables),\"\")","v":"2021-11-18"},{"$f":"+IF(C516=\"\",\"\",IF(H516=\"\",\"SIN RESPUESTA\",(IF(H516<=J516,\"A TIEMPO\",\"FUERA DE TIEMPO\"))))","v":"A TIEMPO"},{"$f":"IF(H516=\"\",\"\",NETWORKDAYS(C516+1,H516,DiasNOLaborables))","v":1},{"$f":"IF(NETWORKDAYS(J516+1,H516,DiasNOLaborables)<=0,\"\",NETWORKDAYS(J516+1,H516,DiasNOLaborables))","v":""},null,null,{"$f":"IFERROR(VLOOKUP(E516,$X$51:$Y$64,2),\"\")","v":20}]
[506,20219050121192,"2021-10-19","MODULO CONTACTENOS","SOLICITUD DE INFORMACIÓN Y DOCUMENTOS","SOLICITUD DE INFORMACIÓN HIDROMETEOROLÓGICA","GRUPO DE SERVICIO AL CIUDADANO ","2021-10-21","CORREO ELECTRÓNICO",{"$f":"IFERROR(WORKDAY(C517,P517,DiasNOLaborables),\"\")","v":"2021-11-18"},{"$f":"+IF(C517=\"\",\"\",IF(H517=\"\",\"SIN RESPUESTA\",(IF(H517<=J517,\"A TIEMPO\",\"FUERA DE TIEMPO\"))))","v":"A TIEMPO"},{"$f":"IF(H517=\"\",\"\",NETWORKDAYS(C517+1,H517,DiasNOLaborables))","v":2},{"$f":"IF(NETWORKDAYS(J517+1,H517,DiasNOLaborables)<=0,\"\",NETWORKDAYS(J517+1,H517,DiasNOLaborables))","v":""},null,null,{"$f":"IFERROR(VLOOKUP(E517,$X$51:$Y$64,2),\"\")","v":20}]
[507,20219050121222,"2021-10-19","MODULO CONTACTENOS","SOLICITUD DE INFORMACIÓN Y DOCUMENTOS","SOLICITUD DE INFORMACIÓN HIDROMETEOROLÓGICA","GRUPO DE SERVICIO AL CIUDADANO ","2021-10-25","CORREO ELECTRÓNICO",{"$f":"IFERROR(WORKDAY(C518,P518,DiasNOLaborables),\"\")","v":"2021-11-18"},{"$f":"+IF(C518=\"\",\"\",IF(H518=\"\",\"SIN RESPUESTA\",(IF(H518<=J518,\"A TIEMPO\",\"FUERA DE TIEMPO\"))))","v":"A TIEMPO"},{"$f":"IF(H518=\"\",\"\",NETWORKDAYS(C518+1,H518,DiasNOLaborables))","v":4},{"$f":"IF(NETWORKDAYS(J518+1,H518,DiasNOLaborables)<=0,\"\",NETWORKDAYS(J518+1,H518,DiasNOLaborables))","v":""},null,null,{"$f":"IFERROR(VLOOKUP(E518,$X$51:$Y$64,2),\"\")","v":20}]
[508,20219050121232,"2021-10-19","MODULO CONTACTENOS","SOLICITUD DE INFORMACIÓN Y DOCUMENTOS","SOLICITUD DE INFORMACIÓN HIDROMETEOROLÓGICA","GRUPO DE SERVICIO AL CIUDADANO ","2021-10-25","CORREO ELECTRÓNICO",{"$f":"IFERROR(WORKDAY(C519,P519,DiasNOLaborables),\"\")","v":"2021-11-18"},{"$f":"+IF(C519=\"\",\"\",IF(H519=\"\",\"SIN RESPUESTA\",(IF(H519<=J519,\"A TIEMPO\",\"FUERA DE TIEMPO\"))))","v":"A TIEMPO"},{"$f":"IF(H519=\"\",\"\",NETWORKDAYS(C519+1,H519,DiasNOLaborables))","v":4},{"$f":"IF(NETWORKDAYS(J519+1,H519,DiasNOLaborables)<=0,\"\",NETWORKDAYS(J519+1,H519,DiasNOLaborables))","v":""},null,null,{"$f":"IFERROR(VLOOKUP(E519,$X$51:$Y$64,2),\"\")","v":20}]
[509,20219050121262,"2021-10-19","MODULO CONTACTENOS","SOLICITUD DE INFORMACIÓN Y DOCUMENTOS","SOLICITUD DE INFORMACIÓN HIDROMETEOROLÓGICA","GRUPO DE SERVICIO AL CIUDADANO ","2021-10-25","CORREO ELECTRÓNICO",{"$f":"IFERROR(WORKDAY(C520,P520,DiasNOLaborables),\"\")","v":"2021-11-18"},{"$f":"+IF(C520=\"\",\"\",IF(H520=\"\",\"SIN RESPUESTA\",(IF(H520<=J520,\"A TIEMPO\",\"FUERA DE TIEMPO\"))))","v":"A TIEMPO"},{"$f":"IF(H520=\"\",\"\",NETWORKDAYS(C520+1,H520,DiasNOLaborables))","v":4},{"$f":"IF(NETWORKDAYS(J520+1,H520,DiasNOLaborables)<=0,\"\",NETWORKDAYS(J520+1,H520,DiasNOLaborables))","v":""},null,null,{"$f":"IFERROR(VLOOKUP(E520,$X$51:$Y$64,2),\"\")","v":20}]
[510,20219050121282,"2021-10-20","MODULO CONTACTENOS","SOLICITUD DE INFORMACIÓN Y DOCUMENTOS","SOLICITUD DE INFORMACIÓN HIDROMETEOROLÓGICA","GRUPO DE SERVICIO AL CIUDADANO ","2021-10-25","CORREO ELECTRÓNICO",{"$f":"IFERROR(WORKDAY(C521,P521,DiasNOLaborables),\"\")","v":"2021-11-19"},{"$f":"+IF(C521=\"\",\"\",IF(H521=\"\",\"SIN RESPUESTA\",(IF(H521<=J521,\"A TIEMPO\",\"FUERA DE TIEMPO\"))))","v":"A TIEMPO"},{"$f":"IF(H521=\"\",\"\",NETWORKDAYS(C521+1,H521,DiasNOLaborables))","v":3},{"$f":"IF(NETWORKDAYS(J521+1,H521,DiasNOLaborables)<=0,\"\",NETWORKDAYS(J521+1,H521,DiasNOLaborables))","v":""},null,null,{"$f":"IFERROR(VLOOKUP(E521,$X$51:$Y$64,2),\"\")","v":20}]
[511,20219050121322,"2021-10-20","MODULO CONTACTENOS","SOLICITUD DE INFORMACIÓN Y DOCUMENTOS","SOLICITUD DE INFORMACIÓN HIDROMETEOROLÓGICA","GRUPO DE SERVICIO AL CIUDADANO ","2021-10-25","CORREO ELECTRÓNICO",{"$f":"IFERROR(WORKDAY(C522,P522,DiasNOLaborables),\"\")","v":"2021-11-19"},{"$f":"+IF(C522=\"\",\"\",IF(H522=\"\",\"SIN RESPUESTA\",(IF(H522<=J522,\"A TIEMPO\",\"FUERA DE TIEMPO\"))))","v":"A TIEMPO"},{"$f":"IF(H522=\"\",\"\",NETWORKDAYS(C522+1,H522,DiasNOLaborables))","v":3},{"$f":"IF(NETWORKDAYS(J522+1,H522,DiasNOLaborables)<=0,\"\",NETWORKDAYS(J522+1,H522,DiasNOLaborables))","v":""},null,null,{"$f":"IFERROR(VLOOKUP(E522,$X$51:$Y$64,2),\"\")","v":20}]
[512,20219050121352,"2021-10-20","MODULO CONTACTENOS","SOLICITUD DE INFORMACIÓN Y DOCUMENTOS","SOLICITUD DE INFORMACIÓN HIDROMETEOROLÓGICA","GRUPO DE SERVICIO AL CIUDADANO ","2021-10-25","CORREO ELECTRÓNICO",{"$f":"IFERROR(WORKDAY(C523,P523,DiasNOLaborables),\"\")","v":"2021-11-19"},{"$f":"+IF(C523=\"\",\"\",IF(H523=\"\",\"SIN RESPUESTA\",(IF(H523<=J523,\"A TIEMPO\",\"FUERA DE TIEMPO\"))))","v":"A TIEMPO"},{"$f":"IF(H523=\"\",\"\",NETWORKDAYS(C523+1,H523,DiasNOLaborables))","v":3},{"$f":"IF(NETWORKDAYS(J523+1,H523,DiasNOLaborables)<=0,\"\",NETWORKDAYS(J523+1,H523,DiasNOLaborables))","v":""},null,null,{"$f":"IFERROR(VLOOKUP(E523,$X$51:$Y$64,2),\"\")","v":20}]
[513,20219050121492,"2021-10-20","MODULO CONTACTENOS","SOLICITUD DE INFORMACIÓN Y DOCUMENTOS","SOLICITUD DE INFORMACIÓN HIDROMETEOROLÓGICA","GRUPO DE SERVICIO AL CIUDADANO ","2021-10-25","CORREO ELECTRÓNICO",{"$f":"IFERROR(WORKDAY(C524,P524,DiasNOLaborables),\"\")","v":"2021-11-19"},{"$f":"+IF(C524=\"\",\"\",IF(H524=\"\",\"SIN RESPUESTA\",(IF(H524<=J524,\"A TIEMPO\",\"FUERA DE TIEMPO\"))))","v":"A TIEMPO"},{"$f":"IF(H524=\"\",\"\",NETWORKDAYS(C524+1,H524,DiasNOLaborables))","v":3},{"$f":"IF(NETWORKDAYS(J524+1,H524,DiasNOLaborables)<=0,\"\",NETWORKDAYS(J524+1,H524,DiasNOLaborables))","v":""},null,null,{"$f":"IFERROR(VLOOKUP(E524,$X$51:$Y$64,2),\"\")","v":20}]
[514,20219050121462,"2021-10-20","MODULO CONTACTENOS","SOLICITUD DE INFORMACIÓN Y DOCUMENTOS","SOLICITUD DE INFORMACIÓN HIDROMETEOROLÓGICA","GRUPO DE SERVICIO AL CIUDADANO ","2021-10-22","CORREO ELECTRÓNICO",{"$f":"IFERROR(WORKDAY(C525,P525,DiasNOLaborables),\"\")","v":"2021-11-19"},{"$f":"+IF(C525=\"\",\"\",IF(H525=\"\",\"SIN RESPUESTA\",(IF(H525<=J525,\"A TIEMPO\",\"FUERA DE TIEMPO\"))))","v":"A TIEMPO"},{"$f":"IF(H525=\"\",\"\",NETWORKDAYS(C525+1,H525,DiasNOLaborables))","v":2},{"$f":"IF(NETWORKDAYS(J525+1,H525,DiasNOLaborables)<=0,\"\",NETWORKDAYS(J525+1,H525,DiasNOLaborables))","v":""},null,null,{"$f":"IFERROR(VLOOKUP(E525,$X$51:$Y$64,2),\"\")","v":20}]
[{"$f":"IF(B526<>\"\",A525+1,\"\")","v":515},20219050121562,"2021-10-20","MODULO CONTACTENOS","SOLICITUD DE INFORMACIÓN Y DOCUMENTOS","SOLICITUD DE INFORMACIÓN HIDROMETEOROLÓGICA","GRUPO DE SERVICIO AL CIUDADANO ","2021-10-22","CORREO ELECTRÓNICO",{"$f":"IFERROR(WORKDAY(C526,P526,DiasNOLaborables),\"\")","v":"2021-11-19"},{"$f":"+IF(C526=\"\",\"\",IF(H526=\"\",\"SIN RESPUESTA\",(IF(H526<=J526,\"A TIEMPO\",\"FUERA DE TIEMPO\"))))","v":"A TIEMPO"},{"$f":"IF(H526=\"\",\"\",NETWORKDAYS(C526+1,H526,DiasNOLaborables))","v":2},{"$f":"IF(NETWORKDAYS(J526+1,H526,DiasNOLaborables)<=0,\"\",NETWORKDAYS(J526+1,H526,DiasNOLaborables))","v":""},null,null,{"$f":"IFERROR(VLOOKUP(E526,$X$51:$Y$64,2),\"\")","v":20}]
[516,20219050121602,"2021-10-20","MODULO CONTACTENOS","SOLICITUD DE INFORMACIÓN Y DOCUMENTOS","SOLICITUD DE INFORMACIÓN HIDROMETEOROLÓGICA","GRUPO DE SERVICIO AL CIUDADANO ","2021-10-22","CORREO ELECTRÓNICO",{"$f":"IFERROR(WORKDAY(C527,P527,DiasNOLaborables),\"\")","v":"2021-11-19"},{"$f":"+IF(C527=\"\",\"\",IF(H527=\"\",\"SIN RESPUESTA\",(IF(H527<=J527,\"A TIEMPO\",\"FUERA DE TIEMPO\"))))","v":"A TIEMPO"},{"$f":"IF(H527=\"\",\"\",NETWORKDAYS(C527+1,H527,DiasNOLaborables))","v":2},{"$f":"IF(NETWORKDAYS(J527+1,H527,DiasNOLaborables)<=0,\"\",NETWORKDAYS(J527+1,H527,DiasNOLaborables))","v":""},null,null,{"$f":"IFERROR(VLOOKUP(E527,$X$51:$Y$64,2),\"\")","v":20}]
[517,20219050121622,"2021-10-20","MODULO CONTACTENOS","SOLICITUD DE INFORMACIÓN Y DOCUMENTOS","SOLICITUD DE INFORMACIÓN HIDROMETEOROLÓGICA","GRUPO DE SERVICIO AL CIUDADANO ","2021-10-22","CORREO ELECTRÓNICO",{"$f":"IFERROR(WORKDAY(C528,P528,DiasNOLaborables),\"\")","v":"2021-11-19"},{"$f":"+IF(C528=\"\",\"\",IF(H528=\"\",\"SIN RESPUESTA\",(IF(H528<=J528,\"A TIEMPO\",\"FUERA DE TIEMPO\"))))","v":"A TIEMPO"},{"$f":"IF(H528=\"\",\"\",NETWORKDAYS(C528+1,H528,DiasNOLaborables))","v":2},{"$f":"IF(NETWORKDAYS(J528+1,H528,DiasNOLaborables)<=0,\"\",NETWORKDAYS(J528+1,H528,DiasNOLaborables))","v":""},null,null,{"$f":"IFERROR(VLOOKUP(E528,$X$51:$Y$64,2),\"\")","v":20}]
[518,20219050121642,"2021-10-20","MODULO CONTACTENOS","SOLICITUD DE INFORMACIÓN Y DOCUMENTOS","SOLICITUD DE INFORMACIÓN HIDROMETEOROLÓGICA","GRUPO DE SERVICIO AL CIUDADANO ","2021-10-24","CORREO ELECTRÓNICO",{"$f":"IFERROR(WORKDAY(C529,P529,DiasNOLaborables),\"\")","v":"2021-11-19"},{"$f":"+IF(C529=\"\",\"\",IF(H529=\"\",\"SIN RESPUESTA\",(IF(H529<=J529,\"A TIEMPO\",\"FUERA DE TIEMPO\"))))","v":"A TIEMPO"},{"$f":"IF(H529=\"\",\"\",NETWORKDAYS(C529+1,H529,DiasNOLaborables))","v":2},{"$f":"IF(NETWORKDAYS(J529+1,H529,DiasNOLaborables)<=0,\"\",NETWORKDAYS(J529+1,H529,DiasNOLaborables))","v":""},null,null,{"$f":"IFERROR(VLOOKUP(E529,$X$51:$Y$64,2),\"\")","v":20}]
[519,20219050121652,"2021-10-20","MODULO CONTACTENOS","SOLICITUD DE INFORMACIÓN Y DOCUMENTOS","SOLICITUD DE INFORMACIÓN HIDROMETEOROLÓGICA","GRUPO DE SERVICIO AL CIUDADANO ","2021-10-24","CORREO ELECTRÓNICO",{"$f":"IFERROR(WORKDAY(C530,P530,DiasNOLaborables),\"\")","v":"2021-11-19"},{"$f":"+IF(C530=\"\",\"\",IF(H530=\"\",\"SIN RESPUESTA\",(IF(H530<=J530,\"A TIEMPO\",\"FUERA DE TIEMPO\"))))","v":"A TIEMPO"},{"$f":"IF(H530=\"\",\"\",NETWORKDAYS(C530+1,H530,DiasNOLaborables))","v":2},{"$f":"IF(NETWORKDAYS(J530+1,H530,DiasNOLaborables)<=0,\"\",NETWORKDAYS(J530+1,H530,DiasNOLaborables))","v":""},null,null,{"$f":"IFERROR(VLOOKUP(E530,$X$51:$Y$64,2),\"\")","v":20}]
[520,20219050121732,"2021-10-20","MODULO CONTACTENOS","SOLICITUD DE INFORMACIÓN Y DOCUMENTOS","SOLICITUD DE INFORMACIÓN HIDROMETEOROLÓGICA","GRUPO DE SERVICIO AL CIUDADANO ","2021-10-24","CORREO ELECTRÓNICO",{"$f":"IFERROR(WORKDAY(C531,P531,DiasNOLaborables),\"\")","v":"2021-11-19"},{"$f":"+IF(C531=\"\",\"\",IF(H531=\"\",\"SIN RESPUESTA\",(IF(H531<=J531,\"A TIEMPO\",\"FUERA DE TIEMPO\"))))","v":"A TIEMPO"},{"$f":"IF(H531=\"\",\"\",NETWORKDAYS(C531+1,H531,DiasNOLaborables))","v":2},{"$f":"IF(NETWORKDAYS(J531+1,H531,DiasNOLaborables)<=0,\"\",NETWORKDAYS(J531+1,H531,DiasNOLaborables))","v":""},null,null,{"$f":"IFERROR(VLOOKUP(E531,$X$51:$Y$64,2),\"\")","v":20}]
[521,20219050121312,"2021-10-20","CORREO ELECTRÓNICO","CERTIFICACIONES DE TIEMPO, CLIMA Y EVENTOS HIDROLÓGICOS","CERTIFICACIONES DE TIEMPO Y CLIMA","SUBDIRECCIÓN DE METEOROLOGÍA","2021-11-10","CORREO ELECTRÓNICO",{"$f":"IFERROR(WORKDAY(C532,P532,DiasNOLaborables),\"\")","v":"2021-12-13"},{"$f":"+IF(C532=\"\",\"\",IF(H532=\"\",\"SIN RESPUESTA\",(IF(H532<=J532,\"A TIEMPO\",\"FUERA DE TIEMPO\"))))","v":"A TIEMPO"},{"$f":"IF(H532=\"\",\"\",NETWORKDAYS(C532+1,H532,DiasNOLaborables))","v":14},{"$f":"IF(NETWORKDAYS(J532+1,H532,DiasNOLaborables)<=0,\"\",NETWORKDAYS(J532+1,H532,DiasNOLaborables))","v":""},null,null,{"$f":"IFERROR(VLOOKUP(E532,$X$51:$Y$64,2),\"\")","v":35}]
[522,20219050121332,"2021-10-20","CORREO ELECTRÓNICO","PETICIÓN","BOSQUES","SUBDIRECCIÓN DE ECOSISTEMAS E INFORMACIÓN AMBIENTAL","2021-11-03","CORREO ELECTRÓNICO",{"$f":"IFERROR(WORKDAY(C533,P533,DiasNOLaborables),\"\")","v":"2021-12-03"},{"$f":"+IF(C533=\"\",\"\",IF(H533=\"\",\"SIN RESPUESTA\",(IF(H533<=J533,\"A TIEMPO\",\"FUERA DE TIEMPO\"))))","v":"A TIEMPO"},{"$f":"IF(H533=\"\",\"\",NETWORKDAYS(C533+1,H533,DiasNOLaborables))","v":9},{"$f":"IF(NETWORKDAYS(J533+1,H533,DiasNOLaborables)<=0,\"\",NETWORKDAYS(J533+1,H533,DiasNOLaborables))","v":""},null,null,{"$f":"IFERROR(VLOOKUP(E533,$X$51:$Y$64,2),\"\")","v":30}]
[523,20219050121342,"2021-10-20","CORREO ELECTRÓNICO","PETICIÓN","INFORMES AMBIENTALES","SUBDIRECCIÓN DE HIDROLOGÍA","2021-11-04","CORREO ELECTRÓNICO",{"$f":"IFERROR(WORKDAY(C534,P534,DiasNOLaborables),\"\")","v":"2021-12-03"},{"$f":"+IF(C534=\"\",\"\",IF(H534=\"\",\"SIN RESPUESTA\",(IF(H534<=J534,\"A TIEMPO\",\"FUERA DE TIEMPO\"))))","v":"A TIEMPO"},{"$f":"IF(H534=\"\",\"\",NETWORKDAYS(C534+1,H534,DiasNOLaborables))","v":10},{"$f":"IF(NETWORKDAYS(J534+1,H534,DiasNOLaborables)<=0,\"\",NETWORKDAYS(J534+1,H534,DiasNOLaborables))","v":""},null,null,{"$f":"IFERROR(VLOOKUP(E534,$X$51:$Y$64,2),\"\")","v":30}]
[524,20219050121512,"2021-10-20","CORREO ELECTRÓNICO","CERTIFICACIONES DE TIEMPO, CLIMA Y EVENTOS HIDROLÓGICOS","CERTIFICACIONES DE TIEMPO Y CLIMA","SUBDIRECCIÓN DE METEOROLOGÍA","2021-11-05","CORREO ELECTRÓNICO",{"$f":"IFERROR(WORKDAY(C535,P535,DiasNOLaborables),\"\")","v":"2021-12-13"},{"$f":"+IF(C535=\"\",\"\",IF(H535=\"\",\"SIN RESPUESTA\",(IF(H535<=J535,\"A TIEMPO\",\"FUERA DE TIEMPO\"))))","v":"A TIEMPO"},{"$f":"IF(H535=\"\",\"\",NETWORKDAYS(C535+1,H535,DiasNOLaborables))","v":11},{"$f":"IF(NETWORKDAYS(J535+1,H535,DiasNOLaborables)<=0,\"\",NETWORKDAYS(J535+1,H535,DiasNOLaborables))","v":""},null,null,{"$f":"IFERROR(VLOOKUP(E535,$X$51:$Y$64,2),\"\")","v":35}]
[525,20219050121532,"2021-10-20","CORREO ELECTRÓNICO","CERTIFICACIONES DE TIEMPO, CLIMA Y EVENTOS HIDROLÓGICOS","CERTIFICACIONES DE TIEMPO Y CLIMA","SUBDIRECCIÓN DE METEOROLOGÍA","2021-11-18","CORREO ELECTRÓNICO",{"$f":"IFERROR(WORKDAY(C536,P536,DiasNOLaborables),\"\")","v":"2021-12-13"},{"$f":"+IF(C536=\"\",\"\",IF(H536=\"\",\"SIN RESPUESTA\",(IF(H536<=J536,\"A TIEMPO\",\"FUERA DE TIEMPO\"))))","v":"A TIEMPO"},{"$f":"IF(H536=\"\",\"\",NETWORKDAYS(C536+1,H536,DiasNOLaborables))","v":19},{"$f":"IF(NETWORKDAYS(J536+1,H536,DiasNOLaborables)<=0,\"\",NETWORKDAYS(J536+1,H536,DiasNOLaborables))","v":""},null,null,{"$f":"IFERROR(VLOOKUP(E536,$X$51:$Y$64,2),\"\")","v":35}]
[526,20219050121542,"2021-10-20","CORREO ELECTRÓNICO","SOLICITUD DE INFORMACIÓN Y DOCUMENTOS","JURIDICO","OFICINA ASESORA JURÍDICA","2021-10-29","CORREO ELECTRÓNICO",{"$f":"IFERROR(WORKDAY(C537,P537,DiasNOLaborables),\"\")","v":"2021-11-19"},{"$f":"+IF(C537=\"\",\"\",IF(H537=\"\",\"SIN RESPUESTA\",(IF(H537<=J537,\"A TIEMPO\",\"FUERA DE TIEMPO\"))))","v":"A TIEMPO"},{"$f":"IF(H537=\"\",\"\",NETWORKDAYS(C537+1,H537,DiasNOLaborables))","v":7},{"$f":"IF(NETWORKDAYS(J537+1,H537,DiasNOLaborables)<=0,\"\",NETWORKDAYS(J537+1,H537,DiasNOLaborables))","v":""},null,null,{"$f":"IFERROR(VLOOKUP(E537,$X$51:$Y$64,2),\"\")","v":20}]
[527,20219910056192,"2021-10-20","MODULO CONTACTENOS","CERTIFICACIONES DE TIEMPO, CLIMA Y EVENTOS HIDROLÓGICOS","CERTIFICACIONES DE TIEMPO Y CLIMA","SUBDIRECCIÓN DE METEOROLOGÍA","2021-11-10","CORREO ELECTRÓNICO",{"$f":"IFERROR(WORKDAY(C538,P538,DiasNOLaborables),\"\")","v":"2021-12-13"},{"$f":"+IF(C538=\"\",\"\",IF(H538=\"\",\"SIN RESPUESTA\",(IF(H538<=J538,\"A TIEMPO\",\"FUERA DE TIEMPO\"))))","v":"A TIEMPO"},{"$f":"IF(H538=\"\",\"\",NETWORKDAYS(C538+1,H538,DiasNOLaborables))","v":14},{"$f":"IF(NETWORKDAYS(J538+1,H538,DiasNOLaborables)<=0,\"\",NETWORKDAYS(J538+1,H538,DiasNOLaborables))","v":""},null,null,{"$f":"IFERROR(VLOOKUP(E538,$X$51:$Y$64,2),\"\")","v":35}]
[528,20219050121292,"2021-10-20","MODULO CONTACTENOS","PETICIÓN","ADMINISTRATIVA","GRUPO DE ADMINISTRACIÓN Y DESARROLLO DEL TALENTO HUMANO","2021-11-26","CORREO ELECTRÓNICO",{"$f":"IFERROR(WORKDAY(C539,P539,DiasNOLaborables),\"\")","v":"2021-12-03"},{"$f":"+IF(C539=\"\",\"\",IF(H539=\"\",\"SIN RESPUESTA\",(IF(H539<=J539,\"A TIEMPO\",\"FUERA DE TIEMPO\"))))","v":"A TIEMPO"},{"$f":"IF(H539=\"\",\"\",NETWORKDAYS(C539+1,H539,DiasNOLaborables))","v":25},{"$f":"IF(NETWORKDAYS(J539+1,H539,DiasNOLaborables)<=0,\"\",NETWORKDAYS(J539+1,H539,DiasNOLaborables))","v":""},null,null,{"$f":"IFERROR(VLOOKUP(E539,$X$51:$Y$64,2),\"\")","v":30}]
[529,20219050121452,"2021-10-20","MODULO CONTACTENOS","SOLICITUD DE INFORMACIÓN Y DOCUMENTOS","SIA","SUBDIRECCIÓN DE HIDROLOGÍA","2021-11-04","CORREO ELECTRÓNICO",{"$f":"IFERROR(WORKDAY(C540,P540,DiasNOLaborables),\"\")","v":"2021-11-19"},{"$f":"+IF(C540=\"\",\"\",IF(H540=\"\",\"SIN RESPUESTA\",(IF(H540<=J540,\"A TIEMPO\",\"FUERA DE TIEMPO\"))))","v":"A TIEMPO"},{"$f":"IF(H540=\"\",\"\",NETWORKDAYS(C540+1,H540,DiasNOLaborables))","v":10},{"$f":"IF(NETWORKDAYS(J540+1,H540,DiasNOLaborables)<=0,\"\",NETWORKDAYS(J540+1,H540,DiasNOLaborables))","v":""},null,null,{"$f":"IFERROR(VLOOKUP(E540,$X$51:$Y$64,2),\"\")","v":20}]
[530,20219050121522,"2021-10-20","MODULO CONTACTENOS","SOLICITUD DE INFORMACIÓN Y DOCUMENTOS","ACREDITACIÓN DE LABORATORIOS","SUBDIRECCIÓN DE ESTUDIOS AMBIENTALES","2021-11-03","CORREO ELECTRÓNICO",{"$f":"IFERROR(WORKDAY(C541,P541,DiasNOLaborables),\"\")","v":"2021-11-19"},{"$f":"+IF(C541=\"\",\"\",IF(H541=\"\",\"SIN RESPUESTA\",(IF(H541<=J541,\"A TIEMPO\",\"FUERA DE TIEMPO\"))))","v":"A TIEMPO"},{"$f":"IF(H541=\"\",\"\",NETWORKDAYS(C541+1,H541,DiasNOLaborables))","v":9},{"$f":"IF(NETWORKDAYS(J541+1,H541,DiasNOLaborables)<=0,\"\",NETWORKDAYS(J541+1,H541,DiasNOLaborables))","v":""},null,null,{"$f":"IFERROR(VLOOKUP(E541,$X$51:$Y$64,2),\"\")","v":20}]
[531,20219050121502,"2021-10-20","CORREO ELECTRÓNICO","SOLICITUD DE INFORMACIÓN Y DOCUMENTOS","SOLICITUD DE INFORMACIÓN HIDROMETEOROLÓGICA","GRUPO DE SERVICIO AL CIUDADANO ","2021-11-08","CORREO ELECTRÓNICO",{"$f":"IFERROR(WORKDAY(C542,P542,DiasNOLaborables),\"\")","v":"2021-11-19"},{"$f":"+IF(C542=\"\",\"\",IF(H542=\"\",\"SIN RESPUESTA\",(IF(H542<=J542,\"A TIEMPO\",\"FUERA DE TIEMPO\"))))","v":"A TIEMPO"},{"$f":"IF(H542=\"\",\"\",NETWORKDAYS(C542+1,H542,DiasNOLaborables))","v":12},{"$f":"IF(NETWORKDAYS(J542+1,H542,DiasNOLaborables)<=0,\"\",NETWORKDAYS(J542+1,H542,DiasNOLaborables))","v":""},null,null,{"$f":"IFERROR(VLOOKUP(E542,$X$51:$Y$64,2),\"\")","v":20}]
[532,20219050121552,"2021-10-20","MODULO CONTACTENOS","CERTIFICACIONES DE TIEMPO, CLIMA Y EVENTOS HIDROLÓGICOS","CERTIFICACIONES HIDROLOGICAS","SUBDIRECCIÓN DE HIDROLOGÍA","2021-10-26","CORREO ELECTRÓNICO",{"$f":"IFERROR(WORKDAY(C543,P543,DiasNOLaborables),\"\")","v":"2021-12-13"},{"$f":"+IF(C543=\"\",\"\",IF(H543=\"\",\"SIN RESPUESTA\",(IF(H543<=J543,\"A TIEMPO\",\"FUERA DE TIEMPO\"))))","v":"A TIEMPO"},{"$f":"IF(H543=\"\",\"\",NETWORKDAYS(C543+1,H543,DiasNOLaborables))","v":4},{"$f":"IF(NETWORKDAYS(J543+1,H543,DiasNOLaborables)<=0,\"\",NETWORKDAYS(J543+1,H543,DiasNOLaborables))","v":""},null,null,{"$f":"IFERROR(VLOOKUP(E543,$X$51:$Y$64,2),\"\")","v":35}]
[533,20219050121952,"2021-10-21","MODULO CONTACTENOS","SOLICITUD DE INFORMACIÓN Y DOCUMENTOS","ADMINISTRATIVA","GRUPO DE ADMINISTRACIÓN Y DESARROLLO DEL TALENTO HUMANO","2021-10-21","CORREO ELECTRÓNICO",{"$f":"IFERROR(WORKDAY(C544,P544,DiasNOLaborables),\"\")","v":"2021-11-22"},{"$f":"+IF(C544=\"\",\"\",IF(H544=\"\",\"SIN RESPUESTA\",(IF(H544<=J544,\"A TIEMPO\",\"FUERA DE TIEMPO\"))))","v":"A TIEMPO"},{"$f":"IF(H544=\"\",\"\",NETWORKDAYS(C544+1,H544,DiasNOLaborables))","v":-2},{"$f":"IF(NETWORKDAYS(J544+1,H544,DiasNOLaborables)<=0,\"\",NETWORKDAYS(J544+1,H544,DiasNOLaborables))","v":""},null,null,{"$f":"IFERROR(VLOOKUP(E544,$X$51:$Y$64,2),\"\")","v":20}]
[534,20219050122042,"2021-10-21","MODULO CONTACTENOS","SOLICITUD DE INFORMACIÓN Y DOCUMENTOS","REGISTROS AMBIENTALES","SUBDIRECCIÓN DE ESTUDIOS AMBIENTALES","2021-10-29","CORREO ELECTRÓNICO",{"$f":"IFERROR(WORKDAY(C545,P545,DiasNOLaborables),\"\")","v":"2021-11-22"},{"$f":"+IF(C545=\"\",\"\",IF(H545=\"\",\"SIN RESPUESTA\",(IF(H545<=J545,\"A TIEMPO\",\"FUERA DE TIEMPO\"))))","v":"A TIEMPO"},{"$f":"IF(H545=\"\",\"\",NETWORKDAYS(C545+1,H545,DiasNOLaborables))","v":6},{"$f":"IF(NETWORKDAYS(J545+1,H545,DiasNOLaborables)<=0,\"\",NETWORKDAYS(J545+1,H545,DiasNOLaborables))","v":""},null,null,{"$f":"IFERROR(VLOOKUP(E545,$X$51:$Y$64,2),\"\")","v":20}]
[535,20219050121852,"2021-10-21","CORREO ELECTRÓNICO","PETICIÓN","CERTIFICACIONES DE TIEMPO Y CLIMA","SUBDIRECCIÓN DE METEOROLOGÍA","2021-11-09","CORREO ELECTRÓNICO",{"$f":"IFERROR(WORKDAY(C546,P546,DiasNOLaborables),\"\")","v":"2021-12-06"},{"$f":"+IF(C546=\"\",\"\",IF(H546=\"\",\"SIN RESPUESTA\",(IF(H546<=J546,\"A TIEMPO\",\"FUERA DE TIEMPO\"))))","v":"A TIEMPO"},{"$f":"IF(H546=\"\",\"\",NETWORKDAYS(C546+1,H546,DiasNOLaborables))","v":12},{"$f":"IF(NETWORKDAYS(J546+1,H546,DiasNOLaborables)<=0,\"\",NETWORKDAYS(J546+1,H546,DiasNOLaborables))","v":""},null,null,{"$f":"IFERROR(VLOOKUP(E546,$X$51:$Y$64,2),\"\")","v":30}]
[536,20219050121942,"2021-10-21","CORREO ELECTRÓNICO","PETICIÓN","INFORMES AMBIENTALES","SUBDIRECCIÓN DE HIDROLOGÍA","2021-10-29","CORREO ELECTRÓNICO",{"$f":"IFERROR(WORKDAY(C547,P547,DiasNOLaborables),\"\")","v":"2021-12-06"},{"$f":"+IF(C547=\"\",\"\",IF(H547=\"\",\"SIN RESPUESTA\",(IF(H547<=J547,\"A TIEMPO\",\"FUERA DE TIEMPO\"))))","v":"A TIEMPO"},{"$f":"IF(H547=\"\",\"\",NETWORKDAYS(C547+1,H547,DiasNOLaborables))","v":6},{"$f":"IF(NETWORKDAYS(J547+1,H547,DiasNOLaborables)<=0,\"\",NETWORKDAYS(J547+1,H547,DiasNOLaborables))","v":""},null,null,{"$f":"IFERROR(VLOOKUP(E547,$X$51:$Y$64,2),\"\")","v":30}]
[537,20219050121962,"2021-10-21","CORREO ELECTRÓNICO","SOLICITUD DE INFORMACIÓN Y DOCUMENTOS","ADMINISTRATIVA","GRUPO DE ADMINISTRACIÓN Y DESARROLLO DEL TALENTO HUMANO","2021-10-27","CORREO ELECTRÓNICO",{"$f":"IFERROR(WORKDAY(C548,P548,DiasNOLaborables),\"\")","v":"2021-11-22"},{"$f":"+IF(C548=\"\",\"\",IF(H548=\"\",\"SIN RESPUESTA\",(IF(H548<=J548,\"A TIEMPO\",\"FUERA DE TIEMPO\"))))","v":"A TIEMPO"},{"$f":"IF(H548=\"\",\"\",NETWORKDAYS(C548+1,H548,DiasNOLaborables))","v":4},{"$f":"IF(NETWORKDAYS(J548+1,H548,DiasNOLaborables)<=0,\"\",NETWORKDAYS(J548+1,H548,DiasNOLaborables))","v":""},null,null,{"$f":"IFERROR(VLOOKUP(E548,$X$51:$Y$64,2),\"\")","v":20}]
[538,20219050122022,"2021-10-21","CORREO ELECTRÓNICO","SOLICITUD DE INFORMACIÓN Y DOCUMENTOS","INFORMES AMBIENTALES","SUBDIRECCIÓN DE ESTUDIOS AMBIENTALES","2021-10-29","CORREO ELECTRÓNICO",{"$f":"IFERROR(WORKDAY(C549,P549,DiasNOLaborables),\"\")","v":"2021-11-22"},{"$f":"+IF(C549=\"\",\"\",IF(H549=\"\",\"SIN RESPUESTA\",(IF(H549<=J549,\"A TIEMPO\",\"FUERA DE TIEMPO\"))))","v":"A TIEMPO"},{"$f":"IF(H549=\"\",\"\",NETWORKDAYS(C549+1,H549,DiasNOLaborables))","v":6},{"$f":"IF(NETWORKDAYS(J549+1,H549,DiasNOLaborables)<=0,\"\",NETWORKDAYS(J549+1,H549,DiasNOLaborables))","v":""},null,null,{"$f":"IFERROR(VLOOKUP(E549,$X$51:$Y$64,2),\"\")","v":20}]
[539,20219050122062,"2021-10-21","CORREO ELECTRÓNICO","SOLICITUD DE INFORMACIÓN Y DOCUMENTOS","ACREDITACIÓN DE LABORATORIOS","SUBDIRECCIÓN DE ESTUDIOS AMBIENTALES","2021-11-03","CORREO ELECTRÓNICO",{"$f":"IFERROR(WORKDAY(C550,P550,DiasNOLaborables),\"\")","v":"2021-11-22"},{"$f":"+IF(C550=\"\",\"\",IF(H550=\"\",\"SIN RESPUESTA\",(IF(H550<=J550,\"A TIEMPO\",\"FUERA DE TIEMPO\"))))","v":"A TIEMPO"},{"$f":"IF(H550=\"\",\"\",NETWORKDAYS(C550+1,H550,DiasNOLaborables))","v":8},{"$f":"IF(NETWORKDAYS(J550+1,H550,DiasNOLaborables)<=0,\"\",NETWORKDAYS(J550+1,H550,DiasNOLaborables))","v":""},null,null,{"$f":"IFERROR(VLOOKUP(E550,$X$51:$Y$64,2),\"\")","v":20}]
[540,20219050122072,"2021-10-21","CORREO ELECTRÓNICO","CERTIFICACIONES DE TIEMPO, CLIMA Y EVENTOS HIDROLÓGICOS","CERTIFICACIONES DE TIEMPO Y CLIMA","SUBDIRECCIÓN DE METEOROLOGÍA","2021-11-10","CORREO ELECTRÓNICO",{"$f":"IFERROR(WORKDAY(C551,P551,DiasNOLaborables),\"\")","v":"2021-12-14"},{"$f":"+IF(C551=\"\",\"\",IF(H551=\"\",\"SIN RESPUESTA\",(IF(H551<=J551,\"A TIEMPO\",\"FUERA DE TIEMPO\"))))","v":"A TIEMPO"},{"$f":"IF(H551=\"\",\"\",NETWORKDAYS(C551+1,H551,DiasNOLaborables))","v":13},{"$f":"IF(NETWORKDAYS(J551+1,H551,DiasNOLaborables)<=0,\"\",NETWORKDAYS(J551+1,H551,DiasNOLaborables))","v":""},null,null,{"$f":"IFERROR(VLOOKUP(E551,$X$51:$Y$64,2),\"\")","v":35}]
[541,20219050122112,"2021-10-21","CORREO ELECTRÓNICO","SOLICITUD DE INFORMACIÓN Y DOCUMENTOS","ACREDITACIÓN DE LABORATORIOS","SUBDIRECCIÓN DE ESTUDIOS AMBIENTALES","2021-11-03","CORREO ELECTRÓNICO",{"$f":"IFERROR(WORKDAY(C552,P552,DiasNOLaborables),\"\")","v":"2021-11-22"},{"$f":"+IF(C552=\"\",\"\",IF(H552=\"\",\"SIN RESPUESTA\",(IF(H552<=J552,\"A TIEMPO\",\"FUERA DE TIEMPO\"))))","v":"A TIEMPO"},{"$f":"IF(H552=\"\",\"\",NETWORKDAYS(C552+1,H552,DiasNOLaborables))","v":8},{"$f":"IF(NETWORKDAYS(J552+1,H552,DiasNOLaborables)<=0,\"\",NETWORKDAYS(J552+1,H552,DiasNOLaborables))","v":""},null,null,{"$f":"IFERROR(VLOOKUP(E552,$X$51:$Y$64,2),\"\")","v":20}]
[542,20219050121782,"2021-10-21","MODULO CONTACTENOS","SOLICITUD DE INFORMACIÓN Y DOCUMENTOS","SOLICITUD DE INFORMACIÓN HIDROMETEOROLÓGICA","GRUPO DE SERVICIO AL CIUDADANO ","2021-10-25","CORREO ELECTRÓNICO",{"$f":"IFERROR(WORKDAY(C553,P553,DiasNOLaborables),\"\")","v":"2021-11-22"},{"$f":"+IF(C553=\"\",\"\",IF(H553=\"\",\"SIN RESPUESTA\",(IF(H553<=J553,\"A TIEMPO\",\"FUERA DE TIEMPO\"))))","v":"A TIEMPO"},{"$f":"IF(H553=\"\",\"\",NETWORKDAYS(C553+1,H553,DiasNOLaborables))","v":2},{"$f":"IF(NETWORKDAYS(J553+1,H553,DiasNOLaborables)<=0,\"\",NETWORKDAYS(J553+1,H553,DiasNOLaborables))","v":""},null,null,{"$f":"IFERROR(VLOOKUP(E553,$X$51:$Y$64,2),\"\")","v":20}]
[543,20219050121812,"2021-10-21","MODULO CONTACTENOS","SOLICITUD DE INFORMACIÓN Y DOCUMENTOS","SOLICITUD DE INFORMACIÓN HIDROMETEOROLÓGICA","GRUPO DE SERVICIO AL CIUDADANO ","2021-10-25","CORREO ELECTRÓNICO",{"$f":"IFERROR(WORKDAY(C554,P554,DiasNOLaborables),\"\")","v":"2021-11-22"},{"$f":"+IF(C554=\"\",\"\",IF(H554=\"\",\"SIN RESPUESTA\",(IF(H554<=J554,\"A TIEMPO\",\"FUERA DE TIEMPO\"))))","v":"A TIEMPO"},{"$f":"IF(H554=\"\",\"\",NETWORKDAYS(C554+1,H554,DiasNOLaborables))","v":2},{"$f":"IF(NETWORKDAYS(J554+1,H554,DiasNOLaborables)<=0,\"\",NETWORKDAYS(J554+1,H554,DiasNOLaborables))","v":""},null,null,{"$f":"IFERROR(VLOOKUP(E554,$X$51:$Y$64,2),\"\")","v":20}]
[544,20219050121832,"2021-10-21","CORREO ELECTRÓNICO","SOLICITUD DE INFORMACIÓN Y DOCUMENTOS","SOLICITUD DE INFORMACIÓN HIDROMETEOROLÓGICA","GRUPO DE SERVICIO AL CIUDADANO ","2021-10-25","CORREO ELECTRÓNICO",{"$f":"IFERROR(WORKDAY(C555,P555,DiasNOLaborables),\"\")","v":"2021-11-22"},{"$f":"+IF(C555=\"\",\"\",IF(H555=\"\",\"SIN RESPUESTA\",(IF(H555<=J555,\"A TIEMPO\",\"FUERA DE TIEMPO\"))))","v":"A TIEMPO"},{"$f":"IF(H555=\"\",\"\",NETWORKDAYS(C555+1,H555,DiasNOLaborables))","v":2},{"$f":"IF(NETWORKDAYS(J555+1,H555,DiasNOLaborables)<=0,\"\",NETWORKDAYS(J555+1,H555,DiasNOLaborables))","v":""},null,null,{"$f":"IFERROR(VLOOKUP(E555,$X$51:$Y$64,2),\"\")","v":20}]
[545,20219050121842,"2021-10-21","MODULO CONTACTENOS","SOLICITUD DE INFORMACIÓN Y DOCUMENTOS","SOLICITUD DE INFORMACIÓN HIDROMETEOROLÓGICA","GRUPO DE SERVICIO AL CIUDADANO ","2021-10-25","CORREO ELECTRÓNICO",{"$f":"IFERROR(WORKDAY(C556,P556,DiasNOLaborables),\"\")","v":"2021-11-22"},{"$f":"+IF(C556=\"\",\"\",IF(H556=\"\",\"SIN RESPUESTA\",(IF(H556<=J556,\"A TIEMPO\",\"FUERA DE TIEMPO\"))))","v":"A TIEMPO"},{"$f":"IF(H556=\"\",\"\",NETWORKDAYS(C556+1,H556,DiasNOLaborables))","v":2},{"$f":"IF(NETWORKDAYS(J556+1,H556,DiasNOLaborables)<=0,\"\",NETWORKDAYS(J556+1,H556,DiasNOLaborables))","v":""},null,null,{"$f":"IFERROR(VLOOKUP(E556,$X$51:$Y$64,2),\"\")","v":20}]
[546,20219050121862,"2021-10-21","CORREO ELECTRÓNICO","PETICIÓN","SOLICITUD DE INFORMACIÓN HIDROMETEOROLÓGICA","GRUPO DE SERVICIO AL CIUDADANO ","2021-10-25","CORREO ELECTRÓNICO",{"$f":"IFERROR(WORKDAY(C557,P557,DiasNOLaborables),\"\")","v":"2021-12-06"},{"$f":"+IF(C557=\"\",\"\",IF(H557=\"\",\"SIN RESPUESTA\",(IF(H557<=J557,\"A TIEMPO\",\"FUERA DE TIEMPO\"))))","v":"A TIEMPO"},{"$f":"IF(H557=\"\",\"\",NETWORKDAYS(C557+1,H557,DiasNOLaborables))","v":2},{"$f":"IF(NETWORKDAYS(J557+1,H557,DiasNOLaborables)<=0,\"\",NETWORKDAYS(J557+1,H557,DiasNOLaborables))","v":""},null,null,{"$f":"IFERROR(VLOOKUP(E557,$X$51:$Y$64,2),\"\")","v":30}]
[547,20219050121872,"2021-10-21","CORREO ELECTRÓNICO","PETICIÓN","SOLICITUD DE INFORMACIÓN HIDROMETEOROLÓGICA","GRUPO DE SERVICIO AL CIUDADANO ","2021-10-25","CORREO ELECTRÓNICO",{"$f":"IFERROR(WORKDAY(C558,P558,DiasNOLaborables),\"\")","v":"2021-12-06"},{"$f":"+IF(C558=\"\",\"\",IF(H558=\"\",\"SIN RESPUESTA\",(IF(H558<=J558,\"A TIEMPO\",\"FUERA DE TIEMPO\"))))","v":"A TIEMPO"},{"$f":"IF(H558=\"\",\"\",NETWORKDAYS(C558+1,H558,DiasNOLaborables))","v":2},{"$f":"IF(NETWORKDAYS(J558+1,H558,DiasNOLaborables)<=0,\"\",NETWORKDAYS(J558+1,H558,DiasNOLaborables))","v":""},null,null,{"$f":"IFERROR(VLOOKUP(E558,$X$51:$Y$64,2),\"\")","v":30}]
[548,20219050121882,"2021-10-21","CORREO ELECTRÓNICO","PETICIÓN","SOLICITUD DE INFORMACIÓN HIDROMETEOROLÓGICA","GRUPO DE SERVICIO AL CIUDADANO ","2021-10-25","CORREO ELECTRÓNICO",{"$f":"IFERROR(WORKDAY(C559,P559,DiasNOLaborables),\"\")","v":"2021-12-06"},{"$f":"+IF(C559=\"\",\"\",IF(H559=\"\",\"SIN RESPUESTA\",(IF(H559<=J559,\"A TIEMPO\",\"FUERA DE TIEMPO\"))))","v":"A TIEMPO"},{"$f":"IF(H559=\"\",\"\",NETWORKDAYS(C559+1,H559,DiasNOLaborables))","v":2},{"$f":"IF(NETWORKDAYS(J559+1,H559,DiasNOLaborables)<=0,\"\",NETWORKDAYS(J559+1,H559,DiasNOLaborables))","v":""},null,null,{"$f":"IFERROR(VLOOKUP(E559,$X$51:$Y$64,2),\"\")","v":30}]
[549,20219050121892,"2021-10-21","CORREO ELECTRÓNICO","SOLICITUD DE INFORMACIÓN Y DOCUMENTOS","SOLICITUD DE INFORMACIÓN HIDROMETEOROLÓGICA","GRUPO DE SERVICIO AL CIUDADANO ","2021-10-25","CORREO ELECTRÓNICO",{"$f":"IFERROR(WORKDAY(C560,P560,DiasNOLaborables),\"\")","v":"2021-11-22"},{"$f":"+IF(C560=\"\",\"\",IF(H560=\"\",\"SIN RESPUESTA\",(IF(H560<=J560,\"A TIEMPO\",\"FUERA DE TIEMPO\"))))","v":"A TIEMPO"},{"$f":"IF(H560=\"\",\"\",NETWORKDAYS(C560+1,H560,DiasNOLaborables))","v":2},{"$f":"IF(NETWORKDAYS(J560+1,H560,DiasNOLaborables)<=0,\"\",NETWORKDAYS(J560+1,H560,DiasNOLaborables))","v":""},null,null,{"$f":"IFERROR(VLOOKUP(E560,$X$51:$Y$64,2),\"\")","v":20}]
[550,20219050121902,"2021-10-21","CORREO ELECTRÓNICO","SOLICITUD DE INFORMACIÓN Y DOCUMENTOS","SOLICITUD DE INFORMACIÓN HIDROMETEOROLÓGICA","GRUPO DE SERVICIO AL CIUDADANO ","2021-10-25","CORREO ELECTRÓNICO",{"$f":"IFERROR(WORKDAY(C561,P561,DiasNOLaborables),\"\")","v":"2021-11-22"},{"$f":"+IF(C561=\"\",\"\",IF(H561=\"\",\"SIN RESPUESTA\",(IF(H561<=J561,\"A TIEMPO\",\"FUERA DE TIEMPO\"))))","v":"A TIEMPO"},{"$f":"IF(H561=\"\",\"\",NETWORKDAYS(C561+1,H561,DiasNOLaborables))","v":2},{"$f":"IF(NETWORKDAYS(J561+1,H561,DiasNOLaborables)<=0,\"\",NETWORKDAYS(J561+1,H561,DiasNOLaborables))","v":""},null,null,{"$f":"IFERROR(VLOOKUP(E561,$X$51:$Y$64,2),\"\")","v":20}]
[551,20219050121912,"2021-10-21","CORREO ELECTRÓNICO","SOLICITUD DE INFORMACIÓN Y DOCUMENTOS","SOLICITUD DE INFORMACIÓN HIDROMETEOROLÓGICA","GRUPO DE SERVICIO AL CIUDADANO ","2021-10-25","CORREO ELECTRÓNICO",{"$f":"IFERROR(WORKDAY(C562,P562,DiasNOLaborables),\"\")","v":"2021-11-22"},{"$f":"+IF(C562=\"\",\"\",IF(H562=\"\",\"SIN RESPUESTA\",(IF(H562<=J562,\"A TIEMPO\",\"FUERA DE TIEMPO\"))))","v":"A TIEMPO"},{"$f":"IF(H562=\"\",\"\",NETWORKDAYS(C562+1,H562,DiasNOLaborables))","v":2},{"$f":"IF(NETWORKDAYS(J562+1,H562,DiasNOLaborables)<=0,\"\",NETWORKDAYS(J562+1,H562,DiasNOLaborables))","v":""},null,null,{"$f":"IFERROR(VLOOKUP(E562,$X$51:$Y$64,2),\"\")","v":20}]
[552,20219050121932,"2021-10-21","MODULO CONTACTENOS","SOLICITUD DE INFORMACIÓN Y DOCUMENTOS","SOLICITUD DE INFORMACIÓN HIDROMETEOROLÓGICA","GRUPO DE SERVICIO AL CIUDADANO ","2021-10-25","CORREO ELECTRÓNICO",{"$f":"IFERROR(WORKDAY(C563,P563,DiasNOLaborables),\"\")","v":"2021-11-22"},{"$f":"+IF(C563=\"\",\"\",IF(H563=\"\",\"SIN RESPUESTA\",(IF(H563<=J563,\"A TIEMPO\",\"FUERA DE TIEMPO\"))))","v":"A TIEMPO"},{"$f":"IF(H563=\"\",\"\",NETWORKDAYS(C563+1,H563,DiasNOLaborables))","v":2},{"$f":"IF(NETWORKDAYS(J563+1,H563,DiasNOLaborables)<=0,\"\",NETWORKDAYS(J563+1,H563,DiasNOLaborables))","v":""},null,null,{"$f":"IFERROR(VLOOKUP(E563,$X$51:$Y$64,2),\"\")","v":20}]
[553,20219050121922,"2021-10-21","MODULO CONTACTENOS","SOLICITUD DE INFORMACIÓN Y DOCUMENTOS","SOLICITUD DE INFORMACIÓN HIDROMETEOROLÓGICA","GRUPO DE SERVICIO AL CIUDADANO ","2021-10-25","CORREO ELECTRÓNICO",{"$f":"IFERROR(WORKDAY(C564,P564,DiasNOLaborables),\"\")","v":"2021-11-22"},{"$f":"+IF(C564=\"\",\"\",IF(H564=\"\",\"SIN RESPUESTA\",(IF(H564<=J564,\"A TIEMPO\",\"FUERA DE TIEMPO\"))))","v":"A TIEMPO"},{"$f":"IF(H564=\"\",\"\",NETWORKDAYS(C564+1,H564,DiasNOLaborables))","v":2},{"$f":"IF(NETWORKDAYS(J564+1,H564,DiasNOLaborables)<=0,\"\",NETWORKDAYS(J564+1,H564,DiasNOLaborables))","v":""},null,null,{"$f":"IFERROR(VLOOKUP(E564,$X$51:$Y$64,2),\"\")","v":20}]
[554,20219050121972,"2021-10-21","CORREO ELECTRÓNICO","SOLICITUD DE INFORMACIÓN Y DOCUMENTOS","SOLICITUD DE INFORMACIÓN HIDROMETEOROLÓGICA","GRUPO DE SERVICIO AL CIUDADANO ","2021-10-25","CORREO ELECTRÓNICO",{"$f":"IFERROR(WORKDAY(C565,P565,DiasNOLaborables),\"\")","v":"2021-11-22"},{"$f":"+IF(C565=\"\",\"\",IF(H565=\"\",\"SIN RESPUESTA\",(IF(H565<=J565,\"A TIEMPO\",\"FUERA DE TIEMPO\"))))","v":"A TIEMPO"},{"$f":"IF(H565=\"\",\"\",NETWORKDAYS(C565+1,H565,DiasNOLaborables))","v":2},{"$f":"IF(NETWORKDAYS(J565+1,H565,DiasNOLaborables)<=0,\"\",NETWORKDAYS(J565+1,H565,DiasNOLaborables))","v":""},null,null,{"$f":"IFERROR(VLOOKUP(E565,$X$51:$Y$64,2),\"\")","v":20}]
[555,20219050121982,"2021-10-21","CORREO ELECTRÓNICO","SOLICITUD DE INFORMACIÓN Y DOCUMENTOS","SOLICITUD DE INFORMACIÓN HIDROMETEOROLÓGICA","GRUPO DE SERVICIO AL CIUDADANO ","2021-10-25","CORREO ELECTRÓNICO",{"$f":"IFERROR(WORKDAY(C566,P566,DiasNOLaborables),\"\")","v":"2021-11-22"},{"$f":"+IF(C566=\"\",\"\",IF(H566=\"\",\"SIN RESPUESTA\",(IF(H566<=J566,\"A TIEMPO\",\"FUERA DE TIEMPO\"))))","v":"A TIEMPO"},{"$f":"IF(H566=\"\",\"\",NETWORKDAYS(C566+1,H566,DiasNOLaborables))","v":2},{"$f":"IF(NETWORKDAYS(J566+1,H566,DiasNOLaborables)<=0,\"\",NETWORKDAYS(J566+1,H566,DiasNOLaborables))","v":""},null,null,{"$f":"IFERROR(VLOOKUP(E566,$X$51:$Y$64,2),\"\")","v":20}]
[556,20219050122002,"2021-10-21","MODULO CONTACTENOS","SOLICITUD DE INFORMACIÓN Y DOCUMENTOS","SOLICITUD DE INFORMACIÓN HIDROMETEOROLÓGICA","GRUPO DE SERVICIO AL CIUDADANO ","2021-10-25","CORREO ELECTRÓNICO",{"$f":"IFERROR(WORKDAY(C567,P567,DiasNOLaborables),\"\")","v":"2021-11-22"},{"$f":"+IF(C567=\"\",\"\",IF(H567=\"\",\"SIN RESPUESTA\",(IF(H567<=J567,\"A TIEMPO\",\"FUERA DE TIEMPO\"))))","v":"A TIEMPO"},{"$f":"IF(H567=\"\",\"\",NETWORKDAYS(C567+1,H567,DiasNOLaborables))","v":2},{"$f":"IF(NETWORKDAYS(J567+1,H567,DiasNOLaborables)<=0,\"\",NETWORKDAYS(J567+1,H567,DiasNOLaborables))","v":""},null,null,{"$f":"IFERROR(VLOOKUP(E567,$X$51:$Y$64,2),\"\")","v":20}]
[557,20219050122012,"2021-10-21","MODULO CONTACTENOS","SOLICITUD DE INFORMACIÓN Y DOCUMENTOS","SOLICITUD DE INFORMACIÓN HIDROMETEOROLÓGICA","GRUPO DE SERVICIO AL CIUDADANO ","2021-10-26","CORREO ELECTRÓNICO",{"$f":"IFERROR(WORKDAY(C568,P568,DiasNOLaborables),\"\")","v":"2021-11-22"},{"$f":"+IF(C568=\"\",\"\",IF(H568=\"\",\"SIN RESPUESTA\",(IF(H568<=J568,\"A TIEMPO\",\"FUERA DE TIEMPO\"))))","v":"A TIEMPO"},{"$f":"IF(H568=\"\",\"\",NETWORKDAYS(C568+1,H568,DiasNOLaborables))","v":3},{"$f":"IF(NETWORKDAYS(J568+1,H568,DiasNOLaborables)<=0,\"\",NETWORKDAYS(J568+1,H568,DiasNOLaborables))","v":""},null,null,{"$f":"IFERROR(VLOOKUP(E568,$X$51:$Y$64,2),\"\")","v":20}]
[558,20219050122052,"2021-10-21","MODULO CONTACTENOS","SOLICITUD DE INFORMACIÓN Y DOCUMENTOS","SOLICITUD DE INFORMACIÓN HIDROMETEOROLÓGICA","GRUPO DE SERVICIO AL CIUDADANO ","2021-10-26","CORREO ELECTRÓNICO",{"$f":"IFERROR(WORKDAY(C569,P569,DiasNOLaborables),\"\")","v":"2021-11-22"},{"$f":"+IF(C569=\"\",\"\",IF(H569=\"\",\"SIN RESPUESTA\",(IF(H569<=J569,\"A TIEMPO\",\"FUERA DE TIEMPO\"))))","v":"A TIEMPO"},{"$f":"IF(H569=\"\",\"\",NETWORKDAYS(C569+1,H569,DiasNOLaborables))","v":3},{"$f":"IF(NETWORKDAYS(J569+1,H569,DiasNOLaborables)<=0,\"\",NETWORKDAYS(J569+1,H569,DiasNOLaborables))","v":""},null,null,{"$f":"IFERROR(VLOOKUP(E569,$X$51:$Y$64,2),\"\")","v":20}]
[559,20219050122082,"2021-10-21","CORREO ELECTRÓNICO","SOLICITUD DE INFORMACIÓN Y DOCUMENTOS","SOLICITUD DE INFORMACIÓN HIDROMETEOROLÓGICA","GRUPO DE SERVICIO AL CIUDADANO ","2021-10-26","CORREO ELECTRÓNICO",{"$f":"IFERROR(WORKDAY(C570,P570,DiasNOLaborables),\"\")","v":"2021-11-22"},{"$f":"+IF(C570=\"\",\"\",IF(H570=\"\",\"SIN RESPUESTA\",(IF(H570<=J570,\"A TIEMPO\",\"FUERA DE TIEMPO\"))))","v":"A TIEMPO"},{"$f":"IF(H570=\"\",\"\",NETWORKDAYS(C570+1,H570,DiasNOLaborables))","v":3},{"$f":"IF(NETWORKDAYS(J570+1,H570,DiasNOLaborables)<=0,\"\",NETWORKDAYS(J570+1,H570,DiasNOLaborables))","v":""},null,null,{"$f":"IFERROR(VLOOKUP(E570,$X$51:$Y$64,2),\"\")","v":20}]
[560,20219050122142,"2021-10-21","CORREO ELECTRÓNICO","CERTIFICACIONES DE TIEMPO, CLIMA Y EVENTOS HIDROLÓGICOS","CERTIFICACIONES DE TIEMPO Y CLIMA","SUBDIRECCIÓN DE METEOROLOGÍA","2021-11-05","CORREO ELECTRÓNICO",{"$f":"IFERROR(WORKDAY(C571,P571,DiasNOLaborables),\"\")","v":"2021-12-14"},{"$f":"+IF(C571=\"\",\"\",IF(H571=\"\",\"SIN RESPUESTA\",(IF(H571<=J571,\"A TIEMPO\",\"FUERA DE TIEMPO\"))))","v":"A TIEMPO"},{"$f":"IF(H571=\"\",\"\",NETWORKDAYS(C571+1,H571,DiasNOLaborables))","v":10},{"$f":"IF(NETWORKDAYS(J571+1,H571,DiasNOLaborables)<=0,\"\",NETWORKDAYS(J571+1,H571,DiasNOLaborables))","v":""},null,null,{"$f":"IFERROR(VLOOKUP(E571,$X$51:$Y$64,2),\"\")","v":35}]
[561,20219050122152,"2021-10-21","CORREO ELECTRÓNICO","CERTIFICACIONES DE TIEMPO, CLIMA Y EVENTOS HIDROLÓGICOS","CERTIFICACIONES DE TIEMPO Y CLIMA","SUBDIRECCIÓN DE METEOROLOGÍA","2021-11-04","CORREO ELECTRÓNICO",{"$f":"IFERROR(WORKDAY(C572,P572,DiasNOLaborables),\"\")","v":"2021-12-14"},{"$f":"+IF(C572=\"\",\"\",IF(H572=\"\",\"SIN RESPUESTA\",(IF(H572<=J572,\"A TIEMPO\",\"FUERA DE TIEMPO\"))))","v":"A TIEMPO"},{"$f":"IF(H572=\"\",\"\",NETWORKDAYS(C572+1,H572,DiasNOLaborables))","v":9},{"$f":"IF(NETWORKDAYS(J572+1,H572,DiasNOLaborables)<=0,\"\",NETWORKDAYS(J572+1,H572,DiasNOLaborables))","v":""},null,null,{"$f":"IFERROR(VLOOKUP(E572,$X$51:$Y$64,2),\"\")","v":35}]
[562,20219050122162,"2021-10-21","CORREO ELECTRÓNICO","CERTIFICACIONES DE TIEMPO, CLIMA Y EVENTOS HIDROLÓGICOS","CERTIFICACIONES DE TIEMPO Y CLIMA","SUBDIRECCIÓN DE METEOROLOGÍA","2021-11-10","CORREO ELECTRÓNICO",{"$f":"IFERROR(WORKDAY(C573,P573,DiasNOLaborables),\"\")","v":"2021-12-14"},{"$f":"+IF(C573=\"\",\"\",IF(H573=\"\",\"SIN RESPUESTA\",(IF(H573<=J573,\"A TIEMPO\",\"FUERA DE TIEMPO\"))))","v":"A TIEMPO"},{"$f":"IF(H573=\"\",\"\",NETWORKDAYS(C573+1,H573,DiasNOLaborables))","v":13},{"$f":"IF(NETWORKDAYS(J573+1,H573,DiasNOLaborables)<=0,\"\",NETWORKDAYS(J573+1,H573,DiasNOLaborables))","v":""},null,null,{"$f":"IFERROR(VLOOKUP(E573,$X$51:$Y$64,2),\"\")","v":35}]
[563,20219050122192,"2021-10-21","CORREO ELECTRÓNICO","SOLICITUD DE INFORMACIÓN Y DOCUMENTOS","BOSQUES","SUBDIRECCIÓN DE ECOSISTEMAS E INFORMACIÓN AMBIENTAL","2021-10-27","CORREO ELECTRÓNICO",{"$f":"IFERROR(WORKDAY(C574,P574,DiasNOLaborables),\"\")","v":"2021-11-22"},{"$f":"+IF(C574=\"\",\"\",IF(H574=\"\",\"SIN RESPUESTA\",(IF(H574<=J574,\"A TIEMPO\",\"FUERA DE TIEMPO\"))))","v":"A TIEMPO"},{"$f":"IF(H574=\"\",\"\",NETWORKDAYS(C574+1,H574,DiasNOLaborables))","v":4},{"$f":"IF(NETWORKDAYS(J574+1,H574,DiasNOLaborables)<=0,\"\",NETWORKDAYS(J574+1,H574,DiasNOLaborables))","v":""},null,null,{"$f":"IFERROR(VLOOKUP(E574,$X$51:$Y$64,2),\"\")","v":20}]
[564,20219050122232,"2021-10-21","CORREO ELECTRÓNICO","SOLICITUD DE INFORMACIÓN Y DOCUMENTOS","INFORMES AMBIENTALES","SUBDIRECCIÓN DE ESTUDIOS AMBIENTALES","2021-10-29","CORREO ELECTRÓNICO",{"$f":"IFERROR(WORKDAY(C575,P575,DiasNOLaborables),\"\")","v":"2021-11-22"},{"$f":"+IF(C575=\"\",\"\",IF(H575=\"\",\"SIN RESPUESTA\",(IF(H575<=J575,\"A TIEMPO\",\"FUERA DE TIEMPO\"))))","v":"A TIEMPO"},{"$f":"IF(H575=\"\",\"\",NETWORKDAYS(C575+1,H575,DiasNOLaborables))","v":6},{"$f":"IF(NETWORKDAYS(J575+1,H575,DiasNOLaborables)<=0,\"\",NETWORKDAYS(J575+1,H575,DiasNOLaborables))","v":""},null,null,{"$f":"IFERROR(VLOOKUP(E575,$X$51:$Y$64,2),\"\")","v":20}]
[565,20219050122312,"2021-10-21","CORREO ELECTRÓNICO","SOLICITUD DE INFORMACIÓN Y DOCUMENTOS","BOSQUES","SUBDIRECCIÓN DE ECOSISTEMAS E INFORMACIÓN AMBIENTAL","2021-11-05","CORREO ELECTRÓNICO",{"$f":"IFERROR(WORKDAY(C576,P576,DiasNOLaborables),\"\")","v":"2021-11-22"},{"$f":"+IF(C576=\"\",\"\",IF(H576=\"\",\"SIN RESPUESTA\",(IF(H576<=J576,\"A TIEMPO\",\"FUERA DE TIEMPO\"))))","v":"A TIEMPO"},{"$f":"IF(H576=\"\",\"\",NETWORKDAYS(C576+1,H576,DiasNOLaborables))","v":10},{"$f":"IF(NETWORKDAYS(J576+1,H576,DiasNOLaborables)<=0,\"\",NETWORKDAYS(J576+1,H576,DiasNOLaborables))","v":""},null,null,{"$f":"IFERROR(VLOOKUP(E576,$X$51:$Y$64,2),\"\")","v":20}]
[566,20219050121742,"2021-10-21","MODULO CONTACTENOS","SOLICITUD DE INFORMACIÓN Y DOCUMENTOS","SOLICITUD DE INFORMACIÓN HIDROMETEOROLÓGICA","GRUPO DE SERVICIO AL CIUDADANO ","2021-10-24","CORREO ELECTRÓNICO",{"$f":"IFERROR(WORKDAY(C577,P577,DiasNOLaborables),\"\")","v":"2021-11-22"},{"$f":"+IF(C577=\"\",\"\",IF(H577=\"\",\"SIN RESPUESTA\",(IF(H577<=J577,\"A TIEMPO\",\"FUERA DE TIEMPO\"))))","v":"A TIEMPO"},{"$f":"IF(H577=\"\",\"\",NETWORKDAYS(C577+1,H577,DiasNOLaborables))","v":1},{"$f":"IF(NETWORKDAYS(J577+1,H577,DiasNOLaborables)<=0,\"\",NETWORKDAYS(J577+1,H577,DiasNOLaborables))","v":""},null,null,{"$f":"IFERROR(VLOOKUP(E577,$X$51:$Y$64,2),\"\")","v":20}]
[567,20219050121752,"2021-10-21","MODULO CONTACTENOS","SOLICITUD DE INFORMACIÓN Y DOCUMENTOS","SOLICITUD DE INFORMACIÓN HIDROMETEOROLÓGICA","GRUPO DE SERVICIO AL CIUDADANO ","2021-10-24","CORREO ELECTRÓNICO",{"$f":"IFERROR(WORKDAY(C578,P578,DiasNOLaborables),\"\")","v":"2021-11-22"},{"$f":"+IF(C578=\"\",\"\",IF(H578=\"\",\"SIN RESPUESTA\",(IF(H578<=J578,\"A TIEMPO\",\"FUERA DE TIEMPO\"))))","v":"A TIEMPO"},{"$f":"IF(H578=\"\",\"\",NETWORKDAYS(C578+1,H578,DiasNOLaborables))","v":1},{"$f":"IF(NETWORKDAYS(J578+1,H578,DiasNOLaborables)<=0,\"\",NETWORKDAYS(J578+1,H578,DiasNOLaborables))","v":""},null,null,{"$f":"IFERROR(VLOOKUP(E578,$X$51:$Y$64,2),\"\")","v":20}]
[568,20219050122322,"2021-10-21","CORREO ELECTRÓNICO","SOLICITUD DE INFORMACIÓN Y DOCUMENTOS","BOSQUES","SUBDIRECCIÓN DE ECOSISTEMAS E INFORMACIÓN AMBIENTAL","2021-11-04","CORREO ELECTRÓNICO",{"$f":"IFERROR(WORKDAY(C579,P579,DiasNOLaborables),\"\")","v":"2021-11-22"},{"$f":"+IF(C579=\"\",\"\",IF(H579=\"\",\"SIN RESPUESTA\",(IF(H579<=J579,\"A TIEMPO\",\"FUERA DE TIEMPO\"))))","v":"A TIEMPO"},{"$f":"IF(H579=\"\",\"\",NETWORKDAYS(C579+1,H579,DiasNOLaborables))","v":9},{"$f":"IF(NETWORKDAYS(J579+1,H579,DiasNOLaborables)<=0,\"\",NETWORKDAYS(J579+1,H579,DiasNOLaborables))","v":""},null,null,{"$f":"IFERROR(VLOOKUP(E579,$X$51:$Y$64,2),\"\")","v":20}]
[569,20219910056562,"2021-10-21","MODULO CONTACTENOS","SOLICITUD DE INFORMACIÓN Y DOCUMENTOS","CLIMATOLOGÍA","SUBDIRECCIÓN DE METEOROLOGÍA","2021-11-17","CORREO ELECTRÓNICO",{"$f":"IFERROR(WORKDAY(C580,P580,DiasNOLaborables),\"\")","v":"2021-11-22"},{"$f":"+IF(C580=\"\",\"\",IF(H580=\"\",\"SIN RESPUESTA\",(IF(H580<=J580,\"A TIEMPO\",\"FUERA DE TIEMPO\"))))","v":"A TIEMPO"},{"$f":"IF(H580=\"\",\"\",NETWORKDAYS(C580+1,H580,DiasNOLaborables))","v":17},{"$f":"IF(NETWORKDAYS(J580+1,H580,DiasNOLaborables)<=0,\"\",NETWORKDAYS(J580+1,H580,DiasNOLaborables))","v":""},null,null,{"$f":"IFERROR(VLOOKUP(E580,$X$51:$Y$64,2),\"\")","v":20}]
[570,20219050122122,"2021-10-21","MODULO CONTACTENOS","SOLICITUD DE INFORMACIÓN Y DOCUMENTOS","ADMINISTRATIVA","GRUPO DE ADMINISTRACIÓN Y DESARROLLO DEL TALENTO HUMANO","2021-10-28","CORREO ELECTRÓNICO",{"$f":"IFERROR(WORKDAY(C581,P581,DiasNOLaborables),\"\")","v":"2021-11-22"},{"$f":"+IF(C581=\"\",\"\",IF(H581=\"\",\"SIN RESPUESTA\",(IF(H581<=J581,\"A TIEMPO\",\"FUERA DE TIEMPO\"))))","v":"A TIEMPO"},{"$f":"IF(H581=\"\",\"\",NETWORKDAYS(C581+1,H581,DiasNOLaborables))","v":5},{"$f":"IF(NETWORKDAYS(J581+1,H581,DiasNOLaborables)<=0,\"\",NETWORKDAYS(J581+1,H581,DiasNOLaborables))","v":""},null,null,{"$f":"IFERROR(VLOOKUP(E581,$X$51:$Y$64,2),\"\")","v":20}]
[571,20219050122212,"2021-10-21","MODULO CONTACTENOS","SOLICITUD DE INFORMACIÓN Y DOCUMENTOS","ADMINISTRATIVA","GRUPO DE ADMINISTRACIÓN Y DESARROLLO DEL TALENTO HUMANO","2021-10-21","CORREO ELECTRÓNICO",{"$f":"IFERROR(WORKDAY(C582,P582,DiasNOLaborables),\"\")","v":"2021-11-22"},{"$f":"+IF(C582=\"\",\"\",IF(H582=\"\",\"SIN RESPUESTA\",(IF(H582<=J582,\"A TIEMPO\",\"FUERA DE TIEMPO\"))))","v":"A TIEMPO"},{"$f":"IF(H582=\"\",\"\",NETWORKDAYS(C582+1,H582,DiasNOLaborables))","v":-2},{"$f":"IF(NETWORKDAYS(J582+1,H582,DiasNOLaborables)<=0,\"\",NETWORKDAYS(J582+1,H582,DiasNOLaborables))","v":""},null,null,{"$f":"IFERROR(VLOOKUP(E582,$X$51:$Y$64,2),\"\")","v":20}]
[572,20219050122222,"2021-10-21","MODULO CONTACTENOS","CERTIFICACIONES DE TIEMPO, CLIMA Y EVENTOS HIDROLÓGICOS","CERTIFICACIONES DE TIEMPO Y CLIMA","SUBDIRECCIÓN DE METEOROLOGÍA","2021-11-11","CORREO ELECTRÓNICO",{"$f":"IFERROR(WORKDAY(C583,P583,DiasNOLaborables),\"\")","v":"2021-12-14"},{"$f":"+IF(C583=\"\",\"\",IF(H583=\"\",\"SIN RESPUESTA\",(IF(H583<=J583,\"A TIEMPO\",\"FUERA DE TIEMPO\"))))","v":"A TIEMPO"},{"$f":"IF(H583=\"\",\"\",NETWORKDAYS(C583+1,H583,DiasNOLaborables))","v":14},{"$f":"IF(NETWORKDAYS(J583+1,H583,DiasNOLaborables)<=0,\"\",NETWORKDAYS(J583+1,H583,DiasNOLaborables))","v":""},null,null,{"$f":"IFERROR(VLOOKUP(E583,$X$51:$Y$64,2),\"\")","v":35}]
[573,20219910056642,"2021-10-21","MODULO CONTACTENOS","SOLICITUD DE INFORMACIÓN Y DOCUMENTOS","SOLICITUD DE INFORMACIÓN HIDROMETEOROLÓGICA","GRUPO DE SERVICIO AL CIUDADANO ","2021-10-22","CORREO ELECTRÓNICO",{"$f":"IFERROR(WORKDAY(C584,P584,DiasNOLaborables),\"\")","v":"2021-11-22"},{"$f":"+IF(C584=\"\",\"\",IF(H584=\"\",\"SIN RESPUESTA\",(IF(H584<=J584,\"A TIEMPO\",\"FUERA DE TIEMPO\"))))","v":"A TIEMPO"},{"$f":"IF(H584=\"\",\"\",NETWORKDAYS(C584+1,H584,DiasNOLaborables))","v":1},{"$f":"IF(NETWORKDAYS(J584+1,H584,DiasNOLaborables)<=0,\"\",NETWORKDAYS(J584+1,H584,DiasNOLaborables))","v":""},null,null,{"$f":"IFERROR(VLOOKUP(E584,$X$51:$Y$64,2),\"\")","v":20}]
[574,20219050122132,"2021-10-21","MODULO CONTACTENOS","SOLICITUD DE INFORMACIÓN Y DOCUMENTOS","SOLICITUD DE INFORMACIÓN HIDROMETEOROLÓGICA","GRUPO DE SERVICIO AL CIUDADANO ","2021-10-22","CORREO ELECTRÓNICO",{"$f":"IFERROR(WORKDAY(C585,P585,DiasNOLaborables),\"\")","v":"2021-11-22"},{"$f":"+IF(C585=\"\",\"\",IF(H585=\"\",\"SIN RESPUESTA\",(IF(H585<=J585,\"A TIEMPO\",\"FUERA DE TIEMPO\"))))","v":"A TIEMPO"},{"$f":"IF(H585=\"\",\"\",NETWORKDAYS(C585+1,H585,DiasNOLaborables))","v":1},{"$f":"IF(NETWORKDAYS(J585+1,H585,DiasNOLaborables)<=0,\"\",NETWORKDAYS(J585+1,H585,DiasNOLaborables))","v":""},null,null,{"$f":"IFERROR(VLOOKUP(E585,$X$51:$Y$64,2),\"\")","v":20}]
[575,20219050122182,"2021-10-21","MODULO CONTACTENOS","SOLICITUD DE INFORMACIÓN Y DOCUMENTOS","SOLICITUD DE INFORMACIÓN HIDROMETEOROLÓGICA","GRUPO DE SERVICIO AL CIUDADANO ","2021-10-22","CORREO ELECTRÓNICO",{"$f":"IFERROR(WORKDAY(C586,P586,DiasNOLaborables),\"\")","v":"2021-11-22"},{"$f":"+IF(C586=\"\",\"\",IF(H586=\"\",\"SIN RESPUESTA\",(IF(H586<=J586,\"A TIEMPO\",\"FUERA DE TIEMPO\"))))","v":"A TIEMPO"},{"$f":"IF(H586=\"\",\"\",NETWORKDAYS(C586+1,H586,DiasNOLaborables))","v":1},{"$f":"IF(NETWORKDAYS(J586+1,H586,DiasNOLaborables)<=0,\"\",NETWORKDAYS(J586+1,H586,DiasNOLaborables))","v":""},null,null,{"$f":"IFERROR(VLOOKUP(E586,$X$51:$Y$64,2),\"\")","v":20}]
[576,20219050122172,"2021-10-21","MODULO CONTACTENOS","SOLICITUD DE INFORMACIÓN Y DOCUMENTOS","SOLICITUD DE INFORMACIÓN HIDROMETEOROLÓGICA","GRUPO DE SERVICIO AL CIUDADANO ","2021-10-22","CORREO ELECTRÓNICO",{"$f":"IFERROR(WORKDAY(C587,P587,DiasNOLaborables),\"\")","v":"2021-11-22"},{"$f":"+IF(C587=\"\",\"\",IF(H587=\"\",\"SIN RESPUESTA\",(IF(H587<=J587,\"A TIEMPO\",\"FUERA DE TIEMPO\"))))","v":"A TIEMPO"},{"$f":"IF(H587=\"\",\"\",NETWORKDAYS(C587+1,H587,DiasNOLaborables))","v":1},{"$f":"IF(NETWORKDAYS(J587+1,H587,DiasNOLaborables)<=0,\"\",NETWORKDAYS(J587+1,H587,DiasNOLaborables))","v":""},null,null,{"$f":"IFERROR(VLOOKUP(E587,$X$51:$Y$64,2),\"\")","v":20}]
[577,20219050122202,"2021-10-21","MODULO CONTACTENOS","SOLICITUD DE INFORMACIÓN Y DOCUMENTOS","SOLICITUD DE INFORMACIÓN HIDROMETEOROLÓGICA","GRUPO DE SERVICIO AL CIUDADANO ","2021-10-22","CORREO ELECTRÓNICO",{"$f":"IFERROR(WORKDAY(C588,P588,DiasNOLaborables),\"\")","v":"2021-11-22"},{"$f":"+IF(C588=\"\",\"\",IF(H588=\"\",\"SIN RESPUESTA\",(IF(H588<=J588,\"A TIEMPO\",\"FUERA DE TIEMPO\"))))","v":"A TIEMPO"},{"$f":"IF(H588=\"\",\"\",NETWORKDAYS(C588+1,H588,DiasNOLaborables))","v":1},{"$f":"IF(NETWORKDAYS(J588+1,H588,DiasNOLaborables)<=0,\"\",NETWORKDAYS(J588+1,H588,DiasNOLaborables))","v":""},null,null,{"$f":"IFERROR(VLOOKUP(E588,$X$51:$Y$64,2),\"\")","v":20}]
[578,20219050122242,"2021-10-21","MODULO CONTACTENOS","SOLICITUD DE INFORMACIÓN Y DOCUMENTOS","SOLICITUD DE INFORMACIÓN HIDROMETEOROLÓGICA","GRUPO DE SERVICIO AL CIUDADANO ","2021-10-22","CORREO ELECTRÓNICO",{"$f":"IFERROR(WORKDAY(C589,P589,DiasNOLaborables),\"\")","v":"2021-11-22"},{"$f":"+IF(C589=\"\",\"\",IF(H589=\"\",\"SIN RESPUESTA\",(IF(H589<=J589,\"A TIEMPO\",\"FUERA DE TIEMPO\"))))","v":"A TIEMPO"},{"$f":"IF(H589=\"\",\"\",NETWORKDAYS(C589+1,H589,DiasNOLaborables))","v":1},{"$f":"IF(NETWORKDAYS(J589+1,H589,DiasNOLaborables)<=0,\"\",NETWORKDAYS(J589+1,H589,DiasNOLaborables))","v":""},null,null,{"$f":"IFERROR(VLOOKUP(E589,$X$51:$Y$64,2),\"\")","v":20}]
[{"$f":"IF(B590<>\"\",A589+1,\"\")","v":579},20219050122252,"2021-10-21","MODULO CONTACTENOS","SOLICITUD DE INFORMACIÓN Y DOCUMENTOS","SOLICITUD DE INFORMACIÓN HIDROMETEOROLÓGICA","GRUPO DE SERVICIO AL CIUDADANO ","2021-10-22","CORREO ELECTRÓNICO",{"$f":"IFERROR(WORKDAY(C590,P590,DiasNOLaborables),\"\")","v":"2021-11-22"},{"$f":"+IF(C590=\"\",\"\",IF(H590=\"\",\"SIN RESPUESTA\",(IF(H590<=J590,\"A TIEMPO\",\"FUERA DE TIEMPO\"))))","v":"A TIEMPO"},{"$f":"IF(H590=\"\",\"\",NETWORKDAYS(C590+1,H590,DiasNOLaborables))","v":1},{"$f":"IF(NETWORKDAYS(J590+1,H590,DiasNOLaborables)<=0,\"\",NETWORKDAYS(J590+1,H590,DiasNOLaborables))","v":""},null,null,{"$f":"IFERROR(VLOOKUP(E590,$X$51:$Y$64,2),\"\")","v":20}]
[580,20219050122262,"2021-10-21","MODULO CONTACTENOS","SOLICITUD DE INFORMACIÓN Y DOCUMENTOS","SOLICITUD DE INFORMACIÓN HIDROMETEOROLÓGICA","GRUPO DE SERVICIO AL CIUDADANO ","2021-10-22","CORREO ELECTRÓNICO",{"$f":"IFERROR(WORKDAY(C591,P591,DiasNOLaborables),\"\")","v":"2021-11-22"},{"$f":"+IF(C591=\"\",\"\",IF(H591=\"\",\"SIN RESPUESTA\",(IF(H591<=J591,\"A TIEMPO\",\"FUERA DE TIEMPO\"))))","v":"A TIEMPO"},{"$f":"IF(H591=\"\",\"\",NETWORKDAYS(C591+1,H591,DiasNOLaborables))","v":1},{"$f":"IF(NETWORKDAYS(J591+1,H591,DiasNOLaborables)<=0,\"\",NETWORKDAYS(J591+1,H591,DiasNOLaborables))","v":""},null,null,{"$f":"IFERROR(VLOOKUP(E591,$X$51:$Y$64,2),\"\")","v":20}]
[581,20219050122272,"2021-10-21","MODULO CONTACTENOS","SOLICITUD DE INFORMACIÓN Y DOCUMENTOS","SOLICITUD DE INFORMACIÓN HIDROMETEOROLÓGICA","GRUPO DE SERVICIO AL CIUDADANO ","2021-10-22","CORREO ELECTRÓNICO",{"$f":"IFERROR(WORKDAY(C592,P592,DiasNOLaborables),\"\")","v":"2021-11-22"},{"$f":"+IF(C592=\"\",\"\",IF(H592=\"\",\"SIN RESPUESTA\",(IF(H592<=J592,\"A TIEMPO\",\"FUERA DE TIEMPO\"))))","v":"A TIEMPO"},{"$f":"IF(H592=\"\",\"\",NETWORKDAYS(C592+1,H592,DiasNOLaborables))","v":1},{"$f":"IF(NETWORKDAYS(J592+1,H592,DiasNOLaborables)<=0,\"\",NETWORKDAYS(J592+1,H592,DiasNOLaborables))","v":""},null,null,{"$f":"IFERROR(VLOOKUP(E592,$X$51:$Y$64,2),\"\")","v":20}]
[582,20219050122292,"2021-10-22","MODULO CONTACTENOS","SOLICITUD DE INFORMACIÓN Y DOCUMENTOS","SOLICITUD DE INFORMACIÓN HIDROMETEOROLÓGICA","GRUPO DE SERVICIO AL CIUDADANO ","2021-10-22","CORREO ELECTRÓNICO",{"$f":"IFERROR(WORKDAY(C593,P593,DiasNOLaborables),\"\")","v":"2021-11-23"},{"$f":"+IF(C593=\"\",\"\",IF(H593=\"\",\"SIN RESPUESTA\",(IF(H593<=J593,\"A TIEMPO\",\"FUERA DE TIEMPO\"))))","v":"A TIEMPO"},{"$f":"IF(H593=\"\",\"\",NETWORKDAYS(C593+1,H593,DiasNOLaborables))","v":-1},{"$f":"IF(NETWORKDAYS(J593+1,H593,DiasNOLaborables)<=0,\"\",NETWORKDAYS(J593+1,H593,DiasNOLaborables))","v":""},null,null,{"$f":"IFERROR(VLOOKUP(E593,$X$51:$Y$64,2),\"\")","v":20}]
[583,20219050122302,"2021-10-22","MODULO CONTACTENOS","SOLICITUD DE INFORMACIÓN Y DOCUMENTOS","SOLICITUD DE INFORMACIÓN HIDROMETEOROLÓGICA","GRUPO DE SERVICIO AL CIUDADANO ","2021-10-22","CORREO ELECTRÓNICO",{"$f":"IFERROR(WORKDAY(C594,P594,DiasNOLaborables),\"\")","v":"2021-11-23"},{"$f":"+IF(C594=\"\",\"\",IF(H594=\"\",\"SIN RESPUESTA\",(IF(H594<=J594,\"A TIEMPO\",\"FUERA DE TIEMPO\"))))","v":"A TIEMPO"},{"$f":"IF(H594=\"\",\"\",NETWORKDAYS(C594+1,H594,DiasNOLaborables))","v":-1},{"$f":"IF(NETWORKDAYS(J594+1,H594,DiasNOLaborables)<=0,\"\",NETWORKDAYS(J594+1,H594,DiasNOLaborables))","v":""},null,null,{"$f":"IFERROR(VLOOKUP(E594,$X$51:$Y$64,2),\"\")","v":20}]
[584,20219050122342,"2021-10-22","MODULO CONTACTENOS","SOLICITUD DE INFORMACIÓN Y DOCUMENTOS","SOLICITUD DE INFORMACIÓN HIDROMETEOROLÓGICA","GRUPO DE SERVICIO AL CIUDADANO ","2021-10-22","CORREO ELECTRÓNICO",{"$f":"IFERROR(WORKDAY(C595,P595,DiasNOLaborables),\"\")","v":"2021-11-23"},{"$f":"+IF(C595=\"\",\"\",IF(H595=\"\",\"SIN RESPUESTA\",(IF(H595<=J595,\"A TIEMPO\",\"FUERA DE TIEMPO\"))))","v":"A TIEMPO"},{"$f":"IF(H595=\"\",\"\",NETWORKDAYS(C595+1,H595,DiasNOLaborables))","v":-1},{"$f":"IF(NETWORKDAYS(J595+1,H595,DiasNOLaborables)<=0,\"\",NETWORKDAYS(J595+1,H595,DiasNOLaborables))","v":""},null,null,{"$f":"IFERROR(VLOOKUP(E595,$X$51:$Y$64,2),\"\")","v":20}]
[585,20219050122582,"2021-10-22","MODULO CONTACTENOS","SOLICITUD DE INFORMACIÓN Y DOCUMENTOS","SOLICITUD DE INFORMACIÓN HIDROMETEOROLÓGICA","GRUPO DE SERVICIO AL CIUDADANO ","2021-10-22","CORREO ELECTRÓNICO",{"$f":"IFERROR(WORKDAY(C596,P596,DiasNOLaborables),\"\")","v":"2021-11-23"},{"$f":"+IF(C596=\"\",\"\",IF(H596=\"\",\"SIN RESPUESTA\",(IF(H596<=J596,\"A TIEMPO\",\"FUERA DE TIEMPO\"))))","v":"A TIEMPO"},{"$f":"IF(H596=\"\",\"\",NETWORKDAYS(C596+1,H596,DiasNOLaborables))","v":-1},{"$f":"IF(NETWORKDAYS(J596+1,H596,DiasNOLaborables)<=0,\"\",NETWORKDAYS(J596+1,H596,DiasNOLaborables))","v":""},null,null,{"$f":"IFERROR(VLOOKUP(E596,$X$51:$Y$64,2),\"\")","v":20}]
[586,20219050122602,"2021-10-22","MODULO CONTACTENOS","SOLICITUD DE INFORMACIÓN Y DOCUMENTOS","SOLICITUD DE INFORMACIÓN HIDROMETEOROLÓGICA","GRUPO DE SERVICIO AL CIUDADANO ","2021-10-22","CORREO ELECTRÓNICO",{"$f":"IFERROR(WORKDAY(C597,P597,DiasNOLaborables),\"\")","v":"2021-11-23"},{"$f":"+IF(C597=\"\",\"\",IF(H597=\"\",\"SIN RESPUESTA\",(IF(H597<=J597,\"A TIEMPO\",\"FUERA DE TIEMPO\"))))","v":"A TIEMPO"},{"$f":"IF(H597=\"\",\"\",NETWORKDAYS(C597+1,H597,DiasNOLaborables))","v":-1},{"$f":"IF(NETWORKDAYS(J597+1,H597,DiasNOLaborables)<=0,\"\",NETWORKDAYS(J597+1,H597,DiasNOLaborables))","v":""},null,null,{"$f":"IFERROR(VLOOKUP(E597,$X$51:$Y$64,2),\"\")","v":20}]
[587,20219050122612,"2021-10-22","MODULO CONTACTENOS","SOLICITUD DE INFORMACIÓN Y DOCUMENTOS","SOLICITUD DE INFORMACIÓN HIDROMETEOROLÓGICA","SUBDIRECCIÓN DE ECOSISTEMAS E INFORMACIÓN AMBIENTAL","2021-11-04","CORREO ELECTRÓNICO",{"$f":"IFERROR(WORKDAY(C598,P598,DiasNOLaborables),\"\")","v":"2021-11-23"},{"$f":"+IF(C598=\"\",\"\",IF(H598=\"\",\"SIN RESPUESTA\",(IF(H598<=J598,\"A TIEMPO\",\"FUERA DE TIEMPO\"))))","v":"A TIEMPO"},{"$f":"IF(H598=\"\",\"\",NETWORKDAYS(C598+1,H598,DiasNOLaborables))","v":8},{"$f":"IF(NETWORKDAYS(J598+1,H598,DiasNOLaborables)<=0,\"\",NETWORKDAYS(J598+1,H598,DiasNOLaborables))","v":""},null,null,{"$f":"IFERROR(VLOOKUP(E598,$X$51:$Y$64,2),\"\")","v":20}]
[588,20219050122282,"2021-10-22","MODULO CONTACTENOS","SOLICITUD DE INFORMACIÓN Y DOCUMENTOS","ADMINISTRATIVA","GRUPO DE ADMINISTRACIÓN Y DESARROLLO DEL TALENTO HUMANO","2021-10-25","CORREO ELECTRÓNICO",{"$f":"IFERROR(WORKDAY(C599,P599,DiasNOLaborables),\"\")","v":"2021-11-23"},{"$f":"+IF(C599=\"\",\"\",IF(H599=\"\",\"SIN RESPUESTA\",(IF(H599<=J599,\"A TIEMPO\",\"FUERA DE TIEMPO\"))))","v":"A TIEMPO"},{"$f":"IF(H599=\"\",\"\",NETWORKDAYS(C599+1,H599,DiasNOLaborables))","v":1},{"$f":"IF(NETWORKDAYS(J599+1,H599,DiasNOLaborables)<=0,\"\",NETWORKDAYS(J599+1,H599,DiasNOLaborables))","v":""},null,null,{"$f":"IFERROR(VLOOKUP(E599,$X$51:$Y$64,2),\"\")","v":20}]
[589,20219050122412,"2021-10-22","CORREO ELECTRÓNICO","SOLICITUD DE INFORMACIÓN Y DOCUMENTOS","REGISTROS AMBIENTALES","SUBDIRECCIÓN DE ESTUDIOS AMBIENTALES","2021-10-22","CORREO ELECTRÓNICO",{"$f":"IFERROR(WORKDAY(C600,P600,DiasNOLaborables),\"\")","v":"2021-11-23"},{"$f":"+IF(C600=\"\",\"\",IF(H600=\"\",\"SIN RESPUESTA\",(IF(H600<=J600,\"A TIEMPO\",\"FUERA DE TIEMPO\"))))","v":"A TIEMPO"},{"$f":"IF(H600=\"\",\"\",NETWORKDAYS(C600+1,H600,DiasNOLaborables))","v":-1},{"$f":"IF(NETWORKDAYS(J600+1,H600,DiasNOLaborables)<=0,\"\",NETWORKDAYS(J600+1,H600,DiasNOLaborables))","v":""},null,null,{"$f":"IFERROR(VLOOKUP(E600,$X$51:$Y$64,2),\"\")","v":20}]
[590,20219050122442,"2021-10-22","CORREO ELECTRÓNICO","SOLICITUD DE INFORMACIÓN Y DOCUMENTOS","REGISTROS AMBIENTALES","SUBDIRECCIÓN DE ESTUDIOS AMBIENTALES","2021-10-22","CORREO ELECTRÓNICO",{"$f":"IFERROR(WORKDAY(C601,P601,DiasNOLaborables),\"\")","v":"2021-11-23"},{"$f":"+IF(C601=\"\",\"\",IF(H601=\"\",\"SIN RESPUESTA\",(IF(H601<=J601,\"A TIEMPO\",\"FUERA DE TIEMPO\"))))","v":"A TIEMPO"},{"$f":"IF(H601=\"\",\"\",NETWORKDAYS(C601+1,H601,DiasNOLaborables))","v":-1},{"$f":"IF(NETWORKDAYS(J601+1,H601,DiasNOLaborables)<=0,\"\",NETWORKDAYS(J601+1,H601,DiasNOLaborables))","v":""},null,null,{"$f":"IFERROR(VLOOKUP(E601,$X$51:$Y$64,2),\"\")","v":20}]
[591,20219050122462,"2021-10-22","CORREO ELECTRÓNICO","SOLICITUD DE INFORMACIÓN Y DOCUMENTOS","BOSQUES","SUBDIRECCIÓN DE ECOSISTEMAS E INFORMACIÓN AMBIENTAL","2021-11-08","CORREO ELECTRÓNICO",{"$f":"IFERROR(WORKDAY(C602,P602,DiasNOLaborables),\"\")","v":"2021-11-23"},{"$f":"+IF(C602=\"\",\"\",IF(H602=\"\",\"SIN RESPUESTA\",(IF(H602<=J602,\"A TIEMPO\",\"FUERA DE TIEMPO\"))))","v":"A TIEMPO"},{"$f":"IF(H602=\"\",\"\",NETWORKDAYS(C602+1,H602,DiasNOLaborables))","v":10},{"$f":"IF(NETWORKDAYS(J602+1,H602,DiasNOLaborables)<=0,\"\",NETWORKDAYS(J602+1,H602,DiasNOLaborables))","v":""},null,null,{"$f":"IFERROR(VLOOKUP(E602,$X$51:$Y$64,2),\"\")","v":20}]
[592,20219050122472,"2021-10-22","CORREO ELECTRÓNICO","SOLICITUD DE INFORMACIÓN Y DOCUMENTOS","REGISTROS AMBIENTALES","SUBDIRECCIÓN DE ESTUDIOS AMBIENTALES","2021-10-22","CORREO ELECTRÓNICO",{"$f":"IFERROR(WORKDAY(C603,P603,DiasNOLaborables),\"\")","v":"2021-11-23"},{"$f":"+IF(C603=\"\",\"\",IF(H603=\"\",\"SIN RESPUESTA\",(IF(H603<=J603,\"A TIEMPO\",\"FUERA DE TIEMPO\"))))","v":"A TIEMPO"},{"$f":"IF(H603=\"\",\"\",NETWORKDAYS(C603+1,H603,DiasNOLaborables))","v":-1},{"$f":"IF(NETWORKDAYS(J603+1,H603,DiasNOLaborables)<=0,\"\",NETWORKDAYS(J603+1,H603,DiasNOLaborables))","v":""},null,null,{"$f":"IFERROR(VLOOKUP(E603,$X$51:$Y$64,2),\"\")","v":20}]
[593,20219050122362,"2021-10-22","MODULO CONTACTENOS","SOLICITUD DE INFORMACIÓN Y DOCUMENTOS","SOLICITUD DE INFORMACIÓN HIDROMETEOROLÓGICA","GRUPO DE SERVICIO AL CIUDADANO ","2021-11-05","CORREO ELECTRÓNICO",{"$f":"IFERROR(WORKDAY(C604,P604,DiasNOLaborables),\"\")","v":"2021-11-23"},{"$f":"+IF(C604=\"\",\"\",IF(H604=\"\",\"SIN RESPUESTA\",(IF(H604<=J604,\"A TIEMPO\",\"FUERA DE TIEMPO\"))))","v":"A TIEMPO"},{"$f":"IF(H604=\"\",\"\",NETWORKDAYS(C604+1,H604,DiasNOLaborables))","v":9},{"$f":"IF(NETWORKDAYS(J604+1,H604,DiasNOLaborables)<=0,\"\",NETWORKDAYS(J604+1,H604,DiasNOLaborables))","v":""},null,null,{"$f":"IFERROR(VLOOKUP(E604,$X$51:$Y$64,2),\"\")","v":20}]
[594,20219050122392,"2021-10-22","CORREO ELECTRÓNICO","SOLICITUD DE INFORMACIÓN Y DOCUMENTOS","SOLICITUD DE INFORMACIÓN HIDROMETEOROLÓGICA","GRUPO DE SERVICIO AL CIUDADANO ","2021-11-05","CORREO ELECTRÓNICO",{"$f":"IFERROR(WORKDAY(C605,P605,DiasNOLaborables),\"\")","v":"2021-11-23"},{"$f":"+IF(C605=\"\",\"\",IF(H605=\"\",\"SIN RESPUESTA\",(IF(H605<=J605,\"A TIEMPO\",\"FUERA DE TIEMPO\"))))","v":"A TIEMPO"},{"$f":"IF(H605=\"\",\"\",NETWORKDAYS(C605+1,H605,DiasNOLaborables))","v":9},{"$f":"IF(NETWORKDAYS(J605+1,H605,DiasNOLaborables)<=0,\"\",NETWORKDAYS(J605+1,H605,DiasNOLaborables))","v":""},null,null,{"$f":"IFERROR(VLOOKUP(E605,$X$51:$Y$64,2),\"\")","v":20}]
[595,20219050122402,"2021-10-22","CORREO ELECTRÓNICO","SOLICITUD DE INFORMACIÓN Y DOCUMENTOS","SOLICITUD DE INFORMACIÓN HIDROMETEOROLÓGICA","GRUPO DE SERVICIO AL CIUDADANO ","2021-11-05","CORREO ELECTRÓNICO",{"$f":"IFERROR(WORKDAY(C606,P606,DiasNOLaborables),\"\")","v":"2021-11-23"},{"$f":"+IF(C606=\"\",\"\",IF(H606=\"\",\"SIN RESPUESTA\",(IF(H606<=J606,\"A TIEMPO\",\"FUERA DE TIEMPO\"))))","v":"A TIEMPO"},{"$f":"IF(H606=\"\",\"\",NETWORKDAYS(C606+1,H606,DiasNOLaborables))","v":9},{"$f":"IF(NETWORKDAYS(J606+1,H606,DiasNOLaborables)<=0,\"\",NETWORKDAYS(J606+1,H606,DiasNOLaborables))","v":""},null,null,{"$f":"IFERROR(VLOOKUP(E606,$X$51:$Y$64,2),\"\")","v":20}]
[596,20219050122542,"2021-10-22","CORREO ELECTRÓNICO","SOLICITUD DE INFORMACIÓN Y DOCUMENTOS","INFORMES AMBIENTALES","SUBDIRECCIÓN DE HIDROLOGÍA","2021-11-23","CORREO ELECTRÓNICO",{"$f":"IFERROR(WORKDAY(C607,P607,DiasNOLaborables),\"\")","v":"2021-11-23"},{"$f":"+IF(C607=\"\",\"\",IF(H607=\"\",\"SIN RESPUESTA\",(IF(H607<=J607,\"A TIEMPO\",\"FUERA DE TIEMPO\"))))","v":"A TIEMPO"},{"$f":"IF(H607=\"\",\"\",NETWORKDAYS(C607+1,H607,DiasNOLaborables))","v":20},{"$f":"IF(NETWORKDAYS(J607+1,H607,DiasNOLaborables)<=0,\"\",NETWORKDAYS(J607+1,H607,DiasNOLaborables))","v":""},null,null,{"$f":"IFERROR(VLOOKUP(E607,$X$51:$Y$64,2),\"\")","v":20}]
[597,20219050122572,"2021-10-22","CORREO ELECTRÓNICO","SOLICITUD DE INFORMACIÓN Y DOCUMENTOS","REGISTROS AMBIENTALES","SUBDIRECCIÓN DE ESTUDIOS AMBIENTALES","2021-10-25","CORREO ELECTRÓNICO",{"$f":"IFERROR(WORKDAY(C608,P608,DiasNOLaborables),\"\")","v":"2021-11-23"},{"$f":"+IF(C608=\"\",\"\",IF(H608=\"\",\"SIN RESPUESTA\",(IF(H608<=J608,\"A TIEMPO\",\"FUERA DE TIEMPO\"))))","v":"A TIEMPO"},{"$f":"IF(H608=\"\",\"\",NETWORKDAYS(C608+1,H608,DiasNOLaborables))","v":1},{"$f":"IF(NETWORKDAYS(J608+1,H608,DiasNOLaborables)<=0,\"\",NETWORKDAYS(J608+1,H608,DiasNOLaborables))","v":""},null,null,{"$f":"IFERROR(VLOOKUP(E608,$X$51:$Y$64,2),\"\")","v":20}]
[598,20219050122332,"2021-10-22","MODULO CONTACTENOS","CERTIFICACIONES DE TIEMPO, CLIMA Y EVENTOS HIDROLÓGICOS","CERTIFICACIONES DE TIEMPO Y CLIMA","SUBDIRECCIÓN DE METEOROLOGÍA","2021-11-11","CORREO ELECTRÓNICO",{"$f":"IFERROR(WORKDAY(C609,P609,DiasNOLaborables),\"\")","v":"2021-12-15"},{"$f":"+IF(C609=\"\",\"\",IF(H609=\"\",\"SIN RESPUESTA\",(IF(H609<=J609,\"A TIEMPO\",\"FUERA DE TIEMPO\"))))","v":"A TIEMPO"},{"$f":"IF(H609=\"\",\"\",NETWORKDAYS(C609+1,H609,DiasNOLaborables))","v":13},{"$f":"IF(NETWORKDAYS(J609+1,H609,DiasNOLaborables)<=0,\"\",NETWORKDAYS(J609+1,H609,DiasNOLaborables))","v":""},null,null,{"$f":"IFERROR(VLOOKUP(E609,$X$51:$Y$64,2),\"\")","v":35}]
[599,20219050122372,"2021-10-22","MODULO CONTACTENOS","SOLICITUD DE INFORMACIÓN Y DOCUMENTOS","SOLICITUD DE INFORMACIÓN HIDROMETEOROLÓGICA","GRUPO DE SERVICIO AL CIUDADANO ","2021-11-11","CORREO ELECTRÓNICO",{"$f":"IFERROR(WORKDAY(C610,P610,DiasNOLaborables),\"\")","v":"2021-11-23"},{"$f":"+IF(C610=\"\",\"\",IF(H610=\"\",\"SIN RESPUESTA\",(IF(H610<=J610,\"A TIEMPO\",\"FUERA DE TIEMPO\"))))","v":"A TIEMPO"},{"$f":"IF(H610=\"\",\"\",NETWORKDAYS([5]Hoja1!C608+1,[5]Hoja1!P608,DiasNOLaborables))","v":5},{"$f":"IF(NETWORKDAYS(J610+1,H610,DiasNOLaborables)<=0,\"\",NETWORKDAYS(J610+1,H610,DiasNOLaborables))","v":""},null,null,{"$f":"IFERROR(VLOOKUP(E610,$X$51:$Y$64,2),\"\")","v":20}]
[600,20219050122532,"2021-10-22","MODULO CONTACTENOS","SOLICITUD DE INFORMACIÓN Y DOCUMENTOS","SOLICITUD DE INFORMACIÓN HIDROMETEOROLÓGICA","GRUPO DE SERVICIO AL CIUDADANO ","2021-11-08","CORREO ELECTRÓNICO",{"$f":"IFERROR(WORKDAY(C611,P611,DiasNOLaborables),\"\")","v":"2021-11-23"},{"$f":"+IF(C611=\"\",\"\",IF(H611=\"\",\"SIN RESPUESTA\",(IF(H611<=J611,\"A TIEMPO\",\"FUERA DE TIEMPO\"))))","v":"A TIEMPO"},{"$f":"IF(H611=\"\",\"\",NETWORKDAYS(C611+1,H611,DiasNOLaborables))","v":10},{"$f":"IF(NETWORKDAYS(J611+1,H611,DiasNOLaborables)<=0,\"\",NETWORKDAYS(J611+1,H611,DiasNOLaborables))","v":""},null,null,{"$f":"IFERROR(VLOOKUP(E611,$X$51:$Y$64,2),\"\")","v":20}]
[601,20219050122562,"2021-10-22","MODULO CONTACTENOS","SOLICITUD DE INFORMACIÓN Y DOCUMENTOS","SOLICITUD DE INFORMACIÓN HIDROMETEOROLÓGICA","GRUPO DE SERVICIO AL CIUDADANO ","2021-11-08","CORREO ELECTRÓNICO",{"$f":"IFERROR(WORKDAY(C612,P612,DiasNOLaborables),\"\")","v":"2021-11-23"},{"$f":"+IF(C612=\"\",\"\",IF(H612=\"\",\"SIN RESPUESTA\",(IF(H612<=J612,\"A TIEMPO\",\"FUERA DE TIEMPO\"))))","v":"A TIEMPO"},{"$f":"IF(H612=\"\",\"\",NETWORKDAYS(C612+1,H612,DiasNOLaborables))","v":10},{"$f":"IF(NETWORKDAYS(J612+1,H612,DiasNOLaborables)<=0,\"\",NETWORKDAYS(J612+1,H612,DiasNOLaborables))","v":""},null,null,{"$f":"IFERROR(VLOOKUP(E612,$X$51:$Y$64,2),\"\")","v":20}]
[602,20219050122382,"2021-10-22","MODULO CONTACTENOS","SOLICITUD DE INFORMACIÓN Y DOCUMENTOS","ADMINISTRATIVA","GRUPO DE ADMINISTRACIÓN Y DESARROLLO DEL TALENTO HUMANO","2021-10-29","CORREO ELECTRÓNICO",{"$f":"IFERROR(WORKDAY(C613,P613,DiasNOLaborables),\"\")","v":"2021-11-23"},{"$f":"+IF(C613=\"\",\"\",IF(H613=\"\",\"SIN RESPUESTA\",(IF(H613<=J613,\"A TIEMPO\",\"FUERA DE TIEMPO\"))))","v":"A TIEMPO"},{"$f":"IF(H613=\"\",\"\",NETWORKDAYS(C613+1,H613,DiasNOLaborables))","v":5},{"$f":"IF(NETWORKDAYS(J613+1,H613,DiasNOLaborables)<=0,\"\",NETWORKDAYS(J613+1,H613,DiasNOLaborables))","v":""},null,null,{"$f":"IFERROR(VLOOKUP(E613,$X$51:$Y$64,2),\"\")","v":20}]
[603,20219050122452,"2021-10-22","MODULO CONTACTENOS","PETICIÓN","OPERACIÓN DE REDES","SUBDIRECCIÓN DE HIDROLOGÍA","2021-11-04","CORREO ELECTRÓNICO",{"$f":"IFERROR(WORKDAY(C614,P614,DiasNOLaborables),\"\")","v":"2021-12-07"},{"$f":"+IF(C614=\"\",\"\",IF(H614=\"\",\"SIN RESPUESTA\",(IF(H614<=J614,\"A TIEMPO\",\"FUERA DE TIEMPO\"))))","v":"A TIEMPO"},{"$f":"IF(H614=\"\",\"\",NETWORKDAYS(C614+1,H614,DiasNOLaborables))","v":8},{"$f":"IF(NETWORKDAYS(J614+1,H614,DiasNOLaborables)<=0,\"\",NETWORKDAYS(J614+1,H614,DiasNOLaborables))","v":""},null,null,{"$f":"IFERROR(VLOOKUP(E614,$X$51:$Y$64,2),\"\")","v":30}]
[604,20219050122522,"2021-10-22","MODULO CONTACTENOS","CERTIFICACIONES DE TIEMPO, CLIMA Y EVENTOS HIDROLÓGICOS","CERTIFICACIONES DE TIEMPO Y CLIMA","SUBDIRECCIÓN DE METEOROLOGÍA","2021-11-12","CORREO ELECTRÓNICO",{"$f":"IFERROR(WORKDAY(C615,P615,DiasNOLaborables),\"\")","v":"2021-12-15"},{"$f":"+IF(C615=\"\",\"\",IF(H615=\"\",\"SIN RESPUESTA\",(IF(H615<=J615,\"A TIEMPO\",\"FUERA DE TIEMPO\"))))","v":"A TIEMPO"},{"$f":"IF(H615=\"\",\"\",NETWORKDAYS(C615+1,H615,DiasNOLaborables))","v":14},{"$f":"IF(NETWORKDAYS(J615+1,H615,DiasNOLaborables)<=0,\"\",NETWORKDAYS(J615+1,H615,DiasNOLaborables))","v":""},null,null,{"$f":"IFERROR(VLOOKUP(E615,$X$51:$Y$64,2),\"\")","v":35}]
[605,20219050122632,"2021-10-23","MODULO CONTACTENOS","SOLICITUD DE INFORMACIÓN Y DOCUMENTOS","SOLICITUD DE INFORMACIÓN HIDROMETEOROLÓGICA","GRUPO DE SERVICIO AL CIUDADANO ","2021-10-22","CORREO ELECTRÓNICO",{"$f":"IFERROR(WORKDAY(C616,P616,DiasNOLaborables),\"\")","v":"2021-11-23"},{"$f":"+IF(C616=\"\",\"\",IF(H616=\"\",\"SIN RESPUESTA\",(IF(H616<=J616,\"A TIEMPO\",\"FUERA DE TIEMPO\"))))","v":"A TIEMPO"},{"$f":"IF(H616=\"\",\"\",NETWORKDAYS(C616+1,H616,DiasNOLaborables))","v":-1},{"$f":"IF(NETWORKDAYS(J616+1,H616,DiasNOLaborables)<=0,\"\",NETWORKDAYS(J616+1,H616,DiasNOLaborables))","v":""},null,null,{"$f":"IFERROR(VLOOKUP(E616,$X$51:$Y$64,2),\"\")","v":20}]
[606,20219050122642,"2021-10-23","MODULO CONTACTENOS","SOLICITUD DE INFORMACIÓN Y DOCUMENTOS","SOLICITUD DE INFORMACIÓN HIDROMETEOROLÓGICA","GRUPO DE SERVICIO AL CIUDADANO ","2021-10-22","CORREO ELECTRÓNICO",{"$f":"IFERROR(WORKDAY(C617,P617,DiasNOLaborables),\"\")","v":"2021-11-23"},{"$f":"+IF(C617=\"\",\"\",IF(H617=\"\",\"SIN RESPUESTA\",(IF(H617<=J617,\"A TIEMPO\",\"FUERA DE TIEMPO\"))))","v":"A TIEMPO"},{"$f":"IF(H617=\"\",\"\",NETWORKDAYS(C617+1,H617,DiasNOLaborables))","v":-1},{"$f":"IF(NETWORKDAYS(J617+1,H617,DiasNOLaborables)<=0,\"\",NETWORKDAYS(J617+1,H617,DiasNOLaborables))","v":""},null,null,{"$f":"IFERROR(VLOOKUP(E617,$X$51:$Y$64,2),\"\")","v":20}]
[607,20219050122652,"2021-10-23","MODULO CONTACTENOS","SOLICITUD DE INFORMACIÓN Y DOCUMENTOS","SOLICITUD DE INFORMACIÓN HIDROMETEOROLÓGICA","GRUPO DE SERVICIO AL CIUDADANO ","2021-10-22","CORREO ELECTRÓNICO",{"$f":"IFERROR(WORKDAY(C618,P618,DiasNOLaborables),\"\")","v":"2021-11-23"},{"$f":"+IF(C618=\"\",\"\",IF(H618=\"\",\"SIN RESPUESTA\",(IF(H618<=J618,\"A TIEMPO\",\"FUERA DE TIEMPO\"))))","v":"A TIEMPO"},{"$f":"IF(H618=\"\",\"\",NETWORKDAYS(C618+1,H618,DiasNOLaborables))","v":-1},{"$f":"IF(NETWORKDAYS(J618+1,H618,DiasNOLaborables)<=0,\"\",NETWORKDAYS(J618+1,H618,DiasNOLaborables))","v":""},null,null,{"$f":"IFERROR(VLOOKUP(E618,$X$51:$Y$64,2),\"\")","v":20}]
[608,20219050122662,"2021-10-23","MODULO CONTACTENOS","SOLICITUD DE INFORMACIÓN Y DOCUMENTOS","SOLICITUD DE INFORMACIÓN HIDROMETEOROLÓGICA","GRUPO DE SERVICIO AL CIUDADANO ","2021-10-22","CORREO ELECTRÓNICO",{"$f":"IFERROR(WORKDAY(C619,P619,DiasNOLaborables),\"\")","v":"2021-11-23"},{"$f":"+IF(C619=\"\",\"\",IF(H619=\"\",\"SIN RESPUESTA\",(IF(H619<=J619,\"A TIEMPO\",\"FUERA DE TIEMPO\"))))","v":"A TIEMPO"},{"$f":"IF(H619=\"\",\"\",NETWORKDAYS(C619+1,H619,DiasNOLaborables))","v":-1},{"$f":"IF(NETWORKDAYS(J619+1,H619,DiasNOLaborables)<=0,\"\",NETWORKDAYS(J619+1,H619,DiasNOLaborables))","v":""},null,null,{"$f":"IFERROR(VLOOKUP(E619,$X$51:$Y$64,2),\"\")","v":20}]
[609,20219050122672,"2021-10-23","MODULO CONTACTENOS","SOLICITUD DE INFORMACIÓN Y DOCUMENTOS","SOLICITUD DE INFORMACIÓN HIDROMETEOROLÓGICA","GRUPO DE SERVICIO AL CIUDADANO ","2021-10-22","CORREO ELECTRÓNICO",{"$f":"IFERROR(WORKDAY(C620,P620,DiasNOLaborables),\"\")","v":"2021-11-23"},{"$f":"+IF(C620=\"\",\"\",IF(H620=\"\",\"SIN RESPUESTA\",(IF(H620<=J620,\"A TIEMPO\",\"FUERA DE TIEMPO\"))))","v":"A TIEMPO"},{"$f":"IF(H620=\"\",\"\",NETWORKDAYS(C620+1,H620,DiasNOLaborables))","v":-1},{"$f":"IF(NETWORKDAYS(J620+1,H620,DiasNOLaborables)<=0,\"\",NETWORKDAYS(J620+1,H620,DiasNOLaborables))","v":""},null,null,{"$f":"IFERROR(VLOOKUP(E620,$X$51:$Y$64,2),\"\")","v":20}]
[610,20219050122682,"2021-10-24","MODULO CONTACTENOS","SOLICITUD DE INFORMACIÓN Y DOCUMENTOS","SEDIMENTOS","SUBDIRECCIÓN DE HIDROLOGÍA","2021-10-27","CORREO ELECTRÓNICO",{"$f":"IFERROR(WORKDAY(C621,P621,DiasNOLaborables),\"\")","v":"2021-11-23"},{"$f":"+IF(C621=\"\",\"\",IF(H621=\"\",\"SIN RESPUESTA\",(IF(H621<=J621,\"A TIEMPO\",\"FUERA DE TIEMPO\"))))","v":"A TIEMPO"},{"$f":"IF(H621=\"\",\"\",NETWORKDAYS(C621+1,H621,DiasNOLaborables))","v":3},{"$f":"IF(NETWORKDAYS(J621+1,H621,DiasNOLaborables)<=0,\"\",NETWORKDAYS(J621+1,H621,DiasNOLaborables))","v":""},null,null,{"$f":"IFERROR(VLOOKUP(E621,$X$51:$Y$64,2),\"\")","v":20}]
[611,20219050122722,"2021-10-24","MODULO CONTACTENOS","SOLICITUD DE INFORMACIÓN Y DOCUMENTOS","SOLICITUD DE INFORMACIÓN HIDROMETEOROLÓGICA","GRUPO DE SERVICIO AL CIUDADANO ","2021-10-27","CORREO ELECTRÓNICO",{"$f":"IFERROR(WORKDAY(C622,P622,DiasNOLaborables),\"\")","v":"2021-11-23"},{"$f":"+IF(C622=\"\",\"\",IF(H622=\"\",\"SIN RESPUESTA\",(IF(H622<=J622,\"A TIEMPO\",\"FUERA DE TIEMPO\"))))","v":"A TIEMPO"},{"$f":"IF(H622=\"\",\"\",NETWORKDAYS(C622+1,H622,DiasNOLaborables))","v":3},{"$f":"IF(NETWORKDAYS(J622+1,H622,DiasNOLaborables)<=0,\"\",NETWORKDAYS(J622+1,H622,DiasNOLaborables))","v":""},null,null,{"$f":"IFERROR(VLOOKUP(E622,$X$51:$Y$64,2),\"\")","v":20}]
[612,20219050122732,"2021-10-24","MODULO CONTACTENOS","SOLICITUD DE INFORMACIÓN Y DOCUMENTOS","SOLICITUD DE INFORMACIÓN HIDROMETEOROLÓGICA","GRUPO DE SERVICIO AL CIUDADANO ","2021-10-27","CORREO ELECTRÓNICO",{"$f":"IFERROR(WORKDAY(C623,P623,DiasNOLaborables),\"\")","v":"2021-11-23"},{"$f":"+IF(C623=\"\",\"\",IF(H623=\"\",\"SIN RESPUESTA\",(IF(H623<=J623,\"A TIEMPO\",\"FUERA DE TIEMPO\"))))","v":"A TIEMPO"},{"$f":"IF(H623=\"\",\"\",NETWORKDAYS(C623+1,H623,DiasNOLaborables))","v":3},{"$f":"IF(NETWORKDAYS(J623+1,H623,DiasNOLaborables)<=0,\"\",NETWORKDAYS(J623+1,H623,DiasNOLaborables))","v":""},null,null,{"$f":"IFERROR(VLOOKUP(E623,$X$51:$Y$64,2),\"\")","v":20}]
[613,20219910057282,"2021-10-25","CORREO ELECTRÓNICO","REMISIÓN POR COMPETENCIA","SOLICITUD DE INFORMACIÓN HIDROMETEOROLÓGICA","GRUPO DE SERVICIO AL CIUDADANO ","2021-10-27","CORREO ELECTRÓNICO",{"$f":"IFERROR(WORKDAY(C624,P624,DiasNOLaborables),\"\")","v":"2021-11-02"},{"$f":"+IF(C624=\"\",\"\",IF(H624=\"\",\"SIN RESPUESTA\",(IF(H624<=J624,\"A TIEMPO\",\"FUERA DE TIEMPO\"))))","v":"A TIEMPO"},{"$f":"IF(H624=\"\",\"\",NETWORKDAYS(C624+1,H624,DiasNOLaborables))","v":2},{"$f":"IF(NETWORKDAYS(J624+1,H624,DiasNOLaborables)<=0,\"\",NETWORKDAYS(J624+1,H624,DiasNOLaborables))","v":""},null,null,{"$f":"IFERROR(VLOOKUP(E624,$X$51:$Y$64,2),\"\")","v":5}]
[614,20219050122742,"2021-10-25","MODULO CONTACTENOS","SOLICITUD DE INFORMACIÓN Y DOCUMENTOS","SOLICITUD DE INFORMACIÓN HIDROMETEOROLÓGICA","GRUPO DE SERVICIO AL CIUDADANO ","2021-10-27","CORREO ELECTRÓNICO",{"$f":"IFERROR(WORKDAY(C625,P625,DiasNOLaborables),\"\")","v":"2021-11-24"},{"$f":"+IF(C625=\"\",\"\",IF(H625=\"\",\"SIN RESPUESTA\",(IF(H625<=J625,\"A TIEMPO\",\"FUERA DE TIEMPO\"))))","v":"A TIEMPO"},{"$f":"IF(H625=\"\",\"\",NETWORKDAYS(C625+1,H625,DiasNOLaborables))","v":2},{"$f":"IF(NETWORKDAYS(J625+1,H625,DiasNOLaborables)<=0,\"\",NETWORKDAYS(J625+1,H625,DiasNOLaborables))","v":""},null,null,{"$f":"IFERROR(VLOOKUP(E625,$X$51:$Y$64,2),\"\")","v":20}]
[615,20219050122752,"2021-10-25","MODULO CONTACTENOS","SOLICITUD DE INFORMACIÓN Y DOCUMENTOS","SOLICITUD DE INFORMACIÓN HIDROMETEOROLÓGICA","GRUPO DE SERVICIO AL CIUDADANO ","2021-10-27","CORREO ELECTRÓNICO",{"$f":"IFERROR(WORKDAY(C626,P626,DiasNOLaborables),\"\")","v":"2021-11-24"},{"$f":"+IF(C626=\"\",\"\",IF(H626=\"\",\"SIN RESPUESTA\",(IF(H626<=J626,\"A TIEMPO\",\"FUERA DE TIEMPO\"))))","v":"A TIEMPO"},{"$f":"IF(H626=\"\",\"\",NETWORKDAYS(C626+1,H626,DiasNOLaborables))","v":2},{"$f":"IF(NETWORKDAYS(J626+1,H626,DiasNOLaborables)<=0,\"\",NETWORKDAYS(J626+1,H626,DiasNOLaborables))","v":""},null,null,{"$f":"IFERROR(VLOOKUP(E626,$X$51:$Y$64,2),\"\")","v":20}]
[616,20219050122802,"2021-10-25","MODULO CONTACTENOS","SOLICITUD DE INFORMACIÓN Y DOCUMENTOS","SOLICITUD DE INFORMACIÓN HIDROMETEOROLÓGICA","GRUPO DE SERVICIO AL CIUDADANO ","2021-10-27","CORREO ELECTRÓNICO",{"$f":"IFERROR(WORKDAY(C627,P627,DiasNOLaborables),\"\")","v":"2021-11-24"},{"$f":"+IF(C627=\"\",\"\",IF(H627=\"\",\"SIN RESPUESTA\",(IF(H627<=J627,\"A TIEMPO\",\"FUERA DE TIEMPO\"))))","v":"A TIEMPO"},{"$f":"IF(H627=\"\",\"\",NETWORKDAYS(C627+1,H627,DiasNOLaborables))","v":2},{"$f":"IF(NETWORKDAYS(J627+1,H627,DiasNOLaborables)<=0,\"\",NETWORKDAYS(J627+1,H627,DiasNOLaborables))","v":""},null,null,{"$f":"IFERROR(VLOOKUP(E627,$X$51:$Y$64,2),\"\")","v":20}]
[617,20219050122832,"2021-10-25","MODULO CONTACTENOS","SOLICITUD DE INFORMACIÓN Y DOCUMENTOS","SOLICITUD DE INFORMACIÓN HIDROMETEOROLÓGICA","GRUPO DE SERVICIO AL CIUDADANO ","2021-10-27","CORREO ELECTRÓNICO",{"$f":"IFERROR(WORKDAY(C628,P628,DiasNOLaborables),\"\")","v":"2021-11-24"},{"$f":"+IF(C628=\"\",\"\",IF(H628=\"\",\"SIN RESPUESTA\",(IF(H628<=J628,\"A TIEMPO\",\"FUERA DE TIEMPO\"))))","v":"A TIEMPO"},{"$f":"IF(H628=\"\",\"\",NETWORKDAYS(C628+1,H628,DiasNOLaborables))","v":2},{"$f":"IF(NETWORKDAYS(J628+1,H628,DiasNOLaborables)<=0,\"\",NETWORKDAYS(J628+1,H628,DiasNOLaborables))","v":""},null,null,{"$f":"IFERROR(VLOOKUP(E628,$X$51:$Y$64,2),\"\")","v":20}]
[618,20219050122962,"2021-10-25","MODULO CONTACTENOS","SOLICITUD DE INFORMACIÓN Y DOCUMENTOS","SOLICITUD DE INFORMACIÓN HIDROMETEOROLÓGICA","GRUPO DE SERVICIO AL CIUDADANO ","2021-10-27","CORREO ELECTRÓNICO",{"$f":"IFERROR(WORKDAY(C629,P629,DiasNOLaborables),\"\")","v":"2021-11-24"},{"$f":"+IF(C629=\"\",\"\",IF(H629=\"\",\"SIN RESPUESTA\",(IF(H629<=J629,\"A TIEMPO\",\"FUERA DE TIEMPO\"))))","v":"A TIEMPO"},{"$f":"IF(H629=\"\",\"\",NETWORKDAYS(C629+1,H629,DiasNOLaborables))","v":2},{"$f":"IF(NETWORKDAYS(J629+1,H629,DiasNOLaborables)<=0,\"\",NETWORKDAYS(J629+1,H629,DiasNOLaborables))","v":""},null,null,{"$f":"IFERROR(VLOOKUP(E629,$X$51:$Y$64,2),\"\")","v":20}]
[619,20219050122972,"2021-10-25","MODULO CONTACTENOS","SOLICITUD DE INFORMACIÓN Y DOCUMENTOS","SOLICITUD DE INFORMACIÓN HIDROMETEOROLÓGICA","GRUPO DE SERVICIO AL CIUDADANO ","2021-10-27","CORREO ELECTRÓNICO",{"$f":"IFERROR(WORKDAY(C630,P630,DiasNOLaborables),\"\")","v":"2021-11-24"},{"$f":"+IF(C630=\"\",\"\",IF(H630=\"\",\"SIN RESPUESTA\",(IF(H630<=J630,\"A TIEMPO\",\"FUERA DE TIEMPO\"))))","v":"A TIEMPO"},{"$f":"IF(H630=\"\",\"\",NETWORKDAYS(C630+1,H630,DiasNOLaborables))","v":2},{"$f":"IF(NETWORKDAYS(J630+1,H630,DiasNOLaborables)<=0,\"\",NETWORKDAYS(J630+1,H630,DiasNOLaborables))","v":""},null,null,{"$f":"IFERROR(VLOOKUP(E630,$X$51:$Y$64,2),\"\")","v":20}]
[620,20219050122982,"2021-10-25","MODULO CONTACTENOS","SOLICITUD DE INFORMACIÓN Y DOCUMENTOS","SOLICITUD DE INFORMACIÓN HIDROMETEOROLÓGICA","GRUPO DE SERVICIO AL CIUDADANO ","2021-10-28","CORREO ELECTRÓNICO",{"$f":"IFERROR(WORKDAY(C631,P631,DiasNOLaborables),\"\")","v":"2021-11-24"},{"$f":"+IF(C631=\"\",\"\",IF(H631=\"\",\"SIN RESPUESTA\",(IF(H631<=J631,\"A TIEMPO\",\"FUERA DE TIEMPO\"))))","v":"A TIEMPO"},{"$f":"IF(H631=\"\",\"\",NETWORKDAYS(C631+1,H631,DiasNOLaborables))","v":3},{"$f":"IF(NETWORKDAYS(J631+1,H631,DiasNOLaborables)<=0,\"\",NETWORKDAYS(J631+1,H631,DiasNOLaborables))","v":""},null,null,{"$f":"IFERROR(VLOOKUP(E631,$X$51:$Y$64,2),\"\")","v":20}]
[621,20219050123062,"2021-10-25","MODULO CONTACTENOS","SOLICITUD DE INFORMACIÓN Y DOCUMENTOS","SOLICITUD DE INFORMACIÓN HIDROMETEOROLÓGICA","GRUPO DE SERVICIO AL CIUDADANO ","2021-10-28","CORREO ELECTRÓNICO",{"$f":"IFERROR(WORKDAY(C632,P632,DiasNOLaborables),\"\")","v":"2021-11-24"},{"$f":"+IF(C632=\"\",\"\",IF(H632=\"\",\"SIN RESPUESTA\",(IF(H632<=J632,\"A TIEMPO\",\"FUERA DE TIEMPO\"))))","v":"A TIEMPO"},{"$f":"IF(H632=\"\",\"\",NETWORKDAYS(C632+1,H632,DiasNOLaborables))","v":3},{"$f":"IF(NETWORKDAYS(J632+1,H632,DiasNOLaborables)<=0,\"\",NETWORKDAYS(J632+1,H632,DiasNOLaborables))","v":""},null,null,{"$f":"IFERROR(VLOOKUP(E632,$X$51:$Y$64,2),\"\")","v":20}]
[622,20219050123072,"2021-10-25","MODULO CONTACTENOS","SOLICITUD DE INFORMACIÓN Y DOCUMENTOS","SOLICITUD DE INFORMACIÓN HIDROMETEOROLÓGICA","GRUPO DE SERVICIO AL CIUDADANO ","2021-10-28","CORREO ELECTRÓNICO",{"$f":"IFERROR(WORKDAY(C633,P633,DiasNOLaborables),\"\")","v":"2021-11-24"},{"$f":"+IF(C633=\"\",\"\",IF(H633=\"\",\"SIN RESPUESTA\",(IF(H633<=J633,\"A TIEMPO\",\"FUERA DE TIEMPO\"))))","v":"A TIEMPO"},{"$f":"IF(H633=\"\",\"\",NETWORKDAYS(C633+1,H633,DiasNOLaborables))","v":3},{"$f":"IF(NETWORKDAYS(J633+1,H633,DiasNOLaborables)<=0,\"\",NETWORKDAYS(J633+1,H633,DiasNOLaborables))","v":""},null,null,{"$f":"IFERROR(VLOOKUP(E633,$X$51:$Y$64,2),\"\")","v":20}]
[623,20219050123082,"2021-10-25","MODULO CONTACTENOS","SOLICITUD DE INFORMACIÓN Y DOCUMENTOS","SOLICITUD DE INFORMACIÓN HIDROMETEOROLÓGICA","GRUPO DE SERVICIO AL CIUDADANO ","2021-10-28","CORREO ELECTRÓNICO",{"$f":"IFERROR(WORKDAY(C634,P634,DiasNOLaborables),\"\")","v":"2021-11-24"},{"$f":"+IF(C634=\"\",\"\",IF(H634=\"\",\"SIN RESPUESTA\",(IF(H634<=J634,\"A TIEMPO\",\"FUERA DE TIEMPO\"))))","v":"A TIEMPO"},{"$f":"IF(H634=\"\",\"\",NETWORKDAYS(C634+1,H634,DiasNOLaborables))","v":3},{"$f":"IF(NETWORKDAYS(J634+1,H634,DiasNOLaborables)<=0,\"\",NETWORKDAYS(J634+1,H634,DiasNOLaborables))","v":""},null,null,{"$f":"IFERROR(VLOOKUP(E634,$X$51:$Y$64,2),\"\")","v":20}]
[624,20219050123112,"2021-10-25","CORREO ELECTRÓNICO","SOLICITUD DE INFORMACIÓN Y DOCUMENTOS","SOLICITUD DE INFORMACIÓN HIDROMETEOROLÓGICA","GRUPO DE SERVICIO AL CIUDADANO ","2021-10-28","CORREO ELECTRÓNICO",{"$f":"IFERROR(WORKDAY(C635,P635,DiasNOLaborables),\"\")","v":"2021-11-24"},{"$f":"+IF(C635=\"\",\"\",IF(H635=\"\",\"SIN RESPUESTA\",(IF(H635<=J635,\"A TIEMPO\",\"FUERA DE TIEMPO\"))))","v":"A TIEMPO"},{"$f":"IF(H635=\"\",\"\",NETWORKDAYS(C635+1,H635,DiasNOLaborables))","v":3},{"$f":"IF(NETWORKDAYS(J635+1,H635,DiasNOLaborables)<=0,\"\",NETWORKDAYS(J635+1,H635,DiasNOLaborables))","v":""},null,null,{"$f":"IFERROR(VLOOKUP(E635,$X$51:$Y$64,2),\"\")","v":20}]
[625,20219050123152,"2021-10-25","MODULO CONTACTENOS","SOLICITUD DE INFORMACIÓN Y DOCUMENTOS","SOLICITUD DE INFORMACIÓN HIDROMETEOROLÓGICA","GRUPO DE SERVICIO AL CIUDADANO ","2021-10-28","CORREO ELECTRÓNICO",{"$f":"IFERROR(WORKDAY(C636,P636,DiasNOLaborables),\"\")","v":"2021-11-24"},{"$f":"+IF(C636=\"\",\"\",IF(H636=\"\",\"SIN RESPUESTA\",(IF(H636<=J636,\"A TIEMPO\",\"FUERA DE TIEMPO\"))))","v":"A TIEMPO"},{"$f":"IF(H636=\"\",\"\",NETWORKDAYS(C636+1,H636,DiasNOLaborables))","v":3},{"$f":"IF(NETWORKDAYS(J636+1,H636,DiasNOLaborables)<=0,\"\",NETWORKDAYS(J636+1,H636,DiasNOLaborables))","v":""},null,null,{"$f":"IFERROR(VLOOKUP(E636,$X$51:$Y$64,2),\"\")","v":20}]
[626,20219050123162,"2021-10-25","MODULO CONTACTENOS","SOLICITUD DE INFORMACIÓN Y DOCUMENTOS","SOLICITUD DE INFORMACIÓN HIDROMETEOROLÓGICA","GRUPO DE SERVICIO AL CIUDADANO ","2021-10-28","CORREO ELECTRÓNICO",{"$f":"IFERROR(WORKDAY(C637,P637,DiasNOLaborables),\"\")","v":"2021-11-24"},{"$f":"+IF(C637=\"\",\"\",IF(H637=\"\",\"SIN RESPUESTA\",(IF(H637<=J637,\"A TIEMPO\",\"FUERA DE TIEMPO\"))))","v":"A TIEMPO"},{"$f":"IF(H637=\"\",\"\",NETWORKDAYS(C637+1,H637,DiasNOLaborables))","v":3},{"$f":"IF(NETWORKDAYS(J637+1,H637,DiasNOLaborables)<=0,\"\",NETWORKDAYS(J637+1,H637,DiasNOLaborables))","v":""},null,null,{"$f":"IFERROR(VLOOKUP(E637,$X$51:$Y$64,2),\"\")","v":20}]
[627,20219050123192,"2021-10-25","CORREO ELECTRÓNICO","SOLICITUD DE INFORMACIÓN Y DOCUMENTOS","SOLICITUD DE INFORMACIÓN HIDROMETEOROLÓGICA","GRUPO DE SERVICIO AL CIUDADANO ","2021-10-28","CORREO ELECTRÓNICO",{"$f":"IFERROR(WORKDAY(C638,P638,DiasNOLaborables),\"\")","v":"2021-11-24"},{"$f":"+IF(C638=\"\",\"\",IF(H638=\"\",\"SIN RESPUESTA\",(IF(H638<=J638,\"A TIEMPO\",\"FUERA DE TIEMPO\"))))","v":"A TIEMPO"},{"$f":"IF(H638=\"\",\"\",NETWORKDAYS(C638+1,H638,DiasNOLaborables))","v":3},{"$f":"IF(NETWORKDAYS(J638+1,H638,DiasNOLaborables)<=0,\"\",NETWORKDAYS(J638+1,H638,DiasNOLaborables))","v":""},null,null,{"$f":"IFERROR(VLOOKUP(E638,$X$51:$Y$64,2),\"\")","v":20}]
[628,20219050123202,"2021-10-25","MODULO CONTACTENOS","SOLICITUD DE INFORMACIÓN Y DOCUMENTOS","SOLICITUD DE INFORMACIÓN HIDROMETEOROLÓGICA","GRUPO DE SERVICIO AL CIUDADANO ","2021-10-28","CORREO ELECTRÓNICO",{"$f":"IFERROR(WORKDAY(C639,P639,DiasNOLaborables),\"\")","v":"2021-11-24"},{"$f":"+IF(C639=\"\",\"\",IF(H639=\"\",\"SIN RESPUESTA\",(IF(H639<=J639,\"A TIEMPO\",\"FUERA DE TIEMPO\"))))","v":"A TIEMPO"},{"$f":"IF(H639=\"\",\"\",NETWORKDAYS(C639+1,H639,DiasNOLaborables))","v":3},{"$f":"IF(NETWORKDAYS(J639+1,H639,DiasNOLaborables)<=0,\"\",NETWORKDAYS(J639+1,H639,DiasNOLaborables))","v":""},null,null,{"$f":"IFERROR(VLOOKUP(E639,$X$51:$Y$64,2),\"\")","v":20}]
[629,20219910057292,"2021-10-25","CORREO ELECTRÓNICO","SOLICITUD DE INFORMACIÓN Y DOCUMENTOS","SOLICITUD DE INFORMACIÓN HIDROMETEOROLÓGICA","GRUPO DE SERVICIO AL CIUDADANO ","2021-10-29","CORREO ELECTRÓNICO",{"$f":"IFERROR(WORKDAY(C640,P640,DiasNOLaborables),\"\")","v":"2021-11-24"},{"$f":"+IF(C640=\"\",\"\",IF(H640=\"\",\"SIN RESPUESTA\",(IF(H640<=J640,\"A TIEMPO\",\"FUERA DE TIEMPO\"))))","v":"A TIEMPO"},{"$f":"IF(H640=\"\",\"\",NETWORKDAYS(C640+1,H640,DiasNOLaborables))","v":4},{"$f":"IF(NETWORKDAYS(J640+1,H640,DiasNOLaborables)<=0,\"\",NETWORKDAYS(J640+1,H640,DiasNOLaborables))","v":""},null,null,{"$f":"IFERROR(VLOOKUP(E640,$X$51:$Y$64,2),\"\")","v":20}]
[630,20219050123292,"2021-10-25","MODULO CONTACTENOS","SOLICITUD DE INFORMACIÓN Y DOCUMENTOS","SOLICITUD DE INFORMACIÓN HIDROMETEOROLÓGICA","GRUPO DE SERVICIO AL CIUDADANO ","2021-10-29","CORREO ELECTRÓNICO",{"$f":"IFERROR(WORKDAY(C641,P641,DiasNOLaborables),\"\")","v":"2021-11-24"},{"$f":"+IF(C641=\"\",\"\",IF(H641=\"\",\"SIN RESPUESTA\",(IF(H641<=J641,\"A TIEMPO\",\"FUERA DE TIEMPO\"))))","v":"A TIEMPO"},{"$f":"IF(H641=\"\",\"\",NETWORKDAYS(C641+1,H641,DiasNOLaborables))","v":4},{"$f":"IF(NETWORKDAYS(J641+1,H641,DiasNOLaborables)<=0,\"\",NETWORKDAYS(J641+1,H641,DiasNOLaborables))","v":""},null,null,{"$f":"IFERROR(VLOOKUP(E641,$X$51:$Y$64,2),\"\")","v":20}]
[631,20219050123092,"2021-10-25","MODULO CONTACTENOS","SOLICITUD DE INFORMACIÓN Y DOCUMENTOS","ADMINISTRATIVA","GRUPO DE ADMINISTRACIÓN Y DESARROLLO DEL TALENTO HUMANO","2021-11-03","CORREO ELECTRÓNICO",{"$f":"IFERROR(WORKDAY(C642,P642,DiasNOLaborables),\"\")","v":"2021-11-24"},{"$f":"+IF(C642=\"\",\"\",IF(H642=\"\",\"SIN RESPUESTA\",(IF(H642<=J642,\"A TIEMPO\",\"FUERA DE TIEMPO\"))))","v":"A TIEMPO"},{"$f":"IF(H642=\"\",\"\",NETWORKDAYS(C642+1,H642,DiasNOLaborables))","v":6},{"$f":"IF(NETWORKDAYS(J642+1,H642,DiasNOLaborables)<=0,\"\",NETWORKDAYS(J642+1,H642,DiasNOLaborables))","v":""},null,null,{"$f":"IFERROR(VLOOKUP(E642,$X$51:$Y$64,2),\"\")","v":20}]
[632,20219050123102,"2021-10-25","MODULO CONTACTENOS","SOLICITUD DE INFORMACIÓN Y DOCUMENTOS","ADMINISTRATIVA","GRUPO DE ADMINISTRACIÓN Y DESARROLLO DEL TALENTO HUMANO","2021-10-29","CORREO ELECTRÓNICO",{"$f":"IFERROR(WORKDAY(C643,P643,DiasNOLaborables),\"\")","v":"2021-11-24"},{"$f":"+IF(C643=\"\",\"\",IF(H643=\"\",\"SIN RESPUESTA\",(IF(H643<=J643,\"A TIEMPO\",\"FUERA DE TIEMPO\"))))","v":"A TIEMPO"},{"$f":"IF(H643=\"\",\"\",NETWORKDAYS(C643+1,H643,DiasNOLaborables))","v":4},{"$f":"IF(NETWORKDAYS(J643+1,H643,DiasNOLaborables)<=0,\"\",NETWORKDAYS(J643+1,H643,DiasNOLaborables))","v":""},null,null,{"$f":"IFERROR(VLOOKUP(E643,$X$51:$Y$64,2),\"\")","v":20}]
[633,20219050123122,"2021-10-25","MODULO CONTACTENOS","SOLICITUD DE INFORMACIÓN Y DOCUMENTOS","INFORMES AMBIENTALES","SUBDIRECCIÓN DE ECOSISTEMAS E INFORMACIÓN AMBIENTAL","2021-10-27","CORREO ELECTRÓNICO",{"$f":"IFERROR(WORKDAY(C644,P644,DiasNOLaborables),\"\")","v":"2021-11-24"},{"$f":"+IF(C644=\"\",\"\",IF(H644=\"\",\"SIN RESPUESTA\",(IF(H644<=J644,\"A TIEMPO\",\"FUERA DE TIEMPO\"))))","v":"A TIEMPO"},{"$f":"IF(H644=\"\",\"\",NETWORKDAYS([5]Hoja1!C642+1,[5]Hoja1!P642,DiasNOLaborables))","v":8},{"$f":"IF(NETWORKDAYS(J644+1,H644,DiasNOLaborables)<=0,\"\",NETWORKDAYS(J644+1,H644,DiasNOLaborables))","v":""},null,null,{"$f":"IFERROR(VLOOKUP(E644,$X$51:$Y$64,2),\"\")","v":20}]
[634,20219050123282,"2021-10-25","MODULO CONTACTENOS","SOLICITUD DE INFORMACIÓN Y DOCUMENTOS","ADMINISTRATIVA","GRUPO DE TESORERÍA","2021-10-27","CORREO ELECTRÓNICO",{"$f":"IFERROR(WORKDAY(C645,P645,DiasNOLaborables),\"\")","v":"2021-11-24"},{"$f":"+IF(C645=\"\",\"\",IF(H645=\"\",\"SIN RESPUESTA\",(IF(H645<=J645,\"A TIEMPO\",\"FUERA DE TIEMPO\"))))","v":"A TIEMPO"},{"$f":"IF(H645=\"\",\"\",NETWORKDAYS(C645+1,H645,DiasNOLaborables))","v":2},{"$f":"IF(NETWORKDAYS(J645+1,H645,DiasNOLaborables)<=0,\"\",NETWORKDAYS(J645+1,H645,DiasNOLaborables))","v":""},null,null,{"$f":"IFERROR(VLOOKUP(E645,$X$51:$Y$64,2),\"\")","v":20}]
[635,20219050122812,"2021-10-25","CORREO ELECTRÓNICO","CERTIFICACIONES DE TIEMPO, CLIMA Y EVENTOS HIDROLÓGICOS","CERTIFICACIONES DE TIEMPO Y CLIMA","SUBDIRECCIÓN DE METEOROLOGÍA","2021-11-19","CORREO ELECTRÓNICO",{"$f":"IFERROR(WORKDAY(C646,P646,DiasNOLaborables),\"\")","v":"2021-12-16"},{"$f":"+IF(C646=\"\",\"\",IF(H646=\"\",\"SIN RESPUESTA\",(IF(H646<=J646,\"A TIEMPO\",\"FUERA DE TIEMPO\"))))","v":"A TIEMPO"},{"$f":"IF(H646=\"\",\"\",NETWORKDAYS(C646+1,H646,DiasNOLaborables))","v":17},{"$f":"IF(NETWORKDAYS(J646+1,H646,DiasNOLaborables)<=0,\"\",NETWORKDAYS(J646+1,H646,DiasNOLaborables))","v":""},null,null,{"$f":"IFERROR(VLOOKUP(E646,$X$51:$Y$64,2),\"\")","v":35}]
[636,20219050122822,"2021-10-25","CORREO ELECTRÓNICO","SOLICITUD DE INFORMACIÓN Y DOCUMENTOS","INFORMES AMBIENTALES","SUBDIRECCIÓN DE ESTUDIOS AMBIENTALES","2021-10-25","CORREO ELECTRÓNICO",{"$f":"IFERROR(WORKDAY(C647,P647,DiasNOLaborables),\"\")","v":"2021-11-24"},{"$f":"+IF(C647=\"\",\"\",IF(H647=\"\",\"SIN RESPUESTA\",(IF(H647<=J647,\"A TIEMPO\",\"FUERA DE TIEMPO\"))))","v":"A TIEMPO"},{"$f":"IF(H647=\"\",\"\",NETWORKDAYS(C647+1,H647,DiasNOLaborables))","v":-2},{"$f":"IF(NETWORKDAYS(J647+1,H647,DiasNOLaborables)<=0,\"\",NETWORKDAYS(J647+1,H647,DiasNOLaborables))","v":""},null,null,{"$f":"IFERROR(VLOOKUP(E647,$X$51:$Y$64,2),\"\")","v":20}]
[637,20219050122862,"2021-10-25","CORREO ELECTRÓNICO","SOLICITUD DE INFORMACIÓN Y DOCUMENTOS","JURIDICO","OFICINA ASESORA JURÍDICA","2021-11-08","CORREO ELECTRÓNICO",{"$f":"IFERROR(WORKDAY(C648,P648,DiasNOLaborables),\"\")","v":"2021-11-24"},{"$f":"+IF(C648=\"\",\"\",IF(H648=\"\",\"SIN RESPUESTA\",(IF(H648<=J648,\"A TIEMPO\",\"FUERA DE TIEMPO\"))))","v":"A TIEMPO"},{"$f":"IF(H648=\"\",\"\",NETWORKDAYS(C648+1,H648,DiasNOLaborables))","v":9},{"$f":"IF(NETWORKDAYS(J648+1,H648,DiasNOLaborables)<=0,\"\",NETWORKDAYS(J648+1,H648,DiasNOLaborables))","v":""},null,null,{"$f":"IFERROR(VLOOKUP(E648,$X$51:$Y$64,2),\"\")","v":20}]
[638,20219050122872,"2021-10-25","CORREO ELECTRÓNICO","SOLICITUD DE INFORMACIÓN Y DOCUMENTOS","BOSQUES","SUBDIRECCIÓN DE ECOSISTEMAS E INFORMACIÓN AMBIENTAL","2021-10-27","CORREO ELECTRÓNICO",{"$f":"IFERROR(WORKDAY(C649,P649,DiasNOLaborables),\"\")","v":"2021-11-24"},{"$f":"+IF(C649=\"\",\"\",IF(H649=\"\",\"SIN RESPUESTA\",(IF(H649<=J649,\"A TIEMPO\",\"FUERA DE TIEMPO\"))))","v":"A TIEMPO"},{"$f":"IF(H649=\"\",\"\",NETWORKDAYS(C649+1,H649,DiasNOLaborables))","v":2},{"$f":"IF(NETWORKDAYS(J649+1,H649,DiasNOLaborables)<=0,\"\",NETWORKDAYS(J649+1,H649,DiasNOLaborables))","v":""},null,null,{"$f":"IFERROR(VLOOKUP(E649,$X$51:$Y$64,2),\"\")","v":20}]
[639,20219050122882,"2021-10-25","CORREO ELECTRÓNICO","SOLICITUD DE INFORMACIÓN Y DOCUMENTOS","INFORMES AMBIENTALES","SUBDIRECCIÓN DE HIDROLOGÍA","2021-10-25","CORREO ELECTRÓNICO",{"$f":"IFERROR(WORKDAY(C650,P650,DiasNOLaborables),\"\")","v":"2021-11-24"},{"$f":"+IF(C650=\"\",\"\",IF(H650=\"\",\"SIN RESPUESTA\",(IF(H650<=J650,\"A TIEMPO\",\"FUERA DE TIEMPO\"))))","v":"A TIEMPO"},{"$f":"IF(H650=\"\",\"\",NETWORKDAYS(C650+1,H650,DiasNOLaborables))","v":-2},{"$f":"IF(NETWORKDAYS(J650+1,H650,DiasNOLaborables)<=0,\"\",NETWORKDAYS(J650+1,H650,DiasNOLaborables))","v":""},null,null,{"$f":"IFERROR(VLOOKUP(E650,$X$51:$Y$64,2),\"\")","v":20}]
[640,20219050122912,"2021-10-25","CORREO ELECTRÓNICO","SOLICITUD DE INFORMACIÓN Y DOCUMENTOS","BOSQUES","SUBDIRECCIÓN DE ECOSISTEMAS E INFORMACIÓN AMBIENTAL","2021-10-27","CORREO ELECTRÓNICO",{"$f":"IFERROR(WORKDAY(C651,P651,DiasNOLaborables),\"\")","v":"2021-11-24"},{"$f":"+IF(C651=\"\",\"\",IF(H651=\"\",\"SIN RESPUESTA\",(IF(H651<=J651,\"A TIEMPO\",\"FUERA DE TIEMPO\"))))","v":"A TIEMPO"},{"$f":"IF(H651=\"\",\"\",NETWORKDAYS(C651+1,H651,DiasNOLaborables))","v":2},{"$f":"IF(NETWORKDAYS(J651+1,H651,DiasNOLaborables)<=0,\"\",NETWORKDAYS(J651+1,H651,DiasNOLaborables))","v":""},null,null,{"$f":"IFERROR(VLOOKUP(E651,$X$51:$Y$64,2),\"\")","v":20}]
[641,20219050122932,"2021-10-25","CORREO ELECTRÓNICO","SOLICITUD DE INFORMACIÓN Y DOCUMENTOS","ACREDITACIÓN DE LABORATORIOS","SUBDIRECCIÓN DE ESTUDIOS AMBIENTALES","2021-11-03","CORREO ELECTRÓNICO",{"$f":"IFERROR(WORKDAY(C652,P652,DiasNOLaborables),\"\")","v":"2021-11-24"},{"$f":"+IF(C652=\"\",\"\",IF(H652=\"\",\"SIN RESPUESTA\",(IF(H652<=J652,\"A TIEMPO\",\"FUERA DE TIEMPO\"))))","v":"A TIEMPO"},{"$f":"IF(H652=\"\",\"\",NETWORKDAYS(C652+1,H652,DiasNOLaborables))","v":6},{"$f":"IF(NETWORKDAYS(J652+1,H652,DiasNOLaborables)<=0,\"\",NETWORKDAYS(J652+1,H652,DiasNOLaborables))","v":""},null,null,{"$f":"IFERROR(VLOOKUP(E652,$X$51:$Y$64,2),\"\")","v":20}]
[642,20219050122992,"2021-10-25","CORREO ELECTRÓNICO","SOLICITUD DE INFORMACIÓN Y DOCUMENTOS","INFORMES AMBIENTALES","SUBDIRECCIÓN DE HIDROLOGÍA","2021-10-27","CORREO ELECTRÓNICO",{"$f":"IFERROR(WORKDAY(C653,P653,DiasNOLaborables),\"\")","v":"2021-11-24"},{"$f":"+IF(C653=\"\",\"\",IF(H653=\"\",\"SIN RESPUESTA\",(IF(H653<=J653,\"A TIEMPO\",\"FUERA DE TIEMPO\"))))","v":"A TIEMPO"},{"$f":"IF(H653=\"\",\"\",NETWORKDAYS(C653+1,H653,DiasNOLaborables))","v":2},{"$f":"IF(NETWORKDAYS(J653+1,H653,DiasNOLaborables)<=0,\"\",NETWORKDAYS(J653+1,H653,DiasNOLaborables))","v":""},null,null,{"$f":"IFERROR(VLOOKUP(E653,$X$51:$Y$64,2),\"\")","v":20}]
[{"$f":"IF(B654<>\"\",A653+1,\"\")","v":643},20219050123042,"2021-10-25","CORREO ELECTRÓNICO","REMISIÓN POR COMPETENCIA","ADMINISTRATIVA","GRUPO DE SERVICIO AL CIUDADANO ","2021-10-29","CORREO ELECTRÓNICO",{"$f":"IFERROR(WORKDAY(C654,P654,DiasNOLaborables),\"\")","v":"2021-11-02"},{"$f":"+IF(C654=\"\",\"\",IF(H654=\"\",\"SIN RESPUESTA\",(IF(H654<=J654,\"A TIEMPO\",\"FUERA DE TIEMPO\"))))","v":"A TIEMPO"},{"$f":"IF(H654=\"\",\"\",NETWORKDAYS(C654+1,H654,DiasNOLaborables))","v":4},{"$f":"IF(NETWORKDAYS(J654+1,H654,DiasNOLaborables)<=0,\"\",NETWORKDAYS(J654+1,H654,DiasNOLaborables))","v":""},null,null,{"$f":"IFERROR(VLOOKUP(E654,$X$51:$Y$64,2),\"\")","v":5}]
[644,20219050123002,"2021-10-25","CORREO ELECTRÓNICO","PETICIÓN","INFORMES AMBIENTALES","SUBDIRECCIÓN DE HIDROLOGÍA","2021-10-28","CORREO ELECTRÓNICO",{"$f":"IFERROR(WORKDAY(C655,P655,DiasNOLaborables),\"\")","v":"2021-12-09"},{"$f":"+IF(C655=\"\",\"\",IF(H655=\"\",\"SIN RESPUESTA\",(IF(H655<=J655,\"A TIEMPO\",\"FUERA DE TIEMPO\"))))","v":"A TIEMPO"},{"$f":"IF(H655=\"\",\"\",NETWORKDAYS(C655+1,H655,DiasNOLaborables))","v":3},{"$f":"IF(NETWORKDAYS(J655+1,H655,DiasNOLaborables)<=0,\"\",NETWORKDAYS(J655+1,H655,DiasNOLaborables))","v":""},null,null,{"$f":"IFERROR(VLOOKUP(E655,$X$51:$Y$64,2),\"\")","v":30}]
[645,20219050123012,"2021-10-25","CORREO ELECTRÓNICO","SOLICITUD DE INFORMACIÓN Y DOCUMENTOS","ACREDITACIÓN DE LABORATORIOS","SUBDIRECCIÓN DE ESTUDIOS AMBIENTALES","2021-11-03","CORREO ELECTRÓNICO",{"$f":"IFERROR(WORKDAY(C656,P656,DiasNOLaborables),\"\")","v":"2021-11-24"},{"$f":"+IF(C656=\"\",\"\",IF(H656=\"\",\"SIN RESPUESTA\",(IF(H656<=J656,\"A TIEMPO\",\"FUERA DE TIEMPO\"))))","v":"A TIEMPO"},{"$f":"IF(H656=\"\",\"\",NETWORKDAYS(C656+1,H656,DiasNOLaborables))","v":6},{"$f":"IF(NETWORKDAYS(J656+1,H656,DiasNOLaborables)<=0,\"\",NETWORKDAYS(J656+1,H656,DiasNOLaborables))","v":""},null,null,{"$f":"IFERROR(VLOOKUP(E656,$X$51:$Y$64,2),\"\")","v":20}]
[646,20219050123022,"2021-10-25","CORREO ELECTRÓNICO","SOLICITUD JUDICIAL","JURIDICO","OFICINA ASESORA JURÍDICA","2021-10-25","CORREO ELECTRÓNICO",{"$f":"IFERROR(WORKDAY(C657,P657,DiasNOLaborables),\"\")","v":"2021-11-02"},{"$f":"+IF(C657=\"\",\"\",IF(H657=\"\",\"SIN RESPUESTA\",(IF(H657<=J657,\"A TIEMPO\",\"FUERA DE TIEMPO\"))))","v":"A TIEMPO"},{"$f":"IF(H657=\"\",\"\",NETWORKDAYS(C657+1,H657,DiasNOLaborables))","v":-2},{"$f":"IF(NETWORKDAYS(J657+1,H657,DiasNOLaborables)<=0,\"\",NETWORKDAYS(J657+1,H657,DiasNOLaborables))","v":""},null,null,{"$f":"IFERROR(VLOOKUP(E657,$X$51:$Y$64,2),\"\")","v":5}]
[647,20219050123032,"2021-10-25","CORREO ELECTRÓNICO","SOLICITUD DE INFORMACIÓN Y DOCUMENTOS","INFORMES AMBIENTALES","SUBDIRECCIÓN DE HIDROLOGÍA","2021-11-23","CORREO ELECTRÓNICO",{"$f":"IFERROR(WORKDAY(C658,P658,DiasNOLaborables),\"\")","v":"2021-11-24"},{"$f":"+IF(C658=\"\",\"\",IF(H658=\"\",\"SIN RESPUESTA\",(IF(H658<=J658,\"A TIEMPO\",\"FUERA DE TIEMPO\"))))","v":"A TIEMPO"},{"$f":"IF(H658=\"\",\"\",NETWORKDAYS(C658+1,H658,DiasNOLaborables))","v":19},{"$f":"IF(NETWORKDAYS(J658+1,H658,DiasNOLaborables)<=0,\"\",NETWORKDAYS(J658+1,H658,DiasNOLaborables))","v":""},null,null,{"$f":"IFERROR(VLOOKUP(E658,$X$51:$Y$64,2),\"\")","v":20}]
[648,20219050123052,"2021-10-25","CORREO ELECTRÓNICO","CERTIFICACIONES DE TIEMPO, CLIMA Y EVENTOS HIDROLÓGICOS","CERTIFICACIONES DE TIEMPO Y CLIMA","SUBDIRECCIÓN DE METEOROLOGÍA","2021-11-18","CORREO ELECTRÓNICO",{"$f":"IFERROR(WORKDAY(C659,P659,DiasNOLaborables),\"\")","v":"2021-12-16"},{"$f":"+IF(C659=\"\",\"\",IF(H659=\"\",\"SIN RESPUESTA\",(IF(H659<=J659,\"A TIEMPO\",\"FUERA DE TIEMPO\"))))","v":"A TIEMPO"},{"$f":"IF(H659=\"\",\"\",NETWORKDAYS(C659+1,H659,DiasNOLaborables))","v":16},{"$f":"IF(NETWORKDAYS(J659+1,H659,DiasNOLaborables)<=0,\"\",NETWORKDAYS(J659+1,H659,DiasNOLaborables))","v":""},null,null,{"$f":"IFERROR(VLOOKUP(E659,$X$51:$Y$64,2),\"\")","v":35}]
[649,20219050123182,"2021-10-25","CORREO ELECTRÓNICO","SOLICITUD DE INFORMACIÓN Y DOCUMENTOS","OPERACIÓN DE REDES","SUBDIRECCIÓN DE METEOROLOGÍA","2021-11-17","CORREO ELECTRÓNICO",{"$f":"IFERROR(WORKDAY(C660,P660,DiasNOLaborables),\"\")","v":"2021-11-24"},{"$f":"+IF(C660=\"\",\"\",IF(H660=\"\",\"SIN RESPUESTA\",(IF(H660<=J660,\"A TIEMPO\",\"FUERA DE TIEMPO\"))))","v":"A TIEMPO"},{"$f":"IF(H660=\"\",\"\",NETWORKDAYS(C660+1,H660,DiasNOLaborables))","v":15},{"$f":"IF(NETWORKDAYS(J660+1,H660,DiasNOLaborables)<=0,\"\",NETWORKDAYS(J660+1,H660,DiasNOLaborables))","v":""},null,null,{"$f":"IFERROR(VLOOKUP(E660,$X$51:$Y$64,2),\"\")","v":20}]
[650,20219050123212,"2021-10-25","CORREO ELECTRÓNICO","SOLICITUD DE INFORMACIÓN Y DOCUMENTOS","BOSQUES","SUBDIRECCIÓN DE ECOSISTEMAS E INFORMACIÓN AMBIENTAL","2021-10-27","CORREO ELECTRÓNICO",{"$f":"IFERROR(WORKDAY(C661,P661,DiasNOLaborables),\"\")","v":"2021-11-24"},{"$f":"+IF(C661=\"\",\"\",IF(H661=\"\",\"SIN RESPUESTA\",(IF(H661<=J661,\"A TIEMPO\",\"FUERA DE TIEMPO\"))))","v":"A TIEMPO"},{"$f":"IF(H661=\"\",\"\",NETWORKDAYS(C661+1,H661,DiasNOLaborables))","v":2},{"$f":"IF(NETWORKDAYS(J661+1,H661,DiasNOLaborables)<=0,\"\",NETWORKDAYS(J661+1,H661,DiasNOLaborables))","v":""},null,null,{"$f":"IFERROR(VLOOKUP(E661,$X$51:$Y$64,2),\"\")","v":20}]
[651,20219050122782,"2021-10-25","CORREO ELECTRÓNICO","SOLICITUD DE INFORMACIÓN Y DOCUMENTOS","SOLICITUD DE INFORMACIÓN HIDROMETEOROLÓGICA","GRUPO DE SERVICIO AL CIUDADANO ","2021-11-09","CORREO ELECTRÓNICO",{"$f":"IFERROR(WORKDAY(C662,P662,DiasNOLaborables),\"\")","v":"2021-11-24"},{"$f":"+IF(C662=\"\",\"\",IF(H662=\"\",\"SIN RESPUESTA\",(IF(H662<=J662,\"A TIEMPO\",\"FUERA DE TIEMPO\"))))","v":"A TIEMPO"},{"$f":"IF(H662=\"\",\"\",NETWORKDAYS(C662+1,H662,DiasNOLaborables))","v":10},{"$f":"IF(NETWORKDAYS(J662+1,H662,DiasNOLaborables)<=0,\"\",NETWORKDAYS(J662+1,H662,DiasNOLaborables))","v":""},null,null,{"$f":"IFERROR(VLOOKUP(E662,$X$51:$Y$64,2),\"\")","v":20}]
[652,20219050122892,"2021-10-25","CORREO ELECTRÓNICO","SOLICITUD DE INFORMACIÓN Y DOCUMENTOS","SOLICITUD DE INFORMACIÓN HIDROMETEOROLÓGICA","GRUPO DE SERVICIO AL CIUDADANO ","2021-11-09","CORREO ELECTRÓNICO",{"$f":"IFERROR(WORKDAY(C663,P663,DiasNOLaborables),\"\")","v":"2021-11-24"},{"$f":"+IF(C663=\"\",\"\",IF(H663=\"\",\"SIN RESPUESTA\",(IF(H663<=J663,\"A TIEMPO\",\"FUERA DE TIEMPO\"))))","v":"A TIEMPO"},{"$f":"IF(H663=\"\",\"\",NETWORKDAYS(C663+1,H663,DiasNOLaborables))","v":10},{"$f":"IF(NETWORKDAYS(J663+1,H663,DiasNOLaborables)<=0,\"\",NETWORKDAYS(J663+1,H663,DiasNOLaborables))","v":""},null,null,{"$f":"IFERROR(VLOOKUP(E663,$X$51:$Y$64,2),\"\")","v":20}]
[653,20219050122902,"2021-10-25","CORREO ELECTRÓNICO","SOLICITUD DE INFORMACIÓN Y DOCUMENTOS","SOLICITUD DE INFORMACIÓN HIDROMETEOROLÓGICA","GRUPO DE SERVICIO AL CIUDADANO ","2021-11-09","CORREO ELECTRÓNICO",{"$f":"IFERROR(WORKDAY(C664,P664,DiasNOLaborables),\"\")","v":"2021-11-24"},{"$f":"+IF(C664=\"\",\"\",IF(H664=\"\",\"SIN RESPUESTA\",(IF(H664<=J664,\"A TIEMPO\",\"FUERA DE TIEMPO\"))))","v":"A TIEMPO"},{"$f":"IF(H664=\"\",\"\",NETWORKDAYS(C664+1,H664,DiasNOLaborables))","v":10},{"$f":"IF(NETWORKDAYS(J664+1,H664,DiasNOLaborables)<=0,\"\",NETWORKDAYS(J664+1,H664,DiasNOLaborables))","v":""},null,null,{"$f":"IFERROR(VLOOKUP(E664,$X$51:$Y$64,2),\"\")","v":20}]
[654,20219050122952,"2021-10-25","CORREO ELECTRÓNICO","SOLICITUD DE INFORMACIÓN Y DOCUMENTOS","SOLICITUD DE INFORMACIÓN HIDROMETEOROLÓGICA","GRUPO DE SERVICIO AL CIUDADANO ","2021-11-10","CORREO ELECTRÓNICO",{"$f":"IFERROR(WORKDAY(C665,P665,DiasNOLaborables),\"\")","v":"2021-11-24"},{"$f":"+IF(C665=\"\",\"\",IF(H665=\"\",\"SIN RESPUESTA\",(IF(H665<=J665,\"A TIEMPO\",\"FUERA DE TIEMPO\"))))","v":"A TIEMPO"},{"$f":"IF(H665=\"\",\"\",NETWORKDAYS(C665+1,H665,DiasNOLaborables))","v":11},{"$f":"IF(NETWORKDAYS(J665+1,H665,DiasNOLaborables)<=0,\"\",NETWORKDAYS(J665+1,H665,DiasNOLaborables))","v":""},null,null,{"$f":"IFERROR(VLOOKUP(E665,$X$51:$Y$64,2),\"\")","v":20}]
[655,20219050123232,"2021-10-25","CORREO ELECTRÓNICO","SOLICITUD DE INFORMACIÓN Y DOCUMENTOS","JURIDICO","OFICINA ASESORA JURÍDICA","2021-10-29","CORREO ELECTRÓNICO",{"$f":"IFERROR(WORKDAY(C666,P666,DiasNOLaborables),\"\")","v":"2021-11-24"},{"$f":"+IF(C666=\"\",\"\",IF(H666=\"\",\"SIN RESPUESTA\",(IF(H666<=J666,\"A TIEMPO\",\"FUERA DE TIEMPO\"))))","v":"A TIEMPO"},{"$f":"IF(H666=\"\",\"\",NETWORKDAYS(C666+1,H666,DiasNOLaborables))","v":4},{"$f":"IF(NETWORKDAYS(J666+1,H666,DiasNOLaborables)<=0,\"\",NETWORKDAYS(J666+1,H666,DiasNOLaborables))","v":""},null,null,{"$f":"IFERROR(VLOOKUP(E666,$X$51:$Y$64,2),\"\")","v":20}]
[656,20219050123302,"2021-10-25","MODULO CONTACTENOS","SOLICITUD DE INFORMACIÓN Y DOCUMENTOS","SOLICITUD DE INFORMACIÓN HIDROMETEOROLÓGICA","GRUPO DE SERVICIO AL CIUDADANO ","2021-10-27","CORREO ELECTRÓNICO",{"$f":"IFERROR(WORKDAY(C667,P667,DiasNOLaborables),\"\")","v":"2021-11-24"},{"$f":"+IF(C667=\"\",\"\",IF(H667=\"\",\"SIN RESPUESTA\",(IF(H667<=J667,\"A TIEMPO\",\"FUERA DE TIEMPO\"))))","v":"A TIEMPO"},{"$f":"IF(H667=\"\",\"\",NETWORKDAYS(C667+1,H667,DiasNOLaborables))","v":2},{"$f":"IF(NETWORKDAYS(J667+1,H667,DiasNOLaborables)<=0,\"\",NETWORKDAYS(J667+1,H667,DiasNOLaborables))","v":""},null,null,{"$f":"IFERROR(VLOOKUP(E667,$X$51:$Y$64,2),\"\")","v":20}]
[657,20219050123352,"2021-10-26","MODULO CONTACTENOS","SOLICITUD DE INFORMACIÓN Y DOCUMENTOS","SOLICITUD DE INFORMACIÓN HIDROMETEOROLÓGICA","GRUPO DE SERVICIO AL CIUDADANO ","2021-10-27","CORREO ELECTRÓNICO",{"$f":"IFERROR(WORKDAY(C668,P668,DiasNOLaborables),\"\")","v":"2021-11-25"},{"$f":"+IF(C668=\"\",\"\",IF(H668=\"\",\"SIN RESPUESTA\",(IF(H668<=J668,\"A TIEMPO\",\"FUERA DE TIEMPO\"))))","v":"A TIEMPO"},{"$f":"IF(H668=\"\",\"\",NETWORKDAYS(C668+1,H668,DiasNOLaborables))","v":1},{"$f":"IF(NETWORKDAYS(J668+1,H668,DiasNOLaborables)<=0,\"\",NETWORKDAYS(J668+1,H668,DiasNOLaborables))","v":""},null,null,{"$f":"IFERROR(VLOOKUP(E668,$X$51:$Y$64,2),\"\")","v":20}]
[658,20219050123542,"2021-10-26","MODULO CONTACTENOS","SOLICITUD DE INFORMACIÓN Y DOCUMENTOS","SOLICITUD DE INFORMACIÓN HIDROMETEOROLÓGICA","GRUPO DE SERVICIO AL CIUDADANO ","2021-10-27","CORREO ELECTRÓNICO",{"$f":"IFERROR(WORKDAY(C669,P669,DiasNOLaborables),\"\")","v":"2021-11-25"},{"$f":"+IF(C669=\"\",\"\",IF(H669=\"\",\"SIN RESPUESTA\",(IF(H669<=J669,\"A TIEMPO\",\"FUERA DE TIEMPO\"))))","v":"A TIEMPO"},{"$f":"IF(H669=\"\",\"\",NETWORKDAYS(C669+1,H669,DiasNOLaborables))","v":1},{"$f":"IF(NETWORKDAYS(J669+1,H669,DiasNOLaborables)<=0,\"\",NETWORKDAYS(J669+1,H669,DiasNOLaborables))","v":""},null,null,{"$f":"IFERROR(VLOOKUP(E669,$X$51:$Y$64,2),\"\")","v":20}]
[659,20219050123552,"2021-10-26","MODULO CONTACTENOS","SOLICITUD DE INFORMACIÓN Y DOCUMENTOS","SOLICITUD DE INFORMACIÓN HIDROMETEOROLÓGICA","GRUPO DE SERVICIO AL CIUDADANO ","2021-10-27","CORREO ELECTRÓNICO",{"$f":"IFERROR(WORKDAY(C670,P670,DiasNOLaborables),\"\")","v":"2021-11-25"},{"$f":"+IF(C670=\"\",\"\",IF(H670=\"\",\"SIN RESPUESTA\",(IF(H670<=J670,\"A TIEMPO\",\"FUERA DE TIEMPO\"))))","v":"A TIEMPO"},{"$f":"IF(H670=\"\",\"\",NETWORKDAYS(C670+1,H670,DiasNOLaborables))","v":1},{"$f":"IF(NETWORKDAYS(J670+1,H670,DiasNOLaborables)<=0,\"\",NETWORKDAYS(J670+1,H670,DiasNOLaborables))","v":""},null,null,{"$f":"IFERROR(VLOOKUP(E670,$X$51:$Y$64,2),\"\")","v":20}]
[660,20219050123562,"2021-10-26","MODULO CONTACTENOS","SOLICITUD DE INFORMACIÓN Y DOCUMENTOS","SOLICITUD DE INFORMACIÓN HIDROMETEOROLÓGICA","GRUPO DE SERVICIO AL CIUDADANO ","2021-10-27","CORREO ELECTRÓNICO",{"$f":"IFERROR(WORKDAY(C671,P671,DiasNOLaborables),\"\")","v":"2021-11-25"},{"$f":"+IF(C671=\"\",\"\",IF(H671=\"\",\"SIN RESPUESTA\",(IF(H671<=J671,\"A TIEMPO\",\"FUERA DE TIEMPO\"))))","v":"A TIEMPO"},{"$f":"IF(H671=\"\",\"\",NETWORKDAYS(C671+1,H671,DiasNOLaborables))","v":1},{"$f":"IF(NETWORKDAYS(J671+1,H671,DiasNOLaborables)<=0,\"\",NETWORKDAYS(J671+1,H671,DiasNOLaborables))","v":""},null,null,{"$f":"IFERROR(VLOOKUP(E671,$X$51:$Y$64,2),\"\")","v":20}]
[661,20219050123572,"2021-10-26","MODULO CONTACTENOS","SOLICITUD DE INFORMACIÓN Y DOCUMENTOS","SOLICITUD DE INFORMACIÓN HIDROMETEOROLÓGICA","GRUPO DE SERVICIO AL CIUDADANO ","2021-10-27","CORREO ELECTRÓNICO",{"$f":"IFERROR(WORKDAY(C672,P672,DiasNOLaborables),\"\")","v":"2021-11-25"},{"$f":"+IF(C672=\"\",\"\",IF(H672=\"\",\"SIN RESPUESTA\",(IF(H672<=J672,\"A TIEMPO\",\"FUERA DE TIEMPO\"))))","v":"A TIEMPO"},{"$f":"IF(H672=\"\",\"\",NETWORKDAYS(C672+1,H672,DiasNOLaborables))","v":1},{"$f":"IF(NETWORKDAYS(J672+1,H672,DiasNOLaborables)<=0,\"\",NETWORKDAYS(J672+1,H672,DiasNOLaborables))","v":""},null,null,{"$f":"IFERROR(VLOOKUP(E672,$X$51:$Y$64,2),\"\")","v":20}]
[662,20219050123602,"2021-10-26","MODULO CONTACTENOS","SOLICITUD DE INFORMACIÓN Y DOCUMENTOS","SOLICITUD DE INFORMACIÓN HIDROMETEOROLÓGICA","GRUPO DE SERVICIO AL CIUDADANO ","2021-10-27","CORREO ELECTRÓNICO",{"$f":"IFERROR(WORKDAY(C673,P673,DiasNOLaborables),\"\")","v":"2021-11-25"},{"$f":"+IF(C673=\"\",\"\",IF(H673=\"\",\"SIN RESPUESTA\",(IF(H673<=J673,\"A TIEMPO\",\"FUERA DE TIEMPO\"))))","v":"A TIEMPO"},{"$f":"IF(H673=\"\",\"\",NETWORKDAYS(C673+1,H673,DiasNOLaborables))","v":1},{"$f":"IF(NETWORKDAYS(J673+1,H673,DiasNOLaborables)<=0,\"\",NETWORKDAYS(J673+1,H673,DiasNOLaborables))","v":""},null,null,{"$f":"IFERROR(VLOOKUP(E673,$X$51:$Y$64,2),\"\")","v":20}]
[663,20219050123672,"2021-10-26","MODULO CONTACTENOS","SOLICITUD DE INFORMACIÓN Y DOCUMENTOS","SOLICITUD DE INFORMACIÓN HIDROMETEOROLÓGICA","GRUPO DE SERVICIO AL CIUDADANO ","2021-10-28","CORREO ELECTRÓNICO",{"$f":"IFERROR(WORKDAY(C674,P674,DiasNOLaborables),\"\")","v":"2021-11-25"},{"$f":"+IF(C674=\"\",\"\",IF(H674=\"\",\"SIN RESPUESTA\",(IF(H674<=J674,\"A TIEMPO\",\"FUERA DE TIEMPO\"))))","v":"A TIEMPO"},{"$f":"IF(H674=\"\",\"\",NETWORKDAYS(C674+1,H674,DiasNOLaborables))","v":2},{"$f":"IF(NETWORKDAYS(J674+1,H674,DiasNOLaborables)<=0,\"\",NETWORKDAYS(J674+1,H674,DiasNOLaborables))","v":""},null,null,{"$f":"IFERROR(VLOOKUP(E674,$X$51:$Y$64,2),\"\")","v":20}]
[664,20219050123732,"2021-10-26","MODULO CONTACTENOS","SOLICITUD DE INFORMACIÓN Y DOCUMENTOS","SOLICITUD DE INFORMACIÓN HIDROMETEOROLÓGICA","GRUPO DE SERVICIO AL CIUDADANO ","2021-10-28","CORREO ELECTRÓNICO",{"$f":"IFERROR(WORKDAY(C675,P675,DiasNOLaborables),\"\")","v":"2021-11-25"},{"$f":"+IF(C675=\"\",\"\",IF(H675=\"\",\"SIN RESPUESTA\",(IF(H675<=J675,\"A TIEMPO\",\"FUERA DE TIEMPO\"))))","v":"A TIEMPO"},{"$f":"IF(H675=\"\",\"\",NETWORKDAYS(C675+1,H675,DiasNOLaborables))","v":2},{"$f":"IF(NETWORKDAYS(J675+1,H675,DiasNOLaborables)<=0,\"\",NETWORKDAYS(J675+1,H675,DiasNOLaborables))","v":""},null,null,{"$f":"IFERROR(VLOOKUP(E675,$X$51:$Y$64,2),\"\")","v":20}]
[665,20219050123752,"2021-10-26","MODULO CONTACTENOS","SOLICITUD DE INFORMACIÓN Y DOCUMENTOS","SOLICITUD DE INFORMACIÓN HIDROMETEOROLÓGICA","GRUPO DE SERVICIO AL CIUDADANO ","2021-10-28","CORREO ELECTRÓNICO",{"$f":"IFERROR(WORKDAY(C676,P676,DiasNOLaborables),\"\")","v":"2021-11-25"},{"$f":"+IF(C676=\"\",\"\",IF(H676=\"\",\"SIN RESPUESTA\",(IF(H676<=J676,\"A TIEMPO\",\"FUERA DE TIEMPO\"))))","v":"A TIEMPO"},{"$f":"IF(H676=\"\",\"\",NETWORKDAYS(C676+1,H676,DiasNOLaborables))","v":2},{"$f":"IF(NETWORKDAYS(J676+1,H676,DiasNOLaborables)<=0,\"\",NETWORKDAYS(J676+1,H676,DiasNOLaborables))","v":""},null,null,{"$f":"IFERROR(VLOOKUP(E676,$X$51:$Y$64,2),\"\")","v":20}]
[666,20219050123782,"2021-10-26","MODULO CONTACTENOS","SOLICITUD DE INFORMACIÓN Y DOCUMENTOS","SOLICITUD DE INFORMACIÓN HIDROMETEOROLÓGICA","GRUPO DE SERVICIO AL CIUDADANO ","2021-10-28","CORREO ELECTRÓNICO",{"$f":"IFERROR(WORKDAY(C677,P677,DiasNOLaborables),\"\")","v":"2021-11-25"},{"$f":"+IF(C677=\"\",\"\",IF(H677=\"\",\"SIN RESPUESTA\",(IF(H677<=J677,\"A TIEMPO\",\"FUERA DE TIEMPO\"))))","v":"A TIEMPO"},{"$f":"IF(H677=\"\",\"\",NETWORKDAYS(C677+1,H677,DiasNOLaborables))","v":2},{"$f":"IF(NETWORKDAYS(J677+1,H677,DiasNOLaborables)<=0,\"\",NETWORKDAYS(J677+1,H677,DiasNOLaborables))","v":""},null,null,{"$f":"IFERROR(VLOOKUP(E677,$X$51:$Y$64,2),\"\")","v":20}]
[667,20219050123792,"2021-10-26","MODULO CONTACTENOS","SOLICITUD DE INFORMACIÓN Y DOCUMENTOS","SOLICITUD DE INFORMACIÓN HIDROMETEOROLÓGICA","GRUPO DE SERVICIO AL CIUDADANO ","2021-10-28","CORREO ELECTRÓNICO",{"$f":"IFERROR(WORKDAY(C678,P678,DiasNOLaborables),\"\")","v":"2021-11-25"},{"$f":"+IF(C678=\"\",\"\",IF(H678=\"\",\"SIN RESPUESTA\",(IF(H678<=J678,\"A TIEMPO\",\"FUERA DE TIEMPO\"))))","v":"A TIEMPO"},{"$f":"IF(H678=\"\",\"\",NETWORKDAYS(C678+1,H678,DiasNOLaborables))","v":2},{"$f":"IF(NETWORKDAYS(J678+1,H678,DiasNOLaborables)<=0,\"\",NETWORKDAYS(J678+1,H678,DiasNOLaborables))","v":""},null,null,{"$f":"IFERROR(VLOOKUP(E678,$X$51:$Y$64,2),\"\")","v":20}]
[668,20219050123812,"2021-10-26","MODULO CONTACTENOS","SOLICITUD DE INFORMACIÓN Y DOCUMENTOS","SOLICITUD DE INFORMACIÓN HIDROMETEOROLÓGICA","GRUPO DE SERVICIO AL CIUDADANO ","2021-10-28","CORREO ELECTRÓNICO",{"$f":"IFERROR(WORKDAY(C679,P679,DiasNOLaborables),\"\")","v":"2021-11-25"},{"$f":"+IF(C679=\"\",\"\",IF(H679=\"\",\"SIN RESPUESTA\",(IF(H679<=J679,\"A TIEMPO\",\"FUERA DE TIEMPO\"))))","v":"A TIEMPO"},{"$f":"IF(H679=\"\",\"\",NETWORKDAYS(C679+1,H679,DiasNOLaborables))","v":2},{"$f":"IF(NETWORKDAYS(J679+1,H679,DiasNOLaborables)<=0,\"\",NETWORKDAYS(J679+1,H679,DiasNOLaborables))","v":""},null,null,{"$f":"IFERROR(VLOOKUP(E679,$X$51:$Y$64,2),\"\")","v":20}]
[669,20219050123832,"2021-10-26","MODULO CONTACTENOS","SOLICITUD DE INFORMACIÓN Y DOCUMENTOS","SOLICITUD DE INFORMACIÓN HIDROMETEOROLÓGICA","GRUPO DE SERVICIO AL CIUDADANO ","2021-10-28","CORREO ELECTRÓNICO",{"$f":"IFERROR(WORKDAY(C680,P680,DiasNOLaborables),\"\")","v":"2021-11-25"},{"$f":"+IF(C680=\"\",\"\",IF(H680=\"\",\"SIN RESPUESTA\",(IF(H680<=J680,\"A TIEMPO\",\"FUERA DE TIEMPO\"))))","v":"A TIEMPO"},{"$f":"IF(H680=\"\",\"\",NETWORKDAYS(C680+1,H680,DiasNOLaborables))","v":2},{"$f":"IF(NETWORKDAYS(J680+1,H680,DiasNOLaborables)<=0,\"\",NETWORKDAYS(J680+1,H680,DiasNOLaborables))","v":""},null,null,{"$f":"IFERROR(VLOOKUP(E680,$X$51:$Y$64,2),\"\")","v":20}]
[670,20219050123862,"2021-10-26","MODULO CONTACTENOS","SOLICITUD DE INFORMACIÓN Y DOCUMENTOS","SOLICITUD DE INFORMACIÓN HIDROMETEOROLÓGICA","GRUPO DE SERVICIO AL CIUDADANO ","2021-10-28","CORREO ELECTRÓNICO",{"$f":"IFERROR(WORKDAY(C681,P681,DiasNOLaborables),\"\")","v":"2021-11-25"},{"$f":"+IF(C681=\"\",\"\",IF(H681=\"\",\"SIN RESPUESTA\",(IF(H681<=J681,\"A TIEMPO\",\"FUERA DE TIEMPO\"))))","v":"A TIEMPO"},{"$f":"IF(H681=\"\",\"\",NETWORKDAYS(C681+1,H681,DiasNOLaborables))","v":2},{"$f":"IF(NETWORKDAYS(J681+1,H681,DiasNOLaborables)<=0,\"\",NETWORKDAYS(J681+1,H681,DiasNOLaborables))","v":""},null,null,{"$f":"IFERROR(VLOOKUP(E681,$X$51:$Y$64,2),\"\")","v":20}]
[671,20219050123872,"2021-10-26","MODULO CONTACTENOS","SOLICITUD DE INFORMACIÓN Y DOCUMENTOS","SOLICITUD DE INFORMACIÓN HIDROMETEOROLÓGICA","GRUPO DE SERVICIO AL CIUDADANO ","2021-10-28","CORREO ELECTRÓNICO",{"$f":"IFERROR(WORKDAY(C682,P682,DiasNOLaborables),\"\")","v":"2021-11-25"},{"$f":"+IF(C682=\"\",\"\",IF(H682=\"\",\"SIN RESPUESTA\",(IF(H682<=J682,\"A TIEMPO\",\"FUERA DE TIEMPO\"))))","v":"A TIEMPO"},{"$f":"IF(H682=\"\",\"\",NETWORKDAYS(C682+1,H682,DiasNOLaborables))","v":2},{"$f":"IF(NETWORKDAYS(J682+1,H682,DiasNOLaborables)<=0,\"\",NETWORKDAYS(J682+1,H682,DiasNOLaborables))","v":""},null,null,{"$f":"IFERROR(VLOOKUP(E682,$X$51:$Y$64,2),\"\")","v":20}]
[672,20219050123932,"2021-10-26","MODULO CONTACTENOS","SOLICITUD DE INFORMACIÓN Y DOCUMENTOS","SOLICITUD DE INFORMACIÓN HIDROMETEOROLÓGICA","GRUPO DE SERVICIO AL CIUDADANO ","2021-10-28","CORREO ELECTRÓNICO",{"$f":"IFERROR(WORKDAY(C683,P683,DiasNOLaborables),\"\")","v":"2021-11-25"},{"$f":"+IF(C683=\"\",\"\",IF(H683=\"\",\"SIN RESPUESTA\",(IF(H683<=J683,\"A TIEMPO\",\"FUERA DE TIEMPO\"))))","v":"A TIEMPO"},{"$f":"IF(H683=\"\",\"\",NETWORKDAYS(C683+1,H683,DiasNOLaborables))","v":2},{"$f":"IF(NETWORKDAYS(J683+1,H683,DiasNOLaborables)<=0,\"\",NETWORKDAYS(J683+1,H683,DiasNOLaborables))","v":""},null,null,{"$f":"IFERROR(VLOOKUP(E683,$X$51:$Y$64,2),\"\")","v":20}]
[673,20219050123942,"2021-10-26","MODULO CONTACTENOS","SOLICITUD DE INFORMACIÓN Y DOCUMENTOS","SOLICITUD DE INFORMACIÓN HIDROMETEOROLÓGICA","GRUPO DE SERVICIO AL CIUDADANO ","2021-10-28","CORREO ELECTRÓNICO",{"$f":"IFERROR(WORKDAY(C684,P684,DiasNOLaborables),\"\")","v":"2021-11-25"},{"$f":"+IF(C684=\"\",\"\",IF(H684=\"\",\"SIN RESPUESTA\",(IF(H684<=J684,\"A TIEMPO\",\"FUERA DE TIEMPO\"))))","v":"A TIEMPO"},{"$f":"IF(H684=\"\",\"\",NETWORKDAYS(C684+1,H684,DiasNOLaborables))","v":2},{"$f":"IF(NETWORKDAYS(J684+1,H684,DiasNOLaborables)<=0,\"\",NETWORKDAYS(J684+1,H684,DiasNOLaborables))","v":""},null,null,{"$f":"IFERROR(VLOOKUP(E684,$X$51:$Y$64,2),\"\")","v":20}]
[674,20219050123402,"2021-10-26","CORREO ELECTRÓNICO","SOLICITUD DE INFORMACIÓN Y DOCUMENTOS","INFORMES AMBIENTALES","SUBDIRECCIÓN DE HIDROLOGÍA","2021-11-23","CORREO ELECTRÓNICO",{"$f":"IFERROR(WORKDAY(C685,P685,DiasNOLaborables),\"\")","v":"2021-11-25"},{"$f":"+IF(C685=\"\",\"\",IF(H685=\"\",\"SIN RESPUESTA\",(IF(H685<=J685,\"A TIEMPO\",\"FUERA DE TIEMPO\"))))","v":"A TIEMPO"},{"$f":"IF(H685=\"\",\"\",NETWORKDAYS(C685+1,H685,DiasNOLaborables))","v":18},{"$f":"IF(NETWORKDAYS(J685+1,H685,DiasNOLaborables)<=0,\"\",NETWORKDAYS(J685+1,H685,DiasNOLaborables))","v":""},null,null,{"$f":"IFERROR(VLOOKUP(E685,$X$51:$Y$64,2),\"\")","v":20}]
[675,20219050123432,"2021-10-26","CORREO ELECTRÓNICO","SOLICITUD DE INFORMACIÓN Y DOCUMENTOS","INFORMES AMBIENTALES","SUBDIRECCIÓN DE HIDROLOGÍA","2021-11-23","CORREO ELECTRÓNICO",{"$f":"IFERROR(WORKDAY(C686,P686,DiasNOLaborables),\"\")","v":"2021-11-25"},{"$f":"+IF(C686=\"\",\"\",IF(H686=\"\",\"SIN RESPUESTA\",(IF(H686<=J686,\"A TIEMPO\",\"FUERA DE TIEMPO\"))))","v":"A TIEMPO"},{"$f":"IF(H686=\"\",\"\",NETWORKDAYS(C686+1,H686,DiasNOLaborables))","v":18},{"$f":"IF(NETWORKDAYS(J686+1,H686,DiasNOLaborables)<=0,\"\",NETWORKDAYS(J686+1,H686,DiasNOLaborables))","v":""},null,null,{"$f":"IFERROR(VLOOKUP(E686,$X$51:$Y$64,2),\"\")","v":20}]
[676,20219050123452,"2021-10-26","CORREO ELECTRÓNICO","SOLICITUD DE INFORMACIÓN Y DOCUMENTOS","CLIMATOLOGÍA","SUBDIRECCIÓN DE METEOROLOGÍA","2021-11-11","CORREO ELECTRÓNICO",{"$f":"IFERROR(WORKDAY(C687,P687,DiasNOLaborables),\"\")","v":"2021-11-25"},{"$f":"+IF(C687=\"\",\"\",IF(H687=\"\",\"SIN RESPUESTA\",(IF(H687<=J687,\"A TIEMPO\",\"FUERA DE TIEMPO\"))))","v":"A TIEMPO"},{"$f":"IF(H687=\"\",\"\",NETWORKDAYS(C687+1,H687,DiasNOLaborables))","v":11},{"$f":"IF(NETWORKDAYS(J687+1,H687,DiasNOLaborables)<=0,\"\",NETWORKDAYS(J687+1,H687,DiasNOLaborables))","v":""},null,null,{"$f":"IFERROR(VLOOKUP(E687,$X$51:$Y$64,2),\"\")","v":20}]
[677,20219050123462,"2021-10-26","CORREO ELECTRÓNICO","SOLICITUD DE INFORMACIÓN Y DOCUMENTOS","CAMBIO CLIMÁTICO","SUBDIRECCIÓN DE METEOROLOGÍA","2021-10-27","CORREO ELECTRÓNICO",{"$f":"IFERROR(WORKDAY(C688,P688,DiasNOLaborables),\"\")","v":"2021-11-25"},{"$f":"+IF(C688=\"\",\"\",IF(H688=\"\",\"SIN RESPUESTA\",(IF(H688<=J688,\"A TIEMPO\",\"FUERA DE TIEMPO\"))))","v":"A TIEMPO"},{"$f":"IF(H688=\"\",\"\",NETWORKDAYS(C688+1,H688,DiasNOLaborables))","v":1},{"$f":"IF(NETWORKDAYS(J688+1,H688,DiasNOLaborables)<=0,\"\",NETWORKDAYS(J688+1,H688,DiasNOLaborables))","v":""},null,null,{"$f":"IFERROR(VLOOKUP(E688,$X$51:$Y$64,2),\"\")","v":20}]
[678,20219050123472,"2021-10-26","CORREO ELECTRÓNICO","SOLICITUD DE INFORMACIÓN Y DOCUMENTOS","BOSQUES","SUBDIRECCIÓN DE ECOSISTEMAS E INFORMACIÓN AMBIENTAL","2021-11-22","CORREO ELECTRÓNICO",{"$f":"IFERROR(WORKDAY(C689,P689,DiasNOLaborables),\"\")","v":"2021-11-25"},{"$f":"+IF(C689=\"\",\"\",IF(H689=\"\",\"SIN RESPUESTA\",(IF(H689<=J689,\"A TIEMPO\",\"FUERA DE TIEMPO\"))))","v":"A TIEMPO"},{"$f":"IF(H689=\"\",\"\",NETWORKDAYS(C689+1,H689,DiasNOLaborables))","v":17},{"$f":"IF(NETWORKDAYS(J689+1,H689,DiasNOLaborables)<=0,\"\",NETWORKDAYS(J689+1,H689,DiasNOLaborables))","v":""},null,null,{"$f":"IFERROR(VLOOKUP(E689,$X$51:$Y$64,2),\"\")","v":20}]
[679,20219050123492,"2021-10-26","CORREO ELECTRÓNICO","CERTIFICACIONES DE TIEMPO, CLIMA Y EVENTOS HIDROLÓGICOS","CERTIFICACIONES DE TIEMPO Y CLIMA","SUBDIRECCIÓN DE METEOROLOGÍA","2021-11-18","CORREO ELECTRÓNICO",{"$f":"IFERROR(WORKDAY(C690,P690,DiasNOLaborables),\"\")","v":"2021-12-17"},{"$f":"+IF(C690=\"\",\"\",IF(H690=\"\",\"SIN RESPUESTA\",(IF(H690<=J690,\"A TIEMPO\",\"FUERA DE TIEMPO\"))))","v":"A TIEMPO"},{"$f":"IF(H690=\"\",\"\",NETWORKDAYS(C690+1,H690,DiasNOLaborables))","v":15},{"$f":"IF(NETWORKDAYS(J690+1,H690,DiasNOLaborables)<=0,\"\",NETWORKDAYS(J690+1,H690,DiasNOLaborables))","v":""},null,null,{"$f":"IFERROR(VLOOKUP(E690,$X$51:$Y$64,2),\"\")","v":35}]
[680,20219050123582,"2021-10-26","CORREO ELECTRÓNICO","SOLICITUD DE INFORMACIÓN Y DOCUMENTOS","BOSQUES","SUBDIRECCIÓN DE ECOSISTEMAS E INFORMACIÓN AMBIENTAL","2021-10-26","CORREO ELECTRÓNICO",{"$f":"IFERROR(WORKDAY(C691,P691,DiasNOLaborables),\"\")","v":"2021-11-25"},{"$f":"+IF(C691=\"\",\"\",IF(H691=\"\",\"SIN RESPUESTA\",(IF(H691<=J691,\"A TIEMPO\",\"FUERA DE TIEMPO\"))))","v":"A TIEMPO"},{"$f":"IF(H691=\"\",\"\",NETWORKDAYS(C691+1,H691,DiasNOLaborables))","v":-2},{"$f":"IF(NETWORKDAYS(J691+1,H691,DiasNOLaborables)<=0,\"\",NETWORKDAYS(J691+1,H691,DiasNOLaborables))","v":""},null,null,{"$f":"IFERROR(VLOOKUP(E691,$X$51:$Y$64,2),\"\")","v":20}]
[681,20219050123592,"2021-10-26","CORREO ELECTRÓNICO","SOLICITUD DE INFORMACIÓN Y DOCUMENTOS","REGISTROS AMBIENTALES","SUBDIRECCIÓN DE ESTUDIOS AMBIENTALES","2021-11-04","CORREO ELECTRÓNICO",{"$f":"IFERROR(WORKDAY(C692,P692,DiasNOLaborables),\"\")","v":"2021-11-25"},{"$f":"+IF(C692=\"\",\"\",IF(H692=\"\",\"SIN RESPUESTA\",(IF(H692<=J692,\"A TIEMPO\",\"FUERA DE TIEMPO\"))))","v":"A TIEMPO"},{"$f":"IF(H692=\"\",\"\",NETWORKDAYS(C692+1,H692,DiasNOLaborables))","v":6},{"$f":"IF(NETWORKDAYS(J692+1,H692,DiasNOLaborables)<=0,\"\",NETWORKDAYS(J692+1,H692,DiasNOLaborables))","v":""},null,null,{"$f":"IFERROR(VLOOKUP(E692,$X$51:$Y$64,2),\"\")","v":20}]
[682,20219050123612,"2021-10-26","CORREO ELECTRÓNICO","SOLICITUD DE INFORMACIÓN Y DOCUMENTOS","REGISTROS AMBIENTALES","SUBDIRECCIÓN DE ESTUDIOS AMBIENTALES","2021-10-26","CORREO ELECTRÓNICO",{"$f":"IFERROR(WORKDAY(C693,P693,DiasNOLaborables),\"\")","v":"2021-11-25"},{"$f":"+IF(C693=\"\",\"\",IF(H693=\"\",\"SIN RESPUESTA\",(IF(H693<=J693,\"A TIEMPO\",\"FUERA DE TIEMPO\"))))","v":"A TIEMPO"},{"$f":"IF(H693=\"\",\"\",NETWORKDAYS(C693+1,H693,DiasNOLaborables))","v":-2},{"$f":"IF(NETWORKDAYS(J693+1,H693,DiasNOLaborables)<=0,\"\",NETWORKDAYS(J693+1,H693,DiasNOLaborables))","v":""},null,null,{"$f":"IFERROR(VLOOKUP(E693,$X$51:$Y$64,2),\"\")","v":20}]
[683,20219050123652,"2021-10-26","CORREO ELECTRÓNICO","SOLICITUD DE INFORMACIÓN Y DOCUMENTOS","CLIMATOLOGÍA","SUBDIRECCIÓN DE METEOROLOGÍA","2021-11-11","CORREO ELECTRÓNICO",{"$f":"IFERROR(WORKDAY(C694,P694,DiasNOLaborables),\"\")","v":"2021-11-25"},{"$f":"+IF(C694=\"\",\"\",IF(H694=\"\",\"SIN RESPUESTA\",(IF(H694<=J694,\"A TIEMPO\",\"FUERA DE TIEMPO\"))))","v":"A TIEMPO"},{"$f":"IF(H694=\"\",\"\",NETWORKDAYS(C694+1,H694,DiasNOLaborables))","v":11},{"$f":"IF(NETWORKDAYS(J694+1,H694,DiasNOLaborables)<=0,\"\",NETWORKDAYS(J694+1,H694,DiasNOLaborables))","v":""},null,null,{"$f":"IFERROR(VLOOKUP(E694,$X$51:$Y$64,2),\"\")","v":20}]
[684,20219050123882,"2021-10-26","CORREO ELECTRÓNICO","CERTIFICACIONES DE TIEMPO, CLIMA Y EVENTOS HIDROLÓGICOS","CERTIFICACIONES DE TIEMPO Y CLIMA","SUBDIRECCIÓN DE METEOROLOGÍA","2021-11-12","CORREO ELECTRÓNICO",{"$f":"IFERROR(WORKDAY(C695,P695,DiasNOLaborables),\"\")","v":"2021-12-17"},{"$f":"+IF(C695=\"\",\"\",IF(H695=\"\",\"SIN RESPUESTA\",(IF(H695<=J695,\"A TIEMPO\",\"FUERA DE TIEMPO\"))))","v":"A TIEMPO"},{"$f":"IF(H695=\"\",\"\",NETWORKDAYS(C695+1,H695,DiasNOLaborables))","v":12},{"$f":"IF(NETWORKDAYS(J695+1,H695,DiasNOLaborables)<=0,\"\",NETWORKDAYS(J695+1,H695,DiasNOLaborables))","v":""},null,null,{"$f":"IFERROR(VLOOKUP(E695,$X$51:$Y$64,2),\"\")","v":35}]
[685,20219050123892,"2021-10-26","CORREO ELECTRÓNICO","CERTIFICACIONES DE TIEMPO, CLIMA Y EVENTOS HIDROLÓGICOS","CERTIFICACIONES DE TIEMPO Y CLIMA","SUBDIRECCIÓN DE METEOROLOGÍA","2021-11-12","CORREO ELECTRÓNICO",{"$f":"IFERROR(WORKDAY(C696,P696,DiasNOLaborables),\"\")","v":"2021-12-17"},{"$f":"+IF(C696=\"\",\"\",IF(H696=\"\",\"SIN RESPUESTA\",(IF(H696<=J696,\"A TIEMPO\",\"FUERA DE TIEMPO\"))))","v":"A TIEMPO"},{"$f":"IF(H696=\"\",\"\",NETWORKDAYS(C696+1,H696,DiasNOLaborables))","v":12},{"$f":"IF(NETWORKDAYS(J696+1,H696,DiasNOLaborables)<=0,\"\",NETWORKDAYS(J696+1,H696,DiasNOLaborables))","v":""},null,null,{"$f":"IFERROR(VLOOKUP(E696,$X$51:$Y$64,2),\"\")","v":35}]
[686,20219050123952,"2021-10-26","CORREO ELECTRÓNICO","CERTIFICACIONES DE TIEMPO, CLIMA Y EVENTOS HIDROLÓGICOS","CERTIFICACIONES DE TIEMPO Y CLIMA","SUBDIRECCIÓN DE METEOROLOGÍA","2021-11-12","CORREO ELECTRÓNICO",{"$f":"IFERROR(WORKDAY(C697,P697,DiasNOLaborables),\"\")","v":"2021-12-17"},{"$f":"+IF(C697=\"\",\"\",IF(H697=\"\",\"SIN RESPUESTA\",(IF(H697<=J697,\"A TIEMPO\",\"FUERA DE TIEMPO\"))))","v":"A TIEMPO"},{"$f":"IF(H697=\"\",\"\",NETWORKDAYS(C697+1,H697,DiasNOLaborables))","v":12},{"$f":"IF(NETWORKDAYS(J697+1,H697,DiasNOLaborables)<=0,\"\",NETWORKDAYS(J697+1,H697,DiasNOLaborables))","v":""},null,null,{"$f":"IFERROR(VLOOKUP(E697,$X$51:$Y$64,2),\"\")","v":35}]
[687,20219050123372,"2021-10-26","MODULO CONTACTENOS","SOLICITUD DE INFORMACIÓN Y DOCUMENTOS","PRONÓSTICOS Y ALERTAS","OFICINA DEL SERVICIO DE PRONÓSTICOS Y ALERTAS","2021-11-22","CORREO ELECTRÓNICO",{"$f":"IFERROR(WORKDAY(C698,P698,DiasNOLaborables),\"\")","v":"2021-11-25"},{"$f":"+IF(C698=\"\",\"\",IF(H698=\"\",\"SIN RESPUESTA\",(IF(H698<=J698,\"A TIEMPO\",\"FUERA DE TIEMPO\"))))","v":"A TIEMPO"},{"$f":"IF(H698=\"\",\"\",NETWORKDAYS(C698+1,H698,DiasNOLaborables))","v":17},{"$f":"IF(NETWORKDAYS(J698+1,H698,DiasNOLaborables)<=0,\"\",NETWORKDAYS(J698+1,H698,DiasNOLaborables))","v":""},null,null,{"$f":"IFERROR(VLOOKUP(E698,$X$51:$Y$64,2),\"\")","v":20}]
[688,20219050123392,"2021-10-26","MODULO CONTACTENOS","SOLICITUD DE INFORMACIÓN Y DOCUMENTOS","ADMINISTRATIVA","GRUPO DE GESTIÓN DOCUMENTAL Y CENTRO DE DOCUMENTACIÓN","2021-10-29","CORREO ELECTRÓNICO",{"$f":"IFERROR(WORKDAY(C699,P699,DiasNOLaborables),\"\")","v":"2021-11-25"},{"$f":"+IF(C699=\"\",\"\",IF(H699=\"\",\"SIN RESPUESTA\",(IF(H699<=J699,\"A TIEMPO\",\"FUERA DE TIEMPO\"))))","v":"A TIEMPO"},{"$f":"IF(H699=\"\",\"\",NETWORKDAYS(C699+1,H699,DiasNOLaborables))","v":3},{"$f":"IF(NETWORKDAYS(J699+1,H699,DiasNOLaborables)<=0,\"\",NETWORKDAYS(J699+1,H699,DiasNOLaborables))","v":""},null,null,{"$f":"IFERROR(VLOOKUP(E699,$X$51:$Y$64,2),\"\")","v":20}]
[689,20219050123382,"2021-10-26","MODULO CONTACTENOS","SOLICITUD DE INFORMACIÓN Y DOCUMENTOS","OPERACIÓN DE REDES","SUBDIRECCIÓN DE HIDROLOGÍA","2021-11-08","CORREO ELECTRÓNICO",{"$f":"IFERROR(WORKDAY(C700,P700,DiasNOLaborables),\"\")","v":"2021-11-25"},{"$f":"+IF(C700=\"\",\"\",IF(H700=\"\",\"SIN RESPUESTA\",(IF(H700<=J700,\"A TIEMPO\",\"FUERA DE TIEMPO\"))))","v":"A TIEMPO"},{"$f":"IF(H700=\"\",\"\",NETWORKDAYS(C700+1,H700,DiasNOLaborables))","v":8},{"$f":"IF(NETWORKDAYS(J700+1,H700,DiasNOLaborables)<=0,\"\",NETWORKDAYS(J700+1,H700,DiasNOLaborables))","v":""},null,null,{"$f":"IFERROR(VLOOKUP(E700,$X$51:$Y$64,2),\"\")","v":20}]
[690,20219050123412,"2021-10-26","MODULO CONTACTENOS","SOLICITUD DE INFORMACIÓN Y DOCUMENTOS","ADMINISTRATIVA","OFICINA ASESORA JURÍDICA","2021-11-10","CORREO ELECTRÓNICO",{"$f":"IFERROR(WORKDAY(C701,P701,DiasNOLaborables),\"\")","v":"2021-11-25"},{"$f":"+IF(C701=\"\",\"\",IF(H701=\"\",\"SIN RESPUESTA\",(IF(H701<=J701,\"A TIEMPO\",\"FUERA DE TIEMPO\"))))","v":"A TIEMPO"},{"$f":"IF(H701=\"\",\"\",NETWORKDAYS(C701+1,H701,DiasNOLaborables))","v":10},{"$f":"IF(NETWORKDAYS(J701+1,H701,DiasNOLaborables)<=0,\"\",NETWORKDAYS(J701+1,H701,DiasNOLaborables))","v":""},null,null,{"$f":"IFERROR(VLOOKUP(E701,$X$51:$Y$64,2),\"\")","v":20}]
[691,20219050123442,"2021-10-26","MODULO CONTACTENOS","SOLICITUD DE INFORMACIÓN Y DOCUMENTOS","ADMINISTRATIVA","GRUPO DE ADMINISTRACIÓN Y DESARROLLO DEL TALENTO HUMANO","2021-11-09","CORREO ELECTRÓNICO",{"$f":"IFERROR(WORKDAY(C702,P702,DiasNOLaborables),\"\")","v":"2021-11-25"},{"$f":"+IF(C702=\"\",\"\",IF(H702=\"\",\"SIN RESPUESTA\",(IF(H702<=J702,\"A TIEMPO\",\"FUERA DE TIEMPO\"))))","v":"A TIEMPO"},{"$f":"IF(H702=\"\",\"\",NETWORKDAYS(C702+1,H702,DiasNOLaborables))","v":9},{"$f":"IF(NETWORKDAYS(J702+1,H702,DiasNOLaborables)<=0,\"\",NETWORKDAYS(J702+1,H702,DiasNOLaborables))","v":""},null,null,{"$f":"IFERROR(VLOOKUP(E702,$X$51:$Y$64,2),\"\")","v":20}]
[692,20219050123512,"2021-10-26","MODULO CONTACTENOS","CERTIFICACIONES DE TIEMPO, CLIMA Y EVENTOS HIDROLÓGICOS","CERTIFICACIONES DE TIEMPO Y CLIMA","SUBDIRECCIÓN DE METEOROLOGÍA","2021-11-12","CORREO ELECTRÓNICO",{"$f":"IFERROR(WORKDAY(C703,P703,DiasNOLaborables),\"\")","v":"2021-12-17"},{"$f":"+IF(C703=\"\",\"\",IF(H703=\"\",\"SIN RESPUESTA\",(IF(H703<=J703,\"A TIEMPO\",\"FUERA DE TIEMPO\"))))","v":"A TIEMPO"},{"$f":"IF(H703=\"\",\"\",NETWORKDAYS(C703+1,H703,DiasNOLaborables))","v":12},{"$f":"IF(NETWORKDAYS(J703+1,H703,DiasNOLaborables)<=0,\"\",NETWORKDAYS(J703+1,H703,DiasNOLaborables))","v":""},null,null,{"$f":"IFERROR(VLOOKUP(E703,$X$51:$Y$64,2),\"\")","v":35}]
[693,20219050123522,"2021-10-26","MODULO CONTACTENOS","CERTIFICACIONES DE TIEMPO, CLIMA Y EVENTOS HIDROLÓGICOS","CERTIFICACIONES DE TIEMPO Y CLIMA","SUBDIRECCIÓN DE METEOROLOGÍA","2021-11-12","CORREO ELECTRÓNICO",{"$f":"IFERROR(WORKDAY(C704,P704,DiasNOLaborables),\"\")","v":"2021-12-17"},{"$f":"+IF(C704=\"\",\"\",IF(H704=\"\",\"SIN RESPUESTA\",(IF(H704<=J704,\"A TIEMPO\",\"FUERA DE TIEMPO\"))))","v":"A TIEMPO"},{"$f":"IF(H704=\"\",\"\",NETWORKDAYS(C704+1,H704,DiasNOLaborables))","v":12},{"$f":"IF(NETWORKDAYS(J704+1,H704,DiasNOLaborables)<=0,\"\",NETWORKDAYS(J704+1,H704,DiasNOLaborables))","v":""},null,null,{"$f":"IFERROR(VLOOKUP(E704,$X$51:$Y$64,2),\"\")","v":35}]
[694,20219050123682,"2021-10-26","MODULO CONTACTENOS","SOLICITUD DE INFORMACIÓN Y DOCUMENTOS","ADMINISTRATIVA","OFICINA ASESORA JURÍDICA","2021-11-02","CORREO ELECTRÓNICO",{"$f":"IFERROR(WORKDAY(C705,P705,DiasNOLaborables),\"\")","v":"2021-11-25"},{"$f":"+IF(C705=\"\",\"\",IF(H705=\"\",\"SIN RESPUESTA\",(IF(H705<=J705,\"A TIEMPO\",\"FUERA DE TIEMPO\"))))","v":"A TIEMPO"},{"$f":"IF(H705=\"\",\"\",NETWORKDAYS(C705+1,H705,DiasNOLaborables))","v":4},{"$f":"IF(NETWORKDAYS(J705+1,H705,DiasNOLaborables)<=0,\"\",NETWORKDAYS(J705+1,H705,DiasNOLaborables))","v":""},null,null,{"$f":"IFERROR(VLOOKUP(E705,$X$51:$Y$64,2),\"\")","v":20}]
[695,20219050123692,"2021-10-26","MODULO CONTACTENOS","SOLICITUD DE INFORMACIÓN Y DOCUMENTOS","ADMINISTRATIVA","GRUPO DE ADMINISTRACIÓN Y DESARROLLO DEL TALENTO HUMANO","2021-11-08","CORREO ELECTRÓNICO",{"$f":"IFERROR(WORKDAY(C706,P706,DiasNOLaborables),\"\")","v":"2021-11-25"},{"$f":"+IF(C706=\"\",\"\",IF(H706=\"\",\"SIN RESPUESTA\",(IF(H706<=J706,\"A TIEMPO\",\"FUERA DE TIEMPO\"))))","v":"A TIEMPO"},{"$f":"IF(H706=\"\",\"\",NETWORKDAYS(C706+1,H706,DiasNOLaborables))","v":8},{"$f":"IF(NETWORKDAYS(J706+1,H706,DiasNOLaborables)<=0,\"\",NETWORKDAYS(J706+1,H706,DiasNOLaborables))","v":""},null,null,{"$f":"IFERROR(VLOOKUP(E706,$X$51:$Y$64,2),\"\")","v":20}]
[696,20219050123822,"2021-10-26","MODULO CONTACTENOS","SOLICITUD DE INFORMACIÓN Y DOCUMENTOS","ADMINISTRATIVA","GRUPO DE ADMINISTRACIÓN Y DESARROLLO DEL TALENTO HUMANO","2021-10-28","CORREO ELECTRÓNICO",{"$f":"IFERROR(WORKDAY(C707,P707,DiasNOLaborables),\"\")","v":"2021-11-25"},{"$f":"+IF(C707=\"\",\"\",IF(H707=\"\",\"SIN RESPUESTA\",(IF(H707<=J707,\"A TIEMPO\",\"FUERA DE TIEMPO\"))))","v":"A TIEMPO"},{"$f":"IF(H707=\"\",\"\",NETWORKDAYS(C707+1,H707,DiasNOLaborables))","v":2},{"$f":"IF(NETWORKDAYS(J707+1,H707,DiasNOLaborables)<=0,\"\",NETWORKDAYS(J707+1,H707,DiasNOLaborables))","v":""},null,null,{"$f":"IFERROR(VLOOKUP(E707,$X$51:$Y$64,2),\"\")","v":20}]
[697,20219050123852,"2021-10-26","MODULO CONTACTENOS","SOLICITUD DE INFORMACIÓN Y DOCUMENTOS","ADMINISTRATIVA","GRUPO DE ADMINISTRACIÓN Y DESARROLLO DEL TALENTO HUMANO","2021-10-28","CORREO ELECTRÓNICO",{"$f":"IFERROR(WORKDAY(C708,P708,DiasNOLaborables),\"\")","v":"2021-11-25"},{"$f":"+IF(C708=\"\",\"\",IF(H708=\"\",\"SIN RESPUESTA\",(IF(H708<=J708,\"A TIEMPO\",\"FUERA DE TIEMPO\"))))","v":"A TIEMPO"},{"$f":"IF(H708=\"\",\"\",NETWORKDAYS(C708+1,H708,DiasNOLaborables))","v":2},{"$f":"IF(NETWORKDAYS(J708+1,H708,DiasNOLaborables)<=0,\"\",NETWORKDAYS(J708+1,H708,DiasNOLaborables))","v":""},null,null,{"$f":"IFERROR(VLOOKUP(E708,$X$51:$Y$64,2),\"\")","v":20}]
[698,20219050123982,"2021-10-26","MODULO CONTACTENOS","SOLICITUD DE INFORMACIÓN Y DOCUMENTOS","ADMINISTRATIVA","GRUPO DE ADMINISTRACIÓN Y DESARROLLO DEL TALENTO HUMANO","2021-11-09","CORREO ELECTRÓNICO",{"$f":"IFERROR(WORKDAY(C709,P709,DiasNOLaborables),\"\")","v":"2021-11-25"},{"$f":"+IF(C709=\"\",\"\",IF(H709=\"\",\"SIN RESPUESTA\",(IF(H709<=J709,\"A TIEMPO\",\"FUERA DE TIEMPO\"))))","v":"A TIEMPO"},{"$f":"IF(H709=\"\",\"\",NETWORKDAYS(C709+1,H709,DiasNOLaborables))","v":9},{"$f":"IF(NETWORKDAYS(J709+1,H709,DiasNOLaborables)<=0,\"\",NETWORKDAYS(J709+1,H709,DiasNOLaborables))","v":""},null,null,{"$f":"IFERROR(VLOOKUP(E709,$X$51:$Y$64,2),\"\")","v":20}]
[699,20219050123422,"2021-10-26","CORREO ELECTRÓNICO","SOLICITUD DE INFORMACIÓN Y DOCUMENTOS","SOLICITUD DE INFORMACIÓN HIDROMETEOROLÓGICA","GRUPO DE SERVICIO AL CIUDADANO ","2021-10-30","CORREO ELECTRÓNICO",{"$f":"IFERROR(WORKDAY(C710,P710,DiasNOLaborables),\"\")","v":"2021-11-25"},{"$f":"+IF(C710=\"\",\"\",IF(H710=\"\",\"SIN RESPUESTA\",(IF(H710<=J710,\"A TIEMPO\",\"FUERA DE TIEMPO\"))))","v":"A TIEMPO"},{"$f":"IF(H710=\"\",\"\",NETWORKDAYS(C710+1,H710,DiasNOLaborables))","v":3},{"$f":"IF(NETWORKDAYS(J710+1,H710,DiasNOLaborables)<=0,\"\",NETWORKDAYS(J710+1,H710,DiasNOLaborables))","v":""},null,null,{"$f":"IFERROR(VLOOKUP(E710,$X$51:$Y$64,2),\"\")","v":20}]
[700,20219050123842,"2021-10-26","MODULO CONTACTENOS","SOLICITUD DE INFORMACIÓN Y DOCUMENTOS","SOLICITUD DE INFORMACIÓN HIDROMETEOROLÓGICA","GRUPO DE SERVICIO AL CIUDADANO ","2021-10-30","CORREO ELECTRÓNICO",{"$f":"IFERROR(WORKDAY(C711,P711,DiasNOLaborables),\"\")","v":"2021-11-25"},{"$f":"+IF(C711=\"\",\"\",IF(H711=\"\",\"SIN RESPUESTA\",(IF(H711<=J711,\"A TIEMPO\",\"FUERA DE TIEMPO\"))))","v":"A TIEMPO"},{"$f":"IF(H711=\"\",\"\",NETWORKDAYS(C711+1,H711,DiasNOLaborables))","v":3},{"$f":"IF(NETWORKDAYS(J711+1,H711,DiasNOLaborables)<=0,\"\",NETWORKDAYS(J711+1,H711,DiasNOLaborables))","v":""},null,null,{"$f":"IFERROR(VLOOKUP(E711,$X$51:$Y$64,2),\"\")","v":20}]
[701,20219050123992,"2021-10-26","MODULO CONTACTENOS","SOLICITUD DE INFORMACIÓN Y DOCUMENTOS","SOLICITUD DE INFORMACIÓN HIDROMETEOROLÓGICA","GRUPO DE SERVICIO AL CIUDADANO ","2021-10-30","CORREO ELECTRÓNICO",{"$f":"IFERROR(WORKDAY(C712,P712,DiasNOLaborables),\"\")","v":"2021-11-25"},{"$f":"+IF(C712=\"\",\"\",IF(H712=\"\",\"SIN RESPUESTA\",(IF(H712<=J712,\"A TIEMPO\",\"FUERA DE TIEMPO\"))))","v":"A TIEMPO"},{"$f":"IF(H712=\"\",\"\",NETWORKDAYS(C712+1,H712,DiasNOLaborables))","v":3},{"$f":"IF(NETWORKDAYS(J712+1,H712,DiasNOLaborables)<=0,\"\",NETWORKDAYS(J712+1,H712,DiasNOLaborables))","v":""},null,null,{"$f":"IFERROR(VLOOKUP(E712,$X$51:$Y$64,2),\"\")","v":20}]
[702,20219050124042,"2021-10-26","MODULO CONTACTENOS","SOLICITUD DE INFORMACIÓN Y DOCUMENTOS","SOLICITUD DE INFORMACIÓN HIDROMETEOROLÓGICA","GRUPO DE SERVICIO AL CIUDADANO ","2021-10-30","CORREO ELECTRÓNICO",{"$f":"IFERROR(WORKDAY(C713,P713,DiasNOLaborables),\"\")","v":"2021-11-25"},{"$f":"+IF(C713=\"\",\"\",IF(H713=\"\",\"SIN RESPUESTA\",(IF(H713<=J713,\"A TIEMPO\",\"FUERA DE TIEMPO\"))))","v":"A TIEMPO"},{"$f":"IF(H713=\"\",\"\",NETWORKDAYS(C713+1,H713,DiasNOLaborables))","v":3},{"$f":"IF(NETWORKDAYS(J713+1,H713,DiasNOLaborables)<=0,\"\",NETWORKDAYS(J713+1,H713,DiasNOLaborables))","v":""},null,null,{"$f":"IFERROR(VLOOKUP(E713,$X$51:$Y$64,2),\"\")","v":20}]
[703,20219050124052,"2021-10-26","MODULO CONTACTENOS","SOLICITUD DE INFORMACIÓN Y DOCUMENTOS","SOLICITUD DE INFORMACIÓN HIDROMETEOROLÓGICA","GRUPO DE SERVICIO AL CIUDADANO ","2021-10-30","CORREO ELECTRÓNICO",{"$f":"IFERROR(WORKDAY(C714,P714,DiasNOLaborables),\"\")","v":"2021-11-25"},{"$f":"+IF(C714=\"\",\"\",IF(H714=\"\",\"SIN RESPUESTA\",(IF(H714<=J714,\"A TIEMPO\",\"FUERA DE TIEMPO\"))))","v":"A TIEMPO"},{"$f":"IF(H714=\"\",\"\",NETWORKDAYS(C714+1,H714,DiasNOLaborables))","v":3},{"$f":"IF(NETWORKDAYS(J714+1,H714,DiasNOLaborables)<=0,\"\",NETWORKDAYS(J714+1,H714,DiasNOLaborables))","v":""},null,null,{"$f":"IFERROR(VLOOKUP(E714,$X$51:$Y$64,2),\"\")","v":20}]
[704,20219050124062,"2021-10-27","MODULO CONTACTENOS","SOLICITUD DE INFORMACIÓN Y DOCUMENTOS","SOLICITUD DE INFORMACIÓN HIDROMETEOROLÓGICA","GRUPO DE SERVICIO AL CIUDADANO ","2021-10-30","CORREO ELECTRÓNICO",{"$f":"IFERROR(WORKDAY(C715,P715,DiasNOLaborables),\"\")","v":"2021-11-26"},{"$f":"+IF(C715=\"\",\"\",IF(H715=\"\",\"SIN RESPUESTA\",(IF(H715<=J715,\"A TIEMPO\",\"FUERA DE TIEMPO\"))))","v":"A TIEMPO"},{"$f":"IF(H715=\"\",\"\",NETWORKDAYS(C715+1,H715,DiasNOLaborables))","v":2},{"$f":"IF(NETWORKDAYS(J715+1,H715,DiasNOLaborables)<=0,\"\",NETWORKDAYS(J715+1,H715,DiasNOLaborables))","v":""},null,null,{"$f":"IFERROR(VLOOKUP(E715,$X$51:$Y$64,2),\"\")","v":20}]
[705,20219050124112,"2021-10-27","CORREO ELECTRÓNICO","CERTIFICACIONES DE TIEMPO, CLIMA Y EVENTOS HIDROLÓGICOS","CERTIFICACIONES DE TIEMPO Y CLIMA","SUBDIRECCIÓN DE METEOROLOGÍA","2021-11-15","CORREO ELECTRÓNICO",{"$f":"IFERROR(WORKDAY(C716,P716,DiasNOLaborables),\"\")","v":"2021-12-20"},{"$f":"+IF(C716=\"\",\"\",IF(H716=\"\",\"SIN RESPUESTA\",(IF(H716<=J716,\"A TIEMPO\",\"FUERA DE TIEMPO\"))))","v":"A TIEMPO"},{"$f":"IF(H716=\"\",\"\",NETWORKDAYS(C716+1,H716,DiasNOLaborables))","v":11},{"$f":"IF(NETWORKDAYS(J716+1,H716,DiasNOLaborables)<=0,\"\",NETWORKDAYS(J716+1,H716,DiasNOLaborables))","v":""},null,null,{"$f":"IFERROR(VLOOKUP(E716,$X$51:$Y$64,2),\"\")","v":35}]
[706,20219050124152,"2021-10-27","CORREO ELECTRÓNICO","CERTIFICACIONES DE TIEMPO, CLIMA Y EVENTOS HIDROLÓGICOS","CERTIFICACIONES DE TIEMPO Y CLIMA","SUBDIRECCIÓN DE METEOROLOGÍA","2021-11-16","CORREO ELECTRÓNICO",{"$f":"IFERROR(WORKDAY(C717,P717,DiasNOLaborables),\"\")","v":"2021-12-20"},{"$f":"+IF(C717=\"\",\"\",IF(H717=\"\",\"SIN RESPUESTA\",(IF(H717<=J717,\"A TIEMPO\",\"FUERA DE TIEMPO\"))))","v":"A TIEMPO"},{"$f":"IF(H717=\"\",\"\",NETWORKDAYS(C717+1,H717,DiasNOLaborables))","v":12},{"$f":"IF(NETWORKDAYS(J717+1,H717,DiasNOLaborables)<=0,\"\",NETWORKDAYS(J717+1,H717,DiasNOLaborables))","v":""},null,null,{"$f":"IFERROR(VLOOKUP(E717,$X$51:$Y$64,2),\"\")","v":35}]
[{"$f":"IF(B718<>\"\",A717+1,\"\")","v":707},20219050124162,"2021-10-27","CORREO ELECTRÓNICO","PETICIÓN","SIRH","SUBDIRECCIÓN DE HIDROLOGÍA","2021-11-03","CORREO ELECTRÓNICO",{"$f":"IFERROR(WORKDAY(C718,P718,DiasNOLaborables),\"\")","v":"2021-12-13"},{"$f":"+IF(C718=\"\",\"\",IF(H718=\"\",\"SIN RESPUESTA\",(IF(H718<=J718,\"A TIEMPO\",\"FUERA DE TIEMPO\"))))","v":"A TIEMPO"},{"$f":"IF(H718=\"\",\"\",NETWORKDAYS(C718+1,H718,DiasNOLaborables))","v":4},{"$f":"IF(NETWORKDAYS(J718+1,H718,DiasNOLaborables)<=0,\"\",NETWORKDAYS(J718+1,H718,DiasNOLaborables))","v":""},null,null,{"$f":"IFERROR(VLOOKUP(E718,$X$51:$Y$64,2),\"\")","v":30}]
[708,20219050124142,"2021-10-27","CORREO ELECTRÓNICO","SOLICITUD DE INFORMACIÓN Y DOCUMENTOS","SOLICITUD DE INFORMACIÓN HIDROMETEOROLÓGICA","GRUPO DE SERVICIO AL CIUDADANO ","2021-11-09","CORREO ELECTRÓNICO",{"$f":"IFERROR(WORKDAY(C719,P719,DiasNOLaborables),\"\")","v":"2021-11-26"},{"$f":"+IF(C719=\"\",\"\",IF(H719=\"\",\"SIN RESPUESTA\",(IF(H719<=J719,\"A TIEMPO\",\"FUERA DE TIEMPO\"))))","v":"A TIEMPO"},{"$f":"IF(H719=\"\",\"\",NETWORKDAYS(C719+1,H719,DiasNOLaborables))","v":8},{"$f":"IF(NETWORKDAYS(J719+1,H719,DiasNOLaborables)<=0,\"\",NETWORKDAYS(J719+1,H719,DiasNOLaborables))","v":""},null,null,{"$f":"IFERROR(VLOOKUP(E719,$X$51:$Y$64,2),\"\")","v":20}]
[709,20219050124172,"2021-10-27","CORREO ELECTRÓNICO","SOLICITUD DE INFORMACIÓN Y DOCUMENTOS","ADMINISTRATIVA","OFICINA ASESORA JURÍDICA","2021-11-02","CORREO ELECTRÓNICO",{"$f":"IFERROR(WORKDAY(C720,P720,DiasNOLaborables),\"\")","v":"2021-11-26"},{"$f":"+IF(C720=\"\",\"\",IF(H720=\"\",\"SIN RESPUESTA\",(IF(H720<=J720,\"A TIEMPO\",\"FUERA DE TIEMPO\"))))","v":"A TIEMPO"},{"$f":"IF(H720=\"\",\"\",NETWORKDAYS(C720+1,H720,DiasNOLaborables))","v":3},{"$f":"IF(NETWORKDAYS(J720+1,H720,DiasNOLaborables)<=0,\"\",NETWORKDAYS(J720+1,H720,DiasNOLaborables))","v":""},null,null,{"$f":"IFERROR(VLOOKUP(E720,$X$51:$Y$64,2),\"\")","v":20}]
[710,20219050124362,"2021-10-27","CORREO ELECTRÓNICO","SOLICITUD DE INFORMACIÓN Y DOCUMENTOS","SOLICITUD DE INFORMACIÓN HIDROMETEOROLÓGICA","GRUPO DE SERVICIO AL CIUDADANO ","2021-11-17","CORREO ELECTRÓNICO",{"$f":"IFERROR(WORKDAY(C721,P721,DiasNOLaborables),\"\")","v":"2021-11-26"},{"$f":"+IF(C721=\"\",\"\",IF(H721=\"\",\"SIN RESPUESTA\",(IF(H721<=J721,\"A TIEMPO\",\"FUERA DE TIEMPO\"))))","v":"A TIEMPO"},{"$f":"IF(H721=\"\",\"\",NETWORKDAYS(C721+1,H721,DiasNOLaborables))","v":13},{"$f":"IF(NETWORKDAYS(J721+1,H721,DiasNOLaborables)<=0,\"\",NETWORKDAYS(J721+1,H721,DiasNOLaborables))","v":""},null,null,{"$f":"IFERROR(VLOOKUP(E721,$X$51:$Y$64,2),\"\")","v":20}]
[711,20219050124482,"2021-10-27","CORREO ELECTRÓNICO","SOLICITUD DE INFORMACIÓN Y DOCUMENTOS","BOSQUES","SUBDIRECCIÓN DE ECOSISTEMAS E INFORMACIÓN AMBIENTAL","2021-10-27","CORREO ELECTRÓNICO",{"$f":"IFERROR(WORKDAY(C722,P722,DiasNOLaborables),\"\")","v":"2021-11-26"},{"$f":"+IF(C722=\"\",\"\",IF(H722=\"\",\"SIN RESPUESTA\",(IF(H722<=J722,\"A TIEMPO\",\"FUERA DE TIEMPO\"))))","v":"A TIEMPO"},{"$f":"IF(H722=\"\",\"\",NETWORKDAYS(C722+1,H722,DiasNOLaborables))","v":-2},{"$f":"IF(NETWORKDAYS(J722+1,H722,DiasNOLaborables)<=0,\"\",NETWORKDAYS(J722+1,H722,DiasNOLaborables))","v":""},null,null,{"$f":"IFERROR(VLOOKUP(E722,$X$51:$Y$64,2),\"\")","v":20}]
[712,20219050124492,"2021-10-27","CORREO ELECTRÓNICO","SOLICITUD DE INFORMACIÓN Y DOCUMENTOS","BOSQUES","SUBDIRECCIÓN DE ECOSISTEMAS E INFORMACIÓN AMBIENTAL","2021-11-04","CORREO ELECTRÓNICO",{"$f":"IFERROR(WORKDAY(C723,P723,DiasNOLaborables),\"\")","v":"2021-11-26"},{"$f":"+IF(C723=\"\",\"\",IF(H723=\"\",\"SIN RESPUESTA\",(IF(H723<=J723,\"A TIEMPO\",\"FUERA DE TIEMPO\"))))","v":"A TIEMPO"},{"$f":"IF(H723=\"\",\"\",NETWORKDAYS(C723+1,H723,DiasNOLaborables))","v":5},{"$f":"IF(NETWORKDAYS(J723+1,H723,DiasNOLaborables)<=0,\"\",NETWORKDAYS(J723+1,H723,DiasNOLaborables))","v":""},null,null,{"$f":"IFERROR(VLOOKUP(E723,$X$51:$Y$64,2),\"\")","v":20}]
[713,20219050124102,"2021-10-27","CORREO ELECTRÓNICO","SOLICITUD DE INFORMACIÓN Y DOCUMENTOS","ADMINISTRATIVA","GRUPO DE ADMINISTRACIÓN Y DESARROLLO DEL TALENTO HUMANO","2021-11-09","CORREO ELECTRÓNICO",{"$f":"IFERROR(WORKDAY(C724,P724,DiasNOLaborables),\"\")","v":"2021-11-26"},{"$f":"+IF(C724=\"\",\"\",IF(H724=\"\",\"SIN RESPUESTA\",(IF(H724<=J724,\"A TIEMPO\",\"FUERA DE TIEMPO\"))))","v":"A TIEMPO"},{"$f":"IF(H724=\"\",\"\",NETWORKDAYS(C724+1,H724,DiasNOLaborables))","v":8},{"$f":"IF(NETWORKDAYS(J724+1,H724,DiasNOLaborables)<=0,\"\",NETWORKDAYS(J724+1,H724,DiasNOLaborables))","v":""},null,null,{"$f":"IFERROR(VLOOKUP(E724,$X$51:$Y$64,2),\"\")","v":20}]
[714,20219050124132,"2021-10-27","MODULO CONTACTENOS","SOLICITUD DE INFORMACIÓN Y DOCUMENTOS","ADMINISTRATIVA","GRUPO DE SERVICIOS ADMINISTRATIVOS","2021-10-28","CORREO ELECTRÓNICO",{"$f":"IFERROR(WORKDAY(C725,P725,DiasNOLaborables),\"\")","v":"2021-11-26"},{"$f":"+IF(C725=\"\",\"\",IF(H725=\"\",\"SIN RESPUESTA\",(IF(H725<=J725,\"A TIEMPO\",\"FUERA DE TIEMPO\"))))","v":"A TIEMPO"},{"$f":"IF(H725=\"\",\"\",NETWORKDAYS(C725+1,H725,DiasNOLaborables))","v":1},{"$f":"IF(NETWORKDAYS(J725+1,H725,DiasNOLaborables)<=0,\"\",NETWORKDAYS(J725+1,H725,DiasNOLaborables))","v":""},null,null,{"$f":"IFERROR(VLOOKUP(E725,$X$51:$Y$64,2),\"\")","v":20}]
[715,20219050124182,"2021-10-27","MODULO CONTACTENOS","SOLICITUD DE INFORMACIÓN Y DOCUMENTOS","REGISTROS AMBIENTALES","SUBDIRECCIÓN DE ESTUDIOS AMBIENTALES","2021-10-29","CORREO ELECTRÓNICO",{"$f":"IFERROR(WORKDAY(C726,P726,DiasNOLaborables),\"\")","v":"2021-11-26"},{"$f":"+IF(C726=\"\",\"\",IF(H726=\"\",\"SIN RESPUESTA\",(IF(H726<=J726,\"A TIEMPO\",\"FUERA DE TIEMPO\"))))","v":"A TIEMPO"},{"$f":"IF(H726=\"\",\"\",NETWORKDAYS(C726+1,H726,DiasNOLaborables))","v":2},{"$f":"IF(NETWORKDAYS(J726+1,H726,DiasNOLaborables)<=0,\"\",NETWORKDAYS(J726+1,H726,DiasNOLaborables))","v":""},null,null,{"$f":"IFERROR(VLOOKUP(E726,$X$51:$Y$64,2),\"\")","v":20}]
[716,20219050115972,"2021-10-27","MODULO CONTACTENOS","SOLICITUD DE INFORMACIÓN Y DOCUMENTOS","SOLICITUD DE INFORMACIÓN HIDROMETEOROLÓGICA","GRUPO DE SERVICIO AL CIUDADANO ","2021-10-27","CORREO ELECTRÓNICO",{"$f":"IFERROR(WORKDAY(C727,P727,DiasNOLaborables),\"\")","v":"2021-11-26"},{"$f":"+IF(C727=\"\",\"\",IF(H727=\"\",\"SIN RESPUESTA\",(IF(H727<=J727,\"A TIEMPO\",\"FUERA DE TIEMPO\"))))","v":"A TIEMPO"},{"$f":"IF(H727=\"\",\"\",NETWORKDAYS(C727+1,H727,DiasNOLaborables))","v":-2},{"$f":"IF(NETWORKDAYS(J727+1,H727,DiasNOLaborables)<=0,\"\",NETWORKDAYS(J727+1,H727,DiasNOLaborables))","v":""},null,null,{"$f":"IFERROR(VLOOKUP(E727,$X$51:$Y$64,2),\"\")","v":20}]
[717,20219050124192,"2021-10-27","MODULO CONTACTENOS","SOLICITUD DE INFORMACIÓN Y DOCUMENTOS","REGISTROS AMBIENTALES","SUBDIRECCIÓN DE ESTUDIOS AMBIENTALES","2021-10-29","CORREO ELECTRÓNICO",{"$f":"IFERROR(WORKDAY(C728,P728,DiasNOLaborables),\"\")","v":"2021-11-26"},{"$f":"+IF(C728=\"\",\"\",IF(H728=\"\",\"SIN RESPUESTA\",(IF(H728<=J728,\"A TIEMPO\",\"FUERA DE TIEMPO\"))))","v":"A TIEMPO"},{"$f":"IF(H728=\"\",\"\",NETWORKDAYS(C728+1,H728,DiasNOLaborables))","v":2},{"$f":"IF(NETWORKDAYS(J728+1,H728,DiasNOLaborables)<=0,\"\",NETWORKDAYS(J728+1,H728,DiasNOLaborables))","v":""},null,null,{"$f":"IFERROR(VLOOKUP(E728,$X$51:$Y$64,2),\"\")","v":20}]
[718,20217070000812,"2021-10-27","CORREO CERTIFICADO","SOLICITUD DE INFORMACIÓN Y DOCUMENTOS","CERTIFICACIONES DE TIEMPO Y CLIMA","SUBDIRECCIÓN DE METEOROLOGÍA","2021-10-29","CORREO ELECTRÓNICO",{"$f":"IFERROR(WORKDAY(C729,P729,DiasNOLaborables),\"\")","v":"2021-11-26"},{"$f":"+IF(C729=\"\",\"\",IF(H729=\"\",\"SIN RESPUESTA\",(IF(H729<=J729,\"A TIEMPO\",\"FUERA DE TIEMPO\"))))","v":"A TIEMPO"},{"$f":"IF(H729=\"\",\"\",NETWORKDAYS(C729+1,H729,DiasNOLaborables))","v":2},{"$f":"IF(NETWORKDAYS(J729+1,H729,DiasNOLaborables)<=0,\"\",NETWORKDAYS(J729+1,H729,DiasNOLaborables))","v":""},null,null,{"$f":"IFERROR(VLOOKUP(E729,$X$51:$Y$64,2),\"\")","v":20}]
[719,20219050124422,"2021-10-27","MODULO CONTACTENOS","CERTIFICACIONES DE TIEMPO, CLIMA Y EVENTOS HIDROLÓGICOS","CERTIFICACIONES DE TIEMPO Y CLIMA","SUBDIRECCIÓN DE METEOROLOGÍA","2021-11-16","CORREO ELECTRÓNICO",{"$f":"IFERROR(WORKDAY(C730,P730,DiasNOLaborables),\"\")","v":"2021-12-20"},{"$f":"+IF(C730=\"\",\"\",IF(H730=\"\",\"SIN RESPUESTA\",(IF(H730<=J730,\"A TIEMPO\",\"FUERA DE TIEMPO\"))))","v":"A TIEMPO"},{"$f":"IF(H730=\"\",\"\",NETWORKDAYS(C730+1,H730,DiasNOLaborables))","v":12},{"$f":"IF(NETWORKDAYS(J730+1,H730,DiasNOLaborables)<=0,\"\",NETWORKDAYS(J730+1,H730,DiasNOLaborables))","v":""},null,null,{"$f":"IFERROR(VLOOKUP(E730,$X$51:$Y$64,2),\"\")","v":35}]
[720,20219050124442,"2021-10-27","MODULO CONTACTENOS","CERTIFICACIONES DE TIEMPO, CLIMA Y EVENTOS HIDROLÓGICOS","CERTIFICACIONES DE TIEMPO Y CLIMA","SUBDIRECCIÓN DE METEOROLOGÍA","2021-11-16","CORREO ELECTRÓNICO",{"$f":"IFERROR(WORKDAY(C731,P731,DiasNOLaborables),\"\")","v":"2021-12-20"},{"$f":"+IF(C731=\"\",\"\",IF(H731=\"\",\"SIN RESPUESTA\",(IF(H731<=J731,\"A TIEMPO\",\"FUERA DE TIEMPO\"))))","v":"A TIEMPO"},{"$f":"IF(H731=\"\",\"\",NETWORKDAYS(C731+1,H731,DiasNOLaborables))","v":12},{"$f":"IF(NETWORKDAYS(J731+1,H731,DiasNOLaborables)<=0,\"\",NETWORKDAYS(J731+1,H731,DiasNOLaborables))","v":""},null,null,{"$f":"IFERROR(VLOOKUP(E731,$X$51:$Y$64,2),\"\")","v":35}]
[721,20219050124452,"2021-10-27","MODULO CONTACTENOS","CERTIFICACIONES DE TIEMPO, CLIMA Y EVENTOS HIDROLÓGICOS","CERTIFICACIONES DE TIEMPO Y CLIMA","SUBDIRECCIÓN DE METEOROLOGÍA","2021-11-18","CORREO ELECTRÓNICO",{"$f":"IFERROR(WORKDAY(C732,P732,DiasNOLaborables),\"\")","v":"2021-12-20"},{"$f":"+IF(C732=\"\",\"\",IF(H732=\"\",\"SIN RESPUESTA\",(IF(H732<=J732,\"A TIEMPO\",\"FUERA DE TIEMPO\"))))","v":"A TIEMPO"},{"$f":"IF(H732=\"\",\"\",NETWORKDAYS(C732+1,H732,DiasNOLaborables))","v":14},{"$f":"IF(NETWORKDAYS(J732+1,H732,DiasNOLaborables)<=0,\"\",NETWORKDAYS(J732+1,H732,DiasNOLaborables))","v":""},null,null,{"$f":"IFERROR(VLOOKUP(E732,$X$51:$Y$64,2),\"\")","v":35}]
[722,20219050124462,"2021-10-27","MODULO CONTACTENOS","CERTIFICACIONES DE TIEMPO, CLIMA Y EVENTOS HIDROLÓGICOS","CERTIFICACIONES DE TIEMPO Y CLIMA","SUBDIRECCIÓN DE METEOROLOGÍA","2021-11-18","CORREO ELECTRÓNICO",{"$f":"IFERROR(WORKDAY(C733,P733,DiasNOLaborables),\"\")","v":"2021-12-20"},{"$f":"+IF(C733=\"\",\"\",IF(H733=\"\",\"SIN RESPUESTA\",(IF(H733<=J733,\"A TIEMPO\",\"FUERA DE TIEMPO\"))))","v":"A TIEMPO"},{"$f":"IF(H733=\"\",\"\",NETWORKDAYS(C733+1,H733,DiasNOLaborables))","v":14},{"$f":"IF(NETWORKDAYS(J733+1,H733,DiasNOLaborables)<=0,\"\",NETWORKDAYS(J733+1,H733,DiasNOLaborables))","v":""},null,null,{"$f":"IFERROR(VLOOKUP(E733,$X$51:$Y$64,2),\"\")","v":35}]
[723,20219050124472,"2021-10-27","MODULO CONTACTENOS","CERTIFICACIONES DE TIEMPO, CLIMA Y EVENTOS HIDROLÓGICOS","CERTIFICACIONES DE TIEMPO Y CLIMA","SUBDIRECCIÓN DE METEOROLOGÍA","2021-11-19","CORREO ELECTRÓNICO",{"$f":"IFERROR(WORKDAY(C734,P734,DiasNOLaborables),\"\")","v":"2021-12-20"},{"$f":"+IF(C734=\"\",\"\",IF(H734=\"\",\"SIN RESPUESTA\",(IF(H734<=J734,\"A TIEMPO\",\"FUERA DE TIEMPO\"))))","v":"A TIEMPO"},{"$f":"IF(H734=\"\",\"\",NETWORKDAYS(C734+1,H734,DiasNOLaborables))","v":15},{"$f":"IF(NETWORKDAYS(J734+1,H734,DiasNOLaborables)<=0,\"\",NETWORKDAYS(J734+1,H734,DiasNOLaborables))","v":""},null,null,{"$f":"IFERROR(VLOOKUP(E734,$X$51:$Y$64,2),\"\")","v":35}]
[724,20219050124572,"2021-10-27","MODULO CONTACTENOS","SOLICITUD DE INFORMACIÓN Y DOCUMENTOS","ADMINISTRATIVA","GRUPO DE ADMINISTRACIÓN Y DESARROLLO DEL TALENTO HUMANO","2021-11-04","CORREO ELECTRÓNICO",{"$f":"IFERROR(WORKDAY(C735,P735,DiasNOLaborables),\"\")","v":"2021-11-26"},{"$f":"+IF(C735=\"\",\"\",IF(H735=\"\",\"SIN RESPUESTA\",(IF(H735<=J735,\"A TIEMPO\",\"FUERA DE TIEMPO\"))))","v":"A TIEMPO"},{"$f":"IF(H735=\"\",\"\",NETWORKDAYS(C735+1,H735,DiasNOLaborables))","v":5},{"$f":"IF(NETWORKDAYS(J735+1,H735,DiasNOLaborables)<=0,\"\",NETWORKDAYS(J735+1,H735,DiasNOLaborables))","v":""},null,null,{"$f":"IFERROR(VLOOKUP(E735,$X$51:$Y$64,2),\"\")","v":20}]
[725,20219050124582,"2021-10-27","MODULO CONTACTENOS","SOLICITUD DE INFORMACIÓN Y DOCUMENTOS","ADMINISTRATIVA","GRUPO DE ADMINISTRACIÓN Y DESARROLLO DEL TALENTO HUMANO","2021-11-08","CORREO ELECTRÓNICO",{"$f":"IFERROR(WORKDAY(C736,P736,DiasNOLaborables),\"\")","v":"2021-11-26"},{"$f":"+IF(C736=\"\",\"\",IF(H736=\"\",\"SIN RESPUESTA\",(IF(H736<=J736,\"A TIEMPO\",\"FUERA DE TIEMPO\"))))","v":"A TIEMPO"},{"$f":"IF(H736=\"\",\"\",NETWORKDAYS(C736+1,H736,DiasNOLaborables))","v":7},{"$f":"IF(NETWORKDAYS(J736+1,H736,DiasNOLaborables)<=0,\"\",NETWORKDAYS(J736+1,H736,DiasNOLaborables))","v":""},null,null,{"$f":"IFERROR(VLOOKUP(E736,$X$51:$Y$64,2),\"\")","v":20}]
[726,20219050124122,"2021-10-27","CORREO ELECTRÓNICO","CERTIFICACIONES DE TIEMPO, CLIMA Y EVENTOS HIDROLÓGICOS","CERTIFICACIONES DE TIEMPO Y CLIMA","SUBDIRECCIÓN DE METEOROLOGÍA","2021-11-15","CORREO ELECTRÓNICO",{"$f":"IFERROR(WORKDAY(C737,P737,DiasNOLaborables),\"\")","v":"2021-12-20"},{"$f":"+IF(C737=\"\",\"\",IF(H737=\"\",\"SIN RESPUESTA\",(IF(H737<=J737,\"A TIEMPO\",\"FUERA DE TIEMPO\"))))","v":"A TIEMPO"},{"$f":"IF(H737=\"\",\"\",NETWORKDAYS(C737+1,H737,DiasNOLaborables))","v":11},{"$f":"IF(NETWORKDAYS(J737+1,H737,DiasNOLaborables)<=0,\"\",NETWORKDAYS(J737+1,H737,DiasNOLaborables))","v":""},null,null,{"$f":"IFERROR(VLOOKUP(E737,$X$51:$Y$64,2),\"\")","v":35}]
[727,20219050124212,"2021-10-27","CORREO ELECTRÓNICO","SOLICITUD DE INFORMACIÓN Y DOCUMENTOS","ADMINISTRATIVA","GRUPO DE ADMINISTRACIÓN Y DESARROLLO DEL TALENTO HUMANO","2021-11-09","CORREO ELECTRÓNICO",{"$f":"IFERROR(WORKDAY(C738,P738,DiasNOLaborables),\"\")","v":"2021-11-26"},{"$f":"+IF(C738=\"\",\"\",IF(H738=\"\",\"SIN RESPUESTA\",(IF(H738<=J738,\"A TIEMPO\",\"FUERA DE TIEMPO\"))))","v":"A TIEMPO"},{"$f":"IF(H738=\"\",\"\",NETWORKDAYS(C738+1,H738,DiasNOLaborables))","v":8},{"$f":"IF(NETWORKDAYS(J738+1,H738,DiasNOLaborables)<=0,\"\",NETWORKDAYS(J738+1,H738,DiasNOLaborables))","v":""},null,null,{"$f":"IFERROR(VLOOKUP(E738,$X$51:$Y$64,2),\"\")","v":20}]
[728,20219050124222,"2021-10-27","CORREO ELECTRÓNICO","SOLICITUD DE INFORMACIÓN Y DOCUMENTOS","REGISTROS AMBIENTALES","SUBDIRECCIÓN DE ESTUDIOS AMBIENTALES","2021-10-27","CORREO ELECTRÓNICO",{"$f":"IFERROR(WORKDAY(C739,P739,DiasNOLaborables),\"\")","v":"2021-11-26"},{"$f":"+IF(C739=\"\",\"\",IF(H739=\"\",\"SIN RESPUESTA\",(IF(H739<=J739,\"A TIEMPO\",\"FUERA DE TIEMPO\"))))","v":"A TIEMPO"},{"$f":"IF(H739=\"\",\"\",NETWORKDAYS(C739+1,H739,DiasNOLaborables))","v":-2},{"$f":"IF(NETWORKDAYS(J739+1,H739,DiasNOLaborables)<=0,\"\",NETWORKDAYS(J739+1,H739,DiasNOLaborables))","v":""},null,null,{"$f":"IFERROR(VLOOKUP(E739,$X$51:$Y$64,2),\"\")","v":20}]
[729,20219050124232,"2021-10-27","CORREO ELECTRÓNICO","SOLICITUD DE INFORMACIÓN Y DOCUMENTOS","BOSQUES","SUBDIRECCIÓN DE ECOSISTEMAS E INFORMACIÓN AMBIENTAL","2021-11-04","CORREO ELECTRÓNICO",{"$f":"IFERROR(WORKDAY(C740,P740,DiasNOLaborables),\"\")","v":"2021-11-26"},{"$f":"+IF(C740=\"\",\"\",IF(H740=\"\",\"SIN RESPUESTA\",(IF(H740<=J740,\"A TIEMPO\",\"FUERA DE TIEMPO\"))))","v":"A TIEMPO"},{"$f":"IF(H740=\"\",\"\",NETWORKDAYS(C740+1,H740,DiasNOLaborables))","v":5},{"$f":"IF(NETWORKDAYS(J740+1,H740,DiasNOLaborables)<=0,\"\",NETWORKDAYS(J740+1,H740,DiasNOLaborables))","v":""},null,null,{"$f":"IFERROR(VLOOKUP(E740,$X$51:$Y$64,2),\"\")","v":20}]
[730,20219050124242,"2021-10-27","CORREO ELECTRÓNICO","CERTIFICACIONES DE TIEMPO, CLIMA Y EVENTOS HIDROLÓGICOS","CERTIFICACIONES DE TIEMPO Y CLIMA","SUBDIRECCIÓN DE METEOROLOGÍA","2021-11-16","CORREO ELECTRÓNICO",{"$f":"IFERROR(WORKDAY(C741,P741,DiasNOLaborables),\"\")","v":"2021-12-20"},{"$f":"+IF(C741=\"\",\"\",IF(H741=\"\",\"SIN RESPUESTA\",(IF(H741<=J741,\"A TIEMPO\",\"FUERA DE TIEMPO\"))))","v":"A TIEMPO"},{"$f":"IF(H741=\"\",\"\",NETWORKDAYS(C741+1,H741,DiasNOLaborables))","v":12},{"$f":"IF(NETWORKDAYS(J741+1,H741,DiasNOLaborables)<=0,\"\",NETWORKDAYS(J741+1,H741,DiasNOLaborables))","v":""},null,null,{"$f":"IFERROR(VLOOKUP(E741,$X$51:$Y$64,2),\"\")","v":35}]
[731,20219050124332,"2021-10-27","CORREO ELECTRÓNICO","SOLICITUD DE INFORMACIÓN Y DOCUMENTOS","VISITAS ACADÉMICAS","GRUPO DE SERVICIO AL CIUDADANO ","2021-11-02","CORREO ELECTRÓNICO",{"$f":"IFERROR(WORKDAY(C742,P742,DiasNOLaborables),\"\")","v":"2021-11-26"},{"$f":"+IF(C742=\"\",\"\",IF(H742=\"\",\"SIN RESPUESTA\",(IF(H742<=J742,\"A TIEMPO\",\"FUERA DE TIEMPO\"))))","v":"A TIEMPO"},{"$f":"IF(H742=\"\",\"\",NETWORKDAYS(C742+1,H742,DiasNOLaborables))","v":3},{"$f":"IF(NETWORKDAYS(J742+1,H742,DiasNOLaborables)<=0,\"\",NETWORKDAYS(J742+1,H742,DiasNOLaborables))","v":""},null,null,{"$f":"IFERROR(VLOOKUP(E742,$X$51:$Y$64,2),\"\")","v":20}]
[732,20219050124352,"2021-10-27","CORREO ELECTRÓNICO","SOLICITUD DE INFORMACIÓN Y DOCUMENTOS","ACREDITACIÓN DE LABORATORIOS","SUBDIRECCIÓN DE ESTUDIOS AMBIENTALES","2021-11-03","CORREO ELECTRÓNICO",{"$f":"IFERROR(WORKDAY(C743,P743,DiasNOLaborables),\"\")","v":"2021-11-26"},{"$f":"+IF(C743=\"\",\"\",IF(H743=\"\",\"SIN RESPUESTA\",(IF(H743<=J743,\"A TIEMPO\",\"FUERA DE TIEMPO\"))))","v":"A TIEMPO"},{"$f":"IF(H743=\"\",\"\",NETWORKDAYS(C743+1,H743,DiasNOLaborables))","v":4},{"$f":"IF(NETWORKDAYS(J743+1,H743,DiasNOLaborables)<=0,\"\",NETWORKDAYS(J743+1,H743,DiasNOLaborables))","v":""},null,null,{"$f":"IFERROR(VLOOKUP(E743,$X$51:$Y$64,2),\"\")","v":20}]
[733,20219050124432,"2021-10-27","CORREO ELECTRÓNICO","SOLICITUD DE INFORMACIÓN Y DOCUMENTOS","BOSQUES","SUBDIRECCIÓN DE ECOSISTEMAS E INFORMACIÓN AMBIENTAL","2021-10-27","CORREO ELECTRÓNICO",{"$f":"IFERROR(WORKDAY(C744,P744,DiasNOLaborables),\"\")","v":"2021-11-26"},{"$f":"+IF(C744=\"\",\"\",IF(H744=\"\",\"SIN RESPUESTA\",(IF(H744<=J744,\"A TIEMPO\",\"FUERA DE TIEMPO\"))))","v":"A TIEMPO"},{"$f":"IF(H744=\"\",\"\",NETWORKDAYS(C744+1,H744,DiasNOLaborables))","v":-2},{"$f":"IF(NETWORKDAYS(J744+1,H744,DiasNOLaborables)<=0,\"\",NETWORKDAYS(J744+1,H744,DiasNOLaborables))","v":""},null,null,{"$f":"IFERROR(VLOOKUP(E744,$X$51:$Y$64,2),\"\")","v":20}]
[734,20219050124502,"2021-10-27","CORREO ELECTRÓNICO","SOLICITUD DE INFORMACIÓN Y DOCUMENTOS","INFORMES AMBIENTALES","SUBDIRECCIÓN DE HIDROLOGÍA","2021-11-04","CORREO ELECTRÓNICO",{"$f":"IFERROR(WORKDAY(C745,P745,DiasNOLaborables),\"\")","v":"2021-11-26"},{"$f":"+IF(C745=\"\",\"\",IF(H745=\"\",\"SIN RESPUESTA\",(IF(H745<=J745,\"A TIEMPO\",\"FUERA DE TIEMPO\"))))","v":"A TIEMPO"},{"$f":"IF(H745=\"\",\"\",NETWORKDAYS(C745+1,H745,DiasNOLaborables))","v":5},{"$f":"IF(NETWORKDAYS(J745+1,H745,DiasNOLaborables)<=0,\"\",NETWORKDAYS(J745+1,H745,DiasNOLaborables))","v":""},null,null,{"$f":"IFERROR(VLOOKUP(E745,$X$51:$Y$64,2),\"\")","v":20}]
[735,20219050124512,"2021-10-27","CORREO ELECTRÓNICO","SOLICITUD DE INFORMACIÓN Y DOCUMENTOS","INFORMES AMBIENTALES","SUBDIRECCIÓN DE HIDROLOGÍA","2021-11-04","CORREO ELECTRÓNICO",{"$f":"IFERROR(WORKDAY(C746,P746,DiasNOLaborables),\"\")","v":"2021-11-26"},{"$f":"+IF(C746=\"\",\"\",IF(H746=\"\",\"SIN RESPUESTA\",(IF(H746<=J746,\"A TIEMPO\",\"FUERA DE TIEMPO\"))))","v":"A TIEMPO"},{"$f":"IF(H746=\"\",\"\",NETWORKDAYS(C746+1,H746,DiasNOLaborables))","v":5},{"$f":"IF(NETWORKDAYS(J746+1,H746,DiasNOLaborables)<=0,\"\",NETWORKDAYS(J746+1,H746,DiasNOLaborables))","v":""},null,null,{"$f":"IFERROR(VLOOKUP(E746,$X$51:$Y$64,2),\"\")","v":20}]
[736,20219910057552,"2021-10-27","CORREO CERTIFICADO","SOLICITUD DE INFORMACIÓN Y DOCUMENTOS","OPERACIÓN DE REDES","SUBDIRECCIÓN DE HIDROLOGÍA","2021-11-04","CORREO ELECTRÓNICO",{"$f":"IFERROR(WORKDAY(C747,P747,DiasNOLaborables),\"\")","v":"2021-11-26"},{"$f":"+IF(C747=\"\",\"\",IF(H747=\"\",\"SIN RESPUESTA\",(IF(H747<=J747,\"A TIEMPO\",\"FUERA DE TIEMPO\"))))","v":"A TIEMPO"},{"$f":"IF(H747=\"\",\"\",NETWORKDAYS(C747+1,H747,DiasNOLaborables))","v":5},{"$f":"IF(NETWORKDAYS(J747+1,H747,DiasNOLaborables)<=0,\"\",NETWORKDAYS(J747+1,H747,DiasNOLaborables))","v":""},null,null,{"$f":"IFERROR(VLOOKUP(E747,$X$51:$Y$64,2),\"\")","v":20}]
[737,20219050124522,"2021-10-27","CORREO ELECTRÓNICO","CERTIFICACIONES DE TIEMPO, CLIMA Y EVENTOS HIDROLÓGICOS","CERTIFICACIONES DE TIEMPO Y CLIMA","SUBDIRECCIÓN DE METEOROLOGÍA","2021-11-19","CORREO ELECTRÓNICO",{"$f":"IFERROR(WORKDAY(C748,P748,DiasNOLaborables),\"\")","v":"2021-12-20"},{"$f":"+IF(C748=\"\",\"\",IF(H748=\"\",\"SIN RESPUESTA\",(IF(H748<=J748,\"A TIEMPO\",\"FUERA DE TIEMPO\"))))","v":"A TIEMPO"},{"$f":"IF(H748=\"\",\"\",NETWORKDAYS(C748+1,H748,DiasNOLaborables))","v":15},{"$f":"IF(NETWORKDAYS(J748+1,H748,DiasNOLaborables)<=0,\"\",NETWORKDAYS(J748+1,H748,DiasNOLaborables))","v":""},null,null,{"$f":"IFERROR(VLOOKUP(E748,$X$51:$Y$64,2),\"\")","v":35}]
[738,20219050124092,"2021-10-27","MODULO CONTACTENOS","SOLICITUD DE INFORMACIÓN Y DOCUMENTOS","SOLICITUD DE INFORMACIÓN HIDROMETEOROLÓGICA","GRUPO DE SERVICIO AL CIUDADANO ","2021-11-02","CORREO ELECTRÓNICO",{"$f":"IFERROR(WORKDAY(C749,P749,DiasNOLaborables),\"\")","v":"2021-11-26"},{"$f":"+IF(C749=\"\",\"\",IF(H749=\"\",\"SIN RESPUESTA\",(IF(H749<=J749,\"A TIEMPO\",\"FUERA DE TIEMPO\"))))","v":"A TIEMPO"},{"$f":"IF(H749=\"\",\"\",NETWORKDAYS(C749+1,H749,DiasNOLaborables))","v":3},{"$f":"IF(NETWORKDAYS(J749+1,H749,DiasNOLaborables)<=0,\"\",NETWORKDAYS(J749+1,H749,DiasNOLaborables))","v":""},null,null,{"$f":"IFERROR(VLOOKUP(E749,$X$51:$Y$64,2),\"\")","v":20}]
[739,20219050124202,"2021-10-27","CORREO ELECTRÓNICO","SOLICITUD DE INFORMACIÓN Y DOCUMENTOS","SOLICITUD DE INFORMACIÓN HIDROMETEOROLÓGICA","GRUPO DE SERVICIO AL CIUDADANO ","2021-11-02","CORREO ELECTRÓNICO",{"$f":"IFERROR(WORKDAY(C750,P750,DiasNOLaborables),\"\")","v":"2021-11-26"},{"$f":"+IF(C750=\"\",\"\",IF(H750=\"\",\"SIN RESPUESTA\",(IF(H750<=J750,\"A TIEMPO\",\"FUERA DE TIEMPO\"))))","v":"A TIEMPO"},{"$f":"IF(H750=\"\",\"\",NETWORKDAYS(C750+1,H750,DiasNOLaborables))","v":3},{"$f":"IF(NETWORKDAYS(J750+1,H750,DiasNOLaborables)<=0,\"\",NETWORKDAYS(J750+1,H750,DiasNOLaborables))","v":""},null,null,{"$f":"IFERROR(VLOOKUP(E750,$X$51:$Y$64,2),\"\")","v":20}]
[740,20219050124252,"2021-10-27","MODULO CONTACTENOS","SOLICITUD DE INFORMACIÓN Y DOCUMENTOS","SOLICITUD DE INFORMACIÓN HIDROMETEOROLÓGICA","GRUPO DE SERVICIO AL CIUDADANO ","2021-11-02","CORREO ELECTRÓNICO",{"$f":"IFERROR(WORKDAY(C751,P751,DiasNOLaborables),\"\")","v":"2021-11-26"},{"$f":"+IF(C751=\"\",\"\",IF(H751=\"\",\"SIN RESPUESTA\",(IF(H751<=J751,\"A TIEMPO\",\"FUERA DE TIEMPO\"))))","v":"A TIEMPO"},{"$f":"IF(H751=\"\",\"\",NETWORKDAYS(C751+1,H751,DiasNOLaborables))","v":3},{"$f":"IF(NETWORKDAYS(J751+1,H751,DiasNOLaborables)<=0,\"\",NETWORKDAYS(J751+1,H751,DiasNOLaborables))","v":""},null,null,{"$f":"IFERROR(VLOOKUP(E751,$X$51:$Y$64,2),\"\")","v":20}]
[741,20219050124282,"2021-10-27","MODULO CONTACTENOS","SOLICITUD DE INFORMACIÓN Y DOCUMENTOS","SOLICITUD DE INFORMACIÓN HIDROMETEOROLÓGICA","SUBDIRECCIÓN DE HIDROLOGÍA","2021-11-03","CORREO ELECTRÓNICO",{"$f":"IFERROR(WORKDAY(C752,P752,DiasNOLaborables),\"\")","v":"2021-11-26"},{"$f":"+IF(C752=\"\",\"\",IF(H752=\"\",\"SIN RESPUESTA\",(IF(H752<=J752,\"A TIEMPO\",\"FUERA DE TIEMPO\"))))","v":"A TIEMPO"},{"$f":"IF(H752=\"\",\"\",NETWORKDAYS(C752+1,H752,DiasNOLaborables))","v":4},{"$f":"IF(NETWORKDAYS(J752+1,H752,DiasNOLaborables)<=0,\"\",NETWORKDAYS(J752+1,H752,DiasNOLaborables))","v":""},null,null,{"$f":"IFERROR(VLOOKUP(E752,$X$51:$Y$64,2),\"\")","v":20}]
[742,20219050124292,"2021-10-27","MODULO CONTACTENOS","SOLICITUD DE INFORMACIÓN Y DOCUMENTOS","SOLICITUD DE INFORMACIÓN HIDROMETEOROLÓGICA","GRUPO DE SERVICIO AL CIUDADANO ","2021-11-03","CORREO ELECTRÓNICO",{"$f":"IFERROR(WORKDAY(C753,P753,DiasNOLaborables),\"\")","v":"2021-11-26"},{"$f":"+IF(C753=\"\",\"\",IF(H753=\"\",\"SIN RESPUESTA\",(IF(H753<=J753,\"A TIEMPO\",\"FUERA DE TIEMPO\"))))","v":"A TIEMPO"},{"$f":"IF(H753=\"\",\"\",NETWORKDAYS(C753+1,H753,DiasNOLaborables))","v":4},{"$f":"IF(NETWORKDAYS(J753+1,H753,DiasNOLaborables)<=0,\"\",NETWORKDAYS(J753+1,H753,DiasNOLaborables))","v":""},null,null,{"$f":"IFERROR(VLOOKUP(E753,$X$51:$Y$64,2),\"\")","v":20}]
[743,20219050124302,"2021-10-27","MODULO CONTACTENOS","SOLICITUD DE INFORMACIÓN Y DOCUMENTOS","SOLICITUD DE INFORMACIÓN HIDROMETEOROLÓGICA","GRUPO DE SERVICIO AL CIUDADANO ","2021-11-03","CORREO ELECTRÓNICO",{"$f":"IFERROR(WORKDAY(C754,P754,DiasNOLaborables),\"\")","v":"2021-11-26"},{"$f":"+IF(C754=\"\",\"\",IF(H754=\"\",\"SIN RESPUESTA\",(IF(H754<=J754,\"A TIEMPO\",\"FUERA DE TIEMPO\"))))","v":"A TIEMPO"},{"$f":"IF(H754=\"\",\"\",NETWORKDAYS(C754+1,H754,DiasNOLaborables))","v":4},{"$f":"IF(NETWORKDAYS(J754+1,H754,DiasNOLaborables)<=0,\"\",NETWORKDAYS(J754+1,H754,DiasNOLaborables))","v":""},null,null,{"$f":"IFERROR(VLOOKUP(E754,$X$51:$Y$64,2),\"\")","v":20}]
[744,20219050124322,"2021-10-27","MODULO CONTACTENOS","SOLICITUD DE INFORMACIÓN Y DOCUMENTOS","SOLICITUD DE INFORMACIÓN HIDROMETEOROLÓGICA","GRUPO DE SERVICIO AL CIUDADANO ","2021-10-25","CORREO ELECTRÓNICO",{"$f":"IFERROR(WORKDAY(C755,P755,DiasNOLaborables),\"\")","v":"2021-11-26"},{"$f":"+IF(C755=\"\",\"\",IF(H755=\"\",\"SIN RESPUESTA\",(IF(H755<=J755,\"A TIEMPO\",\"FUERA DE TIEMPO\"))))","v":"A TIEMPO"},{"$f":"IF(H755=\"\",\"\",NETWORKDAYS(C755+1,H755,DiasNOLaborables))","v":-4},{"$f":"IF(NETWORKDAYS(J755+1,H755,DiasNOLaborables)<=0,\"\",NETWORKDAYS(J755+1,H755,DiasNOLaborables))","v":""},null,null,{"$f":"IFERROR(VLOOKUP(E755,$X$51:$Y$64,2),\"\")","v":20}]
[745,20219050124342,"2021-10-27","MODULO CONTACTENOS","SOLICITUD DE INFORMACIÓN Y DOCUMENTOS","SOLICITUD DE INFORMACIÓN HIDROMETEOROLÓGICA","GRUPO DE SERVICIO AL CIUDADANO ","2021-10-25","CORREO ELECTRÓNICO",{"$f":"IFERROR(WORKDAY(C756,P756,DiasNOLaborables),\"\")","v":"2021-11-26"},{"$f":"+IF(C756=\"\",\"\",IF(H756=\"\",\"SIN RESPUESTA\",(IF(H756<=J756,\"A TIEMPO\",\"FUERA DE TIEMPO\"))))","v":"A TIEMPO"},{"$f":"IF(H756=\"\",\"\",NETWORKDAYS(C756+1,H756,DiasNOLaborables))","v":-4},{"$f":"IF(NETWORKDAYS(J756+1,H756,DiasNOLaborables)<=0,\"\",NETWORKDAYS(J756+1,H756,DiasNOLaborables))","v":""},null,null,{"$f":"IFERROR(VLOOKUP(E756,$X$51:$Y$64,2),\"\")","v":20}]
[746,20219050124402,"2021-10-27","MODULO CONTACTENOS","SOLICITUD DE INFORMACIÓN Y DOCUMENTOS","SOLICITUD DE INFORMACIÓN HIDROMETEOROLÓGICA","GRUPO DE SERVICIO AL CIUDADANO ","2021-10-25","CORREO ELECTRÓNICO",{"$f":"IFERROR(WORKDAY(C757,P757,DiasNOLaborables),\"\")","v":"2021-11-26"},{"$f":"+IF(C757=\"\",\"\",IF(H757=\"\",\"SIN RESPUESTA\",(IF(H757<=J757,\"A TIEMPO\",\"FUERA DE TIEMPO\"))))","v":"A TIEMPO"},{"$f":"IF(H757=\"\",\"\",NETWORKDAYS(C757+1,H757,DiasNOLaborables))","v":-4},{"$f":"IF(NETWORKDAYS(J757+1,H757,DiasNOLaborables)<=0,\"\",NETWORKDAYS(J757+1,H757,DiasNOLaborables))","v":""},null,null,{"$f":"IFERROR(VLOOKUP(E757,$X$51:$Y$64,2),\"\")","v":20}]
[747,20219050124412,"2021-10-27","MODULO CONTACTENOS","SOLICITUD DE INFORMACIÓN Y DOCUMENTOS","SOLICITUD DE INFORMACIÓN HIDROMETEOROLÓGICA","GRUPO DE SERVICIO AL CIUDADANO ","2021-10-25","CORREO ELECTRÓNICO",{"$f":"IFERROR(WORKDAY(C758,P758,DiasNOLaborables),\"\")","v":"2021-11-26"},{"$f":"+IF(C758=\"\",\"\",IF(H758=\"\",\"SIN RESPUESTA\",(IF(H758<=J758,\"A TIEMPO\",\"FUERA DE TIEMPO\"))))","v":"A TIEMPO"},{"$f":"IF(H758=\"\",\"\",NETWORKDAYS(C758+1,H758,DiasNOLaborables))","v":-4},{"$f":"IF(NETWORKDAYS(J758+1,H758,DiasNOLaborables)<=0,\"\",NETWORKDAYS(J758+1,H758,DiasNOLaborables))","v":""},null,null,{"$f":"IFERROR(VLOOKUP(E758,$X$51:$Y$64,2),\"\")","v":20}]
[748,20219050124532,"2021-10-27","MODULO CONTACTENOS","SOLICITUD DE INFORMACIÓN Y DOCUMENTOS","SOLICITUD DE INFORMACIÓN HIDROMETEOROLÓGICA","GRUPO DE SERVICIO AL CIUDADANO ","2021-10-25","CORREO ELECTRÓNICO",{"$f":"IFERROR(WORKDAY(C759,P759,DiasNOLaborables),\"\")","v":"2021-11-26"},{"$f":"+IF(C759=\"\",\"\",IF(H759=\"\",\"SIN RESPUESTA\",(IF(H759<=J759,\"A TIEMPO\",\"FUERA DE TIEMPO\"))))","v":"A TIEMPO"},{"$f":"IF(H759=\"\",\"\",NETWORKDAYS(C759+1,H759,DiasNOLaborables))","v":-4},{"$f":"IF(NETWORKDAYS(J759+1,H759,DiasNOLaborables)<=0,\"\",NETWORKDAYS(J759+1,H759,DiasNOLaborables))","v":""},null,null,{"$f":"IFERROR(VLOOKUP(E759,$X$51:$Y$64,2),\"\")","v":20}]
[749,20219050124542,"2021-10-27","MODULO CONTACTENOS","SOLICITUD DE INFORMACIÓN Y DOCUMENTOS","SOLICITUD DE INFORMACIÓN HIDROMETEOROLÓGICA","GRUPO DE SERVICIO AL CIUDADANO ","2021-10-25","CORREO ELECTRÓNICO",{"$f":"IFERROR(WORKDAY(C760,P760,DiasNOLaborables),\"\")","v":"2021-11-26"},{"$f":"+IF(C760=\"\",\"\",IF(H760=\"\",\"SIN RESPUESTA\",(IF(H760<=J760,\"A TIEMPO\",\"FUERA DE TIEMPO\"))))","v":"A TIEMPO"},{"$f":"IF(H760=\"\",\"\",NETWORKDAYS(C760+1,H760,DiasNOLaborables))","v":-4},{"$f":"IF(NETWORKDAYS(J760+1,H760,DiasNOLaborables)<=0,\"\",NETWORKDAYS(J760+1,H760,DiasNOLaborables))","v":""},null,null,{"$f":"IFERROR(VLOOKUP(E760,$X$51:$Y$64,2),\"\")","v":20}]
[750,20219050124562,"2021-10-27","MODULO CONTACTENOS","SOLICITUD DE INFORMACIÓN Y DOCUMENTOS","SOLICITUD DE INFORMACIÓN HIDROMETEOROLÓGICA","GRUPO DE SERVICIO AL CIUDADANO ","2021-10-25","CORREO ELECTRÓNICO",{"$f":"IFERROR(WORKDAY(C761,P761,DiasNOLaborables),\"\")","v":"2021-11-26"},{"$f":"+IF(C761=\"\",\"\",IF(H761=\"\",\"SIN RESPUESTA\",(IF(H761<=J761,\"A TIEMPO\",\"FUERA DE TIEMPO\"))))","v":"A TIEMPO"},{"$f":"IF(H761=\"\",\"\",NETWORKDAYS(C761+1,H761,DiasNOLaborables))","v":-4},{"$f":"IF(NETWORKDAYS(J761+1,H761,DiasNOLaborables)<=0,\"\",NETWORKDAYS(J761+1,H761,DiasNOLaborables))","v":""},null,null,{"$f":"IFERROR(VLOOKUP(E761,$X$51:$Y$64,2),\"\")","v":20}]
[751,20219050124592,"2021-10-27","MODULO CONTACTENOS","SOLICITUD DE INFORMACIÓN Y DOCUMENTOS","SOLICITUD DE INFORMACIÓN HIDROMETEOROLÓGICA","GRUPO DE SERVICIO AL CIUDADANO ","2021-10-25","CORREO ELECTRÓNICO",{"$f":"IFERROR(WORKDAY(C762,P762,DiasNOLaborables),\"\")","v":"2021-11-26"},{"$f":"+IF(C762=\"\",\"\",IF(H762=\"\",\"SIN RESPUESTA\",(IF(H762<=J762,\"A TIEMPO\",\"FUERA DE TIEMPO\"))))","v":"A TIEMPO"},{"$f":"IF(H762=\"\",\"\",NETWORKDAYS(C762+1,H762,DiasNOLaborables))","v":-4},{"$f":"IF(NETWORKDAYS(J762+1,H762,DiasNOLaborables)<=0,\"\",NETWORKDAYS(J762+1,H762,DiasNOLaborables))","v":""},null,null,{"$f":"IFERROR(VLOOKUP(E762,$X$51:$Y$64,2),\"\")","v":20}]
[752,20219050124602,"2021-10-28","MODULO CONTACTENOS","SOLICITUD DE INFORMACIÓN Y DOCUMENTOS","SOLICITUD DE INFORMACIÓN HIDROMETEOROLÓGICA","GRUPO DE SERVICIO AL CIUDADANO ","2021-10-25","CORREO ELECTRÓNICO",{"$f":"IFERROR(WORKDAY(C763,P763,DiasNOLaborables),\"\")","v":"2021-11-29"},{"$f":"+IF(C763=\"\",\"\",IF(H763=\"\",\"SIN RESPUESTA\",(IF(H763<=J763,\"A TIEMPO\",\"FUERA DE TIEMPO\"))))","v":"A TIEMPO"},{"$f":"IF(H763=\"\",\"\",NETWORKDAYS(C763+1,H763,DiasNOLaborables))","v":-5},{"$f":"IF(NETWORKDAYS(J763+1,H763,DiasNOLaborables)<=0,\"\",NETWORKDAYS(J763+1,H763,DiasNOLaborables))","v":""},null,null,{"$f":"IFERROR(VLOOKUP(E763,$X$51:$Y$64,2),\"\")","v":20}]
[753,20219050124612,"2021-10-28","MODULO CONTACTENOS","SOLICITUD DE INFORMACIÓN Y DOCUMENTOS","SOLICITUD DE INFORMACIÓN HIDROMETEOROLÓGICA","GRUPO DE SERVICIO AL CIUDADANO ","2021-10-25","CORREO ELECTRÓNICO",{"$f":"IFERROR(WORKDAY(C764,P764,DiasNOLaborables),\"\")","v":"2021-11-29"},{"$f":"+IF(C764=\"\",\"\",IF(H764=\"\",\"SIN RESPUESTA\",(IF(H764<=J764,\"A TIEMPO\",\"FUERA DE TIEMPO\"))))","v":"A TIEMPO"},{"$f":"IF(H764=\"\",\"\",NETWORKDAYS(C764+1,H764,DiasNOLaborables))","v":-5},{"$f":"IF(NETWORKDAYS(J764+1,H764,DiasNOLaborables)<=0,\"\",NETWORKDAYS(J764+1,H764,DiasNOLaborables))","v":""},null,null,{"$f":"IFERROR(VLOOKUP(E764,$X$51:$Y$64,2),\"\")","v":20}]
[754,20219050124712,"2021-10-28","MODULO CONTACTENOS","SOLICITUD DE INFORMACIÓN Y DOCUMENTOS","SOLICITUD DE INFORMACIÓN HIDROMETEOROLÓGICA","GRUPO DE SERVICIO AL CIUDADANO ","2021-10-25","CORREO ELECTRÓNICO",{"$f":"IFERROR(WORKDAY(C765,P765,DiasNOLaborables),\"\")","v":"2021-11-29"},{"$f":"+IF(C765=\"\",\"\",IF(H765=\"\",\"SIN RESPUESTA\",(IF(H765<=J765,\"A TIEMPO\",\"FUERA DE TIEMPO\"))))","v":"A TIEMPO"},{"$f":"IF(H765=\"\",\"\",NETWORKDAYS(C765+1,H765,DiasNOLaborables))","v":-5},{"$f":"IF(NETWORKDAYS(J765+1,H765,DiasNOLaborables)<=0,\"\",NETWORKDAYS(J765+1,H765,DiasNOLaborables))","v":""},null,null,{"$f":"IFERROR(VLOOKUP(E765,$X$51:$Y$64,2),\"\")","v":20}]
[755,20219050124762,"2021-10-28","MODULO CONTACTENOS","SOLICITUD DE INFORMACIÓN Y DOCUMENTOS","SOLICITUD DE INFORMACIÓN HIDROMETEOROLÓGICA","GRUPO DE SERVICIO AL CIUDADANO ","2021-10-25","CORREO ELECTRÓNICO",{"$f":"IFERROR(WORKDAY(C766,P766,DiasNOLaborables),\"\")","v":"2021-11-29"},{"$f":"+IF(C766=\"\",\"\",IF(H766=\"\",\"SIN RESPUESTA\",(IF(H766<=J766,\"A TIEMPO\",\"FUERA DE TIEMPO\"))))","v":"A TIEMPO"},{"$f":"IF(H766=\"\",\"\",NETWORKDAYS(C766+1,H766,DiasNOLaborables))","v":-5},{"$f":"IF(NETWORKDAYS(J766+1,H766,DiasNOLaborables)<=0,\"\",NETWORKDAYS(J766+1,H766,DiasNOLaborables))","v":""},null,null,{"$f":"IFERROR(VLOOKUP(E766,$X$51:$Y$64,2),\"\")","v":20}]
[756,20219050124812,"2021-10-28","MODULO CONTACTENOS","SOLICITUD DE INFORMACIÓN Y DOCUMENTOS","SOLICITUD DE INFORMACIÓN HIDROMETEOROLÓGICA","GRUPO DE SERVICIO AL CIUDADANO ","2021-10-25","CORREO ELECTRÓNICO",{"$f":"IFERROR(WORKDAY(C767,P767,DiasNOLaborables),\"\")","v":"2021-11-29"},{"$f":"+IF(C767=\"\",\"\",IF(H767=\"\",\"SIN RESPUESTA\",(IF(H767<=J767,\"A TIEMPO\",\"FUERA DE TIEMPO\"))))","v":"A TIEMPO"},{"$f":"IF(H767=\"\",\"\",NETWORKDAYS(C767+1,H767,DiasNOLaborables))","v":-5},{"$f":"IF(NETWORKDAYS(J767+1,H767,DiasNOLaborables)<=0,\"\",NETWORKDAYS(J767+1,H767,DiasNOLaborables))","v":""},null,null,{"$f":"IFERROR(VLOOKUP(E767,$X$51:$Y$64,2),\"\")","v":20}]
[757,20219050124832,"2021-10-28","MODULO CONTACTENOS","SOLICITUD DE INFORMACIÓN Y DOCUMENTOS","SOLICITUD DE INFORMACIÓN HIDROMETEOROLÓGICA","GRUPO DE SERVICIO AL CIUDADANO ","2021-10-25","CORREO ELECTRÓNICO",{"$f":"IFERROR(WORKDAY(C768,P768,DiasNOLaborables),\"\")","v":"2021-11-29"},{"$f":"+IF(C768=\"\",\"\",IF(H768=\"\",\"SIN RESPUESTA\",(IF(H768<=J768,\"A TIEMPO\",\"FUERA DE TIEMPO\"))))","v":"A TIEMPO"},{"$f":"IF(H768=\"\",\"\",NETWORKDAYS(C768+1,H768,DiasNOLaborables))","v":-5},{"$f":"IF(NETWORKDAYS(J768+1,H768,DiasNOLaborables)<=0,\"\",NETWORKDAYS(J768+1,H768,DiasNOLaborables))","v":""},null,null,{"$f":"IFERROR(VLOOKUP(E768,$X$51:$Y$64,2),\"\")","v":20}]
[758,20219050124862,"2021-10-28","MODULO CONTACTENOS","SOLICITUD DE INFORMACIÓN Y DOCUMENTOS","SOLICITUD DE INFORMACIÓN HIDROMETEOROLÓGICA","GRUPO DE SERVICIO AL CIUDADANO ","2021-10-25","CORREO ELECTRÓNICO",{"$f":"IFERROR(WORKDAY(C769,P769,DiasNOLaborables),\"\")","v":"2021-11-29"},{"$f":"+IF(C769=\"\",\"\",IF(H769=\"\",\"SIN RESPUESTA\",(IF(H769<=J769,\"A TIEMPO\",\"FUERA DE TIEMPO\"))))","v":"A TIEMPO"},{"$f":"IF(H769=\"\",\"\",NETWORKDAYS(C769+1,H769,DiasNOLaborables))","v":-5},{"$f":"IF(NETWORKDAYS(J769+1,H769,DiasNOLaborables)<=0,\"\",NETWORKDAYS(J769+1,H769,DiasNOLaborables))","v":""},null,null,{"$f":"IFERROR(VLOOKUP(E769,$X$51:$Y$64,2),\"\")","v":20}]
[759,20219050124892,"2021-10-28","MODULO CONTACTENOS","SOLICITUD DE INFORMACIÓN Y DOCUMENTOS","SOLICITUD DE INFORMACIÓN HIDROMETEOROLÓGICA","GRUPO DE SERVICIO AL CIUDADANO ","2021-10-25","CORREO ELECTRÓNICO",{"$f":"IFERROR(WORKDAY(C770,P770,DiasNOLaborables),\"\")","v":"2021-11-29"},{"$f":"+IF(C770=\"\",\"\",IF(H770=\"\",\"SIN RESPUESTA\",(IF(H770<=J770,\"A TIEMPO\",\"FUERA DE TIEMPO\"))))","v":"A TIEMPO"},{"$f":"IF(H770=\"\",\"\",NETWORKDAYS(C770+1,H770,DiasNOLaborables))","v":-5},{"$f":"IF(NETWORKDAYS(J770+1,H770,DiasNOLaborables)<=0,\"\",NETWORKDAYS(J770+1,H770,DiasNOLaborables))","v":""},null,null,{"$f":"IFERROR(VLOOKUP(E770,$X$51:$Y$64,2),\"\")","v":20}]
[760,20219050124932,"2021-10-28","MODULO CONTACTENOS","SOLICITUD DE INFORMACIÓN Y DOCUMENTOS","SOLICITUD DE INFORMACIÓN HIDROMETEOROLÓGICA","GRUPO DE SERVICIO AL CIUDADANO ","2021-10-25","CORREO ELECTRÓNICO",{"$f":"IFERROR(WORKDAY(C771,P771,DiasNOLaborables),\"\")","v":"2021-11-29"},{"$f":"+IF(C771=\"\",\"\",IF(H771=\"\",\"SIN RESPUESTA\",(IF(H771<=J771,\"A TIEMPO\",\"FUERA DE TIEMPO\"))))","v":"A TIEMPO"},{"$f":"IF(H771=\"\",\"\",NETWORKDAYS(C771+1,H771,DiasNOLaborables))","v":-5},{"$f":"IF(NETWORKDAYS(J771+1,H771,DiasNOLaborables)<=0,\"\",NETWORKDAYS(J771+1,H771,DiasNOLaborables))","v":""},null,null,{"$f":"IFERROR(VLOOKUP(E771,$X$51:$Y$64,2),\"\")","v":20}]
[761,20219050124952,"2021-10-28","MODULO CONTACTENOS","SOLICITUD DE INFORMACIÓN Y DOCUMENTOS","SOLICITUD DE INFORMACIÓN HIDROMETEOROLÓGICA","GRUPO DE SERVICIO AL CIUDADANO ","2021-10-25","CORREO ELECTRÓNICO",{"$f":"IFERROR(WORKDAY(C772,P772,DiasNOLaborables),\"\")","v":"2021-11-29"},{"$f":"+IF(C772=\"\",\"\",IF(H772=\"\",\"SIN RESPUESTA\",(IF(H772<=J772,\"A TIEMPO\",\"FUERA DE TIEMPO\"))))","v":"A TIEMPO"},{"$f":"IF(H772=\"\",\"\",NETWORKDAYS(C772+1,H772,DiasNOLaborables))","v":-5},{"$f":"IF(NETWORKDAYS(J772+1,H772,DiasNOLaborables)<=0,\"\",NETWORKDAYS(J772+1,H772,DiasNOLaborables))","v":""},null,null,{"$f":"IFERROR(VLOOKUP(E772,$X$51:$Y$64,2),\"\")","v":20}]
[762,20219050124992,"2021-10-28","MODULO CONTACTENOS","SOLICITUD DE INFORMACIÓN Y DOCUMENTOS","SOLICITUD DE INFORMACIÓN HIDROMETEOROLÓGICA","GRUPO DE SERVICIO AL CIUDADANO ","2021-10-25","CORREO ELECTRÓNICO",{"$f":"IFERROR(WORKDAY(C773,P773,DiasNOLaborables),\"\")","v":"2021-11-29"},{"$f":"+IF(C773=\"\",\"\",IF(H773=\"\",\"SIN RESPUESTA\",(IF(H773<=J773,\"A TIEMPO\",\"FUERA DE TIEMPO\"))))","v":"A TIEMPO"},{"$f":"IF(H773=\"\",\"\",NETWORKDAYS(C773+1,H773,DiasNOLaborables))","v":-5},{"$f":"IF(NETWORKDAYS(J773+1,H773,DiasNOLaborables)<=0,\"\",NETWORKDAYS(J773+1,H773,DiasNOLaborables))","v":""},null,null,{"$f":"IFERROR(VLOOKUP(E773,$X$51:$Y$64,2),\"\")","v":20}]
[763,20219050125032,"2021-10-28","MODULO CONTACTENOS","SOLICITUD DE INFORMACIÓN Y DOCUMENTOS","SOLICITUD DE INFORMACIÓN HIDROMETEOROLÓGICA","GRUPO DE SERVICIO AL CIUDADANO ","2021-10-25","CORREO ELECTRÓNICO",{"$f":"IFERROR(WORKDAY(C774,P774,DiasNOLaborables),\"\")","v":"2021-11-29"},{"$f":"+IF(C774=\"\",\"\",IF(H774=\"\",\"SIN RESPUESTA\",(IF(H774<=J774,\"A TIEMPO\",\"FUERA DE TIEMPO\"))))","v":"A TIEMPO"},{"$f":"IF(H774=\"\",\"\",NETWORKDAYS(C774+1,H774,DiasNOLaborables))","v":-5},{"$f":"IF(NETWORKDAYS(J774+1,H774,DiasNOLaborables)<=0,\"\",NETWORKDAYS(J774+1,H774,DiasNOLaborables))","v":""},null,null,{"$f":"IFERROR(VLOOKUP(E774,$X$51:$Y$64,2),\"\")","v":20}]
[764,20219050125052,"2021-10-28","MODULO CONTACTENOS","SOLICITUD DE INFORMACIÓN Y DOCUMENTOS","SOLICITUD DE INFORMACIÓN HIDROMETEOROLÓGICA","GRUPO DE SERVICIO AL CIUDADANO ","2021-10-25","CORREO ELECTRÓNICO",{"$f":"IFERROR(WORKDAY(C775,P775,DiasNOLaborables),\"\")","v":"2021-11-29"},{"$f":"+IF(C775=\"\",\"\",IF(H775=\"\",\"SIN RESPUESTA\",(IF(H775<=J775,\"A TIEMPO\",\"FUERA DE TIEMPO\"))))","v":"A TIEMPO"},{"$f":"IF(H775=\"\",\"\",NETWORKDAYS(C775+1,H775,DiasNOLaborables))","v":-5},{"$f":"IF(NETWORKDAYS(J775+1,H775,DiasNOLaborables)<=0,\"\",NETWORKDAYS(J775+1,H775,DiasNOLaborables))","v":""},null,null,{"$f":"IFERROR(VLOOKUP(E775,$X$51:$Y$64,2),\"\")","v":20}]
[765,20219050125092,"2021-10-28","MODULO CONTACTENOS","SOLICITUD DE INFORMACIÓN Y DOCUMENTOS","SOLICITUD DE INFORMACIÓN HIDROMETEOROLÓGICA","GRUPO DE SERVICIO AL CIUDADANO ","2021-10-25","CORREO ELECTRÓNICO",{"$f":"IFERROR(WORKDAY(C776,P776,DiasNOLaborables),\"\")","v":"2021-11-29"},{"$f":"+IF(C776=\"\",\"\",IF(H776=\"\",\"SIN RESPUESTA\",(IF(H776<=J776,\"A TIEMPO\",\"FUERA DE TIEMPO\"))))","v":"A TIEMPO"},{"$f":"IF(H776=\"\",\"\",NETWORKDAYS(C776+1,H776,DiasNOLaborables))","v":-5},{"$f":"IF(NETWORKDAYS(J776+1,H776,DiasNOLaborables)<=0,\"\",NETWORKDAYS(J776+1,H776,DiasNOLaborables))","v":""},null,null,{"$f":"IFERROR(VLOOKUP(E776,$X$51:$Y$64,2),\"\")","v":20}]
[766,20219050125102,"2021-10-28","MODULO CONTACTENOS","SOLICITUD DE INFORMACIÓN Y DOCUMENTOS","SOLICITUD DE INFORMACIÓN HIDROMETEOROLÓGICA","GRUPO DE SERVICIO AL CIUDADANO ","2021-10-25","CORREO ELECTRÓNICO",{"$f":"IFERROR(WORKDAY(C777,P777,DiasNOLaborables),\"\")","v":"2021-11-29"},{"$f":"+IF(C777=\"\",\"\",IF(H777=\"\",\"SIN RESPUESTA\",(IF(H777<=J777,\"A TIEMPO\",\"FUERA DE TIEMPO\"))))","v":"A TIEMPO"},{"$f":"IF(H777=\"\",\"\",NETWORKDAYS(C777+1,H777,DiasNOLaborables))","v":-5},{"$f":"IF(NETWORKDAYS(J777+1,H777,DiasNOLaborables)<=0,\"\",NETWORKDAYS(J777+1,H777,DiasNOLaborables))","v":""},null,null,{"$f":"IFERROR(VLOOKUP(E777,$X$51:$Y$64,2),\"\")","v":20}]
[767,20219050125112,"2021-10-28","MODULO CONTACTENOS","SOLICITUD DE INFORMACIÓN Y DOCUMENTOS","SOLICITUD DE INFORMACIÓN HIDROMETEOROLÓGICA","GRUPO DE SERVICIO AL CIUDADANO ","2021-10-25","CORREO ELECTRÓNICO",{"$f":"IFERROR(WORKDAY(C778,P778,DiasNOLaborables),\"\")","v":"2021-11-29"},{"$f":"+IF(C778=\"\",\"\",IF(H778=\"\",\"SIN RESPUESTA\",(IF(H778<=J778,\"A TIEMPO\",\"FUERA DE TIEMPO\"))))","v":"A TIEMPO"},{"$f":"IF(H778=\"\",\"\",NETWORKDAYS(C778+1,H778,DiasNOLaborables))","v":-5},{"$f":"IF(NETWORKDAYS(J778+1,H778,DiasNOLaborables)<=0,\"\",NETWORKDAYS(J778+1,H778,DiasNOLaborables))","v":""},null,null,{"$f":"IFERROR(VLOOKUP(E778,$X$51:$Y$64,2),\"\")","v":20}]
[768,20219050125142,"2021-10-28","MODULO CONTACTENOS","SOLICITUD DE INFORMACIÓN Y DOCUMENTOS","SOLICITUD DE INFORMACIÓN HIDROMETEOROLÓGICA","GRUPO DE SERVICIO AL CIUDADANO ","2021-10-25","CORREO ELECTRÓNICO",{"$f":"IFERROR(WORKDAY(C779,P779,DiasNOLaborables),\"\")","v":"2021-11-29"},{"$f":"+IF(C779=\"\",\"\",IF(H779=\"\",\"SIN RESPUESTA\",(IF(H779<=J779,\"A TIEMPO\",\"FUERA DE TIEMPO\"))))","v":"A TIEMPO"},{"$f":"IF(H779=\"\",\"\",NETWORKDAYS(C779+1,H779,DiasNOLaborables))","v":-5},{"$f":"IF(NETWORKDAYS(J779+1,H779,DiasNOLaborables)<=0,\"\",NETWORKDAYS(J779+1,H779,DiasNOLaborables))","v":""},null,null,{"$f":"IFERROR(VLOOKUP(E779,$X$51:$Y$64,2),\"\")","v":20}]
[769,20219050125152,"2021-10-28","MODULO CONTACTENOS","SOLICITUD DE INFORMACIÓN Y DOCUMENTOS","SOLICITUD DE INFORMACIÓN HIDROMETEOROLÓGICA","GRUPO DE SERVICIO AL CIUDADANO ","2021-10-25","CORREO ELECTRÓNICO",{"$f":"IFERROR(WORKDAY(C780,P780,DiasNOLaborables),\"\")","v":"2021-11-29"},{"$f":"+IF(C780=\"\",\"\",IF(H780=\"\",\"SIN RESPUESTA\",(IF(H780<=J780,\"A TIEMPO\",\"FUERA DE TIEMPO\"))))","v":"A TIEMPO"},{"$f":"IF(H780=\"\",\"\",NETWORKDAYS(C780+1,H780,DiasNOLaborables))","v":-5},{"$f":"IF(NETWORKDAYS(J780+1,H780,DiasNOLaborables)<=0,\"\",NETWORKDAYS(J780+1,H780,DiasNOLaborables))","v":""},null,null,{"$f":"IFERROR(VLOOKUP(E780,$X$51:$Y$64,2),\"\")","v":20}]
[770,20219050124882,"2021-10-28","MODULO CONTACTENOS","SOLICITUD DE INFORMACIÓN Y DOCUMENTOS","SOLICITUD DE INFORMACIÓN HIDROMETEOROLÓGICA","GRUPO DE SERVICIO AL CIUDADANO ","2021-11-03","CORREO ELECTRÓNICO",{"$f":"IFERROR(WORKDAY(C781,P781,DiasNOLaborables),\"\")","v":"2021-11-29"},{"$f":"+IF(C781=\"\",\"\",IF(H781=\"\",\"SIN RESPUESTA\",(IF(H781<=J781,\"A TIEMPO\",\"FUERA DE TIEMPO\"))))","v":"A TIEMPO"},{"$f":"IF(H781=\"\",\"\",NETWORKDAYS(C781+1,H781,DiasNOLaborables))","v":3},{"$f":"IF(NETWORKDAYS(J781+1,H781,DiasNOLaborables)<=0,\"\",NETWORKDAYS(J781+1,H781,DiasNOLaborables))","v":""},null,null,{"$f":"IFERROR(VLOOKUP(E781,$X$51:$Y$64,2),\"\")","v":20}]
[{"$f":"IF(B782<>\"\",A781+1,\"\")","v":771},20219050124912,"2021-10-28","MODULO CONTACTENOS","SOLICITUD DE INFORMACIÓN Y DOCUMENTOS","SOLICITUD DE INFORMACIÓN HIDROMETEOROLÓGICA","GRUPO DE SERVICIO AL CIUDADANO ","2021-11-03","CORREO ELECTRÓNICO",{"$f":"IFERROR(WORKDAY(C782,P782,DiasNOLaborables),\"\")","v":"2021-11-29"},{"$f":"+IF(C782=\"\",\"\",IF(H782=\"\",\"SIN RESPUESTA\",(IF(H782<=J782,\"A TIEMPO\",\"FUERA DE TIEMPO\"))))","v":"A TIEMPO"},{"$f":"IF(H782=\"\",\"\",NETWORKDAYS(C782+1,H782,DiasNOLaborables))","v":3},{"$f":"IF(NETWORKDAYS(J782+1,H782,DiasNOLaborables)<=0,\"\",NETWORKDAYS(J782+1,H782,DiasNOLaborables))","v":""},null,null,{"$f":"IFERROR(VLOOKUP(E782,$X$51:$Y$64,2),\"\")","v":20}]
[772,20219050124922,"2021-10-28","MODULO CONTACTENOS","SOLICITUD DE INFORMACIÓN Y DOCUMENTOS","SOLICITUD DE INFORMACIÓN HIDROMETEOROLÓGICA","GRUPO DE SERVICIO AL CIUDADANO ","2021-11-03","CORREO ELECTRÓNICO",{"$f":"IFERROR(WORKDAY(C783,P783,DiasNOLaborables),\"\")","v":"2021-11-29"},{"$f":"+IF(C783=\"\",\"\",IF(H783=\"\",\"SIN RESPUESTA\",(IF(H783<=J783,\"A TIEMPO\",\"FUERA DE TIEMPO\"))))","v":"A TIEMPO"},{"$f":"IF(H783=\"\",\"\",NETWORKDAYS(C783+1,H783,DiasNOLaborables))","v":3},{"$f":"IF(NETWORKDAYS(J783+1,H783,DiasNOLaborables)<=0,\"\",NETWORKDAYS(J783+1,H783,DiasNOLaborables))","v":""},null,null,{"$f":"IFERROR(VLOOKUP(E783,$X$51:$Y$64,2),\"\")","v":20}]
[773,20219050124642,"2021-10-28","CORREO ELECTRÓNICO","SOLICITUD DE INFORMACIÓN Y DOCUMENTOS","OPERACIÓN DE REDES","SUBDIRECCIÓN DE HIDROLOGÍA","2021-11-17","CORREO ELECTRÓNICO",{"$f":"IFERROR(WORKDAY(C784,P784,DiasNOLaborables),\"\")","v":"2021-11-29"},{"$f":"+IF(C784=\"\",\"\",IF(H784=\"\",\"SIN RESPUESTA\",(IF(H784<=J784,\"A TIEMPO\",\"FUERA DE TIEMPO\"))))","v":"A TIEMPO"},{"$f":"IF(H784=\"\",\"\",NETWORKDAYS(C784+1,H784,DiasNOLaborables))","v":12},{"$f":"IF(NETWORKDAYS(J784+1,H784,DiasNOLaborables)<=0,\"\",NETWORKDAYS(J784+1,H784,DiasNOLaborables))","v":""},null,null,{"$f":"IFERROR(VLOOKUP(E784,$X$51:$Y$64,2),\"\")","v":20}]
[774,20219050124742,"2021-10-28","CORREO ELECTRÓNICO","SOLICITUD DE INFORMACIÓN Y DOCUMENTOS","INFORMES AMBIENTALES","SUBDIRECCIÓN DE ESTUDIOS AMBIENTALES","2021-11-18","CORREO ELECTRÓNICO",{"$f":"IFERROR(WORKDAY(C785,P785,DiasNOLaborables),\"\")","v":"2021-11-29"},{"$f":"+IF(C785=\"\",\"\",IF(H785=\"\",\"SIN RESPUESTA\",(IF(H785<=J785,\"A TIEMPO\",\"FUERA DE TIEMPO\"))))","v":"A TIEMPO"},{"$f":"IF(H785=\"\",\"\",NETWORKDAYS(C785+1,H785,DiasNOLaborables))","v":13},{"$f":"IF(NETWORKDAYS(J785+1,H785,DiasNOLaborables)<=0,\"\",NETWORKDAYS(J785+1,H785,DiasNOLaborables))","v":""},null,null,{"$f":"IFERROR(VLOOKUP(E785,$X$51:$Y$64,2),\"\")","v":20}]
[775,20219050124842,"2021-10-28","CORREO ELECTRÓNICO","SOLICITUD DE INFORMACIÓN Y DOCUMENTOS","INFORMES AMBIENTALES","SUBDIRECCIÓN DE HIDROLOGÍA","2021-11-12","CORREO ELECTRÓNICO",{"$f":"IFERROR(WORKDAY(C786,P786,DiasNOLaborables),\"\")","v":"2021-11-29"},{"$f":"+IF(C786=\"\",\"\",IF(H786=\"\",\"SIN RESPUESTA\",(IF(H786<=J786,\"A TIEMPO\",\"FUERA DE TIEMPO\"))))","v":"A TIEMPO"},{"$f":"IF(H786=\"\",\"\",NETWORKDAYS(C786+1,H786,DiasNOLaborables))","v":10},{"$f":"IF(NETWORKDAYS(J786+1,H786,DiasNOLaborables)<=0,\"\",NETWORKDAYS(J786+1,H786,DiasNOLaborables))","v":""},null,null,{"$f":"IFERROR(VLOOKUP(E786,$X$51:$Y$64,2),\"\")","v":20}]
[776,20219050124852,"2021-10-28","CORREO ELECTRÓNICO","SOLICITUD DE INFORMACIÓN Y DOCUMENTOS","INFORMES AMBIENTALES","SUBDIRECCIÓN DE ESTUDIOS AMBIENTALES","2021-10-29","CORREO ELECTRÓNICO",{"$f":"IFERROR(WORKDAY(C787,P787,DiasNOLaborables),\"\")","v":"2021-11-29"},{"$f":"+IF(C787=\"\",\"\",IF(H787=\"\",\"SIN RESPUESTA\",(IF(H787<=J787,\"A TIEMPO\",\"FUERA DE TIEMPO\"))))","v":"A TIEMPO"},{"$f":"IF(H787=\"\",\"\",NETWORKDAYS(C787+1,H787,DiasNOLaborables))","v":1},{"$f":"IF(NETWORKDAYS(J787+1,H787,DiasNOLaborables)<=0,\"\",NETWORKDAYS(J787+1,H787,DiasNOLaborables))","v":""},null,null,{"$f":"IFERROR(VLOOKUP(E787,$X$51:$Y$64,2),\"\")","v":20}]
[777,20219050124962,"2021-10-28","CORREO ELECTRÓNICO","SOLICITUD DE INFORMACIÓN Y DOCUMENTOS","ADMINISTRATIVA","OFICINA DE INFORMÁTICA","2021-10-28","CORREO ELECTRÓNICO",{"$f":"IFERROR(WORKDAY(C788,P788,DiasNOLaborables),\"\")","v":"2021-11-29"},{"$f":"+IF(C788=\"\",\"\",IF(H788=\"\",\"SIN RESPUESTA\",(IF(H788<=J788,\"A TIEMPO\",\"FUERA DE TIEMPO\"))))","v":"A TIEMPO"},{"$f":"IF(H788=\"\",\"\",NETWORKDAYS(C788+1,H788,DiasNOLaborables))","v":-2},{"$f":"IF(NETWORKDAYS(J788+1,H788,DiasNOLaborables)<=0,\"\",NETWORKDAYS(J788+1,H788,DiasNOLaborables))","v":""},null,null,{"$f":"IFERROR(VLOOKUP(E788,$X$51:$Y$64,2),\"\")","v":20}]
[778,20219050124982,"2021-10-28","CORREO ELECTRÓNICO","CERTIFICACIONES DE TIEMPO, CLIMA Y EVENTOS HIDROLÓGICOS","CERTIFICACIONES DE TIEMPO Y CLIMA","SUBDIRECCIÓN DE METEOROLOGÍA","2021-11-16","CORREO ELECTRÓNICO",{"$f":"IFERROR(WORKDAY(C789,P789,DiasNOLaborables),\"\")","v":"2021-12-21"},{"$f":"+IF(C789=\"\",\"\",IF(H789=\"\",\"SIN RESPUESTA\",(IF(H789<=J789,\"A TIEMPO\",\"FUERA DE TIEMPO\"))))","v":"A TIEMPO"},{"$f":"IF(H789=\"\",\"\",NETWORKDAYS(C789+1,H789,DiasNOLaborables))","v":11},{"$f":"IF(NETWORKDAYS(J789+1,H789,DiasNOLaborables)<=0,\"\",NETWORKDAYS(J789+1,H789,DiasNOLaborables))","v":""},null,null,{"$f":"IFERROR(VLOOKUP(E789,$X$51:$Y$64,2),\"\")","v":35}]
[779,20219050125002,"2021-10-28","CORREO ELECTRÓNICO","CERTIFICACIONES DE TIEMPO, CLIMA Y EVENTOS HIDROLÓGICOS","CERTIFICACIONES DE TIEMPO Y CLIMA","SUBDIRECCIÓN DE METEOROLOGÍA","2021-11-12","CORREO ELECTRÓNICO",{"$f":"IFERROR(WORKDAY(C790,P790,DiasNOLaborables),\"\")","v":"2021-12-21"},{"$f":"+IF(C790=\"\",\"\",IF(H790=\"\",\"SIN RESPUESTA\",(IF(H790<=J790,\"A TIEMPO\",\"FUERA DE TIEMPO\"))))","v":"A TIEMPO"},{"$f":"IF(H790=\"\",\"\",NETWORKDAYS(C790+1,H790,DiasNOLaborables))","v":10},{"$f":"IF(NETWORKDAYS(J790+1,H790,DiasNOLaborables)<=0,\"\",NETWORKDAYS(J790+1,H790,DiasNOLaborables))","v":""},null,null,{"$f":"IFERROR(VLOOKUP(E790,$X$51:$Y$64,2),\"\")","v":35}]
[780,20219050125012,"2021-10-28","CORREO ELECTRÓNICO","SOLICITUD DE INFORMACIÓN Y DOCUMENTOS","INFORMES AMBIENTALES","SUBDIRECCIÓN DE HIDROLOGÍA","2021-11-17","CORREO ELECTRÓNICO",{"$f":"IFERROR(WORKDAY(C791,P791,DiasNOLaborables),\"\")","v":"2021-11-29"},{"$f":"+IF(C791=\"\",\"\",IF(H791=\"\",\"SIN RESPUESTA\",(IF(H791<=J791,\"A TIEMPO\",\"FUERA DE TIEMPO\"))))","v":"A TIEMPO"},{"$f":"IF(H791=\"\",\"\",NETWORKDAYS(C791+1,H791,DiasNOLaborables))","v":12},{"$f":"IF(NETWORKDAYS(J791+1,H791,DiasNOLaborables)<=0,\"\",NETWORKDAYS(J791+1,H791,DiasNOLaborables))","v":""},null,null,{"$f":"IFERROR(VLOOKUP(E791,$X$51:$Y$64,2),\"\")","v":20}]
[781,20219050125062,"2021-10-28","CORREO ELECTRÓNICO","SOLICITUD DE INFORMACIÓN Y DOCUMENTOS","BOSQUES","SUBDIRECCIÓN DE ECOSISTEMAS E INFORMACIÓN AMBIENTAL","2021-11-04","CORREO ELECTRÓNICO",{"$f":"IFERROR(WORKDAY(C792,P792,DiasNOLaborables),\"\")","v":"2021-11-29"},{"$f":"+IF(C792=\"\",\"\",IF(H792=\"\",\"SIN RESPUESTA\",(IF(H792<=J792,\"A TIEMPO\",\"FUERA DE TIEMPO\"))))","v":"A TIEMPO"},{"$f":"IF(H792=\"\",\"\",NETWORKDAYS(C792+1,H792,DiasNOLaborables))","v":4},{"$f":"IF(NETWORKDAYS(J792+1,H792,DiasNOLaborables)<=0,\"\",NETWORKDAYS(J792+1,H792,DiasNOLaborables))","v":""},null,null,{"$f":"IFERROR(VLOOKUP(E792,$X$51:$Y$64,2),\"\")","v":20}]
[782,20219050125072,"2021-10-28","CORREO ELECTRÓNICO","CERTIFICACIONES DE TIEMPO, CLIMA Y EVENTOS HIDROLÓGICOS","CERTIFICACIONES DE TIEMPO Y CLIMA","SUBDIRECCIÓN DE METEOROLOGÍA","2021-11-22","CORREO ELECTRÓNICO",{"$f":"IFERROR(WORKDAY(C793,P793,DiasNOLaborables),\"\")","v":"2021-12-21"},{"$f":"+IF(C793=\"\",\"\",IF(H793=\"\",\"SIN RESPUESTA\",(IF(H793<=J793,\"A TIEMPO\",\"FUERA DE TIEMPO\"))))","v":"A TIEMPO"},{"$f":"IF(H793=\"\",\"\",NETWORKDAYS(C793+1,H793,DiasNOLaborables))","v":15},{"$f":"IF(NETWORKDAYS(J793+1,H793,DiasNOLaborables)<=0,\"\",NETWORKDAYS(J793+1,H793,DiasNOLaborables))","v":""},null,null,{"$f":"IFERROR(VLOOKUP(E793,$X$51:$Y$64,2),\"\")","v":35}]
[783,20219050124622,"2021-10-28","MODULO CONTACTENOS","CERTIFICACIONES DE TIEMPO, CLIMA Y EVENTOS HIDROLÓGICOS","CERTIFICACIONES DE TIEMPO Y CLIMA","SUBDIRECCIÓN DE METEOROLOGÍA","2021-11-19","CORREO ELECTRÓNICO",{"$f":"IFERROR(WORKDAY(C794,P794,DiasNOLaborables),\"\")","v":"2021-12-21"},{"$f":"+IF(C794=\"\",\"\",IF(H794=\"\",\"SIN RESPUESTA\",(IF(H794<=J794,\"A TIEMPO\",\"FUERA DE TIEMPO\"))))","v":"A TIEMPO"},{"$f":"IF(H794=\"\",\"\",NETWORKDAYS(C794+1,H794,DiasNOLaborables))","v":14},{"$f":"IF(NETWORKDAYS(J794+1,H794,DiasNOLaborables)<=0,\"\",NETWORKDAYS(J794+1,H794,DiasNOLaborables))","v":""},null,null,{"$f":"IFERROR(VLOOKUP(E794,$X$51:$Y$64,2),\"\")","v":35}]
[784,20219050124632,"2021-10-28","MODULO CONTACTENOS","SOLICITUD DE INFORMACIÓN Y DOCUMENTOS","ADMINISTRATIVA","GRUPO DE ADMINISTRACIÓN Y DESARROLLO DEL TALENTO HUMANO","2021-11-09","CORREO ELECTRÓNICO",{"$f":"IFERROR(WORKDAY(C795,P795,DiasNOLaborables),\"\")","v":"2021-11-29"},{"$f":"+IF(C795=\"\",\"\",IF(H795=\"\",\"SIN RESPUESTA\",(IF(H795<=J795,\"A TIEMPO\",\"FUERA DE TIEMPO\"))))","v":"A TIEMPO"},{"$f":"IF(H795=\"\",\"\",NETWORKDAYS(C795+1,H795,DiasNOLaborables))","v":7},{"$f":"IF(NETWORKDAYS(J795+1,H795,DiasNOLaborables)<=0,\"\",NETWORKDAYS(J795+1,H795,DiasNOLaborables))","v":""},null,null,{"$f":"IFERROR(VLOOKUP(E795,$X$51:$Y$64,2),\"\")","v":20}]
[785,20219050124802,"2021-10-28","MODULO CONTACTENOS","CERTIFICACIONES DE TIEMPO, CLIMA Y EVENTOS HIDROLÓGICOS","CERTIFICACIONES DE TIEMPO Y CLIMA","SUBDIRECCIÓN DE METEOROLOGÍA","2021-11-16","CORREO ELECTRÓNICO",{"$f":"IFERROR(WORKDAY(C796,P796,DiasNOLaborables),\"\")","v":"2021-12-21"},{"$f":"+IF(C796=\"\",\"\",IF(H796=\"\",\"SIN RESPUESTA\",(IF(H796<=J796,\"A TIEMPO\",\"FUERA DE TIEMPO\"))))","v":"A TIEMPO"},{"$f":"IF(H796=\"\",\"\",NETWORKDAYS(C796+1,H796,DiasNOLaborables))","v":11},{"$f":"IF(NETWORKDAYS(J796+1,H796,DiasNOLaborables)<=0,\"\",NETWORKDAYS(J796+1,H796,DiasNOLaborables))","v":""},null,null,{"$f":"IFERROR(VLOOKUP(E796,$X$51:$Y$64,2),\"\")","v":35}]
[786,20219050124822,"2021-10-28","MODULO CONTACTENOS","SOLICITUD DE INFORMACIÓN Y DOCUMENTOS","ADMINISTRATIVA","GRUPO DE ADMINISTRACIÓN Y DESARROLLO DEL TALENTO HUMANO","2021-10-28","CORREO ELECTRÓNICO",{"$f":"IFERROR(WORKDAY(C797,P797,DiasNOLaborables),\"\")","v":"2021-11-29"},{"$f":"+IF(C797=\"\",\"\",IF(H797=\"\",\"SIN RESPUESTA\",(IF(H797<=J797,\"A TIEMPO\",\"FUERA DE TIEMPO\"))))","v":"A TIEMPO"},{"$f":"IF(H797=\"\",\"\",NETWORKDAYS(C797+1,H797,DiasNOLaborables))","v":-2},{"$f":"IF(NETWORKDAYS(J797+1,H797,DiasNOLaborables)<=0,\"\",NETWORKDAYS(J797+1,H797,DiasNOLaborables))","v":""},null,null,{"$f":"IFERROR(VLOOKUP(E797,$X$51:$Y$64,2),\"\")","v":20}]
[787,20219050124902,"2021-10-28","MODULO CONTACTENOS","SOLICITUD DE INFORMACIÓN Y DOCUMENTOS","ADMINISTRATIVA","GRUPO DE ADMINISTRACIÓN Y DESARROLLO DEL TALENTO HUMANO","2021-10-28","CORREO ELECTRÓNICO",{"$f":"IFERROR(WORKDAY(C798,P798,DiasNOLaborables),\"\")","v":"2021-11-29"},{"$f":"+IF(C798=\"\",\"\",IF(H798=\"\",\"SIN RESPUESTA\",(IF(H798<=J798,\"A TIEMPO\",\"FUERA DE TIEMPO\"))))","v":"A TIEMPO"},{"$f":"IF(H798=\"\",\"\",NETWORKDAYS(C798+1,H798,DiasNOLaborables))","v":-2},{"$f":"IF(NETWORKDAYS(J798+1,H798,DiasNOLaborables)<=0,\"\",NETWORKDAYS(J798+1,H798,DiasNOLaborables))","v":""},null,null,{"$f":"IFERROR(VLOOKUP(E798,$X$51:$Y$64,2),\"\")","v":20}]
[788,20217080002282,"2021-10-28","CORREO CERTIFICADO","SOLICITUD DE INFORMACIÓN Y DOCUMENTOS","VISITAS ACADÉMICAS","GRUPO DE SERVICIO AL CIUDADANO ","2021-11-10","CORREO ELECTRÓNICO",{"$f":"IFERROR(WORKDAY(C799,P799,DiasNOLaborables),\"\")","v":"2021-11-29"},{"$f":"+IF(C799=\"\",\"\",IF(H799=\"\",\"SIN RESPUESTA\",(IF(H799<=J799,\"A TIEMPO\",\"FUERA DE TIEMPO\"))))","v":"A TIEMPO"},{"$f":"IF(H799=\"\",\"\",NETWORKDAYS(C799+1,H799,DiasNOLaborables))","v":8},{"$f":"IF(NETWORKDAYS(J799+1,H799,DiasNOLaborables)<=0,\"\",NETWORKDAYS(J799+1,H799,DiasNOLaborables))","v":""},null,null,{"$f":"IFERROR(VLOOKUP(E799,$X$51:$Y$64,2),\"\")","v":20}]
[789,20219050124942,"2021-10-28","MODULO CONTACTENOS","SOLICITUD DE INFORMACIÓN Y DOCUMENTOS","ADMINISTRATIVA","OFICINA ASESORA JURÍDICA","2021-11-08","CORREO ELECTRÓNICO",{"$f":"IFERROR(WORKDAY(C800,P800,DiasNOLaborables),\"\")","v":"2021-11-29"},{"$f":"+IF(C800=\"\",\"\",IF(H800=\"\",\"SIN RESPUESTA\",(IF(H800<=J800,\"A TIEMPO\",\"FUERA DE TIEMPO\"))))","v":"A TIEMPO"},{"$f":"IF(H800=\"\",\"\",NETWORKDAYS(C800+1,H800,DiasNOLaborables))","v":6},{"$f":"IF(NETWORKDAYS(J800+1,H800,DiasNOLaborables)<=0,\"\",NETWORKDAYS(J800+1,H800,DiasNOLaborables))","v":""},null,null,{"$f":"IFERROR(VLOOKUP(E800,$X$51:$Y$64,2),\"\")","v":20}]
[790,20219050124972,"2021-10-28","MODULO CONTACTENOS","SOLICITUD DE INFORMACIÓN Y DOCUMENTOS","CLIMATOLOGÍA","SUBDIRECCIÓN DE METEOROLOGÍA","2021-11-17","CORREO ELECTRÓNICO",{"$f":"IFERROR(WORKDAY(C801,P801,DiasNOLaborables),\"\")","v":"2021-11-29"},{"$f":"+IF(C801=\"\",\"\",IF(H801=\"\",\"SIN RESPUESTA\",(IF(H801<=J801,\"A TIEMPO\",\"FUERA DE TIEMPO\"))))","v":"A TIEMPO"},{"$f":"IF(H801=\"\",\"\",NETWORKDAYS(C801+1,H801,DiasNOLaborables))","v":12},{"$f":"IF(NETWORKDAYS(J801+1,H801,DiasNOLaborables)<=0,\"\",NETWORKDAYS(J801+1,H801,DiasNOLaborables))","v":""},null,null,{"$f":"IFERROR(VLOOKUP(E801,$X$51:$Y$64,2),\"\")","v":20}]
[791,20219050125082,"2021-10-28","MODULO CONTACTENOS","CERTIFICACIONES DE TIEMPO, CLIMA Y EVENTOS HIDROLÓGICOS","CERTIFICACIONES DE TIEMPO Y CLIMA","SUBDIRECCIÓN DE METEOROLOGÍA","2021-11-22","CORREO ELECTRÓNICO",{"$f":"IFERROR(WORKDAY(C802,P802,DiasNOLaborables),\"\")","v":"2021-12-21"},{"$f":"+IF(C802=\"\",\"\",IF(H802=\"\",\"SIN RESPUESTA\",(IF(H802<=J802,\"A TIEMPO\",\"FUERA DE TIEMPO\"))))","v":"A TIEMPO"},{"$f":"IF(H802=\"\",\"\",NETWORKDAYS(C802+1,H802,DiasNOLaborables))","v":15},{"$f":"IF(NETWORKDAYS(J802+1,H802,DiasNOLaborables)<=0,\"\",NETWORKDAYS(J802+1,H802,DiasNOLaborables))","v":""},null,null,{"$f":"IFERROR(VLOOKUP(E802,$X$51:$Y$64,2),\"\")","v":35}]
[792,20219910057892,"2021-10-28","CORREO ELECTRÓNICO","SOLICITUD DE INFORMACIÓN Y DOCUMENTOS","CAMBIO CLIMÁTICO","SUBDIRECCIÓN DE ESTUDIOS AMBIENTALES","2021-11-18","CORREO ELECTRÓNICO",{"$f":"IFERROR(WORKDAY(C803,P803,DiasNOLaborables),\"\")","v":"2021-11-29"},{"$f":"+IF(C803=\"\",\"\",IF(H803=\"\",\"SIN RESPUESTA\",(IF(H803<=J803,\"A TIEMPO\",\"FUERA DE TIEMPO\"))))","v":"A TIEMPO"},{"$f":"IF(H803=\"\",\"\",NETWORKDAYS(C803+1,H803,DiasNOLaborables))","v":13},{"$f":"IF(NETWORKDAYS(J803+1,H803,DiasNOLaborables)<=0,\"\",NETWORKDAYS(J803+1,H803,DiasNOLaborables))","v":""},null,null,{"$f":"IFERROR(VLOOKUP(E803,$X$51:$Y$64,2),\"\")","v":20}]
[793,20219910058012,"2021-10-28","CORREO ELECTRÓNICO","SOLICITUD DE INFORMACIÓN Y DOCUMENTOS","ADMINISTRATIVA","GRUPO DE SERVICIOS ADMINISTRATIVOS","2021-11-07","CORREO ELECTRÓNICO",{"$f":"IFERROR(WORKDAY(C804,P804,DiasNOLaborables),\"\")","v":"2021-11-29"},{"$f":"+IF(C804=\"\",\"\",IF(H804=\"\",\"SIN RESPUESTA\",(IF(H804<=J804,\"A TIEMPO\",\"FUERA DE TIEMPO\"))))","v":"A TIEMPO"},{"$f":"IF(H804=\"\",\"\",NETWORKDAYS(C804+1,H804,DiasNOLaborables))","v":5},{"$f":"IF(NETWORKDAYS(J804+1,H804,DiasNOLaborables)<=0,\"\",NETWORKDAYS(J804+1,H804,DiasNOLaborables))","v":""},null,null,{"$f":"IFERROR(VLOOKUP(E804,$X$51:$Y$64,2),\"\")","v":20}]
[794,20219910058332,"2021-10-29","CORREO CERTIFICADO","SOLICITUD DE INFORMACIÓN Y DOCUMENTOS","CLIMATOLOGÍA","SUBDIRECCIÓN DE METEOROLOGÍA","2021-11-17","CORREO ELECTRÓNICO",{"$f":"IFERROR(WORKDAY(C805,P805,DiasNOLaborables),\"\")","v":"2021-11-30"},{"$f":"+IF(C805=\"\",\"\",IF(H805=\"\",\"SIN RESPUESTA\",(IF(H805<=J805,\"A TIEMPO\",\"FUERA DE TIEMPO\"))))","v":"A TIEMPO"},{"$f":"IF(H805=\"\",\"\",NETWORKDAYS(C805+1,H805,DiasNOLaborables))","v":11},{"$f":"IF(NETWORKDAYS(J805+1,H805,DiasNOLaborables)<=0,\"\",NETWORKDAYS(J805+1,H805,DiasNOLaborables))","v":""},null,null,{"$f":"IFERROR(VLOOKUP(E805,$X$51:$Y$64,2),\"\")","v":20}]
[795,20219050125402,"2021-10-29","CORREO ELECTRÓNICO","SOLICITUD DE INFORMACIÓN Y DOCUMENTOS","SOLICITUD DE INFORMACIÓN HIDROMETEOROLÓGICA","GRUPO DE SERVICIO AL CIUDADANO ","2021-11-04","CORREO ELECTRÓNICO",{"$f":"IFERROR(WORKDAY(C806,P806,DiasNOLaborables),\"\")","v":"2021-11-30"},{"$f":"+IF(C806=\"\",\"\",IF(H806=\"\",\"SIN RESPUESTA\",(IF(H806<=J806,\"A TIEMPO\",\"FUERA DE TIEMPO\"))))","v":"A TIEMPO"},{"$f":"IF(H806=\"\",\"\",NETWORKDAYS(C806+1,H806,DiasNOLaborables))","v":3},{"$f":"IF(NETWORKDAYS(J806+1,H806,DiasNOLaborables)<=0,\"\",NETWORKDAYS(J806+1,H806,DiasNOLaborables))","v":""},null,null,{"$f":"IFERROR(VLOOKUP(E806,$X$51:$Y$64,2),\"\")","v":20}]
[796,20219050125172,"2021-10-29","MODULO CONTACTENOS","SOLICITUD DE INFORMACIÓN Y DOCUMENTOS","SOLICITUD DE INFORMACIÓN HIDROMETEOROLÓGICA","GRUPO DE SERVICIO AL CIUDADANO ","2021-10-25","CORREO ELECTRÓNICO",{"$f":"IFERROR(WORKDAY(C807,P807,DiasNOLaborables),\"\")","v":"2021-11-30"},{"$f":"+IF(C807=\"\",\"\",IF(H807=\"\",\"SIN RESPUESTA\",(IF(H807<=J807,\"A TIEMPO\",\"FUERA DE TIEMPO\"))))","v":"A TIEMPO"},{"$f":"IF(H807=\"\",\"\",NETWORKDAYS(C807+1,H807,DiasNOLaborables))","v":-5},{"$f":"IF(NETWORKDAYS(J807+1,H807,DiasNOLaborables)<=0,\"\",NETWORKDAYS(J807+1,H807,DiasNOLaborables))","v":""},null,null,{"$f":"IFERROR(VLOOKUP(E807,$X$51:$Y$64,2),\"\")","v":20}]
[797,20219050125212,"2021-10-29","MODULO CONTACTENOS","SOLICITUD DE INFORMACIÓN Y DOCUMENTOS","SOLICITUD DE INFORMACIÓN HIDROMETEOROLÓGICA","GRUPO DE SERVICIO AL CIUDADANO ","2021-10-25","CORREO ELECTRÓNICO",{"$f":"IFERROR(WORKDAY(C808,P808,DiasNOLaborables),\"\")","v":"2021-11-30"},{"$f":"+IF(C808=\"\",\"\",IF(H808=\"\",\"SIN RESPUESTA\",(IF(H808<=J808,\"A TIEMPO\",\"FUERA DE TIEMPO\"))))","v":"A TIEMPO"},{"$f":"IF(H808=\"\",\"\",NETWORKDAYS(C808+1,H808,DiasNOLaborables))","v":-5},{"$f":"IF(NETWORKDAYS(J808+1,H808,DiasNOLaborables)<=0,\"\",NETWORKDAYS(J808+1,H808,DiasNOLaborables))","v":""},null,null,{"$f":"IFERROR(VLOOKUP(E808,$X$51:$Y$64,2),\"\")","v":20}]
[798,20219050125262,"2021-10-29","MODULO CONTACTENOS","SOLICITUD DE INFORMACIÓN Y DOCUMENTOS","SOLICITUD DE INFORMACIÓN HIDROMETEOROLÓGICA","GRUPO DE SERVICIO AL CIUDADANO ","2021-10-25","CORREO ELECTRÓNICO",{"$f":"IFERROR(WORKDAY(C809,P809,DiasNOLaborables),\"\")","v":"2021-11-30"},{"$f":"+IF(C809=\"\",\"\",IF(H809=\"\",\"SIN RESPUESTA\",(IF(H809<=J809,\"A TIEMPO\",\"FUERA DE TIEMPO\"))))","v":"A TIEMPO"},{"$f":"IF(H809=\"\",\"\",NETWORKDAYS(C809+1,H809,DiasNOLaborables))","v":-5},{"$f":"IF(NETWORKDAYS(J809+1,H809,DiasNOLaborables)<=0,\"\",NETWORKDAYS(J809+1,H809,DiasNOLaborables))","v":""},null,null,{"$f":"IFERROR(VLOOKUP(E809,$X$51:$Y$64,2),\"\")","v":20}]
[799,20219050125292,"2021-10-29","MODULO CONTACTENOS","SOLICITUD DE INFORMACIÓN Y DOCUMENTOS","SOLICITUD DE INFORMACIÓN HIDROMETEOROLÓGICA","GRUPO DE SERVICIO AL CIUDADANO ","2021-10-25","CORREO ELECTRÓNICO",{"$f":"IFERROR(WORKDAY(C810,P810,DiasNOLaborables),\"\")","v":"2021-11-30"},{"$f":"+IF(C810=\"\",\"\",IF(H810=\"\",\"SIN RESPUESTA\",(IF(H810<=J810,\"A TIEMPO\",\"FUERA DE TIEMPO\"))))","v":"A TIEMPO"},{"$f":"IF(H810=\"\",\"\",NETWORKDAYS(C810+1,H810,DiasNOLaborables))","v":-5},{"$f":"IF(NETWORKDAYS(J810+1,H810,DiasNOLaborables)<=0,\"\",NETWORKDAYS(J810+1,H810,DiasNOLaborables))","v":""},null,null,{"$f":"IFERROR(VLOOKUP(E810,$X$51:$Y$64,2),\"\")","v":20}]
[800,20219050125302,"2021-10-29","MODULO CONTACTENOS","SOLICITUD DE INFORMACIÓN Y DOCUMENTOS","SOLICITUD DE INFORMACIÓN HIDROMETEOROLÓGICA","GRUPO DE SERVICIO AL CIUDADANO ","2021-10-25","CORREO ELECTRÓNICO",{"$f":"IFERROR(WORKDAY(C811,P811,DiasNOLaborables),\"\")","v":"2021-11-30"},{"$f":"+IF(C811=\"\",\"\",IF(H811=\"\",\"SIN RESPUESTA\",(IF(H811<=J811,\"A TIEMPO\",\"FUERA DE TIEMPO\"))))","v":"A TIEMPO"},{"$f":"IF(H811=\"\",\"\",NETWORKDAYS(C811+1,H811,DiasNOLaborables))","v":-5},{"$f":"IF(NETWORKDAYS(J811+1,H811,DiasNOLaborables)<=0,\"\",NETWORKDAYS(J811+1,H811,DiasNOLaborables))","v":""},null,null,{"$f":"IFERROR(VLOOKUP(E811,$X$51:$Y$64,2),\"\")","v":20}]
[801,20219050125312,"2021-10-29","MODULO CONTACTENOS","SOLICITUD DE INFORMACIÓN Y DOCUMENTOS","SOLICITUD DE INFORMACIÓN HIDROMETEOROLÓGICA","GRUPO DE SERVICIO AL CIUDADANO ","2021-10-25","CORREO ELECTRÓNICO",{"$f":"IFERROR(WORKDAY(C812,P812,DiasNOLaborables),\"\")","v":"2021-11-30"},{"$f":"+IF(C812=\"\",\"\",IF(H812=\"\",\"SIN RESPUESTA\",(IF(H812<=J812,\"A TIEMPO\",\"FUERA DE TIEMPO\"))))","v":"A TIEMPO"},{"$f":"IF(H812=\"\",\"\",NETWORKDAYS(C812+1,H812,DiasNOLaborables))","v":-5},{"$f":"IF(NETWORKDAYS(J812+1,H812,DiasNOLaborables)<=0,\"\",NETWORKDAYS(J812+1,H812,DiasNOLaborables))","v":""},null,null,{"$f":"IFERROR(VLOOKUP(E812,$X$51:$Y$64,2),\"\")","v":20}]
[802,20219050125352,"2021-10-29","MODULO CONTACTENOS","SOLICITUD DE INFORMACIÓN Y DOCUMENTOS","SOLICITUD DE INFORMACIÓN HIDROMETEOROLÓGICA","GRUPO DE SERVICIO AL CIUDADANO ","2021-10-25","CORREO ELECTRÓNICO",{"$f":"IFERROR(WORKDAY(C813,P813,DiasNOLaborables),\"\")","v":"2021-11-30"},{"$f":"+IF(C813=\"\",\"\",IF(H813=\"\",\"SIN RESPUESTA\",(IF(H813<=J813,\"A TIEMPO\",\"FUERA DE TIEMPO\"))))","v":"A TIEMPO"},{"$f":"IF(H813=\"\",\"\",NETWORKDAYS(C813+1,H813,DiasNOLaborables))","v":-5},{"$f":"IF(NETWORKDAYS(J813+1,H813,DiasNOLaborables)<=0,\"\",NETWORKDAYS(J813+1,H813,DiasNOLaborables))","v":""},null,null,{"$f":"IFERROR(VLOOKUP(E813,$X$51:$Y$64,2),\"\")","v":20}]
[803,20219050125372,"2021-10-29","MODULO CONTACTENOS","SOLICITUD DE INFORMACIÓN Y DOCUMENTOS","SOLICITUD DE INFORMACIÓN HIDROMETEOROLÓGICA","GRUPO DE SERVICIO AL CIUDADANO ","2021-10-25","CORREO ELECTRÓNICO",{"$f":"IFERROR(WORKDAY(C814,P814,DiasNOLaborables),\"\")","v":"2021-11-30"},{"$f":"+IF(C814=\"\",\"\",IF(H814=\"\",\"SIN RESPUESTA\",(IF(H814<=J814,\"A TIEMPO\",\"FUERA DE TIEMPO\"))))","v":"A TIEMPO"},{"$f":"IF(H814=\"\",\"\",NETWORKDAYS(C814+1,H814,DiasNOLaborables))","v":-5},{"$f":"IF(NETWORKDAYS(J814+1,H814,DiasNOLaborables)<=0,\"\",NETWORKDAYS(J814+1,H814,DiasNOLaborables))","v":""},null,null,{"$f":"IFERROR(VLOOKUP(E814,$X$51:$Y$64,2),\"\")","v":20}]
[804,20219050125432,"2021-10-29","MODULO CONTACTENOS","SOLICITUD DE INFORMACIÓN Y DOCUMENTOS","SOLICITUD DE INFORMACIÓN HIDROMETEOROLÓGICA","GRUPO DE SERVICIO AL CIUDADANO ","2021-10-25","CORREO ELECTRÓNICO",{"$f":"IFERROR(WORKDAY(C815,P815,DiasNOLaborables),\"\")","v":"2021-11-30"},{"$f":"+IF(C815=\"\",\"\",IF(H815=\"\",\"SIN RESPUESTA\",(IF(H815<=J815,\"A TIEMPO\",\"FUERA DE TIEMPO\"))))","v":"A TIEMPO"},{"$f":"IF(H815=\"\",\"\",NETWORKDAYS(C815+1,H815,DiasNOLaborables))","v":-5},{"$f":"IF(NETWORKDAYS(J815+1,H815,DiasNOLaborables)<=0,\"\",NETWORKDAYS(J815+1,H815,DiasNOLaborables))","v":""},null,null,{"$f":"IFERROR(VLOOKUP(E815,$X$51:$Y$64,2),\"\")","v":20}]
[805,20219050125382,"2021-10-29","MODULO CONTACTENOS","SOLICITUD DE INFORMACIÓN Y DOCUMENTOS","SOLICITUD DE INFORMACIÓN HIDROMETEOROLÓGICA","GRUPO DE SERVICIO AL CIUDADANO ","2021-10-25","CORREO ELECTRÓNICO",{"$f":"IFERROR(WORKDAY(C816,P816,DiasNOLaborables),\"\")","v":"2021-11-30"},{"$f":"+IF(C816=\"\",\"\",IF(H816=\"\",\"SIN RESPUESTA\",(IF(H816<=J816,\"A TIEMPO\",\"FUERA DE TIEMPO\"))))","v":"A TIEMPO"},{"$f":"IF(H816=\"\",\"\",NETWORKDAYS(C816+1,H816,DiasNOLaborables))","v":-5},{"$f":"IF(NETWORKDAYS(J816+1,H816,DiasNOLaborables)<=0,\"\",NETWORKDAYS(J816+1,H816,DiasNOLaborables))","v":""},null,null,{"$f":"IFERROR(VLOOKUP(E816,$X$51:$Y$64,2),\"\")","v":20}]
[806,20219050125412,"2021-10-29","MODULO CONTACTENOS","SOLICITUD DE INFORMACIÓN Y DOCUMENTOS","SOLICITUD DE INFORMACIÓN HIDROMETEOROLÓGICA","GRUPO DE SERVICIO AL CIUDADANO ","2021-10-25","CORREO ELECTRÓNICO",{"$f":"IFERROR(WORKDAY(C817,P817,DiasNOLaborables),\"\")","v":"2021-11-30"},{"$f":"+IF(C817=\"\",\"\",IF(H817=\"\",\"SIN RESPUESTA\",(IF(H817<=J817,\"A TIEMPO\",\"FUERA DE TIEMPO\"))))","v":"A TIEMPO"},{"$f":"IF(H817=\"\",\"\",NETWORKDAYS(C817+1,H817,DiasNOLaborables))","v":-5},{"$f":"IF(NETWORKDAYS(J817+1,H817,DiasNOLaborables)<=0,\"\",NETWORKDAYS(J817+1,H817,DiasNOLaborables))","v":""},null,null,{"$f":"IFERROR(VLOOKUP(E817,$X$51:$Y$64,2),\"\")","v":20}]
[807,20219050125422,"2021-10-29","MODULO CONTACTENOS","SOLICITUD DE INFORMACIÓN Y DOCUMENTOS","SOLICITUD DE INFORMACIÓN HIDROMETEOROLÓGICA","GRUPO DE SERVICIO AL CIUDADANO ","2021-10-25","CORREO ELECTRÓNICO",{"$f":"IFERROR(WORKDAY(C818,P818,DiasNOLaborables),\"\")","v":"2021-11-30"},{"$f":"+IF(C818=\"\",\"\",IF(H818=\"\",\"SIN RESPUESTA\",(IF(H818<=J818,\"A TIEMPO\",\"FUERA DE TIEMPO\"))))","v":"A TIEMPO"},{"$f":"IF(H818=\"\",\"\",NETWORKDAYS(C818+1,H818,DiasNOLaborables))","v":-5},{"$f":"IF(NETWORKDAYS(J818+1,H818,DiasNOLaborables)<=0,\"\",NETWORKDAYS(J818+1,H818,DiasNOLaborables))","v":""},null,null,{"$f":"IFERROR(VLOOKUP(E818,$X$51:$Y$64,2),\"\")","v":20}]
[808,20219050125462,"2021-10-29","MODULO CONTACTENOS","SOLICITUD DE INFORMACIÓN Y DOCUMENTOS","SOLICITUD DE INFORMACIÓN HIDROMETEOROLÓGICA","GRUPO DE SERVICIO AL CIUDADANO ","2021-10-25","CORREO ELECTRÓNICO",{"$f":"IFERROR(WORKDAY(C819,P819,DiasNOLaborables),\"\")","v":"2021-11-30"},{"$f":"+IF(C819=\"\",\"\",IF(H819=\"\",\"SIN RESPUESTA\",(IF(H819<=J819,\"A TIEMPO\",\"FUERA DE TIEMPO\"))))","v":"A TIEMPO"},{"$f":"IF(H819=\"\",\"\",NETWORKDAYS(C819+1,H819,DiasNOLaborables))","v":-5},{"$f":"IF(NETWORKDAYS(J819+1,H819,DiasNOLaborables)<=0,\"\",NETWORKDAYS(J819+1,H819,DiasNOLaborables))","v":""},null,null,{"$f":"IFERROR(VLOOKUP(E819,$X$51:$Y$64,2),\"\")","v":20}]
[809,20219050125182,"2021-10-29","CORREO ELECTRÓNICO","SOLICITUD DE INFORMACIÓN Y DOCUMENTOS","INFORMES AMBIENTALES","SUBDIRECCIÓN DE HIDROLOGÍA","2021-11-16","CORREO ELECTRÓNICO",{"$f":"IFERROR(WORKDAY(C820,P820,DiasNOLaborables),\"\")","v":"2021-11-30"},{"$f":"+IF(C820=\"\",\"\",IF(H820=\"\",\"SIN RESPUESTA\",(IF(H820<=J820,\"A TIEMPO\",\"FUERA DE TIEMPO\"))))","v":"A TIEMPO"},{"$f":"IF(H820=\"\",\"\",NETWORKDAYS(C820+1,H820,DiasNOLaborables))","v":10},{"$f":"IF(NETWORKDAYS(J820+1,H820,DiasNOLaborables)<=0,\"\",NETWORKDAYS(J820+1,H820,DiasNOLaborables))","v":""},null,null,{"$f":"IFERROR(VLOOKUP(E820,$X$51:$Y$64,2),\"\")","v":20}]
[810,20219050125192,"2021-10-29","CORREO ELECTRÓNICO","SOLICITUD DE INFORMACIÓN Y DOCUMENTOS","INFORMES AMBIENTALES","SUBDIRECCIÓN DE ESTUDIOS AMBIENTALES",null,null,{"$f":"IFERROR(WORKDAY(C821,P821,DiasNOLaborables),\"\")","v":"2021-11-30"},{"$f":"+IF(C821=\"\",\"\",IF(H821=\"\",\"SIN RESPUESTA\",(IF(H821<=J821,\"A TIEMPO\",\"FUERA DE TIEMPO\"))))","v":"SIN RESPUESTA"},{"$f":"IF(H821=\"\",\"\",NETWORKDAYS(C821+1,H821,DiasNOLaborables))","v":""},{"$f":"IF(NETWORKDAYS(J821+1,H821,DiasNOLaborables)<=0,\"\",NETWORKDAYS(J821+1,H821,DiasNOLaborables))","v":""},null,null,{"$f":"IFERROR(VLOOKUP(E821,$X$51:$Y$64,2),\"\")","v":20}]
[811,20219050125222,"2021-10-29","CORREO ELECTRÓNICO","CERTIFICACIONES DE TIEMPO, CLIMA Y EVENTOS HIDROLÓGICOS","CERTIFICACIONES DE TIEMPO Y CLIMA","SUBDIRECCIÓN DE METEOROLOGÍA","2021-11-16","CORREO ELECTRÓNICO",{"$f":"IFERROR(WORKDAY(C822,P822,DiasNOLaborables),\"\")","v":"2021-12-22"},{"$f":"+IF(C822=\"\",\"\",IF(H822=\"\",\"SIN RESPUESTA\",(IF(H822<=J822,\"A TIEMPO\",\"FUERA DE TIEMPO\"))))","v":"A TIEMPO"},{"$f":"IF(H822=\"\",\"\",NETWORKDAYS(C822+1,H822,DiasNOLaborables))","v":10},{"$f":"IF(NETWORKDAYS(J822+1,H822,DiasNOLaborables)<=0,\"\",NETWORKDAYS(J822+1,H822,DiasNOLaborables))","v":""},null,null,{"$f":"IFERROR(VLOOKUP(E822,$X$51:$Y$64,2),\"\")","v":35}]
[812,20219050125252,"2021-10-29","CORREO ELECTRÓNICO","SOLICITUD DE INFORMACIÓN Y DOCUMENTOS","ADMINISTRATIVA","GRUPO DE ADMINISTRACIÓN Y DESARROLLO DEL TALENTO HUMANO","2021-11-08","CORREO ELECTRÓNICO",{"$f":"IFERROR(WORKDAY(C823,P823,DiasNOLaborables),\"\")","v":"2021-11-30"},{"$f":"+IF(C823=\"\",\"\",IF(H823=\"\",\"SIN RESPUESTA\",(IF(H823<=J823,\"A TIEMPO\",\"FUERA DE TIEMPO\"))))","v":"A TIEMPO"},{"$f":"IF(H823=\"\",\"\",NETWORKDAYS(C823+1,H823,DiasNOLaborables))","v":5},{"$f":"IF(NETWORKDAYS(J823+1,H823,DiasNOLaborables)<=0,\"\",NETWORKDAYS(J823+1,H823,DiasNOLaborables))","v":""},null,null,{"$f":"IFERROR(VLOOKUP(E823,$X$51:$Y$64,2),\"\")","v":20}]
[813,20219050125272,"2021-10-29","CORREO ELECTRÓNICO","CERTIFICACIONES DE TIEMPO, CLIMA Y EVENTOS HIDROLÓGICOS","CERTIFICACIONES DE TIEMPO Y CLIMA","SUBDIRECCIÓN DE METEOROLOGÍA","2021-11-16","CORREO ELECTRÓNICO",{"$f":"IFERROR(WORKDAY(C824,P824,DiasNOLaborables),\"\")","v":"2021-12-22"},{"$f":"+IF(C824=\"\",\"\",IF(H824=\"\",\"SIN RESPUESTA\",(IF(H824<=J824,\"A TIEMPO\",\"FUERA DE TIEMPO\"))))","v":"A TIEMPO"},{"$f":"IF(H824=\"\",\"\",NETWORKDAYS(C824+1,H824,DiasNOLaborables))","v":10},{"$f":"IF(NETWORKDAYS(J824+1,H824,DiasNOLaborables)<=0,\"\",NETWORKDAYS(J824+1,H824,DiasNOLaborables))","v":""},null,null,{"$f":"IFERROR(VLOOKUP(E824,$X$51:$Y$64,2),\"\")","v":35}]
[814,20219050125282,"2021-10-29","CORREO ELECTRÓNICO","SOLICITUD DE INFORMACIÓN Y DOCUMENTOS","OPERACIÓN DE REDES","SUBDIRECCIÓN DE HIDROLOGÍA","2021-11-13","CORREO ELECTRÓNICO",{"$f":"IFERROR(WORKDAY(C825,P825,DiasNOLaborables),\"\")","v":"2021-11-30"},{"$f":"+IF(C825=\"\",\"\",IF(H825=\"\",\"SIN RESPUESTA\",(IF(H825<=J825,\"A TIEMPO\",\"FUERA DE TIEMPO\"))))","v":"A TIEMPO"},{"$f":"IF(H825=\"\",\"\",NETWORKDAYS(C825+1,H825,DiasNOLaborables))","v":9},{"$f":"IF(NETWORKDAYS(J825+1,H825,DiasNOLaborables)<=0,\"\",NETWORKDAYS(J825+1,H825,DiasNOLaborables))","v":""},null,null,{"$f":"IFERROR(VLOOKUP(E825,$X$51:$Y$64,2),\"\")","v":20}]
[815,20219050125322,"2021-10-29","CORREO ELECTRÓNICO","SOLICITUD DE INFORMACIÓN Y DOCUMENTOS","BOSQUES","SUBDIRECCIÓN DE ECOSISTEMAS E INFORMACIÓN AMBIENTAL","2021-11-18","CORREO ELECTRÓNICO",{"$f":"IFERROR(WORKDAY(C826,P826,DiasNOLaborables),\"\")","v":"2021-11-30"},{"$f":"+IF(C826=\"\",\"\",IF(H826=\"\",\"SIN RESPUESTA\",(IF(H826<=J826,\"A TIEMPO\",\"FUERA DE TIEMPO\"))))","v":"A TIEMPO"},{"$f":"IF(H826=\"\",\"\",NETWORKDAYS(C826+1,H826,DiasNOLaborables))","v":12},{"$f":"IF(NETWORKDAYS(J826+1,H826,DiasNOLaborables)<=0,\"\",NETWORKDAYS(J826+1,H826,DiasNOLaborables))","v":""},null,null,{"$f":"IFERROR(VLOOKUP(E826,$X$51:$Y$64,2),\"\")","v":20}]
[816,20219050125362,"2021-10-29","CORREO ELECTRÓNICO","SOLICITUD DE INFORMACIÓN Y DOCUMENTOS","BOSQUES","SUBDIRECCIÓN DE ECOSISTEMAS E INFORMACIÓN AMBIENTAL","2021-11-10","CORREO ELECTRÓNICO",{"$f":"IFERROR(WORKDAY(C827,P827,DiasNOLaborables),\"\")","v":"2021-11-30"},{"$f":"+IF(C827=\"\",\"\",IF(H827=\"\",\"SIN RESPUESTA\",(IF(H827<=J827,\"A TIEMPO\",\"FUERA DE TIEMPO\"))))","v":"A TIEMPO"},{"$f":"IF(H827=\"\",\"\",NETWORKDAYS(C827+1,H827,DiasNOLaborables))","v":7},{"$f":"IF(NETWORKDAYS(J827+1,H827,DiasNOLaborables)<=0,\"\",NETWORKDAYS(J827+1,H827,DiasNOLaborables))","v":""},null,null,{"$f":"IFERROR(VLOOKUP(E827,$X$51:$Y$64,2),\"\")","v":20}]
[817,20219050125392,"2021-10-29","CORREO ELECTRÓNICO","SOLICITUD DE INFORMACIÓN Y DOCUMENTOS","ADMINISTRATIVA","GRUPO DE ADMINISTRACIÓN Y DESARROLLO DEL TALENTO HUMANO","2021-11-05","CORREO ELECTRÓNICO",{"$f":"IFERROR(WORKDAY(C828,P828,DiasNOLaborables),\"\")","v":"2021-11-30"},{"$f":"+IF(C828=\"\",\"\",IF(H828=\"\",\"SIN RESPUESTA\",(IF(H828<=J828,\"A TIEMPO\",\"FUERA DE TIEMPO\"))))","v":"A TIEMPO"},{"$f":"IF(H828=\"\",\"\",NETWORKDAYS(C828+1,H828,DiasNOLaborables))","v":4},{"$f":"IF(NETWORKDAYS(J828+1,H828,DiasNOLaborables)<=0,\"\",NETWORKDAYS(J828+1,H828,DiasNOLaborables))","v":""},null,null,{"$f":"IFERROR(VLOOKUP(E828,$X$51:$Y$64,2),\"\")","v":20}]
[818,20219050125162,"2021-10-29","MODULO CONTACTENOS","SOLICITUD DE INFORMACIÓN Y DOCUMENTOS","ADMINISTRATIVA","GRUPO DE ADMINISTRACIÓN Y DESARROLLO DEL TALENTO HUMANO","2021-11-10","CORREO ELECTRÓNICO",{"$f":"IFERROR(WORKDAY(C829,P829,DiasNOLaborables),\"\")","v":"2021-11-30"},{"$f":"+IF(C829=\"\",\"\",IF(H829=\"\",\"SIN RESPUESTA\",(IF(H829<=J829,\"A TIEMPO\",\"FUERA DE TIEMPO\"))))","v":"A TIEMPO"},{"$f":"IF(H829=\"\",\"\",NETWORKDAYS(C829+1,H829,DiasNOLaborables))","v":7},{"$f":"IF(NETWORKDAYS(J829+1,H829,DiasNOLaborables)<=0,\"\",NETWORKDAYS(J829+1,H829,DiasNOLaborables))","v":""},null,null,{"$f":"IFERROR(VLOOKUP(E829,$X$51:$Y$64,2),\"\")","v":20}]
[819,20219050125492,"2021-10-31","MODULO CONTACTENOS","SOLICITUD DE INFORMACIÓN Y DOCUMENTOS","SOLICITUD DE INFORMACIÓN HIDROMETEOROLÓGICA","GRUPO DE SERVICIO AL CIUDADANO ","2021-10-25","CORREO ELECTRÓNICO",{"$f":"IFERROR(WORKDAY(C830,P830,DiasNOLaborables),\"\")","v":"2021-11-30"},{"$f":"+IF(C830=\"\",\"\",IF(H830=\"\",\"SIN RESPUESTA\",(IF(H830<=J830,\"A TIEMPO\",\"FUERA DE TIEMPO\"))))","v":"A TIEMPO"},{"$f":"IF(H830=\"\",\"\",NETWORKDAYS(C830+1,H830,DiasNOLaborables))","v":-5},{"$f":"IF(NETWORKDAYS(J830+1,H830,DiasNOLaborables)<=0,\"\",NETWORKDAYS(J830+1,H830,DiasNOLaborables))","v":""},null,null,{"$f":"IFERROR(VLOOKUP(E830,$X$51:$Y$64,2),\"\")","v":20}]
[820,20219050125442,"2021-10-31","MODULO CONTACTENOS","SOLICITUD JUDICIAL","CERTIFICACIONES DE TIEMPO Y CLIMA","SUBDIRECCIÓN DE METEOROLOGÍA","2021-11-04","CORREO ELECTRÓNICO",{"$f":"IFERROR(WORKDAY(C831,P831,DiasNOLaborables),\"\")","v":"2021-11-08"},{"$f":"+IF(C831=\"\",\"\",IF(H831=\"\",\"SIN RESPUESTA\",(IF(H831<=J831,\"A TIEMPO\",\"FUERA DE TIEMPO\"))))","v":"A TIEMPO"},{"$f":"IF(H831=\"\",\"\",NETWORKDAYS(C831+1,H831,DiasNOLaborables))","v":3},{"$f":"IF(NETWORKDAYS(J831+1,H831,DiasNOLaborables)<=0,\"\",NETWORKDAYS(J831+1,H831,DiasNOLaborables))","v":""},null,null,{"$f":"IFERROR(VLOOKUP(E831,$X$51:$Y$64,2),\"\")","v":5}]
[821,20219050125612,"2021-11-01","MODULO CONTACTENOS","SOLICITUD DE INFORMACIÓN Y DOCUMENTOS","ADMINISTRATIVA","GRUPO DE ADMINISTRACIÓN Y DESARROLLO DEL TALENTO HUMANO","2021-11-26","CORREO ELECTRÓNICO",{"$f":"IFERROR(WORKDAY(C832,P832,DiasNOLaborables),\"\")","v":"2021-11-30"},{"$f":"+IF(C832=\"\",\"\",IF(H832=\"\",\"SIN RESPUESTA\",(IF(H832<=J832,\"A TIEMPO\",\"FUERA DE TIEMPO\"))))","v":"A TIEMPO"},{"$f":"IF(H832=\"\",\"\",NETWORKDAYS(C832+1,H832,DiasNOLaborables))","v":18},{"$f":"IF(NETWORKDAYS(J832+1,H832,DiasNOLaborables)<=0,\"\",NETWORKDAYS(J832+1,H832,DiasNOLaborables))","v":""},null,null,{"$f":"IFERROR(VLOOKUP(E832,$X$51:$Y$64,2),\"\")","v":20}]
[822,20219050125522,"2021-11-01","MODULO CONTACTENOS","SOLICITUD DE INFORMACIÓN Y DOCUMENTOS","SOLICITUD DE INFORMACIÓN HIDROMETEOROLÓGICA","GRUPO DE SERVICIO AL CIUDADANO ","2021-10-25","CORREO ELECTRÓNICO",{"$f":"IFERROR(WORKDAY(C833,P833,DiasNOLaborables),\"\")","v":"2021-11-30"},{"$f":"+IF(C833=\"\",\"\",IF(H833=\"\",\"SIN RESPUESTA\",(IF(H833<=J833,\"A TIEMPO\",\"FUERA DE TIEMPO\"))))","v":"A TIEMPO"},{"$f":"IF(H833=\"\",\"\",NETWORKDAYS(C833+1,H833,DiasNOLaborables))","v":-6},{"$f":"IF(NETWORKDAYS(J833+1,H833,DiasNOLaborables)<=0,\"\",NETWORKDAYS(J833+1,H833,DiasNOLaborables))","v":""},null,null,{"$f":"IFERROR(VLOOKUP(E833,$X$51:$Y$64,2),\"\")","v":20}]
[823,20219050125532,"2021-11-01","MODULO CONTACTENOS","SOLICITUD DE INFORMACIÓN Y DOCUMENTOS","SOLICITUD DE INFORMACIÓN HIDROMETEOROLÓGICA","GRUPO DE SERVICIO AL CIUDADANO ","2021-10-25","CORREO ELECTRÓNICO",{"$f":"IFERROR(WORKDAY(C834,P834,DiasNOLaborables),\"\")","v":"2021-11-30"},{"$f":"+IF(C834=\"\",\"\",IF(H834=\"\",\"SIN RESPUESTA\",(IF(H834<=J834,\"A TIEMPO\",\"FUERA DE TIEMPO\"))))","v":"A TIEMPO"},{"$f":"IF(H834=\"\",\"\",NETWORKDAYS(C834+1,H834,DiasNOLaborables))","v":-6},{"$f":"IF(NETWORKDAYS(J834+1,H834,DiasNOLaborables)<=0,\"\",NETWORKDAYS(J834+1,H834,DiasNOLaborables))","v":""},null,null,{"$f":"IFERROR(VLOOKUP(E834,$X$51:$Y$64,2),\"\")","v":20}]
[824,20219050125552,"2021-11-01","MODULO CONTACTENOS","SOLICITUD DE INFORMACIÓN Y DOCUMENTOS","SOLICITUD DE INFORMACIÓN HIDROMETEOROLÓGICA","GRUPO DE SERVICIO AL CIUDADANO ","2021-10-25","CORREO ELECTRÓNICO",{"$f":"IFERROR(WORKDAY(C835,P835,DiasNOLaborables),\"\")","v":"2021-11-30"},{"$f":"+IF(C835=\"\",\"\",IF(H835=\"\",\"SIN RESPUESTA\",(IF(H835<=J835,\"A TIEMPO\",\"FUERA DE TIEMPO\"))))","v":"A TIEMPO"},{"$f":"IF(H835=\"\",\"\",NETWORKDAYS(C835+1,H835,DiasNOLaborables))","v":-6},{"$f":"IF(NETWORKDAYS(J835+1,H835,DiasNOLaborables)<=0,\"\",NETWORKDAYS(J835+1,H835,DiasNOLaborables))","v":""},null,null,{"$f":"IFERROR(VLOOKUP(E835,$X$51:$Y$64,2),\"\")","v":20}]
[825,20219050125602,"2021-11-01","MODULO CONTACTENOS","SOLICITUD DE INFORMACIÓN Y DOCUMENTOS","SOLICITUD DE INFORMACIÓN HIDROMETEOROLÓGICA","GRUPO DE SERVICIO AL CIUDADANO ","2021-10-25","CORREO ELECTRÓNICO",{"$f":"IFERROR(WORKDAY(C836,P836,DiasNOLaborables),\"\")","v":"2021-11-30"},{"$f":"+IF(C836=\"\",\"\",IF(H836=\"\",\"SIN RESPUESTA\",(IF(H836<=J836,\"A TIEMPO\",\"FUERA DE TIEMPO\"))))","v":"A TIEMPO"},{"$f":"IF(H836=\"\",\"\",NETWORKDAYS(C836+1,H836,DiasNOLaborables))","v":-6},{"$f":"IF(NETWORKDAYS(J836+1,H836,DiasNOLaborables)<=0,\"\",NETWORKDAYS(J836+1,H836,DiasNOLaborables))","v":""},null,null,{"$f":"IFERROR(VLOOKUP(E836,$X$51:$Y$64,2),\"\")","v":20}]
[826,20219050125632,"2021-11-02","MODULO CONTACTENOS","SOLICITUD DE INFORMACIÓN Y DOCUMENTOS","SOLICITUD DE INFORMACIÓN HIDROMETEOROLÓGICA","GRUPO DE SERVICIO AL CIUDADANO ","2021-10-26","CORREO ELECTRÓNICO",{"$f":"IFERROR(WORKDAY(C837,P837,DiasNOLaborables),\"\")","v":"2021-12-01"},{"$f":"+IF(C837=\"\",\"\",IF(H837=\"\",\"SIN RESPUESTA\",(IF(H837<=J837,\"A TIEMPO\",\"FUERA DE TIEMPO\"))))","v":"A TIEMPO"},{"$f":"IF(H837=\"\",\"\",NETWORKDAYS(C837+1,H837,DiasNOLaborables))","v":-6},{"$f":"IF(NETWORKDAYS(J837+1,H837,DiasNOLaborables)<=0,\"\",NETWORKDAYS(J837+1,H837,DiasNOLaborables))","v":""},null,null,{"$f":"IFERROR(VLOOKUP(E837,$X$51:$Y$64,2),\"\")","v":20}]
[827,20219050125642,"2021-11-02","MODULO CONTACTENOS","SOLICITUD DE INFORMACIÓN Y DOCUMENTOS","SOLICITUD DE INFORMACIÓN HIDROMETEOROLÓGICA","GRUPO DE SERVICIO AL CIUDADANO ","2021-10-26","CORREO ELECTRÓNICO",{"$f":"IFERROR(WORKDAY(C838,P838,DiasNOLaborables),\"\")","v":"2021-12-01"},{"$f":"+IF(C838=\"\",\"\",IF(H838=\"\",\"SIN RESPUESTA\",(IF(H838<=J838,\"A TIEMPO\",\"FUERA DE TIEMPO\"))))","v":"A TIEMPO"},{"$f":"IF(H838=\"\",\"\",NETWORKDAYS(C838+1,H838,DiasNOLaborables))","v":-6},{"$f":"IF(NETWORKDAYS(J838+1,H838,DiasNOLaborables)<=0,\"\",NETWORKDAYS(J838+1,H838,DiasNOLaborables))","v":""},null,null,{"$f":"IFERROR(VLOOKUP(E838,$X$51:$Y$64,2),\"\")","v":20}]
[828,20219050125652,"2021-11-02","MODULO CONTACTENOS","SOLICITUD DE INFORMACIÓN Y DOCUMENTOS","SOLICITUD DE INFORMACIÓN HIDROMETEOROLÓGICA","GRUPO DE SERVICIO AL CIUDADANO ","2021-10-26","CORREO ELECTRÓNICO",{"$f":"IFERROR(WORKDAY(C839,P839,DiasNOLaborables),\"\")","v":"2021-12-01"},{"$f":"+IF(C839=\"\",\"\",IF(H839=\"\",\"SIN RESPUESTA\",(IF(H839<=J839,\"A TIEMPO\",\"FUERA DE TIEMPO\"))))","v":"A TIEMPO"},{"$f":"IF(H839=\"\",\"\",NETWORKDAYS(C839+1,H839,DiasNOLaborables))","v":-6},{"$f":"IF(NETWORKDAYS(J839+1,H839,DiasNOLaborables)<=0,\"\",NETWORKDAYS(J839+1,H839,DiasNOLaborables))","v":""},null,null,{"$f":"IFERROR(VLOOKUP(E839,$X$51:$Y$64,2),\"\")","v":20}]
[829,20219050125722,"2021-11-02","MODULO CONTACTENOS","SOLICITUD DE INFORMACIÓN Y DOCUMENTOS","SOLICITUD DE INFORMACIÓN HIDROMETEOROLÓGICA","GRUPO DE SERVICIO AL CIUDADANO ","2021-10-26","CORREO ELECTRÓNICO",{"$f":"IFERROR(WORKDAY(C840,P840,DiasNOLaborables),\"\")","v":"2021-12-01"},{"$f":"+IF(C840=\"\",\"\",IF(H840=\"\",\"SIN RESPUESTA\",(IF(H840<=J840,\"A TIEMPO\",\"FUERA DE TIEMPO\"))))","v":"A TIEMPO"},{"$f":"IF(H840=\"\",\"\",NETWORKDAYS(C840+1,H840,DiasNOLaborables))","v":-6},{"$f":"IF(NETWORKDAYS(J840+1,H840,DiasNOLaborables)<=0,\"\",NETWORKDAYS(J840+1,H840,DiasNOLaborables))","v":""},null,null,{"$f":"IFERROR(VLOOKUP(E840,$X$51:$Y$64,2),\"\")","v":20}]
[830,20219050125732,"2021-11-02","MODULO CONTACTENOS","SOLICITUD DE INFORMACIÓN Y DOCUMENTOS","SOLICITUD DE INFORMACIÓN HIDROMETEOROLÓGICA","GRUPO DE SERVICIO AL CIUDADANO ","2021-10-26","CORREO ELECTRÓNICO",{"$f":"IFERROR(WORKDAY(C841,P841,DiasNOLaborables),\"\")","v":"2021-12-01"},{"$f":"+IF(C841=\"\",\"\",IF(H841=\"\",\"SIN RESPUESTA\",(IF(H841<=J841,\"A TIEMPO\",\"FUERA DE TIEMPO\"))))","v":"A TIEMPO"},{"$f":"IF(H841=\"\",\"\",NETWORKDAYS(C841+1,H841,DiasNOLaborables))","v":-6},{"$f":"IF(NETWORKDAYS(J841+1,H841,DiasNOLaborables)<=0,\"\",NETWORKDAYS(J841+1,H841,DiasNOLaborables))","v":""},null,null,{"$f":"IFERROR(VLOOKUP(E841,$X$51:$Y$64,2),\"\")","v":20}]
[831,20219050125742,"2021-11-02","MODULO CONTACTENOS","SOLICITUD DE INFORMACIÓN Y DOCUMENTOS","SOLICITUD DE INFORMACIÓN HIDROMETEOROLÓGICA","GRUPO DE SERVICIO AL CIUDADANO ","2021-10-26","CORREO ELECTRÓNICO",{"$f":"IFERROR(WORKDAY(C842,P842,DiasNOLaborables),\"\")","v":"2021-12-01"},{"$f":"+IF(C842=\"\",\"\",IF(H842=\"\",\"SIN RESPUESTA\",(IF(H842<=J842,\"A TIEMPO\",\"FUERA DE TIEMPO\"))))","v":"A TIEMPO"},{"$f":"IF(H842=\"\",\"\",NETWORKDAYS(C842+1,H842,DiasNOLaborables))","v":-6},{"$f":"IF(NETWORKDAYS(J842+1,H842,DiasNOLaborables)<=0,\"\",NETWORKDAYS(J842+1,H842,DiasNOLaborables))","v":""},null,null,{"$f":"IFERROR(VLOOKUP(E842,$X$51:$Y$64,2),\"\")","v":20}]
[832,20219050125762,"2021-11-02","MODULO CONTACTENOS","SOLICITUD DE INFORMACIÓN Y DOCUMENTOS","SOLICITUD DE INFORMACIÓN HIDROMETEOROLÓGICA","GRUPO DE SERVICIO AL CIUDADANO ","2021-10-26","CORREO ELECTRÓNICO",{"$f":"IFERROR(WORKDAY(C843,P843,DiasNOLaborables),\"\")","v":"2021-12-01"},{"$f":"+IF(C843=\"\",\"\",IF(H843=\"\",\"SIN RESPUESTA\",(IF(H843<=J843,\"A TIEMPO\",\"FUERA DE TIEMPO\"))))","v":"A TIEMPO"},{"$f":"IF(H843=\"\",\"\",NETWORKDAYS(C843+1,H843,DiasNOLaborables))","v":-6},{"$f":"IF(NETWORKDAYS(J843+1,H843,DiasNOLaborables)<=0,\"\",NETWORKDAYS(J843+1,H843,DiasNOLaborables))","v":""},null,null,{"$f":"IFERROR(VLOOKUP(E843,$X$51:$Y$64,2),\"\")","v":20}]
[833,20219050125852,"2021-11-02","MODULO CONTACTENOS","SOLICITUD DE INFORMACIÓN Y DOCUMENTOS","SOLICITUD DE INFORMACIÓN HIDROMETEOROLÓGICA","GRUPO DE SERVICIO AL CIUDADANO ","2021-10-26","CORREO ELECTRÓNICO",{"$f":"IFERROR(WORKDAY(C844,P844,DiasNOLaborables),\"\")","v":"2021-12-01"},{"$f":"+IF(C844=\"\",\"\",IF(H844=\"\",\"SIN RESPUESTA\",(IF(H844<=J844,\"A TIEMPO\",\"FUERA DE TIEMPO\"))))","v":"A TIEMPO"},{"$f":"IF(H844=\"\",\"\",NETWORKDAYS(C844+1,H844,DiasNOLaborables))","v":-6},{"$f":"IF(NETWORKDAYS(J844+1,H844,DiasNOLaborables)<=0,\"\",NETWORKDAYS(J844+1,H844,DiasNOLaborables))","v":""},null,null,{"$f":"IFERROR(VLOOKUP(E844,$X$51:$Y$64,2),\"\")","v":20}]
[834,20219050126022,"2021-11-02","MODULO CONTACTENOS","SOLICITUD DE INFORMACIÓN Y DOCUMENTOS","ADMINISTRATIVA","GRUPO DE ADMINISTRACIÓN Y DESARROLLO DEL TALENTO HUMANO","2021-11-08","CORREO ELECTRÓNICO",{"$f":"IFERROR(WORKDAY(C845,P845,DiasNOLaborables),\"\")","v":"2021-12-01"},{"$f":"+IF(C845=\"\",\"\",IF(H845=\"\",\"SIN RESPUESTA\",(IF(H845<=J845,\"A TIEMPO\",\"FUERA DE TIEMPO\"))))","v":"A TIEMPO"},{"$f":"IF(H845=\"\",\"\",NETWORKDAYS(C845+1,H845,DiasNOLaborables))","v":4},{"$f":"IF(NETWORKDAYS(J845+1,H845,DiasNOLaborables)<=0,\"\",NETWORKDAYS(J845+1,H845,DiasNOLaborables))","v":""},null,null,{"$f":"IFERROR(VLOOKUP(E845,$X$51:$Y$64,2),\"\")","v":20}]
[{"$f":"IF(B846<>\"\",A845+1,\"\")","v":835},20219050126062,"2021-11-02","MODULO CONTACTENOS","SOLICITUD DE INFORMACIÓN Y DOCUMENTOS","ADMINISTRATIVA","OFICINA ASESORA JURÍDICA","2021-11-08","CORREO ELECTRÓNICO",{"$f":"IFERROR(WORKDAY(C846,P846,DiasNOLaborables),\"\")","v":"2021-12-01"},{"$f":"+IF(C846=\"\",\"\",IF(H846=\"\",\"SIN RESPUESTA\",(IF(H846<=J846,\"A TIEMPO\",\"FUERA DE TIEMPO\"))))","v":"A TIEMPO"},{"$f":"IF(H846=\"\",\"\",NETWORKDAYS(C846+1,H846,DiasNOLaborables))","v":4},{"$f":"IF(NETWORKDAYS(J846+1,H846,DiasNOLaborables)<=0,\"\",NETWORKDAYS(J846+1,H846,DiasNOLaborables))","v":""},null,null,{"$f":"IFERROR(VLOOKUP(E846,$X$51:$Y$64,2),\"\")","v":20}]
[836,20219050126122,"2021-11-02","MODULO CONTACTENOS","SOLICITUD DE INFORMACIÓN Y DOCUMENTOS","ADMINISTRATIVA","GRUPO DE ADMINISTRACIÓN Y DESARROLLO DEL TALENTO HUMANO","2021-11-04","CORREO ELECTRÓNICO",{"$f":"IFERROR(WORKDAY(C847,P847,DiasNOLaborables),\"\")","v":"2021-12-01"},{"$f":"+IF(C847=\"\",\"\",IF(H847=\"\",\"SIN RESPUESTA\",(IF(H847<=J847,\"A TIEMPO\",\"FUERA DE TIEMPO\"))))","v":"A TIEMPO"},{"$f":"IF(H847=\"\",\"\",NETWORKDAYS(C847+1,H847,DiasNOLaborables))","v":2},{"$f":"IF(NETWORKDAYS(J847+1,H847,DiasNOLaborables)<=0,\"\",NETWORKDAYS(J847+1,H847,DiasNOLaborables))","v":""},null,null,{"$f":"IFERROR(VLOOKUP(E847,$X$51:$Y$64,2),\"\")","v":20}]
[837,20219050126132,"2021-11-02","MODULO CONTACTENOS","SOLICITUD DE INFORMACIÓN Y DOCUMENTOS","CLIMATOLOGÍA","SUBDIRECCIÓN DE METEOROLOGÍA","2021-11-17","CORREO ELECTRÓNICO",{"$f":"IFERROR(WORKDAY(C848,P848,DiasNOLaborables),\"\")","v":"2021-12-01"},{"$f":"+IF(C848=\"\",\"\",IF(H848=\"\",\"SIN RESPUESTA\",(IF(H848<=J848,\"A TIEMPO\",\"FUERA DE TIEMPO\"))))","v":"A TIEMPO"},{"$f":"IF(H848=\"\",\"\",NETWORKDAYS(C848+1,H848,DiasNOLaborables))","v":10},{"$f":"IF(NETWORKDAYS(J848+1,H848,DiasNOLaborables)<=0,\"\",NETWORKDAYS(J848+1,H848,DiasNOLaborables))","v":""},null,null,{"$f":"IFERROR(VLOOKUP(E848,$X$51:$Y$64,2),\"\")","v":20}]
[838,20219050126252,"2021-11-02","MODULO CONTACTENOS","SOLICITUD DE INFORMACIÓN Y DOCUMENTOS","VISITAS ACADÉMICAS","GRUPO DE SERVICIO AL CIUDADANO ","2021-11-09","CORREO ELECTRÓNICO",{"$f":"IFERROR(WORKDAY(C849,P849,DiasNOLaborables),\"\")","v":"2021-12-01"},{"$f":"+IF(C849=\"\",\"\",IF(H849=\"\",\"SIN RESPUESTA\",(IF(H849<=J849,\"A TIEMPO\",\"FUERA DE TIEMPO\"))))","v":"A TIEMPO"},{"$f":"IF(H849=\"\",\"\",NETWORKDAYS(C849+1,H849,DiasNOLaborables))","v":5},{"$f":"IF(NETWORKDAYS(J849+1,H849,DiasNOLaborables)<=0,\"\",NETWORKDAYS(J849+1,H849,DiasNOLaborables))","v":""},null,null,{"$f":"IFERROR(VLOOKUP(E849,$X$51:$Y$64,2),\"\")","v":20}]
[839,20219050126262,"2021-11-02","MODULO CONTACTENOS","PETICIÓN","SIA","SUBDIRECCIÓN DE ECOSISTEMAS E INFORMACIÓN AMBIENTAL","2021-11-12","CORREO ELECTRÓNICO",{"$f":"IFERROR(WORKDAY(C850,P850,DiasNOLaborables),\"\")","v":"2021-12-16"},{"$f":"+IF(C850=\"\",\"\",IF(H850=\"\",\"SIN RESPUESTA\",(IF(H850<=J850,\"A TIEMPO\",\"FUERA DE TIEMPO\"))))","v":"A TIEMPO"},{"$f":"IF(H850=\"\",\"\",NETWORKDAYS(C850+1,H850,DiasNOLaborables))","v":8},{"$f":"IF(NETWORKDAYS(J850+1,H850,DiasNOLaborables)<=0,\"\",NETWORKDAYS(J850+1,H850,DiasNOLaborables))","v":""},null,null,{"$f":"IFERROR(VLOOKUP(E850,$X$51:$Y$64,2),\"\")","v":30}]
[840,20219050126292,"2021-11-02","MODULO CONTACTENOS","SOLICITUD DE INFORMACIÓN Y DOCUMENTOS","ADMINISTRATIVA","OFICINA ASESORA JURÍDICA","2021-11-08","CORREO ELECTRÓNICO",{"$f":"IFERROR(WORKDAY(C851,P851,DiasNOLaborables),\"\")","v":"2021-12-01"},{"$f":"+IF(C851=\"\",\"\",IF(H851=\"\",\"SIN RESPUESTA\",(IF(H851<=J851,\"A TIEMPO\",\"FUERA DE TIEMPO\"))))","v":"A TIEMPO"},{"$f":"IF(H851=\"\",\"\",NETWORKDAYS(C851+1,H851,DiasNOLaborables))","v":4},{"$f":"IF(NETWORKDAYS(J851+1,H851,DiasNOLaborables)<=0,\"\",NETWORKDAYS(J851+1,H851,DiasNOLaborables))","v":""},null,null,{"$f":"IFERROR(VLOOKUP(E851,$X$51:$Y$64,2),\"\")","v":20}]
[841,20219050126322,"2021-11-02","MODULO CONTACTENOS","SOLICITUD DE INFORMACIÓN Y DOCUMENTOS","ADMINISTRATIVA","OFICINA ASESORA JURÍDICA","2021-11-08","CORREO ELECTRÓNICO",{"$f":"IFERROR(WORKDAY(C852,P852,DiasNOLaborables),\"\")","v":"2021-12-01"},{"$f":"+IF(C852=\"\",\"\",IF(H852=\"\",\"SIN RESPUESTA\",(IF(H852<=J852,\"A TIEMPO\",\"FUERA DE TIEMPO\"))))","v":"A TIEMPO"},{"$f":"IF(H852=\"\",\"\",NETWORKDAYS(C852+1,H852,DiasNOLaborables))","v":4},{"$f":"IF(NETWORKDAYS(J852+1,H852,DiasNOLaborables)<=0,\"\",NETWORKDAYS(J852+1,H852,DiasNOLaborables))","v":""},null,null,{"$f":"IFERROR(VLOOKUP(E852,$X$51:$Y$64,2),\"\")","v":20}]
[842,20219050126342,"2021-11-02","MODULO CONTACTENOS","CERTIFICACIONES DE TIEMPO, CLIMA Y EVENTOS HIDROLÓGICOS","CERTIFICACIONES DE TIEMPO Y CLIMA","SUBDIRECCIÓN DE METEOROLOGÍA","2021-11-25","CORREO ELECTRÓNICO",{"$f":"IFERROR(WORKDAY(C853,P853,DiasNOLaborables),\"\")","v":"2021-12-23"},{"$f":"+IF(C853=\"\",\"\",IF(H853=\"\",\"SIN RESPUESTA\",(IF(H853<=J853,\"A TIEMPO\",\"FUERA DE TIEMPO\"))))","v":"A TIEMPO"},{"$f":"IF(H853=\"\",\"\",NETWORKDAYS(C853+1,H853,DiasNOLaborables))","v":16},{"$f":"IF(NETWORKDAYS(J853+1,H853,DiasNOLaborables)<=0,\"\",NETWORKDAYS(J853+1,H853,DiasNOLaborables))","v":""},null,null,{"$f":"IFERROR(VLOOKUP(E853,$X$51:$Y$64,2),\"\")","v":35}]
[843,20219050126352,"2021-11-02","MODULO CONTACTENOS","SOLICITUD DE INFORMACIÓN Y DOCUMENTOS","ADMINISTRATIVA","GRUPO DE ADMINISTRACIÓN Y DESARROLLO DEL TALENTO HUMANO","2021-11-16","CORREO ELECTRÓNICO",{"$f":"IFERROR(WORKDAY(C854,P854,DiasNOLaborables),\"\")","v":"2021-12-01"},{"$f":"+IF(C854=\"\",\"\",IF(H854=\"\",\"SIN RESPUESTA\",(IF(H854<=J854,\"A TIEMPO\",\"FUERA DE TIEMPO\"))))","v":"A TIEMPO"},{"$f":"IF(H854=\"\",\"\",NETWORKDAYS(C854+1,H854,DiasNOLaborables))","v":9},{"$f":"IF(NETWORKDAYS(J854+1,H854,DiasNOLaborables)<=0,\"\",NETWORKDAYS(J854+1,H854,DiasNOLaborables))","v":""},null,null,{"$f":"IFERROR(VLOOKUP(E854,$X$51:$Y$64,2),\"\")","v":20}]
[844,20219050126452,"2021-11-02","MODULO CONTACTENOS","SOLICITUD DE INFORMACIÓN Y DOCUMENTOS","ADMINISTRATIVA","GRUPO DE ADMINISTRACIÓN Y DESARROLLO DEL TALENTO HUMANO","2021-11-08","CORREO ELECTRÓNICO",{"$f":"IFERROR(WORKDAY(C855,P855,DiasNOLaborables),\"\")","v":"2021-12-01"},{"$f":"+IF(C855=\"\",\"\",IF(H855=\"\",\"SIN RESPUESTA\",(IF(H855<=J855,\"A TIEMPO\",\"FUERA DE TIEMPO\"))))","v":"A TIEMPO"},{"$f":"IF(H855=\"\",\"\",NETWORKDAYS(C855+1,H855,DiasNOLaborables))","v":4},{"$f":"IF(NETWORKDAYS(J855+1,H855,DiasNOLaborables)<=0,\"\",NETWORKDAYS(J855+1,H855,DiasNOLaborables))","v":""},null,null,{"$f":"IFERROR(VLOOKUP(E855,$X$51:$Y$64,2),\"\")","v":20}]
[845,20219050126482,"2021-11-02","MODULO CONTACTENOS","SOLICITUD DE INFORMACIÓN Y DOCUMENTOS","OPERACIÓN DE REDES","SUBDIRECCIÓN DE HIDROLOGÍA","2021-11-08","CORREO ELECTRÓNICO",{"$f":"IFERROR(WORKDAY(C856,P856,DiasNOLaborables),\"\")","v":"2021-12-01"},{"$f":"+IF(C856=\"\",\"\",IF(H856=\"\",\"SIN RESPUESTA\",(IF(H856<=J856,\"A TIEMPO\",\"FUERA DE TIEMPO\"))))","v":"A TIEMPO"},{"$f":"IF(H856=\"\",\"\",NETWORKDAYS(C856+1,H856,DiasNOLaborables))","v":4},{"$f":"IF(NETWORKDAYS(J856+1,H856,DiasNOLaborables)<=0,\"\",NETWORKDAYS(J856+1,H856,DiasNOLaborables))","v":""},null,null,{"$f":"IFERROR(VLOOKUP(E856,$X$51:$Y$64,2),\"\")","v":20}]
[846,20219050126502,"2021-11-02","MODULO CONTACTENOS","SOLICITUD DE INFORMACIÓN Y DOCUMENTOS","SIRH","SUBDIRECCIÓN DE HIDROLOGÍA","2021-11-13","CORREO ELECTRÓNICO",{"$f":"IFERROR(WORKDAY(C857,P857,DiasNOLaborables),\"\")","v":"2021-12-01"},{"$f":"+IF(C857=\"\",\"\",IF(H857=\"\",\"SIN RESPUESTA\",(IF(H857<=J857,\"A TIEMPO\",\"FUERA DE TIEMPO\"))))","v":"A TIEMPO"},{"$f":"IF(H857=\"\",\"\",NETWORKDAYS(C857+1,H857,DiasNOLaborables))","v":8},{"$f":"IF(NETWORKDAYS(J857+1,H857,DiasNOLaborables)<=0,\"\",NETWORKDAYS(J857+1,H857,DiasNOLaborables))","v":""},null,null,{"$f":"IFERROR(VLOOKUP(E857,$X$51:$Y$64,2),\"\")","v":20}]
[847,20219910058532,"2021-11-02","CORREO ELECTRÓNICO","SOLICITUD JUDICIAL","CLIMATOLOGÍA","SUBDIRECCIÓN DE METEOROLOGÍA","2021-11-04","CORREO ELECTRÓNICO",{"$f":"IFERROR(WORKDAY(C858,P858,DiasNOLaborables),\"\")","v":"2021-11-09"},{"$f":"+IF(C858=\"\",\"\",IF(H858=\"\",\"SIN RESPUESTA\",(IF(H858<=J858,\"A TIEMPO\",\"FUERA DE TIEMPO\"))))","v":"A TIEMPO"},{"$f":"IF(H858=\"\",\"\",NETWORKDAYS(C858+1,H858,DiasNOLaborables))","v":2},{"$f":"IF(NETWORKDAYS(J858+1,H858,DiasNOLaborables)<=0,\"\",NETWORKDAYS(J858+1,H858,DiasNOLaborables))","v":""},null,null,{"$f":"IFERROR(VLOOKUP(E858,$X$51:$Y$64,2),\"\")","v":5}]
[848,20219910058602,"2021-11-02","CORREO ELECTRÓNICO","SOLICITUD DE INFORMACIÓN Y DOCUMENTOS","REGISTROS AMBIENTALES","SUBDIRECCIÓN DE ESTUDIOS AMBIENTALES","2021-11-05","CORREO ELECTRÓNICO",{"$f":"IFERROR(WORKDAY(C859,P859,DiasNOLaborables),\"\")","v":"2021-12-01"},{"$f":"+IF(C859=\"\",\"\",IF(H859=\"\",\"SIN RESPUESTA\",(IF(H859<=J859,\"A TIEMPO\",\"FUERA DE TIEMPO\"))))","v":"A TIEMPO"},{"$f":"IF(H859=\"\",\"\",NETWORKDAYS(C859+1,H859,DiasNOLaborables))","v":3},{"$f":"IF(NETWORKDAYS(J859+1,H859,DiasNOLaborables)<=0,\"\",NETWORKDAYS(J859+1,H859,DiasNOLaborables))","v":""},null,null,{"$f":"IFERROR(VLOOKUP(E859,$X$51:$Y$64,2),\"\")","v":20}]
[849,20219050126142,"2021-11-02","MODULO CONTACTENOS","SOLICITUD DE INFORMACIÓN Y DOCUMENTOS","SOLICITUD DE INFORMACIÓN HIDROMETEOROLÓGICA","GRUPO DE SERVICIO AL CIUDADANO ","2021-11-04","CORREO ELECTRÓNICO",{"$f":"IFERROR(WORKDAY(C860,P860,DiasNOLaborables),\"\")","v":"2021-12-01"},{"$f":"+IF(C860=\"\",\"\",IF(H860=\"\",\"SIN RESPUESTA\",(IF(H860<=J860,\"A TIEMPO\",\"FUERA DE TIEMPO\"))))","v":"A TIEMPO"},{"$f":"IF(H860=\"\",\"\",NETWORKDAYS(C860+1,H860,DiasNOLaborables))","v":2},{"$f":"IF(NETWORKDAYS(J860+1,H860,DiasNOLaborables)<=0,\"\",NETWORKDAYS(J860+1,H860,DiasNOLaborables))","v":""},null,null,{"$f":"IFERROR(VLOOKUP(E860,$X$51:$Y$64,2),\"\")","v":20}]
[850,20219050126162,"2021-11-02","MODULO CONTACTENOS","SOLICITUD DE INFORMACIÓN Y DOCUMENTOS","SOLICITUD DE INFORMACIÓN HIDROMETEOROLÓGICA","GRUPO DE SERVICIO AL CIUDADANO ","2021-11-04","CORREO ELECTRÓNICO",{"$f":"IFERROR(WORKDAY(C861,P861,DiasNOLaborables),\"\")","v":"2021-12-01"},{"$f":"+IF(C861=\"\",\"\",IF(H861=\"\",\"SIN RESPUESTA\",(IF(H861<=J861,\"A TIEMPO\",\"FUERA DE TIEMPO\"))))","v":"A TIEMPO"},{"$f":"IF(H861=\"\",\"\",NETWORKDAYS(C861+1,H861,DiasNOLaborables))","v":2},{"$f":"IF(NETWORKDAYS(J861+1,H861,DiasNOLaborables)<=0,\"\",NETWORKDAYS(J861+1,H861,DiasNOLaborables))","v":""},null,null,{"$f":"IFERROR(VLOOKUP(E861,$X$51:$Y$64,2),\"\")","v":20}]
[851,20219050126172,"2021-11-02","MODULO CONTACTENOS","SOLICITUD DE INFORMACIÓN Y DOCUMENTOS","SOLICITUD DE INFORMACIÓN HIDROMETEOROLÓGICA","GRUPO DE SERVICIO AL CIUDADANO ","2021-11-04","CORREO ELECTRÓNICO",{"$f":"IFERROR(WORKDAY(C862,P862,DiasNOLaborables),\"\")","v":"2021-12-01"},{"$f":"+IF(C862=\"\",\"\",IF(H862=\"\",\"SIN RESPUESTA\",(IF(H862<=J862,\"A TIEMPO\",\"FUERA DE TIEMPO\"))))","v":"A TIEMPO"},{"$f":"IF(H862=\"\",\"\",NETWORKDAYS(C862+1,H862,DiasNOLaborables))","v":2},{"$f":"IF(NETWORKDAYS(J862+1,H862,DiasNOLaborables)<=0,\"\",NETWORKDAYS(J862+1,H862,DiasNOLaborables))","v":""},null,null,{"$f":"IFERROR(VLOOKUP(E862,$X$51:$Y$64,2),\"\")","v":20}]
[852,20219050126182,"2021-11-02","MODULO CONTACTENOS","SOLICITUD DE INFORMACIÓN Y DOCUMENTOS","SOLICITUD DE INFORMACIÓN HIDROMETEOROLÓGICA","GRUPO DE SERVICIO AL CIUDADANO ","2021-11-04","CORREO ELECTRÓNICO",{"$f":"IFERROR(WORKDAY(C863,P863,DiasNOLaborables),\"\")","v":"2021-12-01"},{"$f":"+IF(C863=\"\",\"\",IF(H863=\"\",\"SIN RESPUESTA\",(IF(H863<=J863,\"A TIEMPO\",\"FUERA DE TIEMPO\"))))","v":"A TIEMPO"},{"$f":"IF(H863=\"\",\"\",NETWORKDAYS(C863+1,H863,DiasNOLaborables))","v":2},{"$f":"IF(NETWORKDAYS(J863+1,H863,DiasNOLaborables)<=0,\"\",NETWORKDAYS(J863+1,H863,DiasNOLaborables))","v":""},null,null,{"$f":"IFERROR(VLOOKUP(E863,$X$51:$Y$64,2),\"\")","v":20}]
[853,20219050126192,"2021-11-02","MODULO CONTACTENOS","SOLICITUD DE INFORMACIÓN Y DOCUMENTOS","SOLICITUD DE INFORMACIÓN HIDROMETEOROLÓGICA","GRUPO DE SERVICIO AL CIUDADANO ","2021-11-04","CORREO ELECTRÓNICO",{"$f":"IFERROR(WORKDAY(C864,P864,DiasNOLaborables),\"\")","v":"2021-12-01"},{"$f":"+IF(C864=\"\",\"\",IF(H864=\"\",\"SIN RESPUESTA\",(IF(H864<=J864,\"A TIEMPO\",\"FUERA DE TIEMPO\"))))","v":"A TIEMPO"},{"$f":"IF(H864=\"\",\"\",NETWORKDAYS(C864+1,H864,DiasNOLaborables))","v":2},{"$f":"IF(NETWORKDAYS(J864+1,H864,DiasNOLaborables)<=0,\"\",NETWORKDAYS(J864+1,H864,DiasNOLaborables))","v":""},null,null,{"$f":"IFERROR(VLOOKUP(E864,$X$51:$Y$64,2),\"\")","v":20}]
[854,20219050126222,"2021-11-02","MODULO CONTACTENOS","SOLICITUD DE INFORMACIÓN Y DOCUMENTOS","SOLICITUD DE INFORMACIÓN HIDROMETEOROLÓGICA","AREA OPERATIVA No. 2","2021-11-04","CORREO ELECTRÓNICO",{"$f":"IFERROR(WORKDAY(C865,P865,DiasNOLaborables),\"\")","v":"2021-12-01"},{"$f":"+IF(C865=\"\",\"\",IF(H865=\"\",\"SIN RESPUESTA\",(IF(H865<=J865,\"A TIEMPO\",\"FUERA DE TIEMPO\"))))","v":"A TIEMPO"},{"$f":"IF(H865=\"\",\"\",NETWORKDAYS(C865+1,H865,DiasNOLaborables))","v":2},{"$f":"IF(NETWORKDAYS(J865+1,H865,DiasNOLaborables)<=0,\"\",NETWORKDAYS(J865+1,H865,DiasNOLaborables))","v":""},null,null,{"$f":"IFERROR(VLOOKUP(E865,$X$51:$Y$64,2),\"\")","v":20}]
[855,20219050126232,"2021-11-02","MODULO CONTACTENOS","SOLICITUD DE INFORMACIÓN Y DOCUMENTOS","SOLICITUD DE INFORMACIÓN HIDROMETEOROLÓGICA","GRUPO DE SERVICIO AL CIUDADANO ","2021-11-04","CORREO ELECTRÓNICO",{"$f":"IFERROR(WORKDAY(C866,P866,DiasNOLaborables),\"\")","v":"2021-12-01"},{"$f":"+IF(C866=\"\",\"\",IF(H866=\"\",\"SIN RESPUESTA\",(IF(H866<=J866,\"A TIEMPO\",\"FUERA DE TIEMPO\"))))","v":"A TIEMPO"},{"$f":"IF(H866=\"\",\"\",NETWORKDAYS(C866+1,H866,DiasNOLaborables))","v":2},{"$f":"IF(NETWORKDAYS(J866+1,H866,DiasNOLaborables)<=0,\"\",NETWORKDAYS(J866+1,H866,DiasNOLaborables))","v":""},null,null,{"$f":"IFERROR(VLOOKUP(E866,$X$51:$Y$64,2),\"\")","v":20}]
[856,20219050126282,"2021-11-02","MODULO CONTACTENOS","SOLICITUD DE INFORMACIÓN Y DOCUMENTOS","SOLICITUD DE INFORMACIÓN HIDROMETEOROLÓGICA","GRUPO DE SERVICIO AL CIUDADANO ","2021-11-04","CORREO ELECTRÓNICO",{"$f":"IFERROR(WORKDAY(C867,P867,DiasNOLaborables),\"\")","v":"2021-12-01"},{"$f":"+IF(C867=\"\",\"\",IF(H867=\"\",\"SIN RESPUESTA\",(IF(H867<=J867,\"A TIEMPO\",\"FUERA DE TIEMPO\"))))","v":"A TIEMPO"},{"$f":"IF(H867=\"\",\"\",NETWORKDAYS(C867+1,H867,DiasNOLaborables))","v":2},{"$f":"IF(NETWORKDAYS(J867+1,H867,DiasNOLaborables)<=0,\"\",NETWORKDAYS(J867+1,H867,DiasNOLaborables))","v":""},null,null,{"$f":"IFERROR(VLOOKUP(E867,$X$51:$Y$64,2),\"\")","v":20}]
[857,20219050126312,"2021-11-02","MODULO CONTACTENOS","SOLICITUD DE INFORMACIÓN Y DOCUMENTOS","SOLICITUD DE INFORMACIÓN HIDROMETEOROLÓGICA","GRUPO DE SERVICIO AL CIUDADANO ","2021-11-05","CORREO ELECTRÓNICO",{"$f":"IFERROR(WORKDAY(C868,P868,DiasNOLaborables),\"\")","v":"2021-12-01"},{"$f":"+IF(C868=\"\",\"\",IF(H868=\"\",\"SIN RESPUESTA\",(IF(H868<=J868,\"A TIEMPO\",\"FUERA DE TIEMPO\"))))","v":"A TIEMPO"},{"$f":"IF(H868=\"\",\"\",NETWORKDAYS(C868+1,H868,DiasNOLaborables))","v":3},{"$f":"IF(NETWORKDAYS(J868+1,H868,DiasNOLaborables)<=0,\"\",NETWORKDAYS(J868+1,H868,DiasNOLaborables))","v":""},null,null,{"$f":"IFERROR(VLOOKUP(E868,$X$51:$Y$64,2),\"\")","v":20}]
[858,20219050126382,"2021-11-02","MODULO CONTACTENOS","SOLICITUD DE INFORMACIÓN Y DOCUMENTOS","SOLICITUD DE INFORMACIÓN HIDROMETEOROLÓGICA","GRUPO DE SERVICIO AL CIUDADANO ","2021-11-05","CORREO ELECTRÓNICO",{"$f":"IFERROR(WORKDAY(C869,P869,DiasNOLaborables),\"\")","v":"2021-12-01"},{"$f":"+IF(C869=\"\",\"\",IF(H869=\"\",\"SIN RESPUESTA\",(IF(H869<=J869,\"A TIEMPO\",\"FUERA DE TIEMPO\"))))","v":"A TIEMPO"},{"$f":"IF(H869=\"\",\"\",NETWORKDAYS(C869+1,H869,DiasNOLaborables))","v":3},{"$f":"IF(NETWORKDAYS(J869+1,H869,DiasNOLaborables)<=0,\"\",NETWORKDAYS(J869+1,H869,DiasNOLaborables))","v":""},null,null,{"$f":"IFERROR(VLOOKUP(E869,$X$51:$Y$64,2),\"\")","v":20}]
[859,20219050126412,"2021-11-02","MODULO CONTACTENOS","SOLICITUD DE INFORMACIÓN Y DOCUMENTOS","SOLICITUD DE INFORMACIÓN HIDROMETEOROLÓGICA","GRUPO DE SERVICIO AL CIUDADANO ","2021-11-05","CORREO ELECTRÓNICO",{"$f":"IFERROR(WORKDAY(C870,P870,DiasNOLaborables),\"\")","v":"2021-12-01"},{"$f":"+IF(C870=\"\",\"\",IF(H870=\"\",\"SIN RESPUESTA\",(IF(H870<=J870,\"A TIEMPO\",\"FUERA DE TIEMPO\"))))","v":"A TIEMPO"},{"$f":"IF(H870=\"\",\"\",NETWORKDAYS(C870+1,H870,DiasNOLaborables))","v":3},{"$f":"IF(NETWORKDAYS(J870+1,H870,DiasNOLaborables)<=0,\"\",NETWORKDAYS(J870+1,H870,DiasNOLaborables))","v":""},null,null,{"$f":"IFERROR(VLOOKUP(E870,$X$51:$Y$64,2),\"\")","v":20}]
[860,20219050126442,"2021-11-02","MODULO CONTACTENOS","SOLICITUD DE INFORMACIÓN Y DOCUMENTOS","SOLICITUD DE INFORMACIÓN HIDROMETEOROLÓGICA","SUBDIRECCIÓN DE METEOROLOGÍA","2021-11-05","CORREO ELECTRÓNICO",{"$f":"IFERROR(WORKDAY(C871,P871,DiasNOLaborables),\"\")","v":"2021-12-01"},{"$f":"+IF(C871=\"\",\"\",IF(H871=\"\",\"SIN RESPUESTA\",(IF(H871<=J871,\"A TIEMPO\",\"FUERA DE TIEMPO\"))))","v":"A TIEMPO"},{"$f":"IF(H871=\"\",\"\",NETWORKDAYS(C871+1,H871,DiasNOLaborables))","v":3},{"$f":"IF(NETWORKDAYS(J871+1,H871,DiasNOLaborables)<=0,\"\",NETWORKDAYS(J871+1,H871,DiasNOLaborables))","v":""},null,null,{"$f":"IFERROR(VLOOKUP(E871,$X$51:$Y$64,2),\"\")","v":20}]
[861,20219050126492,"2021-11-02","MODULO CONTACTENOS","SOLICITUD DE INFORMACIÓN Y DOCUMENTOS","SOLICITUD DE INFORMACIÓN HIDROMETEOROLÓGICA","GRUPO DE SERVICIO AL CIUDADANO ","2021-11-05","CORREO ELECTRÓNICO",{"$f":"IFERROR(WORKDAY(C872,P872,DiasNOLaborables),\"\")","v":"2021-12-01"},{"$f":"+IF(C872=\"\",\"\",IF(H872=\"\",\"SIN RESPUESTA\",(IF(H872<=J872,\"A TIEMPO\",\"FUERA DE TIEMPO\"))))","v":"A TIEMPO"},{"$f":"IF(H872=\"\",\"\",NETWORKDAYS(C872+1,H872,DiasNOLaborables))","v":3},{"$f":"IF(NETWORKDAYS(J872+1,H872,DiasNOLaborables)<=0,\"\",NETWORKDAYS(J872+1,H872,DiasNOLaborables))","v":""},null,null,{"$f":"IFERROR(VLOOKUP(E872,$X$51:$Y$64,2),\"\")","v":20}]
[862,20219050126512,"2021-11-02","MODULO CONTACTENOS","SOLICITUD DE INFORMACIÓN Y DOCUMENTOS","SOLICITUD DE INFORMACIÓN HIDROMETEOROLÓGICA","GRUPO DE SERVICIO AL CIUDADANO ","2021-11-05","CORREO ELECTRÓNICO",{"$f":"IFERROR(WORKDAY(C873,P873,DiasNOLaborables),\"\")","v":"2021-12-01"},{"$f":"+IF(C873=\"\",\"\",IF(H873=\"\",\"SIN RESPUESTA\",(IF(H873<=J873,\"A TIEMPO\",\"FUERA DE TIEMPO\"))))","v":"A TIEMPO"},{"$f":"IF(H873=\"\",\"\",NETWORKDAYS(C873+1,H873,DiasNOLaborables))","v":3},{"$f":"IF(NETWORKDAYS(J873+1,H873,DiasNOLaborables)<=0,\"\",NETWORKDAYS(J873+1,H873,DiasNOLaborables))","v":""},null,null,{"$f":"IFERROR(VLOOKUP(E873,$X$51:$Y$64,2),\"\")","v":20}]
[863,20219050126522,"2021-11-02","MODULO CONTACTENOS","SOLICITUD DE INFORMACIÓN Y DOCUMENTOS","SOLICITUD DE INFORMACIÓN HIDROMETEOROLÓGICA","GRUPO DE SERVICIO AL CIUDADANO ","2021-11-05","CORREO ELECTRÓNICO",{"$f":"IFERROR(WORKDAY(C874,P874,DiasNOLaborables),\"\")","v":"2021-12-01"},{"$f":"+IF(C874=\"\",\"\",IF(H874=\"\",\"SIN RESPUESTA\",(IF(H874<=J874,\"A TIEMPO\",\"FUERA DE TIEMPO\"))))","v":"A TIEMPO"},{"$f":"IF(H874=\"\",\"\",NETWORKDAYS(C874+1,H874,DiasNOLaborables))","v":3},{"$f":"IF(NETWORKDAYS(J874+1,H874,DiasNOLaborables)<=0,\"\",NETWORKDAYS(J874+1,H874,DiasNOLaborables))","v":""},null,null,{"$f":"IFERROR(VLOOKUP(E874,$X$51:$Y$64,2),\"\")","v":20}]
[864,20219050126532,"2021-11-02","MODULO CONTACTENOS","SOLICITUD DE INFORMACIÓN Y DOCUMENTOS","SOLICITUD DE INFORMACIÓN HIDROMETEOROLÓGICA","GRUPO DE SERVICIO AL CIUDADANO ","2021-11-05","CORREO ELECTRÓNICO",{"$f":"IFERROR(WORKDAY(C875,P875,DiasNOLaborables),\"\")","v":"2021-12-01"},{"$f":"+IF(C875=\"\",\"\",IF(H875=\"\",\"SIN RESPUESTA\",(IF(H875<=J875,\"A TIEMPO\",\"FUERA DE TIEMPO\"))))","v":"A TIEMPO"},{"$f":"IF(H875=\"\",\"\",NETWORKDAYS(C875+1,H875,DiasNOLaborables))","v":3},{"$f":"IF(NETWORKDAYS(J875+1,H875,DiasNOLaborables)<=0,\"\",NETWORKDAYS(J875+1,H875,DiasNOLaborables))","v":""},null,null,{"$f":"IFERROR(VLOOKUP(E875,$X$51:$Y$64,2),\"\")","v":20}]
[865,20219050125752,"2021-11-02","CORREO ELECTRÓNICO","PETICIÓN","OPERACIÓN DE REDES","SUBDIRECCIÓN DE HIDROLOGÍA","2021-11-04","CORREO ELECTRÓNICO",{"$f":"IFERROR(WORKDAY(C876,P876,DiasNOLaborables),\"\")","v":"2021-12-16"},{"$f":"+IF(C876=\"\",\"\",IF(H876=\"\",\"SIN RESPUESTA\",(IF(H876<=J876,\"A TIEMPO\",\"FUERA DE TIEMPO\"))))","v":"A TIEMPO"},{"$f":"IF(H876=\"\",\"\",NETWORKDAYS(C876+1,H876,DiasNOLaborables))","v":2},{"$f":"IF(NETWORKDAYS(J876+1,H876,DiasNOLaborables)<=0,\"\",NETWORKDAYS(J876+1,H876,DiasNOLaborables))","v":""},null,null,{"$f":"IFERROR(VLOOKUP(E876,$X$51:$Y$64,2),\"\")","v":30}]
[866,20219050125772,"2021-11-02","CORREO ELECTRÓNICO","CERTIFICACIONES DE TIEMPO, CLIMA Y EVENTOS HIDROLÓGICOS","CERTIFICACIONES DE TIEMPO Y CLIMA","SUBDIRECCIÓN DE METEOROLOGÍA","2021-11-22","CORREO ELECTRÓNICO",{"$f":"IFERROR(WORKDAY(C877,P877,DiasNOLaborables),\"\")","v":"2021-12-23"},{"$f":"+IF(C877=\"\",\"\",IF(H877=\"\",\"SIN RESPUESTA\",(IF(H877<=J877,\"A TIEMPO\",\"FUERA DE TIEMPO\"))))","v":"A TIEMPO"},{"$f":"IF(H877=\"\",\"\",NETWORKDAYS(C877+1,H877,DiasNOLaborables))","v":13},{"$f":"IF(NETWORKDAYS(J877+1,H877,DiasNOLaborables)<=0,\"\",NETWORKDAYS(J877+1,H877,DiasNOLaborables))","v":""},null,null,{"$f":"IFERROR(VLOOKUP(E877,$X$51:$Y$64,2),\"\")","v":35}]
[867,20219050125792,"2021-11-02","CORREO ELECTRÓNICO","CERTIFICACIONES DE TIEMPO, CLIMA Y EVENTOS HIDROLÓGICOS","CERTIFICACIONES DE TIEMPO Y CLIMA","SUBDIRECCIÓN DE METEOROLOGÍA","2021-11-22","CORREO ELECTRÓNICO",{"$f":"IFERROR(WORKDAY(C878,P878,DiasNOLaborables),\"\")","v":"2021-12-23"},{"$f":"+IF(C878=\"\",\"\",IF(H878=\"\",\"SIN RESPUESTA\",(IF(H878<=J878,\"A TIEMPO\",\"FUERA DE TIEMPO\"))))","v":"A TIEMPO"},{"$f":"IF(H878=\"\",\"\",NETWORKDAYS(C878+1,H878,DiasNOLaborables))","v":13},{"$f":"IF(NETWORKDAYS(J878+1,H878,DiasNOLaborables)<=0,\"\",NETWORKDAYS(J878+1,H878,DiasNOLaborables))","v":""},null,null,{"$f":"IFERROR(VLOOKUP(E878,$X$51:$Y$64,2),\"\")","v":35}]
[868,20219050125802,"2021-11-02","CORREO ELECTRÓNICO","CERTIFICACIONES DE TIEMPO, CLIMA Y EVENTOS HIDROLÓGICOS","CERTIFICACIONES DE TIEMPO Y CLIMA","SUBDIRECCIÓN DE METEOROLOGÍA","2021-11-16","CORREO ELECTRÓNICO",{"$f":"IFERROR(WORKDAY(C879,P879,DiasNOLaborables),\"\")","v":"2021-12-23"},{"$f":"+IF(C879=\"\",\"\",IF(H879=\"\",\"SIN RESPUESTA\",(IF(H879<=J879,\"A TIEMPO\",\"FUERA DE TIEMPO\"))))","v":"A TIEMPO"},{"$f":"IF(H879=\"\",\"\",NETWORKDAYS(C879+1,H879,DiasNOLaborables))","v":9},{"$f":"IF(NETWORKDAYS(J879+1,H879,DiasNOLaborables)<=0,\"\",NETWORKDAYS(J879+1,H879,DiasNOLaborables))","v":""},null,null,{"$f":"IFERROR(VLOOKUP(E879,$X$51:$Y$64,2),\"\")","v":35}]
[869,20219050125812,"2021-11-02","CORREO ELECTRÓNICO","CERTIFICACIONES DE TIEMPO, CLIMA Y EVENTOS HIDROLÓGICOS","CERTIFICACIONES DE TIEMPO Y CLIMA","SUBDIRECCIÓN DE METEOROLOGÍA","2021-11-22","CORREO ELECTRÓNICO",{"$f":"IFERROR(WORKDAY(C880,P880,DiasNOLaborables),\"\")","v":"2021-12-23"},{"$f":"+IF(C880=\"\",\"\",IF(H880=\"\",\"SIN RESPUESTA\",(IF(H880<=J880,\"A TIEMPO\",\"FUERA DE TIEMPO\"))))","v":"A TIEMPO"},{"$f":"IF(H880=\"\",\"\",NETWORKDAYS(C880+1,H880,DiasNOLaborables))","v":13},{"$f":"IF(NETWORKDAYS(J880+1,H880,DiasNOLaborables)<=0,\"\",NETWORKDAYS(J880+1,H880,DiasNOLaborables))","v":""},null,null,{"$f":"IFERROR(VLOOKUP(E880,$X$51:$Y$64,2),\"\")","v":35}]
[870,20219050125842,"2021-11-02","CORREO ELECTRÓNICO","CERTIFICACIONES DE TIEMPO, CLIMA Y EVENTOS HIDROLÓGICOS","CERTIFICACIONES DE TIEMPO Y CLIMA","SUBDIRECCIÓN DE METEOROLOGÍA","2021-11-22","CORREO ELECTRÓNICO",{"$f":"IFERROR(WORKDAY(C881,P881,DiasNOLaborables),\"\")","v":"2021-12-23"},{"$f":"+IF(C881=\"\",\"\",IF(H881=\"\",\"SIN RESPUESTA\",(IF(H881<=J881,\"A TIEMPO\",\"FUERA DE TIEMPO\"))))","v":"A TIEMPO"},{"$f":"IF(H881=\"\",\"\",NETWORKDAYS(C881+1,H881,DiasNOLaborables))","v":13},{"$f":"IF(NETWORKDAYS(J881+1,H881,DiasNOLaborables)<=0,\"\",NETWORKDAYS(J881+1,H881,DiasNOLaborables))","v":""},null,null,{"$f":"IFERROR(VLOOKUP(E881,$X$51:$Y$64,2),\"\")","v":35}]
[871,20219050125882,"2021-11-02","CORREO ELECTRÓNICO","CERTIFICACIONES DE TIEMPO, CLIMA Y EVENTOS HIDROLÓGICOS","CERTIFICACIONES DE TIEMPO Y CLIMA","SUBDIRECCIÓN DE METEOROLOGÍA","2021-11-22","CORREO ELECTRÓNICO",{"$f":"IFERROR(WORKDAY(C882,P882,DiasNOLaborables),\"\")","v":"2021-12-23"},{"$f":"+IF(C882=\"\",\"\",IF(H882=\"\",\"SIN RESPUESTA\",(IF(H882<=J882,\"A TIEMPO\",\"FUERA DE TIEMPO\"))))","v":"A TIEMPO"},{"$f":"IF(H882=\"\",\"\",NETWORKDAYS(C882+1,H882,DiasNOLaborables))","v":13},{"$f":"IF(NETWORKDAYS(J882+1,H882,DiasNOLaborables)<=0,\"\",NETWORKDAYS(J882+1,H882,DiasNOLaborables))","v":""},null,null,{"$f":"IFERROR(VLOOKUP(E882,$X$51:$Y$64,2),\"\")","v":35}]
[872,20219050125932,"2021-11-02","CORREO ELECTRÓNICO","CERTIFICACIONES DE TIEMPO, CLIMA Y EVENTOS HIDROLÓGICOS","CERTIFICACIONES DE TIEMPO Y CLIMA","SUBDIRECCIÓN DE METEOROLOGÍA","2021-11-24","CORREO ELECTRÓNICO",{"$f":"IFERROR(WORKDAY(C883,P883,DiasNOLaborables),\"\")","v":"2021-12-23"},{"$f":"+IF(C883=\"\",\"\",IF(H883=\"\",\"SIN RESPUESTA\",(IF(H883<=J883,\"A TIEMPO\",\"FUERA DE TIEMPO\"))))","v":"A TIEMPO"},{"$f":"IF(H883=\"\",\"\",NETWORKDAYS(C883+1,H883,DiasNOLaborables))","v":15},{"$f":"IF(NETWORKDAYS(J883+1,H883,DiasNOLaborables)<=0,\"\",NETWORKDAYS(J883+1,H883,DiasNOLaborables))","v":""},null,null,{"$f":"IFERROR(VLOOKUP(E883,$X$51:$Y$64,2),\"\")","v":35}]
[873,20219050125942,"2021-11-02","CORREO ELECTRÓNICO","SOLICITUD DE INFORMACIÓN Y DOCUMENTOS","INFORMES AMBIENTALES","SUBDIRECCIÓN DE ESTUDIOS AMBIENTALES","2021-11-04","CORREO ELECTRÓNICO",{"$f":"IFERROR(WORKDAY(C884,P884,DiasNOLaborables),\"\")","v":"2021-12-01"},{"$f":"+IF(C884=\"\",\"\",IF(H884=\"\",\"SIN RESPUESTA\",(IF(H884<=J884,\"A TIEMPO\",\"FUERA DE TIEMPO\"))))","v":"A TIEMPO"},{"$f":"IF(H884=\"\",\"\",NETWORKDAYS(C884+1,H884,DiasNOLaborables))","v":2},{"$f":"IF(NETWORKDAYS(J884+1,H884,DiasNOLaborables)<=0,\"\",NETWORKDAYS(J884+1,H884,DiasNOLaborables))","v":""},null,null,{"$f":"IFERROR(VLOOKUP(E884,$X$51:$Y$64,2),\"\")","v":20}]
[874,20219050125952,"2021-11-02","CORREO ELECTRÓNICO","CERTIFICACIONES DE TIEMPO, CLIMA Y EVENTOS HIDROLÓGICOS","CERTIFICACIONES DE TIEMPO Y CLIMA","SUBDIRECCIÓN DE METEOROLOGÍA","2021-11-24","CORREO ELECTRÓNICO",{"$f":"IFERROR(WORKDAY(C885,P885,DiasNOLaborables),\"\")","v":"2021-12-23"},{"$f":"+IF(C885=\"\",\"\",IF(H885=\"\",\"SIN RESPUESTA\",(IF(H885<=J885,\"A TIEMPO\",\"FUERA DE TIEMPO\"))))","v":"A TIEMPO"},{"$f":"IF(H885=\"\",\"\",NETWORKDAYS(C885+1,H885,DiasNOLaborables))","v":15},{"$f":"IF(NETWORKDAYS(J885+1,H885,DiasNOLaborables)<=0,\"\",NETWORKDAYS(J885+1,H885,DiasNOLaborables))","v":""},null,null,{"$f":"IFERROR(VLOOKUP(E885,$X$51:$Y$64,2),\"\")","v":35}]
[875,20219050125962,"2021-11-02","CORREO ELECTRÓNICO","SOLICITUD DE INFORMACIÓN Y DOCUMENTOS","INFORMES AMBIENTALES","SUBDIRECCIÓN DE ESTUDIOS AMBIENTALES","2021-11-05","CORREO ELECTRÓNICO",{"$f":"IFERROR(WORKDAY(C886,P886,DiasNOLaborables),\"\")","v":"2021-12-01"},{"$f":"+IF(C886=\"\",\"\",IF(H886=\"\",\"SIN RESPUESTA\",(IF(H886<=J886,\"A TIEMPO\",\"FUERA DE TIEMPO\"))))","v":"A TIEMPO"},{"$f":"IF(H886=\"\",\"\",NETWORKDAYS(C886+1,H886,DiasNOLaborables))","v":3},{"$f":"IF(NETWORKDAYS(J886+1,H886,DiasNOLaborables)<=0,\"\",NETWORKDAYS(J886+1,H886,DiasNOLaborables))","v":""},null,null,{"$f":"IFERROR(VLOOKUP(E886,$X$51:$Y$64,2),\"\")","v":20}]
[876,20219050125972,"2021-11-02","CORREO ELECTRÓNICO","SOLICITUD DE INFORMACIÓN Y DOCUMENTOS","INFORMES AMBIENTALES","SUBDIRECCIÓN DE HIDROLOGÍA","2021-11-11","CORREO ELECTRÓNICO",{"$f":"IFERROR(WORKDAY(C887,P887,DiasNOLaborables),\"\")","v":"2021-12-01"},{"$f":"+IF(C887=\"\",\"\",IF(H887=\"\",\"SIN RESPUESTA\",(IF(H887<=J887,\"A TIEMPO\",\"FUERA DE TIEMPO\"))))","v":"A TIEMPO"},{"$f":"IF(H887=\"\",\"\",NETWORKDAYS(C887+1,H887,DiasNOLaborables))","v":7},{"$f":"IF(NETWORKDAYS(J887+1,H887,DiasNOLaborables)<=0,\"\",NETWORKDAYS(J887+1,H887,DiasNOLaborables))","v":""},null,null,{"$f":"IFERROR(VLOOKUP(E887,$X$51:$Y$64,2),\"\")","v":20}]
[877,20219050125982,"2021-11-02","CORREO ELECTRÓNICO","SOLICITUD DE INFORMACIÓN Y DOCUMENTOS","INFORMES AMBIENTALES","SUBDIRECCIÓN DE HIDROLOGÍA","2021-11-05","CORREO ELECTRÓNICO",{"$f":"IFERROR(WORKDAY(C888,P888,DiasNOLaborables),\"\")","v":"2021-12-01"},{"$f":"+IF(C888=\"\",\"\",IF(H888=\"\",\"SIN RESPUESTA\",(IF(H888<=J888,\"A TIEMPO\",\"FUERA DE TIEMPO\"))))","v":"A TIEMPO"},{"$f":"IF(H888=\"\",\"\",NETWORKDAYS(C888+1,H888,DiasNOLaborables))","v":3},{"$f":"IF(NETWORKDAYS(J888+1,H888,DiasNOLaborables)<=0,\"\",NETWORKDAYS(J888+1,H888,DiasNOLaborables))","v":""},null,null,{"$f":"IFERROR(VLOOKUP(E888,$X$51:$Y$64,2),\"\")","v":20}]
[878,20219050125862,"2021-11-02","CORREO ELECTRÓNICO","SOLICITUD DE INFORMACIÓN Y DOCUMENTOS","SOLICITUD DE INFORMACIÓN HIDROMETEOROLÓGICA","GRUPO DE SERVICIO AL CIUDADANO ","2021-11-11","CORREO ELECTRÓNICO",{"$f":"IFERROR(WORKDAY(C889,P889,DiasNOLaborables),\"\")","v":"2021-12-01"},{"$f":"+IF(C889=\"\",\"\",IF(H889=\"\",\"SIN RESPUESTA\",(IF(H889<=J889,\"A TIEMPO\",\"FUERA DE TIEMPO\"))))","v":"A TIEMPO"},{"$f":"IF(H889=\"\",\"\",NETWORKDAYS(C889+1,H889,DiasNOLaborables))","v":7},{"$f":"IF(NETWORKDAYS(J889+1,H889,DiasNOLaborables)<=0,\"\",NETWORKDAYS(J889+1,H889,DiasNOLaborables))","v":""},null,null,{"$f":"IFERROR(VLOOKUP(E889,$X$51:$Y$64,2),\"\")","v":20}]
[879,20219050125872,"2021-11-02","CORREO ELECTRÓNICO","SOLICITUD DE INFORMACIÓN Y DOCUMENTOS","SOLICITUD DE INFORMACIÓN HIDROMETEOROLÓGICA","GRUPO DE SERVICIO AL CIUDADANO ","2021-11-09","CORREO ELECTRÓNICO",{"$f":"IFERROR(WORKDAY(C890,P890,DiasNOLaborables),\"\")","v":"2021-12-01"},{"$f":"+IF(C890=\"\",\"\",IF(H890=\"\",\"SIN RESPUESTA\",(IF(H890<=J890,\"A TIEMPO\",\"FUERA DE TIEMPO\"))))","v":"A TIEMPO"},{"$f":"IF(H890=\"\",\"\",NETWORKDAYS(C890+1,H890,DiasNOLaborables))","v":5},{"$f":"IF(NETWORKDAYS(J890+1,H890,DiasNOLaborables)<=0,\"\",NETWORKDAYS(J890+1,H890,DiasNOLaborables))","v":""},null,null,{"$f":"IFERROR(VLOOKUP(E890,$X$51:$Y$64,2),\"\")","v":20}]
[880,20219050125892,"2021-11-02","CORREO ELECTRÓNICO","SOLICITUD DE INFORMACIÓN Y DOCUMENTOS","SOLICITUD DE INFORMACIÓN HIDROMETEOROLÓGICA","GRUPO DE SERVICIO AL CIUDADANO ","2021-11-10","CORREO ELECTRÓNICO",{"$f":"IFERROR(WORKDAY(C891,P891,DiasNOLaborables),\"\")","v":"2021-12-01"},{"$f":"+IF(C891=\"\",\"\",IF(H891=\"\",\"SIN RESPUESTA\",(IF(H891<=J891,\"A TIEMPO\",\"FUERA DE TIEMPO\"))))","v":"A TIEMPO"},{"$f":"IF(H891=\"\",\"\",NETWORKDAYS(C891+1,H891,DiasNOLaborables))","v":6},{"$f":"IF(NETWORKDAYS(J891+1,H891,DiasNOLaborables)<=0,\"\",NETWORKDAYS(J891+1,H891,DiasNOLaborables))","v":""},null,null,{"$f":"IFERROR(VLOOKUP(E891,$X$51:$Y$64,2),\"\")","v":20}]
[881,20219050125912,"2021-11-02","CORREO ELECTRÓNICO","SOLICITUD DE INFORMACIÓN Y DOCUMENTOS","SOLICITUD DE INFORMACIÓN HIDROMETEOROLÓGICA","GRUPO DE SERVICIO AL CIUDADANO ","2021-11-09","CORREO ELECTRÓNICO",{"$f":"IFERROR(WORKDAY(C892,P892,DiasNOLaborables),\"\")","v":"2021-12-01"},{"$f":"+IF(C892=\"\",\"\",IF(H892=\"\",\"SIN RESPUESTA\",(IF(H892<=J892,\"A TIEMPO\",\"FUERA DE TIEMPO\"))))","v":"A TIEMPO"},{"$f":"IF(H892=\"\",\"\",NETWORKDAYS(C892+1,H892,DiasNOLaborables))","v":5},{"$f":"IF(NETWORKDAYS(J892+1,H892,DiasNOLaborables)<=0,\"\",NETWORKDAYS(J892+1,H892,DiasNOLaborables))","v":""},null,null,{"$f":"IFERROR(VLOOKUP(E892,$X$51:$Y$64,2),\"\")","v":20}]
[882,20219050125902,"2021-11-02","CORREO ELECTRÓNICO","SOLICITUD DE INFORMACIÓN Y DOCUMENTOS","SOLICITUD DE INFORMACIÓN HIDROMETEOROLÓGICA","GRUPO DE SERVICIO AL CIUDADANO ","2021-11-10","CORREO ELECTRÓNICO",{"$f":"IFERROR(WORKDAY(C893,P893,DiasNOLaborables),\"\")","v":"2021-12-01"},{"$f":"+IF(C893=\"\",\"\",IF(H893=\"\",\"SIN RESPUESTA\",(IF(H893<=J893,\"A TIEMPO\",\"FUERA DE TIEMPO\"))))","v":"A TIEMPO"},{"$f":"IF(H893=\"\",\"\",NETWORKDAYS(C893+1,H893,DiasNOLaborables))","v":6},{"$f":"IF(NETWORKDAYS(J893+1,H893,DiasNOLaborables)<=0,\"\",NETWORKDAYS(J893+1,H893,DiasNOLaborables))","v":""},null,null,{"$f":"IFERROR(VLOOKUP(E893,$X$51:$Y$64,2),\"\")","v":20}]
[883,20219050125922,"2021-11-02","CORREO ELECTRÓNICO","SOLICITUD DE INFORMACIÓN Y DOCUMENTOS","SOLICITUD DE INFORMACIÓN HIDROMETEOROLÓGICA","GRUPO DE SERVICIO AL CIUDADANO ","2021-11-11","CORREO ELECTRÓNICO",{"$f":"IFERROR(WORKDAY(C894,P894,DiasNOLaborables),\"\")","v":"2021-12-01"},{"$f":"+IF(C894=\"\",\"\",IF(H894=\"\",\"SIN RESPUESTA\",(IF(H894<=J894,\"A TIEMPO\",\"FUERA DE TIEMPO\"))))","v":"A TIEMPO"},{"$f":"IF(H894=\"\",\"\",NETWORKDAYS(C894+1,H894,DiasNOLaborables))","v":7},{"$f":"IF(NETWORKDAYS(J894+1,H894,DiasNOLaborables)<=0,\"\",NETWORKDAYS(J894+1,H894,DiasNOLaborables))","v":""},null,null,{"$f":"IFERROR(VLOOKUP(E894,$X$51:$Y$64,2),\"\")","v":20}]
[884,20219050125992,"2021-11-02","MODULO CONTACTENOS","SOLICITUD DE INFORMACIÓN Y DOCUMENTOS","SOLICITUD DE INFORMACIÓN HIDROMETEOROLÓGICA","GRUPO DE SERVICIO AL CIUDADANO ","2021-11-10","CORREO ELECTRÓNICO",{"$f":"IFERROR(WORKDAY(C895,P895,DiasNOLaborables),\"\")","v":"2021-12-01"},{"$f":"+IF(C895=\"\",\"\",IF(H895=\"\",\"SIN RESPUESTA\",(IF(H895<=J895,\"A TIEMPO\",\"FUERA DE TIEMPO\"))))","v":"A TIEMPO"},{"$f":"IF(H895=\"\",\"\",NETWORKDAYS(C895+1,H895,DiasNOLaborables))","v":6},{"$f":"IF(NETWORKDAYS(J895+1,H895,DiasNOLaborables)<=0,\"\",NETWORKDAYS(J895+1,H895,DiasNOLaborables))","v":""},null,null,{"$f":"IFERROR(VLOOKUP(E895,$X$51:$Y$64,2),\"\")","v":20}]
[885,20219050126002,"2021-11-02","MODULO CONTACTENOS","SOLICITUD DE INFORMACIÓN Y DOCUMENTOS","SOLICITUD DE INFORMACIÓN HIDROMETEOROLÓGICA","GRUPO DE SERVICIO AL CIUDADANO ","2021-11-11","CORREO ELECTRÓNICO",{"$f":"IFERROR(WORKDAY(C896,P896,DiasNOLaborables),\"\")","v":"2021-12-01"},{"$f":"+IF(C896=\"\",\"\",IF(H896=\"\",\"SIN RESPUESTA\",(IF(H896<=J896,\"A TIEMPO\",\"FUERA DE TIEMPO\"))))","v":"A TIEMPO"},{"$f":"IF(H896=\"\",\"\",NETWORKDAYS(C896+1,H896,DiasNOLaborables))","v":7},{"$f":"IF(NETWORKDAYS(J896+1,H896,DiasNOLaborables)<=0,\"\",NETWORKDAYS(J896+1,H896,DiasNOLaborables))","v":""},null,null,{"$f":"IFERROR(VLOOKUP(E896,$X$51:$Y$64,2),\"\")","v":20}]
[886,20219050126012,"2021-11-02","MODULO CONTACTENOS","SOLICITUD DE INFORMACIÓN Y DOCUMENTOS","SOLICITUD DE INFORMACIÓN HIDROMETEOROLÓGICA","GRUPO DE SERVICIO AL CIUDADANO ","2021-11-11","CORREO ELECTRÓNICO",{"$f":"IFERROR(WORKDAY(C897,P897,DiasNOLaborables),\"\")","v":"2021-12-01"},{"$f":"+IF(C897=\"\",\"\",IF(H897=\"\",\"SIN RESPUESTA\",(IF(H897<=J897,\"A TIEMPO\",\"FUERA DE TIEMPO\"))))","v":"A TIEMPO"},{"$f":"IF(H897=\"\",\"\",NETWORKDAYS(C897+1,H897,DiasNOLaborables))","v":7},{"$f":"IF(NETWORKDAYS(J897+1,H897,DiasNOLaborables)<=0,\"\",NETWORKDAYS(J897+1,H897,DiasNOLaborables))","v":""},null,null,{"$f":"IFERROR(VLOOKUP(E897,$X$51:$Y$64,2),\"\")","v":20}]
[887,20219050126032,"2021-11-02","MODULO CONTACTENOS","SOLICITUD DE INFORMACIÓN Y DOCUMENTOS","SOLICITUD DE INFORMACIÓN HIDROMETEOROLÓGICA","GRUPO DE SERVICIO AL CIUDADANO ","2021-11-12","CORREO ELECTRÓNICO",{"$f":"IFERROR(WORKDAY(C898,P898,DiasNOLaborables),\"\")","v":"2021-12-01"},{"$f":"+IF(C898=\"\",\"\",IF(H898=\"\",\"SIN RESPUESTA\",(IF(H898<=J898,\"A TIEMPO\",\"FUERA DE TIEMPO\"))))","v":"A TIEMPO"},{"$f":"IF(H898=\"\",\"\",NETWORKDAYS(C898+1,H898,DiasNOLaborables))","v":8},{"$f":"IF(NETWORKDAYS(J898+1,H898,DiasNOLaborables)<=0,\"\",NETWORKDAYS(J898+1,H898,DiasNOLaborables))","v":""},null,null,{"$f":"IFERROR(VLOOKUP(E898,$X$51:$Y$64,2),\"\")","v":20}]
[888,20219050126042,"2021-11-02","MODULO CONTACTENOS","SOLICITUD DE INFORMACIÓN Y DOCUMENTOS","SOLICITUD DE INFORMACIÓN HIDROMETEOROLÓGICA","GRUPO DE SERVICIO AL CIUDADANO ","2021-11-12","CORREO ELECTRÓNICO",{"$f":"IFERROR(WORKDAY(C899,P899,DiasNOLaborables),\"\")","v":"2021-12-01"},{"$f":"+IF(C899=\"\",\"\",IF(H899=\"\",\"SIN RESPUESTA\",(IF(H899<=J899,\"A TIEMPO\",\"FUERA DE TIEMPO\"))))","v":"A TIEMPO"},{"$f":"IF(H899=\"\",\"\",NETWORKDAYS(C899+1,H899,DiasNOLaborables))","v":8},{"$f":"IF(NETWORKDAYS(J899+1,H899,DiasNOLaborables)<=0,\"\",NETWORKDAYS(J899+1,H899,DiasNOLaborables))","v":""},null,null,{"$f":"IFERROR(VLOOKUP(E899,$X$51:$Y$64,2),\"\")","v":20}]
[889,20219050126082,"2021-11-02","MODULO CONTACTENOS","SOLICITUD DE INFORMACIÓN Y DOCUMENTOS","SOLICITUD DE INFORMACIÓN HIDROMETEOROLÓGICA","GRUPO DE SERVICIO AL CIUDADANO ","2021-11-12","CORREO ELECTRÓNICO",{"$f":"IFERROR(WORKDAY(C900,P900,DiasNOLaborables),\"\")","v":"2021-12-01"},{"$f":"+IF(C900=\"\",\"\",IF(H900=\"\",\"SIN RESPUESTA\",(IF(H900<=J900,\"A TIEMPO\",\"FUERA DE TIEMPO\"))))","v":"A TIEMPO"},{"$f":"IF(H900=\"\",\"\",NETWORKDAYS(C900+1,H900,DiasNOLaborables))","v":8},{"$f":"IF(NETWORKDAYS(J900+1,H900,DiasNOLaborables)<=0,\"\",NETWORKDAYS(J900+1,H900,DiasNOLaborables))","v":""},null,null,{"$f":"IFERROR(VLOOKUP(E900,$X$51:$Y$64,2),\"\")","v":20}]
[890,20219050126092,"2021-11-02","CORREO ELECTRÓNICO","SOLICITUD DE INFORMACIÓN Y DOCUMENTOS","SOLICITUD DE INFORMACIÓN HIDROMETEOROLÓGICA","GRUPO DE SERVICIO AL CIUDADANO ","2021-11-12","CORREO ELECTRÓNICO",{"$f":"IFERROR(WORKDAY(C901,P901,DiasNOLaborables),\"\")","v":"2021-12-01"},{"$f":"+IF(C901=\"\",\"\",IF(H901=\"\",\"SIN RESPUESTA\",(IF(H901<=J901,\"A TIEMPO\",\"FUERA DE TIEMPO\"))))","v":"A TIEMPO"},{"$f":"IF(H901=\"\",\"\",NETWORKDAYS(C901+1,H901,DiasNOLaborables))","v":8},{"$f":"IF(NETWORKDAYS(J901+1,H901,DiasNOLaborables)<=0,\"\",NETWORKDAYS(J901+1,H901,DiasNOLaborables))","v":""},null,null,{"$f":"IFERROR(VLOOKUP(E901,$X$51:$Y$64,2),\"\")","v":20}]
[891,20219050126102,"2021-11-02","MODULO CONTACTENOS","SOLICITUD DE INFORMACIÓN Y DOCUMENTOS","SOLICITUD DE INFORMACIÓN HIDROMETEOROLÓGICA","GRUPO DE SERVICIO AL CIUDADANO ","2021-11-12","CORREO ELECTRÓNICO",{"$f":"IFERROR(WORKDAY(C902,P902,DiasNOLaborables),\"\")","v":"2021-12-01"},{"$f":"+IF(C902=\"\",\"\",IF(H902=\"\",\"SIN RESPUESTA\",(IF(H902<=J902,\"A TIEMPO\",\"FUERA DE TIEMPO\"))))","v":"A TIEMPO"},{"$f":"IF(H902=\"\",\"\",NETWORKDAYS(C902+1,H902,DiasNOLaborables))","v":8},{"$f":"IF(NETWORKDAYS(J902+1,H902,DiasNOLaborables)<=0,\"\",NETWORKDAYS(J902+1,H902,DiasNOLaborables))","v":""},null,null,{"$f":"IFERROR(VLOOKUP(E902,$X$51:$Y$64,2),\"\")","v":20}]
[892,20219050126272,"2021-11-02","CORREO ELECTRÓNICO","SOLICITUD DE INFORMACIÓN Y DOCUMENTOS","SOLICITUD DE INFORMACIÓN HIDROMETEOROLÓGICA","GRUPO DE SERVICIO AL CIUDADANO ","2021-11-12","CORREO ELECTRÓNICO",{"$f":"IFERROR(WORKDAY(C903,P903,DiasNOLaborables),\"\")","v":"2021-12-01"},{"$f":"+IF(C903=\"\",\"\",IF(H903=\"\",\"SIN RESPUESTA\",(IF(H903<=J903,\"A TIEMPO\",\"FUERA DE TIEMPO\"))))","v":"A TIEMPO"},{"$f":"IF(H903=\"\",\"\",NETWORKDAYS(C903+1,H903,DiasNOLaborables))","v":8},{"$f":"IF(NETWORKDAYS(J903+1,H903,DiasNOLaborables)<=0,\"\",NETWORKDAYS(J903+1,H903,DiasNOLaborables))","v":""},null,null,{"$f":"IFERROR(VLOOKUP(E903,$X$51:$Y$64,2),\"\")","v":20}]
[893,20219050126302,"2021-11-02","CORREO ELECTRÓNICO","SOLICITUD DE INFORMACIÓN Y DOCUMENTOS","SOLICITUD DE INFORMACIÓN HIDROMETEOROLÓGICA","GRUPO DE SERVICIO AL CIUDADANO ","2021-11-12","CORREO ELECTRÓNICO",{"$f":"IFERROR(WORKDAY(C904,P904,DiasNOLaborables),\"\")","v":"2021-12-01"},{"$f":"+IF(C904=\"\",\"\",IF(H904=\"\",\"SIN RESPUESTA\",(IF(H904<=J904,\"A TIEMPO\",\"FUERA DE TIEMPO\"))))","v":"A TIEMPO"},{"$f":"IF(H904=\"\",\"\",NETWORKDAYS(C904+1,H904,DiasNOLaborables))","v":8},{"$f":"IF(NETWORKDAYS(J904+1,H904,DiasNOLaborables)<=0,\"\",NETWORKDAYS(J904+1,H904,DiasNOLaborables))","v":""},null,null,{"$f":"IFERROR(VLOOKUP(E904,$X$51:$Y$64,2),\"\")","v":20}]
[894,20219050126112,"2021-11-02","CORREO ELECTRÓNICO","CERTIFICACIONES DE TIEMPO, CLIMA Y EVENTOS HIDROLÓGICOS","CERTIFICACIONES DE TIEMPO Y CLIMA","SUBDIRECCIÓN DE METEOROLOGÍA","2021-11-22","CORREO ELECTRÓNICO",{"$f":"IFERROR(WORKDAY(C905,P905,DiasNOLaborables),\"\")","v":"2021-12-23"},{"$f":"+IF(C905=\"\",\"\",IF(H905=\"\",\"SIN RESPUESTA\",(IF(H905<=J905,\"A TIEMPO\",\"FUERA DE TIEMPO\"))))","v":"A TIEMPO"},{"$f":"IF(H905=\"\",\"\",NETWORKDAYS(C905+1,H905,DiasNOLaborables))","v":13},{"$f":"IF(NETWORKDAYS(J905+1,H905,DiasNOLaborables)<=0,\"\",NETWORKDAYS(J905+1,H905,DiasNOLaborables))","v":""},null,null,{"$f":"IFERROR(VLOOKUP(E905,$X$51:$Y$64,2),\"\")","v":35}]
[895,20219050126212,"2021-11-02","CORREO ELECTRÓNICO","SOLICITUD DE INFORMACIÓN Y DOCUMENTOS","REGISTROS AMBIENTALES","SUBDIRECCIÓN DE ESTUDIOS AMBIENTALES","2021-11-02","CORREO ELECTRÓNICO",{"$f":"IFERROR(WORKDAY(C906,P906,DiasNOLaborables),\"\")","v":"2021-12-01"},{"$f":"+IF(C906=\"\",\"\",IF(H906=\"\",\"SIN RESPUESTA\",(IF(H906<=J906,\"A TIEMPO\",\"FUERA DE TIEMPO\"))))","v":"A TIEMPO"},{"$f":"IF(H906=\"\",\"\",NETWORKDAYS(C906+1,H906,DiasNOLaborables))","v":-2},{"$f":"IF(NETWORKDAYS(J906+1,H906,DiasNOLaborables)<=0,\"\",NETWORKDAYS(J906+1,H906,DiasNOLaborables))","v":""},null,null,{"$f":"IFERROR(VLOOKUP(E906,$X$51:$Y$64,2),\"\")","v":20}]
[896,20219050126332,"2021-11-02","CORREO ELECTRÓNICO","SOLICITUD DE INFORMACIÓN Y DOCUMENTOS","BOSQUES","SUBDIRECCIÓN DE ECOSISTEMAS E INFORMACIÓN AMBIENTAL","2021-11-09","CORREO ELECTRÓNICO",{"$f":"IFERROR(WORKDAY(C907,P907,DiasNOLaborables),\"\")","v":"2021-12-01"},{"$f":"+IF(C907=\"\",\"\",IF(H907=\"\",\"SIN RESPUESTA\",(IF(H907<=J907,\"A TIEMPO\",\"FUERA DE TIEMPO\"))))","v":"A TIEMPO"},{"$f":"IF(H907=\"\",\"\",NETWORKDAYS(C907+1,H907,DiasNOLaborables))","v":5},{"$f":"IF(NETWORKDAYS(J907+1,H907,DiasNOLaborables)<=0,\"\",NETWORKDAYS(J907+1,H907,DiasNOLaborables))","v":""},null,null,{"$f":"IFERROR(VLOOKUP(E907,$X$51:$Y$64,2),\"\")","v":20}]
[897,20219050126552,"2021-11-03","CORREO ELECTRÓNICO","CERTIFICACIONES DE TIEMPO, CLIMA Y EVENTOS HIDROLÓGICOS","CERTIFICACIONES DE TIEMPO Y CLIMA","SUBDIRECCIÓN DE METEOROLOGÍA","2021-11-26","CORREO ELECTRÓNICO",{"$f":"IFERROR(WORKDAY(C908,P908,DiasNOLaborables),\"\")","v":"2021-12-24"},{"$f":"+IF(C908=\"\",\"\",IF(H908=\"\",\"SIN RESPUESTA\",(IF(H908<=J908,\"A TIEMPO\",\"FUERA DE TIEMPO\"))))","v":"A TIEMPO"},{"$f":"IF(H908=\"\",\"\",NETWORKDAYS(C908+1,H908,DiasNOLaborables))","v":16},{"$f":"IF(NETWORKDAYS(J908+1,H908,DiasNOLaborables)<=0,\"\",NETWORKDAYS(J908+1,H908,DiasNOLaborables))","v":""},null,null,{"$f":"IFERROR(VLOOKUP(E908,$X$51:$Y$64,2),\"\")","v":35}]
[898,20219050126572,"2021-11-03","CORREO ELECTRÓNICO","PETICIÓN","INFORMES AMBIENTALES","SUBDIRECCIÓN DE ESTUDIOS AMBIENTALES","2021-11-17","CORREO ELECTRÓNICO",{"$f":"IFERROR(WORKDAY(C909,P909,DiasNOLaborables),\"\")","v":"2021-12-17"},{"$f":"+IF(C909=\"\",\"\",IF(H909=\"\",\"SIN RESPUESTA\",(IF(H909<=J909,\"A TIEMPO\",\"FUERA DE TIEMPO\"))))","v":"A TIEMPO"},{"$f":"IF(H909=\"\",\"\",NETWORKDAYS(C909+1,H909,DiasNOLaborables))","v":9},{"$f":"IF(NETWORKDAYS(J909+1,H909,DiasNOLaborables)<=0,\"\",NETWORKDAYS(J909+1,H909,DiasNOLaborables))","v":""},null,null,{"$f":"IFERROR(VLOOKUP(E909,$X$51:$Y$64,2),\"\")","v":30}]
[{"$f":"IF(B910<>\"\",A909+1,\"\")","v":899},20219050126592,"2021-11-03","CORREO ELECTRÓNICO","SOLICITUD DE INFORMACIÓN Y DOCUMENTOS","REGISTROS AMBIENTALES","SUBDIRECCIÓN DE ESTUDIOS AMBIENTALES","2021-11-05","CORREO ELECTRÓNICO",{"$f":"IFERROR(WORKDAY(C910,P910,DiasNOLaborables),\"\")","v":"2021-12-02"},{"$f":"+IF(C910=\"\",\"\",IF(H910=\"\",\"SIN RESPUESTA\",(IF(H910<=J910,\"A TIEMPO\",\"FUERA DE TIEMPO\"))))","v":"A TIEMPO"},{"$f":"IF(H910=\"\",\"\",NETWORKDAYS(C910+1,H910,DiasNOLaborables))","v":2},{"$f":"IF(NETWORKDAYS(J910+1,H910,DiasNOLaborables)<=0,\"\",NETWORKDAYS(J910+1,H910,DiasNOLaborables))","v":""},null,null,{"$f":"IFERROR(VLOOKUP(E910,$X$51:$Y$64,2),\"\")","v":20}]
[900,20219050126622,"2021-11-03","CORREO ELECTRÓNICO","SOLICITUD DE INFORMACIÓN Y DOCUMENTOS","PRONÓSTICOS Y ALERTAS","OFICINA DEL SERVICIO DE PRONÓSTICOS Y ALERTAS","2021-11-19","CORREO ELECTRÓNICO",{"$f":"IFERROR(WORKDAY(C911,P911,DiasNOLaborables),\"\")","v":"2021-12-02"},{"$f":"+IF(C911=\"\",\"\",IF(H911=\"\",\"SIN RESPUESTA\",(IF(H911<=J911,\"A TIEMPO\",\"FUERA DE TIEMPO\"))))","v":"A TIEMPO"},{"$f":"IF(H911=\"\",\"\",NETWORKDAYS(C911+1,H911,DiasNOLaborables))","v":11},{"$f":"IF(NETWORKDAYS(J911+1,H911,DiasNOLaborables)<=0,\"\",NETWORKDAYS(J911+1,H911,DiasNOLaborables))","v":""},null,null,{"$f":"IFERROR(VLOOKUP(E911,$X$51:$Y$64,2),\"\")","v":20}]
[901,20219050126652,"2021-11-03","CORREO ELECTRÓNICO","SOLICITUD DE INFORMACIÓN Y DOCUMENTOS","ADMINISTRATIVA","GRUPO DE ADMINISTRACIÓN Y DESARROLLO DEL TALENTO HUMANO","2021-11-16","CORREO ELECTRÓNICO",{"$f":"IFERROR(WORKDAY(C912,P912,DiasNOLaborables),\"\")","v":"2021-12-02"},{"$f":"+IF(C912=\"\",\"\",IF(H912=\"\",\"SIN RESPUESTA\",(IF(H912<=J912,\"A TIEMPO\",\"FUERA DE TIEMPO\"))))","v":"A TIEMPO"},{"$f":"IF(H912=\"\",\"\",NETWORKDAYS(C912+1,H912,DiasNOLaborables))","v":8},{"$f":"IF(NETWORKDAYS(J912+1,H912,DiasNOLaborables)<=0,\"\",NETWORKDAYS(J912+1,H912,DiasNOLaborables))","v":""},null,null,{"$f":"IFERROR(VLOOKUP(E912,$X$51:$Y$64,2),\"\")","v":20}]
[902,20219050126672,"2021-11-03","CORREO ELECTRÓNICO","SOLICITUD JUDICIAL","JURIDICO","OFICINA ASESORA JURÍDICA","2021-11-05","CORREO ELECTRÓNICO",{"$f":"IFERROR(WORKDAY(C913,P913,DiasNOLaborables),\"\")","v":"2021-11-10"},{"$f":"+IF(C913=\"\",\"\",IF(H913=\"\",\"SIN RESPUESTA\",(IF(H913<=J913,\"A TIEMPO\",\"FUERA DE TIEMPO\"))))","v":"A TIEMPO"},{"$f":"IF(H913=\"\",\"\",NETWORKDAYS(C913+1,H913,DiasNOLaborables))","v":2},{"$f":"IF(NETWORKDAYS(J913+1,H913,DiasNOLaborables)<=0,\"\",NETWORKDAYS(J913+1,H913,DiasNOLaborables))","v":""},null,null,{"$f":"IFERROR(VLOOKUP(E913,$X$51:$Y$64,2),\"\")","v":5}]
[903,20219050126682,"2021-11-03","CORREO ELECTRÓNICO","SOLICITUD DE INFORMACIÓN Y DOCUMENTOS","REGISTROS AMBIENTALES","SUBDIRECCIÓN DE ESTUDIOS AMBIENTALES","2021-11-03","CORREO ELECTRÓNICO",{"$f":"IFERROR(WORKDAY(C914,P914,DiasNOLaborables),\"\")","v":"2021-12-02"},{"$f":"+IF(C914=\"\",\"\",IF(H914=\"\",\"SIN RESPUESTA\",(IF(H914<=J914,\"A TIEMPO\",\"FUERA DE TIEMPO\"))))","v":"A TIEMPO"},{"$f":"IF(H914=\"\",\"\",NETWORKDAYS(C914+1,H914,DiasNOLaborables))","v":-2},{"$f":"IF(NETWORKDAYS(J914+1,H914,DiasNOLaborables)<=0,\"\",NETWORKDAYS(J914+1,H914,DiasNOLaborables))","v":""},null,null,{"$f":"IFERROR(VLOOKUP(E914,$X$51:$Y$64,2),\"\")","v":20}]
[904,20219050126972,"2021-11-03","CORREO ELECTRÓNICO","SOLICITUD JUDICIAL","JURIDICO","OFICINA ASESORA JURÍDICA","2021-11-05","CORREO ELECTRÓNICO",{"$f":"IFERROR(WORKDAY(C915,P915,DiasNOLaborables),\"\")","v":"2021-11-10"},{"$f":"+IF(C915=\"\",\"\",IF(H915=\"\",\"SIN RESPUESTA\",(IF(H915<=J915,\"A TIEMPO\",\"FUERA DE TIEMPO\"))))","v":"A TIEMPO"},{"$f":"IF(H915=\"\",\"\",NETWORKDAYS(C915+1,H915,DiasNOLaborables))","v":2},{"$f":"IF(NETWORKDAYS(J915+1,H915,DiasNOLaborables)<=0,\"\",NETWORKDAYS(J915+1,H915,DiasNOLaborables))","v":""},null,null,{"$f":"IFERROR(VLOOKUP(E915,$X$51:$Y$64,2),\"\")","v":5}]
[905,20219050127002,"2021-11-03","CORREO ELECTRÓNICO","SOLICITUD DE INFORMACIÓN Y DOCUMENTOS","JURIDICO","OFICINA ASESORA JURÍDICA","2021-11-27","CORREO ELECTRÓNICO",{"$f":"IFERROR(WORKDAY(C916,P916,DiasNOLaborables),\"\")","v":"2021-12-02"},{"$f":"+IF(C916=\"\",\"\",IF(H916=\"\",\"SIN RESPUESTA\",(IF(H916<=J916,\"A TIEMPO\",\"FUERA DE TIEMPO\"))))","v":"A TIEMPO"},{"$f":"IF(H916=\"\",\"\",NETWORKDAYS(C916+1,H916,DiasNOLaborables))","v":16},{"$f":"IF(NETWORKDAYS(J916+1,H916,DiasNOLaborables)<=0,\"\",NETWORKDAYS(J916+1,H916,DiasNOLaborables))","v":""},null,null,{"$f":"IFERROR(VLOOKUP(E916,$X$51:$Y$64,2),\"\")","v":20}]
[906,20219050127032,"2021-11-03","CORREO ELECTRÓNICO","CERTIFICACIONES DE TIEMPO, CLIMA Y EVENTOS HIDROLÓGICOS","CERTIFICACIONES DE TIEMPO Y CLIMA","SUBDIRECCIÓN DE METEOROLOGÍA","2021-11-17","CORREO ELECTRÓNICO",{"$f":"IFERROR(WORKDAY(C917,P917,DiasNOLaborables),\"\")","v":"2021-12-24"},{"$f":"+IF(C917=\"\",\"\",IF(H917=\"\",\"SIN RESPUESTA\",(IF(H917<=J917,\"A TIEMPO\",\"FUERA DE TIEMPO\"))))","v":"A TIEMPO"},{"$f":"IF(H917=\"\",\"\",NETWORKDAYS(C917+1,H917,DiasNOLaborables))","v":9},{"$f":"IF(NETWORKDAYS(J917+1,H917,DiasNOLaborables)<=0,\"\",NETWORKDAYS(J917+1,H917,DiasNOLaborables))","v":""},null,null,{"$f":"IFERROR(VLOOKUP(E917,$X$51:$Y$64,2),\"\")","v":35}]
[907,20219050127052,"2021-11-03","CORREO ELECTRÓNICO","CERTIFICACIONES DE TIEMPO, CLIMA Y EVENTOS HIDROLÓGICOS","CERTIFICACIONES DE TIEMPO Y CLIMA","SUBDIRECCIÓN DE METEOROLOGÍA","2021-11-26","CORREO ELECTRÓNICO",{"$f":"IFERROR(WORKDAY(C918,P918,DiasNOLaborables),\"\")","v":"2021-12-24"},{"$f":"+IF(C918=\"\",\"\",IF(H918=\"\",\"SIN RESPUESTA\",(IF(H918<=J918,\"A TIEMPO\",\"FUERA DE TIEMPO\"))))","v":"A TIEMPO"},{"$f":"IF(H918=\"\",\"\",NETWORKDAYS(C918+1,H918,DiasNOLaborables))","v":16},{"$f":"IF(NETWORKDAYS(J918+1,H918,DiasNOLaborables)<=0,\"\",NETWORKDAYS(J918+1,H918,DiasNOLaborables))","v":""},null,null,{"$f":"IFERROR(VLOOKUP(E918,$X$51:$Y$64,2),\"\")","v":35}]
[908,20219050127072,"2021-11-03","CORREO ELECTRÓNICO","SOLICITUD DE INFORMACIÓN Y DOCUMENTOS","ADMINISTRATIVA","OFICINA DE INFORMÁTICA","2021-11-09","CORREO ELECTRÓNICO",{"$f":"IFERROR(WORKDAY(C919,P919,DiasNOLaborables),\"\")","v":"2021-12-02"},{"$f":"+IF(C919=\"\",\"\",IF(H919=\"\",\"SIN RESPUESTA\",(IF(H919<=J919,\"A TIEMPO\",\"FUERA DE TIEMPO\"))))","v":"A TIEMPO"},{"$f":"IF(H919=\"\",\"\",NETWORKDAYS(C919+1,H919,DiasNOLaborables))","v":4},{"$f":"IF(NETWORKDAYS(J919+1,H919,DiasNOLaborables)<=0,\"\",NETWORKDAYS(J919+1,H919,DiasNOLaborables))","v":""},null,null,{"$f":"IFERROR(VLOOKUP(E919,$X$51:$Y$64,2),\"\")","v":20}]
[909,20219050127092,"2021-11-03","CORREO ELECTRÓNICO","SOLICITUD DE INFORMACIÓN Y DOCUMENTOS","REGISTROS AMBIENTALES","SUBDIRECCIÓN DE ESTUDIOS AMBIENTALES","2021-11-18","CORREO ELECTRÓNICO",{"$f":"IFERROR(WORKDAY(C920,P920,DiasNOLaborables),\"\")","v":"2021-12-02"},{"$f":"+IF(C920=\"\",\"\",IF(H920=\"\",\"SIN RESPUESTA\",(IF(H920<=J920,\"A TIEMPO\",\"FUERA DE TIEMPO\"))))","v":"A TIEMPO"},{"$f":"IF(H920=\"\",\"\",NETWORKDAYS(C920+1,H920,DiasNOLaborables))","v":10},{"$f":"IF(NETWORKDAYS(J920+1,H920,DiasNOLaborables)<=0,\"\",NETWORKDAYS(J920+1,H920,DiasNOLaborables))","v":""},null,null,{"$f":"IFERROR(VLOOKUP(E920,$X$51:$Y$64,2),\"\")","v":20}]
[910,20219050127102,"2021-11-03","CORREO ELECTRÓNICO","SOLICITUD DE INFORMACIÓN Y DOCUMENTOS","REGISTROS AMBIENTALES","SUBDIRECCIÓN DE ESTUDIOS AMBIENTALES","2021-11-04","CORREO ELECTRÓNICO",{"$f":"IFERROR(WORKDAY(C921,P921,DiasNOLaborables),\"\")","v":"2021-12-02"},{"$f":"+IF(C921=\"\",\"\",IF(H921=\"\",\"SIN RESPUESTA\",(IF(H921<=J921,\"A TIEMPO\",\"FUERA DE TIEMPO\"))))","v":"A TIEMPO"},{"$f":"IF(H921=\"\",\"\",NETWORKDAYS(C921+1,H921,DiasNOLaborables))","v":1},{"$f":"IF(NETWORKDAYS(J921+1,H921,DiasNOLaborables)<=0,\"\",NETWORKDAYS(J921+1,H921,DiasNOLaborables))","v":""},null,null,{"$f":"IFERROR(VLOOKUP(E921,$X$51:$Y$64,2),\"\")","v":20}]
[911,20219050127142,"2021-11-03","CORREO ELECTRÓNICO","SOLICITUD DE INFORMACIÓN Y DOCUMENTOS","REGISTROS AMBIENTALES","SUBDIRECCIÓN DE ESTUDIOS AMBIENTALES","2021-11-08","CORREO ELECTRÓNICO",{"$f":"IFERROR(WORKDAY(C922,P922,DiasNOLaborables),\"\")","v":"2021-12-02"},{"$f":"+IF(C922=\"\",\"\",IF(H922=\"\",\"SIN RESPUESTA\",(IF(H922<=J922,\"A TIEMPO\",\"FUERA DE TIEMPO\"))))","v":"A TIEMPO"},{"$f":"IF(H922=\"\",\"\",NETWORKDAYS(C922+1,H922,DiasNOLaborables))","v":3},{"$f":"IF(NETWORKDAYS(J922+1,H922,DiasNOLaborables)<=0,\"\",NETWORKDAYS(J922+1,H922,DiasNOLaborables))","v":""},null,null,{"$f":"IFERROR(VLOOKUP(E922,$X$51:$Y$64,2),\"\")","v":20}]
[912,20219050127152,"2021-11-03","CORREO ELECTRÓNICO","CERTIFICACIONES DE TIEMPO, CLIMA Y EVENTOS HIDROLÓGICOS","CERTIFICACIONES DE TIEMPO Y CLIMA","SUBDIRECCIÓN DE METEOROLOGÍA","2021-11-17","CORREO ELECTRÓNICO",{"$f":"IFERROR(WORKDAY(C923,P923,DiasNOLaborables),\"\")","v":"2021-12-24"},{"$f":"+IF(C923=\"\",\"\",IF(H923=\"\",\"SIN RESPUESTA\",(IF(H923<=J923,\"A TIEMPO\",\"FUERA DE TIEMPO\"))))","v":"A TIEMPO"},{"$f":"IF(H923=\"\",\"\",NETWORKDAYS(C923+1,H923,DiasNOLaborables))","v":9},{"$f":"IF(NETWORKDAYS(J923+1,H923,DiasNOLaborables)<=0,\"\",NETWORKDAYS(J923+1,H923,DiasNOLaborables))","v":""},null,null,{"$f":"IFERROR(VLOOKUP(E923,$X$51:$Y$64,2),\"\")","v":35}]
[913,20219050127252,"2021-11-03","CORREO ELECTRÓNICO","SOLICITUD DE INFORMACIÓN Y DOCUMENTOS","ADMINISTRATIVA","GRUPO DE ADMINISTRACIÓN Y DESARROLLO DEL TALENTO HUMANO","2021-11-17","CORREO ELECTRÓNICO",{"$f":"IFERROR(WORKDAY(C924,P924,DiasNOLaborables),\"\")","v":"2021-12-02"},{"$f":"+IF(C924=\"\",\"\",IF(H924=\"\",\"SIN RESPUESTA\",(IF(H924<=J924,\"A TIEMPO\",\"FUERA DE TIEMPO\"))))","v":"A TIEMPO"},{"$f":"IF(H924=\"\",\"\",NETWORKDAYS(C924+1,H924,DiasNOLaborables))","v":9},{"$f":"IF(NETWORKDAYS(J924+1,H924,DiasNOLaborables)<=0,\"\",NETWORKDAYS(J924+1,H924,DiasNOLaborables))","v":""},null,null,{"$f":"IFERROR(VLOOKUP(E924,$X$51:$Y$64,2),\"\")","v":20}]
[914,20219050127282,"2021-11-03","CORREO ELECTRÓNICO","PETICIÓN","INFORMES AMBIENTALES","SUBDIRECCIÓN DE ESTUDIOS AMBIENTALES","2021-11-05","CORREO ELECTRÓNICO",{"$f":"IFERROR(WORKDAY(C925,P925,DiasNOLaborables),\"\")","v":"2021-12-17"},{"$f":"+IF(C925=\"\",\"\",IF(H925=\"\",\"SIN RESPUESTA\",(IF(H925<=J925,\"A TIEMPO\",\"FUERA DE TIEMPO\"))))","v":"A TIEMPO"},{"$f":"IF(H925=\"\",\"\",NETWORKDAYS(C925+1,H925,DiasNOLaborables))","v":2},{"$f":"IF(NETWORKDAYS(J925+1,H925,DiasNOLaborables)<=0,\"\",NETWORKDAYS(J925+1,H925,DiasNOLaborables))","v":""},null,null,{"$f":"IFERROR(VLOOKUP(E925,$X$51:$Y$64,2),\"\")","v":30}]
[915,20219910058942,"2021-11-03","CORREO ELECTRÓNICO","SOLICITUD DE INFORMACIÓN Y DOCUMENTOS","SOLICITUD DE INFORMACIÓN HIDROMETEOROLÓGICA","GRUPO DE SERVICIO AL CIUDADANO ","2021-11-07","CORREO ELECTRÓNICO",{"$f":"IFERROR(WORKDAY(C926,P926,DiasNOLaborables),\"\")","v":"2021-12-02"},{"$f":"+IF(C926=\"\",\"\",IF(H926=\"\",\"SIN RESPUESTA\",(IF(H926<=J926,\"A TIEMPO\",\"FUERA DE TIEMPO\"))))","v":"A TIEMPO"},{"$f":"IF(H926=\"\",\"\",NETWORKDAYS(C926+1,H926,DiasNOLaborables))","v":2},{"$f":"IF(NETWORKDAYS(J926+1,H926,DiasNOLaborables)<=0,\"\",NETWORKDAYS(J926+1,H926,DiasNOLaborables))","v":""},null,null,{"$f":"IFERROR(VLOOKUP(E926,$X$51:$Y$64,2),\"\")","v":20}]
[916,20219910058952,"2021-11-03","CORREO ELECTRÓNICO","SOLICITUD DE INFORMACIÓN Y DOCUMENTOS","SOLICITUD DE INFORMACIÓN HIDROMETEOROLÓGICA","GRUPO DE SERVICIO AL CIUDADANO ","2021-11-07","CORREO ELECTRÓNICO",{"$f":"IFERROR(WORKDAY(C927,P927,DiasNOLaborables),\"\")","v":"2021-12-02"},{"$f":"+IF(C927=\"\",\"\",IF(H927=\"\",\"SIN RESPUESTA\",(IF(H927<=J927,\"A TIEMPO\",\"FUERA DE TIEMPO\"))))","v":"A TIEMPO"},{"$f":"IF(H927=\"\",\"\",NETWORKDAYS(C927+1,H927,DiasNOLaborables))","v":2},{"$f":"IF(NETWORKDAYS(J927+1,H927,DiasNOLaborables)<=0,\"\",NETWORKDAYS(J927+1,H927,DiasNOLaborables))","v":""},null,null,{"$f":"IFERROR(VLOOKUP(E927,$X$51:$Y$64,2),\"\")","v":20}]
[917,20219050126542,"2021-11-03","MODULO CONTACTENOS","SOLICITUD DE INFORMACIÓN Y DOCUMENTOS","ADMINISTRATIVA","GRUPO DE ADMINISTRACIÓN Y DESARROLLO DEL TALENTO HUMANO","2021-11-09","CORREO ELECTRÓNICO",{"$f":"IFERROR(WORKDAY(C928,P928,DiasNOLaborables),\"\")","v":"2021-12-02"},{"$f":"+IF(C928=\"\",\"\",IF(H928=\"\",\"SIN RESPUESTA\",(IF(H928<=J928,\"A TIEMPO\",\"FUERA DE TIEMPO\"))))","v":"A TIEMPO"},{"$f":"IF(H928=\"\",\"\",NETWORKDAYS(C928+1,H928,DiasNOLaborables))","v":4},{"$f":"IF(NETWORKDAYS(J928+1,H928,DiasNOLaborables)<=0,\"\",NETWORKDAYS(J928+1,H928,DiasNOLaborables))","v":""},null,null,{"$f":"IFERROR(VLOOKUP(E928,$X$51:$Y$64,2),\"\")","v":20}]
[918,20219050126562,"2021-11-03","MODULO CONTACTENOS","SOLICITUD DE INFORMACIÓN Y DOCUMENTOS","ADMINISTRATIVA","OFICINA ASESORA JURÍDICA","2021-11-08","CORREO ELECTRÓNICO",{"$f":"IFERROR(WORKDAY(C929,P929,DiasNOLaborables),\"\")","v":"2021-12-02"},{"$f":"+IF(C929=\"\",\"\",IF(H929=\"\",\"SIN RESPUESTA\",(IF(H929<=J929,\"A TIEMPO\",\"FUERA DE TIEMPO\"))))","v":"A TIEMPO"},{"$f":"IF(H929=\"\",\"\",NETWORKDAYS(C929+1,H929,DiasNOLaborables))","v":3},{"$f":"IF(NETWORKDAYS(J929+1,H929,DiasNOLaborables)<=0,\"\",NETWORKDAYS(J929+1,H929,DiasNOLaborables))","v":""},null,null,{"$f":"IFERROR(VLOOKUP(E929,$X$51:$Y$64,2),\"\")","v":20}]
[919,20219050126612,"2021-11-03","MODULO CONTACTENOS","SOLICITUD DE INFORMACIÓN Y DOCUMENTOS","ADMINISTRATIVA","GRUPO DE ADMINISTRACIÓN Y DESARROLLO DEL TALENTO HUMANO","2021-11-17","CORREO ELECTRÓNICO",{"$f":"IFERROR(WORKDAY(C930,P930,DiasNOLaborables),\"\")","v":"2021-12-02"},{"$f":"+IF(C930=\"\",\"\",IF(H930=\"\",\"SIN RESPUESTA\",(IF(H930<=J930,\"A TIEMPO\",\"FUERA DE TIEMPO\"))))","v":"A TIEMPO"},{"$f":"IF(H930=\"\",\"\",NETWORKDAYS(C930+1,H930,DiasNOLaborables))","v":9},{"$f":"IF(NETWORKDAYS(J930+1,H930,DiasNOLaborables)<=0,\"\",NETWORKDAYS(J930+1,H930,DiasNOLaborables))","v":""},null,null,{"$f":"IFERROR(VLOOKUP(E930,$X$51:$Y$64,2),\"\")","v":20}]
[920,20219050126832,"2021-11-03","MODULO CONTACTENOS","SOLICITUD DE INFORMACIÓN Y DOCUMENTOS","ADMINISTRATIVA","OFICINA ASESORA JURÍDICA","2021-11-08","CORREO ELECTRÓNICO",{"$f":"IFERROR(WORKDAY(C931,P931,DiasNOLaborables),\"\")","v":"2021-12-02"},{"$f":"+IF(C931=\"\",\"\",IF(H931=\"\",\"SIN RESPUESTA\",(IF(H931<=J931,\"A TIEMPO\",\"FUERA DE TIEMPO\"))))","v":"A TIEMPO"},{"$f":"IF(H931=\"\",\"\",NETWORKDAYS(C931+1,H931,DiasNOLaborables))","v":3},{"$f":"IF(NETWORKDAYS(J931+1,H931,DiasNOLaborables)<=0,\"\",NETWORKDAYS(J931+1,H931,DiasNOLaborables))","v":""},null,null,{"$f":"IFERROR(VLOOKUP(E931,$X$51:$Y$64,2),\"\")","v":20}]
[921,20219050126992,"2021-11-03","MODULO CONTACTENOS","SOLICITUD DE INFORMACIÓN Y DOCUMENTOS","ADMINISTRATIVA","OFICINA ASESORA JURÍDICA","2021-11-08","CORREO ELECTRÓNICO",{"$f":"IFERROR(WORKDAY(C932,P932,DiasNOLaborables),\"\")","v":"2021-12-02"},{"$f":"+IF(C932=\"\",\"\",IF(H932=\"\",\"SIN RESPUESTA\",(IF(H932<=J932,\"A TIEMPO\",\"FUERA DE TIEMPO\"))))","v":"A TIEMPO"},{"$f":"IF(H932=\"\",\"\",NETWORKDAYS(C932+1,H932,DiasNOLaborables))","v":3},{"$f":"IF(NETWORKDAYS(J932+1,H932,DiasNOLaborables)<=0,\"\",NETWORKDAYS(J932+1,H932,DiasNOLaborables))","v":""},null,null,{"$f":"IFERROR(VLOOKUP(E932,$X$51:$Y$64,2),\"\")","v":20}]
[922,20219050127112,"2021-11-03","MODULO CONTACTENOS","SOLICITUD DE INFORMACIÓN Y DOCUMENTOS","ADMINISTRATIVA","GRUPO DE ADMINISTRACIÓN Y DESARROLLO DEL TALENTO HUMANO","2021-11-16","CORREO ELECTRÓNICO",{"$f":"IFERROR(WORKDAY(C933,P933,DiasNOLaborables),\"\")","v":"2021-12-02"},{"$f":"+IF(C933=\"\",\"\",IF(H933=\"\",\"SIN RESPUESTA\",(IF(H933<=J933,\"A TIEMPO\",\"FUERA DE TIEMPO\"))))","v":"A TIEMPO"},{"$f":"IF(H933=\"\",\"\",NETWORKDAYS(C933+1,H933,DiasNOLaborables))","v":8},{"$f":"IF(NETWORKDAYS(J933+1,H933,DiasNOLaborables)<=0,\"\",NETWORKDAYS(J933+1,H933,DiasNOLaborables))","v":""},null,null,{"$f":"IFERROR(VLOOKUP(E933,$X$51:$Y$64,2),\"\")","v":20}]
[923,20219050127172,"2021-11-03","MODULO CONTACTENOS","SOLICITUD DE INFORMACIÓN Y DOCUMENTOS","ADMINISTRATIVA","GRUPO DE TESORERÍA","2021-11-04","CORREO ELECTRÓNICO",{"$f":"IFERROR(WORKDAY(C934,P934,DiasNOLaborables),\"\")","v":"2021-12-02"},{"$f":"+IF(C934=\"\",\"\",IF(H934=\"\",\"SIN RESPUESTA\",(IF(H934<=J934,\"A TIEMPO\",\"FUERA DE TIEMPO\"))))","v":"A TIEMPO"},{"$f":"IF(H934=\"\",\"\",NETWORKDAYS(C934+1,H934,DiasNOLaborables))","v":1},{"$f":"IF(NETWORKDAYS(J934+1,H934,DiasNOLaborables)<=0,\"\",NETWORKDAYS(J934+1,H934,DiasNOLaborables))","v":""},null,null,{"$f":"IFERROR(VLOOKUP(E934,$X$51:$Y$64,2),\"\")","v":20}]
[924,20219050126602,"2021-11-03","CORREO ELECTRÓNICO","SOLICITUD DE INFORMACIÓN Y DOCUMENTOS","SOLICITUD DE INFORMACIÓN HIDROMETEOROLÓGICA","SUBDIRECCIÓN DE METEOROLOGÍA","2021-11-08","CORREO ELECTRÓNICO",{"$f":"IFERROR(WORKDAY(C935,P935,DiasNOLaborables),\"\")","v":"2021-12-02"},{"$f":"+IF(C935=\"\",\"\",IF(H935=\"\",\"SIN RESPUESTA\",(IF(H935<=J935,\"A TIEMPO\",\"FUERA DE TIEMPO\"))))","v":"A TIEMPO"},{"$f":"IF(H935=\"\",\"\",NETWORKDAYS(C935+1,H935,DiasNOLaborables))","v":3},{"$f":"IF(NETWORKDAYS(J935+1,H935,DiasNOLaborables)<=0,\"\",NETWORKDAYS(J935+1,H935,DiasNOLaborables))","v":""},null,null,{"$f":"IFERROR(VLOOKUP(E935,$X$51:$Y$64,2),\"\")","v":20}]
[925,20219050127042,"2021-11-03","MODULO CONTACTENOS","SOLICITUD DE INFORMACIÓN Y DOCUMENTOS","SOLICITUD DE INFORMACIÓN HIDROMETEOROLÓGICA","GRUPO DE SERVICIO AL CIUDADANO ","2021-11-08","CORREO ELECTRÓNICO",{"$f":"IFERROR(WORKDAY(C936,P936,DiasNOLaborables),\"\")","v":"2021-12-02"},{"$f":"+IF(C936=\"\",\"\",IF(H936=\"\",\"SIN RESPUESTA\",(IF(H936<=J936,\"A TIEMPO\",\"FUERA DE TIEMPO\"))))","v":"A TIEMPO"},{"$f":"IF(H936=\"\",\"\",NETWORKDAYS(C936+1,H936,DiasNOLaborables))","v":3},{"$f":"IF(NETWORKDAYS(J936+1,H936,DiasNOLaborables)<=0,\"\",NETWORKDAYS(J936+1,H936,DiasNOLaborables))","v":""},null,null,{"$f":"IFERROR(VLOOKUP(E936,$X$51:$Y$64,2),\"\")","v":20}]
[926,20219050127062,"2021-11-03","MODULO CONTACTENOS","SOLICITUD DE INFORMACIÓN Y DOCUMENTOS","SOLICITUD DE INFORMACIÓN HIDROMETEOROLÓGICA","GRUPO DE SERVICIO AL CIUDADANO ","2021-11-08","CORREO ELECTRÓNICO",{"$f":"IFERROR(WORKDAY(C937,P937,DiasNOLaborables),\"\")","v":"2021-12-02"},{"$f":"+IF(C937=\"\",\"\",IF(H937=\"\",\"SIN RESPUESTA\",(IF(H937<=J937,\"A TIEMPO\",\"FUERA DE TIEMPO\"))))","v":"A TIEMPO"},{"$f":"IF(H937=\"\",\"\",NETWORKDAYS(C937+1,H937,DiasNOLaborables))","v":3},{"$f":"IF(NETWORKDAYS(J937+1,H937,DiasNOLaborables)<=0,\"\",NETWORKDAYS(J937+1,H937,DiasNOLaborables))","v":""},null,null,{"$f":"IFERROR(VLOOKUP(E937,$X$51:$Y$64,2),\"\")","v":20}]
[927,20219050127122,"2021-11-03","MODULO CONTACTENOS","SOLICITUD DE INFORMACIÓN Y DOCUMENTOS","SOLICITUD DE INFORMACIÓN HIDROMETEOROLÓGICA","GRUPO DE SERVICIO AL CIUDADANO ","2021-11-08","CORREO ELECTRÓNICO",{"$f":"IFERROR(WORKDAY(C938,P938,DiasNOLaborables),\"\")","v":"2021-12-02"},{"$f":"+IF(C938=\"\",\"\",IF(H938=\"\",\"SIN RESPUESTA\",(IF(H938<=J938,\"A TIEMPO\",\"FUERA DE TIEMPO\"))))","v":"A TIEMPO"},{"$f":"IF(H938=\"\",\"\",NETWORKDAYS(C938+1,H938,DiasNOLaborables))","v":3},{"$f":"IF(NETWORKDAYS(J938+1,H938,DiasNOLaborables)<=0,\"\",NETWORKDAYS(J938+1,H938,DiasNOLaborables))","v":""},null,null,{"$f":"IFERROR(VLOOKUP(E938,$X$51:$Y$64,2),\"\")","v":20}]
[928,20219050127132,"2021-11-03","CORREO ELECTRÓNICO","SOLICITUD DE INFORMACIÓN Y DOCUMENTOS","SOLICITUD DE INFORMACIÓN HIDROMETEOROLÓGICA","GRUPO DE SERVICIO AL CIUDADANO ","2021-11-08","CORREO ELECTRÓNICO",{"$f":"IFERROR(WORKDAY(C939,P939,DiasNOLaborables),\"\")","v":"2021-12-02"},{"$f":"+IF(C939=\"\",\"\",IF(H939=\"\",\"SIN RESPUESTA\",(IF(H939<=J939,\"A TIEMPO\",\"FUERA DE TIEMPO\"))))","v":"A TIEMPO"},{"$f":"IF(H939=\"\",\"\",NETWORKDAYS(C939+1,H939,DiasNOLaborables))","v":3},{"$f":"IF(NETWORKDAYS(J939+1,H939,DiasNOLaborables)<=0,\"\",NETWORKDAYS(J939+1,H939,DiasNOLaborables))","v":""},null,null,{"$f":"IFERROR(VLOOKUP(E939,$X$51:$Y$64,2),\"\")","v":20}]
[929,20219050127162,"2021-11-03","MODULO CONTACTENOS","SOLICITUD DE INFORMACIÓN Y DOCUMENTOS","SOLICITUD DE INFORMACIÓN HIDROMETEOROLÓGICA","GRUPO DE SERVICIO AL CIUDADANO ","2021-11-08","CORREO ELECTRÓNICO",{"$f":"IFERROR(WORKDAY(C940,P940,DiasNOLaborables),\"\")","v":"2021-12-02"},{"$f":"+IF(C940=\"\",\"\",IF(H940=\"\",\"SIN RESPUESTA\",(IF(H940<=J940,\"A TIEMPO\",\"FUERA DE TIEMPO\"))))","v":"A TIEMPO"},{"$f":"IF(H940=\"\",\"\",NETWORKDAYS(C940+1,H940,DiasNOLaborables))","v":3},{"$f":"IF(NETWORKDAYS(J940+1,H940,DiasNOLaborables)<=0,\"\",NETWORKDAYS(J940+1,H940,DiasNOLaborables))","v":""},null,null,{"$f":"IFERROR(VLOOKUP(E940,$X$51:$Y$64,2),\"\")","v":20}]
[930,20219050127182,"2021-11-03","MODULO CONTACTENOS","SOLICITUD DE INFORMACIÓN Y DOCUMENTOS","SOLICITUD DE INFORMACIÓN HIDROMETEOROLÓGICA","GRUPO DE SERVICIO AL CIUDADANO ","2021-11-08","CORREO ELECTRÓNICO",{"$f":"IFERROR(WORKDAY(C941,P941,DiasNOLaborables),\"\")","v":"2021-12-02"},{"$f":"+IF(C941=\"\",\"\",IF(H941=\"\",\"SIN RESPUESTA\",(IF(H941<=J941,\"A TIEMPO\",\"FUERA DE TIEMPO\"))))","v":"A TIEMPO"},{"$f":"IF(H941=\"\",\"\",NETWORKDAYS(C941+1,H941,DiasNOLaborables))","v":3},{"$f":"IF(NETWORKDAYS(J941+1,H941,DiasNOLaborables)<=0,\"\",NETWORKDAYS(J941+1,H941,DiasNOLaborables))","v":""},null,null,{"$f":"IFERROR(VLOOKUP(E941,$X$51:$Y$64,2),\"\")","v":20}]
[931,20219050127212,"2021-11-03","MODULO CONTACTENOS","SOLICITUD DE INFORMACIÓN Y DOCUMENTOS","SOLICITUD DE INFORMACIÓN HIDROMETEOROLÓGICA","GRUPO DE SERVICIO AL CIUDADANO ","2021-11-09","CORREO ELECTRÓNICO",{"$f":"IFERROR(WORKDAY(C942,P942,DiasNOLaborables),\"\")","v":"2021-12-02"},{"$f":"+IF(C942=\"\",\"\",IF(H942=\"\",\"SIN RESPUESTA\",(IF(H942<=J942,\"A TIEMPO\",\"FUERA DE TIEMPO\"))))","v":"A TIEMPO"},{"$f":"IF(H942=\"\",\"\",NETWORKDAYS(C942+1,H942,DiasNOLaborables))","v":4},{"$f":"IF(NETWORKDAYS(J942+1,H942,DiasNOLaborables)<=0,\"\",NETWORKDAYS(J942+1,H942,DiasNOLaborables))","v":""},null,null,{"$f":"IFERROR(VLOOKUP(E942,$X$51:$Y$64,2),\"\")","v":20}]
[932,20219050126582,"2021-11-03","MODULO CONTACTENOS","SOLICITUD DE INFORMACIÓN Y DOCUMENTOS","SOLICITUD DE INFORMACIÓN HIDROMETEOROLÓGICA","GRUPO DE SERVICIO AL CIUDADANO ","2021-10-26","CORREO ELECTRÓNICO",{"$f":"IFERROR(WORKDAY(C943,P943,DiasNOLaborables),\"\")","v":"2021-12-02"},{"$f":"+IF(C943=\"\",\"\",IF(H943=\"\",\"SIN RESPUESTA\",(IF(H943<=J943,\"A TIEMPO\",\"FUERA DE TIEMPO\"))))","v":"A TIEMPO"},{"$f":"IF(H943=\"\",\"\",NETWORKDAYS(C943+1,H943,DiasNOLaborables))","v":-7},{"$f":"IF(NETWORKDAYS(J943+1,H943,DiasNOLaborables)<=0,\"\",NETWORKDAYS(J943+1,H943,DiasNOLaborables))","v":""},null,null,{"$f":"IFERROR(VLOOKUP(E943,$X$51:$Y$64,2),\"\")","v":20}]
[933,20219050126632,"2021-11-03","MODULO CONTACTENOS","SOLICITUD DE INFORMACIÓN Y DOCUMENTOS","SOLICITUD DE INFORMACIÓN HIDROMETEOROLÓGICA","GRUPO DE SERVICIO AL CIUDADANO ","2021-10-26","CORREO ELECTRÓNICO",{"$f":"IFERROR(WORKDAY(C944,P944,DiasNOLaborables),\"\")","v":"2021-12-02"},{"$f":"+IF(C944=\"\",\"\",IF(H944=\"\",\"SIN RESPUESTA\",(IF(H944<=J944,\"A TIEMPO\",\"FUERA DE TIEMPO\"))))","v":"A TIEMPO"},{"$f":"IF(H944=\"\",\"\",NETWORKDAYS(C944+1,H944,DiasNOLaborables))","v":-7},{"$f":"IF(NETWORKDAYS(J944+1,H944,DiasNOLaborables)<=0,\"\",NETWORKDAYS(J944+1,H944,DiasNOLaborables))","v":""},null,null,{"$f":"IFERROR(VLOOKUP(E944,$X$51:$Y$64,2),\"\")","v":20}]
[934,20219050126662,"2021-11-03","MODULO CONTACTENOS","SOLICITUD DE INFORMACIÓN Y DOCUMENTOS","SOLICITUD DE INFORMACIÓN HIDROMETEOROLÓGICA","GRUPO DE SERVICIO AL CIUDADANO ","2021-10-27","CORREO ELECTRÓNICO",{"$f":"IFERROR(WORKDAY(C945,P945,DiasNOLaborables),\"\")","v":"2021-12-02"},{"$f":"+IF(C945=\"\",\"\",IF(H945=\"\",\"SIN RESPUESTA\",(IF(H945<=J945,\"A TIEMPO\",\"FUERA DE TIEMPO\"))))","v":"A TIEMPO"},{"$f":"IF(H945=\"\",\"\",NETWORKDAYS(C945+1,H945,DiasNOLaborables))","v":-6},{"$f":"IF(NETWORKDAYS(J945+1,H945,DiasNOLaborables)<=0,\"\",NETWORKDAYS(J945+1,H945,DiasNOLaborables))","v":""},null,null,{"$f":"IFERROR(VLOOKUP(E945,$X$51:$Y$64,2),\"\")","v":20}]
[935,20219050126712,"2021-11-03","MODULO CONTACTENOS","SOLICITUD DE INFORMACIÓN Y DOCUMENTOS","SOLICITUD DE INFORMACIÓN HIDROMETEOROLÓGICA","GRUPO DE SERVICIO AL CIUDADANO ","2021-10-27","CORREO ELECTRÓNICO",{"$f":"IFERROR(WORKDAY(C946,P946,DiasNOLaborables),\"\")","v":"2021-12-02"},{"$f":"+IF(C946=\"\",\"\",IF(H946=\"\",\"SIN RESPUESTA\",(IF(H946<=J946,\"A TIEMPO\",\"FUERA DE TIEMPO\"))))","v":"A TIEMPO"},{"$f":"IF(H946=\"\",\"\",NETWORKDAYS(C946+1,H946,DiasNOLaborables))","v":-6},{"$f":"IF(NETWORKDAYS(J946+1,H946,DiasNOLaborables)<=0,\"\",NETWORKDAYS(J946+1,H946,DiasNOLaborables))","v":""},null,null,{"$f":"IFERROR(VLOOKUP(E946,$X$51:$Y$64,2),\"\")","v":20}]
[936,20219050126722,"2021-11-03","MODULO CONTACTENOS","SOLICITUD DE INFORMACIÓN Y DOCUMENTOS","SOLICITUD DE INFORMACIÓN HIDROMETEOROLÓGICA","GRUPO DE SERVICIO AL CIUDADANO ","2021-10-27","CORREO ELECTRÓNICO",{"$f":"IFERROR(WORKDAY(C947,P947,DiasNOLaborables),\"\")","v":"2021-12-02"},{"$f":"+IF(C947=\"\",\"\",IF(H947=\"\",\"SIN RESPUESTA\",(IF(H947<=J947,\"A TIEMPO\",\"FUERA DE TIEMPO\"))))","v":"A TIEMPO"},{"$f":"IF(H947=\"\",\"\",NETWORKDAYS(C947+1,H947,DiasNOLaborables))","v":-6},{"$f":"IF(NETWORKDAYS(J947+1,H947,DiasNOLaborables)<=0,\"\",NETWORKDAYS(J947+1,H947,DiasNOLaborables))","v":""},null,null,{"$f":"IFERROR(VLOOKUP(E947,$X$51:$Y$64,2),\"\")","v":20}]
[937,20219050126732,"2021-11-03","MODULO CONTACTENOS","SOLICITUD DE INFORMACIÓN Y DOCUMENTOS","SOLICITUD DE INFORMACIÓN HIDROMETEOROLÓGICA","GRUPO DE SERVICIO AL CIUDADANO ","2021-10-27","CORREO ELECTRÓNICO",{"$f":"IFERROR(WORKDAY(C948,P948,DiasNOLaborables),\"\")","v":"2021-12-02"},{"$f":"+IF(C948=\"\",\"\",IF(H948=\"\",\"SIN RESPUESTA\",(IF(H948<=J948,\"A TIEMPO\",\"FUERA DE TIEMPO\"))))","v":"A TIEMPO"},{"$f":"IF(H948=\"\",\"\",NETWORKDAYS(C948+1,H948,DiasNOLaborables))","v":-6},{"$f":"IF(NETWORKDAYS(J948+1,H948,DiasNOLaborables)<=0,\"\",NETWORKDAYS(J948+1,H948,DiasNOLaborables))","v":""},null,null,{"$f":"IFERROR(VLOOKUP(E948,$X$51:$Y$64,2),\"\")","v":20}]
[938,20219050126802,"2021-11-03","MODULO CONTACTENOS","SOLICITUD DE INFORMACIÓN Y DOCUMENTOS","SOLICITUD DE INFORMACIÓN HIDROMETEOROLÓGICA","GRUPO DE SERVICIO AL CIUDADANO ","2021-10-27","CORREO ELECTRÓNICO",{"$f":"IFERROR(WORKDAY(C949,P949,DiasNOLaborables),\"\")","v":"2021-12-02"},{"$f":"+IF(C949=\"\",\"\",IF(H949=\"\",\"SIN RESPUESTA\",(IF(H949<=J949,\"A TIEMPO\",\"FUERA DE TIEMPO\"))))","v":"A TIEMPO"},{"$f":"IF(H949=\"\",\"\",NETWORKDAYS(C949+1,H949,DiasNOLaborables))","v":-6},{"$f":"IF(NETWORKDAYS(J949+1,H949,DiasNOLaborables)<=0,\"\",NETWORKDAYS(J949+1,H949,DiasNOLaborables))","v":""},null,null,{"$f":"IFERROR(VLOOKUP(E949,$X$51:$Y$64,2),\"\")","v":20}]
[939,20219050126822,"2021-11-03","MODULO CONTACTENOS","SOLICITUD DE INFORMACIÓN Y DOCUMENTOS","SOLICITUD DE INFORMACIÓN HIDROMETEOROLÓGICA","GRUPO DE SERVICIO AL CIUDADANO ","2021-10-27","CORREO ELECTRÓNICO",{"$f":"IFERROR(WORKDAY(C950,P950,DiasNOLaborables),\"\")","v":"2021-12-02"},{"$f":"+IF(C950=\"\",\"\",IF(H950=\"\",\"SIN RESPUESTA\",(IF(H950<=J950,\"A TIEMPO\",\"FUERA DE TIEMPO\"))))","v":"A TIEMPO"},{"$f":"IF(H950=\"\",\"\",NETWORKDAYS(C950+1,H950,DiasNOLaborables))","v":-6},{"$f":"IF(NETWORKDAYS(J950+1,H950,DiasNOLaborables)<=0,\"\",NETWORKDAYS(J950+1,H950,DiasNOLaborables))","v":""},null,null,{"$f":"IFERROR(VLOOKUP(E950,$X$51:$Y$64,2),\"\")","v":20}]
[940,20219050126852,"2021-11-03","MODULO CONTACTENOS","SOLICITUD DE INFORMACIÓN Y DOCUMENTOS","SOLICITUD DE INFORMACIÓN HIDROMETEOROLÓGICA","GRUPO DE SERVICIO AL CIUDADANO ","2021-10-27","CORREO ELECTRÓNICO",{"$f":"IFERROR(WORKDAY(C951,P951,DiasNOLaborables),\"\")","v":"2021-12-02"},{"$f":"+IF(C951=\"\",\"\",IF(H951=\"\",\"SIN RESPUESTA\",(IF(H951<=J951,\"A TIEMPO\",\"FUERA DE TIEMPO\"))))","v":"A TIEMPO"},{"$f":"IF(H951=\"\",\"\",NETWORKDAYS(C951+1,H951,DiasNOLaborables))","v":-6},{"$f":"IF(NETWORKDAYS(J951+1,H951,DiasNOLaborables)<=0,\"\",NETWORKDAYS(J951+1,H951,DiasNOLaborables))","v":""},null,null,{"$f":"IFERROR(VLOOKUP(E951,$X$51:$Y$64,2),\"\")","v":20}]
[941,20219050126932,"2021-11-03","MODULO CONTACTENOS","SOLICITUD DE INFORMACIÓN Y DOCUMENTOS","SOLICITUD DE INFORMACIÓN HIDROMETEOROLÓGICA","GRUPO DE SERVICIO AL CIUDADANO ","2021-10-27","CORREO ELECTRÓNICO",{"$f":"IFERROR(WORKDAY(C952,P952,DiasNOLaborables),\"\")","v":"2021-12-02"},{"$f":"+IF(C952=\"\",\"\",IF(H952=\"\",\"SIN RESPUESTA\",(IF(H952<=J952,\"A TIEMPO\",\"FUERA DE TIEMPO\"))))","v":"A TIEMPO"},{"$f":"IF(H952=\"\",\"\",NETWORKDAYS(C952+1,H952,DiasNOLaborables))","v":-6},{"$f":"IF(NETWORKDAYS(J952+1,H952,DiasNOLaborables)<=0,\"\",NETWORKDAYS(J952+1,H952,DiasNOLaborables))","v":""},null,null,{"$f":"IFERROR(VLOOKUP(E952,$X$51:$Y$64,2),\"\")","v":20}]
[942,20219050126942,"2021-11-03","MODULO CONTACTENOS","SOLICITUD DE INFORMACIÓN Y DOCUMENTOS","SOLICITUD DE INFORMACIÓN HIDROMETEOROLÓGICA","GRUPO DE SERVICIO AL CIUDADANO ","2021-10-27","CORREO ELECTRÓNICO",{"$f":"IFERROR(WORKDAY(C953,P953,DiasNOLaborables),\"\")","v":"2021-12-02"},{"$f":"+IF(C953=\"\",\"\",IF(H953=\"\",\"SIN RESPUESTA\",(IF(H953<=J953,\"A TIEMPO\",\"FUERA DE TIEMPO\"))))","v":"A TIEMPO"},{"$f":"IF(H953=\"\",\"\",NETWORKDAYS(C953+1,H953,DiasNOLaborables))","v":-6},{"$f":"IF(NETWORKDAYS(J953+1,H953,DiasNOLaborables)<=0,\"\",NETWORKDAYS(J953+1,H953,DiasNOLaborables))","v":""},null,null,{"$f":"IFERROR(VLOOKUP(E953,$X$51:$Y$64,2),\"\")","v":20}]
[943,20219050126952,"2021-11-03","MODULO CONTACTENOS","SOLICITUD DE INFORMACIÓN Y DOCUMENTOS","SOLICITUD DE INFORMACIÓN HIDROMETEOROLÓGICA","GRUPO DE SERVICIO AL CIUDADANO ","2021-10-27","CORREO ELECTRÓNICO",{"$f":"IFERROR(WORKDAY(C954,P954,DiasNOLaborables),\"\")","v":"2021-12-02"},{"$f":"+IF(C954=\"\",\"\",IF(H954=\"\",\"SIN RESPUESTA\",(IF(H954<=J954,\"A TIEMPO\",\"FUERA DE TIEMPO\"))))","v":"A TIEMPO"},{"$f":"IF(H954=\"\",\"\",NETWORKDAYS(C954+1,H954,DiasNOLaborables))","v":-6},{"$f":"IF(NETWORKDAYS(J954+1,H954,DiasNOLaborables)<=0,\"\",NETWORKDAYS(J954+1,H954,DiasNOLaborables))","v":""},null,null,{"$f":"IFERROR(VLOOKUP(E954,$X$51:$Y$64,2),\"\")","v":20}]
[944,20219050126982,"2021-11-03","MODULO CONTACTENOS","SOLICITUD DE INFORMACIÓN Y DOCUMENTOS","SOLICITUD DE INFORMACIÓN HIDROMETEOROLÓGICA","GRUPO DE SERVICIO AL CIUDADANO ","2021-10-27","CORREO ELECTRÓNICO",{"$f":"IFERROR(WORKDAY(C955,P955,DiasNOLaborables),\"\")","v":"2021-12-02"},{"$f":"+IF(C955=\"\",\"\",IF(H955=\"\",\"SIN RESPUESTA\",(IF(H955<=J955,\"A TIEMPO\",\"FUERA DE TIEMPO\"))))","v":"A TIEMPO"},{"$f":"IF(H955=\"\",\"\",NETWORKDAYS(C955+1,H955,DiasNOLaborables))","v":-6},{"$f":"IF(NETWORKDAYS(J955+1,H955,DiasNOLaborables)<=0,\"\",NETWORKDAYS(J955+1,H955,DiasNOLaborables))","v":""},null,null,{"$f":"IFERROR(VLOOKUP(E955,$X$51:$Y$64,2),\"\")","v":20}]
[945,20219050127012,"2021-11-03","MODULO CONTACTENOS","SOLICITUD DE INFORMACIÓN Y DOCUMENTOS","SOLICITUD DE INFORMACIÓN HIDROMETEOROLÓGICA","GRUPO DE SERVICIO AL CIUDADANO ","2021-10-27","CORREO ELECTRÓNICO",{"$f":"IFERROR(WORKDAY(C956,P956,DiasNOLaborables),\"\")","v":"2021-12-02"},{"$f":"+IF(C956=\"\",\"\",IF(H956=\"\",\"SIN RESPUESTA\",(IF(H956<=J956,\"A TIEMPO\",\"FUERA DE TIEMPO\"))))","v":"A TIEMPO"},{"$f":"IF(H956=\"\",\"\",NETWORKDAYS(C956+1,H956,DiasNOLaborables))","v":-6},{"$f":"IF(NETWORKDAYS(J956+1,H956,DiasNOLaborables)<=0,\"\",NETWORKDAYS(J956+1,H956,DiasNOLaborables))","v":""},null,null,{"$f":"IFERROR(VLOOKUP(E956,$X$51:$Y$64,2),\"\")","v":20}]
[946,20219050126962,"2021-11-03","MODULO CONTACTENOS","SOLICITUD DE INFORMACIÓN Y DOCUMENTOS","SOLICITUD DE INFORMACIÓN HIDROMETEOROLÓGICA","GRUPO DE SERVICIO AL CIUDADANO ","2021-10-27","CORREO ELECTRÓNICO",{"$f":"IFERROR(WORKDAY(C957,P957,DiasNOLaborables),\"\")","v":"2021-12-02"},{"$f":"+IF(C957=\"\",\"\",IF(H957=\"\",\"SIN RESPUESTA\",(IF(H957<=J957,\"A TIEMPO\",\"FUERA DE TIEMPO\"))))","v":"A TIEMPO"},{"$f":"IF(H957=\"\",\"\",NETWORKDAYS(C957+1,H957,DiasNOLaborables))","v":-6},{"$f":"IF(NETWORKDAYS(J957+1,H957,DiasNOLaborables)<=0,\"\",NETWORKDAYS(J957+1,H957,DiasNOLaborables))","v":""},null,null,{"$f":"IFERROR(VLOOKUP(E957,$X$51:$Y$64,2),\"\")","v":20}]
[947,20219050127022,"2021-11-03","MODULO CONTACTENOS","SOLICITUD DE INFORMACIÓN Y DOCUMENTOS","SOLICITUD DE INFORMACIÓN HIDROMETEOROLÓGICA","GRUPO DE SERVICIO AL CIUDADANO ","2021-10-27","CORREO ELECTRÓNICO",{"$f":"IFERROR(WORKDAY(C958,P958,DiasNOLaborables),\"\")","v":"2021-12-02"},{"$f":"+IF(C958=\"\",\"\",IF(H958=\"\",\"SIN RESPUESTA\",(IF(H958<=J958,\"A TIEMPO\",\"FUERA DE TIEMPO\"))))","v":"A TIEMPO"},{"$f":"IF(H958=\"\",\"\",NETWORKDAYS(C958+1,H958,DiasNOLaborables))","v":-6},{"$f":"IF(NETWORKDAYS(J958+1,H958,DiasNOLaborables)<=0,\"\",NETWORKDAYS(J958+1,H958,DiasNOLaborables))","v":""},null,null,{"$f":"IFERROR(VLOOKUP(E958,$X$51:$Y$64,2),\"\")","v":20}]
[948,20219050127232,"2021-11-03","MODULO CONTACTENOS","SOLICITUD DE INFORMACIÓN Y DOCUMENTOS","SOLICITUD DE INFORMACIÓN HIDROMETEOROLÓGICA","GRUPO DE SERVICIO AL CIUDADANO ","2021-11-09","CORREO ELECTRÓNICO",{"$f":"IFERROR(WORKDAY(C959,P959,DiasNOLaborables),\"\")","v":"2021-12-02"},{"$f":"+IF(C959=\"\",\"\",IF(H959=\"\",\"SIN RESPUESTA\",(IF(H959<=J959,\"A TIEMPO\",\"FUERA DE TIEMPO\"))))","v":"A TIEMPO"},{"$f":"IF(H959=\"\",\"\",NETWORKDAYS(C959+1,H959,DiasNOLaborables))","v":4},{"$f":"IF(NETWORKDAYS(J959+1,H959,DiasNOLaborables)<=0,\"\",NETWORKDAYS(J959+1,H959,DiasNOLaborables))","v":""},null,null,{"$f":"IFERROR(VLOOKUP(E959,$X$51:$Y$64,2),\"\")","v":20}]
[949,20219050127272,"2021-11-03","MODULO CONTACTENOS","SOLICITUD DE INFORMACIÓN Y DOCUMENTOS","SOLICITUD DE INFORMACIÓN HIDROMETEOROLÓGICA","GRUPO DE SERVICIO AL CIUDADANO ","2021-11-09","CORREO ELECTRÓNICO",{"$f":"IFERROR(WORKDAY(C960,P960,DiasNOLaborables),\"\")","v":"2021-12-02"},{"$f":"+IF(C960=\"\",\"\",IF(H960=\"\",\"SIN RESPUESTA\",(IF(H960<=J960,\"A TIEMPO\",\"FUERA DE TIEMPO\"))))","v":"A TIEMPO"},{"$f":"IF(H960=\"\",\"\",NETWORKDAYS(C960+1,H960,DiasNOLaborables))","v":4},{"$f":"IF(NETWORKDAYS(J960+1,H960,DiasNOLaborables)<=0,\"\",NETWORKDAYS(J960+1,H960,DiasNOLaborables))","v":""},null,null,{"$f":"IFERROR(VLOOKUP(E960,$X$51:$Y$64,2),\"\")","v":20}]
[950,20219050127292,"2021-11-03","MODULO CONTACTENOS","SOLICITUD DE INFORMACIÓN Y DOCUMENTOS","SOLICITUD DE INFORMACIÓN HIDROMETEOROLÓGICA","GRUPO DE SERVICIO AL CIUDADANO ","2021-11-09","CORREO ELECTRÓNICO",{"$f":"IFERROR(WORKDAY(C961,P961,DiasNOLaborables),\"\")","v":"2021-12-02"},{"$f":"+IF(C961=\"\",\"\",IF(H961=\"\",\"SIN RESPUESTA\",(IF(H961<=J961,\"A TIEMPO\",\"FUERA DE TIEMPO\"))))","v":"A TIEMPO"},{"$f":"IF(H961=\"\",\"\",NETWORKDAYS(C961+1,H961,DiasNOLaborables))","v":4},{"$f":"IF(NETWORKDAYS(J961+1,H961,DiasNOLaborables)<=0,\"\",NETWORKDAYS(J961+1,H961,DiasNOLaborables))","v":""},null,null,{"$f":"IFERROR(VLOOKUP(E961,$X$51:$Y$64,2),\"\")","v":20}]
[951,20219050127302,"2021-11-03","MODULO CONTACTENOS","SOLICITUD DE INFORMACIÓN Y DOCUMENTOS","SOLICITUD DE INFORMACIÓN HIDROMETEOROLÓGICA","GRUPO DE SERVICIO AL CIUDADANO ","2021-11-09","CORREO ELECTRÓNICO",{"$f":"IFERROR(WORKDAY(C962,P962,DiasNOLaborables),\"\")","v":"2021-12-02"},{"$f":"+IF(C962=\"\",\"\",IF(H962=\"\",\"SIN RESPUESTA\",(IF(H962<=J962,\"A TIEMPO\",\"FUERA DE TIEMPO\"))))","v":"A TIEMPO"},{"$f":"IF(H962=\"\",\"\",NETWORKDAYS(C962+1,H962,DiasNOLaborables))","v":4},{"$f":"IF(NETWORKDAYS(J962+1,H962,DiasNOLaborables)<=0,\"\",NETWORKDAYS(J962+1,H962,DiasNOLaborables))","v":""},null,null,{"$f":"IFERROR(VLOOKUP(E962,$X$51:$Y$64,2),\"\")","v":20}]
[952,20219050127312,"2021-11-03","MODULO CONTACTENOS","SOLICITUD DE INFORMACIÓN Y DOCUMENTOS","SOLICITUD DE INFORMACIÓN HIDROMETEOROLÓGICA","GRUPO DE SERVICIO AL CIUDADANO ","2021-11-09","CORREO ELECTRÓNICO",{"$f":"IFERROR(WORKDAY(C963,P963,DiasNOLaborables),\"\")","v":"2021-12-02"},{"$f":"+IF(C963=\"\",\"\",IF(H963=\"\",\"SIN RESPUESTA\",(IF(H963<=J963,\"A TIEMPO\",\"FUERA DE TIEMPO\"))))","v":"A TIEMPO"},{"$f":"IF(H963=\"\",\"\",NETWORKDAYS(C963+1,H963,DiasNOLaborables))","v":4},{"$f":"IF(NETWORKDAYS(J963+1,H963,DiasNOLaborables)<=0,\"\",NETWORKDAYS(J963+1,H963,DiasNOLaborables))","v":""},null,null,{"$f":"IFERROR(VLOOKUP(E963,$X$51:$Y$64,2),\"\")","v":20}]
[953,20219050127352,"2021-11-03","MODULO CONTACTENOS","SOLICITUD DE INFORMACIÓN Y DOCUMENTOS","SOLICITUD DE INFORMACIÓN HIDROMETEOROLÓGICA","GRUPO DE SERVICIO AL CIUDADANO ","2021-11-09","CORREO ELECTRÓNICO",{"$f":"IFERROR(WORKDAY(C964,P964,DiasNOLaborables),\"\")","v":"2021-12-02"},{"$f":"+IF(C964=\"\",\"\",IF(H964=\"\",\"SIN RESPUESTA\",(IF(H964<=J964,\"A TIEMPO\",\"FUERA DE TIEMPO\"))))","v":"A TIEMPO"},{"$f":"IF(H964=\"\",\"\",NETWORKDAYS(C964+1,H964,DiasNOLaborables))","v":4},{"$f":"IF(NETWORKDAYS(J964+1,H964,DiasNOLaborables)<=0,\"\",NETWORKDAYS(J964+1,H964,DiasNOLaborables))","v":""},null,null,{"$f":"IFERROR(VLOOKUP(E964,$X$51:$Y$64,2),\"\")","v":20}]
[954,20219050127342,"2021-11-03","MODULO CONTACTENOS","SOLICITUD DE INFORMACIÓN Y DOCUMENTOS","SOLICITUD DE INFORMACIÓN HIDROMETEOROLÓGICA","GRUPO DE SERVICIO AL CIUDADANO ","2021-11-09","CORREO ELECTRÓNICO",{"$f":"IFERROR(WORKDAY(C965,P965,DiasNOLaborables),\"\")","v":"2021-12-02"},{"$f":"+IF(C965=\"\",\"\",IF(H965=\"\",\"SIN RESPUESTA\",(IF(H965<=J965,\"A TIEMPO\",\"FUERA DE TIEMPO\"))))","v":"A TIEMPO"},{"$f":"IF(H965=\"\",\"\",NETWORKDAYS(C965+1,H965,DiasNOLaborables))","v":4},{"$f":"IF(NETWORKDAYS(J965+1,H965,DiasNOLaborables)<=0,\"\",NETWORKDAYS(J965+1,H965,DiasNOLaborables))","v":""},null,null,{"$f":"IFERROR(VLOOKUP(E965,$X$51:$Y$64,2),\"\")","v":20}]
[955,20219050127372,"2021-11-04","CORREO ELECTRÓNICO","SOLICITUD DE INFORMACIÓN Y DOCUMENTOS","SOLICITUD DE INFORMACIÓN HIDROMETEOROLÓGICA","GRUPO DE SERVICIO AL CIUDADANO ","2021-11-10","CORREO ELECTRÓNICO",{"$f":"IFERROR(WORKDAY(C966,P966,DiasNOLaborables),\"\")","v":"2021-12-03"},{"$f":"+IF(C966=\"\",\"\",IF(H966=\"\",\"SIN RESPUESTA\",(IF(H966<=J966,\"A TIEMPO\",\"FUERA DE TIEMPO\"))))","v":"A TIEMPO"},{"$f":"IF(H966=\"\",\"\",NETWORKDAYS(C966+1,H966,DiasNOLaborables))","v":4},{"$f":"IF(NETWORKDAYS(J966+1,H966,DiasNOLaborables)<=0,\"\",NETWORKDAYS(J966+1,H966,DiasNOLaborables))","v":""},null,null,{"$f":"IFERROR(VLOOKUP(E966,$X$51:$Y$64,2),\"\")","v":20}]
[956,20219050127382,"2021-11-04","MODULO CONTACTENOS","SOLICITUD DE INFORMACIÓN Y DOCUMENTOS","SOLICITUD DE INFORMACIÓN HIDROMETEOROLÓGICA","GRUPO DE SERVICIO AL CIUDADANO ","2021-11-10","CORREO ELECTRÓNICO",{"$f":"IFERROR(WORKDAY(C967,P967,DiasNOLaborables),\"\")","v":"2021-12-03"},{"$f":"+IF(C967=\"\",\"\",IF(H967=\"\",\"SIN RESPUESTA\",(IF(H967<=J967,\"A TIEMPO\",\"FUERA DE TIEMPO\"))))","v":"A TIEMPO"},{"$f":"IF(H967=\"\",\"\",NETWORKDAYS(C967+1,H967,DiasNOLaborables))","v":4},{"$f":"IF(NETWORKDAYS(J967+1,H967,DiasNOLaborables)<=0,\"\",NETWORKDAYS(J967+1,H967,DiasNOLaborables))","v":""},null,null,{"$f":"IFERROR(VLOOKUP(E967,$X$51:$Y$64,2),\"\")","v":20}]
[957,20219050127432,"2021-11-04","CORREO ELECTRÓNICO","SOLICITUD DE INFORMACIÓN Y DOCUMENTOS","SOLICITUD DE INFORMACIÓN HIDROMETEOROLÓGICA","GRUPO DE SERVICIO AL CIUDADANO ","2021-11-10","CORREO ELECTRÓNICO",{"$f":"IFERROR(WORKDAY(C968,P968,DiasNOLaborables),\"\")","v":"2021-12-03"},{"$f":"+IF(C968=\"\",\"\",IF(H968=\"\",\"SIN RESPUESTA\",(IF(H968<=J968,\"A TIEMPO\",\"FUERA DE TIEMPO\"))))","v":"A TIEMPO"},{"$f":"IF(H968=\"\",\"\",NETWORKDAYS(C968+1,H968,DiasNOLaborables))","v":4},{"$f":"IF(NETWORKDAYS(J968+1,H968,DiasNOLaborables)<=0,\"\",NETWORKDAYS(J968+1,H968,DiasNOLaborables))","v":""},null,null,{"$f":"IFERROR(VLOOKUP(E968,$X$51:$Y$64,2),\"\")","v":20}]
[958,20219050127562,"2021-11-04","CORREO ELECTRÓNICO","SOLICITUD DE INFORMACIÓN Y DOCUMENTOS","SOLICITUD DE INFORMACIÓN HIDROMETEOROLÓGICA","GRUPO DE SERVICIO AL CIUDADANO ","2021-11-10","CORREO ELECTRÓNICO",{"$f":"IFERROR(WORKDAY(C969,P969,DiasNOLaborables),\"\")","v":"2021-12-03"},{"$f":"+IF(C969=\"\",\"\",IF(H969=\"\",\"SIN RESPUESTA\",(IF(H969<=J969,\"A TIEMPO\",\"FUERA DE TIEMPO\"))))","v":"A TIEMPO"},{"$f":"IF(H969=\"\",\"\",NETWORKDAYS(C969+1,H969,DiasNOLaborables))","v":4},{"$f":"IF(NETWORKDAYS(J969+1,H969,DiasNOLaborables)<=0,\"\",NETWORKDAYS(J969+1,H969,DiasNOLaborables))","v":""},null,null,{"$f":"IFERROR(VLOOKUP(E969,$X$51:$Y$64,2),\"\")","v":20}]
[959,20219050127772,"2021-11-04","CORREO ELECTRÓNICO","SOLICITUD DE INFORMACIÓN Y DOCUMENTOS","SOLICITUD DE INFORMACIÓN HIDROMETEOROLÓGICA","GRUPO DE SERVICIO AL CIUDADANO ","2021-11-10","CORREO ELECTRÓNICO",{"$f":"IFERROR(WORKDAY(C970,P970,DiasNOLaborables),\"\")","v":"2021-12-03"},{"$f":"+IF(C970=\"\",\"\",IF(H970=\"\",\"SIN RESPUESTA\",(IF(H970<=J970,\"A TIEMPO\",\"FUERA DE TIEMPO\"))))","v":"A TIEMPO"},{"$f":"IF(H970=\"\",\"\",NETWORKDAYS(C970+1,H970,DiasNOLaborables))","v":4},{"$f":"IF(NETWORKDAYS(J970+1,H970,DiasNOLaborables)<=0,\"\",NETWORKDAYS(J970+1,H970,DiasNOLaborables))","v":""},null,null,{"$f":"IFERROR(VLOOKUP(E970,$X$51:$Y$64,2),\"\")","v":20}]
[960,20219050127902,"2021-11-04","MODULO CONTACTENOS","SOLICITUD DE INFORMACIÓN Y DOCUMENTOS","SOLICITUD DE INFORMACIÓN HIDROMETEOROLÓGICA","GRUPO DE SERVICIO AL CIUDADANO ","2021-11-10","CORREO ELECTRÓNICO",{"$f":"IFERROR(WORKDAY(C971,P971,DiasNOLaborables),\"\")","v":"2021-12-03"},{"$f":"+IF(C971=\"\",\"\",IF(H971=\"\",\"SIN RESPUESTA\",(IF(H971<=J971,\"A TIEMPO\",\"FUERA DE TIEMPO\"))))","v":"A TIEMPO"},{"$f":"IF(H971=\"\",\"\",NETWORKDAYS(C971+1,H971,DiasNOLaborables))","v":4},{"$f":"IF(NETWORKDAYS(J971+1,H971,DiasNOLaborables)<=0,\"\",NETWORKDAYS(J971+1,H971,DiasNOLaborables))","v":""},null,null,{"$f":"IFERROR(VLOOKUP(E971,$X$51:$Y$64,2),\"\")","v":20}]
[961,20219050127392,"2021-11-04","MODULO CONTACTENOS","CERTIFICACIONES DE TIEMPO, CLIMA Y EVENTOS HIDROLÓGICOS","CERTIFICACIONES DE TIEMPO Y CLIMA","SUBDIRECCIÓN DE METEOROLOGÍA","2021-11-26","CORREO ELECTRÓNICO",{"$f":"IFERROR(WORKDAY(C972,P972,DiasNOLaborables),\"\")","v":"2021-12-27"},{"$f":"+IF(C972=\"\",\"\",IF(H972=\"\",\"SIN RESPUESTA\",(IF(H972<=J972,\"A TIEMPO\",\"FUERA DE TIEMPO\"))))","v":"A TIEMPO"},{"$f":"IF(H972=\"\",\"\",NETWORKDAYS(C972+1,H972,DiasNOLaborables))","v":15},{"$f":"IF(NETWORKDAYS(J972+1,H972,DiasNOLaborables)<=0,\"\",NETWORKDAYS(J972+1,H972,DiasNOLaborables))","v":""},null,null,{"$f":"IFERROR(VLOOKUP(E972,$X$51:$Y$64,2),\"\")","v":35}]
[962,20219050127452,"2021-11-04","MODULO CONTACTENOS","SOLICITUD DE INFORMACIÓN Y DOCUMENTOS","CLIMATOLOGÍA","SUBDIRECCIÓN DE METEOROLOGÍA","2021-11-23","CORREO ELECTRÓNICO",{"$f":"IFERROR(WORKDAY(C973,P973,DiasNOLaborables),\"\")","v":"2021-12-03"},{"$f":"+IF(C973=\"\",\"\",IF(H973=\"\",\"SIN RESPUESTA\",(IF(H973<=J973,\"A TIEMPO\",\"FUERA DE TIEMPO\"))))","v":"A TIEMPO"},{"$f":"IF(H973=\"\",\"\",NETWORKDAYS(C973+1,H973,DiasNOLaborables))","v":12},{"$f":"IF(NETWORKDAYS(J973+1,H973,DiasNOLaborables)<=0,\"\",NETWORKDAYS(J973+1,H973,DiasNOLaborables))","v":""},null,null,{"$f":"IFERROR(VLOOKUP(E973,$X$51:$Y$64,2),\"\")","v":20}]
[{"$f":"IF(B974<>\"\",A973+1,\"\")","v":963},20219050127462,"2021-11-04","MODULO CONTACTENOS","SOLICITUD DE INFORMACIÓN Y DOCUMENTOS","ADMINISTRATIVA","GRUPO DE ADMINISTRACIÓN Y DESARROLLO DEL TALENTO HUMANO","2021-11-19","CORREO ELECTRÓNICO",{"$f":"IFERROR(WORKDAY(C974,P974,DiasNOLaborables),\"\")","v":"2021-12-03"},{"$f":"+IF(C974=\"\",\"\",IF(H974=\"\",\"SIN RESPUESTA\",(IF(H974<=J974,\"A TIEMPO\",\"FUERA DE TIEMPO\"))))","v":"A TIEMPO"},{"$f":"IF(H974=\"\",\"\",NETWORKDAYS(C974+1,H974,DiasNOLaborables))","v":10},{"$f":"IF(NETWORKDAYS(J974+1,H974,DiasNOLaborables)<=0,\"\",NETWORKDAYS(J974+1,H974,DiasNOLaborables))","v":""},null,null,{"$f":"IFERROR(VLOOKUP(E974,$X$51:$Y$64,2),\"\")","v":20}]
[964,20219050127692,"2021-11-04","MODULO CONTACTENOS","CERTIFICACIONES DE TIEMPO, CLIMA Y EVENTOS HIDROLÓGICOS","CERTIFICACIONES DE TIEMPO Y CLIMA","SUBDIRECCIÓN DE METEOROLOGÍA","2021-11-26","CORREO ELECTRÓNICO",{"$f":"IFERROR(WORKDAY(C975,P975,DiasNOLaborables),\"\")","v":"2021-12-27"},{"$f":"+IF(C975=\"\",\"\",IF(H975=\"\",\"SIN RESPUESTA\",(IF(H975<=J975,\"A TIEMPO\",\"FUERA DE TIEMPO\"))))","v":"A TIEMPO"},{"$f":"IF(H975=\"\",\"\",NETWORKDAYS(C975+1,H975,DiasNOLaborables))","v":15},{"$f":"IF(NETWORKDAYS(J975+1,H975,DiasNOLaborables)<=0,\"\",NETWORKDAYS(J975+1,H975,DiasNOLaborables))","v":""},null,null,{"$f":"IFERROR(VLOOKUP(E975,$X$51:$Y$64,2),\"\")","v":35}]
[965,20219050127912,"2021-11-04","MODULO CONTACTENOS","CERTIFICACIONES DE TIEMPO, CLIMA Y EVENTOS HIDROLÓGICOS","CERTIFICACIONES DE TIEMPO Y CLIMA","SUBDIRECCIÓN DE METEOROLOGÍA","2021-11-24","CORREO ELECTRÓNICO",{"$f":"IFERROR(WORKDAY(C976,P976,DiasNOLaborables),\"\")","v":"2021-12-27"},{"$f":"+IF(C976=\"\",\"\",IF(H976=\"\",\"SIN RESPUESTA\",(IF(H976<=J976,\"A TIEMPO\",\"FUERA DE TIEMPO\"))))","v":"A TIEMPO"},{"$f":"IF(H976=\"\",\"\",NETWORKDAYS(C976+1,H976,DiasNOLaborables))","v":13},{"$f":"IF(NETWORKDAYS(J976+1,H976,DiasNOLaborables)<=0,\"\",NETWORKDAYS(J976+1,H976,DiasNOLaborables))","v":""},null,null,{"$f":"IFERROR(VLOOKUP(E976,$X$51:$Y$64,2),\"\")","v":35}]
[966,20219050127362,"2021-11-04","CORREO ELECTRÓNICO","SOLICITUD DE INFORMACIÓN Y DOCUMENTOS","INFORMES AMBIENTALES","SUBDIRECCIÓN DE ESTUDIOS AMBIENTALES","2021-11-04","CORREO ELECTRÓNICO",{"$f":"IFERROR(WORKDAY(C977,P977,DiasNOLaborables),\"\")","v":"2021-12-03"},{"$f":"+IF(C977=\"\",\"\",IF(H977=\"\",\"SIN RESPUESTA\",(IF(H977<=J977,\"A TIEMPO\",\"FUERA DE TIEMPO\"))))","v":"A TIEMPO"},{"$f":"IF(H977=\"\",\"\",NETWORKDAYS(C977+1,H977,DiasNOLaborables))","v":-2},{"$f":"IF(NETWORKDAYS(J977+1,H977,DiasNOLaborables)<=0,\"\",NETWORKDAYS(J977+1,H977,DiasNOLaborables))","v":""},null,null,{"$f":"IFERROR(VLOOKUP(E977,$X$51:$Y$64,2),\"\")","v":20}]
[967,20219050127402,"2021-11-04","CORREO ELECTRÓNICO","SOLICITUD DE INFORMACIÓN Y DOCUMENTOS","INFORMES AMBIENTALES","SUBDIRECCIÓN DE HIDROLOGÍA","2021-11-30","CORREO ELECTRÓNICO",{"$f":"IFERROR(WORKDAY(C978,P978,DiasNOLaborables),\"\")","v":"2021-12-03"},{"$f":"+IF(C978=\"\",\"\",IF(H978=\"\",\"SIN RESPUESTA\",(IF(H978<=J978,\"A TIEMPO\",\"FUERA DE TIEMPO\"))))","v":"A TIEMPO"},{"$f":"IF(H978=\"\",\"\",NETWORKDAYS(C978+1,H978,DiasNOLaborables))","v":17},{"$f":"IF(NETWORKDAYS(J978+1,H978,DiasNOLaborables)<=0,\"\",NETWORKDAYS(J978+1,H978,DiasNOLaborables))","v":""},null,null,{"$f":"IFERROR(VLOOKUP(E978,$X$51:$Y$64,2),\"\")","v":20}]
[968,20219050127412,"2021-11-04","CORREO ELECTRÓNICO","SOLICITUD DE INFORMACIÓN Y DOCUMENTOS","INFORMES AMBIENTALES","SUBDIRECCIÓN DE HIDROLOGÍA","2021-11-22","CORREO ELECTRÓNICO",{"$f":"IFERROR(WORKDAY(C979,P979,DiasNOLaborables),\"\")","v":"2021-12-03"},{"$f":"+IF(C979=\"\",\"\",IF(H979=\"\",\"SIN RESPUESTA\",(IF(H979<=J979,\"A TIEMPO\",\"FUERA DE TIEMPO\"))))","v":"A TIEMPO"},{"$f":"IF(H979=\"\",\"\",NETWORKDAYS(C979+1,H979,DiasNOLaborables))","v":11},{"$f":"IF(NETWORKDAYS(J979+1,H979,DiasNOLaborables)<=0,\"\",NETWORKDAYS(J979+1,H979,DiasNOLaborables))","v":""},null,null,{"$f":"IFERROR(VLOOKUP(E979,$X$51:$Y$64,2),\"\")","v":20}]
[969,20219050127472,"2021-11-04","CORREO ELECTRÓNICO","SOLICITUD DE INFORMACIÓN Y DOCUMENTOS","ADMINISTRATIVA","GRUPO DE ADMINISTRACIÓN Y DESARROLLO DEL TALENTO HUMANO","2021-11-17","CORREO ELECTRÓNICO",{"$f":"IFERROR(WORKDAY(C980,P980,DiasNOLaborables),\"\")","v":"2021-12-03"},{"$f":"+IF(C980=\"\",\"\",IF(H980=\"\",\"SIN RESPUESTA\",(IF(H980<=J980,\"A TIEMPO\",\"FUERA DE TIEMPO\"))))","v":"A TIEMPO"},{"$f":"IF(H980=\"\",\"\",NETWORKDAYS(C980+1,H980,DiasNOLaborables))","v":8},{"$f":"IF(NETWORKDAYS(J980+1,H980,DiasNOLaborables)<=0,\"\",NETWORKDAYS(J980+1,H980,DiasNOLaborables))","v":""},null,null,{"$f":"IFERROR(VLOOKUP(E980,$X$51:$Y$64,2),\"\")","v":20}]
[970,20219050127482,"2021-11-04","CORREO ELECTRÓNICO","SOLICITUD DE INFORMACIÓN Y DOCUMENTOS","ACREDITACIÓN DE LABORATORIOS","SUBDIRECCIÓN DE ESTUDIOS AMBIENTALES","2021-11-10","CORREO ELECTRÓNICO",{"$f":"IFERROR(WORKDAY(C981,P981,DiasNOLaborables),\"\")","v":"2021-12-03"},{"$f":"+IF(C981=\"\",\"\",IF(H981=\"\",\"SIN RESPUESTA\",(IF(H981<=J981,\"A TIEMPO\",\"FUERA DE TIEMPO\"))))","v":"A TIEMPO"},{"$f":"IF(H981=\"\",\"\",NETWORKDAYS(C981+1,H981,DiasNOLaborables))","v":4},{"$f":"IF(NETWORKDAYS(J981+1,H981,DiasNOLaborables)<=0,\"\",NETWORKDAYS(J981+1,H981,DiasNOLaborables))","v":""},null,null,{"$f":"IFERROR(VLOOKUP(E981,$X$51:$Y$64,2),\"\")","v":20}]
[971,20219050127492,"2021-11-04","CORREO ELECTRÓNICO","CERTIFICACIONES DE TIEMPO, CLIMA Y EVENTOS HIDROLÓGICOS","CERTIFICACIONES DE TIEMPO Y CLIMA","SUBDIRECCIÓN DE METEOROLOGÍA","2021-11-26","CORREO ELECTRÓNICO",{"$f":"IFERROR(WORKDAY(C982,P982,DiasNOLaborables),\"\")","v":"2021-12-27"},{"$f":"+IF(C982=\"\",\"\",IF(H982=\"\",\"SIN RESPUESTA\",(IF(H982<=J982,\"A TIEMPO\",\"FUERA DE TIEMPO\"))))","v":"A TIEMPO"},{"$f":"IF(H982=\"\",\"\",NETWORKDAYS(C982+1,H982,DiasNOLaborables))","v":15},{"$f":"IF(NETWORKDAYS(J982+1,H982,DiasNOLaborables)<=0,\"\",NETWORKDAYS(J982+1,H982,DiasNOLaborables))","v":""},null,null,{"$f":"IFERROR(VLOOKUP(E982,$X$51:$Y$64,2),\"\")","v":35}]
[972,20219050127552,"2021-11-04","CORREO ELECTRÓNICO","CERTIFICACIONES DE TIEMPO, CLIMA Y EVENTOS HIDROLÓGICOS","CERTIFICACIONES DE TIEMPO Y CLIMA","SUBDIRECCIÓN DE METEOROLOGÍA","2021-11-26","CORREO ELECTRÓNICO",{"$f":"IFERROR(WORKDAY(C983,P983,DiasNOLaborables),\"\")","v":"2021-12-27"},{"$f":"+IF(C983=\"\",\"\",IF(H983=\"\",\"SIN RESPUESTA\",(IF(H983<=J983,\"A TIEMPO\",\"FUERA DE TIEMPO\"))))","v":"A TIEMPO"},{"$f":"IF(H983=\"\",\"\",NETWORKDAYS(C983+1,H983,DiasNOLaborables))","v":15},{"$f":"IF(NETWORKDAYS(J983+1,H983,DiasNOLaborables)<=0,\"\",NETWORKDAYS(J983+1,H983,DiasNOLaborables))","v":""},null,null,{"$f":"IFERROR(VLOOKUP(E983,$X$51:$Y$64,2),\"\")","v":35}]
[973,20219050127522,"2021-11-04","MODULO CONTACTENOS","SOLICITUD DE INFORMACIÓN Y DOCUMENTOS","SOLICITUD DE INFORMACIÓN HIDROMETEOROLÓGICA","GRUPO DE SERVICIO AL CIUDADANO ","2021-11-12","CORREO ELECTRÓNICO",{"$f":"IFERROR(WORKDAY(C984,P984,DiasNOLaborables),\"\")","v":"2021-12-03"},{"$f":"+IF(C984=\"\",\"\",IF(H984=\"\",\"SIN RESPUESTA\",(IF(H984<=J984,\"A TIEMPO\",\"FUERA DE TIEMPO\"))))","v":"A TIEMPO"},{"$f":"IF(H984=\"\",\"\",NETWORKDAYS(C984+1,H984,DiasNOLaborables))","v":6},{"$f":"IF(NETWORKDAYS(J984+1,H984,DiasNOLaborables)<=0,\"\",NETWORKDAYS(J984+1,H984,DiasNOLaborables))","v":""},null,null,{"$f":"IFERROR(VLOOKUP(E984,$X$51:$Y$64,2),\"\")","v":20}]
[974,20219050127532,"2021-11-04","MODULO CONTACTENOS","SOLICITUD DE INFORMACIÓN Y DOCUMENTOS","SOLICITUD DE INFORMACIÓN HIDROMETEOROLÓGICA","GRUPO DE SERVICIO AL CIUDADANO ","2021-11-12","CORREO ELECTRÓNICO",{"$f":"IFERROR(WORKDAY(C985,P985,DiasNOLaborables),\"\")","v":"2021-12-03"},{"$f":"+IF(C985=\"\",\"\",IF(H985=\"\",\"SIN RESPUESTA\",(IF(H985<=J985,\"A TIEMPO\",\"FUERA DE TIEMPO\"))))","v":"A TIEMPO"},{"$f":"IF(H985=\"\",\"\",NETWORKDAYS(C985+1,H985,DiasNOLaborables))","v":6},{"$f":"IF(NETWORKDAYS(J985+1,H985,DiasNOLaborables)<=0,\"\",NETWORKDAYS(J985+1,H985,DiasNOLaborables))","v":""},null,null,{"$f":"IFERROR(VLOOKUP(E985,$X$51:$Y$64,2),\"\")","v":20}]
[975,20219050127542,"2021-11-04","MODULO CONTACTENOS","SOLICITUD DE INFORMACIÓN Y DOCUMENTOS","SOLICITUD DE INFORMACIÓN HIDROMETEOROLÓGICA","GRUPO DE SERVICIO AL CIUDADANO ","2021-11-12","CORREO ELECTRÓNICO",{"$f":"IFERROR(WORKDAY(C986,P986,DiasNOLaborables),\"\")","v":"2021-12-03"},{"$f":"+IF(C986=\"\",\"\",IF(H986=\"\",\"SIN RESPUESTA\",(IF(H986<=J986,\"A TIEMPO\",\"FUERA DE TIEMPO\"))))","v":"A TIEMPO"},{"$f":"IF(H986=\"\",\"\",NETWORKDAYS(C986+1,H986,DiasNOLaborables))","v":6},{"$f":"IF(NETWORKDAYS(J986+1,H986,DiasNOLaborables)<=0,\"\",NETWORKDAYS(J986+1,H986,DiasNOLaborables))","v":""},null,null,{"$f":"IFERROR(VLOOKUP(E986,$X$51:$Y$64,2),\"\")","v":20}]
[976,20219050127712,"2021-11-04","MODULO CONTACTENOS","SOLICITUD DE INFORMACIÓN Y DOCUMENTOS","SOLICITUD DE INFORMACIÓN HIDROMETEOROLÓGICA","GRUPO DE SERVICIO AL CIUDADANO ","2021-11-12","CORREO ELECTRÓNICO",{"$f":"IFERROR(WORKDAY(C987,P987,DiasNOLaborables),\"\")","v":"2021-12-03"},{"$f":"+IF(C987=\"\",\"\",IF(H987=\"\",\"SIN RESPUESTA\",(IF(H987<=J987,\"A TIEMPO\",\"FUERA DE TIEMPO\"))))","v":"A TIEMPO"},{"$f":"IF(H987=\"\",\"\",NETWORKDAYS(C987+1,H987,DiasNOLaborables))","v":6},{"$f":"IF(NETWORKDAYS(J987+1,H987,DiasNOLaborables)<=0,\"\",NETWORKDAYS(J987+1,H987,DiasNOLaborables))","v":""},null,null,{"$f":"IFERROR(VLOOKUP(E987,$X$51:$Y$64,2),\"\")","v":20}]
[977,20219050127722,"2021-11-04","MODULO CONTACTENOS","SOLICITUD DE INFORMACIÓN Y DOCUMENTOS","SOLICITUD DE INFORMACIÓN HIDROMETEOROLÓGICA","GRUPO DE SERVICIO AL CIUDADANO ","2021-11-13","CORREO ELECTRÓNICO",{"$f":"IFERROR(WORKDAY(C988,P988,DiasNOLaborables),\"\")","v":"2021-12-03"},{"$f":"+IF(C988=\"\",\"\",IF(H988=\"\",\"SIN RESPUESTA\",(IF(H988<=J988,\"A TIEMPO\",\"FUERA DE TIEMPO\"))))","v":"A TIEMPO"},{"$f":"IF(H988=\"\",\"\",NETWORKDAYS(C988+1,H988,DiasNOLaborables))","v":6},{"$f":"IF(NETWORKDAYS(J988+1,H988,DiasNOLaborables)<=0,\"\",NETWORKDAYS(J988+1,H988,DiasNOLaborables))","v":""},null,null,{"$f":"IFERROR(VLOOKUP(E988,$X$51:$Y$64,2),\"\")","v":20}]
[978,20219050127762,"2021-11-04","MODULO CONTACTENOS","SOLICITUD DE INFORMACIÓN Y DOCUMENTOS","SOLICITUD DE INFORMACIÓN HIDROMETEOROLÓGICA","GRUPO DE SERVICIO AL CIUDADANO ","2021-11-13","CORREO ELECTRÓNICO",{"$f":"IFERROR(WORKDAY(C989,P989,DiasNOLaborables),\"\")","v":"2021-12-03"},{"$f":"+IF(C989=\"\",\"\",IF(H989=\"\",\"SIN RESPUESTA\",(IF(H989<=J989,\"A TIEMPO\",\"FUERA DE TIEMPO\"))))","v":"A TIEMPO"},{"$f":"IF(H989=\"\",\"\",NETWORKDAYS(C989+1,H989,DiasNOLaborables))","v":6},{"$f":"IF(NETWORKDAYS(J989+1,H989,DiasNOLaborables)<=0,\"\",NETWORKDAYS(J989+1,H989,DiasNOLaborables))","v":""},null,null,{"$f":"IFERROR(VLOOKUP(E989,$X$51:$Y$64,2),\"\")","v":20}]
[979,20219050127842,"2021-11-04","CORREO ELECTRÓNICO","SOLICITUD DE INFORMACIÓN Y DOCUMENTOS","SOLICITUD DE INFORMACIÓN HIDROMETEOROLÓGICA","GRUPO DE SERVICIO AL CIUDADANO ","2021-11-13","CORREO ELECTRÓNICO",{"$f":"IFERROR(WORKDAY(C990,P990,DiasNOLaborables),\"\")","v":"2021-12-03"},{"$f":"+IF(C990=\"\",\"\",IF(H990=\"\",\"SIN RESPUESTA\",(IF(H990<=J990,\"A TIEMPO\",\"FUERA DE TIEMPO\"))))","v":"A TIEMPO"},{"$f":"IF(H990=\"\",\"\",NETWORKDAYS(C990+1,H990,DiasNOLaborables))","v":6},{"$f":"IF(NETWORKDAYS(J990+1,H990,DiasNOLaborables)<=0,\"\",NETWORKDAYS(J990+1,H990,DiasNOLaborables))","v":""},null,null,{"$f":"IFERROR(VLOOKUP(E990,$X$51:$Y$64,2),\"\")","v":20}]
[980,20219050127572,"2021-11-04","CORREO ELECTRÓNICO","SOLICITUD DE INFORMACIÓN Y DOCUMENTOS","REGISTROS AMBIENTALES","SUBDIRECCIÓN DE ESTUDIOS AMBIENTALES","2021-11-05","CORREO ELECTRÓNICO",{"$f":"IFERROR(WORKDAY(C991,P991,DiasNOLaborables),\"\")","v":"2021-12-03"},{"$f":"+IF(C991=\"\",\"\",IF(H991=\"\",\"SIN RESPUESTA\",(IF(H991<=J991,\"A TIEMPO\",\"FUERA DE TIEMPO\"))))","v":"A TIEMPO"},{"$f":"IF(H991=\"\",\"\",NETWORKDAYS(C991+1,H991,DiasNOLaborables))","v":1},{"$f":"IF(NETWORKDAYS(J991+1,H991,DiasNOLaborables)<=0,\"\",NETWORKDAYS(J991+1,H991,DiasNOLaborables))","v":""},null,null,{"$f":"IFERROR(VLOOKUP(E991,$X$51:$Y$64,2),\"\")","v":20}]
[981,20219050127742,"2021-11-04","CORREO ELECTRÓNICO","SOLICITUD DE INFORMACIÓN Y DOCUMENTOS","INFORMES AMBIENTALES","SUBDIRECCIÓN DE ESTUDIOS AMBIENTALES","2021-11-16","CORREO ELECTRÓNICO",{"$f":"IFERROR(WORKDAY(C992,P992,DiasNOLaborables),\"\")","v":"2021-12-03"},{"$f":"+IF(C992=\"\",\"\",IF(H992=\"\",\"SIN RESPUESTA\",(IF(H992<=J992,\"A TIEMPO\",\"FUERA DE TIEMPO\"))))","v":"A TIEMPO"},{"$f":"IF(H992=\"\",\"\",NETWORKDAYS(C992+1,H992,DiasNOLaborables))","v":7},{"$f":"IF(NETWORKDAYS(J992+1,H992,DiasNOLaborables)<=0,\"\",NETWORKDAYS(J992+1,H992,DiasNOLaborables))","v":""},null,null,{"$f":"IFERROR(VLOOKUP(E992,$X$51:$Y$64,2),\"\")","v":20}]
[982,20219050128002,"2021-11-05","CORREO ELECTRÓNICO","SOLICITUD DE INFORMACIÓN Y DOCUMENTOS","PRONÓSTICOS Y ALERTAS","OFICINA DEL SERVICIO DE PRONÓSTICOS Y ALERTAS","2021-11-25","CORREO ELECTRÓNICO",{"$f":"IFERROR(WORKDAY(C993,P993,DiasNOLaborables),\"\")","v":"2021-12-06"},{"$f":"+IF(C993=\"\",\"\",IF(H993=\"\",\"SIN RESPUESTA\",(IF(H993<=J993,\"A TIEMPO\",\"FUERA DE TIEMPO\"))))","v":"A TIEMPO"},{"$f":"IF(H993=\"\",\"\",NETWORKDAYS(C993+1,H993,DiasNOLaborables))","v":13},{"$f":"IF(NETWORKDAYS(J993+1,H993,DiasNOLaborables)<=0,\"\",NETWORKDAYS(J993+1,H993,DiasNOLaborables))","v":""},null,null,{"$f":"IFERROR(VLOOKUP(E993,$X$51:$Y$64,2),\"\")","v":20}]
[983,20219050128012,"2021-11-05","CORREO ELECTRÓNICO","SOLICITUD DE INFORMACIÓN Y DOCUMENTOS","INFORMES AMBIENTALES","SUBDIRECCIÓN DE ESTUDIOS AMBIENTALES","2021-11-10","CORREO ELECTRÓNICO",{"$f":"IFERROR(WORKDAY(C994,P994,DiasNOLaborables),\"\")","v":"2021-12-06"},{"$f":"+IF(C994=\"\",\"\",IF(H994=\"\",\"SIN RESPUESTA\",(IF(H994<=J994,\"A TIEMPO\",\"FUERA DE TIEMPO\"))))","v":"A TIEMPO"},{"$f":"IF(H994=\"\",\"\",NETWORKDAYS(C994+1,H994,DiasNOLaborables))","v":3},{"$f":"IF(NETWORKDAYS(J994+1,H994,DiasNOLaborables)<=0,\"\",NETWORKDAYS(J994+1,H994,DiasNOLaborables))","v":""},null,null,{"$f":"IFERROR(VLOOKUP(E994,$X$51:$Y$64,2),\"\")","v":20}]
[984,20219910060422,"2021-11-05","CORREO ELECTRÓNICO","SOLICITUD DE INFORMACIÓN Y DOCUMENTOS","ADMINISTRATIVA","GRUPO DE ADMINISTRACIÓN Y DESARROLLO DEL TALENTO HUMANO","2021-12-03","CORREO ELECTRÓNICO",{"$f":"IFERROR(WORKDAY(C995,P995,DiasNOLaborables),\"\")","v":"2021-12-06"},{"$f":"+IF(C995=\"\",\"\",IF(H995=\"\",\"SIN RESPUESTA\",(IF(H995<=J995,\"A TIEMPO\",\"FUERA DE TIEMPO\"))))","v":"A TIEMPO"},{"$f":"IF(H995=\"\",\"\",NETWORKDAYS(C995+1,H995,DiasNOLaborables))","v":19},{"$f":"IF(NETWORKDAYS(J995+1,H995,DiasNOLaborables)<=0,\"\",NETWORKDAYS(J995+1,H995,DiasNOLaborables))","v":""},null,null,{"$f":"IFERROR(VLOOKUP(E995,$X$51:$Y$64,2),\"\")","v":20}]
[985,20219050128032,"2021-11-05","CORREO ELECTRÓNICO","SOLICITUD DE INFORMACIÓN Y DOCUMENTOS","INFORMES AMBIENTALES","SUBDIRECCIÓN DE METEOROLOGÍA","2021-11-05",null,{"$f":"IFERROR(WORKDAY(C996,P996,DiasNOLaborables),\"\")","v":"2021-12-06"},{"$f":"+IF(C996=\"\",\"\",IF(H996=\"\",\"SIN RESPUESTA\",(IF(H996<=J996,\"A TIEMPO\",\"FUERA DE TIEMPO\"))))","v":"A TIEMPO"},{"$f":"IF(H996=\"\",\"\",NETWORKDAYS(C996+1,H996,DiasNOLaborables))","v":-1},{"$f":"IF(NETWORKDAYS(J996+1,H996,DiasNOLaborables)<=0,\"\",NETWORKDAYS(J996+1,H996,DiasNOLaborables))","v":""},null,null,{"$f":"IFERROR(VLOOKUP(E996,$X$51:$Y$64,2),\"\")","v":20}]
[986,20219050128062,"2021-11-05","CORREO ELECTRÓNICO","REMISIÓN POR COMPETENCIA","ADMINISTRATIVA","GRUPO DE SERVICIO AL CIUDADANO ","2021-11-12","CORREO ELECTRÓNICO",{"$f":"IFERROR(WORKDAY(C997,P997,DiasNOLaborables),\"\")","v":"2021-11-12"},{"$f":"+IF(C997=\"\",\"\",IF(H997=\"\",\"SIN RESPUESTA\",(IF(H997<=J997,\"A TIEMPO\",\"FUERA DE TIEMPO\"))))","v":"A TIEMPO"},{"$f":"IF(H997=\"\",\"\",NETWORKDAYS(C997+1,H997,DiasNOLaborables))","v":5},{"$f":"IF(NETWORKDAYS(J997+1,H997,DiasNOLaborables)<=0,\"\",NETWORKDAYS(J997+1,H997,DiasNOLaborables))","v":""},null,null,{"$f":"IFERROR(VLOOKUP(E997,$X$51:$Y$64,2),\"\")","v":5}]
[987,20219050128152,"2021-11-05","CORREO ELECTRÓNICO","SOLICITUD DE INFORMACIÓN Y DOCUMENTOS","INFORMES AMBIENTALES","SUBDIRECCIÓN DE ESTUDIOS AMBIENTALES","2021-11-17","CORREO ELECTRÓNICO",{"$f":"IFERROR(WORKDAY(C998,P998,DiasNOLaborables),\"\")","v":"2021-12-06"},{"$f":"+IF(C998=\"\",\"\",IF(H998=\"\",\"SIN RESPUESTA\",(IF(H998<=J998,\"A TIEMPO\",\"FUERA DE TIEMPO\"))))","v":"A TIEMPO"},{"$f":"IF(H998=\"\",\"\",NETWORKDAYS(C998+1,H998,DiasNOLaborables))","v":7},{"$f":"IF(NETWORKDAYS(J998+1,H998,DiasNOLaborables)<=0,\"\",NETWORKDAYS(J998+1,H998,DiasNOLaborables))","v":""},null,null,{"$f":"IFERROR(VLOOKUP(E998,$X$51:$Y$64,2),\"\")","v":20}]
[988,20219050128182,"2021-11-05","CORREO ELECTRÓNICO","SOLICITUD DE INFORMACIÓN Y DOCUMENTOS","INFORMES AMBIENTALES","SUBDIRECCIÓN DE HIDROLOGÍA","2021-11-17","CORREO ELECTRÓNICO",{"$f":"IFERROR(WORKDAY(C999,P999,DiasNOLaborables),\"\")","v":"2021-12-06"},{"$f":"+IF(C999=\"\",\"\",IF(H999=\"\",\"SIN RESPUESTA\",(IF(H999<=J999,\"A TIEMPO\",\"FUERA DE TIEMPO\"))))","v":"A TIEMPO"},{"$f":"IF(H999=\"\",\"\",NETWORKDAYS(C999+1,H999,DiasNOLaborables))","v":7},{"$f":"IF(NETWORKDAYS(J999+1,H999,DiasNOLaborables)<=0,\"\",NETWORKDAYS(J999+1,H999,DiasNOLaborables))","v":""},null,null,{"$f":"IFERROR(VLOOKUP(E999,$X$51:$Y$64,2),\"\")","v":20}]
[989,20219050128202,"2021-11-05","CORREO ELECTRÓNICO","SOLICITUD DE INFORMACIÓN Y DOCUMENTOS","ADMINISTRATIVA","GRUPO DE ADMINISTRACIÓN Y DESARROLLO DEL TALENTO HUMANO","2021-11-08","CORREO ELECTRÓNICO",{"$f":"IFERROR(WORKDAY(C1000,P1000,DiasNOLaborables),\"\")","v":"2021-12-06"},{"$f":"+IF(C1000=\"\",\"\",IF(H1000=\"\",\"SIN RESPUESTA\",(IF(H1000<=J1000,\"A TIEMPO\",\"FUERA DE TIEMPO\"))))","v":"A TIEMPO"},{"$f":"IF(H1000=\"\",\"\",NETWORKDAYS(C1000+1,H1000,DiasNOLaborables))","v":1},{"$f":"IF(NETWORKDAYS(J1000+1,H1000,DiasNOLaborables)<=0,\"\",NETWORKDAYS(J1000+1,H1000,DiasNOLaborables))","v":""},null,null,{"$f":"IFERROR(VLOOKUP(E1000,$X$51:$Y$64,2),\"\")","v":20}]
[990,20219050128212,"2021-11-05","CORREO ELECTRÓNICO","SOLICITUD DE INFORMACIÓN Y DOCUMENTOS","JURIDICO","OFICINA ASESORA JURÍDICA","2021-11-10","CORREO ELECTRÓNICO",{"$f":"IFERROR(WORKDAY(C1001,P1001,DiasNOLaborables),\"\")","v":"2021-12-06"},{"$f":"+IF(C1001=\"\",\"\",IF(H1001=\"\",\"SIN RESPUESTA\",(IF(H1001<=J1001,\"A TIEMPO\",\"FUERA DE TIEMPO\"))))","v":"A TIEMPO"},{"$f":"IF(H1001=\"\",\"\",NETWORKDAYS(C1001+1,H1001,DiasNOLaborables))","v":3},{"$f":"IF(NETWORKDAYS(J1001+1,H1001,DiasNOLaborables)<=0,\"\",NETWORKDAYS(J1001+1,H1001,DiasNOLaborables))","v":""},null,null,{"$f":"IFERROR(VLOOKUP(E1001,$X$51:$Y$64,2),\"\")","v":20}]
[991,20219910060332,"2021-11-05","CORREO ELECTRÓNICO","PETICIÓN","ADMINISTRATIVA","SECRETARÍA GENERAL","2021-12-20","CORREO ELECTRÓNICO",{"$f":"IFERROR(WORKDAY(C1002,P1002,DiasNOLaborables),\"\")","v":"2021-12-21"},{"$f":"+IF(C1002=\"\",\"\",IF(H1002=\"\",\"SIN RESPUESTA\",(IF(H1002<=J1002,\"A TIEMPO\",\"FUERA DE TIEMPO\"))))","v":"A TIEMPO"},{"$f":"IF(H1002=\"\",\"\",NETWORKDAYS(C1002+1,H1002,DiasNOLaborables))","v":29},{"$f":"IF(NETWORKDAYS(J1002+1,H1002,DiasNOLaborables)<=0,\"\",NETWORKDAYS(J1002+1,H1002,DiasNOLaborables))","v":""},null,null,{"$f":"IFERROR(VLOOKUP(E1002,$X$51:$Y$64,2),\"\")","v":30}]
[992,20219050127972,"2021-11-05","MODULO CONTACTENOS","SOLICITUD DE INFORMACIÓN Y DOCUMENTOS","ADMINISTRATIVA","GRUPO DE ADMINISTRACIÓN Y DESARROLLO DEL TALENTO HUMANO","2021-11-17","CORREO ELECTRÓNICO",{"$f":"IFERROR(WORKDAY(C1003,P1003,DiasNOLaborables),\"\")","v":"2021-12-06"},{"$f":"+IF(C1003=\"\",\"\",IF(H1003=\"\",\"SIN RESPUESTA\",(IF(H1003<=J1003,\"A TIEMPO\",\"FUERA DE TIEMPO\"))))","v":"A TIEMPO"},{"$f":"IF(H1003=\"\",\"\",NETWORKDAYS(C1003+1,H1003,DiasNOLaborables))","v":7},{"$f":"IF(NETWORKDAYS(J1003+1,H1003,DiasNOLaborables)<=0,\"\",NETWORKDAYS(J1003+1,H1003,DiasNOLaborables))","v":""},null,null,{"$f":"IFERROR(VLOOKUP(E1003,$X$51:$Y$64,2),\"\")","v":20}]
[993,20219050128082,"2021-11-05","MODULO CONTACTENOS","SOLICITUD DE INFORMACIÓN Y DOCUMENTOS","ADMINISTRATIVA","GRUPO DE ADMINISTRACIÓN Y DESARROLLO DEL TALENTO HUMANO","2022-01-04","CORREO ELECTRÓNICO",{"$f":"IFERROR(WORKDAY(C1004,P1004,DiasNOLaborables),\"\")","v":"2021-12-06"},{"$f":"+IF(C1004=\"\",\"\",IF(H1004=\"\",\"SIN RESPUESTA\",(IF(H1004<=J1004,\"A TIEMPO\",\"FUERA DE TIEMPO\"))))","v":"FUERA DE TIEMPO"},{"$f":"IF(H1004=\"\",\"\",NETWORKDAYS(C1004+1,H1004,DiasNOLaborables))","v":40},{"$f":"IF(NETWORKDAYS(J1004+1,H1004,DiasNOLaborables)<=0,\"\",NETWORKDAYS(J1004+1,H1004,DiasNOLaborables))","v":20},null,null,{"$f":"IFERROR(VLOOKUP(E1004,$X$51:$Y$64,2),\"\")","v":20}]
[994,20219050128112,"2021-11-05","MODULO CONTACTENOS","SOLICITUD DE INFORMACIÓN Y DOCUMENTOS","ADMINISTRATIVA","OFICINA ASESORA JURÍDICA","2021-11-10","CORREO ELECTRÓNICO",{"$f":"IFERROR(WORKDAY(C1005,P1005,DiasNOLaborables),\"\")","v":"2021-12-06"},{"$f":"+IF(C1005=\"\",\"\",IF(H1005=\"\",\"SIN RESPUESTA\",(IF(H1005<=J1005,\"A TIEMPO\",\"FUERA DE TIEMPO\"))))","v":"A TIEMPO"},{"$f":"IF(H1005=\"\",\"\",NETWORKDAYS(C1005+1,H1005,DiasNOLaborables))","v":3},{"$f":"IF(NETWORKDAYS(J1005+1,H1005,DiasNOLaborables)<=0,\"\",NETWORKDAYS(J1005+1,H1005,DiasNOLaborables))","v":""},null,null,{"$f":"IFERROR(VLOOKUP(E1005,$X$51:$Y$64,2),\"\")","v":20}]
[995,20219050128162,"2021-11-05","MODULO CONTACTENOS","SOLICITUD DE INFORMACIÓN Y DOCUMENTOS","ADMINISTRATIVA","GRUPO DE ADMINISTRACIÓN Y DESARROLLO DEL TALENTO HUMANO","2021-11-17","CORREO ELECTRÓNICO",{"$f":"IFERROR(WORKDAY(C1006,P1006,DiasNOLaborables),\"\")","v":"2021-12-06"},{"$f":"+IF(C1006=\"\",\"\",IF(H1006=\"\",\"SIN RESPUESTA\",(IF(H1006<=J1006,\"A TIEMPO\",\"FUERA DE TIEMPO\"))))","v":"A TIEMPO"},{"$f":"IF(H1006=\"\",\"\",NETWORKDAYS(C1006+1,H1006,DiasNOLaborables))","v":7},{"$f":"IF(NETWORKDAYS(J1006+1,H1006,DiasNOLaborables)<=0,\"\",NETWORKDAYS(J1006+1,H1006,DiasNOLaborables))","v":""},null,null,{"$f":"IFERROR(VLOOKUP(E1006,$X$51:$Y$64,2),\"\")","v":20}]
[996,20219050127582,"2021-11-04","MODULO CONTACTENOS","SOLICITUD DE INFORMACIÓN Y DOCUMENTOS","SOLICITUD DE INFORMACIÓN HIDROMETEOROLÓGICA","GRUPO DE SERVICIO AL CIUDADANO ","2021-11-16","CORREO ELECTRÓNICO",{"$f":"IFERROR(WORKDAY(C1007,P1007,DiasNOLaborables),\"\")","v":"2021-12-03"},{"$f":"+IF(C1007=\"\",\"\",IF(H1007=\"\",\"SIN RESPUESTA\",(IF(H1007<=J1007,\"A TIEMPO\",\"FUERA DE TIEMPO\"))))","v":"A TIEMPO"},{"$f":"IF(H1007=\"\",\"\",NETWORKDAYS(C1007+1,H1007,DiasNOLaborables))","v":7},{"$f":"IF(NETWORKDAYS(J1007+1,H1007,DiasNOLaborables)<=0,\"\",NETWORKDAYS(J1007+1,H1007,DiasNOLaborables))","v":""},null,null,{"$f":"IFERROR(VLOOKUP(E1007,$X$51:$Y$64,2),\"\")","v":20}]
[997,20219050127652,"2021-11-04","MODULO CONTACTENOS","SOLICITUD DE INFORMACIÓN Y DOCUMENTOS","SOLICITUD DE INFORMACIÓN HIDROMETEOROLÓGICA","GRUPO DE SERVICIO AL CIUDADANO ","2021-11-17","CORREO ELECTRÓNICO",{"$f":"IFERROR(WORKDAY(C1008,P1008,DiasNOLaborables),\"\")","v":"2021-12-03"},{"$f":"+IF(C1008=\"\",\"\",IF(H1008=\"\",\"SIN RESPUESTA\",(IF(H1008<=J1008,\"A TIEMPO\",\"FUERA DE TIEMPO\"))))","v":"A TIEMPO"},{"$f":"IF(H1008=\"\",\"\",NETWORKDAYS(C1008+1,H1008,DiasNOLaborables))","v":8},{"$f":"IF(NETWORKDAYS(J1008+1,H1008,DiasNOLaborables)<=0,\"\",NETWORKDAYS(J1008+1,H1008,DiasNOLaborables))","v":""},null,null,{"$f":"IFERROR(VLOOKUP(E1008,$X$51:$Y$64,2),\"\")","v":20}]
[998,20219050127752,"2021-11-04","MODULO CONTACTENOS","SOLICITUD DE INFORMACIÓN Y DOCUMENTOS","SOLICITUD DE INFORMACIÓN HIDROMETEOROLÓGICA","GRUPO DE SERVICIO AL CIUDADANO ","2021-11-17","CORREO ELECTRÓNICO",{"$f":"IFERROR(WORKDAY(C1009,P1009,DiasNOLaborables),\"\")","v":"2021-12-03"},{"$f":"+IF(C1009=\"\",\"\",IF(H1009=\"\",\"SIN RESPUESTA\",(IF(H1009<=J1009,\"A TIEMPO\",\"FUERA DE TIEMPO\"))))","v":"A TIEMPO"},{"$f":"IF(H1009=\"\",\"\",NETWORKDAYS(C1009+1,H1009,DiasNOLaborables))","v":8},{"$f":"IF(NETWORKDAYS(J1009+1,H1009,DiasNOLaborables)<=0,\"\",NETWORKDAYS(J1009+1,H1009,DiasNOLaborables))","v":""},null,null,{"$f":"IFERROR(VLOOKUP(E1009,$X$51:$Y$64,2),\"\")","v":20}]
[999,20219050127792,"2021-11-04","MODULO CONTACTENOS","SOLICITUD DE INFORMACIÓN Y DOCUMENTOS","SOLICITUD DE INFORMACIÓN HIDROMETEOROLÓGICA","GRUPO DE SERVICIO AL CIUDADANO ","2021-11-16","CORREO ELECTRÓNICO",{"$f":"IFERROR(WORKDAY(C1010,P1010,DiasNOLaborables),\"\")","v":"2021-12-03"},{"$f":"+IF(C1010=\"\",\"\",IF(H1010=\"\",\"SIN RESPUESTA\",(IF(H1010<=J1010,\"A TIEMPO\",\"FUERA DE TIEMPO\"))))","v":"A TIEMPO"},{"$f":"IF(H1010=\"\",\"\",NETWORKDAYS(C1010+1,H1010,DiasNOLaborables))","v":7},{"$f":"IF(NETWORKDAYS(J1010+1,H1010,DiasNOLaborables)<=0,\"\",NETWORKDAYS(J1010+1,H1010,DiasNOLaborables))","v":""},null,null,{"$f":"IFERROR(VLOOKUP(E1010,$X$51:$Y$64,2),\"\")","v":20}]
[1000,20219050127822,"2021-11-04","MODULO CONTACTENOS","SOLICITUD DE INFORMACIÓN Y DOCUMENTOS","SOLICITUD DE INFORMACIÓN HIDROMETEOROLÓGICA","GRUPO DE SERVICIO AL CIUDADANO ","2021-11-16","CORREO ELECTRÓNICO",{"$f":"IFERROR(WORKDAY(C1011,P1011,DiasNOLaborables),\"\")","v":"2021-12-03"},{"$f":"+IF(C1011=\"\",\"\",IF(H1011=\"\",\"SIN RESPUESTA\",(IF(H1011<=J1011,\"A TIEMPO\",\"FUERA DE TIEMPO\"))))","v":"A TIEMPO"},{"$f":"IF(H1011=\"\",\"\",NETWORKDAYS(C1011+1,H1011,DiasNOLaborables))","v":7},{"$f":"IF(NETWORKDAYS(J1011+1,H1011,DiasNOLaborables)<=0,\"\",NETWORKDAYS(J1011+1,H1011,DiasNOLaborables))","v":""},null,null,{"$f":"IFERROR(VLOOKUP(E1011,$X$51:$Y$64,2),\"\")","v":20}]
[1001,20219050127922,"2021-11-04","MODULO CONTACTENOS","SOLICITUD DE INFORMACIÓN Y DOCUMENTOS","SOLICITUD DE INFORMACIÓN HIDROMETEOROLÓGICA","GRUPO DE SERVICIO AL CIUDADANO ","2021-11-16","CORREO ELECTRÓNICO",{"$f":"IFERROR(WORKDAY(C1012,P1012,DiasNOLaborables),\"\")","v":"2021-12-03"},{"$f":"+IF(C1012=\"\",\"\",IF(H1012=\"\",\"SIN RESPUESTA\",(IF(H1012<=J1012,\"A TIEMPO\",\"FUERA DE TIEMPO\"))))","v":"A TIEMPO"},{"$f":"IF(H1012=\"\",\"\",NETWORKDAYS(C1012+1,H1012,DiasNOLaborables))","v":7},{"$f":"IF(NETWORKDAYS(J1012+1,H1012,DiasNOLaborables)<=0,\"\",NETWORKDAYS(J1012+1,H1012,DiasNOLaborables))","v":""},null,null,{"$f":"IFERROR(VLOOKUP(E1012,$X$51:$Y$64,2),\"\")","v":20}]
[1002,20219050127932,"2021-11-04","MODULO CONTACTENOS","SOLICITUD DE INFORMACIÓN Y DOCUMENTOS","SOLICITUD DE INFORMACIÓN HIDROMETEOROLÓGICA","GRUPO DE SERVICIO AL CIUDADANO ","2021-11-16","CORREO ELECTRÓNICO",{"$f":"IFERROR(WORKDAY(C1013,P1013,DiasNOLaborables),\"\")","v":"2021-12-03"},{"$f":"+IF(C1013=\"\",\"\",IF(H1013=\"\",\"SIN RESPUESTA\",(IF(H1013<=J1013,\"A TIEMPO\",\"FUERA DE TIEMPO\"))))","v":"A TIEMPO"},{"$f":"IF(H1013=\"\",\"\",NETWORKDAYS(C1013+1,H1013,DiasNOLaborables))","v":7},{"$f":"IF(NETWORKDAYS(J1013+1,H1013,DiasNOLaborables)<=0,\"\",NETWORKDAYS(J1013+1,H1013,DiasNOLaborables))","v":""},null,null,{"$f":"IFERROR(VLOOKUP(E1013,$X$51:$Y$64,2),\"\")","v":20}]
[1003,20219050127942,"2021-11-04","MODULO CONTACTENOS","SOLICITUD DE INFORMACIÓN Y DOCUMENTOS","SOLICITUD DE INFORMACIÓN HIDROMETEOROLÓGICA","GRUPO DE SERVICIO AL CIUDADANO ","2021-11-16","CORREO ELECTRÓNICO",{"$f":"IFERROR(WORKDAY(C1014,P1014,DiasNOLaborables),\"\")","v":"2021-12-03"},{"$f":"+IF(C1014=\"\",\"\",IF(H1014=\"\",\"SIN RESPUESTA\",(IF(H1014<=J1014,\"A TIEMPO\",\"FUERA DE TIEMPO\"))))","v":"A TIEMPO"},{"$f":"IF(H1014=\"\",\"\",NETWORKDAYS(C1014+1,H1014,DiasNOLaborables))","v":7},{"$f":"IF(NETWORKDAYS(J1014+1,H1014,DiasNOLaborables)<=0,\"\",NETWORKDAYS(J1014+1,H1014,DiasNOLaborables))","v":""},null,null,{"$f":"IFERROR(VLOOKUP(E1014,$X$51:$Y$64,2),\"\")","v":20}]
[1004,20219050127512,"2021-11-04","MODULO CONTACTENOS","SOLICITUD DE INFORMACIÓN Y DOCUMENTOS","SOLICITUD DE INFORMACIÓN HIDROMETEOROLÓGICA","GRUPO DE SERVICIO AL CIUDADANO ","2021-11-16","CORREO ELECTRÓNICO",{"$f":"IFERROR(WORKDAY(C1015,P1015,DiasNOLaborables),\"\")","v":"2021-12-03"},{"$f":"+IF(C1015=\"\",\"\",IF(H1015=\"\",\"SIN RESPUESTA\",(IF(H1015<=J1015,\"A TIEMPO\",\"FUERA DE TIEMPO\"))))","v":"A TIEMPO"},{"$f":"IF(H1015=\"\",\"\",NETWORKDAYS(C1015+1,H1015,DiasNOLaborables))","v":7},{"$f":"IF(NETWORKDAYS(J1015+1,H1015,DiasNOLaborables)<=0,\"\",NETWORKDAYS(J1015+1,H1015,DiasNOLaborables))","v":""},null,null,{"$f":"IFERROR(VLOOKUP(E1015,$X$51:$Y$64,2),\"\")","v":20}]
[1005,20219050127962,"2021-11-05","MODULO CONTACTENOS","SOLICITUD DE INFORMACIÓN Y DOCUMENTOS","SOLICITUD DE INFORMACIÓN HIDROMETEOROLÓGICA","GRUPO DE SERVICIO AL CIUDADANO ","2021-11-17","CORREO ELECTRÓNICO",{"$f":"IFERROR(WORKDAY(C1016,P1016,DiasNOLaborables),\"\")","v":"2021-12-06"},{"$f":"+IF(C1016=\"\",\"\",IF(H1016=\"\",\"SIN RESPUESTA\",(IF(H1016<=J1016,\"A TIEMPO\",\"FUERA DE TIEMPO\"))))","v":"A TIEMPO"},{"$f":"IF(H1016=\"\",\"\",NETWORKDAYS(C1016+1,H1016,DiasNOLaborables))","v":7},{"$f":"IF(NETWORKDAYS(J1016+1,H1016,DiasNOLaborables)<=0,\"\",NETWORKDAYS(J1016+1,H1016,DiasNOLaborables))","v":""},null,null,{"$f":"IFERROR(VLOOKUP(E1016,$X$51:$Y$64,2),\"\")","v":20}]
[1006,20219050127992,"2021-11-05","MODULO CONTACTENOS","SOLICITUD DE INFORMACIÓN Y DOCUMENTOS","SOLICITUD DE INFORMACIÓN HIDROMETEOROLÓGICA","GRUPO DE SERVICIO AL CIUDADANO ","2021-11-17","CORREO ELECTRÓNICO",{"$f":"IFERROR(WORKDAY(C1017,P1017,DiasNOLaborables),\"\")","v":"2021-12-06"},{"$f":"+IF(C1017=\"\",\"\",IF(H1017=\"\",\"SIN RESPUESTA\",(IF(H1017<=J1017,\"A TIEMPO\",\"FUERA DE TIEMPO\"))))","v":"A TIEMPO"},{"$f":"IF(H1017=\"\",\"\",NETWORKDAYS(C1017+1,H1017,DiasNOLaborables))","v":7},{"$f":"IF(NETWORKDAYS(J1017+1,H1017,DiasNOLaborables)<=0,\"\",NETWORKDAYS(J1017+1,H1017,DiasNOLaborables))","v":""},null,null,{"$f":"IFERROR(VLOOKUP(E1017,$X$51:$Y$64,2),\"\")","v":20}]
[1007,20219050128022,"2021-11-05","MODULO CONTACTENOS","SOLICITUD DE INFORMACIÓN Y DOCUMENTOS","SOLICITUD DE INFORMACIÓN HIDROMETEOROLÓGICA","GRUPO DE SERVICIO AL CIUDADANO ","2021-11-17","CORREO ELECTRÓNICO",{"$f":"IFERROR(WORKDAY(C1018,P1018,DiasNOLaborables),\"\")","v":"2021-12-06"},{"$f":"+IF(C1018=\"\",\"\",IF(H1018=\"\",\"SIN RESPUESTA\",(IF(H1018<=J1018,\"A TIEMPO\",\"FUERA DE TIEMPO\"))))","v":"A TIEMPO"},{"$f":"IF(H1018=\"\",\"\",NETWORKDAYS(C1018+1,H1018,DiasNOLaborables))","v":7},{"$f":"IF(NETWORKDAYS(J1018+1,H1018,DiasNOLaborables)<=0,\"\",NETWORKDAYS(J1018+1,H1018,DiasNOLaborables))","v":""},null,null,{"$f":"IFERROR(VLOOKUP(E1018,$X$51:$Y$64,2),\"\")","v":20}]
[1008,20219050128042,"2021-11-05","MODULO CONTACTENOS","SOLICITUD DE INFORMACIÓN Y DOCUMENTOS","SOLICITUD DE INFORMACIÓN HIDROMETEOROLÓGICA","GRUPO DE SERVICIO AL CIUDADANO ","2021-11-17","CORREO ELECTRÓNICO",{"$f":"IFERROR(WORKDAY(C1019,P1019,DiasNOLaborables),\"\")","v":"2021-12-06"},{"$f":"+IF(C1019=\"\",\"\",IF(H1019=\"\",\"SIN RESPUESTA\",(IF(H1019<=J1019,\"A TIEMPO\",\"FUERA DE TIEMPO\"))))","v":"A TIEMPO"},{"$f":"IF(H1019=\"\",\"\",NETWORKDAYS(C1019+1,H1019,DiasNOLaborables))","v":7},{"$f":"IF(NETWORKDAYS(J1019+1,H1019,DiasNOLaborables)<=0,\"\",NETWORKDAYS(J1019+1,H1019,DiasNOLaborables))","v":""},null,null,{"$f":"IFERROR(VLOOKUP(E1019,$X$51:$Y$64,2),\"\")","v":20}]
[1009,20219050128092,"2021-11-05","MODULO CONTACTENOS","SOLICITUD DE INFORMACIÓN Y DOCUMENTOS","SOLICITUD DE INFORMACIÓN HIDROMETEOROLÓGICA","GRUPO DE SERVICIO AL CIUDADANO ","2021-11-17","CORREO ELECTRÓNICO",{"$f":"IFERROR(WORKDAY(C1020,P1020,DiasNOLaborables),\"\")","v":"2021-12-06"},{"$f":"+IF(C1020=\"\",\"\",IF(H1020=\"\",\"SIN RESPUESTA\",(IF(H1020<=J1020,\"A TIEMPO\",\"FUERA DE TIEMPO\"))))","v":"A TIEMPO"},{"$f":"IF(H1020=\"\",\"\",NETWORKDAYS(C1020+1,H1020,DiasNOLaborables))","v":7},{"$f":"IF(NETWORKDAYS(J1020+1,H1020,DiasNOLaborables)<=0,\"\",NETWORKDAYS(J1020+1,H1020,DiasNOLaborables))","v":""},null,null,{"$f":"IFERROR(VLOOKUP(E1020,$X$51:$Y$64,2),\"\")","v":20}]
[1010,20219050128102,"2021-11-05","MODULO CONTACTENOS","SOLICITUD DE INFORMACIÓN Y DOCUMENTOS","SOLICITUD DE INFORMACIÓN HIDROMETEOROLÓGICA","GRUPO DE SERVICIO AL CIUDADANO ","2021-11-17","CORREO ELECTRÓNICO",{"$f":"IFERROR(WORKDAY(C1021,P1021,DiasNOLaborables),\"\")","v":"2021-12-06"},{"$f":"+IF(C1021=\"\",\"\",IF(H1021=\"\",\"SIN RESPUESTA\",(IF(H1021<=J1021,\"A TIEMPO\",\"FUERA DE TIEMPO\"))))","v":"A TIEMPO"},{"$f":"IF(H1021=\"\",\"\",NETWORKDAYS(C1021+1,H1021,DiasNOLaborables))","v":7},{"$f":"IF(NETWORKDAYS(J1021+1,H1021,DiasNOLaborables)<=0,\"\",NETWORKDAYS(J1021+1,H1021,DiasNOLaborables))","v":""},null,null,{"$f":"IFERROR(VLOOKUP(E1021,$X$51:$Y$64,2),\"\")","v":20}]
[1011,20219050128122,"2021-11-05","MODULO CONTACTENOS","SOLICITUD DE INFORMACIÓN Y DOCUMENTOS","SOLICITUD DE INFORMACIÓN HIDROMETEOROLÓGICA","GRUPO DE SERVICIO AL CIUDADANO ","2021-11-17","CORREO ELECTRÓNICO",{"$f":"IFERROR(WORKDAY(C1022,P1022,DiasNOLaborables),\"\")","v":"2021-12-06"},{"$f":"+IF(C1022=\"\",\"\",IF(H1022=\"\",\"SIN RESPUESTA\",(IF(H1022<=J1022,\"A TIEMPO\",\"FUERA DE TIEMPO\"))))","v":"A TIEMPO"},{"$f":"IF(H1022=\"\",\"\",NETWORKDAYS(C1022+1,H1022,DiasNOLaborables))","v":7},{"$f":"IF(NETWORKDAYS(J1022+1,H1022,DiasNOLaborables)<=0,\"\",NETWORKDAYS(J1022+1,H1022,DiasNOLaborables))","v":""},null,null,{"$f":"IFERROR(VLOOKUP(E1022,$X$51:$Y$64,2),\"\")","v":20}]
[1012,20219050128132,"2021-11-05","MODULO CONTACTENOS","SOLICITUD DE INFORMACIÓN Y DOCUMENTOS","SOLICITUD DE INFORMACIÓN HIDROMETEOROLÓGICA","GRUPO DE SERVICIO AL CIUDADANO ","2021-11-17","CORREO ELECTRÓNICO",{"$f":"IFERROR(WORKDAY(C1023,P1023,DiasNOLaborables),\"\")","v":"2021-12-06"},{"$f":"+IF(C1023=\"\",\"\",IF(H1023=\"\",\"SIN RESPUESTA\",(IF(H1023<=J1023,\"A TIEMPO\",\"FUERA DE TIEMPO\"))))","v":"A TIEMPO"},{"$f":"IF(H1023=\"\",\"\",NETWORKDAYS(C1023+1,H1023,DiasNOLaborables))","v":7},{"$f":"IF(NETWORKDAYS(J1023+1,H1023,DiasNOLaborables)<=0,\"\",NETWORKDAYS(J1023+1,H1023,DiasNOLaborables))","v":""},null,null,{"$f":"IFERROR(VLOOKUP(E1023,$X$51:$Y$64,2),\"\")","v":20}]
[1013,20219050128142,"2021-11-05","MODULO CONTACTENOS","SOLICITUD DE INFORMACIÓN Y DOCUMENTOS","SOLICITUD DE INFORMACIÓN HIDROMETEOROLÓGICA","GRUPO DE SERVICIO AL CIUDADANO ","2021-11-17","CORREO ELECTRÓNICO",{"$f":"IFERROR(WORKDAY(C1024,P1024,DiasNOLaborables),\"\")","v":"2021-12-06"},{"$f":"+IF(C1024=\"\",\"\",IF(H1024=\"\",\"SIN RESPUESTA\",(IF(H1024<=J1024,\"A TIEMPO\",\"FUERA DE TIEMPO\"))))","v":"A TIEMPO"},{"$f":"IF(H1024=\"\",\"\",NETWORKDAYS(C1024+1,H1024,DiasNOLaborables))","v":7},{"$f":"IF(NETWORKDAYS(J1024+1,H1024,DiasNOLaborables)<=0,\"\",NETWORKDAYS(J1024+1,H1024,DiasNOLaborables))","v":""},null,null,{"$f":"IFERROR(VLOOKUP(E1024,$X$51:$Y$64,2),\"\")","v":20}]
[1014,20219050128172,"2021-11-05","MODULO CONTACTENOS","SOLICITUD DE INFORMACIÓN Y DOCUMENTOS","SOLICITUD DE INFORMACIÓN HIDROMETEOROLÓGICA","GRUPO DE SERVICIO AL CIUDADANO ","2021-11-17","CORREO ELECTRÓNICO",{"$f":"IFERROR(WORKDAY(C1025,P1025,DiasNOLaborables),\"\")","v":"2021-12-06"},{"$f":"+IF(C1025=\"\",\"\",IF(H1025=\"\",\"SIN RESPUESTA\",(IF(H1025<=J1025,\"A TIEMPO\",\"FUERA DE TIEMPO\"))))","v":"A TIEMPO"},{"$f":"IF(H1025=\"\",\"\",NETWORKDAYS(C1025+1,H1025,DiasNOLaborables))","v":7},{"$f":"IF(NETWORKDAYS(J1025+1,H1025,DiasNOLaborables)<=0,\"\",NETWORKDAYS(J1025+1,H1025,DiasNOLaborables))","v":""},null,null,{"$f":"IFERROR(VLOOKUP(E1025,$X$51:$Y$64,2),\"\")","v":20}]
[1015,20219050127952,"2021-11-05","CORREO ELECTRÓNICO","SOLICITUD DE INFORMACIÓN Y DOCUMENTOS","SOLICITUD DE INFORMACIÓN HIDROMETEOROLÓGICA","GRUPO DE SERVICIO AL CIUDADANO ","2021-11-16","CORREO ELECTRÓNICO",{"$f":"IFERROR(WORKDAY(C1026,P1026,DiasNOLaborables),\"\")","v":"2021-12-06"},{"$f":"+IF(C1026=\"\",\"\",IF(H1026=\"\",\"SIN RESPUESTA\",(IF(H1026<=J1026,\"A TIEMPO\",\"FUERA DE TIEMPO\"))))","v":"A TIEMPO"},{"$f":"IF(H1026=\"\",\"\",NETWORKDAYS(C1026+1,H1026,DiasNOLaborables))","v":6},{"$f":"IF(NETWORKDAYS(J1026+1,H1026,DiasNOLaborables)<=0,\"\",NETWORKDAYS(J1026+1,H1026,DiasNOLaborables))","v":""},null,null,{"$f":"IFERROR(VLOOKUP(E1026,$X$51:$Y$64,2),\"\")","v":20}]
[1016,20219050128052,"2021-11-05","CORREO ELECTRÓNICO","SOLICITUD DE INFORMACIÓN Y DOCUMENTOS","SOLICITUD DE INFORMACIÓN HIDROMETEOROLÓGICA","GRUPO DE SERVICIO AL CIUDADANO ","2021-11-17","CORREO ELECTRÓNICO",{"$f":"IFERROR(WORKDAY(C1027,P1027,DiasNOLaborables),\"\")","v":"2021-12-06"},{"$f":"+IF(C1027=\"\",\"\",IF(H1027=\"\",\"SIN RESPUESTA\",(IF(H1027<=J1027,\"A TIEMPO\",\"FUERA DE TIEMPO\"))))","v":"A TIEMPO"},{"$f":"IF(H1027=\"\",\"\",NETWORKDAYS(C1027+1,H1027,DiasNOLaborables))","v":7},{"$f":"IF(NETWORKDAYS(J1027+1,H1027,DiasNOLaborables)<=0,\"\",NETWORKDAYS(J1027+1,H1027,DiasNOLaborables))","v":""},null,null,{"$f":"IFERROR(VLOOKUP(E1027,$X$51:$Y$64,2),\"\")","v":20}]
[1017,20219050128072,"2021-11-05","CORREO ELECTRÓNICO","SOLICITUD DE INFORMACIÓN Y DOCUMENTOS","SOLICITUD DE INFORMACIÓN HIDROMETEOROLÓGICA","GRUPO DE SERVICIO AL CIUDADANO ","2021-11-18","CORREO ELECTRÓNICO",{"$f":"IFERROR(WORKDAY(C1028,P1028,DiasNOLaborables),\"\")","v":"2021-12-06"},{"$f":"+IF(C1028=\"\",\"\",IF(H1028=\"\",\"SIN RESPUESTA\",(IF(H1028<=J1028,\"A TIEMPO\",\"FUERA DE TIEMPO\"))))","v":"A TIEMPO"},{"$f":"IF(H1028=\"\",\"\",NETWORKDAYS(C1028+1,H1028,DiasNOLaborables))","v":8},{"$f":"IF(NETWORKDAYS(J1028+1,H1028,DiasNOLaborables)<=0,\"\",NETWORKDAYS(J1028+1,H1028,DiasNOLaborables))","v":""},null,null,{"$f":"IFERROR(VLOOKUP(E1028,$X$51:$Y$64,2),\"\")","v":20}]
[1018,20219050128192,"2021-11-05","CORREO ELECTRÓNICO","SOLICITUD DE INFORMACIÓN Y DOCUMENTOS","SOLICITUD DE INFORMACIÓN HIDROMETEOROLÓGICA","GRUPO DE SERVICIO AL CIUDADANO ","2021-11-17","CORREO ELECTRÓNICO",{"$f":"IFERROR(WORKDAY(C1029,P1029,DiasNOLaborables),\"\")","v":"2021-12-06"},{"$f":"+IF(C1029=\"\",\"\",IF(H1029=\"\",\"SIN RESPUESTA\",(IF(H1029<=J1029,\"A TIEMPO\",\"FUERA DE TIEMPO\"))))","v":"A TIEMPO"},{"$f":"IF(H1029=\"\",\"\",NETWORKDAYS(C1029+1,H1029,DiasNOLaborables))","v":7},{"$f":"IF(NETWORKDAYS(J1029+1,H1029,DiasNOLaborables)<=0,\"\",NETWORKDAYS(J1029+1,H1029,DiasNOLaborables))","v":""},null,null,{"$f":"IFERROR(VLOOKUP(E1029,$X$51:$Y$64,2),\"\")","v":20}]
[1019,20219050128242,"2021-11-05","MODULO CONTACTENOS","SOLICITUD DE INFORMACIÓN Y DOCUMENTOS","SOLICITUD DE INFORMACIÓN HIDROMETEOROLÓGICA","GRUPO DE SERVICIO AL CIUDADANO ","2021-11-17","CORREO ELECTRÓNICO",{"$f":"IFERROR(WORKDAY(C1030,P1030,DiasNOLaborables),\"\")","v":"2021-12-06"},{"$f":"+IF(C1030=\"\",\"\",IF(H1030=\"\",\"SIN RESPUESTA\",(IF(H1030<=J1030,\"A TIEMPO\",\"FUERA DE TIEMPO\"))))","v":"A TIEMPO"},{"$f":"IF(H1030=\"\",\"\",NETWORKDAYS(C1030+1,H1030,DiasNOLaborables))","v":7},{"$f":"IF(NETWORKDAYS(J1030+1,H1030,DiasNOLaborables)<=0,\"\",NETWORKDAYS(J1030+1,H1030,DiasNOLaborables))","v":""},null,null,{"$f":"IFERROR(VLOOKUP(E1030,$X$51:$Y$64,2),\"\")","v":20}]
[1020,20219050128222,"2021-11-05","CORREO ELECTRÓNICO","SOLICITUD DE INFORMACIÓN Y DOCUMENTOS","SOLICITUD DE INFORMACIÓN HIDROMETEOROLÓGICA","SUBDIRECCIÓN DE METEOROLOGÍA","2021-11-19","CORREO ELECTRÓNICO",{"$f":"IFERROR(WORKDAY(C1031,P1031,DiasNOLaborables),\"\")","v":"2021-12-06"},{"$f":"+IF(C1031=\"\",\"\",IF(H1031=\"\",\"SIN RESPUESTA\",(IF(H1031<=J1031,\"A TIEMPO\",\"FUERA DE TIEMPO\"))))","v":"A TIEMPO"},{"$f":"IF(H1031=\"\",\"\",NETWORKDAYS(C1031+1,H1031,DiasNOLaborables))","v":9},{"$f":"IF(NETWORKDAYS(J1031+1,H1031,DiasNOLaborables)<=0,\"\",NETWORKDAYS(J1031+1,H1031,DiasNOLaborables))","v":""},null,null,{"$f":"IFERROR(VLOOKUP(E1031,$X$51:$Y$64,2),\"\")","v":20}]
[1021,20219050128232,"2021-11-05","CORREO ELECTRÓNICO","SOLICITUD DE INFORMACIÓN Y DOCUMENTOS","SOLICITUD DE INFORMACIÓN HIDROMETEOROLÓGICA","SUBDIRECCIÓN DE METEOROLOGÍA","2021-11-19","CORREO ELECTRÓNICO",{"$f":"IFERROR(WORKDAY(C1032,P1032,DiasNOLaborables),\"\")","v":"2021-12-06"},{"$f":"+IF(C1032=\"\",\"\",IF(H1032=\"\",\"SIN RESPUESTA\",(IF(H1032<=J1032,\"A TIEMPO\",\"FUERA DE TIEMPO\"))))","v":"A TIEMPO"},{"$f":"IF(H1032=\"\",\"\",NETWORKDAYS(C1032+1,H1032,DiasNOLaborables))","v":9},{"$f":"IF(NETWORKDAYS(J1032+1,H1032,DiasNOLaborables)<=0,\"\",NETWORKDAYS(J1032+1,H1032,DiasNOLaborables))","v":""},null,null,{"$f":"IFERROR(VLOOKUP(E1032,$X$51:$Y$64,2),\"\")","v":20}]
[1022,20219050128252,"2021-11-05","MODULO CONTACTENOS","SOLICITUD DE INFORMACIÓN Y DOCUMENTOS","SOLICITUD DE INFORMACIÓN HIDROMETEOROLÓGICA","GRUPO DE SERVICIO AL CIUDADANO ","2021-11-18","CORREO ELECTRÓNICO",{"$f":"IFERROR(WORKDAY(C1033,P1033,DiasNOLaborables),\"\")","v":"2021-12-06"},{"$f":"+IF(C1033=\"\",\"\",IF(H1033=\"\",\"SIN RESPUESTA\",(IF(H1033<=J1033,\"A TIEMPO\",\"FUERA DE TIEMPO\"))))","v":"A TIEMPO"},{"$f":"IF(H1033=\"\",\"\",NETWORKDAYS(C1033+1,H1033,DiasNOLaborables))","v":8},{"$f":"IF(NETWORKDAYS(J1033+1,H1033,DiasNOLaborables)<=0,\"\",NETWORKDAYS(J1033+1,H1033,DiasNOLaborables))","v":""},null,null,{"$f":"IFERROR(VLOOKUP(E1033,$X$51:$Y$64,2),\"\")","v":20}]
[1023,20219050128262,"2021-11-05","MODULO CONTACTENOS","SOLICITUD DE INFORMACIÓN Y DOCUMENTOS","SOLICITUD DE INFORMACIÓN HIDROMETEOROLÓGICA","GRUPO DE SERVICIO AL CIUDADANO ","2021-11-17","CORREO ELECTRÓNICO",{"$f":"IFERROR(WORKDAY(C1034,P1034,DiasNOLaborables),\"\")","v":"2021-12-06"},{"$f":"+IF(C1034=\"\",\"\",IF(H1034=\"\",\"SIN RESPUESTA\",(IF(H1034<=J1034,\"A TIEMPO\",\"FUERA DE TIEMPO\"))))","v":"A TIEMPO"},{"$f":"IF(H1034=\"\",\"\",NETWORKDAYS(C1034+1,H1034,DiasNOLaborables))","v":7},{"$f":"IF(NETWORKDAYS(J1034+1,H1034,DiasNOLaborables)<=0,\"\",NETWORKDAYS(J1034+1,H1034,DiasNOLaborables))","v":""},null,null,{"$f":"IFERROR(VLOOKUP(E1034,$X$51:$Y$64,2),\"\")","v":20}]
[1024,20219050128272,"2021-11-05","MODULO CONTACTENOS","SOLICITUD DE INFORMACIÓN Y DOCUMENTOS","SOLICITUD DE INFORMACIÓN HIDROMETEOROLÓGICA","GRUPO DE SERVICIO AL CIUDADANO ","2021-11-17","CORREO ELECTRÓNICO",{"$f":"IFERROR(WORKDAY(C1035,P1035,DiasNOLaborables),\"\")","v":"2021-12-06"},{"$f":"+IF(C1035=\"\",\"\",IF(H1035=\"\",\"SIN RESPUESTA\",(IF(H1035<=J1035,\"A TIEMPO\",\"FUERA DE TIEMPO\"))))","v":"A TIEMPO"},{"$f":"IF(H1035=\"\",\"\",NETWORKDAYS(C1035+1,H1035,DiasNOLaborables))","v":7},{"$f":"IF(NETWORKDAYS(J1035+1,H1035,DiasNOLaborables)<=0,\"\",NETWORKDAYS(J1035+1,H1035,DiasNOLaborables))","v":""},null,null,{"$f":"IFERROR(VLOOKUP(E1035,$X$51:$Y$64,2),\"\")","v":20}]
[1025,20219050128282,"2021-11-05","MODULO CONTACTENOS","SOLICITUD DE INFORMACIÓN Y DOCUMENTOS","SOLICITUD DE INFORMACIÓN HIDROMETEOROLÓGICA","GRUPO DE SERVICIO AL CIUDADANO ","2021-11-17","CORREO ELECTRÓNICO",{"$f":"IFERROR(WORKDAY(C1036,P1036,DiasNOLaborables),\"\")","v":"2021-12-06"},{"$f":"+IF(C1036=\"\",\"\",IF(H1036=\"\",\"SIN RESPUESTA\",(IF(H1036<=J1036,\"A TIEMPO\",\"FUERA DE TIEMPO\"))))","v":"A TIEMPO"},{"$f":"IF(H1036=\"\",\"\",NETWORKDAYS(C1036+1,H1036,DiasNOLaborables))","v":7},{"$f":"IF(NETWORKDAYS(J1036+1,H1036,DiasNOLaborables)<=0,\"\",NETWORKDAYS(J1036+1,H1036,DiasNOLaborables))","v":""},null,null,{"$f":"IFERROR(VLOOKUP(E1036,$X$51:$Y$64,2),\"\")","v":20}]
[1026,20219050128542,"2021-11-06","MODULO CONTACTENOS","SOLICITUD DE INFORMACIÓN Y DOCUMENTOS","ADMINISTRATIVA","GRUPO DE TESORERÍA","2021-11-09","CORREO ELECTRÓNICO",{"$f":"IFERROR(WORKDAY(C1037,P1037,DiasNOLaborables),\"\")","v":"2021-12-06"},{"$f":"+IF(C1037=\"\",\"\",IF(H1037=\"\",\"SIN RESPUESTA\",(IF(H1037<=J1037,\"A TIEMPO\",\"FUERA DE TIEMPO\"))))","v":"A TIEMPO"},{"$f":"IF(H1037=\"\",\"\",NETWORKDAYS(C1037+1,H1037,DiasNOLaborables))","v":2},{"$f":"IF(NETWORKDAYS(J1037+1,H1037,DiasNOLaborables)<=0,\"\",NETWORKDAYS(J1037+1,H1037,DiasNOLaborables))","v":""},null,null,{"$f":"IFERROR(VLOOKUP(E1037,$X$51:$Y$64,2),\"\")","v":20}]
[{"$f":"IF(B1038<>\"\",A1037+1,\"\")","v":1027},20219050128602,"2021-11-06","MODULO CONTACTENOS","PETICIÓN","CERTIFICACIONES DE TIEMPO Y CLIMA","SUBDIRECCIÓN DE METEOROLOGÍA","2021-11-19","CORREO ELECTRÓNICO",{"$f":"IFERROR(WORKDAY(C1038,P1038,DiasNOLaborables),\"\")","v":"2021-12-21"},{"$f":"+IF(C1038=\"\",\"\",IF(H1038=\"\",\"SIN RESPUESTA\",(IF(H1038<=J1038,\"A TIEMPO\",\"FUERA DE TIEMPO\"))))","v":"A TIEMPO"},{"$f":"IF(H1038=\"\",\"\",NETWORKDAYS(C1038+1,H1038,DiasNOLaborables))","v":9},{"$f":"IF(NETWORKDAYS(J1038+1,H1038,DiasNOLaborables)<=0,\"\",NETWORKDAYS(J1038+1,H1038,DiasNOLaborables))","v":""},null,null,{"$f":"IFERROR(VLOOKUP(E1038,$X$51:$Y$64,2),\"\")","v":30}]
[1028,20219050128622,"2021-11-06","MODULO CONTACTENOS","SOLICITUD DE INFORMACIÓN Y DOCUMENTOS","BOSQUES","SUBDIRECCIÓN DE ECOSISTEMAS E INFORMACIÓN AMBIENTAL","2021-11-10","CORREO ELECTRÓNICO",{"$f":"IFERROR(WORKDAY(C1039,P1039,DiasNOLaborables),\"\")","v":"2021-12-06"},{"$f":"+IF(C1039=\"\",\"\",IF(H1039=\"\",\"SIN RESPUESTA\",(IF(H1039<=J1039,\"A TIEMPO\",\"FUERA DE TIEMPO\"))))","v":"A TIEMPO"},{"$f":"IF(H1039=\"\",\"\",NETWORKDAYS(C1039+1,H1039,DiasNOLaborables))","v":3},{"$f":"IF(NETWORKDAYS(J1039+1,H1039,DiasNOLaborables)<=0,\"\",NETWORKDAYS(J1039+1,H1039,DiasNOLaborables))","v":""},null,null,{"$f":"IFERROR(VLOOKUP(E1039,$X$51:$Y$64,2),\"\")","v":20}]
[1029,20219050128362,"2021-11-06","MODULO CONTACTENOS","SOLICITUD DE INFORMACIÓN Y DOCUMENTOS","SOLICITUD DE INFORMACIÓN HIDROMETEOROLÓGICA","SUBDIRECCIÓN DE HIDROLOGÍA","2021-11-23","CORREO ELECTRÓNICO",{"$f":"IFERROR(WORKDAY(C1040,P1040,DiasNOLaborables),\"\")","v":"2021-12-06"},{"$f":"+IF(C1040=\"\",\"\",IF(H1040=\"\",\"SIN RESPUESTA\",(IF(H1040<=J1040,\"A TIEMPO\",\"FUERA DE TIEMPO\"))))","v":"A TIEMPO"},{"$f":"IF(H1040=\"\",\"\",NETWORKDAYS(C1040+1,H1040,DiasNOLaborables))","v":11},{"$f":"IF(NETWORKDAYS(J1040+1,H1040,DiasNOLaborables)<=0,\"\",NETWORKDAYS(J1040+1,H1040,DiasNOLaborables))","v":""},null,null,{"$f":"IFERROR(VLOOKUP(E1040,$X$51:$Y$64,2),\"\")","v":20}]
[1030,20219050128652,"2021-11-06","MODULO CONTACTENOS","SOLICITUD DE INFORMACIÓN Y DOCUMENTOS","ADMINISTRATIVA","GRUPO DE ADMINISTRACIÓN Y DESARROLLO DEL TALENTO HUMANO","2021-11-17","CORREO ELECTRÓNICO",{"$f":"IFERROR(WORKDAY(C1041,P1041,DiasNOLaborables),\"\")","v":"2021-12-06"},{"$f":"+IF(C1041=\"\",\"\",IF(H1041=\"\",\"SIN RESPUESTA\",(IF(H1041<=J1041,\"A TIEMPO\",\"FUERA DE TIEMPO\"))))","v":"A TIEMPO"},{"$f":"IF(H1041=\"\",\"\",NETWORKDAYS(C1041+1,H1041,DiasNOLaborables))","v":7},{"$f":"IF(NETWORKDAYS(J1041+1,H1041,DiasNOLaborables)<=0,\"\",NETWORKDAYS(J1041+1,H1041,DiasNOLaborables))","v":""},null,null,{"$f":"IFERROR(VLOOKUP(E1041,$X$51:$Y$64,2),\"\")","v":20}]
[1031,20219050128922,"2021-11-06","MODULO CONTACTENOS","SOLICITUD DE INFORMACIÓN Y DOCUMENTOS","ADMINISTRATIVA","GRUPO DE ADMINISTRACIÓN Y DESARROLLO DEL TALENTO HUMANO","2021-11-17","CORREO ELECTRÓNICO",{"$f":"IFERROR(WORKDAY(C1042,P1042,DiasNOLaborables),\"\")","v":"2021-12-06"},{"$f":"+IF(C1042=\"\",\"\",IF(H1042=\"\",\"SIN RESPUESTA\",(IF(H1042<=J1042,\"A TIEMPO\",\"FUERA DE TIEMPO\"))))","v":"A TIEMPO"},{"$f":"IF(H1042=\"\",\"\",NETWORKDAYS(C1042+1,H1042,DiasNOLaborables))","v":7},{"$f":"IF(NETWORKDAYS(J1042+1,H1042,DiasNOLaborables)<=0,\"\",NETWORKDAYS(J1042+1,H1042,DiasNOLaborables))","v":""},null,null,{"$f":"IFERROR(VLOOKUP(E1042,$X$51:$Y$64,2),\"\")","v":20}]
[1032,20219050128342,"2021-11-06","MODULO CONTACTENOS","SOLICITUD DE INFORMACIÓN Y DOCUMENTOS","SOLICITUD DE INFORMACIÓN HIDROMETEOROLÓGICA","GRUPO DE SERVICIO AL CIUDADANO ","2021-11-18","CORREO ELECTRÓNICO",{"$f":"IFERROR(WORKDAY(C1043,P1043,DiasNOLaborables),\"\")","v":"2021-12-06"},{"$f":"+IF(C1043=\"\",\"\",IF(H1043=\"\",\"SIN RESPUESTA\",(IF(H1043<=J1043,\"A TIEMPO\",\"FUERA DE TIEMPO\"))))","v":"A TIEMPO"},{"$f":"IF(H1043=\"\",\"\",NETWORKDAYS(C1043+1,H1043,DiasNOLaborables))","v":8},{"$f":"IF(NETWORKDAYS(J1043+1,H1043,DiasNOLaborables)<=0,\"\",NETWORKDAYS(J1043+1,H1043,DiasNOLaborables))","v":""},null,null,{"$f":"IFERROR(VLOOKUP(E1043,$X$51:$Y$64,2),\"\")","v":20}]
[1033,20219050128352,"2021-11-06","MODULO CONTACTENOS","SOLICITUD DE INFORMACIÓN Y DOCUMENTOS","SOLICITUD DE INFORMACIÓN HIDROMETEOROLÓGICA","GRUPO DE SERVICIO AL CIUDADANO ","2021-11-18","CORREO ELECTRÓNICO",{"$f":"IFERROR(WORKDAY(C1044,P1044,DiasNOLaborables),\"\")","v":"2021-12-06"},{"$f":"+IF(C1044=\"\",\"\",IF(H1044=\"\",\"SIN RESPUESTA\",(IF(H1044<=J1044,\"A TIEMPO\",\"FUERA DE TIEMPO\"))))","v":"A TIEMPO"},{"$f":"IF(H1044=\"\",\"\",NETWORKDAYS(C1044+1,H1044,DiasNOLaborables))","v":8},{"$f":"IF(NETWORKDAYS(J1044+1,H1044,DiasNOLaborables)<=0,\"\",NETWORKDAYS(J1044+1,H1044,DiasNOLaborables))","v":""},null,null,{"$f":"IFERROR(VLOOKUP(E1044,$X$51:$Y$64,2),\"\")","v":20}]
[1034,20219050128372,"2021-11-06","MODULO CONTACTENOS","SOLICITUD DE INFORMACIÓN Y DOCUMENTOS","SOLICITUD DE INFORMACIÓN HIDROMETEOROLÓGICA","GRUPO DE SERVICIO AL CIUDADANO ","2021-11-18","CORREO ELECTRÓNICO",{"$f":"IFERROR(WORKDAY(C1045,P1045,DiasNOLaborables),\"\")","v":"2021-12-06"},{"$f":"+IF(C1045=\"\",\"\",IF(H1045=\"\",\"SIN RESPUESTA\",(IF(H1045<=J1045,\"A TIEMPO\",\"FUERA DE TIEMPO\"))))","v":"A TIEMPO"},{"$f":"IF(H1045=\"\",\"\",NETWORKDAYS(C1045+1,H1045,DiasNOLaborables))","v":8},{"$f":"IF(NETWORKDAYS(J1045+1,H1045,DiasNOLaborables)<=0,\"\",NETWORKDAYS(J1045+1,H1045,DiasNOLaborables))","v":""},null,null,{"$f":"IFERROR(VLOOKUP(E1045,$X$51:$Y$64,2),\"\")","v":20}]
[1035,20219050128382,"2021-11-07","MODULO CONTACTENOS","SOLICITUD DE INFORMACIÓN Y DOCUMENTOS","SOLICITUD DE INFORMACIÓN HIDROMETEOROLÓGICA","GRUPO DE SERVICIO AL CIUDADANO ","2021-11-19","CORREO ELECTRÓNICO",{"$f":"IFERROR(WORKDAY(C1046,P1046,DiasNOLaborables),\"\")","v":"2021-12-06"},{"$f":"+IF(C1046=\"\",\"\",IF(H1046=\"\",\"SIN RESPUESTA\",(IF(H1046<=J1046,\"A TIEMPO\",\"FUERA DE TIEMPO\"))))","v":"A TIEMPO"},{"$f":"IF(H1046=\"\",\"\",NETWORKDAYS(C1046+1,H1046,DiasNOLaborables))","v":9},{"$f":"IF(NETWORKDAYS(J1046+1,H1046,DiasNOLaborables)<=0,\"\",NETWORKDAYS(J1046+1,H1046,DiasNOLaborables))","v":""},null,null,{"$f":"IFERROR(VLOOKUP(E1046,$X$51:$Y$64,2),\"\")","v":20}]
[1036,20219050128392,"2021-11-07","MODULO CONTACTENOS","SOLICITUD DE INFORMACIÓN Y DOCUMENTOS","SOLICITUD DE INFORMACIÓN HIDROMETEOROLÓGICA","GRUPO DE SERVICIO AL CIUDADANO ","2021-11-19","CORREO ELECTRÓNICO",{"$f":"IFERROR(WORKDAY(C1047,P1047,DiasNOLaborables),\"\")","v":"2021-12-06"},{"$f":"+IF(C1047=\"\",\"\",IF(H1047=\"\",\"SIN RESPUESTA\",(IF(H1047<=J1047,\"A TIEMPO\",\"FUERA DE TIEMPO\"))))","v":"A TIEMPO"},{"$f":"IF(H1047=\"\",\"\",NETWORKDAYS(C1047+1,H1047,DiasNOLaborables))","v":9},{"$f":"IF(NETWORKDAYS(J1047+1,H1047,DiasNOLaborables)<=0,\"\",NETWORKDAYS(J1047+1,H1047,DiasNOLaborables))","v":""},null,null,{"$f":"IFERROR(VLOOKUP(E1047,$X$51:$Y$64,2),\"\")","v":20}]
[1037,20219050128402,"2021-11-07","MODULO CONTACTENOS","SOLICITUD DE INFORMACIÓN Y DOCUMENTOS","SOLICITUD DE INFORMACIÓN HIDROMETEOROLÓGICA","GRUPO DE SERVICIO AL CIUDADANO ","2021-11-19","CORREO ELECTRÓNICO",{"$f":"IFERROR(WORKDAY(C1048,P1048,DiasNOLaborables),\"\")","v":"2021-12-06"},{"$f":"+IF(C1048=\"\",\"\",IF(H1048=\"\",\"SIN RESPUESTA\",(IF(H1048<=J1048,\"A TIEMPO\",\"FUERA DE TIEMPO\"))))","v":"A TIEMPO"},{"$f":"IF(H1048=\"\",\"\",NETWORKDAYS(C1048+1,H1048,DiasNOLaborables))","v":9},{"$f":"IF(NETWORKDAYS(J1048+1,H1048,DiasNOLaborables)<=0,\"\",NETWORKDAYS(J1048+1,H1048,DiasNOLaborables))","v":""},null,null,{"$f":"IFERROR(VLOOKUP(E1048,$X$51:$Y$64,2),\"\")","v":20}]
[1038,20219050129052,"2021-11-08","MODULO CONTACTENOS","SOLICITUD DE INFORMACIÓN Y DOCUMENTOS","ADMINISTRATIVA","OFICINA ASESORA JURÍDICA","2021-11-11","CORREO ELECTRÓNICO",{"$f":"IFERROR(WORKDAY(C1049,P1049,DiasNOLaborables),\"\")","v":"2021-12-07"},{"$f":"+IF(C1049=\"\",\"\",IF(H1049=\"\",\"SIN RESPUESTA\",(IF(H1049<=J1049,\"A TIEMPO\",\"FUERA DE TIEMPO\"))))","v":"A TIEMPO"},{"$f":"IF(H1049=\"\",\"\",NETWORKDAYS(C1049+1,H1049,DiasNOLaborables))","v":3},{"$f":"IF(NETWORKDAYS(J1049+1,H1049,DiasNOLaborables)<=0,\"\",NETWORKDAYS(J1049+1,H1049,DiasNOLaborables))","v":""},null,null,{"$f":"IFERROR(VLOOKUP(E1049,$X$51:$Y$64,2),\"\")","v":20}]
[1039,20219050129072,"2021-11-08","MODULO CONTACTENOS","SOLICITUD DE INFORMACIÓN Y DOCUMENTOS","ADMINISTRATIVA","OFICINA ASESORA JURÍDICA","2021-11-11","CORREO ELECTRÓNICO",{"$f":"IFERROR(WORKDAY(C1050,P1050,DiasNOLaborables),\"\")","v":"2021-12-07"},{"$f":"+IF(C1050=\"\",\"\",IF(H1050=\"\",\"SIN RESPUESTA\",(IF(H1050<=J1050,\"A TIEMPO\",\"FUERA DE TIEMPO\"))))","v":"A TIEMPO"},{"$f":"IF(H1050=\"\",\"\",NETWORKDAYS(C1050+1,H1050,DiasNOLaborables))","v":3},{"$f":"IF(NETWORKDAYS(J1050+1,H1050,DiasNOLaborables)<=0,\"\",NETWORKDAYS(J1050+1,H1050,DiasNOLaborables))","v":""},null,null,{"$f":"IFERROR(VLOOKUP(E1050,$X$51:$Y$64,2),\"\")","v":20}]
[1040,20219050128512,"2021-11-08","CORREO ELECTRÓNICO","SOLICITUD DE INFORMACIÓN Y DOCUMENTOS","INFORMES AMBIENTALES","SUBDIRECCIÓN DE HIDROLOGÍA","2021-11-26","CORREO ELECTRÓNICO",{"$f":"IFERROR(WORKDAY(C1051,P1051,DiasNOLaborables),\"\")","v":"2021-12-07"},{"$f":"+IF(C1051=\"\",\"\",IF(H1051=\"\",\"SIN RESPUESTA\",(IF(H1051<=J1051,\"A TIEMPO\",\"FUERA DE TIEMPO\"))))","v":"A TIEMPO"},{"$f":"IF(H1051=\"\",\"\",NETWORKDAYS(C1051+1,H1051,DiasNOLaborables))","v":13},{"$f":"IF(NETWORKDAYS(J1051+1,H1051,DiasNOLaborables)<=0,\"\",NETWORKDAYS(J1051+1,H1051,DiasNOLaborables))","v":""},null,null,{"$f":"IFERROR(VLOOKUP(E1051,$X$51:$Y$64,2),\"\")","v":20}]
[1041,20219050128522,"2021-11-08","CORREO ELECTRÓNICO","SOLICITUD DE INFORMACIÓN Y DOCUMENTOS","INFORMES AMBIENTALES","SUBDIRECCIÓN DE HIDROLOGÍA","2021-11-30","CORREO ELECTRÓNICO",{"$f":"IFERROR(WORKDAY(C1052,P1052,DiasNOLaborables),\"\")","v":"2021-12-07"},{"$f":"+IF(C1052=\"\",\"\",IF(H1052=\"\",\"SIN RESPUESTA\",(IF(H1052<=J1052,\"A TIEMPO\",\"FUERA DE TIEMPO\"))))","v":"A TIEMPO"},{"$f":"IF(H1052=\"\",\"\",NETWORKDAYS(C1052+1,H1052,DiasNOLaborables))","v":15},{"$f":"IF(NETWORKDAYS(J1052+1,H1052,DiasNOLaborables)<=0,\"\",NETWORKDAYS(J1052+1,H1052,DiasNOLaborables))","v":""},null,null,{"$f":"IFERROR(VLOOKUP(E1052,$X$51:$Y$64,2),\"\")","v":20}]
[1042,20219050128632,"2021-11-08","CORREO ELECTRÓNICO","SOLICITUD DE INFORMACIÓN Y DOCUMENTOS","INFORMES AMBIENTALES","SUBDIRECCIÓN DE HIDROLOGÍA","2021-12-01","CORREO ELECTRÓNICO",{"$f":"IFERROR(WORKDAY(C1053,P1053,DiasNOLaborables),\"\")","v":"2021-12-07"},{"$f":"+IF(C1053=\"\",\"\",IF(H1053=\"\",\"SIN RESPUESTA\",(IF(H1053<=J1053,\"A TIEMPO\",\"FUERA DE TIEMPO\"))))","v":"A TIEMPO"},{"$f":"IF(H1053=\"\",\"\",NETWORKDAYS(C1053+1,H1053,DiasNOLaborables))","v":16},{"$f":"IF(NETWORKDAYS(J1053+1,H1053,DiasNOLaborables)<=0,\"\",NETWORKDAYS(J1053+1,H1053,DiasNOLaborables))","v":""},null,null,{"$f":"IFERROR(VLOOKUP(E1053,$X$51:$Y$64,2),\"\")","v":20}]
[1043,20219050128662,"2021-11-08","CORREO ELECTRÓNICO","SOLICITUD DE INFORMACIÓN Y DOCUMENTOS","INFORMES AMBIENTALES","SUBDIRECCIÓN DE ESTUDIOS AMBIENTALES","2021-11-16","CORREO ELECTRÓNICO",{"$f":"IFERROR(WORKDAY(C1054,P1054,DiasNOLaborables),\"\")","v":"2021-12-07"},{"$f":"+IF(C1054=\"\",\"\",IF(H1054=\"\",\"SIN RESPUESTA\",(IF(H1054<=J1054,\"A TIEMPO\",\"FUERA DE TIEMPO\"))))","v":"A TIEMPO"},{"$f":"IF(H1054=\"\",\"\",NETWORKDAYS(C1054+1,H1054,DiasNOLaborables))","v":5},{"$f":"IF(NETWORKDAYS(J1054+1,H1054,DiasNOLaborables)<=0,\"\",NETWORKDAYS(J1054+1,H1054,DiasNOLaborables))","v":""},null,null,{"$f":"IFERROR(VLOOKUP(E1054,$X$51:$Y$64,2),\"\")","v":20}]
[1044,20219050128672,"2021-11-08","CORREO ELECTRÓNICO","SOLICITUD DE INFORMACIÓN Y DOCUMENTOS","REGISTROS AMBIENTALES","SUBDIRECCIÓN DE ESTUDIOS AMBIENTALES","2021-11-08","CORREO ELECTRÓNICO",{"$f":"IFERROR(WORKDAY(C1055,P1055,DiasNOLaborables),\"\")","v":"2021-12-07"},{"$f":"+IF(C1055=\"\",\"\",IF(H1055=\"\",\"SIN RESPUESTA\",(IF(H1055<=J1055,\"A TIEMPO\",\"FUERA DE TIEMPO\"))))","v":"A TIEMPO"},{"$f":"IF(H1055=\"\",\"\",NETWORKDAYS(C1055+1,H1055,DiasNOLaborables))","v":-2},{"$f":"IF(NETWORKDAYS(J1055+1,H1055,DiasNOLaborables)<=0,\"\",NETWORKDAYS(J1055+1,H1055,DiasNOLaborables))","v":""},null,null,{"$f":"IFERROR(VLOOKUP(E1055,$X$51:$Y$64,2),\"\")","v":20}]
[1045,20219050128692,"2021-11-08","CORREO ELECTRÓNICO","SOLICITUD DE INFORMACIÓN Y DOCUMENTOS","REGISTROS AMBIENTALES","SUBDIRECCIÓN DE ESTUDIOS AMBIENTALES","2021-11-08","CORREO ELECTRÓNICO",{"$f":"IFERROR(WORKDAY(C1056,P1056,DiasNOLaborables),\"\")","v":"2021-12-07"},{"$f":"+IF(C1056=\"\",\"\",IF(H1056=\"\",\"SIN RESPUESTA\",(IF(H1056<=J1056,\"A TIEMPO\",\"FUERA DE TIEMPO\"))))","v":"A TIEMPO"},{"$f":"IF(H1056=\"\",\"\",NETWORKDAYS(C1056+1,H1056,DiasNOLaborables))","v":-2},{"$f":"IF(NETWORKDAYS(J1056+1,H1056,DiasNOLaborables)<=0,\"\",NETWORKDAYS(J1056+1,H1056,DiasNOLaborables))","v":""},null,null,{"$f":"IFERROR(VLOOKUP(E1056,$X$51:$Y$64,2),\"\")","v":20}]
[1046,20219050128702,"2021-11-08","CORREO ELECTRÓNICO","SOLICITUD DE INFORMACIÓN Y DOCUMENTOS","REGISTROS AMBIENTALES","SUBDIRECCIÓN DE ESTUDIOS AMBIENTALES","2021-11-08","CORREO ELECTRÓNICO",{"$f":"IFERROR(WORKDAY(C1057,P1057,DiasNOLaborables),\"\")","v":"2021-12-07"},{"$f":"+IF(C1057=\"\",\"\",IF(H1057=\"\",\"SIN RESPUESTA\",(IF(H1057<=J1057,\"A TIEMPO\",\"FUERA DE TIEMPO\"))))","v":"A TIEMPO"},{"$f":"IF(H1057=\"\",\"\",NETWORKDAYS(C1057+1,H1057,DiasNOLaborables))","v":-2},{"$f":"IF(NETWORKDAYS(J1057+1,H1057,DiasNOLaborables)<=0,\"\",NETWORKDAYS(J1057+1,H1057,DiasNOLaborables))","v":""},null,null,{"$f":"IFERROR(VLOOKUP(E1057,$X$51:$Y$64,2),\"\")","v":20}]
[1047,20219050128722,"2021-11-08","CORREO ELECTRÓNICO","CERTIFICACIONES DE TIEMPO, CLIMA Y EVENTOS HIDROLÓGICOS","CERTIFICACIONES DE TIEMPO Y CLIMA","SUBDIRECCIÓN DE METEOROLOGÍA","2021-11-29","CORREO ELECTRÓNICO",{"$f":"IFERROR(WORKDAY(C1058,P1058,DiasNOLaborables),\"\")","v":"2021-12-29"},{"$f":"+IF(C1058=\"\",\"\",IF(H1058=\"\",\"SIN RESPUESTA\",(IF(H1058<=J1058,\"A TIEMPO\",\"FUERA DE TIEMPO\"))))","v":"A TIEMPO"},{"$f":"IF(H1058=\"\",\"\",NETWORKDAYS(C1058+1,H1058,DiasNOLaborables))","v":14},{"$f":"IF(NETWORKDAYS(J1058+1,H1058,DiasNOLaborables)<=0,\"\",NETWORKDAYS(J1058+1,H1058,DiasNOLaborables))","v":""},null,null,{"$f":"IFERROR(VLOOKUP(E1058,$X$51:$Y$64,2),\"\")","v":35}]
[1048,20219050128732,"2021-11-08","CORREO ELECTRÓNICO","SOLICITUD DE INFORMACIÓN Y DOCUMENTOS","INFORMES AMBIENTALES","SUBDIRECCIÓN DE HIDROLOGÍA","2021-12-01","CORREO ELECTRÓNICO",{"$f":"IFERROR(WORKDAY(C1059,P1059,DiasNOLaborables),\"\")","v":"2021-12-07"},{"$f":"+IF(C1059=\"\",\"\",IF(H1059=\"\",\"SIN RESPUESTA\",(IF(H1059<=J1059,\"A TIEMPO\",\"FUERA DE TIEMPO\"))))","v":"A TIEMPO"},{"$f":"IF(H1059=\"\",\"\",NETWORKDAYS(C1059+1,H1059,DiasNOLaborables))","v":16},{"$f":"IF(NETWORKDAYS(J1059+1,H1059,DiasNOLaborables)<=0,\"\",NETWORKDAYS(J1059+1,H1059,DiasNOLaborables))","v":""},null,null,{"$f":"IFERROR(VLOOKUP(E1059,$X$51:$Y$64,2),\"\")","v":20}]
[1049,20219050128822,"2021-11-08","CORREO ELECTRÓNICO","SOLICITUD DE INFORMACIÓN Y DOCUMENTOS","REGISTROS AMBIENTALES","SUBDIRECCIÓN DE ESTUDIOS AMBIENTALES","2021-11-17","CORREO ELECTRÓNICO",{"$f":"IFERROR(WORKDAY(C1060,P1060,DiasNOLaborables),\"\")","v":"2021-12-07"},{"$f":"+IF(C1060=\"\",\"\",IF(H1060=\"\",\"SIN RESPUESTA\",(IF(H1060<=J1060,\"A TIEMPO\",\"FUERA DE TIEMPO\"))))","v":"A TIEMPO"},{"$f":"IF(H1060=\"\",\"\",NETWORKDAYS(C1060+1,H1060,DiasNOLaborables))","v":6},{"$f":"IF(NETWORKDAYS(J1060+1,H1060,DiasNOLaborables)<=0,\"\",NETWORKDAYS(J1060+1,H1060,DiasNOLaborables))","v":""},null,null,{"$f":"IFERROR(VLOOKUP(E1060,$X$51:$Y$64,2),\"\")","v":20}]
[1050,20219050128842,"2021-11-08","CORREO ELECTRÓNICO","SOLICITUD DE INFORMACIÓN Y DOCUMENTOS","REGISTROS AMBIENTALES","SUBDIRECCIÓN DE ESTUDIOS AMBIENTALES","2021-11-17","CORREO ELECTRÓNICO",{"$f":"IFERROR(WORKDAY(C1061,P1061,DiasNOLaborables),\"\")","v":"2021-12-07"},{"$f":"+IF(C1061=\"\",\"\",IF(H1061=\"\",\"SIN RESPUESTA\",(IF(H1061<=J1061,\"A TIEMPO\",\"FUERA DE TIEMPO\"))))","v":"A TIEMPO"},{"$f":"IF(H1061=\"\",\"\",NETWORKDAYS(C1061+1,H1061,DiasNOLaborables))","v":6},{"$f":"IF(NETWORKDAYS(J1061+1,H1061,DiasNOLaborables)<=0,\"\",NETWORKDAYS(J1061+1,H1061,DiasNOLaborables))","v":""},null,null,{"$f":"IFERROR(VLOOKUP(E1061,$X$51:$Y$64,2),\"\")","v":20}]
[1051,20219050128882,"2021-11-08","CORREO ELECTRÓNICO","SOLICITUD DE INFORMACIÓN Y DOCUMENTOS","ACREDITACIÓN DE LABORATORIOS","SUBDIRECCIÓN DE ESTUDIOS AMBIENTALES","2021-11-23","CORREO ELECTRÓNICO",{"$f":"IFERROR(WORKDAY(C1062,P1062,DiasNOLaborables),\"\")","v":"2021-12-07"},{"$f":"+IF(C1062=\"\",\"\",IF(H1062=\"\",\"SIN RESPUESTA\",(IF(H1062<=J1062,\"A TIEMPO\",\"FUERA DE TIEMPO\"))))","v":"A TIEMPO"},{"$f":"IF(H1062=\"\",\"\",NETWORKDAYS(C1062+1,H1062,DiasNOLaborables))","v":10},{"$f":"IF(NETWORKDAYS(J1062+1,H1062,DiasNOLaborables)<=0,\"\",NETWORKDAYS(J1062+1,H1062,DiasNOLaborables))","v":""},null,null,{"$f":"IFERROR(VLOOKUP(E1062,$X$51:$Y$64,2),\"\")","v":20}]
[1052,20219050128912,"2021-11-08","CORREO ELECTRÓNICO","SOLICITUD DE INFORMACIÓN Y DOCUMENTOS","ACREDITACIÓN DE LABORATORIOS","SUBDIRECCIÓN DE ESTUDIOS AMBIENTALES","2021-11-10","CORREO ELECTRÓNICO",{"$f":"IFERROR(WORKDAY(C1063,P1063,DiasNOLaborables),\"\")","v":"2021-12-07"},{"$f":"+IF(C1063=\"\",\"\",IF(H1063=\"\",\"SIN RESPUESTA\",(IF(H1063<=J1063,\"A TIEMPO\",\"FUERA DE TIEMPO\"))))","v":"A TIEMPO"},{"$f":"IF(H1063=\"\",\"\",NETWORKDAYS(C1063+1,H1063,DiasNOLaborables))","v":2},{"$f":"IF(NETWORKDAYS(J1063+1,H1063,DiasNOLaborables)<=0,\"\",NETWORKDAYS(J1063+1,H1063,DiasNOLaborables))","v":""},null,null,{"$f":"IFERROR(VLOOKUP(E1063,$X$51:$Y$64,2),\"\")","v":20}]
[1053,20219050128932,"2021-11-08","CORREO ELECTRÓNICO","SOLICITUD DE INFORMACIÓN Y DOCUMENTOS","INFORMES AMBIENTALES","SUBDIRECCIÓN DE METEOROLOGÍA","2021-12-06","CORREO ELECTRÓNICO",{"$f":"IFERROR(WORKDAY(C1064,P1064,DiasNOLaborables),\"\")","v":"2021-12-07"},{"$f":"+IF(C1064=\"\",\"\",IF(H1064=\"\",\"SIN RESPUESTA\",(IF(H1064<=J1064,\"A TIEMPO\",\"FUERA DE TIEMPO\"))))","v":"A TIEMPO"},{"$f":"IF(H1064=\"\",\"\",NETWORKDAYS(C1064+1,H1064,DiasNOLaborables))","v":19},{"$f":"IF(NETWORKDAYS(J1064+1,H1064,DiasNOLaborables)<=0,\"\",NETWORKDAYS(J1064+1,H1064,DiasNOLaborables))","v":""},null,null,{"$f":"IFERROR(VLOOKUP(E1064,$X$51:$Y$64,2),\"\")","v":20}]
[1054,20219050128942,"2021-11-08","CORREO ELECTRÓNICO","SOLICITUD DE INFORMACIÓN Y DOCUMENTOS","INFORMES AMBIENTALES","SUBDIRECCIÓN DE ESTUDIOS AMBIENTALES","2021-11-17","CORREO ELECTRÓNICO",{"$f":"IFERROR(WORKDAY(C1065,P1065,DiasNOLaborables),\"\")","v":"2021-12-07"},{"$f":"+IF(C1065=\"\",\"\",IF(H1065=\"\",\"SIN RESPUESTA\",(IF(H1065<=J1065,\"A TIEMPO\",\"FUERA DE TIEMPO\"))))","v":"A TIEMPO"},{"$f":"IF(H1065=\"\",\"\",NETWORKDAYS(C1065+1,H1065,DiasNOLaborables))","v":6},{"$f":"IF(NETWORKDAYS(J1065+1,H1065,DiasNOLaborables)<=0,\"\",NETWORKDAYS(J1065+1,H1065,DiasNOLaborables))","v":""},null,null,{"$f":"IFERROR(VLOOKUP(E1065,$X$51:$Y$64,2),\"\")","v":20}]
[1055,20219050128502,"2021-11-08","MODULO CONTACTENOS","SOLICITUD DE INFORMACIÓN Y DOCUMENTOS","SOLICITUD DE INFORMACIÓN HIDROMETEOROLÓGICA","GRUPO DE SERVICIO AL CIUDADANO ","2021-11-10","CORREO ELECTRÓNICO",{"$f":"IFERROR(WORKDAY(C1066,P1066,DiasNOLaborables),\"\")","v":"2021-12-07"},{"$f":"+IF(C1066=\"\",\"\",IF(H1066=\"\",\"SIN RESPUESTA\",(IF(H1066<=J1066,\"A TIEMPO\",\"FUERA DE TIEMPO\"))))","v":"A TIEMPO"},{"$f":"IF(H1066=\"\",\"\",NETWORKDAYS(C1066+1,H1066,DiasNOLaborables))","v":2},{"$f":"IF(NETWORKDAYS(J1066+1,H1066,DiasNOLaborables)<=0,\"\",NETWORKDAYS(J1066+1,H1066,DiasNOLaborables))","v":""},null,null,{"$f":"IFERROR(VLOOKUP(E1066,$X$51:$Y$64,2),\"\")","v":20}]
[1056,20219050128552,"2021-11-08","MODULO CONTACTENOS","SOLICITUD DE INFORMACIÓN Y DOCUMENTOS","SOLICITUD DE INFORMACIÓN HIDROMETEOROLÓGICA","GRUPO DE SERVICIO AL CIUDADANO ","2021-11-10","CORREO ELECTRÓNICO",{"$f":"IFERROR(WORKDAY(C1067,P1067,DiasNOLaborables),\"\")","v":"2021-12-07"},{"$f":"+IF(C1067=\"\",\"\",IF(H1067=\"\",\"SIN RESPUESTA\",(IF(H1067<=J1067,\"A TIEMPO\",\"FUERA DE TIEMPO\"))))","v":"A TIEMPO"},{"$f":"IF(H1067=\"\",\"\",NETWORKDAYS(C1067+1,H1067,DiasNOLaborables))","v":2},{"$f":"IF(NETWORKDAYS(J1067+1,H1067,DiasNOLaborables)<=0,\"\",NETWORKDAYS(J1067+1,H1067,DiasNOLaborables))","v":""},null,null,{"$f":"IFERROR(VLOOKUP(E1067,$X$51:$Y$64,2),\"\")","v":20}]
[1057,20219050128612,"2021-11-08","CORREO ELECTRÓNICO","SOLICITUD DE INFORMACIÓN Y DOCUMENTOS","SOLICITUD DE INFORMACIÓN HIDROMETEOROLÓGICA","GRUPO DE SERVICIO AL CIUDADANO ","2021-11-11","CORREO ELECTRÓNICO",{"$f":"IFERROR(WORKDAY(C1068,P1068,DiasNOLaborables),\"\")","v":"2021-12-07"},{"$f":"+IF(C1068=\"\",\"\",IF(H1068=\"\",\"SIN RESPUESTA\",(IF(H1068<=J1068,\"A TIEMPO\",\"FUERA DE TIEMPO\"))))","v":"A TIEMPO"},{"$f":"IF(H1068=\"\",\"\",NETWORKDAYS(C1068+1,H1068,DiasNOLaborables))","v":3},{"$f":"IF(NETWORKDAYS(J1068+1,H1068,DiasNOLaborables)<=0,\"\",NETWORKDAYS(J1068+1,H1068,DiasNOLaborables))","v":""},null,null,{"$f":"IFERROR(VLOOKUP(E1068,$X$51:$Y$64,2),\"\")","v":20}]
[1058,20219050128712,"2021-11-08","MODULO CONTACTENOS","SOLICITUD DE INFORMACIÓN Y DOCUMENTOS","SOLICITUD DE INFORMACIÓN HIDROMETEOROLÓGICA","GRUPO DE SERVICIO AL CIUDADANO ","2021-11-11","CORREO ELECTRÓNICO",{"$f":"IFERROR(WORKDAY(C1069,P1069,DiasNOLaborables),\"\")","v":"2021-12-07"},{"$f":"+IF(C1069=\"\",\"\",IF(H1069=\"\",\"SIN RESPUESTA\",(IF(H1069<=J1069,\"A TIEMPO\",\"FUERA DE TIEMPO\"))))","v":"A TIEMPO"},{"$f":"IF(H1069=\"\",\"\",NETWORKDAYS(C1069+1,H1069,DiasNOLaborables))","v":3},{"$f":"IF(NETWORKDAYS(J1069+1,H1069,DiasNOLaborables)<=0,\"\",NETWORKDAYS(J1069+1,H1069,DiasNOLaborables))","v":""},null,null,{"$f":"IFERROR(VLOOKUP(E1069,$X$51:$Y$64,2),\"\")","v":20}]
[1059,20219050128832,"2021-11-08","MODULO CONTACTENOS","SOLICITUD DE INFORMACIÓN Y DOCUMENTOS","SOLICITUD DE INFORMACIÓN HIDROMETEOROLÓGICA","GRUPO DE SERVICIO AL CIUDADANO ","2021-11-11","CORREO ELECTRÓNICO",{"$f":"IFERROR(WORKDAY(C1070,P1070,DiasNOLaborables),\"\")","v":"2021-12-07"},{"$f":"+IF(C1070=\"\",\"\",IF(H1070=\"\",\"SIN RESPUESTA\",(IF(H1070<=J1070,\"A TIEMPO\",\"FUERA DE TIEMPO\"))))","v":"A TIEMPO"},{"$f":"IF(H1070=\"\",\"\",NETWORKDAYS(C1070+1,H1070,DiasNOLaborables))","v":3},{"$f":"IF(NETWORKDAYS(J1070+1,H1070,DiasNOLaborables)<=0,\"\",NETWORKDAYS(J1070+1,H1070,DiasNOLaborables))","v":""},null,null,{"$f":"IFERROR(VLOOKUP(E1070,$X$51:$Y$64,2),\"\")","v":20}]
[1060,20219050128902,"2021-11-08","MODULO CONTACTENOS","SOLICITUD DE INFORMACIÓN Y DOCUMENTOS","SOLICITUD DE INFORMACIÓN HIDROMETEOROLÓGICA","GRUPO DE SERVICIO AL CIUDADANO ","2021-11-11","CORREO ELECTRÓNICO",{"$f":"IFERROR(WORKDAY(C1071,P1071,DiasNOLaborables),\"\")","v":"2021-12-07"},{"$f":"+IF(C1071=\"\",\"\",IF(H1071=\"\",\"SIN RESPUESTA\",(IF(H1071<=J1071,\"A TIEMPO\",\"FUERA DE TIEMPO\"))))","v":"A TIEMPO"},{"$f":"IF(H1071=\"\",\"\",NETWORKDAYS(C1071+1,H1071,DiasNOLaborables))","v":3},{"$f":"IF(NETWORKDAYS(J1071+1,H1071,DiasNOLaborables)<=0,\"\",NETWORKDAYS(J1071+1,H1071,DiasNOLaborables))","v":""},null,null,{"$f":"IFERROR(VLOOKUP(E1071,$X$51:$Y$64,2),\"\")","v":20}]
[1061,20219050128562,"2021-11-08","MODULO CONTACTENOS","SOLICITUD DE INFORMACIÓN Y DOCUMENTOS","SOLICITUD DE INFORMACIÓN HIDROMETEOROLÓGICA","GRUPO DE SERVICIO AL CIUDADANO ","2021-11-18","CORREO ELECTRÓNICO",{"$f":"IFERROR(WORKDAY(C1072,P1072,DiasNOLaborables),\"\")","v":"2021-12-07"},{"$f":"+IF(C1072=\"\",\"\",IF(H1072=\"\",\"SIN RESPUESTA\",(IF(H1072<=J1072,\"A TIEMPO\",\"FUERA DE TIEMPO\"))))","v":"A TIEMPO"},{"$f":"IF(H1072=\"\",\"\",NETWORKDAYS(C1072+1,H1072,DiasNOLaborables))","v":7},{"$f":"IF(NETWORKDAYS(J1072+1,H1072,DiasNOLaborables)<=0,\"\",NETWORKDAYS(J1072+1,H1072,DiasNOLaborables))","v":""},null,null,{"$f":"IFERROR(VLOOKUP(E1072,$X$51:$Y$64,2),\"\")","v":20}]
[1062,20219050128992,"2021-11-08","MODULO CONTACTENOS","SOLICITUD DE INFORMACIÓN Y DOCUMENTOS","SOLICITUD DE INFORMACIÓN HIDROMETEOROLÓGICA","GRUPO DE SERVICIO AL CIUDADANO ","2021-11-11","CORREO ELECTRÓNICO",{"$f":"IFERROR(WORKDAY(C1073,P1073,DiasNOLaborables),\"\")","v":"2021-12-07"},{"$f":"+IF(C1073=\"\",\"\",IF(H1073=\"\",\"SIN RESPUESTA\",(IF(H1073<=J1073,\"A TIEMPO\",\"FUERA DE TIEMPO\"))))","v":"A TIEMPO"},{"$f":"IF(H1073=\"\",\"\",NETWORKDAYS(C1073+1,H1073,DiasNOLaborables))","v":3},{"$f":"IF(NETWORKDAYS(J1073+1,H1073,DiasNOLaborables)<=0,\"\",NETWORKDAYS(J1073+1,H1073,DiasNOLaborables))","v":""},null,null,{"$f":"IFERROR(VLOOKUP(E1073,$X$51:$Y$64,2),\"\")","v":20}]
[1063,20219050129012,"2021-11-08","MODULO CONTACTENOS","SOLICITUD DE INFORMACIÓN Y DOCUMENTOS","SOLICITUD DE INFORMACIÓN HIDROMETEOROLÓGICA","GRUPO DE SERVICIO AL CIUDADANO ","2021-11-11","CORREO ELECTRÓNICO",{"$f":"IFERROR(WORKDAY(C1074,P1074,DiasNOLaborables),\"\")","v":"2021-12-07"},{"$f":"+IF(C1074=\"\",\"\",IF(H1074=\"\",\"SIN RESPUESTA\",(IF(H1074<=J1074,\"A TIEMPO\",\"FUERA DE TIEMPO\"))))","v":"A TIEMPO"},{"$f":"IF(H1074=\"\",\"\",NETWORKDAYS(C1074+1,H1074,DiasNOLaborables))","v":3},{"$f":"IF(NETWORKDAYS(J1074+1,H1074,DiasNOLaborables)<=0,\"\",NETWORKDAYS(J1074+1,H1074,DiasNOLaborables))","v":""},null,null,{"$f":"IFERROR(VLOOKUP(E1074,$X$51:$Y$64,2),\"\")","v":20}]
[1064,20219050129022,"2021-11-08","MODULO CONTACTENOS","SOLICITUD DE INFORMACIÓN Y DOCUMENTOS","SOLICITUD DE INFORMACIÓN HIDROMETEOROLÓGICA","GRUPO DE SERVICIO AL CIUDADANO ","2021-11-11","CORREO ELECTRÓNICO",{"$f":"IFERROR(WORKDAY(C1075,P1075,DiasNOLaborables),\"\")","v":"2021-12-07"},{"$f":"+IF(C1075=\"\",\"\",IF(H1075=\"\",\"SIN RESPUESTA\",(IF(H1075<=J1075,\"A TIEMPO\",\"FUERA DE TIEMPO\"))))","v":"A TIEMPO"},{"$f":"IF(H1075=\"\",\"\",NETWORKDAYS(C1075+1,H1075,DiasNOLaborables))","v":3},{"$f":"IF(NETWORKDAYS(J1075+1,H1075,DiasNOLaborables)<=0,\"\",NETWORKDAYS(J1075+1,H1075,DiasNOLaborables))","v":""},null,null,{"$f":"IFERROR(VLOOKUP(E1075,$X$51:$Y$64,2),\"\")","v":20}]
[1065,20219910061082,"2021-11-08","CORREO CERTIFICADO","SOLICITUD JUDICIAL","CERTIFICACIONES DE TIEMPO Y CLIMA","SUBDIRECCIÓN DE METEOROLOGÍA","2021-11-09","CORREO ELECTRÓNICO",{"$f":"IFERROR(WORKDAY(C1076,P1076,DiasNOLaborables),\"\")","v":"2021-11-16"},{"$f":"+IF(C1076=\"\",\"\",IF(H1076=\"\",\"SIN RESPUESTA\",(IF(H1076<=J1076,\"A TIEMPO\",\"FUERA DE TIEMPO\"))))","v":"A TIEMPO"},{"$f":"IF(H1076=\"\",\"\",NETWORKDAYS(C1076+1,H1076,DiasNOLaborables))","v":1},{"$f":"IF(NETWORKDAYS(J1076+1,H1076,DiasNOLaborables)<=0,\"\",NETWORKDAYS(J1076+1,H1076,DiasNOLaborables))","v":""},null,null,{"$f":"IFERROR(VLOOKUP(E1076,$X$51:$Y$64,2),\"\")","v":5}]
[1066,20219910061162,"2021-11-08","CORREO ELECTRÓNICO","SOLICITUD DE INFORMACIÓN Y DOCUMENTOS","SIRH","SUBDIRECCIÓN DE HIDROLOGÍA","2021-11-23","CORREO ELECTRÓNICO",{"$f":"IFERROR(WORKDAY(C1077,P1077,DiasNOLaborables),\"\")","v":"2021-12-07"},{"$f":"+IF(C1077=\"\",\"\",IF(H1077=\"\",\"SIN RESPUESTA\",(IF(H1077<=J1077,\"A TIEMPO\",\"FUERA DE TIEMPO\"))))","v":"A TIEMPO"},{"$f":"IF(H1077=\"\",\"\",NETWORKDAYS([5]Hoja1!C1075+1,[5]Hoja1!P1075,DiasNOLaborables))","v":6},{"$f":"IF(NETWORKDAYS(J1077+1,H1077,DiasNOLaborables)<=0,\"\",NETWORKDAYS(J1077+1,H1077,DiasNOLaborables))","v":""},null,null,{"$f":"IFERROR(VLOOKUP(E1077,$X$51:$Y$64,2),\"\")","v":20}]
[1067,20219050128462,"2021-11-08","MODULO CONTACTENOS","SOLICITUD DE INFORMACIÓN Y DOCUMENTOS","SOLICITUD DE INFORMACIÓN HIDROMETEOROLÓGICA","GRUPO DE SERVICIO AL CIUDADANO ","2021-11-22","CORREO ELECTRÓNICO",{"$f":"IFERROR(WORKDAY(C1078,P1078,DiasNOLaborables),\"\")","v":"2021-12-07"},{"$f":"+IF(C1078=\"\",\"\",IF(H1078=\"\",\"SIN RESPUESTA\",(IF(H1078<=J1078,\"A TIEMPO\",\"FUERA DE TIEMPO\"))))","v":"A TIEMPO"},{"$f":"IF(H1078=\"\",\"\",NETWORKDAYS(C1078+1,H1078,DiasNOLaborables))","v":9},{"$f":"IF(NETWORKDAYS(J1078+1,H1078,DiasNOLaborables)<=0,\"\",NETWORKDAYS(J1078+1,H1078,DiasNOLaborables))","v":""},null,null,{"$f":"IFERROR(VLOOKUP(E1078,$X$51:$Y$64,2),\"\")","v":20}]
[1068,20219050128592,"2021-11-08","CORREO ELECTRÓNICO","SOLICITUD DE INFORMACIÓN Y DOCUMENTOS","SOLICITUD DE INFORMACIÓN HIDROMETEOROLÓGICA","GRUPO DE SERVICIO AL CIUDADANO ","2021-11-22","CORREO ELECTRÓNICO",{"$f":"IFERROR(WORKDAY(C1079,P1079,DiasNOLaborables),\"\")","v":"2021-12-07"},{"$f":"+IF(C1079=\"\",\"\",IF(H1079=\"\",\"SIN RESPUESTA\",(IF(H1079<=J1079,\"A TIEMPO\",\"FUERA DE TIEMPO\"))))","v":"A TIEMPO"},{"$f":"IF(H1079=\"\",\"\",NETWORKDAYS(C1079+1,H1079,DiasNOLaborables))","v":9},{"$f":"IF(NETWORKDAYS(J1079+1,H1079,DiasNOLaborables)<=0,\"\",NETWORKDAYS(J1079+1,H1079,DiasNOLaborables))","v":""},null,null,{"$f":"IFERROR(VLOOKUP(E1079,$X$51:$Y$64,2),\"\")","v":20}]
[1069,20219050128572,"2021-11-08","CORREO ELECTRÓNICO","SOLICITUD DE INFORMACIÓN Y DOCUMENTOS","SOLICITUD DE INFORMACIÓN HIDROMETEOROLÓGICA","SUBDIRECCIÓN DE HIDROLOGÍA","2021-11-23","CORREO ELECTRÓNICO",{"$f":"IFERROR(WORKDAY(C1080,P1080,DiasNOLaborables),\"\")","v":"2021-12-07"},{"$f":"+IF(C1080=\"\",\"\",IF(H1080=\"\",\"SIN RESPUESTA\",(IF(H1080<=J1080,\"A TIEMPO\",\"FUERA DE TIEMPO\"))))","v":"A TIEMPO"},{"$f":"IF(H1080=\"\",\"\",NETWORKDAYS(C1080+1,H1080,DiasNOLaborables))","v":10},{"$f":"IF(NETWORKDAYS(J1080+1,H1080,DiasNOLaborables)<=0,\"\",NETWORKDAYS(J1080+1,H1080,DiasNOLaborables))","v":""},null,null,{"$f":"IFERROR(VLOOKUP(E1080,$X$51:$Y$64,2),\"\")","v":20}]
[1070,20219050129042,"2021-11-08","MODULO CONTACTENOS","SOLICITUD DE INFORMACIÓN Y DOCUMENTOS","SOLICITUD DE INFORMACIÓN HIDROMETEOROLÓGICA","GRUPO DE SERVICIO AL CIUDADANO ","2021-11-24","CORREO ELECTRÓNICO",{"$f":"IFERROR(WORKDAY(C1081,P1081,DiasNOLaborables),\"\")","v":"2021-12-07"},{"$f":"+IF(C1081=\"\",\"\",IF(H1081=\"\",\"SIN RESPUESTA\",(IF(H1081<=J1081,\"A TIEMPO\",\"FUERA DE TIEMPO\"))))","v":"A TIEMPO"},{"$f":"IF(H1081=\"\",\"\",NETWORKDAYS(C1081+1,H1081,DiasNOLaborables))","v":11},{"$f":"IF(NETWORKDAYS(J1081+1,H1081,DiasNOLaborables)<=0,\"\",NETWORKDAYS(J1081+1,H1081,DiasNOLaborables))","v":""},null,null,{"$f":"IFERROR(VLOOKUP(E1081,$X$51:$Y$64,2),\"\")","v":20}]
[1071,20219050129062,"2021-11-08","MODULO CONTACTENOS","SOLICITUD DE INFORMACIÓN Y DOCUMENTOS","SOLICITUD DE INFORMACIÓN HIDROMETEOROLÓGICA","GRUPO DE SERVICIO AL CIUDADANO ","2021-11-23","CORREO ELECTRÓNICO",{"$f":"IFERROR(WORKDAY(C1082,P1082,DiasNOLaborables),\"\")","v":"2021-12-07"},{"$f":"+IF(C1082=\"\",\"\",IF(H1082=\"\",\"SIN RESPUESTA\",(IF(H1082<=J1082,\"A TIEMPO\",\"FUERA DE TIEMPO\"))))","v":"A TIEMPO"},{"$f":"IF(H1082=\"\",\"\",NETWORKDAYS(C1082+1,H1082,DiasNOLaborables))","v":10},{"$f":"IF(NETWORKDAYS(J1082+1,H1082,DiasNOLaborables)<=0,\"\",NETWORKDAYS(J1082+1,H1082,DiasNOLaborables))","v":""},null,null,{"$f":"IFERROR(VLOOKUP(E1082,$X$51:$Y$64,2),\"\")","v":20}]
[1072,20219050128742,"2021-11-08","MODULO CONTACTENOS","SOLICITUD DE INFORMACIÓN Y DOCUMENTOS","SOLICITUD DE INFORMACIÓN HIDROMETEOROLÓGICA","GRUPO DE SERVICIO AL CIUDADANO ","2021-11-02","CORREO ELECTRÓNICO",{"$f":"IFERROR(WORKDAY(C1083,P1083,DiasNOLaborables),\"\")","v":"2021-12-07"},{"$f":"+IF(C1083=\"\",\"\",IF(H1083=\"\",\"SIN RESPUESTA\",(IF(H1083<=J1083,\"A TIEMPO\",\"FUERA DE TIEMPO\"))))","v":"A TIEMPO"},{"$f":"IF(H1083=\"\",\"\",NETWORKDAYS(C1083+1,H1083,DiasNOLaborables))","v":-6},{"$f":"IF(NETWORKDAYS(J1083+1,H1083,DiasNOLaborables)<=0,\"\",NETWORKDAYS(J1083+1,H1083,DiasNOLaborables))","v":""},null,null,{"$f":"IFERROR(VLOOKUP(E1083,$X$51:$Y$64,2),\"\")","v":20}]
[1073,20219050128772,"2021-11-08","MODULO CONTACTENOS","SOLICITUD DE INFORMACIÓN Y DOCUMENTOS","SOLICITUD DE INFORMACIÓN HIDROMETEOROLÓGICA","GRUPO DE SERVICIO AL CIUDADANO ","2021-11-02","CORREO ELECTRÓNICO",{"$f":"IFERROR(WORKDAY(C1084,P1084,DiasNOLaborables),\"\")","v":"2021-12-07"},{"$f":"+IF(C1084=\"\",\"\",IF(H1084=\"\",\"SIN RESPUESTA\",(IF(H1084<=J1084,\"A TIEMPO\",\"FUERA DE TIEMPO\"))))","v":"A TIEMPO"},{"$f":"IF(H1084=\"\",\"\",NETWORKDAYS(C1084+1,H1084,DiasNOLaborables))","v":-6},{"$f":"IF(NETWORKDAYS(J1084+1,H1084,DiasNOLaborables)<=0,\"\",NETWORKDAYS(J1084+1,H1084,DiasNOLaborables))","v":""},null,null,{"$f":"IFERROR(VLOOKUP(E1084,$X$51:$Y$64,2),\"\")","v":20}]
[1074,20219050128782,"2021-11-08","MODULO CONTACTENOS","SOLICITUD DE INFORMACIÓN Y DOCUMENTOS","SOLICITUD DE INFORMACIÓN HIDROMETEOROLÓGICA","GRUPO DE SERVICIO AL CIUDADANO ","2021-11-02","CORREO ELECTRÓNICO",{"$f":"IFERROR(WORKDAY(C1085,P1085,DiasNOLaborables),\"\")","v":"2021-12-07"},{"$f":"+IF(C1085=\"\",\"\",IF(H1085=\"\",\"SIN RESPUESTA\",(IF(H1085<=J1085,\"A TIEMPO\",\"FUERA DE TIEMPO\"))))","v":"A TIEMPO"},{"$f":"IF(H1085=\"\",\"\",NETWORKDAYS(C1085+1,H1085,DiasNOLaborables))","v":-6},{"$f":"IF(NETWORKDAYS(J1085+1,H1085,DiasNOLaborables)<=0,\"\",NETWORKDAYS(J1085+1,H1085,DiasNOLaborables))","v":""},null,null,{"$f":"IFERROR(VLOOKUP(E1085,$X$51:$Y$64,2),\"\")","v":20}]
[1075,20219050128792,"2021-11-08","MODULO CONTACTENOS","SOLICITUD DE INFORMACIÓN Y DOCUMENTOS","SOLICITUD DE INFORMACIÓN HIDROMETEOROLÓGICA","GRUPO DE SERVICIO AL CIUDADANO ","2021-11-02","CORREO ELECTRÓNICO",{"$f":"IFERROR(WORKDAY(C1086,P1086,DiasNOLaborables),\"\")","v":"2021-12-07"},{"$f":"+IF(C1086=\"\",\"\",IF(H1086=\"\",\"SIN RESPUESTA\",(IF(H1086<=J1086,\"A TIEMPO\",\"FUERA DE TIEMPO\"))))","v":"A TIEMPO"},{"$f":"IF(H1086=\"\",\"\",NETWORKDAYS(C1086+1,H1086,DiasNOLaborables))","v":-6},{"$f":"IF(NETWORKDAYS(J1086+1,H1086,DiasNOLaborables)<=0,\"\",NETWORKDAYS(J1086+1,H1086,DiasNOLaborables))","v":""},null,null,{"$f":"IFERROR(VLOOKUP(E1086,$X$51:$Y$64,2),\"\")","v":20}]
[1076,20219050128802,"2021-11-08","MODULO CONTACTENOS","SOLICITUD DE INFORMACIÓN Y DOCUMENTOS","SOLICITUD DE INFORMACIÓN HIDROMETEOROLÓGICA","GRUPO DE SERVICIO AL CIUDADANO ","2021-11-02","CORREO ELECTRÓNICO",{"$f":"IFERROR(WORKDAY(C1087,P1087,DiasNOLaborables),\"\")","v":"2021-12-07"},{"$f":"+IF(C1087=\"\",\"\",IF(H1087=\"\",\"SIN RESPUESTA\",(IF(H1087<=J1087,\"A TIEMPO\",\"FUERA DE TIEMPO\"))))","v":"A TIEMPO"},{"$f":"IF(H1087=\"\",\"\",NETWORKDAYS(C1087+1,H1087,DiasNOLaborables))","v":-6},{"$f":"IF(NETWORKDAYS(J1087+1,H1087,DiasNOLaborables)<=0,\"\",NETWORKDAYS(J1087+1,H1087,DiasNOLaborables))","v":""},null,null,{"$f":"IFERROR(VLOOKUP(E1087,$X$51:$Y$64,2),\"\")","v":20}]
[1077,20219050128952,"2021-11-08","MODULO CONTACTENOS","SOLICITUD DE INFORMACIÓN Y DOCUMENTOS","SOLICITUD DE INFORMACIÓN HIDROMETEOROLÓGICA","GRUPO DE SERVICIO AL CIUDADANO ","2021-11-02","CORREO ELECTRÓNICO",{"$f":"IFERROR(WORKDAY(C1088,P1088,DiasNOLaborables),\"\")","v":"2021-12-07"},{"$f":"+IF(C1088=\"\",\"\",IF(H1088=\"\",\"SIN RESPUESTA\",(IF(H1088<=J1088,\"A TIEMPO\",\"FUERA DE TIEMPO\"))))","v":"A TIEMPO"},{"$f":"IF(H1088=\"\",\"\",NETWORKDAYS(C1088+1,H1088,DiasNOLaborables))","v":-6},{"$f":"IF(NETWORKDAYS(J1088+1,H1088,DiasNOLaborables)<=0,\"\",NETWORKDAYS(J1088+1,H1088,DiasNOLaborables))","v":""},null,null,{"$f":"IFERROR(VLOOKUP(E1088,$X$51:$Y$64,2),\"\")","v":20}]
[1078,20219050128962,"2021-11-08","MODULO CONTACTENOS","SOLICITUD DE INFORMACIÓN Y DOCUMENTOS","SOLICITUD DE INFORMACIÓN HIDROMETEOROLÓGICA","GRUPO DE SERVICIO AL CIUDADANO ","2021-11-02","CORREO ELECTRÓNICO",{"$f":"IFERROR(WORKDAY(C1089,P1089,DiasNOLaborables),\"\")","v":"2021-12-07"},{"$f":"+IF(C1089=\"\",\"\",IF(H1089=\"\",\"SIN RESPUESTA\",(IF(H1089<=J1089,\"A TIEMPO\",\"FUERA DE TIEMPO\"))))","v":"A TIEMPO"},{"$f":"IF(H1089=\"\",\"\",NETWORKDAYS(C1089+1,H1089,DiasNOLaborables))","v":-6},{"$f":"IF(NETWORKDAYS(J1089+1,H1089,DiasNOLaborables)<=0,\"\",NETWORKDAYS(J1089+1,H1089,DiasNOLaborables))","v":""},null,null,{"$f":"IFERROR(VLOOKUP(E1089,$X$51:$Y$64,2),\"\")","v":20}]
[1079,20219050129112,"2021-11-08","MODULO CONTACTENOS","SOLICITUD DE INFORMACIÓN Y DOCUMENTOS","SOLICITUD DE INFORMACIÓN HIDROMETEOROLÓGICA","GRUPO DE SERVICIO AL CIUDADANO ","2021-11-02","CORREO ELECTRÓNICO",{"$f":"IFERROR(WORKDAY(C1090,P1090,DiasNOLaborables),\"\")","v":"2021-12-07"},{"$f":"+IF(C1090=\"\",\"\",IF(H1090=\"\",\"SIN RESPUESTA\",(IF(H1090<=J1090,\"A TIEMPO\",\"FUERA DE TIEMPO\"))))","v":"A TIEMPO"},{"$f":"IF(H1090=\"\",\"\",NETWORKDAYS(C1090+1,H1090,DiasNOLaborables))","v":-6},{"$f":"IF(NETWORKDAYS(J1090+1,H1090,DiasNOLaborables)<=0,\"\",NETWORKDAYS(J1090+1,H1090,DiasNOLaborables))","v":""},null,null,{"$f":"IFERROR(VLOOKUP(E1090,$X$51:$Y$64,2),\"\")","v":20}]
[1080,20219050129102,"2021-11-08","MODULO CONTACTENOS","SOLICITUD DE INFORMACIÓN Y DOCUMENTOS","SOLICITUD DE INFORMACIÓN HIDROMETEOROLÓGICA","GRUPO DE SERVICIO AL CIUDADANO ","2021-11-02","CORREO ELECTRÓNICO",{"$f":"IFERROR(WORKDAY(C1091,P1091,DiasNOLaborables),\"\")","v":"2021-12-07"},{"$f":"+IF(C1091=\"\",\"\",IF(H1091=\"\",\"SIN RESPUESTA\",(IF(H1091<=J1091,\"A TIEMPO\",\"FUERA DE TIEMPO\"))))","v":"A TIEMPO"},{"$f":"IF(H1091=\"\",\"\",NETWORKDAYS(C1091+1,H1091,DiasNOLaborables))","v":-6},{"$f":"IF(NETWORKDAYS(J1091+1,H1091,DiasNOLaborables)<=0,\"\",NETWORKDAYS(J1091+1,H1091,DiasNOLaborables))","v":""},null,null,{"$f":"IFERROR(VLOOKUP(E1091,$X$51:$Y$64,2),\"\")","v":20}]
[1081,20219050129082,"2021-11-08","MODULO CONTACTENOS","SOLICITUD DE INFORMACIÓN Y DOCUMENTOS","SOLICITUD DE INFORMACIÓN HIDROMETEOROLÓGICA","GRUPO DE SERVICIO AL CIUDADANO ","2021-11-02","CORREO ELECTRÓNICO",{"$f":"IFERROR(WORKDAY(C1092,P1092,DiasNOLaborables),\"\")","v":"2021-12-07"},{"$f":"+IF(C1092=\"\",\"\",IF(H1092=\"\",\"SIN RESPUESTA\",(IF(H1092<=J1092,\"A TIEMPO\",\"FUERA DE TIEMPO\"))))","v":"A TIEMPO"},{"$f":"IF(H1092=\"\",\"\",NETWORKDAYS(C1092+1,H1092,DiasNOLaborables))","v":-6},{"$f":"IF(NETWORKDAYS(J1092+1,H1092,DiasNOLaborables)<=0,\"\",NETWORKDAYS(J1092+1,H1092,DiasNOLaborables))","v":""},null,null,{"$f":"IFERROR(VLOOKUP(E1092,$X$51:$Y$64,2),\"\")","v":20}]
[1082,20219050129152,"2021-11-09","MODULO CONTACTENOS","SOLICITUD DE INFORMACIÓN Y DOCUMENTOS","SOLICITUD DE INFORMACIÓN HIDROMETEOROLÓGICA","GRUPO DE SERVICIO AL CIUDADANO ","2021-11-02","CORREO ELECTRÓNICO",{"$f":"IFERROR(WORKDAY(C1093,P1093,DiasNOLaborables),\"\")","v":"2021-12-09"},{"$f":"+IF(C1093=\"\",\"\",IF(H1093=\"\",\"SIN RESPUESTA\",(IF(H1093<=J1093,\"A TIEMPO\",\"FUERA DE TIEMPO\"))))","v":"A TIEMPO"},{"$f":"IF(H1093=\"\",\"\",NETWORKDAYS(C1093+1,H1093,DiasNOLaborables))","v":-7},{"$f":"IF(NETWORKDAYS(J1093+1,H1093,DiasNOLaborables)<=0,\"\",NETWORKDAYS(J1093+1,H1093,DiasNOLaborables))","v":""},null,null,{"$f":"IFERROR(VLOOKUP(E1093,$X$51:$Y$64,2),\"\")","v":20}]
[1083,20219050129182,"2021-11-09","MODULO CONTACTENOS","SOLICITUD DE INFORMACIÓN Y DOCUMENTOS","SOLICITUD DE INFORMACIÓN HIDROMETEOROLÓGICA","GRUPO DE SERVICIO AL CIUDADANO ","2021-11-02","CORREO ELECTRÓNICO",{"$f":"IFERROR(WORKDAY(C1094,P1094,DiasNOLaborables),\"\")","v":"2021-12-09"},{"$f":"+IF(C1094=\"\",\"\",IF(H1094=\"\",\"SIN RESPUESTA\",(IF(H1094<=J1094,\"A TIEMPO\",\"FUERA DE TIEMPO\"))))","v":"A TIEMPO"},{"$f":"IF(H1094=\"\",\"\",NETWORKDAYS(C1094+1,H1094,DiasNOLaborables))","v":-7},{"$f":"IF(NETWORKDAYS(J1094+1,H1094,DiasNOLaborables)<=0,\"\",NETWORKDAYS(J1094+1,H1094,DiasNOLaborables))","v":""},null,null,{"$f":"IFERROR(VLOOKUP(E1094,$X$51:$Y$64,2),\"\")","v":20}]
[1084,20219050129272,"2021-11-09","MODULO CONTACTENOS","SOLICITUD DE INFORMACIÓN Y DOCUMENTOS","SOLICITUD DE INFORMACIÓN HIDROMETEOROLÓGICA","GRUPO DE SERVICIO AL CIUDADANO ","2021-11-02","CORREO ELECTRÓNICO",{"$f":"IFERROR(WORKDAY(C1095,P1095,DiasNOLaborables),\"\")","v":"2021-12-09"},{"$f":"+IF(C1095=\"\",\"\",IF(H1095=\"\",\"SIN RESPUESTA\",(IF(H1095<=J1095,\"A TIEMPO\",\"FUERA DE TIEMPO\"))))","v":"A TIEMPO"},{"$f":"IF(H1095=\"\",\"\",NETWORKDAYS(C1095+1,H1095,DiasNOLaborables))","v":-7},{"$f":"IF(NETWORKDAYS(J1095+1,H1095,DiasNOLaborables)<=0,\"\",NETWORKDAYS(J1095+1,H1095,DiasNOLaborables))","v":""},null,null,{"$f":"IFERROR(VLOOKUP(E1095,$X$51:$Y$64,2),\"\")","v":20}]
[1085,20219050129302,"2021-11-09","MODULO CONTACTENOS","SOLICITUD DE INFORMACIÓN Y DOCUMENTOS","SOLICITUD DE INFORMACIÓN HIDROMETEOROLÓGICA","GRUPO DE SERVICIO AL CIUDADANO ","2021-11-02","CORREO ELECTRÓNICO",{"$f":"IFERROR(WORKDAY(C1096,P1096,DiasNOLaborables),\"\")","v":"2021-12-09"},{"$f":"+IF(C1096=\"\",\"\",IF(H1096=\"\",\"SIN RESPUESTA\",(IF(H1096<=J1096,\"A TIEMPO\",\"FUERA DE TIEMPO\"))))","v":"A TIEMPO"},{"$f":"IF(H1096=\"\",\"\",NETWORKDAYS(C1096+1,H1096,DiasNOLaborables))","v":-7},{"$f":"IF(NETWORKDAYS(J1096+1,H1096,DiasNOLaborables)<=0,\"\",NETWORKDAYS(J1096+1,H1096,DiasNOLaborables))","v":""},null,null,{"$f":"IFERROR(VLOOKUP(E1096,$X$51:$Y$64,2),\"\")","v":20}]
[1086,20219050129452,"2021-11-09","MODULO CONTACTENOS","SOLICITUD DE INFORMACIÓN Y DOCUMENTOS","SOLICITUD DE INFORMACIÓN HIDROMETEOROLÓGICA","GRUPO DE SERVICIO AL CIUDADANO ","2021-11-02","CORREO ELECTRÓNICO",{"$f":"IFERROR(WORKDAY(C1097,P1097,DiasNOLaborables),\"\")","v":"2021-12-09"},{"$f":"+IF(C1097=\"\",\"\",IF(H1097=\"\",\"SIN RESPUESTA\",(IF(H1097<=J1097,\"A TIEMPO\",\"FUERA DE TIEMPO\"))))","v":"A TIEMPO"},{"$f":"IF(H1097=\"\",\"\",NETWORKDAYS(C1097+1,H1097,DiasNOLaborables))","v":-7},{"$f":"IF(NETWORKDAYS(J1097+1,H1097,DiasNOLaborables)<=0,\"\",NETWORKDAYS(J1097+1,H1097,DiasNOLaborables))","v":""},null,null,{"$f":"IFERROR(VLOOKUP(E1097,$X$51:$Y$64,2),\"\")","v":20}]
[1087,20219050129462,"2021-11-09","MODULO CONTACTENOS","SOLICITUD DE INFORMACIÓN Y DOCUMENTOS","SOLICITUD DE INFORMACIÓN HIDROMETEOROLÓGICA","GRUPO DE SERVICIO AL CIUDADANO ","2021-11-02","CORREO ELECTRÓNICO",{"$f":"IFERROR(WORKDAY(C1098,P1098,DiasNOLaborables),\"\")","v":"2021-12-09"},{"$f":"+IF(C1098=\"\",\"\",IF(H1098=\"\",\"SIN RESPUESTA\",(IF(H1098<=J1098,\"A TIEMPO\",\"FUERA DE TIEMPO\"))))","v":"A TIEMPO"},{"$f":"IF(H1098=\"\",\"\",NETWORKDAYS(C1098+1,H1098,DiasNOLaborables))","v":-7},{"$f":"IF(NETWORKDAYS(J1098+1,H1098,DiasNOLaborables)<=0,\"\",NETWORKDAYS(J1098+1,H1098,DiasNOLaborables))","v":""},null,null,{"$f":"IFERROR(VLOOKUP(E1098,$X$51:$Y$64,2),\"\")","v":20}]
[1088,20219050129522,"2021-11-09","MODULO CONTACTENOS","SOLICITUD DE INFORMACIÓN Y DOCUMENTOS","SOLICITUD DE INFORMACIÓN HIDROMETEOROLÓGICA","GRUPO DE SERVICIO AL CIUDADANO ","2021-11-02","CORREO ELECTRÓNICO",{"$f":"IFERROR(WORKDAY(C1099,P1099,DiasNOLaborables),\"\")","v":"2021-12-09"},{"$f":"+IF(C1099=\"\",\"\",IF(H1099=\"\",\"SIN RESPUESTA\",(IF(H1099<=J1099,\"A TIEMPO\",\"FUERA DE TIEMPO\"))))","v":"A TIEMPO"},{"$f":"IF(H1099=\"\",\"\",NETWORKDAYS(C1099+1,H1099,DiasNOLaborables))","v":-7},{"$f":"IF(NETWORKDAYS(J1099+1,H1099,DiasNOLaborables)<=0,\"\",NETWORKDAYS(J1099+1,H1099,DiasNOLaborables))","v":""},null,null,{"$f":"IFERROR(VLOOKUP(E1099,$X$51:$Y$64,2),\"\")","v":20}]
[1089,20219050129632,"2021-11-09","MODULO CONTACTENOS","SOLICITUD DE INFORMACIÓN Y DOCUMENTOS","SOLICITUD DE INFORMACIÓN HIDROMETEOROLÓGICA","GRUPO DE SERVICIO AL CIUDADANO ","2021-11-24","CORREO ELECTRÓNICO",{"$f":"IFERROR(WORKDAY(C1100,P1100,DiasNOLaborables),\"\")","v":"2021-12-09"},{"$f":"+IF(C1100=\"\",\"\",IF(H1100=\"\",\"SIN RESPUESTA\",(IF(H1100<=J1100,\"A TIEMPO\",\"FUERA DE TIEMPO\"))))","v":"A TIEMPO"},{"$f":"IF(H1100=\"\",\"\",NETWORKDAYS(C1100+1,H1100,DiasNOLaborables))","v":10},{"$f":"IF(NETWORKDAYS(J1100+1,H1100,DiasNOLaborables)<=0,\"\",NETWORKDAYS(J1100+1,H1100,DiasNOLaborables))","v":""},null,null,{"$f":"IFERROR(VLOOKUP(E1100,$X$51:$Y$64,2),\"\")","v":20}]
[1090,20219050129642,"2021-11-09","MODULO CONTACTENOS","SOLICITUD DE INFORMACIÓN Y DOCUMENTOS","SOLICITUD DE INFORMACIÓN HIDROMETEOROLÓGICA","GRUPO DE SERVICIO AL CIUDADANO ","2021-11-24","CORREO ELECTRÓNICO",{"$f":"IFERROR(WORKDAY(C1101,P1101,DiasNOLaborables),\"\")","v":"2021-12-09"},{"$f":"+IF(C1101=\"\",\"\",IF(H1101=\"\",\"SIN RESPUESTA\",(IF(H1101<=J1101,\"A TIEMPO\",\"FUERA DE TIEMPO\"))))","v":"A TIEMPO"},{"$f":"IF(H1101=\"\",\"\",NETWORKDAYS(C1101+1,H1101,DiasNOLaborables))","v":10},{"$f":"IF(NETWORKDAYS(J1101+1,H1101,DiasNOLaborables)<=0,\"\",NETWORKDAYS(J1101+1,H1101,DiasNOLaborables))","v":""},null,null,{"$f":"IFERROR(VLOOKUP(E1101,$X$51:$Y$64,2),\"\")","v":20}]
[{"$f":"IF(B1102<>\"\",A1101+1,\"\")","v":1091},20219050129652,"2021-11-09","MODULO CONTACTENOS","SOLICITUD DE INFORMACIÓN Y DOCUMENTOS","SOLICITUD DE INFORMACIÓN HIDROMETEOROLÓGICA","GRUPO DE SERVICIO AL CIUDADANO ","2021-11-24","CORREO ELECTRÓNICO",{"$f":"IFERROR(WORKDAY(C1102,P1102,DiasNOLaborables),\"\")","v":"2021-12-09"},{"$f":"+IF(C1102=\"\",\"\",IF(H1102=\"\",\"SIN RESPUESTA\",(IF(H1102<=J1102,\"A TIEMPO\",\"FUERA DE TIEMPO\"))))","v":"A TIEMPO"},{"$f":"IF(H1102=\"\",\"\",NETWORKDAYS(C1102+1,H1102,DiasNOLaborables))","v":10},{"$f":"IF(NETWORKDAYS(J1102+1,H1102,DiasNOLaborables)<=0,\"\",NETWORKDAYS(J1102+1,H1102,DiasNOLaborables))","v":""},null,null,{"$f":"IFERROR(VLOOKUP(E1102,$X$51:$Y$64,2),\"\")","v":20}]
[1092,20219050129662,"2021-11-09","MODULO CONTACTENOS","SOLICITUD DE INFORMACIÓN Y DOCUMENTOS","SOLICITUD DE INFORMACIÓN HIDROMETEOROLÓGICA","GRUPO DE SERVICIO AL CIUDADANO ","2021-11-24","CORREO ELECTRÓNICO",{"$f":"IFERROR(WORKDAY(C1103,P1103,DiasNOLaborables),\"\")","v":"2021-12-09"},{"$f":"+IF(C1103=\"\",\"\",IF(H1103=\"\",\"SIN RESPUESTA\",(IF(H1103<=J1103,\"A TIEMPO\",\"FUERA DE TIEMPO\"))))","v":"A TIEMPO"},{"$f":"IF(H1103=\"\",\"\",NETWORKDAYS(C1103+1,H1103,DiasNOLaborables))","v":10},{"$f":"IF(NETWORKDAYS(J1103+1,H1103,DiasNOLaborables)<=0,\"\",NETWORKDAYS(J1103+1,H1103,DiasNOLaborables))","v":""},null,null,{"$f":"IFERROR(VLOOKUP(E1103,$X$51:$Y$64,2),\"\")","v":20}]
[1093,20219050129672,"2021-11-09","MODULO CONTACTENOS","SOLICITUD DE INFORMACIÓN Y DOCUMENTOS","SOLICITUD DE INFORMACIÓN HIDROMETEOROLÓGICA","GRUPO DE SERVICIO AL CIUDADANO ","2021-11-24","CORREO ELECTRÓNICO",{"$f":"IFERROR(WORKDAY(C1104,P1104,DiasNOLaborables),\"\")","v":"2021-12-09"},{"$f":"+IF(C1104=\"\",\"\",IF(H1104=\"\",\"SIN RESPUESTA\",(IF(H1104<=J1104,\"A TIEMPO\",\"FUERA DE TIEMPO\"))))","v":"A TIEMPO"},{"$f":"IF(H1104=\"\",\"\",NETWORKDAYS(C1104+1,H1104,DiasNOLaborables))","v":10},{"$f":"IF(NETWORKDAYS(J1104+1,H1104,DiasNOLaborables)<=0,\"\",NETWORKDAYS(J1104+1,H1104,DiasNOLaborables))","v":""},null,null,{"$f":"IFERROR(VLOOKUP(E1104,$X$51:$Y$64,2),\"\")","v":20}]
[1094,20219050129682,"2021-11-09","MODULO CONTACTENOS","SOLICITUD DE INFORMACIÓN Y DOCUMENTOS","SOLICITUD DE INFORMACIÓN HIDROMETEOROLÓGICA","GRUPO DE SERVICIO AL CIUDADANO ","2021-11-24","CORREO ELECTRÓNICO",{"$f":"IFERROR(WORKDAY(C1105,P1105,DiasNOLaborables),\"\")","v":"2021-12-09"},{"$f":"+IF(C1105=\"\",\"\",IF(H1105=\"\",\"SIN RESPUESTA\",(IF(H1105<=J1105,\"A TIEMPO\",\"FUERA DE TIEMPO\"))))","v":"A TIEMPO"},{"$f":"IF(H1105=\"\",\"\",NETWORKDAYS(C1105+1,H1105,DiasNOLaborables))","v":10},{"$f":"IF(NETWORKDAYS(J1105+1,H1105,DiasNOLaborables)<=0,\"\",NETWORKDAYS(J1105+1,H1105,DiasNOLaborables))","v":""},null,null,{"$f":"IFERROR(VLOOKUP(E1105,$X$51:$Y$64,2),\"\")","v":20}]
[1095,20219050129692,"2021-11-09","MODULO CONTACTENOS","SOLICITUD DE INFORMACIÓN Y DOCUMENTOS","SOLICITUD DE INFORMACIÓN HIDROMETEOROLÓGICA","GRUPO DE SERVICIO AL CIUDADANO ","2021-11-24","CORREO ELECTRÓNICO",{"$f":"IFERROR(WORKDAY(C1106,P1106,DiasNOLaborables),\"\")","v":"2021-12-09"},{"$f":"+IF(C1106=\"\",\"\",IF(H1106=\"\",\"SIN RESPUESTA\",(IF(H1106<=J1106,\"A TIEMPO\",\"FUERA DE TIEMPO\"))))","v":"A TIEMPO"},{"$f":"IF(H1106=\"\",\"\",NETWORKDAYS(C1106+1,H1106,DiasNOLaborables))","v":10},{"$f":"IF(NETWORKDAYS(J1106+1,H1106,DiasNOLaborables)<=0,\"\",NETWORKDAYS(J1106+1,H1106,DiasNOLaborables))","v":""},null,null,{"$f":"IFERROR(VLOOKUP(E1106,$X$51:$Y$64,2),\"\")","v":20}]
[1096,20219910061612,"2021-11-09","CORREO ELECTRÓNICO","SOLICITUD DE INFORMACIÓN Y DOCUMENTOS","SIRH","SUBDIRECCIÓN DE HIDROLOGÍA","2021-11-22","CORREO ELECTRÓNICO",{"$f":"IFERROR(WORKDAY(C1107,P1107,DiasNOLaborables),\"\")","v":"2021-12-09"},{"$f":"+IF(C1107=\"\",\"\",IF(H1107=\"\",\"SIN RESPUESTA\",(IF(H1107<=J1107,\"A TIEMPO\",\"FUERA DE TIEMPO\"))))","v":"A TIEMPO"},{"$f":"IF(H1107=\"\",\"\",NETWORKDAYS(C1107+1,H1107,DiasNOLaborables))","v":8},{"$f":"IF(NETWORKDAYS(J1107+1,H1107,DiasNOLaborables)<=0,\"\",NETWORKDAYS(J1107+1,H1107,DiasNOLaborables))","v":""},null,null,{"$f":"IFERROR(VLOOKUP(E1107,$X$51:$Y$64,2),\"\")","v":20}]
[1097,20219050129242,"2021-11-09","CORREO ELECTRÓNICO","SOLICITUD DE INFORMACIÓN Y DOCUMENTOS","SOLICITUD DE INFORMACIÓN HIDROMETEOROLÓGICA","GRUPO DE SERVICIO AL CIUDADANO ","2021-11-11","CORREO ELECTRÓNICO",{"$f":"IFERROR(WORKDAY(C1108,P1108,DiasNOLaborables),\"\")","v":"2021-12-09"},{"$f":"+IF(C1108=\"\",\"\",IF(H1108=\"\",\"SIN RESPUESTA\",(IF(H1108<=J1108,\"A TIEMPO\",\"FUERA DE TIEMPO\"))))","v":"A TIEMPO"},{"$f":"IF(H1108=\"\",\"\",NETWORKDAYS(C1108+1,H1108,DiasNOLaborables))","v":2},{"$f":"IF(NETWORKDAYS(J1108+1,H1108,DiasNOLaborables)<=0,\"\",NETWORKDAYS(J1108+1,H1108,DiasNOLaborables))","v":""},null,null,{"$f":"IFERROR(VLOOKUP(E1108,$X$51:$Y$64,2),\"\")","v":20}]
[1098,20219050129262,"2021-11-09","CORREO ELECTRÓNICO","SOLICITUD DE INFORMACIÓN Y DOCUMENTOS","SOLICITUD DE INFORMACIÓN HIDROMETEOROLÓGICA","GRUPO DE SERVICIO AL CIUDADANO ","2021-11-11","CORREO ELECTRÓNICO",{"$f":"IFERROR(WORKDAY(C1109,P1109,DiasNOLaborables),\"\")","v":"2021-12-09"},{"$f":"+IF(C1109=\"\",\"\",IF(H1109=\"\",\"SIN RESPUESTA\",(IF(H1109<=J1109,\"A TIEMPO\",\"FUERA DE TIEMPO\"))))","v":"A TIEMPO"},{"$f":"IF(H1109=\"\",\"\",NETWORKDAYS(C1109+1,H1109,DiasNOLaborables))","v":2},{"$f":"IF(NETWORKDAYS(J1109+1,H1109,DiasNOLaborables)<=0,\"\",NETWORKDAYS(J1109+1,H1109,DiasNOLaborables))","v":""},null,null,{"$f":"IFERROR(VLOOKUP(E1109,$X$51:$Y$64,2),\"\")","v":20}]
[1099,20219050129342,"2021-11-09","CORREO ELECTRÓNICO","SOLICITUD DE INFORMACIÓN Y DOCUMENTOS","SOLICITUD DE INFORMACIÓN HIDROMETEOROLÓGICA","GRUPO DE SERVICIO AL CIUDADANO ","2021-11-12","CORREO ELECTRÓNICO",{"$f":"IFERROR(WORKDAY(C1110,P1110,DiasNOLaborables),\"\")","v":"2021-12-09"},{"$f":"+IF(C1110=\"\",\"\",IF(H1110=\"\",\"SIN RESPUESTA\",(IF(H1110<=J1110,\"A TIEMPO\",\"FUERA DE TIEMPO\"))))","v":"A TIEMPO"},{"$f":"IF(H1110=\"\",\"\",NETWORKDAYS(C1110+1,H1110,DiasNOLaborables))","v":3},{"$f":"IF(NETWORKDAYS(J1110+1,H1110,DiasNOLaborables)<=0,\"\",NETWORKDAYS(J1110+1,H1110,DiasNOLaborables))","v":""},null,null,{"$f":"IFERROR(VLOOKUP(E1110,$X$51:$Y$64,2),\"\")","v":20}]
[1100,20219050129352,"2021-11-09","CORREO ELECTRÓNICO","SOLICITUD DE INFORMACIÓN Y DOCUMENTOS","SOLICITUD DE INFORMACIÓN HIDROMETEOROLÓGICA","GRUPO DE SERVICIO AL CIUDADANO ","2021-11-12","CORREO ELECTRÓNICO",{"$f":"IFERROR(WORKDAY(C1111,P1111,DiasNOLaborables),\"\")","v":"2021-12-09"},{"$f":"+IF(C1111=\"\",\"\",IF(H1111=\"\",\"SIN RESPUESTA\",(IF(H1111<=J1111,\"A TIEMPO\",\"FUERA DE TIEMPO\"))))","v":"A TIEMPO"},{"$f":"IF(H1111=\"\",\"\",NETWORKDAYS(C1111+1,H1111,DiasNOLaborables))","v":3},{"$f":"IF(NETWORKDAYS(J1111+1,H1111,DiasNOLaborables)<=0,\"\",NETWORKDAYS(J1111+1,H1111,DiasNOLaborables))","v":""},null,null,{"$f":"IFERROR(VLOOKUP(E1111,$X$51:$Y$64,2),\"\")","v":20}]
[1101,20219050129362,"2021-11-09","CORREO ELECTRÓNICO","SOLICITUD DE INFORMACIÓN Y DOCUMENTOS","SOLICITUD DE INFORMACIÓN HIDROMETEOROLÓGICA","GRUPO DE SERVICIO AL CIUDADANO ","2021-11-12","CORREO ELECTRÓNICO",{"$f":"IFERROR(WORKDAY(C1112,P1112,DiasNOLaborables),\"\")","v":"2021-12-09"},{"$f":"+IF(C1112=\"\",\"\",IF(H1112=\"\",\"SIN RESPUESTA\",(IF(H1112<=J1112,\"A TIEMPO\",\"FUERA DE TIEMPO\"))))","v":"A TIEMPO"},{"$f":"IF(H1112=\"\",\"\",NETWORKDAYS(C1112+1,H1112,DiasNOLaborables))","v":3},{"$f":"IF(NETWORKDAYS(J1112+1,H1112,DiasNOLaborables)<=0,\"\",NETWORKDAYS(J1112+1,H1112,DiasNOLaborables))","v":""},null,null,{"$f":"IFERROR(VLOOKUP(E1112,$X$51:$Y$64,2),\"\")","v":20}]
[1102,20219050129562,"2021-11-09","MODULO CONTACTENOS","SOLICITUD DE INFORMACIÓN Y DOCUMENTOS","SOLICITUD DE INFORMACIÓN HIDROMETEOROLÓGICA","GRUPO DE SERVICIO AL CIUDADANO ","2021-11-12","CORREO ELECTRÓNICO",{"$f":"IFERROR(WORKDAY(C1113,P1113,DiasNOLaborables),\"\")","v":"2021-12-09"},{"$f":"+IF(C1113=\"\",\"\",IF(H1113=\"\",\"SIN RESPUESTA\",(IF(H1113<=J1113,\"A TIEMPO\",\"FUERA DE TIEMPO\"))))","v":"A TIEMPO"},{"$f":"IF(H1113=\"\",\"\",NETWORKDAYS(C1113+1,H1113,DiasNOLaborables))","v":3},{"$f":"IF(NETWORKDAYS(J1113+1,H1113,DiasNOLaborables)<=0,\"\",NETWORKDAYS(J1113+1,H1113,DiasNOLaborables))","v":""},null,null,{"$f":"IFERROR(VLOOKUP(E1113,$X$51:$Y$64,2),\"\")","v":20}]
[1103,20219050129572,"2021-11-09","MODULO CONTACTENOS","SOLICITUD DE INFORMACIÓN Y DOCUMENTOS","SOLICITUD DE INFORMACIÓN HIDROMETEOROLÓGICA","GRUPO DE SERVICIO AL CIUDADANO ","2021-11-12","CORREO ELECTRÓNICO",{"$f":"IFERROR(WORKDAY(C1114,P1114,DiasNOLaborables),\"\")","v":"2021-12-09"},{"$f":"+IF(C1114=\"\",\"\",IF(H1114=\"\",\"SIN RESPUESTA\",(IF(H1114<=J1114,\"A TIEMPO\",\"FUERA DE TIEMPO\"))))","v":"A TIEMPO"},{"$f":"IF(H1114=\"\",\"\",NETWORKDAYS(C1114+1,H1114,DiasNOLaborables))","v":3},{"$f":"IF(NETWORKDAYS(J1114+1,H1114,DiasNOLaborables)<=0,\"\",NETWORKDAYS(J1114+1,H1114,DiasNOLaborables))","v":""},null,null,{"$f":"IFERROR(VLOOKUP(E1114,$X$51:$Y$64,2),\"\")","v":20}]
[1104,20219050129582,"2021-11-09","MODULO CONTACTENOS","SOLICITUD DE INFORMACIÓN Y DOCUMENTOS","SOLICITUD DE INFORMACIÓN HIDROMETEOROLÓGICA","GRUPO DE SERVICIO AL CIUDADANO ","2021-11-12","CORREO ELECTRÓNICO",{"$f":"IFERROR(WORKDAY(C1115,P1115,DiasNOLaborables),\"\")","v":"2021-12-09"},{"$f":"+IF(C1115=\"\",\"\",IF(H1115=\"\",\"SIN RESPUESTA\",(IF(H1115<=J1115,\"A TIEMPO\",\"FUERA DE TIEMPO\"))))","v":"A TIEMPO"},{"$f":"IF(H1115=\"\",\"\",NETWORKDAYS(C1115+1,H1115,DiasNOLaborables))","v":3},{"$f":"IF(NETWORKDAYS(J1115+1,H1115,DiasNOLaborables)<=0,\"\",NETWORKDAYS(J1115+1,H1115,DiasNOLaborables))","v":""},null,null,{"$f":"IFERROR(VLOOKUP(E1115,$X$51:$Y$64,2),\"\")","v":20}]
[1105,20219050129592,"2021-11-09","MODULO CONTACTENOS","SOLICITUD DE INFORMACIÓN Y DOCUMENTOS","SOLICITUD DE INFORMACIÓN HIDROMETEOROLÓGICA","GRUPO DE SERVICIO AL CIUDADANO ","2021-11-12","CORREO ELECTRÓNICO",{"$f":"IFERROR(WORKDAY(C1116,P1116,DiasNOLaborables),\"\")","v":"2021-12-09"},{"$f":"+IF(C1116=\"\",\"\",IF(H1116=\"\",\"SIN RESPUESTA\",(IF(H1116<=J1116,\"A TIEMPO\",\"FUERA DE TIEMPO\"))))","v":"A TIEMPO"},{"$f":"IF(H1116=\"\",\"\",NETWORKDAYS(C1116+1,H1116,DiasNOLaborables))","v":3},{"$f":"IF(NETWORKDAYS(J1116+1,H1116,DiasNOLaborables)<=0,\"\",NETWORKDAYS(J1116+1,H1116,DiasNOLaborables))","v":""},null,null,{"$f":"IFERROR(VLOOKUP(E1116,$X$51:$Y$64,2),\"\")","v":20}]
[1106,20219050129612,"2021-11-09","MODULO CONTACTENOS","SOLICITUD DE INFORMACIÓN Y DOCUMENTOS","SOLICITUD DE INFORMACIÓN HIDROMETEOROLÓGICA","GRUPO DE SERVICIO AL CIUDADANO ","2021-11-12","CORREO ELECTRÓNICO",{"$f":"IFERROR(WORKDAY(C1117,P1117,DiasNOLaborables),\"\")","v":"2021-12-09"},{"$f":"+IF(C1117=\"\",\"\",IF(H1117=\"\",\"SIN RESPUESTA\",(IF(H1117<=J1117,\"A TIEMPO\",\"FUERA DE TIEMPO\"))))","v":"A TIEMPO"},{"$f":"IF(H1117=\"\",\"\",NETWORKDAYS(C1117+1,H1117,DiasNOLaborables))","v":3},{"$f":"IF(NETWORKDAYS(J1117+1,H1117,DiasNOLaborables)<=0,\"\",NETWORKDAYS(J1117+1,H1117,DiasNOLaborables))","v":""},null,null,{"$f":"IFERROR(VLOOKUP(E1117,$X$51:$Y$64,2),\"\")","v":20}]
[1107,20219050129602,"2021-11-09","MODULO CONTACTENOS","SOLICITUD DE INFORMACIÓN Y DOCUMENTOS","SOLICITUD DE INFORMACIÓN HIDROMETEOROLÓGICA","GRUPO DE SERVICIO AL CIUDADANO ","2021-11-12","CORREO ELECTRÓNICO",{"$f":"IFERROR(WORKDAY(C1118,P1118,DiasNOLaborables),\"\")","v":"2021-12-09"},{"$f":"+IF(C1118=\"\",\"\",IF(H1118=\"\",\"SIN RESPUESTA\",(IF(H1118<=J1118,\"A TIEMPO\",\"FUERA DE TIEMPO\"))))","v":"A TIEMPO"},{"$f":"IF(H1118=\"\",\"\",NETWORKDAYS(C1118+1,H1118,DiasNOLaborables))","v":3},{"$f":"IF(NETWORKDAYS(J1118+1,H1118,DiasNOLaborables)<=0,\"\",NETWORKDAYS(J1118+1,H1118,DiasNOLaborables))","v":""},null,null,{"$f":"IFERROR(VLOOKUP(E1118,$X$51:$Y$64,2),\"\")","v":20}]
[1108,20219050129622,"2021-11-09","MODULO CONTACTENOS","SOLICITUD DE INFORMACIÓN Y DOCUMENTOS","SOLICITUD DE INFORMACIÓN HIDROMETEOROLÓGICA","GRUPO DE SERVICIO AL CIUDADANO ","2021-11-12","CORREO ELECTRÓNICO",{"$f":"IFERROR(WORKDAY(C1119,P1119,DiasNOLaborables),\"\")","v":"2021-12-09"},{"$f":"+IF(C1119=\"\",\"\",IF(H1119=\"\",\"SIN RESPUESTA\",(IF(H1119<=J1119,\"A TIEMPO\",\"FUERA DE TIEMPO\"))))","v":"A TIEMPO"},{"$f":"IF(H1119=\"\",\"\",NETWORKDAYS(C1119+1,H1119,DiasNOLaborables))","v":3},{"$f":"IF(NETWORKDAYS(J1119+1,H1119,DiasNOLaborables)<=0,\"\",NETWORKDAYS(J1119+1,H1119,DiasNOLaborables))","v":""},null,null,{"$f":"IFERROR(VLOOKUP(E1119,$X$51:$Y$64,2),\"\")","v":20}]
[1109,20219050129232,"2021-11-09","CORREO ELECTRÓNICO","CERTIFICACIONES DE TIEMPO, CLIMA Y EVENTOS HIDROLÓGICOS","CERTIFICACIONES DE TIEMPO Y CLIMA","SUBDIRECCIÓN DE METEOROLOGÍA","2021-12-13","CORREO ELECTRÓNICO",{"$f":"IFERROR(WORKDAY(C1120,P1120,DiasNOLaborables),\"\")","v":"2021-12-30"},{"$f":"+IF(C1120=\"\",\"\",IF(H1120=\"\",\"SIN RESPUESTA\",(IF(H1120<=J1120,\"A TIEMPO\",\"FUERA DE TIEMPO\"))))","v":"A TIEMPO"},{"$f":"IF(H1120=\"\",\"\",NETWORKDAYS(C1120+1,H1120,DiasNOLaborables))","v":22},{"$f":"IF(NETWORKDAYS(J1120+1,H1120,DiasNOLaborables)<=0,\"\",NETWORKDAYS(J1120+1,H1120,DiasNOLaborables))","v":""},null,null,{"$f":"IFERROR(VLOOKUP(E1120,$X$51:$Y$64,2),\"\")","v":35}]
[1110,20219050129252,"2021-11-09","CORREO ELECTRÓNICO","SOLICITUD DE INFORMACIÓN Y DOCUMENTOS","ADMINISTRATIVA","GRUPO DE ADMINISTRACIÓN Y DESARROLLO DEL TALENTO HUMANO","2021-11-09","CORREO ELECTRÓNICO",{"$f":"IFERROR(WORKDAY(C1121,P1121,DiasNOLaborables),\"\")","v":"2021-12-09"},{"$f":"+IF(C1121=\"\",\"\",IF(H1121=\"\",\"SIN RESPUESTA\",(IF(H1121<=J1121,\"A TIEMPO\",\"FUERA DE TIEMPO\"))))","v":"A TIEMPO"},{"$f":"IF(H1121=\"\",\"\",NETWORKDAYS(C1121+1,H1121,DiasNOLaborables))","v":-2},{"$f":"IF(NETWORKDAYS(J1121+1,H1121,DiasNOLaborables)<=0,\"\",NETWORKDAYS(J1121+1,H1121,DiasNOLaborables))","v":""},null,null,{"$f":"IFERROR(VLOOKUP(E1121,$X$51:$Y$64,2),\"\")","v":20}]
[1111,20219050129312,"2021-11-09","CORREO ELECTRÓNICO","SOLICITUD DE INFORMACIÓN Y DOCUMENTOS","ADMINISTRATIVA","GRUPO DE ADMINISTRACIÓN Y DESARROLLO DEL TALENTO HUMANO","2021-11-17","CORREO ELECTRÓNICO",{"$f":"IFERROR(WORKDAY(C1122,P1122,DiasNOLaborables),\"\")","v":"2021-12-09"},{"$f":"+IF(C1122=\"\",\"\",IF(H1122=\"\",\"SIN RESPUESTA\",(IF(H1122<=J1122,\"A TIEMPO\",\"FUERA DE TIEMPO\"))))","v":"A TIEMPO"},{"$f":"IF(H1122=\"\",\"\",NETWORKDAYS(C1122+1,H1122,DiasNOLaborables))","v":5},{"$f":"IF(NETWORKDAYS(J1122+1,H1122,DiasNOLaborables)<=0,\"\",NETWORKDAYS(J1122+1,H1122,DiasNOLaborables))","v":""},null,null,{"$f":"IFERROR(VLOOKUP(E1122,$X$51:$Y$64,2),\"\")","v":20}]
[1112,20219050129322,"2021-11-09","CORREO ELECTRÓNICO","SOLICITUD DE INFORMACIÓN Y DOCUMENTOS","INFORMES AMBIENTALES","SUBDIRECCIÓN DE ESTUDIOS AMBIENTALES","2021-11-17","CORREO ELECTRÓNICO",{"$f":"IFERROR(WORKDAY(C1123,P1123,DiasNOLaborables),\"\")","v":"2021-12-09"},{"$f":"+IF(C1123=\"\",\"\",IF(H1123=\"\",\"SIN RESPUESTA\",(IF(H1123<=J1123,\"A TIEMPO\",\"FUERA DE TIEMPO\"))))","v":"A TIEMPO"},{"$f":"IF(H1123=\"\",\"\",NETWORKDAYS(C1123+1,H1123,DiasNOLaborables))","v":5},{"$f":"IF(NETWORKDAYS(J1123+1,H1123,DiasNOLaborables)<=0,\"\",NETWORKDAYS(J1123+1,H1123,DiasNOLaborables))","v":""},null,null,{"$f":"IFERROR(VLOOKUP(E1123,$X$51:$Y$64,2),\"\")","v":20}]
[1113,20219050129332,"2021-11-09","CORREO ELECTRÓNICO","SOLICITUD DE INFORMACIÓN Y DOCUMENTOS","REGISTROS AMBIENTALES","SUBDIRECCIÓN DE ESTUDIOS AMBIENTALES","2021-11-17","CORREO ELECTRÓNICO",{"$f":"IFERROR(WORKDAY(C1124,P1124,DiasNOLaborables),\"\")","v":"2021-12-09"},{"$f":"+IF(C1124=\"\",\"\",IF(H1124=\"\",\"SIN RESPUESTA\",(IF(H1124<=J1124,\"A TIEMPO\",\"FUERA DE TIEMPO\"))))","v":"A TIEMPO"},{"$f":"IF(H1124=\"\",\"\",NETWORKDAYS(C1124+1,H1124,DiasNOLaborables))","v":5},{"$f":"IF(NETWORKDAYS(J1124+1,H1124,DiasNOLaborables)<=0,\"\",NETWORKDAYS(J1124+1,H1124,DiasNOLaborables))","v":""},null,null,{"$f":"IFERROR(VLOOKUP(E1124,$X$51:$Y$64,2),\"\")","v":20}]
[1114,20219050129382,"2021-11-09","CORREO ELECTRÓNICO","SOLICITUD DE INFORMACIÓN Y DOCUMENTOS","INFORMES AMBIENTALES","SUBDIRECCIÓN DE ESTUDIOS AMBIENTALES","2021-12-07","CORREO ELECTRÓNICO",{"$f":"IFERROR(WORKDAY(C1125,P1125,DiasNOLaborables),\"\")","v":"2021-12-09"},{"$f":"+IF(C1125=\"\",\"\",IF(H1125=\"\",\"SIN RESPUESTA\",(IF(H1125<=J1125,\"A TIEMPO\",\"FUERA DE TIEMPO\"))))","v":"A TIEMPO"},{"$f":"IF(H1125=\"\",\"\",NETWORKDAYS(C1125+1,H1125,DiasNOLaborables))","v":19},{"$f":"IF(NETWORKDAYS(J1125+1,H1125,DiasNOLaborables)<=0,\"\",NETWORKDAYS(J1125+1,H1125,DiasNOLaborables))","v":""},null,null,{"$f":"IFERROR(VLOOKUP(E1125,$X$51:$Y$64,2),\"\")","v":20}]
[1115,20219050129392,"2021-11-09","CORREO ELECTRÓNICO","CERTIFICACIONES DE TIEMPO, CLIMA Y EVENTOS HIDROLÓGICOS","CERTIFICACIONES DE TIEMPO Y CLIMA","SUBDIRECCIÓN DE METEOROLOGÍA","2021-11-29","CORREO ELECTRÓNICO",{"$f":"IFERROR(WORKDAY(C1126,P1126,DiasNOLaborables),\"\")","v":"2021-12-30"},{"$f":"+IF(C1126=\"\",\"\",IF(H1126=\"\",\"SIN RESPUESTA\",(IF(H1126<=J1126,\"A TIEMPO\",\"FUERA DE TIEMPO\"))))","v":"A TIEMPO"},{"$f":"IF(H1126=\"\",\"\",NETWORKDAYS(C1126+1,H1126,DiasNOLaborables))","v":13},{"$f":"IF(NETWORKDAYS(J1126+1,H1126,DiasNOLaborables)<=0,\"\",NETWORKDAYS(J1126+1,H1126,DiasNOLaborables))","v":""},null,null,{"$f":"IFERROR(VLOOKUP(E1126,$X$51:$Y$64,2),\"\")","v":35}]
[1116,20219050129432,"2021-11-09","CORREO ELECTRÓNICO","SOLICITUD DE INFORMACIÓN Y DOCUMENTOS","INFORMES AMBIENTALES","SUBDIRECCIÓN DE ESTUDIOS AMBIENTALES","2021-11-09","CORREO ELECTRÓNICO",{"$f":"IFERROR(WORKDAY(C1127,P1127,DiasNOLaborables),\"\")","v":"2021-12-09"},{"$f":"+IF(C1127=\"\",\"\",IF(H1127=\"\",\"SIN RESPUESTA\",(IF(H1127<=J1127,\"A TIEMPO\",\"FUERA DE TIEMPO\"))))","v":"A TIEMPO"},{"$f":"IF(H1127=\"\",\"\",NETWORKDAYS(C1127+1,H1127,DiasNOLaborables))","v":-2},{"$f":"IF(NETWORKDAYS(J1127+1,H1127,DiasNOLaborables)<=0,\"\",NETWORKDAYS(J1127+1,H1127,DiasNOLaborables))","v":""},null,null,{"$f":"IFERROR(VLOOKUP(E1127,$X$51:$Y$64,2),\"\")","v":20}]
[1117,20219050129442,"2021-11-09","CORREO ELECTRÓNICO","CERTIFICACIONES DE TIEMPO, CLIMA Y EVENTOS HIDROLÓGICOS","CERTIFICACIONES DE TIEMPO Y CLIMA","SUBDIRECCIÓN DE METEOROLOGÍA","2021-12-13","CORREO ELECTRÓNICO",{"$f":"IFERROR(WORKDAY(C1128,P1128,DiasNOLaborables),\"\")","v":"2021-12-30"},{"$f":"+IF(C1128=\"\",\"\",IF(H1128=\"\",\"SIN RESPUESTA\",(IF(H1128<=J1128,\"A TIEMPO\",\"FUERA DE TIEMPO\"))))","v":"A TIEMPO"},{"$f":"IF(H1128=\"\",\"\",NETWORKDAYS(C1128+1,H1128,DiasNOLaborables))","v":22},{"$f":"IF(NETWORKDAYS(J1128+1,H1128,DiasNOLaborables)<=0,\"\",NETWORKDAYS(J1128+1,H1128,DiasNOLaborables))","v":""},null,null,{"$f":"IFERROR(VLOOKUP(E1128,$X$51:$Y$64,2),\"\")","v":35}]
[1118,20219050129472,"2021-11-09","CORREO ELECTRÓNICO","CERTIFICACIONES DE TIEMPO, CLIMA Y EVENTOS HIDROLÓGICOS","CERTIFICACIONES DE TIEMPO Y CLIMA","SUBDIRECCIÓN DE METEOROLOGÍA","2021-12-06","CORREO ELECTRÓNICO",{"$f":"IFERROR(WORKDAY(C1129,P1129,DiasNOLaborables),\"\")","v":"2021-12-30"},{"$f":"+IF(C1129=\"\",\"\",IF(H1129=\"\",\"SIN RESPUESTA\",(IF(H1129<=J1129,\"A TIEMPO\",\"FUERA DE TIEMPO\"))))","v":"A TIEMPO"},{"$f":"IF(H1129=\"\",\"\",NETWORKDAYS(C1129+1,H1129,DiasNOLaborables))","v":18},{"$f":"IF(NETWORKDAYS(J1129+1,H1129,DiasNOLaborables)<=0,\"\",NETWORKDAYS(J1129+1,H1129,DiasNOLaborables))","v":""},null,null,{"$f":"IFERROR(VLOOKUP(E1129,$X$51:$Y$64,2),\"\")","v":35}]
[1119,20219050129542,"2021-11-09","CORREO ELECTRÓNICO","SOLICITUD DE INFORMACIÓN Y DOCUMENTOS","SOLICITUD DE INFORMACIÓN HIDROMETEOROLÓGICA","SUBDIRECCIÓN DE HIDROLOGÍA","2021-11-12","CORREO ELECTRÓNICO",{"$f":"IFERROR(WORKDAY(C1130,P1130,DiasNOLaborables),\"\")","v":"2021-12-09"},{"$f":"+IF(C1130=\"\",\"\",IF(H1130=\"\",\"SIN RESPUESTA\",(IF(H1130<=J1130,\"A TIEMPO\",\"FUERA DE TIEMPO\"))))","v":"A TIEMPO"},{"$f":"IF(H1130=\"\",\"\",NETWORKDAYS(C1130+1,H1130,DiasNOLaborables))","v":3},{"$f":"IF(NETWORKDAYS(J1130+1,H1130,DiasNOLaborables)<=0,\"\",NETWORKDAYS(J1130+1,H1130,DiasNOLaborables))","v":""},null,null,{"$f":"IFERROR(VLOOKUP(E1130,$X$51:$Y$64,2),\"\")","v":20}]
[1120,20219050129192,"2021-11-09","MODULO CONTACTENOS","SOLICITUD DE INFORMACIÓN Y DOCUMENTOS","ADMINISTRATIVA","GRUPO DE ADMINISTRACIÓN Y DESARROLLO DEL TALENTO HUMANO","2021-11-22","CORREO ELECTRÓNICO",{"$f":"IFERROR(WORKDAY(C1131,P1131,DiasNOLaborables),\"\")","v":"2021-12-09"},{"$f":"+IF(C1131=\"\",\"\",IF(H1131=\"\",\"SIN RESPUESTA\",(IF(H1131<=J1131,\"A TIEMPO\",\"FUERA DE TIEMPO\"))))","v":"A TIEMPO"},{"$f":"IF(H1131=\"\",\"\",NETWORKDAYS(C1131+1,H1131,DiasNOLaborables))","v":8},{"$f":"IF(NETWORKDAYS(J1131+1,H1131,DiasNOLaborables)<=0,\"\",NETWORKDAYS(J1131+1,H1131,DiasNOLaborables))","v":""},null,null,{"$f":"IFERROR(VLOOKUP(E1131,$X$51:$Y$64,2),\"\")","v":20}]
[1121,20219050129202,"2021-11-09","MODULO CONTACTENOS","SOLICITUD DE INFORMACIÓN Y DOCUMENTOS","ADMINISTRATIVA","OFICINA ASESORA JURÍDICA","2021-11-11","CORREO ELECTRÓNICO",{"$f":"IFERROR(WORKDAY(C1132,P1132,DiasNOLaborables),\"\")","v":"2021-12-09"},{"$f":"+IF(C1132=\"\",\"\",IF(H1132=\"\",\"SIN RESPUESTA\",(IF(H1132<=J1132,\"A TIEMPO\",\"FUERA DE TIEMPO\"))))","v":"A TIEMPO"},{"$f":"IF(H1132=\"\",\"\",NETWORKDAYS(C1132+1,H1132,DiasNOLaborables))","v":2},{"$f":"IF(NETWORKDAYS(J1132+1,H1132,DiasNOLaborables)<=0,\"\",NETWORKDAYS(J1132+1,H1132,DiasNOLaborables))","v":""},null,null,{"$f":"IFERROR(VLOOKUP(E1132,$X$51:$Y$64,2),\"\")","v":20}]
[1122,20219050129212,"2021-11-09","MODULO CONTACTENOS","SOLICITUD DE INFORMACIÓN Y DOCUMENTOS","ADMINISTRATIVA","OFICINA ASESORA JURÍDICA","2021-11-11","CORREO ELECTRÓNICO",{"$f":"IFERROR(WORKDAY(C1133,P1133,DiasNOLaborables),\"\")","v":"2021-12-09"},{"$f":"+IF(C1133=\"\",\"\",IF(H1133=\"\",\"SIN RESPUESTA\",(IF(H1133<=J1133,\"A TIEMPO\",\"FUERA DE TIEMPO\"))))","v":"A TIEMPO"},{"$f":"IF(H1133=\"\",\"\",NETWORKDAYS(C1133+1,H1133,DiasNOLaborables))","v":2},{"$f":"IF(NETWORKDAYS(J1133+1,H1133,DiasNOLaborables)<=0,\"\",NETWORKDAYS(J1133+1,H1133,DiasNOLaborables))","v":""},null,null,{"$f":"IFERROR(VLOOKUP(E1133,$X$51:$Y$64,2),\"\")","v":20}]
[1123,20219050129222,"2021-11-09","MODULO CONTACTENOS","SOLICITUD DE INFORMACIÓN Y DOCUMENTOS","ADMINISTRATIVA","OFICINA ASESORA JURÍDICA","2021-11-11","CORREO ELECTRÓNICO",{"$f":"IFERROR(WORKDAY(C1134,P1134,DiasNOLaborables),\"\")","v":"2021-12-09"},{"$f":"+IF(C1134=\"\",\"\",IF(H1134=\"\",\"SIN RESPUESTA\",(IF(H1134<=J1134,\"A TIEMPO\",\"FUERA DE TIEMPO\"))))","v":"A TIEMPO"},{"$f":"IF(H1134=\"\",\"\",NETWORKDAYS(C1134+1,H1134,DiasNOLaborables))","v":2},{"$f":"IF(NETWORKDAYS(J1134+1,H1134,DiasNOLaborables)<=0,\"\",NETWORKDAYS(J1134+1,H1134,DiasNOLaborables))","v":""},null,null,{"$f":"IFERROR(VLOOKUP(E1134,$X$51:$Y$64,2),\"\")","v":20}]
[1124,20219050129372,"2021-11-09","MODULO CONTACTENOS","SOLICITUD DE INFORMACIÓN Y DOCUMENTOS","ADMINISTRATIVA","OFICINA ASESORA JURÍDICA","2021-11-11","CORREO ELECTRÓNICO",{"$f":"IFERROR(WORKDAY(C1135,P1135,DiasNOLaborables),\"\")","v":"2021-12-09"},{"$f":"+IF(C1135=\"\",\"\",IF(H1135=\"\",\"SIN RESPUESTA\",(IF(H1135<=J1135,\"A TIEMPO\",\"FUERA DE TIEMPO\"))))","v":"A TIEMPO"},{"$f":"IF(H1135=\"\",\"\",NETWORKDAYS(C1135+1,H1135,DiasNOLaborables))","v":2},{"$f":"IF(NETWORKDAYS(J1135+1,H1135,DiasNOLaborables)<=0,\"\",NETWORKDAYS(J1135+1,H1135,DiasNOLaborables))","v":""},null,null,{"$f":"IFERROR(VLOOKUP(E1135,$X$51:$Y$64,2),\"\")","v":20}]
[1125,20219050129412,"2021-11-09","MODULO CONTACTENOS","SOLICITUD DE INFORMACIÓN Y DOCUMENTOS","ACREDITACIÓN DE LABORATORIOS","SUBDIRECCIÓN DE ESTUDIOS AMBIENTALES","2021-11-12","CORREO ELECTRÓNICO",{"$f":"IFERROR(WORKDAY(C1136,P1136,DiasNOLaborables),\"\")","v":"2021-12-09"},{"$f":"+IF(C1136=\"\",\"\",IF(H1136=\"\",\"SIN RESPUESTA\",(IF(H1136<=J1136,\"A TIEMPO\",\"FUERA DE TIEMPO\"))))","v":"A TIEMPO"},{"$f":"IF(H1136=\"\",\"\",NETWORKDAYS(C1136+1,H1136,DiasNOLaborables))","v":3},{"$f":"IF(NETWORKDAYS(J1136+1,H1136,DiasNOLaborables)<=0,\"\",NETWORKDAYS(J1136+1,H1136,DiasNOLaborables))","v":""},null,null,{"$f":"IFERROR(VLOOKUP(E1136,$X$51:$Y$64,2),\"\")","v":20}]
[1126,20219050129422,"2021-11-09","MODULO CONTACTENOS","SOLICITUD DE INFORMACIÓN Y DOCUMENTOS","ADMINISTRATIVA","GRUPO DE ADMINISTRACIÓN Y DESARROLLO DEL TALENTO HUMANO","2021-11-18","CORREO ELECTRÓNICO",{"$f":"IFERROR(WORKDAY(C1137,P1137,DiasNOLaborables),\"\")","v":"2021-12-09"},{"$f":"+IF(C1137=\"\",\"\",IF(H1137=\"\",\"SIN RESPUESTA\",(IF(H1137<=J1137,\"A TIEMPO\",\"FUERA DE TIEMPO\"))))","v":"A TIEMPO"},{"$f":"IF(H1137=\"\",\"\",NETWORKDAYS(C1137+1,H1137,DiasNOLaborables))","v":6},{"$f":"IF(NETWORKDAYS(J1137+1,H1137,DiasNOLaborables)<=0,\"\",NETWORKDAYS(J1137+1,H1137,DiasNOLaborables))","v":""},null,null,{"$f":"IFERROR(VLOOKUP(E1137,$X$51:$Y$64,2),\"\")","v":20}]
[1127,20219050129512,"2021-11-09","MODULO CONTACTENOS","SOLICITUD DE INFORMACIÓN Y DOCUMENTOS","ADMINISTRATIVA","GRUPO DE ADMINISTRACIÓN Y DESARROLLO DEL TALENTO HUMANO","2021-11-29","CORREO ELECTRÓNICO",{"$f":"IFERROR(WORKDAY(C1138,P1138,DiasNOLaborables),\"\")","v":"2021-12-09"},{"$f":"+IF(C1138=\"\",\"\",IF(H1138=\"\",\"SIN RESPUESTA\",(IF(H1138<=J1138,\"A TIEMPO\",\"FUERA DE TIEMPO\"))))","v":"A TIEMPO"},{"$f":"IF(H1138=\"\",\"\",NETWORKDAYS(C1138+1,H1138,DiasNOLaborables))","v":13},{"$f":"IF(NETWORKDAYS(J1138+1,H1138,DiasNOLaborables)<=0,\"\",NETWORKDAYS(J1138+1,H1138,DiasNOLaborables))","v":""},null,null,{"$f":"IFERROR(VLOOKUP(E1138,$X$51:$Y$64,2),\"\")","v":20}]
[1128,20219050129532,"2021-11-09","MODULO CONTACTENOS","CERTIFICACIONES DE TIEMPO, CLIMA Y EVENTOS HIDROLÓGICOS","CERTIFICACIONES DE TIEMPO Y CLIMA","SUBDIRECCIÓN DE METEOROLOGÍA","2021-12-06","CORREO ELECTRÓNICO",{"$f":"IFERROR(WORKDAY(C1139,P1139,DiasNOLaborables),\"\")","v":"2021-12-30"},{"$f":"+IF(C1139=\"\",\"\",IF(H1139=\"\",\"SIN RESPUESTA\",(IF(H1139<=J1139,\"A TIEMPO\",\"FUERA DE TIEMPO\"))))","v":"A TIEMPO"},{"$f":"IF(H1139=\"\",\"\",NETWORKDAYS(C1139+1,H1139,DiasNOLaborables))","v":18},{"$f":"IF(NETWORKDAYS(J1139+1,H1139,DiasNOLaborables)<=0,\"\",NETWORKDAYS(J1139+1,H1139,DiasNOLaborables))","v":""},null,null,{"$f":"IFERROR(VLOOKUP(E1139,$X$51:$Y$64,2),\"\")","v":35}]
[1129,20219050129742,"2021-11-10","MODULO CONTACTENOS","SOLICITUD DE INFORMACIÓN Y DOCUMENTOS","SIA","SUBDIRECCIÓN DE ECOSISTEMAS E INFORMACIÓN AMBIENTAL","2021-11-11","CORREO ELECTRÓNICO",{"$f":"IFERROR(WORKDAY(C1140,P1140,DiasNOLaborables),\"\")","v":"2021-12-10"},{"$f":"+IF(C1140=\"\",\"\",IF(H1140=\"\",\"SIN RESPUESTA\",(IF(H1140<=J1140,\"A TIEMPO\",\"FUERA DE TIEMPO\"))))","v":"A TIEMPO"},{"$f":"IF(H1140=\"\",\"\",NETWORKDAYS(C1140+1,H1140,DiasNOLaborables))","v":1},{"$f":"IF(NETWORKDAYS(J1140+1,H1140,DiasNOLaborables)<=0,\"\",NETWORKDAYS(J1140+1,H1140,DiasNOLaborables))","v":""},null,null,{"$f":"IFERROR(VLOOKUP(E1140,$X$51:$Y$64,2),\"\")","v":20}]
[1130,20219050129942,"2021-11-10","MODULO CONTACTENOS","CERTIFICACIONES DE TIEMPO, CLIMA Y EVENTOS HIDROLÓGICOS","CERTIFICACIONES DE TIEMPO Y CLIMA","SUBDIRECCIÓN DE METEOROLOGÍA","2021-12-06","CORREO ELECTRÓNICO",{"$f":"IFERROR(WORKDAY(C1141,P1141,DiasNOLaborables),\"\")","v":"2021-12-31"},{"$f":"+IF(C1141=\"\",\"\",IF(H1141=\"\",\"SIN RESPUESTA\",(IF(H1141<=J1141,\"A TIEMPO\",\"FUERA DE TIEMPO\"))))","v":"A TIEMPO"},{"$f":"IF(H1141=\"\",\"\",NETWORKDAYS(C1141+1,H1141,DiasNOLaborables))","v":17},{"$f":"IF(NETWORKDAYS(J1141+1,H1141,DiasNOLaborables)<=0,\"\",NETWORKDAYS(J1141+1,H1141,DiasNOLaborables))","v":""},null,null,{"$f":"IFERROR(VLOOKUP(E1141,$X$51:$Y$64,2),\"\")","v":35}]
[1131,20219050129722,"2021-11-10","MODULO CONTACTENOS","SOLICITUD DE INFORMACIÓN Y DOCUMENTOS","SOLICITUD DE INFORMACIÓN HIDROMETEOROLÓGICA","GRUPO DE SERVICIO AL CIUDADANO ","2021-11-02","CORREO ELECTRÓNICO",{"$f":"IFERROR(WORKDAY(C1142,P1142,DiasNOLaborables),\"\")","v":"2021-12-10"},{"$f":"+IF(C1142=\"\",\"\",IF(H1142=\"\",\"SIN RESPUESTA\",(IF(H1142<=J1142,\"A TIEMPO\",\"FUERA DE TIEMPO\"))))","v":"A TIEMPO"},{"$f":"IF(H1142=\"\",\"\",NETWORKDAYS(C1142+1,H1142,DiasNOLaborables))","v":-8},{"$f":"IF(NETWORKDAYS(J1142+1,H1142,DiasNOLaborables)<=0,\"\",NETWORKDAYS(J1142+1,H1142,DiasNOLaborables))","v":""},null,null,{"$f":"IFERROR(VLOOKUP(E1142,$X$51:$Y$64,2),\"\")","v":20}]
[1132,20219050129712,"2021-11-10","MODULO CONTACTENOS","SOLICITUD DE INFORMACIÓN Y DOCUMENTOS","SOLICITUD DE INFORMACIÓN HIDROMETEOROLÓGICA","GRUPO DE SERVICIO AL CIUDADANO ","2021-11-05","CORREO ELECTRÓNICO",{"$f":"IFERROR(WORKDAY(C1143,P1143,DiasNOLaborables),\"\")","v":"2021-12-10"},{"$f":"+IF(C1143=\"\",\"\",IF(H1143=\"\",\"SIN RESPUESTA\",(IF(H1143<=J1143,\"A TIEMPO\",\"FUERA DE TIEMPO\"))))","v":"A TIEMPO"},{"$f":"IF(H1143=\"\",\"\",NETWORKDAYS(C1143+1,H1143,DiasNOLaborables))","v":-5},{"$f":"IF(NETWORKDAYS(J1143+1,H1143,DiasNOLaborables)<=0,\"\",NETWORKDAYS(J1143+1,H1143,DiasNOLaborables))","v":""},null,null,{"$f":"IFERROR(VLOOKUP(E1143,$X$51:$Y$64,2),\"\")","v":20}]
[1133,20219050129732,"2021-11-10","MODULO CONTACTENOS","SOLICITUD DE INFORMACIÓN Y DOCUMENTOS","SOLICITUD DE INFORMACIÓN HIDROMETEOROLÓGICA","GRUPO DE SERVICIO AL CIUDADANO ","2021-11-05","CORREO ELECTRÓNICO",{"$f":"IFERROR(WORKDAY(C1144,P1144,DiasNOLaborables),\"\")","v":"2021-12-10"},{"$f":"+IF(C1144=\"\",\"\",IF(H1144=\"\",\"SIN RESPUESTA\",(IF(H1144<=J1144,\"A TIEMPO\",\"FUERA DE TIEMPO\"))))","v":"A TIEMPO"},{"$f":"IF(H1144=\"\",\"\",NETWORKDAYS(C1144+1,H1144,DiasNOLaborables))","v":-5},{"$f":"IF(NETWORKDAYS(J1144+1,H1144,DiasNOLaborables)<=0,\"\",NETWORKDAYS(J1144+1,H1144,DiasNOLaborables))","v":""},null,null,{"$f":"IFERROR(VLOOKUP(E1144,$X$51:$Y$64,2),\"\")","v":20}]
[1134,20219050129762,"2021-11-10","MODULO CONTACTENOS","SOLICITUD DE INFORMACIÓN Y DOCUMENTOS","SOLICITUD DE INFORMACIÓN HIDROMETEOROLÓGICA","GRUPO DE SERVICIO AL CIUDADANO ","2021-11-05","CORREO ELECTRÓNICO",{"$f":"IFERROR(WORKDAY(C1145,P1145,DiasNOLaborables),\"\")","v":"2021-12-10"},{"$f":"+IF(C1145=\"\",\"\",IF(H1145=\"\",\"SIN RESPUESTA\",(IF(H1145<=J1145,\"A TIEMPO\",\"FUERA DE TIEMPO\"))))","v":"A TIEMPO"},{"$f":"IF(H1145=\"\",\"\",NETWORKDAYS(C1145+1,H1145,DiasNOLaborables))","v":-5},{"$f":"IF(NETWORKDAYS(J1145+1,H1145,DiasNOLaborables)<=0,\"\",NETWORKDAYS(J1145+1,H1145,DiasNOLaborables))","v":""},null,null,{"$f":"IFERROR(VLOOKUP(E1145,$X$51:$Y$64,2),\"\")","v":20}]
[1135,20219050129792,"2021-11-10","MODULO CONTACTENOS","SOLICITUD DE INFORMACIÓN Y DOCUMENTOS","SOLICITUD DE INFORMACIÓN HIDROMETEOROLÓGICA","GRUPO DE SERVICIO AL CIUDADANO ","2021-11-09","CORREO ELECTRÓNICO",{"$f":"IFERROR(WORKDAY(C1146,P1146,DiasNOLaborables),\"\")","v":"2021-12-10"},{"$f":"+IF(C1146=\"\",\"\",IF(H1146=\"\",\"SIN RESPUESTA\",(IF(H1146<=J1146,\"A TIEMPO\",\"FUERA DE TIEMPO\"))))","v":"A TIEMPO"},{"$f":"IF(H1146=\"\",\"\",NETWORKDAYS(C1146+1,H1146,DiasNOLaborables))","v":-3},{"$f":"IF(NETWORKDAYS(J1146+1,H1146,DiasNOLaborables)<=0,\"\",NETWORKDAYS(J1146+1,H1146,DiasNOLaborables))","v":""},null,null,{"$f":"IFERROR(VLOOKUP(E1146,$X$51:$Y$64,2),\"\")","v":20}]
[1136,20219050129802,"2021-11-10","MODULO CONTACTENOS","SOLICITUD DE INFORMACIÓN Y DOCUMENTOS","SOLICITUD DE INFORMACIÓN HIDROMETEOROLÓGICA","GRUPO DE SERVICIO AL CIUDADANO ","2021-11-09","CORREO ELECTRÓNICO",{"$f":"IFERROR(WORKDAY(C1147,P1147,DiasNOLaborables),\"\")","v":"2021-12-10"},{"$f":"+IF(C1147=\"\",\"\",IF(H1147=\"\",\"SIN RESPUESTA\",(IF(H1147<=J1147,\"A TIEMPO\",\"FUERA DE TIEMPO\"))))","v":"A TIEMPO"},{"$f":"IF(H1147=\"\",\"\",NETWORKDAYS(C1147+1,H1147,DiasNOLaborables))","v":-3},{"$f":"IF(NETWORKDAYS(J1147+1,H1147,DiasNOLaborables)<=0,\"\",NETWORKDAYS(J1147+1,H1147,DiasNOLaborables))","v":""},null,null,{"$f":"IFERROR(VLOOKUP(E1147,$X$51:$Y$64,2),\"\")","v":20}]
[1137,20219050129892,"2021-11-10","MODULO CONTACTENOS","SOLICITUD DE INFORMACIÓN Y DOCUMENTOS","SOLICITUD DE INFORMACIÓN HIDROMETEOROLÓGICA","GRUPO DE SERVICIO AL CIUDADANO ","2021-11-24","CORREO ELECTRÓNICO",{"$f":"IFERROR(WORKDAY(C1148,P1148,DiasNOLaborables),\"\")","v":"2021-12-10"},{"$f":"+IF(C1148=\"\",\"\",IF(H1148=\"\",\"SIN RESPUESTA\",(IF(H1148<=J1148,\"A TIEMPO\",\"FUERA DE TIEMPO\"))))","v":"A TIEMPO"},{"$f":"IF(H1148=\"\",\"\",NETWORKDAYS(C1148+1,H1148,DiasNOLaborables))","v":9},{"$f":"IF(NETWORKDAYS(J1148+1,H1148,DiasNOLaborables)<=0,\"\",NETWORKDAYS(J1148+1,H1148,DiasNOLaborables))","v":""},null,null,{"$f":"IFERROR(VLOOKUP(E1148,$X$51:$Y$64,2),\"\")","v":20}]
[1138,20219050129922,"2021-11-10","CORREO ELECTRÓNICO","SOLICITUD DE INFORMACIÓN Y DOCUMENTOS","SOLICITUD DE INFORMACIÓN HIDROMETEOROLÓGICA","SUBDIRECCIÓN DE METEOROLOGÍA","2021-11-25","CORREO ELECTRÓNICO",{"$f":"IFERROR(WORKDAY(C1149,P1149,DiasNOLaborables),\"\")","v":"2021-12-10"},{"$f":"+IF(C1149=\"\",\"\",IF(H1149=\"\",\"SIN RESPUESTA\",(IF(H1149<=J1149,\"A TIEMPO\",\"FUERA DE TIEMPO\"))))","v":"A TIEMPO"},{"$f":"IF(H1149=\"\",\"\",NETWORKDAYS(C1149+1,H1149,DiasNOLaborables))","v":10},{"$f":"IF(NETWORKDAYS(J1149+1,H1149,DiasNOLaborables)<=0,\"\",NETWORKDAYS(J1149+1,H1149,DiasNOLaborables))","v":""},null,null,{"$f":"IFERROR(VLOOKUP(E1149,$X$51:$Y$64,2),\"\")","v":20}]
[1139,20219050129952,"2021-11-10","CORREO ELECTRÓNICO","SOLICITUD DE INFORMACIÓN Y DOCUMENTOS","SOLICITUD DE INFORMACIÓN HIDROMETEOROLÓGICA","GRUPO DE SERVICIO AL CIUDADANO ","2021-11-26","CORREO ELECTRÓNICO",{"$f":"IFERROR(WORKDAY(C1150,P1150,DiasNOLaborables),\"\")","v":"2021-12-10"},{"$f":"+IF(C1150=\"\",\"\",IF(H1150=\"\",\"SIN RESPUESTA\",(IF(H1150<=J1150,\"A TIEMPO\",\"FUERA DE TIEMPO\"))))","v":"A TIEMPO"},{"$f":"IF(H1150=\"\",\"\",NETWORKDAYS(C1150+1,H1150,DiasNOLaborables))","v":11},{"$f":"IF(NETWORKDAYS(J1150+1,H1150,DiasNOLaborables)<=0,\"\",NETWORKDAYS(J1150+1,H1150,DiasNOLaborables))","v":""},null,null,{"$f":"IFERROR(VLOOKUP(E1150,$X$51:$Y$64,2),\"\")","v":20}]
[1140,20219050129992,"2021-11-10","CORREO ELECTRÓNICO","SOLICITUD DE INFORMACIÓN Y DOCUMENTOS","SOLICITUD DE INFORMACIÓN HIDROMETEOROLÓGICA","GRUPO DE SERVICIO AL CIUDADANO ","2021-11-26","CORREO ELECTRÓNICO",{"$f":"IFERROR(WORKDAY(C1151,P1151,DiasNOLaborables),\"\")","v":"2021-12-10"},{"$f":"+IF(C1151=\"\",\"\",IF(H1151=\"\",\"SIN RESPUESTA\",(IF(H1151<=J1151,\"A TIEMPO\",\"FUERA DE TIEMPO\"))))","v":"A TIEMPO"},{"$f":"IF(H1151=\"\",\"\",NETWORKDAYS(C1151+1,H1151,DiasNOLaborables))","v":11},{"$f":"IF(NETWORKDAYS(J1151+1,H1151,DiasNOLaborables)<=0,\"\",NETWORKDAYS(J1151+1,H1151,DiasNOLaborables))","v":""},null,null,{"$f":"IFERROR(VLOOKUP(E1151,$X$51:$Y$64,2),\"\")","v":20}]
[1141,20219050130022,"2021-11-10","CORREO ELECTRÓNICO","SOLICITUD DE INFORMACIÓN Y DOCUMENTOS","SOLICITUD DE INFORMACIÓN HIDROMETEOROLÓGICA","GRUPO DE SERVICIO AL CIUDADANO ","2021-11-26","CORREO ELECTRÓNICO",{"$f":"IFERROR(WORKDAY(C1152,P1152,DiasNOLaborables),\"\")","v":"2021-12-10"},{"$f":"+IF(C1152=\"\",\"\",IF(H1152=\"\",\"SIN RESPUESTA\",(IF(H1152<=J1152,\"A TIEMPO\",\"FUERA DE TIEMPO\"))))","v":"A TIEMPO"},{"$f":"IF(H1152=\"\",\"\",NETWORKDAYS(C1152+1,H1152,DiasNOLaborables))","v":11},{"$f":"IF(NETWORKDAYS(J1152+1,H1152,DiasNOLaborables)<=0,\"\",NETWORKDAYS(J1152+1,H1152,DiasNOLaborables))","v":""},null,null,{"$f":"IFERROR(VLOOKUP(E1152,$X$51:$Y$64,2),\"\")","v":20}]
[1142,20219050130122,"2021-11-10","CORREO ELECTRÓNICO","SOLICITUD DE INFORMACIÓN Y DOCUMENTOS","SOLICITUD DE INFORMACIÓN HIDROMETEOROLÓGICA","GRUPO DE SERVICIO AL CIUDADANO ","2021-11-26","CORREO ELECTRÓNICO",{"$f":"IFERROR(WORKDAY(C1153,P1153,DiasNOLaborables),\"\")","v":"2021-12-10"},{"$f":"+IF(C1153=\"\",\"\",IF(H1153=\"\",\"SIN RESPUESTA\",(IF(H1153<=J1153,\"A TIEMPO\",\"FUERA DE TIEMPO\"))))","v":"A TIEMPO"},{"$f":"IF(H1153=\"\",\"\",NETWORKDAYS(C1153+1,H1153,DiasNOLaborables))","v":11},{"$f":"IF(NETWORKDAYS(J1153+1,H1153,DiasNOLaborables)<=0,\"\",NETWORKDAYS(J1153+1,H1153,DiasNOLaborables))","v":""},null,null,{"$f":"IFERROR(VLOOKUP(E1153,$X$51:$Y$64,2),\"\")","v":20}]
[1143,20219050129972,"2021-11-10","MODULO CONTACTENOS","CERTIFICACIONES DE TIEMPO, CLIMA Y EVENTOS HIDROLÓGICOS","CERTIFICACIONES DE TIEMPO Y CLIMA","SUBDIRECCIÓN DE METEOROLOGÍA","2021-12-07","CORREO ELECTRÓNICO",{"$f":"IFERROR(WORKDAY(C1154,P1154,DiasNOLaborables),\"\")","v":"2021-12-31"},{"$f":"+IF(C1154=\"\",\"\",IF(H1154=\"\",\"SIN RESPUESTA\",(IF(H1154<=J1154,\"A TIEMPO\",\"FUERA DE TIEMPO\"))))","v":"A TIEMPO"},{"$f":"IF(H1154=\"\",\"\",NETWORKDAYS(C1154+1,H1154,DiasNOLaborables))","v":18},{"$f":"IF(NETWORKDAYS(J1154+1,H1154,DiasNOLaborables)<=0,\"\",NETWORKDAYS(J1154+1,H1154,DiasNOLaborables))","v":""},null,null,{"$f":"IFERROR(VLOOKUP(E1154,$X$51:$Y$64,2),\"\")","v":35}]
[1144,20219050130082,"2021-11-10","MODULO CONTACTENOS","CERTIFICACIONES DE TIEMPO, CLIMA Y EVENTOS HIDROLÓGICOS","CERTIFICACIONES DE TIEMPO Y CLIMA","SUBDIRECCIÓN DE METEOROLOGÍA","2021-12-14","CORREO ELECTRÓNICO",{"$f":"IFERROR(WORKDAY(C1155,P1155,DiasNOLaborables),\"\")","v":"2021-12-31"},{"$f":"+IF(C1155=\"\",\"\",IF(H1155=\"\",\"SIN RESPUESTA\",(IF(H1155<=J1155,\"A TIEMPO\",\"FUERA DE TIEMPO\"))))","v":"A TIEMPO"},{"$f":"IF(H1155=\"\",\"\",NETWORKDAYS(C1155+1,H1155,DiasNOLaborables))","v":22},{"$f":"IF(NETWORKDAYS(J1155+1,H1155,DiasNOLaborables)<=0,\"\",NETWORKDAYS(J1155+1,H1155,DiasNOLaborables))","v":""},null,null,{"$f":"IFERROR(VLOOKUP(E1155,$X$51:$Y$64,2),\"\")","v":35}]
[1145,20219050130092,"2021-11-10","MODULO CONTACTENOS","CERTIFICACIONES DE TIEMPO, CLIMA Y EVENTOS HIDROLÓGICOS","CERTIFICACIONES DE TIEMPO Y CLIMA","SUBDIRECCIÓN DE METEOROLOGÍA","2021-12-15","CORREO ELECTRÓNICO",{"$f":"IFERROR(WORKDAY(C1156,P1156,DiasNOLaborables),\"\")","v":"2021-12-31"},{"$f":"+IF(C1156=\"\",\"\",IF(H1156=\"\",\"SIN RESPUESTA\",(IF(H1156<=J1156,\"A TIEMPO\",\"FUERA DE TIEMPO\"))))","v":"A TIEMPO"},{"$f":"IF(H1156=\"\",\"\",NETWORKDAYS(C1156+1,H1156,DiasNOLaborables))","v":23},{"$f":"IF(NETWORKDAYS(J1156+1,H1156,DiasNOLaborables)<=0,\"\",NETWORKDAYS(J1156+1,H1156,DiasNOLaborables))","v":""},null,null,{"$f":"IFERROR(VLOOKUP(E1156,$X$51:$Y$64,2),\"\")","v":35}]
[1146,20219050130142,"2021-11-10","MODULO CONTACTENOS","SOLICITUD DE INFORMACIÓN Y DOCUMENTOS","ADMINISTRATIVA","OFICINA ASESORA JURÍDICA","2021-11-17","CORREO ELECTRÓNICO",{"$f":"IFERROR(WORKDAY(C1157,P1157,DiasNOLaborables),\"\")","v":"2021-12-10"},{"$f":"+IF(C1157=\"\",\"\",IF(H1157=\"\",\"SIN RESPUESTA\",(IF(H1157<=J1157,\"A TIEMPO\",\"FUERA DE TIEMPO\"))))","v":"A TIEMPO"},{"$f":"IF(H1157=\"\",\"\",NETWORKDAYS(C1157+1,H1157,DiasNOLaborables))","v":4},{"$f":"IF(NETWORKDAYS(J1157+1,H1157,DiasNOLaborables)<=0,\"\",NETWORKDAYS(J1157+1,H1157,DiasNOLaborables))","v":""},null,null,{"$f":"IFERROR(VLOOKUP(E1157,$X$51:$Y$64,2),\"\")","v":20}]
[1147,20219050129782,"2021-11-10","CORREO ELECTRÓNICO","CERTIFICACIONES DE TIEMPO, CLIMA Y EVENTOS HIDROLÓGICOS","CERTIFICACIONES DE TIEMPO Y CLIMA","SUBDIRECCIÓN DE METEOROLOGÍA","2021-11-29","CORREO ELECTRÓNICO",{"$f":"IFERROR(WORKDAY(C1158,P1158,DiasNOLaborables),\"\")","v":"2021-12-31"},{"$f":"+IF(C1158=\"\",\"\",IF(H1158=\"\",\"SIN RESPUESTA\",(IF(H1158<=J1158,\"A TIEMPO\",\"FUERA DE TIEMPO\"))))","v":"A TIEMPO"},{"$f":"IF(H1158=\"\",\"\",NETWORKDAYS(C1158+1,H1158,DiasNOLaborables))","v":12},{"$f":"IF(NETWORKDAYS(J1158+1,H1158,DiasNOLaborables)<=0,\"\",NETWORKDAYS(J1158+1,H1158,DiasNOLaborables))","v":""},null,null,{"$f":"IFERROR(VLOOKUP(E1158,$X$51:$Y$64,2),\"\")","v":35}]
[1148,20219050129872,"2021-11-10","CORREO ELECTRÓNICO","SOLICITUD DE INFORMACIÓN Y DOCUMENTOS","CLIMATOLOGÍA","SUBDIRECCIÓN DE METEOROLOGÍA","2021-11-18","CORREO ELECTRÓNICO",{"$f":"IFERROR(WORKDAY(C1159,P1159,DiasNOLaborables),\"\")","v":"2021-12-10"},{"$f":"+IF(C1159=\"\",\"\",IF(H1159=\"\",\"SIN RESPUESTA\",(IF(H1159<=J1159,\"A TIEMPO\",\"FUERA DE TIEMPO\"))))","v":"A TIEMPO"},{"$f":"IF(H1159=\"\",\"\",NETWORKDAYS([5]Hoja1!C1157+1,[5]Hoja1!P1157,DiasNOLaborables))","v":4},{"$f":"IF(NETWORKDAYS(J1159+1,H1159,DiasNOLaborables)<=0,\"\",NETWORKDAYS(J1159+1,H1159,DiasNOLaborables))","v":""},null,null,{"$f":"IFERROR(VLOOKUP(E1159,$X$51:$Y$64,2),\"\")","v":20}]
[1149,20219050129902,"2021-11-10","CORREO ELECTRÓNICO","SOLICITUD DE INFORMACIÓN Y DOCUMENTOS","PRONÓSTICOS Y ALERTAS","OFICINA DEL SERVICIO DE PRONÓSTICOS Y ALERTAS","2021-11-19","CORREO ELECTRÓNICO",{"$f":"IFERROR(WORKDAY(C1160,P1160,DiasNOLaborables),\"\")","v":"2021-12-10"},{"$f":"+IF(C1160=\"\",\"\",IF(H1160=\"\",\"SIN RESPUESTA\",(IF(H1160<=J1160,\"A TIEMPO\",\"FUERA DE TIEMPO\"))))","v":"A TIEMPO"},{"$f":"IF(H1160=\"\",\"\",NETWORKDAYS(C1160+1,H1160,DiasNOLaborables))","v":6},{"$f":"IF(NETWORKDAYS(J1160+1,H1160,DiasNOLaborables)<=0,\"\",NETWORKDAYS(J1160+1,H1160,DiasNOLaborables))","v":""},null,null,{"$f":"IFERROR(VLOOKUP(E1160,$X$51:$Y$64,2),\"\")","v":20}]
[1150,20219050129912,"2021-11-10","CORREO ELECTRÓNICO","SOLICITUD DE INFORMACIÓN Y DOCUMENTOS","PRONÓSTICOS Y ALERTAS","OFICINA DEL SERVICIO DE PRONÓSTICOS Y ALERTAS","2021-11-19","CORREO ELECTRÓNICO",{"$f":"IFERROR(WORKDAY(C1161,P1161,DiasNOLaborables),\"\")","v":"2021-12-10"},{"$f":"+IF(C1161=\"\",\"\",IF(H1161=\"\",\"SIN RESPUESTA\",(IF(H1161<=J1161,\"A TIEMPO\",\"FUERA DE TIEMPO\"))))","v":"A TIEMPO"},{"$f":"IF(H1161=\"\",\"\",NETWORKDAYS(C1161+1,H1161,DiasNOLaborables))","v":6},{"$f":"IF(NETWORKDAYS(J1161+1,H1161,DiasNOLaborables)<=0,\"\",NETWORKDAYS(J1161+1,H1161,DiasNOLaborables))","v":""},null,null,{"$f":"IFERROR(VLOOKUP(E1161,$X$51:$Y$64,2),\"\")","v":20}]
[1151,20219050129982,"2021-11-10","CORREO ELECTRÓNICO","SOLICITUD DE INFORMACIÓN Y DOCUMENTOS","REGISTROS AMBIENTALES","SUBDIRECCIÓN DE ESTUDIOS AMBIENTALES","2021-11-10","CORREO ELECTRÓNICO",{"$f":"IFERROR(WORKDAY(C1162,P1162,DiasNOLaborables),\"\")","v":"2021-12-10"},{"$f":"+IF(C1162=\"\",\"\",IF(H1162=\"\",\"SIN RESPUESTA\",(IF(H1162<=J1162,\"A TIEMPO\",\"FUERA DE TIEMPO\"))))","v":"A TIEMPO"},{"$f":"IF(H1162=\"\",\"\",NETWORKDAYS(C1162+1,H1162,DiasNOLaborables))","v":-2},{"$f":"IF(NETWORKDAYS(J1162+1,H1162,DiasNOLaborables)<=0,\"\",NETWORKDAYS(J1162+1,H1162,DiasNOLaborables))","v":""},null,null,{"$f":"IFERROR(VLOOKUP(E1162,$X$51:$Y$64,2),\"\")","v":20}]
[1152,20219050130012,"2021-11-10","CORREO ELECTRÓNICO","SOLICITUD DE INFORMACIÓN Y DOCUMENTOS","SOLICITUD DE INFORMACIÓN HIDROMETEOROLÓGICA","GRUPO DE SERVICIO AL CIUDADANO ","2021-11-30","CORREO ELECTRÓNICO",{"$f":"IFERROR(WORKDAY(C1163,P1163,DiasNOLaborables),\"\")","v":"2021-12-10"},{"$f":"+IF(C1163=\"\",\"\",IF(H1163=\"\",\"SIN RESPUESTA\",(IF(H1163<=J1163,\"A TIEMPO\",\"FUERA DE TIEMPO\"))))","v":"A TIEMPO"},{"$f":"IF(H1163=\"\",\"\",NETWORKDAYS(C1163+1,H1163,DiasNOLaborables))","v":13},{"$f":"IF(NETWORKDAYS(J1163+1,H1163,DiasNOLaborables)<=0,\"\",NETWORKDAYS(J1163+1,H1163,DiasNOLaborables))","v":""},null,null,{"$f":"IFERROR(VLOOKUP(E1163,$X$51:$Y$64,2),\"\")","v":20}]
[1153,20219050129812,"2021-11-10","MODULO CONTACTENOS","SOLICITUD DE INFORMACIÓN Y DOCUMENTOS","SOLICITUD DE INFORMACIÓN HIDROMETEOROLÓGICA","GRUPO DE SERVICIO AL CIUDADANO ","2021-11-12","CORREO ELECTRÓNICO",{"$f":"IFERROR(WORKDAY(C1164,P1164,DiasNOLaborables),\"\")","v":"2021-12-10"},{"$f":"+IF(C1164=\"\",\"\",IF(H1164=\"\",\"SIN RESPUESTA\",(IF(H1164<=J1164,\"A TIEMPO\",\"FUERA DE TIEMPO\"))))","v":"A TIEMPO"},{"$f":"IF(H1164=\"\",\"\",NETWORKDAYS(C1164+1,H1164,DiasNOLaborables))","v":2},{"$f":"IF(NETWORKDAYS(J1164+1,H1164,DiasNOLaborables)<=0,\"\",NETWORKDAYS(J1164+1,H1164,DiasNOLaborables))","v":""},null,null,{"$f":"IFERROR(VLOOKUP(E1164,$X$51:$Y$64,2),\"\")","v":20}]
[1154,20219050129822,"2021-11-10","MODULO CONTACTENOS","SOLICITUD DE INFORMACIÓN Y DOCUMENTOS","SOLICITUD DE INFORMACIÓN HIDROMETEOROLÓGICA","GRUPO DE SERVICIO AL CIUDADANO ","2021-11-12","CORREO ELECTRÓNICO",{"$f":"IFERROR(WORKDAY(C1165,P1165,DiasNOLaborables),\"\")","v":"2021-12-10"},{"$f":"+IF(C1165=\"\",\"\",IF(H1165=\"\",\"SIN RESPUESTA\",(IF(H1165<=J1165,\"A TIEMPO\",\"FUERA DE TIEMPO\"))))","v":"A TIEMPO"},{"$f":"IF(H1165=\"\",\"\",NETWORKDAYS(C1165+1,H1165,DiasNOLaborables))","v":2},{"$f":"IF(NETWORKDAYS(J1165+1,H1165,DiasNOLaborables)<=0,\"\",NETWORKDAYS(J1165+1,H1165,DiasNOLaborables))","v":""},null,null,{"$f":"IFERROR(VLOOKUP(E1165,$X$51:$Y$64,2),\"\")","v":20}]
[{"$f":"IF(B1166<>\"\",A1165+1,\"\")","v":1155},20219050129832,"2021-11-10","MODULO CONTACTENOS","SOLICITUD DE INFORMACIÓN Y DOCUMENTOS","SOLICITUD DE INFORMACIÓN HIDROMETEOROLÓGICA","GRUPO DE SERVICIO AL CIUDADANO ","2021-11-12","CORREO ELECTRÓNICO",{"$f":"IFERROR(WORKDAY(C1166,P1166,DiasNOLaborables),\"\")","v":"2021-12-10"},{"$f":"+IF(C1166=\"\",\"\",IF(H1166=\"\",\"SIN RESPUESTA\",(IF(H1166<=J1166,\"A TIEMPO\",\"FUERA DE TIEMPO\"))))","v":"A TIEMPO"},{"$f":"IF(H1166=\"\",\"\",NETWORKDAYS(C1166+1,H1166,DiasNOLaborables))","v":2},{"$f":"IF(NETWORKDAYS(J1166+1,H1166,DiasNOLaborables)<=0,\"\",NETWORKDAYS(J1166+1,H1166,DiasNOLaborables))","v":""},null,null,{"$f":"IFERROR(VLOOKUP(E1166,$X$51:$Y$64,2),\"\")","v":20}]
[1156,20219050129882,"2021-11-10","CORREO ELECTRÓNICO","SOLICITUD DE INFORMACIÓN Y DOCUMENTOS","SOLICITUD DE INFORMACIÓN HIDROMETEOROLÓGICA","GRUPO DE SERVICIO AL CIUDADANO ","2021-11-16","CORREO ELECTRÓNICO",{"$f":"IFERROR(WORKDAY(C1167,P1167,DiasNOLaborables),\"\")","v":"2021-12-10"},{"$f":"+IF(C1167=\"\",\"\",IF(H1167=\"\",\"SIN RESPUESTA\",(IF(H1167<=J1167,\"A TIEMPO\",\"FUERA DE TIEMPO\"))))","v":"A TIEMPO"},{"$f":"IF(H1167=\"\",\"\",NETWORKDAYS(C1167+1,H1167,DiasNOLaborables))","v":3},{"$f":"IF(NETWORKDAYS(J1167+1,H1167,DiasNOLaborables)<=0,\"\",NETWORKDAYS(J1167+1,H1167,DiasNOLaborables))","v":""},null,null,{"$f":"IFERROR(VLOOKUP(E1167,$X$51:$Y$64,2),\"\")","v":20}]
[1157,20219050129842,"2021-11-10","MODULO CONTACTENOS","SOLICITUD DE INFORMACIÓN Y DOCUMENTOS","SOLICITUD DE INFORMACIÓN HIDROMETEOROLÓGICA","GRUPO DE SERVICIO AL CIUDADANO ","2021-11-15","CORREO ELECTRÓNICO",{"$f":"IFERROR(WORKDAY(C1168,P1168,DiasNOLaborables),\"\")","v":"2021-12-10"},{"$f":"+IF(C1168=\"\",\"\",IF(H1168=\"\",\"SIN RESPUESTA\",(IF(H1168<=J1168,\"A TIEMPO\",\"FUERA DE TIEMPO\"))))","v":"A TIEMPO"},{"$f":"IF(H1168=\"\",\"\",NETWORKDAYS(C1168+1,H1168,DiasNOLaborables))","v":2},{"$f":"IF(NETWORKDAYS(J1168+1,H1168,DiasNOLaborables)<=0,\"\",NETWORKDAYS(J1168+1,H1168,DiasNOLaborables))","v":""},null,null,{"$f":"IFERROR(VLOOKUP(E1168,$X$51:$Y$64,2),\"\")","v":20}]
[1158,20219050129852,"2021-11-10","CORREO ELECTRÓNICO","SOLICITUD DE INFORMACIÓN Y DOCUMENTOS","SOLICITUD DE INFORMACIÓN HIDROMETEOROLÓGICA","GRUPO DE SERVICIO AL CIUDADANO ","2021-11-15","CORREO ELECTRÓNICO",{"$f":"IFERROR(WORKDAY(C1169,P1169,DiasNOLaborables),\"\")","v":"2021-12-10"},{"$f":"+IF(C1169=\"\",\"\",IF(H1169=\"\",\"SIN RESPUESTA\",(IF(H1169<=J1169,\"A TIEMPO\",\"FUERA DE TIEMPO\"))))","v":"A TIEMPO"},{"$f":"IF(H1169=\"\",\"\",NETWORKDAYS(C1169+1,H1169,DiasNOLaborables))","v":2},{"$f":"IF(NETWORKDAYS(J1169+1,H1169,DiasNOLaborables)<=0,\"\",NETWORKDAYS(J1169+1,H1169,DiasNOLaborables))","v":""},null,null,{"$f":"IFERROR(VLOOKUP(E1169,$X$51:$Y$64,2),\"\")","v":20}]
[1159,20219050129862,"2021-11-10","MODULO CONTACTENOS","SOLICITUD DE INFORMACIÓN Y DOCUMENTOS","SOLICITUD DE INFORMACIÓN HIDROMETEOROLÓGICA","GRUPO DE SERVICIO AL CIUDADANO ","2021-11-15","CORREO ELECTRÓNICO",{"$f":"IFERROR(WORKDAY(C1170,P1170,DiasNOLaborables),\"\")","v":"2021-12-10"},{"$f":"+IF(C1170=\"\",\"\",IF(H1170=\"\",\"SIN RESPUESTA\",(IF(H1170<=J1170,\"A TIEMPO\",\"FUERA DE TIEMPO\"))))","v":"A TIEMPO"},{"$f":"IF(H1170=\"\",\"\",NETWORKDAYS(C1170+1,H1170,DiasNOLaborables))","v":2},{"$f":"IF(NETWORKDAYS(J1170+1,H1170,DiasNOLaborables)<=0,\"\",NETWORKDAYS(J1170+1,H1170,DiasNOLaborables))","v":""},null,null,{"$f":"IFERROR(VLOOKUP(E1170,$X$51:$Y$64,2),\"\")","v":20}]
[1160,20219050130002,"2021-11-10","CORREO ELECTRÓNICO","SOLICITUD DE INFORMACIÓN Y DOCUMENTOS","PRONÓSTICOS Y ALERTAS","OFICINA DEL SERVICIO DE PRONÓSTICOS Y ALERTAS","2021-11-19","CORREO ELECTRÓNICO",{"$f":"IFERROR(WORKDAY(C1171,P1171,DiasNOLaborables),\"\")","v":"2021-12-10"},{"$f":"+IF(C1171=\"\",\"\",IF(H1171=\"\",\"SIN RESPUESTA\",(IF(H1171<=J1171,\"A TIEMPO\",\"FUERA DE TIEMPO\"))))","v":"A TIEMPO"},{"$f":"IF(H1171=\"\",\"\",NETWORKDAYS(C1171+1,H1171,DiasNOLaborables))","v":6},{"$f":"IF(NETWORKDAYS(J1171+1,H1171,DiasNOLaborables)<=0,\"\",NETWORKDAYS(J1171+1,H1171,DiasNOLaborables))","v":""},null,null,{"$f":"IFERROR(VLOOKUP(E1171,$X$51:$Y$64,2),\"\")","v":20}]
[1161,20219050130042,"2021-11-10","CORREO ELECTRÓNICO","SOLICITUD DE INFORMACIÓN Y DOCUMENTOS","ADMINISTRATIVA","GRUPO DE ADMINISTRACIÓN Y DESARROLLO DEL TALENTO HUMANO","2021-11-30","CORREO ELECTRÓNICO",{"$f":"IFERROR(WORKDAY(C1172,P1172,DiasNOLaborables),\"\")","v":"2021-12-10"},{"$f":"+IF(C1172=\"\",\"\",IF(H1172=\"\",\"SIN RESPUESTA\",(IF(H1172<=J1172,\"A TIEMPO\",\"FUERA DE TIEMPO\"))))","v":"A TIEMPO"},{"$f":"IF(H1172=\"\",\"\",NETWORKDAYS(C1172+1,H1172,DiasNOLaborables))","v":13},{"$f":"IF(NETWORKDAYS(J1172+1,H1172,DiasNOLaborables)<=0,\"\",NETWORKDAYS(J1172+1,H1172,DiasNOLaborables))","v":""},null,null,{"$f":"IFERROR(VLOOKUP(E1172,$X$51:$Y$64,2),\"\")","v":20}]
[1162,20219050130052,"2021-11-10","CORREO ELECTRÓNICO","CERTIFICACIONES DE TIEMPO, CLIMA Y EVENTOS HIDROLÓGICOS","CERTIFICACIONES DE TIEMPO Y CLIMA","SUBDIRECCIÓN DE METEOROLOGÍA","2021-11-18","CORREO ELECTRÓNICO",{"$f":"IFERROR(WORKDAY(C1173,P1173,DiasNOLaborables),\"\")","v":"2021-12-31"},{"$f":"+IF(C1173=\"\",\"\",IF(H1173=\"\",\"SIN RESPUESTA\",(IF(H1173<=J1173,\"A TIEMPO\",\"FUERA DE TIEMPO\"))))","v":"A TIEMPO"},{"$f":"IF(H1173=\"\",\"\",NETWORKDAYS(C1173+1,H1173,DiasNOLaborables))","v":5},{"$f":"IF(NETWORKDAYS(J1173+1,H1173,DiasNOLaborables)<=0,\"\",NETWORKDAYS(J1173+1,H1173,DiasNOLaborables))","v":""},null,null,{"$f":"IFERROR(VLOOKUP(E1173,$X$51:$Y$64,2),\"\")","v":35}]
[1163,20219050129772,"2021-11-10","MODULO CONTACTENOS","SOLICITUD DE INFORMACIÓN Y DOCUMENTOS","SOLICITUD DE INFORMACIÓN HIDROMETEOROLÓGICA","SUBDIRECCIÓN DE METEOROLOGÍA","2021-11-29","CORREO ELECTRÓNICO",{"$f":"IFERROR(WORKDAY(C1174,P1174,DiasNOLaborables),\"\")","v":"2021-12-10"},{"$f":"+IF(C1174=\"\",\"\",IF(H1174=\"\",\"SIN RESPUESTA\",(IF(H1174<=J1174,\"A TIEMPO\",\"FUERA DE TIEMPO\"))))","v":"A TIEMPO"},{"$f":"IF(H1174=\"\",\"\",NETWORKDAYS(C1174+1,H1174,DiasNOLaborables))","v":12},{"$f":"IF(NETWORKDAYS(J1174+1,H1174,DiasNOLaborables)<=0,\"\",NETWORKDAYS(J1174+1,H1174,DiasNOLaborables))","v":""},null,null,{"$f":"IFERROR(VLOOKUP(E1174,$X$51:$Y$64,2),\"\")","v":20}]
[1164,20219050130102,"2021-11-10","MODULO CONTACTENOS","SOLICITUD DE INFORMACIÓN Y DOCUMENTOS","SOLICITUD DE INFORMACIÓN HIDROMETEOROLÓGICA","GRUPO DE SERVICIO AL CIUDADANO ","2021-12-02","CORREO ELECTRÓNICO",{"$f":"IFERROR(WORKDAY(C1175,P1175,DiasNOLaborables),\"\")","v":"2021-12-10"},{"$f":"+IF(C1175=\"\",\"\",IF(H1175=\"\",\"SIN RESPUESTA\",(IF(H1175<=J1175,\"A TIEMPO\",\"FUERA DE TIEMPO\"))))","v":"A TIEMPO"},{"$f":"IF(H1175=\"\",\"\",NETWORKDAYS(C1175+1,H1175,DiasNOLaborables))","v":15},{"$f":"IF(NETWORKDAYS(J1175+1,H1175,DiasNOLaborables)<=0,\"\",NETWORKDAYS(J1175+1,H1175,DiasNOLaborables))","v":""},null,null,{"$f":"IFERROR(VLOOKUP(E1175,$X$51:$Y$64,2),\"\")","v":20}]
[1165,20219050130192,"2021-11-11","MODULO CONTACTENOS","SOLICITUD DE INFORMACIÓN Y DOCUMENTOS","SOLICITUD DE INFORMACIÓN HIDROMETEOROLÓGICA","GRUPO DE SERVICIO AL CIUDADANO ","2021-11-30","CORREO ELECTRÓNICO",{"$f":"IFERROR(WORKDAY(C1176,P1176,DiasNOLaborables),\"\")","v":"2021-12-13"},{"$f":"+IF(C1176=\"\",\"\",IF(H1176=\"\",\"SIN RESPUESTA\",(IF(H1176<=J1176,\"A TIEMPO\",\"FUERA DE TIEMPO\"))))","v":"A TIEMPO"},{"$f":"IF(H1176=\"\",\"\",NETWORKDAYS(C1176+1,H1176,DiasNOLaborables))","v":12},{"$f":"IF(NETWORKDAYS(J1176+1,H1176,DiasNOLaborables)<=0,\"\",NETWORKDAYS(J1176+1,H1176,DiasNOLaborables))","v":""},null,null,{"$f":"IFERROR(VLOOKUP(E1176,$X$51:$Y$64,2),\"\")","v":20}]
[1166,20219050130202,"2021-11-11","MODULO CONTACTENOS","SOLICITUD DE INFORMACIÓN Y DOCUMENTOS","SOLICITUD DE INFORMACIÓN HIDROMETEOROLÓGICA","GRUPO DE SERVICIO AL CIUDADANO ","2021-11-30","CORREO ELECTRÓNICO",{"$f":"IFERROR(WORKDAY(C1177,P1177,DiasNOLaborables),\"\")","v":"2021-12-13"},{"$f":"+IF(C1177=\"\",\"\",IF(H1177=\"\",\"SIN RESPUESTA\",(IF(H1177<=J1177,\"A TIEMPO\",\"FUERA DE TIEMPO\"))))","v":"A TIEMPO"},{"$f":"IF(H1177=\"\",\"\",NETWORKDAYS(C1177+1,H1177,DiasNOLaborables))","v":12},{"$f":"IF(NETWORKDAYS(J1177+1,H1177,DiasNOLaborables)<=0,\"\",NETWORKDAYS(J1177+1,H1177,DiasNOLaborables))","v":""},null,null,{"$f":"IFERROR(VLOOKUP(E1177,$X$51:$Y$64,2),\"\")","v":20}]
[1167,20219050130232,"2021-11-11","MODULO CONTACTENOS","SOLICITUD DE INFORMACIÓN Y DOCUMENTOS","SOLICITUD DE INFORMACIÓN HIDROMETEOROLÓGICA","GRUPO DE SERVICIO AL CIUDADANO ","2021-11-30","CORREO ELECTRÓNICO",{"$f":"IFERROR(WORKDAY(C1178,P1178,DiasNOLaborables),\"\")","v":"2021-12-13"},{"$f":"+IF(C1178=\"\",\"\",IF(H1178=\"\",\"SIN RESPUESTA\",(IF(H1178<=J1178,\"A TIEMPO\",\"FUERA DE TIEMPO\"))))","v":"A TIEMPO"},{"$f":"IF(H1178=\"\",\"\",NETWORKDAYS(C1178+1,H1178,DiasNOLaborables))","v":12},{"$f":"IF(NETWORKDAYS(J1178+1,H1178,DiasNOLaborables)<=0,\"\",NETWORKDAYS(J1178+1,H1178,DiasNOLaborables))","v":""},null,null,{"$f":"IFERROR(VLOOKUP(E1178,$X$51:$Y$64,2),\"\")","v":20}]
[1168,20219050130242,"2021-11-11","MODULO CONTACTENOS","SOLICITUD DE INFORMACIÓN Y DOCUMENTOS","SOLICITUD DE INFORMACIÓN HIDROMETEOROLÓGICA","GRUPO DE SERVICIO AL CIUDADANO ","2021-11-30","CORREO ELECTRÓNICO",{"$f":"IFERROR(WORKDAY(C1179,P1179,DiasNOLaborables),\"\")","v":"2021-12-13"},{"$f":"+IF(C1179=\"\",\"\",IF(H1179=\"\",\"SIN RESPUESTA\",(IF(H1179<=J1179,\"A TIEMPO\",\"FUERA DE TIEMPO\"))))","v":"A TIEMPO"},{"$f":"IF(H1179=\"\",\"\",NETWORKDAYS(C1179+1,H1179,DiasNOLaborables))","v":12},{"$f":"IF(NETWORKDAYS(J1179+1,H1179,DiasNOLaborables)<=0,\"\",NETWORKDAYS(J1179+1,H1179,DiasNOLaborables))","v":""},null,null,{"$f":"IFERROR(VLOOKUP(E1179,$X$51:$Y$64,2),\"\")","v":20}]
[1169,20219050130252,"2021-11-11","MODULO CONTACTENOS","SOLICITUD DE INFORMACIÓN Y DOCUMENTOS","SOLICITUD DE INFORMACIÓN HIDROMETEOROLÓGICA","GRUPO DE SERVICIO AL CIUDADANO ","2021-11-30","CORREO ELECTRÓNICO",{"$f":"IFERROR(WORKDAY(C1180,P1180,DiasNOLaborables),\"\")","v":"2021-12-13"},{"$f":"+IF(C1180=\"\",\"\",IF(H1180=\"\",\"SIN RESPUESTA\",(IF(H1180<=J1180,\"A TIEMPO\",\"FUERA DE TIEMPO\"))))","v":"A TIEMPO"},{"$f":"IF(H1180=\"\",\"\",NETWORKDAYS(C1180+1,H1180,DiasNOLaborables))","v":12},{"$f":"IF(NETWORKDAYS(J1180+1,H1180,DiasNOLaborables)<=0,\"\",NETWORKDAYS(J1180+1,H1180,DiasNOLaborables))","v":""},null,null,{"$f":"IFERROR(VLOOKUP(E1180,$X$51:$Y$64,2),\"\")","v":20}]
[1170,20219050130282,"2021-11-11","MODULO CONTACTENOS","SOLICITUD DE INFORMACIÓN Y DOCUMENTOS","SOLICITUD DE INFORMACIÓN HIDROMETEOROLÓGICA","GRUPO DE SERVICIO AL CIUDADANO ","2021-11-30","CORREO ELECTRÓNICO",{"$f":"IFERROR(WORKDAY(C1181,P1181,DiasNOLaborables),\"\")","v":"2021-12-13"},{"$f":"+IF(C1181=\"\",\"\",IF(H1181=\"\",\"SIN RESPUESTA\",(IF(H1181<=J1181,\"A TIEMPO\",\"FUERA DE TIEMPO\"))))","v":"A TIEMPO"},{"$f":"IF(H1181=\"\",\"\",NETWORKDAYS(C1181+1,H1181,DiasNOLaborables))","v":12},{"$f":"IF(NETWORKDAYS(J1181+1,H1181,DiasNOLaborables)<=0,\"\",NETWORKDAYS(J1181+1,H1181,DiasNOLaborables))","v":""},null,null,{"$f":"IFERROR(VLOOKUP(E1181,$X$51:$Y$64,2),\"\")","v":20}]
[1171,20219050130312,"2021-11-11","MODULO CONTACTENOS","SOLICITUD DE INFORMACIÓN Y DOCUMENTOS","SOLICITUD DE INFORMACIÓN HIDROMETEOROLÓGICA","GRUPO DE SERVICIO AL CIUDADANO ","2021-11-30","CORREO ELECTRÓNICO",{"$f":"IFERROR(WORKDAY(C1182,P1182,DiasNOLaborables),\"\")","v":"2021-12-13"},{"$f":"+IF(C1182=\"\",\"\",IF(H1182=\"\",\"SIN RESPUESTA\",(IF(H1182<=J1182,\"A TIEMPO\",\"FUERA DE TIEMPO\"))))","v":"A TIEMPO"},{"$f":"IF(H1182=\"\",\"\",NETWORKDAYS(C1182+1,H1182,DiasNOLaborables))","v":12},{"$f":"IF(NETWORKDAYS(J1182+1,H1182,DiasNOLaborables)<=0,\"\",NETWORKDAYS(J1182+1,H1182,DiasNOLaborables))","v":""},null,null,{"$f":"IFERROR(VLOOKUP(E1182,$X$51:$Y$64,2),\"\")","v":20}]
[1172,20219050130392,"2021-11-11","MODULO CONTACTENOS","SOLICITUD DE INFORMACIÓN Y DOCUMENTOS","SOLICITUD DE INFORMACIÓN HIDROMETEOROLÓGICA","GRUPO DE SERVICIO AL CIUDADANO ","2021-12-06","CORREO ELECTRÓNICO",{"$f":"IFERROR(WORKDAY(C1183,P1183,DiasNOLaborables),\"\")","v":"2021-12-13"},{"$f":"+IF(C1183=\"\",\"\",IF(H1183=\"\",\"SIN RESPUESTA\",(IF(H1183<=J1183,\"A TIEMPO\",\"FUERA DE TIEMPO\"))))","v":"A TIEMPO"},{"$f":"IF(H1183=\"\",\"\",NETWORKDAYS(C1183+1,H1183,DiasNOLaborables))","v":16},{"$f":"IF(NETWORKDAYS(J1183+1,H1183,DiasNOLaborables)<=0,\"\",NETWORKDAYS(J1183+1,H1183,DiasNOLaborables))","v":""},null,null,{"$f":"IFERROR(VLOOKUP(E1183,$X$51:$Y$64,2),\"\")","v":20}]
[1173,20219050130412,"2021-11-11","MODULO CONTACTENOS","SOLICITUD DE INFORMACIÓN Y DOCUMENTOS","SOLICITUD DE INFORMACIÓN HIDROMETEOROLÓGICA","GRUPO DE SERVICIO AL CIUDADANO ","2021-12-06","CORREO ELECTRÓNICO",{"$f":"IFERROR(WORKDAY(C1184,P1184,DiasNOLaborables),\"\")","v":"2021-12-13"},{"$f":"+IF(C1184=\"\",\"\",IF(H1184=\"\",\"SIN RESPUESTA\",(IF(H1184<=J1184,\"A TIEMPO\",\"FUERA DE TIEMPO\"))))","v":"A TIEMPO"},{"$f":"IF(H1184=\"\",\"\",NETWORKDAYS(C1184+1,H1184,DiasNOLaborables))","v":16},{"$f":"IF(NETWORKDAYS(J1184+1,H1184,DiasNOLaborables)<=0,\"\",NETWORKDAYS(J1184+1,H1184,DiasNOLaborables))","v":""},null,null,{"$f":"IFERROR(VLOOKUP(E1184,$X$51:$Y$64,2),\"\")","v":20}]
[1174,20219050130422,"2021-11-11","MODULO CONTACTENOS","SOLICITUD DE INFORMACIÓN Y DOCUMENTOS","SOLICITUD DE INFORMACIÓN HIDROMETEOROLÓGICA","GRUPO DE SERVICIO AL CIUDADANO ","2021-12-06","CORREO ELECTRÓNICO",{"$f":"IFERROR(WORKDAY(C1185,P1185,DiasNOLaborables),\"\")","v":"2021-12-13"},{"$f":"+IF(C1185=\"\",\"\",IF(H1185=\"\",\"SIN RESPUESTA\",(IF(H1185<=J1185,\"A TIEMPO\",\"FUERA DE TIEMPO\"))))","v":"A TIEMPO"},{"$f":"IF(H1185=\"\",\"\",NETWORKDAYS(C1185+1,H1185,DiasNOLaborables))","v":16},{"$f":"IF(NETWORKDAYS(J1185+1,H1185,DiasNOLaborables)<=0,\"\",NETWORKDAYS(J1185+1,H1185,DiasNOLaborables))","v":""},null,null,{"$f":"IFERROR(VLOOKUP(E1185,$X$51:$Y$64,2),\"\")","v":20}]
[1175,20219050130492,"2021-11-11","MODULO CONTACTENOS","SOLICITUD DE INFORMACIÓN Y DOCUMENTOS","SOLICITUD DE INFORMACIÓN HIDROMETEOROLÓGICA","GRUPO DE SERVICIO AL CIUDADANO ","2021-12-06","CORREO ELECTRÓNICO",{"$f":"IFERROR(WORKDAY(C1186,P1186,DiasNOLaborables),\"\")","v":"2021-12-13"},{"$f":"+IF(C1186=\"\",\"\",IF(H1186=\"\",\"SIN RESPUESTA\",(IF(H1186<=J1186,\"A TIEMPO\",\"FUERA DE TIEMPO\"))))","v":"A TIEMPO"},{"$f":"IF(H1186=\"\",\"\",NETWORKDAYS(C1186+1,H1186,DiasNOLaborables))","v":16},{"$f":"IF(NETWORKDAYS(J1186+1,H1186,DiasNOLaborables)<=0,\"\",NETWORKDAYS(J1186+1,H1186,DiasNOLaborables))","v":""},null,null,{"$f":"IFERROR(VLOOKUP(E1186,$X$51:$Y$64,2),\"\")","v":20}]
[1176,20219050130522,"2021-11-11","MODULO CONTACTENOS","SOLICITUD DE INFORMACIÓN Y DOCUMENTOS","SOLICITUD DE INFORMACIÓN HIDROMETEOROLÓGICA","GRUPO DE SERVICIO AL CIUDADANO ","2021-12-06","CORREO ELECTRÓNICO",{"$f":"IFERROR(WORKDAY(C1187,P1187,DiasNOLaborables),\"\")","v":"2021-12-13"},{"$f":"+IF(C1187=\"\",\"\",IF(H1187=\"\",\"SIN RESPUESTA\",(IF(H1187<=J1187,\"A TIEMPO\",\"FUERA DE TIEMPO\"))))","v":"A TIEMPO"},{"$f":"IF(H1187=\"\",\"\",NETWORKDAYS(C1187+1,H1187,DiasNOLaborables))","v":16},{"$f":"IF(NETWORKDAYS(J1187+1,H1187,DiasNOLaborables)<=0,\"\",NETWORKDAYS(J1187+1,H1187,DiasNOLaborables))","v":""},null,null,{"$f":"IFERROR(VLOOKUP(E1187,$X$51:$Y$64,2),\"\")","v":20}]
[1177,20219050130532,"2021-11-11","MODULO CONTACTENOS","SOLICITUD DE INFORMACIÓN Y DOCUMENTOS","SOLICITUD DE INFORMACIÓN HIDROMETEOROLÓGICA","GRUPO DE SERVICIO AL CIUDADANO ","2021-12-06","CORREO ELECTRÓNICO",{"$f":"IFERROR(WORKDAY(C1188,P1188,DiasNOLaborables),\"\")","v":"2021-12-13"},{"$f":"+IF(C1188=\"\",\"\",IF(H1188=\"\",\"SIN RESPUESTA\",(IF(H1188<=J1188,\"A TIEMPO\",\"FUERA DE TIEMPO\"))))","v":"A TIEMPO"},{"$f":"IF(H1188=\"\",\"\",NETWORKDAYS(C1188+1,H1188,DiasNOLaborables))","v":16},{"$f":"IF(NETWORKDAYS(J1188+1,H1188,DiasNOLaborables)<=0,\"\",NETWORKDAYS(J1188+1,H1188,DiasNOLaborables))","v":""},null,null,{"$f":"IFERROR(VLOOKUP(E1188,$X$51:$Y$64,2),\"\")","v":20}]
[1178,20219050130172,"2021-11-11","MODULO CONTACTENOS","SOLICITUD DE INFORMACIÓN Y DOCUMENTOS","SOLICITUD DE INFORMACIÓN HIDROMETEOROLÓGICA","GRUPO DE SERVICIO AL CIUDADANO ","2021-12-02","CORREO ELECTRÓNICO",{"$f":"IFERROR(WORKDAY(C1189,P1189,DiasNOLaborables),\"\")","v":"2021-12-13"},{"$f":"+IF(C1189=\"\",\"\",IF(H1189=\"\",\"SIN RESPUESTA\",(IF(H1189<=J1189,\"A TIEMPO\",\"FUERA DE TIEMPO\"))))","v":"A TIEMPO"},{"$f":"IF(H1189=\"\",\"\",NETWORKDAYS(C1189+1,H1189,DiasNOLaborables))","v":14},{"$f":"IF(NETWORKDAYS(J1189+1,H1189,DiasNOLaborables)<=0,\"\",NETWORKDAYS(J1189+1,H1189,DiasNOLaborables))","v":""},null,null,{"$f":"IFERROR(VLOOKUP(E1189,$X$51:$Y$64,2),\"\")","v":20}]
[1179,20219050130262,"2021-11-11","CORREO ELECTRÓNICO","SOLICITUD DE INFORMACIÓN Y DOCUMENTOS","ADMINISTRATIVA","GRUPO DE ADMINISTRACIÓN Y DESARROLLO DEL TALENTO HUMANO","2021-11-16","CORREO ELECTRÓNICO",{"$f":"IFERROR(WORKDAY(C1190,P1190,DiasNOLaborables),\"\")","v":"2021-12-13"},{"$f":"+IF(C1190=\"\",\"\",IF(H1190=\"\",\"SIN RESPUESTA\",(IF(H1190<=J1190,\"A TIEMPO\",\"FUERA DE TIEMPO\"))))","v":"A TIEMPO"},{"$f":"IF(H1190=\"\",\"\",NETWORKDAYS(C1190+1,H1190,DiasNOLaborables))","v":2},{"$f":"IF(NETWORKDAYS(J1190+1,H1190,DiasNOLaborables)<=0,\"\",NETWORKDAYS(J1190+1,H1190,DiasNOLaborables))","v":""},null,null,{"$f":"IFERROR(VLOOKUP(E1190,$X$51:$Y$64,2),\"\")","v":20}]
[1180,20219050130272,"2021-11-11","CORREO ELECTRÓNICO","SOLICITUD DE INFORMACIÓN Y DOCUMENTOS","SOLICITUD DE INFORMACIÓN HIDROMETEOROLÓGICA","SUBDIRECCIÓN DE HIDROLOGÍA","2021-11-18","CORREO ELECTRÓNICO",{"$f":"IFERROR(WORKDAY(C1191,P1191,DiasNOLaborables),\"\")","v":"2021-12-13"},{"$f":"+IF(C1191=\"\",\"\",IF(H1191=\"\",\"SIN RESPUESTA\",(IF(H1191<=J1191,\"A TIEMPO\",\"FUERA DE TIEMPO\"))))","v":"A TIEMPO"},{"$f":"IF(H1191=\"\",\"\",NETWORKDAYS(C1191+1,H1191,DiasNOLaborables))","v":4},{"$f":"IF(NETWORKDAYS(J1191+1,H1191,DiasNOLaborables)<=0,\"\",NETWORKDAYS(J1191+1,H1191,DiasNOLaborables))","v":""},null,null,{"$f":"IFERROR(VLOOKUP(E1191,$X$51:$Y$64,2),\"\")","v":20}]
[1181,20219050130292,"2021-11-11","CORREO ELECTRÓNICO","CERTIFICACIONES DE TIEMPO, CLIMA Y EVENTOS HIDROLÓGICOS","CERTIFICACIONES DE TIEMPO Y CLIMA","SUBDIRECCIÓN DE METEOROLOGÍA","2021-12-07","CORREO ELECTRÓNICO",{"$f":"IFERROR(WORKDAY(C1192,P1192,DiasNOLaborables),\"\")","v":"2022-01-03"},{"$f":"+IF(C1192=\"\",\"\",IF(H1192=\"\",\"SIN RESPUESTA\",(IF(H1192<=J1192,\"A TIEMPO\",\"FUERA DE TIEMPO\"))))","v":"A TIEMPO"},{"$f":"IF(H1192=\"\",\"\",NETWORKDAYS(C1192+1,H1192,DiasNOLaborables))","v":17},{"$f":"IF(NETWORKDAYS(J1192+1,H1192,DiasNOLaborables)<=0,\"\",NETWORKDAYS(J1192+1,H1192,DiasNOLaborables))","v":""},null,null,{"$f":"IFERROR(VLOOKUP(E1192,$X$51:$Y$64,2),\"\")","v":35}]
[1182,20219050130302,"2021-11-11","CORREO ELECTRÓNICO","CERTIFICACIONES DE TIEMPO, CLIMA Y EVENTOS HIDROLÓGICOS","CERTIFICACIONES DE TIEMPO Y CLIMA","SUBDIRECCIÓN DE METEOROLOGÍA","2021-12-07","CORREO ELECTRÓNICO",{"$f":"IFERROR(WORKDAY(C1193,P1193,DiasNOLaborables),\"\")","v":"2022-01-03"},{"$f":"+IF(C1193=\"\",\"\",IF(H1193=\"\",\"SIN RESPUESTA\",(IF(H1193<=J1193,\"A TIEMPO\",\"FUERA DE TIEMPO\"))))","v":"A TIEMPO"},{"$f":"IF(H1193=\"\",\"\",NETWORKDAYS(C1193+1,H1193,DiasNOLaborables))","v":17},{"$f":"IF(NETWORKDAYS(J1193+1,H1193,DiasNOLaborables)<=0,\"\",NETWORKDAYS(J1193+1,H1193,DiasNOLaborables))","v":""},null,null,{"$f":"IFERROR(VLOOKUP(E1193,$X$51:$Y$64,2),\"\")","v":35}]
[1183,20219050130352,"2021-11-11","CORREO ELECTRÓNICO","SOLICITUD DE INFORMACIÓN Y DOCUMENTOS","ACREDITACIÓN DE LABORATORIOS","SUBDIRECCIÓN DE ESTUDIOS AMBIENTALES","2021-11-16","CORREO ELECTRÓNICO",{"$f":"IFERROR(WORKDAY(C1194,P1194,DiasNOLaborables),\"\")","v":"2021-12-13"},{"$f":"+IF(C1194=\"\",\"\",IF(H1194=\"\",\"SIN RESPUESTA\",(IF(H1194<=J1194,\"A TIEMPO\",\"FUERA DE TIEMPO\"))))","v":"A TIEMPO"},{"$f":"IF(H1194=\"\",\"\",NETWORKDAYS(C1194+1,H1194,DiasNOLaborables))","v":2},{"$f":"IF(NETWORKDAYS(J1194+1,H1194,DiasNOLaborables)<=0,\"\",NETWORKDAYS(J1194+1,H1194,DiasNOLaborables))","v":""},null,null,{"$f":"IFERROR(VLOOKUP(E1194,$X$51:$Y$64,2),\"\")","v":20}]
[1184,20219050130402,"2021-11-11","CORREO ELECTRÓNICO","SOLICITUD DE INFORMACIÓN Y DOCUMENTOS","REGISTROS AMBIENTALES","SUBDIRECCIÓN DE ESTUDIOS AMBIENTALES","2021-11-17","CORREO ELECTRÓNICO",{"$f":"IFERROR(WORKDAY(C1195,P1195,DiasNOLaborables),\"\")","v":"2021-12-13"},{"$f":"+IF(C1195=\"\",\"\",IF(H1195=\"\",\"SIN RESPUESTA\",(IF(H1195<=J1195,\"A TIEMPO\",\"FUERA DE TIEMPO\"))))","v":"A TIEMPO"},{"$f":"IF(H1195=\"\",\"\",NETWORKDAYS(C1195+1,H1195,DiasNOLaborables))","v":3},{"$f":"IF(NETWORKDAYS(J1195+1,H1195,DiasNOLaborables)<=0,\"\",NETWORKDAYS(J1195+1,H1195,DiasNOLaborables))","v":""},null,null,{"$f":"IFERROR(VLOOKUP(E1195,$X$51:$Y$64,2),\"\")","v":20}]
[1185,20219050130432,"2021-11-11","CORREO ELECTRÓNICO","SOLICITUD DE INFORMACIÓN Y DOCUMENTOS","INFORMES AMBIENTALES","SUBDIRECCIÓN DE HIDROLOGÍA","2021-11-22","CORREO ELECTRÓNICO",{"$f":"IFERROR(WORKDAY(C1196,P1196,DiasNOLaborables),\"\")","v":"2021-12-13"},{"$f":"+IF(C1196=\"\",\"\",IF(H1196=\"\",\"SIN RESPUESTA\",(IF(H1196<=J1196,\"A TIEMPO\",\"FUERA DE TIEMPO\"))))","v":"A TIEMPO"},{"$f":"IF(H1196=\"\",\"\",NETWORKDAYS(C1196+1,H1196,DiasNOLaborables))","v":6},{"$f":"IF(NETWORKDAYS(J1196+1,H1196,DiasNOLaborables)<=0,\"\",NETWORKDAYS(J1196+1,H1196,DiasNOLaborables))","v":""},null,null,{"$f":"IFERROR(VLOOKUP(E1196,$X$51:$Y$64,2),\"\")","v":20}]
[1186,20219050130502,"2021-11-11","CORREO ELECTRÓNICO","PETICIÓN","REGISTROS AMBIENTALES","SUBDIRECCIÓN DE ESTUDIOS AMBIENTALES","2021-11-30","CORREO ELECTRÓNICO",{"$f":"IFERROR(WORKDAY(C1197,P1197,DiasNOLaborables),\"\")","v":"2021-12-27"},{"$f":"+IF(C1197=\"\",\"\",IF(H1197=\"\",\"SIN RESPUESTA\",(IF(H1197<=J1197,\"A TIEMPO\",\"FUERA DE TIEMPO\"))))","v":"A TIEMPO"},{"$f":"IF(H1197=\"\",\"\",NETWORKDAYS(C1197+1,H1197,DiasNOLaborables))","v":12},{"$f":"IF(NETWORKDAYS(J1197+1,H1197,DiasNOLaborables)<=0,\"\",NETWORKDAYS(J1197+1,H1197,DiasNOLaborables))","v":""},null,null,{"$f":"IFERROR(VLOOKUP(E1197,$X$51:$Y$64,2),\"\")","v":30}]
[1187,20219050130512,"2021-11-11","CORREO ELECTRÓNICO","PETICIÓN","REGISTROS AMBIENTALES","SUBDIRECCIÓN DE ESTUDIOS AMBIENTALES","2021-11-30","CORREO ELECTRÓNICO",{"$f":"IFERROR(WORKDAY(C1198,P1198,DiasNOLaborables),\"\")","v":"2021-12-27"},{"$f":"+IF(C1198=\"\",\"\",IF(H1198=\"\",\"SIN RESPUESTA\",(IF(H1198<=J1198,\"A TIEMPO\",\"FUERA DE TIEMPO\"))))","v":"A TIEMPO"},{"$f":"IF(H1198=\"\",\"\",NETWORKDAYS(C1198+1,H1198,DiasNOLaborables))","v":12},{"$f":"IF(NETWORKDAYS(J1198+1,H1198,DiasNOLaborables)<=0,\"\",NETWORKDAYS(J1198+1,H1198,DiasNOLaborables))","v":""},null,null,{"$f":"IFERROR(VLOOKUP(E1198,$X$51:$Y$64,2),\"\")","v":30}]
[1188,20219050130152,"2021-11-11","MODULO CONTACTENOS","SOLICITUD DE INFORMACIÓN Y DOCUMENTOS","ADMINISTRATIVA","OFICINA ASESORA JURÍDICA","2021-11-19","CORREO ELECTRÓNICO",{"$f":"IFERROR(WORKDAY(C1199,P1199,DiasNOLaborables),\"\")","v":"2021-12-13"},{"$f":"+IF(C1199=\"\",\"\",IF(H1199=\"\",\"SIN RESPUESTA\",(IF(H1199<=J1199,\"A TIEMPO\",\"FUERA DE TIEMPO\"))))","v":"A TIEMPO"},{"$f":"IF(H1199=\"\",\"\",NETWORKDAYS(C1199+1,H1199,DiasNOLaborables))","v":5},{"$f":"IF(NETWORKDAYS(J1199+1,H1199,DiasNOLaborables)<=0,\"\",NETWORKDAYS(J1199+1,H1199,DiasNOLaborables))","v":""},null,null,{"$f":"IFERROR(VLOOKUP(E1199,$X$51:$Y$64,2),\"\")","v":20}]
[1189,20219050130162,"2021-11-11","MODULO CONTACTENOS","CERTIFICACIONES DE TIEMPO, CLIMA Y EVENTOS HIDROLÓGICOS","CERTIFICACIONES DE TIEMPO Y CLIMA","SUBDIRECCIÓN DE METEOROLOGÍA","2021-11-29","CORREO ELECTRÓNICO",{"$f":"IFERROR(WORKDAY(C1200,P1200,DiasNOLaborables),\"\")","v":"2022-01-03"},{"$f":"+IF(C1200=\"\",\"\",IF(H1200=\"\",\"SIN RESPUESTA\",(IF(H1200<=J1200,\"A TIEMPO\",\"FUERA DE TIEMPO\"))))","v":"A TIEMPO"},{"$f":"IF(H1200=\"\",\"\",NETWORKDAYS(C1200+1,H1200,DiasNOLaborables))","v":11},{"$f":"IF(NETWORKDAYS(J1200+1,H1200,DiasNOLaborables)<=0,\"\",NETWORKDAYS(J1200+1,H1200,DiasNOLaborables))","v":""},null,null,{"$f":"IFERROR(VLOOKUP(E1200,$X$51:$Y$64,2),\"\")","v":35}]
[1190,20217030001582,"2021-11-11","CORREO CERTIFICADO","PETICIÓN","SIRH","SUBDIRECCIÓN DE HIDROLOGÍA","2021-11-18","CORREO ELECTRÓNICO",{"$f":"IFERROR(WORKDAY(C1201,P1201,DiasNOLaborables),\"\")","v":"2021-12-27"},{"$f":"+IF(C1201=\"\",\"\",IF(H1201=\"\",\"SIN RESPUESTA\",(IF(H1201<=J1201,\"A TIEMPO\",\"FUERA DE TIEMPO\"))))","v":"A TIEMPO"},{"$f":"IF(H1201=\"\",\"\",NETWORKDAYS(C1201+1,H1201,DiasNOLaborables))","v":4},{"$f":"IF(NETWORKDAYS(J1201+1,H1201,DiasNOLaborables)<=0,\"\",NETWORKDAYS(J1201+1,H1201,DiasNOLaborables))","v":""},null,null,{"$f":"IFERROR(VLOOKUP(E1201,$X$51:$Y$64,2),\"\")","v":30}]
[1191,20219050130342,"2021-11-11","MODULO CONTACTENOS","SOLICITUD DE INFORMACIÓN Y DOCUMENTOS","SIA","SUBDIRECCIÓN DE ECOSISTEMAS E INFORMACIÓN AMBIENTAL","2021-11-12","CORREO ELECTRÓNICO",{"$f":"IFERROR(WORKDAY(C1202,P1202,DiasNOLaborables),\"\")","v":"2021-12-13"},{"$f":"+IF(C1202=\"\",\"\",IF(H1202=\"\",\"SIN RESPUESTA\",(IF(H1202<=J1202,\"A TIEMPO\",\"FUERA DE TIEMPO\"))))","v":"A TIEMPO"},{"$f":"IF(H1202=\"\",\"\",NETWORKDAYS(C1202+1,H1202,DiasNOLaborables))","v":1},{"$f":"IF(NETWORKDAYS(J1202+1,H1202,DiasNOLaborables)<=0,\"\",NETWORKDAYS(J1202+1,H1202,DiasNOLaborables))","v":""},null,null,{"$f":"IFERROR(VLOOKUP(E1202,$X$51:$Y$64,2),\"\")","v":20}]
[1192,20219050130442,"2021-11-11","MODULO CONTACTENOS","SOLICITUD DE INFORMACIÓN Y DOCUMENTOS","ADMINISTRATIVA","GRUPO DE ADMINISTRACIÓN Y DESARROLLO DEL TALENTO HUMANO","2021-11-22","CORREO ELECTRÓNICO",{"$f":"IFERROR(WORKDAY(C1203,P1203,DiasNOLaborables),\"\")","v":"2021-12-13"},{"$f":"+IF(C1203=\"\",\"\",IF(H1203=\"\",\"SIN RESPUESTA\",(IF(H1203<=J1203,\"A TIEMPO\",\"FUERA DE TIEMPO\"))))","v":"A TIEMPO"},{"$f":"IF(H1203=\"\",\"\",NETWORKDAYS(C1203+1,H1203,DiasNOLaborables))","v":6},{"$f":"IF(NETWORKDAYS(J1203+1,H1203,DiasNOLaborables)<=0,\"\",NETWORKDAYS(J1203+1,H1203,DiasNOLaborables))","v":""},null,null,{"$f":"IFERROR(VLOOKUP(E1203,$X$51:$Y$64,2),\"\")","v":20}]
[1193,20219050130482,"2021-11-11","MODULO CONTACTENOS","SOLICITUD DE INFORMACIÓN Y DOCUMENTOS","ADMINISTRATIVA","GRUPO DE ADMINISTRACIÓN Y DESARROLLO DEL TALENTO HUMANO","2021-11-22","CORREO ELECTRÓNICO",{"$f":"IFERROR(WORKDAY(C1204,P1204,DiasNOLaborables),\"\")","v":"2021-12-13"},{"$f":"+IF(C1204=\"\",\"\",IF(H1204=\"\",\"SIN RESPUESTA\",(IF(H1204<=J1204,\"A TIEMPO\",\"FUERA DE TIEMPO\"))))","v":"A TIEMPO"},{"$f":"IF(H1204=\"\",\"\",NETWORKDAYS(C1204+1,H1204,DiasNOLaborables))","v":6},{"$f":"IF(NETWORKDAYS(J1204+1,H1204,DiasNOLaborables)<=0,\"\",NETWORKDAYS(J1204+1,H1204,DiasNOLaborables))","v":""},null,null,{"$f":"IFERROR(VLOOKUP(E1204,$X$51:$Y$64,2),\"\")","v":20}]
[1194,20219050130362,"2021-11-11","MODULO CONTACTENOS","SOLICITUD DE INFORMACIÓN Y DOCUMENTOS","SOLICITUD DE INFORMACIÓN HIDROMETEOROLÓGICA","GRUPO DE SERVICIO AL CIUDADANO ","2021-12-06","CORREO ELECTRÓNICO",{"$f":"IFERROR(WORKDAY(C1205,P1205,DiasNOLaborables),\"\")","v":"2021-12-13"},{"$f":"+IF(C1205=\"\",\"\",IF(H1205=\"\",\"SIN RESPUESTA\",(IF(H1205<=J1205,\"A TIEMPO\",\"FUERA DE TIEMPO\"))))","v":"A TIEMPO"},{"$f":"IF(H1205=\"\",\"\",NETWORKDAYS(C1205+1,H1205,DiasNOLaborables))","v":16},{"$f":"IF(NETWORKDAYS(J1205+1,H1205,DiasNOLaborables)<=0,\"\",NETWORKDAYS(J1205+1,H1205,DiasNOLaborables))","v":""},null,null,{"$f":"IFERROR(VLOOKUP(E1205,$X$51:$Y$64,2),\"\")","v":20}]
[1195,20219910062012,"2021-11-11","CORREO ELECTRÓNICO","CERTIFICACIONES DE TIEMPO, CLIMA Y EVENTOS HIDROLÓGICOS","CERTIFICACIONES DE TIEMPO Y CLIMA","SUBDIRECCIÓN DE METEOROLOGÍA","2021-12-02","CORREO ELECTRÓNICO",{"$f":"IFERROR(WORKDAY(C1206,P1206,DiasNOLaborables),\"\")","v":"2022-01-03"},{"$f":"+IF(C1206=\"\",\"\",IF(H1206=\"\",\"SIN RESPUESTA\",(IF(H1206<=J1206,\"A TIEMPO\",\"FUERA DE TIEMPO\"))))","v":"A TIEMPO"},{"$f":"IF(H1206=\"\",\"\",NETWORKDAYS(C1206+1,H1206,DiasNOLaborables))","v":14},{"$f":"IF(NETWORKDAYS(J1206+1,H1206,DiasNOLaborables)<=0,\"\",NETWORKDAYS(J1206+1,H1206,DiasNOLaborables))","v":""},null,null,{"$f":"IFERROR(VLOOKUP(E1206,$X$51:$Y$64,2),\"\")","v":35}]
[1196,20219910062282,"2021-11-12","CORREO CERTIFICADO","SOLICITUD JUDICIAL","CERTIFICACIONES DE TIEMPO Y CLIMA","SUBDIRECCIÓN DE METEOROLOGÍA","2021-11-18","CORREO ELECTRÓNICO",{"$f":"IFERROR(WORKDAY(C1207,P1207,DiasNOLaborables),\"\")","v":"2021-11-22"},{"$f":"+IF(C1207=\"\",\"\",IF(H1207=\"\",\"SIN RESPUESTA\",(IF(H1207<=J1207,\"A TIEMPO\",\"FUERA DE TIEMPO\"))))","v":"A TIEMPO"},{"$f":"IF(H1207=\"\",\"\",NETWORKDAYS(C1207+1,H1207,DiasNOLaborables))","v":3},{"$f":"IF(NETWORKDAYS(J1207+1,H1207,DiasNOLaborables)<=0,\"\",NETWORKDAYS(J1207+1,H1207,DiasNOLaborables))","v":""},null,null,{"$f":"IFERROR(VLOOKUP(E1207,$X$51:$Y$64,2),\"\")","v":5}]
[1197,20219050130542,"2021-11-12","MODULO CONTACTENOS","CERTIFICACIONES DE TIEMPO, CLIMA Y EVENTOS HIDROLÓGICOS","CERTIFICACIONES DE TIEMPO Y CLIMA","SUBDIRECCIÓN DE METEOROLOGÍA","2021-11-22","CORREO ELECTRÓNICO",{"$f":"IFERROR(WORKDAY(C1208,P1208,DiasNOLaborables),\"\")","v":"2022-01-04"},{"$f":"+IF(C1208=\"\",\"\",IF(H1208=\"\",\"SIN RESPUESTA\",(IF(H1208<=J1208,\"A TIEMPO\",\"FUERA DE TIEMPO\"))))","v":"A TIEMPO"},{"$f":"IF(H1208=\"\",\"\",NETWORKDAYS(C1208+1,H1208,DiasNOLaborables))","v":5},{"$f":"IF(NETWORKDAYS(J1208+1,H1208,DiasNOLaborables)<=0,\"\",NETWORKDAYS(J1208+1,H1208,DiasNOLaborables))","v":""},null,null,{"$f":"IFERROR(VLOOKUP(E1208,$X$51:$Y$64,2),\"\")","v":35}]
[1198,20219050130552,"2021-11-12","MODULO CONTACTENOS","SOLICITUD DE INFORMACIÓN Y DOCUMENTOS","ADMINISTRATIVA","GRUPO DE ADMINISTRACIÓN Y DESARROLLO DEL TALENTO HUMANO","2021-11-22","CORREO ELECTRÓNICO",{"$f":"IFERROR(WORKDAY(C1209,P1209,DiasNOLaborables),\"\")","v":"2021-12-14"},{"$f":"+IF(C1209=\"\",\"\",IF(H1209=\"\",\"SIN RESPUESTA\",(IF(H1209<=J1209,\"A TIEMPO\",\"FUERA DE TIEMPO\"))))","v":"A TIEMPO"},{"$f":"IF(H1209=\"\",\"\",NETWORKDAYS(C1209+1,H1209,DiasNOLaborables))","v":5},{"$f":"IF(NETWORKDAYS(J1209+1,H1209,DiasNOLaborables)<=0,\"\",NETWORKDAYS(J1209+1,H1209,DiasNOLaborables))","v":""},null,null,{"$f":"IFERROR(VLOOKUP(E1209,$X$51:$Y$64,2),\"\")","v":20}]
[1199,20219050130672,"2021-11-12","MODULO CONTACTENOS","SOLICITUD DE INFORMACIÓN Y DOCUMENTOS","LABORATORIO DE CALIDAD AMBIENTAL","SUBDIRECCIÓN DE HIDROLOGÍA","2021-11-22","CORREO ELECTRÓNICO",{"$f":"IFERROR(WORKDAY(C1210,P1210,DiasNOLaborables),\"\")","v":"2021-12-14"},{"$f":"+IF(C1210=\"\",\"\",IF(H1210=\"\",\"SIN RESPUESTA\",(IF(H1210<=J1210,\"A TIEMPO\",\"FUERA DE TIEMPO\"))))","v":"A TIEMPO"},{"$f":"IF(H1210=\"\",\"\",NETWORKDAYS(C1210+1,H1210,DiasNOLaborables))","v":5},{"$f":"IF(NETWORKDAYS(J1210+1,H1210,DiasNOLaborables)<=0,\"\",NETWORKDAYS(J1210+1,H1210,DiasNOLaborables))","v":""},null,null,{"$f":"IFERROR(VLOOKUP(E1210,$X$51:$Y$64,2),\"\")","v":20}]
[1200,20219050130562,"2021-11-12","MODULO CONTACTENOS","SOLICITUD DE INFORMACIÓN Y DOCUMENTOS","SOLICITUD DE INFORMACIÓN HIDROMETEOROLÓGICA","GRUPO DE SERVICIO AL CIUDADANO ","2021-12-06","CORREO ELECTRÓNICO",{"$f":"IFERROR(WORKDAY(C1211,P1211,DiasNOLaborables),\"\")","v":"2021-12-14"},{"$f":"+IF(C1211=\"\",\"\",IF(H1211=\"\",\"SIN RESPUESTA\",(IF(H1211<=J1211,\"A TIEMPO\",\"FUERA DE TIEMPO\"))))","v":"A TIEMPO"},{"$f":"IF(H1211=\"\",\"\",NETWORKDAYS(C1211+1,H1211,DiasNOLaborables))","v":15},{"$f":"IF(NETWORKDAYS(J1211+1,H1211,DiasNOLaborables)<=0,\"\",NETWORKDAYS(J1211+1,H1211,DiasNOLaborables))","v":""},null,null,{"$f":"IFERROR(VLOOKUP(E1211,$X$51:$Y$64,2),\"\")","v":20}]
[1201,20219050130582,"2021-11-12","CORREO ELECTRÓNICO","SOLICITUD DE INFORMACIÓN Y DOCUMENTOS","SOLICITUD DE INFORMACIÓN HIDROMETEOROLÓGICA","GRUPO DE SERVICIO AL CIUDADANO ","2021-11-26","CORREO ELECTRÓNICO",{"$f":"IFERROR(WORKDAY(C1212,P1212,DiasNOLaborables),\"\")","v":"2021-12-14"},{"$f":"+IF(C1212=\"\",\"\",IF(H1212=\"\",\"SIN RESPUESTA\",(IF(H1212<=J1212,\"A TIEMPO\",\"FUERA DE TIEMPO\"))))","v":"A TIEMPO"},{"$f":"IF(H1212=\"\",\"\",NETWORKDAYS(C1212+1,H1212,DiasNOLaborables))","v":9},{"$f":"IF(NETWORKDAYS(J1212+1,H1212,DiasNOLaborables)<=0,\"\",NETWORKDAYS(J1212+1,H1212,DiasNOLaborables))","v":""},null,null,{"$f":"IFERROR(VLOOKUP(E1212,$X$51:$Y$64,2),\"\")","v":20}]
[1202,20219050130592,"2021-11-12","CORREO ELECTRÓNICO","SOLICITUD DE INFORMACIÓN Y DOCUMENTOS","SOLICITUD DE INFORMACIÓN HIDROMETEOROLÓGICA","GRUPO DE SERVICIO AL CIUDADANO ","2021-11-26","CORREO ELECTRÓNICO",{"$f":"IFERROR(WORKDAY(C1213,P1213,DiasNOLaborables),\"\")","v":"2021-12-14"},{"$f":"+IF(C1213=\"\",\"\",IF(H1213=\"\",\"SIN RESPUESTA\",(IF(H1213<=J1213,\"A TIEMPO\",\"FUERA DE TIEMPO\"))))","v":"A TIEMPO"},{"$f":"IF(H1213=\"\",\"\",NETWORKDAYS(C1213+1,H1213,DiasNOLaborables))","v":9},{"$f":"IF(NETWORKDAYS(J1213+1,H1213,DiasNOLaborables)<=0,\"\",NETWORKDAYS(J1213+1,H1213,DiasNOLaborables))","v":""},null,null,{"$f":"IFERROR(VLOOKUP(E1213,$X$51:$Y$64,2),\"\")","v":20}]
[1203,20219050130602,"2021-11-12","CORREO ELECTRÓNICO","SOLICITUD DE INFORMACIÓN Y DOCUMENTOS","SOLICITUD DE INFORMACIÓN HIDROMETEOROLÓGICA","GRUPO DE SERVICIO AL CIUDADANO ","2021-11-26","CORREO ELECTRÓNICO",{"$f":"IFERROR(WORKDAY(C1214,P1214,DiasNOLaborables),\"\")","v":"2021-12-14"},{"$f":"+IF(C1214=\"\",\"\",IF(H1214=\"\",\"SIN RESPUESTA\",(IF(H1214<=J1214,\"A TIEMPO\",\"FUERA DE TIEMPO\"))))","v":"A TIEMPO"},{"$f":"IF(H1214=\"\",\"\",NETWORKDAYS(C1214+1,H1214,DiasNOLaborables))","v":9},{"$f":"IF(NETWORKDAYS(J1214+1,H1214,DiasNOLaborables)<=0,\"\",NETWORKDAYS(J1214+1,H1214,DiasNOLaborables))","v":""},null,null,{"$f":"IFERROR(VLOOKUP(E1214,$X$51:$Y$64,2),\"\")","v":20}]
[1204,20219050130652,"2021-11-12","MODULO CONTACTENOS","SOLICITUD DE INFORMACIÓN Y DOCUMENTOS","SOLICITUD DE INFORMACIÓN HIDROMETEOROLÓGICA","GRUPO DE SERVICIO AL CIUDADANO ","2021-11-27","CORREO ELECTRÓNICO",{"$f":"IFERROR(WORKDAY(C1215,P1215,DiasNOLaborables),\"\")","v":"2021-12-14"},{"$f":"+IF(C1215=\"\",\"\",IF(H1215=\"\",\"SIN RESPUESTA\",(IF(H1215<=J1215,\"A TIEMPO\",\"FUERA DE TIEMPO\"))))","v":"A TIEMPO"},{"$f":"IF(H1215=\"\",\"\",NETWORKDAYS(C1215+1,H1215,DiasNOLaborables))","v":9},{"$f":"IF(NETWORKDAYS(J1215+1,H1215,DiasNOLaborables)<=0,\"\",NETWORKDAYS(J1215+1,H1215,DiasNOLaborables))","v":""},null,null,{"$f":"IFERROR(VLOOKUP(E1215,$X$51:$Y$64,2),\"\")","v":20}]
[1205,20219050130662,"2021-11-12","CORREO ELECTRÓNICO","SOLICITUD DE INFORMACIÓN Y DOCUMENTOS","SOLICITUD DE INFORMACIÓN HIDROMETEOROLÓGICA","GRUPO DE SERVICIO AL CIUDADANO ","2021-11-27","CORREO ELECTRÓNICO",{"$f":"IFERROR(WORKDAY(C1216,P1216,DiasNOLaborables),\"\")","v":"2021-12-14"},{"$f":"+IF(C1216=\"\",\"\",IF(H1216=\"\",\"SIN RESPUESTA\",(IF(H1216<=J1216,\"A TIEMPO\",\"FUERA DE TIEMPO\"))))","v":"A TIEMPO"},{"$f":"IF(H1216=\"\",\"\",NETWORKDAYS(C1216+1,H1216,DiasNOLaborables))","v":9},{"$f":"IF(NETWORKDAYS(J1216+1,H1216,DiasNOLaborables)<=0,\"\",NETWORKDAYS(J1216+1,H1216,DiasNOLaborables))","v":""},null,null,{"$f":"IFERROR(VLOOKUP(E1216,$X$51:$Y$64,2),\"\")","v":20}]
[1206,20219050130702,"2021-11-12","MODULO CONTACTENOS","SOLICITUD DE INFORMACIÓN Y DOCUMENTOS","SOLICITUD DE INFORMACIÓN HIDROMETEOROLÓGICA","GRUPO DE SERVICIO AL CIUDADANO ","2021-11-27","CORREO ELECTRÓNICO",{"$f":"IFERROR(WORKDAY(C1217,P1217,DiasNOLaborables),\"\")","v":"2021-12-14"},{"$f":"+IF(C1217=\"\",\"\",IF(H1217=\"\",\"SIN RESPUESTA\",(IF(H1217<=J1217,\"A TIEMPO\",\"FUERA DE TIEMPO\"))))","v":"A TIEMPO"},{"$f":"IF(H1217=\"\",\"\",NETWORKDAYS(C1217+1,H1217,DiasNOLaborables))","v":9},{"$f":"IF(NETWORKDAYS(J1217+1,H1217,DiasNOLaborables)<=0,\"\",NETWORKDAYS(J1217+1,H1217,DiasNOLaborables))","v":""},null,null,{"$f":"IFERROR(VLOOKUP(E1217,$X$51:$Y$64,2),\"\")","v":20}]
[1207,20219050130712,"2021-11-12","MODULO CONTACTENOS","SOLICITUD DE INFORMACIÓN Y DOCUMENTOS","SOLICITUD DE INFORMACIÓN HIDROMETEOROLÓGICA","GRUPO DE SERVICIO AL CIUDADANO ","2021-11-27","CORREO ELECTRÓNICO",{"$f":"IFERROR(WORKDAY(C1218,P1218,DiasNOLaborables),\"\")","v":"2021-12-14"},{"$f":"+IF(C1218=\"\",\"\",IF(H1218=\"\",\"SIN RESPUESTA\",(IF(H1218<=J1218,\"A TIEMPO\",\"FUERA DE TIEMPO\"))))","v":"A TIEMPO"},{"$f":"IF(H1218=\"\",\"\",NETWORKDAYS(C1218+1,H1218,DiasNOLaborables))","v":9},{"$f":"IF(NETWORKDAYS(J1218+1,H1218,DiasNOLaborables)<=0,\"\",NETWORKDAYS(J1218+1,H1218,DiasNOLaborables))","v":""},null,null,{"$f":"IFERROR(VLOOKUP(E1218,$X$51:$Y$64,2),\"\")","v":20}]
[1208,20219050130732,"2021-11-12","CORREO ELECTRÓNICO","SOLICITUD DE INFORMACIÓN Y DOCUMENTOS","SOLICITUD DE INFORMACIÓN HIDROMETEOROLÓGICA","GRUPO DE SERVICIO AL CIUDADANO ","2021-11-27","CORREO ELECTRÓNICO",{"$f":"IFERROR(WORKDAY(C1219,P1219,DiasNOLaborables),\"\")","v":"2021-12-14"},{"$f":"+IF(C1219=\"\",\"\",IF(H1219=\"\",\"SIN RESPUESTA\",(IF(H1219<=J1219,\"A TIEMPO\",\"FUERA DE TIEMPO\"))))","v":"A TIEMPO"},{"$f":"IF(H1219=\"\",\"\",NETWORKDAYS(C1219+1,H1219,DiasNOLaborables))","v":9},{"$f":"IF(NETWORKDAYS(J1219+1,H1219,DiasNOLaborables)<=0,\"\",NETWORKDAYS(J1219+1,H1219,DiasNOLaborables))","v":""},null,null,{"$f":"IFERROR(VLOOKUP(E1219,$X$51:$Y$64,2),\"\")","v":20}]
[1209,20219050130802,"2021-11-12","MODULO CONTACTENOS","SOLICITUD DE INFORMACIÓN Y DOCUMENTOS","SOLICITUD DE INFORMACIÓN HIDROMETEOROLÓGICA","GRUPO DE SERVICIO AL CIUDADANO ","2021-11-27","CORREO ELECTRÓNICO",{"$f":"IFERROR(WORKDAY(C1220,P1220,DiasNOLaborables),\"\")","v":"2021-12-14"},{"$f":"+IF(C1220=\"\",\"\",IF(H1220=\"\",\"SIN RESPUESTA\",(IF(H1220<=J1220,\"A TIEMPO\",\"FUERA DE TIEMPO\"))))","v":"A TIEMPO"},{"$f":"IF(H1220=\"\",\"\",NETWORKDAYS(C1220+1,H1220,DiasNOLaborables))","v":9},{"$f":"IF(NETWORKDAYS(J1220+1,H1220,DiasNOLaborables)<=0,\"\",NETWORKDAYS(J1220+1,H1220,DiasNOLaborables))","v":""},null,null,{"$f":"IFERROR(VLOOKUP(E1220,$X$51:$Y$64,2),\"\")","v":20}]
[1210,20219050130682,"2021-11-12","MODULO CONTACTENOS","SOLICITUD DE INFORMACIÓN Y DOCUMENTOS","LABORATORIO DE CALIDAD AMBIENTAL","SUBDIRECCIÓN DE HIDROLOGÍA","2021-11-22","CORREO ELECTRÓNICO",{"$f":"IFERROR(WORKDAY(C1221,P1221,DiasNOLaborables),\"\")","v":"2021-12-14"},{"$f":"+IF(C1221=\"\",\"\",IF(H1221=\"\",\"SIN RESPUESTA\",(IF(H1221<=J1221,\"A TIEMPO\",\"FUERA DE TIEMPO\"))))","v":"A TIEMPO"},{"$f":"IF(H1221=\"\",\"\",NETWORKDAYS(C1221+1,H1221,DiasNOLaborables))","v":5},{"$f":"IF(NETWORKDAYS(J1221+1,H1221,DiasNOLaborables)<=0,\"\",NETWORKDAYS(J1221+1,H1221,DiasNOLaborables))","v":""},null,null,{"$f":"IFERROR(VLOOKUP(E1221,$X$51:$Y$64,2),\"\")","v":20}]
[1211,20219050130692,"2021-11-12","MODULO CONTACTENOS","SOLICITUD DE INFORMACIÓN Y DOCUMENTOS","LABORATORIO DE CALIDAD AMBIENTAL","SUBDIRECCIÓN DE HIDROLOGÍA","2021-11-22","CORREO ELECTRÓNICO",{"$f":"IFERROR(WORKDAY(C1222,P1222,DiasNOLaborables),\"\")","v":"2021-12-14"},{"$f":"+IF(C1222=\"\",\"\",IF(H1222=\"\",\"SIN RESPUESTA\",(IF(H1222<=J1222,\"A TIEMPO\",\"FUERA DE TIEMPO\"))))","v":"A TIEMPO"},{"$f":"IF(H1222=\"\",\"\",NETWORKDAYS(C1222+1,H1222,DiasNOLaborables))","v":5},{"$f":"IF(NETWORKDAYS(J1222+1,H1222,DiasNOLaborables)<=0,\"\",NETWORKDAYS(J1222+1,H1222,DiasNOLaborables))","v":""},null,null,{"$f":"IFERROR(VLOOKUP(E1222,$X$51:$Y$64,2),\"\")","v":20}]
[1212,20219050130752,"2021-11-12","MODULO CONTACTENOS","CERTIFICACIONES DE TIEMPO, CLIMA Y EVENTOS HIDROLÓGICOS","CERTIFICACIONES DE TIEMPO Y CLIMA","SUBDIRECCIÓN DE METEOROLOGÍA","2021-11-22","CORREO ELECTRÓNICO",{"$f":"IFERROR(WORKDAY(C1223,P1223,DiasNOLaborables),\"\")","v":"2022-01-04"},{"$f":"+IF(C1223=\"\",\"\",IF(H1223=\"\",\"SIN RESPUESTA\",(IF(H1223<=J1223,\"A TIEMPO\",\"FUERA DE TIEMPO\"))))","v":"A TIEMPO"},{"$f":"IF(H1223=\"\",\"\",NETWORKDAYS(C1223+1,H1223,DiasNOLaborables))","v":5},{"$f":"IF(NETWORKDAYS(J1223+1,H1223,DiasNOLaborables)<=0,\"\",NETWORKDAYS(J1223+1,H1223,DiasNOLaborables))","v":""},null,null,{"$f":"IFERROR(VLOOKUP(E1223,$X$51:$Y$64,2),\"\")","v":35}]
[1213,20219050130812,"2021-11-12","CORREO ELECTRÓNICO","CERTIFICACIONES DE TIEMPO, CLIMA Y EVENTOS HIDROLÓGICOS","CERTIFICACIONES DE TIEMPO Y CLIMA","SUBDIRECCIÓN DE METEOROLOGÍA","2021-12-14","CORREO ELECTRÓNICO",{"$f":"IFERROR(WORKDAY(C1224,P1224,DiasNOLaborables),\"\")","v":"2022-01-04"},{"$f":"+IF(C1224=\"\",\"\",IF(H1224=\"\",\"SIN RESPUESTA\",(IF(H1224<=J1224,\"A TIEMPO\",\"FUERA DE TIEMPO\"))))","v":"A TIEMPO"},{"$f":"IF(H1224=\"\",\"\",NETWORKDAYS(C1224+1,H1224,DiasNOLaborables))","v":20},{"$f":"IF(NETWORKDAYS(J1224+1,H1224,DiasNOLaborables)<=0,\"\",NETWORKDAYS(J1224+1,H1224,DiasNOLaborables))","v":""},null,null,{"$f":"IFERROR(VLOOKUP(E1224,$X$51:$Y$64,2),\"\")","v":35}]
[1214,20219050130822,"2021-11-12","CORREO ELECTRÓNICO","CERTIFICACIONES DE TIEMPO, CLIMA Y EVENTOS HIDROLÓGICOS","CERTIFICACIONES DE TIEMPO Y CLIMA","SUBDIRECCIÓN DE METEOROLOGÍA","2021-12-14","CORREO ELECTRÓNICO",{"$f":"IFERROR(WORKDAY(C1225,P1225,DiasNOLaborables),\"\")","v":"2022-01-04"},{"$f":"+IF(C1225=\"\",\"\",IF(H1225=\"\",\"SIN RESPUESTA\",(IF(H1225<=J1225,\"A TIEMPO\",\"FUERA DE TIEMPO\"))))","v":"A TIEMPO"},{"$f":"IF(H1225=\"\",\"\",NETWORKDAYS(C1225+1,H1225,DiasNOLaborables))","v":20},{"$f":"IF(NETWORKDAYS(J1225+1,H1225,DiasNOLaborables)<=0,\"\",NETWORKDAYS(J1225+1,H1225,DiasNOLaborables))","v":""},null,null,{"$f":"IFERROR(VLOOKUP(E1225,$X$51:$Y$64,2),\"\")","v":35}]
[1215,20219050130832,"2021-11-12","CORREO ELECTRÓNICO","SOLICITUD DE INFORMACIÓN Y DOCUMENTOS","INFORMES AMBIENTALES","SUBDIRECCIÓN DE HIDROLOGÍA","2021-11-22","CORREO ELECTRÓNICO",{"$f":"IFERROR(WORKDAY(C1226,P1226,DiasNOLaborables),\"\")","v":"2021-12-14"},{"$f":"+IF(C1226=\"\",\"\",IF(H1226=\"\",\"SIN RESPUESTA\",(IF(H1226<=J1226,\"A TIEMPO\",\"FUERA DE TIEMPO\"))))","v":"A TIEMPO"},{"$f":"IF(H1226=\"\",\"\",NETWORKDAYS(C1226+1,H1226,DiasNOLaborables))","v":5},{"$f":"IF(NETWORKDAYS(J1226+1,H1226,DiasNOLaborables)<=0,\"\",NETWORKDAYS(J1226+1,H1226,DiasNOLaborables))","v":""},null,null,{"$f":"IFERROR(VLOOKUP(E1226,$X$51:$Y$64,2),\"\")","v":20}]
[1216,20219050130842,"2021-11-12","CORREO ELECTRÓNICO","CERTIFICACIONES DE TIEMPO, CLIMA Y EVENTOS HIDROLÓGICOS","CERTIFICACIONES DE TIEMPO Y CLIMA","SUBDIRECCIÓN DE METEOROLOGÍA","2021-11-23","CORREO ELECTRÓNICO",{"$f":"IFERROR(WORKDAY(C1227,P1227,DiasNOLaborables),\"\")","v":"2022-01-04"},{"$f":"+IF(C1227=\"\",\"\",IF(H1227=\"\",\"SIN RESPUESTA\",(IF(H1227<=J1227,\"A TIEMPO\",\"FUERA DE TIEMPO\"))))","v":"A TIEMPO"},{"$f":"IF(H1227=\"\",\"\",NETWORKDAYS(C1227+1,H1227,DiasNOLaborables))","v":6},{"$f":"IF(NETWORKDAYS(J1227+1,H1227,DiasNOLaborables)<=0,\"\",NETWORKDAYS(J1227+1,H1227,DiasNOLaborables))","v":""},null,null,{"$f":"IFERROR(VLOOKUP(E1227,$X$51:$Y$64,2),\"\")","v":35}]
[1217,20219050130722,"2021-11-12","MODULO CONTACTENOS","CERTIFICACIONES DE TIEMPO, CLIMA Y EVENTOS HIDROLÓGICOS","CERTIFICACIONES DE TIEMPO Y CLIMA","SUBDIRECCIÓN DE METEOROLOGÍA","2021-11-22","CORREO ELECTRÓNICO",{"$f":"IFERROR(WORKDAY(C1228,P1228,DiasNOLaborables),\"\")","v":"2022-01-04"},{"$f":"+IF(C1228=\"\",\"\",IF(H1228=\"\",\"SIN RESPUESTA\",(IF(H1228<=J1228,\"A TIEMPO\",\"FUERA DE TIEMPO\"))))","v":"A TIEMPO"},{"$f":"IF(H1228=\"\",\"\",NETWORKDAYS(C1228+1,H1228,DiasNOLaborables))","v":5},{"$f":"IF(NETWORKDAYS(J1228+1,H1228,DiasNOLaborables)<=0,\"\",NETWORKDAYS(J1228+1,H1228,DiasNOLaborables))","v":""},null,null,{"$f":"IFERROR(VLOOKUP(E1228,$X$51:$Y$64,2),\"\")","v":35}]
[1218,20219050130762,"2021-11-12","MODULO CONTACTENOS","SOLICITUD DE INFORMACIÓN Y DOCUMENTOS","CLIMATOLOGÍA","SUBDIRECCIÓN DE METEOROLOGÍA","2021-11-23","CORREO ELECTRÓNICO",{"$f":"IFERROR(WORKDAY(C1229,P1229,DiasNOLaborables),\"\")","v":"2021-12-14"},{"$f":"+IF(C1229=\"\",\"\",IF(H1229=\"\",\"SIN RESPUESTA\",(IF(H1229<=J1229,\"A TIEMPO\",\"FUERA DE TIEMPO\"))))","v":"A TIEMPO"},{"$f":"IF(H1229=\"\",\"\",NETWORKDAYS(C1229+1,H1229,DiasNOLaborables))","v":6},{"$f":"IF(NETWORKDAYS(J1229+1,H1229,DiasNOLaborables)<=0,\"\",NETWORKDAYS(J1229+1,H1229,DiasNOLaborables))","v":""},null,null,{"$f":"IFERROR(VLOOKUP(E1229,$X$51:$Y$64,2),\"\")","v":20}]
[{"$f":"IF(B1230<>\"\",A1229+1,\"\")","v":1219},20219050130572,"2021-11-12","CORREO ELECTRÓNICO","CERTIFICACIONES DE TIEMPO, CLIMA Y EVENTOS HIDROLÓGICOS","CERTIFICACIONES DE TIEMPO Y CLIMA","SUBDIRECCIÓN DE METEOROLOGÍA","2021-12-07","CORREO ELECTRÓNICO",{"$f":"IFERROR(WORKDAY(C1230,P1230,DiasNOLaborables),\"\")","v":"2022-01-04"},{"$f":"+IF(C1230=\"\",\"\",IF(H1230=\"\",\"SIN RESPUESTA\",(IF(H1230<=J1230,\"A TIEMPO\",\"FUERA DE TIEMPO\"))))","v":"A TIEMPO"},{"$f":"IF(H1230=\"\",\"\",NETWORKDAYS(C1230+1,H1230,DiasNOLaborables))","v":16},{"$f":"IF(NETWORKDAYS(J1230+1,H1230,DiasNOLaborables)<=0,\"\",NETWORKDAYS(J1230+1,H1230,DiasNOLaborables))","v":""},null,null,{"$f":"IFERROR(VLOOKUP(E1230,$X$51:$Y$64,2),\"\")","v":35}]
[1220,20219050130612,"2021-11-12","CORREO ELECTRÓNICO","CERTIFICACIONES DE TIEMPO, CLIMA Y EVENTOS HIDROLÓGICOS","CERTIFICACIONES DE TIEMPO Y CLIMA","SUBDIRECCIÓN DE METEOROLOGÍA","2021-12-01","CORREO ELECTRÓNICO",{"$f":"IFERROR(WORKDAY(C1231,P1231,DiasNOLaborables),\"\")","v":"2022-01-04"},{"$f":"+IF(C1231=\"\",\"\",IF(H1231=\"\",\"SIN RESPUESTA\",(IF(H1231<=J1231,\"A TIEMPO\",\"FUERA DE TIEMPO\"))))","v":"A TIEMPO"},{"$f":"IF(H1231=\"\",\"\",NETWORKDAYS(C1231+1,H1231,DiasNOLaborables))","v":12},{"$f":"IF(NETWORKDAYS(J1231+1,H1231,DiasNOLaborables)<=0,\"\",NETWORKDAYS(J1231+1,H1231,DiasNOLaborables))","v":""},null,null,{"$f":"IFERROR(VLOOKUP(E1231,$X$51:$Y$64,2),\"\")","v":35}]
[1221,20219050130742,"2021-11-12","CORREO ELECTRÓNICO","CERTIFICACIONES DE TIEMPO, CLIMA Y EVENTOS HIDROLÓGICOS","CERTIFICACIONES DE TIEMPO Y CLIMA","SUBDIRECCIÓN DE METEOROLOGÍA","2021-11-22","CORREO ELECTRÓNICO",{"$f":"IFERROR(WORKDAY(C1232,P1232,DiasNOLaborables),\"\")","v":"2022-01-04"},{"$f":"+IF(C1232=\"\",\"\",IF(H1232=\"\",\"SIN RESPUESTA\",(IF(H1232<=J1232,\"A TIEMPO\",\"FUERA DE TIEMPO\"))))","v":"A TIEMPO"},{"$f":"IF(H1232=\"\",\"\",NETWORKDAYS(C1232+1,H1232,DiasNOLaborables))","v":5},{"$f":"IF(NETWORKDAYS(J1232+1,H1232,DiasNOLaborables)<=0,\"\",NETWORKDAYS(J1232+1,H1232,DiasNOLaborables))","v":""},null,null,{"$f":"IFERROR(VLOOKUP(E1232,$X$51:$Y$64,2),\"\")","v":35}]
[1222,20219050130782,"2021-11-12","MODULO CONTACTENOS","SOLICITUD DE INFORMACIÓN Y DOCUMENTOS","CLIMATOLOGÍA","SUBDIRECCIÓN DE METEOROLOGÍA","2021-11-23","CORREO ELECTRÓNICO",{"$f":"IFERROR(WORKDAY(C1233,P1233,DiasNOLaborables),\"\")","v":"2021-12-14"},{"$f":"+IF(C1233=\"\",\"\",IF(H1233=\"\",\"SIN RESPUESTA\",(IF(H1233<=J1233,\"A TIEMPO\",\"FUERA DE TIEMPO\"))))","v":"A TIEMPO"},{"$f":"IF(H1233=\"\",\"\",NETWORKDAYS(C1233+1,H1233,DiasNOLaborables))","v":6},{"$f":"IF(NETWORKDAYS(J1233+1,H1233,DiasNOLaborables)<=0,\"\",NETWORKDAYS(J1233+1,H1233,DiasNOLaborables))","v":""},null,null,{"$f":"IFERROR(VLOOKUP(E1233,$X$51:$Y$64,2),\"\")","v":20}]
[1223,20219050130772,"2021-11-12","MODULO CONTACTENOS","SOLICITUD DE INFORMACIÓN Y DOCUMENTOS","CLIMATOLOGÍA","SUBDIRECCIÓN DE METEOROLOGÍA","2021-11-23","CORREO ELECTRÓNICO",{"$f":"IFERROR(WORKDAY(C1234,P1234,DiasNOLaborables),\"\")","v":"2021-12-14"},{"$f":"+IF(C1234=\"\",\"\",IF(H1234=\"\",\"SIN RESPUESTA\",(IF(H1234<=J1234,\"A TIEMPO\",\"FUERA DE TIEMPO\"))))","v":"A TIEMPO"},{"$f":"IF(H1234=\"\",\"\",NETWORKDAYS(C1234+1,H1234,DiasNOLaborables))","v":6},{"$f":"IF(NETWORKDAYS(J1234+1,H1234,DiasNOLaborables)<=0,\"\",NETWORKDAYS(J1234+1,H1234,DiasNOLaborables))","v":""},null,null,{"$f":"IFERROR(VLOOKUP(E1234,$X$51:$Y$64,2),\"\")","v":20}]
[1224,20219050130792,"2021-11-12","MODULO CONTACTENOS","SOLICITUD DE INFORMACIÓN Y DOCUMENTOS","CLIMATOLOGÍA","SUBDIRECCIÓN DE METEOROLOGÍA","2021-11-23","CORREO ELECTRÓNICO",{"$f":"IFERROR(WORKDAY(C1235,P1235,DiasNOLaborables),\"\")","v":"2021-12-14"},{"$f":"+IF(C1235=\"\",\"\",IF(H1235=\"\",\"SIN RESPUESTA\",(IF(H1235<=J1235,\"A TIEMPO\",\"FUERA DE TIEMPO\"))))","v":"A TIEMPO"},{"$f":"IF(H1235=\"\",\"\",NETWORKDAYS(C1235+1,H1235,DiasNOLaborables))","v":6},{"$f":"IF(NETWORKDAYS(J1235+1,H1235,DiasNOLaborables)<=0,\"\",NETWORKDAYS(J1235+1,H1235,DiasNOLaborables))","v":""},null,null,{"$f":"IFERROR(VLOOKUP(E1235,$X$51:$Y$64,2),\"\")","v":20}]
[1225,20219050130852,"2021-11-12","MODULO CONTACTENOS","SOLICITUD DE INFORMACIÓN Y DOCUMENTOS","SIRH","SUBDIRECCIÓN DE HIDROLOGÍA","2021-11-25","CORREO ELECTRÓNICO",{"$f":"IFERROR(WORKDAY(C1236,P1236,DiasNOLaborables),\"\")","v":"2021-12-14"},{"$f":"+IF(C1236=\"\",\"\",IF(H1236=\"\",\"SIN RESPUESTA\",(IF(H1236<=J1236,\"A TIEMPO\",\"FUERA DE TIEMPO\"))))","v":"A TIEMPO"},{"$f":"IF(H1236=\"\",\"\",NETWORKDAYS(C1236+1,H1236,DiasNOLaborables))","v":8},{"$f":"IF(NETWORKDAYS(J1236+1,H1236,DiasNOLaborables)<=0,\"\",NETWORKDAYS(J1236+1,H1236,DiasNOLaborables))","v":""},null,null,{"$f":"IFERROR(VLOOKUP(E1236,$X$51:$Y$64,2),\"\")","v":20}]
[1226,20219050130642,"2021-11-12","MODULO CONTACTENOS","SOLICITUD DE INFORMACIÓN Y DOCUMENTOS","SOLICITUD DE INFORMACIÓN HIDROMETEOROLÓGICA","GRUPO DE SERVICIO AL CIUDADANO ","2021-11-29","CORREO ELECTRÓNICO",{"$f":"IFERROR(WORKDAY(C1237,P1237,DiasNOLaborables),\"\")","v":"2021-12-14"},{"$f":"+IF(C1237=\"\",\"\",IF(H1237=\"\",\"SIN RESPUESTA\",(IF(H1237<=J1237,\"A TIEMPO\",\"FUERA DE TIEMPO\"))))","v":"A TIEMPO"},{"$f":"IF(H1237=\"\",\"\",NETWORKDAYS(C1237+1,H1237,DiasNOLaborables))","v":10},{"$f":"IF(NETWORKDAYS(J1237+1,H1237,DiasNOLaborables)<=0,\"\",NETWORKDAYS(J1237+1,H1237,DiasNOLaborables))","v":""},null,null,{"$f":"IFERROR(VLOOKUP(E1237,$X$51:$Y$64,2),\"\")","v":20}]
[1227,20219050130892,"2021-11-13","MODULO CONTACTENOS","SOLICITUD DE INFORMACIÓN Y DOCUMENTOS","SOLICITUD DE INFORMACIÓN HIDROMETEOROLÓGICA","GRUPO DE SERVICIO AL CIUDADANO ","2021-11-29","CORREO ELECTRÓNICO",{"$f":"IFERROR(WORKDAY(C1238,P1238,DiasNOLaborables),\"\")","v":"2021-12-14"},{"$f":"+IF(C1238=\"\",\"\",IF(H1238=\"\",\"SIN RESPUESTA\",(IF(H1238<=J1238,\"A TIEMPO\",\"FUERA DE TIEMPO\"))))","v":"A TIEMPO"},{"$f":"IF(H1238=\"\",\"\",NETWORKDAYS(C1238+1,H1238,DiasNOLaborables))","v":10},{"$f":"IF(NETWORKDAYS(J1238+1,H1238,DiasNOLaborables)<=0,\"\",NETWORKDAYS(J1238+1,H1238,DiasNOLaborables))","v":""},null,null,{"$f":"IFERROR(VLOOKUP(E1238,$X$51:$Y$64,2),\"\")","v":20}]
[1228,20219050130912,"2021-11-13","MODULO CONTACTENOS","SOLICITUD DE INFORMACIÓN Y DOCUMENTOS","SOLICITUD DE INFORMACIÓN HIDROMETEOROLÓGICA","GRUPO DE SERVICIO AL CIUDADANO ","2021-11-29","CORREO ELECTRÓNICO",{"$f":"IFERROR(WORKDAY(C1239,P1239,DiasNOLaborables),\"\")","v":"2021-12-14"},{"$f":"+IF(C1239=\"\",\"\",IF(H1239=\"\",\"SIN RESPUESTA\",(IF(H1239<=J1239,\"A TIEMPO\",\"FUERA DE TIEMPO\"))))","v":"A TIEMPO"},{"$f":"IF(H1239=\"\",\"\",NETWORKDAYS(C1239+1,H1239,DiasNOLaborables))","v":10},{"$f":"IF(NETWORKDAYS(J1239+1,H1239,DiasNOLaborables)<=0,\"\",NETWORKDAYS(J1239+1,H1239,DiasNOLaborables))","v":""},null,null,{"$f":"IFERROR(VLOOKUP(E1239,$X$51:$Y$64,2),\"\")","v":20}]
[1229,20219050130902,"2021-11-13","MODULO CONTACTENOS","SOLICITUD DE INFORMACIÓN Y DOCUMENTOS","REGISTROS AMBIENTALES","SUBDIRECCIÓN DE ESTUDIOS AMBIENTALES","2021-11-17","CORREO ELECTRÓNICO",{"$f":"IFERROR(WORKDAY(C1240,P1240,DiasNOLaborables),\"\")","v":"2021-12-14"},{"$f":"+IF(C1240=\"\",\"\",IF(H1240=\"\",\"SIN RESPUESTA\",(IF(H1240<=J1240,\"A TIEMPO\",\"FUERA DE TIEMPO\"))))","v":"A TIEMPO"},{"$f":"IF(H1240=\"\",\"\",NETWORKDAYS(C1240+1,H1240,DiasNOLaborables))","v":2},{"$f":"IF(NETWORKDAYS(J1240+1,H1240,DiasNOLaborables)<=0,\"\",NETWORKDAYS(J1240+1,H1240,DiasNOLaborables))","v":""},null,null,{"$f":"IFERROR(VLOOKUP(E1240,$X$51:$Y$64,2),\"\")","v":20}]
[1230,20219050130932,"2021-11-14","MODULO CONTACTENOS","SOLICITUD DE INFORMACIÓN Y DOCUMENTOS","SOLICITUD DE INFORMACIÓN HIDROMETEOROLÓGICA","GRUPO DE SERVICIO AL CIUDADANO ","2021-11-29","CORREO ELECTRÓNICO",{"$f":"IFERROR(WORKDAY(C1241,P1241,DiasNOLaborables),\"\")","v":"2021-12-14"},{"$f":"+IF(C1241=\"\",\"\",IF(H1241=\"\",\"SIN RESPUESTA\",(IF(H1241<=J1241,\"A TIEMPO\",\"FUERA DE TIEMPO\"))))","v":"A TIEMPO"},{"$f":"IF(H1241=\"\",\"\",NETWORKDAYS(C1241+1,H1241,DiasNOLaborables))","v":10},{"$f":"IF(NETWORKDAYS(J1241+1,H1241,DiasNOLaborables)<=0,\"\",NETWORKDAYS(J1241+1,H1241,DiasNOLaborables))","v":""},null,null,{"$f":"IFERROR(VLOOKUP(E1241,$X$51:$Y$64,2),\"\")","v":20}]
[1231,20219050130942,"2021-11-14","MODULO CONTACTENOS","SOLICITUD DE INFORMACIÓN Y DOCUMENTOS","SOLICITUD DE INFORMACIÓN HIDROMETEOROLÓGICA","GRUPO DE SERVICIO AL CIUDADANO ","2021-11-30","CORREO ELECTRÓNICO",{"$f":"IFERROR(WORKDAY(C1242,P1242,DiasNOLaborables),\"\")","v":"2021-12-14"},{"$f":"+IF(C1242=\"\",\"\",IF(H1242=\"\",\"SIN RESPUESTA\",(IF(H1242<=J1242,\"A TIEMPO\",\"FUERA DE TIEMPO\"))))","v":"A TIEMPO"},{"$f":"IF(H1242=\"\",\"\",NETWORKDAYS(C1242+1,H1242,DiasNOLaborables))","v":11},{"$f":"IF(NETWORKDAYS(J1242+1,H1242,DiasNOLaborables)<=0,\"\",NETWORKDAYS(J1242+1,H1242,DiasNOLaborables))","v":""},null,null,{"$f":"IFERROR(VLOOKUP(E1242,$X$51:$Y$64,2),\"\")","v":20}]
[1232,20219050130952,"2021-11-14","MODULO CONTACTENOS","SOLICITUD DE INFORMACIÓN Y DOCUMENTOS","SOLICITUD DE INFORMACIÓN HIDROMETEOROLÓGICA","GRUPO DE SERVICIO AL CIUDADANO ","2021-11-29","CORREO ELECTRÓNICO",{"$f":"IFERROR(WORKDAY(C1243,P1243,DiasNOLaborables),\"\")","v":"2021-12-14"},{"$f":"+IF(C1243=\"\",\"\",IF(H1243=\"\",\"SIN RESPUESTA\",(IF(H1243<=J1243,\"A TIEMPO\",\"FUERA DE TIEMPO\"))))","v":"A TIEMPO"},{"$f":"IF(H1243=\"\",\"\",NETWORKDAYS(C1243+1,H1243,DiasNOLaborables))","v":10},{"$f":"IF(NETWORKDAYS(J1243+1,H1243,DiasNOLaborables)<=0,\"\",NETWORKDAYS(J1243+1,H1243,DiasNOLaborables))","v":""},null,null,{"$f":"IFERROR(VLOOKUP(E1243,$X$51:$Y$64,2),\"\")","v":20}]
[1233,20219050130962,"2021-11-14","MODULO CONTACTENOS","SOLICITUD DE INFORMACIÓN Y DOCUMENTOS","SOLICITUD DE INFORMACIÓN HIDROMETEOROLÓGICA","GRUPO DE SERVICIO AL CIUDADANO ","2021-11-09","CORREO ELECTRÓNICO",{"$f":"IFERROR(WORKDAY(C1244,P1244,DiasNOLaborables),\"\")","v":"2021-12-14"},{"$f":"+IF(C1244=\"\",\"\",IF(H1244=\"\",\"SIN RESPUESTA\",(IF(H1244<=J1244,\"A TIEMPO\",\"FUERA DE TIEMPO\"))))","v":"A TIEMPO"},{"$f":"IF(H1244=\"\",\"\",NETWORKDAYS(C1244+1,H1244,DiasNOLaborables))","v":-4},{"$f":"IF(NETWORKDAYS(J1244+1,H1244,DiasNOLaborables)<=0,\"\",NETWORKDAYS(J1244+1,H1244,DiasNOLaborables))","v":""},null,null,{"$f":"IFERROR(VLOOKUP(E1244,$X$51:$Y$64,2),\"\")","v":20}]
[1234,20219050130982,"2021-11-14","MODULO CONTACTENOS","SOLICITUD DE INFORMACIÓN Y DOCUMENTOS","SOLICITUD DE INFORMACIÓN HIDROMETEOROLÓGICA","GRUPO DE SERVICIO AL CIUDADANO ","2021-11-09","CORREO ELECTRÓNICO",{"$f":"IFERROR(WORKDAY(C1245,P1245,DiasNOLaborables),\"\")","v":"2021-12-14"},{"$f":"+IF(C1245=\"\",\"\",IF(H1245=\"\",\"SIN RESPUESTA\",(IF(H1245<=J1245,\"A TIEMPO\",\"FUERA DE TIEMPO\"))))","v":"A TIEMPO"},{"$f":"IF(H1245=\"\",\"\",NETWORKDAYS(C1245+1,H1245,DiasNOLaborables))","v":-4},{"$f":"IF(NETWORKDAYS(J1245+1,H1245,DiasNOLaborables)<=0,\"\",NETWORKDAYS(J1245+1,H1245,DiasNOLaborables))","v":""},null,null,{"$f":"IFERROR(VLOOKUP(E1245,$X$51:$Y$64,2),\"\")","v":20}]
[1235,20219050130992,"2021-11-15","MODULO CONTACTENOS","SOLICITUD DE INFORMACIÓN Y DOCUMENTOS","SOLICITUD DE INFORMACIÓN HIDROMETEOROLÓGICA","GRUPO DE SERVICIO AL CIUDADANO ","2021-11-29","CORREO ELECTRÓNICO",{"$f":"IFERROR(WORKDAY(C1246,P1246,DiasNOLaborables),\"\")","v":"2021-12-14"},{"$f":"+IF(C1246=\"\",\"\",IF(H1246=\"\",\"SIN RESPUESTA\",(IF(H1246<=J1246,\"A TIEMPO\",\"FUERA DE TIEMPO\"))))","v":"A TIEMPO"},{"$f":"IF(H1246=\"\",\"\",NETWORKDAYS(C1246+1,H1246,DiasNOLaborables))","v":10},{"$f":"IF(NETWORKDAYS(J1246+1,H1246,DiasNOLaborables)<=0,\"\",NETWORKDAYS(J1246+1,H1246,DiasNOLaborables))","v":""},null,null,{"$f":"IFERROR(VLOOKUP(E1246,$X$51:$Y$64,2),\"\")","v":20}]
[1236,20219050131002,"2021-11-15","MODULO CONTACTENOS","SOLICITUD DE INFORMACIÓN Y DOCUMENTOS","SOLICITUD DE INFORMACIÓN HIDROMETEOROLÓGICA","GRUPO DE SERVICIO AL CIUDADANO ","2021-11-15","CORREO ELECTRÓNICO",{"$f":"IFERROR(WORKDAY(C1247,P1247,DiasNOLaborables),\"\")","v":"2021-12-14"},{"$f":"+IF(C1247=\"\",\"\",IF(H1247=\"\",\"SIN RESPUESTA\",(IF(H1247<=J1247,\"A TIEMPO\",\"FUERA DE TIEMPO\"))))","v":"A TIEMPO"},{"$f":"IF(H1247=\"\",\"\",NETWORKDAYS(C1247+1,H1247,DiasNOLaborables))","v":-1},{"$f":"IF(NETWORKDAYS(J1247+1,H1247,DiasNOLaborables)<=0,\"\",NETWORKDAYS(J1247+1,H1247,DiasNOLaborables))","v":""},null,null,{"$f":"IFERROR(VLOOKUP(E1247,$X$51:$Y$64,2),\"\")","v":20}]
[1237,20219050131032,"2021-11-15","MODULO CONTACTENOS","SOLICITUD DE INFORMACIÓN Y DOCUMENTOS","SOLICITUD DE INFORMACIÓN HIDROMETEOROLÓGICA","GRUPO DE SERVICIO AL CIUDADANO ","2021-11-15","CORREO ELECTRÓNICO",{"$f":"IFERROR(WORKDAY(C1248,P1248,DiasNOLaborables),\"\")","v":"2021-12-14"},{"$f":"+IF(C1248=\"\",\"\",IF(H1248=\"\",\"SIN RESPUESTA\",(IF(H1248<=J1248,\"A TIEMPO\",\"FUERA DE TIEMPO\"))))","v":"A TIEMPO"},{"$f":"IF(H1248=\"\",\"\",NETWORKDAYS(C1248+1,H1248,DiasNOLaborables))","v":-1},{"$f":"IF(NETWORKDAYS(J1248+1,H1248,DiasNOLaborables)<=0,\"\",NETWORKDAYS(J1248+1,H1248,DiasNOLaborables))","v":""},null,null,{"$f":"IFERROR(VLOOKUP(E1248,$X$51:$Y$64,2),\"\")","v":20}]
[1238,20219050131042,"2021-11-15","MODULO CONTACTENOS","SOLICITUD DE INFORMACIÓN Y DOCUMENTOS","SOLICITUD DE INFORMACIÓN HIDROMETEOROLÓGICA","GRUPO DE SERVICIO AL CIUDADANO ","2021-11-15","CORREO ELECTRÓNICO",{"$f":"IFERROR(WORKDAY(C1249,P1249,DiasNOLaborables),\"\")","v":"2021-12-14"},{"$f":"+IF(C1249=\"\",\"\",IF(H1249=\"\",\"SIN RESPUESTA\",(IF(H1249<=J1249,\"A TIEMPO\",\"FUERA DE TIEMPO\"))))","v":"A TIEMPO"},{"$f":"IF(H1249=\"\",\"\",NETWORKDAYS(C1249+1,H1249,DiasNOLaborables))","v":-1},{"$f":"IF(NETWORKDAYS(J1249+1,H1249,DiasNOLaborables)<=0,\"\",NETWORKDAYS(J1249+1,H1249,DiasNOLaborables))","v":""},null,null,{"$f":"IFERROR(VLOOKUP(E1249,$X$51:$Y$64,2),\"\")","v":20}]
[1239,20219050131082,"2021-11-15","MODULO CONTACTENOS","SOLICITUD DE INFORMACIÓN Y DOCUMENTOS","SOLICITUD DE INFORMACIÓN HIDROMETEOROLÓGICA","GRUPO DE SERVICIO AL CIUDADANO ","2021-11-23","CORREO ELECTRÓNICO",{"$f":"IFERROR(WORKDAY(C1250,P1250,DiasNOLaborables),\"\")","v":"2021-12-14"},{"$f":"+IF(C1250=\"\",\"\",IF(H1250=\"\",\"SIN RESPUESTA\",(IF(H1250<=J1250,\"A TIEMPO\",\"FUERA DE TIEMPO\"))))","v":"A TIEMPO"},{"$f":"IF(H1250=\"\",\"\",NETWORKDAYS(C1250+1,H1250,DiasNOLaborables))","v":6},{"$f":"IF(NETWORKDAYS(J1250+1,H1250,DiasNOLaborables)<=0,\"\",NETWORKDAYS(J1250+1,H1250,DiasNOLaborables))","v":""},null,null,{"$f":"IFERROR(VLOOKUP(E1250,$X$51:$Y$64,2),\"\")","v":20}]
[1240,20219050131062,"2021-11-15","MODULO CONTACTENOS","SOLICITUD DE INFORMACIÓN Y DOCUMENTOS","SOLICITUD DE INFORMACIÓN HIDROMETEOROLÓGICA","GRUPO DE SERVICIO AL CIUDADANO ","2021-11-23","CORREO ELECTRÓNICO",{"$f":"IFERROR(WORKDAY(C1251,P1251,DiasNOLaborables),\"\")","v":"2021-12-14"},{"$f":"+IF(C1251=\"\",\"\",IF(H1251=\"\",\"SIN RESPUESTA\",(IF(H1251<=J1251,\"A TIEMPO\",\"FUERA DE TIEMPO\"))))","v":"A TIEMPO"},{"$f":"IF(H1251=\"\",\"\",NETWORKDAYS(C1251+1,H1251,DiasNOLaborables))","v":6},{"$f":"IF(NETWORKDAYS(J1251+1,H1251,DiasNOLaborables)<=0,\"\",NETWORKDAYS(J1251+1,H1251,DiasNOLaborables))","v":""},null,null,{"$f":"IFERROR(VLOOKUP(E1251,$X$51:$Y$64,2),\"\")","v":20}]
[1241,20219050131092,"2021-11-15","MODULO CONTACTENOS","SOLICITUD DE INFORMACIÓN Y DOCUMENTOS","SOLICITUD DE INFORMACIÓN HIDROMETEOROLÓGICA","GRUPO DE SERVICIO AL CIUDADANO ","2021-11-23","CORREO ELECTRÓNICO",{"$f":"IFERROR(WORKDAY(C1252,P1252,DiasNOLaborables),\"\")","v":"2021-12-14"},{"$f":"+IF(C1252=\"\",\"\",IF(H1252=\"\",\"SIN RESPUESTA\",(IF(H1252<=J1252,\"A TIEMPO\",\"FUERA DE TIEMPO\"))))","v":"A TIEMPO"},{"$f":"IF(H1252=\"\",\"\",NETWORKDAYS(C1252+1,H1252,DiasNOLaborables))","v":6},{"$f":"IF(NETWORKDAYS(J1252+1,H1252,DiasNOLaborables)<=0,\"\",NETWORKDAYS(J1252+1,H1252,DiasNOLaborables))","v":""},null,null,{"$f":"IFERROR(VLOOKUP(E1252,$X$51:$Y$64,2),\"\")","v":20}]
[1242,20219050131112,"2021-11-15","MODULO CONTACTENOS","SOLICITUD DE INFORMACIÓN Y DOCUMENTOS","SOLICITUD DE INFORMACIÓN HIDROMETEOROLÓGICA","GRUPO DE SERVICIO AL CIUDADANO ","2021-11-23","CORREO ELECTRÓNICO",{"$f":"IFERROR(WORKDAY(C1253,P1253,DiasNOLaborables),\"\")","v":"2021-12-14"},{"$f":"+IF(C1253=\"\",\"\",IF(H1253=\"\",\"SIN RESPUESTA\",(IF(H1253<=J1253,\"A TIEMPO\",\"FUERA DE TIEMPO\"))))","v":"A TIEMPO"},{"$f":"IF(H1253=\"\",\"\",NETWORKDAYS(C1253+1,H1253,DiasNOLaborables))","v":6},{"$f":"IF(NETWORKDAYS(J1253+1,H1253,DiasNOLaborables)<=0,\"\",NETWORKDAYS(J1253+1,H1253,DiasNOLaborables))","v":""},null,null,{"$f":"IFERROR(VLOOKUP(E1253,$X$51:$Y$64,2),\"\")","v":20}]
[1243,20219050131252,"2021-11-16","MODULO CONTACTENOS","SOLICITUD DE INFORMACIÓN Y DOCUMENTOS","ADMINISTRATIVA","GRUPO DE ADMINISTRACIÓN Y DESARROLLO DEL TALENTO HUMANO","2021-11-29","CORREO ELECTRÓNICO",{"$f":"IFERROR(WORKDAY(C1254,P1254,DiasNOLaborables),\"\")","v":"2021-12-15"},{"$f":"+IF(C1254=\"\",\"\",IF(H1254=\"\",\"SIN RESPUESTA\",(IF(H1254<=J1254,\"A TIEMPO\",\"FUERA DE TIEMPO\"))))","v":"A TIEMPO"},{"$f":"IF(H1254=\"\",\"\",NETWORKDAYS(C1254+1,H1254,DiasNOLaborables))","v":9},{"$f":"IF(NETWORKDAYS(J1254+1,H1254,DiasNOLaborables)<=0,\"\",NETWORKDAYS(J1254+1,H1254,DiasNOLaborables))","v":""},null,null,{"$f":"IFERROR(VLOOKUP(E1254,$X$51:$Y$64,2),\"\")","v":20}]
[1244,20219050131412,"2021-11-16","MODULO CONTACTENOS","SOLICITUD DE INFORMACIÓN Y DOCUMENTOS","BOSQUES","SUBDIRECCIÓN DE ECOSISTEMAS E INFORMACIÓN AMBIENTAL","2021-11-26","CORREO ELECTRÓNICO",{"$f":"IFERROR(WORKDAY(C1255,P1255,DiasNOLaborables),\"\")","v":"2021-12-15"},{"$f":"+IF(C1255=\"\",\"\",IF(H1255=\"\",\"SIN RESPUESTA\",(IF(H1255<=J1255,\"A TIEMPO\",\"FUERA DE TIEMPO\"))))","v":"A TIEMPO"},{"$f":"IF(H1255=\"\",\"\",NETWORKDAYS(C1255+1,H1255,DiasNOLaborables))","v":8},{"$f":"IF(NETWORKDAYS(J1255+1,H1255,DiasNOLaborables)<=0,\"\",NETWORKDAYS(J1255+1,H1255,DiasNOLaborables))","v":""},null,null,{"$f":"IFERROR(VLOOKUP(E1255,$X$51:$Y$64,2),\"\")","v":20}]
[1245,20219050131592,"2021-11-16","MODULO CONTACTENOS","SOLICITUD DE INFORMACIÓN Y DOCUMENTOS","ADMINISTRATIVA","GRUPO DE ADMINISTRACIÓN Y DESARROLLO DEL TALENTO HUMANO","2021-11-29","CORREO ELECTRÓNICO",{"$f":"IFERROR(WORKDAY(C1256,P1256,DiasNOLaborables),\"\")","v":"2021-12-15"},{"$f":"+IF(C1256=\"\",\"\",IF(H1256=\"\",\"SIN RESPUESTA\",(IF(H1256<=J1256,\"A TIEMPO\",\"FUERA DE TIEMPO\"))))","v":"A TIEMPO"},{"$f":"IF(H1256=\"\",\"\",NETWORKDAYS(C1256+1,H1256,DiasNOLaborables))","v":9},{"$f":"IF(NETWORKDAYS(J1256+1,H1256,DiasNOLaborables)<=0,\"\",NETWORKDAYS(J1256+1,H1256,DiasNOLaborables))","v":""},null,null,{"$f":"IFERROR(VLOOKUP(E1256,$X$51:$Y$64,2),\"\")","v":20}]
[1246,20219050131672,"2021-11-16","MODULO CONTACTENOS","SOLICITUD DE INFORMACIÓN Y DOCUMENTOS","LABORATORIO DE CALIDAD AMBIENTAL","SUBDIRECCIÓN DE HIDROLOGÍA","2021-11-30","CORREO ELECTRÓNICO",{"$f":"IFERROR(WORKDAY(C1257,P1257,DiasNOLaborables),\"\")","v":"2021-12-15"},{"$f":"+IF(C1257=\"\",\"\",IF(H1257=\"\",\"SIN RESPUESTA\",(IF(H1257<=J1257,\"A TIEMPO\",\"FUERA DE TIEMPO\"))))","v":"A TIEMPO"},{"$f":"IF(H1257=\"\",\"\",NETWORKDAYS(C1257+1,H1257,DiasNOLaborables))","v":10},{"$f":"IF(NETWORKDAYS(J1257+1,H1257,DiasNOLaborables)<=0,\"\",NETWORKDAYS(J1257+1,H1257,DiasNOLaborables))","v":""},null,null,{"$f":"IFERROR(VLOOKUP(E1257,$X$51:$Y$64,2),\"\")","v":20}]
[1247,20219050131162,"2021-11-16","MODULO CONTACTENOS","SOLICITUD DE INFORMACIÓN Y DOCUMENTOS","SOLICITUD DE INFORMACIÓN HIDROMETEOROLÓGICA","GRUPO DE SERVICIO AL CIUDADANO ","2021-11-23","CORREO ELECTRÓNICO",{"$f":"IFERROR(WORKDAY(C1258,P1258,DiasNOLaborables),\"\")","v":"2021-12-15"},{"$f":"+IF(C1258=\"\",\"\",IF(H1258=\"\",\"SIN RESPUESTA\",(IF(H1258<=J1258,\"A TIEMPO\",\"FUERA DE TIEMPO\"))))","v":"A TIEMPO"},{"$f":"IF(H1258=\"\",\"\",NETWORKDAYS(C1258+1,H1258,DiasNOLaborables))","v":5},{"$f":"IF(NETWORKDAYS(J1258+1,H1258,DiasNOLaborables)<=0,\"\",NETWORKDAYS(J1258+1,H1258,DiasNOLaborables))","v":""},null,null,{"$f":"IFERROR(VLOOKUP(E1258,$X$51:$Y$64,2),\"\")","v":20}]
[1248,20219050131172,"2021-11-16","MODULO CONTACTENOS","SOLICITUD DE INFORMACIÓN Y DOCUMENTOS","SOLICITUD DE INFORMACIÓN HIDROMETEOROLÓGICA","GRUPO DE SERVICIO AL CIUDADANO ","2021-11-23","CORREO ELECTRÓNICO",{"$f":"IFERROR(WORKDAY(C1259,P1259,DiasNOLaborables),\"\")","v":"2021-12-15"},{"$f":"+IF(C1259=\"\",\"\",IF(H1259=\"\",\"SIN RESPUESTA\",(IF(H1259<=J1259,\"A TIEMPO\",\"FUERA DE TIEMPO\"))))","v":"A TIEMPO"},{"$f":"IF(H1259=\"\",\"\",NETWORKDAYS(C1259+1,H1259,DiasNOLaborables))","v":5},{"$f":"IF(NETWORKDAYS(J1259+1,H1259,DiasNOLaborables)<=0,\"\",NETWORKDAYS(J1259+1,H1259,DiasNOLaborables))","v":""},null,null,{"$f":"IFERROR(VLOOKUP(E1259,$X$51:$Y$64,2),\"\")","v":20}]
[1249,20219050131192,"2021-11-16","MODULO CONTACTENOS","SOLICITUD DE INFORMACIÓN Y DOCUMENTOS","SOLICITUD DE INFORMACIÓN HIDROMETEOROLÓGICA","GRUPO DE SERVICIO AL CIUDADANO ","2021-11-23","CORREO ELECTRÓNICO",{"$f":"IFERROR(WORKDAY(C1260,P1260,DiasNOLaborables),\"\")","v":"2021-12-15"},{"$f":"+IF(C1260=\"\",\"\",IF(H1260=\"\",\"SIN RESPUESTA\",(IF(H1260<=J1260,\"A TIEMPO\",\"FUERA DE TIEMPO\"))))","v":"A TIEMPO"},{"$f":"IF(H1260=\"\",\"\",NETWORKDAYS(C1260+1,H1260,DiasNOLaborables))","v":5},{"$f":"IF(NETWORKDAYS(J1260+1,H1260,DiasNOLaborables)<=0,\"\",NETWORKDAYS(J1260+1,H1260,DiasNOLaborables))","v":""},null,null,{"$f":"IFERROR(VLOOKUP(E1260,$X$51:$Y$64,2),\"\")","v":20}]
[1250,20219050131202,"2021-11-16","MODULO CONTACTENOS","SOLICITUD DE INFORMACIÓN Y DOCUMENTOS","SOLICITUD DE INFORMACIÓN HIDROMETEOROLÓGICA","GRUPO DE SERVICIO AL CIUDADANO ","2021-11-23","CORREO ELECTRÓNICO",{"$f":"IFERROR(WORKDAY(C1261,P1261,DiasNOLaborables),\"\")","v":"2021-12-15"},{"$f":"+IF(C1261=\"\",\"\",IF(H1261=\"\",\"SIN RESPUESTA\",(IF(H1261<=J1261,\"A TIEMPO\",\"FUERA DE TIEMPO\"))))","v":"A TIEMPO"},{"$f":"IF(H1261=\"\",\"\",NETWORKDAYS(C1261+1,H1261,DiasNOLaborables))","v":5},{"$f":"IF(NETWORKDAYS(J1261+1,H1261,DiasNOLaborables)<=0,\"\",NETWORKDAYS(J1261+1,H1261,DiasNOLaborables))","v":""},null,null,{"$f":"IFERROR(VLOOKUP(E1261,$X$51:$Y$64,2),\"\")","v":20}]
[1251,20219050131212,"2021-11-16","MODULO CONTACTENOS","SOLICITUD DE INFORMACIÓN Y DOCUMENTOS","SOLICITUD DE INFORMACIÓN HIDROMETEOROLÓGICA","GRUPO DE SERVICIO AL CIUDADANO ","2021-11-23","CORREO ELECTRÓNICO",{"$f":"IFERROR(WORKDAY(C1262,P1262,DiasNOLaborables),\"\")","v":"2021-12-15"},{"$f":"+IF(C1262=\"\",\"\",IF(H1262=\"\",\"SIN RESPUESTA\",(IF(H1262<=J1262,\"A TIEMPO\",\"FUERA DE TIEMPO\"))))","v":"A TIEMPO"},{"$f":"IF(H1262=\"\",\"\",NETWORKDAYS(C1262+1,H1262,DiasNOLaborables))","v":5},{"$f":"IF(NETWORKDAYS(J1262+1,H1262,DiasNOLaborables)<=0,\"\",NETWORKDAYS(J1262+1,H1262,DiasNOLaborables))","v":""},null,null,{"$f":"IFERROR(VLOOKUP(E1262,$X$51:$Y$64,2),\"\")","v":20}]
[1252,20219050131222,"2021-11-16","MODULO CONTACTENOS","SOLICITUD DE INFORMACIÓN Y DOCUMENTOS","SOLICITUD DE INFORMACIÓN HIDROMETEOROLÓGICA","GRUPO DE SERVICIO AL CIUDADANO ","2021-11-23","CORREO ELECTRÓNICO",{"$f":"IFERROR(WORKDAY(C1263,P1263,DiasNOLaborables),\"\")","v":"2021-12-15"},{"$f":"+IF(C1263=\"\",\"\",IF(H1263=\"\",\"SIN RESPUESTA\",(IF(H1263<=J1263,\"A TIEMPO\",\"FUERA DE TIEMPO\"))))","v":"A TIEMPO"},{"$f":"IF(H1263=\"\",\"\",NETWORKDAYS(C1263+1,H1263,DiasNOLaborables))","v":5},{"$f":"IF(NETWORKDAYS(J1263+1,H1263,DiasNOLaborables)<=0,\"\",NETWORKDAYS(J1263+1,H1263,DiasNOLaborables))","v":""},null,null,{"$f":"IFERROR(VLOOKUP(E1263,$X$51:$Y$64,2),\"\")","v":20}]
[1253,20219050131232,"2021-11-16","MODULO CONTACTENOS","SOLICITUD DE INFORMACIÓN Y DOCUMENTOS","SOLICITUD DE INFORMACIÓN HIDROMETEOROLÓGICA","GRUPO DE SERVICIO AL CIUDADANO ","2021-11-23","CORREO ELECTRÓNICO",{"$f":"IFERROR(WORKDAY(C1264,P1264,DiasNOLaborables),\"\")","v":"2021-12-15"},{"$f":"+IF(C1264=\"\",\"\",IF(H1264=\"\",\"SIN RESPUESTA\",(IF(H1264<=J1264,\"A TIEMPO\",\"FUERA DE TIEMPO\"))))","v":"A TIEMPO"},{"$f":"IF(H1264=\"\",\"\",NETWORKDAYS(C1264+1,H1264,DiasNOLaborables))","v":5},{"$f":"IF(NETWORKDAYS(J1264+1,H1264,DiasNOLaborables)<=0,\"\",NETWORKDAYS(J1264+1,H1264,DiasNOLaborables))","v":""},null,null,{"$f":"IFERROR(VLOOKUP(E1264,$X$51:$Y$64,2),\"\")","v":20}]
[1254,20219050131322,"2021-11-16","MODULO CONTACTENOS","SOLICITUD DE INFORMACIÓN Y DOCUMENTOS","SOLICITUD DE INFORMACIÓN HIDROMETEOROLÓGICA","GRUPO DE SERVICIO AL CIUDADANO ","2021-11-23","CORREO ELECTRÓNICO",{"$f":"IFERROR(WORKDAY(C1265,P1265,DiasNOLaborables),\"\")","v":"2021-12-15"},{"$f":"+IF(C1265=\"\",\"\",IF(H1265=\"\",\"SIN RESPUESTA\",(IF(H1265<=J1265,\"A TIEMPO\",\"FUERA DE TIEMPO\"))))","v":"A TIEMPO"},{"$f":"IF(H1265=\"\",\"\",NETWORKDAYS(C1265+1,H1265,DiasNOLaborables))","v":5},{"$f":"IF(NETWORKDAYS(J1265+1,H1265,DiasNOLaborables)<=0,\"\",NETWORKDAYS(J1265+1,H1265,DiasNOLaborables))","v":""},null,null,{"$f":"IFERROR(VLOOKUP(E1265,$X$51:$Y$64,2),\"\")","v":20}]
[1255,20219050131472,"2021-11-16","MODULO CONTACTENOS","SOLICITUD DE INFORMACIÓN Y DOCUMENTOS","SOLICITUD DE INFORMACIÓN HIDROMETEOROLÓGICA","GRUPO DE SERVICIO AL CIUDADANO ","2021-11-23","CORREO ELECTRÓNICO",{"$f":"IFERROR(WORKDAY(C1266,P1266,DiasNOLaborables),\"\")","v":"2021-12-15"},{"$f":"+IF(C1266=\"\",\"\",IF(H1266=\"\",\"SIN RESPUESTA\",(IF(H1266<=J1266,\"A TIEMPO\",\"FUERA DE TIEMPO\"))))","v":"A TIEMPO"},{"$f":"IF(H1266=\"\",\"\",NETWORKDAYS(C1266+1,H1266,DiasNOLaborables))","v":5},{"$f":"IF(NETWORKDAYS(J1266+1,H1266,DiasNOLaborables)<=0,\"\",NETWORKDAYS(J1266+1,H1266,DiasNOLaborables))","v":""},null,null,{"$f":"IFERROR(VLOOKUP(E1266,$X$51:$Y$64,2),\"\")","v":20}]
[1256,20219050131612,"2021-11-16","MODULO CONTACTENOS","SOLICITUD DE INFORMACIÓN Y DOCUMENTOS","SOLICITUD DE INFORMACIÓN HIDROMETEOROLÓGICA","GRUPO DE SERVICIO AL CIUDADANO ","2021-11-23","CORREO ELECTRÓNICO",{"$f":"IFERROR(WORKDAY(C1267,P1267,DiasNOLaborables),\"\")","v":"2021-12-15"},{"$f":"+IF(C1267=\"\",\"\",IF(H1267=\"\",\"SIN RESPUESTA\",(IF(H1267<=J1267,\"A TIEMPO\",\"FUERA DE TIEMPO\"))))","v":"A TIEMPO"},{"$f":"IF(H1267=\"\",\"\",NETWORKDAYS(C1267+1,H1267,DiasNOLaborables))","v":5},{"$f":"IF(NETWORKDAYS(J1267+1,H1267,DiasNOLaborables)<=0,\"\",NETWORKDAYS(J1267+1,H1267,DiasNOLaborables))","v":""},null,null,{"$f":"IFERROR(VLOOKUP(E1267,$X$51:$Y$64,2),\"\")","v":20}]
[1257,20219910062632,"2021-11-16","CORREO ELECTRÓNICO","SOLICITUD DE INFORMACIÓN Y DOCUMENTOS","CLIMATOLOGÍA","OFICINA DE INFORMÁTICA","2021-11-25","CORREO ELECTRÓNICO",{"$f":"IFERROR(WORKDAY(C1268,P1268,DiasNOLaborables),\"\")","v":"2021-12-15"},{"$f":"+IF(C1268=\"\",\"\",IF(H1268=\"\",\"SIN RESPUESTA\",(IF(H1268<=J1268,\"A TIEMPO\",\"FUERA DE TIEMPO\"))))","v":"A TIEMPO"},{"$f":"IF(H1268=\"\",\"\",NETWORKDAYS(C1268+1,H1268,DiasNOLaborables))","v":7},{"$f":"IF(NETWORKDAYS(J1268+1,H1268,DiasNOLaborables)<=0,\"\",NETWORKDAYS(J1268+1,H1268,DiasNOLaborables))","v":""},null,null,{"$f":"IFERROR(VLOOKUP(E1268,$X$51:$Y$64,2),\"\")","v":20}]
[1258,20219910062832,"2021-11-16","CORREO ELECTRÓNICO","SOLICITUD DE INFORMACIÓN Y DOCUMENTOS","CLIMATOLOGÍA","SUBDIRECCIÓN DE METEOROLOGÍA","2021-11-23","CORREO ELECTRÓNICO",{"$f":"IFERROR(WORKDAY(C1269,P1269,DiasNOLaborables),\"\")","v":"2021-12-15"},{"$f":"+IF(C1269=\"\",\"\",IF(H1269=\"\",\"SIN RESPUESTA\",(IF(H1269<=J1269,\"A TIEMPO\",\"FUERA DE TIEMPO\"))))","v":"A TIEMPO"},{"$f":"IF(H1269=\"\",\"\",NETWORKDAYS(C1269+1,H1269,DiasNOLaborables))","v":5},{"$f":"IF(NETWORKDAYS(J1269+1,H1269,DiasNOLaborables)<=0,\"\",NETWORKDAYS(J1269+1,H1269,DiasNOLaborables))","v":""},null,null,{"$f":"IFERROR(VLOOKUP(E1269,$X$51:$Y$64,2),\"\")","v":20}]
[1259,20219910062952,"2021-11-16","CORREO ELECTRÓNICO","SOLICITUD DE INFORMACIÓN Y DOCUMENTOS","CLIMATOLOGÍA","OFICINA DEL SERVICIO DE PRONÓSTICOS Y ALERTAS","2021-11-23","CORREO ELECTRÓNICO",{"$f":"IFERROR(WORKDAY(C1270,P1270,DiasNOLaborables),\"\")","v":"2021-12-15"},{"$f":"+IF(C1270=\"\",\"\",IF(H1270=\"\",\"SIN RESPUESTA\",(IF(H1270<=J1270,\"A TIEMPO\",\"FUERA DE TIEMPO\"))))","v":"A TIEMPO"},{"$f":"IF(H1270=\"\",\"\",NETWORKDAYS(C1270+1,H1270,DiasNOLaborables))","v":5},{"$f":"IF(NETWORKDAYS(J1270+1,H1270,DiasNOLaborables)<=0,\"\",NETWORKDAYS(J1270+1,H1270,DiasNOLaborables))","v":""},null,null,{"$f":"IFERROR(VLOOKUP(E1270,$X$51:$Y$64,2),\"\")","v":20}]
[1260,20219050131122,"2021-11-16","CORREO ELECTRÓNICO","SOLICITUD DE INFORMACIÓN Y DOCUMENTOS","REGISTROS AMBIENTALES","SUBDIRECCIÓN DE ESTUDIOS AMBIENTALES","2021-11-16","CORREO ELECTRÓNICO",{"$f":"IFERROR(WORKDAY(C1271,P1271,DiasNOLaborables),\"\")","v":"2021-12-15"},{"$f":"+IF(C1271=\"\",\"\",IF(H1271=\"\",\"SIN RESPUESTA\",(IF(H1271<=J1271,\"A TIEMPO\",\"FUERA DE TIEMPO\"))))","v":"A TIEMPO"},{"$f":"IF(H1271=\"\",\"\",NETWORKDAYS(C1271+1,H1271,DiasNOLaborables))","v":-2},{"$f":"IF(NETWORKDAYS(J1271+1,H1271,DiasNOLaborables)<=0,\"\",NETWORKDAYS(J1271+1,H1271,DiasNOLaborables))","v":""},null,null,{"$f":"IFERROR(VLOOKUP(E1271,$X$51:$Y$64,2),\"\")","v":20}]
[1261,20219050131132,"2021-11-16","CORREO ELECTRÓNICO","SOLICITUD DE INFORMACIÓN Y DOCUMENTOS","REGISTROS AMBIENTALES","SUBDIRECCIÓN DE ESTUDIOS AMBIENTALES","2021-11-16","CORREO ELECTRÓNICO",{"$f":"IFERROR(WORKDAY(C1272,P1272,DiasNOLaborables),\"\")","v":"2021-12-15"},{"$f":"+IF(C1272=\"\",\"\",IF(H1272=\"\",\"SIN RESPUESTA\",(IF(H1272<=J1272,\"A TIEMPO\",\"FUERA DE TIEMPO\"))))","v":"A TIEMPO"},{"$f":"IF(H1272=\"\",\"\",NETWORKDAYS(C1272+1,H1272,DiasNOLaborables))","v":-2},{"$f":"IF(NETWORKDAYS(J1272+1,H1272,DiasNOLaborables)<=0,\"\",NETWORKDAYS(J1272+1,H1272,DiasNOLaborables))","v":""},null,null,{"$f":"IFERROR(VLOOKUP(E1272,$X$51:$Y$64,2),\"\")","v":20}]
[1262,20219050131142,"2021-11-16","CORREO ELECTRÓNICO","SOLICITUD DE INFORMACIÓN Y DOCUMENTOS","REGISTROS AMBIENTALES","SUBDIRECCIÓN DE ESTUDIOS AMBIENTALES","2021-11-16","CORREO ELECTRÓNICO",{"$f":"IFERROR(WORKDAY(C1273,P1273,DiasNOLaborables),\"\")","v":"2021-12-15"},{"$f":"+IF(C1273=\"\",\"\",IF(H1273=\"\",\"SIN RESPUESTA\",(IF(H1273<=J1273,\"A TIEMPO\",\"FUERA DE TIEMPO\"))))","v":"A TIEMPO"},{"$f":"IF(H1273=\"\",\"\",NETWORKDAYS(C1273+1,H1273,DiasNOLaborables))","v":-2},{"$f":"IF(NETWORKDAYS(J1273+1,H1273,DiasNOLaborables)<=0,\"\",NETWORKDAYS(J1273+1,H1273,DiasNOLaborables))","v":""},null,null,{"$f":"IFERROR(VLOOKUP(E1273,$X$51:$Y$64,2),\"\")","v":20}]
[1263,20219050131152,"2021-11-16","CORREO ELECTRÓNICO","SOLICITUD DE INFORMACIÓN Y DOCUMENTOS","REGISTROS AMBIENTALES","SUBDIRECCIÓN DE ESTUDIOS AMBIENTALES","2021-11-16","CORREO ELECTRÓNICO",{"$f":"IFERROR(WORKDAY(C1274,P1274,DiasNOLaborables),\"\")","v":"2021-12-15"},{"$f":"+IF(C1274=\"\",\"\",IF(H1274=\"\",\"SIN RESPUESTA\",(IF(H1274<=J1274,\"A TIEMPO\",\"FUERA DE TIEMPO\"))))","v":"A TIEMPO"},{"$f":"IF(H1274=\"\",\"\",NETWORKDAYS(C1274+1,H1274,DiasNOLaborables))","v":-2},{"$f":"IF(NETWORKDAYS(J1274+1,H1274,DiasNOLaborables)<=0,\"\",NETWORKDAYS(J1274+1,H1274,DiasNOLaborables))","v":""},null,null,{"$f":"IFERROR(VLOOKUP(E1274,$X$51:$Y$64,2),\"\")","v":20}]
[1264,20219050131182,"2021-11-16","CORREO ELECTRÓNICO","SOLICITUD DE INFORMACIÓN Y DOCUMENTOS","REGISTROS AMBIENTALES","SUBDIRECCIÓN DE ESTUDIOS AMBIENTALES","2021-11-16","CORREO ELECTRÓNICO",{"$f":"IFERROR(WORKDAY(C1275,P1275,DiasNOLaborables),\"\")","v":"2021-12-15"},{"$f":"+IF(C1275=\"\",\"\",IF(H1275=\"\",\"SIN RESPUESTA\",(IF(H1275<=J1275,\"A TIEMPO\",\"FUERA DE TIEMPO\"))))","v":"A TIEMPO"},{"$f":"IF(H1275=\"\",\"\",NETWORKDAYS(C1275+1,H1275,DiasNOLaborables))","v":-2},{"$f":"IF(NETWORKDAYS(J1275+1,H1275,DiasNOLaborables)<=0,\"\",NETWORKDAYS(J1275+1,H1275,DiasNOLaborables))","v":""},null,null,{"$f":"IFERROR(VLOOKUP(E1275,$X$51:$Y$64,2),\"\")","v":20}]
[1265,20219050131242,"2021-11-16","CORREO ELECTRÓNICO","SOLICITUD DE INFORMACIÓN Y DOCUMENTOS","REGISTROS AMBIENTALES","SUBDIRECCIÓN DE ESTUDIOS AMBIENTALES","2021-11-16","CORREO ELECTRÓNICO",{"$f":"IFERROR(WORKDAY(C1276,P1276,DiasNOLaborables),\"\")","v":"2021-12-15"},{"$f":"+IF(C1276=\"\",\"\",IF(H1276=\"\",\"SIN RESPUESTA\",(IF(H1276<=J1276,\"A TIEMPO\",\"FUERA DE TIEMPO\"))))","v":"A TIEMPO"},{"$f":"IF(H1276=\"\",\"\",NETWORKDAYS(C1276+1,H1276,DiasNOLaborables))","v":-2},{"$f":"IF(NETWORKDAYS(J1276+1,H1276,DiasNOLaborables)<=0,\"\",NETWORKDAYS(J1276+1,H1276,DiasNOLaborables))","v":""},null,null,{"$f":"IFERROR(VLOOKUP(E1276,$X$51:$Y$64,2),\"\")","v":20}]
[1266,20219050131262,"2021-11-16","CORREO ELECTRÓNICO","SOLICITUD DE INFORMACIÓN Y DOCUMENTOS","ACREDITACIÓN DE LABORATORIOS","SUBDIRECCIÓN DE ESTUDIOS AMBIENTALES","2021-11-22","CORREO ELECTRÓNICO",{"$f":"IFERROR(WORKDAY(C1277,P1277,DiasNOLaborables),\"\")","v":"2021-12-15"},{"$f":"+IF(C1277=\"\",\"\",IF(H1277=\"\",\"SIN RESPUESTA\",(IF(H1277<=J1277,\"A TIEMPO\",\"FUERA DE TIEMPO\"))))","v":"A TIEMPO"},{"$f":"IF(H1277=\"\",\"\",NETWORKDAYS(C1277+1,H1277,DiasNOLaborables))","v":4},{"$f":"IF(NETWORKDAYS(J1277+1,H1277,DiasNOLaborables)<=0,\"\",NETWORKDAYS(J1277+1,H1277,DiasNOLaborables))","v":""},null,null,{"$f":"IFERROR(VLOOKUP(E1277,$X$51:$Y$64,2),\"\")","v":20}]
[1267,20219050131332,"2021-11-16","CORREO ELECTRÓNICO","SOLICITUD DE INFORMACIÓN Y DOCUMENTOS","REGISTROS AMBIENTALES","SUBDIRECCIÓN DE ESTUDIOS AMBIENTALES","2021-11-17","CORREO ELECTRÓNICO",{"$f":"IFERROR(WORKDAY(C1278,P1278,DiasNOLaborables),\"\")","v":"2021-12-15"},{"$f":"+IF(C1278=\"\",\"\",IF(H1278=\"\",\"SIN RESPUESTA\",(IF(H1278<=J1278,\"A TIEMPO\",\"FUERA DE TIEMPO\"))))","v":"A TIEMPO"},{"$f":"IF(H1278=\"\",\"\",NETWORKDAYS(C1278+1,H1278,DiasNOLaborables))","v":1},{"$f":"IF(NETWORKDAYS(J1278+1,H1278,DiasNOLaborables)<=0,\"\",NETWORKDAYS(J1278+1,H1278,DiasNOLaborables))","v":""},null,null,{"$f":"IFERROR(VLOOKUP(E1278,$X$51:$Y$64,2),\"\")","v":20}]
[1268,20219050131362,"2021-11-16","CORREO ELECTRÓNICO","SOLICITUD DE INFORMACIÓN Y DOCUMENTOS","SOLICITUD DE INFORMACIÓN HIDROMETEOROLÓGICA","SUBDIRECCIÓN DE METEOROLOGÍA","2021-11-26","CORREO ELECTRÓNICO",{"$f":"IFERROR(WORKDAY(C1279,P1279,DiasNOLaborables),\"\")","v":"2021-12-15"},{"$f":"+IF(C1279=\"\",\"\",IF(H1279=\"\",\"SIN RESPUESTA\",(IF(H1279<=J1279,\"A TIEMPO\",\"FUERA DE TIEMPO\"))))","v":"A TIEMPO"},{"$f":"IF(H1279=\"\",\"\",NETWORKDAYS(C1279+1,H1279,DiasNOLaborables))","v":8},{"$f":"IF(NETWORKDAYS(J1279+1,H1279,DiasNOLaborables)<=0,\"\",NETWORKDAYS(J1279+1,H1279,DiasNOLaborables))","v":""},null,null,{"$f":"IFERROR(VLOOKUP(E1279,$X$51:$Y$64,2),\"\")","v":20}]
[1269,20219050131532,"2021-11-16","CORREO ELECTRÓNICO","SOLICITUD DE INFORMACIÓN Y DOCUMENTOS","REGISTROS AMBIENTALES","SUBDIRECCIÓN DE ESTUDIOS AMBIENTALES","2021-11-16","CORREO ELECTRÓNICO",{"$f":"IFERROR(WORKDAY(C1280,P1280,DiasNOLaborables),\"\")","v":"2021-12-15"},{"$f":"+IF(C1280=\"\",\"\",IF(H1280=\"\",\"SIN RESPUESTA\",(IF(H1280<=J1280,\"A TIEMPO\",\"FUERA DE TIEMPO\"))))","v":"A TIEMPO"},{"$f":"IF(H1280=\"\",\"\",NETWORKDAYS(C1280+1,H1280,DiasNOLaborables))","v":-2},{"$f":"IF(NETWORKDAYS(J1280+1,H1280,DiasNOLaborables)<=0,\"\",NETWORKDAYS(J1280+1,H1280,DiasNOLaborables))","v":""},null,null,{"$f":"IFERROR(VLOOKUP(E1280,$X$51:$Y$64,2),\"\")","v":20}]
[1270,20219050131542,"2021-11-16","CORREO ELECTRÓNICO","SOLICITUD DE INFORMACIÓN Y DOCUMENTOS","REGISTROS AMBIENTALES","SUBDIRECCIÓN DE ESTUDIOS AMBIENTALES","2021-11-16","CORREO ELECTRÓNICO",{"$f":"IFERROR(WORKDAY(C1281,P1281,DiasNOLaborables),\"\")","v":"2021-12-15"},{"$f":"+IF(C1281=\"\",\"\",IF(H1281=\"\",\"SIN RESPUESTA\",(IF(H1281<=J1281,\"A TIEMPO\",\"FUERA DE TIEMPO\"))))","v":"A TIEMPO"},{"$f":"IF(H1281=\"\",\"\",NETWORKDAYS(C1281+1,H1281,DiasNOLaborables))","v":-2},{"$f":"IF(NETWORKDAYS(J1281+1,H1281,DiasNOLaborables)<=0,\"\",NETWORKDAYS(J1281+1,H1281,DiasNOLaborables))","v":""},null,null,{"$f":"IFERROR(VLOOKUP(E1281,$X$51:$Y$64,2),\"\")","v":20}]
[1271,20219050131552,"2021-11-16","CORREO ELECTRÓNICO","SOLICITUD DE INFORMACIÓN Y DOCUMENTOS","REGISTROS AMBIENTALES","SUBDIRECCIÓN DE ESTUDIOS AMBIENTALES","2021-11-16","CORREO ELECTRÓNICO",{"$f":"IFERROR(WORKDAY(C1282,P1282,DiasNOLaborables),\"\")","v":"2021-12-15"},{"$f":"+IF(C1282=\"\",\"\",IF(H1282=\"\",\"SIN RESPUESTA\",(IF(H1282<=J1282,\"A TIEMPO\",\"FUERA DE TIEMPO\"))))","v":"A TIEMPO"},{"$f":"IF(H1282=\"\",\"\",NETWORKDAYS([5]Hoja1!C1280+1,[5]Hoja1!P1280,DiasNOLaborables))","v":4},{"$f":"IF(NETWORKDAYS(J1282+1,H1282,DiasNOLaborables)<=0,\"\",NETWORKDAYS(J1282+1,H1282,DiasNOLaborables))","v":""},null,null,{"$f":"IFERROR(VLOOKUP(E1282,$X$51:$Y$64,2),\"\")","v":20}]
[1272,20219050131342,"2021-11-16","MODULO CONTACTENOS","SOLICITUD DE INFORMACIÓN Y DOCUMENTOS","SOLICITUD DE INFORMACIÓN HIDROMETEOROLÓGICA","GRUPO DE SERVICIO AL CIUDADANO ","2021-11-17","CORREO ELECTRÓNICO",{"$f":"IFERROR(WORKDAY(C1283,P1283,DiasNOLaborables),\"\")","v":"2021-12-15"},{"$f":"+IF(C1283=\"\",\"\",IF(H1283=\"\",\"SIN RESPUESTA\",(IF(H1283<=J1283,\"A TIEMPO\",\"FUERA DE TIEMPO\"))))","v":"A TIEMPO"},{"$f":"IF(H1283=\"\",\"\",NETWORKDAYS(C1283+1,H1283,DiasNOLaborables))","v":1},{"$f":"IF(NETWORKDAYS(J1283+1,H1283,DiasNOLaborables)<=0,\"\",NETWORKDAYS(J1283+1,H1283,DiasNOLaborables))","v":""},null,null,{"$f":"IFERROR(VLOOKUP(E1283,$X$51:$Y$64,2),\"\")","v":20}]
[1273,20219050131352,"2021-11-16","MODULO CONTACTENOS","SOLICITUD DE INFORMACIÓN Y DOCUMENTOS","SOLICITUD DE INFORMACIÓN HIDROMETEOROLÓGICA","GRUPO DE SERVICIO AL CIUDADANO ","2021-11-17","CORREO ELECTRÓNICO",{"$f":"IFERROR(WORKDAY(C1284,P1284,DiasNOLaborables),\"\")","v":"2021-12-15"},{"$f":"+IF(C1284=\"\",\"\",IF(H1284=\"\",\"SIN RESPUESTA\",(IF(H1284<=J1284,\"A TIEMPO\",\"FUERA DE TIEMPO\"))))","v":"A TIEMPO"},{"$f":"IF(H1284=\"\",\"\",NETWORKDAYS(C1284+1,H1284,DiasNOLaborables))","v":1},{"$f":"IF(NETWORKDAYS(J1284+1,H1284,DiasNOLaborables)<=0,\"\",NETWORKDAYS(J1284+1,H1284,DiasNOLaborables))","v":""},null,null,{"$f":"IFERROR(VLOOKUP(E1284,$X$51:$Y$64,2),\"\")","v":20}]
[1274,20219050131382,"2021-11-16","MODULO CONTACTENOS","SOLICITUD DE INFORMACIÓN Y DOCUMENTOS","SOLICITUD DE INFORMACIÓN HIDROMETEOROLÓGICA","GRUPO DE SERVICIO AL CIUDADANO ","2021-11-17","CORREO ELECTRÓNICO",{"$f":"IFERROR(WORKDAY(C1285,P1285,DiasNOLaborables),\"\")","v":"2021-12-15"},{"$f":"+IF(C1285=\"\",\"\",IF(H1285=\"\",\"SIN RESPUESTA\",(IF(H1285<=J1285,\"A TIEMPO\",\"FUERA DE TIEMPO\"))))","v":"A TIEMPO"},{"$f":"IF(H1285=\"\",\"\",NETWORKDAYS(C1285+1,H1285,DiasNOLaborables))","v":1},{"$f":"IF(NETWORKDAYS(J1285+1,H1285,DiasNOLaborables)<=0,\"\",NETWORKDAYS(J1285+1,H1285,DiasNOLaborables))","v":""},null,null,{"$f":"IFERROR(VLOOKUP(E1285,$X$51:$Y$64,2),\"\")","v":20}]
[1275,20219050131402,"2021-11-16","MODULO CONTACTENOS","SOLICITUD DE INFORMACIÓN Y DOCUMENTOS","SOLICITUD DE INFORMACIÓN HIDROMETEOROLÓGICA","GRUPO DE SERVICIO AL CIUDADANO ","2021-11-17","CORREO ELECTRÓNICO",{"$f":"IFERROR(WORKDAY(C1286,P1286,DiasNOLaborables),\"\")","v":"2021-12-15"},{"$f":"+IF(C1286=\"\",\"\",IF(H1286=\"\",\"SIN RESPUESTA\",(IF(H1286<=J1286,\"A TIEMPO\",\"FUERA DE TIEMPO\"))))","v":"A TIEMPO"},{"$f":"IF(H1286=\"\",\"\",NETWORKDAYS(C1286+1,H1286,DiasNOLaborables))","v":1},{"$f":"IF(NETWORKDAYS(J1286+1,H1286,DiasNOLaborables)<=0,\"\",NETWORKDAYS(J1286+1,H1286,DiasNOLaborables))","v":""},null,null,{"$f":"IFERROR(VLOOKUP(E1286,$X$51:$Y$64,2),\"\")","v":20}]
[1276,20219050131462,"2021-11-16","MODULO CONTACTENOS","SOLICITUD DE INFORMACIÓN Y DOCUMENTOS","SOLICITUD DE INFORMACIÓN HIDROMETEOROLÓGICA","GRUPO DE SERVICIO AL CIUDADANO ","2021-11-17","CORREO ELECTRÓNICO",{"$f":"IFERROR(WORKDAY(C1287,P1287,DiasNOLaborables),\"\")","v":"2021-12-15"},{"$f":"+IF(C1287=\"\",\"\",IF(H1287=\"\",\"SIN RESPUESTA\",(IF(H1287<=J1287,\"A TIEMPO\",\"FUERA DE TIEMPO\"))))","v":"A TIEMPO"},{"$f":"IF(H1287=\"\",\"\",NETWORKDAYS(C1287+1,H1287,DiasNOLaborables))","v":1},{"$f":"IF(NETWORKDAYS(J1287+1,H1287,DiasNOLaborables)<=0,\"\",NETWORKDAYS(J1287+1,H1287,DiasNOLaborables))","v":""},null,null,{"$f":"IFERROR(VLOOKUP(E1287,$X$51:$Y$64,2),\"\")","v":20}]
[1277,20219050131522,"2021-11-16","MODULO CONTACTENOS","SOLICITUD DE INFORMACIÓN Y DOCUMENTOS","SOLICITUD DE INFORMACIÓN HIDROMETEOROLÓGICA","GRUPO DE SERVICIO AL CIUDADANO ","2021-11-18","CORREO ELECTRÓNICO",{"$f":"IFERROR(WORKDAY(C1288,P1288,DiasNOLaborables),\"\")","v":"2021-12-15"},{"$f":"+IF(C1288=\"\",\"\",IF(H1288=\"\",\"SIN RESPUESTA\",(IF(H1288<=J1288,\"A TIEMPO\",\"FUERA DE TIEMPO\"))))","v":"A TIEMPO"},{"$f":"IF(H1288=\"\",\"\",NETWORKDAYS(C1288+1,H1288,DiasNOLaborables))","v":2},{"$f":"IF(NETWORKDAYS(J1288+1,H1288,DiasNOLaborables)<=0,\"\",NETWORKDAYS(J1288+1,H1288,DiasNOLaborables))","v":""},null,null,{"$f":"IFERROR(VLOOKUP(E1288,$X$51:$Y$64,2),\"\")","v":20}]
[1278,20219050131562,"2021-11-16","MODULO CONTACTENOS","SOLICITUD DE INFORMACIÓN Y DOCUMENTOS","SOLICITUD DE INFORMACIÓN HIDROMETEOROLÓGICA","GRUPO DE SERVICIO AL CIUDADANO ","2021-11-18","CORREO ELECTRÓNICO",{"$f":"IFERROR(WORKDAY(C1289,P1289,DiasNOLaborables),\"\")","v":"2021-12-15"},{"$f":"+IF(C1289=\"\",\"\",IF(H1289=\"\",\"SIN RESPUESTA\",(IF(H1289<=J1289,\"A TIEMPO\",\"FUERA DE TIEMPO\"))))","v":"A TIEMPO"},{"$f":"IF(H1289=\"\",\"\",NETWORKDAYS(C1289+1,H1289,DiasNOLaborables))","v":2},{"$f":"IF(NETWORKDAYS(J1289+1,H1289,DiasNOLaborables)<=0,\"\",NETWORKDAYS(J1289+1,H1289,DiasNOLaborables))","v":""},null,null,{"$f":"IFERROR(VLOOKUP(E1289,$X$51:$Y$64,2),\"\")","v":20}]
[1279,20219050131582,"2021-11-16","MODULO CONTACTENOS","SOLICITUD DE INFORMACIÓN Y DOCUMENTOS","SOLICITUD DE INFORMACIÓN HIDROMETEOROLÓGICA","GRUPO DE SERVICIO AL CIUDADANO ","2021-11-18","CORREO ELECTRÓNICO",{"$f":"IFERROR(WORKDAY(C1290,P1290,DiasNOLaborables),\"\")","v":"2021-12-15"},{"$f":"+IF(C1290=\"\",\"\",IF(H1290=\"\",\"SIN RESPUESTA\",(IF(H1290<=J1290,\"A TIEMPO\",\"FUERA DE TIEMPO\"))))","v":"A TIEMPO"},{"$f":"IF(H1290=\"\",\"\",NETWORKDAYS(C1290+1,H1290,DiasNOLaborables))","v":2},{"$f":"IF(NETWORKDAYS(J1290+1,H1290,DiasNOLaborables)<=0,\"\",NETWORKDAYS(J1290+1,H1290,DiasNOLaborables))","v":""},null,null,{"$f":"IFERROR(VLOOKUP(E1290,$X$51:$Y$64,2),\"\")","v":20}]
[1280,20219050131602,"2021-11-16","MODULO CONTACTENOS","SOLICITUD DE INFORMACIÓN Y DOCUMENTOS","SOLICITUD DE INFORMACIÓN HIDROMETEOROLÓGICA","GRUPO DE SERVICIO AL CIUDADANO ","2021-11-18","CORREO ELECTRÓNICO",{"$f":"IFERROR(WORKDAY(C1291,P1291,DiasNOLaborables),\"\")","v":"2021-12-15"},{"$f":"+IF(C1291=\"\",\"\",IF(H1291=\"\",\"SIN RESPUESTA\",(IF(H1291<=J1291,\"A TIEMPO\",\"FUERA DE TIEMPO\"))))","v":"A TIEMPO"},{"$f":"IF(H1291=\"\",\"\",NETWORKDAYS(C1291+1,H1291,DiasNOLaborables))","v":2},{"$f":"IF(NETWORKDAYS(J1291+1,H1291,DiasNOLaborables)<=0,\"\",NETWORKDAYS(J1291+1,H1291,DiasNOLaborables))","v":""},null,null,{"$f":"IFERROR(VLOOKUP(E1291,$X$51:$Y$64,2),\"\")","v":20}]
[1281,20219050131682,"2021-11-17","MODULO CONTACTENOS","SOLICITUD DE INFORMACIÓN Y DOCUMENTOS","SOLICITUD DE INFORMACIÓN HIDROMETEOROLÓGICA","GRUPO DE SERVICIO AL CIUDADANO ","2021-11-18","CORREO ELECTRÓNICO",{"$f":"IFERROR(WORKDAY(C1292,P1292,DiasNOLaborables),\"\")","v":"2021-12-16"},{"$f":"+IF(C1292=\"\",\"\",IF(H1292=\"\",\"SIN RESPUESTA\",(IF(H1292<=J1292,\"A TIEMPO\",\"FUERA DE TIEMPO\"))))","v":"A TIEMPO"},{"$f":"IF(H1292=\"\",\"\",NETWORKDAYS(C1292+1,H1292,DiasNOLaborables))","v":1},{"$f":"IF(NETWORKDAYS(J1292+1,H1292,DiasNOLaborables)<=0,\"\",NETWORKDAYS(J1292+1,H1292,DiasNOLaborables))","v":""},null,null,{"$f":"IFERROR(VLOOKUP(E1292,$X$51:$Y$64,2),\"\")","v":20}]
[1282,20219050131702,"2021-11-17","MODULO CONTACTENOS","SOLICITUD DE INFORMACIÓN Y DOCUMENTOS","SOLICITUD DE INFORMACIÓN HIDROMETEOROLÓGICA","GRUPO DE SERVICIO AL CIUDADANO ","2021-11-19","CORREO ELECTRÓNICO",{"$f":"IFERROR(WORKDAY(C1293,P1293,DiasNOLaborables),\"\")","v":"2021-12-16"},{"$f":"+IF(C1293=\"\",\"\",IF(H1293=\"\",\"SIN RESPUESTA\",(IF(H1293<=J1293,\"A TIEMPO\",\"FUERA DE TIEMPO\"))))","v":"A TIEMPO"},{"$f":"IF(H1293=\"\",\"\",NETWORKDAYS(C1293+1,H1293,DiasNOLaborables))","v":2},{"$f":"IF(NETWORKDAYS(J1293+1,H1293,DiasNOLaborables)<=0,\"\",NETWORKDAYS(J1293+1,H1293,DiasNOLaborables))","v":""},null,null,{"$f":"IFERROR(VLOOKUP(E1293,$X$51:$Y$64,2),\"\")","v":20}]
[{"$f":"IF(B1294<>\"\",A1293+1,\"\")","v":1283},20219050131712,"2021-11-17","MODULO CONTACTENOS","SOLICITUD DE INFORMACIÓN Y DOCUMENTOS","SOLICITUD DE INFORMACIÓN HIDROMETEOROLÓGICA","GRUPO DE SERVICIO AL CIUDADANO ","2021-11-19","CORREO ELECTRÓNICO",{"$f":"IFERROR(WORKDAY(C1294,P1294,DiasNOLaborables),\"\")","v":"2021-12-16"},{"$f":"+IF(C1294=\"\",\"\",IF(H1294=\"\",\"SIN RESPUESTA\",(IF(H1294<=J1294,\"A TIEMPO\",\"FUERA DE TIEMPO\"))))","v":"A TIEMPO"},{"$f":"IF(H1294=\"\",\"\",NETWORKDAYS(C1294+1,H1294,DiasNOLaborables))","v":2},{"$f":"IF(NETWORKDAYS(J1294+1,H1294,DiasNOLaborables)<=0,\"\",NETWORKDAYS(J1294+1,H1294,DiasNOLaborables))","v":""},null,null,{"$f":"IFERROR(VLOOKUP(E1294,$X$51:$Y$64,2),\"\")","v":20}]
[1284,20219050131722,"2021-11-17","MODULO CONTACTENOS","SOLICITUD DE INFORMACIÓN Y DOCUMENTOS","SOLICITUD DE INFORMACIÓN HIDROMETEOROLÓGICA","GRUPO DE SERVICIO AL CIUDADANO ","2021-11-19","CORREO ELECTRÓNICO",{"$f":"IFERROR(WORKDAY(C1295,P1295,DiasNOLaborables),\"\")","v":"2021-12-16"},{"$f":"+IF(C1295=\"\",\"\",IF(H1295=\"\",\"SIN RESPUESTA\",(IF(H1295<=J1295,\"A TIEMPO\",\"FUERA DE TIEMPO\"))))","v":"A TIEMPO"},{"$f":"IF(H1295=\"\",\"\",NETWORKDAYS(C1295+1,H1295,DiasNOLaborables))","v":2},{"$f":"IF(NETWORKDAYS(J1295+1,H1295,DiasNOLaborables)<=0,\"\",NETWORKDAYS(J1295+1,H1295,DiasNOLaborables))","v":""},null,null,{"$f":"IFERROR(VLOOKUP(E1295,$X$51:$Y$64,2),\"\")","v":20}]
[1285,20219050131742,"2021-11-17","MODULO CONTACTENOS","SOLICITUD DE INFORMACIÓN Y DOCUMENTOS","SOLICITUD DE INFORMACIÓN HIDROMETEOROLÓGICA","GRUPO DE SERVICIO AL CIUDADANO ","2021-11-19","CORREO ELECTRÓNICO",{"$f":"IFERROR(WORKDAY(C1296,P1296,DiasNOLaborables),\"\")","v":"2021-12-16"},{"$f":"+IF(C1296=\"\",\"\",IF(H1296=\"\",\"SIN RESPUESTA\",(IF(H1296<=J1296,\"A TIEMPO\",\"FUERA DE TIEMPO\"))))","v":"A TIEMPO"},{"$f":"IF(H1296=\"\",\"\",NETWORKDAYS(C1296+1,H1296,DiasNOLaborables))","v":2},{"$f":"IF(NETWORKDAYS(J1296+1,H1296,DiasNOLaborables)<=0,\"\",NETWORKDAYS(J1296+1,H1296,DiasNOLaborables))","v":""},null,null,{"$f":"IFERROR(VLOOKUP(E1296,$X$51:$Y$64,2),\"\")","v":20}]
[1286,20219050131752,"2021-11-17","MODULO CONTACTENOS","SOLICITUD DE INFORMACIÓN Y DOCUMENTOS","SOLICITUD DE INFORMACIÓN HIDROMETEOROLÓGICA","GRUPO DE SERVICIO AL CIUDADANO ","2021-11-19","CORREO ELECTRÓNICO",{"$f":"IFERROR(WORKDAY(C1297,P1297,DiasNOLaborables),\"\")","v":"2021-12-16"},{"$f":"+IF(C1297=\"\",\"\",IF(H1297=\"\",\"SIN RESPUESTA\",(IF(H1297<=J1297,\"A TIEMPO\",\"FUERA DE TIEMPO\"))))","v":"A TIEMPO"},{"$f":"IF(H1297=\"\",\"\",NETWORKDAYS(C1297+1,H1297,DiasNOLaborables))","v":2},{"$f":"IF(NETWORKDAYS(J1297+1,H1297,DiasNOLaborables)<=0,\"\",NETWORKDAYS(J1297+1,H1297,DiasNOLaborables))","v":""},null,null,{"$f":"IFERROR(VLOOKUP(E1297,$X$51:$Y$64,2),\"\")","v":20}]
[1287,20219050131792,"2021-11-17","MODULO CONTACTENOS","SOLICITUD DE INFORMACIÓN Y DOCUMENTOS","SOLICITUD DE INFORMACIÓN HIDROMETEOROLÓGICA","GRUPO DE SERVICIO AL CIUDADANO ","2021-11-19","CORREO ELECTRÓNICO",{"$f":"IFERROR(WORKDAY(C1298,P1298,DiasNOLaborables),\"\")","v":"2021-12-16"},{"$f":"+IF(C1298=\"\",\"\",IF(H1298=\"\",\"SIN RESPUESTA\",(IF(H1298<=J1298,\"A TIEMPO\",\"FUERA DE TIEMPO\"))))","v":"A TIEMPO"},{"$f":"IF(H1298=\"\",\"\",NETWORKDAYS(C1298+1,H1298,DiasNOLaborables))","v":2},{"$f":"IF(NETWORKDAYS(J1298+1,H1298,DiasNOLaborables)<=0,\"\",NETWORKDAYS(J1298+1,H1298,DiasNOLaborables))","v":""},null,null,{"$f":"IFERROR(VLOOKUP(E1298,$X$51:$Y$64,2),\"\")","v":20}]
[1288,20219050131842,"2021-11-17","CORREO ELECTRÓNICO","SOLICITUD DE INFORMACIÓN Y DOCUMENTOS","SOLICITUD DE INFORMACIÓN HIDROMETEOROLÓGICA","GRUPO DE SERVICIO AL CIUDADANO ","2021-11-19","CORREO ELECTRÓNICO",{"$f":"IFERROR(WORKDAY(C1299,P1299,DiasNOLaborables),\"\")","v":"2021-12-16"},{"$f":"+IF(C1299=\"\",\"\",IF(H1299=\"\",\"SIN RESPUESTA\",(IF(H1299<=J1299,\"A TIEMPO\",\"FUERA DE TIEMPO\"))))","v":"A TIEMPO"},{"$f":"IF(H1299=\"\",\"\",NETWORKDAYS(C1299+1,H1299,DiasNOLaborables))","v":2},{"$f":"IF(NETWORKDAYS(J1299+1,H1299,DiasNOLaborables)<=0,\"\",NETWORKDAYS(J1299+1,H1299,DiasNOLaborables))","v":""},null,null,{"$f":"IFERROR(VLOOKUP(E1299,$X$51:$Y$64,2),\"\")","v":20}]
[1289,20219050131732,"2021-11-17","CORREO ELECTRÓNICO","SOLICITUD DE INFORMACIÓN Y DOCUMENTOS","BOSQUES","SUBDIRECCIÓN DE ECOSISTEMAS E INFORMACIÓN AMBIENTAL","2021-11-18","CORREO ELECTRÓNICO",{"$f":"IFERROR(WORKDAY(C1300,P1300,DiasNOLaborables),\"\")","v":"2021-12-16"},{"$f":"+IF(C1300=\"\",\"\",IF(H1300=\"\",\"SIN RESPUESTA\",(IF(H1300<=J1300,\"A TIEMPO\",\"FUERA DE TIEMPO\"))))","v":"A TIEMPO"},{"$f":"IF(H1300=\"\",\"\",NETWORKDAYS(C1300+1,H1300,DiasNOLaborables))","v":1},{"$f":"IF(NETWORKDAYS(J1300+1,H1300,DiasNOLaborables)<=0,\"\",NETWORKDAYS(J1300+1,H1300,DiasNOLaborables))","v":""},null,null,{"$f":"IFERROR(VLOOKUP(E1300,$X$51:$Y$64,2),\"\")","v":20}]
[1290,20219050131802,"2021-11-17","CORREO ELECTRÓNICO","SOLICITUD DE INFORMACIÓN Y DOCUMENTOS","ADMINISTRATIVA","GRUPO DE ADMINISTRACIÓN Y DESARROLLO DEL TALENTO HUMANO","2021-11-17","CORREO ELECTRÓNICO",{"$f":"IFERROR(WORKDAY(C1301,P1301,DiasNOLaborables),\"\")","v":"2021-12-16"},{"$f":"+IF(C1301=\"\",\"\",IF(H1301=\"\",\"SIN RESPUESTA\",(IF(H1301<=J1301,\"A TIEMPO\",\"FUERA DE TIEMPO\"))))","v":"A TIEMPO"},{"$f":"IF(H1301=\"\",\"\",NETWORKDAYS(C1301+1,H1301,DiasNOLaborables))","v":-2},{"$f":"IF(NETWORKDAYS(J1301+1,H1301,DiasNOLaborables)<=0,\"\",NETWORKDAYS(J1301+1,H1301,DiasNOLaborables))","v":""},null,null,{"$f":"IFERROR(VLOOKUP(E1301,$X$51:$Y$64,2),\"\")","v":20}]
[1291,20219050131832,"2021-11-17","CORREO ELECTRÓNICO","CERTIFICACIONES DE TIEMPO, CLIMA Y EVENTOS HIDROLÓGICOS","CERTIFICACIONES DE TIEMPO Y CLIMA","SUBDIRECCIÓN DE METEOROLOGÍA","2021-11-24","CORREO ELECTRÓNICO",{"$f":"IFERROR(WORKDAY(C1302,P1302,DiasNOLaborables),\"\")","v":"2022-01-06"},{"$f":"+IF(C1302=\"\",\"\",IF(H1302=\"\",\"SIN RESPUESTA\",(IF(H1302<=J1302,\"A TIEMPO\",\"FUERA DE TIEMPO\"))))","v":"A TIEMPO"},{"$f":"IF(H1302=\"\",\"\",NETWORKDAYS(C1302+1,H1302,DiasNOLaborables))","v":5},{"$f":"IF(NETWORKDAYS(J1302+1,H1302,DiasNOLaborables)<=0,\"\",NETWORKDAYS(J1302+1,H1302,DiasNOLaborables))","v":""},null,null,{"$f":"IFERROR(VLOOKUP(E1302,$X$51:$Y$64,2),\"\")","v":35}]
[1292,20219050131922,"2021-11-17","CORREO ELECTRÓNICO","SOLICITUD DE INFORMACIÓN Y DOCUMENTOS","ADMINISTRATIVA","GRUPO DE ADMINISTRACIÓN Y DESARROLLO DEL TALENTO HUMANO","2021-11-17","CORREO ELECTRÓNICO",{"$f":"IFERROR(WORKDAY(C1303,P1303,DiasNOLaborables),\"\")","v":"2021-12-16"},{"$f":"+IF(C1303=\"\",\"\",IF(H1303=\"\",\"SIN RESPUESTA\",(IF(H1303<=J1303,\"A TIEMPO\",\"FUERA DE TIEMPO\"))))","v":"A TIEMPO"},{"$f":"IF(H1303=\"\",\"\",NETWORKDAYS(C1303+1,H1303,DiasNOLaborables))","v":-2},{"$f":"IF(NETWORKDAYS(J1303+1,H1303,DiasNOLaborables)<=0,\"\",NETWORKDAYS(J1303+1,H1303,DiasNOLaborables))","v":""},null,null,{"$f":"IFERROR(VLOOKUP(E1303,$X$51:$Y$64,2),\"\")","v":20}]
[1293,20219050131932,"2021-11-17","CORREO ELECTRÓNICO","PETICIÓN","JURIDICO","OFICINA ASESORA JURÍDICA","2021-12-19","CORREO ELECTRÓNICO",{"$f":"IFERROR(WORKDAY(C1304,P1304,DiasNOLaborables),\"\")","v":"2021-12-30"},{"$f":"+IF(C1304=\"\",\"\",IF(H1304=\"\",\"SIN RESPUESTA\",(IF(H1304<=J1304,\"A TIEMPO\",\"FUERA DE TIEMPO\"))))","v":"A TIEMPO"},{"$f":"IF(H1304=\"\",\"\",NETWORKDAYS(C1304+1,H1304,DiasNOLaborables))","v":21},{"$f":"IF(NETWORKDAYS(J1304+1,H1304,DiasNOLaborables)<=0,\"\",NETWORKDAYS(J1304+1,H1304,DiasNOLaborables))","v":""},null,null,{"$f":"IFERROR(VLOOKUP(E1304,$X$51:$Y$64,2),\"\")","v":30}]
[1294,20219050131942,"2021-11-17","CORREO ELECTRÓNICO","SOLICITUD DE INFORMACIÓN Y DOCUMENTOS","ADMINISTRATIVA","GRUPO DE ADMINISTRACIÓN Y DESARROLLO DEL TALENTO HUMANO","2021-11-29","CORREO ELECTRÓNICO",{"$f":"IFERROR(WORKDAY(C1305,P1305,DiasNOLaborables),\"\")","v":"2021-12-16"},{"$f":"+IF(C1305=\"\",\"\",IF(H1305=\"\",\"SIN RESPUESTA\",(IF(H1305<=J1305,\"A TIEMPO\",\"FUERA DE TIEMPO\"))))","v":"A TIEMPO"},{"$f":"IF(H1305=\"\",\"\",NETWORKDAYS(C1305+1,H1305,DiasNOLaborables))","v":8},{"$f":"IF(NETWORKDAYS(J1305+1,H1305,DiasNOLaborables)<=0,\"\",NETWORKDAYS(J1305+1,H1305,DiasNOLaborables))","v":""},null,null,{"$f":"IFERROR(VLOOKUP(E1305,$X$51:$Y$64,2),\"\")","v":20}]
[1295,20219910063112,"2021-11-17","CORREO ELECTRÓNICO","SOLICITUD JUDICIAL","CERTIFICACIONES DE TIEMPO Y CLIMA","SUBDIRECCIÓN DE METEOROLOGÍA","2021-11-18","CORREO ELECTRÓNICO",{"$f":"IFERROR(WORKDAY(C1306,P1306,DiasNOLaborables),\"\")","v":"2021-11-24"},{"$f":"+IF(C1306=\"\",\"\",IF(H1306=\"\",\"SIN RESPUESTA\",(IF(H1306<=J1306,\"A TIEMPO\",\"FUERA DE TIEMPO\"))))","v":"A TIEMPO"},{"$f":"IF(H1306=\"\",\"\",NETWORKDAYS(C1306+1,H1306,DiasNOLaborables))","v":1},{"$f":"IF(NETWORKDAYS(J1306+1,H1306,DiasNOLaborables)<=0,\"\",NETWORKDAYS(J1306+1,H1306,DiasNOLaborables))","v":""},null,null,{"$f":"IFERROR(VLOOKUP(E1306,$X$51:$Y$64,2),\"\")","v":5}]
[1296,20219050131762,"2021-11-17","MODULO CONTACTENOS","SOLICITUD DE INFORMACIÓN Y DOCUMENTOS","ADMINISTRATIVA","GRUPO DE ADMINISTRACIÓN Y DESARROLLO DEL TALENTO HUMANO","2021-11-26","CORREO ELECTRÓNICO",{"$f":"IFERROR(WORKDAY(C1307,P1307,DiasNOLaborables),\"\")","v":"2021-12-16"},{"$f":"+IF(C1307=\"\",\"\",IF(H1307=\"\",\"SIN RESPUESTA\",(IF(H1307<=J1307,\"A TIEMPO\",\"FUERA DE TIEMPO\"))))","v":"A TIEMPO"},{"$f":"IF(H1307=\"\",\"\",NETWORKDAYS(C1307+1,H1307,DiasNOLaborables))","v":7},{"$f":"IF(NETWORKDAYS(J1307+1,H1307,DiasNOLaborables)<=0,\"\",NETWORKDAYS(J1307+1,H1307,DiasNOLaborables))","v":""},null,null,{"$f":"IFERROR(VLOOKUP(E1307,$X$51:$Y$64,2),\"\")","v":20}]
[1297,20219050131772,"2021-11-17","MODULO CONTACTENOS","SOLICITUD DE INFORMACIÓN Y DOCUMENTOS","ADMINISTRATIVA","GRUPO DE ADMINISTRACIÓN Y DESARROLLO DEL TALENTO HUMANO","2021-11-17","CORREO ELECTRÓNICO",{"$f":"IFERROR(WORKDAY(C1308,P1308,DiasNOLaborables),\"\")","v":"2021-12-16"},{"$f":"+IF(C1308=\"\",\"\",IF(H1308=\"\",\"SIN RESPUESTA\",(IF(H1308<=J1308,\"A TIEMPO\",\"FUERA DE TIEMPO\"))))","v":"A TIEMPO"},{"$f":"IF(H1308=\"\",\"\",NETWORKDAYS(C1308+1,H1308,DiasNOLaborables))","v":-2},{"$f":"IF(NETWORKDAYS(J1308+1,H1308,DiasNOLaborables)<=0,\"\",NETWORKDAYS(J1308+1,H1308,DiasNOLaborables))","v":""},null,null,{"$f":"IFERROR(VLOOKUP(E1308,$X$51:$Y$64,2),\"\")","v":20}]
[1298,20219050131782,"2021-11-17","MODULO CONTACTENOS","SOLICITUD DE INFORMACIÓN Y DOCUMENTOS","ADMINISTRATIVA","GRUPO DE ADMINISTRACIÓN Y DESARROLLO DEL TALENTO HUMANO","2021-11-30","CORREO ELECTRÓNICO",{"$f":"IFERROR(WORKDAY(C1309,P1309,DiasNOLaborables),\"\")","v":"2021-12-16"},{"$f":"+IF(C1309=\"\",\"\",IF(H1309=\"\",\"SIN RESPUESTA\",(IF(H1309<=J1309,\"A TIEMPO\",\"FUERA DE TIEMPO\"))))","v":"A TIEMPO"},{"$f":"IF(H1309=\"\",\"\",NETWORKDAYS(C1309+1,H1309,DiasNOLaborables))","v":9},{"$f":"IF(NETWORKDAYS(J1309+1,H1309,DiasNOLaborables)<=0,\"\",NETWORKDAYS(J1309+1,H1309,DiasNOLaborables))","v":""},null,null,{"$f":"IFERROR(VLOOKUP(E1309,$X$51:$Y$64,2),\"\")","v":20}]
[1299,20219050131872,"2021-11-17","MODULO CONTACTENOS","CERTIFICACIONES DE TIEMPO, CLIMA Y EVENTOS HIDROLÓGICOS","CERTIFICACIONES DE TIEMPO Y CLIMA","SUBDIRECCIÓN DE METEOROLOGÍA","2021-12-02","CORREO ELECTRÓNICO",{"$f":"IFERROR(WORKDAY(C1310,P1310,DiasNOLaborables),\"\")","v":"2022-01-06"},{"$f":"+IF(C1310=\"\",\"\",IF(H1310=\"\",\"SIN RESPUESTA\",(IF(H1310<=J1310,\"A TIEMPO\",\"FUERA DE TIEMPO\"))))","v":"A TIEMPO"},{"$f":"IF(H1310=\"\",\"\",NETWORKDAYS(C1310+1,H1310,DiasNOLaborables))","v":11},{"$f":"IF(NETWORKDAYS(J1310+1,H1310,DiasNOLaborables)<=0,\"\",NETWORKDAYS(J1310+1,H1310,DiasNOLaborables))","v":""},null,null,{"$f":"IFERROR(VLOOKUP(E1310,$X$51:$Y$64,2),\"\")","v":35}]
[1300,20219050131892,"2021-11-17","MODULO CONTACTENOS","CERTIFICACIONES DE TIEMPO, CLIMA Y EVENTOS HIDROLÓGICOS","CERTIFICACIONES DE TIEMPO Y CLIMA","SUBDIRECCIÓN DE METEOROLOGÍA","2021-12-07","CORREO ELECTRÓNICO",{"$f":"IFERROR(WORKDAY(C1311,P1311,DiasNOLaborables),\"\")","v":"2022-01-06"},{"$f":"+IF(C1311=\"\",\"\",IF(H1311=\"\",\"SIN RESPUESTA\",(IF(H1311<=J1311,\"A TIEMPO\",\"FUERA DE TIEMPO\"))))","v":"A TIEMPO"},{"$f":"IF(H1311=\"\",\"\",NETWORKDAYS(C1311+1,H1311,DiasNOLaborables))","v":14},{"$f":"IF(NETWORKDAYS(J1311+1,H1311,DiasNOLaborables)<=0,\"\",NETWORKDAYS(J1311+1,H1311,DiasNOLaborables))","v":""},null,null,{"$f":"IFERROR(VLOOKUP(E1311,$X$51:$Y$64,2),\"\")","v":35}]
[1301,20219050131812,"2021-11-17","MODULO CONTACTENOS","SOLICITUD DE INFORMACIÓN Y DOCUMENTOS","SOLICITUD DE INFORMACIÓN HIDROMETEOROLÓGICA","GRUPO DE SERVICIO AL CIUDADANO ","2021-11-29","CORREO ELECTRÓNICO",{"$f":"IFERROR(WORKDAY(C1312,P1312,DiasNOLaborables),\"\")","v":"2021-12-16"},{"$f":"+IF(C1312=\"\",\"\",IF(H1312=\"\",\"SIN RESPUESTA\",(IF(H1312<=J1312,\"A TIEMPO\",\"FUERA DE TIEMPO\"))))","v":"A TIEMPO"},{"$f":"IF(H1312=\"\",\"\",NETWORKDAYS(C1312+1,H1312,DiasNOLaborables))","v":8},{"$f":"IF(NETWORKDAYS(J1312+1,H1312,DiasNOLaborables)<=0,\"\",NETWORKDAYS(J1312+1,H1312,DiasNOLaborables))","v":""},null,null,{"$f":"IFERROR(VLOOKUP(E1312,$X$51:$Y$64,2),\"\")","v":20}]
[1302,20219050131852,"2021-11-17","MODULO CONTACTENOS","SOLICITUD DE INFORMACIÓN Y DOCUMENTOS","SOLICITUD DE INFORMACIÓN HIDROMETEOROLÓGICA","GRUPO DE SERVICIO AL CIUDADANO ","2021-11-29","CORREO ELECTRÓNICO",{"$f":"IFERROR(WORKDAY(C1313,P1313,DiasNOLaborables),\"\")","v":"2021-12-16"},{"$f":"+IF(C1313=\"\",\"\",IF(H1313=\"\",\"SIN RESPUESTA\",(IF(H1313<=J1313,\"A TIEMPO\",\"FUERA DE TIEMPO\"))))","v":"A TIEMPO"},{"$f":"IF(H1313=\"\",\"\",NETWORKDAYS(C1313+1,H1313,DiasNOLaborables))","v":8},{"$f":"IF(NETWORKDAYS(J1313+1,H1313,DiasNOLaborables)<=0,\"\",NETWORKDAYS(J1313+1,H1313,DiasNOLaborables))","v":""},null,null,{"$f":"IFERROR(VLOOKUP(E1313,$X$51:$Y$64,2),\"\")","v":20}]
[1303,20219050131862,"2021-11-17","MODULO CONTACTENOS","SOLICITUD DE INFORMACIÓN Y DOCUMENTOS","SOLICITUD DE INFORMACIÓN HIDROMETEOROLÓGICA","GRUPO DE SERVICIO AL CIUDADANO ","2021-11-30","CORREO ELECTRÓNICO",{"$f":"IFERROR(WORKDAY(C1314,P1314,DiasNOLaborables),\"\")","v":"2021-12-16"},{"$f":"+IF(C1314=\"\",\"\",IF(H1314=\"\",\"SIN RESPUESTA\",(IF(H1314<=J1314,\"A TIEMPO\",\"FUERA DE TIEMPO\"))))","v":"A TIEMPO"},{"$f":"IF(H1314=\"\",\"\",NETWORKDAYS(C1314+1,H1314,DiasNOLaborables))","v":9},{"$f":"IF(NETWORKDAYS(J1314+1,H1314,DiasNOLaborables)<=0,\"\",NETWORKDAYS(J1314+1,H1314,DiasNOLaborables))","v":""},null,null,{"$f":"IFERROR(VLOOKUP(E1314,$X$51:$Y$64,2),\"\")","v":20}]
[1304,20219050131882,"2021-11-17","CORREO ELECTRÓNICO","SOLICITUD DE INFORMACIÓN Y DOCUMENTOS","SOLICITUD DE INFORMACIÓN HIDROMETEOROLÓGICA","GRUPO DE SERVICIO AL CIUDADANO ","2021-12-01","CORREO ELECTRÓNICO",{"$f":"IFERROR(WORKDAY(C1315,P1315,DiasNOLaborables),\"\")","v":"2021-12-16"},{"$f":"+IF(C1315=\"\",\"\",IF(H1315=\"\",\"SIN RESPUESTA\",(IF(H1315<=J1315,\"A TIEMPO\",\"FUERA DE TIEMPO\"))))","v":"A TIEMPO"},{"$f":"IF(H1315=\"\",\"\",NETWORKDAYS(C1315+1,H1315,DiasNOLaborables))","v":10},{"$f":"IF(NETWORKDAYS(J1315+1,H1315,DiasNOLaborables)<=0,\"\",NETWORKDAYS(J1315+1,H1315,DiasNOLaborables))","v":""},null,null,{"$f":"IFERROR(VLOOKUP(E1315,$X$51:$Y$64,2),\"\")","v":20}]
[1305,20219050131912,"2021-11-17","MODULO CONTACTENOS","SOLICITUD DE INFORMACIÓN Y DOCUMENTOS","SOLICITUD DE INFORMACIÓN HIDROMETEOROLÓGICA","SUBDIRECCIÓN DE METEOROLOGÍA","2021-12-02","CORREO ELECTRÓNICO",{"$f":"IFERROR(WORKDAY(C1316,P1316,DiasNOLaborables),\"\")","v":"2021-12-16"},{"$f":"+IF(C1316=\"\",\"\",IF(H1316=\"\",\"SIN RESPUESTA\",(IF(H1316<=J1316,\"A TIEMPO\",\"FUERA DE TIEMPO\"))))","v":"A TIEMPO"},{"$f":"IF(H1316=\"\",\"\",NETWORKDAYS(C1316+1,H1316,DiasNOLaborables))","v":11},{"$f":"IF(NETWORKDAYS(J1316+1,H1316,DiasNOLaborables)<=0,\"\",NETWORKDAYS(J1316+1,H1316,DiasNOLaborables))","v":""},null,null,{"$f":"IFERROR(VLOOKUP(E1316,$X$51:$Y$64,2),\"\")","v":20}]
[1306,20219050131962,"2021-11-17","MODULO CONTACTENOS","CERTIFICACIONES DE TIEMPO, CLIMA Y EVENTOS HIDROLÓGICOS","CERTIFICACIONES DE TIEMPO Y CLIMA","SUBDIRECCIÓN DE METEOROLOGÍA","2021-11-30","CORREO ELECTRÓNICO",{"$f":"IFERROR(WORKDAY(C1317,P1317,DiasNOLaborables),\"\")","v":"2022-01-06"},{"$f":"+IF(C1317=\"\",\"\",IF(H1317=\"\",\"SIN RESPUESTA\",(IF(H1317<=J1317,\"A TIEMPO\",\"FUERA DE TIEMPO\"))))","v":"A TIEMPO"},{"$f":"IF(H1317=\"\",\"\",NETWORKDAYS(C1317+1,H1317,DiasNOLaborables))","v":9},{"$f":"IF(NETWORKDAYS(J1317+1,H1317,DiasNOLaborables)<=0,\"\",NETWORKDAYS(J1317+1,H1317,DiasNOLaborables))","v":""},null,null,{"$f":"IFERROR(VLOOKUP(E1317,$X$51:$Y$64,2),\"\")","v":35}]
[1307,20219050131972,"2021-11-17","CORREO ELECTRÓNICO","SOLICITUD DE INFORMACIÓN Y DOCUMENTOS","SOLICITUD DE INFORMACIÓN HIDROMETEOROLÓGICA","GRUPO DE SERVICIO AL CIUDADANO ","2021-11-30","CORREO ELECTRÓNICO",{"$f":"IFERROR(WORKDAY(C1318,P1318,DiasNOLaborables),\"\")","v":"2021-12-16"},{"$f":"+IF(C1318=\"\",\"\",IF(H1318=\"\",\"SIN RESPUESTA\",(IF(H1318<=J1318,\"A TIEMPO\",\"FUERA DE TIEMPO\"))))","v":"A TIEMPO"},{"$f":"IF(H1318=\"\",\"\",NETWORKDAYS(C1318+1,H1318,DiasNOLaborables))","v":9},{"$f":"IF(NETWORKDAYS(J1318+1,H1318,DiasNOLaborables)<=0,\"\",NETWORKDAYS(J1318+1,H1318,DiasNOLaborables))","v":""},null,null,{"$f":"IFERROR(VLOOKUP(E1318,$X$51:$Y$64,2),\"\")","v":20}]
[1308,20219050131982,"2021-11-17","MODULO CONTACTENOS","SOLICITUD DE INFORMACIÓN Y DOCUMENTOS","SOLICITUD DE INFORMACIÓN HIDROMETEOROLÓGICA","GRUPO DE SERVICIO AL CIUDADANO ","2021-12-01","CORREO ELECTRÓNICO",{"$f":"IFERROR(WORKDAY(C1319,P1319,DiasNOLaborables),\"\")","v":"2021-12-16"},{"$f":"+IF(C1319=\"\",\"\",IF(H1319=\"\",\"SIN RESPUESTA\",(IF(H1319<=J1319,\"A TIEMPO\",\"FUERA DE TIEMPO\"))))","v":"A TIEMPO"},{"$f":"IF(H1319=\"\",\"\",NETWORKDAYS(C1319+1,H1319,DiasNOLaborables))","v":10},{"$f":"IF(NETWORKDAYS(J1319+1,H1319,DiasNOLaborables)<=0,\"\",NETWORKDAYS(J1319+1,H1319,DiasNOLaborables))","v":""},null,null,{"$f":"IFERROR(VLOOKUP(E1319,$X$51:$Y$64,2),\"\")","v":20}]
[1309,20219050131992,"2021-11-17","MODULO CONTACTENOS","SOLICITUD DE INFORMACIÓN Y DOCUMENTOS","SOLICITUD DE INFORMACIÓN HIDROMETEOROLÓGICA","GRUPO DE SERVICIO AL CIUDADANO ","2021-12-01","CORREO ELECTRÓNICO",{"$f":"IFERROR(WORKDAY(C1320,P1320,DiasNOLaborables),\"\")","v":"2021-12-16"},{"$f":"+IF(C1320=\"\",\"\",IF(H1320=\"\",\"SIN RESPUESTA\",(IF(H1320<=J1320,\"A TIEMPO\",\"FUERA DE TIEMPO\"))))","v":"A TIEMPO"},{"$f":"IF(H1320=\"\",\"\",NETWORKDAYS(C1320+1,H1320,DiasNOLaborables))","v":10},{"$f":"IF(NETWORKDAYS(J1320+1,H1320,DiasNOLaborables)<=0,\"\",NETWORKDAYS(J1320+1,H1320,DiasNOLaborables))","v":""},null,null,{"$f":"IFERROR(VLOOKUP(E1320,$X$51:$Y$64,2),\"\")","v":20}]
[1310,20219050132012,"2021-11-17","MODULO CONTACTENOS","SOLICITUD DE INFORMACIÓN Y DOCUMENTOS","SOLICITUD DE INFORMACIÓN HIDROMETEOROLÓGICA","GRUPO DE SERVICIO AL CIUDADANO ","2021-12-02","CORREO ELECTRÓNICO",{"$f":"IFERROR(WORKDAY(C1321,P1321,DiasNOLaborables),\"\")","v":"2021-12-16"},{"$f":"+IF(C1321=\"\",\"\",IF(H1321=\"\",\"SIN RESPUESTA\",(IF(H1321<=J1321,\"A TIEMPO\",\"FUERA DE TIEMPO\"))))","v":"A TIEMPO"},{"$f":"IF(H1321=\"\",\"\",NETWORKDAYS(C1321+1,H1321,DiasNOLaborables))","v":11},{"$f":"IF(NETWORKDAYS(J1321+1,H1321,DiasNOLaborables)<=0,\"\",NETWORKDAYS(J1321+1,H1321,DiasNOLaborables))","v":""},null,null,{"$f":"IFERROR(VLOOKUP(E1321,$X$51:$Y$64,2),\"\")","v":20}]
[1311,20219050132022,"2021-11-17","MODULO CONTACTENOS","SOLICITUD DE INFORMACIÓN Y DOCUMENTOS","SOLICITUD DE INFORMACIÓN HIDROMETEOROLÓGICA","GRUPO DE SERVICIO AL CIUDADANO ","2021-12-01","CORREO ELECTRÓNICO",{"$f":"IFERROR(WORKDAY(C1322,P1322,DiasNOLaborables),\"\")","v":"2021-12-16"},{"$f":"+IF(C1322=\"\",\"\",IF(H1322=\"\",\"SIN RESPUESTA\",(IF(H1322<=J1322,\"A TIEMPO\",\"FUERA DE TIEMPO\"))))","v":"A TIEMPO"},{"$f":"IF(H1322=\"\",\"\",NETWORKDAYS(C1322+1,H1322,DiasNOLaborables))","v":10},{"$f":"IF(NETWORKDAYS(J1322+1,H1322,DiasNOLaborables)<=0,\"\",NETWORKDAYS(J1322+1,H1322,DiasNOLaborables))","v":""},null,null,{"$f":"IFERROR(VLOOKUP(E1322,$X$51:$Y$64,2),\"\")","v":20}]
[1312,20219050132042,"2021-11-18","MODULO CONTACTENOS","SOLICITUD DE INFORMACIÓN Y DOCUMENTOS","SOLICITUD DE INFORMACIÓN HIDROMETEOROLÓGICA","GRUPO DE SERVICIO AL CIUDADANO ","2021-12-01","CORREO ELECTRÓNICO",{"$f":"IFERROR(WORKDAY(C1323,P1323,DiasNOLaborables),\"\")","v":"2021-12-17"},{"$f":"+IF(C1323=\"\",\"\",IF(H1323=\"\",\"SIN RESPUESTA\",(IF(H1323<=J1323,\"A TIEMPO\",\"FUERA DE TIEMPO\"))))","v":"A TIEMPO"},{"$f":"IF(H1323=\"\",\"\",NETWORKDAYS(C1323+1,H1323,DiasNOLaborables))","v":9},{"$f":"IF(NETWORKDAYS(J1323+1,H1323,DiasNOLaborables)<=0,\"\",NETWORKDAYS(J1323+1,H1323,DiasNOLaborables))","v":""},null,null,{"$f":"IFERROR(VLOOKUP(E1323,$X$51:$Y$64,2),\"\")","v":20}]
[1313,20219050132052,"2021-11-18","MODULO CONTACTENOS","SOLICITUD DE INFORMACIÓN Y DOCUMENTOS","SOLICITUD DE INFORMACIÓN HIDROMETEOROLÓGICA","GRUPO DE SERVICIO AL CIUDADANO ","2021-12-03","CORREO ELECTRÓNICO",{"$f":"IFERROR(WORKDAY(C1324,P1324,DiasNOLaborables),\"\")","v":"2021-12-17"},{"$f":"+IF(C1324=\"\",\"\",IF(H1324=\"\",\"SIN RESPUESTA\",(IF(H1324<=J1324,\"A TIEMPO\",\"FUERA DE TIEMPO\"))))","v":"A TIEMPO"},{"$f":"IF(H1324=\"\",\"\",NETWORKDAYS(C1324+1,H1324,DiasNOLaborables))","v":11},{"$f":"IF(NETWORKDAYS(J1324+1,H1324,DiasNOLaborables)<=0,\"\",NETWORKDAYS(J1324+1,H1324,DiasNOLaborables))","v":""},null,null,{"$f":"IFERROR(VLOOKUP(E1324,$X$51:$Y$64,2),\"\")","v":20}]
[1314,20219050132082,"2021-11-18","MODULO CONTACTENOS","SOLICITUD DE INFORMACIÓN Y DOCUMENTOS","SOLICITUD DE INFORMACIÓN HIDROMETEOROLÓGICA","GRUPO DE SERVICIO AL CIUDADANO ","2021-12-03","CORREO ELECTRÓNICO",{"$f":"IFERROR(WORKDAY(C1325,P1325,DiasNOLaborables),\"\")","v":"2021-12-17"},{"$f":"+IF(C1325=\"\",\"\",IF(H1325=\"\",\"SIN RESPUESTA\",(IF(H1325<=J1325,\"A TIEMPO\",\"FUERA DE TIEMPO\"))))","v":"A TIEMPO"},{"$f":"IF(H1325=\"\",\"\",NETWORKDAYS(C1325+1,H1325,DiasNOLaborables))","v":11},{"$f":"IF(NETWORKDAYS(J1325+1,H1325,DiasNOLaborables)<=0,\"\",NETWORKDAYS(J1325+1,H1325,DiasNOLaborables))","v":""},null,null,{"$f":"IFERROR(VLOOKUP(E1325,$X$51:$Y$64,2),\"\")","v":20}]
[1315,20219050131952,"2021-11-18","MODULO CONTACTENOS","SOLICITUD DE INFORMACIÓN Y DOCUMENTOS","ADMINISTRATIVA","GRUPO DE ADMINISTRACIÓN Y DESARROLLO DEL TALENTO HUMANO","2021-11-29","CORREO ELECTRÓNICO",{"$f":"IFERROR(WORKDAY(C1326,P1326,DiasNOLaborables),\"\")","v":"2021-12-17"},{"$f":"+IF(C1326=\"\",\"\",IF(H1326=\"\",\"SIN RESPUESTA\",(IF(H1326<=J1326,\"A TIEMPO\",\"FUERA DE TIEMPO\"))))","v":"A TIEMPO"},{"$f":"IF(H1326=\"\",\"\",NETWORKDAYS(C1326+1,H1326,DiasNOLaborables))","v":7},{"$f":"IF(NETWORKDAYS(J1326+1,H1326,DiasNOLaborables)<=0,\"\",NETWORKDAYS(J1326+1,H1326,DiasNOLaborables))","v":""},null,null,{"$f":"IFERROR(VLOOKUP(E1326,$X$51:$Y$64,2),\"\")","v":20}]
[1316,20219050132032,"2021-11-18","MODULO CONTACTENOS","SOLICITUD DE INFORMACIÓN Y DOCUMENTOS","ADMINISTRATIVA","OFICINA ASESORA JURÍDICA","2021-11-19","CORREO ELECTRÓNICO",{"$f":"IFERROR(WORKDAY(C1327,P1327,DiasNOLaborables),\"\")","v":"2021-12-17"},{"$f":"+IF(C1327=\"\",\"\",IF(H1327=\"\",\"SIN RESPUESTA\",(IF(H1327<=J1327,\"A TIEMPO\",\"FUERA DE TIEMPO\"))))","v":"A TIEMPO"},{"$f":"IF(H1327=\"\",\"\",NETWORKDAYS(C1327+1,H1327,DiasNOLaborables))","v":1},{"$f":"IF(NETWORKDAYS(J1327+1,H1327,DiasNOLaborables)<=0,\"\",NETWORKDAYS(J1327+1,H1327,DiasNOLaborables))","v":""},null,null,{"$f":"IFERROR(VLOOKUP(E1327,$X$51:$Y$64,2),\"\")","v":20}]
[1317,20219050132072,"2021-11-18","MODULO CONTACTENOS","SOLICITUD DE INFORMACIÓN Y DOCUMENTOS","ADMINISTRATIVA","OFICINA ASESORA JURÍDICA","2021-11-19","CORREO ELECTRÓNICO",{"$f":"IFERROR(WORKDAY(C1328,P1328,DiasNOLaborables),\"\")","v":"2021-12-17"},{"$f":"+IF(C1328=\"\",\"\",IF(H1328=\"\",\"SIN RESPUESTA\",(IF(H1328<=J1328,\"A TIEMPO\",\"FUERA DE TIEMPO\"))))","v":"A TIEMPO"},{"$f":"IF(H1328=\"\",\"\",NETWORKDAYS(C1328+1,H1328,DiasNOLaborables))","v":1},{"$f":"IF(NETWORKDAYS(J1328+1,H1328,DiasNOLaborables)<=0,\"\",NETWORKDAYS(J1328+1,H1328,DiasNOLaborables))","v":""},null,null,{"$f":"IFERROR(VLOOKUP(E1328,$X$51:$Y$64,2),\"\")","v":20}]
[1318,20219050132192,"2021-11-18","MODULO CONTACTENOS","SOLICITUD DE INFORMACIÓN Y DOCUMENTOS","CAMBIO CLIMÁTICO","SUBDIRECCIÓN DE ESTUDIOS AMBIENTALES","2021-11-26","CORREO ELECTRÓNICO",{"$f":"IFERROR(WORKDAY(C1329,P1329,DiasNOLaborables),\"\")","v":"2021-12-17"},{"$f":"+IF(C1329=\"\",\"\",IF(H1329=\"\",\"SIN RESPUESTA\",(IF(H1329<=J1329,\"A TIEMPO\",\"FUERA DE TIEMPO\"))))","v":"A TIEMPO"},{"$f":"IF(H1329=\"\",\"\",NETWORKDAYS(C1329+1,H1329,DiasNOLaborables))","v":6},{"$f":"IF(NETWORKDAYS(J1329+1,H1329,DiasNOLaborables)<=0,\"\",NETWORKDAYS(J1329+1,H1329,DiasNOLaborables))","v":""},null,null,{"$f":"IFERROR(VLOOKUP(E1329,$X$51:$Y$64,2),\"\")","v":20}]
[1319,20219050132222,"2021-11-18","MODULO CONTACTENOS","SOLICITUD DE INFORMACIÓN Y DOCUMENTOS","ADMINISTRATIVA","GRUPO DE ADMINISTRACIÓN Y DESARROLLO DEL TALENTO HUMANO","2021-11-18","CORREO ELECTRÓNICO",{"$f":"IFERROR(WORKDAY(C1330,P1330,DiasNOLaborables),\"\")","v":"2021-12-17"},{"$f":"+IF(C1330=\"\",\"\",IF(H1330=\"\",\"SIN RESPUESTA\",(IF(H1330<=J1330,\"A TIEMPO\",\"FUERA DE TIEMPO\"))))","v":"A TIEMPO"},{"$f":"IF(H1330=\"\",\"\",NETWORKDAYS(C1330+1,H1330,DiasNOLaborables))","v":-2},{"$f":"IF(NETWORKDAYS(J1330+1,H1330,DiasNOLaborables)<=0,\"\",NETWORKDAYS(J1330+1,H1330,DiasNOLaborables))","v":""},null,null,{"$f":"IFERROR(VLOOKUP(E1330,$X$51:$Y$64,2),\"\")","v":20}]
[1320,20219050132332,"2021-11-18","MODULO CONTACTENOS","SOLICITUD DE INFORMACIÓN Y DOCUMENTOS","REGISTROS AMBIENTALES","SUBDIRECCIÓN DE ESTUDIOS AMBIENTALES","2021-11-26","CORREO ELECTRÓNICO",{"$f":"IFERROR(WORKDAY(C1331,P1331,DiasNOLaborables),\"\")","v":"2021-12-17"},{"$f":"+IF(C1331=\"\",\"\",IF(H1331=\"\",\"SIN RESPUESTA\",(IF(H1331<=J1331,\"A TIEMPO\",\"FUERA DE TIEMPO\"))))","v":"A TIEMPO"},{"$f":"IF(H1331=\"\",\"\",NETWORKDAYS(C1331+1,H1331,DiasNOLaborables))","v":6},{"$f":"IF(NETWORKDAYS(J1331+1,H1331,DiasNOLaborables)<=0,\"\",NETWORKDAYS(J1331+1,H1331,DiasNOLaborables))","v":""},null,null,{"$f":"IFERROR(VLOOKUP(E1331,$X$51:$Y$64,2),\"\")","v":20}]
[1321,20219910063472,"2021-11-18","CORREO ELECTRÓNICO","SOLICITUD DE INFORMACIÓN Y DOCUMENTOS","BOSQUES","SUBDIRECCIÓN DE ECOSISTEMAS E INFORMACIÓN AMBIENTAL","2021-11-26","CORREO ELECTRÓNICO",{"$f":"IFERROR(WORKDAY(C1332,P1332,DiasNOLaborables),\"\")","v":"2021-12-17"},{"$f":"+IF(C1332=\"\",\"\",IF(H1332=\"\",\"SIN RESPUESTA\",(IF(H1332<=J1332,\"A TIEMPO\",\"FUERA DE TIEMPO\"))))","v":"A TIEMPO"},{"$f":"IF(H1332=\"\",\"\",NETWORKDAYS(C1332+1,H1332,DiasNOLaborables))","v":6},{"$f":"IF(NETWORKDAYS(J1332+1,H1332,DiasNOLaborables)<=0,\"\",NETWORKDAYS(J1332+1,H1332,DiasNOLaborables))","v":""},null,null,{"$f":"IFERROR(VLOOKUP(E1332,$X$51:$Y$64,2),\"\")","v":20}]
[1322,20219910063482,"2021-11-18","CORREO ELECTRÓNICO","SOLICITUD DE INFORMACIÓN Y DOCUMENTOS","BOSQUES","SUBDIRECCIÓN DE ECOSISTEMAS E INFORMACIÓN AMBIENTAL","2021-11-26","CORREO ELECTRÓNICO",{"$f":"IFERROR(WORKDAY(C1333,P1333,DiasNOLaborables),\"\")","v":"2021-12-17"},{"$f":"+IF(C1333=\"\",\"\",IF(H1333=\"\",\"SIN RESPUESTA\",(IF(H1333<=J1333,\"A TIEMPO\",\"FUERA DE TIEMPO\"))))","v":"A TIEMPO"},{"$f":"IF(H1333=\"\",\"\",NETWORKDAYS(C1333+1,H1333,DiasNOLaborables))","v":6},{"$f":"IF(NETWORKDAYS(J1333+1,H1333,DiasNOLaborables)<=0,\"\",NETWORKDAYS(J1333+1,H1333,DiasNOLaborables))","v":""},null,null,{"$f":"IFERROR(VLOOKUP(E1333,$X$51:$Y$64,2),\"\")","v":20}]
[1323,20219050132142,"2021-11-18","MODULO CONTACTENOS","SOLICITUD DE INFORMACIÓN Y DOCUMENTOS","SOLICITUD DE INFORMACIÓN HIDROMETEOROLÓGICA","GRUPO DE SERVICIO AL CIUDADANO ","2021-12-09","CORREO ELECTRÓNICO",{"$f":"IFERROR(WORKDAY(C1334,P1334,DiasNOLaborables),\"\")","v":"2021-12-17"},{"$f":"+IF(C1334=\"\",\"\",IF(H1334=\"\",\"SIN RESPUESTA\",(IF(H1334<=J1334,\"A TIEMPO\",\"FUERA DE TIEMPO\"))))","v":"A TIEMPO"},{"$f":"IF(H1334=\"\",\"\",NETWORKDAYS(C1334+1,H1334,DiasNOLaborables))","v":14},{"$f":"IF(NETWORKDAYS(J1334+1,H1334,DiasNOLaborables)<=0,\"\",NETWORKDAYS(J1334+1,H1334,DiasNOLaborables))","v":""},null,null,{"$f":"IFERROR(VLOOKUP(E1334,$X$51:$Y$64,2),\"\")","v":20}]
[1324,20219050132172,"2021-11-18","MODULO CONTACTENOS","SOLICITUD DE INFORMACIÓN Y DOCUMENTOS","SOLICITUD DE INFORMACIÓN HIDROMETEOROLÓGICA","GRUPO DE SERVICIO AL CIUDADANO ","2021-12-07","CORREO ELECTRÓNICO",{"$f":"IFERROR(WORKDAY(C1335,P1335,DiasNOLaborables),\"\")","v":"2021-12-17"},{"$f":"+IF(C1335=\"\",\"\",IF(H1335=\"\",\"SIN RESPUESTA\",(IF(H1335<=J1335,\"A TIEMPO\",\"FUERA DE TIEMPO\"))))","v":"A TIEMPO"},{"$f":"IF(H1335=\"\",\"\",NETWORKDAYS(C1335+1,H1335,DiasNOLaborables))","v":13},{"$f":"IF(NETWORKDAYS(J1335+1,H1335,DiasNOLaborables)<=0,\"\",NETWORKDAYS(J1335+1,H1335,DiasNOLaborables))","v":""},null,null,{"$f":"IFERROR(VLOOKUP(E1335,$X$51:$Y$64,2),\"\")","v":20}]
[1325,20219050132202,"2021-11-18","MODULO CONTACTENOS","SOLICITUD DE INFORMACIÓN Y DOCUMENTOS","SOLICITUD DE INFORMACIÓN HIDROMETEOROLÓGICA","GRUPO DE SERVICIO AL CIUDADANO ","2021-12-07","CORREO ELECTRÓNICO",{"$f":"IFERROR(WORKDAY(C1336,P1336,DiasNOLaborables),\"\")","v":"2021-12-17"},{"$f":"+IF(C1336=\"\",\"\",IF(H1336=\"\",\"SIN RESPUESTA\",(IF(H1336<=J1336,\"A TIEMPO\",\"FUERA DE TIEMPO\"))))","v":"A TIEMPO"},{"$f":"IF(H1336=\"\",\"\",NETWORKDAYS(C1336+1,H1336,DiasNOLaborables))","v":13},{"$f":"IF(NETWORKDAYS(J1336+1,H1336,DiasNOLaborables)<=0,\"\",NETWORKDAYS(J1336+1,H1336,DiasNOLaborables))","v":""},null,null,{"$f":"IFERROR(VLOOKUP(E1336,$X$51:$Y$64,2),\"\")","v":20}]
[1326,20219050132182,"2021-11-18","MODULO CONTACTENOS","SOLICITUD DE INFORMACIÓN Y DOCUMENTOS","SOLICITUD DE INFORMACIÓN HIDROMETEOROLÓGICA","GRUPO DE SERVICIO AL CIUDADANO ","2021-12-09","CORREO ELECTRÓNICO",{"$f":"IFERROR(WORKDAY(C1337,P1337,DiasNOLaborables),\"\")","v":"2021-12-17"},{"$f":"+IF(C1337=\"\",\"\",IF(H1337=\"\",\"SIN RESPUESTA\",(IF(H1337<=J1337,\"A TIEMPO\",\"FUERA DE TIEMPO\"))))","v":"A TIEMPO"},{"$f":"IF(H1337=\"\",\"\",NETWORKDAYS(C1337+1,H1337,DiasNOLaborables))","v":14},{"$f":"IF(NETWORKDAYS(J1337+1,H1337,DiasNOLaborables)<=0,\"\",NETWORKDAYS(J1337+1,H1337,DiasNOLaborables))","v":""},null,null,{"$f":"IFERROR(VLOOKUP(E1337,$X$51:$Y$64,2),\"\")","v":20}]
[1327,20219050132092,"2021-11-18","CORREO ELECTRÓNICO","SOLICITUD DE INFORMACIÓN Y DOCUMENTOS","BOSQUES","SUBDIRECCIÓN DE ECOSISTEMAS E INFORMACIÓN AMBIENTAL","2021-11-26","CORREO ELECTRÓNICO",{"$f":"IFERROR(WORKDAY(C1338,P1338,DiasNOLaborables),\"\")","v":"2021-12-17"},{"$f":"+IF(C1338=\"\",\"\",IF(H1338=\"\",\"SIN RESPUESTA\",(IF(H1338<=J1338,\"A TIEMPO\",\"FUERA DE TIEMPO\"))))","v":"A TIEMPO"},{"$f":"IF(H1338=\"\",\"\",NETWORKDAYS(C1338+1,H1338,DiasNOLaborables))","v":6},{"$f":"IF(NETWORKDAYS(J1338+1,H1338,DiasNOLaborables)<=0,\"\",NETWORKDAYS(J1338+1,H1338,DiasNOLaborables))","v":""},null,null,{"$f":"IFERROR(VLOOKUP(E1338,$X$51:$Y$64,2),\"\")","v":20}]
[1328,20219050132102,"2021-11-18","CORREO ELECTRÓNICO","SOLICITUD DE INFORMACIÓN Y DOCUMENTOS","JURIDICO","OFICINA ASESORA JURÍDICA","2021-12-13","CORREO ELECTRÓNICO",{"$f":"IFERROR(WORKDAY(C1339,P1339,DiasNOLaborables),\"\")","v":"2021-12-17"},{"$f":"+IF(C1339=\"\",\"\",IF(H1339=\"\",\"SIN RESPUESTA\",(IF(H1339<=J1339,\"A TIEMPO\",\"FUERA DE TIEMPO\"))))","v":"A TIEMPO"},{"$f":"IF(H1339=\"\",\"\",NETWORKDAYS(C1339+1,H1339,DiasNOLaborables))","v":16},{"$f":"IF(NETWORKDAYS(J1339+1,H1339,DiasNOLaborables)<=0,\"\",NETWORKDAYS(J1339+1,H1339,DiasNOLaborables))","v":""},null,null,{"$f":"IFERROR(VLOOKUP(E1339,$X$51:$Y$64,2),\"\")","v":20}]
[1329,20219050132132,"2021-11-18","CORREO ELECTRÓNICO","SOLICITUD DE INFORMACIÓN Y DOCUMENTOS","REGISTROS AMBIENTALES","SUBDIRECCIÓN DE ESTUDIOS AMBIENTALES","2021-11-18","CORREO ELECTRÓNICO",{"$f":"IFERROR(WORKDAY(C1340,P1340,DiasNOLaborables),\"\")","v":"2021-12-17"},{"$f":"+IF(C1340=\"\",\"\",IF(H1340=\"\",\"SIN RESPUESTA\",(IF(H1340<=J1340,\"A TIEMPO\",\"FUERA DE TIEMPO\"))))","v":"A TIEMPO"},{"$f":"IF(H1340=\"\",\"\",NETWORKDAYS(C1340+1,H1340,DiasNOLaborables))","v":-2},{"$f":"IF(NETWORKDAYS(J1340+1,H1340,DiasNOLaborables)<=0,\"\",NETWORKDAYS(J1340+1,H1340,DiasNOLaborables))","v":""},null,null,{"$f":"IFERROR(VLOOKUP(E1340,$X$51:$Y$64,2),\"\")","v":20}]
[1330,20219050132152,"2021-11-18","CORREO ELECTRÓNICO","SOLICITUD DE INFORMACIÓN Y DOCUMENTOS","ADMINISTRATIVA","OFICINA DE INFORMÁTICA","2021-12-02","CORREO ELECTRÓNICO",{"$f":"IFERROR(WORKDAY(C1341,P1341,DiasNOLaborables),\"\")","v":"2021-12-17"},{"$f":"+IF(C1341=\"\",\"\",IF(H1341=\"\",\"SIN RESPUESTA\",(IF(H1341<=J1341,\"A TIEMPO\",\"FUERA DE TIEMPO\"))))","v":"A TIEMPO"},{"$f":"IF(H1341=\"\",\"\",NETWORKDAYS(C1341+1,H1341,DiasNOLaborables))","v":10},{"$f":"IF(NETWORKDAYS(J1341+1,H1341,DiasNOLaborables)<=0,\"\",NETWORKDAYS(J1341+1,H1341,DiasNOLaborables))","v":""},null,null,{"$f":"IFERROR(VLOOKUP(E1341,$X$51:$Y$64,2),\"\")","v":20}]
[1331,20219050132162,"2021-11-18","CORREO ELECTRÓNICO","SOLICITUD DE INFORMACIÓN Y DOCUMENTOS","REGISTROS AMBIENTALES","SUBDIRECCIÓN DE ESTUDIOS AMBIENTALES","2021-11-18","CORREO ELECTRÓNICO",{"$f":"IFERROR(WORKDAY(C1342,P1342,DiasNOLaborables),\"\")","v":"2021-12-17"},{"$f":"+IF(C1342=\"\",\"\",IF(H1342=\"\",\"SIN RESPUESTA\",(IF(H1342<=J1342,\"A TIEMPO\",\"FUERA DE TIEMPO\"))))","v":"A TIEMPO"},{"$f":"IF(H1342=\"\",\"\",NETWORKDAYS(C1342+1,H1342,DiasNOLaborables))","v":-2},{"$f":"IF(NETWORKDAYS(J1342+1,H1342,DiasNOLaborables)<=0,\"\",NETWORKDAYS(J1342+1,H1342,DiasNOLaborables))","v":""},null,null,{"$f":"IFERROR(VLOOKUP(E1342,$X$51:$Y$64,2),\"\")","v":20}]
[1332,20219050132232,"2021-11-18","CORREO ELECTRÓNICO","SOLICITUD DE INFORMACIÓN Y DOCUMENTOS","BOSQUES","SUBDIRECCIÓN DE ECOSISTEMAS E INFORMACIÓN AMBIENTAL","2021-12-03","CORREO ELECTRÓNICO",{"$f":"IFERROR(WORKDAY(C1343,P1343,DiasNOLaborables),\"\")","v":"2021-12-17"},{"$f":"+IF(C1343=\"\",\"\",IF(H1343=\"\",\"SIN RESPUESTA\",(IF(H1343<=J1343,\"A TIEMPO\",\"FUERA DE TIEMPO\"))))","v":"A TIEMPO"},{"$f":"IF(H1343=\"\",\"\",NETWORKDAYS(C1343+1,H1343,DiasNOLaborables))","v":11},{"$f":"IF(NETWORKDAYS(J1343+1,H1343,DiasNOLaborables)<=0,\"\",NETWORKDAYS(J1343+1,H1343,DiasNOLaborables))","v":""},null,null,{"$f":"IFERROR(VLOOKUP(E1343,$X$51:$Y$64,2),\"\")","v":20}]
[1333,20219050132242,"2021-11-18","CORREO ELECTRÓNICO","SOLICITUD JUDICIAL","JURIDICO","OFICINA ASESORA JURÍDICA","2021-11-22","CORREO ELECTRÓNICO",{"$f":"IFERROR(WORKDAY(C1344,P1344,DiasNOLaborables),\"\")","v":"2021-11-25"},{"$f":"+IF(C1344=\"\",\"\",IF(H1344=\"\",\"SIN RESPUESTA\",(IF(H1344<=J1344,\"A TIEMPO\",\"FUERA DE TIEMPO\"))))","v":"A TIEMPO"},{"$f":"IF(H1344=\"\",\"\",NETWORKDAYS(C1344+1,H1344,DiasNOLaborables))","v":2},{"$f":"IF(NETWORKDAYS(J1344+1,H1344,DiasNOLaborables)<=0,\"\",NETWORKDAYS(J1344+1,H1344,DiasNOLaborables))","v":""},null,null,{"$f":"IFERROR(VLOOKUP(E1344,$X$51:$Y$64,2),\"\")","v":5}]
[1334,20219050132212,"2021-11-18","MODULO CONTACTENOS","SOLICITUD DE INFORMACIÓN Y DOCUMENTOS","SOLICITUD DE INFORMACIÓN HIDROMETEOROLÓGICA","GRUPO DE SERVICIO AL CIUDADANO ","2021-11-29","CORREO ELECTRÓNICO",{"$f":"IFERROR(WORKDAY(C1345,P1345,DiasNOLaborables),\"\")","v":"2021-12-17"},{"$f":"+IF(C1345=\"\",\"\",IF(H1345=\"\",\"SIN RESPUESTA\",(IF(H1345<=J1345,\"A TIEMPO\",\"FUERA DE TIEMPO\"))))","v":"A TIEMPO"},{"$f":"IF(H1345=\"\",\"\",NETWORKDAYS(C1345+1,H1345,DiasNOLaborables))","v":7},{"$f":"IF(NETWORKDAYS(J1345+1,H1345,DiasNOLaborables)<=0,\"\",NETWORKDAYS(J1345+1,H1345,DiasNOLaborables))","v":""},null,null,{"$f":"IFERROR(VLOOKUP(E1345,$X$51:$Y$64,2),\"\")","v":20}]
[1335,20219050132252,"2021-11-18","MODULO CONTACTENOS","SOLICITUD DE INFORMACIÓN Y DOCUMENTOS","SOLICITUD DE INFORMACIÓN HIDROMETEOROLÓGICA","GRUPO DE SERVICIO AL CIUDADANO ","2021-11-29","CORREO ELECTRÓNICO",{"$f":"IFERROR(WORKDAY(C1346,P1346,DiasNOLaborables),\"\")","v":"2021-12-17"},{"$f":"+IF(C1346=\"\",\"\",IF(H1346=\"\",\"SIN RESPUESTA\",(IF(H1346<=J1346,\"A TIEMPO\",\"FUERA DE TIEMPO\"))))","v":"A TIEMPO"},{"$f":"IF(H1346=\"\",\"\",NETWORKDAYS(C1346+1,H1346,DiasNOLaborables))","v":7},{"$f":"IF(NETWORKDAYS(J1346+1,H1346,DiasNOLaborables)<=0,\"\",NETWORKDAYS(J1346+1,H1346,DiasNOLaborables))","v":""},null,null,{"$f":"IFERROR(VLOOKUP(E1346,$X$51:$Y$64,2),\"\")","v":20}]
[1336,20219050132262,"2021-11-18","MODULO CONTACTENOS","SOLICITUD DE INFORMACIÓN Y DOCUMENTOS","SOLICITUD DE INFORMACIÓN HIDROMETEOROLÓGICA","GRUPO DE SERVICIO AL CIUDADANO ","2021-11-29","CORREO ELECTRÓNICO",{"$f":"IFERROR(WORKDAY(C1347,P1347,DiasNOLaborables),\"\")","v":"2021-12-17"},{"$f":"+IF(C1347=\"\",\"\",IF(H1347=\"\",\"SIN RESPUESTA\",(IF(H1347<=J1347,\"A TIEMPO\",\"FUERA DE TIEMPO\"))))","v":"A TIEMPO"},{"$f":"IF(H1347=\"\",\"\",NETWORKDAYS(C1347+1,H1347,DiasNOLaborables))","v":7},{"$f":"IF(NETWORKDAYS(J1347+1,H1347,DiasNOLaborables)<=0,\"\",NETWORKDAYS(J1347+1,H1347,DiasNOLaborables))","v":""},null,null,{"$f":"IFERROR(VLOOKUP(E1347,$X$51:$Y$64,2),\"\")","v":20}]
[1337,20219050132282,"2021-11-18","MODULO CONTACTENOS","SOLICITUD DE INFORMACIÓN Y DOCUMENTOS","SOLICITUD DE INFORMACIÓN HIDROMETEOROLÓGICA","GRUPO DE SERVICIO AL CIUDADANO ","2021-11-29","CORREO ELECTRÓNICO",{"$f":"IFERROR(WORKDAY(C1348,P1348,DiasNOLaborables),\"\")","v":"2021-12-17"},{"$f":"+IF(C1348=\"\",\"\",IF(H1348=\"\",\"SIN RESPUESTA\",(IF(H1348<=J1348,\"A TIEMPO\",\"FUERA DE TIEMPO\"))))","v":"A TIEMPO"},{"$f":"IF(H1348=\"\",\"\",NETWORKDAYS(C1348+1,H1348,DiasNOLaborables))","v":7},{"$f":"IF(NETWORKDAYS(J1348+1,H1348,DiasNOLaborables)<=0,\"\",NETWORKDAYS(J1348+1,H1348,DiasNOLaborables))","v":""},null,null,{"$f":"IFERROR(VLOOKUP(E1348,$X$51:$Y$64,2),\"\")","v":20}]
[1338,20219050132322,"2021-11-18","MODULO CONTACTENOS","SOLICITUD DE INFORMACIÓN Y DOCUMENTOS","SOLICITUD DE INFORMACIÓN HIDROMETEOROLÓGICA","GRUPO DE SERVICIO AL CIUDADANO ","2021-11-29","CORREO ELECTRÓNICO",{"$f":"IFERROR(WORKDAY(C1349,P1349,DiasNOLaborables),\"\")","v":"2021-12-17"},{"$f":"+IF(C1349=\"\",\"\",IF(H1349=\"\",\"SIN RESPUESTA\",(IF(H1349<=J1349,\"A TIEMPO\",\"FUERA DE TIEMPO\"))))","v":"A TIEMPO"},{"$f":"IF(H1349=\"\",\"\",NETWORKDAYS(C1349+1,H1349,DiasNOLaborables))","v":7},{"$f":"IF(NETWORKDAYS(J1349+1,H1349,DiasNOLaborables)<=0,\"\",NETWORKDAYS(J1349+1,H1349,DiasNOLaborables))","v":""},null,null,{"$f":"IFERROR(VLOOKUP(E1349,$X$51:$Y$64,2),\"\")","v":20}]
[1339,20219050132362,"2021-11-18","MODULO CONTACTENOS","SOLICITUD DE INFORMACIÓN Y DOCUMENTOS","SOLICITUD DE INFORMACIÓN HIDROMETEOROLÓGICA","GRUPO DE SERVICIO AL CIUDADANO ","2021-11-29","CORREO ELECTRÓNICO",{"$f":"IFERROR(WORKDAY(C1350,P1350,DiasNOLaborables),\"\")","v":"2021-12-17"},{"$f":"+IF(C1350=\"\",\"\",IF(H1350=\"\",\"SIN RESPUESTA\",(IF(H1350<=J1350,\"A TIEMPO\",\"FUERA DE TIEMPO\"))))","v":"A TIEMPO"},{"$f":"IF(H1350=\"\",\"\",NETWORKDAYS(C1350+1,H1350,DiasNOLaborables))","v":7},{"$f":"IF(NETWORKDAYS(J1350+1,H1350,DiasNOLaborables)<=0,\"\",NETWORKDAYS(J1350+1,H1350,DiasNOLaborables))","v":""},null,null,{"$f":"IFERROR(VLOOKUP(E1350,$X$51:$Y$64,2),\"\")","v":20}]
[1340,20219050132412,"2021-11-18","MODULO CONTACTENOS","SOLICITUD DE INFORMACIÓN Y DOCUMENTOS","SOLICITUD DE INFORMACIÓN HIDROMETEOROLÓGICA","GRUPO DE SERVICIO AL CIUDADANO ","2021-11-29","CORREO ELECTRÓNICO",{"$f":"IFERROR(WORKDAY(C1351,P1351,DiasNOLaborables),\"\")","v":"2021-12-17"},{"$f":"+IF(C1351=\"\",\"\",IF(H1351=\"\",\"SIN RESPUESTA\",(IF(H1351<=J1351,\"A TIEMPO\",\"FUERA DE TIEMPO\"))))","v":"A TIEMPO"},{"$f":"IF(H1351=\"\",\"\",NETWORKDAYS(C1351+1,H1351,DiasNOLaborables))","v":7},{"$f":"IF(NETWORKDAYS(J1351+1,H1351,DiasNOLaborables)<=0,\"\",NETWORKDAYS(J1351+1,H1351,DiasNOLaborables))","v":""},null,null,{"$f":"IFERROR(VLOOKUP(E1351,$X$51:$Y$64,2),\"\")","v":20}]
[1341,20219050132372,"2021-11-18","MODULO CONTACTENOS","SOLICITUD DE INFORMACIÓN Y DOCUMENTOS","SOLICITUD DE INFORMACIÓN HIDROMETEOROLÓGICA","GRUPO DE SERVICIO AL CIUDADANO ","2021-12-01","CORREO ELECTRÓNICO",{"$f":"IFERROR(WORKDAY(C1352,P1352,DiasNOLaborables),\"\")","v":"2021-12-17"},{"$f":"+IF(C1352=\"\",\"\",IF(H1352=\"\",\"SIN RESPUESTA\",(IF(H1352<=J1352,\"A TIEMPO\",\"FUERA DE TIEMPO\"))))","v":"A TIEMPO"},{"$f":"IF(H1352=\"\",\"\",NETWORKDAYS(C1352+1,H1352,DiasNOLaborables))","v":9},{"$f":"IF(NETWORKDAYS(J1352+1,H1352,DiasNOLaborables)<=0,\"\",NETWORKDAYS(J1352+1,H1352,DiasNOLaborables))","v":""},null,null,{"$f":"IFERROR(VLOOKUP(E1352,$X$51:$Y$64,2),\"\")","v":20}]
[1342,20219050132422,"2021-11-19","MODULO CONTACTENOS","SOLICITUD DE INFORMACIÓN Y DOCUMENTOS","SOLICITUD DE INFORMACIÓN HIDROMETEOROLÓGICA","GRUPO DE SERVICIO AL CIUDADANO ","2021-12-01","CORREO ELECTRÓNICO",{"$f":"IFERROR(WORKDAY(C1353,P1353,DiasNOLaborables),\"\")","v":"2021-12-20"},{"$f":"+IF(C1353=\"\",\"\",IF(H1353=\"\",\"SIN RESPUESTA\",(IF(H1353<=J1353,\"A TIEMPO\",\"FUERA DE TIEMPO\"))))","v":"A TIEMPO"},{"$f":"IF(H1353=\"\",\"\",NETWORKDAYS(C1353+1,H1353,DiasNOLaborables))","v":8},{"$f":"IF(NETWORKDAYS(J1353+1,H1353,DiasNOLaborables)<=0,\"\",NETWORKDAYS(J1353+1,H1353,DiasNOLaborables))","v":""},null,null,{"$f":"IFERROR(VLOOKUP(E1353,$X$51:$Y$64,2),\"\")","v":20}]
[1343,20217070000862,"2021-11-19","MODULO CONTACTENOS","SOLICITUD DE INFORMACIÓN Y DOCUMENTOS","SOLICITUD DE INFORMACIÓN HIDROMETEOROLÓGICA","GRUPO DE SERVICIO AL CIUDADANO ","2021-12-01","CORREO ELECTRÓNICO",{"$f":"IFERROR(WORKDAY(C1354,P1354,DiasNOLaborables),\"\")","v":"2021-12-20"},{"$f":"+IF(C1354=\"\",\"\",IF(H1354=\"\",\"SIN RESPUESTA\",(IF(H1354<=J1354,\"A TIEMPO\",\"FUERA DE TIEMPO\"))))","v":"A TIEMPO"},{"$f":"IF(H1354=\"\",\"\",NETWORKDAYS(C1354+1,H1354,DiasNOLaborables))","v":8},{"$f":"IF(NETWORKDAYS(J1354+1,H1354,DiasNOLaborables)<=0,\"\",NETWORKDAYS(J1354+1,H1354,DiasNOLaborables))","v":""},null,null,{"$f":"IFERROR(VLOOKUP(E1354,$X$51:$Y$64,2),\"\")","v":20}]
[1344,20219050132432,"2021-11-19","MODULO CONTACTENOS","SOLICITUD DE INFORMACIÓN Y DOCUMENTOS","SOLICITUD DE INFORMACIÓN HIDROMETEOROLÓGICA","GRUPO DE SERVICIO AL CIUDADANO ","2021-12-01","CORREO ELECTRÓNICO",{"$f":"IFERROR(WORKDAY(C1355,P1355,DiasNOLaborables),\"\")","v":"2021-12-20"},{"$f":"+IF(C1355=\"\",\"\",IF(H1355=\"\",\"SIN RESPUESTA\",(IF(H1355<=J1355,\"A TIEMPO\",\"FUERA DE TIEMPO\"))))","v":"A TIEMPO"},{"$f":"IF(H1355=\"\",\"\",NETWORKDAYS(C1355+1,H1355,DiasNOLaborables))","v":8},{"$f":"IF(NETWORKDAYS(J1355+1,H1355,DiasNOLaborables)<=0,\"\",NETWORKDAYS(J1355+1,H1355,DiasNOLaborables))","v":""},null,null,{"$f":"IFERROR(VLOOKUP(E1355,$X$51:$Y$64,2),\"\")","v":20}]
[1345,20219050132452,"2021-11-19","MODULO CONTACTENOS","SOLICITUD DE INFORMACIÓN Y DOCUMENTOS","SOLICITUD DE INFORMACIÓN HIDROMETEOROLÓGICA","GRUPO DE SERVICIO AL CIUDADANO ","2021-12-01","CORREO ELECTRÓNICO",{"$f":"IFERROR(WORKDAY(C1356,P1356,DiasNOLaborables),\"\")","v":"2021-12-20"},{"$f":"+IF(C1356=\"\",\"\",IF(H1356=\"\",\"SIN RESPUESTA\",(IF(H1356<=J1356,\"A TIEMPO\",\"FUERA DE TIEMPO\"))))","v":"A TIEMPO"},{"$f":"IF(H1356=\"\",\"\",NETWORKDAYS(C1356+1,H1356,DiasNOLaborables))","v":8},{"$f":"IF(NETWORKDAYS(J1356+1,H1356,DiasNOLaborables)<=0,\"\",NETWORKDAYS(J1356+1,H1356,DiasNOLaborables))","v":""},null,null,{"$f":"IFERROR(VLOOKUP(E1356,$X$51:$Y$64,2),\"\")","v":20}]
[1346,20219050132472,"2021-11-19","MODULO CONTACTENOS","SOLICITUD DE INFORMACIÓN Y DOCUMENTOS","SOLICITUD DE INFORMACIÓN HIDROMETEOROLÓGICA","GRUPO DE SERVICIO AL CIUDADANO ","2021-12-01","CORREO ELECTRÓNICO",{"$f":"IFERROR(WORKDAY(C1357,P1357,DiasNOLaborables),\"\")","v":"2021-12-20"},{"$f":"+IF(C1357=\"\",\"\",IF(H1357=\"\",\"SIN RESPUESTA\",(IF(H1357<=J1357,\"A TIEMPO\",\"FUERA DE TIEMPO\"))))","v":"A TIEMPO"},{"$f":"IF(H1357=\"\",\"\",NETWORKDAYS(C1357+1,H1357,DiasNOLaborables))","v":8},{"$f":"IF(NETWORKDAYS(J1357+1,H1357,DiasNOLaborables)<=0,\"\",NETWORKDAYS(J1357+1,H1357,DiasNOLaborables))","v":""},null,null,{"$f":"IFERROR(VLOOKUP(E1357,$X$51:$Y$64,2),\"\")","v":20}]
[{"$f":"IF(B1358<>\"\",A1357+1,\"\")","v":1347},20219050132482,"2021-11-19","MODULO CONTACTENOS","SOLICITUD DE INFORMACIÓN Y DOCUMENTOS","SOLICITUD DE INFORMACIÓN HIDROMETEOROLÓGICA","GRUPO DE SERVICIO AL CIUDADANO ","2021-12-01","CORREO ELECTRÓNICO",{"$f":"IFERROR(WORKDAY(C1358,P1358,DiasNOLaborables),\"\")","v":"2021-12-20"},{"$f":"+IF(C1358=\"\",\"\",IF(H1358=\"\",\"SIN RESPUESTA\",(IF(H1358<=J1358,\"A TIEMPO\",\"FUERA DE TIEMPO\"))))","v":"A TIEMPO"},{"$f":"IF(H1358=\"\",\"\",NETWORKDAYS(C1358+1,H1358,DiasNOLaborables))","v":8},{"$f":"IF(NETWORKDAYS(J1358+1,H1358,DiasNOLaborables)<=0,\"\",NETWORKDAYS(J1358+1,H1358,DiasNOLaborables))","v":""},null,null,{"$f":"IFERROR(VLOOKUP(E1358,$X$51:$Y$64,2),\"\")","v":20}]
[1348,20219050132502,"2021-11-19","MODULO CONTACTENOS","SOLICITUD DE INFORMACIÓN Y DOCUMENTOS","SOLICITUD DE INFORMACIÓN HIDROMETEOROLÓGICA","GRUPO DE SERVICIO AL CIUDADANO ","2021-12-01","CORREO ELECTRÓNICO",{"$f":"IFERROR(WORKDAY(C1359,P1359,DiasNOLaborables),\"\")","v":"2021-12-20"},{"$f":"+IF(C1359=\"\",\"\",IF(H1359=\"\",\"SIN RESPUESTA\",(IF(H1359<=J1359,\"A TIEMPO\",\"FUERA DE TIEMPO\"))))","v":"A TIEMPO"},{"$f":"IF(H1359=\"\",\"\",NETWORKDAYS(C1359+1,H1359,DiasNOLaborables))","v":8},{"$f":"IF(NETWORKDAYS(J1359+1,H1359,DiasNOLaborables)<=0,\"\",NETWORKDAYS(J1359+1,H1359,DiasNOLaborables))","v":""},null,null,{"$f":"IFERROR(VLOOKUP(E1359,$X$51:$Y$64,2),\"\")","v":20}]
[1349,20219050132562,"2021-11-19","MODULO CONTACTENOS","SOLICITUD DE INFORMACIÓN Y DOCUMENTOS","SOLICITUD DE INFORMACIÓN HIDROMETEOROLÓGICA","GRUPO DE SERVICIO AL CIUDADANO ","2021-12-01","CORREO ELECTRÓNICO",{"$f":"IFERROR(WORKDAY(C1360,P1360,DiasNOLaborables),\"\")","v":"2021-12-20"},{"$f":"+IF(C1360=\"\",\"\",IF(H1360=\"\",\"SIN RESPUESTA\",(IF(H1360<=J1360,\"A TIEMPO\",\"FUERA DE TIEMPO\"))))","v":"A TIEMPO"},{"$f":"IF(H1360=\"\",\"\",NETWORKDAYS(C1360+1,H1360,DiasNOLaborables))","v":8},{"$f":"IF(NETWORKDAYS(J1360+1,H1360,DiasNOLaborables)<=0,\"\",NETWORKDAYS(J1360+1,H1360,DiasNOLaborables))","v":""},null,null,{"$f":"IFERROR(VLOOKUP(E1360,$X$51:$Y$64,2),\"\")","v":20}]
[1350,20219050132542,"2021-11-19","MODULO CONTACTENOS","SOLICITUD DE INFORMACIÓN Y DOCUMENTOS","SOLICITUD DE INFORMACIÓN HIDROMETEOROLÓGICA","GRUPO DE SERVICIO AL CIUDADANO ","2021-12-01","CORREO ELECTRÓNICO",{"$f":"IFERROR(WORKDAY(C1361,P1361,DiasNOLaborables),\"\")","v":"2021-12-20"},{"$f":"+IF(C1361=\"\",\"\",IF(H1361=\"\",\"SIN RESPUESTA\",(IF(H1361<=J1361,\"A TIEMPO\",\"FUERA DE TIEMPO\"))))","v":"A TIEMPO"},{"$f":"IF(H1361=\"\",\"\",NETWORKDAYS(C1361+1,H1361,DiasNOLaborables))","v":8},{"$f":"IF(NETWORKDAYS(J1361+1,H1361,DiasNOLaborables)<=0,\"\",NETWORKDAYS(J1361+1,H1361,DiasNOLaborables))","v":""},null,null,{"$f":"IFERROR(VLOOKUP(E1361,$X$51:$Y$64,2),\"\")","v":20}]
[1351,20219050132512,"2021-11-19","MODULO CONTACTENOS","SOLICITUD DE INFORMACIÓN Y DOCUMENTOS","SOLICITUD DE INFORMACIÓN HIDROMETEOROLÓGICA","GRUPO DE SERVICIO AL CIUDADANO ","2021-12-01","CORREO ELECTRÓNICO",{"$f":"IFERROR(WORKDAY(C1362,P1362,DiasNOLaborables),\"\")","v":"2021-12-20"},{"$f":"+IF(C1362=\"\",\"\",IF(H1362=\"\",\"SIN RESPUESTA\",(IF(H1362<=J1362,\"A TIEMPO\",\"FUERA DE TIEMPO\"))))","v":"A TIEMPO"},{"$f":"IF(H1362=\"\",\"\",NETWORKDAYS(C1362+1,H1362,DiasNOLaborables))","v":8},{"$f":"IF(NETWORKDAYS(J1362+1,H1362,DiasNOLaborables)<=0,\"\",NETWORKDAYS(J1362+1,H1362,DiasNOLaborables))","v":""},null,null,{"$f":"IFERROR(VLOOKUP(E1362,$X$51:$Y$64,2),\"\")","v":20}]
[1352,20219910063952,"2021-11-19","MODULO CONTACTENOS","SOLICITUD DE INFORMACIÓN Y DOCUMENTOS","SOLICITUD DE INFORMACIÓN HIDROMETEOROLÓGICA","GRUPO DE SERVICIO AL CIUDADANO ","2021-12-01","CORREO ELECTRÓNICO",{"$f":"IFERROR(WORKDAY(C1363,P1363,DiasNOLaborables),\"\")","v":"2021-12-20"},{"$f":"+IF(C1363=\"\",\"\",IF(H1363=\"\",\"SIN RESPUESTA\",(IF(H1363<=J1363,\"A TIEMPO\",\"FUERA DE TIEMPO\"))))","v":"A TIEMPO"},{"$f":"IF(H1363=\"\",\"\",NETWORKDAYS(C1363+1,H1363,DiasNOLaborables))","v":8},{"$f":"IF(NETWORKDAYS(J1363+1,H1363,DiasNOLaborables)<=0,\"\",NETWORKDAYS(J1363+1,H1363,DiasNOLaborables))","v":""},null,null,{"$f":"IFERROR(VLOOKUP(E1363,$X$51:$Y$64,2),\"\")","v":20}]
[1353,20219050132492,"2021-11-19","CORREO ELECTRÓNICO","SOLICITUD DE INFORMACIÓN Y DOCUMENTOS","REGISTROS AMBIENTALES","SUBDIRECCIÓN DE ESTUDIOS AMBIENTALES","2021-11-25","CORREO ELECTRÓNICO",{"$f":"IFERROR(WORKDAY(C1364,P1364,DiasNOLaborables),\"\")","v":"2021-12-20"},{"$f":"+IF(C1364=\"\",\"\",IF(H1364=\"\",\"SIN RESPUESTA\",(IF(H1364<=J1364,\"A TIEMPO\",\"FUERA DE TIEMPO\"))))","v":"A TIEMPO"},{"$f":"IF(H1364=\"\",\"\",NETWORKDAYS(C1364+1,H1364,DiasNOLaborables))","v":4},{"$f":"IF(NETWORKDAYS(J1364+1,H1364,DiasNOLaborables)<=0,\"\",NETWORKDAYS(J1364+1,H1364,DiasNOLaborables))","v":""},null,null,{"$f":"IFERROR(VLOOKUP(E1364,$X$51:$Y$64,2),\"\")","v":20}]
[1354,20219050132522,"2021-11-19","CORREO ELECTRÓNICO","CERTIFICACIONES DE TIEMPO, CLIMA Y EVENTOS HIDROLÓGICOS","CERTIFICACIONES DE TIEMPO Y CLIMA","SUBDIRECCIÓN DE METEOROLOGÍA","2021-11-29","CORREO ELECTRÓNICO",{"$f":"IFERROR(WORKDAY(C1365,P1365,DiasNOLaborables),\"\")","v":"2022-01-10"},{"$f":"+IF(C1365=\"\",\"\",IF(H1365=\"\",\"SIN RESPUESTA\",(IF(H1365<=J1365,\"A TIEMPO\",\"FUERA DE TIEMPO\"))))","v":"A TIEMPO"},{"$f":"IF(H1365=\"\",\"\",NETWORKDAYS(C1365+1,H1365,DiasNOLaborables))","v":6},{"$f":"IF(NETWORKDAYS(J1365+1,H1365,DiasNOLaborables)<=0,\"\",NETWORKDAYS(J1365+1,H1365,DiasNOLaborables))","v":""},null,null,{"$f":"IFERROR(VLOOKUP(E1365,$X$51:$Y$64,2),\"\")","v":35}]
[1355,20219050132572,"2021-11-19","CORREO ELECTRÓNICO","SOLICITUD DE INFORMACIÓN Y DOCUMENTOS","ACREDITACIÓN DE LABORATORIOS","SUBDIRECCIÓN DE ESTUDIOS AMBIENTALES","2021-12-03","CORREO ELECTRÓNICO",{"$f":"IFERROR(WORKDAY(C1366,P1366,DiasNOLaborables),\"\")","v":"2021-12-20"},{"$f":"+IF(C1366=\"\",\"\",IF(H1366=\"\",\"SIN RESPUESTA\",(IF(H1366<=J1366,\"A TIEMPO\",\"FUERA DE TIEMPO\"))))","v":"A TIEMPO"},{"$f":"IF(H1366=\"\",\"\",NETWORKDAYS(C1366+1,H1366,DiasNOLaborables))","v":10},{"$f":"IF(NETWORKDAYS(J1366+1,H1366,DiasNOLaborables)<=0,\"\",NETWORKDAYS(J1366+1,H1366,DiasNOLaborables))","v":""},null,null,{"$f":"IFERROR(VLOOKUP(E1366,$X$51:$Y$64,2),\"\")","v":20}]
[1356,20219050132642,"2021-11-19","CORREO ELECTRÓNICO","SOLICITUD DE INFORMACIÓN Y DOCUMENTOS","REGISTROS AMBIENTALES","SUBDIRECCIÓN DE ESTUDIOS AMBIENTALES","2021-11-26","CORREO ELECTRÓNICO",{"$f":"IFERROR(WORKDAY(C1367,P1367,DiasNOLaborables),\"\")","v":"2021-12-20"},{"$f":"+IF(C1367=\"\",\"\",IF(H1367=\"\",\"SIN RESPUESTA\",(IF(H1367<=J1367,\"A TIEMPO\",\"FUERA DE TIEMPO\"))))","v":"A TIEMPO"},{"$f":"IF(H1367=\"\",\"\",NETWORKDAYS(C1367+1,H1367,DiasNOLaborables))","v":5},{"$f":"IF(NETWORKDAYS(J1367+1,H1367,DiasNOLaborables)<=0,\"\",NETWORKDAYS(J1367+1,H1367,DiasNOLaborables))","v":""},null,null,{"$f":"IFERROR(VLOOKUP(E1367,$X$51:$Y$64,2),\"\")","v":20}]
[1357,20219050132652,"2021-11-19","CORREO ELECTRÓNICO","SOLICITUD DE INFORMACIÓN Y DOCUMENTOS","REGISTROS AMBIENTALES","SUBDIRECCIÓN DE ESTUDIOS AMBIENTALES","2021-11-26","CORREO ELECTRÓNICO",{"$f":"IFERROR(WORKDAY(C1368,P1368,DiasNOLaborables),\"\")","v":"2021-12-20"},{"$f":"+IF(C1368=\"\",\"\",IF(H1368=\"\",\"SIN RESPUESTA\",(IF(H1368<=J1368,\"A TIEMPO\",\"FUERA DE TIEMPO\"))))","v":"A TIEMPO"},{"$f":"IF(H1368=\"\",\"\",NETWORKDAYS(C1368+1,H1368,DiasNOLaborables))","v":5},{"$f":"IF(NETWORKDAYS(J1368+1,H1368,DiasNOLaborables)<=0,\"\",NETWORKDAYS(J1368+1,H1368,DiasNOLaborables))","v":""},null,null,{"$f":"IFERROR(VLOOKUP(E1368,$X$51:$Y$64,2),\"\")","v":20}]
[1358,20219050132582,"2021-11-19","CORREO ELECTRÓNICO","SOLICITUD DE INFORMACIÓN Y DOCUMENTOS","BOSQUES","SUBDIRECCIÓN DE ECOSISTEMAS E INFORMACIÓN AMBIENTAL","2021-11-29","CORREO ELECTRÓNICO",{"$f":"IFERROR(WORKDAY(C1369,P1369,DiasNOLaborables),\"\")","v":"2021-12-20"},{"$f":"+IF(C1369=\"\",\"\",IF(H1369=\"\",\"SIN RESPUESTA\",(IF(H1369<=J1369,\"A TIEMPO\",\"FUERA DE TIEMPO\"))))","v":"A TIEMPO"},{"$f":"IF(H1369=\"\",\"\",NETWORKDAYS(C1369+1,H1369,DiasNOLaborables))","v":6},{"$f":"IF(NETWORKDAYS(J1369+1,H1369,DiasNOLaborables)<=0,\"\",NETWORKDAYS(J1369+1,H1369,DiasNOLaborables))","v":""},null,null,{"$f":"IFERROR(VLOOKUP(E1369,$X$51:$Y$64,2),\"\")","v":20}]
[1359,20219050132622,"2021-11-19","CORREO ELECTRÓNICO","SOLICITUD DE INFORMACIÓN Y DOCUMENTOS","BOSQUES","SUBDIRECCIÓN DE ECOSISTEMAS E INFORMACIÓN AMBIENTAL","2021-11-30","CORREO ELECTRÓNICO",{"$f":"IFERROR(WORKDAY(C1370,P1370,DiasNOLaborables),\"\")","v":"2021-12-20"},{"$f":"+IF(C1370=\"\",\"\",IF(H1370=\"\",\"SIN RESPUESTA\",(IF(H1370<=J1370,\"A TIEMPO\",\"FUERA DE TIEMPO\"))))","v":"A TIEMPO"},{"$f":"IF(H1370=\"\",\"\",NETWORKDAYS(C1370+1,H1370,DiasNOLaborables))","v":7},{"$f":"IF(NETWORKDAYS(J1370+1,H1370,DiasNOLaborables)<=0,\"\",NETWORKDAYS(J1370+1,H1370,DiasNOLaborables))","v":""},null,null,{"$f":"IFERROR(VLOOKUP(E1370,$X$51:$Y$64,2),\"\")","v":20}]
[1360,20219910063942,"2021-11-19","CORREO ELECTRÓNICO","PETICIÓN","CERTIFICACIONES DE TIEMPO Y CLIMA","SUBDIRECCIÓN DE METEOROLOGÍA","2021-11-24","CORREO ELECTRÓNICO",{"$f":"IFERROR(WORKDAY(C1371,P1371,DiasNOLaborables),\"\")","v":"2022-01-03"},{"$f":"+IF(C1371=\"\",\"\",IF(H1371=\"\",\"SIN RESPUESTA\",(IF(H1371<=J1371,\"A TIEMPO\",\"FUERA DE TIEMPO\"))))","v":"A TIEMPO"},{"$f":"IF(H1371=\"\",\"\",NETWORKDAYS(C1371+1,H1371,DiasNOLaborables))","v":3},{"$f":"IF(NETWORKDAYS(J1371+1,H1371,DiasNOLaborables)<=0,\"\",NETWORKDAYS(J1371+1,H1371,DiasNOLaborables))","v":""},null,null,{"$f":"IFERROR(VLOOKUP(E1371,$X$51:$Y$64,2),\"\")","v":30}]
[1361,20219050132442,"2021-11-19","MODULO CONTACTENOS","SOLICITUD DE INFORMACIÓN Y DOCUMENTOS","ADMINISTRATIVA","GRUPO DE ADMINISTRACIÓN Y DESARROLLO DEL TALENTO HUMANO","2021-12-09","CORREO ELECTRÓNICO",{"$f":"IFERROR(WORKDAY(C1372,P1372,DiasNOLaborables),\"\")","v":"2021-12-20"},{"$f":"+IF(C1372=\"\",\"\",IF(H1372=\"\",\"SIN RESPUESTA\",(IF(H1372<=J1372,\"A TIEMPO\",\"FUERA DE TIEMPO\"))))","v":"A TIEMPO"},{"$f":"IF(H1372=\"\",\"\",NETWORKDAYS(C1372+1,H1372,DiasNOLaborables))","v":13},{"$f":"IF(NETWORKDAYS(J1372+1,H1372,DiasNOLaborables)<=0,\"\",NETWORKDAYS(J1372+1,H1372,DiasNOLaborables))","v":""},null,null,{"$f":"IFERROR(VLOOKUP(E1372,$X$51:$Y$64,2),\"\")","v":20}]
[1362,20219050132462,"2021-11-19","MODULO CONTACTENOS","SOLICITUD DE INFORMACIÓN Y DOCUMENTOS","ADMINISTRATIVA","GRUPO DE ADMINISTRACIÓN Y DESARROLLO DEL TALENTO HUMANO","2021-11-19","CORREO ELECTRÓNICO",{"$f":"IFERROR(WORKDAY(C1373,P1373,DiasNOLaborables),\"\")","v":"2021-12-20"},{"$f":"+IF(C1373=\"\",\"\",IF(H1373=\"\",\"SIN RESPUESTA\",(IF(H1373<=J1373,\"A TIEMPO\",\"FUERA DE TIEMPO\"))))","v":"A TIEMPO"},{"$f":"IF(H1373=\"\",\"\",NETWORKDAYS(C1373+1,H1373,DiasNOLaborables))","v":-1},{"$f":"IF(NETWORKDAYS(J1373+1,H1373,DiasNOLaborables)<=0,\"\",NETWORKDAYS(J1373+1,H1373,DiasNOLaborables))","v":""},null,null,{"$f":"IFERROR(VLOOKUP(E1373,$X$51:$Y$64,2),\"\")","v":20}]
[1363,20219050132592,"2021-11-19","MODULO CONTACTENOS","SOLICITUD DE INFORMACIÓN Y DOCUMENTOS","ACREDITACIÓN DE LABORATORIOS","SUBDIRECCIÓN DE ESTUDIOS AMBIENTALES","2021-11-25","CORREO ELECTRÓNICO",{"$f":"IFERROR(WORKDAY(C1374,P1374,DiasNOLaborables),\"\")","v":"2021-12-20"},{"$f":"+IF(C1374=\"\",\"\",IF(H1374=\"\",\"SIN RESPUESTA\",(IF(H1374<=J1374,\"A TIEMPO\",\"FUERA DE TIEMPO\"))))","v":"A TIEMPO"},{"$f":"IF(H1374=\"\",\"\",NETWORKDAYS(C1374+1,H1374,DiasNOLaborables))","v":4},{"$f":"IF(NETWORKDAYS(J1374+1,H1374,DiasNOLaborables)<=0,\"\",NETWORKDAYS(J1374+1,H1374,DiasNOLaborables))","v":""},null,null,{"$f":"IFERROR(VLOOKUP(E1374,$X$51:$Y$64,2),\"\")","v":20}]
[1364,20219050132612,"2021-11-19","MODULO CONTACTENOS","SOLICITUD DE INFORMACIÓN Y DOCUMENTOS","BOSQUES","SUBDIRECCIÓN DE ECOSISTEMAS E INFORMACIÓN AMBIENTAL","2021-11-30","CORREO ELECTRÓNICO",{"$f":"IFERROR(WORKDAY(C1375,P1375,DiasNOLaborables),\"\")","v":"2021-12-20"},{"$f":"+IF(C1375=\"\",\"\",IF(H1375=\"\",\"SIN RESPUESTA\",(IF(H1375<=J1375,\"A TIEMPO\",\"FUERA DE TIEMPO\"))))","v":"A TIEMPO"},{"$f":"IF(H1375=\"\",\"\",NETWORKDAYS(C1375+1,H1375,DiasNOLaborables))","v":7},{"$f":"IF(NETWORKDAYS(J1375+1,H1375,DiasNOLaborables)<=0,\"\",NETWORKDAYS(J1375+1,H1375,DiasNOLaborables))","v":""},null,null,{"$f":"IFERROR(VLOOKUP(E1375,$X$51:$Y$64,2),\"\")","v":20}]
[1365,20219050132632,"2021-11-19","MODULO CONTACTENOS","SOLICITUD DE INFORMACIÓN Y DOCUMENTOS","ADMINISTRATIVA","OFICINA ASESORA JURÍDICA","2021-11-26","CORREO ELECTRÓNICO",{"$f":"IFERROR(WORKDAY(C1376,P1376,DiasNOLaborables),\"\")","v":"2021-12-20"},{"$f":"+IF(C1376=\"\",\"\",IF(H1376=\"\",\"SIN RESPUESTA\",(IF(H1376<=J1376,\"A TIEMPO\",\"FUERA DE TIEMPO\"))))","v":"A TIEMPO"},{"$f":"IF(H1376=\"\",\"\",NETWORKDAYS(C1376+1,H1376,DiasNOLaborables))","v":5},{"$f":"IF(NETWORKDAYS(J1376+1,H1376,DiasNOLaborables)<=0,\"\",NETWORKDAYS(J1376+1,H1376,DiasNOLaborables))","v":""},null,null,{"$f":"IFERROR(VLOOKUP(E1376,$X$51:$Y$64,2),\"\")","v":20}]
[1366,20219050132692,"2021-11-19","MODULO CONTACTENOS","SOLICITUD DE INFORMACIÓN Y DOCUMENTOS","ADMINISTRATIVA","GRUPO DE ADMINISTRACIÓN Y DESARROLLO DEL TALENTO HUMANO","2021-11-22","CORREO ELECTRÓNICO",{"$f":"IFERROR(WORKDAY(C1377,P1377,DiasNOLaborables),\"\")","v":"2021-12-20"},{"$f":"+IF(C1377=\"\",\"\",IF(H1377=\"\",\"SIN RESPUESTA\",(IF(H1377<=J1377,\"A TIEMPO\",\"FUERA DE TIEMPO\"))))","v":"A TIEMPO"},{"$f":"IF(H1377=\"\",\"\",NETWORKDAYS(C1377+1,H1377,DiasNOLaborables))","v":1},{"$f":"IF(NETWORKDAYS(J1377+1,H1377,DiasNOLaborables)<=0,\"\",NETWORKDAYS(J1377+1,H1377,DiasNOLaborables))","v":""},null,null,{"$f":"IFERROR(VLOOKUP(E1377,$X$51:$Y$64,2),\"\")","v":20}]
[1367,20219050132662,"2021-11-19","MODULO CONTACTENOS","SOLICITUD DE INFORMACIÓN Y DOCUMENTOS","SOLICITUD DE INFORMACIÓN HIDROMETEOROLÓGICA","GRUPO DE SERVICIO AL CIUDADANO ","2021-11-22","CORREO ELECTRÓNICO",{"$f":"IFERROR(WORKDAY(C1378,P1378,DiasNOLaborables),\"\")","v":"2021-12-20"},{"$f":"+IF(C1378=\"\",\"\",IF(H1378=\"\",\"SIN RESPUESTA\",(IF(H1378<=J1378,\"A TIEMPO\",\"FUERA DE TIEMPO\"))))","v":"A TIEMPO"},{"$f":"IF(H1378=\"\",\"\",NETWORKDAYS(C1378+1,H1378,DiasNOLaborables))","v":1},{"$f":"IF(NETWORKDAYS(J1378+1,H1378,DiasNOLaborables)<=0,\"\",NETWORKDAYS(J1378+1,H1378,DiasNOLaborables))","v":""},null,null,{"$f":"IFERROR(VLOOKUP(E1378,$X$51:$Y$64,2),\"\")","v":20}]
[1368,20219050132672,"2021-11-19","MODULO CONTACTENOS","SOLICITUD DE INFORMACIÓN Y DOCUMENTOS","SOLICITUD DE INFORMACIÓN HIDROMETEOROLÓGICA","GRUPO DE SERVICIO AL CIUDADANO ","2021-11-22","CORREO ELECTRÓNICO",{"$f":"IFERROR(WORKDAY(C1379,P1379,DiasNOLaborables),\"\")","v":"2021-12-20"},{"$f":"+IF(C1379=\"\",\"\",IF(H1379=\"\",\"SIN RESPUESTA\",(IF(H1379<=J1379,\"A TIEMPO\",\"FUERA DE TIEMPO\"))))","v":"A TIEMPO"},{"$f":"IF(H1379=\"\",\"\",NETWORKDAYS(C1379+1,H1379,DiasNOLaborables))","v":1},{"$f":"IF(NETWORKDAYS(J1379+1,H1379,DiasNOLaborables)<=0,\"\",NETWORKDAYS(J1379+1,H1379,DiasNOLaborables))","v":""},null,null,{"$f":"IFERROR(VLOOKUP(E1379,$X$51:$Y$64,2),\"\")","v":20}]
[1369,20219050132702,"2021-11-19","MODULO CONTACTENOS","SOLICITUD DE INFORMACIÓN Y DOCUMENTOS","SOLICITUD DE INFORMACIÓN HIDROMETEOROLÓGICA","GRUPO DE SERVICIO AL CIUDADANO ","2021-11-22","CORREO ELECTRÓNICO",{"$f":"IFERROR(WORKDAY(C1380,P1380,DiasNOLaborables),\"\")","v":"2021-12-20"},{"$f":"+IF(C1380=\"\",\"\",IF(H1380=\"\",\"SIN RESPUESTA\",(IF(H1380<=J1380,\"A TIEMPO\",\"FUERA DE TIEMPO\"))))","v":"A TIEMPO"},{"$f":"IF(H1380=\"\",\"\",NETWORKDAYS(C1380+1,H1380,DiasNOLaborables))","v":1},{"$f":"IF(NETWORKDAYS(J1380+1,H1380,DiasNOLaborables)<=0,\"\",NETWORKDAYS(J1380+1,H1380,DiasNOLaborables))","v":""},null,null,{"$f":"IFERROR(VLOOKUP(E1380,$X$51:$Y$64,2),\"\")","v":20}]
[1370,20219050132712,"2021-11-19","MODULO CONTACTENOS","SOLICITUD DE INFORMACIÓN Y DOCUMENTOS","SOLICITUD DE INFORMACIÓN HIDROMETEOROLÓGICA","GRUPO DE SERVICIO AL CIUDADANO ","2021-11-22","CORREO ELECTRÓNICO",{"$f":"IFERROR(WORKDAY(C1381,P1381,DiasNOLaborables),\"\")","v":"2021-12-20"},{"$f":"+IF(C1381=\"\",\"\",IF(H1381=\"\",\"SIN RESPUESTA\",(IF(H1381<=J1381,\"A TIEMPO\",\"FUERA DE TIEMPO\"))))","v":"A TIEMPO"},{"$f":"IF(H1381=\"\",\"\",NETWORKDAYS(C1381+1,H1381,DiasNOLaborables))","v":1},{"$f":"IF(NETWORKDAYS(J1381+1,H1381,DiasNOLaborables)<=0,\"\",NETWORKDAYS(J1381+1,H1381,DiasNOLaborables))","v":""},null,null,{"$f":"IFERROR(VLOOKUP(E1381,$X$51:$Y$64,2),\"\")","v":20}]
[1371,20219050132792,"2021-11-19","MODULO CONTACTENOS","SOLICITUD DE INFORMACIÓN Y DOCUMENTOS","SOLICITUD DE INFORMACIÓN HIDROMETEOROLÓGICA","GRUPO DE SERVICIO AL CIUDADANO ","2021-11-22","CORREO ELECTRÓNICO",{"$f":"IFERROR(WORKDAY(C1382,P1382,DiasNOLaborables),\"\")","v":"2021-12-20"},{"$f":"+IF(C1382=\"\",\"\",IF(H1382=\"\",\"SIN RESPUESTA\",(IF(H1382<=J1382,\"A TIEMPO\",\"FUERA DE TIEMPO\"))))","v":"A TIEMPO"},{"$f":"IF(H1382=\"\",\"\",NETWORKDAYS(C1382+1,H1382,DiasNOLaborables))","v":1},{"$f":"IF(NETWORKDAYS(J1382+1,H1382,DiasNOLaborables)<=0,\"\",NETWORKDAYS(J1382+1,H1382,DiasNOLaborables))","v":""},null,null,{"$f":"IFERROR(VLOOKUP(E1382,$X$51:$Y$64,2),\"\")","v":20}]
[1372,20219050132802,"2021-11-19","MODULO CONTACTENOS","SOLICITUD DE INFORMACIÓN Y DOCUMENTOS","SOLICITUD DE INFORMACIÓN HIDROMETEOROLÓGICA","GRUPO DE SERVICIO AL CIUDADANO ","2021-11-22","CORREO ELECTRÓNICO",{"$f":"IFERROR(WORKDAY(C1383,P1383,DiasNOLaborables),\"\")","v":"2021-12-20"},{"$f":"+IF(C1383=\"\",\"\",IF(H1383=\"\",\"SIN RESPUESTA\",(IF(H1383<=J1383,\"A TIEMPO\",\"FUERA DE TIEMPO\"))))","v":"A TIEMPO"},{"$f":"IF(H1383=\"\",\"\",NETWORKDAYS(C1383+1,H1383,DiasNOLaborables))","v":1},{"$f":"IF(NETWORKDAYS(J1383+1,H1383,DiasNOLaborables)<=0,\"\",NETWORKDAYS(J1383+1,H1383,DiasNOLaborables))","v":""},null,null,{"$f":"IFERROR(VLOOKUP(E1383,$X$51:$Y$64,2),\"\")","v":20}]
[1373,20219050132812,"2021-11-19","MODULO CONTACTENOS","SOLICITUD DE INFORMACIÓN Y DOCUMENTOS","SOLICITUD DE INFORMACIÓN HIDROMETEOROLÓGICA","GRUPO DE SERVICIO AL CIUDADANO ","2021-11-22","CORREO ELECTRÓNICO",{"$f":"IFERROR(WORKDAY(C1384,P1384,DiasNOLaborables),\"\")","v":"2021-12-20"},{"$f":"+IF(C1384=\"\",\"\",IF(H1384=\"\",\"SIN RESPUESTA\",(IF(H1384<=J1384,\"A TIEMPO\",\"FUERA DE TIEMPO\"))))","v":"A TIEMPO"},{"$f":"IF(H1384=\"\",\"\",NETWORKDAYS(C1384+1,H1384,DiasNOLaborables))","v":1},{"$f":"IF(NETWORKDAYS(J1384+1,H1384,DiasNOLaborables)<=0,\"\",NETWORKDAYS(J1384+1,H1384,DiasNOLaborables))","v":""},null,null,{"$f":"IFERROR(VLOOKUP(E1384,$X$51:$Y$64,2),\"\")","v":20}]
[1374,20219050132822,"2021-11-19","MODULO CONTACTENOS","SOLICITUD DE INFORMACIÓN Y DOCUMENTOS","SOLICITUD DE INFORMACIÓN HIDROMETEOROLÓGICA","GRUPO DE SERVICIO AL CIUDADANO ","2021-11-22","CORREO ELECTRÓNICO",{"$f":"IFERROR(WORKDAY(C1385,P1385,DiasNOLaborables),\"\")","v":"2021-12-20"},{"$f":"+IF(C1385=\"\",\"\",IF(H1385=\"\",\"SIN RESPUESTA\",(IF(H1385<=J1385,\"A TIEMPO\",\"FUERA DE TIEMPO\"))))","v":"A TIEMPO"},{"$f":"IF(H1385=\"\",\"\",NETWORKDAYS(C1385+1,H1385,DiasNOLaborables))","v":1},{"$f":"IF(NETWORKDAYS(J1385+1,H1385,DiasNOLaborables)<=0,\"\",NETWORKDAYS(J1385+1,H1385,DiasNOLaborables))","v":""},null,null,{"$f":"IFERROR(VLOOKUP(E1385,$X$51:$Y$64,2),\"\")","v":20}]
[1375,20219050132682,"2021-11-19","MODULO CONTACTENOS","SOLICITUD DE INFORMACIÓN Y DOCUMENTOS","SOLICITUD DE INFORMACIÓN HIDROMETEOROLÓGICA","GRUPO DE SERVICIO AL CIUDADANO ","2021-11-23","CORREO ELECTRÓNICO",{"$f":"IFERROR(WORKDAY(C1386,P1386,DiasNOLaborables),\"\")","v":"2021-12-20"},{"$f":"+IF(C1386=\"\",\"\",IF(H1386=\"\",\"SIN RESPUESTA\",(IF(H1386<=J1386,\"A TIEMPO\",\"FUERA DE TIEMPO\"))))","v":"A TIEMPO"},{"$f":"IF(H1386=\"\",\"\",NETWORKDAYS(C1386+1,H1386,DiasNOLaborables))","v":2},{"$f":"IF(NETWORKDAYS(J1386+1,H1386,DiasNOLaborables)<=0,\"\",NETWORKDAYS(J1386+1,H1386,DiasNOLaborables))","v":""},null,null,{"$f":"IFERROR(VLOOKUP(E1386,$X$51:$Y$64,2),\"\")","v":20}]
[1376,20219050132832,"2021-11-20","MODULO CONTACTENOS","SOLICITUD DE INFORMACIÓN Y DOCUMENTOS","SOLICITUD DE INFORMACIÓN HIDROMETEOROLÓGICA","GRUPO DE SERVICIO AL CIUDADANO ","2021-11-23","CORREO ELECTRÓNICO",{"$f":"IFERROR(WORKDAY(C1387,P1387,DiasNOLaborables),\"\")","v":"2021-12-20"},{"$f":"+IF(C1387=\"\",\"\",IF(H1387=\"\",\"SIN RESPUESTA\",(IF(H1387<=J1387,\"A TIEMPO\",\"FUERA DE TIEMPO\"))))","v":"A TIEMPO"},{"$f":"IF(H1387=\"\",\"\",NETWORKDAYS(C1387+1,H1387,DiasNOLaborables))","v":2},{"$f":"IF(NETWORKDAYS(J1387+1,H1387,DiasNOLaborables)<=0,\"\",NETWORKDAYS(J1387+1,H1387,DiasNOLaborables))","v":""},null,null,{"$f":"IFERROR(VLOOKUP(E1387,$X$51:$Y$64,2),\"\")","v":20}]
[1377,20219050132842,"2021-11-20","MODULO CONTACTENOS","SOLICITUD DE INFORMACIÓN Y DOCUMENTOS","SOLICITUD DE INFORMACIÓN HIDROMETEOROLÓGICA","GRUPO DE SERVICIO AL CIUDADANO ","2021-11-23","CORREO ELECTRÓNICO",{"$f":"IFERROR(WORKDAY(C1388,P1388,DiasNOLaborables),\"\")","v":"2021-12-20"},{"$f":"+IF(C1388=\"\",\"\",IF(H1388=\"\",\"SIN RESPUESTA\",(IF(H1388<=J1388,\"A TIEMPO\",\"FUERA DE TIEMPO\"))))","v":"A TIEMPO"},{"$f":"IF(H1388=\"\",\"\",NETWORKDAYS(C1388+1,H1388,DiasNOLaborables))","v":2},{"$f":"IF(NETWORKDAYS(J1388+1,H1388,DiasNOLaborables)<=0,\"\",NETWORKDAYS(J1388+1,H1388,DiasNOLaborables))","v":""},null,null,{"$f":"IFERROR(VLOOKUP(E1388,$X$51:$Y$64,2),\"\")","v":20}]
[1378,20219050132872,"2021-11-20","MODULO CONTACTENOS","SOLICITUD DE INFORMACIÓN Y DOCUMENTOS","SOLICITUD DE INFORMACIÓN HIDROMETEOROLÓGICA","GRUPO DE SERVICIO AL CIUDADANO ","2021-11-23","CORREO ELECTRÓNICO",{"$f":"IFERROR(WORKDAY(C1389,P1389,DiasNOLaborables),\"\")","v":"2021-12-20"},{"$f":"+IF(C1389=\"\",\"\",IF(H1389=\"\",\"SIN RESPUESTA\",(IF(H1389<=J1389,\"A TIEMPO\",\"FUERA DE TIEMPO\"))))","v":"A TIEMPO"},{"$f":"IF(H1389=\"\",\"\",NETWORKDAYS(C1389+1,H1389,DiasNOLaborables))","v":2},{"$f":"IF(NETWORKDAYS(J1389+1,H1389,DiasNOLaborables)<=0,\"\",NETWORKDAYS(J1389+1,H1389,DiasNOLaborables))","v":""},null,null,{"$f":"IFERROR(VLOOKUP(E1389,$X$51:$Y$64,2),\"\")","v":20}]
[1379,20219050132882,"2021-11-20","MODULO CONTACTENOS","SOLICITUD DE INFORMACIÓN Y DOCUMENTOS","SOLICITUD DE INFORMACIÓN HIDROMETEOROLÓGICA","GRUPO DE SERVICIO AL CIUDADANO ","2021-11-23","CORREO ELECTRÓNICO",{"$f":"IFERROR(WORKDAY(C1390,P1390,DiasNOLaborables),\"\")","v":"2021-12-20"},{"$f":"+IF(C1390=\"\",\"\",IF(H1390=\"\",\"SIN RESPUESTA\",(IF(H1390<=J1390,\"A TIEMPO\",\"FUERA DE TIEMPO\"))))","v":"A TIEMPO"},{"$f":"IF(H1390=\"\",\"\",NETWORKDAYS(C1390+1,H1390,DiasNOLaborables))","v":2},{"$f":"IF(NETWORKDAYS(J1390+1,H1390,DiasNOLaborables)<=0,\"\",NETWORKDAYS(J1390+1,H1390,DiasNOLaborables))","v":""},null,null,{"$f":"IFERROR(VLOOKUP(E1390,$X$51:$Y$64,2),\"\")","v":20}]
[1380,20219050132902,"2021-11-20","MODULO CONTACTENOS","SOLICITUD DE INFORMACIÓN Y DOCUMENTOS","SOLICITUD DE INFORMACIÓN HIDROMETEOROLÓGICA","GRUPO DE SERVICIO AL CIUDADANO ","2021-11-23","CORREO ELECTRÓNICO",{"$f":"IFERROR(WORKDAY(C1391,P1391,DiasNOLaborables),\"\")","v":"2021-12-20"},{"$f":"+IF(C1391=\"\",\"\",IF(H1391=\"\",\"SIN RESPUESTA\",(IF(H1391<=J1391,\"A TIEMPO\",\"FUERA DE TIEMPO\"))))","v":"A TIEMPO"},{"$f":"IF(H1391=\"\",\"\",NETWORKDAYS(C1391+1,H1391,DiasNOLaborables))","v":2},{"$f":"IF(NETWORKDAYS(J1391+1,H1391,DiasNOLaborables)<=0,\"\",NETWORKDAYS(J1391+1,H1391,DiasNOLaborables))","v":""},null,null,{"$f":"IFERROR(VLOOKUP(E1391,$X$51:$Y$64,2),\"\")","v":20}]
[1381,20219050132932,"2021-11-20","MODULO CONTACTENOS","SOLICITUD DE INFORMACIÓN Y DOCUMENTOS","SOLICITUD DE INFORMACIÓN HIDROMETEOROLÓGICA","GRUPO DE SERVICIO AL CIUDADANO ","2021-11-23","CORREO ELECTRÓNICO",{"$f":"IFERROR(WORKDAY(C1392,P1392,DiasNOLaborables),\"\")","v":"2021-12-20"},{"$f":"+IF(C1392=\"\",\"\",IF(H1392=\"\",\"SIN RESPUESTA\",(IF(H1392<=J1392,\"A TIEMPO\",\"FUERA DE TIEMPO\"))))","v":"A TIEMPO"},{"$f":"IF(H1392=\"\",\"\",NETWORKDAYS(C1392+1,H1392,DiasNOLaborables))","v":2},{"$f":"IF(NETWORKDAYS(J1392+1,H1392,DiasNOLaborables)<=0,\"\",NETWORKDAYS(J1392+1,H1392,DiasNOLaborables))","v":""},null,null,{"$f":"IFERROR(VLOOKUP(E1392,$X$51:$Y$64,2),\"\")","v":20}]
[1382,20219050132952,"2021-11-21","MODULO CONTACTENOS","SOLICITUD DE INFORMACIÓN Y DOCUMENTOS","SOLICITUD DE INFORMACIÓN HIDROMETEOROLÓGICA","GRUPO DE SERVICIO AL CIUDADANO ","2021-11-23","CORREO ELECTRÓNICO",{"$f":"IFERROR(WORKDAY(C1393,P1393,DiasNOLaborables),\"\")","v":"2021-12-20"},{"$f":"+IF(C1393=\"\",\"\",IF(H1393=\"\",\"SIN RESPUESTA\",(IF(H1393<=J1393,\"A TIEMPO\",\"FUERA DE TIEMPO\"))))","v":"A TIEMPO"},{"$f":"IF(H1393=\"\",\"\",NETWORKDAYS(C1393+1,H1393,DiasNOLaborables))","v":2},{"$f":"IF(NETWORKDAYS(J1393+1,H1393,DiasNOLaborables)<=0,\"\",NETWORKDAYS(J1393+1,H1393,DiasNOLaborables))","v":""},null,null,{"$f":"IFERROR(VLOOKUP(E1393,$X$51:$Y$64,2),\"\")","v":20}]
[1383,20219050132962,"2021-11-22","MODULO CONTACTENOS","SOLICITUD DE INFORMACIÓN Y DOCUMENTOS","SOLICITUD DE INFORMACIÓN HIDROMETEOROLÓGICA","GRUPO DE SERVICIO AL CIUDADANO ","2021-11-23","CORREO ELECTRÓNICO",{"$f":"IFERROR(WORKDAY(C1394,P1394,DiasNOLaborables),\"\")","v":"2021-12-21"},{"$f":"+IF(C1394=\"\",\"\",IF(H1394=\"\",\"SIN RESPUESTA\",(IF(H1394<=J1394,\"A TIEMPO\",\"FUERA DE TIEMPO\"))))","v":"A TIEMPO"},{"$f":"IF(H1394=\"\",\"\",NETWORKDAYS(C1394+1,H1394,DiasNOLaborables))","v":1},{"$f":"IF(NETWORKDAYS(J1394+1,H1394,DiasNOLaborables)<=0,\"\",NETWORKDAYS(J1394+1,H1394,DiasNOLaborables))","v":""},null,null,{"$f":"IFERROR(VLOOKUP(E1394,$X$51:$Y$64,2),\"\")","v":20}]
[1384,20219050132982,"2021-11-22","MODULO CONTACTENOS","SOLICITUD DE INFORMACIÓN Y DOCUMENTOS","SOLICITUD DE INFORMACIÓN HIDROMETEOROLÓGICA","GRUPO DE SERVICIO AL CIUDADANO ","2021-11-24","CORREO ELECTRÓNICO",{"$f":"IFERROR(WORKDAY(C1395,P1395,DiasNOLaborables),\"\")","v":"2021-12-21"},{"$f":"+IF(C1395=\"\",\"\",IF(H1395=\"\",\"SIN RESPUESTA\",(IF(H1395<=J1395,\"A TIEMPO\",\"FUERA DE TIEMPO\"))))","v":"A TIEMPO"},{"$f":"IF(H1395=\"\",\"\",NETWORKDAYS(C1395+1,H1395,DiasNOLaborables))","v":2},{"$f":"IF(NETWORKDAYS(J1395+1,H1395,DiasNOLaborables)<=0,\"\",NETWORKDAYS(J1395+1,H1395,DiasNOLaborables))","v":""},null,null,{"$f":"IFERROR(VLOOKUP(E1395,$X$51:$Y$64,2),\"\")","v":20}]
[1385,20219050133002,"2021-11-22","CORREO ELECTRÓNICO","SOLICITUD DE INFORMACIÓN Y DOCUMENTOS","SOLICITUD DE INFORMACIÓN HIDROMETEOROLÓGICA","GRUPO DE SERVICIO AL CIUDADANO ","2021-11-24","CORREO ELECTRÓNICO",{"$f":"IFERROR(WORKDAY(C1396,P1396,DiasNOLaborables),\"\")","v":"2021-12-21"},{"$f":"+IF(C1396=\"\",\"\",IF(H1396=\"\",\"SIN RESPUESTA\",(IF(H1396<=J1396,\"A TIEMPO\",\"FUERA DE TIEMPO\"))))","v":"A TIEMPO"},{"$f":"IF(H1396=\"\",\"\",NETWORKDAYS(C1396+1,H1396,DiasNOLaborables))","v":2},{"$f":"IF(NETWORKDAYS(J1396+1,H1396,DiasNOLaborables)<=0,\"\",NETWORKDAYS(J1396+1,H1396,DiasNOLaborables))","v":""},null,null,{"$f":"IFERROR(VLOOKUP(E1396,$X$51:$Y$64,2),\"\")","v":20}]
[1386,20219050133162,"2021-11-22","MODULO CONTACTENOS","SOLICITUD DE INFORMACIÓN Y DOCUMENTOS","ADMINISTRATIVA","GRUPO DE ADMINISTRACIÓN Y DESARROLLO DEL TALENTO HUMANO","2021-12-10","CORREO ELECTRÓNICO",{"$f":"IFERROR(WORKDAY(C1397,P1397,DiasNOLaborables),\"\")","v":"2021-12-21"},{"$f":"+IF(C1397=\"\",\"\",IF(H1397=\"\",\"SIN RESPUESTA\",(IF(H1397<=J1397,\"A TIEMPO\",\"FUERA DE TIEMPO\"))))","v":"A TIEMPO"},{"$f":"IF(H1397=\"\",\"\",NETWORKDAYS(C1397+1,H1397,DiasNOLaborables))","v":13},{"$f":"IF(NETWORKDAYS(J1397+1,H1397,DiasNOLaborables)<=0,\"\",NETWORKDAYS(J1397+1,H1397,DiasNOLaborables))","v":""},null,null,{"$f":"IFERROR(VLOOKUP(E1397,$X$51:$Y$64,2),\"\")","v":20}]
[1387,20219050133182,"2021-11-22","MODULO CONTACTENOS","SOLICITUD DE INFORMACIÓN Y DOCUMENTOS","ADMINISTRATIVA","OFICINA ASESORA JURÍDICA","2021-11-26","CORREO ELECTRÓNICO",{"$f":"IFERROR(WORKDAY(C1398,P1398,DiasNOLaborables),\"\")","v":"2021-12-21"},{"$f":"+IF(C1398=\"\",\"\",IF(H1398=\"\",\"SIN RESPUESTA\",(IF(H1398<=J1398,\"A TIEMPO\",\"FUERA DE TIEMPO\"))))","v":"A TIEMPO"},{"$f":"IF(H1398=\"\",\"\",NETWORKDAYS(C1398+1,H1398,DiasNOLaborables))","v":4},{"$f":"IF(NETWORKDAYS(J1398+1,H1398,DiasNOLaborables)<=0,\"\",NETWORKDAYS(J1398+1,H1398,DiasNOLaborables))","v":""},null,null,{"$f":"IFERROR(VLOOKUP(E1398,$X$51:$Y$64,2),\"\")","v":20}]
[1388,20219050133382,"2021-11-22","MODULO CONTACTENOS","SOLICITUD DE INFORMACIÓN Y DOCUMENTOS","BOSQUES","SUBDIRECCIÓN DE ECOSISTEMAS E INFORMACIÓN AMBIENTAL","2021-12-06","CORREO ELECTRÓNICO",{"$f":"IFERROR(WORKDAY(C1399,P1399,DiasNOLaborables),\"\")","v":"2021-12-21"},{"$f":"+IF(C1399=\"\",\"\",IF(H1399=\"\",\"SIN RESPUESTA\",(IF(H1399<=J1399,\"A TIEMPO\",\"FUERA DE TIEMPO\"))))","v":"A TIEMPO"},{"$f":"IF(H1399=\"\",\"\",NETWORKDAYS(C1399+1,H1399,DiasNOLaborables))","v":10},{"$f":"IF(NETWORKDAYS(J1399+1,H1399,DiasNOLaborables)<=0,\"\",NETWORKDAYS(J1399+1,H1399,DiasNOLaborables))","v":""},null,null,{"$f":"IFERROR(VLOOKUP(E1399,$X$51:$Y$64,2),\"\")","v":20}]
[1389,20219050132992,"2021-11-22","CORREO ELECTRÓNICO","SOLICITUD DE INFORMACIÓN Y DOCUMENTOS","ADMINISTRATIVA","GRUPO DE ADMINISTRACIÓN Y DESARROLLO DEL TALENTO HUMANO","2021-11-16","CORREO ELECTRÓNICO",{"$f":"IFERROR(WORKDAY(C1400,P1400,DiasNOLaborables),\"\")","v":"2021-12-21"},{"$f":"+IF(C1400=\"\",\"\",IF(H1400=\"\",\"SIN RESPUESTA\",(IF(H1400<=J1400,\"A TIEMPO\",\"FUERA DE TIEMPO\"))))","v":"A TIEMPO"},{"$f":"IF(H1400=\"\",\"\",NETWORKDAYS(C1400+1,H1400,DiasNOLaborables))","v":-6},{"$f":"IF(NETWORKDAYS(J1400+1,H1400,DiasNOLaborables)<=0,\"\",NETWORKDAYS(J1400+1,H1400,DiasNOLaborables))","v":""},null,null,{"$f":"IFERROR(VLOOKUP(E1400,$X$51:$Y$64,2),\"\")","v":20}]
[1390,20219050133022,"2021-11-22","CORREO ELECTRÓNICO","SOLICITUD DE INFORMACIÓN Y DOCUMENTOS","INFORMES AMBIENTALES","SUBDIRECCIÓN DE HIDROLOGÍA","2021-12-09","CORREO ELECTRÓNICO",{"$f":"IFERROR(WORKDAY(C1401,P1401,DiasNOLaborables),\"\")","v":"2021-12-21"},{"$f":"+IF(C1401=\"\",\"\",IF(H1401=\"\",\"SIN RESPUESTA\",(IF(H1401<=J1401,\"A TIEMPO\",\"FUERA DE TIEMPO\"))))","v":"A TIEMPO"},{"$f":"IF(H1401=\"\",\"\",NETWORKDAYS(C1401+1,H1401,DiasNOLaborables))","v":12},{"$f":"IF(NETWORKDAYS(J1401+1,H1401,DiasNOLaborables)<=0,\"\",NETWORKDAYS(J1401+1,H1401,DiasNOLaborables))","v":""},null,null,{"$f":"IFERROR(VLOOKUP(E1401,$X$51:$Y$64,2),\"\")","v":20}]
[1391,20219050133062,"2021-11-22","CORREO ELECTRÓNICO","CERTIFICACIONES DE TIEMPO, CLIMA Y EVENTOS HIDROLÓGICOS","CERTIFICACIONES DE TIEMPO Y CLIMA","SUBDIRECCIÓN DE METEOROLOGÍA","2021-11-30","CORREO ELECTRÓNICO",{"$f":"IFERROR(WORKDAY(C1402,P1402,DiasNOLaborables),\"\")","v":"2022-01-11"},{"$f":"+IF(C1402=\"\",\"\",IF(H1402=\"\",\"SIN RESPUESTA\",(IF(H1402<=J1402,\"A TIEMPO\",\"FUERA DE TIEMPO\"))))","v":"A TIEMPO"},{"$f":"IF(H1402=\"\",\"\",NETWORKDAYS(C1402+1,H1402,DiasNOLaborables))","v":6},{"$f":"IF(NETWORKDAYS(J1402+1,H1402,DiasNOLaborables)<=0,\"\",NETWORKDAYS(J1402+1,H1402,DiasNOLaborables))","v":""},null,null,{"$f":"IFERROR(VLOOKUP(E1402,$X$51:$Y$64,2),\"\")","v":35}]
[1392,20219050133092,"2021-11-22","CORREO ELECTRÓNICO","SOLICITUD DE INFORMACIÓN Y DOCUMENTOS","BOSQUES","SUBDIRECCIÓN DE ECOSISTEMAS E INFORMACIÓN AMBIENTAL","2021-11-26","CORREO ELECTRÓNICO",{"$f":"IFERROR(WORKDAY(C1403,P1403,DiasNOLaborables),\"\")","v":"2021-12-21"},{"$f":"+IF(C1403=\"\",\"\",IF(H1403=\"\",\"SIN RESPUESTA\",(IF(H1403<=J1403,\"A TIEMPO\",\"FUERA DE TIEMPO\"))))","v":"A TIEMPO"},{"$f":"IF(H1403=\"\",\"\",NETWORKDAYS(C1403+1,H1403,DiasNOLaborables))","v":4},{"$f":"IF(NETWORKDAYS(J1403+1,H1403,DiasNOLaborables)<=0,\"\",NETWORKDAYS(J1403+1,H1403,DiasNOLaborables))","v":""},null,null,{"$f":"IFERROR(VLOOKUP(E1403,$X$51:$Y$64,2),\"\")","v":20}]
[1393,20219050133212,"2021-11-22","CORREO ELECTRÓNICO","CERTIFICACIONES DE TIEMPO, CLIMA Y EVENTOS HIDROLÓGICOS","CERTIFICACIONES DE TIEMPO Y CLIMA","SUBDIRECCIÓN DE METEOROLOGÍA","2021-11-30","CORREO ELECTRÓNICO",{"$f":"IFERROR(WORKDAY(C1404,P1404,DiasNOLaborables),\"\")","v":"2022-01-11"},{"$f":"+IF(C1404=\"\",\"\",IF(H1404=\"\",\"SIN RESPUESTA\",(IF(H1404<=J1404,\"A TIEMPO\",\"FUERA DE TIEMPO\"))))","v":"A TIEMPO"},{"$f":"IF(H1404=\"\",\"\",NETWORKDAYS(C1404+1,H1404,DiasNOLaborables))","v":6},{"$f":"IF(NETWORKDAYS(J1404+1,H1404,DiasNOLaborables)<=0,\"\",NETWORKDAYS(J1404+1,H1404,DiasNOLaborables))","v":""},null,null,{"$f":"IFERROR(VLOOKUP(E1404,$X$51:$Y$64,2),\"\")","v":35}]
[1394,20219050133222,"2021-11-22","CORREO ELECTRÓNICO","CERTIFICACIONES DE TIEMPO, CLIMA Y EVENTOS HIDROLÓGICOS","CERTIFICACIONES DE TIEMPO Y CLIMA","SUBDIRECCIÓN DE METEOROLOGÍA","2021-11-30","CORREO ELECTRÓNICO",{"$f":"IFERROR(WORKDAY(C1405,P1405,DiasNOLaborables),\"\")","v":"2022-01-11"},{"$f":"+IF(C1405=\"\",\"\",IF(H1405=\"\",\"SIN RESPUESTA\",(IF(H1405<=J1405,\"A TIEMPO\",\"FUERA DE TIEMPO\"))))","v":"A TIEMPO"},{"$f":"IF(H1405=\"\",\"\",NETWORKDAYS(C1405+1,H1405,DiasNOLaborables))","v":6},{"$f":"IF(NETWORKDAYS(J1405+1,H1405,DiasNOLaborables)<=0,\"\",NETWORKDAYS(J1405+1,H1405,DiasNOLaborables))","v":""},null,null,{"$f":"IFERROR(VLOOKUP(E1405,$X$51:$Y$64,2),\"\")","v":35}]
[1395,20219050133232,"2021-11-22","CORREO ELECTRÓNICO","SOLICITUD DE INFORMACIÓN Y DOCUMENTOS","BOSQUES","SUBDIRECCIÓN DE ECOSISTEMAS E INFORMACIÓN AMBIENTAL","2021-12-06","CORREO ELECTRÓNICO",{"$f":"IFERROR(WORKDAY(C1406,P1406,DiasNOLaborables),\"\")","v":"2021-12-21"},{"$f":"+IF(C1406=\"\",\"\",IF(H1406=\"\",\"SIN RESPUESTA\",(IF(H1406<=J1406,\"A TIEMPO\",\"FUERA DE TIEMPO\"))))","v":"A TIEMPO"},{"$f":"IF(H1406=\"\",\"\",NETWORKDAYS(C1406+1,H1406,DiasNOLaborables))","v":10},{"$f":"IF(NETWORKDAYS(J1406+1,H1406,DiasNOLaborables)<=0,\"\",NETWORKDAYS(J1406+1,H1406,DiasNOLaborables))","v":""},null,null,{"$f":"IFERROR(VLOOKUP(E1406,$X$51:$Y$64,2),\"\")","v":20}]
[1396,20219050133242,"2021-11-22","CORREO ELECTRÓNICO","SOLICITUD DE INFORMACIÓN Y DOCUMENTOS","INFORMES AMBIENTALES","SUBDIRECCIÓN DE HIDROLOGÍA","2021-11-25","CORREO ELECTRÓNICO",{"$f":"IFERROR(WORKDAY(C1407,P1407,DiasNOLaborables),\"\")","v":"2021-12-21"},{"$f":"+IF(C1407=\"\",\"\",IF(H1407=\"\",\"SIN RESPUESTA\",(IF(H1407<=J1407,\"A TIEMPO\",\"FUERA DE TIEMPO\"))))","v":"A TIEMPO"},{"$f":"IF(H1407=\"\",\"\",NETWORKDAYS(C1407+1,H1407,DiasNOLaborables))","v":3},{"$f":"IF(NETWORKDAYS(J1407+1,H1407,DiasNOLaborables)<=0,\"\",NETWORKDAYS(J1407+1,H1407,DiasNOLaborables))","v":""},null,null,{"$f":"IFERROR(VLOOKUP(E1407,$X$51:$Y$64,2),\"\")","v":20}]
[1397,20219050133272,"2021-11-22","CORREO ELECTRÓNICO","SOLICITUD DE INFORMACIÓN Y DOCUMENTOS","INFORMES AMBIENTALES","SUBDIRECCIÓN DE HIDROLOGÍA","2021-12-10","CORREO ELECTRÓNICO",{"$f":"IFERROR(WORKDAY(C1408,P1408,DiasNOLaborables),\"\")","v":"2021-12-21"},{"$f":"+IF(C1408=\"\",\"\",IF(H1408=\"\",\"SIN RESPUESTA\",(IF(H1408<=J1408,\"A TIEMPO\",\"FUERA DE TIEMPO\"))))","v":"A TIEMPO"},{"$f":"IF(H1408=\"\",\"\",NETWORKDAYS(C1408+1,H1408,DiasNOLaborables))","v":13},{"$f":"IF(NETWORKDAYS(J1408+1,H1408,DiasNOLaborables)<=0,\"\",NETWORKDAYS(J1408+1,H1408,DiasNOLaborables))","v":""},null,null,{"$f":"IFERROR(VLOOKUP(E1408,$X$51:$Y$64,2),\"\")","v":20}]
[1398,20219050133302,"2021-11-22","CORREO ELECTRÓNICO","SOLICITUD DE INFORMACIÓN Y DOCUMENTOS","INFORMES AMBIENTALES","SUBDIRECCIÓN DE HIDROLOGÍA","2021-12-01","CORREO ELECTRÓNICO",{"$f":"IFERROR(WORKDAY(C1409,P1409,DiasNOLaborables),\"\")","v":"2021-12-21"},{"$f":"+IF(C1409=\"\",\"\",IF(H1409=\"\",\"SIN RESPUESTA\",(IF(H1409<=J1409,\"A TIEMPO\",\"FUERA DE TIEMPO\"))))","v":"A TIEMPO"},{"$f":"IF(H1409=\"\",\"\",NETWORKDAYS(C1409+1,H1409,DiasNOLaborables))","v":7},{"$f":"IF(NETWORKDAYS(J1409+1,H1409,DiasNOLaborables)<=0,\"\",NETWORKDAYS(J1409+1,H1409,DiasNOLaborables))","v":""},null,null,{"$f":"IFERROR(VLOOKUP(E1409,$X$51:$Y$64,2),\"\")","v":20}]
[1399,20219050133342,"2021-11-22","CORREO ELECTRÓNICO","SOLICITUD DE INFORMACIÓN Y DOCUMENTOS","REGISTROS AMBIENTALES","SUBDIRECCIÓN DE ESTUDIOS AMBIENTALES","2021-12-03","CORREO ELECTRÓNICO",{"$f":"IFERROR(WORKDAY(C1410,P1410,DiasNOLaborables),\"\")","v":"2021-12-21"},{"$f":"+IF(C1410=\"\",\"\",IF(H1410=\"\",\"SIN RESPUESTA\",(IF(H1410<=J1410,\"A TIEMPO\",\"FUERA DE TIEMPO\"))))","v":"A TIEMPO"},{"$f":"IF(H1410=\"\",\"\",NETWORKDAYS(C1410+1,H1410,DiasNOLaborables))","v":9},{"$f":"IF(NETWORKDAYS(J1410+1,H1410,DiasNOLaborables)<=0,\"\",NETWORKDAYS(J1410+1,H1410,DiasNOLaborables))","v":""},null,null,{"$f":"IFERROR(VLOOKUP(E1410,$X$51:$Y$64,2),\"\")","v":20}]
[1400,20219910064142,"2021-11-22","CORREO ELECTRÓNICO","PETICIÓN","WEB Y CORREO","OFICINA DE INFORMÁTICA","2021-12-14","CORREO ELECTRÓNICO",{"$f":"IFERROR(WORKDAY(C1411,P1411,DiasNOLaborables),\"\")","v":"2022-01-04"},{"$f":"+IF(C1411=\"\",\"\",IF(H1411=\"\",\"SIN RESPUESTA\",(IF(H1411<=J1411,\"A TIEMPO\",\"FUERA DE TIEMPO\"))))","v":"A TIEMPO"},{"$f":"IF(H1411=\"\",\"\",NETWORKDAYS(C1411+1,H1411,DiasNOLaborables))","v":15},{"$f":"IF(NETWORKDAYS(J1411+1,H1411,DiasNOLaborables)<=0,\"\",NETWORKDAYS(J1411+1,H1411,DiasNOLaborables))","v":""},null,null,{"$f":"IFERROR(VLOOKUP(E1411,$X$51:$Y$64,2),\"\")","v":30}]
[1401,20219910064342,"2021-11-22","CORREO ELECTRÓNICO","SOLICITUD DE INFORMACIÓN Y DOCUMENTOS","ACREDITACIÓN DE LABORATORIOS","SUBDIRECCIÓN DE ESTUDIOS AMBIENTALES","2021-11-25","CORREO ELECTRÓNICO",{"$f":"IFERROR(WORKDAY(C1412,P1412,DiasNOLaborables),\"\")","v":"2021-12-21"},{"$f":"+IF(C1412=\"\",\"\",IF(H1412=\"\",\"SIN RESPUESTA\",(IF(H1412<=J1412,\"A TIEMPO\",\"FUERA DE TIEMPO\"))))","v":"A TIEMPO"},{"$f":"IF(H1412=\"\",\"\",NETWORKDAYS(C1412+1,H1412,DiasNOLaborables))","v":3},{"$f":"IF(NETWORKDAYS(J1412+1,H1412,DiasNOLaborables)<=0,\"\",NETWORKDAYS(J1412+1,H1412,DiasNOLaborables))","v":""},null,null,{"$f":"IFERROR(VLOOKUP(E1412,$X$51:$Y$64,2),\"\")","v":20}]
[1402,20219050133082,"2021-11-22","CORREO ELECTRÓNICO","SOLICITUD DE INFORMACIÓN Y DOCUMENTOS","SOLICITUD DE INFORMACIÓN HIDROMETEOROLÓGICA","GRUPO DE SERVICIO AL CIUDADANO ","2021-12-09","CORREO ELECTRÓNICO",{"$f":"IFERROR(WORKDAY(C1413,P1413,DiasNOLaborables),\"\")","v":"2021-12-21"},{"$f":"+IF(C1413=\"\",\"\",IF(H1413=\"\",\"SIN RESPUESTA\",(IF(H1413<=J1413,\"A TIEMPO\",\"FUERA DE TIEMPO\"))))","v":"A TIEMPO"},{"$f":"IF(H1413=\"\",\"\",NETWORKDAYS(C1413+1,H1413,DiasNOLaborables))","v":12},{"$f":"IF(NETWORKDAYS(J1413+1,H1413,DiasNOLaborables)<=0,\"\",NETWORKDAYS(J1413+1,H1413,DiasNOLaborables))","v":""},null,null,{"$f":"IFERROR(VLOOKUP(E1413,$X$51:$Y$64,2),\"\")","v":20}]
[1403,20219050133102,"2021-11-22","CORREO ELECTRÓNICO","SOLICITUD DE INFORMACIÓN Y DOCUMENTOS","SOLICITUD DE INFORMACIÓN HIDROMETEOROLÓGICA","GRUPO DE SERVICIO AL CIUDADANO ","2021-12-09","CORREO ELECTRÓNICO",{"$f":"IFERROR(WORKDAY(C1414,P1414,DiasNOLaborables),\"\")","v":"2021-12-21"},{"$f":"+IF(C1414=\"\",\"\",IF(H1414=\"\",\"SIN RESPUESTA\",(IF(H1414<=J1414,\"A TIEMPO\",\"FUERA DE TIEMPO\"))))","v":"A TIEMPO"},{"$f":"IF(H1414=\"\",\"\",NETWORKDAYS(C1414+1,H1414,DiasNOLaborables))","v":12},{"$f":"IF(NETWORKDAYS(J1414+1,H1414,DiasNOLaborables)<=0,\"\",NETWORKDAYS(J1414+1,H1414,DiasNOLaborables))","v":""},null,null,{"$f":"IFERROR(VLOOKUP(E1414,$X$51:$Y$64,2),\"\")","v":20}]
[1404,20219050133202,"2021-11-22","MODULO CONTACTENOS","SOLICITUD DE INFORMACIÓN Y DOCUMENTOS","SOLICITUD DE INFORMACIÓN HIDROMETEOROLÓGICA","GRUPO DE SERVICIO AL CIUDADANO ","2021-12-09","CORREO ELECTRÓNICO",{"$f":"IFERROR(WORKDAY(C1415,P1415,DiasNOLaborables),\"\")","v":"2021-12-21"},{"$f":"+IF(C1415=\"\",\"\",IF(H1415=\"\",\"SIN RESPUESTA\",(IF(H1415<=J1415,\"A TIEMPO\",\"FUERA DE TIEMPO\"))))","v":"A TIEMPO"},{"$f":"IF(H1415=\"\",\"\",NETWORKDAYS(C1415+1,H1415,DiasNOLaborables))","v":12},{"$f":"IF(NETWORKDAYS(J1415+1,H1415,DiasNOLaborables)<=0,\"\",NETWORKDAYS(J1415+1,H1415,DiasNOLaborables))","v":""},null,null,{"$f":"IFERROR(VLOOKUP(E1415,$X$51:$Y$64,2),\"\")","v":20}]
[1405,20219050133012,"2021-11-22","MODULO CONTACTENOS","SOLICITUD DE INFORMACIÓN Y DOCUMENTOS","SOLICITUD DE INFORMACIÓN HIDROMETEOROLÓGICA","GRUPO DE SERVICIO AL CIUDADANO ","2021-12-03","CORREO ELECTRÓNICO",{"$f":"IFERROR(WORKDAY(C1416,P1416,DiasNOLaborables),\"\")","v":"2021-12-21"},{"$f":"+IF(C1416=\"\",\"\",IF(H1416=\"\",\"SIN RESPUESTA\",(IF(H1416<=J1416,\"A TIEMPO\",\"FUERA DE TIEMPO\"))))","v":"A TIEMPO"},{"$f":"IF(H1416=\"\",\"\",NETWORKDAYS(C1416+1,H1416,DiasNOLaborables))","v":9},{"$f":"IF(NETWORKDAYS(J1416+1,H1416,DiasNOLaborables)<=0,\"\",NETWORKDAYS(J1416+1,H1416,DiasNOLaborables))","v":""},null,null,{"$f":"IFERROR(VLOOKUP(E1416,$X$51:$Y$64,2),\"\")","v":20}]
[1406,20219050133032,"2021-11-22","MODULO CONTACTENOS","SOLICITUD DE INFORMACIÓN Y DOCUMENTOS","SOLICITUD DE INFORMACIÓN HIDROMETEOROLÓGICA","GRUPO DE SERVICIO AL CIUDADANO ","2021-12-03","CORREO ELECTRÓNICO",{"$f":"IFERROR(WORKDAY(C1417,P1417,DiasNOLaborables),\"\")","v":"2021-12-21"},{"$f":"+IF(C1417=\"\",\"\",IF(H1417=\"\",\"SIN RESPUESTA\",(IF(H1417<=J1417,\"A TIEMPO\",\"FUERA DE TIEMPO\"))))","v":"A TIEMPO"},{"$f":"IF(H1417=\"\",\"\",NETWORKDAYS(C1417+1,H1417,DiasNOLaborables))","v":9},{"$f":"IF(NETWORKDAYS(J1417+1,H1417,DiasNOLaborables)<=0,\"\",NETWORKDAYS(J1417+1,H1417,DiasNOLaborables))","v":""},null,null,{"$f":"IFERROR(VLOOKUP(E1417,$X$51:$Y$64,2),\"\")","v":20}]
[1407,20219050133042,"2021-11-22","MODULO CONTACTENOS","SOLICITUD DE INFORMACIÓN Y DOCUMENTOS","SOLICITUD DE INFORMACIÓN HIDROMETEOROLÓGICA","GRUPO DE SERVICIO AL CIUDADANO ","2021-12-03","CORREO ELECTRÓNICO",{"$f":"IFERROR(WORKDAY(C1418,P1418,DiasNOLaborables),\"\")","v":"2021-12-21"},{"$f":"+IF(C1418=\"\",\"\",IF(H1418=\"\",\"SIN RESPUESTA\",(IF(H1418<=J1418,\"A TIEMPO\",\"FUERA DE TIEMPO\"))))","v":"A TIEMPO"},{"$f":"IF(H1418=\"\",\"\",NETWORKDAYS(C1418+1,H1418,DiasNOLaborables))","v":9},{"$f":"IF(NETWORKDAYS(J1418+1,H1418,DiasNOLaborables)<=0,\"\",NETWORKDAYS(J1418+1,H1418,DiasNOLaborables))","v":""},null,null,{"$f":"IFERROR(VLOOKUP(E1418,$X$51:$Y$64,2),\"\")","v":20}]
[1408,20219050133052,"2021-11-22","MODULO CONTACTENOS","SOLICITUD DE INFORMACIÓN Y DOCUMENTOS","SOLICITUD DE INFORMACIÓN HIDROMETEOROLÓGICA","GRUPO DE SERVICIO AL CIUDADANO ","2021-12-03","CORREO ELECTRÓNICO",{"$f":"IFERROR(WORKDAY(C1419,P1419,DiasNOLaborables),\"\")","v":"2021-12-21"},{"$f":"+IF(C1419=\"\",\"\",IF(H1419=\"\",\"SIN RESPUESTA\",(IF(H1419<=J1419,\"A TIEMPO\",\"FUERA DE TIEMPO\"))))","v":"A TIEMPO"},{"$f":"IF(H1419=\"\",\"\",NETWORKDAYS(C1419+1,H1419,DiasNOLaborables))","v":9},{"$f":"IF(NETWORKDAYS(J1419+1,H1419,DiasNOLaborables)<=0,\"\",NETWORKDAYS(J1419+1,H1419,DiasNOLaborables))","v":""},null,null,{"$f":"IFERROR(VLOOKUP(E1419,$X$51:$Y$64,2),\"\")","v":20}]
[1409,20219050133072,"2021-11-22","MODULO CONTACTENOS","SOLICITUD DE INFORMACIÓN Y DOCUMENTOS","SOLICITUD DE INFORMACIÓN HIDROMETEOROLÓGICA","GRUPO DE SERVICIO AL CIUDADANO ","2021-12-03","CORREO ELECTRÓNICO",{"$f":"IFERROR(WORKDAY(C1420,P1420,DiasNOLaborables),\"\")","v":"2021-12-21"},{"$f":"+IF(C1420=\"\",\"\",IF(H1420=\"\",\"SIN RESPUESTA\",(IF(H1420<=J1420,\"A TIEMPO\",\"FUERA DE TIEMPO\"))))","v":"A TIEMPO"},{"$f":"IF(H1420=\"\",\"\",NETWORKDAYS(C1420+1,H1420,DiasNOLaborables))","v":9},{"$f":"IF(NETWORKDAYS(J1420+1,H1420,DiasNOLaborables)<=0,\"\",NETWORKDAYS(J1420+1,H1420,DiasNOLaborables))","v":""},null,null,{"$f":"IFERROR(VLOOKUP(E1420,$X$51:$Y$64,2),\"\")","v":20}]
[1410,20219050133252,"2021-11-22","MODULO CONTACTENOS","SOLICITUD DE INFORMACIÓN Y DOCUMENTOS","SOLICITUD DE INFORMACIÓN HIDROMETEOROLÓGICA","GRUPO DE SERVICIO AL CIUDADANO ","2021-12-09","CORREO ELECTRÓNICO",{"$f":"IFERROR(WORKDAY(C1421,P1421,DiasNOLaborables),\"\")","v":"2021-12-21"},{"$f":"+IF(C1421=\"\",\"\",IF(H1421=\"\",\"SIN RESPUESTA\",(IF(H1421<=J1421,\"A TIEMPO\",\"FUERA DE TIEMPO\"))))","v":"A TIEMPO"},{"$f":"IF(H1421=\"\",\"\",NETWORKDAYS(C1421+1,H1421,DiasNOLaborables))","v":12},{"$f":"IF(NETWORKDAYS(J1421+1,H1421,DiasNOLaborables)<=0,\"\",NETWORKDAYS(J1421+1,H1421,DiasNOLaborables))","v":""},null,null,{"$f":"IFERROR(VLOOKUP(E1421,$X$51:$Y$64,2),\"\")","v":20}]
[{"$f":"IF(B1422<>\"\",A1421+1,\"\")","v":1411},20219050133262,"2021-11-22","MODULO CONTACTENOS","SOLICITUD DE INFORMACIÓN Y DOCUMENTOS","SOLICITUD DE INFORMACIÓN HIDROMETEOROLÓGICA","GRUPO DE SERVICIO AL CIUDADANO ","2021-12-09","CORREO ELECTRÓNICO",{"$f":"IFERROR(WORKDAY(C1422,P1422,DiasNOLaborables),\"\")","v":"2021-12-21"},{"$f":"+IF(C1422=\"\",\"\",IF(H1422=\"\",\"SIN RESPUESTA\",(IF(H1422<=J1422,\"A TIEMPO\",\"FUERA DE TIEMPO\"))))","v":"A TIEMPO"},{"$f":"IF(H1422=\"\",\"\",NETWORKDAYS(C1422+1,H1422,DiasNOLaborables))","v":12},{"$f":"IF(NETWORKDAYS(J1422+1,H1422,DiasNOLaborables)<=0,\"\",NETWORKDAYS(J1422+1,H1422,DiasNOLaborables))","v":""},null,null,{"$f":"IFERROR(VLOOKUP(E1422,$X$51:$Y$64,2),\"\")","v":20}]
[1412,20219050133282,"2021-11-22","MODULO CONTACTENOS","SOLICITUD DE INFORMACIÓN Y DOCUMENTOS","SOLICITUD DE INFORMACIÓN HIDROMETEOROLÓGICA","GRUPO DE SERVICIO AL CIUDADANO ","2021-12-09","CORREO ELECTRÓNICO",{"$f":"IFERROR(WORKDAY(C1423,P1423,DiasNOLaborables),\"\")","v":"2021-12-21"},{"$f":"+IF(C1423=\"\",\"\",IF(H1423=\"\",\"SIN RESPUESTA\",(IF(H1423<=J1423,\"A TIEMPO\",\"FUERA DE TIEMPO\"))))","v":"A TIEMPO"},{"$f":"IF(H1423=\"\",\"\",NETWORKDAYS(C1423+1,H1423,DiasNOLaborables))","v":12},{"$f":"IF(NETWORKDAYS(J1423+1,H1423,DiasNOLaborables)<=0,\"\",NETWORKDAYS(J1423+1,H1423,DiasNOLaborables))","v":""},null,null,{"$f":"IFERROR(VLOOKUP(E1423,$X$51:$Y$64,2),\"\")","v":20}]
[1413,20219050133292,"2021-11-22","MODULO CONTACTENOS","SOLICITUD DE INFORMACIÓN Y DOCUMENTOS","SOLICITUD DE INFORMACIÓN HIDROMETEOROLÓGICA","GRUPO DE SERVICIO AL CIUDADANO ","2021-12-09","CORREO ELECTRÓNICO",{"$f":"IFERROR(WORKDAY(C1424,P1424,DiasNOLaborables),\"\")","v":"2021-12-21"},{"$f":"+IF(C1424=\"\",\"\",IF(H1424=\"\",\"SIN RESPUESTA\",(IF(H1424<=J1424,\"A TIEMPO\",\"FUERA DE TIEMPO\"))))","v":"A TIEMPO"},{"$f":"IF(H1424=\"\",\"\",NETWORKDAYS(C1424+1,H1424,DiasNOLaborables))","v":12},{"$f":"IF(NETWORKDAYS(J1424+1,H1424,DiasNOLaborables)<=0,\"\",NETWORKDAYS(J1424+1,H1424,DiasNOLaborables))","v":""},null,null,{"$f":"IFERROR(VLOOKUP(E1424,$X$51:$Y$64,2),\"\")","v":20}]
[1414,20219050133312,"2021-11-22","CORREO ELECTRÓNICO","SOLICITUD DE INFORMACIÓN Y DOCUMENTOS","SOLICITUD DE INFORMACIÓN HIDROMETEOROLÓGICA","GRUPO DE SERVICIO AL CIUDADANO ","2021-12-09","CORREO ELECTRÓNICO",{"$f":"IFERROR(WORKDAY(C1425,P1425,DiasNOLaborables),\"\")","v":"2021-12-21"},{"$f":"+IF(C1425=\"\",\"\",IF(H1425=\"\",\"SIN RESPUESTA\",(IF(H1425<=J1425,\"A TIEMPO\",\"FUERA DE TIEMPO\"))))","v":"A TIEMPO"},{"$f":"IF(H1425=\"\",\"\",NETWORKDAYS(C1425+1,H1425,DiasNOLaborables))","v":12},{"$f":"IF(NETWORKDAYS(J1425+1,H1425,DiasNOLaborables)<=0,\"\",NETWORKDAYS(J1425+1,H1425,DiasNOLaborables))","v":""},null,null,{"$f":"IFERROR(VLOOKUP(E1425,$X$51:$Y$64,2),\"\")","v":20}]
[1415,20219050133372,"2021-11-22","CORREO ELECTRÓNICO","SOLICITUD DE INFORMACIÓN Y DOCUMENTOS","SOLICITUD DE INFORMACIÓN HIDROMETEOROLÓGICA","GRUPO DE SERVICIO AL CIUDADANO ","2021-12-09","CORREO ELECTRÓNICO",{"$f":"IFERROR(WORKDAY(C1426,P1426,DiasNOLaborables),\"\")","v":"2021-12-21"},{"$f":"+IF(C1426=\"\",\"\",IF(H1426=\"\",\"SIN RESPUESTA\",(IF(H1426<=J1426,\"A TIEMPO\",\"FUERA DE TIEMPO\"))))","v":"A TIEMPO"},{"$f":"IF(H1426=\"\",\"\",NETWORKDAYS(C1426+1,H1426,DiasNOLaborables))","v":12},{"$f":"IF(NETWORKDAYS(J1426+1,H1426,DiasNOLaborables)<=0,\"\",NETWORKDAYS(J1426+1,H1426,DiasNOLaborables))","v":""},null,null,{"$f":"IFERROR(VLOOKUP(E1426,$X$51:$Y$64,2),\"\")","v":20}]
[1416,20219050133392,"2021-11-22","MODULO CONTACTENOS","SOLICITUD DE INFORMACIÓN Y DOCUMENTOS","SOLICITUD DE INFORMACIÓN HIDROMETEOROLÓGICA","GRUPO DE SERVICIO AL CIUDADANO ","2021-12-09","CORREO ELECTRÓNICO",{"$f":"IFERROR(WORKDAY(C1427,P1427,DiasNOLaborables),\"\")","v":"2021-12-21"},{"$f":"+IF(C1427=\"\",\"\",IF(H1427=\"\",\"SIN RESPUESTA\",(IF(H1427<=J1427,\"A TIEMPO\",\"FUERA DE TIEMPO\"))))","v":"A TIEMPO"},{"$f":"IF(H1427=\"\",\"\",NETWORKDAYS(C1427+1,H1427,DiasNOLaborables))","v":12},{"$f":"IF(NETWORKDAYS(J1427+1,H1427,DiasNOLaborables)<=0,\"\",NETWORKDAYS(J1427+1,H1427,DiasNOLaborables))","v":""},null,null,{"$f":"IFERROR(VLOOKUP(E1427,$X$51:$Y$64,2),\"\")","v":20}]
[1417,20219050133402,"2021-11-22","MODULO CONTACTENOS","SOLICITUD DE INFORMACIÓN Y DOCUMENTOS","SOLICITUD DE INFORMACIÓN HIDROMETEOROLÓGICA","GRUPO DE SERVICIO AL CIUDADANO ","2021-12-10","CORREO ELECTRÓNICO",{"$f":"IFERROR(WORKDAY(C1428,P1428,DiasNOLaborables),\"\")","v":"2021-12-21"},{"$f":"+IF(C1428=\"\",\"\",IF(H1428=\"\",\"SIN RESPUESTA\",(IF(H1428<=J1428,\"A TIEMPO\",\"FUERA DE TIEMPO\"))))","v":"A TIEMPO"},{"$f":"IF(H1428=\"\",\"\",NETWORKDAYS(C1428+1,H1428,DiasNOLaborables))","v":13},{"$f":"IF(NETWORKDAYS(J1428+1,H1428,DiasNOLaborables)<=0,\"\",NETWORKDAYS(J1428+1,H1428,DiasNOLaborables))","v":""},null,null,{"$f":"IFERROR(VLOOKUP(E1428,$X$51:$Y$64,2),\"\")","v":20}]
[1418,20219050133452,"2021-11-23","MODULO CONTACTENOS","SOLICITUD DE INFORMACIÓN Y DOCUMENTOS","SOLICITUD DE INFORMACIÓN HIDROMETEOROLÓGICA","GRUPO DE SERVICIO AL CIUDADANO ","2021-12-10","CORREO ELECTRÓNICO",{"$f":"IFERROR(WORKDAY(C1429,P1429,DiasNOLaborables),\"\")","v":"2021-12-22"},{"$f":"+IF(C1429=\"\",\"\",IF(H1429=\"\",\"SIN RESPUESTA\",(IF(H1429<=J1429,\"A TIEMPO\",\"FUERA DE TIEMPO\"))))","v":"A TIEMPO"},{"$f":"IF(H1429=\"\",\"\",NETWORKDAYS(C1429+1,H1429,DiasNOLaborables))","v":12},{"$f":"IF(NETWORKDAYS(J1429+1,H1429,DiasNOLaborables)<=0,\"\",NETWORKDAYS(J1429+1,H1429,DiasNOLaborables))","v":""},null,null,{"$f":"IFERROR(VLOOKUP(E1429,$X$51:$Y$64,2),\"\")","v":20}]
[1419,20219050133462,"2021-11-23","CORREO ELECTRÓNICO","SOLICITUD DE INFORMACIÓN Y DOCUMENTOS","SOLICITUD DE INFORMACIÓN HIDROMETEOROLÓGICA","GRUPO DE SERVICIO AL CIUDADANO ","2021-12-10","CORREO ELECTRÓNICO",{"$f":"IFERROR(WORKDAY(C1430,P1430,DiasNOLaborables),\"\")","v":"2021-12-22"},{"$f":"+IF(C1430=\"\",\"\",IF(H1430=\"\",\"SIN RESPUESTA\",(IF(H1430<=J1430,\"A TIEMPO\",\"FUERA DE TIEMPO\"))))","v":"A TIEMPO"},{"$f":"IF(H1430=\"\",\"\",NETWORKDAYS(C1430+1,H1430,DiasNOLaborables))","v":12},{"$f":"IF(NETWORKDAYS(J1430+1,H1430,DiasNOLaborables)<=0,\"\",NETWORKDAYS(J1430+1,H1430,DiasNOLaborables))","v":""},null,null,{"$f":"IFERROR(VLOOKUP(E1430,$X$51:$Y$64,2),\"\")","v":20}]
[1420,20219050133472,"2021-11-23","CORREO ELECTRÓNICO","SOLICITUD DE INFORMACIÓN Y DOCUMENTOS","SOLICITUD DE INFORMACIÓN HIDROMETEOROLÓGICA","GRUPO DE SERVICIO AL CIUDADANO ","2021-12-10","CORREO ELECTRÓNICO",{"$f":"IFERROR(WORKDAY(C1431,P1431,DiasNOLaborables),\"\")","v":"2021-12-22"},{"$f":"+IF(C1431=\"\",\"\",IF(H1431=\"\",\"SIN RESPUESTA\",(IF(H1431<=J1431,\"A TIEMPO\",\"FUERA DE TIEMPO\"))))","v":"A TIEMPO"},{"$f":"IF(H1431=\"\",\"\",NETWORKDAYS(C1431+1,H1431,DiasNOLaborables))","v":12},{"$f":"IF(NETWORKDAYS(J1431+1,H1431,DiasNOLaborables)<=0,\"\",NETWORKDAYS(J1431+1,H1431,DiasNOLaborables))","v":""},null,null,{"$f":"IFERROR(VLOOKUP(E1431,$X$51:$Y$64,2),\"\")","v":20}]
[1421,20219910064452,"2021-11-23","CORREO ELECTRÓNICO","CERTIFICACIONES DE TIEMPO, CLIMA Y EVENTOS HIDROLÓGICOS","CERTIFICACIONES DE TIEMPO Y CLIMA","SUBDIRECCIÓN DE METEOROLOGÍA","2021-12-01","CORREO ELECTRÓNICO",{"$f":"IFERROR(WORKDAY(C1432,P1432,DiasNOLaborables),\"\")","v":"2022-01-12"},{"$f":"+IF(C1432=\"\",\"\",IF(H1432=\"\",\"SIN RESPUESTA\",(IF(H1432<=J1432,\"A TIEMPO\",\"FUERA DE TIEMPO\"))))","v":"A TIEMPO"},{"$f":"IF(H1432=\"\",\"\",NETWORKDAYS(C1432+1,H1432,DiasNOLaborables))","v":6},{"$f":"IF(NETWORKDAYS(J1432+1,H1432,DiasNOLaborables)<=0,\"\",NETWORKDAYS(J1432+1,H1432,DiasNOLaborables))","v":""},null,null,{"$f":"IFERROR(VLOOKUP(E1432,$X$51:$Y$64,2),\"\")","v":35}]
[1422,20219910064462,"2021-11-23","CORREO ELECTRÓNICO","PETICIÓN","WEB Y CORREO","OFICINA DE INFORMÁTICA","2021-12-14","CORREO ELECTRÓNICO",{"$f":"IFERROR(WORKDAY(C1433,P1433,DiasNOLaborables),\"\")","v":"2022-01-05"},{"$f":"+IF(C1433=\"\",\"\",IF(H1433=\"\",\"SIN RESPUESTA\",(IF(H1433<=J1433,\"A TIEMPO\",\"FUERA DE TIEMPO\"))))","v":"A TIEMPO"},{"$f":"IF(H1433=\"\",\"\",NETWORKDAYS(C1433+1,H1433,DiasNOLaborables))","v":14},{"$f":"IF(NETWORKDAYS(J1433+1,H1433,DiasNOLaborables)<=0,\"\",NETWORKDAYS(J1433+1,H1433,DiasNOLaborables))","v":""},null,null,{"$f":"IFERROR(VLOOKUP(E1433,$X$51:$Y$64,2),\"\")","v":30}]
[1423,20219050133542,"2021-11-23","CORREO ELECTRÓNICO","SOLICITUD DE INFORMACIÓN Y DOCUMENTOS","SOLICITUD DE INFORMACIÓN HIDROMETEOROLÓGICA","GRUPO DE SERVICIO AL CIUDADANO ","2021-12-14","CORREO ELECTRÓNICO",{"$f":"IFERROR(WORKDAY(C1434,P1434,DiasNOLaborables),\"\")","v":"2021-12-22"},{"$f":"+IF(C1434=\"\",\"\",IF(H1434=\"\",\"SIN RESPUESTA\",(IF(H1434<=J1434,\"A TIEMPO\",\"FUERA DE TIEMPO\"))))","v":"A TIEMPO"},{"$f":"IF(H1434=\"\",\"\",NETWORKDAYS(C1434+1,H1434,DiasNOLaborables))","v":14},{"$f":"IF(NETWORKDAYS(J1434+1,H1434,DiasNOLaborables)<=0,\"\",NETWORKDAYS(J1434+1,H1434,DiasNOLaborables))","v":""},null,null,{"$f":"IFERROR(VLOOKUP(E1434,$X$51:$Y$64,2),\"\")","v":20}]
[1424,20219050133562,"2021-11-23","CORREO ELECTRÓNICO","SOLICITUD DE INFORMACIÓN Y DOCUMENTOS","SOLICITUD DE INFORMACIÓN HIDROMETEOROLÓGICA","GRUPO DE SERVICIO AL CIUDADANO ","2021-12-14","CORREO ELECTRÓNICO",{"$f":"IFERROR(WORKDAY(C1435,P1435,DiasNOLaborables),\"\")","v":"2021-12-22"},{"$f":"+IF(C1435=\"\",\"\",IF(H1435=\"\",\"SIN RESPUESTA\",(IF(H1435<=J1435,\"A TIEMPO\",\"FUERA DE TIEMPO\"))))","v":"A TIEMPO"},{"$f":"IF(H1435=\"\",\"\",NETWORKDAYS(C1435+1,H1435,DiasNOLaborables))","v":14},{"$f":"IF(NETWORKDAYS(J1435+1,H1435,DiasNOLaborables)<=0,\"\",NETWORKDAYS(J1435+1,H1435,DiasNOLaborables))","v":""},null,null,{"$f":"IFERROR(VLOOKUP(E1435,$X$51:$Y$64,2),\"\")","v":20}]
[1425,20219910064852,"2021-11-23","CORREO ELECTRÓNICO","SOLICITUD DE INFORMACIÓN Y DOCUMENTOS","CLIMATOLOGÍA","SUBDIRECCIÓN DE METEOROLOGÍA","2021-12-13","CORREO ELECTRÓNICO",{"$f":"IFERROR(WORKDAY(C1436,P1436,DiasNOLaborables),\"\")","v":"2021-12-22"},{"$f":"+IF(C1436=\"\",\"\",IF(H1436=\"\",\"SIN RESPUESTA\",(IF(H1436<=J1436,\"A TIEMPO\",\"FUERA DE TIEMPO\"))))","v":"A TIEMPO"},{"$f":"IF(H1436=\"\",\"\",NETWORKDAYS(C1436+1,H1436,DiasNOLaborables))","v":13},{"$f":"IF(NETWORKDAYS(J1436+1,H1436,DiasNOLaborables)<=0,\"\",NETWORKDAYS(J1436+1,H1436,DiasNOLaborables))","v":""},null,null,{"$f":"IFERROR(VLOOKUP(E1436,$X$51:$Y$64,2),\"\")","v":20}]
[1426,20219050133442,"2021-11-23","CORREO ELECTRÓNICO","SOLICITUD DE INFORMACIÓN Y DOCUMENTOS","INFORMES AMBIENTALES","SUBDIRECCIÓN DE HIDROLOGÍA","2021-12-06","CORREO ELECTRÓNICO",{"$f":"IFERROR(WORKDAY(C1437,P1437,DiasNOLaborables),\"\")","v":"2021-12-22"},{"$f":"+IF(C1437=\"\",\"\",IF(H1437=\"\",\"SIN RESPUESTA\",(IF(H1437<=J1437,\"A TIEMPO\",\"FUERA DE TIEMPO\"))))","v":"A TIEMPO"},{"$f":"IF(H1437=\"\",\"\",NETWORKDAYS(C1437+1,H1437,DiasNOLaborables))","v":9},{"$f":"IF(NETWORKDAYS(J1437+1,H1437,DiasNOLaborables)<=0,\"\",NETWORKDAYS(J1437+1,H1437,DiasNOLaborables))","v":""},null,null,{"$f":"IFERROR(VLOOKUP(E1437,$X$51:$Y$64,2),\"\")","v":20}]
[1427,20219050133492,"2021-11-23","CORREO ELECTRÓNICO","CERTIFICACIONES DE TIEMPO, CLIMA Y EVENTOS HIDROLÓGICOS","CERTIFICACIONES DE TIEMPO Y CLIMA","SUBDIRECCIÓN DE METEOROLOGÍA","2021-12-01","CORREO ELECTRÓNICO",{"$f":"IFERROR(WORKDAY(C1438,P1438,DiasNOLaborables),\"\")","v":"2022-01-12"},{"$f":"+IF(C1438=\"\",\"\",IF(H1438=\"\",\"SIN RESPUESTA\",(IF(H1438<=J1438,\"A TIEMPO\",\"FUERA DE TIEMPO\"))))","v":"A TIEMPO"},{"$f":"IF(H1438=\"\",\"\",NETWORKDAYS(C1438+1,H1438,DiasNOLaborables))","v":6},{"$f":"IF(NETWORKDAYS(J1438+1,H1438,DiasNOLaborables)<=0,\"\",NETWORKDAYS(J1438+1,H1438,DiasNOLaborables))","v":""},null,null,{"$f":"IFERROR(VLOOKUP(E1438,$X$51:$Y$64,2),\"\")","v":35}]
[1428,20219050133502,"2021-11-23","CORREO ELECTRÓNICO","SOLICITUD DE INFORMACIÓN Y DOCUMENTOS","ADMINISTRATIVA","GRUPO DE TESORERÍA","2021-11-24","CORREO ELECTRÓNICO",{"$f":"IFERROR(WORKDAY(C1439,P1439,DiasNOLaborables),\"\")","v":"2021-12-22"},{"$f":"+IF(C1439=\"\",\"\",IF(H1439=\"\",\"SIN RESPUESTA\",(IF(H1439<=J1439,\"A TIEMPO\",\"FUERA DE TIEMPO\"))))","v":"A TIEMPO"},{"$f":"IF(H1439=\"\",\"\",NETWORKDAYS(C1439+1,H1439,DiasNOLaborables))","v":1},{"$f":"IF(NETWORKDAYS(J1439+1,H1439,DiasNOLaborables)<=0,\"\",NETWORKDAYS(J1439+1,H1439,DiasNOLaborables))","v":""},null,null,{"$f":"IFERROR(VLOOKUP(E1439,$X$51:$Y$64,2),\"\")","v":20}]
[1429,20219050133512,"2021-11-23","CORREO ELECTRÓNICO","SOLICITUD DE INFORMACIÓN Y DOCUMENTOS","ADMINISTRATIVA","GRUPO DE ADMINISTRACIÓN Y DESARROLLO DEL TALENTO HUMANO","2021-12-06","CORREO ELECTRÓNICO",{"$f":"IFERROR(WORKDAY(C1440,P1440,DiasNOLaborables),\"\")","v":"2021-12-22"},{"$f":"+IF(C1440=\"\",\"\",IF(H1440=\"\",\"SIN RESPUESTA\",(IF(H1440<=J1440,\"A TIEMPO\",\"FUERA DE TIEMPO\"))))","v":"A TIEMPO"},{"$f":"IF(H1440=\"\",\"\",NETWORKDAYS(C1440+1,H1440,DiasNOLaborables))","v":9},{"$f":"IF(NETWORKDAYS(J1440+1,H1440,DiasNOLaborables)<=0,\"\",NETWORKDAYS(J1440+1,H1440,DiasNOLaborables))","v":""},null,null,{"$f":"IFERROR(VLOOKUP(E1440,$X$51:$Y$64,2),\"\")","v":20}]
[1430,20219050133522,"2021-11-23","CORREO ELECTRÓNICO","SOLICITUD DE INFORMACIÓN Y DOCUMENTOS","ACREDITACIÓN DE LABORATORIOS","SUBDIRECCIÓN DE ESTUDIOS AMBIENTALES","2021-12-03","CORREO ELECTRÓNICO",{"$f":"IFERROR(WORKDAY(C1441,P1441,DiasNOLaborables),\"\")","v":"2021-12-22"},{"$f":"+IF(C1441=\"\",\"\",IF(H1441=\"\",\"SIN RESPUESTA\",(IF(H1441<=J1441,\"A TIEMPO\",\"FUERA DE TIEMPO\"))))","v":"A TIEMPO"},{"$f":"IF(H1441=\"\",\"\",NETWORKDAYS(C1441+1,H1441,DiasNOLaborables))","v":8},{"$f":"IF(NETWORKDAYS(J1441+1,H1441,DiasNOLaborables)<=0,\"\",NETWORKDAYS(J1441+1,H1441,DiasNOLaborables))","v":""},null,null,{"$f":"IFERROR(VLOOKUP(E1441,$X$51:$Y$64,2),\"\")","v":20}]
[1431,20219050133532,"2021-11-23","CORREO ELECTRÓNICO","SOLICITUD DE INFORMACIÓN Y DOCUMENTOS","ADMINISTRATIVA","GRUPO DE ADMINISTRACIÓN Y DESARROLLO DEL TALENTO HUMANO","2021-11-30","CORREO ELECTRÓNICO",{"$f":"IFERROR(WORKDAY(C1442,P1442,DiasNOLaborables),\"\")","v":"2021-12-22"},{"$f":"+IF(C1442=\"\",\"\",IF(H1442=\"\",\"SIN RESPUESTA\",(IF(H1442<=J1442,\"A TIEMPO\",\"FUERA DE TIEMPO\"))))","v":"A TIEMPO"},{"$f":"IF(H1442=\"\",\"\",NETWORKDAYS(C1442+1,H1442,DiasNOLaborables))","v":5},{"$f":"IF(NETWORKDAYS(J1442+1,H1442,DiasNOLaborables)<=0,\"\",NETWORKDAYS(J1442+1,H1442,DiasNOLaborables))","v":""},null,null,{"$f":"IFERROR(VLOOKUP(E1442,$X$51:$Y$64,2),\"\")","v":20}]
[1432,20219050133592,"2021-11-23","CORREO ELECTRÓNICO","CERTIFICACIONES DE TIEMPO, CLIMA Y EVENTOS HIDROLÓGICOS","CERTIFICACIONES DE TIEMPO Y CLIMA","SUBDIRECCIÓN DE METEOROLOGÍA","2021-12-16","CORREO ELECTRÓNICO",{"$f":"IFERROR(WORKDAY(C1443,P1443,DiasNOLaborables),\"\")","v":"2022-01-12"},{"$f":"+IF(C1443=\"\",\"\",IF(H1443=\"\",\"SIN RESPUESTA\",(IF(H1443<=J1443,\"A TIEMPO\",\"FUERA DE TIEMPO\"))))","v":"A TIEMPO"},{"$f":"IF(H1443=\"\",\"\",NETWORKDAYS(C1443+1,H1443,DiasNOLaborables))","v":16},{"$f":"IF(NETWORKDAYS(J1443+1,H1443,DiasNOLaborables)<=0,\"\",NETWORKDAYS(J1443+1,H1443,DiasNOLaborables))","v":""},null,null,{"$f":"IFERROR(VLOOKUP(E1443,$X$51:$Y$64,2),\"\")","v":35}]
[1433,20219050133602,"2021-11-23","CORREO ELECTRÓNICO","SOLICITUD DE INFORMACIÓN Y DOCUMENTOS","REGISTROS AMBIENTALES","SUBDIRECCIÓN DE ESTUDIOS AMBIENTALES","2021-12-07","CORREO ELECTRÓNICO",{"$f":"IFERROR(WORKDAY(C1444,P1444,DiasNOLaborables),\"\")","v":"2021-12-22"},{"$f":"+IF(C1444=\"\",\"\",IF(H1444=\"\",\"SIN RESPUESTA\",(IF(H1444<=J1444,\"A TIEMPO\",\"FUERA DE TIEMPO\"))))","v":"A TIEMPO"},{"$f":"IF(H1444=\"\",\"\",NETWORKDAYS(C1444+1,H1444,DiasNOLaborables))","v":10},{"$f":"IF(NETWORKDAYS(J1444+1,H1444,DiasNOLaborables)<=0,\"\",NETWORKDAYS(J1444+1,H1444,DiasNOLaborables))","v":""},null,null,{"$f":"IFERROR(VLOOKUP(E1444,$X$51:$Y$64,2),\"\")","v":20}]
[1434,20219050133612,"2021-11-23","CORREO ELECTRÓNICO","SOLICITUD DE INFORMACIÓN Y DOCUMENTOS","ADMINISTRATIVA","GRUPO DE ADMINISTRACIÓN Y DESARROLLO DEL TALENTO HUMANO","2021-11-30","CORREO ELECTRÓNICO",{"$f":"IFERROR(WORKDAY(C1445,P1445,DiasNOLaborables),\"\")","v":"2021-12-22"},{"$f":"+IF(C1445=\"\",\"\",IF(H1445=\"\",\"SIN RESPUESTA\",(IF(H1445<=J1445,\"A TIEMPO\",\"FUERA DE TIEMPO\"))))","v":"A TIEMPO"},{"$f":"IF(H1445=\"\",\"\",NETWORKDAYS(C1445+1,H1445,DiasNOLaborables))","v":5},{"$f":"IF(NETWORKDAYS(J1445+1,H1445,DiasNOLaborables)<=0,\"\",NETWORKDAYS(J1445+1,H1445,DiasNOLaborables))","v":""},null,null,{"$f":"IFERROR(VLOOKUP(E1445,$X$51:$Y$64,2),\"\")","v":20}]
[1435,20219050133622,"2021-11-23","CORREO ELECTRÓNICO","SOLICITUD DE INFORMACIÓN Y DOCUMENTOS","INFORMES AMBIENTALES","SUBDIRECCIÓN DE ESTUDIOS AMBIENTALES","2021-11-26","CORREO ELECTRÓNICO",{"$f":"IFERROR(WORKDAY(C1446,P1446,DiasNOLaborables),\"\")","v":"2021-12-22"},{"$f":"+IF(C1446=\"\",\"\",IF(H1446=\"\",\"SIN RESPUESTA\",(IF(H1446<=J1446,\"A TIEMPO\",\"FUERA DE TIEMPO\"))))","v":"A TIEMPO"},{"$f":"IF(H1446=\"\",\"\",NETWORKDAYS(C1446+1,H1446,DiasNOLaborables))","v":3},{"$f":"IF(NETWORKDAYS(J1446+1,H1446,DiasNOLaborables)<=0,\"\",NETWORKDAYS(J1446+1,H1446,DiasNOLaborables))","v":""},null,null,{"$f":"IFERROR(VLOOKUP(E1446,$X$51:$Y$64,2),\"\")","v":20}]
[1436,20219050133632,"2021-11-23","CORREO ELECTRÓNICO","SOLICITUD DE INFORMACIÓN Y DOCUMENTOS","BOSQUES","SUBDIRECCIÓN DE ECOSISTEMAS E INFORMACIÓN AMBIENTAL","2021-11-25","CORREO ELECTRÓNICO",{"$f":"IFERROR(WORKDAY(C1447,P1447,DiasNOLaborables),\"\")","v":"2021-12-22"},{"$f":"+IF(C1447=\"\",\"\",IF(H1447=\"\",\"SIN RESPUESTA\",(IF(H1447<=J1447,\"A TIEMPO\",\"FUERA DE TIEMPO\"))))","v":"A TIEMPO"},{"$f":"IF(H1447=\"\",\"\",NETWORKDAYS(C1447+1,H1447,DiasNOLaborables))","v":2},{"$f":"IF(NETWORKDAYS(J1447+1,H1447,DiasNOLaborables)<=0,\"\",NETWORKDAYS(J1447+1,H1447,DiasNOLaborables))","v":""},null,null,{"$f":"IFERROR(VLOOKUP(E1447,$X$51:$Y$64,2),\"\")","v":20}]
[1437,20219050133642,"2021-11-23","CORREO ELECTRÓNICO","CERTIFICACIONES DE TIEMPO, CLIMA Y EVENTOS HIDROLÓGICOS","CERTIFICACIONES DE TIEMPO Y CLIMA","SUBDIRECCIÓN DE METEOROLOGÍA","2021-12-01","CORREO ELECTRÓNICO",{"$f":"IFERROR(WORKDAY(C1448,P1448,DiasNOLaborables),\"\")","v":"2022-01-12"},{"$f":"+IF(C1448=\"\",\"\",IF(H1448=\"\",\"SIN RESPUESTA\",(IF(H1448<=J1448,\"A TIEMPO\",\"FUERA DE TIEMPO\"))))","v":"A TIEMPO"},{"$f":"IF(H1448=\"\",\"\",NETWORKDAYS(C1448+1,H1448,DiasNOLaborables))","v":6},{"$f":"IF(NETWORKDAYS(J1448+1,H1448,DiasNOLaborables)<=0,\"\",NETWORKDAYS(J1448+1,H1448,DiasNOLaborables))","v":""},null,null,{"$f":"IFERROR(VLOOKUP(E1448,$X$51:$Y$64,2),\"\")","v":35}]
[1438,20219050133702,"2021-11-23","CORREO ELECTRÓNICO","CERTIFICACIONES DE TIEMPO, CLIMA Y EVENTOS HIDROLÓGICOS","CERTIFICACIONES DE TIEMPO Y CLIMA","SUBDIRECCIÓN DE METEOROLOGÍA","2021-11-29","CORREO ELECTRÓNICO",{"$f":"IFERROR(WORKDAY(C1449,P1449,DiasNOLaborables),\"\")","v":"2022-01-12"},{"$f":"+IF(C1449=\"\",\"\",IF(H1449=\"\",\"SIN RESPUESTA\",(IF(H1449<=J1449,\"A TIEMPO\",\"FUERA DE TIEMPO\"))))","v":"A TIEMPO"},{"$f":"IF(H1449=\"\",\"\",NETWORKDAYS(C1449+1,H1449,DiasNOLaborables))","v":4},{"$f":"IF(NETWORKDAYS(J1449+1,H1449,DiasNOLaborables)<=0,\"\",NETWORKDAYS(J1449+1,H1449,DiasNOLaborables))","v":""},null,null,{"$f":"IFERROR(VLOOKUP(E1449,$X$51:$Y$64,2),\"\")","v":35}]
[1439,20219050133722,"2021-11-23","CORREO ELECTRÓNICO","CERTIFICACIONES DE TIEMPO, CLIMA Y EVENTOS HIDROLÓGICOS","CERTIFICACIONES DE TIEMPO Y CLIMA","SUBDIRECCIÓN DE METEOROLOGÍA","2021-11-25","CORREO ELECTRÓNICO",{"$f":"IFERROR(WORKDAY(C1450,P1450,DiasNOLaborables),\"\")","v":"2022-01-12"},{"$f":"+IF(C1450=\"\",\"\",IF(H1450=\"\",\"SIN RESPUESTA\",(IF(H1450<=J1450,\"A TIEMPO\",\"FUERA DE TIEMPO\"))))","v":"A TIEMPO"},{"$f":"IF(H1450=\"\",\"\",NETWORKDAYS(C1450+1,H1450,DiasNOLaborables))","v":2},{"$f":"IF(NETWORKDAYS(J1450+1,H1450,DiasNOLaborables)<=0,\"\",NETWORKDAYS(J1450+1,H1450,DiasNOLaborables))","v":""},null,null,{"$f":"IFERROR(VLOOKUP(E1450,$X$51:$Y$64,2),\"\")","v":35}]
[1440,20219050133732,"2021-11-23","CORREO ELECTRÓNICO","SOLICITUD DE INFORMACIÓN Y DOCUMENTOS","INFORMES AMBIENTALES","SUBDIRECCIÓN DE METEOROLOGÍA","2021-12-07","CORREO ELECTRÓNICO",{"$f":"IFERROR(WORKDAY(C1451,P1451,DiasNOLaborables),\"\")","v":"2021-12-22"},{"$f":"+IF(C1451=\"\",\"\",IF(H1451=\"\",\"SIN RESPUESTA\",(IF(H1451<=J1451,\"A TIEMPO\",\"FUERA DE TIEMPO\"))))","v":"A TIEMPO"},{"$f":"IF(H1451=\"\",\"\",NETWORKDAYS(C1451+1,H1451,DiasNOLaborables))","v":10},{"$f":"IF(NETWORKDAYS(J1451+1,H1451,DiasNOLaborables)<=0,\"\",NETWORKDAYS(J1451+1,H1451,DiasNOLaborables))","v":""},null,null,{"$f":"IFERROR(VLOOKUP(E1451,$X$51:$Y$64,2),\"\")","v":20}]
[1441,20219050133742,"2021-11-23","CORREO ELECTRÓNICO","CERTIFICACIONES DE TIEMPO, CLIMA Y EVENTOS HIDROLÓGICOS","CERTIFICACIONES DE TIEMPO Y CLIMA","SUBDIRECCIÓN DE METEOROLOGÍA","2021-12-09","CORREO ELECTRÓNICO",{"$f":"IFERROR(WORKDAY(C1452,P1452,DiasNOLaborables),\"\")","v":"2022-01-12"},{"$f":"+IF(C1452=\"\",\"\",IF(H1452=\"\",\"SIN RESPUESTA\",(IF(H1452<=J1452,\"A TIEMPO\",\"FUERA DE TIEMPO\"))))","v":"A TIEMPO"},{"$f":"IF(H1452=\"\",\"\",NETWORKDAYS(C1452+1,H1452,DiasNOLaborables))","v":11},{"$f":"IF(NETWORKDAYS(J1452+1,H1452,DiasNOLaborables)<=0,\"\",NETWORKDAYS(J1452+1,H1452,DiasNOLaborables))","v":""},null,null,{"$f":"IFERROR(VLOOKUP(E1452,$X$51:$Y$64,2),\"\")","v":35}]
[1442,20219050133422,"2021-11-23","MODULO CONTACTENOS","SOLICITUD DE INFORMACIÓN Y DOCUMENTOS","ADMINISTRATIVA","GRUPO DE ADMINISTRACIÓN Y DESARROLLO DEL TALENTO HUMANO","2021-12-15","CORREO ELECTRÓNICO",{"$f":"IFERROR(WORKDAY(C1453,P1453,DiasNOLaborables),\"\")","v":"2021-12-22"},{"$f":"+IF(C1453=\"\",\"\",IF(H1453=\"\",\"SIN RESPUESTA\",(IF(H1453<=J1453,\"A TIEMPO\",\"FUERA DE TIEMPO\"))))","v":"A TIEMPO"},{"$f":"IF(H1453=\"\",\"\",NETWORKDAYS(C1453+1,H1453,DiasNOLaborables))","v":15},{"$f":"IF(NETWORKDAYS(J1453+1,H1453,DiasNOLaborables)<=0,\"\",NETWORKDAYS(J1453+1,H1453,DiasNOLaborables))","v":""},null,null,{"$f":"IFERROR(VLOOKUP(E1453,$X$51:$Y$64,2),\"\")","v":20}]
[1443,20219050133432,"2021-11-23","MODULO CONTACTENOS","SOLICITUD DE INFORMACIÓN Y DOCUMENTOS","ADMINISTRATIVA","GRUPO DE ADMINISTRACIÓN Y DESARROLLO DEL TALENTO HUMANO","2021-12-15","CORREO ELECTRÓNICO",{"$f":"IFERROR(WORKDAY(C1454,P1454,DiasNOLaborables),\"\")","v":"2021-12-22"},{"$f":"+IF(C1454=\"\",\"\",IF(H1454=\"\",\"SIN RESPUESTA\",(IF(H1454<=J1454,\"A TIEMPO\",\"FUERA DE TIEMPO\"))))","v":"A TIEMPO"},{"$f":"IF(H1454=\"\",\"\",NETWORKDAYS(C1454+1,H1454,DiasNOLaborables))","v":15},{"$f":"IF(NETWORKDAYS(J1454+1,H1454,DiasNOLaborables)<=0,\"\",NETWORKDAYS(J1454+1,H1454,DiasNOLaborables))","v":""},null,null,{"$f":"IFERROR(VLOOKUP(E1454,$X$51:$Y$64,2),\"\")","v":20}]
[1444,20219050133482,"2021-11-23","MODULO CONTACTENOS","SOLICITUD DE INFORMACIÓN Y DOCUMENTOS","ADMINISTRATIVA","GRUPO DE ADMINISTRACIÓN Y DESARROLLO DEL TALENTO HUMANO","2021-11-24","CORREO ELECTRÓNICO",{"$f":"IFERROR(WORKDAY(C1455,P1455,DiasNOLaborables),\"\")","v":"2021-12-22"},{"$f":"+IF(C1455=\"\",\"\",IF(H1455=\"\",\"SIN RESPUESTA\",(IF(H1455<=J1455,\"A TIEMPO\",\"FUERA DE TIEMPO\"))))","v":"A TIEMPO"},{"$f":"IF(H1455=\"\",\"\",NETWORKDAYS(C1455+1,H1455,DiasNOLaborables))","v":1},{"$f":"IF(NETWORKDAYS(J1455+1,H1455,DiasNOLaborables)<=0,\"\",NETWORKDAYS(J1455+1,H1455,DiasNOLaborables))","v":""},null,null,{"$f":"IFERROR(VLOOKUP(E1455,$X$51:$Y$64,2),\"\")","v":20}]
[1445,20219050133552,"2021-11-23","MODULO CONTACTENOS","CERTIFICACIONES DE TIEMPO, CLIMA Y EVENTOS HIDROLÓGICOS","CERTIFICACIONES DE TIEMPO Y CLIMA","SUBDIRECCIÓN DE METEOROLOGÍA","2021-12-01","CORREO ELECTRÓNICO",{"$f":"IFERROR(WORKDAY(C1456,P1456,DiasNOLaborables),\"\")","v":"2022-01-12"},{"$f":"+IF(C1456=\"\",\"\",IF(H1456=\"\",\"SIN RESPUESTA\",(IF(H1456<=J1456,\"A TIEMPO\",\"FUERA DE TIEMPO\"))))","v":"A TIEMPO"},{"$f":"IF(H1456=\"\",\"\",NETWORKDAYS(C1456+1,H1456,DiasNOLaborables))","v":6},{"$f":"IF(NETWORKDAYS(J1456+1,H1456,DiasNOLaborables)<=0,\"\",NETWORKDAYS(J1456+1,H1456,DiasNOLaborables))","v":""},null,null,{"$f":"IFERROR(VLOOKUP(E1456,$X$51:$Y$64,2),\"\")","v":35}]
[1446,20219050133662,"2021-11-23","MODULO CONTACTENOS","SOLICITUD DE INFORMACIÓN Y DOCUMENTOS","ADMINISTRATIVA","OFICINA ASESORA JURÍDICA","2021-11-29","CORREO ELECTRÓNICO",{"$f":"IFERROR(WORKDAY(C1457,P1457,DiasNOLaborables),\"\")","v":"2021-12-22"},{"$f":"+IF(C1457=\"\",\"\",IF(H1457=\"\",\"SIN RESPUESTA\",(IF(H1457<=J1457,\"A TIEMPO\",\"FUERA DE TIEMPO\"))))","v":"A TIEMPO"},{"$f":"IF(H1457=\"\",\"\",NETWORKDAYS(C1457+1,H1457,DiasNOLaborables))","v":4},{"$f":"IF(NETWORKDAYS(J1457+1,H1457,DiasNOLaborables)<=0,\"\",NETWORKDAYS(J1457+1,H1457,DiasNOLaborables))","v":""},null,null,{"$f":"IFERROR(VLOOKUP(E1457,$X$51:$Y$64,2),\"\")","v":20}]
[1447,20219050133672,"2021-11-23","MODULO CONTACTENOS","SOLICITUD DE INFORMACIÓN Y DOCUMENTOS","ADMINISTRATIVA","OFICINA ASESORA JURÍDICA","2021-11-29","CORREO ELECTRÓNICO",{"$f":"IFERROR(WORKDAY(C1458,P1458,DiasNOLaborables),\"\")","v":"2021-12-22"},{"$f":"+IF(C1458=\"\",\"\",IF(H1458=\"\",\"SIN RESPUESTA\",(IF(H1458<=J1458,\"A TIEMPO\",\"FUERA DE TIEMPO\"))))","v":"A TIEMPO"},{"$f":"IF(H1458=\"\",\"\",NETWORKDAYS(C1458+1,H1458,DiasNOLaborables))","v":4},{"$f":"IF(NETWORKDAYS(J1458+1,H1458,DiasNOLaborables)<=0,\"\",NETWORKDAYS(J1458+1,H1458,DiasNOLaborables))","v":""},null,null,{"$f":"IFERROR(VLOOKUP(E1458,$X$51:$Y$64,2),\"\")","v":20}]
[1448,20219050133682,"2021-11-23","MODULO CONTACTENOS","SOLICITUD DE INFORMACIÓN Y DOCUMENTOS","ADMINISTRATIVA","OFICINA ASESORA JURÍDICA","2021-11-29","CORREO ELECTRÓNICO",{"$f":"IFERROR(WORKDAY(C1459,P1459,DiasNOLaborables),\"\")","v":"2021-12-22"},{"$f":"+IF(C1459=\"\",\"\",IF(H1459=\"\",\"SIN RESPUESTA\",(IF(H1459<=J1459,\"A TIEMPO\",\"FUERA DE TIEMPO\"))))","v":"A TIEMPO"},{"$f":"IF(H1459=\"\",\"\",NETWORKDAYS(C1459+1,H1459,DiasNOLaborables))","v":4},{"$f":"IF(NETWORKDAYS(J1459+1,H1459,DiasNOLaborables)<=0,\"\",NETWORKDAYS(J1459+1,H1459,DiasNOLaborables))","v":""},null,null,{"$f":"IFERROR(VLOOKUP(E1459,$X$51:$Y$64,2),\"\")","v":20}]
[1449,20219050133572,"2021-11-23","MODULO CONTACTENOS","SOLICITUD DE INFORMACIÓN Y DOCUMENTOS","SOLICITUD DE INFORMACIÓN HIDROMETEOROLÓGICA","GRUPO DE SERVICIO AL CIUDADANO ","2021-11-24","CORREO ELECTRÓNICO",{"$f":"IFERROR(WORKDAY(C1460,P1460,DiasNOLaborables),\"\")","v":"2021-12-22"},{"$f":"+IF(C1460=\"\",\"\",IF(H1460=\"\",\"SIN RESPUESTA\",(IF(H1460<=J1460,\"A TIEMPO\",\"FUERA DE TIEMPO\"))))","v":"A TIEMPO"},{"$f":"IF(H1460=\"\",\"\",NETWORKDAYS(C1460+1,H1460,DiasNOLaborables))","v":1},{"$f":"IF(NETWORKDAYS(J1460+1,H1460,DiasNOLaborables)<=0,\"\",NETWORKDAYS(J1460+1,H1460,DiasNOLaborables))","v":""},null,null,{"$f":"IFERROR(VLOOKUP(E1460,$X$51:$Y$64,2),\"\")","v":20}]
[1450,20219050133582,"2021-11-23","MODULO CONTACTENOS","SOLICITUD DE INFORMACIÓN Y DOCUMENTOS","SOLICITUD DE INFORMACIÓN HIDROMETEOROLÓGICA","GRUPO DE SERVICIO AL CIUDADANO ","2021-11-24","CORREO ELECTRÓNICO",{"$f":"IFERROR(WORKDAY(C1461,P1461,DiasNOLaborables),\"\")","v":"2021-12-22"},{"$f":"+IF(C1461=\"\",\"\",IF(H1461=\"\",\"SIN RESPUESTA\",(IF(H1461<=J1461,\"A TIEMPO\",\"FUERA DE TIEMPO\"))))","v":"A TIEMPO"},{"$f":"IF(H1461=\"\",\"\",NETWORKDAYS(C1461+1,H1461,DiasNOLaborables))","v":1},{"$f":"IF(NETWORKDAYS(J1461+1,H1461,DiasNOLaborables)<=0,\"\",NETWORKDAYS(J1461+1,H1461,DiasNOLaborables))","v":""},null,null,{"$f":"IFERROR(VLOOKUP(E1461,$X$51:$Y$64,2),\"\")","v":20}]
[1451,20219050133652,"2021-11-23","MODULO CONTACTENOS","SOLICITUD DE INFORMACIÓN Y DOCUMENTOS","SOLICITUD DE INFORMACIÓN HIDROMETEOROLÓGICA","GRUPO DE SERVICIO AL CIUDADANO ","2021-11-24","CORREO ELECTRÓNICO",{"$f":"IFERROR(WORKDAY(C1462,P1462,DiasNOLaborables),\"\")","v":"2021-12-22"},{"$f":"+IF(C1462=\"\",\"\",IF(H1462=\"\",\"SIN RESPUESTA\",(IF(H1462<=J1462,\"A TIEMPO\",\"FUERA DE TIEMPO\"))))","v":"A TIEMPO"},{"$f":"IF(H1462=\"\",\"\",NETWORKDAYS(C1462+1,H1462,DiasNOLaborables))","v":1},{"$f":"IF(NETWORKDAYS(J1462+1,H1462,DiasNOLaborables)<=0,\"\",NETWORKDAYS(J1462+1,H1462,DiasNOLaborables))","v":""},null,null,{"$f":"IFERROR(VLOOKUP(E1462,$X$51:$Y$64,2),\"\")","v":20}]
[1452,20219050133712,"2021-11-23","MODULO CONTACTENOS","SOLICITUD DE INFORMACIÓN Y DOCUMENTOS","SOLICITUD DE INFORMACIÓN HIDROMETEOROLÓGICA","AREA OPERATIVA No. 3","2021-11-24","CORREO ELECTRÓNICO",{"$f":"IFERROR(WORKDAY(C1463,P1463,DiasNOLaborables),\"\")","v":"2021-12-22"},{"$f":"+IF(C1463=\"\",\"\",IF(H1463=\"\",\"SIN RESPUESTA\",(IF(H1463<=J1463,\"A TIEMPO\",\"FUERA DE TIEMPO\"))))","v":"A TIEMPO"},{"$f":"IF(H1463=\"\",\"\",NETWORKDAYS(C1463+1,H1463,DiasNOLaborables))","v":1},{"$f":"IF(NETWORKDAYS(J1463+1,H1463,DiasNOLaborables)<=0,\"\",NETWORKDAYS(J1463+1,H1463,DiasNOLaborables))","v":""},null,null,{"$f":"IFERROR(VLOOKUP(E1463,$X$51:$Y$64,2),\"\")","v":20}]
[1453,20219050133752,"2021-11-23","MODULO CONTACTENOS","SOLICITUD DE INFORMACIÓN Y DOCUMENTOS","SOLICITUD DE INFORMACIÓN HIDROMETEOROLÓGICA","GRUPO DE SERVICIO AL CIUDADANO ","2021-11-24","CORREO ELECTRÓNICO",{"$f":"IFERROR(WORKDAY(C1464,P1464,DiasNOLaborables),\"\")","v":"2021-12-22"},{"$f":"+IF(C1464=\"\",\"\",IF(H1464=\"\",\"SIN RESPUESTA\",(IF(H1464<=J1464,\"A TIEMPO\",\"FUERA DE TIEMPO\"))))","v":"A TIEMPO"},{"$f":"IF(H1464=\"\",\"\",NETWORKDAYS(C1464+1,H1464,DiasNOLaborables))","v":1},{"$f":"IF(NETWORKDAYS(J1464+1,H1464,DiasNOLaborables)<=0,\"\",NETWORKDAYS(J1464+1,H1464,DiasNOLaborables))","v":""},null,null,{"$f":"IFERROR(VLOOKUP(E1464,$X$51:$Y$64,2),\"\")","v":20}]
[1454,20219050133762,"2021-11-23","MODULO CONTACTENOS","SOLICITUD DE INFORMACIÓN Y DOCUMENTOS","SOLICITUD DE INFORMACIÓN HIDROMETEOROLÓGICA","GRUPO DE SERVICIO AL CIUDADANO ","2021-11-24","CORREO ELECTRÓNICO",{"$f":"IFERROR(WORKDAY(C1465,P1465,DiasNOLaborables),\"\")","v":"2021-12-22"},{"$f":"+IF(C1465=\"\",\"\",IF(H1465=\"\",\"SIN RESPUESTA\",(IF(H1465<=J1465,\"A TIEMPO\",\"FUERA DE TIEMPO\"))))","v":"A TIEMPO"},{"$f":"IF(H1465=\"\",\"\",NETWORKDAYS(C1465+1,H1465,DiasNOLaborables))","v":1},{"$f":"IF(NETWORKDAYS(J1465+1,H1465,DiasNOLaborables)<=0,\"\",NETWORKDAYS(J1465+1,H1465,DiasNOLaborables))","v":""},null,null,{"$f":"IFERROR(VLOOKUP(E1465,$X$51:$Y$64,2),\"\")","v":20}]
[1455,20219050133792,"2021-11-23","MODULO CONTACTENOS","SOLICITUD DE INFORMACIÓN Y DOCUMENTOS","SOLICITUD DE INFORMACIÓN HIDROMETEOROLÓGICA","GRUPO DE SERVICIO AL CIUDADANO ","2021-11-24","CORREO ELECTRÓNICO",{"$f":"IFERROR(WORKDAY(C1466,P1466,DiasNOLaborables),\"\")","v":"2021-12-22"},{"$f":"+IF(C1466=\"\",\"\",IF(H1466=\"\",\"SIN RESPUESTA\",(IF(H1466<=J1466,\"A TIEMPO\",\"FUERA DE TIEMPO\"))))","v":"A TIEMPO"},{"$f":"IF(H1466=\"\",\"\",NETWORKDAYS(C1466+1,H1466,DiasNOLaborables))","v":1},{"$f":"IF(NETWORKDAYS(J1466+1,H1466,DiasNOLaborables)<=0,\"\",NETWORKDAYS(J1466+1,H1466,DiasNOLaborables))","v":""},null,null,{"$f":"IFERROR(VLOOKUP(E1466,$X$51:$Y$64,2),\"\")","v":20}]
[1456,20219050133812,"2021-11-24","CORREO ELECTRÓNICO","SOLICITUD DE INFORMACIÓN Y DOCUMENTOS","SOLICITUD DE INFORMACIÓN HIDROMETEOROLÓGICA","GRUPO DE SERVICIO AL CIUDADANO ","2021-11-25","CORREO ELECTRÓNICO",{"$f":"IFERROR(WORKDAY(C1467,P1467,DiasNOLaborables),\"\")","v":"2021-12-23"},{"$f":"+IF(C1467=\"\",\"\",IF(H1467=\"\",\"SIN RESPUESTA\",(IF(H1467<=J1467,\"A TIEMPO\",\"FUERA DE TIEMPO\"))))","v":"A TIEMPO"},{"$f":"IF(H1467=\"\",\"\",NETWORKDAYS(C1467+1,H1467,DiasNOLaborables))","v":1},{"$f":"IF(NETWORKDAYS(J1467+1,H1467,DiasNOLaborables)<=0,\"\",NETWORKDAYS(J1467+1,H1467,DiasNOLaborables))","v":""},null,null,{"$f":"IFERROR(VLOOKUP(E1467,$X$51:$Y$64,2),\"\")","v":20}]
[1457,20219050133872,"2021-11-24","CORREO ELECTRÓNICO","SOLICITUD DE INFORMACIÓN Y DOCUMENTOS","SOLICITUD DE INFORMACIÓN HIDROMETEOROLÓGICA","GRUPO DE SERVICIO AL CIUDADANO ","2021-11-25","CORREO ELECTRÓNICO",{"$f":"IFERROR(WORKDAY(C1468,P1468,DiasNOLaborables),\"\")","v":"2021-12-23"},{"$f":"+IF(C1468=\"\",\"\",IF(H1468=\"\",\"SIN RESPUESTA\",(IF(H1468<=J1468,\"A TIEMPO\",\"FUERA DE TIEMPO\"))))","v":"A TIEMPO"},{"$f":"IF(H1468=\"\",\"\",NETWORKDAYS(C1468+1,H1468,DiasNOLaborables))","v":1},{"$f":"IF(NETWORKDAYS(J1468+1,H1468,DiasNOLaborables)<=0,\"\",NETWORKDAYS(J1468+1,H1468,DiasNOLaborables))","v":""},null,null,{"$f":"IFERROR(VLOOKUP(E1468,$X$51:$Y$64,2),\"\")","v":20}]
[1458,20219050133882,"2021-11-24","MODULO CONTACTENOS","SOLICITUD DE INFORMACIÓN Y DOCUMENTOS","SOLICITUD DE INFORMACIÓN HIDROMETEOROLÓGICA","GRUPO DE SERVICIO AL CIUDADANO ","2021-11-25","CORREO ELECTRÓNICO",{"$f":"IFERROR(WORKDAY(C1469,P1469,DiasNOLaborables),\"\")","v":"2021-12-23"},{"$f":"+IF(C1469=\"\",\"\",IF(H1469=\"\",\"SIN RESPUESTA\",(IF(H1469<=J1469,\"A TIEMPO\",\"FUERA DE TIEMPO\"))))","v":"A TIEMPO"},{"$f":"IF(H1469=\"\",\"\",NETWORKDAYS(C1469+1,H1469,DiasNOLaborables))","v":1},{"$f":"IF(NETWORKDAYS(J1469+1,H1469,DiasNOLaborables)<=0,\"\",NETWORKDAYS(J1469+1,H1469,DiasNOLaborables))","v":""},null,null,{"$f":"IFERROR(VLOOKUP(E1469,$X$51:$Y$64,2),\"\")","v":20}]
[1459,20219050133922,"2021-11-24","MODULO CONTACTENOS","SOLICITUD DE INFORMACIÓN Y DOCUMENTOS","SOLICITUD DE INFORMACIÓN HIDROMETEOROLÓGICA","GRUPO DE SERVICIO AL CIUDADANO ","2021-11-25","CORREO ELECTRÓNICO",{"$f":"IFERROR(WORKDAY(C1470,P1470,DiasNOLaborables),\"\")","v":"2021-12-23"},{"$f":"+IF(C1470=\"\",\"\",IF(H1470=\"\",\"SIN RESPUESTA\",(IF(H1470<=J1470,\"A TIEMPO\",\"FUERA DE TIEMPO\"))))","v":"A TIEMPO"},{"$f":"IF(H1470=\"\",\"\",NETWORKDAYS(C1470+1,H1470,DiasNOLaborables))","v":1},{"$f":"IF(NETWORKDAYS(J1470+1,H1470,DiasNOLaborables)<=0,\"\",NETWORKDAYS(J1470+1,H1470,DiasNOLaborables))","v":""},null,null,{"$f":"IFERROR(VLOOKUP(E1470,$X$51:$Y$64,2),\"\")","v":20}]
[1460,20219050133952,"2021-11-24","MODULO CONTACTENOS","SOLICITUD DE INFORMACIÓN Y DOCUMENTOS","SOLICITUD DE INFORMACIÓN HIDROMETEOROLÓGICA","GRUPO DE SERVICIO AL CIUDADANO ","2021-11-25","CORREO ELECTRÓNICO",{"$f":"IFERROR(WORKDAY(C1471,P1471,DiasNOLaborables),\"\")","v":"2021-12-23"},{"$f":"+IF(C1471=\"\",\"\",IF(H1471=\"\",\"SIN RESPUESTA\",(IF(H1471<=J1471,\"A TIEMPO\",\"FUERA DE TIEMPO\"))))","v":"A TIEMPO"},{"$f":"IF(H1471=\"\",\"\",NETWORKDAYS(C1471+1,H1471,DiasNOLaborables))","v":1},{"$f":"IF(NETWORKDAYS(J1471+1,H1471,DiasNOLaborables)<=0,\"\",NETWORKDAYS(J1471+1,H1471,DiasNOLaborables))","v":""},null,null,{"$f":"IFERROR(VLOOKUP(E1471,$X$51:$Y$64,2),\"\")","v":20}]
[1461,20219050133982,"2021-11-24","MODULO CONTACTENOS","SOLICITUD DE INFORMACIÓN Y DOCUMENTOS","SOLICITUD DE INFORMACIÓN HIDROMETEOROLÓGICA","GRUPO DE SERVICIO AL CIUDADANO ","2021-11-25","CORREO ELECTRÓNICO",{"$f":"IFERROR(WORKDAY(C1472,P1472,DiasNOLaborables),\"\")","v":"2021-12-23"},{"$f":"+IF(C1472=\"\",\"\",IF(H1472=\"\",\"SIN RESPUESTA\",(IF(H1472<=J1472,\"A TIEMPO\",\"FUERA DE TIEMPO\"))))","v":"A TIEMPO"},{"$f":"IF(H1472=\"\",\"\",NETWORKDAYS(C1472+1,H1472,DiasNOLaborables))","v":1},{"$f":"IF(NETWORKDAYS(J1472+1,H1472,DiasNOLaborables)<=0,\"\",NETWORKDAYS(J1472+1,H1472,DiasNOLaborables))","v":""},null,null,{"$f":"IFERROR(VLOOKUP(E1472,$X$51:$Y$64,2),\"\")","v":20}]
[1462,20219050133992,"2021-11-24","MODULO CONTACTENOS","SOLICITUD DE INFORMACIÓN Y DOCUMENTOS","SOLICITUD DE INFORMACIÓN HIDROMETEOROLÓGICA","GRUPO DE SERVICIO AL CIUDADANO ","2021-11-25","CORREO ELECTRÓNICO",{"$f":"IFERROR(WORKDAY(C1473,P1473,DiasNOLaborables),\"\")","v":"2021-12-23"},{"$f":"+IF(C1473=\"\",\"\",IF(H1473=\"\",\"SIN RESPUESTA\",(IF(H1473<=J1473,\"A TIEMPO\",\"FUERA DE TIEMPO\"))))","v":"A TIEMPO"},{"$f":"IF(H1473=\"\",\"\",NETWORKDAYS(C1473+1,H1473,DiasNOLaborables))","v":1},{"$f":"IF(NETWORKDAYS(J1473+1,H1473,DiasNOLaborables)<=0,\"\",NETWORKDAYS(J1473+1,H1473,DiasNOLaborables))","v":""},null,null,{"$f":"IFERROR(VLOOKUP(E1473,$X$51:$Y$64,2),\"\")","v":20}]
[1463,20219050134052,"2021-11-24","CORREO ELECTRÓNICO","SOLICITUD DE INFORMACIÓN Y DOCUMENTOS","SOLICITUD DE INFORMACIÓN HIDROMETEOROLÓGICA","GRUPO DE SERVICIO AL CIUDADANO ","2021-11-25","CORREO ELECTRÓNICO",{"$f":"IFERROR(WORKDAY(C1474,P1474,DiasNOLaborables),\"\")","v":"2021-12-23"},{"$f":"+IF(C1474=\"\",\"\",IF(H1474=\"\",\"SIN RESPUESTA\",(IF(H1474<=J1474,\"A TIEMPO\",\"FUERA DE TIEMPO\"))))","v":"A TIEMPO"},{"$f":"IF(H1474=\"\",\"\",NETWORKDAYS(C1474+1,H1474,DiasNOLaborables))","v":1},{"$f":"IF(NETWORKDAYS(J1474+1,H1474,DiasNOLaborables)<=0,\"\",NETWORKDAYS(J1474+1,H1474,DiasNOLaborables))","v":""},null,null,{"$f":"IFERROR(VLOOKUP(E1474,$X$51:$Y$64,2),\"\")","v":20}]
[1464,20219050134092,"2021-11-24","MODULO CONTACTENOS","SOLICITUD DE INFORMACIÓN Y DOCUMENTOS","SOLICITUD DE INFORMACIÓN HIDROMETEOROLÓGICA","GRUPO DE SERVICIO AL CIUDADANO ","2021-11-25","CORREO ELECTRÓNICO",{"$f":"IFERROR(WORKDAY(C1475,P1475,DiasNOLaborables),\"\")","v":"2021-12-23"},{"$f":"+IF(C1475=\"\",\"\",IF(H1475=\"\",\"SIN RESPUESTA\",(IF(H1475<=J1475,\"A TIEMPO\",\"FUERA DE TIEMPO\"))))","v":"A TIEMPO"},{"$f":"IF(H1475=\"\",\"\",NETWORKDAYS(C1475+1,H1475,DiasNOLaborables))","v":1},{"$f":"IF(NETWORKDAYS(J1475+1,H1475,DiasNOLaborables)<=0,\"\",NETWORKDAYS(J1475+1,H1475,DiasNOLaborables))","v":""},null,null,{"$f":"IFERROR(VLOOKUP(E1475,$X$51:$Y$64,2),\"\")","v":20}]
[1465,20219050134122,"2021-11-24","MODULO CONTACTENOS","SOLICITUD DE INFORMACIÓN Y DOCUMENTOS","SOLICITUD DE INFORMACIÓN HIDROMETEOROLÓGICA","GRUPO DE SERVICIO AL CIUDADANO ","2021-11-26","CORREO ELECTRÓNICO",{"$f":"IFERROR(WORKDAY(C1476,P1476,DiasNOLaborables),\"\")","v":"2021-12-23"},{"$f":"+IF(C1476=\"\",\"\",IF(H1476=\"\",\"SIN RESPUESTA\",(IF(H1476<=J1476,\"A TIEMPO\",\"FUERA DE TIEMPO\"))))","v":"A TIEMPO"},{"$f":"IF(H1476=\"\",\"\",NETWORKDAYS(C1476+1,H1476,DiasNOLaborables))","v":2},{"$f":"IF(NETWORKDAYS(J1476+1,H1476,DiasNOLaborables)<=0,\"\",NETWORKDAYS(J1476+1,H1476,DiasNOLaborables))","v":""},null,null,{"$f":"IFERROR(VLOOKUP(E1476,$X$51:$Y$64,2),\"\")","v":20}]
[1466,20219050134142,"2021-11-24","MODULO CONTACTENOS","SOLICITUD DE INFORMACIÓN Y DOCUMENTOS","SOLICITUD DE INFORMACIÓN HIDROMETEOROLÓGICA","GRUPO DE SERVICIO AL CIUDADANO ","2021-11-26","CORREO ELECTRÓNICO",{"$f":"IFERROR(WORKDAY(C1477,P1477,DiasNOLaborables),\"\")","v":"2021-12-23"},{"$f":"+IF(C1477=\"\",\"\",IF(H1477=\"\",\"SIN RESPUESTA\",(IF(H1477<=J1477,\"A TIEMPO\",\"FUERA DE TIEMPO\"))))","v":"A TIEMPO"},{"$f":"IF(H1477=\"\",\"\",NETWORKDAYS(C1477+1,H1477,DiasNOLaborables))","v":2},{"$f":"IF(NETWORKDAYS(J1477+1,H1477,DiasNOLaborables)<=0,\"\",NETWORKDAYS(J1477+1,H1477,DiasNOLaborables))","v":""},null,null,{"$f":"IFERROR(VLOOKUP(E1477,$X$51:$Y$64,2),\"\")","v":20}]
[1467,20219050134182,"2021-11-24","MODULO CONTACTENOS","SOLICITUD DE INFORMACIÓN Y DOCUMENTOS","SOLICITUD DE INFORMACIÓN HIDROMETEOROLÓGICA","GRUPO DE SERVICIO AL CIUDADANO ","2021-11-26","CORREO ELECTRÓNICO",{"$f":"IFERROR(WORKDAY(C1478,P1478,DiasNOLaborables),\"\")","v":"2021-12-23"},{"$f":"+IF(C1478=\"\",\"\",IF(H1478=\"\",\"SIN RESPUESTA\",(IF(H1478<=J1478,\"A TIEMPO\",\"FUERA DE TIEMPO\"))))","v":"A TIEMPO"},{"$f":"IF(H1478=\"\",\"\",NETWORKDAYS(C1478+1,H1478,DiasNOLaborables))","v":2},{"$f":"IF(NETWORKDAYS(J1478+1,H1478,DiasNOLaborables)<=0,\"\",NETWORKDAYS(J1478+1,H1478,DiasNOLaborables))","v":""},null,null,{"$f":"IFERROR(VLOOKUP(E1478,$X$51:$Y$64,2),\"\")","v":20}]
[1468,20219050134192,"2021-11-24","MODULO CONTACTENOS","SOLICITUD DE INFORMACIÓN Y DOCUMENTOS","SOLICITUD DE INFORMACIÓN HIDROMETEOROLÓGICA","GRUPO DE SERVICIO AL CIUDADANO ","2021-11-26","CORREO ELECTRÓNICO",{"$f":"IFERROR(WORKDAY(C1479,P1479,DiasNOLaborables),\"\")","v":"2021-12-23"},{"$f":"+IF(C1479=\"\",\"\",IF(H1479=\"\",\"SIN RESPUESTA\",(IF(H1479<=J1479,\"A TIEMPO\",\"FUERA DE TIEMPO\"))))","v":"A TIEMPO"},{"$f":"IF(H1479=\"\",\"\",NETWORKDAYS(C1479+1,H1479,DiasNOLaborables))","v":2},{"$f":"IF(NETWORKDAYS(J1479+1,H1479,DiasNOLaborables)<=0,\"\",NETWORKDAYS(J1479+1,H1479,DiasNOLaborables))","v":""},null,null,{"$f":"IFERROR(VLOOKUP(E1479,$X$51:$Y$64,2),\"\")","v":20}]
[1469,20219050134202,"2021-11-24","MODULO CONTACTENOS","SOLICITUD DE INFORMACIÓN Y DOCUMENTOS","SOLICITUD DE INFORMACIÓN HIDROMETEOROLÓGICA","GRUPO DE SERVICIO AL CIUDADANO ","2021-11-26","CORREO ELECTRÓNICO",{"$f":"IFERROR(WORKDAY(C1480,P1480,DiasNOLaborables),\"\")","v":"2021-12-23"},{"$f":"+IF(C1480=\"\",\"\",IF(H1480=\"\",\"SIN RESPUESTA\",(IF(H1480<=J1480,\"A TIEMPO\",\"FUERA DE TIEMPO\"))))","v":"A TIEMPO"},{"$f":"IF(H1480=\"\",\"\",NETWORKDAYS(C1480+1,H1480,DiasNOLaborables))","v":2},{"$f":"IF(NETWORKDAYS(J1480+1,H1480,DiasNOLaborables)<=0,\"\",NETWORKDAYS(J1480+1,H1480,DiasNOLaborables))","v":""},null,null,{"$f":"IFERROR(VLOOKUP(E1480,$X$51:$Y$64,2),\"\")","v":20}]
[1470,20219050134242,"2021-11-24","MODULO CONTACTENOS","SOLICITUD DE INFORMACIÓN Y DOCUMENTOS","SOLICITUD DE INFORMACIÓN HIDROMETEOROLÓGICA","GRUPO DE SERVICIO AL CIUDADANO ","2021-11-26","CORREO ELECTRÓNICO",{"$f":"IFERROR(WORKDAY(C1481,P1481,DiasNOLaborables),\"\")","v":"2021-12-23"},{"$f":"+IF(C1481=\"\",\"\",IF(H1481=\"\",\"SIN RESPUESTA\",(IF(H1481<=J1481,\"A TIEMPO\",\"FUERA DE TIEMPO\"))))","v":"A TIEMPO"},{"$f":"IF(H1481=\"\",\"\",NETWORKDAYS(C1481+1,H1481,DiasNOLaborables))","v":2},{"$f":"IF(NETWORKDAYS(J1481+1,H1481,DiasNOLaborables)<=0,\"\",NETWORKDAYS(J1481+1,H1481,DiasNOLaborables))","v":""},null,null,{"$f":"IFERROR(VLOOKUP(E1481,$X$51:$Y$64,2),\"\")","v":20}]
[1471,20219050134252,"2021-11-24","MODULO CONTACTENOS","SOLICITUD DE INFORMACIÓN Y DOCUMENTOS","SOLICITUD DE INFORMACIÓN HIDROMETEOROLÓGICA","GRUPO DE SERVICIO AL CIUDADANO ","2021-11-26","CORREO ELECTRÓNICO",{"$f":"IFERROR(WORKDAY(C1482,P1482,DiasNOLaborables),\"\")","v":"2021-12-23"},{"$f":"+IF(C1482=\"\",\"\",IF(H1482=\"\",\"SIN RESPUESTA\",(IF(H1482<=J1482,\"A TIEMPO\",\"FUERA DE TIEMPO\"))))","v":"A TIEMPO"},{"$f":"IF(H1482=\"\",\"\",NETWORKDAYS(C1482+1,H1482,DiasNOLaborables))","v":2},{"$f":"IF(NETWORKDAYS(J1482+1,H1482,DiasNOLaborables)<=0,\"\",NETWORKDAYS(J1482+1,H1482,DiasNOLaborables))","v":""},null,null,{"$f":"IFERROR(VLOOKUP(E1482,$X$51:$Y$64,2),\"\")","v":20}]
[1472,20219050133912,"2021-11-24","MODULO CONTACTENOS","SOLICITUD DE INFORMACIÓN Y DOCUMENTOS","ADMINISTRATIVA","OFICINA ASESORA JURÍDICA","2021-11-29","CORREO ELECTRÓNICO",{"$f":"IFERROR(WORKDAY(C1483,P1483,DiasNOLaborables),\"\")","v":"2021-12-23"},{"$f":"+IF(C1483=\"\",\"\",IF(H1483=\"\",\"SIN RESPUESTA\",(IF(H1483<=J1483,\"A TIEMPO\",\"FUERA DE TIEMPO\"))))","v":"A TIEMPO"},{"$f":"IF(H1483=\"\",\"\",NETWORKDAYS(C1483+1,H1483,DiasNOLaborables))","v":3},{"$f":"IF(NETWORKDAYS(J1483+1,H1483,DiasNOLaborables)<=0,\"\",NETWORKDAYS(J1483+1,H1483,DiasNOLaborables))","v":""},null,null,{"$f":"IFERROR(VLOOKUP(E1483,$X$51:$Y$64,2),\"\")","v":20}]
[1473,20219050133942,"2021-11-24","MODULO CONTACTENOS","CERTIFICACIONES DE TIEMPO, CLIMA Y EVENTOS HIDROLÓGICOS","CERTIFICACIONES DE TIEMPO Y CLIMA","SUBDIRECCIÓN DE METEOROLOGÍA","2021-11-29","CORREO ELECTRÓNICO",{"$f":"IFERROR(WORKDAY(C1484,P1484,DiasNOLaborables),\"\")","v":"2022-01-13"},{"$f":"+IF(C1484=\"\",\"\",IF(H1484=\"\",\"SIN RESPUESTA\",(IF(H1484<=J1484,\"A TIEMPO\",\"FUERA DE TIEMPO\"))))","v":"A TIEMPO"},{"$f":"IF(H1484=\"\",\"\",NETWORKDAYS(C1484+1,H1484,DiasNOLaborables))","v":3},{"$f":"IF(NETWORKDAYS(J1484+1,H1484,DiasNOLaborables)<=0,\"\",NETWORKDAYS(J1484+1,H1484,DiasNOLaborables))","v":""},null,null,{"$f":"IFERROR(VLOOKUP(E1484,$X$51:$Y$64,2),\"\")","v":35}]
[1474,20219050133962,"2021-11-24","MODULO CONTACTENOS","SOLICITUD DE INFORMACIÓN Y DOCUMENTOS","ADMINISTRATIVA","GRUPO DE ADMINISTRACIÓN Y DESARROLLO DEL TALENTO HUMANO","2021-11-30","CORREO ELECTRÓNICO",{"$f":"IFERROR(WORKDAY(C1485,P1485,DiasNOLaborables),\"\")","v":"2021-12-23"},{"$f":"+IF(C1485=\"\",\"\",IF(H1485=\"\",\"SIN RESPUESTA\",(IF(H1485<=J1485,\"A TIEMPO\",\"FUERA DE TIEMPO\"))))","v":"A TIEMPO"},{"$f":"IF(H1485=\"\",\"\",NETWORKDAYS(C1485+1,H1485,DiasNOLaborables))","v":4},{"$f":"IF(NETWORKDAYS(J1485+1,H1485,DiasNOLaborables)<=0,\"\",NETWORKDAYS(J1485+1,H1485,DiasNOLaborables))","v":""},null,null,{"$f":"IFERROR(VLOOKUP(E1485,$X$51:$Y$64,2),\"\")","v":20}]
[{"$f":"IF(B1486<>\"\",A1485+1,\"\")","v":1475},20219050134162,"2021-11-24","MODULO CONTACTENOS","SOLICITUD DE INFORMACIÓN Y DOCUMENTOS","REGISTROS AMBIENTALES","SUBDIRECCIÓN DE ESTUDIOS AMBIENTALES","2021-11-29","CORREO ELECTRÓNICO",{"$f":"IFERROR(WORKDAY(C1486,P1486,DiasNOLaborables),\"\")","v":"2021-12-23"},{"$f":"+IF(C1486=\"\",\"\",IF(H1486=\"\",\"SIN RESPUESTA\",(IF(H1486<=J1486,\"A TIEMPO\",\"FUERA DE TIEMPO\"))))","v":"A TIEMPO"},{"$f":"IF(H1486=\"\",\"\",NETWORKDAYS(C1486+1,H1486,DiasNOLaborables))","v":3},{"$f":"IF(NETWORKDAYS(J1486+1,H1486,DiasNOLaborables)<=0,\"\",NETWORKDAYS(J1486+1,H1486,DiasNOLaborables))","v":""},null,null,{"$f":"IFERROR(VLOOKUP(E1486,$X$51:$Y$64,2),\"\")","v":20}]
[1476,20219050133802,"2021-11-24","CORREO ELECTRÓNICO","SOLICITUD DE INFORMACIÓN Y DOCUMENTOS","ADMINISTRATIVA","GRUPO DE ADMINISTRACIÓN Y DESARROLLO DEL TALENTO HUMANO","2021-11-25","CORREO ELECTRÓNICO",{"$f":"IFERROR(WORKDAY(C1487,P1487,DiasNOLaborables),\"\")","v":"2021-12-23"},{"$f":"+IF(C1487=\"\",\"\",IF(H1487=\"\",\"SIN RESPUESTA\",(IF(H1487<=J1487,\"A TIEMPO\",\"FUERA DE TIEMPO\"))))","v":"A TIEMPO"},{"$f":"IF(H1487=\"\",\"\",NETWORKDAYS(C1487+1,H1487,DiasNOLaborables))","v":1},{"$f":"IF(NETWORKDAYS(J1487+1,H1487,DiasNOLaborables)<=0,\"\",NETWORKDAYS(J1487+1,H1487,DiasNOLaborables))","v":""},null,null,{"$f":"IFERROR(VLOOKUP(E1487,$X$51:$Y$64,2),\"\")","v":20}]
[1477,20219050133832,"2021-11-24","CORREO ELECTRÓNICO","SOLICITUD DE INFORMACIÓN Y DOCUMENTOS","ADMINISTRATIVA","GRUPO DE ADMINISTRACIÓN Y DESARROLLO DEL TALENTO HUMANO","2021-11-25","CORREO ELECTRÓNICO",{"$f":"IFERROR(WORKDAY(C1488,P1488,DiasNOLaborables),\"\")","v":"2021-12-23"},{"$f":"+IF(C1488=\"\",\"\",IF(H1488=\"\",\"SIN RESPUESTA\",(IF(H1488<=J1488,\"A TIEMPO\",\"FUERA DE TIEMPO\"))))","v":"A TIEMPO"},{"$f":"IF(H1488=\"\",\"\",NETWORKDAYS(C1488+1,H1488,DiasNOLaborables))","v":1},{"$f":"IF(NETWORKDAYS(J1488+1,H1488,DiasNOLaborables)<=0,\"\",NETWORKDAYS(J1488+1,H1488,DiasNOLaborables))","v":""},null,null,{"$f":"IFERROR(VLOOKUP(E1488,$X$51:$Y$64,2),\"\")","v":20}]
[1478,20219050133842,"2021-11-24","CORREO ELECTRÓNICO","SOLICITUD DE INFORMACIÓN Y DOCUMENTOS","ADMINISTRATIVA","GRUPO DE ADMINISTRACIÓN Y DESARROLLO DEL TALENTO HUMANO","2021-11-25","CORREO ELECTRÓNICO",{"$f":"IFERROR(WORKDAY(C1489,P1489,DiasNOLaborables),\"\")","v":"2021-12-23"},{"$f":"+IF(C1489=\"\",\"\",IF(H1489=\"\",\"SIN RESPUESTA\",(IF(H1489<=J1489,\"A TIEMPO\",\"FUERA DE TIEMPO\"))))","v":"A TIEMPO"},{"$f":"IF(H1489=\"\",\"\",NETWORKDAYS(C1489+1,H1489,DiasNOLaborables))","v":1},{"$f":"IF(NETWORKDAYS(J1489+1,H1489,DiasNOLaborables)<=0,\"\",NETWORKDAYS(J1489+1,H1489,DiasNOLaborables))","v":""},null,null,{"$f":"IFERROR(VLOOKUP(E1489,$X$51:$Y$64,2),\"\")","v":20}]
[1479,20219050133852,"2021-11-24","CORREO ELECTRÓNICO","SOLICITUD DE INFORMACIÓN Y DOCUMENTOS","ADMINISTRATIVA","GRUPO DE ADMINISTRACIÓN Y DESARROLLO DEL TALENTO HUMANO","2021-11-25","CORREO ELECTRÓNICO",{"$f":"IFERROR(WORKDAY(C1490,P1490,DiasNOLaborables),\"\")","v":"2021-12-23"},{"$f":"+IF(C1490=\"\",\"\",IF(H1490=\"\",\"SIN RESPUESTA\",(IF(H1490<=J1490,\"A TIEMPO\",\"FUERA DE TIEMPO\"))))","v":"A TIEMPO"},{"$f":"IF(H1490=\"\",\"\",NETWORKDAYS(C1490+1,H1490,DiasNOLaborables))","v":1},{"$f":"IF(NETWORKDAYS(J1490+1,H1490,DiasNOLaborables)<=0,\"\",NETWORKDAYS(J1490+1,H1490,DiasNOLaborables))","v":""},null,null,{"$f":"IFERROR(VLOOKUP(E1490,$X$51:$Y$64,2),\"\")","v":20}]
[1480,20219050133862,"2021-11-24","CORREO ELECTRÓNICO","SOLICITUD DE INFORMACIÓN Y DOCUMENTOS","ACREDITACIÓN DE LABORATORIOS","SUBDIRECCIÓN DE ESTUDIOS AMBIENTALES","2021-12-07","CORREO ELECTRÓNICO",{"$f":"IFERROR(WORKDAY(C1491,P1491,DiasNOLaborables),\"\")","v":"2021-12-23"},{"$f":"+IF(C1491=\"\",\"\",IF(H1491=\"\",\"SIN RESPUESTA\",(IF(H1491<=J1491,\"A TIEMPO\",\"FUERA DE TIEMPO\"))))","v":"A TIEMPO"},{"$f":"IF(H1491=\"\",\"\",NETWORKDAYS(C1491+1,H1491,DiasNOLaborables))","v":9},{"$f":"IF(NETWORKDAYS(J1491+1,H1491,DiasNOLaborables)<=0,\"\",NETWORKDAYS(J1491+1,H1491,DiasNOLaborables))","v":""},null,null,{"$f":"IFERROR(VLOOKUP(E1491,$X$51:$Y$64,2),\"\")","v":20}]
[1481,20219050133892,"2021-11-24","CORREO ELECTRÓNICO","SOLICITUD DE INFORMACIÓN Y DOCUMENTOS","INFORMES AMBIENTALES","SUBDIRECCIÓN DE HIDROLOGÍA","2021-12-03","CORREO ELECTRÓNICO",{"$f":"IFERROR(WORKDAY(C1492,P1492,DiasNOLaborables),\"\")","v":"2021-12-23"},{"$f":"+IF(C1492=\"\",\"\",IF(H1492=\"\",\"SIN RESPUESTA\",(IF(H1492<=J1492,\"A TIEMPO\",\"FUERA DE TIEMPO\"))))","v":"A TIEMPO"},{"$f":"IF(H1492=\"\",\"\",NETWORKDAYS(C1492+1,H1492,DiasNOLaborables))","v":7},{"$f":"IF(NETWORKDAYS(J1492+1,H1492,DiasNOLaborables)<=0,\"\",NETWORKDAYS(J1492+1,H1492,DiasNOLaborables))","v":""},null,null,{"$f":"IFERROR(VLOOKUP(E1492,$X$51:$Y$64,2),\"\")","v":20}]
[1482,20219050133902,"2021-11-24","CORREO ELECTRÓNICO","SOLICITUD DE INFORMACIÓN Y DOCUMENTOS","JURIDICO","OFICINA ASESORA JURÍDICA","2021-11-27","CORREO ELECTRÓNICO",{"$f":"IFERROR(WORKDAY(C1493,P1493,DiasNOLaborables),\"\")","v":"2021-12-23"},{"$f":"+IF(C1493=\"\",\"\",IF(H1493=\"\",\"SIN RESPUESTA\",(IF(H1493<=J1493,\"A TIEMPO\",\"FUERA DE TIEMPO\"))))","v":"A TIEMPO"},{"$f":"IF(H1493=\"\",\"\",NETWORKDAYS(C1493+1,H1493,DiasNOLaborables))","v":2},{"$f":"IF(NETWORKDAYS(J1493+1,H1493,DiasNOLaborables)<=0,\"\",NETWORKDAYS(J1493+1,H1493,DiasNOLaborables))","v":""},null,null,{"$f":"IFERROR(VLOOKUP(E1493,$X$51:$Y$64,2),\"\")","v":20}]
[1483,20219050134002,"2021-11-24","CORREO ELECTRÓNICO","SOLICITUD DE INFORMACIÓN Y DOCUMENTOS","ADMINISTRATIVA","GRUPO DE ADMINISTRACIÓN Y DESARROLLO DEL TALENTO HUMANO","2021-12-06","CORREO ELECTRÓNICO",{"$f":"IFERROR(WORKDAY(C1494,P1494,DiasNOLaborables),\"\")","v":"2021-12-23"},{"$f":"+IF(C1494=\"\",\"\",IF(H1494=\"\",\"SIN RESPUESTA\",(IF(H1494<=J1494,\"A TIEMPO\",\"FUERA DE TIEMPO\"))))","v":"A TIEMPO"},{"$f":"IF(H1494=\"\",\"\",NETWORKDAYS(C1494+1,H1494,DiasNOLaborables))","v":8},{"$f":"IF(NETWORKDAYS(J1494+1,H1494,DiasNOLaborables)<=0,\"\",NETWORKDAYS(J1494+1,H1494,DiasNOLaborables))","v":""},null,null,{"$f":"IFERROR(VLOOKUP(E1494,$X$51:$Y$64,2),\"\")","v":20}]
[1484,20219050134082,"2021-11-24","CORREO ELECTRÓNICO","SOLICITUD DE INFORMACIÓN Y DOCUMENTOS","REGISTROS AMBIENTALES","SUBDIRECCIÓN DE ESTUDIOS AMBIENTALES","2021-11-24","CORREO ELECTRÓNICO",{"$f":"IFERROR(WORKDAY(C1495,P1495,DiasNOLaborables),\"\")","v":"2021-12-23"},{"$f":"+IF(C1495=\"\",\"\",IF(H1495=\"\",\"SIN RESPUESTA\",(IF(H1495<=J1495,\"A TIEMPO\",\"FUERA DE TIEMPO\"))))","v":"A TIEMPO"},{"$f":"IF(H1495=\"\",\"\",NETWORKDAYS(C1495+1,H1495,DiasNOLaborables))","v":-2},{"$f":"IF(NETWORKDAYS(J1495+1,H1495,DiasNOLaborables)<=0,\"\",NETWORKDAYS(J1495+1,H1495,DiasNOLaborables))","v":""},null,null,{"$f":"IFERROR(VLOOKUP(E1495,$X$51:$Y$64,2),\"\")","v":20}]
[1485,20219050134102,"2021-11-24","CORREO ELECTRÓNICO","SOLICITUD DE INFORMACIÓN Y DOCUMENTOS","REGISTROS AMBIENTALES","SUBDIRECCIÓN DE ESTUDIOS AMBIENTALES","2021-11-24","CORREO ELECTRÓNICO",{"$f":"IFERROR(WORKDAY(C1496,P1496,DiasNOLaborables),\"\")","v":"2021-12-23"},{"$f":"+IF(C1496=\"\",\"\",IF(H1496=\"\",\"SIN RESPUESTA\",(IF(H1496<=J1496,\"A TIEMPO\",\"FUERA DE TIEMPO\"))))","v":"A TIEMPO"},{"$f":"IF(H1496=\"\",\"\",NETWORKDAYS(C1496+1,H1496,DiasNOLaborables))","v":-2},{"$f":"IF(NETWORKDAYS(J1496+1,H1496,DiasNOLaborables)<=0,\"\",NETWORKDAYS(J1496+1,H1496,DiasNOLaborables))","v":""},null,null,{"$f":"IFERROR(VLOOKUP(E1496,$X$51:$Y$64,2),\"\")","v":20}]
[1486,20219050134112,"2021-11-24","CORREO ELECTRÓNICO","SOLICITUD DE INFORMACIÓN Y DOCUMENTOS","REGISTROS AMBIENTALES","SUBDIRECCIÓN DE ESTUDIOS AMBIENTALES","2021-11-24","CORREO ELECTRÓNICO",{"$f":"IFERROR(WORKDAY(C1497,P1497,DiasNOLaborables),\"\")","v":"2021-12-23"},{"$f":"+IF(C1497=\"\",\"\",IF(H1497=\"\",\"SIN RESPUESTA\",(IF(H1497<=J1497,\"A TIEMPO\",\"FUERA DE TIEMPO\"))))","v":"A TIEMPO"},{"$f":"IF(H1497=\"\",\"\",NETWORKDAYS(C1497+1,H1497,DiasNOLaborables))","v":-2},{"$f":"IF(NETWORKDAYS(J1497+1,H1497,DiasNOLaborables)<=0,\"\",NETWORKDAYS(J1497+1,H1497,DiasNOLaborables))","v":""},null,null,{"$f":"IFERROR(VLOOKUP(E1497,$X$51:$Y$64,2),\"\")","v":20}]
[1487,20219050134132,"2021-11-24","CORREO ELECTRÓNICO","SOLICITUD DE INFORMACIÓN Y DOCUMENTOS","ADMINISTRATIVA","GRUPO DE ADMINISTRACIÓN Y DESARROLLO DEL TALENTO HUMANO","2021-11-25","CORREO ELECTRÓNICO",{"$f":"IFERROR(WORKDAY(C1498,P1498,DiasNOLaborables),\"\")","v":"2021-12-23"},{"$f":"+IF(C1498=\"\",\"\",IF(H1498=\"\",\"SIN RESPUESTA\",(IF(H1498<=J1498,\"A TIEMPO\",\"FUERA DE TIEMPO\"))))","v":"A TIEMPO"},{"$f":"IF(H1498=\"\",\"\",NETWORKDAYS(C1498+1,H1498,DiasNOLaborables))","v":1},{"$f":"IF(NETWORKDAYS(J1498+1,H1498,DiasNOLaborables)<=0,\"\",NETWORKDAYS(J1498+1,H1498,DiasNOLaborables))","v":""},null,null,{"$f":"IFERROR(VLOOKUP(E1498,$X$51:$Y$64,2),\"\")","v":20}]
[1488,20219050134172,"2021-11-24","CORREO ELECTRÓNICO","SOLICITUD DE INFORMACIÓN Y DOCUMENTOS","INFORMES AMBIENTALES","SUBDIRECCIÓN DE ESTUDIOS AMBIENTALES","2021-12-02","CORREO ELECTRÓNICO",{"$f":"IFERROR(WORKDAY(C1499,P1499,DiasNOLaborables),\"\")","v":"2021-12-23"},{"$f":"+IF(C1499=\"\",\"\",IF(H1499=\"\",\"SIN RESPUESTA\",(IF(H1499<=J1499,\"A TIEMPO\",\"FUERA DE TIEMPO\"))))","v":"A TIEMPO"},{"$f":"IF(H1499=\"\",\"\",NETWORKDAYS(C1499+1,H1499,DiasNOLaborables))","v":6},{"$f":"IF(NETWORKDAYS(J1499+1,H1499,DiasNOLaborables)<=0,\"\",NETWORKDAYS(J1499+1,H1499,DiasNOLaborables))","v":""},null,null,{"$f":"IFERROR(VLOOKUP(E1499,$X$51:$Y$64,2),\"\")","v":20}]
[1489,20219050134302,"2021-11-24","CORREO ELECTRÓNICO","SOLICITUD DE INFORMACIÓN Y DOCUMENTOS","INFORMES AMBIENTALES","SUBDIRECCIÓN DE ESTUDIOS AMBIENTALES","2021-12-02","CORREO ELECTRÓNICO",{"$f":"IFERROR(WORKDAY(C1500,P1500,DiasNOLaborables),\"\")","v":"2021-12-23"},{"$f":"+IF(C1500=\"\",\"\",IF(H1500=\"\",\"SIN RESPUESTA\",(IF(H1500<=J1500,\"A TIEMPO\",\"FUERA DE TIEMPO\"))))","v":"A TIEMPO"},{"$f":"IF(H1500=\"\",\"\",NETWORKDAYS(C1500+1,H1500,DiasNOLaborables))","v":6},{"$f":"IF(NETWORKDAYS(J1500+1,H1500,DiasNOLaborables)<=0,\"\",NETWORKDAYS(J1500+1,H1500,DiasNOLaborables))","v":""},null,null,{"$f":"IFERROR(VLOOKUP(E1500,$X$51:$Y$64,2),\"\")","v":20}]
[1490,20219910064882,"2021-11-24","CORREO ELECTRÓNICO","SOLICITUD DE INFORMACIÓN Y DOCUMENTOS","CLIMATOLOGÍA","SUBDIRECCIÓN DE METEOROLOGÍA","2021-12-07","CORREO ELECTRÓNICO",{"$f":"IFERROR(WORKDAY(C1501,P1501,DiasNOLaborables),\"\")","v":"2021-12-23"},{"$f":"+IF(C1501=\"\",\"\",IF(H1501=\"\",\"SIN RESPUESTA\",(IF(H1501<=J1501,\"A TIEMPO\",\"FUERA DE TIEMPO\"))))","v":"A TIEMPO"},{"$f":"IF(H1501=\"\",\"\",NETWORKDAYS(C1501+1,H1501,DiasNOLaborables))","v":9},{"$f":"IF(NETWORKDAYS(J1501+1,H1501,DiasNOLaborables)<=0,\"\",NETWORKDAYS(J1501+1,H1501,DiasNOLaborables))","v":""},null,null,{"$f":"IFERROR(VLOOKUP(E1501,$X$51:$Y$64,2),\"\")","v":20}]
[1491,20219910064892,"2021-11-24","CORREO ELECTRÓNICO","PETICIÓN ENTRE AUTORIDADES","BOSQUES","SUBDIRECCIÓN DE ECOSISTEMAS E INFORMACIÓN AMBIENTAL","2021-11-26","CORREO ELECTRÓNICO",{"$f":"IFERROR(WORKDAY(C1502,P1502,DiasNOLaborables),\"\")","v":"2021-12-09"},{"$f":"+IF(C1502=\"\",\"\",IF(H1502=\"\",\"SIN RESPUESTA\",(IF(H1502<=J1502,\"A TIEMPO\",\"FUERA DE TIEMPO\"))))","v":"A TIEMPO"},{"$f":"IF(H1502=\"\",\"\",NETWORKDAYS(C1502+1,H1502,DiasNOLaborables))","v":2},{"$f":"IF(NETWORKDAYS(J1502+1,H1502,DiasNOLaborables)<=0,\"\",NETWORKDAYS(J1502+1,H1502,DiasNOLaborables))","v":""},null,null,{"$f":"IFERROR(VLOOKUP(E1502,$X$51:$Y$64,2),\"\")","v":10}]
[1492,20219910064902,"2021-11-24","CORREO ELECTRÓNICO","PETICIÓN ENTRE AUTORIDADES","BOSQUES","SUBDIRECCIÓN DE ECOSISTEMAS E INFORMACIÓN AMBIENTAL","2021-11-26","CORREO ELECTRÓNICO",{"$f":"IFERROR(WORKDAY(C1503,P1503,DiasNOLaborables),\"\")","v":"2021-12-09"},{"$f":"+IF(C1503=\"\",\"\",IF(H1503=\"\",\"SIN RESPUESTA\",(IF(H1503<=J1503,\"A TIEMPO\",\"FUERA DE TIEMPO\"))))","v":"A TIEMPO"},{"$f":"IF(H1503=\"\",\"\",NETWORKDAYS(C1503+1,H1503,DiasNOLaborables))","v":2},{"$f":"IF(NETWORKDAYS(J1503+1,H1503,DiasNOLaborables)<=0,\"\",NETWORKDAYS(J1503+1,H1503,DiasNOLaborables))","v":""},null,null,{"$f":"IFERROR(VLOOKUP(E1503,$X$51:$Y$64,2),\"\")","v":10}]
[1493,20219050134262,"2021-11-24","MODULO CONTACTENOS","SOLICITUD DE INFORMACIÓN Y DOCUMENTOS","SOLICITUD DE INFORMACIÓN HIDROMETEOROLÓGICA","GRUPO DE SERVICIO AL CIUDADANO ","2021-11-29","CORREO ELECTRÓNICO",{"$f":"IFERROR(WORKDAY(C1504,P1504,DiasNOLaborables),\"\")","v":"2021-12-23"},{"$f":"+IF(C1504=\"\",\"\",IF(H1504=\"\",\"SIN RESPUESTA\",(IF(H1504<=J1504,\"A TIEMPO\",\"FUERA DE TIEMPO\"))))","v":"A TIEMPO"},{"$f":"IF(H1504=\"\",\"\",NETWORKDAYS(C1504+1,H1504,DiasNOLaborables))","v":3},{"$f":"IF(NETWORKDAYS(J1504+1,H1504,DiasNOLaborables)<=0,\"\",NETWORKDAYS(J1504+1,H1504,DiasNOLaborables))","v":""},null,null,{"$f":"IFERROR(VLOOKUP(E1504,$X$51:$Y$64,2),\"\")","v":20}]
[1494,20219050134272,"2021-11-24","MODULO CONTACTENOS","SOLICITUD DE INFORMACIÓN Y DOCUMENTOS","SOLICITUD DE INFORMACIÓN HIDROMETEOROLÓGICA","GRUPO DE SERVICIO AL CIUDADANO ","2021-11-29","CORREO ELECTRÓNICO",{"$f":"IFERROR(WORKDAY(C1505,P1505,DiasNOLaborables),\"\")","v":"2021-12-23"},{"$f":"+IF(C1505=\"\",\"\",IF(H1505=\"\",\"SIN RESPUESTA\",(IF(H1505<=J1505,\"A TIEMPO\",\"FUERA DE TIEMPO\"))))","v":"A TIEMPO"},{"$f":"IF(H1505=\"\",\"\",NETWORKDAYS(C1505+1,H1505,DiasNOLaborables))","v":3},{"$f":"IF(NETWORKDAYS(J1505+1,H1505,DiasNOLaborables)<=0,\"\",NETWORKDAYS(J1505+1,H1505,DiasNOLaborables))","v":""},null,null,{"$f":"IFERROR(VLOOKUP(E1505,$X$51:$Y$64,2),\"\")","v":20}]
[1495,20219050134282,"2021-11-24","MODULO CONTACTENOS","SOLICITUD DE INFORMACIÓN Y DOCUMENTOS","SOLICITUD DE INFORMACIÓN HIDROMETEOROLÓGICA","GRUPO DE SERVICIO AL CIUDADANO ","2021-11-29","CORREO ELECTRÓNICO",{"$f":"IFERROR(WORKDAY(C1506,P1506,DiasNOLaborables),\"\")","v":"2021-12-23"},{"$f":"+IF(C1506=\"\",\"\",IF(H1506=\"\",\"SIN RESPUESTA\",(IF(H1506<=J1506,\"A TIEMPO\",\"FUERA DE TIEMPO\"))))","v":"A TIEMPO"},{"$f":"IF(H1506=\"\",\"\",NETWORKDAYS(C1506+1,H1506,DiasNOLaborables))","v":3},{"$f":"IF(NETWORKDAYS(J1506+1,H1506,DiasNOLaborables)<=0,\"\",NETWORKDAYS(J1506+1,H1506,DiasNOLaborables))","v":""},null,null,{"$f":"IFERROR(VLOOKUP(E1506,$X$51:$Y$64,2),\"\")","v":20}]
[1496,20219910064992,"2021-11-25","CORREO ELECTRÓNICO","SOLICITUD DE INFORMACIÓN Y DOCUMENTOS","SOLICITUD DE INFORMACIÓN HIDROMETEOROLÓGICA","GRUPO DE SERVICIO AL CIUDADANO ","2021-11-30","CORREO ELECTRÓNICO",{"$f":"IFERROR(WORKDAY(C1507,P1507,DiasNOLaborables),\"\")","v":"2021-12-24"},{"$f":"+IF(C1507=\"\",\"\",IF(H1507=\"\",\"SIN RESPUESTA\",(IF(H1507<=J1507,\"A TIEMPO\",\"FUERA DE TIEMPO\"))))","v":"A TIEMPO"},{"$f":"IF(H1507=\"\",\"\",NETWORKDAYS(C1507+1,H1507,DiasNOLaborables))","v":3},{"$f":"IF(NETWORKDAYS(J1507+1,H1507,DiasNOLaborables)<=0,\"\",NETWORKDAYS(J1507+1,H1507,DiasNOLaborables))","v":""},null,null,{"$f":"IFERROR(VLOOKUP(E1507,$X$51:$Y$64,2),\"\")","v":20}]
[1497,20219910065092,"2021-11-25","CORREO ELECTRÓNICO","SOLICITUD DE INFORMACIÓN Y DOCUMENTOS","REGISTROS AMBIENTALES","SUBDIRECCIÓN DE ESTUDIOS AMBIENTALES","2021-12-02","CORREO ELECTRÓNICO",{"$f":"IFERROR(WORKDAY(C1508,P1508,DiasNOLaborables),\"\")","v":"2021-12-24"},{"$f":"+IF(C1508=\"\",\"\",IF(H1508=\"\",\"SIN RESPUESTA\",(IF(H1508<=J1508,\"A TIEMPO\",\"FUERA DE TIEMPO\"))))","v":"A TIEMPO"},{"$f":"IF(H1508=\"\",\"\",NETWORKDAYS(C1508+1,H1508,DiasNOLaborables))","v":5},{"$f":"IF(NETWORKDAYS(J1508+1,H1508,DiasNOLaborables)<=0,\"\",NETWORKDAYS(J1508+1,H1508,DiasNOLaborables))","v":""},null,null,{"$f":"IFERROR(VLOOKUP(E1508,$X$51:$Y$64,2),\"\")","v":20}]
[1498,20219050134332,"2021-11-25","CORREO ELECTRÓNICO","SOLICITUD DE INFORMACIÓN Y DOCUMENTOS","BOSQUES","SUBDIRECCIÓN DE ECOSISTEMAS E INFORMACIÓN AMBIENTAL","2021-11-26","CORREO ELECTRÓNICO",{"$f":"IFERROR(WORKDAY(C1509,P1509,DiasNOLaborables),\"\")","v":"2021-12-24"},{"$f":"+IF(C1509=\"\",\"\",IF(H1509=\"\",\"SIN RESPUESTA\",(IF(H1509<=J1509,\"A TIEMPO\",\"FUERA DE TIEMPO\"))))","v":"A TIEMPO"},{"$f":"IF(H1509=\"\",\"\",NETWORKDAYS(C1509+1,H1509,DiasNOLaborables))","v":1},{"$f":"IF(NETWORKDAYS(J1509+1,H1509,DiasNOLaborables)<=0,\"\",NETWORKDAYS(J1509+1,H1509,DiasNOLaborables))","v":""},null,null,{"$f":"IFERROR(VLOOKUP(E1509,$X$51:$Y$64,2),\"\")","v":20}]
[1499,20219050134342,"2021-11-25","CORREO ELECTRÓNICO","SOLICITUD JUDICIAL","JURIDICO","OFICINA ASESORA JURÍDICA","2021-11-25","CORREO ELECTRÓNICO",{"$f":"IFERROR(WORKDAY(C1510,P1510,DiasNOLaborables),\"\")","v":"2021-12-02"},{"$f":"+IF(C1510=\"\",\"\",IF(H1510=\"\",\"SIN RESPUESTA\",(IF(H1510<=J1510,\"A TIEMPO\",\"FUERA DE TIEMPO\"))))","v":"A TIEMPO"},{"$f":"IF(H1510=\"\",\"\",NETWORKDAYS(C1510+1,H1510,DiasNOLaborables))","v":-2},{"$f":"IF(NETWORKDAYS(J1510+1,H1510,DiasNOLaborables)<=0,\"\",NETWORKDAYS(J1510+1,H1510,DiasNOLaborables))","v":""},null,null,{"$f":"IFERROR(VLOOKUP(E1510,$X$51:$Y$64,2),\"\")","v":5}]
[1500,20219050134352,"2021-11-25","CORREO ELECTRÓNICO","SOLICITUD DE INFORMACIÓN Y DOCUMENTOS","BOSQUES","SUBDIRECCIÓN DE ECOSISTEMAS E INFORMACIÓN AMBIENTAL","2021-11-26","CORREO ELECTRÓNICO",{"$f":"IFERROR(WORKDAY(C1511,P1511,DiasNOLaborables),\"\")","v":"2021-12-24"},{"$f":"+IF(C1511=\"\",\"\",IF(H1511=\"\",\"SIN RESPUESTA\",(IF(H1511<=J1511,\"A TIEMPO\",\"FUERA DE TIEMPO\"))))","v":"A TIEMPO"},{"$f":"IF(H1511=\"\",\"\",NETWORKDAYS(C1511+1,H1511,DiasNOLaborables))","v":1},{"$f":"IF(NETWORKDAYS(J1511+1,H1511,DiasNOLaborables)<=0,\"\",NETWORKDAYS(J1511+1,H1511,DiasNOLaborables))","v":""},null,null,{"$f":"IFERROR(VLOOKUP(E1511,$X$51:$Y$64,2),\"\")","v":20}]
[1501,20219050134362,"2021-11-25","CORREO ELECTRÓNICO","SOLICITUD DE INFORMACIÓN Y DOCUMENTOS","REGISTROS AMBIENTALES","SUBDIRECCIÓN DE ESTUDIOS AMBIENTALES","2021-12-07","CORREO ELECTRÓNICO",{"$f":"IFERROR(WORKDAY(C1512,P1512,DiasNOLaborables),\"\")","v":"2021-12-24"},{"$f":"+IF(C1512=\"\",\"\",IF(H1512=\"\",\"SIN RESPUESTA\",(IF(H1512<=J1512,\"A TIEMPO\",\"FUERA DE TIEMPO\"))))","v":"A TIEMPO"},{"$f":"IF(H1512=\"\",\"\",NETWORKDAYS(C1512+1,H1512,DiasNOLaborables))","v":8},{"$f":"IF(NETWORKDAYS(J1512+1,H1512,DiasNOLaborables)<=0,\"\",NETWORKDAYS(J1512+1,H1512,DiasNOLaborables))","v":""},null,null,{"$f":"IFERROR(VLOOKUP(E1512,$X$51:$Y$64,2),\"\")","v":20}]
[1502,20219050134372,"2021-11-25","CORREO ELECTRÓNICO","SOLICITUD DE INFORMACIÓN Y DOCUMENTOS","BOSQUES","SUBDIRECCIÓN DE ECOSISTEMAS E INFORMACIÓN AMBIENTAL","2021-11-26","CORREO ELECTRÓNICO",{"$f":"IFERROR(WORKDAY(C1513,P1513,DiasNOLaborables),\"\")","v":"2021-12-24"},{"$f":"+IF(C1513=\"\",\"\",IF(H1513=\"\",\"SIN RESPUESTA\",(IF(H1513<=J1513,\"A TIEMPO\",\"FUERA DE TIEMPO\"))))","v":"A TIEMPO"},{"$f":"IF(H1513=\"\",\"\",NETWORKDAYS(C1513+1,H1513,DiasNOLaborables))","v":1},{"$f":"IF(NETWORKDAYS(J1513+1,H1513,DiasNOLaborables)<=0,\"\",NETWORKDAYS(J1513+1,H1513,DiasNOLaborables))","v":""},null,null,{"$f":"IFERROR(VLOOKUP(E1513,$X$51:$Y$64,2),\"\")","v":20}]
[1503,20219050134392,"2021-11-25","CORREO ELECTRÓNICO","PETICIÓN","ADMINISTRATIVA","GRUPO DE PRESUPUESTO","2021-12-01","CORREO ELECTRÓNICO",{"$f":"IFERROR(WORKDAY(C1514,P1514,DiasNOLaborables),\"\")","v":"2022-01-07"},{"$f":"+IF(C1514=\"\",\"\",IF(H1514=\"\",\"SIN RESPUESTA\",(IF(H1514<=J1514,\"A TIEMPO\",\"FUERA DE TIEMPO\"))))","v":"A TIEMPO"},{"$f":"IF(H1514=\"\",\"\",NETWORKDAYS(C1514+1,H1514,DiasNOLaborables))","v":4},{"$f":"IF(NETWORKDAYS(J1514+1,H1514,DiasNOLaborables)<=0,\"\",NETWORKDAYS(J1514+1,H1514,DiasNOLaborables))","v":""},null,null,{"$f":"IFERROR(VLOOKUP(E1514,$X$51:$Y$64,2),\"\")","v":30}]
[1504,20219050134312,"2021-11-25","MODULO CONTACTENOS","SOLICITUD DE INFORMACIÓN Y DOCUMENTOS","SOLICITUD DE INFORMACIÓN HIDROMETEOROLÓGICA","GRUPO DE SERVICIO AL CIUDADANO ","2021-12-03","CORREO ELECTRÓNICO",{"$f":"IFERROR(WORKDAY(C1515,P1515,DiasNOLaborables),\"\")","v":"2021-12-24"},{"$f":"+IF(C1515=\"\",\"\",IF(H1515=\"\",\"SIN RESPUESTA\",(IF(H1515<=J1515,\"A TIEMPO\",\"FUERA DE TIEMPO\"))))","v":"A TIEMPO"},{"$f":"IF(H1515=\"\",\"\",NETWORKDAYS(C1515+1,H1515,DiasNOLaborables))","v":6},{"$f":"IF(NETWORKDAYS(J1515+1,H1515,DiasNOLaborables)<=0,\"\",NETWORKDAYS(J1515+1,H1515,DiasNOLaborables))","v":""},null,null,{"$f":"IFERROR(VLOOKUP(E1515,$X$51:$Y$64,2),\"\")","v":20}]
[1505,20219050134322,"2021-11-25","MODULO CONTACTENOS","SOLICITUD DE INFORMACIÓN Y DOCUMENTOS","SOLICITUD DE INFORMACIÓN HIDROMETEOROLÓGICA","GRUPO DE SERVICIO AL CIUDADANO ","2021-12-03","CORREO ELECTRÓNICO",{"$f":"IFERROR(WORKDAY(C1516,P1516,DiasNOLaborables),\"\")","v":"2021-12-24"},{"$f":"+IF(C1516=\"\",\"\",IF(H1516=\"\",\"SIN RESPUESTA\",(IF(H1516<=J1516,\"A TIEMPO\",\"FUERA DE TIEMPO\"))))","v":"A TIEMPO"},{"$f":"IF(H1516=\"\",\"\",NETWORKDAYS(C1516+1,H1516,DiasNOLaborables))","v":6},{"$f":"IF(NETWORKDAYS(J1516+1,H1516,DiasNOLaborables)<=0,\"\",NETWORKDAYS(J1516+1,H1516,DiasNOLaborables))","v":""},null,null,{"$f":"IFERROR(VLOOKUP(E1516,$X$51:$Y$64,2),\"\")","v":20}]
[1506,20219050134412,"2021-11-25","MODULO CONTACTENOS","SOLICITUD DE INFORMACIÓN Y DOCUMENTOS","SOLICITUD DE INFORMACIÓN HIDROMETEOROLÓGICA","GRUPO DE SERVICIO AL CIUDADANO ","2021-12-03","CORREO ELECTRÓNICO",{"$f":"IFERROR(WORKDAY(C1517,P1517,DiasNOLaborables),\"\")","v":"2021-12-24"},{"$f":"+IF(C1517=\"\",\"\",IF(H1517=\"\",\"SIN RESPUESTA\",(IF(H1517<=J1517,\"A TIEMPO\",\"FUERA DE TIEMPO\"))))","v":"A TIEMPO"},{"$f":"IF(H1517=\"\",\"\",NETWORKDAYS(C1517+1,H1517,DiasNOLaborables))","v":6},{"$f":"IF(NETWORKDAYS(J1517+1,H1517,DiasNOLaborables)<=0,\"\",NETWORKDAYS(J1517+1,H1517,DiasNOLaborables))","v":""},null,null,{"$f":"IFERROR(VLOOKUP(E1517,$X$51:$Y$64,2),\"\")","v":20}]
[1507,20219050134432,"2021-11-25","MODULO CONTACTENOS","SOLICITUD DE INFORMACIÓN Y DOCUMENTOS","SOLICITUD DE INFORMACIÓN HIDROMETEOROLÓGICA","GRUPO DE SERVICIO AL CIUDADANO ","2021-12-03","CORREO ELECTRÓNICO",{"$f":"IFERROR(WORKDAY(C1518,P1518,DiasNOLaborables),\"\")","v":"2021-12-24"},{"$f":"+IF(C1518=\"\",\"\",IF(H1518=\"\",\"SIN RESPUESTA\",(IF(H1518<=J1518,\"A TIEMPO\",\"FUERA DE TIEMPO\"))))","v":"A TIEMPO"},{"$f":"IF(H1518=\"\",\"\",NETWORKDAYS(C1518+1,H1518,DiasNOLaborables))","v":6},{"$f":"IF(NETWORKDAYS(J1518+1,H1518,DiasNOLaborables)<=0,\"\",NETWORKDAYS(J1518+1,H1518,DiasNOLaborables))","v":""},null,null,{"$f":"IFERROR(VLOOKUP(E1518,$X$51:$Y$64,2),\"\")","v":20}]
[1508,20219050134422,"2021-11-25","CORREO ELECTRÓNICO","SOLICITUD DE INFORMACIÓN Y DOCUMENTOS","INFORMES AMBIENTALES","SUBDIRECCIÓN DE METEOROLOGÍA","2021-12-13","CORREO ELECTRÓNICO",{"$f":"IFERROR(WORKDAY(C1519,P1519,DiasNOLaborables),\"\")","v":"2021-12-24"},{"$f":"+IF(C1519=\"\",\"\",IF(H1519=\"\",\"SIN RESPUESTA\",(IF(H1519<=J1519,\"A TIEMPO\",\"FUERA DE TIEMPO\"))))","v":"A TIEMPO"},{"$f":"IF(H1519=\"\",\"\",NETWORKDAYS(C1519+1,H1519,DiasNOLaborables))","v":11},{"$f":"IF(NETWORKDAYS(J1519+1,H1519,DiasNOLaborables)<=0,\"\",NETWORKDAYS(J1519+1,H1519,DiasNOLaborables))","v":""},null,null,{"$f":"IFERROR(VLOOKUP(E1519,$X$51:$Y$64,2),\"\")","v":20}]
[1509,20219050134462,"2021-11-25","CORREO ELECTRÓNICO","SOLICITUD DE INFORMACIÓN Y DOCUMENTOS","INFORMES AMBIENTALES","SUBDIRECCIÓN DE METEOROLOGÍA","2021-12-02","CORREO ELECTRÓNICO",{"$f":"IFERROR(WORKDAY(C1520,P1520,DiasNOLaborables),\"\")","v":"2021-12-24"},{"$f":"+IF(C1520=\"\",\"\",IF(H1520=\"\",\"SIN RESPUESTA\",(IF(H1520<=J1520,\"A TIEMPO\",\"FUERA DE TIEMPO\"))))","v":"A TIEMPO"},{"$f":"IF(H1520=\"\",\"\",NETWORKDAYS(C1520+1,H1520,DiasNOLaborables))","v":5},{"$f":"IF(NETWORKDAYS(J1520+1,H1520,DiasNOLaborables)<=0,\"\",NETWORKDAYS(J1520+1,H1520,DiasNOLaborables))","v":""},null,null,{"$f":"IFERROR(VLOOKUP(E1520,$X$51:$Y$64,2),\"\")","v":20}]
[1510,20219050134472,"2021-11-25","CORREO ELECTRÓNICO","SOLICITUD DE INFORMACIÓN Y DOCUMENTOS","REGISTROS AMBIENTALES","SUBDIRECCIÓN DE ESTUDIOS AMBIENTALES","2021-12-07","CORREO ELECTRÓNICO",{"$f":"IFERROR(WORKDAY(C1521,P1521,DiasNOLaborables),\"\")","v":"2021-12-24"},{"$f":"+IF(C1521=\"\",\"\",IF(H1521=\"\",\"SIN RESPUESTA\",(IF(H1521<=J1521,\"A TIEMPO\",\"FUERA DE TIEMPO\"))))","v":"A TIEMPO"},{"$f":"IF(H1521=\"\",\"\",NETWORKDAYS(C1521+1,H1521,DiasNOLaborables))","v":8},{"$f":"IF(NETWORKDAYS(J1521+1,H1521,DiasNOLaborables)<=0,\"\",NETWORKDAYS(J1521+1,H1521,DiasNOLaborables))","v":""},null,null,{"$f":"IFERROR(VLOOKUP(E1521,$X$51:$Y$64,2),\"\")","v":20}]
[1511,20219050134292,"2021-11-25","MODULO CONTACTENOS","SOLICITUD DE INFORMACIÓN Y DOCUMENTOS","SIRH","SUBDIRECCIÓN DE HIDROLOGÍA","2021-12-03","CORREO ELECTRÓNICO",{"$f":"IFERROR(WORKDAY(C1522,P1522,DiasNOLaborables),\"\")","v":"2021-12-24"},{"$f":"+IF(C1522=\"\",\"\",IF(H1522=\"\",\"SIN RESPUESTA\",(IF(H1522<=J1522,\"A TIEMPO\",\"FUERA DE TIEMPO\"))))","v":"A TIEMPO"},{"$f":"IF(H1522=\"\",\"\",NETWORKDAYS(C1522+1,H1522,DiasNOLaborables))","v":6},{"$f":"IF(NETWORKDAYS(J1522+1,H1522,DiasNOLaborables)<=0,\"\",NETWORKDAYS(J1522+1,H1522,DiasNOLaborables))","v":""},null,null,{"$f":"IFERROR(VLOOKUP(E1522,$X$51:$Y$64,2),\"\")","v":20}]
[1512,20219050134382,"2021-11-25","MODULO CONTACTENOS","SOLICITUD DE INFORMACIÓN Y DOCUMENTOS","ADMINISTRATIVA","GRUPO DE SERVICIOS ADMINISTRATIVOS","2021-11-29","CORREO ELECTRÓNICO",{"$f":"IFERROR(WORKDAY(C1523,P1523,DiasNOLaborables),\"\")","v":"2021-12-24"},{"$f":"+IF(C1523=\"\",\"\",IF(H1523=\"\",\"SIN RESPUESTA\",(IF(H1523<=J1523,\"A TIEMPO\",\"FUERA DE TIEMPO\"))))","v":"A TIEMPO"},{"$f":"IF(H1523=\"\",\"\",NETWORKDAYS(C1523+1,H1523,DiasNOLaborables))","v":2},{"$f":"IF(NETWORKDAYS(J1523+1,H1523,DiasNOLaborables)<=0,\"\",NETWORKDAYS(J1523+1,H1523,DiasNOLaborables))","v":""},null,null,{"$f":"IFERROR(VLOOKUP(E1523,$X$51:$Y$64,2),\"\")","v":20}]
[1513,20219050134402,"2021-11-25","MODULO CONTACTENOS","SOLICITUD DE INFORMACIÓN Y DOCUMENTOS","ADMINISTRATIVA","GRUPO DE SERVICIOS ADMINISTRATIVOS","2021-12-01","CORREO ELECTRÓNICO",{"$f":"IFERROR(WORKDAY(C1524,P1524,DiasNOLaborables),\"\")","v":"2021-12-24"},{"$f":"+IF(C1524=\"\",\"\",IF(H1524=\"\",\"SIN RESPUESTA\",(IF(H1524<=J1524,\"A TIEMPO\",\"FUERA DE TIEMPO\"))))","v":"A TIEMPO"},{"$f":"IF(H1524=\"\",\"\",NETWORKDAYS(C1524+1,H1524,DiasNOLaborables))","v":4},{"$f":"IF(NETWORKDAYS(J1524+1,H1524,DiasNOLaborables)<=0,\"\",NETWORKDAYS(J1524+1,H1524,DiasNOLaborables))","v":""},null,null,{"$f":"IFERROR(VLOOKUP(E1524,$X$51:$Y$64,2),\"\")","v":20}]
[1514,20219050134452,"2021-11-25","MODULO CONTACTENOS","SOLICITUD DE INFORMACIÓN Y DOCUMENTOS","SOLICITUD DE INFORMACIÓN HIDROMETEOROLÓGICA","GRUPO DE SERVICIO AL CIUDADANO ","2021-12-15","CORREO ELECTRÓNICO",{"$f":"IFERROR(WORKDAY(C1525,P1525,DiasNOLaborables),\"\")","v":"2021-12-24"},{"$f":"+IF(C1525=\"\",\"\",IF(H1525=\"\",\"SIN RESPUESTA\",(IF(H1525<=J1525,\"A TIEMPO\",\"FUERA DE TIEMPO\"))))","v":"A TIEMPO"},{"$f":"IF(H1525=\"\",\"\",NETWORKDAYS(C1525+1,H1525,DiasNOLaborables))","v":13},{"$f":"IF(NETWORKDAYS(J1525+1,H1525,DiasNOLaborables)<=0,\"\",NETWORKDAYS(J1525+1,H1525,DiasNOLaborables))","v":""},null,null,{"$f":"IFERROR(VLOOKUP(E1525,$X$51:$Y$64,2),\"\")","v":20}]
[1515,20219050134512,"2021-11-26","MODULO CONTACTENOS","SOLICITUD DE INFORMACIÓN Y DOCUMENTOS","SOLICITUD DE INFORMACIÓN HIDROMETEOROLÓGICA","SUBDIRECCIÓN DE ESTUDIOS AMBIENTALES","2021-12-15","CORREO ELECTRÓNICO",{"$f":"IFERROR(WORKDAY(C1526,P1526,DiasNOLaborables),\"\")","v":"2021-12-27"},{"$f":"+IF(C1526=\"\",\"\",IF(H1526=\"\",\"SIN RESPUESTA\",(IF(H1526<=J1526,\"A TIEMPO\",\"FUERA DE TIEMPO\"))))","v":"A TIEMPO"},{"$f":"IF(H1526=\"\",\"\",NETWORKDAYS(C1526+1,H1526,DiasNOLaborables))","v":12},{"$f":"IF(NETWORKDAYS(J1526+1,H1526,DiasNOLaborables)<=0,\"\",NETWORKDAYS(J1526+1,H1526,DiasNOLaborables))","v":""},null,null,{"$f":"IFERROR(VLOOKUP(E1526,$X$51:$Y$64,2),\"\")","v":20}]
[1516,20219910065222,"2021-11-26","MODULO CONTACTENOS","SOLICITUD DE INFORMACIÓN Y DOCUMENTOS","SOLICITUD DE INFORMACIÓN HIDROMETEOROLÓGICA","SUBDIRECCIÓN DE ESTUDIOS AMBIENTALES","2021-12-15","CORREO ELECTRÓNICO",{"$f":"IFERROR(WORKDAY(C1527,P1527,DiasNOLaborables),\"\")","v":"2021-12-27"},{"$f":"+IF(C1527=\"\",\"\",IF(H1527=\"\",\"SIN RESPUESTA\",(IF(H1527<=J1527,\"A TIEMPO\",\"FUERA DE TIEMPO\"))))","v":"A TIEMPO"},{"$f":"IF(H1527=\"\",\"\",NETWORKDAYS(C1527+1,H1527,DiasNOLaborables))","v":12},{"$f":"IF(NETWORKDAYS(J1527+1,H1527,DiasNOLaborables)<=0,\"\",NETWORKDAYS(J1527+1,H1527,DiasNOLaborables))","v":""},null,null,{"$f":"IFERROR(VLOOKUP(E1527,$X$51:$Y$64,2),\"\")","v":20}]
[1517,20219050134592,"2021-11-26","MODULO CONTACTENOS","SOLICITUD DE INFORMACIÓN Y DOCUMENTOS","SOLICITUD DE INFORMACIÓN HIDROMETEOROLÓGICA","GRUPO DE SERVICIO AL CIUDADANO ","2021-12-16","CORREO ELECTRÓNICO",{"$f":"IFERROR(WORKDAY(C1528,P1528,DiasNOLaborables),\"\")","v":"2021-12-27"},{"$f":"+IF(C1528=\"\",\"\",IF(H1528=\"\",\"SIN RESPUESTA\",(IF(H1528<=J1528,\"A TIEMPO\",\"FUERA DE TIEMPO\"))))","v":"A TIEMPO"},{"$f":"IF(H1528=\"\",\"\",NETWORKDAYS(C1528+1,H1528,DiasNOLaborables))","v":13},{"$f":"IF(NETWORKDAYS(J1528+1,H1528,DiasNOLaborables)<=0,\"\",NETWORKDAYS(J1528+1,H1528,DiasNOLaborables))","v":""},null,null,{"$f":"IFERROR(VLOOKUP(E1528,$X$51:$Y$64,2),\"\")","v":20}]
[1518,20219050134632,"2021-11-26","MODULO CONTACTENOS","SOLICITUD DE INFORMACIÓN Y DOCUMENTOS","SOLICITUD DE INFORMACIÓN HIDROMETEOROLÓGICA","GRUPO DE SERVICIO AL CIUDADANO ","2021-12-16","CORREO ELECTRÓNICO",{"$f":"IFERROR(WORKDAY(C1529,P1529,DiasNOLaborables),\"\")","v":"2021-12-27"},{"$f":"+IF(C1529=\"\",\"\",IF(H1529=\"\",\"SIN RESPUESTA\",(IF(H1529<=J1529,\"A TIEMPO\",\"FUERA DE TIEMPO\"))))","v":"A TIEMPO"},{"$f":"IF(H1529=\"\",\"\",NETWORKDAYS(C1529+1,H1529,DiasNOLaborables))","v":13},{"$f":"IF(NETWORKDAYS(J1529+1,H1529,DiasNOLaborables)<=0,\"\",NETWORKDAYS(J1529+1,H1529,DiasNOLaborables))","v":""},null,null,{"$f":"IFERROR(VLOOKUP(E1529,$X$51:$Y$64,2),\"\")","v":20}]
[1519,20219050134732,"2021-11-26","MODULO CONTACTENOS","SOLICITUD DE INFORMACIÓN Y DOCUMENTOS","SOLICITUD DE INFORMACIÓN HIDROMETEOROLÓGICA","GRUPO DE SERVICIO AL CIUDADANO ","2021-12-16","CORREO ELECTRÓNICO",{"$f":"IFERROR(WORKDAY(C1530,P1530,DiasNOLaborables),\"\")","v":"2021-12-27"},{"$f":"+IF(C1530=\"\",\"\",IF(H1530=\"\",\"SIN RESPUESTA\",(IF(H1530<=J1530,\"A TIEMPO\",\"FUERA DE TIEMPO\"))))","v":"A TIEMPO"},{"$f":"IF(H1530=\"\",\"\",NETWORKDAYS(C1530+1,H1530,DiasNOLaborables))","v":13},{"$f":"IF(NETWORKDAYS(J1530+1,H1530,DiasNOLaborables)<=0,\"\",NETWORKDAYS(J1530+1,H1530,DiasNOLaborables))","v":""},null,null,{"$f":"IFERROR(VLOOKUP(E1530,$X$51:$Y$64,2),\"\")","v":20}]
[1520,20217040000572,"2021-11-26","PRESENCIAL","SOLICITUD DE INFORMACIÓN Y DOCUMENTOS","SOLICITUD DE INFORMACIÓN HIDROMETEOROLÓGICA","GRUPO DE SERVICIO AL CIUDADANO ","2021-12-17","CORREO ELECTRÓNICO",{"$f":"IFERROR(WORKDAY(C1531,P1531,DiasNOLaborables),\"\")","v":"2021-12-27"},{"$f":"+IF(C1531=\"\",\"\",IF(H1531=\"\",\"SIN RESPUESTA\",(IF(H1531<=J1531,\"A TIEMPO\",\"FUERA DE TIEMPO\"))))","v":"A TIEMPO"},{"$f":"IF(H1531=\"\",\"\",NETWORKDAYS(C1531+1,H1531,DiasNOLaborables))","v":14},{"$f":"IF(NETWORKDAYS(J1531+1,H1531,DiasNOLaborables)<=0,\"\",NETWORKDAYS(J1531+1,H1531,DiasNOLaborables))","v":""},null,null,{"$f":"IFERROR(VLOOKUP(E1531,$X$51:$Y$64,2),\"\")","v":20}]
[1521,20219050134522,"2021-11-26","MODULO CONTACTENOS","SOLICITUD DE INFORMACIÓN Y DOCUMENTOS","ADMINISTRATIVA","GRUPO DE ADMINISTRACIÓN Y DESARROLLO DEL TALENTO HUMANO","2021-12-06","CORREO ELECTRÓNICO",{"$f":"IFERROR(WORKDAY(C1532,P1532,DiasNOLaborables),\"\")","v":"2021-12-27"},{"$f":"+IF(C1532=\"\",\"\",IF(H1532=\"\",\"SIN RESPUESTA\",(IF(H1532<=J1532,\"A TIEMPO\",\"FUERA DE TIEMPO\"))))","v":"A TIEMPO"},{"$f":"IF(H1532=\"\",\"\",NETWORKDAYS(C1532+1,H1532,DiasNOLaborables))","v":6},{"$f":"IF(NETWORKDAYS(J1532+1,H1532,DiasNOLaborables)<=0,\"\",NETWORKDAYS(J1532+1,H1532,DiasNOLaborables))","v":""},null,null,{"$f":"IFERROR(VLOOKUP(E1532,$X$51:$Y$64,2),\"\")","v":20}]
[1522,20219050134532,"2021-11-26","MODULO CONTACTENOS","SOLICITUD DE INFORMACIÓN Y DOCUMENTOS","ADMINISTRATIVA","GRUPO DE ADMINISTRACIÓN Y DESARROLLO DEL TALENTO HUMANO","2021-12-06","CORREO ELECTRÓNICO",{"$f":"IFERROR(WORKDAY(C1533,P1533,DiasNOLaborables),\"\")","v":"2021-12-27"},{"$f":"+IF(C1533=\"\",\"\",IF(H1533=\"\",\"SIN RESPUESTA\",(IF(H1533<=J1533,\"A TIEMPO\",\"FUERA DE TIEMPO\"))))","v":"A TIEMPO"},{"$f":"IF(H1533=\"\",\"\",NETWORKDAYS(C1533+1,H1533,DiasNOLaborables))","v":6},{"$f":"IF(NETWORKDAYS(J1533+1,H1533,DiasNOLaborables)<=0,\"\",NETWORKDAYS(J1533+1,H1533,DiasNOLaborables))","v":""},null,null,{"$f":"IFERROR(VLOOKUP(E1533,$X$51:$Y$64,2),\"\")","v":20}]
[1523,20219050134562,"2021-11-26","MODULO CONTACTENOS","SOLICITUD DE INFORMACIÓN Y DOCUMENTOS","ADMINISTRATIVA","OFICINA ASESORA JURÍDICA","2021-12-02","CORREO ELECTRÓNICO",{"$f":"IFERROR(WORKDAY(C1534,P1534,DiasNOLaborables),\"\")","v":"2021-12-27"},{"$f":"+IF(C1534=\"\",\"\",IF(H1534=\"\",\"SIN RESPUESTA\",(IF(H1534<=J1534,\"A TIEMPO\",\"FUERA DE TIEMPO\"))))","v":"A TIEMPO"},{"$f":"IF(H1534=\"\",\"\",NETWORKDAYS(C1534+1,H1534,DiasNOLaborables))","v":4},{"$f":"IF(NETWORKDAYS(J1534+1,H1534,DiasNOLaborables)<=0,\"\",NETWORKDAYS(J1534+1,H1534,DiasNOLaborables))","v":""},null,null,{"$f":"IFERROR(VLOOKUP(E1534,$X$51:$Y$64,2),\"\")","v":20}]
[1524,20219050134582,"2021-11-26","MODULO CONTACTENOS","SOLICITUD DE INFORMACIÓN Y DOCUMENTOS","ADMINISTRATIVA","OFICINA ASESORA JURÍDICA","2021-12-02","CORREO ELECTRÓNICO",{"$f":"IFERROR(WORKDAY(C1535,P1535,DiasNOLaborables),\"\")","v":"2021-12-27"},{"$f":"+IF(C1535=\"\",\"\",IF(H1535=\"\",\"SIN RESPUESTA\",(IF(H1535<=J1535,\"A TIEMPO\",\"FUERA DE TIEMPO\"))))","v":"A TIEMPO"},{"$f":"IF(H1535=\"\",\"\",NETWORKDAYS(C1535+1,H1535,DiasNOLaborables))","v":4},{"$f":"IF(NETWORKDAYS(J1535+1,H1535,DiasNOLaborables)<=0,\"\",NETWORKDAYS(J1535+1,H1535,DiasNOLaborables))","v":""},null,null,{"$f":"IFERROR(VLOOKUP(E1535,$X$51:$Y$64,2),\"\")","v":20}]
[1525,20219050134542,"2021-11-26","CORREO ELECTRÓNICO","CERTIFICACIONES DE TIEMPO, CLIMA Y EVENTOS HIDROLÓGICOS","CERTIFICACIONES DE TIEMPO Y CLIMA","SUBDIRECCIÓN DE METEOROLOGÍA","2021-12-09","CORREO ELECTRÓNICO",{"$f":"IFERROR(WORKDAY(C1536,P1536,DiasNOLaborables),\"\")","v":"2022-01-17"},{"$f":"+IF(C1536=\"\",\"\",IF(H1536=\"\",\"SIN RESPUESTA\",(IF(H1536<=J1536,\"A TIEMPO\",\"FUERA DE TIEMPO\"))))","v":"A TIEMPO"},{"$f":"IF(H1536=\"\",\"\",NETWORKDAYS([5]Hoja1!C1534+1,[5]Hoja1!P1534,DiasNOLaborables))","v":11},{"$f":"IF(NETWORKDAYS(J1536+1,H1536,DiasNOLaborables)<=0,\"\",NETWORKDAYS(J1536+1,H1536,DiasNOLaborables))","v":""},null,null,{"$f":"IFERROR(VLOOKUP(E1536,$X$51:$Y$64,2),\"\")","v":35}]
[1526,20219050134602,"2021-11-26","CORREO ELECTRÓNICO","SOLICITUD DE INFORMACIÓN Y DOCUMENTOS","BOSQUES","SUBDIRECCIÓN DE ECOSISTEMAS E INFORMACIÓN AMBIENTAL","2021-11-26","CORREO ELECTRÓNICO",{"$f":"IFERROR(WORKDAY(C1537,P1537,DiasNOLaborables),\"\")","v":"2021-12-27"},{"$f":"+IF(C1537=\"\",\"\",IF(H1537=\"\",\"SIN RESPUESTA\",(IF(H1537<=J1537,\"A TIEMPO\",\"FUERA DE TIEMPO\"))))","v":"A TIEMPO"},{"$f":"IF(H1537=\"\",\"\",NETWORKDAYS(C1537+1,H1537,DiasNOLaborables))","v":-1},{"$f":"IF(NETWORKDAYS(J1537+1,H1537,DiasNOLaborables)<=0,\"\",NETWORKDAYS(J1537+1,H1537,DiasNOLaborables))","v":""},null,null,{"$f":"IFERROR(VLOOKUP(E1537,$X$51:$Y$64,2),\"\")","v":20}]
[1527,20219050134612,"2021-11-26","CORREO ELECTRÓNICO","CERTIFICACIONES DE TIEMPO, CLIMA Y EVENTOS HIDROLÓGICOS","CERTIFICACIONES DE TIEMPO Y CLIMA","SUBDIRECCIÓN DE METEOROLOGÍA","2021-12-22","CORREO ELECTRÓNICO",{"$f":"IFERROR(WORKDAY(C1538,P1538,DiasNOLaborables),\"\")","v":"2022-01-17"},{"$f":"+IF(C1538=\"\",\"\",IF(H1538=\"\",\"SIN RESPUESTA\",(IF(H1538<=J1538,\"A TIEMPO\",\"FUERA DE TIEMPO\"))))","v":"A TIEMPO"},{"$f":"IF(H1538=\"\",\"\",NETWORKDAYS(C1538+1,H1538,DiasNOLaborables))","v":17},{"$f":"IF(NETWORKDAYS(J1538+1,H1538,DiasNOLaborables)<=0,\"\",NETWORKDAYS(J1538+1,H1538,DiasNOLaborables))","v":""},null,null,{"$f":"IFERROR(VLOOKUP(E1538,$X$51:$Y$64,2),\"\")","v":35}]
[1528,20219050134642,"2021-11-26","CORREO ELECTRÓNICO","SOLICITUD DE INFORMACIÓN Y DOCUMENTOS","INFORMES AMBIENTALES","SUBDIRECCIÓN DE METEOROLOGÍA","2021-12-02","CORREO ELECTRÓNICO",{"$f":"IFERROR(WORKDAY(C1539,P1539,DiasNOLaborables),\"\")","v":"2021-12-27"},{"$f":"+IF(C1539=\"\",\"\",IF(H1539=\"\",\"SIN RESPUESTA\",(IF(H1539<=J1539,\"A TIEMPO\",\"FUERA DE TIEMPO\"))))","v":"A TIEMPO"},{"$f":"IF(H1539=\"\",\"\",NETWORKDAYS(C1539+1,H1539,DiasNOLaborables))","v":4},{"$f":"IF(NETWORKDAYS(J1539+1,H1539,DiasNOLaborables)<=0,\"\",NETWORKDAYS(J1539+1,H1539,DiasNOLaborables))","v":""},null,null,{"$f":"IFERROR(VLOOKUP(E1539,$X$51:$Y$64,2),\"\")","v":20}]
[1529,20219050134652,"2021-11-26","CORREO ELECTRÓNICO","SOLICITUD DE INFORMACIÓN Y DOCUMENTOS","REGISTROS AMBIENTALES","SUBDIRECCIÓN DE ESTUDIOS AMBIENTALES","2021-11-26","CORREO ELECTRÓNICO",{"$f":"IFERROR(WORKDAY(C1540,P1540,DiasNOLaborables),\"\")","v":"2021-12-27"},{"$f":"+IF(C1540=\"\",\"\",IF(H1540=\"\",\"SIN RESPUESTA\",(IF(H1540<=J1540,\"A TIEMPO\",\"FUERA DE TIEMPO\"))))","v":"A TIEMPO"},{"$f":"IF(H1540=\"\",\"\",NETWORKDAYS(C1540+1,H1540,DiasNOLaborables))","v":-1},{"$f":"IF(NETWORKDAYS(J1540+1,H1540,DiasNOLaborables)<=0,\"\",NETWORKDAYS(J1540+1,H1540,DiasNOLaborables))","v":""},null,null,{"$f":"IFERROR(VLOOKUP(E1540,$X$51:$Y$64,2),\"\")","v":20}]
[1530,20219050134742,"2021-11-26","CORREO ELECTRÓNICO","SOLICITUD DE INFORMACIÓN Y DOCUMENTOS","REGISTROS AMBIENTALES","SUBDIRECCIÓN DE ESTUDIOS AMBIENTALES","2021-11-26","CORREO ELECTRÓNICO",{"$f":"IFERROR(WORKDAY(C1541,P1541,DiasNOLaborables),\"\")","v":"2021-12-27"},{"$f":"+IF(C1541=\"\",\"\",IF(H1541=\"\",\"SIN RESPUESTA\",(IF(H1541<=J1541,\"A TIEMPO\",\"FUERA DE TIEMPO\"))))","v":"A TIEMPO"},{"$f":"IF(H1541=\"\",\"\",NETWORKDAYS(C1541+1,H1541,DiasNOLaborables))","v":-1},{"$f":"IF(NETWORKDAYS(J1541+1,H1541,DiasNOLaborables)<=0,\"\",NETWORKDAYS(J1541+1,H1541,DiasNOLaborables))","v":""},null,null,{"$f":"IFERROR(VLOOKUP(E1541,$X$51:$Y$64,2),\"\")","v":20}]
[1531,20219910065282,"2021-11-26","CORREO ELECTRÓNICO","SOLICITUD DE INFORMACIÓN Y DOCUMENTOS","REGISTROS AMBIENTALES","SUBDIRECCIÓN DE ESTUDIOS AMBIENTALES","2021-11-29","CORREO ELECTRÓNICO",{"$f":"IFERROR(WORKDAY(C1542,P1542,DiasNOLaborables),\"\")","v":"2021-12-27"},{"$f":"+IF(C1542=\"\",\"\",IF(H1542=\"\",\"SIN RESPUESTA\",(IF(H1542<=J1542,\"A TIEMPO\",\"FUERA DE TIEMPO\"))))","v":"A TIEMPO"},{"$f":"IF(H1542=\"\",\"\",NETWORKDAYS(C1542+1,H1542,DiasNOLaborables))","v":1},{"$f":"IF(NETWORKDAYS(J1542+1,H1542,DiasNOLaborables)<=0,\"\",NETWORKDAYS(J1542+1,H1542,DiasNOLaborables))","v":""},null,null,{"$f":"IFERROR(VLOOKUP(E1542,$X$51:$Y$64,2),\"\")","v":20}]
[1532,20219910065362,"2021-11-26","CORREO ELECTRÓNICO","SOLICITUD JUDICIAL","CERTIFICACIONES HIDROLOGICAS","SUBDIRECCIÓN DE HIDROLOGÍA","2021-12-01","CORREO ELECTRÓNICO",{"$f":"IFERROR(WORKDAY(C1543,P1543,DiasNOLaborables),\"\")","v":"2021-12-03"},{"$f":"+IF(C1543=\"\",\"\",IF(H1543=\"\",\"SIN RESPUESTA\",(IF(H1543<=J1543,\"A TIEMPO\",\"FUERA DE TIEMPO\"))))","v":"A TIEMPO"},{"$f":"IF(H1543=\"\",\"\",NETWORKDAYS(C1543+1,H1543,DiasNOLaborables))","v":3},{"$f":"IF(NETWORKDAYS(J1543+1,H1543,DiasNOLaborables)<=0,\"\",NETWORKDAYS(J1543+1,H1543,DiasNOLaborables))","v":""},null,null,{"$f":"IFERROR(VLOOKUP(E1543,$X$51:$Y$64,2),\"\")","v":5}]
[1533,20219050134572,"2021-11-26","MODULO CONTACTENOS","SOLICITUD DE INFORMACIÓN Y DOCUMENTOS","ADMINISTRATIVA","GRUPO DE ADMINISTRACIÓN Y DESARROLLO DEL TALENTO HUMANO","2021-12-07","CORREO ELECTRÓNICO",{"$f":"IFERROR(WORKDAY(C1544,P1544,DiasNOLaborables),\"\")","v":"2021-12-27"},{"$f":"+IF(C1544=\"\",\"\",IF(H1544=\"\",\"SIN RESPUESTA\",(IF(H1544<=J1544,\"A TIEMPO\",\"FUERA DE TIEMPO\"))))","v":"A TIEMPO"},{"$f":"IF(H1544=\"\",\"\",NETWORKDAYS(C1544+1,H1544,DiasNOLaborables))","v":7},{"$f":"IF(NETWORKDAYS(J1544+1,H1544,DiasNOLaborables)<=0,\"\",NETWORKDAYS(J1544+1,H1544,DiasNOLaborables))","v":""},null,null,{"$f":"IFERROR(VLOOKUP(E1544,$X$51:$Y$64,2),\"\")","v":20}]
[1534,20219050134702,"2021-11-26","MODULO CONTACTENOS","CERTIFICACIONES DE TIEMPO, CLIMA Y EVENTOS HIDROLÓGICOS","CERTIFICACIONES DE TIEMPO Y CLIMA","SUBDIRECCIÓN DE METEOROLOGÍA","2021-12-02","CORREO ELECTRÓNICO",{"$f":"IFERROR(WORKDAY(C1545,P1545,DiasNOLaborables),\"\")","v":"2022-01-17"},{"$f":"+IF(C1545=\"\",\"\",IF(H1545=\"\",\"SIN RESPUESTA\",(IF(H1545<=J1545,\"A TIEMPO\",\"FUERA DE TIEMPO\"))))","v":"A TIEMPO"},{"$f":"IF(H1545=\"\",\"\",NETWORKDAYS(C1545+1,H1545,DiasNOLaborables))","v":4},{"$f":"IF(NETWORKDAYS(J1545+1,H1545,DiasNOLaborables)<=0,\"\",NETWORKDAYS(J1545+1,H1545,DiasNOLaborables))","v":""},null,null,{"$f":"IFERROR(VLOOKUP(E1545,$X$51:$Y$64,2),\"\")","v":35}]
[1535,20219050134712,"2021-11-26","MODULO CONTACTENOS","CERTIFICACIONES DE TIEMPO, CLIMA Y EVENTOS HIDROLÓGICOS","CERTIFICACIONES DE TIEMPO Y CLIMA","SUBDIRECCIÓN DE METEOROLOGÍA","2021-12-09","CORREO ELECTRÓNICO",{"$f":"IFERROR(WORKDAY(C1546,P1546,DiasNOLaborables),\"\")","v":"2022-01-17"},{"$f":"+IF(C1546=\"\",\"\",IF(H1546=\"\",\"SIN RESPUESTA\",(IF(H1546<=J1546,\"A TIEMPO\",\"FUERA DE TIEMPO\"))))","v":"A TIEMPO"},{"$f":"IF(H1546=\"\",\"\",NETWORKDAYS(C1546+1,H1546,DiasNOLaborables))","v":8},{"$f":"IF(NETWORKDAYS(J1546+1,H1546,DiasNOLaborables)<=0,\"\",NETWORKDAYS(J1546+1,H1546,DiasNOLaborables))","v":""},null,null,{"$f":"IFERROR(VLOOKUP(E1546,$X$51:$Y$64,2),\"\")","v":35}]
[1536,20219050134682,"2021-11-26","MODULO CONTACTENOS","CERTIFICACIONES DE TIEMPO, CLIMA Y EVENTOS HIDROLÓGICOS","CERTIFICACIONES DE TIEMPO Y CLIMA","SUBDIRECCIÓN DE METEOROLOGÍA","2021-12-02","CORREO ELECTRÓNICO",{"$f":"IFERROR(WORKDAY(C1547,P1547,DiasNOLaborables),\"\")","v":"2022-01-17"},{"$f":"+IF(C1547=\"\",\"\",IF(H1547=\"\",\"SIN RESPUESTA\",(IF(H1547<=J1547,\"A TIEMPO\",\"FUERA DE TIEMPO\"))))","v":"A TIEMPO"},{"$f":"IF(H1547=\"\",\"\",NETWORKDAYS(C1547+1,H1547,DiasNOLaborables))","v":4},{"$f":"IF(NETWORKDAYS(J1547+1,H1547,DiasNOLaborables)<=0,\"\",NETWORKDAYS(J1547+1,H1547,DiasNOLaborables))","v":""},null,null,{"$f":"IFERROR(VLOOKUP(E1547,$X$51:$Y$64,2),\"\")","v":35}]
[1537,20219050134622,"2021-11-26","MODULO CONTACTENOS","SOLICITUD DE INFORMACIÓN Y DOCUMENTOS","ADMINISTRATIVA","GRUPO DE ADMINISTRACIÓN Y DESARROLLO DEL TALENTO HUMANO","2021-12-09","CORREO ELECTRÓNICO",{"$f":"IFERROR(WORKDAY(C1548,P1548,DiasNOLaborables),\"\")","v":"2021-12-27"},{"$f":"+IF(C1548=\"\",\"\",IF(H1548=\"\",\"SIN RESPUESTA\",(IF(H1548<=J1548,\"A TIEMPO\",\"FUERA DE TIEMPO\"))))","v":"A TIEMPO"},{"$f":"IF(H1548=\"\",\"\",NETWORKDAYS(C1548+1,H1548,DiasNOLaborables))","v":8},{"$f":"IF(NETWORKDAYS(J1548+1,H1548,DiasNOLaborables)<=0,\"\",NETWORKDAYS(J1548+1,H1548,DiasNOLaborables))","v":""},null,null,{"$f":"IFERROR(VLOOKUP(E1548,$X$51:$Y$64,2),\"\")","v":20}]
[1538,20219050134722,"2021-11-26","MODULO CONTACTENOS","SOLICITUD DE INFORMACIÓN Y DOCUMENTOS","ADMINISTRATIVA","GRUPO DE ADMINISTRACIÓN Y DESARROLLO DEL TALENTO HUMANO","2021-11-26","CORREO ELECTRÓNICO",{"$f":"IFERROR(WORKDAY(C1549,P1549,DiasNOLaborables),\"\")","v":"2021-12-27"},{"$f":"+IF(C1549=\"\",\"\",IF(H1549=\"\",\"SIN RESPUESTA\",(IF(H1549<=J1549,\"A TIEMPO\",\"FUERA DE TIEMPO\"))))","v":"A TIEMPO"},{"$f":"IF(H1549=\"\",\"\",NETWORKDAYS(C1549+1,H1549,DiasNOLaborables))","v":-1},{"$f":"IF(NETWORKDAYS(J1549+1,H1549,DiasNOLaborables)<=0,\"\",NETWORKDAYS(J1549+1,H1549,DiasNOLaborables))","v":""},null,null,{"$f":"IFERROR(VLOOKUP(E1549,$X$51:$Y$64,2),\"\")","v":20}]
[{"$f":"IF(B1550<>\"\",A1549+1,\"\")","v":1539},20219050134772,"2021-11-26","MODULO CONTACTENOS","CERTIFICACIONES DE TIEMPO, CLIMA Y EVENTOS HIDROLÓGICOS","CERTIFICACIONES DE TIEMPO Y CLIMA","SUBDIRECCIÓN DE METEOROLOGÍA","2021-12-23","CORREO ELECTRÓNICO",{"$f":"IFERROR(WORKDAY(C1550,P1550,DiasNOLaborables),\"\")","v":"2022-01-17"},{"$f":"+IF(C1550=\"\",\"\",IF(H1550=\"\",\"SIN RESPUESTA\",(IF(H1550<=J1550,\"A TIEMPO\",\"FUERA DE TIEMPO\"))))","v":"A TIEMPO"},{"$f":"IF(H1550=\"\",\"\",NETWORKDAYS(C1550+1,H1550,DiasNOLaborables))","v":18},{"$f":"IF(NETWORKDAYS(J1550+1,H1550,DiasNOLaborables)<=0,\"\",NETWORKDAYS(J1550+1,H1550,DiasNOLaborables))","v":""},null,null,{"$f":"IFERROR(VLOOKUP(E1550,$X$51:$Y$64,2),\"\")","v":35}]
[1540,20219050134782,"2021-11-26","MODULO CONTACTENOS","SOLICITUD DE INFORMACIÓN Y DOCUMENTOS","CERTIFICACIONES DE TIEMPO Y CLIMA","SUBDIRECCIÓN DE METEOROLOGÍA","2021-12-24","CORREO ELECTRÓNICO",{"$f":"IFERROR(WORKDAY(C1551,P1551,DiasNOLaborables),\"\")","v":"2021-12-27"},{"$f":"+IF(C1551=\"\",\"\",IF(H1551=\"\",\"SIN RESPUESTA\",(IF(H1551<=J1551,\"A TIEMPO\",\"FUERA DE TIEMPO\"))))","v":"A TIEMPO"},{"$f":"IF(H1551=\"\",\"\",NETWORKDAYS(C1551+1,H1551,DiasNOLaborables))","v":19},{"$f":"IF(NETWORKDAYS(J1551+1,H1551,DiasNOLaborables)<=0,\"\",NETWORKDAYS(J1551+1,H1551,DiasNOLaborables))","v":""},null,null,{"$f":"IFERROR(VLOOKUP(E1551,$X$51:$Y$64,2),\"\")","v":20}]
[1541,20219050134792,"2021-11-26","CORREO ELECTRÓNICO","SOLICITUD DE INFORMACIÓN Y DOCUMENTOS","BOSQUES","SUBDIRECCIÓN DE ECOSISTEMAS E INFORMACIÓN AMBIENTAL","2021-11-26","CORREO ELECTRÓNICO",{"$f":"IFERROR(WORKDAY(C1552,P1552,DiasNOLaborables),\"\")","v":"2021-12-27"},{"$f":"+IF(C1552=\"\",\"\",IF(H1552=\"\",\"SIN RESPUESTA\",(IF(H1552<=J1552,\"A TIEMPO\",\"FUERA DE TIEMPO\"))))","v":"A TIEMPO"},{"$f":"IF(H1552=\"\",\"\",NETWORKDAYS(C1552+1,H1552,DiasNOLaborables))","v":-1},{"$f":"IF(NETWORKDAYS(J1552+1,H1552,DiasNOLaborables)<=0,\"\",NETWORKDAYS(J1552+1,H1552,DiasNOLaborables))","v":""},null,null,{"$f":"IFERROR(VLOOKUP(E1552,$X$51:$Y$64,2),\"\")","v":20}]
[1542,20219050134802,"2021-11-26","CORREO ELECTRÓNICO","SOLICITUD DE INFORMACIÓN Y DOCUMENTOS","REGISTROS AMBIENTALES","SUBDIRECCIÓN DE ESTUDIOS AMBIENTALES","2021-12-09","CORREO ELECTRÓNICO",{"$f":"IFERROR(WORKDAY(C1553,P1553,DiasNOLaborables),\"\")","v":"2021-12-27"},{"$f":"+IF(C1553=\"\",\"\",IF(H1553=\"\",\"SIN RESPUESTA\",(IF(H1553<=J1553,\"A TIEMPO\",\"FUERA DE TIEMPO\"))))","v":"A TIEMPO"},{"$f":"IF(H1553=\"\",\"\",NETWORKDAYS(C1553+1,H1553,DiasNOLaborables))","v":8},{"$f":"IF(NETWORKDAYS(J1553+1,H1553,DiasNOLaborables)<=0,\"\",NETWORKDAYS(J1553+1,H1553,DiasNOLaborables))","v":""},null,null,{"$f":"IFERROR(VLOOKUP(E1553,$X$51:$Y$64,2),\"\")","v":20}]
[1543,20219050134822,"2021-11-26","CORREO ELECTRÓNICO","SOLICITUD DE INFORMACIÓN Y DOCUMENTOS","INFORMES AMBIENTALES","SUBDIRECCIÓN DE METEOROLOGÍA","2021-12-06","CORREO ELECTRÓNICO",{"$f":"IFERROR(WORKDAY(C1554,P1554,DiasNOLaborables),\"\")","v":"2021-12-27"},{"$f":"+IF(C1554=\"\",\"\",IF(H1554=\"\",\"SIN RESPUESTA\",(IF(H1554<=J1554,\"A TIEMPO\",\"FUERA DE TIEMPO\"))))","v":"A TIEMPO"},{"$f":"IF(H1554=\"\",\"\",NETWORKDAYS(C1554+1,H1554,DiasNOLaborables))","v":6},{"$f":"IF(NETWORKDAYS(J1554+1,H1554,DiasNOLaborables)<=0,\"\",NETWORKDAYS(J1554+1,H1554,DiasNOLaborables))","v":""},null,null,{"$f":"IFERROR(VLOOKUP(E1554,$X$51:$Y$64,2),\"\")","v":20}]
[1544,20219050134832,"2021-11-26","CORREO ELECTRÓNICO","CERTIFICACIONES DE TIEMPO, CLIMA Y EVENTOS HIDROLÓGICOS","CERTIFICACIONES DE TIEMPO Y CLIMA","SUBDIRECCIÓN DE METEOROLOGÍA","2021-12-01","CORREO ELECTRÓNICO",{"$f":"IFERROR(WORKDAY(C1555,P1555,DiasNOLaborables),\"\")","v":"2022-01-17"},{"$f":"+IF(C1555=\"\",\"\",IF(H1555=\"\",\"SIN RESPUESTA\",(IF(H1555<=J1555,\"A TIEMPO\",\"FUERA DE TIEMPO\"))))","v":"A TIEMPO"},{"$f":"IF(H1555=\"\",\"\",NETWORKDAYS(C1555+1,H1555,DiasNOLaborables))","v":3},{"$f":"IF(NETWORKDAYS(J1555+1,H1555,DiasNOLaborables)<=0,\"\",NETWORKDAYS(J1555+1,H1555,DiasNOLaborables))","v":""},null,null,{"$f":"IFERROR(VLOOKUP(E1555,$X$51:$Y$64,2),\"\")","v":35}]
[1545,20219050134882,"2021-11-26","MODULO CONTACTENOS","SOLICITUD DE INFORMACIÓN Y DOCUMENTOS","ADMINISTRATIVA","OFICINA ASESORA JURÍDICA","2021-12-02","CORREO ELECTRÓNICO",{"$f":"IFERROR(WORKDAY(C1556,P1556,DiasNOLaborables),\"\")","v":"2021-12-27"},{"$f":"+IF(C1556=\"\",\"\",IF(H1556=\"\",\"SIN RESPUESTA\",(IF(H1556<=J1556,\"A TIEMPO\",\"FUERA DE TIEMPO\"))))","v":"A TIEMPO"},{"$f":"IF(H1556=\"\",\"\",NETWORKDAYS(C1556+1,H1556,DiasNOLaborables))","v":4},{"$f":"IF(NETWORKDAYS(J1556+1,H1556,DiasNOLaborables)<=0,\"\",NETWORKDAYS(J1556+1,H1556,DiasNOLaborables))","v":""},null,null,{"$f":"IFERROR(VLOOKUP(E1556,$X$51:$Y$64,2),\"\")","v":20}]
[1546,20219050134812,"2021-11-26","MODULO CONTACTENOS","SOLICITUD DE INFORMACIÓN Y DOCUMENTOS","SOLICITUD DE INFORMACIÓN HIDROMETEOROLÓGICA","GRUPO DE SERVICIO AL CIUDADANO ","2021-11-30","CORREO ELECTRÓNICO",{"$f":"IFERROR(WORKDAY(C1557,P1557,DiasNOLaborables),\"\")","v":"2021-12-27"},{"$f":"+IF(C1557=\"\",\"\",IF(H1557=\"\",\"SIN RESPUESTA\",(IF(H1557<=J1557,\"A TIEMPO\",\"FUERA DE TIEMPO\"))))","v":"A TIEMPO"},{"$f":"IF(H1557=\"\",\"\",NETWORKDAYS(C1557+1,H1557,DiasNOLaborables))","v":2},{"$f":"IF(NETWORKDAYS(J1557+1,H1557,DiasNOLaborables)<=0,\"\",NETWORKDAYS(J1557+1,H1557,DiasNOLaborables))","v":""},null,null,{"$f":"IFERROR(VLOOKUP(E1557,$X$51:$Y$64,2),\"\")","v":20}]
[1547,20219050134842,"2021-11-26","MODULO CONTACTENOS","SOLICITUD DE INFORMACIÓN Y DOCUMENTOS","SOLICITUD DE INFORMACIÓN HIDROMETEOROLÓGICA","GRUPO DE SERVICIO AL CIUDADANO ","2021-11-30","CORREO ELECTRÓNICO",{"$f":"IFERROR(WORKDAY(C1558,P1558,DiasNOLaborables),\"\")","v":"2021-12-27"},{"$f":"+IF(C1558=\"\",\"\",IF(H1558=\"\",\"SIN RESPUESTA\",(IF(H1558<=J1558,\"A TIEMPO\",\"FUERA DE TIEMPO\"))))","v":"A TIEMPO"},{"$f":"IF(H1558=\"\",\"\",NETWORKDAYS(C1558+1,H1558,DiasNOLaborables))","v":2},{"$f":"IF(NETWORKDAYS(J1558+1,H1558,DiasNOLaborables)<=0,\"\",NETWORKDAYS(J1558+1,H1558,DiasNOLaborables))","v":""},null,null,{"$f":"IFERROR(VLOOKUP(E1558,$X$51:$Y$64,2),\"\")","v":20}]
[1548,20219050134862,"2021-11-26","MODULO CONTACTENOS","SOLICITUD DE INFORMACIÓN Y DOCUMENTOS","SOLICITUD DE INFORMACIÓN HIDROMETEOROLÓGICA","GRUPO DE SERVICIO AL CIUDADANO ","2021-11-30","CORREO ELECTRÓNICO",{"$f":"IFERROR(WORKDAY(C1559,P1559,DiasNOLaborables),\"\")","v":"2021-12-27"},{"$f":"+IF(C1559=\"\",\"\",IF(H1559=\"\",\"SIN RESPUESTA\",(IF(H1559<=J1559,\"A TIEMPO\",\"FUERA DE TIEMPO\"))))","v":"A TIEMPO"},{"$f":"IF(H1559=\"\",\"\",NETWORKDAYS(C1559+1,H1559,DiasNOLaborables))","v":2},{"$f":"IF(NETWORKDAYS(J1559+1,H1559,DiasNOLaborables)<=0,\"\",NETWORKDAYS(J1559+1,H1559,DiasNOLaborables))","v":""},null,null,{"$f":"IFERROR(VLOOKUP(E1559,$X$51:$Y$64,2),\"\")","v":20}]
[1549,20219050134892,"2021-11-27","MODULO CONTACTENOS","SOLICITUD DE INFORMACIÓN Y DOCUMENTOS","SOLICITUD DE INFORMACIÓN HIDROMETEOROLÓGICA","GRUPO DE SERVICIO AL CIUDADANO ","2021-11-30","CORREO ELECTRÓNICO",{"$f":"IFERROR(WORKDAY(C1560,P1560,DiasNOLaborables),\"\")","v":"2021-12-27"},{"$f":"+IF(C1560=\"\",\"\",IF(H1560=\"\",\"SIN RESPUESTA\",(IF(H1560<=J1560,\"A TIEMPO\",\"FUERA DE TIEMPO\"))))","v":"A TIEMPO"},{"$f":"IF(H1560=\"\",\"\",NETWORKDAYS(C1560+1,H1560,DiasNOLaborables))","v":2},{"$f":"IF(NETWORKDAYS(J1560+1,H1560,DiasNOLaborables)<=0,\"\",NETWORKDAYS(J1560+1,H1560,DiasNOLaborables))","v":""},null,null,{"$f":"IFERROR(VLOOKUP(E1560,$X$51:$Y$64,2),\"\")","v":20}]
[1550,20219050134902,"2021-11-27","MODULO CONTACTENOS","SOLICITUD DE INFORMACIÓN Y DOCUMENTOS","SOLICITUD DE INFORMACIÓN HIDROMETEOROLÓGICA","GRUPO DE SERVICIO AL CIUDADANO ","2021-11-30","CORREO ELECTRÓNICO",{"$f":"IFERROR(WORKDAY(C1561,P1561,DiasNOLaborables),\"\")","v":"2021-12-27"},{"$f":"+IF(C1561=\"\",\"\",IF(H1561=\"\",\"SIN RESPUESTA\",(IF(H1561<=J1561,\"A TIEMPO\",\"FUERA DE TIEMPO\"))))","v":"A TIEMPO"},{"$f":"IF(H1561=\"\",\"\",NETWORKDAYS(C1561+1,H1561,DiasNOLaborables))","v":2},{"$f":"IF(NETWORKDAYS(J1561+1,H1561,DiasNOLaborables)<=0,\"\",NETWORKDAYS(J1561+1,H1561,DiasNOLaborables))","v":""},null,null,{"$f":"IFERROR(VLOOKUP(E1561,$X$51:$Y$64,2),\"\")","v":20}]
[1551,20219050134912,"2021-11-27","MODULO CONTACTENOS","SOLICITUD DE INFORMACIÓN Y DOCUMENTOS","SOLICITUD DE INFORMACIÓN HIDROMETEOROLÓGICA","GRUPO DE SERVICIO AL CIUDADANO ","2021-11-30","CORREO ELECTRÓNICO",{"$f":"IFERROR(WORKDAY(C1562,P1562,DiasNOLaborables),\"\")","v":"2021-12-27"},{"$f":"+IF(C1562=\"\",\"\",IF(H1562=\"\",\"SIN RESPUESTA\",(IF(H1562<=J1562,\"A TIEMPO\",\"FUERA DE TIEMPO\"))))","v":"A TIEMPO"},{"$f":"IF(H1562=\"\",\"\",NETWORKDAYS(C1562+1,H1562,DiasNOLaborables))","v":2},{"$f":"IF(NETWORKDAYS(J1562+1,H1562,DiasNOLaborables)<=0,\"\",NETWORKDAYS(J1562+1,H1562,DiasNOLaborables))","v":""},null,null,{"$f":"IFERROR(VLOOKUP(E1562,$X$51:$Y$64,2),\"\")","v":20}]
[1552,20219050134922,"2021-11-27","MODULO CONTACTENOS","SOLICITUD DE INFORMACIÓN Y DOCUMENTOS","SOLICITUD DE INFORMACIÓN HIDROMETEOROLÓGICA","GRUPO DE SERVICIO AL CIUDADANO ","2021-11-30","CORREO ELECTRÓNICO",{"$f":"IFERROR(WORKDAY(C1563,P1563,DiasNOLaborables),\"\")","v":"2021-12-27"},{"$f":"+IF(C1563=\"\",\"\",IF(H1563=\"\",\"SIN RESPUESTA\",(IF(H1563<=J1563,\"A TIEMPO\",\"FUERA DE TIEMPO\"))))","v":"A TIEMPO"},{"$f":"IF(H1563=\"\",\"\",NETWORKDAYS(C1563+1,H1563,DiasNOLaborables))","v":2},{"$f":"IF(NETWORKDAYS(J1563+1,H1563,DiasNOLaborables)<=0,\"\",NETWORKDAYS(J1563+1,H1563,DiasNOLaborables))","v":""},null,null,{"$f":"IFERROR(VLOOKUP(E1563,$X$51:$Y$64,2),\"\")","v":20}]
[1553,20219050134932,"2021-11-27","MODULO CONTACTENOS","SOLICITUD DE INFORMACIÓN Y DOCUMENTOS","SOLICITUD DE INFORMACIÓN HIDROMETEOROLÓGICA","GRUPO DE SERVICIO AL CIUDADANO ","2021-12-01","CORREO ELECTRÓNICO",{"$f":"IFERROR(WORKDAY(C1564,P1564,DiasNOLaborables),\"\")","v":"2021-12-27"},{"$f":"+IF(C1564=\"\",\"\",IF(H1564=\"\",\"SIN RESPUESTA\",(IF(H1564<=J1564,\"A TIEMPO\",\"FUERA DE TIEMPO\"))))","v":"A TIEMPO"},{"$f":"IF(H1564=\"\",\"\",NETWORKDAYS(C1564+1,H1564,DiasNOLaborables))","v":3},{"$f":"IF(NETWORKDAYS(J1564+1,H1564,DiasNOLaborables)<=0,\"\",NETWORKDAYS(J1564+1,H1564,DiasNOLaborables))","v":""},null,null,{"$f":"IFERROR(VLOOKUP(E1564,$X$51:$Y$64,2),\"\")","v":20}]
[1554,20219050134942,"2021-11-27","MODULO CONTACTENOS","SOLICITUD DE INFORMACIÓN Y DOCUMENTOS","SOLICITUD DE INFORMACIÓN HIDROMETEOROLÓGICA","GRUPO DE SERVICIO AL CIUDADANO ","2021-12-01","CORREO ELECTRÓNICO",{"$f":"IFERROR(WORKDAY(C1565,P1565,DiasNOLaborables),\"\")","v":"2021-12-27"},{"$f":"+IF(C1565=\"\",\"\",IF(H1565=\"\",\"SIN RESPUESTA\",(IF(H1565<=J1565,\"A TIEMPO\",\"FUERA DE TIEMPO\"))))","v":"A TIEMPO"},{"$f":"IF(H1565=\"\",\"\",NETWORKDAYS(C1565+1,H1565,DiasNOLaborables))","v":3},{"$f":"IF(NETWORKDAYS(J1565+1,H1565,DiasNOLaborables)<=0,\"\",NETWORKDAYS(J1565+1,H1565,DiasNOLaborables))","v":""},null,null,{"$f":"IFERROR(VLOOKUP(E1565,$X$51:$Y$64,2),\"\")","v":20}]
[1555,20219050134952,"2021-11-27","MODULO CONTACTENOS","SOLICITUD DE INFORMACIÓN Y DOCUMENTOS","SOLICITUD DE INFORMACIÓN HIDROMETEOROLÓGICA","GRUPO DE SERVICIO AL CIUDADANO ","2021-12-01","CORREO ELECTRÓNICO",{"$f":"IFERROR(WORKDAY(C1566,P1566,DiasNOLaborables),\"\")","v":"2021-12-27"},{"$f":"+IF(C1566=\"\",\"\",IF(H1566=\"\",\"SIN RESPUESTA\",(IF(H1566<=J1566,\"A TIEMPO\",\"FUERA DE TIEMPO\"))))","v":"A TIEMPO"},{"$f":"IF(H1566=\"\",\"\",NETWORKDAYS(C1566+1,H1566,DiasNOLaborables))","v":3},{"$f":"IF(NETWORKDAYS(J1566+1,H1566,DiasNOLaborables)<=0,\"\",NETWORKDAYS(J1566+1,H1566,DiasNOLaborables))","v":""},null,null,{"$f":"IFERROR(VLOOKUP(E1566,$X$51:$Y$64,2),\"\")","v":20}]
[1556,20219050134962,"2021-11-27","MODULO CONTACTENOS","SOLICITUD DE INFORMACIÓN Y DOCUMENTOS","SOLICITUD DE INFORMACIÓN HIDROMETEOROLÓGICA","GRUPO DE SERVICIO AL CIUDADANO ","2021-12-01","CORREO ELECTRÓNICO",{"$f":"IFERROR(WORKDAY(C1567,P1567,DiasNOLaborables),\"\")","v":"2021-12-27"},{"$f":"+IF(C1567=\"\",\"\",IF(H1567=\"\",\"SIN RESPUESTA\",(IF(H1567<=J1567,\"A TIEMPO\",\"FUERA DE TIEMPO\"))))","v":"A TIEMPO"},{"$f":"IF(H1567=\"\",\"\",NETWORKDAYS(C1567+1,H1567,DiasNOLaborables))","v":3},{"$f":"IF(NETWORKDAYS(J1567+1,H1567,DiasNOLaborables)<=0,\"\",NETWORKDAYS(J1567+1,H1567,DiasNOLaborables))","v":""},null,null,{"$f":"IFERROR(VLOOKUP(E1567,$X$51:$Y$64,2),\"\")","v":20}]
[1557,20219050135002,"2021-11-28","MODULO CONTACTENOS","CERTIFICACIONES DE TIEMPO, CLIMA Y EVENTOS HIDROLÓGICOS","CERTIFICACIONES DE TIEMPO Y CLIMA","SUBDIRECCIÓN DE METEOROLOGÍA","2021-12-15","CORREO ELECTRÓNICO",{"$f":"IFERROR(WORKDAY(C1568,P1568,DiasNOLaborables),\"\")","v":"2022-01-17"},{"$f":"+IF(C1568=\"\",\"\",IF(H1568=\"\",\"SIN RESPUESTA\",(IF(H1568<=J1568,\"A TIEMPO\",\"FUERA DE TIEMPO\"))))","v":"A TIEMPO"},{"$f":"IF(H1568=\"\",\"\",NETWORKDAYS(C1568+1,H1568,DiasNOLaborables))","v":12},{"$f":"IF(NETWORKDAYS(J1568+1,H1568,DiasNOLaborables)<=0,\"\",NETWORKDAYS(J1568+1,H1568,DiasNOLaborables))","v":""},null,null,{"$f":"IFERROR(VLOOKUP(E1568,$X$51:$Y$64,2),\"\")","v":35}]
[1558,20219050135022,"2021-11-28","MODULO CONTACTENOS","SOLICITUD DE INFORMACIÓN Y DOCUMENTOS","SOLICITUD DE INFORMACIÓN HIDROMETEOROLÓGICA","GRUPO DE SERVICIO AL CIUDADANO ","2021-12-01","CORREO ELECTRÓNICO",{"$f":"IFERROR(WORKDAY(C1569,P1569,DiasNOLaborables),\"\")","v":"2021-12-27"},{"$f":"+IF(C1569=\"\",\"\",IF(H1569=\"\",\"SIN RESPUESTA\",(IF(H1569<=J1569,\"A TIEMPO\",\"FUERA DE TIEMPO\"))))","v":"A TIEMPO"},{"$f":"IF(H1569=\"\",\"\",NETWORKDAYS(C1569+1,H1569,DiasNOLaborables))","v":3},{"$f":"IF(NETWORKDAYS(J1569+1,H1569,DiasNOLaborables)<=0,\"\",NETWORKDAYS(J1569+1,H1569,DiasNOLaborables))","v":""},null,null,{"$f":"IFERROR(VLOOKUP(E1569,$X$51:$Y$64,2),\"\")","v":20}]
[1559,20219050135052,"2021-11-29","CORREO ELECTRÓNICO","SOLICITUD DE INFORMACIÓN Y DOCUMENTOS","SOLICITUD DE INFORMACIÓN HIDROMETEOROLÓGICA","GRUPO DE SERVICIO AL CIUDADANO ","2021-12-01","CORREO ELECTRÓNICO",{"$f":"IFERROR(WORKDAY(C1570,P1570,DiasNOLaborables),\"\")","v":"2021-12-28"},{"$f":"+IF(C1570=\"\",\"\",IF(H1570=\"\",\"SIN RESPUESTA\",(IF(H1570<=J1570,\"A TIEMPO\",\"FUERA DE TIEMPO\"))))","v":"A TIEMPO"},{"$f":"IF(H1570=\"\",\"\",NETWORKDAYS(C1570+1,H1570,DiasNOLaborables))","v":2},{"$f":"IF(NETWORKDAYS(J1570+1,H1570,DiasNOLaborables)<=0,\"\",NETWORKDAYS(J1570+1,H1570,DiasNOLaborables))","v":""},null,null,{"$f":"IFERROR(VLOOKUP(E1570,$X$51:$Y$64,2),\"\")","v":20}]
[1560,20219050135082,"2021-11-29","MODULO CONTACTENOS","SOLICITUD DE INFORMACIÓN Y DOCUMENTOS","SOLICITUD DE INFORMACIÓN HIDROMETEOROLÓGICA","GRUPO DE SERVICIO AL CIUDADANO ","2021-12-01","CORREO ELECTRÓNICO",{"$f":"IFERROR(WORKDAY(C1571,P1571,DiasNOLaborables),\"\")","v":"2021-12-28"},{"$f":"+IF(C1571=\"\",\"\",IF(H1571=\"\",\"SIN RESPUESTA\",(IF(H1571<=J1571,\"A TIEMPO\",\"FUERA DE TIEMPO\"))))","v":"A TIEMPO"},{"$f":"IF(H1571=\"\",\"\",NETWORKDAYS(C1571+1,H1571,DiasNOLaborables))","v":2},{"$f":"IF(NETWORKDAYS(J1571+1,H1571,DiasNOLaborables)<=0,\"\",NETWORKDAYS(J1571+1,H1571,DiasNOLaborables))","v":""},null,null,{"$f":"IFERROR(VLOOKUP(E1571,$X$51:$Y$64,2),\"\")","v":20}]
[1561,20219050135072,"2021-11-29","CORREO ELECTRÓNICO","SOLICITUD DE INFORMACIÓN Y DOCUMENTOS","SOLICITUD DE INFORMACIÓN HIDROMETEOROLÓGICA","GRUPO DE SERVICIO AL CIUDADANO ","2021-12-01","CORREO ELECTRÓNICO",{"$f":"IFERROR(WORKDAY(C1572,P1572,DiasNOLaborables),\"\")","v":"2021-12-28"},{"$f":"+IF(C1572=\"\",\"\",IF(H1572=\"\",\"SIN RESPUESTA\",(IF(H1572<=J1572,\"A TIEMPO\",\"FUERA DE TIEMPO\"))))","v":"A TIEMPO"},{"$f":"IF(H1572=\"\",\"\",NETWORKDAYS(C1572+1,H1572,DiasNOLaborables))","v":2},{"$f":"IF(NETWORKDAYS(J1572+1,H1572,DiasNOLaborables)<=0,\"\",NETWORKDAYS(J1572+1,H1572,DiasNOLaborables))","v":""},null,null,{"$f":"IFERROR(VLOOKUP(E1572,$X$51:$Y$64,2),\"\")","v":20}]
[1562,20219050135092,"2021-11-29","MODULO CONTACTENOS","SOLICITUD DE INFORMACIÓN Y DOCUMENTOS","SOLICITUD DE INFORMACIÓN HIDROMETEOROLÓGICA","GRUPO DE SERVICIO AL CIUDADANO ","2021-12-01","CORREO ELECTRÓNICO",{"$f":"IFERROR(WORKDAY(C1573,P1573,DiasNOLaborables),\"\")","v":"2021-12-28"},{"$f":"+IF(C1573=\"\",\"\",IF(H1573=\"\",\"SIN RESPUESTA\",(IF(H1573<=J1573,\"A TIEMPO\",\"FUERA DE TIEMPO\"))))","v":"A TIEMPO"},{"$f":"IF(H1573=\"\",\"\",NETWORKDAYS(C1573+1,H1573,DiasNOLaborables))","v":2},{"$f":"IF(NETWORKDAYS(J1573+1,H1573,DiasNOLaborables)<=0,\"\",NETWORKDAYS(J1573+1,H1573,DiasNOLaborables))","v":""},null,null,{"$f":"IFERROR(VLOOKUP(E1573,$X$51:$Y$64,2),\"\")","v":20}]
[1563,20219050135102,"2021-11-29","CORREO ELECTRÓNICO","SOLICITUD DE INFORMACIÓN Y DOCUMENTOS","SOLICITUD DE INFORMACIÓN HIDROMETEOROLÓGICA","GRUPO DE SERVICIO AL CIUDADANO ","2021-12-02","CORREO ELECTRÓNICO",{"$f":"IFERROR(WORKDAY(C1574,P1574,DiasNOLaborables),\"\")","v":"2021-12-28"},{"$f":"+IF(C1574=\"\",\"\",IF(H1574=\"\",\"SIN RESPUESTA\",(IF(H1574<=J1574,\"A TIEMPO\",\"FUERA DE TIEMPO\"))))","v":"A TIEMPO"},{"$f":"IF(H1574=\"\",\"\",NETWORKDAYS(C1574+1,H1574,DiasNOLaborables))","v":3},{"$f":"IF(NETWORKDAYS(J1574+1,H1574,DiasNOLaborables)<=0,\"\",NETWORKDAYS(J1574+1,H1574,DiasNOLaborables))","v":""},null,null,{"$f":"IFERROR(VLOOKUP(E1574,$X$51:$Y$64,2),\"\")","v":20}]
[1564,20219050135122,"2021-11-29","CORREO ELECTRÓNICO","SOLICITUD DE INFORMACIÓN Y DOCUMENTOS","SOLICITUD DE INFORMACIÓN HIDROMETEOROLÓGICA","GRUPO DE SERVICIO AL CIUDADANO ","2021-12-02","CORREO ELECTRÓNICO",{"$f":"IFERROR(WORKDAY(C1575,P1575,DiasNOLaborables),\"\")","v":"2021-12-28"},{"$f":"+IF(C1575=\"\",\"\",IF(H1575=\"\",\"SIN RESPUESTA\",(IF(H1575<=J1575,\"A TIEMPO\",\"FUERA DE TIEMPO\"))))","v":"A TIEMPO"},{"$f":"IF(H1575=\"\",\"\",NETWORKDAYS(C1575+1,H1575,DiasNOLaborables))","v":3},{"$f":"IF(NETWORKDAYS(J1575+1,H1575,DiasNOLaborables)<=0,\"\",NETWORKDAYS(J1575+1,H1575,DiasNOLaborables))","v":""},null,null,{"$f":"IFERROR(VLOOKUP(E1575,$X$51:$Y$64,2),\"\")","v":20}]
[1565,20219050135132,"2021-11-29","CORREO ELECTRÓNICO","SOLICITUD DE INFORMACIÓN Y DOCUMENTOS","SOLICITUD DE INFORMACIÓN HIDROMETEOROLÓGICA","GRUPO DE SERVICIO AL CIUDADANO ","2021-12-02","CORREO ELECTRÓNICO",{"$f":"IFERROR(WORKDAY(C1576,P1576,DiasNOLaborables),\"\")","v":"2021-12-28"},{"$f":"+IF(C1576=\"\",\"\",IF(H1576=\"\",\"SIN RESPUESTA\",(IF(H1576<=J1576,\"A TIEMPO\",\"FUERA DE TIEMPO\"))))","v":"A TIEMPO"},{"$f":"IF(H1576=\"\",\"\",NETWORKDAYS(C1576+1,H1576,DiasNOLaborables))","v":3},{"$f":"IF(NETWORKDAYS(J1576+1,H1576,DiasNOLaborables)<=0,\"\",NETWORKDAYS(J1576+1,H1576,DiasNOLaborables))","v":""},null,null,{"$f":"IFERROR(VLOOKUP(E1576,$X$51:$Y$64,2),\"\")","v":20}]
[1566,20219050135142,"2021-11-29","CORREO ELECTRÓNICO","SOLICITUD DE INFORMACIÓN Y DOCUMENTOS","SOLICITUD DE INFORMACIÓN HIDROMETEOROLÓGICA","GRUPO DE SERVICIO AL CIUDADANO ","2021-12-02","CORREO ELECTRÓNICO",{"$f":"IFERROR(WORKDAY(C1577,P1577,DiasNOLaborables),\"\")","v":"2021-12-28"},{"$f":"+IF(C1577=\"\",\"\",IF(H1577=\"\",\"SIN RESPUESTA\",(IF(H1577<=J1577,\"A TIEMPO\",\"FUERA DE TIEMPO\"))))","v":"A TIEMPO"},{"$f":"IF(H1577=\"\",\"\",NETWORKDAYS(C1577+1,H1577,DiasNOLaborables))","v":3},{"$f":"IF(NETWORKDAYS(J1577+1,H1577,DiasNOLaborables)<=0,\"\",NETWORKDAYS(J1577+1,H1577,DiasNOLaborables))","v":""},null,null,{"$f":"IFERROR(VLOOKUP(E1577,$X$51:$Y$64,2),\"\")","v":20}]
[1567,20219050135152,"2021-11-29","MODULO CONTACTENOS","SOLICITUD DE INFORMACIÓN Y DOCUMENTOS","SOLICITUD DE INFORMACIÓN HIDROMETEOROLÓGICA","GRUPO DE SERVICIO AL CIUDADANO ","2021-12-02","CORREO ELECTRÓNICO",{"$f":"IFERROR(WORKDAY(C1578,P1578,DiasNOLaborables),\"\")","v":"2021-12-28"},{"$f":"+IF(C1578=\"\",\"\",IF(H1578=\"\",\"SIN RESPUESTA\",(IF(H1578<=J1578,\"A TIEMPO\",\"FUERA DE TIEMPO\"))))","v":"A TIEMPO"},{"$f":"IF(H1578=\"\",\"\",NETWORKDAYS(C1578+1,H1578,DiasNOLaborables))","v":3},{"$f":"IF(NETWORKDAYS(J1578+1,H1578,DiasNOLaborables)<=0,\"\",NETWORKDAYS(J1578+1,H1578,DiasNOLaborables))","v":""},null,null,{"$f":"IFERROR(VLOOKUP(E1578,$X$51:$Y$64,2),\"\")","v":20}]
[1568,20219050135162,"2021-11-29","CORREO ELECTRÓNICO","SOLICITUD DE INFORMACIÓN Y DOCUMENTOS","SOLICITUD DE INFORMACIÓN HIDROMETEOROLÓGICA","GRUPO DE SERVICIO AL CIUDADANO ","2021-12-02","CORREO ELECTRÓNICO",{"$f":"IFERROR(WORKDAY(C1579,P1579,DiasNOLaborables),\"\")","v":"2021-12-28"},{"$f":"+IF(C1579=\"\",\"\",IF(H1579=\"\",\"SIN RESPUESTA\",(IF(H1579<=J1579,\"A TIEMPO\",\"FUERA DE TIEMPO\"))))","v":"A TIEMPO"},{"$f":"IF(H1579=\"\",\"\",NETWORKDAYS(C1579+1,H1579,DiasNOLaborables))","v":3},{"$f":"IF(NETWORKDAYS(J1579+1,H1579,DiasNOLaborables)<=0,\"\",NETWORKDAYS(J1579+1,H1579,DiasNOLaborables))","v":""},null,null,{"$f":"IFERROR(VLOOKUP(E1579,$X$51:$Y$64,2),\"\")","v":20}]
[1569,20219050135172,"2021-11-29","CORREO ELECTRÓNICO","SOLICITUD DE INFORMACIÓN Y DOCUMENTOS","SOLICITUD DE INFORMACIÓN HIDROMETEOROLÓGICA","GRUPO DE SERVICIO AL CIUDADANO ","2021-12-02","CORREO ELECTRÓNICO",{"$f":"IFERROR(WORKDAY(C1580,P1580,DiasNOLaborables),\"\")","v":"2021-12-28"},{"$f":"+IF(C1580=\"\",\"\",IF(H1580=\"\",\"SIN RESPUESTA\",(IF(H1580<=J1580,\"A TIEMPO\",\"FUERA DE TIEMPO\"))))","v":"A TIEMPO"},{"$f":"IF(H1580=\"\",\"\",NETWORKDAYS(C1580+1,H1580,DiasNOLaborables))","v":3},{"$f":"IF(NETWORKDAYS(J1580+1,H1580,DiasNOLaborables)<=0,\"\",NETWORKDAYS(J1580+1,H1580,DiasNOLaborables))","v":""},null,null,{"$f":"IFERROR(VLOOKUP(E1580,$X$51:$Y$64,2),\"\")","v":20}]
[1570,20219050135192,"2021-11-29","CORREO ELECTRÓNICO","SOLICITUD DE INFORMACIÓN Y DOCUMENTOS","SOLICITUD DE INFORMACIÓN HIDROMETEOROLÓGICA","GRUPO DE SERVICIO AL CIUDADANO ","2021-12-02","CORREO ELECTRÓNICO",{"$f":"IFERROR(WORKDAY(C1581,P1581,DiasNOLaborables),\"\")","v":"2021-12-28"},{"$f":"+IF(C1581=\"\",\"\",IF(H1581=\"\",\"SIN RESPUESTA\",(IF(H1581<=J1581,\"A TIEMPO\",\"FUERA DE TIEMPO\"))))","v":"A TIEMPO"},{"$f":"IF(H1581=\"\",\"\",NETWORKDAYS(C1581+1,H1581,DiasNOLaborables))","v":3},{"$f":"IF(NETWORKDAYS(J1581+1,H1581,DiasNOLaborables)<=0,\"\",NETWORKDAYS(J1581+1,H1581,DiasNOLaborables))","v":""},null,null,{"$f":"IFERROR(VLOOKUP(E1581,$X$51:$Y$64,2),\"\")","v":20}]
[1571,20219050135112,"2021-11-29","MODULO CONTACTENOS","SOLICITUD DE INFORMACIÓN Y DOCUMENTOS","ADMINISTRATIVA","OFICINA ASESORA JURÍDICA","2021-12-02","CORREO ELECTRÓNICO",{"$f":"IFERROR(WORKDAY(C1582,P1582,DiasNOLaborables),\"\")","v":"2021-12-28"},{"$f":"+IF(C1582=\"\",\"\",IF(H1582=\"\",\"SIN RESPUESTA\",(IF(H1582<=J1582,\"A TIEMPO\",\"FUERA DE TIEMPO\"))))","v":"A TIEMPO"},{"$f":"IF(H1582=\"\",\"\",NETWORKDAYS(C1582+1,H1582,DiasNOLaborables))","v":3},{"$f":"IF(NETWORKDAYS(J1582+1,H1582,DiasNOLaborables)<=0,\"\",NETWORKDAYS(J1582+1,H1582,DiasNOLaborables))","v":""},null,null,{"$f":"IFERROR(VLOOKUP(E1582,$X$51:$Y$64,2),\"\")","v":20}]
[1572,20219050135242,"2021-11-29","MODULO CONTACTENOS","CERTIFICACIONES DE TIEMPO, CLIMA Y EVENTOS HIDROLÓGICOS","CERTIFICACIONES DE TIEMPO Y CLIMA","SUBDIRECCIÓN DE METEOROLOGÍA","2021-12-09","CORREO ELECTRÓNICO",{"$f":"IFERROR(WORKDAY(C1583,P1583,DiasNOLaborables),\"\")","v":"2022-01-18"},{"$f":"+IF(C1583=\"\",\"\",IF(H1583=\"\",\"SIN RESPUESTA\",(IF(H1583<=J1583,\"A TIEMPO\",\"FUERA DE TIEMPO\"))))","v":"A TIEMPO"},{"$f":"IF(H1583=\"\",\"\",NETWORKDAYS(C1583+1,H1583,DiasNOLaborables))","v":7},{"$f":"IF(NETWORKDAYS(J1583+1,H1583,DiasNOLaborables)<=0,\"\",NETWORKDAYS(J1583+1,H1583,DiasNOLaborables))","v":""},null,null,{"$f":"IFERROR(VLOOKUP(E1583,$X$51:$Y$64,2),\"\")","v":35}]
[1573,20219050135252,"2021-11-29","MODULO CONTACTENOS","CERTIFICACIONES DE TIEMPO, CLIMA Y EVENTOS HIDROLÓGICOS","CERTIFICACIONES DE TIEMPO Y CLIMA","SUBDIRECCIÓN DE METEOROLOGÍA","2021-12-17","CORREO ELECTRÓNICO",{"$f":"IFERROR(WORKDAY(C1584,P1584,DiasNOLaborables),\"\")","v":"2022-01-18"},{"$f":"+IF(C1584=\"\",\"\",IF(H1584=\"\",\"SIN RESPUESTA\",(IF(H1584<=J1584,\"A TIEMPO\",\"FUERA DE TIEMPO\"))))","v":"A TIEMPO"},{"$f":"IF(H1584=\"\",\"\",NETWORKDAYS(C1584+1,H1584,DiasNOLaborables))","v":13},{"$f":"IF(NETWORKDAYS(J1584+1,H1584,DiasNOLaborables)<=0,\"\",NETWORKDAYS(J1584+1,H1584,DiasNOLaborables))","v":""},null,null,{"$f":"IFERROR(VLOOKUP(E1584,$X$51:$Y$64,2),\"\")","v":35}]
[1574,20219050135352,"2021-11-29","MODULO CONTACTENOS","SOLICITUD DE INFORMACIÓN Y DOCUMENTOS","ADMINISTRATIVA","OFICINA ASESORA JURÍDICA","2021-12-02","CORREO ELECTRÓNICO",{"$f":"IFERROR(WORKDAY(C1585,P1585,DiasNOLaborables),\"\")","v":"2021-12-28"},{"$f":"+IF(C1585=\"\",\"\",IF(H1585=\"\",\"SIN RESPUESTA\",(IF(H1585<=J1585,\"A TIEMPO\",\"FUERA DE TIEMPO\"))))","v":"A TIEMPO"},{"$f":"IF(H1585=\"\",\"\",NETWORKDAYS(C1585+1,H1585,DiasNOLaborables))","v":3},{"$f":"IF(NETWORKDAYS(J1585+1,H1585,DiasNOLaborables)<=0,\"\",NETWORKDAYS(J1585+1,H1585,DiasNOLaborables))","v":""},null,null,{"$f":"IFERROR(VLOOKUP(E1585,$X$51:$Y$64,2),\"\")","v":20}]
[1575,20219050135482,"2021-11-29","MODULO CONTACTENOS","SOLICITUD DE INFORMACIÓN Y DOCUMENTOS","INFORMES AMBIENTALES","SUBDIRECCIÓN DE ESTUDIOS AMBIENTALES","2021-12-07","CORREO ELECTRÓNICO",{"$f":"IFERROR(WORKDAY(C1586,P1586,DiasNOLaborables),\"\")","v":"2021-12-28"},{"$f":"+IF(C1586=\"\",\"\",IF(H1586=\"\",\"SIN RESPUESTA\",(IF(H1586<=J1586,\"A TIEMPO\",\"FUERA DE TIEMPO\"))))","v":"A TIEMPO"},{"$f":"IF(H1586=\"\",\"\",NETWORKDAYS(C1586+1,H1586,DiasNOLaborables))","v":6},{"$f":"IF(NETWORKDAYS(J1586+1,H1586,DiasNOLaborables)<=0,\"\",NETWORKDAYS(J1586+1,H1586,DiasNOLaborables))","v":""},null,null,{"$f":"IFERROR(VLOOKUP(E1586,$X$51:$Y$64,2),\"\")","v":20}]
[1576,20219910065752,"2021-11-29","CORREO ELECTRÓNICO","SOLICITUD DE INFORMACIÓN Y DOCUMENTOS","CLIMATOLOGÍA","SUBDIRECCIÓN DE METEOROLOGÍA","2021-11-29","CORREO ELECTRÓNICO",{"$f":"IFERROR(WORKDAY(C1587,P1587,DiasNOLaborables),\"\")","v":"2021-12-28"},{"$f":"+IF(C1587=\"\",\"\",IF(H1587=\"\",\"SIN RESPUESTA\",(IF(H1587<=J1587,\"A TIEMPO\",\"FUERA DE TIEMPO\"))))","v":"A TIEMPO"},{"$f":"IF(H1587=\"\",\"\",NETWORKDAYS([5]Hoja1!C1585+1,[5]Hoja1!P1585,DiasNOLaborables))","v":7},{"$f":"IF(NETWORKDAYS(J1587+1,H1587,DiasNOLaborables)<=0,\"\",NETWORKDAYS(J1587+1,H1587,DiasNOLaborables))","v":""},null,null,{"$f":"IFERROR(VLOOKUP(E1587,$X$51:$Y$64,2),\"\")","v":20}]
[1577,20219910065832,"2021-11-29","CORREO ELECTRÓNICO","SOLICITUD DE INFORMACIÓN Y DOCUMENTOS","SIA","SUBDIRECCIÓN DE ECOSISTEMAS E INFORMACIÓN AMBIENTAL","2021-12-10","CORREO ELECTRÓNICO",{"$f":"IFERROR(WORKDAY(C1588,P1588,DiasNOLaborables),\"\")","v":"2021-12-28"},{"$f":"+IF(C1588=\"\",\"\",IF(H1588=\"\",\"SIN RESPUESTA\",(IF(H1588<=J1588,\"A TIEMPO\",\"FUERA DE TIEMPO\"))))","v":"A TIEMPO"},{"$f":"IF(H1588=\"\",\"\",NETWORKDAYS(C1588+1,H1588,DiasNOLaborables))","v":8},{"$f":"IF(NETWORKDAYS(J1588+1,H1588,DiasNOLaborables)<=0,\"\",NETWORKDAYS(J1588+1,H1588,DiasNOLaborables))","v":""},null,null,{"$f":"IFERROR(VLOOKUP(E1588,$X$51:$Y$64,2),\"\")","v":20}]
[1578,20219050135042,"2021-11-29","CORREO ELECTRÓNICO","SOLICITUD DE INFORMACIÓN Y DOCUMENTOS","SOLICITUD DE INFORMACIÓN HIDROMETEOROLÓGICA","SUBDIRECCIÓN DE METEOROLOGÍA","2021-11-30","CORREO ELECTRÓNICO",{"$f":"IFERROR(WORKDAY(C1589,P1589,DiasNOLaborables),\"\")","v":"2021-12-28"},{"$f":"+IF(C1589=\"\",\"\",IF(H1589=\"\",\"SIN RESPUESTA\",(IF(H1589<=J1589,\"A TIEMPO\",\"FUERA DE TIEMPO\"))))","v":"A TIEMPO"},{"$f":"IF(H1589=\"\",\"\",NETWORKDAYS(C1589+1,H1589,DiasNOLaborables))","v":1},{"$f":"IF(NETWORKDAYS(J1589+1,H1589,DiasNOLaborables)<=0,\"\",NETWORKDAYS(J1589+1,H1589,DiasNOLaborables))","v":""},null,null,{"$f":"IFERROR(VLOOKUP(E1589,$X$51:$Y$64,2),\"\")","v":20}]
[1579,20219050135062,"2021-11-29","CORREO ELECTRÓNICO","CERTIFICACIONES DE TIEMPO, CLIMA Y EVENTOS HIDROLÓGICOS","CERTIFICACIONES DE TIEMPO Y CLIMA","SUBDIRECCIÓN DE METEOROLOGÍA","2021-12-01","CORREO ELECTRÓNICO",{"$f":"IFERROR(WORKDAY(C1590,P1590,DiasNOLaborables),\"\")","v":"2022-01-18"},{"$f":"+IF(C1590=\"\",\"\",IF(H1590=\"\",\"SIN RESPUESTA\",(IF(H1590<=J1590,\"A TIEMPO\",\"FUERA DE TIEMPO\"))))","v":"A TIEMPO"},{"$f":"IF(H1590=\"\",\"\",NETWORKDAYS(C1590+1,H1590,DiasNOLaborables))","v":2},{"$f":"IF(NETWORKDAYS(J1590+1,H1590,DiasNOLaborables)<=0,\"\",NETWORKDAYS(J1590+1,H1590,DiasNOLaborables))","v":""},null,null,{"$f":"IFERROR(VLOOKUP(E1590,$X$51:$Y$64,2),\"\")","v":35}]
[1580,20219050135182,"2021-11-29","CORREO ELECTRÓNICO","PETICIÓN","INFORMES AMBIENTALES","SUBDIRECCIÓN DE METEOROLOGÍA","2021-12-14","CORREO ELECTRÓNICO",{"$f":"IFERROR(WORKDAY(C1591,P1591,DiasNOLaborables),\"\")","v":"2022-01-11"},{"$f":"+IF(C1591=\"\",\"\",IF(H1591=\"\",\"SIN RESPUESTA\",(IF(H1591<=J1591,\"A TIEMPO\",\"FUERA DE TIEMPO\"))))","v":"A TIEMPO"},{"$f":"IF(H1591=\"\",\"\",NETWORKDAYS(C1591+1,H1591,DiasNOLaborables))","v":10},{"$f":"IF(NETWORKDAYS(J1591+1,H1591,DiasNOLaborables)<=0,\"\",NETWORKDAYS(J1591+1,H1591,DiasNOLaborables))","v":""},null,null,{"$f":"IFERROR(VLOOKUP(E1591,$X$51:$Y$64,2),\"\")","v":30}]
[1581,20219050135202,"2021-11-29","CORREO ELECTRÓNICO","SOLICITUD DE INFORMACIÓN Y DOCUMENTOS","ADMINISTRATIVA","GRUPO DE ADMINISTRACIÓN Y DESARROLLO DEL TALENTO HUMANO","2021-11-29","CORREO ELECTRÓNICO",{"$f":"IFERROR(WORKDAY(C1592,P1592,DiasNOLaborables),\"\")","v":"2021-12-28"},{"$f":"+IF(C1592=\"\",\"\",IF(H1592=\"\",\"SIN RESPUESTA\",(IF(H1592<=J1592,\"A TIEMPO\",\"FUERA DE TIEMPO\"))))","v":"A TIEMPO"},{"$f":"IF(H1592=\"\",\"\",NETWORKDAYS(C1592+1,H1592,DiasNOLaborables))","v":-2},{"$f":"IF(NETWORKDAYS(J1592+1,H1592,DiasNOLaborables)<=0,\"\",NETWORKDAYS(J1592+1,H1592,DiasNOLaborables))","v":""},null,null,{"$f":"IFERROR(VLOOKUP(E1592,$X$51:$Y$64,2),\"\")","v":20}]
[1582,20219050135212,"2021-11-29","CORREO ELECTRÓNICO","SOLICITUD DE INFORMACIÓN Y DOCUMENTOS","INFORMES AMBIENTALES","SUBDIRECCIÓN DE ESTUDIOS AMBIENTALES","2021-12-14","CORREO ELECTRÓNICO",{"$f":"IFERROR(WORKDAY(C1593,P1593,DiasNOLaborables),\"\")","v":"2021-12-28"},{"$f":"+IF(C1593=\"\",\"\",IF(H1593=\"\",\"SIN RESPUESTA\",(IF(H1593<=J1593,\"A TIEMPO\",\"FUERA DE TIEMPO\"))))","v":"A TIEMPO"},{"$f":"IF(H1593=\"\",\"\",NETWORKDAYS(C1593+1,H1593,DiasNOLaborables))","v":10},{"$f":"IF(NETWORKDAYS(J1593+1,H1593,DiasNOLaborables)<=0,\"\",NETWORKDAYS(J1593+1,H1593,DiasNOLaborables))","v":""},null,null,{"$f":"IFERROR(VLOOKUP(E1593,$X$51:$Y$64,2),\"\")","v":20}]
[1583,20219050135332,"2021-11-29","CORREO ELECTRÓNICO","CERTIFICACIONES DE TIEMPO, CLIMA Y EVENTOS HIDROLÓGICOS","CERTIFICACIONES DE TIEMPO Y CLIMA","SUBDIRECCIÓN DE METEOROLOGÍA","2021-12-01","CORREO ELECTRÓNICO",{"$f":"IFERROR(WORKDAY(C1594,P1594,DiasNOLaborables),\"\")","v":"2022-01-18"},{"$f":"+IF(C1594=\"\",\"\",IF(H1594=\"\",\"SIN RESPUESTA\",(IF(H1594<=J1594,\"A TIEMPO\",\"FUERA DE TIEMPO\"))))","v":"A TIEMPO"},{"$f":"IF(H1594=\"\",\"\",NETWORKDAYS(C1594+1,H1594,DiasNOLaborables))","v":2},{"$f":"IF(NETWORKDAYS(J1594+1,H1594,DiasNOLaborables)<=0,\"\",NETWORKDAYS(J1594+1,H1594,DiasNOLaborables))","v":""},null,null,{"$f":"IFERROR(VLOOKUP(E1594,$X$51:$Y$64,2),\"\")","v":35}]
[1584,20219050135382,"2021-11-29","CORREO ELECTRÓNICO","SOLICITUD DE INFORMACIÓN Y DOCUMENTOS","REGISTROS AMBIENTALES","SUBDIRECCIÓN DE ESTUDIOS AMBIENTALES","2021-11-29","CORREO ELECTRÓNICO",{"$f":"IFERROR(WORKDAY(C1595,P1595,DiasNOLaborables),\"\")","v":"2021-12-28"},{"$f":"+IF(C1595=\"\",\"\",IF(H1595=\"\",\"SIN RESPUESTA\",(IF(H1595<=J1595,\"A TIEMPO\",\"FUERA DE TIEMPO\"))))","v":"A TIEMPO"},{"$f":"IF(H1595=\"\",\"\",NETWORKDAYS(C1595+1,H1595,DiasNOLaborables))","v":-2},{"$f":"IF(NETWORKDAYS(J1595+1,H1595,DiasNOLaborables)<=0,\"\",NETWORKDAYS(J1595+1,H1595,DiasNOLaborables))","v":""},null,null,{"$f":"IFERROR(VLOOKUP(E1595,$X$51:$Y$64,2),\"\")","v":20}]
[1585,20219050135402,"2021-11-29","CORREO ELECTRÓNICO","SOLICITUD DE INFORMACIÓN Y DOCUMENTOS","INFORMES AMBIENTALES","SUBDIRECCIÓN DE METEOROLOGÍA","2021-12-06","CORREO ELECTRÓNICO",{"$f":"IFERROR(WORKDAY(C1596,P1596,DiasNOLaborables),\"\")","v":"2021-12-28"},{"$f":"+IF(C1596=\"\",\"\",IF(H1596=\"\",\"SIN RESPUESTA\",(IF(H1596<=J1596,\"A TIEMPO\",\"FUERA DE TIEMPO\"))))","v":"A TIEMPO"},{"$f":"IF(H1596=\"\",\"\",NETWORKDAYS(C1596+1,H1596,DiasNOLaborables))","v":5},{"$f":"IF(NETWORKDAYS(J1596+1,H1596,DiasNOLaborables)<=0,\"\",NETWORKDAYS(J1596+1,H1596,DiasNOLaborables))","v":""},null,null,{"$f":"IFERROR(VLOOKUP(E1596,$X$51:$Y$64,2),\"\")","v":20}]
[1586,20219050135442,"2021-11-29","CORREO ELECTRÓNICO","SOLICITUD JUDICIAL","JURIDICO","OFICINA ASESORA JURÍDICA","2021-12-01","CORREO ELECTRÓNICO",{"$f":"IFERROR(WORKDAY(C1597,P1597,DiasNOLaborables),\"\")","v":"2021-12-06"},{"$f":"+IF(C1597=\"\",\"\",IF(H1597=\"\",\"SIN RESPUESTA\",(IF(H1597<=J1597,\"A TIEMPO\",\"FUERA DE TIEMPO\"))))","v":"A TIEMPO"},{"$f":"IF(H1597=\"\",\"\",NETWORKDAYS(C1597+1,H1597,DiasNOLaborables))","v":2},{"$f":"IF(NETWORKDAYS(J1597+1,H1597,DiasNOLaborables)<=0,\"\",NETWORKDAYS(J1597+1,H1597,DiasNOLaborables))","v":""},null,null,{"$f":"IFERROR(VLOOKUP(E1597,$X$51:$Y$64,2),\"\")","v":5}]
[1587,20219050135502,"2021-11-29","CORREO ELECTRÓNICO","CERTIFICACIONES DE TIEMPO, CLIMA Y EVENTOS HIDROLÓGICOS","CERTIFICACIONES HIDROLOGICAS","OFICINA ASESORA JURÍDICA","2022-01-20","CORREO ELECTRÓNICO",{"$f":"IFERROR(WORKDAY(C1598,P1598,DiasNOLaborables),\"\")","v":"2022-01-18"},{"$f":"+IF(C1598=\"\",\"\",IF(H1598=\"\",\"SIN RESPUESTA\",(IF(H1598<=J1598,\"A TIEMPO\",\"FUERA DE TIEMPO\"))))","v":"FUERA DE TIEMPO"},{"$f":"IF(H1598=\"\",\"\",NETWORKDAYS(C1598+1,H1598,DiasNOLaborables))","v":37},{"$f":"IF(NETWORKDAYS(J1598+1,H1598,DiasNOLaborables)<=0,\"\",NETWORKDAYS(J1598+1,H1598,DiasNOLaborables))","v":2},null,null,{"$f":"IFERROR(VLOOKUP(E1598,$X$51:$Y$64,2),\"\")","v":35}]
[1588,20219050135512,"2021-11-29","CORREO ELECTRÓNICO","CERTIFICACIONES DE TIEMPO, CLIMA Y EVENTOS HIDROLÓGICOS","CERTIFICACIONES HIDROLOGICAS","OFICINA ASESORA JURÍDICA","2022-01-20","CORREO ELECTRÓNICO",{"$f":"IFERROR(WORKDAY(C1599,P1599,DiasNOLaborables),\"\")","v":"2022-01-18"},{"$f":"+IF(C1599=\"\",\"\",IF(H1599=\"\",\"SIN RESPUESTA\",(IF(H1599<=J1599,\"A TIEMPO\",\"FUERA DE TIEMPO\"))))","v":"FUERA DE TIEMPO"},{"$f":"IF(H1599=\"\",\"\",NETWORKDAYS(C1599+1,H1599,DiasNOLaborables))","v":37},{"$f":"IF(NETWORKDAYS(J1599+1,H1599,DiasNOLaborables)<=0,\"\",NETWORKDAYS(J1599+1,H1599,DiasNOLaborables))","v":2},null,null,{"$f":"IFERROR(VLOOKUP(E1599,$X$51:$Y$64,2),\"\")","v":35}]
[1589,20219050135222,"2021-11-29","MODULO CONTACTENOS","SOLICITUD DE INFORMACIÓN Y DOCUMENTOS","SOLICITUD DE INFORMACIÓN HIDROMETEOROLÓGICA","GRUPO DE SERVICIO AL CIUDADANO ","2021-12-03","CORREO ELECTRÓNICO",{"$f":"IFERROR(WORKDAY(C1600,P1600,DiasNOLaborables),\"\")","v":"2021-12-28"},{"$f":"+IF(C1600=\"\",\"\",IF(H1600=\"\",\"SIN RESPUESTA\",(IF(H1600<=J1600,\"A TIEMPO\",\"FUERA DE TIEMPO\"))))","v":"A TIEMPO"},{"$f":"IF(H1600=\"\",\"\",NETWORKDAYS(C1600+1,H1600,DiasNOLaborables))","v":4},{"$f":"IF(NETWORKDAYS(J1600+1,H1600,DiasNOLaborables)<=0,\"\",NETWORKDAYS(J1600+1,H1600,DiasNOLaborables))","v":""},null,null,{"$f":"IFERROR(VLOOKUP(E1600,$X$51:$Y$64,2),\"\")","v":20}]
[1590,20219050135362,"2021-11-29","MODULO CONTACTENOS","SOLICITUD DE INFORMACIÓN Y DOCUMENTOS","SOLICITUD DE INFORMACIÓN HIDROMETEOROLÓGICA","GRUPO DE SERVICIO AL CIUDADANO ","2021-12-03","CORREO ELECTRÓNICO",{"$f":"IFERROR(WORKDAY(C1601,P1601,DiasNOLaborables),\"\")","v":"2021-12-28"},{"$f":"+IF(C1601=\"\",\"\",IF(H1601=\"\",\"SIN RESPUESTA\",(IF(H1601<=J1601,\"A TIEMPO\",\"FUERA DE TIEMPO\"))))","v":"A TIEMPO"},{"$f":"IF(H1601=\"\",\"\",NETWORKDAYS(C1601+1,H1601,DiasNOLaborables))","v":4},{"$f":"IF(NETWORKDAYS(J1601+1,H1601,DiasNOLaborables)<=0,\"\",NETWORKDAYS(J1601+1,H1601,DiasNOLaborables))","v":""},null,null,{"$f":"IFERROR(VLOOKUP(E1601,$X$51:$Y$64,2),\"\")","v":20}]
[1591,20219050135372,"2021-11-29","MODULO CONTACTENOS","SOLICITUD DE INFORMACIÓN Y DOCUMENTOS","SOLICITUD DE INFORMACIÓN HIDROMETEOROLÓGICA","GRUPO DE SERVICIO AL CIUDADANO ","2021-12-03","CORREO ELECTRÓNICO",{"$f":"IFERROR(WORKDAY(C1602,P1602,DiasNOLaborables),\"\")","v":"2021-12-28"},{"$f":"+IF(C1602=\"\",\"\",IF(H1602=\"\",\"SIN RESPUESTA\",(IF(H1602<=J1602,\"A TIEMPO\",\"FUERA DE TIEMPO\"))))","v":"A TIEMPO"},{"$f":"IF(H1602=\"\",\"\",NETWORKDAYS(C1602+1,H1602,DiasNOLaborables))","v":4},{"$f":"IF(NETWORKDAYS(J1602+1,H1602,DiasNOLaborables)<=0,\"\",NETWORKDAYS(J1602+1,H1602,DiasNOLaborables))","v":""},null,null,{"$f":"IFERROR(VLOOKUP(E1602,$X$51:$Y$64,2),\"\")","v":20}]
[1592,20219050135262,"2021-11-29","MODULO CONTACTENOS","SOLICITUD DE INFORMACIÓN Y DOCUMENTOS","SOLICITUD DE INFORMACIÓN HIDROMETEOROLÓGICA","GRUPO DE SERVICIO AL CIUDADANO ","2021-12-03","CORREO ELECTRÓNICO",{"$f":"IFERROR(WORKDAY(C1603,P1603,DiasNOLaborables),\"\")","v":"2021-12-28"},{"$f":"+IF(C1603=\"\",\"\",IF(H1603=\"\",\"SIN RESPUESTA\",(IF(H1603<=J1603,\"A TIEMPO\",\"FUERA DE TIEMPO\"))))","v":"A TIEMPO"},{"$f":"IF(H1603=\"\",\"\",NETWORKDAYS(C1603+1,H1603,DiasNOLaborables))","v":4},{"$f":"IF(NETWORKDAYS(J1603+1,H1603,DiasNOLaborables)<=0,\"\",NETWORKDAYS(J1603+1,H1603,DiasNOLaborables))","v":""},null,null,{"$f":"IFERROR(VLOOKUP(E1603,$X$51:$Y$64,2),\"\")","v":20}]
[1593,20219050135272,"2021-11-29","MODULO CONTACTENOS","SOLICITUD DE INFORMACIÓN Y DOCUMENTOS","SOLICITUD DE INFORMACIÓN HIDROMETEOROLÓGICA","GRUPO DE SERVICIO AL CIUDADANO ","2021-12-03","CORREO ELECTRÓNICO",{"$f":"IFERROR(WORKDAY(C1604,P1604,DiasNOLaborables),\"\")","v":"2021-12-28"},{"$f":"+IF(C1604=\"\",\"\",IF(H1604=\"\",\"SIN RESPUESTA\",(IF(H1604<=J1604,\"A TIEMPO\",\"FUERA DE TIEMPO\"))))","v":"A TIEMPO"},{"$f":"IF(H1604=\"\",\"\",NETWORKDAYS(C1604+1,H1604,DiasNOLaborables))","v":4},{"$f":"IF(NETWORKDAYS(J1604+1,H1604,DiasNOLaborables)<=0,\"\",NETWORKDAYS(J1604+1,H1604,DiasNOLaborables))","v":""},null,null,{"$f":"IFERROR(VLOOKUP(E1604,$X$51:$Y$64,2),\"\")","v":20}]
[1594,20219050135322,"2021-11-29","MODULO CONTACTENOS","SOLICITUD DE INFORMACIÓN Y DOCUMENTOS","SOLICITUD DE INFORMACIÓN HIDROMETEOROLÓGICA","GRUPO DE SERVICIO AL CIUDADANO ","2021-12-03","CORREO ELECTRÓNICO",{"$f":"IFERROR(WORKDAY(C1605,P1605,DiasNOLaborables),\"\")","v":"2021-12-28"},{"$f":"+IF(C1605=\"\",\"\",IF(H1605=\"\",\"SIN RESPUESTA\",(IF(H1605<=J1605,\"A TIEMPO\",\"FUERA DE TIEMPO\"))))","v":"A TIEMPO"},{"$f":"IF(H1605=\"\",\"\",NETWORKDAYS(C1605+1,H1605,DiasNOLaborables))","v":4},{"$f":"IF(NETWORKDAYS(J1605+1,H1605,DiasNOLaborables)<=0,\"\",NETWORKDAYS(J1605+1,H1605,DiasNOLaborables))","v":""},null,null,{"$f":"IFERROR(VLOOKUP(E1605,$X$51:$Y$64,2),\"\")","v":20}]
[1595,20219050135422,"2021-11-29","MODULO CONTACTENOS","SOLICITUD DE INFORMACIÓN Y DOCUMENTOS","SOLICITUD DE INFORMACIÓN HIDROMETEOROLÓGICA","GRUPO DE SERVICIO AL CIUDADANO ","2021-12-03","CORREO ELECTRÓNICO",{"$f":"IFERROR(WORKDAY(C1606,P1606,DiasNOLaborables),\"\")","v":"2021-12-28"},{"$f":"+IF(C1606=\"\",\"\",IF(H1606=\"\",\"SIN RESPUESTA\",(IF(H1606<=J1606,\"A TIEMPO\",\"FUERA DE TIEMPO\"))))","v":"A TIEMPO"},{"$f":"IF(H1606=\"\",\"\",NETWORKDAYS(C1606+1,H1606,DiasNOLaborables))","v":4},{"$f":"IF(NETWORKDAYS(J1606+1,H1606,DiasNOLaborables)<=0,\"\",NETWORKDAYS(J1606+1,H1606,DiasNOLaborables))","v":""},null,null,{"$f":"IFERROR(VLOOKUP(E1606,$X$51:$Y$64,2),\"\")","v":20}]
[1596,20219050135432,"2021-11-29","MODULO CONTACTENOS","SOLICITUD DE INFORMACIÓN Y DOCUMENTOS","SOLICITUD DE INFORMACIÓN HIDROMETEOROLÓGICA","GRUPO DE SERVICIO AL CIUDADANO ","2021-12-03","CORREO ELECTRÓNICO",{"$f":"IFERROR(WORKDAY(C1607,P1607,DiasNOLaborables),\"\")","v":"2021-12-28"},{"$f":"+IF(C1607=\"\",\"\",IF(H1607=\"\",\"SIN RESPUESTA\",(IF(H1607<=J1607,\"A TIEMPO\",\"FUERA DE TIEMPO\"))))","v":"A TIEMPO"},{"$f":"IF(H1607=\"\",\"\",NETWORKDAYS(C1607+1,H1607,DiasNOLaborables))","v":4},{"$f":"IF(NETWORKDAYS(J1607+1,H1607,DiasNOLaborables)<=0,\"\",NETWORKDAYS(J1607+1,H1607,DiasNOLaborables))","v":""},null,null,{"$f":"IFERROR(VLOOKUP(E1607,$X$51:$Y$64,2),\"\")","v":20}]
[1597,20219050135472,"2021-11-29","MODULO CONTACTENOS","SOLICITUD DE INFORMACIÓN Y DOCUMENTOS","SOLICITUD DE INFORMACIÓN HIDROMETEOROLÓGICA","GRUPO DE SERVICIO AL CIUDADANO ","2021-12-07","CORREO ELECTRÓNICO",{"$f":"IFERROR(WORKDAY(C1608,P1608,DiasNOLaborables),\"\")","v":"2021-12-28"},{"$f":"+IF(C1608=\"\",\"\",IF(H1608=\"\",\"SIN RESPUESTA\",(IF(H1608<=J1608,\"A TIEMPO\",\"FUERA DE TIEMPO\"))))","v":"A TIEMPO"},{"$f":"IF(H1608=\"\",\"\",NETWORKDAYS(C1608+1,H1608,DiasNOLaborables))","v":6},{"$f":"IF(NETWORKDAYS(J1608+1,H1608,DiasNOLaborables)<=0,\"\",NETWORKDAYS(J1608+1,H1608,DiasNOLaborables))","v":""},null,null,{"$f":"IFERROR(VLOOKUP(E1608,$X$51:$Y$64,2),\"\")","v":20}]
[1598,20219050135522,"2021-11-29","MODULO CONTACTENOS","SOLICITUD DE INFORMACIÓN Y DOCUMENTOS","SOLICITUD DE INFORMACIÓN HIDROMETEOROLÓGICA","GRUPO DE SERVICIO AL CIUDADANO ","2021-12-07","CORREO ELECTRÓNICO",{"$f":"IFERROR(WORKDAY(C1609,P1609,DiasNOLaborables),\"\")","v":"2021-12-28"},{"$f":"+IF(C1609=\"\",\"\",IF(H1609=\"\",\"SIN RESPUESTA\",(IF(H1609<=J1609,\"A TIEMPO\",\"FUERA DE TIEMPO\"))))","v":"A TIEMPO"},{"$f":"IF(H1609=\"\",\"\",NETWORKDAYS(C1609+1,H1609,DiasNOLaborables))","v":6},{"$f":"IF(NETWORKDAYS(J1609+1,H1609,DiasNOLaborables)<=0,\"\",NETWORKDAYS(J1609+1,H1609,DiasNOLaborables))","v":""},null,null,{"$f":"IFERROR(VLOOKUP(E1609,$X$51:$Y$64,2),\"\")","v":20}]
[1599,20219050135532,"2021-11-29","MODULO CONTACTENOS","SOLICITUD DE INFORMACIÓN Y DOCUMENTOS","SOLICITUD DE INFORMACIÓN HIDROMETEOROLÓGICA","GRUPO DE SERVICIO AL CIUDADANO ","2021-12-07","CORREO ELECTRÓNICO",{"$f":"IFERROR(WORKDAY(C1610,P1610,DiasNOLaborables),\"\")","v":"2021-12-28"},{"$f":"+IF(C1610=\"\",\"\",IF(H1610=\"\",\"SIN RESPUESTA\",(IF(H1610<=J1610,\"A TIEMPO\",\"FUERA DE TIEMPO\"))))","v":"A TIEMPO"},{"$f":"IF(H1610=\"\",\"\",NETWORKDAYS(C1610+1,H1610,DiasNOLaborables))","v":6},{"$f":"IF(NETWORKDAYS(J1610+1,H1610,DiasNOLaborables)<=0,\"\",NETWORKDAYS(J1610+1,H1610,DiasNOLaborables))","v":""},null,null,{"$f":"IFERROR(VLOOKUP(E1610,$X$51:$Y$64,2),\"\")","v":20}]
[1600,20219050135562,"2021-11-29","MODULO CONTACTENOS","SOLICITUD DE INFORMACIÓN Y DOCUMENTOS","SOLICITUD DE INFORMACIÓN HIDROMETEOROLÓGICA","GRUPO DE SERVICIO AL CIUDADANO ","2021-12-07","CORREO ELECTRÓNICO",{"$f":"IFERROR(WORKDAY(C1611,P1611,DiasNOLaborables),\"\")","v":"2021-12-28"},{"$f":"+IF(C1611=\"\",\"\",IF(H1611=\"\",\"SIN RESPUESTA\",(IF(H1611<=J1611,\"A TIEMPO\",\"FUERA DE TIEMPO\"))))","v":"A TIEMPO"},{"$f":"IF(H1611=\"\",\"\",NETWORKDAYS(C1611+1,H1611,DiasNOLaborables))","v":6},{"$f":"IF(NETWORKDAYS(J1611+1,H1611,DiasNOLaborables)<=0,\"\",NETWORKDAYS(J1611+1,H1611,DiasNOLaborables))","v":""},null,null,{"$f":"IFERROR(VLOOKUP(E1611,$X$51:$Y$64,2),\"\")","v":20}]
[1601,20219050135572,"2021-11-29","MODULO CONTACTENOS","SOLICITUD DE INFORMACIÓN Y DOCUMENTOS","SOLICITUD DE INFORMACIÓN HIDROMETEOROLÓGICA","GRUPO DE SERVICIO AL CIUDADANO ","2021-12-07","CORREO ELECTRÓNICO",{"$f":"IFERROR(WORKDAY(C1612,P1612,DiasNOLaborables),\"\")","v":"2021-12-28"},{"$f":"+IF(C1612=\"\",\"\",IF(H1612=\"\",\"SIN RESPUESTA\",(IF(H1612<=J1612,\"A TIEMPO\",\"FUERA DE TIEMPO\"))))","v":"A TIEMPO"},{"$f":"IF(H1612=\"\",\"\",NETWORKDAYS(C1612+1,H1612,DiasNOLaborables))","v":6},{"$f":"IF(NETWORKDAYS(J1612+1,H1612,DiasNOLaborables)<=0,\"\",NETWORKDAYS(J1612+1,H1612,DiasNOLaborables))","v":""},null,null,{"$f":"IFERROR(VLOOKUP(E1612,$X$51:$Y$64,2),\"\")","v":20}]
[1602,20219050135612,"2021-11-30","MODULO CONTACTENOS","SOLICITUD DE INFORMACIÓN Y DOCUMENTOS","SOLICITUD DE INFORMACIÓN HIDROMETEOROLÓGICA","GRUPO DE SERVICIO AL CIUDADANO ","2021-12-07","CORREO ELECTRÓNICO",{"$f":"IFERROR(WORKDAY(C1613,P1613,DiasNOLaborables),\"\")","v":"2021-12-29"},{"$f":"+IF(C1613=\"\",\"\",IF(H1613=\"\",\"SIN RESPUESTA\",(IF(H1613<=J1613,\"A TIEMPO\",\"FUERA DE TIEMPO\"))))","v":"A TIEMPO"},{"$f":"IF(H1613=\"\",\"\",NETWORKDAYS(C1613+1,H1613,DiasNOLaborables))","v":5},{"$f":"IF(NETWORKDAYS(J1613+1,H1613,DiasNOLaborables)<=0,\"\",NETWORKDAYS(J1613+1,H1613,DiasNOLaborables))","v":""},null,null,{"$f":"IFERROR(VLOOKUP(E1613,$X$51:$Y$64,2),\"\")","v":20}]
[{"$f":"IF(B1614<>\"\",A1613+1,\"\")","v":1603},20219050135622,"2021-11-30","MODULO CONTACTENOS","SOLICITUD DE INFORMACIÓN Y DOCUMENTOS","SOLICITUD DE INFORMACIÓN HIDROMETEOROLÓGICA","GRUPO DE SERVICIO AL CIUDADANO ","2021-12-07","CORREO ELECTRÓNICO",{"$f":"IFERROR(WORKDAY(C1614,P1614,DiasNOLaborables),\"\")","v":"2021-12-29"},{"$f":"+IF(C1614=\"\",\"\",IF(H1614=\"\",\"SIN RESPUESTA\",(IF(H1614<=J1614,\"A TIEMPO\",\"FUERA DE TIEMPO\"))))","v":"A TIEMPO"},{"$f":"IF(H1614=\"\",\"\",NETWORKDAYS(C1614+1,H1614,DiasNOLaborables))","v":5},{"$f":"IF(NETWORKDAYS(J1614+1,H1614,DiasNOLaborables)<=0,\"\",NETWORKDAYS(J1614+1,H1614,DiasNOLaborables))","v":""},null,null,{"$f":"IFERROR(VLOOKUP(E1614,$X$51:$Y$64,2),\"\")","v":20}]
[1604,20219050135662,"2021-11-30","MODULO CONTACTENOS","SOLICITUD DE INFORMACIÓN Y DOCUMENTOS","SOLICITUD DE INFORMACIÓN HIDROMETEOROLÓGICA","GRUPO DE SERVICIO AL CIUDADANO ","2021-12-07","CORREO ELECTRÓNICO",{"$f":"IFERROR(WORKDAY(C1615,P1615,DiasNOLaborables),\"\")","v":"2021-12-29"},{"$f":"+IF(C1615=\"\",\"\",IF(H1615=\"\",\"SIN RESPUESTA\",(IF(H1615<=J1615,\"A TIEMPO\",\"FUERA DE TIEMPO\"))))","v":"A TIEMPO"},{"$f":"IF(H1615=\"\",\"\",NETWORKDAYS(C1615+1,H1615,DiasNOLaborables))","v":5},{"$f":"IF(NETWORKDAYS(J1615+1,H1615,DiasNOLaborables)<=0,\"\",NETWORKDAYS(J1615+1,H1615,DiasNOLaborables))","v":""},null,null,{"$f":"IFERROR(VLOOKUP(E1615,$X$51:$Y$64,2),\"\")","v":20}]
[1605,20219050135642,"2021-11-30","MODULO CONTACTENOS","SOLICITUD DE INFORMACIÓN Y DOCUMENTOS","SOLICITUD DE INFORMACIÓN HIDROMETEOROLÓGICA","GRUPO DE SERVICIO AL CIUDADANO ","2021-12-07","CORREO ELECTRÓNICO",{"$f":"IFERROR(WORKDAY(C1616,P1616,DiasNOLaborables),\"\")","v":"2021-12-29"},{"$f":"+IF(C1616=\"\",\"\",IF(H1616=\"\",\"SIN RESPUESTA\",(IF(H1616<=J1616,\"A TIEMPO\",\"FUERA DE TIEMPO\"))))","v":"A TIEMPO"},{"$f":"IF(H1616=\"\",\"\",NETWORKDAYS(C1616+1,H1616,DiasNOLaborables))","v":5},{"$f":"IF(NETWORKDAYS(J1616+1,H1616,DiasNOLaborables)<=0,\"\",NETWORKDAYS(J1616+1,H1616,DiasNOLaborables))","v":""},null,null,{"$f":"IFERROR(VLOOKUP(E1616,$X$51:$Y$64,2),\"\")","v":20}]
[1606,20219050135762,"2021-11-30","MODULO CONTACTENOS","SOLICITUD DE INFORMACIÓN Y DOCUMENTOS","SOLICITUD DE INFORMACIÓN HIDROMETEOROLÓGICA","GRUPO DE SERVICIO AL CIUDADANO ","2021-12-07","CORREO ELECTRÓNICO",{"$f":"IFERROR(WORKDAY(C1617,P1617,DiasNOLaborables),\"\")","v":"2021-12-29"},{"$f":"+IF(C1617=\"\",\"\",IF(H1617=\"\",\"SIN RESPUESTA\",(IF(H1617<=J1617,\"A TIEMPO\",\"FUERA DE TIEMPO\"))))","v":"A TIEMPO"},{"$f":"IF(H1617=\"\",\"\",NETWORKDAYS(C1617+1,H1617,DiasNOLaborables))","v":5},{"$f":"IF(NETWORKDAYS(J1617+1,H1617,DiasNOLaborables)<=0,\"\",NETWORKDAYS(J1617+1,H1617,DiasNOLaborables))","v":""},null,null,{"$f":"IFERROR(VLOOKUP(E1617,$X$51:$Y$64,2),\"\")","v":20}]
[1607,20219050135652,"2021-11-30","CORREO ELECTRÓNICO","CERTIFICACIONES DE TIEMPO, CLIMA Y EVENTOS HIDROLÓGICOS","CERTIFICACIONES DE TIEMPO Y CLIMA","SUBDIRECCIÓN DE METEOROLOGÍA","2022-01-03","CORREO ELECTRÓNICO",{"$f":"IFERROR(WORKDAY(C1618,P1618,DiasNOLaborables),\"\")","v":"2022-01-19"},{"$f":"+IF(C1618=\"\",\"\",IF(H1618=\"\",\"SIN RESPUESTA\",(IF(H1618<=J1618,\"A TIEMPO\",\"FUERA DE TIEMPO\"))))","v":"A TIEMPO"},{"$f":"IF(H1618=\"\",\"\",NETWORKDAYS(C1618+1,H1618,DiasNOLaborables))","v":23},{"$f":"IF(NETWORKDAYS(J1618+1,H1618,DiasNOLaborables)<=0,\"\",NETWORKDAYS(J1618+1,H1618,DiasNOLaborables))","v":""},null,null,{"$f":"IFERROR(VLOOKUP(E1618,$X$51:$Y$64,2),\"\")","v":35}]
[1608,20219050135692,"2021-11-30","CORREO ELECTRÓNICO","SOLICITUD DE INFORMACIÓN Y DOCUMENTOS","INFORMES AMBIENTALES","SUBDIRECCIÓN DE ESTUDIOS AMBIENTALES","2021-12-07","CORREO ELECTRÓNICO",{"$f":"IFERROR(WORKDAY(C1619,P1619,DiasNOLaborables),\"\")","v":"2021-12-29"},{"$f":"+IF(C1619=\"\",\"\",IF(H1619=\"\",\"SIN RESPUESTA\",(IF(H1619<=J1619,\"A TIEMPO\",\"FUERA DE TIEMPO\"))))","v":"A TIEMPO"},{"$f":"IF(H1619=\"\",\"\",NETWORKDAYS(C1619+1,H1619,DiasNOLaborables))","v":5},{"$f":"IF(NETWORKDAYS(J1619+1,H1619,DiasNOLaborables)<=0,\"\",NETWORKDAYS(J1619+1,H1619,DiasNOLaborables))","v":""},null,null,{"$f":"IFERROR(VLOOKUP(E1619,$X$51:$Y$64,2),\"\")","v":20}]
[1609,20219050135702,"2021-11-30","CORREO ELECTRÓNICO","SOLICITUD DE INFORMACIÓN Y DOCUMENTOS","INFORMES AMBIENTALES","SUBDIRECCIÓN DE ESTUDIOS AMBIENTALES","2021-11-30","CORREO ELECTRÓNICO",{"$f":"IFERROR(WORKDAY(C1620,P1620,DiasNOLaborables),\"\")","v":"2021-12-29"},{"$f":"+IF(C1620=\"\",\"\",IF(H1620=\"\",\"SIN RESPUESTA\",(IF(H1620<=J1620,\"A TIEMPO\",\"FUERA DE TIEMPO\"))))","v":"A TIEMPO"},{"$f":"IF(H1620=\"\",\"\",NETWORKDAYS(C1620+1,H1620,DiasNOLaborables))","v":-2},{"$f":"IF(NETWORKDAYS(J1620+1,H1620,DiasNOLaborables)<=0,\"\",NETWORKDAYS(J1620+1,H1620,DiasNOLaborables))","v":""},null,null,{"$f":"IFERROR(VLOOKUP(E1620,$X$51:$Y$64,2),\"\")","v":20}]
[1610,20219050135712,"2021-11-30","CORREO ELECTRÓNICO","SOLICITUD DE INFORMACIÓN Y DOCUMENTOS","ADMINISTRATIVA","GRUPO DE ADMINISTRACIÓN Y DESARROLLO DEL TALENTO HUMANO","2021-11-30","CORREO ELECTRÓNICO",{"$f":"IFERROR(WORKDAY(C1621,P1621,DiasNOLaborables),\"\")","v":"2021-12-29"},{"$f":"+IF(C1621=\"\",\"\",IF(H1621=\"\",\"SIN RESPUESTA\",(IF(H1621<=J1621,\"A TIEMPO\",\"FUERA DE TIEMPO\"))))","v":"A TIEMPO"},{"$f":"IF(H1621=\"\",\"\",NETWORKDAYS(C1621+1,H1621,DiasNOLaborables))","v":-2},{"$f":"IF(NETWORKDAYS(J1621+1,H1621,DiasNOLaborables)<=0,\"\",NETWORKDAYS(J1621+1,H1621,DiasNOLaborables))","v":""},null,null,{"$f":"IFERROR(VLOOKUP(E1621,$X$51:$Y$64,2),\"\")","v":20}]
[1611,20219050135842,"2021-11-30","CORREO ELECTRÓNICO","SOLICITUD DE INFORMACIÓN Y DOCUMENTOS","INFORMES AMBIENTALES","SUBDIRECCIÓN DE ESTUDIOS AMBIENTALES","2021-12-23","CORREO ELECTRÓNICO",{"$f":"IFERROR(WORKDAY(C1622,P1622,DiasNOLaborables),\"\")","v":"2021-12-29"},{"$f":"+IF(C1622=\"\",\"\",IF(H1622=\"\",\"SIN RESPUESTA\",(IF(H1622<=J1622,\"A TIEMPO\",\"FUERA DE TIEMPO\"))))","v":"A TIEMPO"},{"$f":"IF(H1622=\"\",\"\",NETWORKDAYS(C1622+1,H1622,DiasNOLaborables))","v":16},{"$f":"IF(NETWORKDAYS(J1622+1,H1622,DiasNOLaborables)<=0,\"\",NETWORKDAYS(J1622+1,H1622,DiasNOLaborables))","v":""},null,null,{"$f":"IFERROR(VLOOKUP(E1622,$X$51:$Y$64,2),\"\")","v":20}]
[1612,20219050135972,"2021-11-30","CORREO ELECTRÓNICO","PETICIÓN","ADMINISTRATIVA","GRUPO DE ADMINISTRACIÓN Y DESARROLLO DEL TALENTO HUMANO","2021-12-06","CORREO ELECTRÓNICO",{"$f":"IFERROR(WORKDAY(C1623,P1623,DiasNOLaborables),\"\")","v":"2022-01-12"},{"$f":"+IF(C1623=\"\",\"\",IF(H1623=\"\",\"SIN RESPUESTA\",(IF(H1623<=J1623,\"A TIEMPO\",\"FUERA DE TIEMPO\"))))","v":"A TIEMPO"},{"$f":"IF(H1623=\"\",\"\",NETWORKDAYS(C1623+1,H1623,DiasNOLaborables))","v":4},{"$f":"IF(NETWORKDAYS(J1623+1,H1623,DiasNOLaborables)<=0,\"\",NETWORKDAYS(J1623+1,H1623,DiasNOLaborables))","v":""},null,null,{"$f":"IFERROR(VLOOKUP(E1623,$X$51:$Y$64,2),\"\")","v":30}]
[1613,20219910066402,"2021-11-30","CORREO ELECTRÓNICO","SOLICITUD DE INFORMACIÓN Y DOCUMENTOS","SIRH","SUBDIRECCIÓN DE HIDROLOGÍA","2021-12-10","CORREO ELECTRÓNICO",{"$f":"IFERROR(WORKDAY(C1624,P1624,DiasNOLaborables),\"\")","v":"2021-12-29"},{"$f":"+IF(C1624=\"\",\"\",IF(H1624=\"\",\"SIN RESPUESTA\",(IF(H1624<=J1624,\"A TIEMPO\",\"FUERA DE TIEMPO\"))))","v":"A TIEMPO"},{"$f":"IF(H1624=\"\",\"\",NETWORKDAYS(C1624+1,H1624,DiasNOLaborables))","v":7},{"$f":"IF(NETWORKDAYS(J1624+1,H1624,DiasNOLaborables)<=0,\"\",NETWORKDAYS(J1624+1,H1624,DiasNOLaborables))","v":""},null,null,{"$f":"IFERROR(VLOOKUP(E1624,$X$51:$Y$64,2),\"\")","v":20}]
[1614,20219050135582,"2021-11-30","MODULO CONTACTENOS","CERTIFICACIONES DE TIEMPO, CLIMA Y EVENTOS HIDROLÓGICOS","CERTIFICACIONES DE TIEMPO Y CLIMA","SUBDIRECCIÓN DE METEOROLOGÍA","2021-12-24","CORREO ELECTRÓNICO",{"$f":"IFERROR(WORKDAY(C1625,P1625,DiasNOLaborables),\"\")","v":"2022-01-19"},{"$f":"+IF(C1625=\"\",\"\",IF(H1625=\"\",\"SIN RESPUESTA\",(IF(H1625<=J1625,\"A TIEMPO\",\"FUERA DE TIEMPO\"))))","v":"A TIEMPO"},{"$f":"IF(H1625=\"\",\"\",NETWORKDAYS(C1625+1,H1625,DiasNOLaborables))","v":17},{"$f":"IF(NETWORKDAYS(J1625+1,H1625,DiasNOLaborables)<=0,\"\",NETWORKDAYS(J1625+1,H1625,DiasNOLaborables))","v":""},null,null,{"$f":"IFERROR(VLOOKUP(E1625,$X$51:$Y$64,2),\"\")","v":35}]
[1615,20219050135592,"2021-11-30","MODULO CONTACTENOS","SOLICITUD DE INFORMACIÓN Y DOCUMENTOS","ADMINISTRATIVA","OFICINA ASESORA JURÍDICA","2021-12-02","CORREO ELECTRÓNICO",{"$f":"IFERROR(WORKDAY(C1626,P1626,DiasNOLaborables),\"\")","v":"2021-12-29"},{"$f":"+IF(C1626=\"\",\"\",IF(H1626=\"\",\"SIN RESPUESTA\",(IF(H1626<=J1626,\"A TIEMPO\",\"FUERA DE TIEMPO\"))))","v":"A TIEMPO"},{"$f":"IF(H1626=\"\",\"\",NETWORKDAYS(C1626+1,H1626,DiasNOLaborables))","v":2},{"$f":"IF(NETWORKDAYS(J1626+1,H1626,DiasNOLaborables)<=0,\"\",NETWORKDAYS(J1626+1,H1626,DiasNOLaborables))","v":""},null,null,{"$f":"IFERROR(VLOOKUP(E1626,$X$51:$Y$64,2),\"\")","v":20}]
[1616,20219050135682,"2021-11-30","MODULO CONTACTENOS","SOLICITUD DE INFORMACIÓN Y DOCUMENTOS","ADMINISTRATIVA","GRUPO DE ADMINISTRACIÓN Y DESARROLLO DEL TALENTO HUMANO","2021-12-09","CORREO ELECTRÓNICO",{"$f":"IFERROR(WORKDAY(C1627,P1627,DiasNOLaborables),\"\")","v":"2021-12-29"},{"$f":"+IF(C1627=\"\",\"\",IF(H1627=\"\",\"SIN RESPUESTA\",(IF(H1627<=J1627,\"A TIEMPO\",\"FUERA DE TIEMPO\"))))","v":"A TIEMPO"},{"$f":"IF(H1627=\"\",\"\",NETWORKDAYS(C1627+1,H1627,DiasNOLaborables))","v":6},{"$f":"IF(NETWORKDAYS(J1627+1,H1627,DiasNOLaborables)<=0,\"\",NETWORKDAYS(J1627+1,H1627,DiasNOLaborables))","v":""},null,null,{"$f":"IFERROR(VLOOKUP(E1627,$X$51:$Y$64,2),\"\")","v":20}]
[1617,20219050135742,"2021-11-30","MODULO CONTACTENOS","SOLICITUD DE INFORMACIÓN Y DOCUMENTOS","ADMINISTRATIVA","OFICINA ASESORA JURÍDICA","2021-12-02","CORREO ELECTRÓNICO",{"$f":"IFERROR(WORKDAY(C1628,P1628,DiasNOLaborables),\"\")","v":"2021-12-29"},{"$f":"+IF(C1628=\"\",\"\",IF(H1628=\"\",\"SIN RESPUESTA\",(IF(H1628<=J1628,\"A TIEMPO\",\"FUERA DE TIEMPO\"))))","v":"A TIEMPO"},{"$f":"IF(H1628=\"\",\"\",NETWORKDAYS(C1628+1,H1628,DiasNOLaborables))","v":2},{"$f":"IF(NETWORKDAYS(J1628+1,H1628,DiasNOLaborables)<=0,\"\",NETWORKDAYS(J1628+1,H1628,DiasNOLaborables))","v":""},null,null,{"$f":"IFERROR(VLOOKUP(E1628,$X$51:$Y$64,2),\"\")","v":20}]
[1618,20219050135802,"2021-11-30","MODULO CONTACTENOS","SOLICITUD DE INFORMACIÓN Y DOCUMENTOS","ACREDITACIÓN DE LABORATORIOS","SUBDIRECCIÓN DE ESTUDIOS AMBIENTALES","2021-12-09","CORREO ELECTRÓNICO",{"$f":"IFERROR(WORKDAY(C1629,P1629,DiasNOLaborables),\"\")","v":"2021-12-29"},{"$f":"+IF(C1629=\"\",\"\",IF(H1629=\"\",\"SIN RESPUESTA\",(IF(H1629<=J1629,\"A TIEMPO\",\"FUERA DE TIEMPO\"))))","v":"A TIEMPO"},{"$f":"IF(H1629=\"\",\"\",NETWORKDAYS(C1629+1,H1629,DiasNOLaborables))","v":6},{"$f":"IF(NETWORKDAYS(J1629+1,H1629,DiasNOLaborables)<=0,\"\",NETWORKDAYS(J1629+1,H1629,DiasNOLaborables))","v":""},null,null,{"$f":"IFERROR(VLOOKUP(E1629,$X$51:$Y$64,2),\"\")","v":20}]
[1619,20219050135792,"2021-11-30","MODULO CONTACTENOS","SOLICITUD DE INFORMACIÓN Y DOCUMENTOS","ACREDITACIÓN DE LABORATORIOS","SUBDIRECCIÓN DE ESTUDIOS AMBIENTALES","2021-12-09","CORREO ELECTRÓNICO",{"$f":"IFERROR(WORKDAY(C1630,P1630,DiasNOLaborables),\"\")","v":"2021-12-29"},{"$f":"+IF(C1630=\"\",\"\",IF(H1630=\"\",\"SIN RESPUESTA\",(IF(H1630<=J1630,\"A TIEMPO\",\"FUERA DE TIEMPO\"))))","v":"A TIEMPO"},{"$f":"IF(H1630=\"\",\"\",NETWORKDAYS(C1630+1,H1630,DiasNOLaborables))","v":6},{"$f":"IF(NETWORKDAYS(J1630+1,H1630,DiasNOLaborables)<=0,\"\",NETWORKDAYS(J1630+1,H1630,DiasNOLaborables))","v":""},null,null,{"$f":"IFERROR(VLOOKUP(E1630,$X$51:$Y$64,2),\"\")","v":20}]
[1620,20219050135812,"2021-11-30","MODULO CONTACTENOS","SOLICITUD DE INFORMACIÓN Y DOCUMENTOS","ADMINISTRATIVA","GRUPO DE ADMINISTRACIÓN Y DESARROLLO DEL TALENTO HUMANO","2021-12-09","CORREO ELECTRÓNICO",{"$f":"IFERROR(WORKDAY(C1631,P1631,DiasNOLaborables),\"\")","v":"2021-12-29"},{"$f":"+IF(C1631=\"\",\"\",IF(H1631=\"\",\"SIN RESPUESTA\",(IF(H1631<=J1631,\"A TIEMPO\",\"FUERA DE TIEMPO\"))))","v":"A TIEMPO"},{"$f":"IF(H1631=\"\",\"\",NETWORKDAYS(C1631+1,H1631,DiasNOLaborables))","v":6},{"$f":"IF(NETWORKDAYS(J1631+1,H1631,DiasNOLaborables)<=0,\"\",NETWORKDAYS(J1631+1,H1631,DiasNOLaborables))","v":""},null,null,{"$f":"IFERROR(VLOOKUP(E1631,$X$51:$Y$64,2),\"\")","v":20}]
[1621,20219050135852,"2021-11-30","MODULO CONTACTENOS","SOLICITUD DE INFORMACIÓN Y DOCUMENTOS","REGISTROS AMBIENTALES","SUBDIRECCIÓN DE ESTUDIOS AMBIENTALES","2021-12-23","CORREO ELECTRÓNICO",{"$f":"IFERROR(WORKDAY(C1632,P1632,DiasNOLaborables),\"\")","v":"2021-12-29"},{"$f":"+IF(C1632=\"\",\"\",IF(H1632=\"\",\"SIN RESPUESTA\",(IF(H1632<=J1632,\"A TIEMPO\",\"FUERA DE TIEMPO\"))))","v":"A TIEMPO"},{"$f":"IF(H1632=\"\",\"\",NETWORKDAYS(C1632+1,H1632,DiasNOLaborables))","v":16},{"$f":"IF(NETWORKDAYS(J1632+1,H1632,DiasNOLaborables)<=0,\"\",NETWORKDAYS(J1632+1,H1632,DiasNOLaborables))","v":""},null,null,{"$f":"IFERROR(VLOOKUP(E1632,$X$51:$Y$64,2),\"\")","v":20}]
[1622,20219050135892,"2021-11-30","MODULO CONTACTENOS","SOLICITUD DE INFORMACIÓN Y DOCUMENTOS","ADMINISTRATIVA","GRUPO DE ADMINISTRACIÓN Y DESARROLLO DEL TALENTO HUMANO","2021-12-13","CORREO ELECTRÓNICO",{"$f":"IFERROR(WORKDAY(C1633,P1633,DiasNOLaborables),\"\")","v":"2021-12-29"},{"$f":"+IF(C1633=\"\",\"\",IF(H1633=\"\",\"SIN RESPUESTA\",(IF(H1633<=J1633,\"A TIEMPO\",\"FUERA DE TIEMPO\"))))","v":"A TIEMPO"},{"$f":"IF(H1633=\"\",\"\",NETWORKDAYS(C1633+1,H1633,DiasNOLaborables))","v":8},{"$f":"IF(NETWORKDAYS(J1633+1,H1633,DiasNOLaborables)<=0,\"\",NETWORKDAYS(J1633+1,H1633,DiasNOLaborables))","v":""},null,null,{"$f":"IFERROR(VLOOKUP(E1633,$X$51:$Y$64,2),\"\")","v":20}]
[1623,20219050135902,"2021-11-30","MODULO CONTACTENOS","SOLICITUD DE INFORMACIÓN Y DOCUMENTOS","CLIMATOLOGÍA","SUBDIRECCIÓN DE METEOROLOGÍA","2021-12-15","CORREO ELECTRÓNICO",{"$f":"IFERROR(WORKDAY(C1634,P1634,DiasNOLaborables),\"\")","v":"2021-12-29"},{"$f":"+IF(C1634=\"\",\"\",IF(H1634=\"\",\"SIN RESPUESTA\",(IF(H1634<=J1634,\"A TIEMPO\",\"FUERA DE TIEMPO\"))))","v":"A TIEMPO"},{"$f":"IF(H1634=\"\",\"\",NETWORKDAYS(C1634+1,H1634,DiasNOLaborables))","v":10},{"$f":"IF(NETWORKDAYS(J1634+1,H1634,DiasNOLaborables)<=0,\"\",NETWORKDAYS(J1634+1,H1634,DiasNOLaborables))","v":""},null,null,{"$f":"IFERROR(VLOOKUP(E1634,$X$51:$Y$64,2),\"\")","v":20}]
[1624,20219050135962,"2021-11-30","MODULO CONTACTENOS","PETICIÓN","REGISTROS AMBIENTALES","SUBDIRECCIÓN DE ESTUDIOS AMBIENTALES","2021-12-23","CORREO ELECTRÓNICO",{"$f":"IFERROR(WORKDAY(C1635,P1635,DiasNOLaborables),\"\")","v":"2022-01-12"},{"$f":"+IF(C1635=\"\",\"\",IF(H1635=\"\",\"SIN RESPUESTA\",(IF(H1635<=J1635,\"A TIEMPO\",\"FUERA DE TIEMPO\"))))","v":"A TIEMPO"},{"$f":"IF(H1635=\"\",\"\",NETWORKDAYS(C1635+1,H1635,DiasNOLaborables))","v":16},{"$f":"IF(NETWORKDAYS(J1635+1,H1635,DiasNOLaborables)<=0,\"\",NETWORKDAYS(J1635+1,H1635,DiasNOLaborables))","v":""},null,null,{"$f":"IFERROR(VLOOKUP(E1635,$X$51:$Y$64,2),\"\")","v":30}]
[1625,20219050136012,"2021-11-30","MODULO CONTACTENOS","SOLICITUD DE INFORMACIÓN Y DOCUMENTOS","ADMINISTRATIVA","GRUPO DE ADMINISTRACIÓN Y DESARROLLO DEL TALENTO HUMANO","2021-12-13","CORREO ELECTRÓNICO",{"$f":"IFERROR(WORKDAY(C1636,P1636,DiasNOLaborables),\"\")","v":"2021-12-29"},{"$f":"+IF(C1636=\"\",\"\",IF(H1636=\"\",\"SIN RESPUESTA\",(IF(H1636<=J1636,\"A TIEMPO\",\"FUERA DE TIEMPO\"))))","v":"A TIEMPO"},{"$f":"IF(H1636=\"\",\"\",NETWORKDAYS(C1636+1,H1636,DiasNOLaborables))","v":8},{"$f":"IF(NETWORKDAYS(J1636+1,H1636,DiasNOLaborables)<=0,\"\",NETWORKDAYS(J1636+1,H1636,DiasNOLaborables))","v":""},null,null,{"$f":"IFERROR(VLOOKUP(E1636,$X$51:$Y$64,2),\"\")","v":20}]
[1626,20219050135822,"2021-11-30","CORREO ELECTRÓNICO","SOLICITUD DE INFORMACIÓN Y DOCUMENTOS","SOLICITUD DE INFORMACIÓN HIDROMETEOROLÓGICA","GRUPO DE SERVICIO AL CIUDADANO ","2021-12-16","CORREO ELECTRÓNICO",{"$f":"IFERROR(WORKDAY(C1637,P1637,DiasNOLaborables),\"\")","v":"2021-12-29"},{"$f":"+IF(C1637=\"\",\"\",IF(H1637=\"\",\"SIN RESPUESTA\",(IF(H1637<=J1637,\"A TIEMPO\",\"FUERA DE TIEMPO\"))))","v":"A TIEMPO"},{"$f":"IF(H1637=\"\",\"\",NETWORKDAYS(C1637+1,H1637,DiasNOLaborables))","v":11},{"$f":"IF(NETWORKDAYS(J1637+1,H1637,DiasNOLaborables)<=0,\"\",NETWORKDAYS(J1637+1,H1637,DiasNOLaborables))","v":""},null,null,{"$f":"IFERROR(VLOOKUP(E1637,$X$51:$Y$64,2),\"\")","v":20}]
[1627,20219050135832,"2021-11-30","CORREO ELECTRÓNICO","SOLICITUD DE INFORMACIÓN Y DOCUMENTOS","SOLICITUD DE INFORMACIÓN HIDROMETEOROLÓGICA","GRUPO DE SERVICIO AL CIUDADANO ","2021-12-16","CORREO ELECTRÓNICO",{"$f":"IFERROR(WORKDAY(C1638,P1638,DiasNOLaborables),\"\")","v":"2021-12-29"},{"$f":"+IF(C1638=\"\",\"\",IF(H1638=\"\",\"SIN RESPUESTA\",(IF(H1638<=J1638,\"A TIEMPO\",\"FUERA DE TIEMPO\"))))","v":"A TIEMPO"},{"$f":"IF(H1638=\"\",\"\",NETWORKDAYS(C1638+1,H1638,DiasNOLaborables))","v":11},{"$f":"IF(NETWORKDAYS(J1638+1,H1638,DiasNOLaborables)<=0,\"\",NETWORKDAYS(J1638+1,H1638,DiasNOLaborables))","v":""},null,null,{"$f":"IFERROR(VLOOKUP(E1638,$X$51:$Y$64,2),\"\")","v":20}]
[1628,20219050135862,"2021-11-30","MODULO CONTACTENOS","SOLICITUD DE INFORMACIÓN Y DOCUMENTOS","SOLICITUD DE INFORMACIÓN HIDROMETEOROLÓGICA","GRUPO DE SERVICIO AL CIUDADANO ","2021-12-16","CORREO ELECTRÓNICO",{"$f":"IFERROR(WORKDAY(C1639,P1639,DiasNOLaborables),\"\")","v":"2021-12-29"},{"$f":"+IF(C1639=\"\",\"\",IF(H1639=\"\",\"SIN RESPUESTA\",(IF(H1639<=J1639,\"A TIEMPO\",\"FUERA DE TIEMPO\"))))","v":"A TIEMPO"},{"$f":"IF(H1639=\"\",\"\",NETWORKDAYS(C1639+1,H1639,DiasNOLaborables))","v":11},{"$f":"IF(NETWORKDAYS(J1639+1,H1639,DiasNOLaborables)<=0,\"\",NETWORKDAYS(J1639+1,H1639,DiasNOLaborables))","v":""},null,null,{"$f":"IFERROR(VLOOKUP(E1639,$X$51:$Y$64,2),\"\")","v":20}]
[1629,20219050135952,"2021-11-30","MODULO CONTACTENOS","SOLICITUD DE INFORMACIÓN Y DOCUMENTOS","SOLICITUD DE INFORMACIÓN HIDROMETEOROLÓGICA","GRUPO DE SERVICIO AL CIUDADANO ","2021-12-17","CORREO ELECTRÓNICO",{"$f":"IFERROR(WORKDAY(C1640,P1640,DiasNOLaborables),\"\")","v":"2021-12-29"},{"$f":"+IF(C1640=\"\",\"\",IF(H1640=\"\",\"SIN RESPUESTA\",(IF(H1640<=J1640,\"A TIEMPO\",\"FUERA DE TIEMPO\"))))","v":"A TIEMPO"},{"$f":"IF(H1640=\"\",\"\",NETWORKDAYS(C1640+1,H1640,DiasNOLaborables))","v":12},{"$f":"IF(NETWORKDAYS(J1640+1,H1640,DiasNOLaborables)<=0,\"\",NETWORKDAYS(J1640+1,H1640,DiasNOLaborables))","v":""},null,null,{"$f":"IFERROR(VLOOKUP(E1640,$X$51:$Y$64,2),\"\")","v":20}]
[1630,20219050136002,"2021-11-30","MODULO CONTACTENOS","SOLICITUD DE INFORMACIÓN Y DOCUMENTOS","SOLICITUD DE INFORMACIÓN HIDROMETEOROLÓGICA","GRUPO DE SERVICIO AL CIUDADANO ","2021-12-17","CORREO ELECTRÓNICO",{"$f":"IFERROR(WORKDAY(C1641,P1641,DiasNOLaborables),\"\")","v":"2021-12-29"},{"$f":"+IF(C1641=\"\",\"\",IF(H1641=\"\",\"SIN RESPUESTA\",(IF(H1641<=J1641,\"A TIEMPO\",\"FUERA DE TIEMPO\"))))","v":"A TIEMPO"},{"$f":"IF(H1641=\"\",\"\",NETWORKDAYS(C1641+1,H1641,DiasNOLaborables))","v":12},{"$f":"IF(NETWORKDAYS(J1641+1,H1641,DiasNOLaborables)<=0,\"\",NETWORKDAYS(J1641+1,H1641,DiasNOLaborables))","v":""},null,null,{"$f":"IFERROR(VLOOKUP(E1641,$X$51:$Y$64,2),\"\")","v":20}]
[1631,20219050135992,"2021-11-30","CORREO ELECTRÓNICO","SOLICITUD DE INFORMACIÓN Y DOCUMENTOS","SOLICITUD DE INFORMACIÓN HIDROMETEOROLÓGICA","GRUPO DE SERVICIO AL CIUDADANO ","2021-12-17","CORREO ELECTRÓNICO",{"$f":"IFERROR(WORKDAY(C1642,P1642,DiasNOLaborables),\"\")","v":"2021-12-29"},{"$f":"+IF(C1642=\"\",\"\",IF(H1642=\"\",\"SIN RESPUESTA\",(IF(H1642<=J1642,\"A TIEMPO\",\"FUERA DE TIEMPO\"))))","v":"A TIEMPO"},{"$f":"IF(H1642=\"\",\"\",NETWORKDAYS(C1642+1,H1642,DiasNOLaborables))","v":12},{"$f":"IF(NETWORKDAYS(J1642+1,H1642,DiasNOLaborables)<=0,\"\",NETWORKDAYS(J1642+1,H1642,DiasNOLaborables))","v":""},null,null,{"$f":"IFERROR(VLOOKUP(E1642,$X$51:$Y$64,2),\"\")","v":20}]
[1632,20219050136282,"2021-12-01","MODULO CONTACTENOS","SOLICITUD DE INFORMACIÓN Y DOCUMENTOS","ADMINISTRATIVA","OFICINA ASESORA JURÍDICA","2021-12-06","CORREO ELECTRÓNICO",{"$f":"IFERROR(WORKDAY(C1643,P1643,DiasNOLaborables),\"\")","v":"2021-12-30"},{"$f":"+IF(C1643=\"\",\"\",IF(H1643=\"\",\"SIN RESPUESTA\",(IF(H1643<=J1643,\"A TIEMPO\",\"FUERA DE TIEMPO\"))))","v":"A TIEMPO"},{"$f":"IF(H1643=\"\",\"\",NETWORKDAYS(C1643+1,H1643,DiasNOLaborables))","v":3},{"$f":"IF(NETWORKDAYS(J1643+1,H1643,DiasNOLaborables)<=0,\"\",NETWORKDAYS(J1643+1,H1643,DiasNOLaborables))","v":""},null,null,{"$f":"IFERROR(VLOOKUP(E1643,$X$51:$Y$64,2),\"\")","v":20}]
[1633,20219050136262,"2021-12-01","CORREO ELECTRÓNICO","SOLICITUD DE INFORMACIÓN Y DOCUMENTOS","SOLICITUD DE INFORMACIÓN HIDROMETEOROLÓGICA","GRUPO DE SERVICIO AL CIUDADANO ","2021-12-02","CORREO ELECTRÓNICO",{"$f":"IFERROR(WORKDAY(C1644,P1644,DiasNOLaborables),\"\")","v":"2021-12-30"},{"$f":"+IF(C1644=\"\",\"\",IF(H1644=\"\",\"SIN RESPUESTA\",(IF(H1644<=J1644,\"A TIEMPO\",\"FUERA DE TIEMPO\"))))","v":"A TIEMPO"},{"$f":"IF(H1644=\"\",\"\",NETWORKDAYS(C1644+1,H1644,DiasNOLaborables))","v":1},{"$f":"IF(NETWORKDAYS(J1644+1,H1644,DiasNOLaborables)<=0,\"\",NETWORKDAYS(J1644+1,H1644,DiasNOLaborables))","v":""},null,null,{"$f":"IFERROR(VLOOKUP(E1644,$X$51:$Y$64,2),\"\")","v":20}]
[1634,20219050136292,"2021-12-01","MODULO CONTACTENOS","SOLICITUD DE INFORMACIÓN Y DOCUMENTOS","SOLICITUD DE INFORMACIÓN HIDROMETEOROLÓGICA","GRUPO DE SERVICIO AL CIUDADANO ","2021-12-03","CORREO ELECTRÓNICO",{"$f":"IFERROR(WORKDAY(C1645,P1645,DiasNOLaborables),\"\")","v":"2021-12-30"},{"$f":"+IF(C1645=\"\",\"\",IF(H1645=\"\",\"SIN RESPUESTA\",(IF(H1645<=J1645,\"A TIEMPO\",\"FUERA DE TIEMPO\"))))","v":"A TIEMPO"},{"$f":"IF(H1645=\"\",\"\",NETWORKDAYS(C1645+1,H1645,DiasNOLaborables))","v":2},{"$f":"IF(NETWORKDAYS(J1645+1,H1645,DiasNOLaborables)<=0,\"\",NETWORKDAYS(J1645+1,H1645,DiasNOLaborables))","v":""},null,null,{"$f":"IFERROR(VLOOKUP(E1645,$X$51:$Y$64,2),\"\")","v":20}]
[1635,20219050136302,"2021-12-01","MODULO CONTACTENOS","SOLICITUD DE INFORMACIÓN Y DOCUMENTOS","SOLICITUD DE INFORMACIÓN HIDROMETEOROLÓGICA","GRUPO DE SERVICIO AL CIUDADANO ","2021-12-03","CORREO ELECTRÓNICO",{"$f":"IFERROR(WORKDAY(C1646,P1646,DiasNOLaborables),\"\")","v":"2021-12-30"},{"$f":"+IF(C1646=\"\",\"\",IF(H1646=\"\",\"SIN RESPUESTA\",(IF(H1646<=J1646,\"A TIEMPO\",\"FUERA DE TIEMPO\"))))","v":"A TIEMPO"},{"$f":"IF(H1646=\"\",\"\",NETWORKDAYS(C1646+1,H1646,DiasNOLaborables))","v":2},{"$f":"IF(NETWORKDAYS(J1646+1,H1646,DiasNOLaborables)<=0,\"\",NETWORKDAYS(J1646+1,H1646,DiasNOLaborables))","v":""},null,null,{"$f":"IFERROR(VLOOKUP(E1646,$X$51:$Y$64,2),\"\")","v":20}]
[1636,20219050136312,"2021-12-01","MODULO CONTACTENOS","SOLICITUD DE INFORMACIÓN Y DOCUMENTOS","SOLICITUD DE INFORMACIÓN HIDROMETEOROLÓGICA","GRUPO DE SERVICIO AL CIUDADANO ","2021-12-03","CORREO ELECTRÓNICO",{"$f":"IFERROR(WORKDAY(C1647,P1647,DiasNOLaborables),\"\")","v":"2021-12-30"},{"$f":"+IF(C1647=\"\",\"\",IF(H1647=\"\",\"SIN RESPUESTA\",(IF(H1647<=J1647,\"A TIEMPO\",\"FUERA DE TIEMPO\"))))","v":"A TIEMPO"},{"$f":"IF(H1647=\"\",\"\",NETWORKDAYS(C1647+1,H1647,DiasNOLaborables))","v":2},{"$f":"IF(NETWORKDAYS(J1647+1,H1647,DiasNOLaborables)<=0,\"\",NETWORKDAYS(J1647+1,H1647,DiasNOLaborables))","v":""},null,null,{"$f":"IFERROR(VLOOKUP(E1647,$X$51:$Y$64,2),\"\")","v":20}]
[1637,20219050136322,"2021-12-01","MODULO CONTACTENOS","SOLICITUD DE INFORMACIÓN Y DOCUMENTOS","SOLICITUD DE INFORMACIÓN HIDROMETEOROLÓGICA","GRUPO DE SERVICIO AL CIUDADANO ","2021-12-05","CORREO ELECTRÓNICO",{"$f":"IFERROR(WORKDAY(C1648,P1648,DiasNOLaborables),\"\")","v":"2021-12-30"},{"$f":"+IF(C1648=\"\",\"\",IF(H1648=\"\",\"SIN RESPUESTA\",(IF(H1648<=J1648,\"A TIEMPO\",\"FUERA DE TIEMPO\"))))","v":"A TIEMPO"},{"$f":"IF(H1648=\"\",\"\",NETWORKDAYS(C1648+1,H1648,DiasNOLaborables))","v":2},{"$f":"IF(NETWORKDAYS(J1648+1,H1648,DiasNOLaborables)<=0,\"\",NETWORKDAYS(J1648+1,H1648,DiasNOLaborables))","v":""},null,null,{"$f":"IFERROR(VLOOKUP(E1648,$X$51:$Y$64,2),\"\")","v":20}]
[1638,20219050136342,"2021-12-01","MODULO CONTACTENOS","SOLICITUD DE INFORMACIÓN Y DOCUMENTOS","SOLICITUD DE INFORMACIÓN HIDROMETEOROLÓGICA","GRUPO DE SERVICIO AL CIUDADANO ","2021-12-05","CORREO ELECTRÓNICO",{"$f":"IFERROR(WORKDAY(C1649,P1649,DiasNOLaborables),\"\")","v":"2021-12-30"},{"$f":"+IF(C1649=\"\",\"\",IF(H1649=\"\",\"SIN RESPUESTA\",(IF(H1649<=J1649,\"A TIEMPO\",\"FUERA DE TIEMPO\"))))","v":"A TIEMPO"},{"$f":"IF(H1649=\"\",\"\",NETWORKDAYS(C1649+1,H1649,DiasNOLaborables))","v":2},{"$f":"IF(NETWORKDAYS(J1649+1,H1649,DiasNOLaborables)<=0,\"\",NETWORKDAYS(J1649+1,H1649,DiasNOLaborables))","v":""},null,null,{"$f":"IFERROR(VLOOKUP(E1649,$X$51:$Y$64,2),\"\")","v":20}]
[1639,20219050136352,"2021-12-01","MODULO CONTACTENOS","SOLICITUD DE INFORMACIÓN Y DOCUMENTOS","SOLICITUD DE INFORMACIÓN HIDROMETEOROLÓGICA","GRUPO DE SERVICIO AL CIUDADANO ","2021-12-05","CORREO ELECTRÓNICO",{"$f":"IFERROR(WORKDAY(C1650,P1650,DiasNOLaborables),\"\")","v":"2021-12-30"},{"$f":"+IF(C1650=\"\",\"\",IF(H1650=\"\",\"SIN RESPUESTA\",(IF(H1650<=J1650,\"A TIEMPO\",\"FUERA DE TIEMPO\"))))","v":"A TIEMPO"},{"$f":"IF(H1650=\"\",\"\",NETWORKDAYS(C1650+1,H1650,DiasNOLaborables))","v":2},{"$f":"IF(NETWORKDAYS(J1650+1,H1650,DiasNOLaborables)<=0,\"\",NETWORKDAYS(J1650+1,H1650,DiasNOLaborables))","v":""},null,null,{"$f":"IFERROR(VLOOKUP(E1650,$X$51:$Y$64,2),\"\")","v":20}]
[1640,20219050136102,"2021-12-01","CORREO ELECTRÓNICO","SOLICITUD DE INFORMACIÓN Y DOCUMENTOS","INFORMES AMBIENTALES","SUBDIRECCIÓN DE ESTUDIOS AMBIENTALES","2021-12-23","CORREO ELECTRÓNICO",{"$f":"IFERROR(WORKDAY(C1651,P1651,DiasNOLaborables),\"\")","v":"2021-12-30"},{"$f":"+IF(C1651=\"\",\"\",IF(H1651=\"\",\"SIN RESPUESTA\",(IF(H1651<=J1651,\"A TIEMPO\",\"FUERA DE TIEMPO\"))))","v":"A TIEMPO"},{"$f":"IF(H1651=\"\",\"\",NETWORKDAYS(C1651+1,H1651,DiasNOLaborables))","v":15},{"$f":"IF(NETWORKDAYS(J1651+1,H1651,DiasNOLaborables)<=0,\"\",NETWORKDAYS(J1651+1,H1651,DiasNOLaborables))","v":""},null,null,{"$f":"IFERROR(VLOOKUP(E1651,$X$51:$Y$64,2),\"\")","v":20}]
[1641,20219050136142,"2021-12-01","CORREO ELECTRÓNICO","SOLICITUD DE INFORMACIÓN Y DOCUMENTOS","BOSQUES","SUBDIRECCIÓN DE ECOSISTEMAS E INFORMACIÓN AMBIENTAL","2021-12-09","CORREO ELECTRÓNICO",{"$f":"IFERROR(WORKDAY(C1652,P1652,DiasNOLaborables),\"\")","v":"2021-12-30"},{"$f":"+IF(C1652=\"\",\"\",IF(H1652=\"\",\"SIN RESPUESTA\",(IF(H1652<=J1652,\"A TIEMPO\",\"FUERA DE TIEMPO\"))))","v":"A TIEMPO"},{"$f":"IF(H1652=\"\",\"\",NETWORKDAYS(C1652+1,H1652,DiasNOLaborables))","v":5},{"$f":"IF(NETWORKDAYS(J1652+1,H1652,DiasNOLaborables)<=0,\"\",NETWORKDAYS(J1652+1,H1652,DiasNOLaborables))","v":""},null,null,{"$f":"IFERROR(VLOOKUP(E1652,$X$51:$Y$64,2),\"\")","v":20}]
[1642,20219050136162,"2021-12-01","CORREO ELECTRÓNICO","SOLICITUD DE INFORMACIÓN Y DOCUMENTOS","ADMINISTRATIVA","GRUPO DE TESORERÍA","2021-12-02","CORREO ELECTRÓNICO",{"$f":"IFERROR(WORKDAY(C1653,P1653,DiasNOLaborables),\"\")","v":"2021-12-30"},{"$f":"+IF(C1653=\"\",\"\",IF(H1653=\"\",\"SIN RESPUESTA\",(IF(H1653<=J1653,\"A TIEMPO\",\"FUERA DE TIEMPO\"))))","v":"A TIEMPO"},{"$f":"IF(H1653=\"\",\"\",NETWORKDAYS(C1653+1,H1653,DiasNOLaborables))","v":1},{"$f":"IF(NETWORKDAYS(J1653+1,H1653,DiasNOLaborables)<=0,\"\",NETWORKDAYS(J1653+1,H1653,DiasNOLaborables))","v":""},null,null,{"$f":"IFERROR(VLOOKUP(E1653,$X$51:$Y$64,2),\"\")","v":20}]
[1643,20219050136172,"2021-12-01","CORREO ELECTRÓNICO","SOLICITUD DE INFORMACIÓN Y DOCUMENTOS","SOLICITUD DE INFORMACIÓN HIDROMETEOROLÓGICA","SUBDIRECCIÓN DE HIDROLOGÍA","2021-12-13","CORREO ELECTRÓNICO",{"$f":"IFERROR(WORKDAY(C1654,P1654,DiasNOLaborables),\"\")","v":"2021-12-30"},{"$f":"+IF(C1654=\"\",\"\",IF(H1654=\"\",\"SIN RESPUESTA\",(IF(H1654<=J1654,\"A TIEMPO\",\"FUERA DE TIEMPO\"))))","v":"A TIEMPO"},{"$f":"IF(H1654=\"\",\"\",NETWORKDAYS(C1654+1,H1654,DiasNOLaborables))","v":7},{"$f":"IF(NETWORKDAYS(J1654+1,H1654,DiasNOLaborables)<=0,\"\",NETWORKDAYS(J1654+1,H1654,DiasNOLaborables))","v":""},null,null,{"$f":"IFERROR(VLOOKUP(E1654,$X$51:$Y$64,2),\"\")","v":20}]
[1644,20219050136092,"2021-12-01","MODULO CONTACTENOS","SOLICITUD DE INFORMACIÓN Y DOCUMENTOS","SOLICITUD DE INFORMACIÓN HIDROMETEOROLÓGICA","GRUPO DE SERVICIO AL CIUDADANO ","2021-12-13","CORREO ELECTRÓNICO",{"$f":"IFERROR(WORKDAY(C1655,P1655,DiasNOLaborables),\"\")","v":"2021-12-30"},{"$f":"+IF(C1655=\"\",\"\",IF(H1655=\"\",\"SIN RESPUESTA\",(IF(H1655<=J1655,\"A TIEMPO\",\"FUERA DE TIEMPO\"))))","v":"A TIEMPO"},{"$f":"IF(H1655=\"\",\"\",NETWORKDAYS(C1655+1,H1655,DiasNOLaborables))","v":7},{"$f":"IF(NETWORKDAYS(J1655+1,H1655,DiasNOLaborables)<=0,\"\",NETWORKDAYS(J1655+1,H1655,DiasNOLaborables))","v":""},null,null,{"$f":"IFERROR(VLOOKUP(E1655,$X$51:$Y$64,2),\"\")","v":20}]
[1645,20219050136132,"2021-12-01","MODULO CONTACTENOS","SOLICITUD DE INFORMACIÓN Y DOCUMENTOS","SOLICITUD DE INFORMACIÓN HIDROMETEOROLÓGICA","GRUPO DE SERVICIO AL CIUDADANO ","2021-12-13","CORREO ELECTRÓNICO",{"$f":"IFERROR(WORKDAY(C1656,P1656,DiasNOLaborables),\"\")","v":"2021-12-30"},{"$f":"+IF(C1656=\"\",\"\",IF(H1656=\"\",\"SIN RESPUESTA\",(IF(H1656<=J1656,\"A TIEMPO\",\"FUERA DE TIEMPO\"))))","v":"A TIEMPO"},{"$f":"IF(H1656=\"\",\"\",NETWORKDAYS(C1656+1,H1656,DiasNOLaborables))","v":7},{"$f":"IF(NETWORKDAYS(J1656+1,H1656,DiasNOLaborables)<=0,\"\",NETWORKDAYS(J1656+1,H1656,DiasNOLaborables))","v":""},null,null,{"$f":"IFERROR(VLOOKUP(E1656,$X$51:$Y$64,2),\"\")","v":20}]
[1646,20219050136152,"2021-12-01","CORREO ELECTRÓNICO","SOLICITUD DE INFORMACIÓN Y DOCUMENTOS","SOLICITUD DE INFORMACIÓN HIDROMETEOROLÓGICA","GRUPO DE SERVICIO AL CIUDADANO ","2021-12-13","CORREO ELECTRÓNICO",{"$f":"IFERROR(WORKDAY(C1657,P1657,DiasNOLaborables),\"\")","v":"2021-12-30"},{"$f":"+IF(C1657=\"\",\"\",IF(H1657=\"\",\"SIN RESPUESTA\",(IF(H1657<=J1657,\"A TIEMPO\",\"FUERA DE TIEMPO\"))))","v":"A TIEMPO"},{"$f":"IF(H1657=\"\",\"\",NETWORKDAYS(C1657+1,H1657,DiasNOLaborables))","v":7},{"$f":"IF(NETWORKDAYS(J1657+1,H1657,DiasNOLaborables)<=0,\"\",NETWORKDAYS(J1657+1,H1657,DiasNOLaborables))","v":""},null,null,{"$f":"IFERROR(VLOOKUP(E1657,$X$51:$Y$64,2),\"\")","v":20}]
[1647,20219050136192,"2021-12-01","CORREO ELECTRÓNICO","SOLICITUD DE INFORMACIÓN Y DOCUMENTOS","SOLICITUD DE INFORMACIÓN HIDROMETEOROLÓGICA","GRUPO DE SERVICIO AL CIUDADANO ","2021-12-13","CORREO ELECTRÓNICO",{"$f":"IFERROR(WORKDAY(C1658,P1658,DiasNOLaborables),\"\")","v":"2021-12-30"},{"$f":"+IF(C1658=\"\",\"\",IF(H1658=\"\",\"SIN RESPUESTA\",(IF(H1658<=J1658,\"A TIEMPO\",\"FUERA DE TIEMPO\"))))","v":"A TIEMPO"},{"$f":"IF(H1658=\"\",\"\",NETWORKDAYS(C1658+1,H1658,DiasNOLaborables))","v":7},{"$f":"IF(NETWORKDAYS(J1658+1,H1658,DiasNOLaborables)<=0,\"\",NETWORKDAYS(J1658+1,H1658,DiasNOLaborables))","v":""},null,null,{"$f":"IFERROR(VLOOKUP(E1658,$X$51:$Y$64,2),\"\")","v":20}]
[1648,20219050136202,"2021-12-01","CORREO ELECTRÓNICO","SOLICITUD DE INFORMACIÓN Y DOCUMENTOS","SOLICITUD DE INFORMACIÓN HIDROMETEOROLÓGICA","GRUPO DE SERVICIO AL CIUDADANO ","2021-12-14","CORREO ELECTRÓNICO",{"$f":"IFERROR(WORKDAY(C1659,P1659,DiasNOLaborables),\"\")","v":"2021-12-30"},{"$f":"+IF(C1659=\"\",\"\",IF(H1659=\"\",\"SIN RESPUESTA\",(IF(H1659<=J1659,\"A TIEMPO\",\"FUERA DE TIEMPO\"))))","v":"A TIEMPO"},{"$f":"IF(H1659=\"\",\"\",NETWORKDAYS(C1659+1,H1659,DiasNOLaborables))","v":8},{"$f":"IF(NETWORKDAYS(J1659+1,H1659,DiasNOLaborables)<=0,\"\",NETWORKDAYS(J1659+1,H1659,DiasNOLaborables))","v":""},null,null,{"$f":"IFERROR(VLOOKUP(E1659,$X$51:$Y$64,2),\"\")","v":20}]
[1649,20219050136232,"2021-12-01","CORREO ELECTRÓNICO","SOLICITUD DE INFORMACIÓN Y DOCUMENTOS","SOLICITUD DE INFORMACIÓN HIDROMETEOROLÓGICA","GRUPO DE SERVICIO AL CIUDADANO ","2021-12-14","CORREO ELECTRÓNICO",{"$f":"IFERROR(WORKDAY(C1660,P1660,DiasNOLaborables),\"\")","v":"2021-12-30"},{"$f":"+IF(C1660=\"\",\"\",IF(H1660=\"\",\"SIN RESPUESTA\",(IF(H1660<=J1660,\"A TIEMPO\",\"FUERA DE TIEMPO\"))))","v":"A TIEMPO"},{"$f":"IF(H1660=\"\",\"\",NETWORKDAYS(C1660+1,H1660,DiasNOLaborables))","v":8},{"$f":"IF(NETWORKDAYS(J1660+1,H1660,DiasNOLaborables)<=0,\"\",NETWORKDAYS(J1660+1,H1660,DiasNOLaborables))","v":""},null,null,{"$f":"IFERROR(VLOOKUP(E1660,$X$51:$Y$64,2),\"\")","v":20}]
[1650,20219050136182,"2021-12-01","CORREO ELECTRÓNICO","CERTIFICACIONES DE TIEMPO, CLIMA Y EVENTOS HIDROLÓGICOS","CERTIFICACIONES DE TIEMPO Y CLIMA","SUBDIRECCIÓN DE METEOROLOGÍA","2021-12-15","CORREO ELECTRÓNICO",{"$f":"IFERROR(WORKDAY(C1661,P1661,DiasNOLaborables),\"\")","v":"2022-01-20"},{"$f":"+IF(C1661=\"\",\"\",IF(H1661=\"\",\"SIN RESPUESTA\",(IF(H1661<=J1661,\"A TIEMPO\",\"FUERA DE TIEMPO\"))))","v":"A TIEMPO"},{"$f":"IF(H1661=\"\",\"\",NETWORKDAYS(C1661+1,H1661,DiasNOLaborables))","v":9},{"$f":"IF(NETWORKDAYS(J1661+1,H1661,DiasNOLaborables)<=0,\"\",NETWORKDAYS(J1661+1,H1661,DiasNOLaborables))","v":""},null,null,{"$f":"IFERROR(VLOOKUP(E1661,$X$51:$Y$64,2),\"\")","v":35}]
[1651,20219050136212,"2021-12-01","CORREO ELECTRÓNICO","SOLICITUD DE INFORMACIÓN Y DOCUMENTOS","INFORMES AMBIENTALES","SUBDIRECCIÓN DE METEOROLOGÍA","2021-12-06","CORREO ELECTRÓNICO",{"$f":"IFERROR(WORKDAY(C1662,P1662,DiasNOLaborables),\"\")","v":"2021-12-30"},{"$f":"+IF(C1662=\"\",\"\",IF(H1662=\"\",\"SIN RESPUESTA\",(IF(H1662<=J1662,\"A TIEMPO\",\"FUERA DE TIEMPO\"))))","v":"A TIEMPO"},{"$f":"IF(H1662=\"\",\"\",NETWORKDAYS(C1662+1,H1662,DiasNOLaborables))","v":3},{"$f":"IF(NETWORKDAYS(J1662+1,H1662,DiasNOLaborables)<=0,\"\",NETWORKDAYS(J1662+1,H1662,DiasNOLaborables))","v":""},null,null,{"$f":"IFERROR(VLOOKUP(E1662,$X$51:$Y$64,2),\"\")","v":20}]
[1652,20219050136122,"2021-12-01","CORREO ELECTRÓNICO","SOLICITUD DE INFORMACIÓN Y DOCUMENTOS","SOLICITUD DE INFORMACIÓN HIDROMETEOROLÓGICA","GRUPO DE SERVICIO AL CIUDADANO ","2021-12-17","CORREO ELECTRÓNICO",{"$f":"IFERROR(WORKDAY(C1663,P1663,DiasNOLaborables),\"\")","v":"2021-12-30"},{"$f":"+IF(C1663=\"\",\"\",IF(H1663=\"\",\"SIN RESPUESTA\",(IF(H1663<=J1663,\"A TIEMPO\",\"FUERA DE TIEMPO\"))))","v":"A TIEMPO"},{"$f":"IF(H1663=\"\",\"\",NETWORKDAYS(C1663+1,H1663,DiasNOLaborables))","v":11},{"$f":"IF(NETWORKDAYS(J1663+1,H1663,DiasNOLaborables)<=0,\"\",NETWORKDAYS(J1663+1,H1663,DiasNOLaborables))","v":""},null,null,{"$f":"IFERROR(VLOOKUP(E1663,$X$51:$Y$64,2),\"\")","v":20}]
[1653,20219050136242,"2021-12-01","MODULO CONTACTENOS","SOLICITUD DE INFORMACIÓN Y DOCUMENTOS","SOLICITUD DE INFORMACIÓN HIDROMETEOROLÓGICA","GRUPO DE SERVICIO AL CIUDADANO ","2021-12-17","CORREO ELECTRÓNICO",{"$f":"IFERROR(WORKDAY(C1664,P1664,DiasNOLaborables),\"\")","v":"2021-12-30"},{"$f":"+IF(C1664=\"\",\"\",IF(H1664=\"\",\"SIN RESPUESTA\",(IF(H1664<=J1664,\"A TIEMPO\",\"FUERA DE TIEMPO\"))))","v":"A TIEMPO"},{"$f":"IF(H1664=\"\",\"\",NETWORKDAYS(C1664+1,H1664,DiasNOLaborables))","v":11},{"$f":"IF(NETWORKDAYS(J1664+1,H1664,DiasNOLaborables)<=0,\"\",NETWORKDAYS(J1664+1,H1664,DiasNOLaborables))","v":""},null,null,{"$f":"IFERROR(VLOOKUP(E1664,$X$51:$Y$64,2),\"\")","v":20}]
[1654,20219050136222,"2021-12-01","CORREO ELECTRÓNICO","SOLICITUD DE INFORMACIÓN Y DOCUMENTOS","INFORMES AMBIENTALES","SUBDIRECCIÓN DE METEOROLOGÍA","2021-12-10","CORREO ELECTRÓNICO",{"$f":"IFERROR(WORKDAY(C1665,P1665,DiasNOLaborables),\"\")","v":"2021-12-30"},{"$f":"+IF(C1665=\"\",\"\",IF(H1665=\"\",\"SIN RESPUESTA\",(IF(H1665<=J1665,\"A TIEMPO\",\"FUERA DE TIEMPO\"))))","v":"A TIEMPO"},{"$f":"IF(H1665=\"\",\"\",NETWORKDAYS(C1665+1,H1665,DiasNOLaborables))","v":6},{"$f":"IF(NETWORKDAYS(J1665+1,H1665,DiasNOLaborables)<=0,\"\",NETWORKDAYS(J1665+1,H1665,DiasNOLaborables))","v":""},null,null,{"$f":"IFERROR(VLOOKUP(E1665,$X$51:$Y$64,2),\"\")","v":20}]
[1655,20219050136252,"2021-12-01","CORREO ELECTRÓNICO","SOLICITUD DE INFORMACIÓN Y DOCUMENTOS","INFORMES AMBIENTALES","SUBDIRECCIÓN DE METEOROLOGÍA","2021-12-17","CORREO ELECTRÓNICO",{"$f":"IFERROR(WORKDAY(C1666,P1666,DiasNOLaborables),\"\")","v":"2021-12-30"},{"$f":"+IF(C1666=\"\",\"\",IF(H1666=\"\",\"SIN RESPUESTA\",(IF(H1666<=J1666,\"A TIEMPO\",\"FUERA DE TIEMPO\"))))","v":"A TIEMPO"},{"$f":"IF(H1666=\"\",\"\",NETWORKDAYS(C1666+1,H1666,DiasNOLaborables))","v":11},{"$f":"IF(NETWORKDAYS(J1666+1,H1666,DiasNOLaborables)<=0,\"\",NETWORKDAYS(J1666+1,H1666,DiasNOLaborables))","v":""},null,null,{"$f":"IFERROR(VLOOKUP(E1666,$X$51:$Y$64,2),\"\")","v":20}]
[1656,20219050136272,"2021-12-01","CORREO ELECTRÓNICO","SOLICITUD DE INFORMACIÓN Y DOCUMENTOS","ACREDITACIÓN DE LABORATORIOS","SUBDIRECCIÓN DE ESTUDIOS AMBIENTALES","2021-12-01","CORREO ELECTRÓNICO",{"$f":"IFERROR(WORKDAY(C1667,P1667,DiasNOLaborables),\"\")","v":"2021-12-30"},{"$f":"+IF(C1667=\"\",\"\",IF(H1667=\"\",\"SIN RESPUESTA\",(IF(H1667<=J1667,\"A TIEMPO\",\"FUERA DE TIEMPO\"))))","v":"A TIEMPO"},{"$f":"IF(H1667=\"\",\"\",NETWORKDAYS(C1667+1,H1667,DiasNOLaborables))","v":-2},{"$f":"IF(NETWORKDAYS(J1667+1,H1667,DiasNOLaborables)<=0,\"\",NETWORKDAYS(J1667+1,H1667,DiasNOLaborables))","v":""},null,null,{"$f":"IFERROR(VLOOKUP(E1667,$X$51:$Y$64,2),\"\")","v":20}]
[1657,20219050136412,"2021-12-02","CORREO ELECTRÓNICO","CERTIFICACIONES DE TIEMPO, CLIMA Y EVENTOS HIDROLÓGICOS","CERTIFICACIONES DE TIEMPO Y CLIMA","SUBDIRECCIÓN DE METEOROLOGÍA","2021-12-09","CORREO ELECTRÓNICO",{"$f":"IFERROR(WORKDAY(C1668,P1668,DiasNOLaborables),\"\")","v":"2022-01-21"},{"$f":"+IF(C1668=\"\",\"\",IF(H1668=\"\",\"SIN RESPUESTA\",(IF(H1668<=J1668,\"A TIEMPO\",\"FUERA DE TIEMPO\"))))","v":"A TIEMPO"},{"$f":"IF(H1668=\"\",\"\",NETWORKDAYS(C1668+1,H1668,DiasNOLaborables))","v":4},{"$f":"IF(NETWORKDAYS(J1668+1,H1668,DiasNOLaborables)<=0,\"\",NETWORKDAYS(J1668+1,H1668,DiasNOLaborables))","v":""},null,null,{"$f":"IFERROR(VLOOKUP(E1668,$X$51:$Y$64,2),\"\")","v":35}]
[1658,20219050136452,"2021-12-02","CORREO ELECTRÓNICO","CERTIFICACIONES DE TIEMPO, CLIMA Y EVENTOS HIDROLÓGICOS","CERTIFICACIONES DE TIEMPO Y CLIMA","SUBDIRECCIÓN DE METEOROLOGÍA","2021-12-20","CORREO ELECTRÓNICO",{"$f":"IFERROR(WORKDAY(C1669,P1669,DiasNOLaborables),\"\")","v":"2022-01-21"},{"$f":"+IF(C1669=\"\",\"\",IF(H1669=\"\",\"SIN RESPUESTA\",(IF(H1669<=J1669,\"A TIEMPO\",\"FUERA DE TIEMPO\"))))","v":"A TIEMPO"},{"$f":"IF(H1669=\"\",\"\",NETWORKDAYS(C1669+1,H1669,DiasNOLaborables))","v":11},{"$f":"IF(NETWORKDAYS(J1669+1,H1669,DiasNOLaborables)<=0,\"\",NETWORKDAYS(J1669+1,H1669,DiasNOLaborables))","v":""},null,null,{"$f":"IFERROR(VLOOKUP(E1669,$X$51:$Y$64,2),\"\")","v":35}]
[1659,20219050136492,"2021-12-02","CORREO ELECTRÓNICO","SOLICITUD DE INFORMACIÓN Y DOCUMENTOS","INFORMES AMBIENTALES","SUBDIRECCIÓN DE METEOROLOGÍA","2021-12-14","CORREO ELECTRÓNICO",{"$f":"IFERROR(WORKDAY(C1670,P1670,DiasNOLaborables),\"\")","v":"2021-12-31"},{"$f":"+IF(C1670=\"\",\"\",IF(H1670=\"\",\"SIN RESPUESTA\",(IF(H1670<=J1670,\"A TIEMPO\",\"FUERA DE TIEMPO\"))))","v":"A TIEMPO"},{"$f":"IF(H1670=\"\",\"\",NETWORKDAYS(C1670+1,H1670,DiasNOLaborables))","v":7},{"$f":"IF(NETWORKDAYS(J1670+1,H1670,DiasNOLaborables)<=0,\"\",NETWORKDAYS(J1670+1,H1670,DiasNOLaborables))","v":""},null,null,{"$f":"IFERROR(VLOOKUP(E1670,$X$51:$Y$64,2),\"\")","v":20}]
[1660,20219050136502,"2021-12-02","CORREO ELECTRÓNICO","CERTIFICACIONES DE TIEMPO, CLIMA Y EVENTOS HIDROLÓGICOS","CERTIFICACIONES DE TIEMPO Y CLIMA","SUBDIRECCIÓN DE METEOROLOGÍA","2021-12-20","CORREO ELECTRÓNICO",{"$f":"IFERROR(WORKDAY(C1671,P1671,DiasNOLaborables),\"\")","v":"2022-01-21"},{"$f":"+IF(C1671=\"\",\"\",IF(H1671=\"\",\"SIN RESPUESTA\",(IF(H1671<=J1671,\"A TIEMPO\",\"FUERA DE TIEMPO\"))))","v":"A TIEMPO"},{"$f":"IF(H1671=\"\",\"\",NETWORKDAYS(C1671+1,H1671,DiasNOLaborables))","v":11},{"$f":"IF(NETWORKDAYS(J1671+1,H1671,DiasNOLaborables)<=0,\"\",NETWORKDAYS(J1671+1,H1671,DiasNOLaborables))","v":""},null,null,{"$f":"IFERROR(VLOOKUP(E1671,$X$51:$Y$64,2),\"\")","v":35}]
[1661,20219050136662,"2021-12-02","CORREO ELECTRÓNICO","CERTIFICACIONES DE TIEMPO, CLIMA Y EVENTOS HIDROLÓGICOS","CERTIFICACIONES DE TIEMPO Y CLIMA","SUBDIRECCIÓN DE METEOROLOGÍA","2021-12-10","CORREO ELECTRÓNICO",{"$f":"IFERROR(WORKDAY(C1672,P1672,DiasNOLaborables),\"\")","v":"2022-01-21"},{"$f":"+IF(C1672=\"\",\"\",IF(H1672=\"\",\"SIN RESPUESTA\",(IF(H1672<=J1672,\"A TIEMPO\",\"FUERA DE TIEMPO\"))))","v":"A TIEMPO"},{"$f":"IF(H1672=\"\",\"\",NETWORKDAYS(C1672+1,H1672,DiasNOLaborables))","v":5},{"$f":"IF(NETWORKDAYS(J1672+1,H1672,DiasNOLaborables)<=0,\"\",NETWORKDAYS(J1672+1,H1672,DiasNOLaborables))","v":""},null,null,{"$f":"IFERROR(VLOOKUP(E1672,$X$51:$Y$64,2),\"\")","v":35}]
[1662,20219050136682,"2021-12-02","CORREO ELECTRÓNICO","CERTIFICACIONES DE TIEMPO, CLIMA Y EVENTOS HIDROLÓGICOS","CERTIFICACIONES DE TIEMPO Y CLIMA","SUBDIRECCIÓN DE METEOROLOGÍA","2021-12-10","CORREO ELECTRÓNICO",{"$f":"IFERROR(WORKDAY(C1673,P1673,DiasNOLaborables),\"\")","v":"2022-01-21"},{"$f":"+IF(C1673=\"\",\"\",IF(H1673=\"\",\"SIN RESPUESTA\",(IF(H1673<=J1673,\"A TIEMPO\",\"FUERA DE TIEMPO\"))))","v":"A TIEMPO"},{"$f":"IF(H1673=\"\",\"\",NETWORKDAYS(C1673+1,H1673,DiasNOLaborables))","v":5},{"$f":"IF(NETWORKDAYS(J1673+1,H1673,DiasNOLaborables)<=0,\"\",NETWORKDAYS(J1673+1,H1673,DiasNOLaborables))","v":""},null,null,{"$f":"IFERROR(VLOOKUP(E1673,$X$51:$Y$64,2),\"\")","v":35}]
[1663,20219050136712,"2021-12-02","CORREO ELECTRÓNICO","CERTIFICACIONES DE TIEMPO, CLIMA Y EVENTOS HIDROLÓGICOS","CERTIFICACIONES DE TIEMPO Y CLIMA","SUBDIRECCIÓN DE METEOROLOGÍA","2021-12-09","CORREO ELECTRÓNICO",{"$f":"IFERROR(WORKDAY(C1674,P1674,DiasNOLaborables),\"\")","v":"2022-01-21"},{"$f":"+IF(C1674=\"\",\"\",IF(H1674=\"\",\"SIN RESPUESTA\",(IF(H1674<=J1674,\"A TIEMPO\",\"FUERA DE TIEMPO\"))))","v":"A TIEMPO"},{"$f":"IF(H1674=\"\",\"\",NETWORKDAYS(C1674+1,H1674,DiasNOLaborables))","v":4},{"$f":"IF(NETWORKDAYS(J1674+1,H1674,DiasNOLaborables)<=0,\"\",NETWORKDAYS(J1674+1,H1674,DiasNOLaborables))","v":""},null,null,{"$f":"IFERROR(VLOOKUP(E1674,$X$51:$Y$64,2),\"\")","v":35}]
[1664,20219050136722,"2021-12-02","CORREO ELECTRÓNICO","CERTIFICACIONES DE TIEMPO, CLIMA Y EVENTOS HIDROLÓGICOS","CERTIFICACIONES DE TIEMPO Y CLIMA","SUBDIRECCIÓN DE METEOROLOGÍA","2021-12-09","CORREO ELECTRÓNICO",{"$f":"IFERROR(WORKDAY(C1675,P1675,DiasNOLaborables),\"\")","v":"2022-01-21"},{"$f":"+IF(C1675=\"\",\"\",IF(H1675=\"\",\"SIN RESPUESTA\",(IF(H1675<=J1675,\"A TIEMPO\",\"FUERA DE TIEMPO\"))))","v":"A TIEMPO"},{"$f":"IF(H1675=\"\",\"\",NETWORKDAYS(C1675+1,H1675,DiasNOLaborables))","v":4},{"$f":"IF(NETWORKDAYS(J1675+1,H1675,DiasNOLaborables)<=0,\"\",NETWORKDAYS(J1675+1,H1675,DiasNOLaborables))","v":""},null,null,{"$f":"IFERROR(VLOOKUP(E1675,$X$51:$Y$64,2),\"\")","v":35}]
[1665,20219050136762,"2021-12-02","CORREO ELECTRÓNICO","SOLICITUD DE INFORMACIÓN Y DOCUMENTOS","REGISTROS AMBIENTALES","SUBDIRECCIÓN DE ESTUDIOS AMBIENTALES","2021-12-23","CORREO ELECTRÓNICO",{"$f":"IFERROR(WORKDAY(C1676,P1676,DiasNOLaborables),\"\")","v":"2021-12-31"},{"$f":"+IF(C1676=\"\",\"\",IF(H1676=\"\",\"SIN RESPUESTA\",(IF(H1676<=J1676,\"A TIEMPO\",\"FUERA DE TIEMPO\"))))","v":"A TIEMPO"},{"$f":"IF(H1676=\"\",\"\",NETWORKDAYS(C1676+1,H1676,DiasNOLaborables))","v":14},{"$f":"IF(NETWORKDAYS(J1676+1,H1676,DiasNOLaborables)<=0,\"\",NETWORKDAYS(J1676+1,H1676,DiasNOLaborables))","v":""},null,null,{"$f":"IFERROR(VLOOKUP(E1676,$X$51:$Y$64,2),\"\")","v":20}]
[1666,20219050136792,"2021-12-02","CORREO ELECTRÓNICO","CERTIFICACIONES DE TIEMPO, CLIMA Y EVENTOS HIDROLÓGICOS","CERTIFICACIONES DE TIEMPO Y CLIMA","SUBDIRECCIÓN DE METEOROLOGÍA","2021-12-17","CORREO ELECTRÓNICO",{"$f":"IFERROR(WORKDAY(C1677,P1677,DiasNOLaborables),\"\")","v":"2022-01-21"},{"$f":"+IF(C1677=\"\",\"\",IF(H1677=\"\",\"SIN RESPUESTA\",(IF(H1677<=J1677,\"A TIEMPO\",\"FUERA DE TIEMPO\"))))","v":"A TIEMPO"},{"$f":"IF(H1677=\"\",\"\",NETWORKDAYS(C1677+1,H1677,DiasNOLaborables))","v":10},{"$f":"IF(NETWORKDAYS(J1677+1,H1677,DiasNOLaborables)<=0,\"\",NETWORKDAYS(J1677+1,H1677,DiasNOLaborables))","v":""},null,null,{"$f":"IFERROR(VLOOKUP(E1677,$X$51:$Y$64,2),\"\")","v":35}]
[{"$f":"IF(B1678<>\"\",A1677+1,\"\")","v":1667},20219050136372,"2021-12-02","MODULO CONTACTENOS","SOLICITUD DE INFORMACIÓN Y DOCUMENTOS","SOLICITUD DE INFORMACIÓN HIDROMETEOROLÓGICA","GRUPO DE SERVICIO AL CIUDADANO ","2021-12-05","CORREO ELECTRÓNICO",{"$f":"IFERROR(WORKDAY(C1678,P1678,DiasNOLaborables),\"\")","v":"2021-12-31"},{"$f":"+IF(C1678=\"\",\"\",IF(H1678=\"\",\"SIN RESPUESTA\",(IF(H1678<=J1678,\"A TIEMPO\",\"FUERA DE TIEMPO\"))))","v":"A TIEMPO"},{"$f":"IF(H1678=\"\",\"\",NETWORKDAYS(C1678+1,H1678,DiasNOLaborables))","v":1},{"$f":"IF(NETWORKDAYS(J1678+1,H1678,DiasNOLaborables)<=0,\"\",NETWORKDAYS(J1678+1,H1678,DiasNOLaborables))","v":""},null,null,{"$f":"IFERROR(VLOOKUP(E1678,$X$51:$Y$64,2),\"\")","v":20}]
[1668,20219050136382,"2021-12-02","MODULO CONTACTENOS","SOLICITUD DE INFORMACIÓN Y DOCUMENTOS","SOLICITUD DE INFORMACIÓN HIDROMETEOROLÓGICA","GRUPO DE SERVICIO AL CIUDADANO ","2021-12-05","CORREO ELECTRÓNICO",{"$f":"IFERROR(WORKDAY(C1679,P1679,DiasNOLaborables),\"\")","v":"2021-12-31"},{"$f":"+IF(C1679=\"\",\"\",IF(H1679=\"\",\"SIN RESPUESTA\",(IF(H1679<=J1679,\"A TIEMPO\",\"FUERA DE TIEMPO\"))))","v":"A TIEMPO"},{"$f":"IF(H1679=\"\",\"\",NETWORKDAYS(C1679+1,H1679,DiasNOLaborables))","v":1},{"$f":"IF(NETWORKDAYS(J1679+1,H1679,DiasNOLaborables)<=0,\"\",NETWORKDAYS(J1679+1,H1679,DiasNOLaborables))","v":""},null,null,{"$f":"IFERROR(VLOOKUP(E1679,$X$51:$Y$64,2),\"\")","v":20}]
[1669,20219050136392,"2021-12-02","MODULO CONTACTENOS","SOLICITUD DE INFORMACIÓN Y DOCUMENTOS","SOLICITUD DE INFORMACIÓN HIDROMETEOROLÓGICA","GRUPO DE SERVICIO AL CIUDADANO ","2021-12-05","CORREO ELECTRÓNICO",{"$f":"IFERROR(WORKDAY(C1680,P1680,DiasNOLaborables),\"\")","v":"2021-12-31"},{"$f":"+IF(C1680=\"\",\"\",IF(H1680=\"\",\"SIN RESPUESTA\",(IF(H1680<=J1680,\"A TIEMPO\",\"FUERA DE TIEMPO\"))))","v":"A TIEMPO"},{"$f":"IF(H1680=\"\",\"\",NETWORKDAYS(C1680+1,H1680,DiasNOLaborables))","v":1},{"$f":"IF(NETWORKDAYS(J1680+1,H1680,DiasNOLaborables)<=0,\"\",NETWORKDAYS(J1680+1,H1680,DiasNOLaborables))","v":""},null,null,{"$f":"IFERROR(VLOOKUP(E1680,$X$51:$Y$64,2),\"\")","v":20}]
[1670,20219050136572,"2021-12-02","MODULO CONTACTENOS","SOLICITUD DE INFORMACIÓN Y DOCUMENTOS","ADMINISTRATIVA","GRUPO DE ADMINISTRACIÓN Y DESARROLLO DEL TALENTO HUMANO","2021-12-09","CORREO ELECTRÓNICO",{"$f":"IFERROR(WORKDAY(C1681,P1681,DiasNOLaborables),\"\")","v":"2021-12-31"},{"$f":"+IF(C1681=\"\",\"\",IF(H1681=\"\",\"SIN RESPUESTA\",(IF(H1681<=J1681,\"A TIEMPO\",\"FUERA DE TIEMPO\"))))","v":"A TIEMPO"},{"$f":"IF(H1681=\"\",\"\",NETWORKDAYS(C1681+1,H1681,DiasNOLaborables))","v":4},{"$f":"IF(NETWORKDAYS(J1681+1,H1681,DiasNOLaborables)<=0,\"\",NETWORKDAYS(J1681+1,H1681,DiasNOLaborables))","v":""},null,null,{"$f":"IFERROR(VLOOKUP(E1681,$X$51:$Y$64,2),\"\")","v":20}]
[1671,20219050136632,"2021-12-02","MODULO CONTACTENOS","SOLICITUD DE INFORMACIÓN Y DOCUMENTOS","ADMINISTRATIVA","OFICINA ASESORA JURÍDICA","2021-12-06","CORREO ELECTRÓNICO",{"$f":"IFERROR(WORKDAY(C1682,P1682,DiasNOLaborables),\"\")","v":"2021-12-31"},{"$f":"+IF(C1682=\"\",\"\",IF(H1682=\"\",\"SIN RESPUESTA\",(IF(H1682<=J1682,\"A TIEMPO\",\"FUERA DE TIEMPO\"))))","v":"A TIEMPO"},{"$f":"IF(H1682=\"\",\"\",NETWORKDAYS(C1682+1,H1682,DiasNOLaborables))","v":2},{"$f":"IF(NETWORKDAYS(J1682+1,H1682,DiasNOLaborables)<=0,\"\",NETWORKDAYS(J1682+1,H1682,DiasNOLaborables))","v":""},null,null,{"$f":"IFERROR(VLOOKUP(E1682,$X$51:$Y$64,2),\"\")","v":20}]
[1672,20219050136692,"2021-12-02","MODULO CONTACTENOS","SOLICITUD DE INFORMACIÓN Y DOCUMENTOS","ADMINISTRATIVA","GRUPO DE ADMINISTRACIÓN Y DESARROLLO DEL TALENTO HUMANO","2021-12-16","CORREO ELECTRÓNICO",{"$f":"IFERROR(WORKDAY(C1683,P1683,DiasNOLaborables),\"\")","v":"2021-12-31"},{"$f":"+IF(C1683=\"\",\"\",IF(H1683=\"\",\"SIN RESPUESTA\",(IF(H1683<=J1683,\"A TIEMPO\",\"FUERA DE TIEMPO\"))))","v":"A TIEMPO"},{"$f":"IF(H1683=\"\",\"\",NETWORKDAYS(C1683+1,H1683,DiasNOLaborables))","v":9},{"$f":"IF(NETWORKDAYS(J1683+1,H1683,DiasNOLaborables)<=0,\"\",NETWORKDAYS(J1683+1,H1683,DiasNOLaborables))","v":""},null,null,{"$f":"IFERROR(VLOOKUP(E1683,$X$51:$Y$64,2),\"\")","v":20}]
[1673,20219050136702,"2021-12-02","MODULO CONTACTENOS","SOLICITUD DE INFORMACIÓN Y DOCUMENTOS","ADMINISTRATIVA","OFICINA ASESORA JURÍDICA","2021-12-06","CORREO ELECTRÓNICO",{"$f":"IFERROR(WORKDAY(C1684,P1684,DiasNOLaborables),\"\")","v":"2021-12-31"},{"$f":"+IF(C1684=\"\",\"\",IF(H1684=\"\",\"SIN RESPUESTA\",(IF(H1684<=J1684,\"A TIEMPO\",\"FUERA DE TIEMPO\"))))","v":"A TIEMPO"},{"$f":"IF(H1684=\"\",\"\",NETWORKDAYS(C1684+1,H1684,DiasNOLaborables))","v":2},{"$f":"IF(NETWORKDAYS(J1684+1,H1684,DiasNOLaborables)<=0,\"\",NETWORKDAYS(J1684+1,H1684,DiasNOLaborables))","v":""},null,null,{"$f":"IFERROR(VLOOKUP(E1684,$X$51:$Y$64,2),\"\")","v":20}]
[1674,20219050136402,"2021-12-02","CORREO ELECTRÓNICO","SOLICITUD DE INFORMACIÓN Y DOCUMENTOS","SOLICITUD DE INFORMACIÓN HIDROMETEOROLÓGICA","OFICINA DEL SERVICIO DE PRONÓSTICOS Y ALERTAS","2021-12-06","CORREO ELECTRÓNICO",{"$f":"IFERROR(WORKDAY(C1685,P1685,DiasNOLaborables),\"\")","v":"2021-12-31"},{"$f":"+IF(C1685=\"\",\"\",IF(H1685=\"\",\"SIN RESPUESTA\",(IF(H1685<=J1685,\"A TIEMPO\",\"FUERA DE TIEMPO\"))))","v":"A TIEMPO"},{"$f":"IF(H1685=\"\",\"\",NETWORKDAYS(C1685+1,H1685,DiasNOLaborables))","v":2},{"$f":"IF(NETWORKDAYS(J1685+1,H1685,DiasNOLaborables)<=0,\"\",NETWORKDAYS(J1685+1,H1685,DiasNOLaborables))","v":""},null,null,{"$f":"IFERROR(VLOOKUP(E1685,$X$51:$Y$64,2),\"\")","v":20}]
[1675,20219050136442,"2021-12-02","MODULO CONTACTENOS","SOLICITUD DE INFORMACIÓN Y DOCUMENTOS","SOLICITUD DE INFORMACIÓN HIDROMETEOROLÓGICA","GRUPO DE SERVICIO AL CIUDADANO ","2021-12-06","CORREO ELECTRÓNICO",{"$f":"IFERROR(WORKDAY(C1686,P1686,DiasNOLaborables),\"\")","v":"2021-12-31"},{"$f":"+IF(C1686=\"\",\"\",IF(H1686=\"\",\"SIN RESPUESTA\",(IF(H1686<=J1686,\"A TIEMPO\",\"FUERA DE TIEMPO\"))))","v":"A TIEMPO"},{"$f":"IF(H1686=\"\",\"\",NETWORKDAYS(C1686+1,H1686,DiasNOLaborables))","v":2},{"$f":"IF(NETWORKDAYS(J1686+1,H1686,DiasNOLaborables)<=0,\"\",NETWORKDAYS(J1686+1,H1686,DiasNOLaborables))","v":""},null,null,{"$f":"IFERROR(VLOOKUP(E1686,$X$51:$Y$64,2),\"\")","v":20}]
[1676,20219050136752,"2021-12-02","MODULO CONTACTENOS","SOLICITUD DE INFORMACIÓN Y DOCUMENTOS","ADMINISTRATIVA","GRUPO DE ADMINISTRACIÓN Y DESARROLLO DEL TALENTO HUMANO","2021-12-06","CORREO ELECTRÓNICO",{"$f":"IFERROR(WORKDAY(C1687,P1687,DiasNOLaborables),\"\")","v":"2021-12-31"},{"$f":"+IF(C1687=\"\",\"\",IF(H1687=\"\",\"SIN RESPUESTA\",(IF(H1687<=J1687,\"A TIEMPO\",\"FUERA DE TIEMPO\"))))","v":"A TIEMPO"},{"$f":"IF(H1687=\"\",\"\",NETWORKDAYS(C1687+1,H1687,DiasNOLaborables))","v":2},{"$f":"IF(NETWORKDAYS(J1687+1,H1687,DiasNOLaborables)<=0,\"\",NETWORKDAYS(J1687+1,H1687,DiasNOLaborables))","v":""},null,null,{"$f":"IFERROR(VLOOKUP(E1687,$X$51:$Y$64,2),\"\")","v":20}]
[1677,20219910066742,"2021-12-02","CORREO ELECTRÓNICO","SOLICITUD DE INFORMACIÓN Y DOCUMENTOS","REGISTROS AMBIENTALES","SUBDIRECCIÓN DE ESTUDIOS AMBIENTALES","2021-12-23","CORREO ELECTRÓNICO",{"$f":"IFERROR(WORKDAY(C1688,P1688,DiasNOLaborables),\"\")","v":"2021-12-31"},{"$f":"+IF(C1688=\"\",\"\",IF(H1688=\"\",\"SIN RESPUESTA\",(IF(H1688<=J1688,\"A TIEMPO\",\"FUERA DE TIEMPO\"))))","v":"A TIEMPO"},{"$f":"IF(H1688=\"\",\"\",NETWORKDAYS(C1688+1,H1688,DiasNOLaborables))","v":14},{"$f":"IF(NETWORKDAYS(J1688+1,H1688,DiasNOLaborables)<=0,\"\",NETWORKDAYS(J1688+1,H1688,DiasNOLaborables))","v":""},null,null,{"$f":"IFERROR(VLOOKUP(E1688,$X$51:$Y$64,2),\"\")","v":20}]
[1678,20219050136462,"2021-12-02","MODULO CONTACTENOS","SOLICITUD DE INFORMACIÓN Y DOCUMENTOS","SOLICITUD DE INFORMACIÓN HIDROMETEOROLÓGICA","GRUPO DE SERVICIO AL CIUDADANO ","2021-12-06","CORREO ELECTRÓNICO",{"$f":"IFERROR(WORKDAY(C1689,P1689,DiasNOLaborables),\"\")","v":"2021-12-31"},{"$f":"+IF(C1689=\"\",\"\",IF(H1689=\"\",\"SIN RESPUESTA\",(IF(H1689<=J1689,\"A TIEMPO\",\"FUERA DE TIEMPO\"))))","v":"A TIEMPO"},{"$f":"IF(H1689=\"\",\"\",NETWORKDAYS(C1689+1,H1689,DiasNOLaborables))","v":2},{"$f":"IF(NETWORKDAYS(J1689+1,H1689,DiasNOLaborables)<=0,\"\",NETWORKDAYS(J1689+1,H1689,DiasNOLaborables))","v":""},null,null,{"$f":"IFERROR(VLOOKUP(E1689,$X$51:$Y$64,2),\"\")","v":20}]
[1679,20219050136472,"2021-12-02","CORREO ELECTRÓNICO","SOLICITUD DE INFORMACIÓN Y DOCUMENTOS","SOLICITUD DE INFORMACIÓN HIDROMETEOROLÓGICA","GRUPO DE SERVICIO AL CIUDADANO ","2021-12-06","CORREO ELECTRÓNICO",{"$f":"IFERROR(WORKDAY(C1690,P1690,DiasNOLaborables),\"\")","v":"2021-12-31"},{"$f":"+IF(C1690=\"\",\"\",IF(H1690=\"\",\"SIN RESPUESTA\",(IF(H1690<=J1690,\"A TIEMPO\",\"FUERA DE TIEMPO\"))))","v":"A TIEMPO"},{"$f":"IF(H1690=\"\",\"\",NETWORKDAYS(C1690+1,H1690,DiasNOLaborables))","v":2},{"$f":"IF(NETWORKDAYS(J1690+1,H1690,DiasNOLaborables)<=0,\"\",NETWORKDAYS(J1690+1,H1690,DiasNOLaborables))","v":""},null,null,{"$f":"IFERROR(VLOOKUP(E1690,$X$51:$Y$64,2),\"\")","v":20}]
[1680,20219050136482,"2021-12-02","MODULO CONTACTENOS","SOLICITUD DE INFORMACIÓN Y DOCUMENTOS","SOLICITUD DE INFORMACIÓN HIDROMETEOROLÓGICA","GRUPO DE SERVICIO AL CIUDADANO ","2021-12-07","CORREO ELECTRÓNICO",{"$f":"IFERROR(WORKDAY(C1691,P1691,DiasNOLaborables),\"\")","v":"2021-12-31"},{"$f":"+IF(C1691=\"\",\"\",IF(H1691=\"\",\"SIN RESPUESTA\",(IF(H1691<=J1691,\"A TIEMPO\",\"FUERA DE TIEMPO\"))))","v":"A TIEMPO"},{"$f":"IF(H1691=\"\",\"\",NETWORKDAYS(C1691+1,H1691,DiasNOLaborables))","v":3},{"$f":"IF(NETWORKDAYS(J1691+1,H1691,DiasNOLaborables)<=0,\"\",NETWORKDAYS(J1691+1,H1691,DiasNOLaborables))","v":""},null,null,{"$f":"IFERROR(VLOOKUP(E1691,$X$51:$Y$64,2),\"\")","v":20}]
[1681,20219050136582,"2021-12-02","CORREO ELECTRÓNICO","SOLICITUD DE INFORMACIÓN Y DOCUMENTOS","SOLICITUD DE INFORMACIÓN HIDROMETEOROLÓGICA","GRUPO DE SERVICIO AL CIUDADANO ","2021-12-07","CORREO ELECTRÓNICO",{"$f":"IFERROR(WORKDAY(C1692,P1692,DiasNOLaborables),\"\")","v":"2021-12-31"},{"$f":"+IF(C1692=\"\",\"\",IF(H1692=\"\",\"SIN RESPUESTA\",(IF(H1692<=J1692,\"A TIEMPO\",\"FUERA DE TIEMPO\"))))","v":"A TIEMPO"},{"$f":"IF(H1692=\"\",\"\",NETWORKDAYS(C1692+1,H1692,DiasNOLaborables))","v":3},{"$f":"IF(NETWORKDAYS(J1692+1,H1692,DiasNOLaborables)<=0,\"\",NETWORKDAYS(J1692+1,H1692,DiasNOLaborables))","v":""},null,null,{"$f":"IFERROR(VLOOKUP(E1692,$X$51:$Y$64,2),\"\")","v":20}]
[1682,20219050136652,"2021-12-02","CORREO ELECTRÓNICO","SOLICITUD DE INFORMACIÓN Y DOCUMENTOS","SOLICITUD DE INFORMACIÓN HIDROMETEOROLÓGICA","GRUPO DE SERVICIO AL CIUDADANO ","2021-12-07","CORREO ELECTRÓNICO",{"$f":"IFERROR(WORKDAY(C1693,P1693,DiasNOLaborables),\"\")","v":"2021-12-31"},{"$f":"+IF(C1693=\"\",\"\",IF(H1693=\"\",\"SIN RESPUESTA\",(IF(H1693<=J1693,\"A TIEMPO\",\"FUERA DE TIEMPO\"))))","v":"A TIEMPO"},{"$f":"IF(H1693=\"\",\"\",NETWORKDAYS(C1693+1,H1693,DiasNOLaborables))","v":3},{"$f":"IF(NETWORKDAYS(J1693+1,H1693,DiasNOLaborables)<=0,\"\",NETWORKDAYS(J1693+1,H1693,DiasNOLaborables))","v":""},null,null,{"$f":"IFERROR(VLOOKUP(E1693,$X$51:$Y$64,2),\"\")","v":20}]
[1683,20219050136672,"2021-12-02","CORREO ELECTRÓNICO","SOLICITUD DE INFORMACIÓN Y DOCUMENTOS","SOLICITUD DE INFORMACIÓN HIDROMETEOROLÓGICA","GRUPO DE SERVICIO AL CIUDADANO ","2021-12-07","CORREO ELECTRÓNICO",{"$f":"IFERROR(WORKDAY(C1694,P1694,DiasNOLaborables),\"\")","v":"2021-12-31"},{"$f":"+IF(C1694=\"\",\"\",IF(H1694=\"\",\"SIN RESPUESTA\",(IF(H1694<=J1694,\"A TIEMPO\",\"FUERA DE TIEMPO\"))))","v":"A TIEMPO"},{"$f":"IF(H1694=\"\",\"\",NETWORKDAYS(C1694+1,H1694,DiasNOLaborables))","v":3},{"$f":"IF(NETWORKDAYS(J1694+1,H1694,DiasNOLaborables)<=0,\"\",NETWORKDAYS(J1694+1,H1694,DiasNOLaborables))","v":""},null,null,{"$f":"IFERROR(VLOOKUP(E1694,$X$51:$Y$64,2),\"\")","v":20}]
[1684,20219050136732,"2021-12-02","CORREO ELECTRÓNICO","SOLICITUD DE INFORMACIÓN Y DOCUMENTOS","SOLICITUD DE INFORMACIÓN HIDROMETEOROLÓGICA","GRUPO DE SERVICIO AL CIUDADANO ","2021-12-07","CORREO ELECTRÓNICO",{"$f":"IFERROR(WORKDAY(C1695,P1695,DiasNOLaborables),\"\")","v":"2021-12-31"},{"$f":"+IF(C1695=\"\",\"\",IF(H1695=\"\",\"SIN RESPUESTA\",(IF(H1695<=J1695,\"A TIEMPO\",\"FUERA DE TIEMPO\"))))","v":"A TIEMPO"},{"$f":"IF(H1695=\"\",\"\",NETWORKDAYS(C1695+1,H1695,DiasNOLaborables))","v":3},{"$f":"IF(NETWORKDAYS(J1695+1,H1695,DiasNOLaborables)<=0,\"\",NETWORKDAYS(J1695+1,H1695,DiasNOLaborables))","v":""},null,null,{"$f":"IFERROR(VLOOKUP(E1695,$X$51:$Y$64,2),\"\")","v":20}]
[1685,20219050136512,"2021-12-02","MODULO CONTACTENOS","SOLICITUD DE INFORMACIÓN Y DOCUMENTOS","SOLICITUD DE INFORMACIÓN HIDROMETEOROLÓGICA","GRUPO DE SERVICIO AL CIUDADANO ","2021-12-07","CORREO ELECTRÓNICO",{"$f":"IFERROR(WORKDAY(C1696,P1696,DiasNOLaborables),\"\")","v":"2021-12-31"},{"$f":"+IF(C1696=\"\",\"\",IF(H1696=\"\",\"SIN RESPUESTA\",(IF(H1696<=J1696,\"A TIEMPO\",\"FUERA DE TIEMPO\"))))","v":"A TIEMPO"},{"$f":"IF(H1696=\"\",\"\",NETWORKDAYS(C1696+1,H1696,DiasNOLaborables))","v":3},{"$f":"IF(NETWORKDAYS(J1696+1,H1696,DiasNOLaborables)<=0,\"\",NETWORKDAYS(J1696+1,H1696,DiasNOLaborables))","v":""},null,null,{"$f":"IFERROR(VLOOKUP(E1696,$X$51:$Y$64,2),\"\")","v":20}]
[1686,20219050136522,"2021-12-02","MODULO CONTACTENOS","SOLICITUD DE INFORMACIÓN Y DOCUMENTOS","SOLICITUD DE INFORMACIÓN HIDROMETEOROLÓGICA","GRUPO DE SERVICIO AL CIUDADANO ","2021-12-07","CORREO ELECTRÓNICO",{"$f":"IFERROR(WORKDAY(C1697,P1697,DiasNOLaborables),\"\")","v":"2021-12-31"},{"$f":"+IF(C1697=\"\",\"\",IF(H1697=\"\",\"SIN RESPUESTA\",(IF(H1697<=J1697,\"A TIEMPO\",\"FUERA DE TIEMPO\"))))","v":"A TIEMPO"},{"$f":"IF(H1697=\"\",\"\",NETWORKDAYS(C1697+1,H1697,DiasNOLaborables))","v":3},{"$f":"IF(NETWORKDAYS(J1697+1,H1697,DiasNOLaborables)<=0,\"\",NETWORKDAYS(J1697+1,H1697,DiasNOLaborables))","v":""},null,null,{"$f":"IFERROR(VLOOKUP(E1697,$X$51:$Y$64,2),\"\")","v":20}]
[1687,20219050136552,"2021-12-02","MODULO CONTACTENOS","SOLICITUD DE INFORMACIÓN Y DOCUMENTOS","SOLICITUD DE INFORMACIÓN HIDROMETEOROLÓGICA","GRUPO DE SERVICIO AL CIUDADANO ","2021-12-07","CORREO ELECTRÓNICO",{"$f":"IFERROR(WORKDAY(C1698,P1698,DiasNOLaborables),\"\")","v":"2021-12-31"},{"$f":"+IF(C1698=\"\",\"\",IF(H1698=\"\",\"SIN RESPUESTA\",(IF(H1698<=J1698,\"A TIEMPO\",\"FUERA DE TIEMPO\"))))","v":"A TIEMPO"},{"$f":"IF(H1698=\"\",\"\",NETWORKDAYS(C1698+1,H1698,DiasNOLaborables))","v":3},{"$f":"IF(NETWORKDAYS(J1698+1,H1698,DiasNOLaborables)<=0,\"\",NETWORKDAYS(J1698+1,H1698,DiasNOLaborables))","v":""},null,null,{"$f":"IFERROR(VLOOKUP(E1698,$X$51:$Y$64,2),\"\")","v":20}]
[1688,20219050136562,"2021-12-02","MODULO CONTACTENOS","SOLICITUD DE INFORMACIÓN Y DOCUMENTOS","SOLICITUD DE INFORMACIÓN HIDROMETEOROLÓGICA","GRUPO DE SERVICIO AL CIUDADANO ","2021-12-07","CORREO ELECTRÓNICO",{"$f":"IFERROR(WORKDAY(C1699,P1699,DiasNOLaborables),\"\")","v":"2021-12-31"},{"$f":"+IF(C1699=\"\",\"\",IF(H1699=\"\",\"SIN RESPUESTA\",(IF(H1699<=J1699,\"A TIEMPO\",\"FUERA DE TIEMPO\"))))","v":"A TIEMPO"},{"$f":"IF(H1699=\"\",\"\",NETWORKDAYS(C1699+1,H1699,DiasNOLaborables))","v":3},{"$f":"IF(NETWORKDAYS(J1699+1,H1699,DiasNOLaborables)<=0,\"\",NETWORKDAYS(J1699+1,H1699,DiasNOLaborables))","v":""},null,null,{"$f":"IFERROR(VLOOKUP(E1699,$X$51:$Y$64,2),\"\")","v":20}]
[1689,20219050136592,"2021-12-02","MODULO CONTACTENOS","SOLICITUD DE INFORMACIÓN Y DOCUMENTOS","SOLICITUD DE INFORMACIÓN HIDROMETEOROLÓGICA","GRUPO DE SERVICIO AL CIUDADANO ","2021-12-07","CORREO ELECTRÓNICO",{"$f":"IFERROR(WORKDAY(C1700,P1700,DiasNOLaborables),\"\")","v":"2021-12-31"},{"$f":"+IF(C1700=\"\",\"\",IF(H1700=\"\",\"SIN RESPUESTA\",(IF(H1700<=J1700,\"A TIEMPO\",\"FUERA DE TIEMPO\"))))","v":"A TIEMPO"},{"$f":"IF(H1700=\"\",\"\",NETWORKDAYS(C1700+1,H1700,DiasNOLaborables))","v":3},{"$f":"IF(NETWORKDAYS(J1700+1,H1700,DiasNOLaborables)<=0,\"\",NETWORKDAYS(J1700+1,H1700,DiasNOLaborables))","v":""},null,null,{"$f":"IFERROR(VLOOKUP(E1700,$X$51:$Y$64,2),\"\")","v":20}]
[1690,20219050136642,"2021-12-02","MODULO CONTACTENOS","SOLICITUD DE INFORMACIÓN Y DOCUMENTOS","SOLICITUD DE INFORMACIÓN HIDROMETEOROLÓGICA","GRUPO DE SERVICIO AL CIUDADANO ","2021-12-07","CORREO ELECTRÓNICO",{"$f":"IFERROR(WORKDAY(C1701,P1701,DiasNOLaborables),\"\")","v":"2021-12-31"},{"$f":"+IF(C1701=\"\",\"\",IF(H1701=\"\",\"SIN RESPUESTA\",(IF(H1701<=J1701,\"A TIEMPO\",\"FUERA DE TIEMPO\"))))","v":"A TIEMPO"},{"$f":"IF(H1701=\"\",\"\",NETWORKDAYS(C1701+1,H1701,DiasNOLaborables))","v":3},{"$f":"IF(NETWORKDAYS(J1701+1,H1701,DiasNOLaborables)<=0,\"\",NETWORKDAYS(J1701+1,H1701,DiasNOLaborables))","v":""},null,null,{"$f":"IFERROR(VLOOKUP(E1701,$X$51:$Y$64,2),\"\")","v":20}]
[1691,20219050136782,"2021-12-02","MODULO CONTACTENOS","SOLICITUD DE INFORMACIÓN Y DOCUMENTOS","SOLICITUD DE INFORMACIÓN HIDROMETEOROLÓGICA","GRUPO DE SERVICIO AL CIUDADANO ","2021-12-07","CORREO ELECTRÓNICO",{"$f":"IFERROR(WORKDAY(C1702,P1702,DiasNOLaborables),\"\")","v":"2021-12-31"},{"$f":"+IF(C1702=\"\",\"\",IF(H1702=\"\",\"SIN RESPUESTA\",(IF(H1702<=J1702,\"A TIEMPO\",\"FUERA DE TIEMPO\"))))","v":"A TIEMPO"},{"$f":"IF(H1702=\"\",\"\",NETWORKDAYS(C1702+1,H1702,DiasNOLaborables))","v":3},{"$f":"IF(NETWORKDAYS(J1702+1,H1702,DiasNOLaborables)<=0,\"\",NETWORKDAYS(J1702+1,H1702,DiasNOLaborables))","v":""},null,null,{"$f":"IFERROR(VLOOKUP(E1702,$X$51:$Y$64,2),\"\")","v":20}]
[1692,20219050136802,"2021-12-02","MODULO CONTACTENOS","SOLICITUD DE INFORMACIÓN Y DOCUMENTOS","SOLICITUD DE INFORMACIÓN HIDROMETEOROLÓGICA","GRUPO DE SERVICIO AL CIUDADANO ","2021-12-07","CORREO ELECTRÓNICO",{"$f":"IFERROR(WORKDAY(C1703,P1703,DiasNOLaborables),\"\")","v":"2021-12-31"},{"$f":"+IF(C1703=\"\",\"\",IF(H1703=\"\",\"SIN RESPUESTA\",(IF(H1703<=J1703,\"A TIEMPO\",\"FUERA DE TIEMPO\"))))","v":"A TIEMPO"},{"$f":"IF(H1703=\"\",\"\",NETWORKDAYS(C1703+1,H1703,DiasNOLaborables))","v":3},{"$f":"IF(NETWORKDAYS(J1703+1,H1703,DiasNOLaborables)<=0,\"\",NETWORKDAYS(J1703+1,H1703,DiasNOLaborables))","v":""},null,null,{"$f":"IFERROR(VLOOKUP(E1703,$X$51:$Y$64,2),\"\")","v":20}]
[1693,20219050136812,"2021-12-02","MODULO CONTACTENOS","SOLICITUD DE INFORMACIÓN Y DOCUMENTOS","SOLICITUD DE INFORMACIÓN HIDROMETEOROLÓGICA","GRUPO DE SERVICIO AL CIUDADANO ","2021-12-07","CORREO ELECTRÓNICO",{"$f":"IFERROR(WORKDAY(C1704,P1704,DiasNOLaborables),\"\")","v":"2021-12-31"},{"$f":"+IF(C1704=\"\",\"\",IF(H1704=\"\",\"SIN RESPUESTA\",(IF(H1704<=J1704,\"A TIEMPO\",\"FUERA DE TIEMPO\"))))","v":"A TIEMPO"},{"$f":"IF(H1704=\"\",\"\",NETWORKDAYS(C1704+1,H1704,DiasNOLaborables))","v":3},{"$f":"IF(NETWORKDAYS(J1704+1,H1704,DiasNOLaborables)<=0,\"\",NETWORKDAYS(J1704+1,H1704,DiasNOLaborables))","v":""},null,null,{"$f":"IFERROR(VLOOKUP(E1704,$X$51:$Y$64,2),\"\")","v":20}]
[1694,20219050136822,"2021-12-02","MODULO CONTACTENOS","SOLICITUD DE INFORMACIÓN Y DOCUMENTOS","SOLICITUD DE INFORMACIÓN HIDROMETEOROLÓGICA","GRUPO DE SERVICIO AL CIUDADANO ","2021-12-07","CORREO ELECTRÓNICO",{"$f":"IFERROR(WORKDAY(C1705,P1705,DiasNOLaborables),\"\")","v":"2021-12-31"},{"$f":"+IF(C1705=\"\",\"\",IF(H1705=\"\",\"SIN RESPUESTA\",(IF(H1705<=J1705,\"A TIEMPO\",\"FUERA DE TIEMPO\"))))","v":"A TIEMPO"},{"$f":"IF(H1705=\"\",\"\",NETWORKDAYS(C1705+1,H1705,DiasNOLaborables))","v":3},{"$f":"IF(NETWORKDAYS(J1705+1,H1705,DiasNOLaborables)<=0,\"\",NETWORKDAYS(J1705+1,H1705,DiasNOLaborables))","v":""},null,null,{"$f":"IFERROR(VLOOKUP(E1705,$X$51:$Y$64,2),\"\")","v":20}]
[1695,20219050136832,"2021-12-02","MODULO CONTACTENOS","SOLICITUD DE INFORMACIÓN Y DOCUMENTOS","SOLICITUD DE INFORMACIÓN HIDROMETEOROLÓGICA","GRUPO DE SERVICIO AL CIUDADANO ","2021-12-07","CORREO ELECTRÓNICO",{"$f":"IFERROR(WORKDAY(C1706,P1706,DiasNOLaborables),\"\")","v":"2021-12-31"},{"$f":"+IF(C1706=\"\",\"\",IF(H1706=\"\",\"SIN RESPUESTA\",(IF(H1706<=J1706,\"A TIEMPO\",\"FUERA DE TIEMPO\"))))","v":"A TIEMPO"},{"$f":"IF(H1706=\"\",\"\",NETWORKDAYS(C1706+1,H1706,DiasNOLaborables))","v":3},{"$f":"IF(NETWORKDAYS(J1706+1,H1706,DiasNOLaborables)<=0,\"\",NETWORKDAYS(J1706+1,H1706,DiasNOLaborables))","v":""},null,null,{"$f":"IFERROR(VLOOKUP(E1706,$X$51:$Y$64,2),\"\")","v":20}]
[1696,20219050136842,"2021-12-02","MODULO CONTACTENOS","SOLICITUD DE INFORMACIÓN Y DOCUMENTOS","SOLICITUD DE INFORMACIÓN HIDROMETEOROLÓGICA","GRUPO DE SERVICIO AL CIUDADANO ","2021-12-07","CORREO ELECTRÓNICO",{"$f":"IFERROR(WORKDAY(C1707,P1707,DiasNOLaborables),\"\")","v":"2021-12-31"},{"$f":"+IF(C1707=\"\",\"\",IF(H1707=\"\",\"SIN RESPUESTA\",(IF(H1707<=J1707,\"A TIEMPO\",\"FUERA DE TIEMPO\"))))","v":"A TIEMPO"},{"$f":"IF(H1707=\"\",\"\",NETWORKDAYS(C1707+1,H1707,DiasNOLaborables))","v":3},{"$f":"IF(NETWORKDAYS(J1707+1,H1707,DiasNOLaborables)<=0,\"\",NETWORKDAYS(J1707+1,H1707,DiasNOLaborables))","v":""},null,null,{"$f":"IFERROR(VLOOKUP(E1707,$X$51:$Y$64,2),\"\")","v":20}]
[1697,20219050136862,"2021-12-02","MODULO CONTACTENOS","SOLICITUD DE INFORMACIÓN Y DOCUMENTOS","SOLICITUD DE INFORMACIÓN HIDROMETEOROLÓGICA","GRUPO DE SERVICIO AL CIUDADANO ","2021-12-09","CORREO ELECTRÓNICO",{"$f":"IFERROR(WORKDAY(C1708,P1708,DiasNOLaborables),\"\")","v":"2021-12-31"},{"$f":"+IF(C1708=\"\",\"\",IF(H1708=\"\",\"SIN RESPUESTA\",(IF(H1708<=J1708,\"A TIEMPO\",\"FUERA DE TIEMPO\"))))","v":"A TIEMPO"},{"$f":"IF(H1708=\"\",\"\",NETWORKDAYS(C1708+1,H1708,DiasNOLaborables))","v":4},{"$f":"IF(NETWORKDAYS(J1708+1,H1708,DiasNOLaborables)<=0,\"\",NETWORKDAYS(J1708+1,H1708,DiasNOLaborables))","v":""},null,null,{"$f":"IFERROR(VLOOKUP(E1708,$X$51:$Y$64,2),\"\")","v":20}]
[1698,20219050136992,"2021-12-03","MODULO CONTACTENOS","SOLICITUD DE INFORMACIÓN Y DOCUMENTOS","SOLICITUD DE INFORMACIÓN HIDROMETEOROLÓGICA","GRUPO DE SERVICIO AL CIUDADANO ","2021-12-13","CORREO ELECTRÓNICO",{"$f":"IFERROR(WORKDAY(C1709,P1709,DiasNOLaborables),\"\")","v":"2022-01-03"},{"$f":"+IF(C1709=\"\",\"\",IF(H1709=\"\",\"SIN RESPUESTA\",(IF(H1709<=J1709,\"A TIEMPO\",\"FUERA DE TIEMPO\"))))","v":"A TIEMPO"},{"$f":"IF(H1709=\"\",\"\",NETWORKDAYS(C1709+1,H1709,DiasNOLaborables))","v":5},{"$f":"IF(NETWORKDAYS(J1709+1,H1709,DiasNOLaborables)<=0,\"\",NETWORKDAYS(J1709+1,H1709,DiasNOLaborables))","v":""},null,null,{"$f":"IFERROR(VLOOKUP(E1709,$X$51:$Y$64,2),\"\")","v":20}]
[1699,20219050137002,"2021-12-03","MODULO CONTACTENOS","SOLICITUD DE INFORMACIÓN Y DOCUMENTOS","SOLICITUD DE INFORMACIÓN HIDROMETEOROLÓGICA","GRUPO DE SERVICIO AL CIUDADANO ","2021-12-13","CORREO ELECTRÓNICO",{"$f":"IFERROR(WORKDAY(C1710,P1710,DiasNOLaborables),\"\")","v":"2022-01-03"},{"$f":"+IF(C1710=\"\",\"\",IF(H1710=\"\",\"SIN RESPUESTA\",(IF(H1710<=J1710,\"A TIEMPO\",\"FUERA DE TIEMPO\"))))","v":"A TIEMPO"},{"$f":"IF(H1710=\"\",\"\",NETWORKDAYS(C1710+1,H1710,DiasNOLaborables))","v":5},{"$f":"IF(NETWORKDAYS(J1710+1,H1710,DiasNOLaborables)<=0,\"\",NETWORKDAYS(J1710+1,H1710,DiasNOLaborables))","v":""},null,null,{"$f":"IFERROR(VLOOKUP(E1710,$X$51:$Y$64,2),\"\")","v":20}]
[1700,20219050137052,"2021-12-03","MODULO CONTACTENOS","SOLICITUD DE INFORMACIÓN Y DOCUMENTOS","SOLICITUD DE INFORMACIÓN HIDROMETEOROLÓGICA","GRUPO DE SERVICIO AL CIUDADANO ","2021-12-13","CORREO ELECTRÓNICO",{"$f":"IFERROR(WORKDAY(C1711,P1711,DiasNOLaborables),\"\")","v":"2022-01-03"},{"$f":"+IF(C1711=\"\",\"\",IF(H1711=\"\",\"SIN RESPUESTA\",(IF(H1711<=J1711,\"A TIEMPO\",\"FUERA DE TIEMPO\"))))","v":"A TIEMPO"},{"$f":"IF(H1711=\"\",\"\",NETWORKDAYS(C1711+1,H1711,DiasNOLaborables))","v":5},{"$f":"IF(NETWORKDAYS(J1711+1,H1711,DiasNOLaborables)<=0,\"\",NETWORKDAYS(J1711+1,H1711,DiasNOLaborables))","v":""},null,null,{"$f":"IFERROR(VLOOKUP(E1711,$X$51:$Y$64,2),\"\")","v":20}]
[1701,20219050136982,"2021-12-03","MODULO CONTACTENOS","SOLICITUD DE INFORMACIÓN Y DOCUMENTOS","SOLICITUD DE INFORMACIÓN HIDROMETEOROLÓGICA","GRUPO DE SERVICIO AL CIUDADANO ","2021-12-09","CORREO ELECTRÓNICO",{"$f":"IFERROR(WORKDAY(C1712,P1712,DiasNOLaborables),\"\")","v":"2022-01-03"},{"$f":"+IF(C1712=\"\",\"\",IF(H1712=\"\",\"SIN RESPUESTA\",(IF(H1712<=J1712,\"A TIEMPO\",\"FUERA DE TIEMPO\"))))","v":"A TIEMPO"},{"$f":"IF(H1712=\"\",\"\",NETWORKDAYS(C1712+1,H1712,DiasNOLaborables))","v":3},{"$f":"IF(NETWORKDAYS(J1712+1,H1712,DiasNOLaborables)<=0,\"\",NETWORKDAYS(J1712+1,H1712,DiasNOLaborables))","v":""},null,null,{"$f":"IFERROR(VLOOKUP(E1712,$X$51:$Y$64,2),\"\")","v":20}]
[1702,20219050136872,"2021-12-03","CORREO ELECTRÓNICO","CERTIFICACIONES DE TIEMPO, CLIMA Y EVENTOS HIDROLÓGICOS","CERTIFICACIONES DE TIEMPO Y CLIMA","SUBDIRECCIÓN DE METEOROLOGÍA","2021-12-17","CORREO ELECTRÓNICO",{"$f":"IFERROR(WORKDAY(C1713,P1713,DiasNOLaborables),\"\")","v":"2022-01-24"},{"$f":"+IF(C1713=\"\",\"\",IF(H1713=\"\",\"SIN RESPUESTA\",(IF(H1713<=J1713,\"A TIEMPO\",\"FUERA DE TIEMPO\"))))","v":"A TIEMPO"},{"$f":"IF(H1713=\"\",\"\",NETWORKDAYS(C1713+1,H1713,DiasNOLaborables))","v":9},{"$f":"IF(NETWORKDAYS(J1713+1,H1713,DiasNOLaborables)<=0,\"\",NETWORKDAYS(J1713+1,H1713,DiasNOLaborables))","v":""},null,null,{"$f":"IFERROR(VLOOKUP(E1713,$X$51:$Y$64,2),\"\")","v":35}]
[1703,20219050136882,"2021-12-03","CORREO ELECTRÓNICO","CERTIFICACIONES DE TIEMPO, CLIMA Y EVENTOS HIDROLÓGICOS","CERTIFICACIONES DE TIEMPO Y CLIMA","SUBDIRECCIÓN DE METEOROLOGÍA","2021-12-20","CORREO ELECTRÓNICO",{"$f":"IFERROR(WORKDAY(C1714,P1714,DiasNOLaborables),\"\")","v":"2022-01-24"},{"$f":"+IF(C1714=\"\",\"\",IF(H1714=\"\",\"SIN RESPUESTA\",(IF(H1714<=J1714,\"A TIEMPO\",\"FUERA DE TIEMPO\"))))","v":"A TIEMPO"},{"$f":"IF(H1714=\"\",\"\",NETWORKDAYS(C1714+1,H1714,DiasNOLaborables))","v":10},{"$f":"IF(NETWORKDAYS(J1714+1,H1714,DiasNOLaborables)<=0,\"\",NETWORKDAYS(J1714+1,H1714,DiasNOLaborables))","v":""},null,null,{"$f":"IFERROR(VLOOKUP(E1714,$X$51:$Y$64,2),\"\")","v":35}]
[1704,20219050136892,"2021-12-03","CORREO ELECTRÓNICO","CERTIFICACIONES DE TIEMPO, CLIMA Y EVENTOS HIDROLÓGICOS","CERTIFICACIONES DE TIEMPO Y CLIMA","SUBDIRECCIÓN DE METEOROLOGÍA","2021-12-20","CORREO ELECTRÓNICO",{"$f":"IFERROR(WORKDAY(C1715,P1715,DiasNOLaborables),\"\")","v":"2022-01-24"},{"$f":"+IF(C1715=\"\",\"\",IF(H1715=\"\",\"SIN RESPUESTA\",(IF(H1715<=J1715,\"A TIEMPO\",\"FUERA DE TIEMPO\"))))","v":"A TIEMPO"},{"$f":"IF(H1715=\"\",\"\",NETWORKDAYS(C1715+1,H1715,DiasNOLaborables))","v":10},{"$f":"IF(NETWORKDAYS(J1715+1,H1715,DiasNOLaborables)<=0,\"\",NETWORKDAYS(J1715+1,H1715,DiasNOLaborables))","v":""},null,null,{"$f":"IFERROR(VLOOKUP(E1715,$X$51:$Y$64,2),\"\")","v":35}]
[1705,20219050136902,"2021-12-03","MODULO CONTACTENOS","SOLICITUD DE INFORMACIÓN Y DOCUMENTOS","ADMINISTRATIVA","OFICINA ASESORA JURÍDICA","2021-12-09","CORREO ELECTRÓNICO",{"$f":"IFERROR(WORKDAY(C1716,P1716,DiasNOLaborables),\"\")","v":"2022-01-03"},{"$f":"+IF(C1716=\"\",\"\",IF(H1716=\"\",\"SIN RESPUESTA\",(IF(H1716<=J1716,\"A TIEMPO\",\"FUERA DE TIEMPO\"))))","v":"A TIEMPO"},{"$f":"IF(H1716=\"\",\"\",NETWORKDAYS(C1716+1,H1716,DiasNOLaborables))","v":3},{"$f":"IF(NETWORKDAYS(J1716+1,H1716,DiasNOLaborables)<=0,\"\",NETWORKDAYS(J1716+1,H1716,DiasNOLaborables))","v":""},null,null,{"$f":"IFERROR(VLOOKUP(E1716,$X$51:$Y$64,2),\"\")","v":20}]
[1706,20219050137012,"2021-12-03","MODULO CONTACTENOS","SOLICITUD DE INFORMACIÓN Y DOCUMENTOS","ADMINISTRATIVA","OFICINA ASESORA JURÍDICA","2021-12-09","CORREO ELECTRÓNICO",{"$f":"IFERROR(WORKDAY(C1717,P1717,DiasNOLaborables),\"\")","v":"2022-01-03"},{"$f":"+IF(C1717=\"\",\"\",IF(H1717=\"\",\"SIN RESPUESTA\",(IF(H1717<=J1717,\"A TIEMPO\",\"FUERA DE TIEMPO\"))))","v":"A TIEMPO"},{"$f":"IF(H1717=\"\",\"\",NETWORKDAYS(C1717+1,H1717,DiasNOLaborables))","v":3},{"$f":"IF(NETWORKDAYS(J1717+1,H1717,DiasNOLaborables)<=0,\"\",NETWORKDAYS(J1717+1,H1717,DiasNOLaborables))","v":""},null,null,{"$f":"IFERROR(VLOOKUP(E1717,$X$51:$Y$64,2),\"\")","v":20}]
[1707,20219050137022,"2021-12-03","MODULO CONTACTENOS","SOLICITUD DE INFORMACIÓN Y DOCUMENTOS","ADMINISTRATIVA","GRUPO DE ADMINISTRACIÓN Y DESARROLLO DEL TALENTO HUMANO","2021-12-03","CORREO ELECTRÓNICO",{"$f":"IFERROR(WORKDAY(C1718,P1718,DiasNOLaborables),\"\")","v":"2022-01-03"},{"$f":"+IF(C1718=\"\",\"\",IF(H1718=\"\",\"SIN RESPUESTA\",(IF(H1718<=J1718,\"A TIEMPO\",\"FUERA DE TIEMPO\"))))","v":"A TIEMPO"},{"$f":"IF(H1718=\"\",\"\",NETWORKDAYS(C1718+1,H1718,DiasNOLaborables))","v":-1},{"$f":"IF(NETWORKDAYS(J1718+1,H1718,DiasNOLaborables)<=0,\"\",NETWORKDAYS(J1718+1,H1718,DiasNOLaborables))","v":""},null,null,{"$f":"IFERROR(VLOOKUP(E1718,$X$51:$Y$64,2),\"\")","v":20}]
[1708,20219050137122,"2021-12-03","MODULO CONTACTENOS","CERTIFICACIONES DE TIEMPO, CLIMA Y EVENTOS HIDROLÓGICOS","CERTIFICACIONES DE TIEMPO Y CLIMA","SUBDIRECCIÓN DE METEOROLOGÍA","2021-12-29","CORREO ELECTRÓNICO",{"$f":"IFERROR(WORKDAY(C1719,P1719,DiasNOLaborables),\"\")","v":"2022-01-24"},{"$f":"+IF(C1719=\"\",\"\",IF(H1719=\"\",\"SIN RESPUESTA\",(IF(H1719<=J1719,\"A TIEMPO\",\"FUERA DE TIEMPO\"))))","v":"A TIEMPO"},{"$f":"IF(H1719=\"\",\"\",NETWORKDAYS(C1719+1,H1719,DiasNOLaborables))","v":17},{"$f":"IF(NETWORKDAYS(J1719+1,H1719,DiasNOLaborables)<=0,\"\",NETWORKDAYS(J1719+1,H1719,DiasNOLaborables))","v":""},null,null,{"$f":"IFERROR(VLOOKUP(E1719,$X$51:$Y$64,2),\"\")","v":35}]
[1709,20219050137062,"2021-12-03","MODULO CONTACTENOS","SOLICITUD DE INFORMACIÓN Y DOCUMENTOS","ADMINISTRATIVA","OFICINA ASESORA JURÍDICA","2021-12-13","CORREO ELECTRÓNICO",{"$f":"IFERROR(WORKDAY(C1720,P1720,DiasNOLaborables),\"\")","v":"2022-01-03"},{"$f":"+IF(C1720=\"\",\"\",IF(H1720=\"\",\"SIN RESPUESTA\",(IF(H1720<=J1720,\"A TIEMPO\",\"FUERA DE TIEMPO\"))))","v":"A TIEMPO"},{"$f":"IF(H1720=\"\",\"\",NETWORKDAYS(C1720+1,H1720,DiasNOLaborables))","v":5},{"$f":"IF(NETWORKDAYS(J1720+1,H1720,DiasNOLaborables)<=0,\"\",NETWORKDAYS(J1720+1,H1720,DiasNOLaborables))","v":""},null,null,{"$f":"IFERROR(VLOOKUP(E1720,$X$51:$Y$64,2),\"\")","v":20}]
[1710,20219050137212,"2021-12-04","MODULO CONTACTENOS","SOLICITUD DE INFORMACIÓN Y DOCUMENTOS","SIA","SUBDIRECCIÓN DE ECOSISTEMAS E INFORMACIÓN AMBIENTAL","2021-12-17","CORREO ELECTRÓNICO",{"$f":"IFERROR(WORKDAY(C1721,P1721,DiasNOLaborables),\"\")","v":"2022-01-03"},{"$f":"+IF(C1721=\"\",\"\",IF(H1721=\"\",\"SIN RESPUESTA\",(IF(H1721<=J1721,\"A TIEMPO\",\"FUERA DE TIEMPO\"))))","v":"A TIEMPO"},{"$f":"IF(H1721=\"\",\"\",NETWORKDAYS(C1721+1,H1721,DiasNOLaborables))","v":9},{"$f":"IF(NETWORKDAYS(J1721+1,H1721,DiasNOLaborables)<=0,\"\",NETWORKDAYS(J1721+1,H1721,DiasNOLaborables))","v":""},null,null,{"$f":"IFERROR(VLOOKUP(E1721,$X$51:$Y$64,2),\"\")","v":20}]
[1711,20219050137182,"2021-12-04","MODULO CONTACTENOS","SOLICITUD DE INFORMACIÓN Y DOCUMENTOS","SOLICITUD DE INFORMACIÓN HIDROMETEOROLÓGICA","GRUPO DE SERVICIO AL CIUDADANO ","2021-12-09","CORREO ELECTRÓNICO",{"$f":"IFERROR(WORKDAY(C1722,P1722,DiasNOLaborables),\"\")","v":"2022-01-03"},{"$f":"+IF(C1722=\"\",\"\",IF(H1722=\"\",\"SIN RESPUESTA\",(IF(H1722<=J1722,\"A TIEMPO\",\"FUERA DE TIEMPO\"))))","v":"A TIEMPO"},{"$f":"IF(H1722=\"\",\"\",NETWORKDAYS(C1722+1,H1722,DiasNOLaborables))","v":3},{"$f":"IF(NETWORKDAYS(J1722+1,H1722,DiasNOLaborables)<=0,\"\",NETWORKDAYS(J1722+1,H1722,DiasNOLaborables))","v":""},null,null,{"$f":"IFERROR(VLOOKUP(E1722,$X$51:$Y$64,2),\"\")","v":20}]
[1712,20219050137172,"2021-12-04","MODULO CONTACTENOS","SOLICITUD DE INFORMACIÓN Y DOCUMENTOS","SOLICITUD DE INFORMACIÓN HIDROMETEOROLÓGICA","GRUPO DE SERVICIO AL CIUDADANO ","2021-12-09","CORREO ELECTRÓNICO",{"$f":"IFERROR(WORKDAY(C1723,P1723,DiasNOLaborables),\"\")","v":"2022-01-03"},{"$f":"+IF(C1723=\"\",\"\",IF(H1723=\"\",\"SIN RESPUESTA\",(IF(H1723<=J1723,\"A TIEMPO\",\"FUERA DE TIEMPO\"))))","v":"A TIEMPO"},{"$f":"IF(H1723=\"\",\"\",NETWORKDAYS(C1723+1,H1723,DiasNOLaborables))","v":3},{"$f":"IF(NETWORKDAYS(J1723+1,H1723,DiasNOLaborables)<=0,\"\",NETWORKDAYS(J1723+1,H1723,DiasNOLaborables))","v":""},null,null,{"$f":"IFERROR(VLOOKUP(E1723,$X$51:$Y$64,2),\"\")","v":20}]
[1713,20219050137192,"2021-12-04","MODULO CONTACTENOS","SOLICITUD DE INFORMACIÓN Y DOCUMENTOS","SOLICITUD DE INFORMACIÓN HIDROMETEOROLÓGICA","GRUPO DE SERVICIO AL CIUDADANO ","2021-12-09","CORREO ELECTRÓNICO",{"$f":"IFERROR(WORKDAY(C1724,P1724,DiasNOLaborables),\"\")","v":"2022-01-03"},{"$f":"+IF(C1724=\"\",\"\",IF(H1724=\"\",\"SIN RESPUESTA\",(IF(H1724<=J1724,\"A TIEMPO\",\"FUERA DE TIEMPO\"))))","v":"A TIEMPO"},{"$f":"IF(H1724=\"\",\"\",NETWORKDAYS(C1724+1,H1724,DiasNOLaborables))","v":3},{"$f":"IF(NETWORKDAYS(J1724+1,H1724,DiasNOLaborables)<=0,\"\",NETWORKDAYS(J1724+1,H1724,DiasNOLaborables))","v":""},null,null,{"$f":"IFERROR(VLOOKUP(E1724,$X$51:$Y$64,2),\"\")","v":20}]
[1714,20219050137202,"2021-12-04","MODULO CONTACTENOS","SOLICITUD DE INFORMACIÓN Y DOCUMENTOS","SOLICITUD DE INFORMACIÓN HIDROMETEOROLÓGICA","GRUPO DE SERVICIO AL CIUDADANO ","2021-12-09","CORREO ELECTRÓNICO",{"$f":"IFERROR(WORKDAY(C1725,P1725,DiasNOLaborables),\"\")","v":"2022-01-03"},{"$f":"+IF(C1725=\"\",\"\",IF(H1725=\"\",\"SIN RESPUESTA\",(IF(H1725<=J1725,\"A TIEMPO\",\"FUERA DE TIEMPO\"))))","v":"A TIEMPO"},{"$f":"IF(H1725=\"\",\"\",NETWORKDAYS(C1725+1,H1725,DiasNOLaborables))","v":3},{"$f":"IF(NETWORKDAYS(J1725+1,H1725,DiasNOLaborables)<=0,\"\",NETWORKDAYS(J1725+1,H1725,DiasNOLaborables))","v":""},null,null,{"$f":"IFERROR(VLOOKUP(E1725,$X$51:$Y$64,2),\"\")","v":20}]
[1715,20219050137222,"2021-12-04","MODULO CONTACTENOS","SOLICITUD DE INFORMACIÓN Y DOCUMENTOS","SOLICITUD DE INFORMACIÓN HIDROMETEOROLÓGICA","GRUPO DE SERVICIO AL CIUDADANO ","2021-12-09","CORREO ELECTRÓNICO",{"$f":"IFERROR(WORKDAY(C1726,P1726,DiasNOLaborables),\"\")","v":"2022-01-03"},{"$f":"+IF(C1726=\"\",\"\",IF(H1726=\"\",\"SIN RESPUESTA\",(IF(H1726<=J1726,\"A TIEMPO\",\"FUERA DE TIEMPO\"))))","v":"A TIEMPO"},{"$f":"IF(H1726=\"\",\"\",NETWORKDAYS(C1726+1,H1726,DiasNOLaborables))","v":3},{"$f":"IF(NETWORKDAYS(J1726+1,H1726,DiasNOLaborables)<=0,\"\",NETWORKDAYS(J1726+1,H1726,DiasNOLaborables))","v":""},null,null,{"$f":"IFERROR(VLOOKUP(E1726,$X$51:$Y$64,2),\"\")","v":20}]
[1716,20219050137242,"2021-12-04","MODULO CONTACTENOS","SOLICITUD DE INFORMACIÓN Y DOCUMENTOS","SOLICITUD DE INFORMACIÓN HIDROMETEOROLÓGICA","GRUPO DE SERVICIO AL CIUDADANO ","2021-12-09","CORREO ELECTRÓNICO",{"$f":"IFERROR(WORKDAY(C1727,P1727,DiasNOLaborables),\"\")","v":"2022-01-03"},{"$f":"+IF(C1727=\"\",\"\",IF(H1727=\"\",\"SIN RESPUESTA\",(IF(H1727<=J1727,\"A TIEMPO\",\"FUERA DE TIEMPO\"))))","v":"A TIEMPO"},{"$f":"IF(H1727=\"\",\"\",NETWORKDAYS([5]Hoja1!C1725+1,[5]Hoja1!P1725,DiasNOLaborables))","v":20},{"$f":"IF(NETWORKDAYS(J1727+1,H1727,DiasNOLaborables)<=0,\"\",NETWORKDAYS(J1727+1,H1727,DiasNOLaborables))","v":""},null,null,{"$f":"IFERROR(VLOOKUP(E1727,$X$51:$Y$64,2),\"\")","v":20}]
[1717,20219050137252,"2021-12-04","MODULO CONTACTENOS","SOLICITUD DE INFORMACIÓN Y DOCUMENTOS","SOLICITUD DE INFORMACIÓN HIDROMETEOROLÓGICA","GRUPO DE SERVICIO AL CIUDADANO ","2021-12-09","CORREO ELECTRÓNICO",{"$f":"IFERROR(WORKDAY(C1728,P1728,DiasNOLaborables),\"\")","v":"2022-01-03"},{"$f":"+IF(C1728=\"\",\"\",IF(H1728=\"\",\"SIN RESPUESTA\",(IF(H1728<=J1728,\"A TIEMPO\",\"FUERA DE TIEMPO\"))))","v":"A TIEMPO"},{"$f":"IF(H1728=\"\",\"\",NETWORKDAYS(C1728+1,H1728,DiasNOLaborables))","v":3},{"$f":"IF(NETWORKDAYS(J1728+1,H1728,DiasNOLaborables)<=0,\"\",NETWORKDAYS(J1728+1,H1728,DiasNOLaborables))","v":""},null,null,{"$f":"IFERROR(VLOOKUP(E1728,$X$51:$Y$64,2),\"\")","v":20}]
[1718,20219050137262,"2021-12-05","MODULO CONTACTENOS","SOLICITUD DE INFORMACIÓN Y DOCUMENTOS","SOLICITUD DE INFORMACIÓN HIDROMETEOROLÓGICA","GRUPO DE SERVICIO AL CIUDADANO ","2021-12-09","CORREO ELECTRÓNICO",{"$f":"IFERROR(WORKDAY(C1729,P1729,DiasNOLaborables),\"\")","v":"2022-01-03"},{"$f":"+IF(C1729=\"\",\"\",IF(H1729=\"\",\"SIN RESPUESTA\",(IF(H1729<=J1729,\"A TIEMPO\",\"FUERA DE TIEMPO\"))))","v":"A TIEMPO"},{"$f":"IF(H1729=\"\",\"\",NETWORKDAYS(C1729+1,H1729,DiasNOLaborables))","v":3},{"$f":"IF(NETWORKDAYS(J1729+1,H1729,DiasNOLaborables)<=0,\"\",NETWORKDAYS(J1729+1,H1729,DiasNOLaborables))","v":""},null,null,{"$f":"IFERROR(VLOOKUP(E1729,$X$51:$Y$64,2),\"\")","v":20}]
[1719,20219050137272,"2021-12-05","MODULO CONTACTENOS","SOLICITUD DE INFORMACIÓN Y DOCUMENTOS","SOLICITUD DE INFORMACIÓN HIDROMETEOROLÓGICA","GRUPO DE SERVICIO AL CIUDADANO ","2021-12-09","CORREO ELECTRÓNICO",{"$f":"IFERROR(WORKDAY(C1730,P1730,DiasNOLaborables),\"\")","v":"2022-01-03"},{"$f":"+IF(C1730=\"\",\"\",IF(H1730=\"\",\"SIN RESPUESTA\",(IF(H1730<=J1730,\"A TIEMPO\",\"FUERA DE TIEMPO\"))))","v":"A TIEMPO"},{"$f":"IF(H1730=\"\",\"\",NETWORKDAYS(C1730+1,H1730,DiasNOLaborables))","v":3},{"$f":"IF(NETWORKDAYS(J1730+1,H1730,DiasNOLaborables)<=0,\"\",NETWORKDAYS(J1730+1,H1730,DiasNOLaborables))","v":""},null,null,{"$f":"IFERROR(VLOOKUP(E1730,$X$51:$Y$64,2),\"\")","v":20}]
[1720,20219050137282,"2021-12-05","MODULO CONTACTENOS","SOLICITUD DE INFORMACIÓN Y DOCUMENTOS","SOLICITUD DE INFORMACIÓN HIDROMETEOROLÓGICA","GRUPO DE SERVICIO AL CIUDADANO ","2021-12-09","CORREO ELECTRÓNICO",{"$f":"IFERROR(WORKDAY(C1731,P1731,DiasNOLaborables),\"\")","v":"2022-01-03"},{"$f":"+IF(C1731=\"\",\"\",IF(H1731=\"\",\"SIN RESPUESTA\",(IF(H1731<=J1731,\"A TIEMPO\",\"FUERA DE TIEMPO\"))))","v":"A TIEMPO"},{"$f":"IF(H1731=\"\",\"\",NETWORKDAYS(C1731+1,H1731,DiasNOLaborables))","v":3},{"$f":"IF(NETWORKDAYS(J1731+1,H1731,DiasNOLaborables)<=0,\"\",NETWORKDAYS(J1731+1,H1731,DiasNOLaborables))","v":""},null,null,{"$f":"IFERROR(VLOOKUP(E1731,$X$51:$Y$64,2),\"\")","v":20}]
[1721,20219050137292,"2021-12-05","MODULO CONTACTENOS","SOLICITUD DE INFORMACIÓN Y DOCUMENTOS","SOLICITUD DE INFORMACIÓN HIDROMETEOROLÓGICA","GRUPO DE SERVICIO AL CIUDADANO ","2021-12-09","CORREO ELECTRÓNICO",{"$f":"IFERROR(WORKDAY(C1732,P1732,DiasNOLaborables),\"\")","v":"2022-01-03"},{"$f":"+IF(C1732=\"\",\"\",IF(H1732=\"\",\"SIN RESPUESTA\",(IF(H1732<=J1732,\"A TIEMPO\",\"FUERA DE TIEMPO\"))))","v":"A TIEMPO"},{"$f":"IF(H1732=\"\",\"\",NETWORKDAYS(C1732+1,H1732,DiasNOLaborables))","v":3},{"$f":"IF(NETWORKDAYS(J1732+1,H1732,DiasNOLaborables)<=0,\"\",NETWORKDAYS(J1732+1,H1732,DiasNOLaborables))","v":""},null,null,{"$f":"IFERROR(VLOOKUP(E1732,$X$51:$Y$64,2),\"\")","v":20}]
[1722,20219050137302,"2021-12-05","MODULO CONTACTENOS","SOLICITUD DE INFORMACIÓN Y DOCUMENTOS","SOLICITUD DE INFORMACIÓN HIDROMETEOROLÓGICA","GRUPO DE SERVICIO AL CIUDADANO ","2021-12-09","CORREO ELECTRÓNICO",{"$f":"IFERROR(WORKDAY(C1733,P1733,DiasNOLaborables),\"\")","v":"2022-01-03"},{"$f":"+IF(C1733=\"\",\"\",IF(H1733=\"\",\"SIN RESPUESTA\",(IF(H1733<=J1733,\"A TIEMPO\",\"FUERA DE TIEMPO\"))))","v":"A TIEMPO"},{"$f":"IF(H1733=\"\",\"\",NETWORKDAYS(C1733+1,H1733,DiasNOLaborables))","v":3},{"$f":"IF(NETWORKDAYS(J1733+1,H1733,DiasNOLaborables)<=0,\"\",NETWORKDAYS(J1733+1,H1733,DiasNOLaborables))","v":""},null,null,{"$f":"IFERROR(VLOOKUP(E1733,$X$51:$Y$64,2),\"\")","v":20}]
[1723,20219050137312,"2021-12-05","MODULO CONTACTENOS","SOLICITUD DE INFORMACIÓN Y DOCUMENTOS","SOLICITUD DE INFORMACIÓN HIDROMETEOROLÓGICA","GRUPO DE SERVICIO AL CIUDADANO ","2021-12-09","CORREO ELECTRÓNICO",{"$f":"IFERROR(WORKDAY(C1734,P1734,DiasNOLaborables),\"\")","v":"2022-01-03"},{"$f":"+IF(C1734=\"\",\"\",IF(H1734=\"\",\"SIN RESPUESTA\",(IF(H1734<=J1734,\"A TIEMPO\",\"FUERA DE TIEMPO\"))))","v":"A TIEMPO"},{"$f":"IF(H1734=\"\",\"\",NETWORKDAYS(C1734+1,H1734,DiasNOLaborables))","v":3},{"$f":"IF(NETWORKDAYS(J1734+1,H1734,DiasNOLaborables)<=0,\"\",NETWORKDAYS(J1734+1,H1734,DiasNOLaborables))","v":""},null,null,{"$f":"IFERROR(VLOOKUP(E1734,$X$51:$Y$64,2),\"\")","v":20}]
[1724,20219050137322,"2021-12-05","MODULO CONTACTENOS","SOLICITUD DE INFORMACIÓN Y DOCUMENTOS","SOLICITUD DE INFORMACIÓN HIDROMETEOROLÓGICA","GRUPO DE SERVICIO AL CIUDADANO ","2021-12-09","CORREO ELECTRÓNICO",{"$f":"IFERROR(WORKDAY(C1735,P1735,DiasNOLaborables),\"\")","v":"2022-01-03"},{"$f":"+IF(C1735=\"\",\"\",IF(H1735=\"\",\"SIN RESPUESTA\",(IF(H1735<=J1735,\"A TIEMPO\",\"FUERA DE TIEMPO\"))))","v":"A TIEMPO"},{"$f":"IF(H1735=\"\",\"\",NETWORKDAYS(C1735+1,H1735,DiasNOLaborables))","v":3},{"$f":"IF(NETWORKDAYS(J1735+1,H1735,DiasNOLaborables)<=0,\"\",NETWORKDAYS(J1735+1,H1735,DiasNOLaborables))","v":""},null,null,{"$f":"IFERROR(VLOOKUP(E1735,$X$51:$Y$64,2),\"\")","v":20}]
[1725,20219050137332,"2021-12-05","MODULO CONTACTENOS","SOLICITUD DE INFORMACIÓN Y DOCUMENTOS","SOLICITUD DE INFORMACIÓN HIDROMETEOROLÓGICA","GRUPO DE SERVICIO AL CIUDADANO ","2021-12-09","CORREO ELECTRÓNICO",{"$f":"IFERROR(WORKDAY(C1736,P1736,DiasNOLaborables),\"\")","v":"2022-01-03"},{"$f":"+IF(C1736=\"\",\"\",IF(H1736=\"\",\"SIN RESPUESTA\",(IF(H1736<=J1736,\"A TIEMPO\",\"FUERA DE TIEMPO\"))))","v":"A TIEMPO"},{"$f":"IF(H1736=\"\",\"\",NETWORKDAYS(C1736+1,H1736,DiasNOLaborables))","v":3},{"$f":"IF(NETWORKDAYS(J1736+1,H1736,DiasNOLaborables)<=0,\"\",NETWORKDAYS(J1736+1,H1736,DiasNOLaborables))","v":""},null,null,{"$f":"IFERROR(VLOOKUP(E1736,$X$51:$Y$64,2),\"\")","v":20}]
[1726,20219050137342,"2021-12-05","MODULO CONTACTENOS","SOLICITUD DE INFORMACIÓN Y DOCUMENTOS","SOLICITUD DE INFORMACIÓN HIDROMETEOROLÓGICA","GRUPO DE SERVICIO AL CIUDADANO ","2021-12-09","CORREO ELECTRÓNICO",{"$f":"IFERROR(WORKDAY(C1737,P1737,DiasNOLaborables),\"\")","v":"2022-01-03"},{"$f":"+IF(C1737=\"\",\"\",IF(H1737=\"\",\"SIN RESPUESTA\",(IF(H1737<=J1737,\"A TIEMPO\",\"FUERA DE TIEMPO\"))))","v":"A TIEMPO"},{"$f":"IF(H1737=\"\",\"\",NETWORKDAYS(C1737+1,H1737,DiasNOLaborables))","v":3},{"$f":"IF(NETWORKDAYS(J1737+1,H1737,DiasNOLaborables)<=0,\"\",NETWORKDAYS(J1737+1,H1737,DiasNOLaborables))","v":""},null,null,{"$f":"IFERROR(VLOOKUP(E1737,$X$51:$Y$64,2),\"\")","v":20}]
[1727,20219050137352,"2021-12-05","MODULO CONTACTENOS","SOLICITUD DE INFORMACIÓN Y DOCUMENTOS","SOLICITUD DE INFORMACIÓN HIDROMETEOROLÓGICA","GRUPO DE SERVICIO AL CIUDADANO ","2021-12-10","CORREO ELECTRÓNICO",{"$f":"IFERROR(WORKDAY(C1738,P1738,DiasNOLaborables),\"\")","v":"2022-01-03"},{"$f":"+IF(C1738=\"\",\"\",IF(H1738=\"\",\"SIN RESPUESTA\",(IF(H1738<=J1738,\"A TIEMPO\",\"FUERA DE TIEMPO\"))))","v":"A TIEMPO"},{"$f":"IF(H1738=\"\",\"\",NETWORKDAYS(C1738+1,H1738,DiasNOLaborables))","v":4},{"$f":"IF(NETWORKDAYS(J1738+1,H1738,DiasNOLaborables)<=0,\"\",NETWORKDAYS(J1738+1,H1738,DiasNOLaborables))","v":""},null,null,{"$f":"IFERROR(VLOOKUP(E1738,$X$51:$Y$64,2),\"\")","v":20}]
[1728,20219050137402,"2021-12-05","MODULO CONTACTENOS","PETICIÓN","INFORMES AMBIENTALES","SUBDIRECCIÓN DE ESTUDIOS AMBIENTALES","2021-12-29","CORREO ELECTRÓNICO",{"$f":"IFERROR(WORKDAY(C1739,P1739,DiasNOLaborables),\"\")","v":"2022-01-17"},{"$f":"+IF(C1739=\"\",\"\",IF(H1739=\"\",\"SIN RESPUESTA\",(IF(H1739<=J1739,\"A TIEMPO\",\"FUERA DE TIEMPO\"))))","v":"A TIEMPO"},{"$f":"IF(H1739=\"\",\"\",NETWORKDAYS(C1739+1,H1739,DiasNOLaborables))","v":17},{"$f":"IF(NETWORKDAYS(J1739+1,H1739,DiasNOLaborables)<=0,\"\",NETWORKDAYS(J1739+1,H1739,DiasNOLaborables))","v":""},null,null,{"$f":"IFERROR(VLOOKUP(E1739,$X$51:$Y$64,2),\"\")","v":30}]
[1729,20219050137412,"2021-12-05","MODULO CONTACTENOS","SOLICITUD DE INFORMACIÓN Y DOCUMENTOS","ADMINISTRATIVA","OFICINA ASESORA JURÍDICA","2021-12-09","CORREO ELECTRÓNICO",{"$f":"IFERROR(WORKDAY(C1740,P1740,DiasNOLaborables),\"\")","v":"2022-01-03"},{"$f":"+IF(C1740=\"\",\"\",IF(H1740=\"\",\"SIN RESPUESTA\",(IF(H1740<=J1740,\"A TIEMPO\",\"FUERA DE TIEMPO\"))))","v":"A TIEMPO"},{"$f":"IF(H1740=\"\",\"\",NETWORKDAYS(C1740+1,H1740,DiasNOLaborables))","v":3},{"$f":"IF(NETWORKDAYS(J1740+1,H1740,DiasNOLaborables)<=0,\"\",NETWORKDAYS(J1740+1,H1740,DiasNOLaborables))","v":""},null,null,{"$f":"IFERROR(VLOOKUP(E1740,$X$51:$Y$64,2),\"\")","v":20}]
[1730,20219050137542,"2021-12-06","MODULO CONTACTENOS","SOLICITUD DE INFORMACIÓN Y DOCUMENTOS","ADMINISTRATIVA","GRUPO DE ADMINISTRACIÓN Y DESARROLLO DEL TALENTO HUMANO","2021-12-17","CORREO ELECTRÓNICO",{"$f":"IFERROR(WORKDAY(C1741,P1741,DiasNOLaborables),\"\")","v":"2022-01-04"},{"$f":"+IF(C1741=\"\",\"\",IF(H1741=\"\",\"SIN RESPUESTA\",(IF(H1741<=J1741,\"A TIEMPO\",\"FUERA DE TIEMPO\"))))","v":"A TIEMPO"},{"$f":"IF(H1741=\"\",\"\",NETWORKDAYS(C1741+1,H1741,DiasNOLaborables))","v":8},{"$f":"IF(NETWORKDAYS(J1741+1,H1741,DiasNOLaborables)<=0,\"\",NETWORKDAYS(J1741+1,H1741,DiasNOLaborables))","v":""},null,null,{"$f":"IFERROR(VLOOKUP(E1741,$X$51:$Y$64,2),\"\")","v":20}]
[{"$f":"IF(B1742<>\"\",A1741+1,\"\")","v":1731},20219050137432,"2021-12-06","CORREO ELECTRÓNICO","SOLICITUD DE INFORMACIÓN Y DOCUMENTOS","INFORMES AMBIENTALES","SUBDIRECCIÓN DE ESTUDIOS AMBIENTALES","2021-12-22","CORREO ELECTRÓNICO",{"$f":"IFERROR(WORKDAY(C1742,P1742,DiasNOLaborables),\"\")","v":"2022-01-04"},{"$f":"+IF(C1742=\"\",\"\",IF(H1742=\"\",\"SIN RESPUESTA\",(IF(H1742<=J1742,\"A TIEMPO\",\"FUERA DE TIEMPO\"))))","v":"A TIEMPO"},{"$f":"IF(H1742=\"\",\"\",NETWORKDAYS(C1742+1,H1742,DiasNOLaborables))","v":11},{"$f":"IF(NETWORKDAYS(J1742+1,H1742,DiasNOLaborables)<=0,\"\",NETWORKDAYS(J1742+1,H1742,DiasNOLaborables))","v":""},null,null,{"$f":"IFERROR(VLOOKUP(E1742,$X$51:$Y$64,2),\"\")","v":20}]
[1732,20219050137442,"2021-12-06","CORREO ELECTRÓNICO","CERTIFICACIONES DE TIEMPO, CLIMA Y EVENTOS HIDROLÓGICOS","CERTIFICACIONES DE TIEMPO Y CLIMA","SUBDIRECCIÓN DE METEOROLOGÍA","2021-12-10","CORREO ELECTRÓNICO",{"$f":"IFERROR(WORKDAY(C1743,P1743,DiasNOLaborables),\"\")","v":"2022-01-25"},{"$f":"+IF(C1743=\"\",\"\",IF(H1743=\"\",\"SIN RESPUESTA\",(IF(H1743<=J1743,\"A TIEMPO\",\"FUERA DE TIEMPO\"))))","v":"A TIEMPO"},{"$f":"IF(H1743=\"\",\"\",NETWORKDAYS(C1743+1,H1743,DiasNOLaborables))","v":3},{"$f":"IF(NETWORKDAYS(J1743+1,H1743,DiasNOLaborables)<=0,\"\",NETWORKDAYS(J1743+1,H1743,DiasNOLaborables))","v":""},null,null,{"$f":"IFERROR(VLOOKUP(E1743,$X$51:$Y$64,2),\"\")","v":35}]
[1733,20219050137452,"2021-12-06","CORREO ELECTRÓNICO","SOLICITUD DE INFORMACIÓN Y DOCUMENTOS","INFORMES AMBIENTALES","SUBDIRECCIÓN DE ESTUDIOS AMBIENTALES","2021-12-22","CORREO ELECTRÓNICO",{"$f":"IFERROR(WORKDAY(C1744,P1744,DiasNOLaborables),\"\")","v":"2022-01-04"},{"$f":"+IF(C1744=\"\",\"\",IF(H1744=\"\",\"SIN RESPUESTA\",(IF(H1744<=J1744,\"A TIEMPO\",\"FUERA DE TIEMPO\"))))","v":"A TIEMPO"},{"$f":"IF(H1744=\"\",\"\",NETWORKDAYS(C1744+1,H1744,DiasNOLaborables))","v":11},{"$f":"IF(NETWORKDAYS(J1744+1,H1744,DiasNOLaborables)<=0,\"\",NETWORKDAYS(J1744+1,H1744,DiasNOLaborables))","v":""},null,null,{"$f":"IFERROR(VLOOKUP(E1744,$X$51:$Y$64,2),\"\")","v":20}]
[1734,20219050137472,"2021-12-06","CORREO ELECTRÓNICO","PETICIÓN","INFORMES AMBIENTALES","SUBDIRECCIÓN DE METEOROLOGÍA","2021-12-20","CORREO ELECTRÓNICO",{"$f":"IFERROR(WORKDAY(C1745,P1745,DiasNOLaborables),\"\")","v":"2022-01-18"},{"$f":"+IF(C1745=\"\",\"\",IF(H1745=\"\",\"SIN RESPUESTA\",(IF(H1745<=J1745,\"A TIEMPO\",\"FUERA DE TIEMPO\"))))","v":"A TIEMPO"},{"$f":"IF(H1745=\"\",\"\",NETWORKDAYS(C1745+1,H1745,DiasNOLaborables))","v":9},{"$f":"IF(NETWORKDAYS(J1745+1,H1745,DiasNOLaborables)<=0,\"\",NETWORKDAYS(J1745+1,H1745,DiasNOLaborables))","v":""},null,null,{"$f":"IFERROR(VLOOKUP(E1745,$X$51:$Y$64,2),\"\")","v":30}]
[1735,20219050137482,"2021-12-06","CORREO ELECTRÓNICO","SOLICITUD DE INFORMACIÓN Y DOCUMENTOS","INFORMES AMBIENTALES","SUBDIRECCIÓN DE ESTUDIOS AMBIENTALES","2021-12-09","CORREO ELECTRÓNICO",{"$f":"IFERROR(WORKDAY(C1746,P1746,DiasNOLaborables),\"\")","v":"2022-01-04"},{"$f":"+IF(C1746=\"\",\"\",IF(H1746=\"\",\"SIN RESPUESTA\",(IF(H1746<=J1746,\"A TIEMPO\",\"FUERA DE TIEMPO\"))))","v":"A TIEMPO"},{"$f":"IF(H1746=\"\",\"\",NETWORKDAYS(C1746+1,H1746,DiasNOLaborables))","v":2},{"$f":"IF(NETWORKDAYS(J1746+1,H1746,DiasNOLaborables)<=0,\"\",NETWORKDAYS(J1746+1,H1746,DiasNOLaborables))","v":""},null,null,{"$f":"IFERROR(VLOOKUP(E1746,$X$51:$Y$64,2),\"\")","v":20}]
[1736,20219050137422,"2021-12-06","MODULO CONTACTENOS","SOLICITUD DE INFORMACIÓN Y DOCUMENTOS","SOLICITUD DE INFORMACIÓN HIDROMETEOROLÓGICA","GRUPO DE SERVICIO AL CIUDADANO ","2021-12-10","CORREO ELECTRÓNICO",{"$f":"IFERROR(WORKDAY(C1747,P1747,DiasNOLaborables),\"\")","v":"2022-01-04"},{"$f":"+IF(C1747=\"\",\"\",IF(H1747=\"\",\"SIN RESPUESTA\",(IF(H1747<=J1747,\"A TIEMPO\",\"FUERA DE TIEMPO\"))))","v":"A TIEMPO"},{"$f":"IF(H1747=\"\",\"\",NETWORKDAYS(C1747+1,H1747,DiasNOLaborables))","v":3},{"$f":"IF(NETWORKDAYS(J1747+1,H1747,DiasNOLaborables)<=0,\"\",NETWORKDAYS(J1747+1,H1747,DiasNOLaborables))","v":""},null,null,{"$f":"IFERROR(VLOOKUP(E1747,$X$51:$Y$64,2),\"\")","v":20}]
[1737,20219050137502,"2021-12-06","MODULO CONTACTENOS","SOLICITUD DE INFORMACIÓN Y DOCUMENTOS","SOLICITUD DE INFORMACIÓN HIDROMETEOROLÓGICA","GRUPO DE SERVICIO AL CIUDADANO ","2021-12-10","CORREO ELECTRÓNICO",{"$f":"IFERROR(WORKDAY(C1748,P1748,DiasNOLaborables),\"\")","v":"2022-01-04"},{"$f":"+IF(C1748=\"\",\"\",IF(H1748=\"\",\"SIN RESPUESTA\",(IF(H1748<=J1748,\"A TIEMPO\",\"FUERA DE TIEMPO\"))))","v":"A TIEMPO"},{"$f":"IF(H1748=\"\",\"\",NETWORKDAYS(C1748+1,H1748,DiasNOLaborables))","v":3},{"$f":"IF(NETWORKDAYS(J1748+1,H1748,DiasNOLaborables)<=0,\"\",NETWORKDAYS(J1748+1,H1748,DiasNOLaborables))","v":""},null,null,{"$f":"IFERROR(VLOOKUP(E1748,$X$51:$Y$64,2),\"\")","v":20}]
[1738,20219050137522,"2021-12-06","MODULO CONTACTENOS","SOLICITUD DE INFORMACIÓN Y DOCUMENTOS","SOLICITUD DE INFORMACIÓN HIDROMETEOROLÓGICA","SUBDIRECCIÓN DE METEOROLOGÍA","2021-12-10","CORREO ELECTRÓNICO",{"$f":"IFERROR(WORKDAY(C1749,P1749,DiasNOLaborables),\"\")","v":"2022-01-04"},{"$f":"+IF(C1749=\"\",\"\",IF(H1749=\"\",\"SIN RESPUESTA\",(IF(H1749<=J1749,\"A TIEMPO\",\"FUERA DE TIEMPO\"))))","v":"A TIEMPO"},{"$f":"IF(H1749=\"\",\"\",NETWORKDAYS(C1749+1,H1749,DiasNOLaborables))","v":3},{"$f":"IF(NETWORKDAYS(J1749+1,H1749,DiasNOLaborables)<=0,\"\",NETWORKDAYS(J1749+1,H1749,DiasNOLaborables))","v":""},null,null,{"$f":"IFERROR(VLOOKUP(E1749,$X$51:$Y$64,2),\"\")","v":20}]
[1739,20219050137512,"2021-12-06","CORREO ELECTRÓNICO","SOLICITUD DE INFORMACIÓN Y DOCUMENTOS","SIRH","SUBDIRECCIÓN DE HIDROLOGÍA","2021-12-30","CORREO ELECTRÓNICO",{"$f":"IFERROR(WORKDAY(C1750,P1750,DiasNOLaborables),\"\")","v":"2022-01-04"},{"$f":"+IF(C1750=\"\",\"\",IF(H1750=\"\",\"SIN RESPUESTA\",(IF(H1750<=J1750,\"A TIEMPO\",\"FUERA DE TIEMPO\"))))","v":"A TIEMPO"},{"$f":"IF(H1750=\"\",\"\",NETWORKDAYS(C1750+1,H1750,DiasNOLaborables))","v":17},{"$f":"IF(NETWORKDAYS(J1750+1,H1750,DiasNOLaborables)<=0,\"\",NETWORKDAYS(J1750+1,H1750,DiasNOLaborables))","v":""},null,null,{"$f":"IFERROR(VLOOKUP(E1750,$X$51:$Y$64,2),\"\")","v":20}]
[1740,20219050137572,"2021-12-06","MODULO CONTACTENOS","SOLICITUD DE INFORMACIÓN Y DOCUMENTOS","SOLICITUD DE INFORMACIÓN HIDROMETEOROLÓGICA","GRUPO DE SERVICIO AL CIUDADANO ","2021-12-13","CORREO ELECTRÓNICO",{"$f":"IFERROR(WORKDAY(C1751,P1751,DiasNOLaborables),\"\")","v":"2022-01-04"},{"$f":"+IF(C1751=\"\",\"\",IF(H1751=\"\",\"SIN RESPUESTA\",(IF(H1751<=J1751,\"A TIEMPO\",\"FUERA DE TIEMPO\"))))","v":"A TIEMPO"},{"$f":"IF(H1751=\"\",\"\",NETWORKDAYS(C1751+1,H1751,DiasNOLaborables))","v":4},{"$f":"IF(NETWORKDAYS(J1751+1,H1751,DiasNOLaborables)<=0,\"\",NETWORKDAYS(J1751+1,H1751,DiasNOLaborables))","v":""},null,null,{"$f":"IFERROR(VLOOKUP(E1751,$X$51:$Y$64,2),\"\")","v":20}]
[1741,20219050137582,"2021-12-06","MODULO CONTACTENOS","SOLICITUD DE INFORMACIÓN Y DOCUMENTOS","SOLICITUD DE INFORMACIÓN HIDROMETEOROLÓGICA","GRUPO DE SERVICIO AL CIUDADANO ","2021-12-13","CORREO ELECTRÓNICO",{"$f":"IFERROR(WORKDAY(C1752,P1752,DiasNOLaborables),\"\")","v":"2022-01-04"},{"$f":"+IF(C1752=\"\",\"\",IF(H1752=\"\",\"SIN RESPUESTA\",(IF(H1752<=J1752,\"A TIEMPO\",\"FUERA DE TIEMPO\"))))","v":"A TIEMPO"},{"$f":"IF(H1752=\"\",\"\",NETWORKDAYS(C1752+1,H1752,DiasNOLaborables))","v":4},{"$f":"IF(NETWORKDAYS(J1752+1,H1752,DiasNOLaborables)<=0,\"\",NETWORKDAYS(J1752+1,H1752,DiasNOLaborables))","v":""},null,null,{"$f":"IFERROR(VLOOKUP(E1752,$X$51:$Y$64,2),\"\")","v":20}]
[1742,20219050137552,"2021-12-06","MODULO CONTACTENOS","SOLICITUD DE INFORMACIÓN Y DOCUMENTOS","SOLICITUD DE INFORMACIÓN HIDROMETEOROLÓGICA","GRUPO DE SERVICIO AL CIUDADANO ","2021-12-14","CORREO ELECTRÓNICO",{"$f":"IFERROR(WORKDAY(C1753,P1753,DiasNOLaborables),\"\")","v":"2022-01-04"},{"$f":"+IF(C1753=\"\",\"\",IF(H1753=\"\",\"SIN RESPUESTA\",(IF(H1753<=J1753,\"A TIEMPO\",\"FUERA DE TIEMPO\"))))","v":"A TIEMPO"},{"$f":"IF(H1753=\"\",\"\",NETWORKDAYS(C1753+1,H1753,DiasNOLaborables))","v":5},{"$f":"IF(NETWORKDAYS(J1753+1,H1753,DiasNOLaborables)<=0,\"\",NETWORKDAYS(J1753+1,H1753,DiasNOLaborables))","v":""},null,null,{"$f":"IFERROR(VLOOKUP(E1753,$X$51:$Y$64,2),\"\")","v":20}]
[1743,20219050137492,"2021-12-06","MODULO CONTACTENOS","SOLICITUD DE INFORMACIÓN Y DOCUMENTOS","SOLICITUD DE INFORMACIÓN HIDROMETEOROLÓGICA","GRUPO DE SERVICIO AL CIUDADANO ","2021-12-18","CORREO ELECTRÓNICO",{"$f":"IFERROR(WORKDAY(C1754,P1754,DiasNOLaborables),\"\")","v":"2022-01-04"},{"$f":"+IF(C1754=\"\",\"\",IF(H1754=\"\",\"SIN RESPUESTA\",(IF(H1754<=J1754,\"A TIEMPO\",\"FUERA DE TIEMPO\"))))","v":"A TIEMPO"},{"$f":"IF(H1754=\"\",\"\",NETWORKDAYS(C1754+1,H1754,DiasNOLaborables))","v":8},{"$f":"IF(NETWORKDAYS(J1754+1,H1754,DiasNOLaborables)<=0,\"\",NETWORKDAYS(J1754+1,H1754,DiasNOLaborables))","v":""},null,null,{"$f":"IFERROR(VLOOKUP(E1754,$X$51:$Y$64,2),\"\")","v":20}]
[1744,20219050137612,"2021-12-06","MODULO CONTACTENOS","SOLICITUD DE INFORMACIÓN Y DOCUMENTOS","SOLICITUD DE INFORMACIÓN HIDROMETEOROLÓGICA","GRUPO DE SERVICIO AL CIUDADANO ","2021-12-13","CORREO ELECTRÓNICO",{"$f":"IFERROR(WORKDAY(C1755,P1755,DiasNOLaborables),\"\")","v":"2022-01-04"},{"$f":"+IF(C1755=\"\",\"\",IF(H1755=\"\",\"SIN RESPUESTA\",(IF(H1755<=J1755,\"A TIEMPO\",\"FUERA DE TIEMPO\"))))","v":"A TIEMPO"},{"$f":"IF(H1755=\"\",\"\",NETWORKDAYS(C1755+1,H1755,DiasNOLaborables))","v":4},{"$f":"IF(NETWORKDAYS(J1755+1,H1755,DiasNOLaborables)<=0,\"\",NETWORKDAYS(J1755+1,H1755,DiasNOLaborables))","v":""},null,null,{"$f":"IFERROR(VLOOKUP(E1755,$X$51:$Y$64,2),\"\")","v":20}]
[1745,20219050137562,"2021-12-06","MODULO CONTACTENOS","SOLICITUD DE INFORMACIÓN Y DOCUMENTOS","SOLICITUD DE INFORMACIÓN HIDROMETEOROLÓGICA","GRUPO DE SERVICIO AL CIUDADANO ","2021-12-20","CORREO ELECTRÓNICO",{"$f":"IFERROR(WORKDAY(C1756,P1756,DiasNOLaborables),\"\")","v":"2022-01-04"},{"$f":"+IF(C1756=\"\",\"\",IF(H1756=\"\",\"SIN RESPUESTA\",(IF(H1756<=J1756,\"A TIEMPO\",\"FUERA DE TIEMPO\"))))","v":"A TIEMPO"},{"$f":"IF(H1756=\"\",\"\",NETWORKDAYS(C1756+1,H1756,DiasNOLaborables))","v":9},{"$f":"IF(NETWORKDAYS(J1756+1,H1756,DiasNOLaborables)<=0,\"\",NETWORKDAYS(J1756+1,H1756,DiasNOLaborables))","v":""},null,null,{"$f":"IFERROR(VLOOKUP(E1756,$X$51:$Y$64,2),\"\")","v":20}]
[1746,20219910067622,"2021-12-06","CORREO ELECTRÓNICO","SOLICITUD DE INFORMACIÓN Y DOCUMENTOS","BOSQUES","SUBDIRECCIÓN DE ECOSISTEMAS E INFORMACIÓN AMBIENTAL","2021-12-22","CORREO ELECTRÓNICO",{"$f":"IFERROR(WORKDAY(C1757,P1757,DiasNOLaborables),\"\")","v":"2022-01-04"},{"$f":"+IF(C1757=\"\",\"\",IF(H1757=\"\",\"SIN RESPUESTA\",(IF(H1757<=J1757,\"A TIEMPO\",\"FUERA DE TIEMPO\"))))","v":"A TIEMPO"},{"$f":"IF(H1757=\"\",\"\",NETWORKDAYS(C1757+1,H1757,DiasNOLaborables))","v":11},{"$f":"IF(NETWORKDAYS(J1757+1,H1757,DiasNOLaborables)<=0,\"\",NETWORKDAYS(J1757+1,H1757,DiasNOLaborables))","v":""},null,null,{"$f":"IFERROR(VLOOKUP(E1757,$X$51:$Y$64,2),\"\")","v":20}]
[1747,20219910067762,"2021-12-07","CORREO CERTIFICADO","SOLICITUD DE INFORMACIÓN Y DOCUMENTOS","SIRH","SUBDIRECCIÓN DE HIDROLOGÍA","2021-12-14","CORREO ELECTRÓNICO",{"$f":"IFERROR(WORKDAY(C1758,P1758,DiasNOLaborables),\"\")","v":"2022-01-05"},{"$f":"+IF(C1758=\"\",\"\",IF(H1758=\"\",\"SIN RESPUESTA\",(IF(H1758<=J1758,\"A TIEMPO\",\"FUERA DE TIEMPO\"))))","v":"A TIEMPO"},{"$f":"IF(H1758=\"\",\"\",NETWORKDAYS(C1758+1,H1758,DiasNOLaborables))","v":4},{"$f":"IF(NETWORKDAYS(J1758+1,H1758,DiasNOLaborables)<=0,\"\",NETWORKDAYS(J1758+1,H1758,DiasNOLaborables))","v":""},null,null,{"$f":"IFERROR(VLOOKUP(E1758,$X$51:$Y$64,2),\"\")","v":20}]
[1748,20219050137632,"2021-12-07","MODULO CONTACTENOS","SOLICITUD DE INFORMACIÓN Y DOCUMENTOS","SOLICITUD DE INFORMACIÓN HIDROMETEOROLÓGICA","GRUPO DE SERVICIO AL CIUDADANO ","2021-12-13","CORREO ELECTRÓNICO",{"$f":"IFERROR(WORKDAY(C1759,P1759,DiasNOLaborables),\"\")","v":"2022-01-05"},{"$f":"+IF(C1759=\"\",\"\",IF(H1759=\"\",\"SIN RESPUESTA\",(IF(H1759<=J1759,\"A TIEMPO\",\"FUERA DE TIEMPO\"))))","v":"A TIEMPO"},{"$f":"IF(H1759=\"\",\"\",NETWORKDAYS(C1759+1,H1759,DiasNOLaborables))","v":3},{"$f":"IF(NETWORKDAYS(J1759+1,H1759,DiasNOLaborables)<=0,\"\",NETWORKDAYS(J1759+1,H1759,DiasNOLaborables))","v":""},null,null,{"$f":"IFERROR(VLOOKUP(E1759,$X$51:$Y$64,2),\"\")","v":20}]
[1749,20219050137652,"2021-12-07","MODULO CONTACTENOS","SOLICITUD DE INFORMACIÓN Y DOCUMENTOS","SOLICITUD DE INFORMACIÓN HIDROMETEOROLÓGICA","GRUPO DE SERVICIO AL CIUDADANO ","2021-12-13","CORREO ELECTRÓNICO",{"$f":"IFERROR(WORKDAY(C1760,P1760,DiasNOLaborables),\"\")","v":"2022-01-05"},{"$f":"+IF(C1760=\"\",\"\",IF(H1760=\"\",\"SIN RESPUESTA\",(IF(H1760<=J1760,\"A TIEMPO\",\"FUERA DE TIEMPO\"))))","v":"A TIEMPO"},{"$f":"IF(H1760=\"\",\"\",NETWORKDAYS(C1760+1,H1760,DiasNOLaborables))","v":3},{"$f":"IF(NETWORKDAYS(J1760+1,H1760,DiasNOLaborables)<=0,\"\",NETWORKDAYS(J1760+1,H1760,DiasNOLaborables))","v":""},null,null,{"$f":"IFERROR(VLOOKUP(E1760,$X$51:$Y$64,2),\"\")","v":20}]
[1750,20219050137672,"2021-12-07","MODULO CONTACTENOS","SOLICITUD DE INFORMACIÓN Y DOCUMENTOS","SOLICITUD DE INFORMACIÓN HIDROMETEOROLÓGICA","GRUPO DE SERVICIO AL CIUDADANO ","2021-12-13","CORREO ELECTRÓNICO",{"$f":"IFERROR(WORKDAY(C1761,P1761,DiasNOLaborables),\"\")","v":"2022-01-05"},{"$f":"+IF(C1761=\"\",\"\",IF(H1761=\"\",\"SIN RESPUESTA\",(IF(H1761<=J1761,\"A TIEMPO\",\"FUERA DE TIEMPO\"))))","v":"A TIEMPO"},{"$f":"IF(H1761=\"\",\"\",NETWORKDAYS(C1761+1,H1761,DiasNOLaborables))","v":3},{"$f":"IF(NETWORKDAYS(J1761+1,H1761,DiasNOLaborables)<=0,\"\",NETWORKDAYS(J1761+1,H1761,DiasNOLaborables))","v":""},null,null,{"$f":"IFERROR(VLOOKUP(E1761,$X$51:$Y$64,2),\"\")","v":20}]
[1751,20219050137692,"2021-12-07","MODULO CONTACTENOS","SOLICITUD DE INFORMACIÓN Y DOCUMENTOS","SOLICITUD DE INFORMACIÓN HIDROMETEOROLÓGICA","GRUPO DE SERVICIO AL CIUDADANO ","2021-12-13","CORREO ELECTRÓNICO",{"$f":"IFERROR(WORKDAY(C1762,P1762,DiasNOLaborables),\"\")","v":"2022-01-05"},{"$f":"+IF(C1762=\"\",\"\",IF(H1762=\"\",\"SIN RESPUESTA\",(IF(H1762<=J1762,\"A TIEMPO\",\"FUERA DE TIEMPO\"))))","v":"A TIEMPO"},{"$f":"IF(H1762=\"\",\"\",NETWORKDAYS(C1762+1,H1762,DiasNOLaborables))","v":3},{"$f":"IF(NETWORKDAYS(J1762+1,H1762,DiasNOLaborables)<=0,\"\",NETWORKDAYS(J1762+1,H1762,DiasNOLaborables))","v":""},null,null,{"$f":"IFERROR(VLOOKUP(E1762,$X$51:$Y$64,2),\"\")","v":20}]
[1752,20219050137642,"2021-12-07","CORREO ELECTRÓNICO","SOLICITUD DE INFORMACIÓN Y DOCUMENTOS","ADMINISTRATIVA","GRUPO DE ADMINISTRACIÓN Y DESARROLLO DEL TALENTO HUMANO","2021-12-22","CORREO ELECTRÓNICO",{"$f":"IFERROR(WORKDAY(C1763,P1763,DiasNOLaborables),\"\")","v":"2022-01-05"},{"$f":"+IF(C1763=\"\",\"\",IF(H1763=\"\",\"SIN RESPUESTA\",(IF(H1763<=J1763,\"A TIEMPO\",\"FUERA DE TIEMPO\"))))","v":"A TIEMPO"},{"$f":"IF(H1763=\"\",\"\",NETWORKDAYS(C1763+1,H1763,DiasNOLaborables))","v":10},{"$f":"IF(NETWORKDAYS(J1763+1,H1763,DiasNOLaborables)<=0,\"\",NETWORKDAYS(J1763+1,H1763,DiasNOLaborables))","v":""},null,null,{"$f":"IFERROR(VLOOKUP(E1763,$X$51:$Y$64,2),\"\")","v":20}]
[1753,20219050137712,"2021-12-07","CORREO ELECTRÓNICO","SOLICITUD DE INFORMACIÓN Y DOCUMENTOS","ADMINISTRATIVA","GRUPO DE ADMINISTRACIÓN Y DESARROLLO DEL TALENTO HUMANO","2021-12-14","CORREO ELECTRÓNICO",{"$f":"IFERROR(WORKDAY(C1764,P1764,DiasNOLaborables),\"\")","v":"2022-01-05"},{"$f":"+IF(C1764=\"\",\"\",IF(H1764=\"\",\"SIN RESPUESTA\",(IF(H1764<=J1764,\"A TIEMPO\",\"FUERA DE TIEMPO\"))))","v":"A TIEMPO"},{"$f":"IF(H1764=\"\",\"\",NETWORKDAYS(C1764+1,H1764,DiasNOLaborables))","v":4},{"$f":"IF(NETWORKDAYS(J1764+1,H1764,DiasNOLaborables)<=0,\"\",NETWORKDAYS(J1764+1,H1764,DiasNOLaborables))","v":""},null,null,{"$f":"IFERROR(VLOOKUP(E1764,$X$51:$Y$64,2),\"\")","v":20}]
[1754,20219050137832,"2021-12-07","CORREO ELECTRÓNICO","SOLICITUD DE INFORMACIÓN Y DOCUMENTOS","INFORMES AMBIENTALES","SUBDIRECCIÓN DE ESTUDIOS AMBIENTALES","2021-12-22","CORREO ELECTRÓNICO",{"$f":"IFERROR(WORKDAY(C1765,P1765,DiasNOLaborables),\"\")","v":"2022-01-05"},{"$f":"+IF(C1765=\"\",\"\",IF(H1765=\"\",\"SIN RESPUESTA\",(IF(H1765<=J1765,\"A TIEMPO\",\"FUERA DE TIEMPO\"))))","v":"A TIEMPO"},{"$f":"IF(H1765=\"\",\"\",NETWORKDAYS(C1765+1,H1765,DiasNOLaborables))","v":10},{"$f":"IF(NETWORKDAYS(J1765+1,H1765,DiasNOLaborables)<=0,\"\",NETWORKDAYS(J1765+1,H1765,DiasNOLaborables))","v":""},null,null,{"$f":"IFERROR(VLOOKUP(E1765,$X$51:$Y$64,2),\"\")","v":20}]
[1755,20219050137842,"2021-12-07","CORREO ELECTRÓNICO","SOLICITUD DE INFORMACIÓN Y DOCUMENTOS","REGISTROS AMBIENTALES","SUBDIRECCIÓN DE ESTUDIOS AMBIENTALES","2021-12-07","CORREO ELECTRÓNICO",{"$f":"IFERROR(WORKDAY(C1766,P1766,DiasNOLaborables),\"\")","v":"2022-01-05"},{"$f":"+IF(C1766=\"\",\"\",IF(H1766=\"\",\"SIN RESPUESTA\",(IF(H1766<=J1766,\"A TIEMPO\",\"FUERA DE TIEMPO\"))))","v":"A TIEMPO"},{"$f":"IF(H1766=\"\",\"\",NETWORKDAYS(C1766+1,H1766,DiasNOLaborables))","v":-1},{"$f":"IF(NETWORKDAYS(J1766+1,H1766,DiasNOLaborables)<=0,\"\",NETWORKDAYS(J1766+1,H1766,DiasNOLaborables))","v":""},null,null,{"$f":"IFERROR(VLOOKUP(E1766,$X$51:$Y$64,2),\"\")","v":20}]
[1756,20219050137902,"2021-12-07","CORREO ELECTRÓNICO","CERTIFICACIONES DE TIEMPO, CLIMA Y EVENTOS HIDROLÓGICOS","CERTIFICACIONES DE TIEMPO Y CLIMA","SUBDIRECCIÓN DE METEOROLOGÍA","2021-12-10","CORREO ELECTRÓNICO",{"$f":"IFERROR(WORKDAY(C1767,P1767,DiasNOLaborables),\"\")","v":"2022-01-26"},{"$f":"+IF(C1767=\"\",\"\",IF(H1767=\"\",\"SIN RESPUESTA\",(IF(H1767<=J1767,\"A TIEMPO\",\"FUERA DE TIEMPO\"))))","v":"A TIEMPO"},{"$f":"IF(H1767=\"\",\"\",NETWORKDAYS(C1767+1,H1767,DiasNOLaborables))","v":2},{"$f":"IF(NETWORKDAYS(J1767+1,H1767,DiasNOLaborables)<=0,\"\",NETWORKDAYS(J1767+1,H1767,DiasNOLaborables))","v":""},null,null,{"$f":"IFERROR(VLOOKUP(E1767,$X$51:$Y$64,2),\"\")","v":35}]
[1757,20219050137622,"2021-12-07","MODULO CONTACTENOS","SOLICITUD DE INFORMACIÓN Y DOCUMENTOS","REGISTROS AMBIENTALES","SUBDIRECCIÓN DE ESTUDIOS AMBIENTALES","2021-12-22","CORREO ELECTRÓNICO",{"$f":"IFERROR(WORKDAY(C1768,P1768,DiasNOLaborables),\"\")","v":"2022-01-05"},{"$f":"+IF(C1768=\"\",\"\",IF(H1768=\"\",\"SIN RESPUESTA\",(IF(H1768<=J1768,\"A TIEMPO\",\"FUERA DE TIEMPO\"))))","v":"A TIEMPO"},{"$f":"IF(H1768=\"\",\"\",NETWORKDAYS(C1768+1,H1768,DiasNOLaborables))","v":10},{"$f":"IF(NETWORKDAYS(J1768+1,H1768,DiasNOLaborables)<=0,\"\",NETWORKDAYS(J1768+1,H1768,DiasNOLaborables))","v":""},null,null,{"$f":"IFERROR(VLOOKUP(E1768,$X$51:$Y$64,2),\"\")","v":20}]
[1758,20219050137682,"2021-12-07","MODULO CONTACTENOS","SOLICITUD DE INFORMACIÓN Y DOCUMENTOS","REGISTROS AMBIENTALES","SUBDIRECCIÓN DE ESTUDIOS AMBIENTALES","2021-12-10","CORREO ELECTRÓNICO",{"$f":"IFERROR(WORKDAY(C1769,P1769,DiasNOLaborables),\"\")","v":"2022-01-05"},{"$f":"+IF(C1769=\"\",\"\",IF(H1769=\"\",\"SIN RESPUESTA\",(IF(H1769<=J1769,\"A TIEMPO\",\"FUERA DE TIEMPO\"))))","v":"A TIEMPO"},{"$f":"IF(H1769=\"\",\"\",NETWORKDAYS(C1769+1,H1769,DiasNOLaborables))","v":2},{"$f":"IF(NETWORKDAYS(J1769+1,H1769,DiasNOLaborables)<=0,\"\",NETWORKDAYS(J1769+1,H1769,DiasNOLaborables))","v":""},null,null,{"$f":"IFERROR(VLOOKUP(E1769,$X$51:$Y$64,2),\"\")","v":20}]
[1759,20219050137722,"2021-12-07","MODULO CONTACTENOS","SOLICITUD DE INFORMACIÓN Y DOCUMENTOS","SIRH","SUBDIRECCIÓN DE HIDROLOGÍA","2022-01-03","CORREO ELECTRÓNICO",{"$f":"IFERROR(WORKDAY(C1770,P1770,DiasNOLaborables),\"\")","v":"2022-01-05"},{"$f":"+IF(C1770=\"\",\"\",IF(H1770=\"\",\"SIN RESPUESTA\",(IF(H1770<=J1770,\"A TIEMPO\",\"FUERA DE TIEMPO\"))))","v":"A TIEMPO"},{"$f":"IF(H1770=\"\",\"\",NETWORKDAYS(C1770+1,H1770,DiasNOLaborables))","v":18},{"$f":"IF(NETWORKDAYS(J1770+1,H1770,DiasNOLaborables)<=0,\"\",NETWORKDAYS(J1770+1,H1770,DiasNOLaborables))","v":""},null,null,{"$f":"IFERROR(VLOOKUP(E1770,$X$51:$Y$64,2),\"\")","v":20}]
[1760,20217070000922,"2021-12-07","CORREO CERTIFICADO","SOLICITUD JUDICIAL","CERTIFICACIONES DE TIEMPO Y CLIMA","SUBDIRECCIÓN DE METEOROLOGÍA","2021-12-10","CORREO ELECTRÓNICO",{"$f":"IFERROR(WORKDAY(C1771,P1771,DiasNOLaborables),\"\")","v":"2021-12-15"},{"$f":"+IF(C1771=\"\",\"\",IF(H1771=\"\",\"SIN RESPUESTA\",(IF(H1771<=J1771,\"A TIEMPO\",\"FUERA DE TIEMPO\"))))","v":"A TIEMPO"},{"$f":"IF(H1771=\"\",\"\",NETWORKDAYS(C1771+1,H1771,DiasNOLaborables))","v":2},{"$f":"IF(NETWORKDAYS(J1771+1,H1771,DiasNOLaborables)<=0,\"\",NETWORKDAYS(J1771+1,H1771,DiasNOLaborables))","v":""},null,null,{"$f":"IFERROR(VLOOKUP(E1771,$X$51:$Y$64,2),\"\")","v":5}]
[1761,20219050137702,"2021-12-07","CORREO ELECTRÓNICO","SOLICITUD DE INFORMACIÓN Y DOCUMENTOS","SOLICITUD DE INFORMACIÓN HIDROMETEOROLÓGICA","GRUPO DE SERVICIO AL CIUDADANO ","2021-12-09","CORREO ELECTRÓNICO",{"$f":"IFERROR(WORKDAY(C1772,P1772,DiasNOLaborables),\"\")","v":"2022-01-05"},{"$f":"+IF(C1772=\"\",\"\",IF(H1772=\"\",\"SIN RESPUESTA\",(IF(H1772<=J1772,\"A TIEMPO\",\"FUERA DE TIEMPO\"))))","v":"A TIEMPO"},{"$f":"IF(H1772=\"\",\"\",NETWORKDAYS(C1772+1,H1772,DiasNOLaborables))","v":1},{"$f":"IF(NETWORKDAYS(J1772+1,H1772,DiasNOLaborables)<=0,\"\",NETWORKDAYS(J1772+1,H1772,DiasNOLaborables))","v":""},null,null,{"$f":"IFERROR(VLOOKUP(E1772,$X$51:$Y$64,2),\"\")","v":20}]
[1762,20219050137762,"2021-12-07","MODULO CONTACTENOS","SOLICITUD DE INFORMACIÓN Y DOCUMENTOS","SOLICITUD DE INFORMACIÓN HIDROMETEOROLÓGICA","GRUPO DE SERVICIO AL CIUDADANO ","2021-12-09","CORREO ELECTRÓNICO",{"$f":"IFERROR(WORKDAY(C1773,P1773,DiasNOLaborables),\"\")","v":"2022-01-05"},{"$f":"+IF(C1773=\"\",\"\",IF(H1773=\"\",\"SIN RESPUESTA\",(IF(H1773<=J1773,\"A TIEMPO\",\"FUERA DE TIEMPO\"))))","v":"A TIEMPO"},{"$f":"IF(H1773=\"\",\"\",NETWORKDAYS(C1773+1,H1773,DiasNOLaborables))","v":1},{"$f":"IF(NETWORKDAYS(J1773+1,H1773,DiasNOLaborables)<=0,\"\",NETWORKDAYS(J1773+1,H1773,DiasNOLaborables))","v":""},null,null,{"$f":"IFERROR(VLOOKUP(E1773,$X$51:$Y$64,2),\"\")","v":20}]
[1763,20219050137782,"2021-12-07","MODULO CONTACTENOS","SOLICITUD DE INFORMACIÓN Y DOCUMENTOS","SOLICITUD DE INFORMACIÓN HIDROMETEOROLÓGICA","GRUPO DE SERVICIO AL CIUDADANO ","2021-12-09","CORREO ELECTRÓNICO",{"$f":"IFERROR(WORKDAY(C1774,P1774,DiasNOLaborables),\"\")","v":"2022-01-05"},{"$f":"+IF(C1774=\"\",\"\",IF(H1774=\"\",\"SIN RESPUESTA\",(IF(H1774<=J1774,\"A TIEMPO\",\"FUERA DE TIEMPO\"))))","v":"A TIEMPO"},{"$f":"IF(H1774=\"\",\"\",NETWORKDAYS(C1774+1,H1774,DiasNOLaborables))","v":1},{"$f":"IF(NETWORKDAYS(J1774+1,H1774,DiasNOLaborables)<=0,\"\",NETWORKDAYS(J1774+1,H1774,DiasNOLaborables))","v":""},null,null,{"$f":"IFERROR(VLOOKUP(E1774,$X$51:$Y$64,2),\"\")","v":20}]
[1764,20219050137802,"2021-12-07","MODULO CONTACTENOS","SOLICITUD DE INFORMACIÓN Y DOCUMENTOS","SOLICITUD DE INFORMACIÓN HIDROMETEOROLÓGICA","GRUPO DE SERVICIO AL CIUDADANO ","2021-12-10","CORREO ELECTRÓNICO",{"$f":"IFERROR(WORKDAY(C1775,P1775,DiasNOLaborables),\"\")","v":"2022-01-05"},{"$f":"+IF(C1775=\"\",\"\",IF(H1775=\"\",\"SIN RESPUESTA\",(IF(H1775<=J1775,\"A TIEMPO\",\"FUERA DE TIEMPO\"))))","v":"A TIEMPO"},{"$f":"IF(H1775=\"\",\"\",NETWORKDAYS(C1775+1,H1775,DiasNOLaborables))","v":2},{"$f":"IF(NETWORKDAYS(J1775+1,H1775,DiasNOLaborables)<=0,\"\",NETWORKDAYS(J1775+1,H1775,DiasNOLaborables))","v":""},null,null,{"$f":"IFERROR(VLOOKUP(E1775,$X$51:$Y$64,2),\"\")","v":20}]
[1765,20219050137912,"2021-12-07","CORREO ELECTRÓNICO","SOLICITUD DE INFORMACIÓN Y DOCUMENTOS","SOLICITUD DE INFORMACIÓN HIDROMETEOROLÓGICA","GRUPO DE SERVICIO AL CIUDADANO ","2021-12-10","CORREO ELECTRÓNICO",{"$f":"IFERROR(WORKDAY(C1776,P1776,DiasNOLaborables),\"\")","v":"2022-01-05"},{"$f":"+IF(C1776=\"\",\"\",IF(H1776=\"\",\"SIN RESPUESTA\",(IF(H1776<=J1776,\"A TIEMPO\",\"FUERA DE TIEMPO\"))))","v":"A TIEMPO"},{"$f":"IF(H1776=\"\",\"\",NETWORKDAYS(C1776+1,H1776,DiasNOLaborables))","v":2},{"$f":"IF(NETWORKDAYS(J1776+1,H1776,DiasNOLaborables)<=0,\"\",NETWORKDAYS(J1776+1,H1776,DiasNOLaborables))","v":""},null,null,{"$f":"IFERROR(VLOOKUP(E1776,$X$51:$Y$64,2),\"\")","v":20}]
[1766,20219050137822,"2021-12-07","MODULO CONTACTENOS","SOLICITUD DE INFORMACIÓN Y DOCUMENTOS","SOLICITUD DE INFORMACIÓN HIDROMETEOROLÓGICA","GRUPO DE SERVICIO AL CIUDADANO ","2021-12-17","CORREO ELECTRÓNICO",{"$f":"IFERROR(WORKDAY(C1777,P1777,DiasNOLaborables),\"\")","v":"2022-01-05"},{"$f":"+IF(C1777=\"\",\"\",IF(H1777=\"\",\"SIN RESPUESTA\",(IF(H1777<=J1777,\"A TIEMPO\",\"FUERA DE TIEMPO\"))))","v":"A TIEMPO"},{"$f":"IF(H1777=\"\",\"\",NETWORKDAYS(C1777+1,H1777,DiasNOLaborables))","v":7},{"$f":"IF(NETWORKDAYS(J1777+1,H1777,DiasNOLaborables)<=0,\"\",NETWORKDAYS(J1777+1,H1777,DiasNOLaborables))","v":""},null,null,{"$f":"IFERROR(VLOOKUP(E1777,$X$51:$Y$64,2),\"\")","v":20}]
[1767,20219050137892,"2021-12-07","MODULO CONTACTENOS","SOLICITUD DE INFORMACIÓN Y DOCUMENTOS","SOLICITUD DE INFORMACIÓN HIDROMETEOROLÓGICA","GRUPO DE SERVICIO AL CIUDADANO ","2021-12-17","CORREO ELECTRÓNICO",{"$f":"IFERROR(WORKDAY(C1778,P1778,DiasNOLaborables),\"\")","v":"2022-01-05"},{"$f":"+IF(C1778=\"\",\"\",IF(H1778=\"\",\"SIN RESPUESTA\",(IF(H1778<=J1778,\"A TIEMPO\",\"FUERA DE TIEMPO\"))))","v":"A TIEMPO"},{"$f":"IF(H1778=\"\",\"\",NETWORKDAYS(C1778+1,H1778,DiasNOLaborables))","v":7},{"$f":"IF(NETWORKDAYS(J1778+1,H1778,DiasNOLaborables)<=0,\"\",NETWORKDAYS(J1778+1,H1778,DiasNOLaborables))","v":""},null,null,{"$f":"IFERROR(VLOOKUP(E1778,$X$51:$Y$64,2),\"\")","v":20}]
[1768,20219050137922,"2021-12-07","MODULO CONTACTENOS","SOLICITUD DE INFORMACIÓN Y DOCUMENTOS","SOLICITUD DE INFORMACIÓN HIDROMETEOROLÓGICA","GRUPO DE SERVICIO AL CIUDADANO ","2021-12-11","CORREO ELECTRÓNICO",{"$f":"IFERROR(WORKDAY(C1779,P1779,DiasNOLaborables),\"\")","v":"2022-01-05"},{"$f":"+IF(C1779=\"\",\"\",IF(H1779=\"\",\"SIN RESPUESTA\",(IF(H1779<=J1779,\"A TIEMPO\",\"FUERA DE TIEMPO\"))))","v":"A TIEMPO"},{"$f":"IF(H1779=\"\",\"\",NETWORKDAYS(C1779+1,H1779,DiasNOLaborables))","v":2},{"$f":"IF(NETWORKDAYS(J1779+1,H1779,DiasNOLaborables)<=0,\"\",NETWORKDAYS(J1779+1,H1779,DiasNOLaborables))","v":""},null,null,{"$f":"IFERROR(VLOOKUP(E1779,$X$51:$Y$64,2),\"\")","v":20}]
[1769,20219050137952,"2021-12-08","MODULO CONTACTENOS","SOLICITUD DE INFORMACIÓN Y DOCUMENTOS","SOLICITUD DE INFORMACIÓN HIDROMETEOROLÓGICA","GRUPO DE SERVICIO AL CIUDADANO ","2021-12-11","CORREO ELECTRÓNICO",{"$f":"IFERROR(WORKDAY(C1780,P1780,DiasNOLaborables),\"\")","v":"2022-01-05"},{"$f":"+IF(C1780=\"\",\"\",IF(H1780=\"\",\"SIN RESPUESTA\",(IF(H1780<=J1780,\"A TIEMPO\",\"FUERA DE TIEMPO\"))))","v":"A TIEMPO"},{"$f":"IF(H1780=\"\",\"\",NETWORKDAYS(C1780+1,H1780,DiasNOLaborables))","v":2},{"$f":"IF(NETWORKDAYS(J1780+1,H1780,DiasNOLaborables)<=0,\"\",NETWORKDAYS(J1780+1,H1780,DiasNOLaborables))","v":""},null,null,{"$f":"IFERROR(VLOOKUP(E1780,$X$51:$Y$64,2),\"\")","v":20}]
[1770,20219050137932,"2021-12-08","MODULO CONTACTENOS","SOLICITUD DE INFORMACIÓN Y DOCUMENTOS","ADMINISTRATIVA","GRUPO DE ADMINISTRACIÓN Y DESARROLLO DEL TALENTO HUMANO","2021-12-17","CORREO ELECTRÓNICO",{"$f":"IFERROR(WORKDAY(C1781,P1781,DiasNOLaborables),\"\")","v":"2022-01-05"},{"$f":"+IF(C1781=\"\",\"\",IF(H1781=\"\",\"SIN RESPUESTA\",(IF(H1781<=J1781,\"A TIEMPO\",\"FUERA DE TIEMPO\"))))","v":"A TIEMPO"},{"$f":"IF(H1781=\"\",\"\",NETWORKDAYS(C1781+1,H1781,DiasNOLaborables))","v":7},{"$f":"IF(NETWORKDAYS(J1781+1,H1781,DiasNOLaborables)<=0,\"\",NETWORKDAYS(J1781+1,H1781,DiasNOLaborables))","v":""},null,null,{"$f":"IFERROR(VLOOKUP(E1781,$X$51:$Y$64,2),\"\")","v":20}]
[1771,20219050137942,"2021-12-08","MODULO CONTACTENOS","CERTIFICACIONES DE TIEMPO, CLIMA Y EVENTOS HIDROLÓGICOS","CERTIFICACIONES DE TIEMPO Y CLIMA","SUBDIRECCIÓN DE METEOROLOGÍA","2021-12-21","CORREO ELECTRÓNICO",{"$f":"IFERROR(WORKDAY(C1782,P1782,DiasNOLaborables),\"\")","v":"2022-01-26"},{"$f":"+IF(C1782=\"\",\"\",IF(H1782=\"\",\"SIN RESPUESTA\",(IF(H1782<=J1782,\"A TIEMPO\",\"FUERA DE TIEMPO\"))))","v":"A TIEMPO"},{"$f":"IF(H1782=\"\",\"\",NETWORKDAYS(C1782+1,H1782,DiasNOLaborables))","v":9},{"$f":"IF(NETWORKDAYS(J1782+1,H1782,DiasNOLaborables)<=0,\"\",NETWORKDAYS(J1782+1,H1782,DiasNOLaborables))","v":""},null,null,{"$f":"IFERROR(VLOOKUP(E1782,$X$51:$Y$64,2),\"\")","v":35}]
[1772,20219050137962,"2021-12-09","MODULO CONTACTENOS","SOLICITUD DE INFORMACIÓN Y DOCUMENTOS","ADMINISTRATIVA","GRUPO DE ADMINISTRACIÓN Y DESARROLLO DEL TALENTO HUMANO","2021-12-16","CORREO ELECTRÓNICO",{"$f":"IFERROR(WORKDAY(C1783,P1783,DiasNOLaborables),\"\")","v":"2022-01-06"},{"$f":"+IF(C1783=\"\",\"\",IF(H1783=\"\",\"SIN RESPUESTA\",(IF(H1783<=J1783,\"A TIEMPO\",\"FUERA DE TIEMPO\"))))","v":"A TIEMPO"},{"$f":"IF(H1783=\"\",\"\",NETWORKDAYS(C1783+1,H1783,DiasNOLaborables))","v":5},{"$f":"IF(NETWORKDAYS(J1783+1,H1783,DiasNOLaborables)<=0,\"\",NETWORKDAYS(J1783+1,H1783,DiasNOLaborables))","v":""},null,null,{"$f":"IFERROR(VLOOKUP(E1783,$X$51:$Y$64,2),\"\")","v":20}]
[1773,20219050138002,"2021-12-09","MODULO CONTACTENOS","SOLICITUD DE INFORMACIÓN Y DOCUMENTOS","ADMINISTRATIVA","OFICINA ASESORA JURÍDICA","2021-12-16","CORREO ELECTRÓNICO",{"$f":"IFERROR(WORKDAY(C1784,P1784,DiasNOLaborables),\"\")","v":"2022-01-06"},{"$f":"+IF(C1784=\"\",\"\",IF(H1784=\"\",\"SIN RESPUESTA\",(IF(H1784<=J1784,\"A TIEMPO\",\"FUERA DE TIEMPO\"))))","v":"A TIEMPO"},{"$f":"IF(H1784=\"\",\"\",NETWORKDAYS(C1784+1,H1784,DiasNOLaborables))","v":5},{"$f":"IF(NETWORKDAYS(J1784+1,H1784,DiasNOLaborables)<=0,\"\",NETWORKDAYS(J1784+1,H1784,DiasNOLaborables))","v":""},null,null,{"$f":"IFERROR(VLOOKUP(E1784,$X$51:$Y$64,2),\"\")","v":20}]
[1774,20219050138012,"2021-12-09","MODULO CONTACTENOS","PETICIÓN","REGISTROS AMBIENTALES","SUBDIRECCIÓN DE ESTUDIOS AMBIENTALES","2021-12-22","CORREO ELECTRÓNICO",{"$f":"IFERROR(WORKDAY(C1785,P1785,DiasNOLaborables),\"\")","v":"2022-01-20"},{"$f":"+IF(C1785=\"\",\"\",IF(H1785=\"\",\"SIN RESPUESTA\",(IF(H1785<=J1785,\"A TIEMPO\",\"FUERA DE TIEMPO\"))))","v":"A TIEMPO"},{"$f":"IF(H1785=\"\",\"\",NETWORKDAYS(C1785+1,H1785,DiasNOLaborables))","v":9},{"$f":"IF(NETWORKDAYS(J1785+1,H1785,DiasNOLaborables)<=0,\"\",NETWORKDAYS(J1785+1,H1785,DiasNOLaborables))","v":""},null,null,{"$f":"IFERROR(VLOOKUP(E1785,$X$51:$Y$64,2),\"\")","v":30}]
[1775,20219050138192,"2021-12-09","MODULO CONTACTENOS","SOLICITUD DE INFORMACIÓN Y DOCUMENTOS","ADMINISTRATIVA","GRUPO DE SERVICIOS ADMINISTRATIVOS","2021-12-16","CORREO ELECTRÓNICO",{"$f":"IFERROR(WORKDAY(C1786,P1786,DiasNOLaborables),\"\")","v":"2022-01-06"},{"$f":"+IF(C1786=\"\",\"\",IF(H1786=\"\",\"SIN RESPUESTA\",(IF(H1786<=J1786,\"A TIEMPO\",\"FUERA DE TIEMPO\"))))","v":"A TIEMPO"},{"$f":"IF(H1786=\"\",\"\",NETWORKDAYS(C1786+1,H1786,DiasNOLaborables))","v":5},{"$f":"IF(NETWORKDAYS(J1786+1,H1786,DiasNOLaborables)<=0,\"\",NETWORKDAYS(J1786+1,H1786,DiasNOLaborables))","v":""},null,null,{"$f":"IFERROR(VLOOKUP(E1786,$X$51:$Y$64,2),\"\")","v":20}]
[1776,20219050138202,"2021-12-09","MODULO CONTACTENOS","CERTIFICACIONES DE TIEMPO, CLIMA Y EVENTOS HIDROLÓGICOS","CERTIFICACIONES DE TIEMPO Y CLIMA","SUBDIRECCIÓN DE METEOROLOGÍA","2021-12-21","CORREO ELECTRÓNICO",{"$f":"IFERROR(WORKDAY(C1787,P1787,DiasNOLaborables),\"\")","v":"2022-01-27"},{"$f":"+IF(C1787=\"\",\"\",IF(H1787=\"\",\"SIN RESPUESTA\",(IF(H1787<=J1787,\"A TIEMPO\",\"FUERA DE TIEMPO\"))))","v":"A TIEMPO"},{"$f":"IF(H1787=\"\",\"\",NETWORKDAYS(C1787+1,H1787,DiasNOLaborables))","v":8},{"$f":"IF(NETWORKDAYS(J1787+1,H1787,DiasNOLaborables)<=0,\"\",NETWORKDAYS(J1787+1,H1787,DiasNOLaborables))","v":""},null,null,{"$f":"IFERROR(VLOOKUP(E1787,$X$51:$Y$64,2),\"\")","v":35}]
[1777,20219050138022,"2021-12-09","MODULO CONTACTENOS","SOLICITUD DE INFORMACIÓN Y DOCUMENTOS","SOLICITUD DE INFORMACIÓN HIDROMETEOROLÓGICA","GRUPO DE SERVICIO AL CIUDADANO ","2021-12-11","CORREO ELECTRÓNICO",{"$f":"IFERROR(WORKDAY(C1788,P1788,DiasNOLaborables),\"\")","v":"2022-01-06"},{"$f":"+IF(C1788=\"\",\"\",IF(H1788=\"\",\"SIN RESPUESTA\",(IF(H1788<=J1788,\"A TIEMPO\",\"FUERA DE TIEMPO\"))))","v":"A TIEMPO"},{"$f":"IF(H1788=\"\",\"\",NETWORKDAYS(C1788+1,H1788,DiasNOLaborables))","v":1},{"$f":"IF(NETWORKDAYS(J1788+1,H1788,DiasNOLaborables)<=0,\"\",NETWORKDAYS(J1788+1,H1788,DiasNOLaborables))","v":""},null,null,{"$f":"IFERROR(VLOOKUP(E1788,$X$51:$Y$64,2),\"\")","v":20}]
[1778,20219050138032,"2021-12-09","CORREO ELECTRÓNICO","SOLICITUD DE INFORMACIÓN Y DOCUMENTOS","SOLICITUD DE INFORMACIÓN HIDROMETEOROLÓGICA","SUBDIRECCIÓN DE HIDROLOGÍA","2021-12-20","CORREO ELECTRÓNICO",{"$f":"IFERROR(WORKDAY(C1789,P1789,DiasNOLaborables),\"\")","v":"2022-01-06"},{"$f":"+IF(C1789=\"\",\"\",IF(H1789=\"\",\"SIN RESPUESTA\",(IF(H1789<=J1789,\"A TIEMPO\",\"FUERA DE TIEMPO\"))))","v":"A TIEMPO"},{"$f":"IF(H1789=\"\",\"\",NETWORKDAYS(C1789+1,H1789,DiasNOLaborables))","v":7},{"$f":"IF(NETWORKDAYS(J1789+1,H1789,DiasNOLaborables)<=0,\"\",NETWORKDAYS(J1789+1,H1789,DiasNOLaborables))","v":""},null,null,{"$f":"IFERROR(VLOOKUP(E1789,$X$51:$Y$64,2),\"\")","v":20}]
[1779,20219050138062,"2021-12-09","CORREO ELECTRÓNICO","SOLICITUD DE INFORMACIÓN Y DOCUMENTOS","BOSQUES","SUBDIRECCIÓN DE ECOSISTEMAS E INFORMACIÓN AMBIENTAL","2021-12-23","CORREO ELECTRÓNICO",{"$f":"IFERROR(WORKDAY(C1790,P1790,DiasNOLaborables),\"\")","v":"2022-01-06"},{"$f":"+IF(C1790=\"\",\"\",IF(H1790=\"\",\"SIN RESPUESTA\",(IF(H1790<=J1790,\"A TIEMPO\",\"FUERA DE TIEMPO\"))))","v":"A TIEMPO"},{"$f":"IF(H1790=\"\",\"\",NETWORKDAYS(C1790+1,H1790,DiasNOLaborables))","v":10},{"$f":"IF(NETWORKDAYS(J1790+1,H1790,DiasNOLaborables)<=0,\"\",NETWORKDAYS(J1790+1,H1790,DiasNOLaborables))","v":""},null,null,{"$f":"IFERROR(VLOOKUP(E1790,$X$51:$Y$64,2),\"\")","v":20}]
[1780,20219050138072,"2021-12-09","CORREO ELECTRÓNICO","SOLICITUD DE INFORMACIÓN Y DOCUMENTOS","ACREDITACIÓN DE LABORATORIOS","SUBDIRECCIÓN DE ESTUDIOS AMBIENTALES","2021-12-16","CORREO ELECTRÓNICO",{"$f":"IFERROR(WORKDAY(C1791,P1791,DiasNOLaborables),\"\")","v":"2022-01-06"},{"$f":"+IF(C1791=\"\",\"\",IF(H1791=\"\",\"SIN RESPUESTA\",(IF(H1791<=J1791,\"A TIEMPO\",\"FUERA DE TIEMPO\"))))","v":"A TIEMPO"},{"$f":"IF(H1791=\"\",\"\",NETWORKDAYS([5]Hoja1!C1789+1,[5]Hoja1!P1789,DiasNOLaborables))","v":1},{"$f":"IF(NETWORKDAYS(J1791+1,H1791,DiasNOLaborables)<=0,\"\",NETWORKDAYS(J1791+1,H1791,DiasNOLaborables))","v":""},null,null,{"$f":"IFERROR(VLOOKUP(E1791,$X$51:$Y$64,2),\"\")","v":20}]
[1781,20219050138082,"2021-12-09","CORREO ELECTRÓNICO","SOLICITUD DE INFORMACIÓN Y DOCUMENTOS","JURIDICO","OFICINA ASESORA JURÍDICA","2021-12-13","CORREO ELECTRÓNICO",{"$f":"IFERROR(WORKDAY(C1792,P1792,DiasNOLaborables),\"\")","v":"2022-01-06"},{"$f":"+IF(C1792=\"\",\"\",IF(H1792=\"\",\"SIN RESPUESTA\",(IF(H1792<=J1792,\"A TIEMPO\",\"FUERA DE TIEMPO\"))))","v":"A TIEMPO"},{"$f":"IF(H1792=\"\",\"\",NETWORKDAYS(C1792+1,H1792,DiasNOLaborables))","v":2},{"$f":"IF(NETWORKDAYS(J1792+1,H1792,DiasNOLaborables)<=0,\"\",NETWORKDAYS(J1792+1,H1792,DiasNOLaborables))","v":""},null,null,{"$f":"IFERROR(VLOOKUP(E1792,$X$51:$Y$64,2),\"\")","v":20}]
[1782,20219050138262,"2021-12-09","CORREO ELECTRÓNICO","SOLICITUD DE INFORMACIÓN Y DOCUMENTOS","ESTUDIO NACIONAL DEL AGUA","SUBDIRECCIÓN DE HIDROLOGÍA","2021-12-20","CORREO ELECTRÓNICO",{"$f":"IFERROR(WORKDAY(C1793,P1793,DiasNOLaborables),\"\")","v":"2022-01-06"},{"$f":"+IF(C1793=\"\",\"\",IF(H1793=\"\",\"SIN RESPUESTA\",(IF(H1793<=J1793,\"A TIEMPO\",\"FUERA DE TIEMPO\"))))","v":"A TIEMPO"},{"$f":"IF(H1793=\"\",\"\",NETWORKDAYS(C1793+1,H1793,DiasNOLaborables))","v":7},{"$f":"IF(NETWORKDAYS(J1793+1,H1793,DiasNOLaborables)<=0,\"\",NETWORKDAYS(J1793+1,H1793,DiasNOLaborables))","v":""},null,null,{"$f":"IFERROR(VLOOKUP(E1793,$X$51:$Y$64,2),\"\")","v":20}]
[1783,20219050138042,"2021-12-09","MODULO CONTACTENOS","SOLICITUD DE INFORMACIÓN Y DOCUMENTOS","SOLICITUD DE INFORMACIÓN HIDROMETEOROLÓGICA","GRUPO DE SERVICIO AL CIUDADANO ","2021-12-13","CORREO ELECTRÓNICO",{"$f":"IFERROR(WORKDAY(C1794,P1794,DiasNOLaborables),\"\")","v":"2022-01-06"},{"$f":"+IF(C1794=\"\",\"\",IF(H1794=\"\",\"SIN RESPUESTA\",(IF(H1794<=J1794,\"A TIEMPO\",\"FUERA DE TIEMPO\"))))","v":"A TIEMPO"},{"$f":"IF(H1794=\"\",\"\",NETWORKDAYS(C1794+1,H1794,DiasNOLaborables))","v":2},{"$f":"IF(NETWORKDAYS(J1794+1,H1794,DiasNOLaborables)<=0,\"\",NETWORKDAYS(J1794+1,H1794,DiasNOLaborables))","v":""},null,null,{"$f":"IFERROR(VLOOKUP(E1794,$X$51:$Y$64,2),\"\")","v":20}]
[1784,20219050138052,"2021-12-09","MODULO CONTACTENOS","SOLICITUD DE INFORMACIÓN Y DOCUMENTOS","SOLICITUD DE INFORMACIÓN HIDROMETEOROLÓGICA","GRUPO DE SERVICIO AL CIUDADANO ","2021-12-13","CORREO ELECTRÓNICO",{"$f":"IFERROR(WORKDAY(C1795,P1795,DiasNOLaborables),\"\")","v":"2022-01-06"},{"$f":"+IF(C1795=\"\",\"\",IF(H1795=\"\",\"SIN RESPUESTA\",(IF(H1795<=J1795,\"A TIEMPO\",\"FUERA DE TIEMPO\"))))","v":"A TIEMPO"},{"$f":"IF(H1795=\"\",\"\",NETWORKDAYS(C1795+1,H1795,DiasNOLaborables))","v":2},{"$f":"IF(NETWORKDAYS(J1795+1,H1795,DiasNOLaborables)<=0,\"\",NETWORKDAYS(J1795+1,H1795,DiasNOLaborables))","v":""},null,null,{"$f":"IFERROR(VLOOKUP(E1795,$X$51:$Y$64,2),\"\")","v":20}]
[1785,20219050138092,"2021-12-09","MODULO CONTACTENOS","SOLICITUD DE INFORMACIÓN Y DOCUMENTOS","SOLICITUD DE INFORMACIÓN HIDROMETEOROLÓGICA","GRUPO DE SERVICIO AL CIUDADANO ","2021-12-13","CORREO ELECTRÓNICO",{"$f":"IFERROR(WORKDAY(C1796,P1796,DiasNOLaborables),\"\")","v":"2022-01-06"},{"$f":"+IF(C1796=\"\",\"\",IF(H1796=\"\",\"SIN RESPUESTA\",(IF(H1796<=J1796,\"A TIEMPO\",\"FUERA DE TIEMPO\"))))","v":"A TIEMPO"},{"$f":"IF(H1796=\"\",\"\",NETWORKDAYS(C1796+1,H1796,DiasNOLaborables))","v":2},{"$f":"IF(NETWORKDAYS(J1796+1,H1796,DiasNOLaborables)<=0,\"\",NETWORKDAYS(J1796+1,H1796,DiasNOLaborables))","v":""},null,null,{"$f":"IFERROR(VLOOKUP(E1796,$X$51:$Y$64,2),\"\")","v":20}]
[1786,20219050138102,"2021-12-09","MODULO CONTACTENOS","SOLICITUD DE INFORMACIÓN Y DOCUMENTOS","SOLICITUD DE INFORMACIÓN HIDROMETEOROLÓGICA","GRUPO DE SERVICIO AL CIUDADANO ","2021-12-14","CORREO ELECTRÓNICO",{"$f":"IFERROR(WORKDAY(C1797,P1797,DiasNOLaborables),\"\")","v":"2022-01-06"},{"$f":"+IF(C1797=\"\",\"\",IF(H1797=\"\",\"SIN RESPUESTA\",(IF(H1797<=J1797,\"A TIEMPO\",\"FUERA DE TIEMPO\"))))","v":"A TIEMPO"},{"$f":"IF(H1797=\"\",\"\",NETWORKDAYS(C1797+1,H1797,DiasNOLaborables))","v":3},{"$f":"IF(NETWORKDAYS(J1797+1,H1797,DiasNOLaborables)<=0,\"\",NETWORKDAYS(J1797+1,H1797,DiasNOLaborables))","v":""},null,null,{"$f":"IFERROR(VLOOKUP(E1797,$X$51:$Y$64,2),\"\")","v":20}]
[1787,20219050138232,"2021-12-09","MODULO CONTACTENOS","SOLICITUD DE INFORMACIÓN Y DOCUMENTOS","SOLICITUD DE INFORMACIÓN HIDROMETEOROLÓGICA","GRUPO DE SERVICIO AL CIUDADANO ","2021-12-14","CORREO ELECTRÓNICO",{"$f":"IFERROR(WORKDAY(C1798,P1798,DiasNOLaborables),\"\")","v":"2022-01-06"},{"$f":"+IF(C1798=\"\",\"\",IF(H1798=\"\",\"SIN RESPUESTA\",(IF(H1798<=J1798,\"A TIEMPO\",\"FUERA DE TIEMPO\"))))","v":"A TIEMPO"},{"$f":"IF(H1798=\"\",\"\",NETWORKDAYS(C1798+1,H1798,DiasNOLaborables))","v":3},{"$f":"IF(NETWORKDAYS(J1798+1,H1798,DiasNOLaborables)<=0,\"\",NETWORKDAYS(J1798+1,H1798,DiasNOLaborables))","v":""},null,null,{"$f":"IFERROR(VLOOKUP(E1798,$X$51:$Y$64,2),\"\")","v":20}]
[1788,20219050138252,"2021-12-09","MODULO CONTACTENOS","SOLICITUD DE INFORMACIÓN Y DOCUMENTOS","SOLICITUD DE INFORMACIÓN HIDROMETEOROLÓGICA","GRUPO DE SERVICIO AL CIUDADANO ","2021-12-14","CORREO ELECTRÓNICO",{"$f":"IFERROR(WORKDAY(C1799,P1799,DiasNOLaborables),\"\")","v":"2022-01-06"},{"$f":"+IF(C1799=\"\",\"\",IF(H1799=\"\",\"SIN RESPUESTA\",(IF(H1799<=J1799,\"A TIEMPO\",\"FUERA DE TIEMPO\"))))","v":"A TIEMPO"},{"$f":"IF(H1799=\"\",\"\",NETWORKDAYS(C1799+1,H1799,DiasNOLaborables))","v":3},{"$f":"IF(NETWORKDAYS(J1799+1,H1799,DiasNOLaborables)<=0,\"\",NETWORKDAYS(J1799+1,H1799,DiasNOLaborables))","v":""},null,null,{"$f":"IFERROR(VLOOKUP(E1799,$X$51:$Y$64,2),\"\")","v":20}]
[1789,20219050138282,"2021-12-09","MODULO CONTACTENOS","SOLICITUD DE INFORMACIÓN Y DOCUMENTOS","SOLICITUD DE INFORMACIÓN HIDROMETEOROLÓGICA","GRUPO DE SERVICIO AL CIUDADANO ","2021-12-14","CORREO ELECTRÓNICO",{"$f":"IFERROR(WORKDAY(C1800,P1800,DiasNOLaborables),\"\")","v":"2022-01-06"},{"$f":"+IF(C1800=\"\",\"\",IF(H1800=\"\",\"SIN RESPUESTA\",(IF(H1800<=J1800,\"A TIEMPO\",\"FUERA DE TIEMPO\"))))","v":"A TIEMPO"},{"$f":"IF(H1800=\"\",\"\",NETWORKDAYS(C1800+1,H1800,DiasNOLaborables))","v":3},{"$f":"IF(NETWORKDAYS(J1800+1,H1800,DiasNOLaborables)<=0,\"\",NETWORKDAYS(J1800+1,H1800,DiasNOLaborables))","v":""},null,null,{"$f":"IFERROR(VLOOKUP(E1800,$X$51:$Y$64,2),\"\")","v":20}]
[1790,20219050138292,"2021-12-09","MODULO CONTACTENOS","SOLICITUD DE INFORMACIÓN Y DOCUMENTOS","SOLICITUD DE INFORMACIÓN HIDROMETEOROLÓGICA","GRUPO DE SERVICIO AL CIUDADANO ","2021-12-15","CORREO ELECTRÓNICO",{"$f":"IFERROR(WORKDAY(C1801,P1801,DiasNOLaborables),\"\")","v":"2022-01-06"},{"$f":"+IF(C1801=\"\",\"\",IF(H1801=\"\",\"SIN RESPUESTA\",(IF(H1801<=J1801,\"A TIEMPO\",\"FUERA DE TIEMPO\"))))","v":"A TIEMPO"},{"$f":"IF(H1801=\"\",\"\",NETWORKDAYS(C1801+1,H1801,DiasNOLaborables))","v":4},{"$f":"IF(NETWORKDAYS(J1801+1,H1801,DiasNOLaborables)<=0,\"\",NETWORKDAYS(J1801+1,H1801,DiasNOLaborables))","v":""},null,null,{"$f":"IFERROR(VLOOKUP(E1801,$X$51:$Y$64,2),\"\")","v":20}]
[1791,20219050138302,"2021-12-09","MODULO CONTACTENOS","SOLICITUD DE INFORMACIÓN Y DOCUMENTOS","SOLICITUD DE INFORMACIÓN HIDROMETEOROLÓGICA","GRUPO DE SERVICIO AL CIUDADANO ","2021-12-15","CORREO ELECTRÓNICO",{"$f":"IFERROR(WORKDAY(C1802,P1802,DiasNOLaborables),\"\")","v":"2022-01-06"},{"$f":"+IF(C1802=\"\",\"\",IF(H1802=\"\",\"SIN RESPUESTA\",(IF(H1802<=J1802,\"A TIEMPO\",\"FUERA DE TIEMPO\"))))","v":"A TIEMPO"},{"$f":"IF(H1802=\"\",\"\",NETWORKDAYS(C1802+1,H1802,DiasNOLaborables))","v":4},{"$f":"IF(NETWORKDAYS(J1802+1,H1802,DiasNOLaborables)<=0,\"\",NETWORKDAYS(J1802+1,H1802,DiasNOLaborables))","v":""},null,null,{"$f":"IFERROR(VLOOKUP(E1802,$X$51:$Y$64,2),\"\")","v":20}]
[1792,20219050138342,"2021-12-09","MODULO CONTACTENOS","SOLICITUD DE INFORMACIÓN Y DOCUMENTOS","SOLICITUD DE INFORMACIÓN HIDROMETEOROLÓGICA","GRUPO DE SERVICIO AL CIUDADANO ","2021-12-15","CORREO ELECTRÓNICO",{"$f":"IFERROR(WORKDAY(C1803,P1803,DiasNOLaborables),\"\")","v":"2022-01-06"},{"$f":"+IF(C1803=\"\",\"\",IF(H1803=\"\",\"SIN RESPUESTA\",(IF(H1803<=J1803,\"A TIEMPO\",\"FUERA DE TIEMPO\"))))","v":"A TIEMPO"},{"$f":"IF(H1803=\"\",\"\",NETWORKDAYS(C1803+1,H1803,DiasNOLaborables))","v":4},{"$f":"IF(NETWORKDAYS(J1803+1,H1803,DiasNOLaborables)<=0,\"\",NETWORKDAYS(J1803+1,H1803,DiasNOLaborables))","v":""},null,null,{"$f":"IFERROR(VLOOKUP(E1803,$X$51:$Y$64,2),\"\")","v":20}]
[1793,20219050138352,"2021-12-09","MODULO CONTACTENOS","SOLICITUD DE INFORMACIÓN Y DOCUMENTOS","SOLICITUD DE INFORMACIÓN HIDROMETEOROLÓGICA","GRUPO DE SERVICIO AL CIUDADANO ","2021-12-15","CORREO ELECTRÓNICO",{"$f":"IFERROR(WORKDAY(C1804,P1804,DiasNOLaborables),\"\")","v":"2022-01-06"},{"$f":"+IF(C1804=\"\",\"\",IF(H1804=\"\",\"SIN RESPUESTA\",(IF(H1804<=J1804,\"A TIEMPO\",\"FUERA DE TIEMPO\"))))","v":"A TIEMPO"},{"$f":"IF(H1804=\"\",\"\",NETWORKDAYS(C1804+1,H1804,DiasNOLaborables))","v":4},{"$f":"IF(NETWORKDAYS(J1804+1,H1804,DiasNOLaborables)<=0,\"\",NETWORKDAYS(J1804+1,H1804,DiasNOLaborables))","v":""},null,null,{"$f":"IFERROR(VLOOKUP(E1804,$X$51:$Y$64,2),\"\")","v":20}]
[1794,20219050138272,"2021-12-09","CORREO ELECTRÓNICO","SOLICITUD DE INFORMACIÓN Y DOCUMENTOS","INFORMES AMBIENTALES","SUBDIRECCIÓN DE METEOROLOGÍA","2021-12-28","CORREO ELECTRÓNICO",{"$f":"IFERROR(WORKDAY(C1805,P1805,DiasNOLaborables),\"\")","v":"2022-01-06"},{"$f":"+IF(C1805=\"\",\"\",IF(H1805=\"\",\"SIN RESPUESTA\",(IF(H1805<=J1805,\"A TIEMPO\",\"FUERA DE TIEMPO\"))))","v":"A TIEMPO"},{"$f":"IF(H1805=\"\",\"\",NETWORKDAYS(C1805+1,H1805,DiasNOLaborables))","v":13},{"$f":"IF(NETWORKDAYS(J1805+1,H1805,DiasNOLaborables)<=0,\"\",NETWORKDAYS(J1805+1,H1805,DiasNOLaborables))","v":""},null,null,{"$f":"IFERROR(VLOOKUP(E1805,$X$51:$Y$64,2),\"\")","v":20}]
[{"$f":"IF(B1806<>\"\",A1805+1,\"\")","v":1795},20219050138312,"2021-12-09","CORREO ELECTRÓNICO","SOLICITUD DE INFORMACIÓN Y DOCUMENTOS","BOSQUES","SUBDIRECCIÓN DE ECOSISTEMAS E INFORMACIÓN AMBIENTAL","2021-12-28","CORREO ELECTRÓNICO",{"$f":"IFERROR(WORKDAY(C1806,P1806,DiasNOLaborables),\"\")","v":"2022-01-06"},{"$f":"+IF(C1806=\"\",\"\",IF(H1806=\"\",\"SIN RESPUESTA\",(IF(H1806<=J1806,\"A TIEMPO\",\"FUERA DE TIEMPO\"))))","v":"A TIEMPO"},{"$f":"IF(H1806=\"\",\"\",NETWORKDAYS(C1806+1,H1806,DiasNOLaborables))","v":13},{"$f":"IF(NETWORKDAYS(J1806+1,H1806,DiasNOLaborables)<=0,\"\",NETWORKDAYS(J1806+1,H1806,DiasNOLaborables))","v":""},null,null,{"$f":"IFERROR(VLOOKUP(E1806,$X$51:$Y$64,2),\"\")","v":20}]
[1796,20219050138322,"2021-12-09","CORREO ELECTRÓNICO","SOLICITUD DE INFORMACIÓN Y DOCUMENTOS","BOSQUES","SUBDIRECCIÓN DE ECOSISTEMAS E INFORMACIÓN AMBIENTAL","2021-12-22","CORREO ELECTRÓNICO",{"$f":"IFERROR(WORKDAY(C1807,P1807,DiasNOLaborables),\"\")","v":"2022-01-06"},{"$f":"+IF(C1807=\"\",\"\",IF(H1807=\"\",\"SIN RESPUESTA\",(IF(H1807<=J1807,\"A TIEMPO\",\"FUERA DE TIEMPO\"))))","v":"A TIEMPO"},{"$f":"IF(H1807=\"\",\"\",NETWORKDAYS(C1807+1,H1807,DiasNOLaborables))","v":9},{"$f":"IF(NETWORKDAYS(J1807+1,H1807,DiasNOLaborables)<=0,\"\",NETWORKDAYS(J1807+1,H1807,DiasNOLaborables))","v":""},null,null,{"$f":"IFERROR(VLOOKUP(E1807,$X$51:$Y$64,2),\"\")","v":20}]
[1797,20219050138332,"2021-12-09","CORREO ELECTRÓNICO","PETICIÓN","INFORMES AMBIENTALES","SUBDIRECCIÓN DE METEOROLOGÍA","2021-12-21","CORREO ELECTRÓNICO",{"$f":"IFERROR(WORKDAY(C1808,P1808,DiasNOLaborables),\"\")","v":"2022-01-20"},{"$f":"+IF(C1808=\"\",\"\",IF(H1808=\"\",\"SIN RESPUESTA\",(IF(H1808<=J1808,\"A TIEMPO\",\"FUERA DE TIEMPO\"))))","v":"A TIEMPO"},{"$f":"IF(H1808=\"\",\"\",NETWORKDAYS(C1808+1,H1808,DiasNOLaborables))","v":8},{"$f":"IF(NETWORKDAYS(J1808+1,H1808,DiasNOLaborables)<=0,\"\",NETWORKDAYS(J1808+1,H1808,DiasNOLaborables))","v":""},null,null,{"$f":"IFERROR(VLOOKUP(E1808,$X$51:$Y$64,2),\"\")","v":30}]
[1798,20219910068262,"2021-12-09","CORREO CERTIFICADO","PETICIÓN","ADMINISTRATIVA","GRUPO DE ADMINISTRACIÓN Y DESARROLLO DEL TALENTO HUMANO","2022-01-12","CORREO ELECTRÓNICO",{"$f":"IFERROR(WORKDAY(C1809,P1809,DiasNOLaborables),\"\")","v":"2022-01-20"},{"$f":"+IF(C1809=\"\",\"\",IF(H1809=\"\",\"SIN RESPUESTA\",(IF(H1809<=J1809,\"A TIEMPO\",\"FUERA DE TIEMPO\"))))","v":"A TIEMPO"},{"$f":"IF(H1809=\"\",\"\",NETWORKDAYS(C1809+1,H1809,DiasNOLaborables))","v":24},{"$f":"IF(NETWORKDAYS(J1809+1,H1809,DiasNOLaborables)<=0,\"\",NETWORKDAYS(J1809+1,H1809,DiasNOLaborables))","v":""},null,null,{"$f":"IFERROR(VLOOKUP(E1809,$X$51:$Y$64,2),\"\")","v":30}]
[1799,20219910068312,"2021-12-09","CORREO ELECTRÓNICO","SOLICITUD DE INFORMACIÓN Y DOCUMENTOS","BOSQUES","SUBDIRECCIÓN DE ECOSISTEMAS E INFORMACIÓN AMBIENTAL","2021-12-22","CORREO ELECTRÓNICO",{"$f":"IFERROR(WORKDAY(C1810,P1810,DiasNOLaborables),\"\")","v":"2022-01-06"},{"$f":"+IF(C1810=\"\",\"\",IF(H1810=\"\",\"SIN RESPUESTA\",(IF(H1810<=J1810,\"A TIEMPO\",\"FUERA DE TIEMPO\"))))","v":"A TIEMPO"},{"$f":"IF(H1810=\"\",\"\",NETWORKDAYS(C1810+1,H1810,DiasNOLaborables))","v":9},{"$f":"IF(NETWORKDAYS(J1810+1,H1810,DiasNOLaborables)<=0,\"\",NETWORKDAYS(J1810+1,H1810,DiasNOLaborables))","v":""},null,null,{"$f":"IFERROR(VLOOKUP(E1810,$X$51:$Y$64,2),\"\")","v":20}]
[1800,20219910068452,"2021-12-09","CORREO ELECTRÓNICO","PETICIÓN","ADMINISTRATIVA","GRUPO DE ADMINISTRACIÓN Y DESARROLLO DEL TALENTO HUMANO","2021-12-16","CORREO ELECTRÓNICO",{"$f":"IFERROR(WORKDAY(C1811,P1811,DiasNOLaborables),\"\")","v":"2022-01-20"},{"$f":"+IF(C1811=\"\",\"\",IF(H1811=\"\",\"SIN RESPUESTA\",(IF(H1811<=J1811,\"A TIEMPO\",\"FUERA DE TIEMPO\"))))","v":"A TIEMPO"},{"$f":"IF(H1811=\"\",\"\",NETWORKDAYS(C1811+1,H1811,DiasNOLaborables))","v":5},{"$f":"IF(NETWORKDAYS(J1811+1,H1811,DiasNOLaborables)<=0,\"\",NETWORKDAYS(J1811+1,H1811,DiasNOLaborables))","v":""},null,null,{"$f":"IFERROR(VLOOKUP(E1811,$X$51:$Y$64,2),\"\")","v":30}]
[1801,20219910068462,"2021-12-09","CORREO ELECTRÓNICO","SOLICITUD DE INFORMACIÓN Y DOCUMENTOS","SIRH","SUBDIRECCIÓN DE HIDROLOGÍA","2022-01-04","CORREO ELECTRÓNICO",{"$f":"IFERROR(WORKDAY(C1812,P1812,DiasNOLaborables),\"\")","v":"2022-01-06"},{"$f":"+IF(C1812=\"\",\"\",IF(H1812=\"\",\"SIN RESPUESTA\",(IF(H1812<=J1812,\"A TIEMPO\",\"FUERA DE TIEMPO\"))))","v":"A TIEMPO"},{"$f":"IF(H1812=\"\",\"\",NETWORKDAYS(C1812+1,H1812,DiasNOLaborables))","v":18},{"$f":"IF(NETWORKDAYS(J1812+1,H1812,DiasNOLaborables)<=0,\"\",NETWORKDAYS(J1812+1,H1812,DiasNOLaborables))","v":""},null,null,{"$f":"IFERROR(VLOOKUP(E1812,$X$51:$Y$64,2),\"\")","v":20}]
[1802,20219910068622,"2021-12-10","CORREO ELECTRÓNICO","PETICIÓN","CERTIFICACIONES DE TIEMPO Y CLIMA","SUBDIRECCIÓN DE METEOROLOGÍA","2021-12-16","CORREO ELECTRÓNICO",{"$f":"IFERROR(WORKDAY(C1813,P1813,DiasNOLaborables),\"\")","v":"2022-01-21"},{"$f":"+IF(C1813=\"\",\"\",IF(H1813=\"\",\"SIN RESPUESTA\",(IF(H1813<=J1813,\"A TIEMPO\",\"FUERA DE TIEMPO\"))))","v":"A TIEMPO"},{"$f":"IF(H1813=\"\",\"\",NETWORKDAYS(C1813+1,H1813,DiasNOLaborables))","v":4},{"$f":"IF(NETWORKDAYS(J1813+1,H1813,DiasNOLaborables)<=0,\"\",NETWORKDAYS(J1813+1,H1813,DiasNOLaborables))","v":""},null,null,{"$f":"IFERROR(VLOOKUP(E1813,$X$51:$Y$64,2),\"\")","v":30}]
[1803,20219050138392,"2021-12-10","CORREO ELECTRÓNICO","SOLICITUD DE INFORMACIÓN Y DOCUMENTOS","INFORMES AMBIENTALES","SUBDIRECCIÓN DE METEOROLOGÍA","2021-12-24","CORREO ELECTRÓNICO",{"$f":"IFERROR(WORKDAY(C1814,P1814,DiasNOLaborables),\"\")","v":"2022-01-07"},{"$f":"+IF(C1814=\"\",\"\",IF(H1814=\"\",\"SIN RESPUESTA\",(IF(H1814<=J1814,\"A TIEMPO\",\"FUERA DE TIEMPO\"))))","v":"A TIEMPO"},{"$f":"IF(H1814=\"\",\"\",NETWORKDAYS(C1814+1,H1814,DiasNOLaborables))","v":10},{"$f":"IF(NETWORKDAYS(J1814+1,H1814,DiasNOLaborables)<=0,\"\",NETWORKDAYS(J1814+1,H1814,DiasNOLaborables))","v":""},null,null,{"$f":"IFERROR(VLOOKUP(E1814,$X$51:$Y$64,2),\"\")","v":20}]
[1804,20219050138552,"2021-12-10","CORREO ELECTRÓNICO","SOLICITUD DE INFORMACIÓN Y DOCUMENTOS","SOLICITUD DE INFORMACIÓN HIDROMETEOROLÓGICA","GRUPO DE SERVICIO AL CIUDADANO ","2021-12-17","CORREO ELECTRÓNICO",{"$f":"IFERROR(WORKDAY(C1815,P1815,DiasNOLaborables),\"\")","v":"2022-01-07"},{"$f":"+IF(C1815=\"\",\"\",IF(H1815=\"\",\"SIN RESPUESTA\",(IF(H1815<=J1815,\"A TIEMPO\",\"FUERA DE TIEMPO\"))))","v":"A TIEMPO"},{"$f":"IF(H1815=\"\",\"\",NETWORKDAYS(C1815+1,H1815,DiasNOLaborables))","v":5},{"$f":"IF(NETWORKDAYS(J1815+1,H1815,DiasNOLaborables)<=0,\"\",NETWORKDAYS(J1815+1,H1815,DiasNOLaborables))","v":""},null,null,{"$f":"IFERROR(VLOOKUP(E1815,$X$51:$Y$64,2),\"\")","v":20}]
[1805,20219050138382,"2021-12-10","CORREO ELECTRÓNICO","SOLICITUD DE INFORMACIÓN Y DOCUMENTOS","SOLICITUD DE INFORMACIÓN HIDROMETEOROLÓGICA","GRUPO DE SERVICIO AL CIUDADANO ","2021-12-13","CORREO ELECTRÓNICO",{"$f":"IFERROR(WORKDAY(C1816,P1816,DiasNOLaborables),\"\")","v":"2022-01-07"},{"$f":"+IF(C1816=\"\",\"\",IF(H1816=\"\",\"SIN RESPUESTA\",(IF(H1816<=J1816,\"A TIEMPO\",\"FUERA DE TIEMPO\"))))","v":"A TIEMPO"},{"$f":"IF(H1816=\"\",\"\",NETWORKDAYS(C1816+1,H1816,DiasNOLaborables))","v":1},{"$f":"IF(NETWORKDAYS(J1816+1,H1816,DiasNOLaborables)<=0,\"\",NETWORKDAYS(J1816+1,H1816,DiasNOLaborables))","v":""},null,null,{"$f":"IFERROR(VLOOKUP(E1816,$X$51:$Y$64,2),\"\")","v":20}]
[1806,20219050138402,"2021-12-10","MODULO CONTACTENOS","SOLICITUD DE INFORMACIÓN Y DOCUMENTOS","SOLICITUD DE INFORMACIÓN HIDROMETEOROLÓGICA","GRUPO DE SERVICIO AL CIUDADANO ","2021-12-14","CORREO ELECTRÓNICO",{"$f":"IFERROR(WORKDAY(C1817,P1817,DiasNOLaborables),\"\")","v":"2022-01-07"},{"$f":"+IF(C1817=\"\",\"\",IF(H1817=\"\",\"SIN RESPUESTA\",(IF(H1817<=J1817,\"A TIEMPO\",\"FUERA DE TIEMPO\"))))","v":"A TIEMPO"},{"$f":"IF(H1817=\"\",\"\",NETWORKDAYS(C1817+1,H1817,DiasNOLaborables))","v":2},{"$f":"IF(NETWORKDAYS(J1817+1,H1817,DiasNOLaborables)<=0,\"\",NETWORKDAYS(J1817+1,H1817,DiasNOLaborables))","v":""},null,null,{"$f":"IFERROR(VLOOKUP(E1817,$X$51:$Y$64,2),\"\")","v":20}]
[1807,20219050138412,"2021-12-10","MODULO CONTACTENOS","SOLICITUD DE INFORMACIÓN Y DOCUMENTOS","SOLICITUD DE INFORMACIÓN HIDROMETEOROLÓGICA","GRUPO DE SERVICIO AL CIUDADANO ","2021-12-14","CORREO ELECTRÓNICO",{"$f":"IFERROR(WORKDAY(C1818,P1818,DiasNOLaborables),\"\")","v":"2022-01-07"},{"$f":"+IF(C1818=\"\",\"\",IF(H1818=\"\",\"SIN RESPUESTA\",(IF(H1818<=J1818,\"A TIEMPO\",\"FUERA DE TIEMPO\"))))","v":"A TIEMPO"},{"$f":"IF(H1818=\"\",\"\",NETWORKDAYS(C1818+1,H1818,DiasNOLaborables))","v":2},{"$f":"IF(NETWORKDAYS(J1818+1,H1818,DiasNOLaborables)<=0,\"\",NETWORKDAYS(J1818+1,H1818,DiasNOLaborables))","v":""},null,null,{"$f":"IFERROR(VLOOKUP(E1818,$X$51:$Y$64,2),\"\")","v":20}]
[1808,20219910068742,"2021-12-10","CORREO ELECTRÓNICO","SOLICITUD DE INFORMACIÓN Y DOCUMENTOS","SOLICITUD DE INFORMACIÓN HIDROMETEOROLÓGICA","GRUPO DE SERVICIO AL CIUDADANO ","2021-12-14","CORREO ELECTRÓNICO",{"$f":"IFERROR(WORKDAY(C1819,P1819,DiasNOLaborables),\"\")","v":"2022-01-07"},{"$f":"+IF(C1819=\"\",\"\",IF(H1819=\"\",\"SIN RESPUESTA\",(IF(H1819<=J1819,\"A TIEMPO\",\"FUERA DE TIEMPO\"))))","v":"A TIEMPO"},{"$f":"IF(H1819=\"\",\"\",NETWORKDAYS(C1819+1,H1819,DiasNOLaborables))","v":2},{"$f":"IF(NETWORKDAYS(J1819+1,H1819,DiasNOLaborables)<=0,\"\",NETWORKDAYS(J1819+1,H1819,DiasNOLaborables))","v":""},null,null,{"$f":"IFERROR(VLOOKUP(E1819,$X$51:$Y$64,2),\"\")","v":20}]
[1809,20219910068762,"2021-12-10","CORREO ELECTRÓNICO","SOLICITUD DE INFORMACIÓN Y DOCUMENTOS","SOLICITUD DE INFORMACIÓN HIDROMETEOROLÓGICA","GRUPO DE SERVICIO AL CIUDADANO ","2021-12-14","CORREO ELECTRÓNICO",{"$f":"IFERROR(WORKDAY(C1820,P1820,DiasNOLaborables),\"\")","v":"2022-01-07"},{"$f":"+IF(C1820=\"\",\"\",IF(H1820=\"\",\"SIN RESPUESTA\",(IF(H1820<=J1820,\"A TIEMPO\",\"FUERA DE TIEMPO\"))))","v":"A TIEMPO"},{"$f":"IF(H1820=\"\",\"\",NETWORKDAYS(C1820+1,H1820,DiasNOLaborables))","v":2},{"$f":"IF(NETWORKDAYS(J1820+1,H1820,DiasNOLaborables)<=0,\"\",NETWORKDAYS(J1820+1,H1820,DiasNOLaborables))","v":""},null,null,{"$f":"IFERROR(VLOOKUP(E1820,$X$51:$Y$64,2),\"\")","v":20}]
[1810,20219050138532,"2021-12-10","CORREO ELECTRÓNICO","SOLICITUD DE INFORMACIÓN Y DOCUMENTOS","SOLICITUD DE INFORMACIÓN HIDROMETEOROLÓGICA","SUBDIRECCIÓN DE ECOSISTEMAS E INFORMACIÓN AMBIENTAL","2021-12-15","CORREO ELECTRÓNICO",{"$f":"IFERROR(WORKDAY(C1821,P1821,DiasNOLaborables),\"\")","v":"2022-01-07"},{"$f":"+IF(C1821=\"\",\"\",IF(H1821=\"\",\"SIN RESPUESTA\",(IF(H1821<=J1821,\"A TIEMPO\",\"FUERA DE TIEMPO\"))))","v":"A TIEMPO"},{"$f":"IF(H1821=\"\",\"\",NETWORKDAYS(C1821+1,H1821,DiasNOLaborables))","v":3},{"$f":"IF(NETWORKDAYS(J1821+1,H1821,DiasNOLaborables)<=0,\"\",NETWORKDAYS(J1821+1,H1821,DiasNOLaborables))","v":""},null,null,{"$f":"IFERROR(VLOOKUP(E1821,$X$51:$Y$64,2),\"\")","v":20}]
[1811,20219050138442,"2021-12-10","CORREO ELECTRÓNICO","SOLICITUD DE INFORMACIÓN Y DOCUMENTOS","INFORMES AMBIENTALES","SUBDIRECCIÓN DE ESTUDIOS AMBIENTALES","2021-12-22","CORREO ELECTRÓNICO",{"$f":"IFERROR(WORKDAY(C1822,P1822,DiasNOLaborables),\"\")","v":"2022-01-07"},{"$f":"+IF(C1822=\"\",\"\",IF(H1822=\"\",\"SIN RESPUESTA\",(IF(H1822<=J1822,\"A TIEMPO\",\"FUERA DE TIEMPO\"))))","v":"A TIEMPO"},{"$f":"IF(H1822=\"\",\"\",NETWORKDAYS(C1822+1,H1822,DiasNOLaborables))","v":8},{"$f":"IF(NETWORKDAYS(J1822+1,H1822,DiasNOLaborables)<=0,\"\",NETWORKDAYS(J1822+1,H1822,DiasNOLaborables))","v":""},null,null,{"$f":"IFERROR(VLOOKUP(E1822,$X$51:$Y$64,2),\"\")","v":20}]
[1812,20219050138452,"2021-12-10","CORREO ELECTRÓNICO","SOLICITUD DE INFORMACIÓN Y DOCUMENTOS","REGISTROS AMBIENTALES","SUBDIRECCIÓN DE ESTUDIOS AMBIENTALES","2021-12-10","CORREO ELECTRÓNICO",{"$f":"IFERROR(WORKDAY(C1823,P1823,DiasNOLaborables),\"\")","v":"2022-01-07"},{"$f":"+IF(C1823=\"\",\"\",IF(H1823=\"\",\"SIN RESPUESTA\",(IF(H1823<=J1823,\"A TIEMPO\",\"FUERA DE TIEMPO\"))))","v":"A TIEMPO"},{"$f":"IF(H1823=\"\",\"\",NETWORKDAYS(C1823+1,H1823,DiasNOLaborables))","v":-1},{"$f":"IF(NETWORKDAYS(J1823+1,H1823,DiasNOLaborables)<=0,\"\",NETWORKDAYS(J1823+1,H1823,DiasNOLaborables))","v":""},null,null,{"$f":"IFERROR(VLOOKUP(E1823,$X$51:$Y$64,2),\"\")","v":20}]
[1813,20219050138462,"2021-12-10","CORREO ELECTRÓNICO","SOLICITUD DE INFORMACIÓN Y DOCUMENTOS","REGISTROS AMBIENTALES","SUBDIRECCIÓN DE ESTUDIOS AMBIENTALES","2021-12-10","CORREO ELECTRÓNICO",{"$f":"IFERROR(WORKDAY(C1824,P1824,DiasNOLaborables),\"\")","v":"2022-01-07"},{"$f":"+IF(C1824=\"\",\"\",IF(H1824=\"\",\"SIN RESPUESTA\",(IF(H1824<=J1824,\"A TIEMPO\",\"FUERA DE TIEMPO\"))))","v":"A TIEMPO"},{"$f":"IF(H1824=\"\",\"\",NETWORKDAYS(C1824+1,H1824,DiasNOLaborables))","v":-1},{"$f":"IF(NETWORKDAYS(J1824+1,H1824,DiasNOLaborables)<=0,\"\",NETWORKDAYS(J1824+1,H1824,DiasNOLaborables))","v":""},null,null,{"$f":"IFERROR(VLOOKUP(E1824,$X$51:$Y$64,2),\"\")","v":20}]
[1814,20219050138472,"2021-12-10","CORREO ELECTRÓNICO","CERTIFICACIONES DE TIEMPO, CLIMA Y EVENTOS HIDROLÓGICOS","CERTIFICACIONES DE TIEMPO Y CLIMA","SUBDIRECCIÓN DE METEOROLOGÍA","2021-12-21","CORREO ELECTRÓNICO",{"$f":"IFERROR(WORKDAY(C1825,P1825,DiasNOLaborables),\"\")","v":"2022-01-28"},{"$f":"+IF(C1825=\"\",\"\",IF(H1825=\"\",\"SIN RESPUESTA\",(IF(H1825<=J1825,\"A TIEMPO\",\"FUERA DE TIEMPO\"))))","v":"A TIEMPO"},{"$f":"IF(H1825=\"\",\"\",NETWORKDAYS(C1825+1,H1825,DiasNOLaborables))","v":7},{"$f":"IF(NETWORKDAYS(J1825+1,H1825,DiasNOLaborables)<=0,\"\",NETWORKDAYS(J1825+1,H1825,DiasNOLaborables))","v":""},null,null,{"$f":"IFERROR(VLOOKUP(E1825,$X$51:$Y$64,2),\"\")","v":35}]
[1815,20219050138522,"2021-12-10","CORREO ELECTRÓNICO","SOLICITUD DE INFORMACIÓN Y DOCUMENTOS","BOSQUES","SUBDIRECCIÓN DE ECOSISTEMAS E INFORMACIÓN AMBIENTAL","2021-12-23","CORREO ELECTRÓNICO",{"$f":"IFERROR(WORKDAY(C1826,P1826,DiasNOLaborables),\"\")","v":"2022-01-07"},{"$f":"+IF(C1826=\"\",\"\",IF(H1826=\"\",\"SIN RESPUESTA\",(IF(H1826<=J1826,\"A TIEMPO\",\"FUERA DE TIEMPO\"))))","v":"A TIEMPO"},{"$f":"IF(H1826=\"\",\"\",NETWORKDAYS(C1826+1,H1826,DiasNOLaborables))","v":9},{"$f":"IF(NETWORKDAYS(J1826+1,H1826,DiasNOLaborables)<=0,\"\",NETWORKDAYS(J1826+1,H1826,DiasNOLaborables))","v":""},null,null,{"$f":"IFERROR(VLOOKUP(E1826,$X$51:$Y$64,2),\"\")","v":20}]
[1816,20219050138582,"2021-12-10","CORREO ELECTRÓNICO","SOLICITUD DE INFORMACIÓN Y DOCUMENTOS","BOSQUES","SUBDIRECCIÓN DE ECOSISTEMAS E INFORMACIÓN AMBIENTAL","2022-01-07","CORREO ELECTRÓNICO",{"$f":"IFERROR(WORKDAY(C1827,P1827,DiasNOLaborables),\"\")","v":"2022-01-07"},{"$f":"+IF(C1827=\"\",\"\",IF(H1827=\"\",\"SIN RESPUESTA\",(IF(H1827<=J1827,\"A TIEMPO\",\"FUERA DE TIEMPO\"))))","v":"A TIEMPO"},{"$f":"IF(H1827=\"\",\"\",NETWORKDAYS(C1827+1,H1827,DiasNOLaborables))","v":20},{"$f":"IF(NETWORKDAYS(J1827+1,H1827,DiasNOLaborables)<=0,\"\",NETWORKDAYS(J1827+1,H1827,DiasNOLaborables))","v":""},null,null,{"$f":"IFERROR(VLOOKUP(E1827,$X$51:$Y$64,2),\"\")","v":20}]
[1817,20217090003572,"2021-12-10","CORREO CERTIFICADO","SOLICITUD DE INFORMACIÓN Y DOCUMENTOS","OPERACIÓN DE REDES","SUBDIRECCIÓN DE HIDROLOGÍA","2021-12-28","CORREO ELECTRÓNICO",{"$f":"IFERROR(WORKDAY(C1828,P1828,DiasNOLaborables),\"\")","v":"2022-01-07"},{"$f":"+IF(C1828=\"\",\"\",IF(H1828=\"\",\"SIN RESPUESTA\",(IF(H1828<=J1828,\"A TIEMPO\",\"FUERA DE TIEMPO\"))))","v":"A TIEMPO"},{"$f":"IF(H1828=\"\",\"\",NETWORKDAYS([5]Hoja1!C1826+1,[5]Hoja1!P1826,DiasNOLaborables))","v":6},{"$f":"IF(NETWORKDAYS(J1828+1,H1828,DiasNOLaborables)<=0,\"\",NETWORKDAYS(J1828+1,H1828,DiasNOLaborables))","v":""},null,null,{"$f":"IFERROR(VLOOKUP(E1828,$X$51:$Y$64,2),\"\")","v":20}]
[1818,20219050138592,"2021-12-10","MODULO CONTACTENOS","SOLICITUD DE INFORMACIÓN Y DOCUMENTOS","CLIMATOLOGÍA","SUBDIRECCIÓN DE METEOROLOGÍA","2021-12-21","CORREO ELECTRÓNICO",{"$f":"IFERROR(WORKDAY(C1829,P1829,DiasNOLaborables),\"\")","v":"2022-01-07"},{"$f":"+IF(C1829=\"\",\"\",IF(H1829=\"\",\"SIN RESPUESTA\",(IF(H1829<=J1829,\"A TIEMPO\",\"FUERA DE TIEMPO\"))))","v":"A TIEMPO"},{"$f":"IF(H1829=\"\",\"\",NETWORKDAYS(C1829+1,H1829,DiasNOLaborables))","v":7},{"$f":"IF(NETWORKDAYS(J1829+1,H1829,DiasNOLaborables)<=0,\"\",NETWORKDAYS(J1829+1,H1829,DiasNOLaborables))","v":""},null,null,{"$f":"IFERROR(VLOOKUP(E1829,$X$51:$Y$64,2),\"\")","v":20}]
[1819,20219050138502,"2021-12-10","MODULO CONTACTENOS","SOLICITUD DE INFORMACIÓN Y DOCUMENTOS","SOLICITUD DE INFORMACIÓN HIDROMETEOROLÓGICA","GRUPO DE SERVICIO AL CIUDADANO ","2021-12-14","CORREO ELECTRÓNICO",{"$f":"IFERROR(WORKDAY(C1830,P1830,DiasNOLaborables),\"\")","v":"2022-01-07"},{"$f":"+IF(C1830=\"\",\"\",IF(H1830=\"\",\"SIN RESPUESTA\",(IF(H1830<=J1830,\"A TIEMPO\",\"FUERA DE TIEMPO\"))))","v":"A TIEMPO"},{"$f":"IF(H1830=\"\",\"\",NETWORKDAYS(C1830+1,H1830,DiasNOLaborables))","v":2},{"$f":"IF(NETWORKDAYS(J1830+1,H1830,DiasNOLaborables)<=0,\"\",NETWORKDAYS(J1830+1,H1830,DiasNOLaborables))","v":""},null,null,{"$f":"IFERROR(VLOOKUP(E1830,$X$51:$Y$64,2),\"\")","v":20}]
[1820,20219050138512,"2021-12-10","MODULO CONTACTENOS","SOLICITUD DE INFORMACIÓN Y DOCUMENTOS","SOLICITUD DE INFORMACIÓN HIDROMETEOROLÓGICA","GRUPO DE SERVICIO AL CIUDADANO ","2021-12-14","CORREO ELECTRÓNICO",{"$f":"IFERROR(WORKDAY(C1831,P1831,DiasNOLaborables),\"\")","v":"2022-01-07"},{"$f":"+IF(C1831=\"\",\"\",IF(H1831=\"\",\"SIN RESPUESTA\",(IF(H1831<=J1831,\"A TIEMPO\",\"FUERA DE TIEMPO\"))))","v":"A TIEMPO"},{"$f":"IF(H1831=\"\",\"\",NETWORKDAYS(C1831+1,H1831,DiasNOLaborables))","v":2},{"$f":"IF(NETWORKDAYS(J1831+1,H1831,DiasNOLaborables)<=0,\"\",NETWORKDAYS(J1831+1,H1831,DiasNOLaborables))","v":""},null,null,{"$f":"IFERROR(VLOOKUP(E1831,$X$51:$Y$64,2),\"\")","v":20}]
[1821,20219050138542,"2021-12-10","MODULO CONTACTENOS","SOLICITUD DE INFORMACIÓN Y DOCUMENTOS","SOLICITUD DE INFORMACIÓN HIDROMETEOROLÓGICA","GRUPO DE SERVICIO AL CIUDADANO ","2021-12-14","CORREO ELECTRÓNICO",{"$f":"IFERROR(WORKDAY(C1832,P1832,DiasNOLaborables),\"\")","v":"2022-01-07"},{"$f":"+IF(C1832=\"\",\"\",IF(H1832=\"\",\"SIN RESPUESTA\",(IF(H1832<=J1832,\"A TIEMPO\",\"FUERA DE TIEMPO\"))))","v":"A TIEMPO"},{"$f":"IF(H1832=\"\",\"\",NETWORKDAYS(C1832+1,H1832,DiasNOLaborables))","v":2},{"$f":"IF(NETWORKDAYS(J1832+1,H1832,DiasNOLaborables)<=0,\"\",NETWORKDAYS(J1832+1,H1832,DiasNOLaborables))","v":""},null,null,{"$f":"IFERROR(VLOOKUP(E1832,$X$51:$Y$64,2),\"\")","v":20}]
[1822,20219050138602,"2021-12-10","MODULO CONTACTENOS","SOLICITUD DE INFORMACIÓN Y DOCUMENTOS","SOLICITUD DE INFORMACIÓN HIDROMETEOROLÓGICA","GRUPO DE SERVICIO AL CIUDADANO ","2021-12-14","CORREO ELECTRÓNICO",{"$f":"IFERROR(WORKDAY(C1833,P1833,DiasNOLaborables),\"\")","v":"2022-01-07"},{"$f":"+IF(C1833=\"\",\"\",IF(H1833=\"\",\"SIN RESPUESTA\",(IF(H1833<=J1833,\"A TIEMPO\",\"FUERA DE TIEMPO\"))))","v":"A TIEMPO"},{"$f":"IF(H1833=\"\",\"\",NETWORKDAYS(C1833+1,H1833,DiasNOLaborables))","v":2},{"$f":"IF(NETWORKDAYS(J1833+1,H1833,DiasNOLaborables)<=0,\"\",NETWORKDAYS(J1833+1,H1833,DiasNOLaborables))","v":""},null,null,{"$f":"IFERROR(VLOOKUP(E1833,$X$51:$Y$64,2),\"\")","v":20}]
[1823,20219050138612,"2021-12-10","MODULO CONTACTENOS","SOLICITUD DE INFORMACIÓN Y DOCUMENTOS","SOLICITUD DE INFORMACIÓN HIDROMETEOROLÓGICA","GRUPO DE SERVICIO AL CIUDADANO ","2021-12-14","CORREO ELECTRÓNICO",{"$f":"IFERROR(WORKDAY(C1834,P1834,DiasNOLaborables),\"\")","v":"2022-01-07"},{"$f":"+IF(C1834=\"\",\"\",IF(H1834=\"\",\"SIN RESPUESTA\",(IF(H1834<=J1834,\"A TIEMPO\",\"FUERA DE TIEMPO\"))))","v":"A TIEMPO"},{"$f":"IF(H1834=\"\",\"\",NETWORKDAYS(C1834+1,H1834,DiasNOLaborables))","v":2},{"$f":"IF(NETWORKDAYS(J1834+1,H1834,DiasNOLaborables)<=0,\"\",NETWORKDAYS(J1834+1,H1834,DiasNOLaborables))","v":""},null,null,{"$f":"IFERROR(VLOOKUP(E1834,$X$51:$Y$64,2),\"\")","v":20}]
[1824,20219050138622,"2021-12-11","MODULO CONTACTENOS","SOLICITUD DE INFORMACIÓN Y DOCUMENTOS","SOLICITUD DE INFORMACIÓN HIDROMETEOROLÓGICA","GRUPO DE SERVICIO AL CIUDADANO ","2021-12-14","CORREO ELECTRÓNICO",{"$f":"IFERROR(WORKDAY(C1835,P1835,DiasNOLaborables),\"\")","v":"2022-01-07"},{"$f":"+IF(C1835=\"\",\"\",IF(H1835=\"\",\"SIN RESPUESTA\",(IF(H1835<=J1835,\"A TIEMPO\",\"FUERA DE TIEMPO\"))))","v":"A TIEMPO"},{"$f":"IF(H1835=\"\",\"\",NETWORKDAYS(C1835+1,H1835,DiasNOLaborables))","v":2},{"$f":"IF(NETWORKDAYS(J1835+1,H1835,DiasNOLaborables)<=0,\"\",NETWORKDAYS(J1835+1,H1835,DiasNOLaborables))","v":""},null,null,{"$f":"IFERROR(VLOOKUP(E1835,$X$51:$Y$64,2),\"\")","v":20}]
[1825,20219050138632,"2021-12-11","MODULO CONTACTENOS","SOLICITUD DE INFORMACIÓN Y DOCUMENTOS","SOLICITUD DE INFORMACIÓN HIDROMETEOROLÓGICA","GRUPO DE SERVICIO AL CIUDADANO ","2021-12-14","CORREO ELECTRÓNICO",{"$f":"IFERROR(WORKDAY(C1836,P1836,DiasNOLaborables),\"\")","v":"2022-01-07"},{"$f":"+IF(C1836=\"\",\"\",IF(H1836=\"\",\"SIN RESPUESTA\",(IF(H1836<=J1836,\"A TIEMPO\",\"FUERA DE TIEMPO\"))))","v":"A TIEMPO"},{"$f":"IF(H1836=\"\",\"\",NETWORKDAYS(C1836+1,H1836,DiasNOLaborables))","v":2},{"$f":"IF(NETWORKDAYS(J1836+1,H1836,DiasNOLaborables)<=0,\"\",NETWORKDAYS(J1836+1,H1836,DiasNOLaborables))","v":""},null,null,{"$f":"IFERROR(VLOOKUP(E1836,$X$51:$Y$64,2),\"\")","v":20}]
[1826,20219050138742,"2021-12-12","MODULO CONTACTENOS","SOLICITUD DE INFORMACIÓN Y DOCUMENTOS","ADMINISTRATIVA","OFICINA ASESORA JURÍDICA","2021-12-16","CORREO ELECTRÓNICO",{"$f":"IFERROR(WORKDAY(C1837,P1837,DiasNOLaborables),\"\")","v":"2022-01-07"},{"$f":"+IF(C1837=\"\",\"\",IF(H1837=\"\",\"SIN RESPUESTA\",(IF(H1837<=J1837,\"A TIEMPO\",\"FUERA DE TIEMPO\"))))","v":"A TIEMPO"},{"$f":"IF(H1837=\"\",\"\",NETWORKDAYS(C1837+1,H1837,DiasNOLaborables))","v":4},{"$f":"IF(NETWORKDAYS(J1837+1,H1837,DiasNOLaborables)<=0,\"\",NETWORKDAYS(J1837+1,H1837,DiasNOLaborables))","v":""},null,null,{"$f":"IFERROR(VLOOKUP(E1837,$X$51:$Y$64,2),\"\")","v":20}]
[1827,20219050138642,"2021-12-12","MODULO CONTACTENOS","SOLICITUD DE INFORMACIÓN Y DOCUMENTOS","SOLICITUD DE INFORMACIÓN HIDROMETEOROLÓGICA","GRUPO DE SERVICIO AL CIUDADANO ","2021-12-14","CORREO ELECTRÓNICO",{"$f":"IFERROR(WORKDAY(C1838,P1838,DiasNOLaborables),\"\")","v":"2022-01-07"},{"$f":"+IF(C1838=\"\",\"\",IF(H1838=\"\",\"SIN RESPUESTA\",(IF(H1838<=J1838,\"A TIEMPO\",\"FUERA DE TIEMPO\"))))","v":"A TIEMPO"},{"$f":"IF(H1838=\"\",\"\",NETWORKDAYS(C1838+1,H1838,DiasNOLaborables))","v":2},{"$f":"IF(NETWORKDAYS(J1838+1,H1838,DiasNOLaborables)<=0,\"\",NETWORKDAYS(J1838+1,H1838,DiasNOLaborables))","v":""},null,null,{"$f":"IFERROR(VLOOKUP(E1838,$X$51:$Y$64,2),\"\")","v":20}]
[1828,20219050138732,"2021-12-12","MODULO CONTACTENOS","SOLICITUD DE INFORMACIÓN Y DOCUMENTOS","SOLICITUD DE INFORMACIÓN HIDROMETEOROLÓGICA","GRUPO DE SERVICIO AL CIUDADANO ","2021-12-14","CORREO ELECTRÓNICO",{"$f":"IFERROR(WORKDAY(C1839,P1839,DiasNOLaborables),\"\")","v":"2022-01-07"},{"$f":"+IF(C1839=\"\",\"\",IF(H1839=\"\",\"SIN RESPUESTA\",(IF(H1839<=J1839,\"A TIEMPO\",\"FUERA DE TIEMPO\"))))","v":"A TIEMPO"},{"$f":"IF(H1839=\"\",\"\",NETWORKDAYS(C1839+1,H1839,DiasNOLaborables))","v":2},{"$f":"IF(NETWORKDAYS(J1839+1,H1839,DiasNOLaborables)<=0,\"\",NETWORKDAYS(J1839+1,H1839,DiasNOLaborables))","v":""},null,null,{"$f":"IFERROR(VLOOKUP(E1839,$X$51:$Y$64,2),\"\")","v":20}]
[1829,20219050138762,"2021-12-13","MODULO CONTACTENOS","SOLICITUD DE INFORMACIÓN Y DOCUMENTOS","SOLICITUD DE INFORMACIÓN HIDROMETEOROLÓGICA","GRUPO DE SERVICIO AL CIUDADANO ","2021-12-14","CORREO ELECTRÓNICO",{"$f":"IFERROR(WORKDAY(C1840,P1840,DiasNOLaborables),\"\")","v":"2022-01-10"},{"$f":"+IF(C1840=\"\",\"\",IF(H1840=\"\",\"SIN RESPUESTA\",(IF(H1840<=J1840,\"A TIEMPO\",\"FUERA DE TIEMPO\"))))","v":"A TIEMPO"},{"$f":"IF(H1840=\"\",\"\",NETWORKDAYS(C1840+1,H1840,DiasNOLaborables))","v":1},{"$f":"IF(NETWORKDAYS(J1840+1,H1840,DiasNOLaborables)<=0,\"\",NETWORKDAYS(J1840+1,H1840,DiasNOLaborables))","v":""},null,null,{"$f":"IFERROR(VLOOKUP(E1840,$X$51:$Y$64,2),\"\")","v":20}]
[1830,20219050138772,"2021-12-13","MODULO CONTACTENOS","SOLICITUD DE INFORMACIÓN Y DOCUMENTOS","SOLICITUD DE INFORMACIÓN HIDROMETEOROLÓGICA","GRUPO DE SERVICIO AL CIUDADANO ","2021-12-14","CORREO ELECTRÓNICO",{"$f":"IFERROR(WORKDAY(C1841,P1841,DiasNOLaborables),\"\")","v":"2022-01-10"},{"$f":"+IF(C1841=\"\",\"\",IF(H1841=\"\",\"SIN RESPUESTA\",(IF(H1841<=J1841,\"A TIEMPO\",\"FUERA DE TIEMPO\"))))","v":"A TIEMPO"},{"$f":"IF(H1841=\"\",\"\",NETWORKDAYS(C1841+1,H1841,DiasNOLaborables))","v":1},{"$f":"IF(NETWORKDAYS(J1841+1,H1841,DiasNOLaborables)<=0,\"\",NETWORKDAYS(J1841+1,H1841,DiasNOLaborables))","v":""},null,null,{"$f":"IFERROR(VLOOKUP(E1841,$X$51:$Y$64,2),\"\")","v":20}]
[1831,20219050138882,"2021-12-13","MODULO CONTACTENOS","SOLICITUD DE INFORMACIÓN Y DOCUMENTOS","SOLICITUD DE INFORMACIÓN HIDROMETEOROLÓGICA","GRUPO DE SERVICIO AL CIUDADANO ","2021-12-14","CORREO ELECTRÓNICO",{"$f":"IFERROR(WORKDAY(C1842,P1842,DiasNOLaborables),\"\")","v":"2022-01-10"},{"$f":"+IF(C1842=\"\",\"\",IF(H1842=\"\",\"SIN RESPUESTA\",(IF(H1842<=J1842,\"A TIEMPO\",\"FUERA DE TIEMPO\"))))","v":"A TIEMPO"},{"$f":"IF(H1842=\"\",\"\",NETWORKDAYS(C1842+1,H1842,DiasNOLaborables))","v":1},{"$f":"IF(NETWORKDAYS(J1842+1,H1842,DiasNOLaborables)<=0,\"\",NETWORKDAYS(J1842+1,H1842,DiasNOLaborables))","v":""},null,null,{"$f":"IFERROR(VLOOKUP(E1842,$X$51:$Y$64,2),\"\")","v":20}]
[1832,20219050138892,"2021-12-13","MODULO CONTACTENOS","SOLICITUD DE INFORMACIÓN Y DOCUMENTOS","SOLICITUD DE INFORMACIÓN HIDROMETEOROLÓGICA","SUBDIRECCIÓN DE HIDROLOGÍA","2021-12-14","CORREO ELECTRÓNICO",{"$f":"IFERROR(WORKDAY(C1843,P1843,DiasNOLaborables),\"\")","v":"2022-01-10"},{"$f":"+IF(C1843=\"\",\"\",IF(H1843=\"\",\"SIN RESPUESTA\",(IF(H1843<=J1843,\"A TIEMPO\",\"FUERA DE TIEMPO\"))))","v":"A TIEMPO"},{"$f":"IF(H1843=\"\",\"\",NETWORKDAYS(C1843+1,H1843,DiasNOLaborables))","v":1},{"$f":"IF(NETWORKDAYS(J1843+1,H1843,DiasNOLaborables)<=0,\"\",NETWORKDAYS(J1843+1,H1843,DiasNOLaborables))","v":""},null,null,{"$f":"IFERROR(VLOOKUP(E1843,$X$51:$Y$64,2),\"\")","v":20}]
[1833,20219050138932,"2021-12-13","MODULO CONTACTENOS","SOLICITUD DE INFORMACIÓN Y DOCUMENTOS","SOLICITUD DE INFORMACIÓN HIDROMETEOROLÓGICA","GRUPO DE SERVICIO AL CIUDADANO ","2021-12-14","CORREO ELECTRÓNICO",{"$f":"IFERROR(WORKDAY(C1844,P1844,DiasNOLaborables),\"\")","v":"2022-01-10"},{"$f":"+IF(C1844=\"\",\"\",IF(H1844=\"\",\"SIN RESPUESTA\",(IF(H1844<=J1844,\"A TIEMPO\",\"FUERA DE TIEMPO\"))))","v":"A TIEMPO"},{"$f":"IF(H1844=\"\",\"\",NETWORKDAYS(C1844+1,H1844,DiasNOLaborables))","v":1},{"$f":"IF(NETWORKDAYS(J1844+1,H1844,DiasNOLaborables)<=0,\"\",NETWORKDAYS(J1844+1,H1844,DiasNOLaborables))","v":""},null,null,{"$f":"IFERROR(VLOOKUP(E1844,$X$51:$Y$64,2),\"\")","v":20}]
[1834,20219050138982,"2021-12-13","MODULO CONTACTENOS","SOLICITUD DE INFORMACIÓN Y DOCUMENTOS","SOLICITUD DE INFORMACIÓN HIDROMETEOROLÓGICA","GRUPO DE SERVICIO AL CIUDADANO ","2021-12-14","CORREO ELECTRÓNICO",{"$f":"IFERROR(WORKDAY(C1845,P1845,DiasNOLaborables),\"\")","v":"2022-01-10"},{"$f":"+IF(C1845=\"\",\"\",IF(H1845=\"\",\"SIN RESPUESTA\",(IF(H1845<=J1845,\"A TIEMPO\",\"FUERA DE TIEMPO\"))))","v":"A TIEMPO"},{"$f":"IF(H1845=\"\",\"\",NETWORKDAYS(C1845+1,H1845,DiasNOLaborables))","v":1},{"$f":"IF(NETWORKDAYS(J1845+1,H1845,DiasNOLaborables)<=0,\"\",NETWORKDAYS(J1845+1,H1845,DiasNOLaborables))","v":""},null,null,{"$f":"IFERROR(VLOOKUP(E1845,$X$51:$Y$64,2),\"\")","v":20}]
[1835,20219050139022,"2021-12-13","MODULO CONTACTENOS","SOLICITUD DE INFORMACIÓN Y DOCUMENTOS","SOLICITUD DE INFORMACIÓN HIDROMETEOROLÓGICA","GRUPO DE SERVICIO AL CIUDADANO ","2021-12-14","CORREO ELECTRÓNICO",{"$f":"IFERROR(WORKDAY(C1846,P1846,DiasNOLaborables),\"\")","v":"2022-01-10"},{"$f":"+IF(C1846=\"\",\"\",IF(H1846=\"\",\"SIN RESPUESTA\",(IF(H1846<=J1846,\"A TIEMPO\",\"FUERA DE TIEMPO\"))))","v":"A TIEMPO"},{"$f":"IF(H1846=\"\",\"\",NETWORKDAYS(C1846+1,H1846,DiasNOLaborables))","v":1},{"$f":"IF(NETWORKDAYS(J1846+1,H1846,DiasNOLaborables)<=0,\"\",NETWORKDAYS(J1846+1,H1846,DiasNOLaborables))","v":""},null,null,{"$f":"IFERROR(VLOOKUP(E1846,$X$51:$Y$64,2),\"\")","v":20}]
[1836,20219050139202,"2021-12-13","MODULO CONTACTENOS","SOLICITUD DE INFORMACIÓN Y DOCUMENTOS","SOLICITUD DE INFORMACIÓN HIDROMETEOROLÓGICA","GRUPO DE SERVICIO AL CIUDADANO ","2021-12-14","CORREO ELECTRÓNICO",{"$f":"IFERROR(WORKDAY(C1847,P1847,DiasNOLaborables),\"\")","v":"2022-01-10"},{"$f":"+IF(C1847=\"\",\"\",IF(H1847=\"\",\"SIN RESPUESTA\",(IF(H1847<=J1847,\"A TIEMPO\",\"FUERA DE TIEMPO\"))))","v":"A TIEMPO"},{"$f":"IF(H1847=\"\",\"\",NETWORKDAYS(C1847+1,H1847,DiasNOLaborables))","v":1},{"$f":"IF(NETWORKDAYS(J1847+1,H1847,DiasNOLaborables)<=0,\"\",NETWORKDAYS(J1847+1,H1847,DiasNOLaborables))","v":""},null,null,{"$f":"IFERROR(VLOOKUP(E1847,$X$51:$Y$64,2),\"\")","v":20}]
[1837,20219050138902,"2021-12-13","MODULO CONTACTENOS","SOLICITUD DE INFORMACIÓN Y DOCUMENTOS","ADMINISTRATIVA","OFICINA ASESORA JURÍDICA","2021-12-16","CORREO ELECTRÓNICO",{"$f":"IFERROR(WORKDAY(C1848,P1848,DiasNOLaborables),\"\")","v":"2022-01-10"},{"$f":"+IF(C1848=\"\",\"\",IF(H1848=\"\",\"SIN RESPUESTA\",(IF(H1848<=J1848,\"A TIEMPO\",\"FUERA DE TIEMPO\"))))","v":"A TIEMPO"},{"$f":"IF(H1848=\"\",\"\",NETWORKDAYS(C1848+1,H1848,DiasNOLaborables))","v":3},{"$f":"IF(NETWORKDAYS(J1848+1,H1848,DiasNOLaborables)<=0,\"\",NETWORKDAYS(J1848+1,H1848,DiasNOLaborables))","v":""},null,null,{"$f":"IFERROR(VLOOKUP(E1848,$X$51:$Y$64,2),\"\")","v":20}]
[1838,20219050139182,"2021-12-13","MODULO CONTACTENOS","SOLICITUD DE INFORMACIÓN Y DOCUMENTOS","SOLICITUD DE INFORMACIÓN HIDROMETEOROLÓGICA","GRUPO DE SERVICIO AL CIUDADANO ","2021-12-15","CORREO ELECTRÓNICO",{"$f":"IFERROR(WORKDAY(C1849,P1849,DiasNOLaborables),\"\")","v":"2022-01-10"},{"$f":"+IF(C1849=\"\",\"\",IF(H1849=\"\",\"SIN RESPUESTA\",(IF(H1849<=J1849,\"A TIEMPO\",\"FUERA DE TIEMPO\"))))","v":"A TIEMPO"},{"$f":"IF(H1849=\"\",\"\",NETWORKDAYS(C1849+1,H1849,DiasNOLaborables))","v":2},{"$f":"IF(NETWORKDAYS(J1849+1,H1849,DiasNOLaborables)<=0,\"\",NETWORKDAYS(J1849+1,H1849,DiasNOLaborables))","v":""},null,null,{"$f":"IFERROR(VLOOKUP(E1849,$X$51:$Y$64,2),\"\")","v":20}]
[1839,20219050139242,"2021-12-13","MODULO CONTACTENOS","SOLICITUD DE INFORMACIÓN Y DOCUMENTOS","SOLICITUD DE INFORMACIÓN HIDROMETEOROLÓGICA","GRUPO DE SERVICIO AL CIUDADANO ","2021-12-16","CORREO ELECTRÓNICO",{"$f":"IFERROR(WORKDAY(C1850,P1850,DiasNOLaborables),\"\")","v":"2022-01-10"},{"$f":"+IF(C1850=\"\",\"\",IF(H1850=\"\",\"SIN RESPUESTA\",(IF(H1850<=J1850,\"A TIEMPO\",\"FUERA DE TIEMPO\"))))","v":"A TIEMPO"},{"$f":"IF(H1850=\"\",\"\",NETWORKDAYS(C1850+1,H1850,DiasNOLaborables))","v":3},{"$f":"IF(NETWORKDAYS(J1850+1,H1850,DiasNOLaborables)<=0,\"\",NETWORKDAYS(J1850+1,H1850,DiasNOLaborables))","v":""},null,null,{"$f":"IFERROR(VLOOKUP(E1850,$X$51:$Y$64,2),\"\")","v":20}]
[1840,20219050139102,"2021-12-13","CORREO ELECTRÓNICO","SOLICITUD DE INFORMACIÓN Y DOCUMENTOS","SOLICITUD DE INFORMACIÓN HIDROMETEOROLÓGICA","GRUPO DE SERVICIO AL CIUDADANO ","2021-12-16","CORREO ELECTRÓNICO",{"$f":"IFERROR(WORKDAY(C1851,P1851,DiasNOLaborables),\"\")","v":"2022-01-10"},{"$f":"+IF(C1851=\"\",\"\",IF(H1851=\"\",\"SIN RESPUESTA\",(IF(H1851<=J1851,\"A TIEMPO\",\"FUERA DE TIEMPO\"))))","v":"A TIEMPO"},{"$f":"IF(H1851=\"\",\"\",NETWORKDAYS(C1851+1,H1851,DiasNOLaborables))","v":3},{"$f":"IF(NETWORKDAYS(J1851+1,H1851,DiasNOLaborables)<=0,\"\",NETWORKDAYS(J1851+1,H1851,DiasNOLaborables))","v":""},null,null,{"$f":"IFERROR(VLOOKUP(E1851,$X$51:$Y$64,2),\"\")","v":20}]
[1841,20219050139112,"2021-12-13","CORREO ELECTRÓNICO","SOLICITUD DE INFORMACIÓN Y DOCUMENTOS","SOLICITUD DE INFORMACIÓN HIDROMETEOROLÓGICA","GRUPO DE SERVICIO AL CIUDADANO ","2021-12-16","CORREO ELECTRÓNICO",{"$f":"IFERROR(WORKDAY(C1852,P1852,DiasNOLaborables),\"\")","v":"2022-01-10"},{"$f":"+IF(C1852=\"\",\"\",IF(H1852=\"\",\"SIN RESPUESTA\",(IF(H1852<=J1852,\"A TIEMPO\",\"FUERA DE TIEMPO\"))))","v":"A TIEMPO"},{"$f":"IF(H1852=\"\",\"\",NETWORKDAYS(C1852+1,H1852,DiasNOLaborables))","v":3},{"$f":"IF(NETWORKDAYS(J1852+1,H1852,DiasNOLaborables)<=0,\"\",NETWORKDAYS(J1852+1,H1852,DiasNOLaborables))","v":""},null,null,{"$f":"IFERROR(VLOOKUP(E1852,$X$51:$Y$64,2),\"\")","v":20}]
[1842,20219050139082,"2021-12-13","MODULO CONTACTENOS","SOLICITUD DE INFORMACIÓN Y DOCUMENTOS","CLIMATOLOGÍA","SUBDIRECCIÓN DE METEOROLOGÍA","2021-12-21","CORREO ELECTRÓNICO",{"$f":"IFERROR(WORKDAY(C1853,P1853,DiasNOLaborables),\"\")","v":"2022-01-10"},{"$f":"+IF(C1853=\"\",\"\",IF(H1853=\"\",\"SIN RESPUESTA\",(IF(H1853<=J1853,\"A TIEMPO\",\"FUERA DE TIEMPO\"))))","v":"A TIEMPO"},{"$f":"IF(H1853=\"\",\"\",NETWORKDAYS([5]Hoja1!C1851+1,[5]Hoja1!P1851,DiasNOLaborables))","v":9},{"$f":"IF(NETWORKDAYS(J1853+1,H1853,DiasNOLaborables)<=0,\"\",NETWORKDAYS(J1853+1,H1853,DiasNOLaborables))","v":""},null,null,{"$f":"IFERROR(VLOOKUP(E1853,$X$51:$Y$64,2),\"\")","v":20}]
[1843,20219050138792,"2021-12-13","CORREO ELECTRÓNICO","SOLICITUD DE INFORMACIÓN Y DOCUMENTOS","MODELACIÓN HIDROLÓGICA","SUBDIRECCIÓN DE HIDROLOGÍA","2022-01-05","CORREO ELECTRÓNICO",{"$f":"IFERROR(WORKDAY(C1854,P1854,DiasNOLaborables),\"\")","v":"2022-01-10"},{"$f":"+IF(C1854=\"\",\"\",IF(H1854=\"\",\"SIN RESPUESTA\",(IF(H1854<=J1854,\"A TIEMPO\",\"FUERA DE TIEMPO\"))))","v":"A TIEMPO"},{"$f":"IF(H1854=\"\",\"\",NETWORKDAYS(C1854+1,H1854,DiasNOLaborables))","v":17},{"$f":"IF(NETWORKDAYS(J1854+1,H1854,DiasNOLaborables)<=0,\"\",NETWORKDAYS(J1854+1,H1854,DiasNOLaborables))","v":""},null,null,{"$f":"IFERROR(VLOOKUP(E1854,$X$51:$Y$64,2),\"\")","v":20}]
[1844,20219050138802,"2021-12-13","CORREO ELECTRÓNICO","SOLICITUD DE INFORMACIÓN Y DOCUMENTOS","REGISTROS AMBIENTALES","SUBDIRECCIÓN DE ESTUDIOS AMBIENTALES","2021-12-16","CORREO ELECTRÓNICO",{"$f":"IFERROR(WORKDAY(C1855,P1855,DiasNOLaborables),\"\")","v":"2022-01-10"},{"$f":"+IF(C1855=\"\",\"\",IF(H1855=\"\",\"SIN RESPUESTA\",(IF(H1855<=J1855,\"A TIEMPO\",\"FUERA DE TIEMPO\"))))","v":"A TIEMPO"},{"$f":"IF(H1855=\"\",\"\",NETWORKDAYS(C1855+1,H1855,DiasNOLaborables))","v":3},{"$f":"IF(NETWORKDAYS(J1855+1,H1855,DiasNOLaborables)<=0,\"\",NETWORKDAYS(J1855+1,H1855,DiasNOLaborables))","v":""},null,null,{"$f":"IFERROR(VLOOKUP(E1855,$X$51:$Y$64,2),\"\")","v":20}]
[1845,20219050138812,"2021-12-13","CORREO ELECTRÓNICO","SOLICITUD DE INFORMACIÓN Y DOCUMENTOS","REGISTROS AMBIENTALES","SUBDIRECCIÓN DE ESTUDIOS AMBIENTALES","2021-12-16","CORREO ELECTRÓNICO",{"$f":"IFERROR(WORKDAY(C1856,P1856,DiasNOLaborables),\"\")","v":"2022-01-10"},{"$f":"+IF(C1856=\"\",\"\",IF(H1856=\"\",\"SIN RESPUESTA\",(IF(H1856<=J1856,\"A TIEMPO\",\"FUERA DE TIEMPO\"))))","v":"A TIEMPO"},{"$f":"IF(H1856=\"\",\"\",NETWORKDAYS(C1856+1,H1856,DiasNOLaborables))","v":3},{"$f":"IF(NETWORKDAYS(J1856+1,H1856,DiasNOLaborables)<=0,\"\",NETWORKDAYS(J1856+1,H1856,DiasNOLaborables))","v":""},null,null,{"$f":"IFERROR(VLOOKUP(E1856,$X$51:$Y$64,2),\"\")","v":20}]
[1846,20219050138822,"2021-12-13","CORREO ELECTRÓNICO","PETICIÓN","INFORMES AMBIENTALES","SUBDIRECCIÓN DE HIDROLOGÍA","2022-01-20","CORREO ELECTRÓNICO",{"$f":"IFERROR(WORKDAY(C1857,P1857,DiasNOLaborables),\"\")","v":"2022-01-24"},{"$f":"+IF(C1857=\"\",\"\",IF(H1857=\"\",\"SIN RESPUESTA\",(IF(H1857<=J1857,\"A TIEMPO\",\"FUERA DE TIEMPO\"))))","v":"A TIEMPO"},{"$f":"IF(H1857=\"\",\"\",NETWORKDAYS(C1857+1,H1857,DiasNOLaborables))","v":28},{"$f":"IF(NETWORKDAYS(J1857+1,H1857,DiasNOLaborables)<=0,\"\",NETWORKDAYS(J1857+1,H1857,DiasNOLaborables))","v":""},null,null,{"$f":"IFERROR(VLOOKUP(E1857,$X$51:$Y$64,2),\"\")","v":30}]
[1847,20219050138832,"2021-12-13","CORREO ELECTRÓNICO","PETICIÓN","INFORMES AMBIENTALES","SUBDIRECCIÓN DE HIDROLOGÍA","2022-01-20","CORREO ELECTRÓNICO",{"$f":"IFERROR(WORKDAY(C1858,P1858,DiasNOLaborables),\"\")","v":"2022-01-24"},{"$f":"+IF(C1858=\"\",\"\",IF(H1858=\"\",\"SIN RESPUESTA\",(IF(H1858<=J1858,\"A TIEMPO\",\"FUERA DE TIEMPO\"))))","v":"A TIEMPO"},{"$f":"IF(H1858=\"\",\"\",NETWORKDAYS(C1858+1,H1858,DiasNOLaborables))","v":28},{"$f":"IF(NETWORKDAYS(J1858+1,H1858,DiasNOLaborables)<=0,\"\",NETWORKDAYS(J1858+1,H1858,DiasNOLaborables))","v":""},null,null,{"$f":"IFERROR(VLOOKUP(E1858,$X$51:$Y$64,2),\"\")","v":30}]
[1848,20219050138842,"2021-12-13","CORREO ELECTRÓNICO","SOLICITUD DE INFORMACIÓN Y DOCUMENTOS","ADMINISTRATIVA","GRUPO DE ADMINISTRACIÓN Y DESARROLLO DEL TALENTO HUMANO","2021-12-15","CORREO ELECTRÓNICO",{"$f":"IFERROR(WORKDAY(C1859,P1859,DiasNOLaborables),\"\")","v":"2022-01-10"},{"$f":"+IF(C1859=\"\",\"\",IF(H1859=\"\",\"SIN RESPUESTA\",(IF(H1859<=J1859,\"A TIEMPO\",\"FUERA DE TIEMPO\"))))","v":"A TIEMPO"},{"$f":"IF(H1859=\"\",\"\",NETWORKDAYS(C1859+1,H1859,DiasNOLaborables))","v":2},{"$f":"IF(NETWORKDAYS(J1859+1,H1859,DiasNOLaborables)<=0,\"\",NETWORKDAYS(J1859+1,H1859,DiasNOLaborables))","v":""},null,null,{"$f":"IFERROR(VLOOKUP(E1859,$X$51:$Y$64,2),\"\")","v":20}]
[1849,20219050138852,"2021-12-13","CORREO ELECTRÓNICO","SOLICITUD DE INFORMACIÓN Y DOCUMENTOS","BOSQUES","SUBDIRECCIÓN DE ECOSISTEMAS E INFORMACIÓN AMBIENTAL","2021-12-24","CORREO ELECTRÓNICO",{"$f":"IFERROR(WORKDAY(C1860,P1860,DiasNOLaborables),\"\")","v":"2022-01-10"},{"$f":"+IF(C1860=\"\",\"\",IF(H1860=\"\",\"SIN RESPUESTA\",(IF(H1860<=J1860,\"A TIEMPO\",\"FUERA DE TIEMPO\"))))","v":"A TIEMPO"},{"$f":"IF(H1860=\"\",\"\",NETWORKDAYS(C1860+1,H1860,DiasNOLaborables))","v":9},{"$f":"IF(NETWORKDAYS(J1860+1,H1860,DiasNOLaborables)<=0,\"\",NETWORKDAYS(J1860+1,H1860,DiasNOLaborables))","v":""},null,null,{"$f":"IFERROR(VLOOKUP(E1860,$X$51:$Y$64,2),\"\")","v":20}]
[1850,20219050138862,"2021-12-13","CORREO ELECTRÓNICO","SOLICITUD DE INFORMACIÓN Y DOCUMENTOS","ADMINISTRATIVA","GRUPO DE ADMINISTRACIÓN Y DESARROLLO DEL TALENTO HUMANO","2021-12-17","CORREO ELECTRÓNICO",{"$f":"IFERROR(WORKDAY(C1861,P1861,DiasNOLaborables),\"\")","v":"2022-01-10"},{"$f":"+IF(C1861=\"\",\"\",IF(H1861=\"\",\"SIN RESPUESTA\",(IF(H1861<=J1861,\"A TIEMPO\",\"FUERA DE TIEMPO\"))))","v":"A TIEMPO"},{"$f":"IF(H1861=\"\",\"\",NETWORKDAYS(C1861+1,H1861,DiasNOLaborables))","v":4},{"$f":"IF(NETWORKDAYS(J1861+1,H1861,DiasNOLaborables)<=0,\"\",NETWORKDAYS(J1861+1,H1861,DiasNOLaborables))","v":""},null,null,{"$f":"IFERROR(VLOOKUP(E1861,$X$51:$Y$64,2),\"\")","v":20}]
[1851,20219050138872,"2021-12-13","CORREO ELECTRÓNICO","SOLICITUD DE INFORMACIÓN Y DOCUMENTOS","SOLICITUD DE INFORMACIÓN HIDROMETEOROLÓGICA","SUBDIRECCIÓN DE HIDROLOGÍA","2021-12-15","CORREO ELECTRÓNICO",{"$f":"IFERROR(WORKDAY(C1862,P1862,DiasNOLaborables),\"\")","v":"2022-01-10"},{"$f":"+IF(C1862=\"\",\"\",IF(H1862=\"\",\"SIN RESPUESTA\",(IF(H1862<=J1862,\"A TIEMPO\",\"FUERA DE TIEMPO\"))))","v":"A TIEMPO"},{"$f":"IF(H1862=\"\",\"\",NETWORKDAYS(C1862+1,H1862,DiasNOLaborables))","v":2},{"$f":"IF(NETWORKDAYS(J1862+1,H1862,DiasNOLaborables)<=0,\"\",NETWORKDAYS(J1862+1,H1862,DiasNOLaborables))","v":""},null,null,{"$f":"IFERROR(VLOOKUP(E1862,$X$51:$Y$64,2),\"\")","v":20}]
[1852,20219050138912,"2021-12-13","CORREO ELECTRÓNICO","SOLICITUD DE INFORMACIÓN Y DOCUMENTOS","SOLICITUD DE INFORMACIÓN HIDROMETEOROLÓGICA","SUBDIRECCIÓN DE HIDROLOGÍA","2021-12-15","CORREO ELECTRÓNICO",{"$f":"IFERROR(WORKDAY(C1863,P1863,DiasNOLaborables),\"\")","v":"2022-01-10"},{"$f":"+IF(C1863=\"\",\"\",IF(H1863=\"\",\"SIN RESPUESTA\",(IF(H1863<=J1863,\"A TIEMPO\",\"FUERA DE TIEMPO\"))))","v":"A TIEMPO"},{"$f":"IF(H1863=\"\",\"\",NETWORKDAYS(C1863+1,H1863,DiasNOLaborables))","v":2},{"$f":"IF(NETWORKDAYS(J1863+1,H1863,DiasNOLaborables)<=0,\"\",NETWORKDAYS(J1863+1,H1863,DiasNOLaborables))","v":""},null,null,{"$f":"IFERROR(VLOOKUP(E1863,$X$51:$Y$64,2),\"\")","v":20}]
[1853,20219050138952,"2021-12-13","CORREO ELECTRÓNICO","SOLICITUD DE INFORMACIÓN Y DOCUMENTOS","INFORMES AMBIENTALES","SUBDIRECCIÓN DE HIDROLOGÍA","2022-01-03","CORREO ELECTRÓNICO",{"$f":"IFERROR(WORKDAY(C1864,P1864,DiasNOLaborables),\"\")","v":"2022-01-10"},{"$f":"+IF(C1864=\"\",\"\",IF(H1864=\"\",\"SIN RESPUESTA\",(IF(H1864<=J1864,\"A TIEMPO\",\"FUERA DE TIEMPO\"))))","v":"A TIEMPO"},{"$f":"IF(H1864=\"\",\"\",NETWORKDAYS(C1864+1,H1864,DiasNOLaborables))","v":15},{"$f":"IF(NETWORKDAYS(J1864+1,H1864,DiasNOLaborables)<=0,\"\",NETWORKDAYS(J1864+1,H1864,DiasNOLaborables))","v":""},null,null,{"$f":"IFERROR(VLOOKUP(E1864,$X$51:$Y$64,2),\"\")","v":20}]
[1854,20219050139012,"2021-12-13","CORREO ELECTRÓNICO","SOLICITUD DE INFORMACIÓN Y DOCUMENTOS","OPERACIÓN DE REDES","SUBDIRECCIÓN DE HIDROLOGÍA","2021-12-21","CORREO ELECTRÓNICO",{"$f":"IFERROR(WORKDAY(C1865,P1865,DiasNOLaborables),\"\")","v":"2022-01-10"},{"$f":"+IF(C1865=\"\",\"\",IF(H1865=\"\",\"SIN RESPUESTA\",(IF(H1865<=J1865,\"A TIEMPO\",\"FUERA DE TIEMPO\"))))","v":"A TIEMPO"},{"$f":"IF(H1865=\"\",\"\",NETWORKDAYS(C1865+1,H1865,DiasNOLaborables))","v":6},{"$f":"IF(NETWORKDAYS(J1865+1,H1865,DiasNOLaborables)<=0,\"\",NETWORKDAYS(J1865+1,H1865,DiasNOLaborables))","v":""},null,null,{"$f":"IFERROR(VLOOKUP(E1865,$X$51:$Y$64,2),\"\")","v":20}]
[1855,20219050139032,"2021-12-13","CORREO ELECTRÓNICO","SOLICITUD DE INFORMACIÓN Y DOCUMENTOS","SOLICITUD DE INFORMACIÓN HIDROMETEOROLÓGICA","SUBDIRECCIÓN DE HIDROLOGÍA","2021-12-27","CORREO ELECTRÓNICO",{"$f":"IFERROR(WORKDAY(C1866,P1866,DiasNOLaborables),\"\")","v":"2022-01-10"},{"$f":"+IF(C1866=\"\",\"\",IF(H1866=\"\",\"SIN RESPUESTA\",(IF(H1866<=J1866,\"A TIEMPO\",\"FUERA DE TIEMPO\"))))","v":"A TIEMPO"},{"$f":"IF(H1866=\"\",\"\",NETWORKDAYS(C1866+1,H1866,DiasNOLaborables))","v":10},{"$f":"IF(NETWORKDAYS(J1866+1,H1866,DiasNOLaborables)<=0,\"\",NETWORKDAYS(J1866+1,H1866,DiasNOLaborables))","v":""},null,null,{"$f":"IFERROR(VLOOKUP(E1866,$X$51:$Y$64,2),\"\")","v":20}]
[1856,20219050139092,"2021-12-13","CORREO ELECTRÓNICO","SOLICITUD DE INFORMACIÓN Y DOCUMENTOS","REGISTROS AMBIENTALES","SUBDIRECCIÓN DE ESTUDIOS AMBIENTALES","2021-12-13","CORREO ELECTRÓNICO",{"$f":"IFERROR(WORKDAY(C1867,P1867,DiasNOLaborables),\"\")","v":"2022-01-10"},{"$f":"+IF(C1867=\"\",\"\",IF(H1867=\"\",\"SIN RESPUESTA\",(IF(H1867<=J1867,\"A TIEMPO\",\"FUERA DE TIEMPO\"))))","v":"A TIEMPO"},{"$f":"IF(H1867=\"\",\"\",NETWORKDAYS(C1867+1,H1867,DiasNOLaborables))","v":-2},{"$f":"IF(NETWORKDAYS(J1867+1,H1867,DiasNOLaborables)<=0,\"\",NETWORKDAYS(J1867+1,H1867,DiasNOLaborables))","v":""},null,null,{"$f":"IFERROR(VLOOKUP(E1867,$X$51:$Y$64,2),\"\")","v":20}]
[1857,20219910069002,"2021-12-13","CORREO CERTIFICADO","SOLICITUD JUDICIAL","CERTIFICACIONES DE TIEMPO Y CLIMA","SUBDIRECCIÓN DE METEOROLOGÍA","2021-12-14","CORREO ELECTRÓNICO",{"$f":"IFERROR(WORKDAY(C1868,P1868,DiasNOLaborables),\"\")","v":"2021-12-20"},{"$f":"+IF(C1868=\"\",\"\",IF(H1868=\"\",\"SIN RESPUESTA\",(IF(H1868<=J1868,\"A TIEMPO\",\"FUERA DE TIEMPO\"))))","v":"A TIEMPO"},{"$f":"IF(H1868=\"\",\"\",NETWORKDAYS(C1868+1,H1868,DiasNOLaborables))","v":1},{"$f":"IF(NETWORKDAYS(J1868+1,H1868,DiasNOLaborables)<=0,\"\",NETWORKDAYS(J1868+1,H1868,DiasNOLaborables))","v":""},null,null,{"$f":"IFERROR(VLOOKUP(E1868,$X$51:$Y$64,2),\"\")","v":5}]
[1858,20219050139132,"2021-12-13","CORREO ELECTRÓNICO","SOLICITUD DE INFORMACIÓN Y DOCUMENTOS","REGISTROS AMBIENTALES","SUBDIRECCIÓN DE ESTUDIOS AMBIENTALES","2021-12-13","CORREO ELECTRÓNICO",{"$f":"IFERROR(WORKDAY(C1869,P1869,DiasNOLaborables),\"\")","v":"2022-01-10"},{"$f":"+IF(C1869=\"\",\"\",IF(H1869=\"\",\"SIN RESPUESTA\",(IF(H1869<=J1869,\"A TIEMPO\",\"FUERA DE TIEMPO\"))))","v":"A TIEMPO"},{"$f":"IF(H1869=\"\",\"\",NETWORKDAYS(C1869+1,H1869,DiasNOLaborables))","v":-2},{"$f":"IF(NETWORKDAYS(J1869+1,H1869,DiasNOLaborables)<=0,\"\",NETWORKDAYS(J1869+1,H1869,DiasNOLaborables))","v":""},null,null,{"$f":"IFERROR(VLOOKUP(E1869,$X$51:$Y$64,2),\"\")","v":20}]
[{"$f":"IF(B1870<>\"\",A1869+1,\"\")","v":1859},20219050139122,"2021-12-13","MODULO CONTACTENOS","SOLICITUD DE INFORMACIÓN Y DOCUMENTOS","SOLICITUD DE INFORMACIÓN HIDROMETEOROLÓGICA","GRUPO DE SERVICIO AL CIUDADANO ","2021-12-17","CORREO ELECTRÓNICO",{"$f":"IFERROR(WORKDAY(C1870,P1870,DiasNOLaborables),\"\")","v":"2022-01-10"},{"$f":"+IF(C1870=\"\",\"\",IF(H1870=\"\",\"SIN RESPUESTA\",(IF(H1870<=J1870,\"A TIEMPO\",\"FUERA DE TIEMPO\"))))","v":"A TIEMPO"},{"$f":"IF(H1870=\"\",\"\",NETWORKDAYS(C1870+1,H1870,DiasNOLaborables))","v":4},{"$f":"IF(NETWORKDAYS(J1870+1,H1870,DiasNOLaborables)<=0,\"\",NETWORKDAYS(J1870+1,H1870,DiasNOLaborables))","v":""},null,null,{"$f":"IFERROR(VLOOKUP(E1870,$X$51:$Y$64,2),\"\")","v":20}]
[1860,20219050139142,"2021-12-13","CORREO ELECTRÓNICO","SOLICITUD DE INFORMACIÓN Y DOCUMENTOS","REGISTROS AMBIENTALES","SUBDIRECCIÓN DE ESTUDIOS AMBIENTALES","2021-12-13","CORREO ELECTRÓNICO",{"$f":"IFERROR(WORKDAY(C1871,P1871,DiasNOLaborables),\"\")","v":"2022-01-10"},{"$f":"+IF(C1871=\"\",\"\",IF(H1871=\"\",\"SIN RESPUESTA\",(IF(H1871<=J1871,\"A TIEMPO\",\"FUERA DE TIEMPO\"))))","v":"A TIEMPO"},{"$f":"IF(H1871=\"\",\"\",NETWORKDAYS(C1871+1,H1871,DiasNOLaborables))","v":-2},{"$f":"IF(NETWORKDAYS(J1871+1,H1871,DiasNOLaborables)<=0,\"\",NETWORKDAYS(J1871+1,H1871,DiasNOLaborables))","v":""},null,null,{"$f":"IFERROR(VLOOKUP(E1871,$X$51:$Y$64,2),\"\")","v":20}]
[1861,20219050139152,"2021-12-13","CORREO ELECTRÓNICO","SOLICITUD DE INFORMACIÓN Y DOCUMENTOS","REGISTROS AMBIENTALES","SUBDIRECCIÓN DE ESTUDIOS AMBIENTALES","2021-12-13","CORREO ELECTRÓNICO",{"$f":"IFERROR(WORKDAY(C1872,P1872,DiasNOLaborables),\"\")","v":"2022-01-10"},{"$f":"+IF(C1872=\"\",\"\",IF(H1872=\"\",\"SIN RESPUESTA\",(IF(H1872<=J1872,\"A TIEMPO\",\"FUERA DE TIEMPO\"))))","v":"A TIEMPO"},{"$f":"IF(H1872=\"\",\"\",NETWORKDAYS(C1872+1,H1872,DiasNOLaborables))","v":-2},{"$f":"IF(NETWORKDAYS(J1872+1,H1872,DiasNOLaborables)<=0,\"\",NETWORKDAYS(J1872+1,H1872,DiasNOLaborables))","v":""},null,null,{"$f":"IFERROR(VLOOKUP(E1872,$X$51:$Y$64,2),\"\")","v":20}]
[1862,20219050139162,"2021-12-13","CORREO ELECTRÓNICO","SOLICITUD DE INFORMACIÓN Y DOCUMENTOS","REGISTROS AMBIENTALES","SUBDIRECCIÓN DE ESTUDIOS AMBIENTALES","2021-12-22","CORREO ELECTRÓNICO",{"$f":"IFERROR(WORKDAY(C1873,P1873,DiasNOLaborables),\"\")","v":"2022-01-10"},{"$f":"+IF(C1873=\"\",\"\",IF(H1873=\"\",\"SIN RESPUESTA\",(IF(H1873<=J1873,\"A TIEMPO\",\"FUERA DE TIEMPO\"))))","v":"A TIEMPO"},{"$f":"IF(H1873=\"\",\"\",NETWORKDAYS(C1873+1,H1873,DiasNOLaborables))","v":7},{"$f":"IF(NETWORKDAYS(J1873+1,H1873,DiasNOLaborables)<=0,\"\",NETWORKDAYS(J1873+1,H1873,DiasNOLaborables))","v":""},null,null,{"$f":"IFERROR(VLOOKUP(E1873,$X$51:$Y$64,2),\"\")","v":20}]
[1863,20219050139352,"2021-12-14","CORREO ELECTRÓNICO","SOLICITUD DE INFORMACIÓN Y DOCUMENTOS","BOSQUES","SUBDIRECCIÓN DE ECOSISTEMAS E INFORMACIÓN AMBIENTAL","2021-12-23","CORREO ELECTRÓNICO",{"$f":"IFERROR(WORKDAY(C1874,P1874,DiasNOLaborables),\"\")","v":"2022-01-11"},{"$f":"+IF(C1874=\"\",\"\",IF(H1874=\"\",\"SIN RESPUESTA\",(IF(H1874<=J1874,\"A TIEMPO\",\"FUERA DE TIEMPO\"))))","v":"A TIEMPO"},{"$f":"IF(H1874=\"\",\"\",NETWORKDAYS(C1874+1,H1874,DiasNOLaborables))","v":7},{"$f":"IF(NETWORKDAYS(J1874+1,H1874,DiasNOLaborables)<=0,\"\",NETWORKDAYS(J1874+1,H1874,DiasNOLaborables))","v":""},null,null,{"$f":"IFERROR(VLOOKUP(E1874,$X$51:$Y$64,2),\"\")","v":20}]
[1864,20219050139362,"2021-12-14","CORREO ELECTRÓNICO","SOLICITUD DE INFORMACIÓN Y DOCUMENTOS","REGISTROS AMBIENTALES","SUBDIRECCIÓN DE ESTUDIOS AMBIENTALES","2021-12-21","CORREO ELECTRÓNICO",{"$f":"IFERROR(WORKDAY(C1875,P1875,DiasNOLaborables),\"\")","v":"2022-01-11"},{"$f":"+IF(C1875=\"\",\"\",IF(H1875=\"\",\"SIN RESPUESTA\",(IF(H1875<=J1875,\"A TIEMPO\",\"FUERA DE TIEMPO\"))))","v":"A TIEMPO"},{"$f":"IF(H1875=\"\",\"\",NETWORKDAYS(C1875+1,H1875,DiasNOLaborables))","v":5},{"$f":"IF(NETWORKDAYS(J1875+1,H1875,DiasNOLaborables)<=0,\"\",NETWORKDAYS(J1875+1,H1875,DiasNOLaborables))","v":""},null,null,{"$f":"IFERROR(VLOOKUP(E1875,$X$51:$Y$64,2),\"\")","v":20}]
[1865,20219050139382,"2021-12-14","CORREO ELECTRÓNICO","SOLICITUD DE INFORMACIÓN Y DOCUMENTOS","REGISTROS AMBIENTALES","SUBDIRECCIÓN DE ESTUDIOS AMBIENTALES","2021-12-14","CORREO ELECTRÓNICO",{"$f":"IFERROR(WORKDAY(C1876,P1876,DiasNOLaborables),\"\")","v":"2022-01-11"},{"$f":"+IF(C1876=\"\",\"\",IF(H1876=\"\",\"SIN RESPUESTA\",(IF(H1876<=J1876,\"A TIEMPO\",\"FUERA DE TIEMPO\"))))","v":"A TIEMPO"},{"$f":"IF(H1876=\"\",\"\",NETWORKDAYS(C1876+1,H1876,DiasNOLaborables))","v":-2},{"$f":"IF(NETWORKDAYS(J1876+1,H1876,DiasNOLaborables)<=0,\"\",NETWORKDAYS(J1876+1,H1876,DiasNOLaborables))","v":""},null,null,{"$f":"IFERROR(VLOOKUP(E1876,$X$51:$Y$64,2),\"\")","v":20}]
[1866,20219050139402,"2021-12-14","CORREO ELECTRÓNICO","SOLICITUD DE INFORMACIÓN Y DOCUMENTOS","BOSQUES","SUBDIRECCIÓN DE ECOSISTEMAS E INFORMACIÓN AMBIENTAL","2021-12-23","CORREO ELECTRÓNICO",{"$f":"IFERROR(WORKDAY(C1877,P1877,DiasNOLaborables),\"\")","v":"2022-01-11"},{"$f":"+IF(C1877=\"\",\"\",IF(H1877=\"\",\"SIN RESPUESTA\",(IF(H1877<=J1877,\"A TIEMPO\",\"FUERA DE TIEMPO\"))))","v":"A TIEMPO"},{"$f":"IF(H1877=\"\",\"\",NETWORKDAYS(C1877+1,H1877,DiasNOLaborables))","v":7},{"$f":"IF(NETWORKDAYS(J1877+1,H1877,DiasNOLaborables)<=0,\"\",NETWORKDAYS(J1877+1,H1877,DiasNOLaborables))","v":""},null,null,{"$f":"IFERROR(VLOOKUP(E1877,$X$51:$Y$64,2),\"\")","v":20}]
[1867,20219050139422,"2021-12-14","CORREO ELECTRÓNICO","SOLICITUD DE INFORMACIÓN Y DOCUMENTOS","INFORMES AMBIENTALES","SUBDIRECCIÓN DE HIDROLOGÍA","2021-12-20","CORREO ELECTRÓNICO",{"$f":"IFERROR(WORKDAY(C1878,P1878,DiasNOLaborables),\"\")","v":"2022-01-11"},{"$f":"+IF(C1878=\"\",\"\",IF(H1878=\"\",\"SIN RESPUESTA\",(IF(H1878<=J1878,\"A TIEMPO\",\"FUERA DE TIEMPO\"))))","v":"A TIEMPO"},{"$f":"IF(H1878=\"\",\"\",NETWORKDAYS(C1878+1,H1878,DiasNOLaborables))","v":4},{"$f":"IF(NETWORKDAYS(J1878+1,H1878,DiasNOLaborables)<=0,\"\",NETWORKDAYS(J1878+1,H1878,DiasNOLaborables))","v":""},null,null,{"$f":"IFERROR(VLOOKUP(E1878,$X$51:$Y$64,2),\"\")","v":20}]
[1868,20219050139542,"2021-12-14","CORREO ELECTRÓNICO","SOLICITUD DE INFORMACIÓN Y DOCUMENTOS","ADMINISTRATIVA","GRUPO DE ADMINISTRACIÓN Y DESARROLLO DEL TALENTO HUMANO","2021-12-15","CORREO ELECTRÓNICO",{"$f":"IFERROR(WORKDAY(C1879,P1879,DiasNOLaborables),\"\")","v":"2022-01-11"},{"$f":"+IF(C1879=\"\",\"\",IF(H1879=\"\",\"SIN RESPUESTA\",(IF(H1879<=J1879,\"A TIEMPO\",\"FUERA DE TIEMPO\"))))","v":"A TIEMPO"},{"$f":"IF(H1879=\"\",\"\",NETWORKDAYS(C1879+1,H1879,DiasNOLaborables))","v":1},{"$f":"IF(NETWORKDAYS(J1879+1,H1879,DiasNOLaborables)<=0,\"\",NETWORKDAYS(J1879+1,H1879,DiasNOLaborables))","v":""},null,null,{"$f":"IFERROR(VLOOKUP(E1879,$X$51:$Y$64,2),\"\")","v":20}]
[1869,20219050139252,"2021-12-14","MODULO CONTACTENOS","SOLICITUD DE INFORMACIÓN Y DOCUMENTOS","ADMINISTRATIVA","GRUPO DE ADMINISTRACIÓN Y DESARROLLO DEL TALENTO HUMANO","2021-12-15","CORREO ELECTRÓNICO",{"$f":"IFERROR(WORKDAY(C1880,P1880,DiasNOLaborables),\"\")","v":"2022-01-11"},{"$f":"+IF(C1880=\"\",\"\",IF(H1880=\"\",\"SIN RESPUESTA\",(IF(H1880<=J1880,\"A TIEMPO\",\"FUERA DE TIEMPO\"))))","v":"A TIEMPO"},{"$f":"IF(H1880=\"\",\"\",NETWORKDAYS(C1880+1,H1880,DiasNOLaborables))","v":1},{"$f":"IF(NETWORKDAYS(J1880+1,H1880,DiasNOLaborables)<=0,\"\",NETWORKDAYS(J1880+1,H1880,DiasNOLaborables))","v":""},null,null,{"$f":"IFERROR(VLOOKUP(E1880,$X$51:$Y$64,2),\"\")","v":20}]
[1870,20219050139262,"2021-12-14","MODULO CONTACTENOS","SOLICITUD DE INFORMACIÓN Y DOCUMENTOS","ADMINISTRATIVA","OFICINA ASESORA JURÍDICA","2021-12-16","CORREO ELECTRÓNICO",{"$f":"IFERROR(WORKDAY(C1881,P1881,DiasNOLaborables),\"\")","v":"2022-01-11"},{"$f":"+IF(C1881=\"\",\"\",IF(H1881=\"\",\"SIN RESPUESTA\",(IF(H1881<=J1881,\"A TIEMPO\",\"FUERA DE TIEMPO\"))))","v":"A TIEMPO"},{"$f":"IF(H1881=\"\",\"\",NETWORKDAYS(C1881+1,H1881,DiasNOLaborables))","v":2},{"$f":"IF(NETWORKDAYS(J1881+1,H1881,DiasNOLaborables)<=0,\"\",NETWORKDAYS(J1881+1,H1881,DiasNOLaborables))","v":""},null,null,{"$f":"IFERROR(VLOOKUP(E1881,$X$51:$Y$64,2),\"\")","v":20}]
[1871,20219050139282,"2021-12-14","MODULO CONTACTENOS","SOLICITUD DE INFORMACIÓN Y DOCUMENTOS","ADMINISTRATIVA","OFICINA ASESORA JURÍDICA","2021-12-16","CORREO ELECTRÓNICO",{"$f":"IFERROR(WORKDAY(C1882,P1882,DiasNOLaborables),\"\")","v":"2022-01-11"},{"$f":"+IF(C1882=\"\",\"\",IF(H1882=\"\",\"SIN RESPUESTA\",(IF(H1882<=J1882,\"A TIEMPO\",\"FUERA DE TIEMPO\"))))","v":"A TIEMPO"},{"$f":"IF(H1882=\"\",\"\",NETWORKDAYS(C1882+1,H1882,DiasNOLaborables))","v":2},{"$f":"IF(NETWORKDAYS(J1882+1,H1882,DiasNOLaborables)<=0,\"\",NETWORKDAYS(J1882+1,H1882,DiasNOLaborables))","v":""},null,null,{"$f":"IFERROR(VLOOKUP(E1882,$X$51:$Y$64,2),\"\")","v":20}]
[1872,20219050139412,"2021-12-14","MODULO CONTACTENOS","SOLICITUD DE INFORMACIÓN Y DOCUMENTOS","ADMINISTRATIVA","OFICINA ASESORA JURÍDICA","2021-12-16","CORREO ELECTRÓNICO",{"$f":"IFERROR(WORKDAY(C1883,P1883,DiasNOLaborables),\"\")","v":"2022-01-11"},{"$f":"+IF(C1883=\"\",\"\",IF(H1883=\"\",\"SIN RESPUESTA\",(IF(H1883<=J1883,\"A TIEMPO\",\"FUERA DE TIEMPO\"))))","v":"A TIEMPO"},{"$f":"IF(H1883=\"\",\"\",NETWORKDAYS(C1883+1,H1883,DiasNOLaborables))","v":2},{"$f":"IF(NETWORKDAYS(J1883+1,H1883,DiasNOLaborables)<=0,\"\",NETWORKDAYS(J1883+1,H1883,DiasNOLaborables))","v":""},null,null,{"$f":"IFERROR(VLOOKUP(E1883,$X$51:$Y$64,2),\"\")","v":20}]
[1873,20219050139462,"2021-12-14","MODULO CONTACTENOS","SOLICITUD DE INFORMACIÓN Y DOCUMENTOS","ADMINISTRATIVA","OFICINA ASESORA JURÍDICA","2021-12-17","CORREO ELECTRÓNICO",{"$f":"IFERROR(WORKDAY(C1884,P1884,DiasNOLaborables),\"\")","v":"2022-01-11"},{"$f":"+IF(C1884=\"\",\"\",IF(H1884=\"\",\"SIN RESPUESTA\",(IF(H1884<=J1884,\"A TIEMPO\",\"FUERA DE TIEMPO\"))))","v":"A TIEMPO"},{"$f":"IF(H1884=\"\",\"\",NETWORKDAYS(C1884+1,H1884,DiasNOLaborables))","v":3},{"$f":"IF(NETWORKDAYS(J1884+1,H1884,DiasNOLaborables)<=0,\"\",NETWORKDAYS(J1884+1,H1884,DiasNOLaborables))","v":""},null,null,{"$f":"IFERROR(VLOOKUP(E1884,$X$51:$Y$64,2),\"\")","v":20}]
[1874,20219050139472,"2021-12-14","MODULO CONTACTENOS","CERTIFICACIONES DE TIEMPO, CLIMA Y EVENTOS HIDROLÓGICOS","CERTIFICACIONES DE TIEMPO Y CLIMA","SUBDIRECCIÓN DE METEOROLOGÍA","2022-01-14","CORREO ELECTRÓNICO",{"$f":"IFERROR(WORKDAY(C1885,P1885,DiasNOLaborables),\"\")","v":"2022-02-01"},{"$f":"+IF(C1885=\"\",\"\",IF(H1885=\"\",\"SIN RESPUESTA\",(IF(H1885<=J1885,\"A TIEMPO\",\"FUERA DE TIEMPO\"))))","v":"A TIEMPO"},{"$f":"IF(H1885=\"\",\"\",NETWORKDAYS(C1885+1,H1885,DiasNOLaborables))","v":23},{"$f":"IF(NETWORKDAYS(J1885+1,H1885,DiasNOLaborables)<=0,\"\",NETWORKDAYS(J1885+1,H1885,DiasNOLaborables))","v":""},null,null,{"$f":"IFERROR(VLOOKUP(E1885,$X$51:$Y$64,2),\"\")","v":35}]
[1875,20219050139482,"2021-12-14","MODULO CONTACTENOS","CERTIFICACIONES DE TIEMPO, CLIMA Y EVENTOS HIDROLÓGICOS","CERTIFICACIONES DE TIEMPO Y CLIMA","SUBDIRECCIÓN DE METEOROLOGÍA","2021-12-30","CORREO ELECTRÓNICO",{"$f":"IFERROR(WORKDAY(C1886,P1886,DiasNOLaborables),\"\")","v":"2022-02-01"},{"$f":"+IF(C1886=\"\",\"\",IF(H1886=\"\",\"SIN RESPUESTA\",(IF(H1886<=J1886,\"A TIEMPO\",\"FUERA DE TIEMPO\"))))","v":"A TIEMPO"},{"$f":"IF(H1886=\"\",\"\",NETWORKDAYS(C1886+1,H1886,DiasNOLaborables))","v":12},{"$f":"IF(NETWORKDAYS(J1886+1,H1886,DiasNOLaborables)<=0,\"\",NETWORKDAYS(J1886+1,H1886,DiasNOLaborables))","v":""},null,null,{"$f":"IFERROR(VLOOKUP(E1886,$X$51:$Y$64,2),\"\")","v":35}]
[1876,20219050139512,"2021-12-14","MODULO CONTACTENOS","SOLICITUD DE INFORMACIÓN Y DOCUMENTOS","BOSQUES","SUBDIRECCIÓN DE ECOSISTEMAS E INFORMACIÓN AMBIENTAL","2021-12-30","CORREO ELECTRÓNICO",{"$f":"IFERROR(WORKDAY(C1887,P1887,DiasNOLaborables),\"\")","v":"2022-01-11"},{"$f":"+IF(C1887=\"\",\"\",IF(H1887=\"\",\"SIN RESPUESTA\",(IF(H1887<=J1887,\"A TIEMPO\",\"FUERA DE TIEMPO\"))))","v":"A TIEMPO"},{"$f":"IF(H1887=\"\",\"\",NETWORKDAYS(C1887+1,H1887,DiasNOLaborables))","v":12},{"$f":"IF(NETWORKDAYS(J1887+1,H1887,DiasNOLaborables)<=0,\"\",NETWORKDAYS(J1887+1,H1887,DiasNOLaborables))","v":""},null,null,{"$f":"IFERROR(VLOOKUP(E1887,$X$51:$Y$64,2),\"\")","v":20}]
[1877,20219910069202,"2021-12-14","CORREO ELECTRÓNICO","SOLICITUD DE INFORMACIÓN Y DOCUMENTOS","SOLICITUD DE INFORMACIÓN HIDROMETEOROLÓGICA","SUBDIRECCIÓN DE ECOSISTEMAS E INFORMACIÓN AMBIENTAL","2021-12-22","CORREO ELECTRÓNICO",{"$f":"IFERROR(WORKDAY(C1888,P1888,DiasNOLaborables),\"\")","v":"2022-01-11"},{"$f":"+IF(C1888=\"\",\"\",IF(H1888=\"\",\"SIN RESPUESTA\",(IF(H1888<=J1888,\"A TIEMPO\",\"FUERA DE TIEMPO\"))))","v":"A TIEMPO"},{"$f":"IF(H1888=\"\",\"\",NETWORKDAYS(C1888+1,H1888,DiasNOLaborables))","v":6},{"$f":"IF(NETWORKDAYS(J1888+1,H1888,DiasNOLaborables)<=0,\"\",NETWORKDAYS(J1888+1,H1888,DiasNOLaborables))","v":""},null,null,{"$f":"IFERROR(VLOOKUP(E1888,$X$51:$Y$64,2),\"\")","v":20}]
[1878,20219050139502,"2021-12-14","MODULO CONTACTENOS","SOLICITUD DE INFORMACIÓN Y DOCUMENTOS","BOSQUES","SUBDIRECCIÓN DE ECOSISTEMAS E INFORMACIÓN AMBIENTAL","2021-12-30","CORREO ELECTRÓNICO",{"$f":"IFERROR(WORKDAY(C1889,P1889,DiasNOLaborables),\"\")","v":"2022-01-11"},{"$f":"+IF(C1889=\"\",\"\",IF(H1889=\"\",\"SIN RESPUESTA\",(IF(H1889<=J1889,\"A TIEMPO\",\"FUERA DE TIEMPO\"))))","v":"A TIEMPO"},{"$f":"IF(H1889=\"\",\"\",NETWORKDAYS(C1889+1,H1889,DiasNOLaborables))","v":12},{"$f":"IF(NETWORKDAYS(J1889+1,H1889,DiasNOLaborables)<=0,\"\",NETWORKDAYS(J1889+1,H1889,DiasNOLaborables))","v":""},null,null,{"$f":"IFERROR(VLOOKUP(E1889,$X$51:$Y$64,2),\"\")","v":20}]
[1879,20219050139372,"2021-12-14","MODULO CONTACTENOS","SOLICITUD DE INFORMACIÓN Y DOCUMENTOS","SOLICITUD DE INFORMACIÓN HIDROMETEOROLÓGICA","GRUPO DE SERVICIO AL CIUDADANO ","2021-12-14","CORREO ELECTRÓNICO",{"$f":"IFERROR(WORKDAY(C1890,P1890,DiasNOLaborables),\"\")","v":"2022-01-11"},{"$f":"+IF(C1890=\"\",\"\",IF(H1890=\"\",\"SIN RESPUESTA\",(IF(H1890<=J1890,\"A TIEMPO\",\"FUERA DE TIEMPO\"))))","v":"A TIEMPO"},{"$f":"IF(H1890=\"\",\"\",NETWORKDAYS(C1890+1,H1890,DiasNOLaborables))","v":-2},{"$f":"IF(NETWORKDAYS(J1890+1,H1890,DiasNOLaborables)<=0,\"\",NETWORKDAYS(J1890+1,H1890,DiasNOLaborables))","v":""},null,null,{"$f":"IFERROR(VLOOKUP(E1890,$X$51:$Y$64,2),\"\")","v":20}]
[1880,20219050139392,"2021-12-14","MODULO CONTACTENOS","SOLICITUD DE INFORMACIÓN Y DOCUMENTOS","SOLICITUD DE INFORMACIÓN HIDROMETEOROLÓGICA","GRUPO DE SERVICIO AL CIUDADANO ","2021-12-14","CORREO ELECTRÓNICO",{"$f":"IFERROR(WORKDAY(C1891,P1891,DiasNOLaborables),\"\")","v":"2022-01-11"},{"$f":"+IF(C1891=\"\",\"\",IF(H1891=\"\",\"SIN RESPUESTA\",(IF(H1891<=J1891,\"A TIEMPO\",\"FUERA DE TIEMPO\"))))","v":"A TIEMPO"},{"$f":"IF(H1891=\"\",\"\",NETWORKDAYS(C1891+1,H1891,DiasNOLaborables))","v":-2},{"$f":"IF(NETWORKDAYS(J1891+1,H1891,DiasNOLaborables)<=0,\"\",NETWORKDAYS(J1891+1,H1891,DiasNOLaborables))","v":""},null,null,{"$f":"IFERROR(VLOOKUP(E1891,$X$51:$Y$64,2),\"\")","v":20}]
[1881,20219050139272,"2021-12-14","CORREO ELECTRÓNICO","SOLICITUD DE INFORMACIÓN Y DOCUMENTOS","SOLICITUD DE INFORMACIÓN HIDROMETEOROLÓGICA","GRUPO DE SERVICIO AL CIUDADANO ","2021-12-20","CORREO ELECTRÓNICO",{"$f":"IFERROR(WORKDAY(C1892,P1892,DiasNOLaborables),\"\")","v":"2022-01-11"},{"$f":"+IF(C1892=\"\",\"\",IF(H1892=\"\",\"SIN RESPUESTA\",(IF(H1892<=J1892,\"A TIEMPO\",\"FUERA DE TIEMPO\"))))","v":"A TIEMPO"},{"$f":"IF(H1892=\"\",\"\",NETWORKDAYS(C1892+1,H1892,DiasNOLaborables))","v":4},{"$f":"IF(NETWORKDAYS(J1892+1,H1892,DiasNOLaborables)<=0,\"\",NETWORKDAYS(J1892+1,H1892,DiasNOLaborables))","v":""},null,null,{"$f":"IFERROR(VLOOKUP(E1892,$X$51:$Y$64,2),\"\")","v":20}]
[1882,20219050139292,"2021-12-14","MODULO CONTACTENOS","SOLICITUD DE INFORMACIÓN Y DOCUMENTOS","SOLICITUD DE INFORMACIÓN HIDROMETEOROLÓGICA","GRUPO DE SERVICIO AL CIUDADANO ","2021-12-20","CORREO ELECTRÓNICO",{"$f":"IFERROR(WORKDAY(C1893,P1893,DiasNOLaborables),\"\")","v":"2022-01-11"},{"$f":"+IF(C1893=\"\",\"\",IF(H1893=\"\",\"SIN RESPUESTA\",(IF(H1893<=J1893,\"A TIEMPO\",\"FUERA DE TIEMPO\"))))","v":"A TIEMPO"},{"$f":"IF(H1893=\"\",\"\",NETWORKDAYS(C1893+1,H1893,DiasNOLaborables))","v":4},{"$f":"IF(NETWORKDAYS(J1893+1,H1893,DiasNOLaborables)<=0,\"\",NETWORKDAYS(J1893+1,H1893,DiasNOLaborables))","v":""},null,null,{"$f":"IFERROR(VLOOKUP(E1893,$X$51:$Y$64,2),\"\")","v":20}]
[1883,20219050139492,"2021-12-14","MODULO CONTACTENOS","SOLICITUD DE INFORMACIÓN Y DOCUMENTOS","SOLICITUD DE INFORMACIÓN HIDROMETEOROLÓGICA","GRUPO DE SERVICIO AL CIUDADANO ","2021-12-20","CORREO ELECTRÓNICO",{"$f":"IFERROR(WORKDAY(C1894,P1894,DiasNOLaborables),\"\")","v":"2022-01-11"},{"$f":"+IF(C1894=\"\",\"\",IF(H1894=\"\",\"SIN RESPUESTA\",(IF(H1894<=J1894,\"A TIEMPO\",\"FUERA DE TIEMPO\"))))","v":"A TIEMPO"},{"$f":"IF(H1894=\"\",\"\",NETWORKDAYS(C1894+1,H1894,DiasNOLaborables))","v":4},{"$f":"IF(NETWORKDAYS(J1894+1,H1894,DiasNOLaborables)<=0,\"\",NETWORKDAYS(J1894+1,H1894,DiasNOLaborables))","v":""},null,null,{"$f":"IFERROR(VLOOKUP(E1894,$X$51:$Y$64,2),\"\")","v":20}]
[1884,20219050139532,"2021-12-14","MODULO CONTACTENOS","SOLICITUD DE INFORMACIÓN Y DOCUMENTOS","SOLICITUD DE INFORMACIÓN HIDROMETEOROLÓGICA","GRUPO DE SERVICIO AL CIUDADANO ","2021-12-20","CORREO ELECTRÓNICO",{"$f":"IFERROR(WORKDAY(C1895,P1895,DiasNOLaborables),\"\")","v":"2022-01-11"},{"$f":"+IF(C1895=\"\",\"\",IF(H1895=\"\",\"SIN RESPUESTA\",(IF(H1895<=J1895,\"A TIEMPO\",\"FUERA DE TIEMPO\"))))","v":"A TIEMPO"},{"$f":"IF(H1895=\"\",\"\",NETWORKDAYS(C1895+1,H1895,DiasNOLaborables))","v":4},{"$f":"IF(NETWORKDAYS(J1895+1,H1895,DiasNOLaborables)<=0,\"\",NETWORKDAYS(J1895+1,H1895,DiasNOLaborables))","v":""},null,null,{"$f":"IFERROR(VLOOKUP(E1895,$X$51:$Y$64,2),\"\")","v":20}]
[1885,20219050139442,"2021-12-14","MODULO CONTACTENOS","SOLICITUD DE INFORMACIÓN Y DOCUMENTOS","SOLICITUD DE INFORMACIÓN HIDROMETEOROLÓGICA","GRUPO DE SERVICIO AL CIUDADANO ","2021-12-21","CORREO ELECTRÓNICO",{"$f":"IFERROR(WORKDAY(C1896,P1896,DiasNOLaborables),\"\")","v":"2022-01-11"},{"$f":"+IF(C1896=\"\",\"\",IF(H1896=\"\",\"SIN RESPUESTA\",(IF(H1896<=J1896,\"A TIEMPO\",\"FUERA DE TIEMPO\"))))","v":"A TIEMPO"},{"$f":"IF(H1896=\"\",\"\",NETWORKDAYS(C1896+1,H1896,DiasNOLaborables))","v":5},{"$f":"IF(NETWORKDAYS(J1896+1,H1896,DiasNOLaborables)<=0,\"\",NETWORKDAYS(J1896+1,H1896,DiasNOLaborables))","v":""},null,null,{"$f":"IFERROR(VLOOKUP(E1896,$X$51:$Y$64,2),\"\")","v":20}]
[1886,20219050139562,"2021-12-14","MODULO CONTACTENOS","SOLICITUD DE INFORMACIÓN Y DOCUMENTOS","SOLICITUD DE INFORMACIÓN HIDROMETEOROLÓGICA","GRUPO DE SERVICIO AL CIUDADANO ","2021-12-21","CORREO ELECTRÓNICO",{"$f":"IFERROR(WORKDAY(C1897,P1897,DiasNOLaborables),\"\")","v":"2022-01-11"},{"$f":"+IF(C1897=\"\",\"\",IF(H1897=\"\",\"SIN RESPUESTA\",(IF(H1897<=J1897,\"A TIEMPO\",\"FUERA DE TIEMPO\"))))","v":"A TIEMPO"},{"$f":"IF(H1897=\"\",\"\",NETWORKDAYS(C1897+1,H1897,DiasNOLaborables))","v":5},{"$f":"IF(NETWORKDAYS(J1897+1,H1897,DiasNOLaborables)<=0,\"\",NETWORKDAYS(J1897+1,H1897,DiasNOLaborables))","v":""},null,null,{"$f":"IFERROR(VLOOKUP(E1897,$X$51:$Y$64,2),\"\")","v":20}]
[1887,20219050139572,"2021-12-14","MODULO CONTACTENOS","SOLICITUD DE INFORMACIÓN Y DOCUMENTOS","SOLICITUD DE INFORMACIÓN HIDROMETEOROLÓGICA","GRUPO DE SERVICIO AL CIUDADANO ","2021-12-21","CORREO ELECTRÓNICO",{"$f":"IFERROR(WORKDAY(C1898,P1898,DiasNOLaborables),\"\")","v":"2022-01-11"},{"$f":"+IF(C1898=\"\",\"\",IF(H1898=\"\",\"SIN RESPUESTA\",(IF(H1898<=J1898,\"A TIEMPO\",\"FUERA DE TIEMPO\"))))","v":"A TIEMPO"},{"$f":"IF(H1898=\"\",\"\",NETWORKDAYS(C1898+1,H1898,DiasNOLaborables))","v":5},{"$f":"IF(NETWORKDAYS(J1898+1,H1898,DiasNOLaborables)<=0,\"\",NETWORKDAYS(J1898+1,H1898,DiasNOLaborables))","v":""},null,null,{"$f":"IFERROR(VLOOKUP(E1898,$X$51:$Y$64,2),\"\")","v":20}]
[1888,20219050139612,"2021-12-14","MODULO CONTACTENOS","SOLICITUD DE INFORMACIÓN Y DOCUMENTOS","SOLICITUD DE INFORMACIÓN HIDROMETEOROLÓGICA","GRUPO DE SERVICIO AL CIUDADANO ","2021-12-21","CORREO ELECTRÓNICO",{"$f":"IFERROR(WORKDAY(C1899,P1899,DiasNOLaborables),\"\")","v":"2022-01-11"},{"$f":"+IF(C1899=\"\",\"\",IF(H1899=\"\",\"SIN RESPUESTA\",(IF(H1899<=J1899,\"A TIEMPO\",\"FUERA DE TIEMPO\"))))","v":"A TIEMPO"},{"$f":"IF(H1899=\"\",\"\",NETWORKDAYS(C1899+1,H1899,DiasNOLaborables))","v":5},{"$f":"IF(NETWORKDAYS(J1899+1,H1899,DiasNOLaborables)<=0,\"\",NETWORKDAYS(J1899+1,H1899,DiasNOLaborables))","v":""},null,null,{"$f":"IFERROR(VLOOKUP(E1899,$X$51:$Y$64,2),\"\")","v":20}]
[1889,20219050139332,"2021-12-14","MODULO CONTACTENOS","SOLICITUD DE INFORMACIÓN Y DOCUMENTOS","SOLICITUD DE INFORMACIÓN HIDROMETEOROLÓGICA","GRUPO DE SERVICIO AL CIUDADANO ","2021-12-20","CORREO ELECTRÓNICO",{"$f":"IFERROR(WORKDAY(C1900,P1900,DiasNOLaborables),\"\")","v":"2022-01-11"},{"$f":"+IF(C1900=\"\",\"\",IF(H1900=\"\",\"SIN RESPUESTA\",(IF(H1900<=J1900,\"A TIEMPO\",\"FUERA DE TIEMPO\"))))","v":"A TIEMPO"},{"$f":"IF(H1900=\"\",\"\",NETWORKDAYS(C1900+1,H1900,DiasNOLaborables))","v":4},{"$f":"IF(NETWORKDAYS(J1900+1,H1900,DiasNOLaborables)<=0,\"\",NETWORKDAYS(J1900+1,H1900,DiasNOLaborables))","v":""},null,null,{"$f":"IFERROR(VLOOKUP(E1900,$X$51:$Y$64,2),\"\")","v":20}]
[1890,20219050139342,"2021-12-14","MODULO CONTACTENOS","SOLICITUD DE INFORMACIÓN Y DOCUMENTOS","SOLICITUD DE INFORMACIÓN HIDROMETEOROLÓGICA","GRUPO DE SERVICIO AL CIUDADANO ","2021-12-21","CORREO ELECTRÓNICO",{"$f":"IFERROR(WORKDAY(C1901,P1901,DiasNOLaborables),\"\")","v":"2022-01-11"},{"$f":"+IF(C1901=\"\",\"\",IF(H1901=\"\",\"SIN RESPUESTA\",(IF(H1901<=J1901,\"A TIEMPO\",\"FUERA DE TIEMPO\"))))","v":"A TIEMPO"},{"$f":"IF(H1901=\"\",\"\",NETWORKDAYS(C1901+1,H1901,DiasNOLaborables))","v":5},{"$f":"IF(NETWORKDAYS(J1901+1,H1901,DiasNOLaborables)<=0,\"\",NETWORKDAYS(J1901+1,H1901,DiasNOLaborables))","v":""},null,null,{"$f":"IFERROR(VLOOKUP(E1901,$X$51:$Y$64,2),\"\")","v":20}]
[1891,20219050139822,"2021-12-15","MODULO CONTACTENOS","SOLICITUD DE INFORMACIÓN Y DOCUMENTOS","SOLICITUD DE INFORMACIÓN HIDROMETEOROLÓGICA","GRUPO DE SERVICIO AL CIUDADANO ","2021-12-21","CORREO ELECTRÓNICO",{"$f":"IFERROR(WORKDAY(C1902,P1902,DiasNOLaborables),\"\")","v":"2022-01-12"},{"$f":"+IF(C1902=\"\",\"\",IF(H1902=\"\",\"SIN RESPUESTA\",(IF(H1902<=J1902,\"A TIEMPO\",\"FUERA DE TIEMPO\"))))","v":"A TIEMPO"},{"$f":"IF(H1902=\"\",\"\",NETWORKDAYS(C1902+1,H1902,DiasNOLaborables))","v":4},{"$f":"IF(NETWORKDAYS(J1902+1,H1902,DiasNOLaborables)<=0,\"\",NETWORKDAYS(J1902+1,H1902,DiasNOLaborables))","v":""},null,null,{"$f":"IFERROR(VLOOKUP(E1902,$X$51:$Y$64,2),\"\")","v":20}]
[1892,20219050139962,"2021-12-15","MODULO CONTACTENOS","SOLICITUD DE INFORMACIÓN Y DOCUMENTOS","SOLICITUD DE INFORMACIÓN HIDROMETEOROLÓGICA","GRUPO DE SERVICIO AL CIUDADANO ","2021-12-22","CORREO ELECTRÓNICO",{"$f":"IFERROR(WORKDAY(C1903,P1903,DiasNOLaborables),\"\")","v":"2022-01-12"},{"$f":"+IF(C1903=\"\",\"\",IF(H1903=\"\",\"SIN RESPUESTA\",(IF(H1903<=J1903,\"A TIEMPO\",\"FUERA DE TIEMPO\"))))","v":"A TIEMPO"},{"$f":"IF(H1903=\"\",\"\",NETWORKDAYS(C1903+1,H1903,DiasNOLaborables))","v":5},{"$f":"IF(NETWORKDAYS(J1903+1,H1903,DiasNOLaborables)<=0,\"\",NETWORKDAYS(J1903+1,H1903,DiasNOLaborables))","v":""},null,null,{"$f":"IFERROR(VLOOKUP(E1903,$X$51:$Y$64,2),\"\")","v":20}]
[1893,20219050139992,"2021-12-15","MODULO CONTACTENOS","SOLICITUD DE INFORMACIÓN Y DOCUMENTOS","SOLICITUD DE INFORMACIÓN HIDROMETEOROLÓGICA","GRUPO DE SERVICIO AL CIUDADANO ","2021-12-22","CORREO ELECTRÓNICO",{"$f":"IFERROR(WORKDAY(C1904,P1904,DiasNOLaborables),\"\")","v":"2022-01-12"},{"$f":"+IF(C1904=\"\",\"\",IF(H1904=\"\",\"SIN RESPUESTA\",(IF(H1904<=J1904,\"A TIEMPO\",\"FUERA DE TIEMPO\"))))","v":"A TIEMPO"},{"$f":"IF(H1904=\"\",\"\",NETWORKDAYS(C1904+1,H1904,DiasNOLaborables))","v":5},{"$f":"IF(NETWORKDAYS(J1904+1,H1904,DiasNOLaborables)<=0,\"\",NETWORKDAYS(J1904+1,H1904,DiasNOLaborables))","v":""},null,null,{"$f":"IFERROR(VLOOKUP(E1904,$X$51:$Y$64,2),\"\")","v":20}]
[1894,20219050139662,"2021-12-15","MODULO CONTACTENOS","SOLICITUD DE INFORMACIÓN Y DOCUMENTOS","SOLICITUD DE INFORMACIÓN HIDROMETEOROLÓGICA","GRUPO DE SERVICIO AL CIUDADANO ","2021-12-21","CORREO ELECTRÓNICO",{"$f":"IFERROR(WORKDAY(C1905,P1905,DiasNOLaborables),\"\")","v":"2022-01-12"},{"$f":"+IF(C1905=\"\",\"\",IF(H1905=\"\",\"SIN RESPUESTA\",(IF(H1905<=J1905,\"A TIEMPO\",\"FUERA DE TIEMPO\"))))","v":"A TIEMPO"},{"$f":"IF(H1905=\"\",\"\",NETWORKDAYS(C1905+1,H1905,DiasNOLaborables))","v":4},{"$f":"IF(NETWORKDAYS(J1905+1,H1905,DiasNOLaborables)<=0,\"\",NETWORKDAYS(J1905+1,H1905,DiasNOLaborables))","v":""},null,null,{"$f":"IFERROR(VLOOKUP(E1905,$X$51:$Y$64,2),\"\")","v":20}]
[1895,20219050139712,"2021-12-15","CORREO ELECTRÓNICO","SOLICITUD DE INFORMACIÓN Y DOCUMENTOS","SOLICITUD DE INFORMACIÓN HIDROMETEOROLÓGICA","GRUPO DE SERVICIO AL CIUDADANO ","2021-12-21","CORREO ELECTRÓNICO",{"$f":"IFERROR(WORKDAY(C1906,P1906,DiasNOLaborables),\"\")","v":"2022-01-12"},{"$f":"+IF(C1906=\"\",\"\",IF(H1906=\"\",\"SIN RESPUESTA\",(IF(H1906<=J1906,\"A TIEMPO\",\"FUERA DE TIEMPO\"))))","v":"A TIEMPO"},{"$f":"IF(H1906=\"\",\"\",NETWORKDAYS(C1906+1,H1906,DiasNOLaborables))","v":4},{"$f":"IF(NETWORKDAYS(J1906+1,H1906,DiasNOLaborables)<=0,\"\",NETWORKDAYS(J1906+1,H1906,DiasNOLaborables))","v":""},null,null,{"$f":"IFERROR(VLOOKUP(E1906,$X$51:$Y$64,2),\"\")","v":20}]
[1896,20219050139732,"2021-12-15","CORREO ELECTRÓNICO","SOLICITUD DE INFORMACIÓN Y DOCUMENTOS","SOLICITUD DE INFORMACIÓN HIDROMETEOROLÓGICA","SUBDIRECCIÓN DE ECOSISTEMAS E INFORMACIÓN AMBIENTAL","2021-12-21","CORREO ELECTRÓNICO",{"$f":"IFERROR(WORKDAY(C1907,P1907,DiasNOLaborables),\"\")","v":"2022-01-12"},{"$f":"+IF(C1907=\"\",\"\",IF(H1907=\"\",\"SIN RESPUESTA\",(IF(H1907<=J1907,\"A TIEMPO\",\"FUERA DE TIEMPO\"))))","v":"A TIEMPO"},{"$f":"IF(H1907=\"\",\"\",NETWORKDAYS(C1907+1,H1907,DiasNOLaborables))","v":4},{"$f":"IF(NETWORKDAYS(J1907+1,H1907,DiasNOLaborables)<=0,\"\",NETWORKDAYS(J1907+1,H1907,DiasNOLaborables))","v":""},null,null,{"$f":"IFERROR(VLOOKUP(E1907,$X$51:$Y$64,2),\"\")","v":20}]
[1897,20219050139622,"2021-12-15","MODULO CONTACTENOS","SOLICITUD DE INFORMACIÓN Y DOCUMENTOS","SOLICITUD DE INFORMACIÓN HIDROMETEOROLÓGICA","GRUPO DE SERVICIO AL CIUDADANO ","2021-12-22","CORREO ELECTRÓNICO",{"$f":"IFERROR(WORKDAY(C1908,P1908,DiasNOLaborables),\"\")","v":"2022-01-12"},{"$f":"+IF(C1908=\"\",\"\",IF(H1908=\"\",\"SIN RESPUESTA\",(IF(H1908<=J1908,\"A TIEMPO\",\"FUERA DE TIEMPO\"))))","v":"A TIEMPO"},{"$f":"IF(H1908=\"\",\"\",NETWORKDAYS(C1908+1,H1908,DiasNOLaborables))","v":5},{"$f":"IF(NETWORKDAYS(J1908+1,H1908,DiasNOLaborables)<=0,\"\",NETWORKDAYS(J1908+1,H1908,DiasNOLaborables))","v":""},null,null,{"$f":"IFERROR(VLOOKUP(E1908,$X$51:$Y$64,2),\"\")","v":20}]
[1898,20219050139812,"2021-12-15","MODULO CONTACTENOS","SOLICITUD DE INFORMACIÓN Y DOCUMENTOS","SOLICITUD DE INFORMACIÓN HIDROMETEOROLÓGICA","GRUPO DE SERVICIO AL CIUDADANO ","2021-12-22","CORREO ELECTRÓNICO",{"$f":"IFERROR(WORKDAY(C1909,P1909,DiasNOLaborables),\"\")","v":"2022-01-12"},{"$f":"+IF(C1909=\"\",\"\",IF(H1909=\"\",\"SIN RESPUESTA\",(IF(H1909<=J1909,\"A TIEMPO\",\"FUERA DE TIEMPO\"))))","v":"A TIEMPO"},{"$f":"IF(H1909=\"\",\"\",NETWORKDAYS(C1909+1,H1909,DiasNOLaborables))","v":5},{"$f":"IF(NETWORKDAYS(J1909+1,H1909,DiasNOLaborables)<=0,\"\",NETWORKDAYS(J1909+1,H1909,DiasNOLaborables))","v":""},null,null,{"$f":"IFERROR(VLOOKUP(E1909,$X$51:$Y$64,2),\"\")","v":20}]
[1899,20219050139672,"2021-12-15","MODULO CONTACTENOS","SOLICITUD DE INFORMACIÓN Y DOCUMENTOS","ADMINISTRATIVA","OFICINA ASESORA JURÍDICA","2021-12-22","CORREO ELECTRÓNICO",{"$f":"IFERROR(WORKDAY(C1910,P1910,DiasNOLaborables),\"\")","v":"2022-01-12"},{"$f":"+IF(C1910=\"\",\"\",IF(H1910=\"\",\"SIN RESPUESTA\",(IF(H1910<=J1910,\"A TIEMPO\",\"FUERA DE TIEMPO\"))))","v":"A TIEMPO"},{"$f":"IF(H1910=\"\",\"\",NETWORKDAYS(C1910+1,H1910,DiasNOLaborables))","v":5},{"$f":"IF(NETWORKDAYS(J1910+1,H1910,DiasNOLaborables)<=0,\"\",NETWORKDAYS(J1910+1,H1910,DiasNOLaborables))","v":""},null,null,{"$f":"IFERROR(VLOOKUP(E1910,$X$51:$Y$64,2),\"\")","v":20}]
[1900,20219050139682,"2021-12-15","MODULO CONTACTENOS","SOLICITUD DE INFORMACIÓN Y DOCUMENTOS","ADMINISTRATIVA","OFICINA ASESORA JURÍDICA","2021-12-22","CORREO ELECTRÓNICO",{"$f":"IFERROR(WORKDAY(C1911,P1911,DiasNOLaborables),\"\")","v":"2022-01-12"},{"$f":"+IF(C1911=\"\",\"\",IF(H1911=\"\",\"SIN RESPUESTA\",(IF(H1911<=J1911,\"A TIEMPO\",\"FUERA DE TIEMPO\"))))","v":"A TIEMPO"},{"$f":"IF(H1911=\"\",\"\",NETWORKDAYS(C1911+1,H1911,DiasNOLaborables))","v":5},{"$f":"IF(NETWORKDAYS(J1911+1,H1911,DiasNOLaborables)<=0,\"\",NETWORKDAYS(J1911+1,H1911,DiasNOLaborables))","v":""},null,null,{"$f":"IFERROR(VLOOKUP(E1911,$X$51:$Y$64,2),\"\")","v":20}]
[1901,20219050139742,"2021-12-15","MODULO CONTACTENOS","SOLICITUD DE INFORMACIÓN Y DOCUMENTOS","ADMINISTRATIVA","OFICINA ASESORA JURÍDICA","2021-12-22","CORREO ELECTRÓNICO",{"$f":"IFERROR(WORKDAY(C1912,P1912,DiasNOLaborables),\"\")","v":"2022-01-12"},{"$f":"+IF(C1912=\"\",\"\",IF(H1912=\"\",\"SIN RESPUESTA\",(IF(H1912<=J1912,\"A TIEMPO\",\"FUERA DE TIEMPO\"))))","v":"A TIEMPO"},{"$f":"IF(H1912=\"\",\"\",NETWORKDAYS(C1912+1,H1912,DiasNOLaborables))","v":5},{"$f":"IF(NETWORKDAYS(J1912+1,H1912,DiasNOLaborables)<=0,\"\",NETWORKDAYS(J1912+1,H1912,DiasNOLaborables))","v":""},null,null,{"$f":"IFERROR(VLOOKUP(E1912,$X$51:$Y$64,2),\"\")","v":20}]
[1902,20219050139762,"2021-12-15","MODULO CONTACTENOS","SOLICITUD DE INFORMACIÓN Y DOCUMENTOS","ADMINISTRATIVA","OFICINA ASESORA JURÍDICA","2021-12-23","CORREO ELECTRÓNICO",{"$f":"IFERROR(WORKDAY(C1913,P1913,DiasNOLaborables),\"\")","v":"2022-01-12"},{"$f":"+IF(C1913=\"\",\"\",IF(H1913=\"\",\"SIN RESPUESTA\",(IF(H1913<=J1913,\"A TIEMPO\",\"FUERA DE TIEMPO\"))))","v":"A TIEMPO"},{"$f":"IF(H1913=\"\",\"\",NETWORKDAYS(C1913+1,H1913,DiasNOLaborables))","v":6},{"$f":"IF(NETWORKDAYS(J1913+1,H1913,DiasNOLaborables)<=0,\"\",NETWORKDAYS(J1913+1,H1913,DiasNOLaborables))","v":""},null,null,{"$f":"IFERROR(VLOOKUP(E1913,$X$51:$Y$64,2),\"\")","v":20}]
[1903,20219050139792,"2021-12-15","MODULO CONTACTENOS","SOLICITUD DE INFORMACIÓN Y DOCUMENTOS","ADMINISTRATIVA","GRUPO DE ADMINISTRACIÓN Y DESARROLLO DEL TALENTO HUMANO","2021-12-20","CORREO ELECTRÓNICO",{"$f":"IFERROR(WORKDAY(C1914,P1914,DiasNOLaborables),\"\")","v":"2022-01-12"},{"$f":"+IF(C1914=\"\",\"\",IF(H1914=\"\",\"SIN RESPUESTA\",(IF(H1914<=J1914,\"A TIEMPO\",\"FUERA DE TIEMPO\"))))","v":"A TIEMPO"},{"$f":"IF(H1914=\"\",\"\",NETWORKDAYS(C1914+1,H1914,DiasNOLaborables))","v":3},{"$f":"IF(NETWORKDAYS(J1914+1,H1914,DiasNOLaborables)<=0,\"\",NETWORKDAYS(J1914+1,H1914,DiasNOLaborables))","v":""},null,null,{"$f":"IFERROR(VLOOKUP(E1914,$X$51:$Y$64,2),\"\")","v":20}]
[1904,20219050139802,"2021-12-15","MODULO CONTACTENOS","SOLICITUD DE INFORMACIÓN Y DOCUMENTOS","ADMINISTRATIVA","OFICINA ASESORA JURÍDICA","2021-12-23","CORREO ELECTRÓNICO",{"$f":"IFERROR(WORKDAY(C1915,P1915,DiasNOLaborables),\"\")","v":"2022-01-12"},{"$f":"+IF(C1915=\"\",\"\",IF(H1915=\"\",\"SIN RESPUESTA\",(IF(H1915<=J1915,\"A TIEMPO\",\"FUERA DE TIEMPO\"))))","v":"A TIEMPO"},{"$f":"IF(H1915=\"\",\"\",NETWORKDAYS(C1915+1,H1915,DiasNOLaborables))","v":6},{"$f":"IF(NETWORKDAYS(J1915+1,H1915,DiasNOLaborables)<=0,\"\",NETWORKDAYS(J1915+1,H1915,DiasNOLaborables))","v":""},null,null,{"$f":"IFERROR(VLOOKUP(E1915,$X$51:$Y$64,2),\"\")","v":20}]
[1905,20219050139902,"2021-12-15","MODULO CONTACTENOS","SOLICITUD DE INFORMACIÓN Y DOCUMENTOS","BOSQUES","SUBDIRECCIÓN DE ECOSISTEMAS E INFORMACIÓN AMBIENTAL","2021-12-28","CORREO ELECTRÓNICO",{"$f":"IFERROR(WORKDAY(C1916,P1916,DiasNOLaborables),\"\")","v":"2022-01-12"},{"$f":"+IF(C1916=\"\",\"\",IF(H1916=\"\",\"SIN RESPUESTA\",(IF(H1916<=J1916,\"A TIEMPO\",\"FUERA DE TIEMPO\"))))","v":"A TIEMPO"},{"$f":"IF(H1916=\"\",\"\",NETWORKDAYS(C1916+1,H1916,DiasNOLaborables))","v":9},{"$f":"IF(NETWORKDAYS(J1916+1,H1916,DiasNOLaborables)<=0,\"\",NETWORKDAYS(J1916+1,H1916,DiasNOLaborables))","v":""},null,null,{"$f":"IFERROR(VLOOKUP(E1916,$X$51:$Y$64,2),\"\")","v":20}]
[1906,20219050139912,"2021-12-15","MODULO CONTACTENOS","SOLICITUD DE INFORMACIÓN Y DOCUMENTOS","BOSQUES","SUBDIRECCIÓN DE ECOSISTEMAS E INFORMACIÓN AMBIENTAL","2021-12-28","CORREO ELECTRÓNICO",{"$f":"IFERROR(WORKDAY(C1917,P1917,DiasNOLaborables),\"\")","v":"2022-01-12"},{"$f":"+IF(C1917=\"\",\"\",IF(H1917=\"\",\"SIN RESPUESTA\",(IF(H1917<=J1917,\"A TIEMPO\",\"FUERA DE TIEMPO\"))))","v":"A TIEMPO"},{"$f":"IF(H1917=\"\",\"\",NETWORKDAYS(C1917+1,H1917,DiasNOLaborables))","v":9},{"$f":"IF(NETWORKDAYS(J1917+1,H1917,DiasNOLaborables)<=0,\"\",NETWORKDAYS(J1917+1,H1917,DiasNOLaborables))","v":""},null,null,{"$f":"IFERROR(VLOOKUP(E1917,$X$51:$Y$64,2),\"\")","v":20}]
[1907,20219050139942,"2021-12-15","MODULO CONTACTENOS","CERTIFICACIONES DE TIEMPO, CLIMA Y EVENTOS HIDROLÓGICOS","CERTIFICACIONES DE TIEMPO Y CLIMA","SUBDIRECCIÓN DE METEOROLOGÍA","2021-12-22","CORREO ELECTRÓNICO",{"$f":"IFERROR(WORKDAY(C1918,P1918,DiasNOLaborables),\"\")","v":"2022-02-02"},{"$f":"+IF(C1918=\"\",\"\",IF(H1918=\"\",\"SIN RESPUESTA\",(IF(H1918<=J1918,\"A TIEMPO\",\"FUERA DE TIEMPO\"))))","v":"A TIEMPO"},{"$f":"IF(H1918=\"\",\"\",NETWORKDAYS(C1918+1,H1918,DiasNOLaborables))","v":5},{"$f":"IF(NETWORKDAYS(J1918+1,H1918,DiasNOLaborables)<=0,\"\",NETWORKDAYS(J1918+1,H1918,DiasNOLaborables))","v":""},null,null,{"$f":"IFERROR(VLOOKUP(E1918,$X$51:$Y$64,2),\"\")","v":35}]
[1908,20219050139972,"2021-12-15","MODULO CONTACTENOS","SOLICITUD DE INFORMACIÓN Y DOCUMENTOS","ADMINISTRATIVA","OFICINA ASESORA JURÍDICA","2021-12-23","CORREO ELECTRÓNICO",{"$f":"IFERROR(WORKDAY(C1919,P1919,DiasNOLaborables),\"\")","v":"2022-01-12"},{"$f":"+IF(C1919=\"\",\"\",IF(H1919=\"\",\"SIN RESPUESTA\",(IF(H1919<=J1919,\"A TIEMPO\",\"FUERA DE TIEMPO\"))))","v":"A TIEMPO"},{"$f":"IF(H1919=\"\",\"\",NETWORKDAYS(C1919+1,H1919,DiasNOLaborables))","v":6},{"$f":"IF(NETWORKDAYS(J1919+1,H1919,DiasNOLaborables)<=0,\"\",NETWORKDAYS(J1919+1,H1919,DiasNOLaborables))","v":""},null,null,{"$f":"IFERROR(VLOOKUP(E1919,$X$51:$Y$64,2),\"\")","v":20}]
[1909,20219050139982,"2021-12-15","MODULO CONTACTENOS","SOLICITUD DE INFORMACIÓN Y DOCUMENTOS","ADMINISTRATIVA","OFICINA ASESORA JURÍDICA","2021-12-23","CORREO ELECTRÓNICO",{"$f":"IFERROR(WORKDAY(C1920,P1920,DiasNOLaborables),\"\")","v":"2022-01-12"},{"$f":"+IF(C1920=\"\",\"\",IF(H1920=\"\",\"SIN RESPUESTA\",(IF(H1920<=J1920,\"A TIEMPO\",\"FUERA DE TIEMPO\"))))","v":"A TIEMPO"},{"$f":"IF(H1920=\"\",\"\",NETWORKDAYS(C1920+1,H1920,DiasNOLaborables))","v":6},{"$f":"IF(NETWORKDAYS(J1920+1,H1920,DiasNOLaborables)<=0,\"\",NETWORKDAYS(J1920+1,H1920,DiasNOLaborables))","v":""},null,null,{"$f":"IFERROR(VLOOKUP(E1920,$X$51:$Y$64,2),\"\")","v":20}]
[1910,20219050139692,"2021-12-15","CORREO ELECTRÓNICO","CERTIFICACIONES DE TIEMPO, CLIMA Y EVENTOS HIDROLÓGICOS","CERTIFICACIONES DE TIEMPO Y CLIMA","SUBDIRECCIÓN DE METEOROLOGÍA","2021-12-22","CORREO ELECTRÓNICO",{"$f":"IFERROR(WORKDAY(C1921,P1921,DiasNOLaborables),\"\")","v":"2022-02-02"},{"$f":"+IF(C1921=\"\",\"\",IF(H1921=\"\",\"SIN RESPUESTA\",(IF(H1921<=J1921,\"A TIEMPO\",\"FUERA DE TIEMPO\"))))","v":"A TIEMPO"},{"$f":"IF(H1921=\"\",\"\",NETWORKDAYS(C1921+1,H1921,DiasNOLaborables))","v":5},{"$f":"IF(NETWORKDAYS(J1921+1,H1921,DiasNOLaborables)<=0,\"\",NETWORKDAYS(J1921+1,H1921,DiasNOLaborables))","v":""},null,null,{"$f":"IFERROR(VLOOKUP(E1921,$X$51:$Y$64,2),\"\")","v":35}]
[1911,20219050139702,"2021-12-15","CORREO ELECTRÓNICO","CERTIFICACIONES DE TIEMPO, CLIMA Y EVENTOS HIDROLÓGICOS","CERTIFICACIONES DE TIEMPO Y CLIMA","SUBDIRECCIÓN DE METEOROLOGÍA","2021-12-20","CORREO ELECTRÓNICO",{"$f":"IFERROR(WORKDAY(C1922,P1922,DiasNOLaborables),\"\")","v":"2022-02-02"},{"$f":"+IF(C1922=\"\",\"\",IF(H1922=\"\",\"SIN RESPUESTA\",(IF(H1922<=J1922,\"A TIEMPO\",\"FUERA DE TIEMPO\"))))","v":"A TIEMPO"},{"$f":"IF(H1922=\"\",\"\",NETWORKDAYS(C1922+1,H1922,DiasNOLaborables))","v":3},{"$f":"IF(NETWORKDAYS(J1922+1,H1922,DiasNOLaborables)<=0,\"\",NETWORKDAYS(J1922+1,H1922,DiasNOLaborables))","v":""},null,null,{"$f":"IFERROR(VLOOKUP(E1922,$X$51:$Y$64,2),\"\")","v":35}]
[1912,20219050139722,"2021-12-15","CORREO ELECTRÓNICO","SOLICITUD DE INFORMACIÓN Y DOCUMENTOS","REGISTROS AMBIENTALES","SUBDIRECCIÓN DE ESTUDIOS AMBIENTALES","2021-12-16","CORREO ELECTRÓNICO",{"$f":"IFERROR(WORKDAY(C1923,P1923,DiasNOLaborables),\"\")","v":"2022-01-12"},{"$f":"+IF(C1923=\"\",\"\",IF(H1923=\"\",\"SIN RESPUESTA\",(IF(H1923<=J1923,\"A TIEMPO\",\"FUERA DE TIEMPO\"))))","v":"A TIEMPO"},{"$f":"IF(H1923=\"\",\"\",NETWORKDAYS(C1923+1,H1923,DiasNOLaborables))","v":1},{"$f":"IF(NETWORKDAYS(J1923+1,H1923,DiasNOLaborables)<=0,\"\",NETWORKDAYS(J1923+1,H1923,DiasNOLaborables))","v":""},null,null,{"$f":"IFERROR(VLOOKUP(E1923,$X$51:$Y$64,2),\"\")","v":20}]
[1913,20219050139752,"2021-12-15","CORREO ELECTRÓNICO","SOLICITUD DE INFORMACIÓN Y DOCUMENTOS","BOSQUES","SUBDIRECCIÓN DE ECOSISTEMAS E INFORMACIÓN AMBIENTAL","2021-12-28","CORREO ELECTRÓNICO",{"$f":"IFERROR(WORKDAY(C1924,P1924,DiasNOLaborables),\"\")","v":"2022-01-12"},{"$f":"+IF(C1924=\"\",\"\",IF(H1924=\"\",\"SIN RESPUESTA\",(IF(H1924<=J1924,\"A TIEMPO\",\"FUERA DE TIEMPO\"))))","v":"A TIEMPO"},{"$f":"IF(H1924=\"\",\"\",NETWORKDAYS(C1924+1,H1924,DiasNOLaborables))","v":9},{"$f":"IF(NETWORKDAYS(J1924+1,H1924,DiasNOLaborables)<=0,\"\",NETWORKDAYS(J1924+1,H1924,DiasNOLaborables))","v":""},null,null,{"$f":"IFERROR(VLOOKUP(E1924,$X$51:$Y$64,2),\"\")","v":20}]
[1914,20219050139772,"2021-12-15","CORREO ELECTRÓNICO","SOLICITUD DE INFORMACIÓN Y DOCUMENTOS","REGISTROS AMBIENTALES","SUBDIRECCIÓN DE ESTUDIOS AMBIENTALES","2021-12-15","CORREO ELECTRÓNICO",{"$f":"IFERROR(WORKDAY(C1925,P1925,DiasNOLaborables),\"\")","v":"2022-01-12"},{"$f":"+IF(C1925=\"\",\"\",IF(H1925=\"\",\"SIN RESPUESTA\",(IF(H1925<=J1925,\"A TIEMPO\",\"FUERA DE TIEMPO\"))))","v":"A TIEMPO"},{"$f":"IF(H1925=\"\",\"\",NETWORKDAYS(C1925+1,H1925,DiasNOLaborables))","v":-2},{"$f":"IF(NETWORKDAYS(J1925+1,H1925,DiasNOLaborables)<=0,\"\",NETWORKDAYS(J1925+1,H1925,DiasNOLaborables))","v":""},null,null,{"$f":"IFERROR(VLOOKUP(E1925,$X$51:$Y$64,2),\"\")","v":20}]
[1915,20219050139782,"2021-12-15","CORREO ELECTRÓNICO","SOLICITUD DE INFORMACIÓN Y DOCUMENTOS","INFORMES AMBIENTALES","SUBDIRECCIÓN DE METEOROLOGÍA","2021-12-28","CORREO ELECTRÓNICO",{"$f":"IFERROR(WORKDAY(C1926,P1926,DiasNOLaborables),\"\")","v":"2022-01-12"},{"$f":"+IF(C1926=\"\",\"\",IF(H1926=\"\",\"SIN RESPUESTA\",(IF(H1926<=J1926,\"A TIEMPO\",\"FUERA DE TIEMPO\"))))","v":"A TIEMPO"},{"$f":"IF(H1926=\"\",\"\",NETWORKDAYS(C1926+1,H1926,DiasNOLaborables))","v":9},{"$f":"IF(NETWORKDAYS(J1926+1,H1926,DiasNOLaborables)<=0,\"\",NETWORKDAYS(J1926+1,H1926,DiasNOLaborables))","v":""},null,null,{"$f":"IFERROR(VLOOKUP(E1926,$X$51:$Y$64,2),\"\")","v":20}]
[1916,20219050139842,"2021-12-15","CORREO ELECTRÓNICO","SOLICITUD DE INFORMACIÓN Y DOCUMENTOS","INFORMES AMBIENTALES","SUBDIRECCIÓN DE HIDROLOGÍA","2021-12-20","CORREO ELECTRÓNICO",{"$f":"IFERROR(WORKDAY(C1927,P1927,DiasNOLaborables),\"\")","v":"2022-01-12"},{"$f":"+IF(C1927=\"\",\"\",IF(H1927=\"\",\"SIN RESPUESTA\",(IF(H1927<=J1927,\"A TIEMPO\",\"FUERA DE TIEMPO\"))))","v":"A TIEMPO"},{"$f":"IF(H1927=\"\",\"\",NETWORKDAYS(C1927+1,H1927,DiasNOLaborables))","v":3},{"$f":"IF(NETWORKDAYS(J1927+1,H1927,DiasNOLaborables)<=0,\"\",NETWORKDAYS(J1927+1,H1927,DiasNOLaborables))","v":""},null,null,{"$f":"IFERROR(VLOOKUP(E1927,$X$51:$Y$64,2),\"\")","v":20}]
[1917,20219050139852,"2021-12-15","CORREO ELECTRÓNICO","SOLICITUD DE INFORMACIÓN Y DOCUMENTOS","INFORMES AMBIENTALES","SUBDIRECCIÓN DE METEOROLOGÍA","2021-12-28","CORREO ELECTRÓNICO",{"$f":"IFERROR(WORKDAY(C1928,P1928,DiasNOLaborables),\"\")","v":"2022-01-12"},{"$f":"+IF(C1928=\"\",\"\",IF(H1928=\"\",\"SIN RESPUESTA\",(IF(H1928<=J1928,\"A TIEMPO\",\"FUERA DE TIEMPO\"))))","v":"A TIEMPO"},{"$f":"IF(H1928=\"\",\"\",NETWORKDAYS(C1928+1,H1928,DiasNOLaborables))","v":9},{"$f":"IF(NETWORKDAYS(J1928+1,H1928,DiasNOLaborables)<=0,\"\",NETWORKDAYS(J1928+1,H1928,DiasNOLaborables))","v":""},null,null,{"$f":"IFERROR(VLOOKUP(E1928,$X$51:$Y$64,2),\"\")","v":20}]
[1918,20219050139922,"2021-12-15","CORREO ELECTRÓNICO","SOLICITUD DE INFORMACIÓN Y DOCUMENTOS","JURIDICO","OFICINA ASESORA JURÍDICA","2021-12-23","CORREO ELECTRÓNICO",{"$f":"IFERROR(WORKDAY(C1929,P1929,DiasNOLaborables),\"\")","v":"2022-01-12"},{"$f":"+IF(C1929=\"\",\"\",IF(H1929=\"\",\"SIN RESPUESTA\",(IF(H1929<=J1929,\"A TIEMPO\",\"FUERA DE TIEMPO\"))))","v":"A TIEMPO"},{"$f":"IF(H1929=\"\",\"\",NETWORKDAYS(C1929+1,H1929,DiasNOLaborables))","v":6},{"$f":"IF(NETWORKDAYS(J1929+1,H1929,DiasNOLaborables)<=0,\"\",NETWORKDAYS(J1929+1,H1929,DiasNOLaborables))","v":""},null,null,{"$f":"IFERROR(VLOOKUP(E1929,$X$51:$Y$64,2),\"\")","v":20}]
[1919,20219050139932,"2021-12-15","CORREO ELECTRÓNICO","CERTIFICACIONES DE TIEMPO, CLIMA Y EVENTOS HIDROLÓGICOS","CERTIFICACIONES DE TIEMPO Y CLIMA","SUBDIRECCIÓN DE METEOROLOGÍA","2021-12-20","CORREO ELECTRÓNICO",{"$f":"IFERROR(WORKDAY(C1930,P1930,DiasNOLaborables),\"\")","v":"2022-02-02"},{"$f":"+IF(C1930=\"\",\"\",IF(H1930=\"\",\"SIN RESPUESTA\",(IF(H1930<=J1930,\"A TIEMPO\",\"FUERA DE TIEMPO\"))))","v":"A TIEMPO"},{"$f":"IF(H1930=\"\",\"\",NETWORKDAYS(C1930+1,H1930,DiasNOLaborables))","v":3},{"$f":"IF(NETWORKDAYS(J1930+1,H1930,DiasNOLaborables)<=0,\"\",NETWORKDAYS(J1930+1,H1930,DiasNOLaborables))","v":""},null,null,{"$f":"IFERROR(VLOOKUP(E1930,$X$51:$Y$64,2),\"\")","v":35}]
[1920,20219910069542,"2021-12-15","CORREO ELECTRÓNICO","PETICIÓN","CERTIFICACIONES DE TIEMPO Y CLIMA","SUBDIRECCIÓN DE METEOROLOGÍA","2021-12-15","CORREO ELECTRÓNICO",{"$f":"IFERROR(WORKDAY(C1931,P1931,DiasNOLaborables),\"\")","v":"2022-01-26"},{"$f":"+IF(C1931=\"\",\"\",IF(H1931=\"\",\"SIN RESPUESTA\",(IF(H1931<=J1931,\"A TIEMPO\",\"FUERA DE TIEMPO\"))))","v":"A TIEMPO"},{"$f":"IF(H1931=\"\",\"\",NETWORKDAYS(C1931+1,H1931,DiasNOLaborables))","v":-2},{"$f":"IF(NETWORKDAYS(J1931+1,H1931,DiasNOLaborables)<=0,\"\",NETWORKDAYS(J1931+1,H1931,DiasNOLaborables))","v":""},null,null,{"$f":"IFERROR(VLOOKUP(E1931,$X$51:$Y$64,2),\"\")","v":30}]
[1921,20219910069712,"2021-12-16","CORREO ELECTRÓNICO","PETICIÓN","CERTIFICACIONES DE TIEMPO Y CLIMA","SUBDIRECCIÓN DE METEOROLOGÍA","2021-12-28","CORREO ELECTRÓNICO",{"$f":"IFERROR(WORKDAY(C1932,P1932,DiasNOLaborables),\"\")","v":"2022-01-27"},{"$f":"+IF(C1932=\"\",\"\",IF(H1932=\"\",\"SIN RESPUESTA\",(IF(H1932<=J1932,\"A TIEMPO\",\"FUERA DE TIEMPO\"))))","v":"A TIEMPO"},{"$f":"IF(H1932=\"\",\"\",NETWORKDAYS(C1932+1,H1932,DiasNOLaborables))","v":8},{"$f":"IF(NETWORKDAYS(J1932+1,H1932,DiasNOLaborables)<=0,\"\",NETWORKDAYS(J1932+1,H1932,DiasNOLaborables))","v":""},null,null,{"$f":"IFERROR(VLOOKUP(E1932,$X$51:$Y$64,2),\"\")","v":30}]
[1922,20219910069882,"2021-12-16","CORREO ELECTRÓNICO","CERTIFICACIONES DE TIEMPO, CLIMA Y EVENTOS HIDROLÓGICOS","CERTIFICACIONES DE TIEMPO Y CLIMA","SUBDIRECCIÓN DE METEOROLOGÍA","2021-12-22","CORREO ELECTRÓNICO",{"$f":"IFERROR(WORKDAY(C1933,P1933,DiasNOLaborables),\"\")","v":"2022-02-03"},{"$f":"+IF(C1933=\"\",\"\",IF(H1933=\"\",\"SIN RESPUESTA\",(IF(H1933<=J1933,\"A TIEMPO\",\"FUERA DE TIEMPO\"))))","v":"A TIEMPO"},{"$f":"IF(H1933=\"\",\"\",NETWORKDAYS(C1933+1,H1933,DiasNOLaborables))","v":4},{"$f":"IF(NETWORKDAYS(J1933+1,H1933,DiasNOLaborables)<=0,\"\",NETWORKDAYS(J1933+1,H1933,DiasNOLaborables))","v":""},null,null,{"$f":"IFERROR(VLOOKUP(E1933,$X$51:$Y$64,2),\"\")","v":35}]
[{"$f":"IF(B1934<>\"\",A1933+1,\"\")","v":1923},20219050140012,"2021-12-16","CORREO ELECTRÓNICO","CERTIFICACIONES DE TIEMPO, CLIMA Y EVENTOS HIDROLÓGICOS","CERTIFICACIONES DE TIEMPO Y CLIMA","SUBDIRECCIÓN DE METEOROLOGÍA","2021-12-22","CORREO ELECTRÓNICO",{"$f":"IFERROR(WORKDAY(C1934,P1934,DiasNOLaborables),\"\")","v":"2022-02-03"},{"$f":"+IF(C1934=\"\",\"\",IF(H1934=\"\",\"SIN RESPUESTA\",(IF(H1934<=J1934,\"A TIEMPO\",\"FUERA DE TIEMPO\"))))","v":"A TIEMPO"},{"$f":"IF(H1934=\"\",\"\",NETWORKDAYS(C1934+1,H1934,DiasNOLaborables))","v":4},{"$f":"IF(NETWORKDAYS(J1934+1,H1934,DiasNOLaborables)<=0,\"\",NETWORKDAYS(J1934+1,H1934,DiasNOLaborables))","v":""},null,null,{"$f":"IFERROR(VLOOKUP(E1934,$X$51:$Y$64,2),\"\")","v":35}]
[1924,20219050140052,"2021-12-16","CORREO ELECTRÓNICO","SOLICITUD DE INFORMACIÓN Y DOCUMENTOS","BOSQUES","SUBDIRECCIÓN DE ECOSISTEMAS E INFORMACIÓN AMBIENTAL","2021-12-28","CORREO ELECTRÓNICO",{"$f":"IFERROR(WORKDAY(C1935,P1935,DiasNOLaborables),\"\")","v":"2022-01-13"},{"$f":"+IF(C1935=\"\",\"\",IF(H1935=\"\",\"SIN RESPUESTA\",(IF(H1935<=J1935,\"A TIEMPO\",\"FUERA DE TIEMPO\"))))","v":"A TIEMPO"},{"$f":"IF(H1935=\"\",\"\",NETWORKDAYS(C1935+1,H1935,DiasNOLaborables))","v":8},{"$f":"IF(NETWORKDAYS(J1935+1,H1935,DiasNOLaborables)<=0,\"\",NETWORKDAYS(J1935+1,H1935,DiasNOLaborables))","v":""},null,null,{"$f":"IFERROR(VLOOKUP(E1935,$X$51:$Y$64,2),\"\")","v":20}]
[1925,20219050140092,"2021-12-16","CORREO ELECTRÓNICO","SOLICITUD DE INFORMACIÓN Y DOCUMENTOS","REGISTROS AMBIENTALES","SUBDIRECCIÓN DE ESTUDIOS AMBIENTALES","2021-12-16","CORREO ELECTRÓNICO",{"$f":"IFERROR(WORKDAY(C1936,P1936,DiasNOLaborables),\"\")","v":"2022-01-13"},{"$f":"+IF(C1936=\"\",\"\",IF(H1936=\"\",\"SIN RESPUESTA\",(IF(H1936<=J1936,\"A TIEMPO\",\"FUERA DE TIEMPO\"))))","v":"A TIEMPO"},{"$f":"IF(H1936=\"\",\"\",NETWORKDAYS(C1936+1,H1936,DiasNOLaborables))","v":-2},{"$f":"IF(NETWORKDAYS(J1936+1,H1936,DiasNOLaborables)<=0,\"\",NETWORKDAYS(J1936+1,H1936,DiasNOLaborables))","v":""},null,null,{"$f":"IFERROR(VLOOKUP(E1936,$X$51:$Y$64,2),\"\")","v":20}]
[1926,20219050140112,"2021-12-16","CORREO ELECTRÓNICO","PETICIÓN","REGISTROS AMBIENTALES","SUBDIRECCIÓN DE ESTUDIOS AMBIENTALES","2021-12-17","CORREO ELECTRÓNICO",{"$f":"IFERROR(WORKDAY(C1937,P1937,DiasNOLaborables),\"\")","v":"2022-01-27"},{"$f":"+IF(C1937=\"\",\"\",IF(H1937=\"\",\"SIN RESPUESTA\",(IF(H1937<=J1937,\"A TIEMPO\",\"FUERA DE TIEMPO\"))))","v":"A TIEMPO"},{"$f":"IF(H1937=\"\",\"\",NETWORKDAYS(C1937+1,H1937,DiasNOLaborables))","v":1},{"$f":"IF(NETWORKDAYS(J1937+1,H1937,DiasNOLaborables)<=0,\"\",NETWORKDAYS(J1937+1,H1937,DiasNOLaborables))","v":""},null,null,{"$f":"IFERROR(VLOOKUP(E1937,$X$51:$Y$64,2),\"\")","v":30}]
[1927,20219050140182,"2021-12-16","CORREO ELECTRÓNICO","SOLICITUD DE INFORMACIÓN Y DOCUMENTOS","JURIDICO","OFICINA ASESORA JURÍDICA","2021-12-23","CORREO ELECTRÓNICO",{"$f":"IFERROR(WORKDAY(C1938,P1938,DiasNOLaborables),\"\")","v":"2022-01-13"},{"$f":"+IF(C1938=\"\",\"\",IF(H1938=\"\",\"SIN RESPUESTA\",(IF(H1938<=J1938,\"A TIEMPO\",\"FUERA DE TIEMPO\"))))","v":"A TIEMPO"},{"$f":"IF(H1938=\"\",\"\",NETWORKDAYS(C1938+1,H1938,DiasNOLaborables))","v":5},{"$f":"IF(NETWORKDAYS(J1938+1,H1938,DiasNOLaborables)<=0,\"\",NETWORKDAYS(J1938+1,H1938,DiasNOLaborables))","v":""},null,null,{"$f":"IFERROR(VLOOKUP(E1938,$X$51:$Y$64,2),\"\")","v":20}]
[1928,20219050140272,"2021-12-16","CORREO ELECTRÓNICO","SOLICITUD DE INFORMACIÓN Y DOCUMENTOS","INFORMES AMBIENTALES","SUBDIRECCIÓN DE METEOROLOGÍA","2021-12-30","CORREO ELECTRÓNICO",{"$f":"IFERROR(WORKDAY(C1939,P1939,DiasNOLaborables),\"\")","v":"2022-01-13"},{"$f":"+IF(C1939=\"\",\"\",IF(H1939=\"\",\"SIN RESPUESTA\",(IF(H1939<=J1939,\"A TIEMPO\",\"FUERA DE TIEMPO\"))))","v":"A TIEMPO"},{"$f":"IF(H1939=\"\",\"\",NETWORKDAYS(C1939+1,H1939,DiasNOLaborables))","v":10},{"$f":"IF(NETWORKDAYS(J1939+1,H1939,DiasNOLaborables)<=0,\"\",NETWORKDAYS(J1939+1,H1939,DiasNOLaborables))","v":""},null,null,{"$f":"IFERROR(VLOOKUP(E1939,$X$51:$Y$64,2),\"\")","v":20}]
[1929,20219050140282,"2021-12-16","CORREO ELECTRÓNICO","CERTIFICACIONES DE TIEMPO, CLIMA Y EVENTOS HIDROLÓGICOS","CERTIFICACIONES DE TIEMPO Y CLIMA","SUBDIRECCIÓN DE METEOROLOGÍA","2021-12-22","CORREO ELECTRÓNICO",{"$f":"IFERROR(WORKDAY(C1940,P1940,DiasNOLaborables),\"\")","v":"2022-02-03"},{"$f":"+IF(C1940=\"\",\"\",IF(H1940=\"\",\"SIN RESPUESTA\",(IF(H1940<=J1940,\"A TIEMPO\",\"FUERA DE TIEMPO\"))))","v":"A TIEMPO"},{"$f":"IF(H1940=\"\",\"\",NETWORKDAYS(C1940+1,H1940,DiasNOLaborables))","v":4},{"$f":"IF(NETWORKDAYS(J1940+1,H1940,DiasNOLaborables)<=0,\"\",NETWORKDAYS(J1940+1,H1940,DiasNOLaborables))","v":""},null,null,{"$f":"IFERROR(VLOOKUP(E1940,$X$51:$Y$64,2),\"\")","v":35}]
[1930,20219050140302,"2021-12-16","CORREO ELECTRÓNICO","SOLICITUD DE INFORMACIÓN Y DOCUMENTOS","INFORMES AMBIENTALES","SUBDIRECCIÓN DE HIDROLOGÍA","2021-12-30","CORREO ELECTRÓNICO",{"$f":"IFERROR(WORKDAY(C1941,P1941,DiasNOLaborables),\"\")","v":"2022-01-13"},{"$f":"+IF(C1941=\"\",\"\",IF(H1941=\"\",\"SIN RESPUESTA\",(IF(H1941<=J1941,\"A TIEMPO\",\"FUERA DE TIEMPO\"))))","v":"A TIEMPO"},{"$f":"IF(H1941=\"\",\"\",NETWORKDAYS(C1941+1,H1941,DiasNOLaborables))","v":10},{"$f":"IF(NETWORKDAYS(J1941+1,H1941,DiasNOLaborables)<=0,\"\",NETWORKDAYS(J1941+1,H1941,DiasNOLaborables))","v":""},null,null,{"$f":"IFERROR(VLOOKUP(E1941,$X$51:$Y$64,2),\"\")","v":20}]
[1931,20219050140022,"2021-12-16","MODULO CONTACTENOS","SOLICITUD DE INFORMACIÓN Y DOCUMENTOS","ADMINISTRATIVA","OFICINA ASESORA JURÍDICA","2021-12-23","CORREO ELECTRÓNICO",{"$f":"IFERROR(WORKDAY(C1942,P1942,DiasNOLaborables),\"\")","v":"2022-01-13"},{"$f":"+IF(C1942=\"\",\"\",IF(H1942=\"\",\"SIN RESPUESTA\",(IF(H1942<=J1942,\"A TIEMPO\",\"FUERA DE TIEMPO\"))))","v":"A TIEMPO"},{"$f":"IF(H1942=\"\",\"\",NETWORKDAYS(C1942+1,H1942,DiasNOLaborables))","v":5},{"$f":"IF(NETWORKDAYS(J1942+1,H1942,DiasNOLaborables)<=0,\"\",NETWORKDAYS(J1942+1,H1942,DiasNOLaborables))","v":""},null,null,{"$f":"IFERROR(VLOOKUP(E1942,$X$51:$Y$64,2),\"\")","v":20}]
[1932,20219050140122,"2021-12-16","MODULO CONTACTENOS","SOLICITUD DE INFORMACIÓN Y DOCUMENTOS","BOSQUES","SUBDIRECCIÓN DE ECOSISTEMAS E INFORMACIÓN AMBIENTAL","2021-12-28","CORREO ELECTRÓNICO",{"$f":"IFERROR(WORKDAY(C1943,P1943,DiasNOLaborables),\"\")","v":"2022-01-13"},{"$f":"+IF(C1943=\"\",\"\",IF(H1943=\"\",\"SIN RESPUESTA\",(IF(H1943<=J1943,\"A TIEMPO\",\"FUERA DE TIEMPO\"))))","v":"A TIEMPO"},{"$f":"IF(H1943=\"\",\"\",NETWORKDAYS([5]Hoja1!C1941+1,[5]Hoja1!P1941,DiasNOLaborables))","v":3},{"$f":"IF(NETWORKDAYS(J1943+1,H1943,DiasNOLaborables)<=0,\"\",NETWORKDAYS(J1943+1,H1943,DiasNOLaborables))","v":""},null,null,{"$f":"IFERROR(VLOOKUP(E1943,$X$51:$Y$64,2),\"\")","v":20}]
[1933,20219050140132,"2021-12-16","MODULO CONTACTENOS","SOLICITUD DE INFORMACIÓN Y DOCUMENTOS","ADMINISTRATIVA","OFICINA ASESORA JURÍDICA","2021-12-23","CORREO ELECTRÓNICO",{"$f":"IFERROR(WORKDAY(C1944,P1944,DiasNOLaborables),\"\")","v":"2022-01-13"},{"$f":"+IF(C1944=\"\",\"\",IF(H1944=\"\",\"SIN RESPUESTA\",(IF(H1944<=J1944,\"A TIEMPO\",\"FUERA DE TIEMPO\"))))","v":"A TIEMPO"},{"$f":"IF(H1944=\"\",\"\",NETWORKDAYS(C1944+1,H1944,DiasNOLaborables))","v":5},{"$f":"IF(NETWORKDAYS(J1944+1,H1944,DiasNOLaborables)<=0,\"\",NETWORKDAYS(J1944+1,H1944,DiasNOLaborables))","v":""},null,null,{"$f":"IFERROR(VLOOKUP(E1944,$X$51:$Y$64,2),\"\")","v":20}]
[1934,20219050140142,"2021-12-16","MODULO CONTACTENOS","SOLICITUD DE INFORMACIÓN Y DOCUMENTOS","ADMINISTRATIVA","OFICINA ASESORA JURÍDICA","2021-12-23","CORREO ELECTRÓNICO",{"$f":"IFERROR(WORKDAY(C1945,P1945,DiasNOLaborables),\"\")","v":"2022-01-13"},{"$f":"+IF(C1945=\"\",\"\",IF(H1945=\"\",\"SIN RESPUESTA\",(IF(H1945<=J1945,\"A TIEMPO\",\"FUERA DE TIEMPO\"))))","v":"A TIEMPO"},{"$f":"IF(H1945=\"\",\"\",NETWORKDAYS(C1945+1,H1945,DiasNOLaborables))","v":5},{"$f":"IF(NETWORKDAYS(J1945+1,H1945,DiasNOLaborables)<=0,\"\",NETWORKDAYS(J1945+1,H1945,DiasNOLaborables))","v":""},null,null,{"$f":"IFERROR(VLOOKUP(E1945,$X$51:$Y$64,2),\"\")","v":20}]
[1935,20219050140152,"2021-12-16","MODULO CONTACTENOS","SOLICITUD DE INFORMACIÓN Y DOCUMENTOS","ADMINISTRATIVA","OFICINA ASESORA JURÍDICA","2021-12-23","CORREO ELECTRÓNICO",{"$f":"IFERROR(WORKDAY(C1946,P1946,DiasNOLaborables),\"\")","v":"2022-01-13"},{"$f":"+IF(C1946=\"\",\"\",IF(H1946=\"\",\"SIN RESPUESTA\",(IF(H1946<=J1946,\"A TIEMPO\",\"FUERA DE TIEMPO\"))))","v":"A TIEMPO"},{"$f":"IF(H1946=\"\",\"\",NETWORKDAYS(C1946+1,H1946,DiasNOLaborables))","v":5},{"$f":"IF(NETWORKDAYS(J1946+1,H1946,DiasNOLaborables)<=0,\"\",NETWORKDAYS(J1946+1,H1946,DiasNOLaborables))","v":""},null,null,{"$f":"IFERROR(VLOOKUP(E1946,$X$51:$Y$64,2),\"\")","v":20}]
[1936,20219050140172,"2021-12-16","MODULO CONTACTENOS","SOLICITUD DE INFORMACIÓN Y DOCUMENTOS","ADMINISTRATIVA","OFICINA ASESORA JURÍDICA","2021-12-23","CORREO ELECTRÓNICO",{"$f":"IFERROR(WORKDAY(C1947,P1947,DiasNOLaborables),\"\")","v":"2022-01-13"},{"$f":"+IF(C1947=\"\",\"\",IF(H1947=\"\",\"SIN RESPUESTA\",(IF(H1947<=J1947,\"A TIEMPO\",\"FUERA DE TIEMPO\"))))","v":"A TIEMPO"},{"$f":"IF(H1947=\"\",\"\",NETWORKDAYS(C1947+1,H1947,DiasNOLaborables))","v":5},{"$f":"IF(NETWORKDAYS(J1947+1,H1947,DiasNOLaborables)<=0,\"\",NETWORKDAYS(J1947+1,H1947,DiasNOLaborables))","v":""},null,null,{"$f":"IFERROR(VLOOKUP(E1947,$X$51:$Y$64,2),\"\")","v":20}]
[1937,20219050140252,"2021-12-16","MODULO CONTACTENOS","SOLICITUD DE INFORMACIÓN Y DOCUMENTOS","BOSQUES","SUBDIRECCIÓN DE ECOSISTEMAS E INFORMACIÓN AMBIENTAL","2021-12-28","CORREO ELECTRÓNICO",{"$f":"IFERROR(WORKDAY(C1948,P1948,DiasNOLaborables),\"\")","v":"2022-01-13"},{"$f":"+IF(C1948=\"\",\"\",IF(H1948=\"\",\"SIN RESPUESTA\",(IF(H1948<=J1948,\"A TIEMPO\",\"FUERA DE TIEMPO\"))))","v":"A TIEMPO"},{"$f":"IF(H1948=\"\",\"\",NETWORKDAYS(C1948+1,H1948,DiasNOLaborables))","v":8},{"$f":"IF(NETWORKDAYS(J1948+1,H1948,DiasNOLaborables)<=0,\"\",NETWORKDAYS(J1948+1,H1948,DiasNOLaborables))","v":""},null,null,{"$f":"IFERROR(VLOOKUP(E1948,$X$51:$Y$64,2),\"\")","v":20}]
[1938,20219050140262,"2021-12-16","MODULO CONTACTENOS","SOLICITUD DE INFORMACIÓN Y DOCUMENTOS","BOSQUES","SUBDIRECCIÓN DE ECOSISTEMAS E INFORMACIÓN AMBIENTAL","2021-12-28","CORREO ELECTRÓNICO",{"$f":"IFERROR(WORKDAY(C1949,P1949,DiasNOLaborables),\"\")","v":"2022-01-13"},{"$f":"+IF(C1949=\"\",\"\",IF(H1949=\"\",\"SIN RESPUESTA\",(IF(H1949<=J1949,\"A TIEMPO\",\"FUERA DE TIEMPO\"))))","v":"A TIEMPO"},{"$f":"IF(H1949=\"\",\"\",NETWORKDAYS(C1949+1,H1949,DiasNOLaborables))","v":8},{"$f":"IF(NETWORKDAYS(J1949+1,H1949,DiasNOLaborables)<=0,\"\",NETWORKDAYS(J1949+1,H1949,DiasNOLaborables))","v":""},null,null,{"$f":"IFERROR(VLOOKUP(E1949,$X$51:$Y$64,2),\"\")","v":20}]
[1939,20219050140342,"2021-12-16","MODULO CONTACTENOS","SOLICITUD DE INFORMACIÓN Y DOCUMENTOS","ADMINISTRATIVA","GRUPO DE ADMINISTRACIÓN Y DESARROLLO DEL TALENTO HUMANO","2022-01-12","CORREO ELECTRÓNICO",{"$f":"IFERROR(WORKDAY(C1950,P1950,DiasNOLaborables),\"\")","v":"2022-01-13"},{"$f":"+IF(C1950=\"\",\"\",IF(H1950=\"\",\"SIN RESPUESTA\",(IF(H1950<=J1950,\"A TIEMPO\",\"FUERA DE TIEMPO\"))))","v":"A TIEMPO"},{"$f":"IF(H1950=\"\",\"\",NETWORKDAYS(C1950+1,H1950,DiasNOLaborables))","v":19},{"$f":"IF(NETWORKDAYS(J1950+1,H1950,DiasNOLaborables)<=0,\"\",NETWORKDAYS(J1950+1,H1950,DiasNOLaborables))","v":""},null,null,{"$f":"IFERROR(VLOOKUP(E1950,$X$51:$Y$64,2),\"\")","v":20}]
[1940,20219050140352,"2021-12-16","MODULO CONTACTENOS","SOLICITUD DE INFORMACIÓN Y DOCUMENTOS","ADMINISTRATIVA","GRUPO DE ADMINISTRACIÓN Y DESARROLLO DEL TALENTO HUMANO","2022-01-12","CORREO ELECTRÓNICO",{"$f":"IFERROR(WORKDAY(C1951,P1951,DiasNOLaborables),\"\")","v":"2022-01-13"},{"$f":"+IF(C1951=\"\",\"\",IF(H1951=\"\",\"SIN RESPUESTA\",(IF(H1951<=J1951,\"A TIEMPO\",\"FUERA DE TIEMPO\"))))","v":"A TIEMPO"},{"$f":"IF(H1951=\"\",\"\",NETWORKDAYS(C1951+1,H1951,DiasNOLaborables))","v":19},{"$f":"IF(NETWORKDAYS(J1951+1,H1951,DiasNOLaborables)<=0,\"\",NETWORKDAYS(J1951+1,H1951,DiasNOLaborables))","v":""},null,null,{"$f":"IFERROR(VLOOKUP(E1951,$X$51:$Y$64,2),\"\")","v":20}]
[1941,20219050140362,"2021-12-16","MODULO CONTACTENOS","SOLICITUD DE INFORMACIÓN Y DOCUMENTOS","ADMINISTRATIVA","OFICINA ASESORA JURÍDICA","2021-12-23","CORREO ELECTRÓNICO",{"$f":"IFERROR(WORKDAY(C1952,P1952,DiasNOLaborables),\"\")","v":"2022-01-13"},{"$f":"+IF(C1952=\"\",\"\",IF(H1952=\"\",\"SIN RESPUESTA\",(IF(H1952<=J1952,\"A TIEMPO\",\"FUERA DE TIEMPO\"))))","v":"A TIEMPO"},{"$f":"IF(H1952=\"\",\"\",NETWORKDAYS(C1952+1,H1952,DiasNOLaborables))","v":5},{"$f":"IF(NETWORKDAYS(J1952+1,H1952,DiasNOLaborables)<=0,\"\",NETWORKDAYS(J1952+1,H1952,DiasNOLaborables))","v":""},null,null,{"$f":"IFERROR(VLOOKUP(E1952,$X$51:$Y$64,2),\"\")","v":20}]
[1942,20219050140002,"2021-12-16","MODULO CONTACTENOS","SOLICITUD DE INFORMACIÓN Y DOCUMENTOS","SOLICITUD DE INFORMACIÓN HIDROMETEOROLÓGICA","GRUPO DE SERVICIO AL CIUDADANO ","2021-12-22","CORREO ELECTRÓNICO",{"$f":"IFERROR(WORKDAY(C1953,P1953,DiasNOLaborables),\"\")","v":"2022-01-13"},{"$f":"+IF(C1953=\"\",\"\",IF(H1953=\"\",\"SIN RESPUESTA\",(IF(H1953<=J1953,\"A TIEMPO\",\"FUERA DE TIEMPO\"))))","v":"A TIEMPO"},{"$f":"IF(H1953=\"\",\"\",NETWORKDAYS(C1953+1,H1953,DiasNOLaborables))","v":4},{"$f":"IF(NETWORKDAYS(J1953+1,H1953,DiasNOLaborables)<=0,\"\",NETWORKDAYS(J1953+1,H1953,DiasNOLaborables))","v":""},null,null,{"$f":"IFERROR(VLOOKUP(E1953,$X$51:$Y$64,2),\"\")","v":20}]
[1943,20219050140032,"2021-12-16","MODULO CONTACTENOS","SOLICITUD DE INFORMACIÓN Y DOCUMENTOS","SOLICITUD DE INFORMACIÓN HIDROMETEOROLÓGICA","GRUPO DE SERVICIO AL CIUDADANO ","2021-12-23","CORREO ELECTRÓNICO",{"$f":"IFERROR(WORKDAY(C1954,P1954,DiasNOLaborables),\"\")","v":"2022-01-13"},{"$f":"+IF(C1954=\"\",\"\",IF(H1954=\"\",\"SIN RESPUESTA\",(IF(H1954<=J1954,\"A TIEMPO\",\"FUERA DE TIEMPO\"))))","v":"A TIEMPO"},{"$f":"IF(H1954=\"\",\"\",NETWORKDAYS(C1954+1,H1954,DiasNOLaborables))","v":5},{"$f":"IF(NETWORKDAYS(J1954+1,H1954,DiasNOLaborables)<=0,\"\",NETWORKDAYS(J1954+1,H1954,DiasNOLaborables))","v":""},null,null,{"$f":"IFERROR(VLOOKUP(E1954,$X$51:$Y$64,2),\"\")","v":20}]
[1944,20219050140042,"2021-12-16","CORREO ELECTRÓNICO","SOLICITUD DE INFORMACIÓN Y DOCUMENTOS","SOLICITUD DE INFORMACIÓN HIDROMETEOROLÓGICA","GRUPO DE SERVICIO AL CIUDADANO ","2021-12-22","CORREO ELECTRÓNICO",{"$f":"IFERROR(WORKDAY(C1955,P1955,DiasNOLaborables),\"\")","v":"2022-01-13"},{"$f":"+IF(C1955=\"\",\"\",IF(H1955=\"\",\"SIN RESPUESTA\",(IF(H1955<=J1955,\"A TIEMPO\",\"FUERA DE TIEMPO\"))))","v":"A TIEMPO"},{"$f":"IF(H1955=\"\",\"\",NETWORKDAYS(C1955+1,H1955,DiasNOLaborables))","v":4},{"$f":"IF(NETWORKDAYS(J1955+1,H1955,DiasNOLaborables)<=0,\"\",NETWORKDAYS(J1955+1,H1955,DiasNOLaborables))","v":""},null,null,{"$f":"IFERROR(VLOOKUP(E1955,$X$51:$Y$64,2),\"\")","v":20}]
[1945,20219050140162,"2021-12-16","MODULO CONTACTENOS","SOLICITUD DE INFORMACIÓN Y DOCUMENTOS","SOLICITUD DE INFORMACIÓN HIDROMETEOROLÓGICA","GRUPO DE SERVICIO AL CIUDADANO ","2021-12-23","CORREO ELECTRÓNICO",{"$f":"IFERROR(WORKDAY(C1956,P1956,DiasNOLaborables),\"\")","v":"2022-01-13"},{"$f":"+IF(C1956=\"\",\"\",IF(H1956=\"\",\"SIN RESPUESTA\",(IF(H1956<=J1956,\"A TIEMPO\",\"FUERA DE TIEMPO\"))))","v":"A TIEMPO"},{"$f":"IF(H1956=\"\",\"\",NETWORKDAYS(C1956+1,H1956,DiasNOLaborables))","v":5},{"$f":"IF(NETWORKDAYS(J1956+1,H1956,DiasNOLaborables)<=0,\"\",NETWORKDAYS(J1956+1,H1956,DiasNOLaborables))","v":""},null,null,{"$f":"IFERROR(VLOOKUP(E1956,$X$51:$Y$64,2),\"\")","v":20}]
[1946,20219050140312,"2021-12-16","MODULO CONTACTENOS","SOLICITUD DE INFORMACIÓN Y DOCUMENTOS","SOLICITUD DE INFORMACIÓN HIDROMETEOROLÓGICA","GRUPO DE SERVICIO AL CIUDADANO ","2021-12-23","CORREO ELECTRÓNICO",{"$f":"IFERROR(WORKDAY(C1957,P1957,DiasNOLaborables),\"\")","v":"2022-01-13"},{"$f":"+IF(C1957=\"\",\"\",IF(H1957=\"\",\"SIN RESPUESTA\",(IF(H1957<=J1957,\"A TIEMPO\",\"FUERA DE TIEMPO\"))))","v":"A TIEMPO"},{"$f":"IF(H1957=\"\",\"\",NETWORKDAYS(C1957+1,H1957,DiasNOLaborables))","v":5},{"$f":"IF(NETWORKDAYS(J1957+1,H1957,DiasNOLaborables)<=0,\"\",NETWORKDAYS(J1957+1,H1957,DiasNOLaborables))","v":""},null,null,{"$f":"IFERROR(VLOOKUP(E1957,$X$51:$Y$64,2),\"\")","v":20}]
[1947,20219050140422,"2021-12-17","CORREO ELECTRÓNICO","SOLICITUD DE INFORMACIÓN Y DOCUMENTOS","SOLICITUD DE INFORMACIÓN HIDROMETEOROLÓGICA","GRUPO DE SERVICIO AL CIUDADANO ","2021-12-23","CORREO ELECTRÓNICO",{"$f":"IFERROR(WORKDAY(C1958,P1958,DiasNOLaborables),\"\")","v":"2022-01-14"},{"$f":"+IF(C1958=\"\",\"\",IF(H1958=\"\",\"SIN RESPUESTA\",(IF(H1958<=J1958,\"A TIEMPO\",\"FUERA DE TIEMPO\"))))","v":"A TIEMPO"},{"$f":"IF(H1958=\"\",\"\",NETWORKDAYS(C1958+1,H1958,DiasNOLaborables))","v":4},{"$f":"IF(NETWORKDAYS(J1958+1,H1958,DiasNOLaborables)<=0,\"\",NETWORKDAYS(J1958+1,H1958,DiasNOLaborables))","v":""},null,null,{"$f":"IFERROR(VLOOKUP(E1958,$X$51:$Y$64,2),\"\")","v":20}]
[1948,20219050140602,"2021-12-17","MODULO CONTACTENOS","SOLICITUD DE INFORMACIÓN Y DOCUMENTOS","ADMINISTRATIVA","OFICINA ASESORA JURÍDICA","2021-12-23","CORREO ELECTRÓNICO",{"$f":"IFERROR(WORKDAY(C1959,P1959,DiasNOLaborables),\"\")","v":"2022-01-14"},{"$f":"+IF(C1959=\"\",\"\",IF(H1959=\"\",\"SIN RESPUESTA\",(IF(H1959<=J1959,\"A TIEMPO\",\"FUERA DE TIEMPO\"))))","v":"A TIEMPO"},{"$f":"IF(H1959=\"\",\"\",NETWORKDAYS(C1959+1,H1959,DiasNOLaborables))","v":4},{"$f":"IF(NETWORKDAYS(J1959+1,H1959,DiasNOLaborables)<=0,\"\",NETWORKDAYS(J1959+1,H1959,DiasNOLaborables))","v":""},null,null,{"$f":"IFERROR(VLOOKUP(E1959,$X$51:$Y$64,2),\"\")","v":20}]
[1949,20219050140662,"2021-12-17","MODULO CONTACTENOS","SOLICITUD DE INFORMACIÓN Y DOCUMENTOS","ADMINISTRATIVA","GRUPO DE ADMINISTRACIÓN Y DESARROLLO DEL TALENTO HUMANO","2022-01-03","CORREO ELECTRÓNICO",{"$f":"IFERROR(WORKDAY(C1960,P1960,DiasNOLaborables),\"\")","v":"2022-01-14"},{"$f":"+IF(C1960=\"\",\"\",IF(H1960=\"\",\"SIN RESPUESTA\",(IF(H1960<=J1960,\"A TIEMPO\",\"FUERA DE TIEMPO\"))))","v":"A TIEMPO"},{"$f":"IF(H1960=\"\",\"\",NETWORKDAYS(C1960+1,H1960,DiasNOLaborables))","v":11},{"$f":"IF(NETWORKDAYS(J1960+1,H1960,DiasNOLaborables)<=0,\"\",NETWORKDAYS(J1960+1,H1960,DiasNOLaborables))","v":""},null,null,{"$f":"IFERROR(VLOOKUP(E1960,$X$51:$Y$64,2),\"\")","v":20}]
[1950,20219050140702,"2021-12-17","MODULO CONTACTENOS","SOLICITUD DE INFORMACIÓN Y DOCUMENTOS","REGISTROS AMBIENTALES","SUBDIRECCIÓN DE ESTUDIOS AMBIENTALES","2021-12-21","CORREO ELECTRÓNICO",{"$f":"IFERROR(WORKDAY(C1961,P1961,DiasNOLaborables),\"\")","v":"2022-01-14"},{"$f":"+IF(C1961=\"\",\"\",IF(H1961=\"\",\"SIN RESPUESTA\",(IF(H1961<=J1961,\"A TIEMPO\",\"FUERA DE TIEMPO\"))))","v":"A TIEMPO"},{"$f":"IF(H1961=\"\",\"\",NETWORKDAYS(C1961+1,H1961,DiasNOLaborables))","v":2},{"$f":"IF(NETWORKDAYS(J1961+1,H1961,DiasNOLaborables)<=0,\"\",NETWORKDAYS(J1961+1,H1961,DiasNOLaborables))","v":""},null,null,{"$f":"IFERROR(VLOOKUP(E1961,$X$51:$Y$64,2),\"\")","v":20}]
[1951,20219050140742,"2021-12-17","MODULO CONTACTENOS","SOLICITUD DE INFORMACIÓN Y DOCUMENTOS","ADMINISTRATIVA","OFICINA ASESORA JURÍDICA","2021-12-23","CORREO ELECTRÓNICO",{"$f":"IFERROR(WORKDAY(C1962,P1962,DiasNOLaborables),\"\")","v":"2022-01-14"},{"$f":"+IF(C1962=\"\",\"\",IF(H1962=\"\",\"SIN RESPUESTA\",(IF(H1962<=J1962,\"A TIEMPO\",\"FUERA DE TIEMPO\"))))","v":"A TIEMPO"},{"$f":"IF(H1962=\"\",\"\",NETWORKDAYS(C1962+1,H1962,DiasNOLaborables))","v":4},{"$f":"IF(NETWORKDAYS(J1962+1,H1962,DiasNOLaborables)<=0,\"\",NETWORKDAYS(J1962+1,H1962,DiasNOLaborables))","v":""},null,null,{"$f":"IFERROR(VLOOKUP(E1962,$X$51:$Y$64,2),\"\")","v":20}]
[1952,20219050140432,"2021-12-17","CORREO ELECTRÓNICO","SOLICITUD DE INFORMACIÓN Y DOCUMENTOS","SOLICITUD DE INFORMACIÓN HIDROMETEOROLÓGICA","SUBDIRECCIÓN DE METEOROLOGÍA","2021-12-10","CORREO ELECTRÓNICO",{"$f":"IFERROR(WORKDAY(C1963,P1963,DiasNOLaborables),\"\")","v":"2022-01-14"},{"$f":"+IF(C1963=\"\",\"\",IF(H1963=\"\",\"SIN RESPUESTA\",(IF(H1963<=J1963,\"A TIEMPO\",\"FUERA DE TIEMPO\"))))","v":"A TIEMPO"},{"$f":"IF(H1963=\"\",\"\",NETWORKDAYS(C1963+1,H1963,DiasNOLaborables))","v":-6},{"$f":"IF(NETWORKDAYS(J1963+1,H1963,DiasNOLaborables)<=0,\"\",NETWORKDAYS(J1963+1,H1963,DiasNOLaborables))","v":""},null,null,{"$f":"IFERROR(VLOOKUP(E1963,$X$51:$Y$64,2),\"\")","v":20}]
[1953,20219050140452,"2021-12-17","CORREO ELECTRÓNICO","CERTIFICACIONES DE TIEMPO, CLIMA Y EVENTOS HIDROLÓGICOS","CERTIFICACIONES DE TIEMPO Y CLIMA","SUBDIRECCIÓN DE METEOROLOGÍA","2021-12-30","CORREO ELECTRÓNICO",{"$f":"IFERROR(WORKDAY(C1964,P1964,DiasNOLaborables),\"\")","v":"2022-02-04"},{"$f":"+IF(C1964=\"\",\"\",IF(H1964=\"\",\"SIN RESPUESTA\",(IF(H1964<=J1964,\"A TIEMPO\",\"FUERA DE TIEMPO\"))))","v":"A TIEMPO"},{"$f":"IF(H1964=\"\",\"\",NETWORKDAYS(C1964+1,H1964,DiasNOLaborables))","v":9},{"$f":"IF(NETWORKDAYS(J1964+1,H1964,DiasNOLaborables)<=0,\"\",NETWORKDAYS(J1964+1,H1964,DiasNOLaborables))","v":""},null,null,{"$f":"IFERROR(VLOOKUP(E1964,$X$51:$Y$64,2),\"\")","v":35}]
[1954,20219050140502,"2021-12-17","CORREO ELECTRÓNICO","SOLICITUD DE INFORMACIÓN Y DOCUMENTOS","ESTUDIO NACIONAL DEL AGUA","SUBDIRECCIÓN DE HIDROLOGÍA","2021-12-20","CORREO ELECTRÓNICO",{"$f":"IFERROR(WORKDAY(C1965,P1965,DiasNOLaborables),\"\")","v":"2022-01-14"},{"$f":"+IF(C1965=\"\",\"\",IF(H1965=\"\",\"SIN RESPUESTA\",(IF(H1965<=J1965,\"A TIEMPO\",\"FUERA DE TIEMPO\"))))","v":"A TIEMPO"},{"$f":"IF(H1965=\"\",\"\",NETWORKDAYS(C1965+1,H1965,DiasNOLaborables))","v":1},{"$f":"IF(NETWORKDAYS(J1965+1,H1965,DiasNOLaborables)<=0,\"\",NETWORKDAYS(J1965+1,H1965,DiasNOLaborables))","v":""},null,null,{"$f":"IFERROR(VLOOKUP(E1965,$X$51:$Y$64,2),\"\")","v":20}]
[1955,20219050140542,"2021-12-17","CORREO ELECTRÓNICO","SOLICITUD DE INFORMACIÓN Y DOCUMENTOS","JURIDICO","OFICINA ASESORA JURÍDICA","2021-12-23","CORREO ELECTRÓNICO",{"$f":"IFERROR(WORKDAY(C1966,P1966,DiasNOLaborables),\"\")","v":"2022-01-14"},{"$f":"+IF(C1966=\"\",\"\",IF(H1966=\"\",\"SIN RESPUESTA\",(IF(H1966<=J1966,\"A TIEMPO\",\"FUERA DE TIEMPO\"))))","v":"A TIEMPO"},{"$f":"IF(H1966=\"\",\"\",NETWORKDAYS(C1966+1,H1966,DiasNOLaborables))","v":4},{"$f":"IF(NETWORKDAYS(J1966+1,H1966,DiasNOLaborables)<=0,\"\",NETWORKDAYS(J1966+1,H1966,DiasNOLaborables))","v":""},null,null,{"$f":"IFERROR(VLOOKUP(E1966,$X$51:$Y$64,2),\"\")","v":20}]
[1956,20219050140562,"2021-12-17","CORREO ELECTRÓNICO","SOLICITUD DE INFORMACIÓN Y DOCUMENTOS","JURIDICO","OFICINA ASESORA JURÍDICA","2021-12-23","CORREO ELECTRÓNICO",{"$f":"IFERROR(WORKDAY(C1967,P1967,DiasNOLaborables),\"\")","v":"2022-01-14"},{"$f":"+IF(C1967=\"\",\"\",IF(H1967=\"\",\"SIN RESPUESTA\",(IF(H1967<=J1967,\"A TIEMPO\",\"FUERA DE TIEMPO\"))))","v":"A TIEMPO"},{"$f":"IF(H1967=\"\",\"\",NETWORKDAYS(C1967+1,H1967,DiasNOLaborables))","v":4},{"$f":"IF(NETWORKDAYS(J1967+1,H1967,DiasNOLaborables)<=0,\"\",NETWORKDAYS(J1967+1,H1967,DiasNOLaborables))","v":""},null,null,{"$f":"IFERROR(VLOOKUP(E1967,$X$51:$Y$64,2),\"\")","v":20}]
[1957,20219050140592,"2021-12-17","CORREO ELECTRÓNICO","SOLICITUD DE INFORMACIÓN Y DOCUMENTOS","ADMINISTRATIVA","GRUPO DE TESORERÍA","2021-12-20","CORREO ELECTRÓNICO",{"$f":"IFERROR(WORKDAY(C1968,P1968,DiasNOLaborables),\"\")","v":"2022-01-14"},{"$f":"+IF(C1968=\"\",\"\",IF(H1968=\"\",\"SIN RESPUESTA\",(IF(H1968<=J1968,\"A TIEMPO\",\"FUERA DE TIEMPO\"))))","v":"A TIEMPO"},{"$f":"IF(H1968=\"\",\"\",NETWORKDAYS(C1968+1,H1968,DiasNOLaborables))","v":1},{"$f":"IF(NETWORKDAYS(J1968+1,H1968,DiasNOLaborables)<=0,\"\",NETWORKDAYS(J1968+1,H1968,DiasNOLaborables))","v":""},null,null,{"$f":"IFERROR(VLOOKUP(E1968,$X$51:$Y$64,2),\"\")","v":20}]
[1958,20219050140612,"2021-12-17","CORREO ELECTRÓNICO","CERTIFICACIONES DE TIEMPO, CLIMA Y EVENTOS HIDROLÓGICOS","CERTIFICACIONES DE TIEMPO Y CLIMA","SUBDIRECCIÓN DE METEOROLOGÍA","2021-12-24","CORREO ELECTRÓNICO",{"$f":"IFERROR(WORKDAY(C1969,P1969,DiasNOLaborables),\"\")","v":"2022-02-04"},{"$f":"+IF(C1969=\"\",\"\",IF(H1969=\"\",\"SIN RESPUESTA\",(IF(H1969<=J1969,\"A TIEMPO\",\"FUERA DE TIEMPO\"))))","v":"A TIEMPO"},{"$f":"IF(H1969=\"\",\"\",NETWORKDAYS(C1969+1,H1969,DiasNOLaborables))","v":5},{"$f":"IF(NETWORKDAYS(J1969+1,H1969,DiasNOLaborables)<=0,\"\",NETWORKDAYS(J1969+1,H1969,DiasNOLaborables))","v":""},null,null,{"$f":"IFERROR(VLOOKUP(E1969,$X$51:$Y$64,2),\"\")","v":35}]
[1959,20219050140632,"2021-12-17","CORREO ELECTRÓNICO","SOLICITUD DE INFORMACIÓN Y DOCUMENTOS","ACREDITACIÓN DE LABORATORIOS","SUBDIRECCIÓN DE ESTUDIOS AMBIENTALES","2021-12-29","CORREO ELECTRÓNICO",{"$f":"IFERROR(WORKDAY(C1970,P1970,DiasNOLaborables),\"\")","v":"2022-01-14"},{"$f":"+IF(C1970=\"\",\"\",IF(H1970=\"\",\"SIN RESPUESTA\",(IF(H1970<=J1970,\"A TIEMPO\",\"FUERA DE TIEMPO\"))))","v":"A TIEMPO"},{"$f":"IF(H1970=\"\",\"\",NETWORKDAYS(C1970+1,H1970,DiasNOLaborables))","v":8},{"$f":"IF(NETWORKDAYS(J1970+1,H1970,DiasNOLaborables)<=0,\"\",NETWORKDAYS(J1970+1,H1970,DiasNOLaborables))","v":""},null,null,{"$f":"IFERROR(VLOOKUP(E1970,$X$51:$Y$64,2),\"\")","v":20}]
[1960,20219050140652,"2021-12-17","CORREO ELECTRÓNICO","SOLICITUD DE INFORMACIÓN Y DOCUMENTOS","ACREDITACIÓN DE LABORATORIOS","SUBDIRECCIÓN DE ESTUDIOS AMBIENTALES","2021-12-28","CORREO ELECTRÓNICO",{"$f":"IFERROR(WORKDAY(C1971,P1971,DiasNOLaborables),\"\")","v":"2022-01-14"},{"$f":"+IF(C1971=\"\",\"\",IF(H1971=\"\",\"SIN RESPUESTA\",(IF(H1971<=J1971,\"A TIEMPO\",\"FUERA DE TIEMPO\"))))","v":"A TIEMPO"},{"$f":"IF(H1971=\"\",\"\",NETWORKDAYS(C1971+1,H1971,DiasNOLaborables))","v":7},{"$f":"IF(NETWORKDAYS(J1971+1,H1971,DiasNOLaborables)<=0,\"\",NETWORKDAYS(J1971+1,H1971,DiasNOLaborables))","v":""},null,null,{"$f":"IFERROR(VLOOKUP(E1971,$X$51:$Y$64,2),\"\")","v":20}]
[1961,20219050140712,"2021-12-17","CORREO ELECTRÓNICO","SOLICITUD DE INFORMACIÓN Y DOCUMENTOS","REGISTROS AMBIENTALES","SUBDIRECCIÓN DE ESTUDIOS AMBIENTALES","2021-12-17","CORREO ELECTRÓNICO",{"$f":"IFERROR(WORKDAY(C1972,P1972,DiasNOLaborables),\"\")","v":"2022-01-14"},{"$f":"+IF(C1972=\"\",\"\",IF(H1972=\"\",\"SIN RESPUESTA\",(IF(H1972<=J1972,\"A TIEMPO\",\"FUERA DE TIEMPO\"))))","v":"A TIEMPO"},{"$f":"IF(H1972=\"\",\"\",NETWORKDAYS(C1972+1,H1972,DiasNOLaborables))","v":-1},{"$f":"IF(NETWORKDAYS(J1972+1,H1972,DiasNOLaborables)<=0,\"\",NETWORKDAYS(J1972+1,H1972,DiasNOLaborables))","v":""},null,null,{"$f":"IFERROR(VLOOKUP(E1972,$X$51:$Y$64,2),\"\")","v":20}]
[1962,20219050140722,"2021-12-17","CORREO ELECTRÓNICO","SOLICITUD DE INFORMACIÓN Y DOCUMENTOS","REGISTROS AMBIENTALES","SUBDIRECCIÓN DE ESTUDIOS AMBIENTALES","2021-12-17","CORREO ELECTRÓNICO",{"$f":"IFERROR(WORKDAY(C1973,P1973,DiasNOLaborables),\"\")","v":"2022-01-14"},{"$f":"+IF(C1973=\"\",\"\",IF(H1973=\"\",\"SIN RESPUESTA\",(IF(H1973<=J1973,\"A TIEMPO\",\"FUERA DE TIEMPO\"))))","v":"A TIEMPO"},{"$f":"IF(H1973=\"\",\"\",NETWORKDAYS(C1973+1,H1973,DiasNOLaborables))","v":-1},{"$f":"IF(NETWORKDAYS(J1973+1,H1973,DiasNOLaborables)<=0,\"\",NETWORKDAYS(J1973+1,H1973,DiasNOLaborables))","v":""},null,null,{"$f":"IFERROR(VLOOKUP(E1973,$X$51:$Y$64,2),\"\")","v":20}]
[1963,20219050140752,"2021-12-17","CORREO ELECTRÓNICO","SOLICITUD DE INFORMACIÓN Y DOCUMENTOS","JURIDICO","OFICINA ASESORA JURÍDICA","2021-12-23","CORREO ELECTRÓNICO",{"$f":"IFERROR(WORKDAY(C1974,P1974,DiasNOLaborables),\"\")","v":"2022-01-14"},{"$f":"+IF(C1974=\"\",\"\",IF(H1974=\"\",\"SIN RESPUESTA\",(IF(H1974<=J1974,\"A TIEMPO\",\"FUERA DE TIEMPO\"))))","v":"A TIEMPO"},{"$f":"IF(H1974=\"\",\"\",NETWORKDAYS(C1974+1,H1974,DiasNOLaborables))","v":4},{"$f":"IF(NETWORKDAYS(J1974+1,H1974,DiasNOLaborables)<=0,\"\",NETWORKDAYS(J1974+1,H1974,DiasNOLaborables))","v":""},null,null,{"$f":"IFERROR(VLOOKUP(E1974,$X$51:$Y$64,2),\"\")","v":20}]
[1964,20219910070092,"2021-12-17","CORREO ELECTRÓNICO","SOLICITUD DE INFORMACIÓN Y DOCUMENTOS","CLIMATOLOGÍA","SUBDIRECCIÓN DE METEOROLOGÍA","2021-12-22","CORREO ELECTRÓNICO",{"$f":"IFERROR(WORKDAY(C1975,P1975,DiasNOLaborables),\"\")","v":"2022-01-14"},{"$f":"+IF(C1975=\"\",\"\",IF(H1975=\"\",\"SIN RESPUESTA\",(IF(H1975<=J1975,\"A TIEMPO\",\"FUERA DE TIEMPO\"))))","v":"A TIEMPO"},{"$f":"IF(H1975=\"\",\"\",NETWORKDAYS(C1975+1,H1975,DiasNOLaborables))","v":3},{"$f":"IF(NETWORKDAYS(J1975+1,H1975,DiasNOLaborables)<=0,\"\",NETWORKDAYS(J1975+1,H1975,DiasNOLaborables))","v":""},null,null,{"$f":"IFERROR(VLOOKUP(E1975,$X$51:$Y$64,2),\"\")","v":20}]
[1965,20219910070272,"2021-12-17","CORREO ELECTRÓNICO","SOLICITUD DE INFORMACIÓN Y DOCUMENTOS","CLIMATOLOGÍA","SUBDIRECCIÓN DE METEOROLOGÍA","2021-12-24","CORREO ELECTRÓNICO",{"$f":"IFERROR(WORKDAY(C1976,P1976,DiasNOLaborables),\"\")","v":"2022-01-14"},{"$f":"+IF(C1976=\"\",\"\",IF(H1976=\"\",\"SIN RESPUESTA\",(IF(H1976<=J1976,\"A TIEMPO\",\"FUERA DE TIEMPO\"))))","v":"A TIEMPO"},{"$f":"IF(H1976=\"\",\"\",NETWORKDAYS(C1976+1,H1976,DiasNOLaborables))","v":5},{"$f":"IF(NETWORKDAYS(J1976+1,H1976,DiasNOLaborables)<=0,\"\",NETWORKDAYS(J1976+1,H1976,DiasNOLaborables))","v":""},null,null,{"$f":"IFERROR(VLOOKUP(E1976,$X$51:$Y$64,2),\"\")","v":20}]
[1966,20219050140442,"2021-12-17","CORREO ELECTRÓNICO","SOLICITUD DE INFORMACIÓN Y DOCUMENTOS","SOLICITUD DE INFORMACIÓN HIDROMETEOROLÓGICA","GRUPO DE SERVICIO AL CIUDADANO ","2021-12-22","CORREO ELECTRÓNICO",{"$f":"IFERROR(WORKDAY(C1977,P1977,DiasNOLaborables),\"\")","v":"2022-01-14"},{"$f":"+IF(C1977=\"\",\"\",IF(H1977=\"\",\"SIN RESPUESTA\",(IF(H1977<=J1977,\"A TIEMPO\",\"FUERA DE TIEMPO\"))))","v":"A TIEMPO"},{"$f":"IF(H1977=\"\",\"\",NETWORKDAYS(C1977+1,H1977,DiasNOLaborables))","v":3},{"$f":"IF(NETWORKDAYS(J1977+1,H1977,DiasNOLaborables)<=0,\"\",NETWORKDAYS(J1977+1,H1977,DiasNOLaborables))","v":""},null,null,{"$f":"IFERROR(VLOOKUP(E1977,$X$51:$Y$64,2),\"\")","v":20}]
[1967,20219050140552,"2021-12-17","CORREO ELECTRÓNICO","SOLICITUD DE INFORMACIÓN Y DOCUMENTOS","SOLICITUD DE INFORMACIÓN HIDROMETEOROLÓGICA","GRUPO DE SERVICIO AL CIUDADANO ","2021-12-22","CORREO ELECTRÓNICO",{"$f":"IFERROR(WORKDAY(C1978,P1978,DiasNOLaborables),\"\")","v":"2022-01-14"},{"$f":"+IF(C1978=\"\",\"\",IF(H1978=\"\",\"SIN RESPUESTA\",(IF(H1978<=J1978,\"A TIEMPO\",\"FUERA DE TIEMPO\"))))","v":"A TIEMPO"},{"$f":"IF(H1978=\"\",\"\",NETWORKDAYS(C1978+1,H1978,DiasNOLaborables))","v":3},{"$f":"IF(NETWORKDAYS(J1978+1,H1978,DiasNOLaborables)<=0,\"\",NETWORKDAYS(J1978+1,H1978,DiasNOLaborables))","v":""},null,null,{"$f":"IFERROR(VLOOKUP(E1978,$X$51:$Y$64,2),\"\")","v":20}]
[1968,20219910070362,"2021-12-17","CORREO ELECTRÓNICO","PETICIÓN","BOSQUES","SUBDIRECCIÓN DE ECOSISTEMAS E INFORMACIÓN AMBIENTAL","2021-12-28","CORREO ELECTRÓNICO",{"$f":"IFERROR(WORKDAY(C1979,P1979,DiasNOLaborables),\"\")","v":"2022-01-28"},{"$f":"+IF(C1979=\"\",\"\",IF(H1979=\"\",\"SIN RESPUESTA\",(IF(H1979<=J1979,\"A TIEMPO\",\"FUERA DE TIEMPO\"))))","v":"A TIEMPO"},{"$f":"IF(H1979=\"\",\"\",NETWORKDAYS(C1979+1,H1979,DiasNOLaborables))","v":7},{"$f":"IF(NETWORKDAYS(J1979+1,H1979,DiasNOLaborables)<=0,\"\",NETWORKDAYS(J1979+1,H1979,DiasNOLaborables))","v":""},null,null,{"$f":"IFERROR(VLOOKUP(E1979,$X$51:$Y$64,2),\"\")","v":30}]
[1969,20219910070382,"2021-12-17","CORREO ELECTRÓNICO","PETICIÓN","CERTIFICACIONES DE TIEMPO Y CLIMA","SUBDIRECCIÓN DE METEOROLOGÍA","2022-01-03","CORREO ELECTRÓNICO",{"$f":"IFERROR(WORKDAY(C1980,P1980,DiasNOLaborables),\"\")","v":"2022-01-28"},{"$f":"+IF(C1980=\"\",\"\",IF(H1980=\"\",\"SIN RESPUESTA\",(IF(H1980<=J1980,\"A TIEMPO\",\"FUERA DE TIEMPO\"))))","v":"A TIEMPO"},{"$f":"IF(H1980=\"\",\"\",NETWORKDAYS(C1980+1,H1980,DiasNOLaborables))","v":11},{"$f":"IF(NETWORKDAYS(J1980+1,H1980,DiasNOLaborables)<=0,\"\",NETWORKDAYS(J1980+1,H1980,DiasNOLaborables))","v":""},null,null,{"$f":"IFERROR(VLOOKUP(E1980,$X$51:$Y$64,2),\"\")","v":30}]
[1970,20219050140792,"2021-12-17","CORREO ELECTRÓNICO","SOLICITUD DE INFORMACIÓN Y DOCUMENTOS","JURIDICO","OFICINA ASESORA JURÍDICA","2021-12-23","CORREO ELECTRÓNICO",{"$f":"IFERROR(WORKDAY(C1981,P1981,DiasNOLaborables),\"\")","v":"2022-01-14"},{"$f":"+IF(C1981=\"\",\"\",IF(H1981=\"\",\"SIN RESPUESTA\",(IF(H1981<=J1981,\"A TIEMPO\",\"FUERA DE TIEMPO\"))))","v":"A TIEMPO"},{"$f":"IF(H1981=\"\",\"\",NETWORKDAYS(C1981+1,H1981,DiasNOLaborables))","v":4},{"$f":"IF(NETWORKDAYS(J1981+1,H1981,DiasNOLaborables)<=0,\"\",NETWORKDAYS(J1981+1,H1981,DiasNOLaborables))","v":""},null,null,{"$f":"IFERROR(VLOOKUP(E1981,$X$51:$Y$64,2),\"\")","v":20}]
[1971,20219050140772,"2021-12-17","MODULO CONTACTENOS","SOLICITUD DE INFORMACIÓN Y DOCUMENTOS","REGISTROS AMBIENTALES","SUBDIRECCIÓN DE ESTUDIOS AMBIENTALES","2021-12-21","CORREO ELECTRÓNICO",{"$f":"IFERROR(WORKDAY(C1982,P1982,DiasNOLaborables),\"\")","v":"2022-01-14"},{"$f":"+IF(C1982=\"\",\"\",IF(H1982=\"\",\"SIN RESPUESTA\",(IF(H1982<=J1982,\"A TIEMPO\",\"FUERA DE TIEMPO\"))))","v":"A TIEMPO"},{"$f":"IF(H1982=\"\",\"\",NETWORKDAYS(C1982+1,H1982,DiasNOLaborables))","v":2},{"$f":"IF(NETWORKDAYS(J1982+1,H1982,DiasNOLaborables)<=0,\"\",NETWORKDAYS(J1982+1,H1982,DiasNOLaborables))","v":""},null,null,{"$f":"IFERROR(VLOOKUP(E1982,$X$51:$Y$64,2),\"\")","v":20}]
[1972,20219050140782,"2021-12-17","MODULO CONTACTENOS","SOLICITUD DE INFORMACIÓN Y DOCUMENTOS","ADMINISTRATIVA","OFICINA ASESORA JURÍDICA","2021-12-23","CORREO ELECTRÓNICO",{"$f":"IFERROR(WORKDAY(C1983,P1983,DiasNOLaborables),\"\")","v":"2022-01-14"},{"$f":"+IF(C1983=\"\",\"\",IF(H1983=\"\",\"SIN RESPUESTA\",(IF(H1983<=J1983,\"A TIEMPO\",\"FUERA DE TIEMPO\"))))","v":"A TIEMPO"},{"$f":"IF(H1983=\"\",\"\",NETWORKDAYS(C1983+1,H1983,DiasNOLaborables))","v":4},{"$f":"IF(NETWORKDAYS(J1983+1,H1983,DiasNOLaborables)<=0,\"\",NETWORKDAYS(J1983+1,H1983,DiasNOLaborables))","v":""},null,null,{"$f":"IFERROR(VLOOKUP(E1983,$X$51:$Y$64,2),\"\")","v":20}]
[1973,20219050139522,"2021-12-17","MODULO CONTACTENOS","SOLICITUD DE INFORMACIÓN Y DOCUMENTOS","SOLICITUD DE INFORMACIÓN HIDROMETEOROLÓGICA","GRUPO DE SERVICIO AL CIUDADANO ","2021-12-17","CORREO ELECTRÓNICO",{"$f":"IFERROR(WORKDAY(C1984,P1984,DiasNOLaborables),\"\")","v":"2022-01-14"},{"$f":"+IF(C1984=\"\",\"\",IF(H1984=\"\",\"SIN RESPUESTA\",(IF(H1984<=J1984,\"A TIEMPO\",\"FUERA DE TIEMPO\"))))","v":"A TIEMPO"},{"$f":"IF(H1984=\"\",\"\",NETWORKDAYS(C1984+1,H1984,DiasNOLaborables))","v":-1},{"$f":"IF(NETWORKDAYS(J1984+1,H1984,DiasNOLaborables)<=0,\"\",NETWORKDAYS(J1984+1,H1984,DiasNOLaborables))","v":""},null,null,{"$f":"IFERROR(VLOOKUP(E1984,$X$51:$Y$64,2),\"\")","v":20}]
[1974,20219050140372,"2021-12-17","MODULO CONTACTENOS","SOLICITUD DE INFORMACIÓN Y DOCUMENTOS","SOLICITUD DE INFORMACIÓN HIDROMETEOROLÓGICA","GRUPO DE SERVICIO AL CIUDADANO ","2021-12-21","CORREO ELECTRÓNICO",{"$f":"IFERROR(WORKDAY(C1985,P1985,DiasNOLaborables),\"\")","v":"2022-01-14"},{"$f":"+IF(C1985=\"\",\"\",IF(H1985=\"\",\"SIN RESPUESTA\",(IF(H1985<=J1985,\"A TIEMPO\",\"FUERA DE TIEMPO\"))))","v":"A TIEMPO"},{"$f":"IF(H1985=\"\",\"\",NETWORKDAYS(C1985+1,H1985,DiasNOLaborables))","v":2},{"$f":"IF(NETWORKDAYS(J1985+1,H1985,DiasNOLaborables)<=0,\"\",NETWORKDAYS(J1985+1,H1985,DiasNOLaborables))","v":""},null,null,{"$f":"IFERROR(VLOOKUP(E1985,$X$51:$Y$64,2),\"\")","v":20}]
[1975,20219050140392,"2021-12-17","MODULO CONTACTENOS","SOLICITUD DE INFORMACIÓN Y DOCUMENTOS","SOLICITUD DE INFORMACIÓN HIDROMETEOROLÓGICA","GRUPO DE SERVICIO AL CIUDADANO ","2021-12-21","CORREO ELECTRÓNICO",{"$f":"IFERROR(WORKDAY(C1986,P1986,DiasNOLaborables),\"\")","v":"2022-01-14"},{"$f":"+IF(C1986=\"\",\"\",IF(H1986=\"\",\"SIN RESPUESTA\",(IF(H1986<=J1986,\"A TIEMPO\",\"FUERA DE TIEMPO\"))))","v":"A TIEMPO"},{"$f":"IF(H1986=\"\",\"\",NETWORKDAYS(C1986+1,H1986,DiasNOLaborables))","v":2},{"$f":"IF(NETWORKDAYS(J1986+1,H1986,DiasNOLaborables)<=0,\"\",NETWORKDAYS(J1986+1,H1986,DiasNOLaborables))","v":""},null,null,{"$f":"IFERROR(VLOOKUP(E1986,$X$51:$Y$64,2),\"\")","v":20}]
[1976,20219050140402,"2021-12-17","MODULO CONTACTENOS","SOLICITUD DE INFORMACIÓN Y DOCUMENTOS","SOLICITUD DE INFORMACIÓN HIDROMETEOROLÓGICA","GRUPO DE SERVICIO AL CIUDADANO ","2021-12-21","CORREO ELECTRÓNICO",{"$f":"IFERROR(WORKDAY(C1987,P1987,DiasNOLaborables),\"\")","v":"2022-01-14"},{"$f":"+IF(C1987=\"\",\"\",IF(H1987=\"\",\"SIN RESPUESTA\",(IF(H1987<=J1987,\"A TIEMPO\",\"FUERA DE TIEMPO\"))))","v":"A TIEMPO"},{"$f":"IF(H1987=\"\",\"\",NETWORKDAYS(C1987+1,H1987,DiasNOLaborables))","v":2},{"$f":"IF(NETWORKDAYS(J1987+1,H1987,DiasNOLaborables)<=0,\"\",NETWORKDAYS(J1987+1,H1987,DiasNOLaborables))","v":""},null,null,{"$f":"IFERROR(VLOOKUP(E1987,$X$51:$Y$64,2),\"\")","v":20}]
[1977,20219050140412,"2021-12-17","MODULO CONTACTENOS","SOLICITUD DE INFORMACIÓN Y DOCUMENTOS","SOLICITUD DE INFORMACIÓN HIDROMETEOROLÓGICA","GRUPO DE SERVICIO AL CIUDADANO ","2021-12-21","CORREO ELECTRÓNICO",{"$f":"IFERROR(WORKDAY(C1988,P1988,DiasNOLaborables),\"\")","v":"2022-01-14"},{"$f":"+IF(C1988=\"\",\"\",IF(H1988=\"\",\"SIN RESPUESTA\",(IF(H1988<=J1988,\"A TIEMPO\",\"FUERA DE TIEMPO\"))))","v":"A TIEMPO"},{"$f":"IF(H1988=\"\",\"\",NETWORKDAYS(C1988+1,H1988,DiasNOLaborables))","v":2},{"$f":"IF(NETWORKDAYS(J1988+1,H1988,DiasNOLaborables)<=0,\"\",NETWORKDAYS(J1988+1,H1988,DiasNOLaborables))","v":""},null,null,{"$f":"IFERROR(VLOOKUP(E1988,$X$51:$Y$64,2),\"\")","v":20}]
[1978,20219050140522,"2021-12-17","MODULO CONTACTENOS","SOLICITUD DE INFORMACIÓN Y DOCUMENTOS","SOLICITUD DE INFORMACIÓN HIDROMETEOROLÓGICA","GRUPO DE SERVICIO AL CIUDADANO ","2021-12-21","CORREO ELECTRÓNICO",{"$f":"IFERROR(WORKDAY(C1989,P1989,DiasNOLaborables),\"\")","v":"2022-01-14"},{"$f":"+IF(C1989=\"\",\"\",IF(H1989=\"\",\"SIN RESPUESTA\",(IF(H1989<=J1989,\"A TIEMPO\",\"FUERA DE TIEMPO\"))))","v":"A TIEMPO"},{"$f":"IF(H1989=\"\",\"\",NETWORKDAYS(C1989+1,H1989,DiasNOLaborables))","v":2},{"$f":"IF(NETWORKDAYS(J1989+1,H1989,DiasNOLaborables)<=0,\"\",NETWORKDAYS(J1989+1,H1989,DiasNOLaborables))","v":""},null,null,{"$f":"IFERROR(VLOOKUP(E1989,$X$51:$Y$64,2),\"\")","v":20}]
[1979,20219050140572,"2021-12-17","MODULO CONTACTENOS","SOLICITUD DE INFORMACIÓN Y DOCUMENTOS","SOLICITUD DE INFORMACIÓN HIDROMETEOROLÓGICA","GRUPO DE SERVICIO AL CIUDADANO ","2021-12-21","CORREO ELECTRÓNICO",{"$f":"IFERROR(WORKDAY(C1990,P1990,DiasNOLaborables),\"\")","v":"2022-01-14"},{"$f":"+IF(C1990=\"\",\"\",IF(H1990=\"\",\"SIN RESPUESTA\",(IF(H1990<=J1990,\"A TIEMPO\",\"FUERA DE TIEMPO\"))))","v":"A TIEMPO"},{"$f":"IF(H1990=\"\",\"\",NETWORKDAYS(C1990+1,H1990,DiasNOLaborables))","v":2},{"$f":"IF(NETWORKDAYS(J1990+1,H1990,DiasNOLaborables)<=0,\"\",NETWORKDAYS(J1990+1,H1990,DiasNOLaborables))","v":""},null,null,{"$f":"IFERROR(VLOOKUP(E1990,$X$51:$Y$64,2),\"\")","v":20}]
[1980,20219050140582,"2021-12-17","MODULO CONTACTENOS","SOLICITUD DE INFORMACIÓN Y DOCUMENTOS","SOLICITUD DE INFORMACIÓN HIDROMETEOROLÓGICA","GRUPO DE SERVICIO AL CIUDADANO ","2021-12-21","CORREO ELECTRÓNICO",{"$f":"IFERROR(WORKDAY(C1991,P1991,DiasNOLaborables),\"\")","v":"2022-01-14"},{"$f":"+IF(C1991=\"\",\"\",IF(H1991=\"\",\"SIN RESPUESTA\",(IF(H1991<=J1991,\"A TIEMPO\",\"FUERA DE TIEMPO\"))))","v":"A TIEMPO"},{"$f":"IF(H1991=\"\",\"\",NETWORKDAYS(C1991+1,H1991,DiasNOLaborables))","v":2},{"$f":"IF(NETWORKDAYS(J1991+1,H1991,DiasNOLaborables)<=0,\"\",NETWORKDAYS(J1991+1,H1991,DiasNOLaborables))","v":""},null,null,{"$f":"IFERROR(VLOOKUP(E1991,$X$51:$Y$64,2),\"\")","v":20}]
[1981,20219050140622,"2021-12-17","MODULO CONTACTENOS","SOLICITUD DE INFORMACIÓN Y DOCUMENTOS","SOLICITUD DE INFORMACIÓN HIDROMETEOROLÓGICA","GRUPO DE SERVICIO AL CIUDADANO ","2021-12-21","CORREO ELECTRÓNICO",{"$f":"IFERROR(WORKDAY(C1992,P1992,DiasNOLaborables),\"\")","v":"2022-01-14"},{"$f":"+IF(C1992=\"\",\"\",IF(H1992=\"\",\"SIN RESPUESTA\",(IF(H1992<=J1992,\"A TIEMPO\",\"FUERA DE TIEMPO\"))))","v":"A TIEMPO"},{"$f":"IF(H1992=\"\",\"\",NETWORKDAYS(C1992+1,H1992,DiasNOLaborables))","v":2},{"$f":"IF(NETWORKDAYS(J1992+1,H1992,DiasNOLaborables)<=0,\"\",NETWORKDAYS(J1992+1,H1992,DiasNOLaborables))","v":""},null,null,{"$f":"IFERROR(VLOOKUP(E1992,$X$51:$Y$64,2),\"\")","v":20}]
[1982,20219050140642,"2021-12-17","MODULO CONTACTENOS","SOLICITUD DE INFORMACIÓN Y DOCUMENTOS","SOLICITUD DE INFORMACIÓN HIDROMETEOROLÓGICA","GRUPO DE SERVICIO AL CIUDADANO ","2021-12-21","CORREO ELECTRÓNICO",{"$f":"IFERROR(WORKDAY(C1993,P1993,DiasNOLaborables),\"\")","v":"2022-01-14"},{"$f":"+IF(C1993=\"\",\"\",IF(H1993=\"\",\"SIN RESPUESTA\",(IF(H1993<=J1993,\"A TIEMPO\",\"FUERA DE TIEMPO\"))))","v":"A TIEMPO"},{"$f":"IF(H1993=\"\",\"\",NETWORKDAYS(C1993+1,H1993,DiasNOLaborables))","v":2},{"$f":"IF(NETWORKDAYS(J1993+1,H1993,DiasNOLaborables)<=0,\"\",NETWORKDAYS(J1993+1,H1993,DiasNOLaborables))","v":""},null,null,{"$f":"IFERROR(VLOOKUP(E1993,$X$51:$Y$64,2),\"\")","v":20}]
[1983,20219050140732,"2021-12-17","MODULO CONTACTENOS","SOLICITUD DE INFORMACIÓN Y DOCUMENTOS","SOLICITUD DE INFORMACIÓN HIDROMETEOROLÓGICA","GRUPO DE SERVICIO AL CIUDADANO ","2021-12-21","CORREO ELECTRÓNICO",{"$f":"IFERROR(WORKDAY(C1994,P1994,DiasNOLaborables),\"\")","v":"2022-01-14"},{"$f":"+IF(C1994=\"\",\"\",IF(H1994=\"\",\"SIN RESPUESTA\",(IF(H1994<=J1994,\"A TIEMPO\",\"FUERA DE TIEMPO\"))))","v":"A TIEMPO"},{"$f":"IF(H1994=\"\",\"\",NETWORKDAYS(C1994+1,H1994,DiasNOLaborables))","v":2},{"$f":"IF(NETWORKDAYS(J1994+1,H1994,DiasNOLaborables)<=0,\"\",NETWORKDAYS(J1994+1,H1994,DiasNOLaborables))","v":""},null,null,{"$f":"IFERROR(VLOOKUP(E1994,$X$51:$Y$64,2),\"\")","v":20}]
[1984,20219050140812,"2021-12-18","MODULO CONTACTENOS","SOLICITUD DE INFORMACIÓN Y DOCUMENTOS","SOLICITUD DE INFORMACIÓN HIDROMETEOROLÓGICA","GRUPO DE SERVICIO AL CIUDADANO ","2021-12-21","CORREO ELECTRÓNICO",{"$f":"IFERROR(WORKDAY(C1995,P1995,DiasNOLaborables),\"\")","v":"2022-01-14"},{"$f":"+IF(C1995=\"\",\"\",IF(H1995=\"\",\"SIN RESPUESTA\",(IF(H1995<=J1995,\"A TIEMPO\",\"FUERA DE TIEMPO\"))))","v":"A TIEMPO"},{"$f":"IF(H1995=\"\",\"\",NETWORKDAYS(C1995+1,H1995,DiasNOLaborables))","v":2},{"$f":"IF(NETWORKDAYS(J1995+1,H1995,DiasNOLaborables)<=0,\"\",NETWORKDAYS(J1995+1,H1995,DiasNOLaborables))","v":""},null,null,{"$f":"IFERROR(VLOOKUP(E1995,$X$51:$Y$64,2),\"\")","v":20}]
[1985,20219050140842,"2021-12-18","MODULO CONTACTENOS","SOLICITUD DE INFORMACIÓN Y DOCUMENTOS","SOLICITUD DE INFORMACIÓN HIDROMETEOROLÓGICA","GRUPO DE SERVICIO AL CIUDADANO ","2021-12-21","CORREO ELECTRÓNICO",{"$f":"IFERROR(WORKDAY(C1996,P1996,DiasNOLaborables),\"\")","v":"2022-01-14"},{"$f":"+IF(C1996=\"\",\"\",IF(H1996=\"\",\"SIN RESPUESTA\",(IF(H1996<=J1996,\"A TIEMPO\",\"FUERA DE TIEMPO\"))))","v":"A TIEMPO"},{"$f":"IF(H1996=\"\",\"\",NETWORKDAYS(C1996+1,H1996,DiasNOLaborables))","v":2},{"$f":"IF(NETWORKDAYS(J1996+1,H1996,DiasNOLaborables)<=0,\"\",NETWORKDAYS(J1996+1,H1996,DiasNOLaborables))","v":""},null,null,{"$f":"IFERROR(VLOOKUP(E1996,$X$51:$Y$64,2),\"\")","v":20}]
[1986,20219050140832,"2021-12-18","MODULO CONTACTENOS","CERTIFICACIONES DE TIEMPO, CLIMA Y EVENTOS HIDROLÓGICOS","CERTIFICACIONES DE TIEMPO Y CLIMA","SUBDIRECCIÓN DE METEOROLOGÍA","2021-12-28","CORREO ELECTRÓNICO",{"$f":"IFERROR(WORKDAY(C1997,P1997,DiasNOLaborables),\"\")","v":"2022-02-04"},{"$f":"+IF(C1997=\"\",\"\",IF(H1997=\"\",\"SIN RESPUESTA\",(IF(H1997<=J1997,\"A TIEMPO\",\"FUERA DE TIEMPO\"))))","v":"A TIEMPO"},{"$f":"IF(H1997=\"\",\"\",NETWORKDAYS(C1997+1,H1997,DiasNOLaborables))","v":7},{"$f":"IF(NETWORKDAYS(J1997+1,H1997,DiasNOLaborables)<=0,\"\",NETWORKDAYS(J1997+1,H1997,DiasNOLaborables))","v":""},null,null,{"$f":"IFERROR(VLOOKUP(E1997,$X$51:$Y$64,2),\"\")","v":35}]
[{"$f":"IF(B1998<>\"\",A1997+1,\"\")","v":1987},20219050140882,"2021-12-19","MODULO CONTACTENOS","SOLICITUD DE INFORMACIÓN Y DOCUMENTOS","BOSQUES","SUBDIRECCIÓN DE ECOSISTEMAS E INFORMACIÓN AMBIENTAL","2021-12-28","CORREO ELECTRÓNICO",{"$f":"IFERROR(WORKDAY(C1998,P1998,DiasNOLaborables),\"\")","v":"2022-01-14"},{"$f":"+IF(C1998=\"\",\"\",IF(H1998=\"\",\"SIN RESPUESTA\",(IF(H1998<=J1998,\"A TIEMPO\",\"FUERA DE TIEMPO\"))))","v":"A TIEMPO"},{"$f":"IF(H1998=\"\",\"\",NETWORKDAYS(C1998+1,H1998,DiasNOLaborables))","v":7},{"$f":"IF(NETWORKDAYS(J1998+1,H1998,DiasNOLaborables)<=0,\"\",NETWORKDAYS(J1998+1,H1998,DiasNOLaborables))","v":""},null,null,{"$f":"IFERROR(VLOOKUP(E1998,$X$51:$Y$64,2),\"\")","v":20}]
[1988,20219050140852,"2021-12-19","MODULO CONTACTENOS","SOLICITUD DE INFORMACIÓN Y DOCUMENTOS","SOLICITUD DE INFORMACIÓN HIDROMETEOROLÓGICA","GRUPO DE SERVICIO AL CIUDADANO ","2021-12-21","CORREO ELECTRÓNICO",{"$f":"IFERROR(WORKDAY(C1999,P1999,DiasNOLaborables),\"\")","v":"2022-01-14"},{"$f":"+IF(C1999=\"\",\"\",IF(H1999=\"\",\"SIN RESPUESTA\",(IF(H1999<=J1999,\"A TIEMPO\",\"FUERA DE TIEMPO\"))))","v":"A TIEMPO"},{"$f":"IF(H1999=\"\",\"\",NETWORKDAYS(C1999+1,H1999,DiasNOLaborables))","v":2},{"$f":"IF(NETWORKDAYS(J1999+1,H1999,DiasNOLaborables)<=0,\"\",NETWORKDAYS(J1999+1,H1999,DiasNOLaborables))","v":""},null,null,{"$f":"IFERROR(VLOOKUP(E1999,$X$51:$Y$64,2),\"\")","v":20}]
[1989,20219050140862,"2021-12-19","MODULO CONTACTENOS","SOLICITUD DE INFORMACIÓN Y DOCUMENTOS","SOLICITUD DE INFORMACIÓN HIDROMETEOROLÓGICA","GRUPO DE SERVICIO AL CIUDADANO ","2021-12-21","CORREO ELECTRÓNICO",{"$f":"IFERROR(WORKDAY(C2000,P2000,DiasNOLaborables),\"\")","v":"2022-01-14"},{"$f":"+IF(C2000=\"\",\"\",IF(H2000=\"\",\"SIN RESPUESTA\",(IF(H2000<=J2000,\"A TIEMPO\",\"FUERA DE TIEMPO\"))))","v":"A TIEMPO"},{"$f":"IF(H2000=\"\",\"\",NETWORKDAYS(C2000+1,H2000,DiasNOLaborables))","v":2},{"$f":"IF(NETWORKDAYS(J2000+1,H2000,DiasNOLaborables)<=0,\"\",NETWORKDAYS(J2000+1,H2000,DiasNOLaborables))","v":""},null,null,{"$f":"IFERROR(VLOOKUP(E2000,$X$51:$Y$64,2),\"\")","v":20}]
[1990,20219050140872,"2021-12-19","MODULO CONTACTENOS","SOLICITUD DE INFORMACIÓN Y DOCUMENTOS","SOLICITUD DE INFORMACIÓN HIDROMETEOROLÓGICA","GRUPO DE SERVICIO AL CIUDADANO ","2021-12-21","CORREO ELECTRÓNICO",{"$f":"IFERROR(WORKDAY(C2001,P2001,DiasNOLaborables),\"\")","v":"2022-01-14"},{"$f":"+IF(C2001=\"\",\"\",IF(H2001=\"\",\"SIN RESPUESTA\",(IF(H2001<=J2001,\"A TIEMPO\",\"FUERA DE TIEMPO\"))))","v":"A TIEMPO"},{"$f":"IF(H2001=\"\",\"\",NETWORKDAYS(C2001+1,H2001,DiasNOLaborables))","v":2},{"$f":"IF(NETWORKDAYS(J2001+1,H2001,DiasNOLaborables)<=0,\"\",NETWORKDAYS(J2001+1,H2001,DiasNOLaborables))","v":""},null,null,{"$f":"IFERROR(VLOOKUP(E2001,$X$51:$Y$64,2),\"\")","v":20}]
[1991,20219050140892,"2021-12-20","MODULO CONTACTENOS","SOLICITUD DE INFORMACIÓN Y DOCUMENTOS","SOLICITUD DE INFORMACIÓN HIDROMETEOROLÓGICA","GRUPO DE SERVICIO AL CIUDADANO ","2021-12-21","CORREO ELECTRÓNICO",{"$f":"IFERROR(WORKDAY(C2002,P2002,DiasNOLaborables),\"\")","v":"2022-01-17"},{"$f":"+IF(C2002=\"\",\"\",IF(H2002=\"\",\"SIN RESPUESTA\",(IF(H2002<=J2002,\"A TIEMPO\",\"FUERA DE TIEMPO\"))))","v":"A TIEMPO"},{"$f":"IF(H2002=\"\",\"\",NETWORKDAYS(C2002+1,H2002,DiasNOLaborables))","v":1},{"$f":"IF(NETWORKDAYS(J2002+1,H2002,DiasNOLaborables)<=0,\"\",NETWORKDAYS(J2002+1,H2002,DiasNOLaborables))","v":""},null,null,{"$f":"IFERROR(VLOOKUP(E2002,$X$51:$Y$64,2),\"\")","v":20}]
[1992,20219050140932,"2021-12-20","MODULO CONTACTENOS","SOLICITUD DE INFORMACIÓN Y DOCUMENTOS","SOLICITUD DE INFORMACIÓN HIDROMETEOROLÓGICA","GRUPO DE SERVICIO AL CIUDADANO ","2021-12-21","CORREO ELECTRÓNICO",{"$f":"IFERROR(WORKDAY(C2003,P2003,DiasNOLaborables),\"\")","v":"2022-01-17"},{"$f":"+IF(C2003=\"\",\"\",IF(H2003=\"\",\"SIN RESPUESTA\",(IF(H2003<=J2003,\"A TIEMPO\",\"FUERA DE TIEMPO\"))))","v":"A TIEMPO"},{"$f":"IF(H2003=\"\",\"\",NETWORKDAYS(C2003+1,H2003,DiasNOLaborables))","v":1},{"$f":"IF(NETWORKDAYS(J2003+1,H2003,DiasNOLaborables)<=0,\"\",NETWORKDAYS(J2003+1,H2003,DiasNOLaborables))","v":""},null,null,{"$f":"IFERROR(VLOOKUP(E2003,$X$51:$Y$64,2),\"\")","v":20}]
[1993,20219050140952,"2021-12-20","MODULO CONTACTENOS","SOLICITUD DE INFORMACIÓN Y DOCUMENTOS","SOLICITUD DE INFORMACIÓN HIDROMETEOROLÓGICA","GRUPO DE SERVICIO AL CIUDADANO ","2021-12-21","CORREO ELECTRÓNICO",{"$f":"IFERROR(WORKDAY(C2004,P2004,DiasNOLaborables),\"\")","v":"2022-01-17"},{"$f":"+IF(C2004=\"\",\"\",IF(H2004=\"\",\"SIN RESPUESTA\",(IF(H2004<=J2004,\"A TIEMPO\",\"FUERA DE TIEMPO\"))))","v":"A TIEMPO"},{"$f":"IF(H2004=\"\",\"\",NETWORKDAYS(C2004+1,H2004,DiasNOLaborables))","v":1},{"$f":"IF(NETWORKDAYS(J2004+1,H2004,DiasNOLaborables)<=0,\"\",NETWORKDAYS(J2004+1,H2004,DiasNOLaborables))","v":""},null,null,{"$f":"IFERROR(VLOOKUP(E2004,$X$51:$Y$64,2),\"\")","v":20}]
[1994,20219050140972,"2021-12-20","MODULO CONTACTENOS","SOLICITUD DE INFORMACIÓN Y DOCUMENTOS","SOLICITUD DE INFORMACIÓN HIDROMETEOROLÓGICA","GRUPO DE SERVICIO AL CIUDADANO ","2021-12-21","CORREO ELECTRÓNICO",{"$f":"IFERROR(WORKDAY(C2005,P2005,DiasNOLaborables),\"\")","v":"2022-01-17"},{"$f":"+IF(C2005=\"\",\"\",IF(H2005=\"\",\"SIN RESPUESTA\",(IF(H2005<=J2005,\"A TIEMPO\",\"FUERA DE TIEMPO\"))))","v":"A TIEMPO"},{"$f":"IF(H2005=\"\",\"\",NETWORKDAYS(C2005+1,H2005,DiasNOLaborables))","v":1},{"$f":"IF(NETWORKDAYS(J2005+1,H2005,DiasNOLaborables)<=0,\"\",NETWORKDAYS(J2005+1,H2005,DiasNOLaborables))","v":""},null,null,{"$f":"IFERROR(VLOOKUP(E2005,$X$51:$Y$64,2),\"\")","v":20}]
[1995,20219050141072,"2021-12-20","MODULO CONTACTENOS","SOLICITUD DE INFORMACIÓN Y DOCUMENTOS","SOLICITUD DE INFORMACIÓN HIDROMETEOROLÓGICA","GRUPO DE SERVICIO AL CIUDADANO ","2021-12-21","CORREO ELECTRÓNICO",{"$f":"IFERROR(WORKDAY(C2006,P2006,DiasNOLaborables),\"\")","v":"2022-01-17"},{"$f":"+IF(C2006=\"\",\"\",IF(H2006=\"\",\"SIN RESPUESTA\",(IF(H2006<=J2006,\"A TIEMPO\",\"FUERA DE TIEMPO\"))))","v":"A TIEMPO"},{"$f":"IF(H2006=\"\",\"\",NETWORKDAYS(C2006+1,H2006,DiasNOLaborables))","v":1},{"$f":"IF(NETWORKDAYS(J2006+1,H2006,DiasNOLaborables)<=0,\"\",NETWORKDAYS(J2006+1,H2006,DiasNOLaborables))","v":""},null,null,{"$f":"IFERROR(VLOOKUP(E2006,$X$51:$Y$64,2),\"\")","v":20}]
[1996,20219050140912,"2021-12-20","MODULO CONTACTENOS","SOLICITUD DE INFORMACIÓN Y DOCUMENTOS","SIRH","SUBDIRECCIÓN DE HIDROLOGÍA","2021-12-24","CORREO ELECTRÓNICO",{"$f":"IFERROR(WORKDAY(C2007,P2007,DiasNOLaborables),\"\")","v":"2022-01-17"},{"$f":"+IF(C2007=\"\",\"\",IF(H2007=\"\",\"SIN RESPUESTA\",(IF(H2007<=J2007,\"A TIEMPO\",\"FUERA DE TIEMPO\"))))","v":"A TIEMPO"},{"$f":"IF(H2007=\"\",\"\",NETWORKDAYS(C2007+1,H2007,DiasNOLaborables))","v":4},{"$f":"IF(NETWORKDAYS(J2007+1,H2007,DiasNOLaborables)<=0,\"\",NETWORKDAYS(J2007+1,H2007,DiasNOLaborables))","v":""},null,null,{"$f":"IFERROR(VLOOKUP(E2007,$X$51:$Y$64,2),\"\")","v":20}]
[1997,20219050140922,"2021-12-20","MODULO CONTACTENOS","SOLICITUD DE INFORMACIÓN Y DOCUMENTOS","ADMINISTRATIVA","OFICINA ASESORA JURÍDICA","2021-12-23","CORREO ELECTRÓNICO",{"$f":"IFERROR(WORKDAY(C2008,P2008,DiasNOLaborables),\"\")","v":"2022-01-17"},{"$f":"+IF(C2008=\"\",\"\",IF(H2008=\"\",\"SIN RESPUESTA\",(IF(H2008<=J2008,\"A TIEMPO\",\"FUERA DE TIEMPO\"))))","v":"A TIEMPO"},{"$f":"IF(H2008=\"\",\"\",NETWORKDAYS(C2008+1,H2008,DiasNOLaborables))","v":3},{"$f":"IF(NETWORKDAYS(J2008+1,H2008,DiasNOLaborables)<=0,\"\",NETWORKDAYS(J2008+1,H2008,DiasNOLaborables))","v":""},null,null,{"$f":"IFERROR(VLOOKUP(E2008,$X$51:$Y$64,2),\"\")","v":20}]
[1998,20219050140962,"2021-12-20","MODULO CONTACTENOS","SOLICITUD DE INFORMACIÓN Y DOCUMENTOS","ADMINISTRATIVA","OFICINA ASESORA JURÍDICA","2021-12-29","CORREO ELECTRÓNICO",{"$f":"IFERROR(WORKDAY(C2009,P2009,DiasNOLaborables),\"\")","v":"2022-01-17"},{"$f":"+IF(C2009=\"\",\"\",IF(H2009=\"\",\"SIN RESPUESTA\",(IF(H2009<=J2009,\"A TIEMPO\",\"FUERA DE TIEMPO\"))))","v":"A TIEMPO"},{"$f":"IF(H2009=\"\",\"\",NETWORKDAYS(C2009+1,H2009,DiasNOLaborables))","v":7},{"$f":"IF(NETWORKDAYS(J2009+1,H2009,DiasNOLaborables)<=0,\"\",NETWORKDAYS(J2009+1,H2009,DiasNOLaborables))","v":""},null,null,{"$f":"IFERROR(VLOOKUP(E2009,$X$51:$Y$64,2),\"\")","v":20}]
[1999,20219050141022,"2021-12-20","MODULO CONTACTENOS","SOLICITUD DE INFORMACIÓN Y DOCUMENTOS","CLIMATOLOGÍA","SUBDIRECCIÓN DE METEOROLOGÍA","2022-01-03","CORREO ELECTRÓNICO",{"$f":"IFERROR(WORKDAY(C2010,P2010,DiasNOLaborables),\"\")","v":"2022-01-17"},{"$f":"+IF(C2010=\"\",\"\",IF(H2010=\"\",\"SIN RESPUESTA\",(IF(H2010<=J2010,\"A TIEMPO\",\"FUERA DE TIEMPO\"))))","v":"A TIEMPO"},{"$f":"IF(H2010=\"\",\"\",NETWORKDAYS(C2010+1,H2010,DiasNOLaborables))","v":10},{"$f":"IF(NETWORKDAYS(J2010+1,H2010,DiasNOLaborables)<=0,\"\",NETWORKDAYS(J2010+1,H2010,DiasNOLaborables))","v":""},null,null,{"$f":"IFERROR(VLOOKUP(E2010,$X$51:$Y$64,2),\"\")","v":20}]
[2000,20219050141052,"2021-12-20","MODULO CONTACTENOS","SOLICITUD DE INFORMACIÓN Y DOCUMENTOS","ADMINISTRATIVA","GRUPO DE GESTIÓN DOCUMENTAL Y CENTRO DE DOCUMENTACIÓN","2021-12-27","CORREO ELECTRÓNICO",{"$f":"IFERROR(WORKDAY(C2011,P2011,DiasNOLaborables),\"\")","v":"2022-01-17"},{"$f":"+IF(C2011=\"\",\"\",IF(H2011=\"\",\"SIN RESPUESTA\",(IF(H2011<=J2011,\"A TIEMPO\",\"FUERA DE TIEMPO\"))))","v":"A TIEMPO"},{"$f":"IF(H2011=\"\",\"\",NETWORKDAYS(C2011+1,H2011,DiasNOLaborables))","v":5},{"$f":"IF(NETWORKDAYS(J2011+1,H2011,DiasNOLaborables)<=0,\"\",NETWORKDAYS(J2011+1,H2011,DiasNOLaborables))","v":""},null,null,{"$f":"IFERROR(VLOOKUP(E2011,$X$51:$Y$64,2),\"\")","v":20}]
[2001,20219050141042,"2021-12-20","MODULO CONTACTENOS","SOLICITUD DE INFORMACIÓN Y DOCUMENTOS","ADMINISTRATIVA","GRUPO DE GESTIÓN DOCUMENTAL Y CENTRO DE DOCUMENTACIÓN","2021-12-27","CORREO ELECTRÓNICO",{"$f":"IFERROR(WORKDAY(C2012,P2012,DiasNOLaborables),\"\")","v":"2022-01-17"},{"$f":"+IF(C2012=\"\",\"\",IF(H2012=\"\",\"SIN RESPUESTA\",(IF(H2012<=J2012,\"A TIEMPO\",\"FUERA DE TIEMPO\"))))","v":"A TIEMPO"},{"$f":"IF(H2012=\"\",\"\",NETWORKDAYS(C2012+1,H2012,DiasNOLaborables))","v":5},{"$f":"IF(NETWORKDAYS(J2012+1,H2012,DiasNOLaborables)<=0,\"\",NETWORKDAYS(J2012+1,H2012,DiasNOLaborables))","v":""},null,null,{"$f":"IFERROR(VLOOKUP(E2012,$X$51:$Y$64,2),\"\")","v":20}]
[2002,20219050141032,"2021-12-20","MODULO CONTACTENOS","SOLICITUD DE INFORMACIÓN Y DOCUMENTOS","ADMINISTRATIVA","OFICINA ASESORA JURÍDICA","2021-12-23","CORREO ELECTRÓNICO",{"$f":"IFERROR(WORKDAY(C2013,P2013,DiasNOLaborables),\"\")","v":"2022-01-17"},{"$f":"+IF(C2013=\"\",\"\",IF(H2013=\"\",\"SIN RESPUESTA\",(IF(H2013<=J2013,\"A TIEMPO\",\"FUERA DE TIEMPO\"))))","v":"A TIEMPO"},{"$f":"IF(H2013=\"\",\"\",NETWORKDAYS(C2013+1,H2013,DiasNOLaborables))","v":3},{"$f":"IF(NETWORKDAYS(J2013+1,H2013,DiasNOLaborables)<=0,\"\",NETWORKDAYS(J2013+1,H2013,DiasNOLaborables))","v":""},null,null,{"$f":"IFERROR(VLOOKUP(E2013,$X$51:$Y$64,2),\"\")","v":20}]
[2003,20219050141082,"2021-12-20","MODULO CONTACTENOS","SOLICITUD DE INFORMACIÓN Y DOCUMENTOS","ADMINISTRATIVA","OFICINA ASESORA JURÍDICA","2021-12-23","CORREO ELECTRÓNICO",{"$f":"IFERROR(WORKDAY(C2014,P2014,DiasNOLaborables),\"\")","v":"2022-01-17"},{"$f":"+IF(C2014=\"\",\"\",IF(H2014=\"\",\"SIN RESPUESTA\",(IF(H2014<=J2014,\"A TIEMPO\",\"FUERA DE TIEMPO\"))))","v":"A TIEMPO"},{"$f":"IF(H2014=\"\",\"\",NETWORKDAYS([5]Hoja1!C2012+1,[5]Hoja1!P2012,DiasNOLaborables))","v":9},{"$f":"IF(NETWORKDAYS(J2014+1,H2014,DiasNOLaborables)<=0,\"\",NETWORKDAYS(J2014+1,H2014,DiasNOLaborables))","v":""},null,null,{"$f":"IFERROR(VLOOKUP(E2014,$X$51:$Y$64,2),\"\")","v":20}]
[2004,20219050141092,"2021-12-20","CORREO ELECTRÓNICO","SOLICITUD DE INFORMACIÓN Y DOCUMENTOS","SOLICITUD DE INFORMACIÓN HIDROMETEOROLÓGICA","GRUPO DE SERVICIO AL CIUDADANO ","2021-12-21","CORREO ELECTRÓNICO",{"$f":"IFERROR(WORKDAY(C2015,P2015,DiasNOLaborables),\"\")","v":"2022-01-17"},{"$f":"+IF(C2015=\"\",\"\",IF(H2015=\"\",\"SIN RESPUESTA\",(IF(H2015<=J2015,\"A TIEMPO\",\"FUERA DE TIEMPO\"))))","v":"A TIEMPO"},{"$f":"IF(H2015=\"\",\"\",NETWORKDAYS(C2015+1,H2015,DiasNOLaborables))","v":1},{"$f":"IF(NETWORKDAYS(J2015+1,H2015,DiasNOLaborables)<=0,\"\",NETWORKDAYS(J2015+1,H2015,DiasNOLaborables))","v":""},null,null,{"$f":"IFERROR(VLOOKUP(E2015,$X$51:$Y$64,2),\"\")","v":20}]
[2005,20219050141112,"2021-12-20","MODULO CONTACTENOS","SOLICITUD DE INFORMACIÓN Y DOCUMENTOS","ADMINISTRATIVA","OFICINA ASESORA JURÍDICA","2021-12-23","CORREO ELECTRÓNICO",{"$f":"IFERROR(WORKDAY(C2016,P2016,DiasNOLaborables),\"\")","v":"2022-01-17"},{"$f":"+IF(C2016=\"\",\"\",IF(H2016=\"\",\"SIN RESPUESTA\",(IF(H2016<=J2016,\"A TIEMPO\",\"FUERA DE TIEMPO\"))))","v":"A TIEMPO"},{"$f":"IF(H2016=\"\",\"\",NETWORKDAYS(C2016+1,H2016,DiasNOLaborables))","v":3},{"$f":"IF(NETWORKDAYS(J2016+1,H2016,DiasNOLaborables)<=0,\"\",NETWORKDAYS(J2016+1,H2016,DiasNOLaborables))","v":""},null,null,{"$f":"IFERROR(VLOOKUP(E2016,$X$51:$Y$64,2),\"\")","v":20}]
[2006,20219050141182,"2021-12-20","MODULO CONTACTENOS","CERTIFICACIONES DE TIEMPO, CLIMA Y EVENTOS HIDROLÓGICOS","CERTIFICACIONES DE TIEMPO Y CLIMA","SUBDIRECCIÓN DE METEOROLOGÍA","2021-12-28","CORREO ELECTRÓNICO",{"$f":"IFERROR(WORKDAY(C2017,P2017,DiasNOLaborables),\"\")","v":"2022-02-07"},{"$f":"+IF(C2017=\"\",\"\",IF(H2017=\"\",\"SIN RESPUESTA\",(IF(H2017<=J2017,\"A TIEMPO\",\"FUERA DE TIEMPO\"))))","v":"A TIEMPO"},{"$f":"IF(H2017=\"\",\"\",NETWORKDAYS(C2017+1,H2017,DiasNOLaborables))","v":6},{"$f":"IF(NETWORKDAYS(J2017+1,H2017,DiasNOLaborables)<=0,\"\",NETWORKDAYS(J2017+1,H2017,DiasNOLaborables))","v":""},null,null,{"$f":"IFERROR(VLOOKUP(E2017,$X$51:$Y$64,2),\"\")","v":35}]
[2007,20219050141132,"2021-12-20","MODULO CONTACTENOS","SOLICITUD DE INFORMACIÓN Y DOCUMENTOS","SOLICITUD DE INFORMACIÓN HIDROMETEOROLÓGICA","GRUPO DE SERVICIO AL CIUDADANO ","2021-12-22","CORREO ELECTRÓNICO",{"$f":"IFERROR(WORKDAY(C2018,P2018,DiasNOLaborables),\"\")","v":"2022-01-17"},{"$f":"+IF(C2018=\"\",\"\",IF(H2018=\"\",\"SIN RESPUESTA\",(IF(H2018<=J2018,\"A TIEMPO\",\"FUERA DE TIEMPO\"))))","v":"A TIEMPO"},{"$f":"IF(H2018=\"\",\"\",NETWORKDAYS(C2018+1,H2018,DiasNOLaborables))","v":2},{"$f":"IF(NETWORKDAYS(J2018+1,H2018,DiasNOLaborables)<=0,\"\",NETWORKDAYS(J2018+1,H2018,DiasNOLaborables))","v":""},null,null,{"$f":"IFERROR(VLOOKUP(E2018,$X$51:$Y$64,2),\"\")","v":20}]
[2008,20217080002932,"2021-12-20","FAX","SOLICITUD DE INFORMACIÓN Y DOCUMENTOS","SOLICITUD DE INFORMACIÓN HIDROMETEOROLÓGICA","GRUPO DE SERVICIO AL CIUDADANO ","2021-12-22","CORREO ELECTRÓNICO",{"$f":"IFERROR(WORKDAY(C2019,P2019,DiasNOLaborables),\"\")","v":"2022-01-17"},{"$f":"+IF(C2019=\"\",\"\",IF(H2019=\"\",\"SIN RESPUESTA\",(IF(H2019<=J2019,\"A TIEMPO\",\"FUERA DE TIEMPO\"))))","v":"A TIEMPO"},{"$f":"IF(H2019=\"\",\"\",NETWORKDAYS(C2019+1,H2019,DiasNOLaborables))","v":2},{"$f":"IF(NETWORKDAYS(J2019+1,H2019,DiasNOLaborables)<=0,\"\",NETWORKDAYS(J2019+1,H2019,DiasNOLaborables))","v":""},null,null,{"$f":"IFERROR(VLOOKUP(E2019,$X$51:$Y$64,2),\"\")","v":20}]
[2009,20219050141162,"2021-12-20","MODULO CONTACTENOS","SOLICITUD DE INFORMACIÓN Y DOCUMENTOS","SOLICITUD DE INFORMACIÓN HIDROMETEOROLÓGICA","GRUPO DE SERVICIO AL CIUDADANO ","2021-12-22","CORREO ELECTRÓNICO",{"$f":"IFERROR(WORKDAY(C2020,P2020,DiasNOLaborables),\"\")","v":"2022-01-17"},{"$f":"+IF(C2020=\"\",\"\",IF(H2020=\"\",\"SIN RESPUESTA\",(IF(H2020<=J2020,\"A TIEMPO\",\"FUERA DE TIEMPO\"))))","v":"A TIEMPO"},{"$f":"IF(H2020=\"\",\"\",NETWORKDAYS(C2020+1,H2020,DiasNOLaborables))","v":2},{"$f":"IF(NETWORKDAYS(J2020+1,H2020,DiasNOLaborables)<=0,\"\",NETWORKDAYS(J2020+1,H2020,DiasNOLaborables))","v":""},null,null,{"$f":"IFERROR(VLOOKUP(E2020,$X$51:$Y$64,2),\"\")","v":20}]
[2010,20219050141002,"2021-12-20","MODULO CONTACTENOS","SOLICITUD DE INFORMACIÓN Y DOCUMENTOS","SOLICITUD DE INFORMACIÓN HIDROMETEOROLÓGICA","GRUPO DE SERVICIO AL CIUDADANO ","2021-12-23","CORREO ELECTRÓNICO",{"$f":"IFERROR(WORKDAY(C2021,P2021,DiasNOLaborables),\"\")","v":"2022-01-17"},{"$f":"+IF(C2021=\"\",\"\",IF(H2021=\"\",\"SIN RESPUESTA\",(IF(H2021<=J2021,\"A TIEMPO\",\"FUERA DE TIEMPO\"))))","v":"A TIEMPO"},{"$f":"IF(H2021=\"\",\"\",NETWORKDAYS(C2021+1,H2021,DiasNOLaborables))","v":3},{"$f":"IF(NETWORKDAYS(J2021+1,H2021,DiasNOLaborables)<=0,\"\",NETWORKDAYS(J2021+1,H2021,DiasNOLaborables))","v":""},null,null,{"$f":"IFERROR(VLOOKUP(E2021,$X$51:$Y$64,2),\"\")","v":20}]
[2011,20219050141012,"2021-12-20","MODULO CONTACTENOS","SOLICITUD DE INFORMACIÓN Y DOCUMENTOS","SOLICITUD DE INFORMACIÓN HIDROMETEOROLÓGICA","GRUPO DE SERVICIO AL CIUDADANO ","2021-12-23","CORREO ELECTRÓNICO",{"$f":"IFERROR(WORKDAY(C2022,P2022,DiasNOLaborables),\"\")","v":"2022-01-17"},{"$f":"+IF(C2022=\"\",\"\",IF(H2022=\"\",\"SIN RESPUESTA\",(IF(H2022<=J2022,\"A TIEMPO\",\"FUERA DE TIEMPO\"))))","v":"A TIEMPO"},{"$f":"IF(H2022=\"\",\"\",NETWORKDAYS(C2022+1,H2022,DiasNOLaborables))","v":3},{"$f":"IF(NETWORKDAYS(J2022+1,H2022,DiasNOLaborables)<=0,\"\",NETWORKDAYS(J2022+1,H2022,DiasNOLaborables))","v":""},null,null,{"$f":"IFERROR(VLOOKUP(E2022,$X$51:$Y$64,2),\"\")","v":20}]
[2012,20219050141062,"2021-12-20","MODULO CONTACTENOS","SOLICITUD DE INFORMACIÓN Y DOCUMENTOS","SOLICITUD DE INFORMACIÓN HIDROMETEOROLÓGICA","GRUPO DE SERVICIO AL CIUDADANO ","2021-12-24","CORREO ELECTRÓNICO",{"$f":"IFERROR(WORKDAY(C2023,P2023,DiasNOLaborables),\"\")","v":"2022-01-17"},{"$f":"+IF(C2023=\"\",\"\",IF(H2023=\"\",\"SIN RESPUESTA\",(IF(H2023<=J2023,\"A TIEMPO\",\"FUERA DE TIEMPO\"))))","v":"A TIEMPO"},{"$f":"IF(H2023=\"\",\"\",NETWORKDAYS(C2023+1,H2023,DiasNOLaborables))","v":4},{"$f":"IF(NETWORKDAYS(J2023+1,H2023,DiasNOLaborables)<=0,\"\",NETWORKDAYS(J2023+1,H2023,DiasNOLaborables))","v":""},null,null,{"$f":"IFERROR(VLOOKUP(E2023,$X$51:$Y$64,2),\"\")","v":20}]
[2013,20219050141192,"2021-12-20","MODULO CONTACTENOS","SOLICITUD DE INFORMACIÓN Y DOCUMENTOS","SOLICITUD DE INFORMACIÓN HIDROMETEOROLÓGICA","GRUPO DE SERVICIO AL CIUDADANO ","2021-12-24","CORREO ELECTRÓNICO",{"$f":"IFERROR(WORKDAY(C2024,P2024,DiasNOLaborables),\"\")","v":"2022-01-17"},{"$f":"+IF(C2024=\"\",\"\",IF(H2024=\"\",\"SIN RESPUESTA\",(IF(H2024<=J2024,\"A TIEMPO\",\"FUERA DE TIEMPO\"))))","v":"A TIEMPO"},{"$f":"IF(H2024=\"\",\"\",NETWORKDAYS(C2024+1,H2024,DiasNOLaborables))","v":4},{"$f":"IF(NETWORKDAYS(J2024+1,H2024,DiasNOLaborables)<=0,\"\",NETWORKDAYS(J2024+1,H2024,DiasNOLaborables))","v":""},null,null,{"$f":"IFERROR(VLOOKUP(E2024,$X$51:$Y$64,2),\"\")","v":20}]
[2014,20219050141202,"2021-12-21","MODULO CONTACTENOS","SOLICITUD DE INFORMACIÓN Y DOCUMENTOS","SOLICITUD DE INFORMACIÓN HIDROMETEOROLÓGICA","GRUPO DE SERVICIO AL CIUDADANO ","2021-12-24","CORREO ELECTRÓNICO",{"$f":"IFERROR(WORKDAY(C2025,P2025,DiasNOLaborables),\"\")","v":"2022-01-18"},{"$f":"+IF(C2025=\"\",\"\",IF(H2025=\"\",\"SIN RESPUESTA\",(IF(H2025<=J2025,\"A TIEMPO\",\"FUERA DE TIEMPO\"))))","v":"A TIEMPO"},{"$f":"IF(H2025=\"\",\"\",NETWORKDAYS(C2025+1,H2025,DiasNOLaborables))","v":3},{"$f":"IF(NETWORKDAYS(J2025+1,H2025,DiasNOLaborables)<=0,\"\",NETWORKDAYS(J2025+1,H2025,DiasNOLaborables))","v":""},null,null,{"$f":"IFERROR(VLOOKUP(E2025,$X$51:$Y$64,2),\"\")","v":20}]
[2015,20219050141282,"2021-12-21","MODULO CONTACTENOS","SOLICITUD DE INFORMACIÓN Y DOCUMENTOS","SOLICITUD DE INFORMACIÓN HIDROMETEOROLÓGICA","GRUPO DE SERVICIO AL CIUDADANO ","2021-12-24","CORREO ELECTRÓNICO",{"$f":"IFERROR(WORKDAY(C2026,P2026,DiasNOLaborables),\"\")","v":"2022-01-18"},{"$f":"+IF(C2026=\"\",\"\",IF(H2026=\"\",\"SIN RESPUESTA\",(IF(H2026<=J2026,\"A TIEMPO\",\"FUERA DE TIEMPO\"))))","v":"A TIEMPO"},{"$f":"IF(H2026=\"\",\"\",NETWORKDAYS(C2026+1,H2026,DiasNOLaborables))","v":3},{"$f":"IF(NETWORKDAYS(J2026+1,H2026,DiasNOLaborables)<=0,\"\",NETWORKDAYS(J2026+1,H2026,DiasNOLaborables))","v":""},null,null,{"$f":"IFERROR(VLOOKUP(E2026,$X$51:$Y$64,2),\"\")","v":20}]
[2016,20219050141322,"2021-12-21","CORREO ELECTRÓNICO","SOLICITUD DE INFORMACIÓN Y DOCUMENTOS","SOLICITUD DE INFORMACIÓN HIDROMETEOROLÓGICA","SUBDIRECCIÓN DE HIDROLOGÍA","2021-12-24","CORREO ELECTRÓNICO",{"$f":"IFERROR(WORKDAY(C2027,P2027,DiasNOLaborables),\"\")","v":"2022-01-18"},{"$f":"+IF(C2027=\"\",\"\",IF(H2027=\"\",\"SIN RESPUESTA\",(IF(H2027<=J2027,\"A TIEMPO\",\"FUERA DE TIEMPO\"))))","v":"A TIEMPO"},{"$f":"IF(H2027=\"\",\"\",NETWORKDAYS(C2027+1,H2027,DiasNOLaborables))","v":3},{"$f":"IF(NETWORKDAYS(J2027+1,H2027,DiasNOLaborables)<=0,\"\",NETWORKDAYS(J2027+1,H2027,DiasNOLaborables))","v":""},null,null,{"$f":"IFERROR(VLOOKUP(E2027,$X$51:$Y$64,2),\"\")","v":20}]
[2017,20219050141312,"2021-12-21","MODULO CONTACTENOS","SOLICITUD DE INFORMACIÓN Y DOCUMENTOS","SOLICITUD DE INFORMACIÓN HIDROMETEOROLÓGICA","GRUPO DE SERVICIO AL CIUDADANO ","2021-12-23","CORREO ELECTRÓNICO",{"$f":"IFERROR(WORKDAY(C2028,P2028,DiasNOLaborables),\"\")","v":"2022-01-18"},{"$f":"+IF(C2028=\"\",\"\",IF(H2028=\"\",\"SIN RESPUESTA\",(IF(H2028<=J2028,\"A TIEMPO\",\"FUERA DE TIEMPO\"))))","v":"A TIEMPO"},{"$f":"IF(H2028=\"\",\"\",NETWORKDAYS(C2028+1,H2028,DiasNOLaborables))","v":2},{"$f":"IF(NETWORKDAYS(J2028+1,H2028,DiasNOLaborables)<=0,\"\",NETWORKDAYS(J2028+1,H2028,DiasNOLaborables))","v":""},null,null,{"$f":"IFERROR(VLOOKUP(E2028,$X$51:$Y$64,2),\"\")","v":20}]
[2018,20219050141332,"2021-12-21","CORREO ELECTRÓNICO","SOLICITUD DE INFORMACIÓN Y DOCUMENTOS","SOLICITUD DE INFORMACIÓN HIDROMETEOROLÓGICA","GRUPO DE SERVICIO AL CIUDADANO ","2021-12-23","CORREO ELECTRÓNICO",{"$f":"IFERROR(WORKDAY(C2029,P2029,DiasNOLaborables),\"\")","v":"2022-01-18"},{"$f":"+IF(C2029=\"\",\"\",IF(H2029=\"\",\"SIN RESPUESTA\",(IF(H2029<=J2029,\"A TIEMPO\",\"FUERA DE TIEMPO\"))))","v":"A TIEMPO"},{"$f":"IF(H2029=\"\",\"\",NETWORKDAYS(C2029+1,H2029,DiasNOLaborables))","v":2},{"$f":"IF(NETWORKDAYS(J2029+1,H2029,DiasNOLaborables)<=0,\"\",NETWORKDAYS(J2029+1,H2029,DiasNOLaborables))","v":""},null,null,{"$f":"IFERROR(VLOOKUP(E2029,$X$51:$Y$64,2),\"\")","v":20}]
[2019,20219050141342,"2021-12-21","CORREO ELECTRÓNICO","SOLICITUD DE INFORMACIÓN Y DOCUMENTOS","SOLICITUD DE INFORMACIÓN HIDROMETEOROLÓGICA","GRUPO DE SERVICIO AL CIUDADANO ","2021-12-23","CORREO ELECTRÓNICO",{"$f":"IFERROR(WORKDAY(C2030,P2030,DiasNOLaborables),\"\")","v":"2022-01-18"},{"$f":"+IF(C2030=\"\",\"\",IF(H2030=\"\",\"SIN RESPUESTA\",(IF(H2030<=J2030,\"A TIEMPO\",\"FUERA DE TIEMPO\"))))","v":"A TIEMPO"},{"$f":"IF(H2030=\"\",\"\",NETWORKDAYS(C2030+1,H2030,DiasNOLaborables))","v":2},{"$f":"IF(NETWORKDAYS(J2030+1,H2030,DiasNOLaborables)<=0,\"\",NETWORKDAYS(J2030+1,H2030,DiasNOLaborables))","v":""},null,null,{"$f":"IFERROR(VLOOKUP(E2030,$X$51:$Y$64,2),\"\")","v":20}]
[2020,20219050141362,"2021-12-21","MODULO CONTACTENOS","SOLICITUD DE INFORMACIÓN Y DOCUMENTOS","SOLICITUD DE INFORMACIÓN HIDROMETEOROLÓGICA","GRUPO DE SERVICIO AL CIUDADANO ","2021-12-23","CORREO ELECTRÓNICO",{"$f":"IFERROR(WORKDAY(C2031,P2031,DiasNOLaborables),\"\")","v":"2022-01-18"},{"$f":"+IF(C2031=\"\",\"\",IF(H2031=\"\",\"SIN RESPUESTA\",(IF(H2031<=J2031,\"A TIEMPO\",\"FUERA DE TIEMPO\"))))","v":"A TIEMPO"},{"$f":"IF(H2031=\"\",\"\",NETWORKDAYS(C2031+1,H2031,DiasNOLaborables))","v":2},{"$f":"IF(NETWORKDAYS(J2031+1,H2031,DiasNOLaborables)<=0,\"\",NETWORKDAYS(J2031+1,H2031,DiasNOLaborables))","v":""},null,null,{"$f":"IFERROR(VLOOKUP(E2031,$X$51:$Y$64,2),\"\")","v":20}]
[2021,20219050141372,"2021-12-21","MODULO CONTACTENOS","SOLICITUD DE INFORMACIÓN Y DOCUMENTOS","ADMINISTRATIVA","OFICINA ASESORA JURÍDICA","2021-12-28","CORREO ELECTRÓNICO",{"$f":"IFERROR(WORKDAY(C2032,P2032,DiasNOLaborables),\"\")","v":"2022-01-18"},{"$f":"+IF(C2032=\"\",\"\",IF(H2032=\"\",\"SIN RESPUESTA\",(IF(H2032<=J2032,\"A TIEMPO\",\"FUERA DE TIEMPO\"))))","v":"A TIEMPO"},{"$f":"IF(H2032=\"\",\"\",NETWORKDAYS(C2032+1,H2032,DiasNOLaborables))","v":5},{"$f":"IF(NETWORKDAYS(J2032+1,H2032,DiasNOLaborables)<=0,\"\",NETWORKDAYS(J2032+1,H2032,DiasNOLaborables))","v":""},null,null,{"$f":"IFERROR(VLOOKUP(E2032,$X$51:$Y$64,2),\"\")","v":20}]
[2022,20219050141572,"2021-12-21","MODULO CONTACTENOS","SOLICITUD DE INFORMACIÓN Y DOCUMENTOS","SIRH","GRUPO DE GESTIÓN DOCUMENTAL Y CENTRO DE DOCUMENTACIÓN","2022-01-06","CORREO ELECTRÓNICO",{"$f":"IFERROR(WORKDAY(C2033,P2033,DiasNOLaborables),\"\")","v":"2022-01-18"},{"$f":"+IF(C2033=\"\",\"\",IF(H2033=\"\",\"SIN RESPUESTA\",(IF(H2033<=J2033,\"A TIEMPO\",\"FUERA DE TIEMPO\"))))","v":"A TIEMPO"},{"$f":"IF(H2033=\"\",\"\",NETWORKDAYS(C2033+1,H2033,DiasNOLaborables))","v":12},{"$f":"IF(NETWORKDAYS(J2033+1,H2033,DiasNOLaborables)<=0,\"\",NETWORKDAYS(J2033+1,H2033,DiasNOLaborables))","v":""},null,null,{"$f":"IFERROR(VLOOKUP(E2033,$X$51:$Y$64,2),\"\")","v":20}]
[2023,20219050141592,"2021-12-21","MODULO CONTACTENOS","SOLICITUD DE INFORMACIÓN Y DOCUMENTOS","ADMINISTRATIVA","OFICINA ASESORA JURÍDICA","2021-12-28","CORREO ELECTRÓNICO",{"$f":"IFERROR(WORKDAY(C2034,P2034,DiasNOLaborables),\"\")","v":"2022-01-18"},{"$f":"+IF(C2034=\"\",\"\",IF(H2034=\"\",\"SIN RESPUESTA\",(IF(H2034<=J2034,\"A TIEMPO\",\"FUERA DE TIEMPO\"))))","v":"A TIEMPO"},{"$f":"IF(H2034=\"\",\"\",NETWORKDAYS(C2034+1,H2034,DiasNOLaborables))","v":5},{"$f":"IF(NETWORKDAYS(J2034+1,H2034,DiasNOLaborables)<=0,\"\",NETWORKDAYS(J2034+1,H2034,DiasNOLaborables))","v":""},null,null,{"$f":"IFERROR(VLOOKUP(E2034,$X$51:$Y$64,2),\"\")","v":20}]
[2024,20219050141302,"2021-12-21","CORREO ELECTRÓNICO","SOLICITUD DE INFORMACIÓN Y DOCUMENTOS","SOLICITUD DE INFORMACIÓN HIDROMETEOROLÓGICA","GRUPO DE SERVICIO AL CIUDADANO ","2021-12-27","CORREO ELECTRÓNICO",{"$f":"IFERROR(WORKDAY(C2035,P2035,DiasNOLaborables),\"\")","v":"2022-01-18"},{"$f":"+IF(C2035=\"\",\"\",IF(H2035=\"\",\"SIN RESPUESTA\",(IF(H2035<=J2035,\"A TIEMPO\",\"FUERA DE TIEMPO\"))))","v":"A TIEMPO"},{"$f":"IF(H2035=\"\",\"\",NETWORKDAYS(C2035+1,H2035,DiasNOLaborables))","v":4},{"$f":"IF(NETWORKDAYS(J2035+1,H2035,DiasNOLaborables)<=0,\"\",NETWORKDAYS(J2035+1,H2035,DiasNOLaborables))","v":""},null,null,{"$f":"IFERROR(VLOOKUP(E2035,$X$51:$Y$64,2),\"\")","v":20}]
[2025,20219050141522,"2021-12-21","MODULO CONTACTENOS","SOLICITUD DE INFORMACIÓN Y DOCUMENTOS","SOLICITUD DE INFORMACIÓN HIDROMETEOROLÓGICA","GRUPO DE SERVICIO AL CIUDADANO ","2021-12-27","CORREO ELECTRÓNICO",{"$f":"IFERROR(WORKDAY(C2036,P2036,DiasNOLaborables),\"\")","v":"2022-01-18"},{"$f":"+IF(C2036=\"\",\"\",IF(H2036=\"\",\"SIN RESPUESTA\",(IF(H2036<=J2036,\"A TIEMPO\",\"FUERA DE TIEMPO\"))))","v":"A TIEMPO"},{"$f":"IF(H2036=\"\",\"\",NETWORKDAYS(C2036+1,H2036,DiasNOLaborables))","v":4},{"$f":"IF(NETWORKDAYS(J2036+1,H2036,DiasNOLaborables)<=0,\"\",NETWORKDAYS(J2036+1,H2036,DiasNOLaborables))","v":""},null,null,{"$f":"IFERROR(VLOOKUP(E2036,$X$51:$Y$64,2),\"\")","v":20}]
[2026,20219050141562,"2021-12-21","MODULO CONTACTENOS","SOLICITUD DE INFORMACIÓN Y DOCUMENTOS","SOLICITUD DE INFORMACIÓN HIDROMETEOROLÓGICA","GRUPO DE SERVICIO AL CIUDADANO ","2021-12-27","CORREO ELECTRÓNICO",{"$f":"IFERROR(WORKDAY(C2037,P2037,DiasNOLaborables),\"\")","v":"2022-01-18"},{"$f":"+IF(C2037=\"\",\"\",IF(H2037=\"\",\"SIN RESPUESTA\",(IF(H2037<=J2037,\"A TIEMPO\",\"FUERA DE TIEMPO\"))))","v":"A TIEMPO"},{"$f":"IF(H2037=\"\",\"\",NETWORKDAYS(C2037+1,H2037,DiasNOLaborables))","v":4},{"$f":"IF(NETWORKDAYS(J2037+1,H2037,DiasNOLaborables)<=0,\"\",NETWORKDAYS(J2037+1,H2037,DiasNOLaborables))","v":""},null,null,{"$f":"IFERROR(VLOOKUP(E2037,$X$51:$Y$64,2),\"\")","v":20}]
[2027,20219050141632,"2021-12-21","MODULO CONTACTENOS","PETICIÓN","SOLICITUD DE INFORMACIÓN HIDROMETEOROLÓGICA","GRUPO DE SERVICIO AL CIUDADANO ","2021-12-27","CORREO ELECTRÓNICO",{"$f":"IFERROR(WORKDAY(C2038,P2038,DiasNOLaborables),\"\")","v":"2022-02-01"},{"$f":"+IF(C2038=\"\",\"\",IF(H2038=\"\",\"SIN RESPUESTA\",(IF(H2038<=J2038,\"A TIEMPO\",\"FUERA DE TIEMPO\"))))","v":"A TIEMPO"},{"$f":"IF(H2038=\"\",\"\",NETWORKDAYS(C2038+1,H2038,DiasNOLaborables))","v":4},{"$f":"IF(NETWORKDAYS(J2038+1,H2038,DiasNOLaborables)<=0,\"\",NETWORKDAYS(J2038+1,H2038,DiasNOLaborables))","v":""},null,null,{"$f":"IFERROR(VLOOKUP(E2038,$X$51:$Y$64,2),\"\")","v":30}]
[2028,20219050141482,"2021-12-21","MODULO CONTACTENOS","PETICIÓN","SOLICITUD DE INFORMACIÓN HIDROMETEOROLÓGICA","GRUPO DE SERVICIO AL CIUDADANO ","2021-12-27","CORREO ELECTRÓNICO",{"$f":"IFERROR(WORKDAY(C2039,P2039,DiasNOLaborables),\"\")","v":"2022-02-01"},{"$f":"+IF(C2039=\"\",\"\",IF(H2039=\"\",\"SIN RESPUESTA\",(IF(H2039<=J2039,\"A TIEMPO\",\"FUERA DE TIEMPO\"))))","v":"A TIEMPO"},{"$f":"IF(H2039=\"\",\"\",NETWORKDAYS(C2039+1,H2039,DiasNOLaborables))","v":4},{"$f":"IF(NETWORKDAYS(J2039+1,H2039,DiasNOLaborables)<=0,\"\",NETWORKDAYS(J2039+1,H2039,DiasNOLaborables))","v":""},null,null,{"$f":"IFERROR(VLOOKUP(E2039,$X$51:$Y$64,2),\"\")","v":30}]
[2029,20219050141412,"2021-12-21","MODULO CONTACTENOS","SOLICITUD DE INFORMACIÓN Y DOCUMENTOS","SOLICITUD DE INFORMACIÓN HIDROMETEOROLÓGICA","GRUPO DE SERVICIO AL CIUDADANO ","2021-12-29","CORREO ELECTRÓNICO",{"$f":"IFERROR(WORKDAY(C2040,P2040,DiasNOLaborables),\"\")","v":"2022-01-18"},{"$f":"+IF(C2040=\"\",\"\",IF(H2040=\"\",\"SIN RESPUESTA\",(IF(H2040<=J2040,\"A TIEMPO\",\"FUERA DE TIEMPO\"))))","v":"A TIEMPO"},{"$f":"IF(H2040=\"\",\"\",NETWORKDAYS(C2040+1,H2040,DiasNOLaborables))","v":6},{"$f":"IF(NETWORKDAYS(J2040+1,H2040,DiasNOLaborables)<=0,\"\",NETWORKDAYS(J2040+1,H2040,DiasNOLaborables))","v":""},null,null,{"$f":"IFERROR(VLOOKUP(E2040,$X$51:$Y$64,2),\"\")","v":20}]
[2030,20219050141672,"2021-12-22","CORREO ELECTRÓNICO","SOLICITUD DE INFORMACIÓN Y DOCUMENTOS","SOLICITUD DE INFORMACIÓN HIDROMETEOROLÓGICA","GRUPO DE SERVICIO AL CIUDADANO ","2021-12-27","CORREO ELECTRÓNICO",{"$f":"IFERROR(WORKDAY(C2041,P2041,DiasNOLaborables),\"\")","v":"2022-01-19"},{"$f":"+IF(C2041=\"\",\"\",IF(H2041=\"\",\"SIN RESPUESTA\",(IF(H2041<=J2041,\"A TIEMPO\",\"FUERA DE TIEMPO\"))))","v":"A TIEMPO"},{"$f":"IF(H2041=\"\",\"\",NETWORKDAYS(C2041+1,H2041,DiasNOLaborables))","v":3},{"$f":"IF(NETWORKDAYS(J2041+1,H2041,DiasNOLaborables)<=0,\"\",NETWORKDAYS(J2041+1,H2041,DiasNOLaborables))","v":""},null,null,{"$f":"IFERROR(VLOOKUP(E2041,$X$51:$Y$64,2),\"\")","v":20}]
[2031,20219050141692,"2021-12-22","MODULO CONTACTENOS","SOLICITUD DE INFORMACIÓN Y DOCUMENTOS","SOLICITUD DE INFORMACIÓN HIDROMETEOROLÓGICA","GRUPO DE SERVICIO AL CIUDADANO ","2021-12-28","CORREO ELECTRÓNICO",{"$f":"IFERROR(WORKDAY(C2042,P2042,DiasNOLaborables),\"\")","v":"2022-01-19"},{"$f":"+IF(C2042=\"\",\"\",IF(H2042=\"\",\"SIN RESPUESTA\",(IF(H2042<=J2042,\"A TIEMPO\",\"FUERA DE TIEMPO\"))))","v":"A TIEMPO"},{"$f":"IF(H2042=\"\",\"\",NETWORKDAYS(C2042+1,H2042,DiasNOLaborables))","v":4},{"$f":"IF(NETWORKDAYS(J2042+1,H2042,DiasNOLaborables)<=0,\"\",NETWORKDAYS(J2042+1,H2042,DiasNOLaborables))","v":""},null,null,{"$f":"IFERROR(VLOOKUP(E2042,$X$51:$Y$64,2),\"\")","v":20}]
[2032,20219050141702,"2021-12-22","MODULO CONTACTENOS","SOLICITUD DE INFORMACIÓN Y DOCUMENTOS","SOLICITUD DE INFORMACIÓN HIDROMETEOROLÓGICA","GRUPO DE SERVICIO AL CIUDADANO ","2021-12-28","CORREO ELECTRÓNICO",{"$f":"IFERROR(WORKDAY(C2043,P2043,DiasNOLaborables),\"\")","v":"2022-01-19"},{"$f":"+IF(C2043=\"\",\"\",IF(H2043=\"\",\"SIN RESPUESTA\",(IF(H2043<=J2043,\"A TIEMPO\",\"FUERA DE TIEMPO\"))))","v":"A TIEMPO"},{"$f":"IF(H2043=\"\",\"\",NETWORKDAYS(C2043+1,H2043,DiasNOLaborables))","v":4},{"$f":"IF(NETWORKDAYS(J2043+1,H2043,DiasNOLaborables)<=0,\"\",NETWORKDAYS(J2043+1,H2043,DiasNOLaborables))","v":""},null,null,{"$f":"IFERROR(VLOOKUP(E2043,$X$51:$Y$64,2),\"\")","v":20}]
[2033,20219050141722,"2021-12-22","MODULO CONTACTENOS","SOLICITUD DE INFORMACIÓN Y DOCUMENTOS","SOLICITUD DE INFORMACIÓN HIDROMETEOROLÓGICA","GRUPO DE SERVICIO AL CIUDADANO ","2021-12-28","CORREO ELECTRÓNICO",{"$f":"IFERROR(WORKDAY(C2044,P2044,DiasNOLaborables),\"\")","v":"2022-01-19"},{"$f":"+IF(C2044=\"\",\"\",IF(H2044=\"\",\"SIN RESPUESTA\",(IF(H2044<=J2044,\"A TIEMPO\",\"FUERA DE TIEMPO\"))))","v":"A TIEMPO"},{"$f":"IF(H2044=\"\",\"\",NETWORKDAYS(C2044+1,H2044,DiasNOLaborables))","v":4},{"$f":"IF(NETWORKDAYS(J2044+1,H2044,DiasNOLaborables)<=0,\"\",NETWORKDAYS(J2044+1,H2044,DiasNOLaborables))","v":""},null,null,{"$f":"IFERROR(VLOOKUP(E2044,$X$51:$Y$64,2),\"\")","v":20}]
[2034,20219050141732,"2021-12-22","MODULO CONTACTENOS","SOLICITUD DE INFORMACIÓN Y DOCUMENTOS","SOLICITUD DE INFORMACIÓN HIDROMETEOROLÓGICA","GRUPO DE SERVICIO AL CIUDADANO ","2021-12-28","CORREO ELECTRÓNICO",{"$f":"IFERROR(WORKDAY(C2045,P2045,DiasNOLaborables),\"\")","v":"2022-01-19"},{"$f":"+IF(C2045=\"\",\"\",IF(H2045=\"\",\"SIN RESPUESTA\",(IF(H2045<=J2045,\"A TIEMPO\",\"FUERA DE TIEMPO\"))))","v":"A TIEMPO"},{"$f":"IF(H2045=\"\",\"\",NETWORKDAYS(C2045+1,H2045,DiasNOLaborables))","v":4},{"$f":"IF(NETWORKDAYS(J2045+1,H2045,DiasNOLaborables)<=0,\"\",NETWORKDAYS(J2045+1,H2045,DiasNOLaborables))","v":""},null,null,{"$f":"IFERROR(VLOOKUP(E2045,$X$51:$Y$64,2),\"\")","v":20}]
[2035,20219050141762,"2021-12-22","MODULO CONTACTENOS","SOLICITUD DE INFORMACIÓN Y DOCUMENTOS","SOLICITUD DE INFORMACIÓN HIDROMETEOROLÓGICA","GRUPO DE SERVICIO AL CIUDADANO ","2021-12-28","CORREO ELECTRÓNICO",{"$f":"IFERROR(WORKDAY(C2046,P2046,DiasNOLaborables),\"\")","v":"2022-01-19"},{"$f":"+IF(C2046=\"\",\"\",IF(H2046=\"\",\"SIN RESPUESTA\",(IF(H2046<=J2046,\"A TIEMPO\",\"FUERA DE TIEMPO\"))))","v":"A TIEMPO"},{"$f":"IF(H2046=\"\",\"\",NETWORKDAYS(C2046+1,H2046,DiasNOLaborables))","v":4},{"$f":"IF(NETWORKDAYS(J2046+1,H2046,DiasNOLaborables)<=0,\"\",NETWORKDAYS(J2046+1,H2046,DiasNOLaborables))","v":""},null,null,{"$f":"IFERROR(VLOOKUP(E2046,$X$51:$Y$64,2),\"\")","v":20}]
[2036,20219050141772,"2021-12-22","CORREO ELECTRÓNICO","SOLICITUD DE INFORMACIÓN Y DOCUMENTOS","SOLICITUD DE INFORMACIÓN HIDROMETEOROLÓGICA","GRUPO DE SERVICIO AL CIUDADANO ","2021-12-29","CORREO ELECTRÓNICO",{"$f":"IFERROR(WORKDAY(C2047,P2047,DiasNOLaborables),\"\")","v":"2022-01-19"},{"$f":"+IF(C2047=\"\",\"\",IF(H2047=\"\",\"SIN RESPUESTA\",(IF(H2047<=J2047,\"A TIEMPO\",\"FUERA DE TIEMPO\"))))","v":"A TIEMPO"},{"$f":"IF(H2047=\"\",\"\",NETWORKDAYS(C2047+1,H2047,DiasNOLaborables))","v":5},{"$f":"IF(NETWORKDAYS(J2047+1,H2047,DiasNOLaborables)<=0,\"\",NETWORKDAYS(J2047+1,H2047,DiasNOLaborables))","v":""},null,null,{"$f":"IFERROR(VLOOKUP(E2047,$X$51:$Y$64,2),\"\")","v":20}]
[2037,20219050141782,"2021-12-22","MODULO CONTACTENOS","SOLICITUD DE INFORMACIÓN Y DOCUMENTOS","SOLICITUD DE INFORMACIÓN HIDROMETEOROLÓGICA","GRUPO DE SERVICIO AL CIUDADANO ","2021-12-29","CORREO ELECTRÓNICO",{"$f":"IFERROR(WORKDAY(C2048,P2048,DiasNOLaborables),\"\")","v":"2022-01-19"},{"$f":"+IF(C2048=\"\",\"\",IF(H2048=\"\",\"SIN RESPUESTA\",(IF(H2048<=J2048,\"A TIEMPO\",\"FUERA DE TIEMPO\"))))","v":"A TIEMPO"},{"$f":"IF(H2048=\"\",\"\",NETWORKDAYS(C2048+1,H2048,DiasNOLaborables))","v":5},{"$f":"IF(NETWORKDAYS(J2048+1,H2048,DiasNOLaborables)<=0,\"\",NETWORKDAYS(J2048+1,H2048,DiasNOLaborables))","v":""},null,null,{"$f":"IFERROR(VLOOKUP(E2048,$X$51:$Y$64,2),\"\")","v":20}]
[2038,20219050141662,"2021-12-22","MODULO CONTACTENOS","SOLICITUD DE INFORMACIÓN Y DOCUMENTOS","ADMINISTRATIVA","GRUPO DE ADMINISTRACIÓN Y DESARROLLO DEL TALENTO HUMANO","2022-01-03","CORREO ELECTRÓNICO",{"$f":"IFERROR(WORKDAY(C2049,P2049,DiasNOLaborables),\"\")","v":"2022-01-19"},{"$f":"+IF(C2049=\"\",\"\",IF(H2049=\"\",\"SIN RESPUESTA\",(IF(H2049<=J2049,\"A TIEMPO\",\"FUERA DE TIEMPO\"))))","v":"A TIEMPO"},{"$f":"IF(H2049=\"\",\"\",NETWORKDAYS(C2049+1,H2049,DiasNOLaborables))","v":8},{"$f":"IF(NETWORKDAYS(J2049+1,H2049,DiasNOLaborables)<=0,\"\",NETWORKDAYS(J2049+1,H2049,DiasNOLaborables))","v":""},null,null,{"$f":"IFERROR(VLOOKUP(E2049,$X$51:$Y$64,2),\"\")","v":20}]
[2039,20219910070962,"2021-12-22","MODULO CONTACTENOS","SOLICITUD DE INFORMACIÓN Y DOCUMENTOS","JURIDICO","OFICINA ASESORA JURÍDICA","2022-01-19","CORREO ELECTRÓNICO",{"$f":"IFERROR(WORKDAY(C2050,P2050,DiasNOLaborables),\"\")","v":"2022-01-19"},{"$f":"+IF(C2050=\"\",\"\",IF(H2050=\"\",\"SIN RESPUESTA\",(IF(H2050<=J2050,\"A TIEMPO\",\"FUERA DE TIEMPO\"))))","v":"A TIEMPO"},{"$f":"IF(H2050=\"\",\"\",NETWORKDAYS(C2050+1,H2050,DiasNOLaborables))","v":20},{"$f":"IF(NETWORKDAYS(J2050+1,H2050,DiasNOLaborables)<=0,\"\",NETWORKDAYS(J2050+1,H2050,DiasNOLaborables))","v":""},null,null,{"$f":"IFERROR(VLOOKUP(E2050,$X$51:$Y$64,2),\"\")","v":20}]
[2040,20219050141612,"2021-12-22","CORREO ELECTRÓNICO","SOLICITUD DE INFORMACIÓN Y DOCUMENTOS","SOLICITUD DE INFORMACIÓN HIDROMETEOROLÓGICA","GRUPO DE SERVICIO AL CIUDADANO ","2021-12-24","CORREO ELECTRÓNICO",{"$f":"IFERROR(WORKDAY(C2051,P2051,DiasNOLaborables),\"\")","v":"2022-01-19"},{"$f":"+IF(C2051=\"\",\"\",IF(H2051=\"\",\"SIN RESPUESTA\",(IF(H2051<=J2051,\"A TIEMPO\",\"FUERA DE TIEMPO\"))))","v":"A TIEMPO"},{"$f":"IF(H2051=\"\",\"\",NETWORKDAYS(C2051+1,H2051,DiasNOLaborables))","v":2},{"$f":"IF(NETWORKDAYS(J2051+1,H2051,DiasNOLaborables)<=0,\"\",NETWORKDAYS(J2051+1,H2051,DiasNOLaborables))","v":""},null,null,{"$f":"IFERROR(VLOOKUP(E2051,$X$51:$Y$64,2),\"\")","v":20}]
[2041,20219050141622,"2021-12-22","MODULO CONTACTENOS","SOLICITUD DE INFORMACIÓN Y DOCUMENTOS","SOLICITUD DE INFORMACIÓN HIDROMETEOROLÓGICA","GRUPO DE SERVICIO AL CIUDADANO ","2021-12-24","CORREO ELECTRÓNICO",{"$f":"IFERROR(WORKDAY(C2052,P2052,DiasNOLaborables),\"\")","v":"2022-01-19"},{"$f":"+IF(C2052=\"\",\"\",IF(H2052=\"\",\"SIN RESPUESTA\",(IF(H2052<=J2052,\"A TIEMPO\",\"FUERA DE TIEMPO\"))))","v":"A TIEMPO"},{"$f":"IF(H2052=\"\",\"\",NETWORKDAYS(C2052+1,H2052,DiasNOLaborables))","v":2},{"$f":"IF(NETWORKDAYS(J2052+1,H2052,DiasNOLaborables)<=0,\"\",NETWORKDAYS(J2052+1,H2052,DiasNOLaborables))","v":""},null,null,{"$f":"IFERROR(VLOOKUP(E2052,$X$51:$Y$64,2),\"\")","v":20}]
[2042,20219050141642,"2021-12-22","MODULO CONTACTENOS","SOLICITUD DE INFORMACIÓN Y DOCUMENTOS","SOLICITUD DE INFORMACIÓN HIDROMETEOROLÓGICA","GRUPO DE SERVICIO AL CIUDADANO ","2021-12-24","CORREO ELECTRÓNICO",{"$f":"IFERROR(WORKDAY(C2053,P2053,DiasNOLaborables),\"\")","v":"2022-01-19"},{"$f":"+IF(C2053=\"\",\"\",IF(H2053=\"\",\"SIN RESPUESTA\",(IF(H2053<=J2053,\"A TIEMPO\",\"FUERA DE TIEMPO\"))))","v":"A TIEMPO"},{"$f":"IF(H2053=\"\",\"\",NETWORKDAYS(C2053+1,H2053,DiasNOLaborables))","v":2},{"$f":"IF(NETWORKDAYS(J2053+1,H2053,DiasNOLaborables)<=0,\"\",NETWORKDAYS(J2053+1,H2053,DiasNOLaborables))","v":""},null,null,{"$f":"IFERROR(VLOOKUP(E2053,$X$51:$Y$64,2),\"\")","v":20}]
[2043,20219050141682,"2021-12-22","MODULO CONTACTENOS","SOLICITUD DE INFORMACIÓN Y DOCUMENTOS","ADMINISTRATIVA","OFICINA ASESORA JURÍDICA","2021-12-28","CORREO ELECTRÓNICO",{"$f":"IFERROR(WORKDAY(C2054,P2054,DiasNOLaborables),\"\")","v":"2022-01-19"},{"$f":"+IF(C2054=\"\",\"\",IF(H2054=\"\",\"SIN RESPUESTA\",(IF(H2054<=J2054,\"A TIEMPO\",\"FUERA DE TIEMPO\"))))","v":"A TIEMPO"},{"$f":"IF(H2054=\"\",\"\",NETWORKDAYS(C2054+1,H2054,DiasNOLaborables))","v":4},{"$f":"IF(NETWORKDAYS(J2054+1,H2054,DiasNOLaborables)<=0,\"\",NETWORKDAYS(J2054+1,H2054,DiasNOLaborables))","v":""},null,null,{"$f":"IFERROR(VLOOKUP(E2054,$X$51:$Y$64,2),\"\")","v":20}]
[2044,20219050141862,"2021-12-23","MODULO CONTACTENOS","CERTIFICACIONES DE TIEMPO, CLIMA Y EVENTOS HIDROLÓGICOS","CERTIFICACIONES DE TIEMPO Y CLIMA","SUBDIRECCIÓN DE METEOROLOGÍA","2022-01-14","CORREO ELECTRÓNICO",{"$f":"IFERROR(WORKDAY(C2055,P2055,DiasNOLaborables),\"\")","v":"2022-02-10"},{"$f":"+IF(C2055=\"\",\"\",IF(H2055=\"\",\"SIN RESPUESTA\",(IF(H2055<=J2055,\"A TIEMPO\",\"FUERA DE TIEMPO\"))))","v":"A TIEMPO"},{"$f":"IF(H2055=\"\",\"\",NETWORKDAYS(C2055+1,H2055,DiasNOLaborables))","v":16},{"$f":"IF(NETWORKDAYS(J2055+1,H2055,DiasNOLaborables)<=0,\"\",NETWORKDAYS(J2055+1,H2055,DiasNOLaborables))","v":""},null,null,{"$f":"IFERROR(VLOOKUP(E2055,$X$51:$Y$64,2),\"\")","v":35}]
[2045,20219050141882,"2021-12-23","MODULO CONTACTENOS","SOLICITUD DE INFORMACIÓN Y DOCUMENTOS","ADMINISTRATIVA","OFICINA ASESORA JURÍDICA","2021-12-29","CORREO ELECTRÓNICO",{"$f":"IFERROR(WORKDAY(C2056,P2056,DiasNOLaborables),\"\")","v":"2022-01-20"},{"$f":"+IF(C2056=\"\",\"\",IF(H2056=\"\",\"SIN RESPUESTA\",(IF(H2056<=J2056,\"A TIEMPO\",\"FUERA DE TIEMPO\"))))","v":"A TIEMPO"},{"$f":"IF(H2056=\"\",\"\",NETWORKDAYS(C2056+1,H2056,DiasNOLaborables))","v":4},{"$f":"IF(NETWORKDAYS(J2056+1,H2056,DiasNOLaborables)<=0,\"\",NETWORKDAYS(J2056+1,H2056,DiasNOLaborables))","v":""},null,null,{"$f":"IFERROR(VLOOKUP(E2056,$X$51:$Y$64,2),\"\")","v":20}]
[2046,20219050141852,"2021-12-23","MODULO CONTACTENOS","SOLICITUD DE INFORMACIÓN Y DOCUMENTOS","SOLICITUD DE INFORMACIÓN HIDROMETEOROLÓGICA","GRUPO DE SERVICIO AL CIUDADANO ","2021-12-28","CORREO ELECTRÓNICO",{"$f":"IFERROR(WORKDAY(C2057,P2057,DiasNOLaborables),\"\")","v":"2022-01-20"},{"$f":"+IF(C2057=\"\",\"\",IF(H2057=\"\",\"SIN RESPUESTA\",(IF(H2057<=J2057,\"A TIEMPO\",\"FUERA DE TIEMPO\"))))","v":"A TIEMPO"},{"$f":"IF(H2057=\"\",\"\",NETWORKDAYS(C2057+1,H2057,DiasNOLaborables))","v":3},{"$f":"IF(NETWORKDAYS(J2057+1,H2057,DiasNOLaborables)<=0,\"\",NETWORKDAYS(J2057+1,H2057,DiasNOLaborables))","v":""},null,null,{"$f":"IFERROR(VLOOKUP(E2057,$X$51:$Y$64,2),\"\")","v":20}]
[2047,20219050141792,"2021-12-23","MODULO CONTACTENOS","SOLICITUD DE INFORMACIÓN Y DOCUMENTOS","SOLICITUD DE INFORMACIÓN HIDROMETEOROLÓGICA","GRUPO DE SERVICIO AL CIUDADANO ","2021-12-29","CORREO ELECTRÓNICO",{"$f":"IFERROR(WORKDAY(C2058,P2058,DiasNOLaborables),\"\")","v":"2022-01-20"},{"$f":"+IF(C2058=\"\",\"\",IF(H2058=\"\",\"SIN RESPUESTA\",(IF(H2058<=J2058,\"A TIEMPO\",\"FUERA DE TIEMPO\"))))","v":"A TIEMPO"},{"$f":"IF(H2058=\"\",\"\",NETWORKDAYS(C2058+1,H2058,DiasNOLaborables))","v":4},{"$f":"IF(NETWORKDAYS(J2058+1,H2058,DiasNOLaborables)<=0,\"\",NETWORKDAYS(J2058+1,H2058,DiasNOLaborables))","v":""},null,null,{"$f":"IFERROR(VLOOKUP(E2058,$X$51:$Y$64,2),\"\")","v":20}]
[2048,20219050141872,"2021-12-23","CORREO ELECTRÓNICO","SOLICITUD DE INFORMACIÓN Y DOCUMENTOS","SOLICITUD DE INFORMACIÓN HIDROMETEOROLÓGICA","GRUPO DE SERVICIO AL CIUDADANO ","2021-12-29","CORREO ELECTRÓNICO",{"$f":"IFERROR(WORKDAY(C2059,P2059,DiasNOLaborables),\"\")","v":"2022-01-20"},{"$f":"+IF(C2059=\"\",\"\",IF(H2059=\"\",\"SIN RESPUESTA\",(IF(H2059<=J2059,\"A TIEMPO\",\"FUERA DE TIEMPO\"))))","v":"A TIEMPO"},{"$f":"IF(H2059=\"\",\"\",NETWORKDAYS(C2059+1,H2059,DiasNOLaborables))","v":4},{"$f":"IF(NETWORKDAYS(J2059+1,H2059,DiasNOLaborables)<=0,\"\",NETWORKDAYS(J2059+1,H2059,DiasNOLaborables))","v":""},null,null,{"$f":"IFERROR(VLOOKUP(E2059,$X$51:$Y$64,2),\"\")","v":20}]
[2049,20219050141892,"2021-12-23","MODULO CONTACTENOS","SOLICITUD DE INFORMACIÓN Y DOCUMENTOS","SOLICITUD DE INFORMACIÓN HIDROMETEOROLÓGICA","GRUPO DE SERVICIO AL CIUDADANO ","2021-12-29","CORREO ELECTRÓNICO",{"$f":"IFERROR(WORKDAY(C2060,P2060,DiasNOLaborables),\"\")","v":"2022-01-20"},{"$f":"+IF(C2060=\"\",\"\",IF(H2060=\"\",\"SIN RESPUESTA\",(IF(H2060<=J2060,\"A TIEMPO\",\"FUERA DE TIEMPO\"))))","v":"A TIEMPO"},{"$f":"IF(H2060=\"\",\"\",NETWORKDAYS(C2060+1,H2060,DiasNOLaborables))","v":4},{"$f":"IF(NETWORKDAYS(J2060+1,H2060,DiasNOLaborables)<=0,\"\",NETWORKDAYS(J2060+1,H2060,DiasNOLaborables))","v":""},null,null,{"$f":"IFERROR(VLOOKUP(E2060,$X$51:$Y$64,2),\"\")","v":20}]
[2050,20219050141912,"2021-12-23","MODULO CONTACTENOS","SOLICITUD DE INFORMACIÓN Y DOCUMENTOS","SOLICITUD DE INFORMACIÓN HIDROMETEOROLÓGICA","GRUPO DE SERVICIO AL CIUDADANO ","2021-12-29","CORREO ELECTRÓNICO",{"$f":"IFERROR(WORKDAY(C2061,P2061,DiasNOLaborables),\"\")","v":"2022-01-20"},{"$f":"+IF(C2061=\"\",\"\",IF(H2061=\"\",\"SIN RESPUESTA\",(IF(H2061<=J2061,\"A TIEMPO\",\"FUERA DE TIEMPO\"))))","v":"A TIEMPO"},{"$f":"IF(H2061=\"\",\"\",NETWORKDAYS(C2061+1,H2061,DiasNOLaborables))","v":4},{"$f":"IF(NETWORKDAYS(J2061+1,H2061,DiasNOLaborables)<=0,\"\",NETWORKDAYS(J2061+1,H2061,DiasNOLaborables))","v":""},null,null,{"$f":"IFERROR(VLOOKUP(E2061,$X$51:$Y$64,2),\"\")","v":20}]
[{"$f":"IF(B2062<>\"\",A2061+1,\"\")","v":2051},20219050141942,"2021-12-24","MODULO CONTACTENOS","SOLICITUD DE INFORMACIÓN Y DOCUMENTOS","SOLICITUD DE INFORMACIÓN HIDROMETEOROLÓGICA","GRUPO DE SERVICIO AL CIUDADANO ","2021-12-29","CORREO ELECTRÓNICO",{"$f":"IFERROR(WORKDAY(C2062,P2062,DiasNOLaborables),\"\")","v":"2022-01-21"},{"$f":"+IF(C2062=\"\",\"\",IF(H2062=\"\",\"SIN RESPUESTA\",(IF(H2062<=J2062,\"A TIEMPO\",\"FUERA DE TIEMPO\"))))","v":"A TIEMPO"},{"$f":"IF(H2062=\"\",\"\",NETWORKDAYS(C2062+1,H2062,DiasNOLaborables))","v":3},{"$f":"IF(NETWORKDAYS(J2062+1,H2062,DiasNOLaborables)<=0,\"\",NETWORKDAYS(J2062+1,H2062,DiasNOLaborables))","v":""},null,null,{"$f":"IFERROR(VLOOKUP(E2062,$X$51:$Y$64,2),\"\")","v":20}]
[2052,20219050141952,"2021-12-24","MODULO CONTACTENOS","SOLICITUD DE INFORMACIÓN Y DOCUMENTOS","SOLICITUD DE INFORMACIÓN HIDROMETEOROLÓGICA","GRUPO DE SERVICIO AL CIUDADANO ","2021-12-30","CORREO ELECTRÓNICO",{"$f":"IFERROR(WORKDAY(C2063,P2063,DiasNOLaborables),\"\")","v":"2022-01-21"},{"$f":"+IF(C2063=\"\",\"\",IF(H2063=\"\",\"SIN RESPUESTA\",(IF(H2063<=J2063,\"A TIEMPO\",\"FUERA DE TIEMPO\"))))","v":"A TIEMPO"},{"$f":"IF(H2063=\"\",\"\",NETWORKDAYS(C2063+1,H2063,DiasNOLaborables))","v":4},{"$f":"IF(NETWORKDAYS(J2063+1,H2063,DiasNOLaborables)<=0,\"\",NETWORKDAYS(J2063+1,H2063,DiasNOLaborables))","v":""},null,null,{"$f":"IFERROR(VLOOKUP(E2063,$X$51:$Y$64,2),\"\")","v":20}]
[2053,20219050141992,"2021-12-24","CORREO ELECTRÓNICO","SOLICITUD DE INFORMACIÓN Y DOCUMENTOS","SOLICITUD DE INFORMACIÓN HIDROMETEOROLÓGICA","GRUPO DE SERVICIO AL CIUDADANO ","2021-12-30","CORREO ELECTRÓNICO",{"$f":"IFERROR(WORKDAY(C2064,P2064,DiasNOLaborables),\"\")","v":"2022-01-21"},{"$f":"+IF(C2064=\"\",\"\",IF(H2064=\"\",\"SIN RESPUESTA\",(IF(H2064<=J2064,\"A TIEMPO\",\"FUERA DE TIEMPO\"))))","v":"A TIEMPO"},{"$f":"IF(H2064=\"\",\"\",NETWORKDAYS(C2064+1,H2064,DiasNOLaborables))","v":4},{"$f":"IF(NETWORKDAYS(J2064+1,H2064,DiasNOLaborables)<=0,\"\",NETWORKDAYS(J2064+1,H2064,DiasNOLaborables))","v":""},null,null,{"$f":"IFERROR(VLOOKUP(E2064,$X$51:$Y$64,2),\"\")","v":20}]
[2054,20219050142022,"2021-12-24","CORREO ELECTRÓNICO","REMISIÓN POR COMPETENCIA","SOLICITUD DE INFORMACIÓN HIDROMETEOROLÓGICA","GRUPO DE SERVICIO AL CIUDADANO ","2021-12-30","CORREO ELECTRÓNICO",{"$f":"IFERROR(WORKDAY(C2065,P2065,DiasNOLaborables),\"\")","v":"2021-12-31"},{"$f":"+IF(C2065=\"\",\"\",IF(H2065=\"\",\"SIN RESPUESTA\",(IF(H2065<=J2065,\"A TIEMPO\",\"FUERA DE TIEMPO\"))))","v":"A TIEMPO"},{"$f":"IF(H2065=\"\",\"\",NETWORKDAYS(C2065+1,H2065,DiasNOLaborables))","v":4},{"$f":"IF(NETWORKDAYS(J2065+1,H2065,DiasNOLaborables)<=0,\"\",NETWORKDAYS(J2065+1,H2065,DiasNOLaborables))","v":""},null,null,{"$f":"IFERROR(VLOOKUP(E2065,$X$51:$Y$64,2),\"\")","v":5}]
[2055,20219050142042,"2021-12-24","MODULO CONTACTENOS","SOLICITUD DE INFORMACIÓN Y DOCUMENTOS","SOLICITUD DE INFORMACIÓN HIDROMETEOROLÓGICA","GRUPO DE SERVICIO AL CIUDADANO ","2021-12-30","CORREO ELECTRÓNICO",{"$f":"IFERROR(WORKDAY(C2066,P2066,DiasNOLaborables),\"\")","v":"2022-01-21"},{"$f":"+IF(C2066=\"\",\"\",IF(H2066=\"\",\"SIN RESPUESTA\",(IF(H2066<=J2066,\"A TIEMPO\",\"FUERA DE TIEMPO\"))))","v":"A TIEMPO"},{"$f":"IF(H2066=\"\",\"\",NETWORKDAYS(C2066+1,H2066,DiasNOLaborables))","v":4},{"$f":"IF(NETWORKDAYS(J2066+1,H2066,DiasNOLaborables)<=0,\"\",NETWORKDAYS(J2066+1,H2066,DiasNOLaborables))","v":""},null,null,{"$f":"IFERROR(VLOOKUP(E2066,$X$51:$Y$64,2),\"\")","v":20}]
[2056,20219910071752,"2021-12-24","MODULO CONTACTENOS","SOLICITUD DE INFORMACIÓN Y DOCUMENTOS","SIRH","SUBDIRECCIÓN DE HIDROLOGÍA","2022-01-14","CORREO ELECTRÓNICO",{"$f":"IFERROR(WORKDAY(C2067,P2067,DiasNOLaborables),\"\")","v":"2022-01-21"},{"$f":"+IF(C2067=\"\",\"\",IF(H2067=\"\",\"SIN RESPUESTA\",(IF(H2067<=J2067,\"A TIEMPO\",\"FUERA DE TIEMPO\"))))","v":"A TIEMPO"},{"$f":"IF(H2067=\"\",\"\",NETWORKDAYS(C2067+1,H2067,DiasNOLaborables))","v":15},{"$f":"IF(NETWORKDAYS(J2067+1,H2067,DiasNOLaborables)<=0,\"\",NETWORKDAYS(J2067+1,H2067,DiasNOLaborables))","v":""},null,null,{"$f":"IFERROR(VLOOKUP(E2067,$X$51:$Y$64,2),\"\")","v":20}]
[2057,20219050142012,"2021-12-24","MODULO CONTACTENOS","PETICIÓN","ADMINISTRATIVA","GRUPO DE ADMINISTRACIÓN Y DESARROLLO DEL TALENTO HUMANO","2022-01-03","CORREO ELECTRÓNICO",{"$f":"IFERROR(WORKDAY(C2068,P2068,DiasNOLaborables),\"\")","v":"2022-02-04"},{"$f":"+IF(C2068=\"\",\"\",IF(H2068=\"\",\"SIN RESPUESTA\",(IF(H2068<=J2068,\"A TIEMPO\",\"FUERA DE TIEMPO\"))))","v":"A TIEMPO"},{"$f":"IF(H2068=\"\",\"\",NETWORKDAYS(C2068+1,H2068,DiasNOLaborables))","v":6},{"$f":"IF(NETWORKDAYS(J2068+1,H2068,DiasNOLaborables)<=0,\"\",NETWORKDAYS(J2068+1,H2068,DiasNOLaborables))","v":""},null,null,{"$f":"IFERROR(VLOOKUP(E2068,$X$51:$Y$64,2),\"\")","v":30}]
[2058,20219050142052,"2021-12-25","MODULO CONTACTENOS","SOLICITUD DE INFORMACIÓN Y DOCUMENTOS","SOLICITUD DE INFORMACIÓN HIDROMETEOROLÓGICA","GRUPO DE SERVICIO AL CIUDADANO ","2021-12-30","CORREO ELECTRÓNICO",{"$f":"IFERROR(WORKDAY(C2069,P2069,DiasNOLaborables),\"\")","v":"2022-01-21"},{"$f":"+IF(C2069=\"\",\"\",IF(H2069=\"\",\"SIN RESPUESTA\",(IF(H2069<=J2069,\"A TIEMPO\",\"FUERA DE TIEMPO\"))))","v":"A TIEMPO"},{"$f":"IF(H2069=\"\",\"\",NETWORKDAYS(C2069+1,H2069,DiasNOLaborables))","v":4},{"$f":"IF(NETWORKDAYS(J2069+1,H2069,DiasNOLaborables)<=0,\"\",NETWORKDAYS(J2069+1,H2069,DiasNOLaborables))","v":""},null,null,{"$f":"IFERROR(VLOOKUP(E2069,$X$51:$Y$64,2),\"\")","v":20}]
[2059,20219050142152,"2021-12-26","MODULO CONTACTENOS","SOLICITUD DE INFORMACIÓN Y DOCUMENTOS","SOLICITUD DE INFORMACIÓN HIDROMETEOROLÓGICA","GRUPO DE SERVICIO AL CIUDADANO ","2021-12-30","CORREO ELECTRÓNICO",{"$f":"IFERROR(WORKDAY(C2070,P2070,DiasNOLaborables),\"\")","v":"2022-01-21"},{"$f":"+IF(C2070=\"\",\"\",IF(H2070=\"\",\"SIN RESPUESTA\",(IF(H2070<=J2070,\"A TIEMPO\",\"FUERA DE TIEMPO\"))))","v":"A TIEMPO"},{"$f":"IF(H2070=\"\",\"\",NETWORKDAYS(C2070+1,H2070,DiasNOLaborables))","v":4},{"$f":"IF(NETWORKDAYS(J2070+1,H2070,DiasNOLaborables)<=0,\"\",NETWORKDAYS(J2070+1,H2070,DiasNOLaborables))","v":""},null,null,{"$f":"IFERROR(VLOOKUP(E2070,$X$51:$Y$64,2),\"\")","v":20}]
[2060,20219050142172,"2021-12-26","MODULO CONTACTENOS","SOLICITUD DE INFORMACIÓN Y DOCUMENTOS","SOLICITUD DE INFORMACIÓN HIDROMETEOROLÓGICA","GRUPO DE SERVICIO AL CIUDADANO ","2021-12-30","CORREO ELECTRÓNICO",{"$f":"IFERROR(WORKDAY(C2071,P2071,DiasNOLaborables),\"\")","v":"2022-01-21"},{"$f":"+IF(C2071=\"\",\"\",IF(H2071=\"\",\"SIN RESPUESTA\",(IF(H2071<=J2071,\"A TIEMPO\",\"FUERA DE TIEMPO\"))))","v":"A TIEMPO"},{"$f":"IF(H2071=\"\",\"\",NETWORKDAYS(C2071+1,H2071,DiasNOLaborables))","v":4},{"$f":"IF(NETWORKDAYS(J2071+1,H2071,DiasNOLaborables)<=0,\"\",NETWORKDAYS(J2071+1,H2071,DiasNOLaborables))","v":""},null,null,{"$f":"IFERROR(VLOOKUP(E2071,$X$51:$Y$64,2),\"\")","v":20}]
[2061,20219050142182,"2021-12-26","MODULO CONTACTENOS","SOLICITUD DE INFORMACIÓN Y DOCUMENTOS","SOLICITUD DE INFORMACIÓN HIDROMETEOROLÓGICA","GRUPO DE SERVICIO AL CIUDADANO ","2021-12-30","CORREO ELECTRÓNICO",{"$f":"IFERROR(WORKDAY(C2072,P2072,DiasNOLaborables),\"\")","v":"2022-01-21"},{"$f":"+IF(C2072=\"\",\"\",IF(H2072=\"\",\"SIN RESPUESTA\",(IF(H2072<=J2072,\"A TIEMPO\",\"FUERA DE TIEMPO\"))))","v":"A TIEMPO"},{"$f":"IF(H2072=\"\",\"\",NETWORKDAYS(C2072+1,H2072,DiasNOLaborables))","v":4},{"$f":"IF(NETWORKDAYS(J2072+1,H2072,DiasNOLaborables)<=0,\"\",NETWORKDAYS(J2072+1,H2072,DiasNOLaborables))","v":""},null,null,{"$f":"IFERROR(VLOOKUP(E2072,$X$51:$Y$64,2),\"\")","v":20}]
[2062,20219050142192,"2021-12-26","MODULO CONTACTENOS","SOLICITUD DE INFORMACIÓN Y DOCUMENTOS","SOLICITUD DE INFORMACIÓN HIDROMETEOROLÓGICA","GRUPO DE SERVICIO AL CIUDADANO ","2021-12-30","CORREO ELECTRÓNICO",{"$f":"IFERROR(WORKDAY(C2073,P2073,DiasNOLaborables),\"\")","v":"2022-01-21"},{"$f":"+IF(C2073=\"\",\"\",IF(H2073=\"\",\"SIN RESPUESTA\",(IF(H2073<=J2073,\"A TIEMPO\",\"FUERA DE TIEMPO\"))))","v":"A TIEMPO"},{"$f":"IF(H2073=\"\",\"\",NETWORKDAYS(C2073+1,H2073,DiasNOLaborables))","v":4},{"$f":"IF(NETWORKDAYS(J2073+1,H2073,DiasNOLaborables)<=0,\"\",NETWORKDAYS(J2073+1,H2073,DiasNOLaborables))","v":""},null,null,{"$f":"IFERROR(VLOOKUP(E2073,$X$51:$Y$64,2),\"\")","v":20}]
[2063,20219050142132,"2021-12-26","MODULO CONTACTENOS","SOLICITUD DE INFORMACIÓN Y DOCUMENTOS","SIRH","SUBDIRECCIÓN DE HIDROLOGÍA","2022-01-20","CORREO ELECTRÓNICO",{"$f":"IFERROR(WORKDAY(C2074,P2074,DiasNOLaborables),\"\")","v":"2022-01-21"},{"$f":"+IF(C2074=\"\",\"\",IF(H2074=\"\",\"SIN RESPUESTA\",(IF(H2074<=J2074,\"A TIEMPO\",\"FUERA DE TIEMPO\"))))","v":"A TIEMPO"},{"$f":"IF(H2074=\"\",\"\",NETWORKDAYS(C2074+1,H2074,DiasNOLaborables))","v":19},{"$f":"IF(NETWORKDAYS(J2074+1,H2074,DiasNOLaborables)<=0,\"\",NETWORKDAYS(J2074+1,H2074,DiasNOLaborables))","v":""},null,null,{"$f":"IFERROR(VLOOKUP(E2074,$X$51:$Y$64,2),\"\")","v":20}]
[2064,20219050142202,"2021-12-27","MODULO CONTACTENOS","SOLICITUD DE INFORMACIÓN Y DOCUMENTOS","ADMINISTRATIVA","GRUPO DE TESORERÍA","2021-12-29","CORREO ELECTRÓNICO",{"$f":"IFERROR(WORKDAY(C2075,P2075,DiasNOLaborables),\"\")","v":"2022-01-24"},{"$f":"+IF(C2075=\"\",\"\",IF(H2075=\"\",\"SIN RESPUESTA\",(IF(H2075<=J2075,\"A TIEMPO\",\"FUERA DE TIEMPO\"))))","v":"A TIEMPO"},{"$f":"IF(H2075=\"\",\"\",NETWORKDAYS(C2075+1,H2075,DiasNOLaborables))","v":2},{"$f":"IF(NETWORKDAYS(J2075+1,H2075,DiasNOLaborables)<=0,\"\",NETWORKDAYS(J2075+1,H2075,DiasNOLaborables))","v":""},null,null,{"$f":"IFERROR(VLOOKUP(E2075,$X$51:$Y$64,2),\"\")","v":20}]
[2065,20219050142222,"2021-12-27","CORREO ELECTRÓNICO","SOLICITUD DE INFORMACIÓN Y DOCUMENTOS","ADMINISTRATIVA","GRUPO DE ADMINISTRACIÓN Y DESARROLLO DEL TALENTO HUMANO","2022-01-20","CORREO ELECTRÓNICO",{"$f":"IFERROR(WORKDAY(C2076,P2076,DiasNOLaborables),\"\")","v":"2022-01-24"},{"$f":"+IF(C2076=\"\",\"\",IF(H2076=\"\",\"SIN RESPUESTA\",(IF(H2076<=J2076,\"A TIEMPO\",\"FUERA DE TIEMPO\"))))","v":"A TIEMPO"},{"$f":"IF(H2076=\"\",\"\",NETWORKDAYS(C2076+1,H2076,DiasNOLaborables))","v":18},{"$f":"IF(NETWORKDAYS(J2076+1,H2076,DiasNOLaborables)<=0,\"\",NETWORKDAYS(J2076+1,H2076,DiasNOLaborables))","v":""},null,null,{"$f":"IFERROR(VLOOKUP(E2076,$X$51:$Y$64,2),\"\")","v":20}]
[2066,20219050142232,"2021-12-27","CORREO ELECTRÓNICO","CERTIFICACIONES DE TIEMPO, CLIMA Y EVENTOS HIDROLÓGICOS","CERTIFICACIONES DE TIEMPO Y CLIMA","SUBDIRECCIÓN DE METEOROLOGÍA","2022-01-03","CORREO ELECTRÓNICO",{"$f":"IFERROR(WORKDAY(C2077,P2077,DiasNOLaborables),\"\")","v":"2022-02-14"},{"$f":"+IF(C2077=\"\",\"\",IF(H2077=\"\",\"SIN RESPUESTA\",(IF(H2077<=J2077,\"A TIEMPO\",\"FUERA DE TIEMPO\"))))","v":"A TIEMPO"},{"$f":"IF(H2077=\"\",\"\",NETWORKDAYS(C2077+1,H2077,DiasNOLaborables))","v":5},{"$f":"IF(NETWORKDAYS(J2077+1,H2077,DiasNOLaborables)<=0,\"\",NETWORKDAYS(J2077+1,H2077,DiasNOLaborables))","v":""},null,null,{"$f":"IFERROR(VLOOKUP(E2077,$X$51:$Y$64,2),\"\")","v":35}]
[2067,20219050142242,"2021-12-27","CORREO ELECTRÓNICO","CERTIFICACIONES DE TIEMPO, CLIMA Y EVENTOS HIDROLÓGICOS","CERTIFICACIONES DE TIEMPO Y CLIMA","SUBDIRECCIÓN DE METEOROLOGÍA","2021-12-30","CORREO ELECTRÓNICO",{"$f":"IFERROR(WORKDAY(C2078,P2078,DiasNOLaborables),\"\")","v":"2022-02-14"},{"$f":"+IF(C2078=\"\",\"\",IF(H2078=\"\",\"SIN RESPUESTA\",(IF(H2078<=J2078,\"A TIEMPO\",\"FUERA DE TIEMPO\"))))","v":"A TIEMPO"},{"$f":"IF(H2078=\"\",\"\",NETWORKDAYS(C2078+1,H2078,DiasNOLaborables))","v":3},{"$f":"IF(NETWORKDAYS(J2078+1,H2078,DiasNOLaborables)<=0,\"\",NETWORKDAYS(J2078+1,H2078,DiasNOLaborables))","v":""},null,null,{"$f":"IFERROR(VLOOKUP(E2078,$X$51:$Y$64,2),\"\")","v":35}]
[2068,20219050142252,"2021-12-27","CORREO ELECTRÓNICO","CERTIFICACIONES DE TIEMPO, CLIMA Y EVENTOS HIDROLÓGICOS","CERTIFICACIONES DE TIEMPO Y CLIMA","SUBDIRECCIÓN DE METEOROLOGÍA","2021-12-30","CORREO ELECTRÓNICO",{"$f":"IFERROR(WORKDAY(C2079,P2079,DiasNOLaborables),\"\")","v":"2022-02-14"},{"$f":"+IF(C2079=\"\",\"\",IF(H2079=\"\",\"SIN RESPUESTA\",(IF(H2079<=J2079,\"A TIEMPO\",\"FUERA DE TIEMPO\"))))","v":"A TIEMPO"},{"$f":"IF(H2079=\"\",\"\",NETWORKDAYS(C2079+1,H2079,DiasNOLaborables))","v":3},{"$f":"IF(NETWORKDAYS(J2079+1,H2079,DiasNOLaborables)<=0,\"\",NETWORKDAYS(J2079+1,H2079,DiasNOLaborables))","v":""},null,null,{"$f":"IFERROR(VLOOKUP(E2079,$X$51:$Y$64,2),\"\")","v":35}]
[2069,20219050142262,"2021-12-27","CORREO ELECTRÓNICO","SOLICITUD DE INFORMACIÓN Y DOCUMENTOS","SIA","SUBDIRECCIÓN DE ECOSISTEMAS E INFORMACIÓN AMBIENTAL","2021-12-27","CORREO ELECTRÓNICO",{"$f":"IFERROR(WORKDAY(C2080,P2080,DiasNOLaborables),\"\")","v":"2022-01-24"},{"$f":"+IF(C2080=\"\",\"\",IF(H2080=\"\",\"SIN RESPUESTA\",(IF(H2080<=J2080,\"A TIEMPO\",\"FUERA DE TIEMPO\"))))","v":"A TIEMPO"},{"$f":"IF(H2080=\"\",\"\",NETWORKDAYS(C2080+1,H2080,DiasNOLaborables))","v":-2},{"$f":"IF(NETWORKDAYS(J2080+1,H2080,DiasNOLaborables)<=0,\"\",NETWORKDAYS(J2080+1,H2080,DiasNOLaborables))","v":""},null,null,{"$f":"IFERROR(VLOOKUP(E2080,$X$51:$Y$64,2),\"\")","v":20}]
[2070,20219050142292,"2021-12-27","CORREO ELECTRÓNICO","SOLICITUD DE INFORMACIÓN Y DOCUMENTOS","ADMINISTRATIVA","GRUPO DE TESORERÍA","2021-12-29","CORREO ELECTRÓNICO",{"$f":"IFERROR(WORKDAY(C2081,P2081,DiasNOLaborables),\"\")","v":"2022-01-24"},{"$f":"+IF(C2081=\"\",\"\",IF(H2081=\"\",\"SIN RESPUESTA\",(IF(H2081<=J2081,\"A TIEMPO\",\"FUERA DE TIEMPO\"))))","v":"A TIEMPO"},{"$f":"IF(H2081=\"\",\"\",NETWORKDAYS(C2081+1,H2081,DiasNOLaborables))","v":2},{"$f":"IF(NETWORKDAYS(J2081+1,H2081,DiasNOLaborables)<=0,\"\",NETWORKDAYS(J2081+1,H2081,DiasNOLaborables))","v":""},null,null,{"$f":"IFERROR(VLOOKUP(E2081,$X$51:$Y$64,2),\"\")","v":20}]
[2071,20219050142312,"2021-12-27","CORREO ELECTRÓNICO","SOLICITUD DE INFORMACIÓN Y DOCUMENTOS","ADMINISTRATIVA","OFICINA ASESORA JURÍDICA","2021-12-29","CORREO ELECTRÓNICO",{"$f":"IFERROR(WORKDAY(C2082,P2082,DiasNOLaborables),\"\")","v":"2022-01-24"},{"$f":"+IF(C2082=\"\",\"\",IF(H2082=\"\",\"SIN RESPUESTA\",(IF(H2082<=J2082,\"A TIEMPO\",\"FUERA DE TIEMPO\"))))","v":"A TIEMPO"},{"$f":"IF(H2082=\"\",\"\",NETWORKDAYS(C2082+1,H2082,DiasNOLaborables))","v":2},{"$f":"IF(NETWORKDAYS(J2082+1,H2082,DiasNOLaborables)<=0,\"\",NETWORKDAYS(J2082+1,H2082,DiasNOLaborables))","v":""},null,null,{"$f":"IFERROR(VLOOKUP(E2082,$X$51:$Y$64,2),\"\")","v":20}]
[2072,20219050142282,"2021-12-27","MODULO CONTACTENOS","SOLICITUD DE INFORMACIÓN Y DOCUMENTOS","ADMINISTRATIVA","OFICINA ASESORA JURÍDICA","2021-12-29","CORREO ELECTRÓNICO",{"$f":"IFERROR(WORKDAY(C2083,P2083,DiasNOLaborables),\"\")","v":"2022-01-24"},{"$f":"+IF(C2083=\"\",\"\",IF(H2083=\"\",\"SIN RESPUESTA\",(IF(H2083<=J2083,\"A TIEMPO\",\"FUERA DE TIEMPO\"))))","v":"A TIEMPO"},{"$f":"IF(H2083=\"\",\"\",NETWORKDAYS(C2083+1,H2083,DiasNOLaborables))","v":2},{"$f":"IF(NETWORKDAYS(J2083+1,H2083,DiasNOLaborables)<=0,\"\",NETWORKDAYS(J2083+1,H2083,DiasNOLaborables))","v":""},null,null,{"$f":"IFERROR(VLOOKUP(E2083,$X$51:$Y$64,2),\"\")","v":20}]
[2073,20219050142302,"2021-12-27","MODULO CONTACTENOS","SOLICITUD DE INFORMACIÓN Y DOCUMENTOS","ADMINISTRATIVA","OFICINA ASESORA JURÍDICA","2021-12-29","CORREO ELECTRÓNICO",{"$f":"IFERROR(WORKDAY(C2084,P2084,DiasNOLaborables),\"\")","v":"2022-01-24"},{"$f":"+IF(C2084=\"\",\"\",IF(H2084=\"\",\"SIN RESPUESTA\",(IF(H2084<=J2084,\"A TIEMPO\",\"FUERA DE TIEMPO\"))))","v":"A TIEMPO"},{"$f":"IF(H2084=\"\",\"\",NETWORKDAYS(C2084+1,H2084,DiasNOLaborables))","v":2},{"$f":"IF(NETWORKDAYS(J2084+1,H2084,DiasNOLaborables)<=0,\"\",NETWORKDAYS(J2084+1,H2084,DiasNOLaborables))","v":""},null,null,{"$f":"IFERROR(VLOOKUP(E2084,$X$51:$Y$64,2),\"\")","v":20}]
[2074,20219050142342,"2021-12-27","MODULO CONTACTENOS","SOLICITUD DE INFORMACIÓN Y DOCUMENTOS","ADMINISTRATIVA","OFICINA ASESORA JURÍDICA","2021-12-29","CORREO ELECTRÓNICO",{"$f":"IFERROR(WORKDAY(C2085,P2085,DiasNOLaborables),\"\")","v":"2022-01-24"},{"$f":"+IF(C2085=\"\",\"\",IF(H2085=\"\",\"SIN RESPUESTA\",(IF(H2085<=J2085,\"A TIEMPO\",\"FUERA DE TIEMPO\"))))","v":"A TIEMPO"},{"$f":"IF(H2085=\"\",\"\",NETWORKDAYS(C2085+1,H2085,DiasNOLaborables))","v":2},{"$f":"IF(NETWORKDAYS(J2085+1,H2085,DiasNOLaborables)<=0,\"\",NETWORKDAYS(J2085+1,H2085,DiasNOLaborables))","v":""},null,null,{"$f":"IFERROR(VLOOKUP(E2085,$X$51:$Y$64,2),\"\")","v":20}]
[2075,20219050142352,"2021-12-27","CORREO ELECTRÓNICO","SOLICITUD DE INFORMACIÓN Y DOCUMENTOS","ADMINISTRATIVA","GRUPO DE ADMINISTRACIÓN Y DESARROLLO DEL TALENTO HUMANO","2021-12-28","CORREO ELECTRÓNICO",{"$f":"IFERROR(WORKDAY(C2086,P2086,DiasNOLaborables),\"\")","v":"2022-01-24"},{"$f":"+IF(C2086=\"\",\"\",IF(H2086=\"\",\"SIN RESPUESTA\",(IF(H2086<=J2086,\"A TIEMPO\",\"FUERA DE TIEMPO\"))))","v":"A TIEMPO"},{"$f":"IF(H2086=\"\",\"\",NETWORKDAYS(C2086+1,H2086,DiasNOLaborables))","v":1},{"$f":"IF(NETWORKDAYS(J2086+1,H2086,DiasNOLaborables)<=0,\"\",NETWORKDAYS(J2086+1,H2086,DiasNOLaborables))","v":""},null,null,{"$f":"IFERROR(VLOOKUP(E2086,$X$51:$Y$64,2),\"\")","v":20}]
[2076,20219050142362,"2021-12-27","CORREO ELECTRÓNICO","SOLICITUD DE INFORMACIÓN Y DOCUMENTOS","ADMINISTRATIVA","GRUPO DE ADMINISTRACIÓN Y DESARROLLO DEL TALENTO HUMANO","2021-12-31","CORREO ELECTRÓNICO",{"$f":"IFERROR(WORKDAY(C2087,P2087,DiasNOLaborables),\"\")","v":"2022-01-24"},{"$f":"+IF(C2087=\"\",\"\",IF(H2087=\"\",\"SIN RESPUESTA\",(IF(H2087<=J2087,\"A TIEMPO\",\"FUERA DE TIEMPO\"))))","v":"A TIEMPO"},{"$f":"IF(H2087=\"\",\"\",NETWORKDAYS(C2087+1,H2087,DiasNOLaborables))","v":4},{"$f":"IF(NETWORKDAYS(J2087+1,H2087,DiasNOLaborables)<=0,\"\",NETWORKDAYS(J2087+1,H2087,DiasNOLaborables))","v":""},null,null,{"$f":"IFERROR(VLOOKUP(E2087,$X$51:$Y$64,2),\"\")","v":20}]
[2077,20219050142442,"2021-12-27","CORREO ELECTRÓNICO","CERTIFICACIONES DE TIEMPO, CLIMA Y EVENTOS HIDROLÓGICOS","CERTIFICACIONES DE TIEMPO Y CLIMA","SUBDIRECCIÓN DE METEOROLOGÍA","2022-01-03","CORREO ELECTRÓNICO",{"$f":"IFERROR(WORKDAY(C2088,P2088,DiasNOLaborables),\"\")","v":"2022-02-14"},{"$f":"+IF(C2088=\"\",\"\",IF(H2088=\"\",\"SIN RESPUESTA\",(IF(H2088<=J2088,\"A TIEMPO\",\"FUERA DE TIEMPO\"))))","v":"A TIEMPO"},{"$f":"IF(H2088=\"\",\"\",NETWORKDAYS(C2088+1,H2088,DiasNOLaborables))","v":5},{"$f":"IF(NETWORKDAYS(J2088+1,H2088,DiasNOLaborables)<=0,\"\",NETWORKDAYS(J2088+1,H2088,DiasNOLaborables))","v":""},null,null,{"$f":"IFERROR(VLOOKUP(E2088,$X$51:$Y$64,2),\"\")","v":35}]
[2078,20219050142452,"2021-12-27","MODULO CONTACTENOS","SOLICITUD DE INFORMACIÓN Y DOCUMENTOS","ADMINISTRATIVA","OFICINA ASESORA JURÍDICA","2021-12-29","CORREO ELECTRÓNICO",{"$f":"IFERROR(WORKDAY(C2089,P2089,DiasNOLaborables),\"\")","v":"2022-01-24"},{"$f":"+IF(C2089=\"\",\"\",IF(H2089=\"\",\"SIN RESPUESTA\",(IF(H2089<=J2089,\"A TIEMPO\",\"FUERA DE TIEMPO\"))))","v":"A TIEMPO"},{"$f":"IF(H2089=\"\",\"\",NETWORKDAYS(C2089+1,H2089,DiasNOLaborables))","v":2},{"$f":"IF(NETWORKDAYS(J2089+1,H2089,DiasNOLaborables)<=0,\"\",NETWORKDAYS(J2089+1,H2089,DiasNOLaborables))","v":""},null,null,{"$f":"IFERROR(VLOOKUP(E2089,$X$51:$Y$64,2),\"\")","v":20}]
[2079,20219050142462,"2021-12-27","MODULO CONTACTENOS","SOLICITUD DE INFORMACIÓN Y DOCUMENTOS","ADMINISTRATIVA","OFICINA ASESORA JURÍDICA","2021-12-29","CORREO ELECTRÓNICO",{"$f":"IFERROR(WORKDAY(C2090,P2090,DiasNOLaborables),\"\")","v":"2022-01-24"},{"$f":"+IF(C2090=\"\",\"\",IF(H2090=\"\",\"SIN RESPUESTA\",(IF(H2090<=J2090,\"A TIEMPO\",\"FUERA DE TIEMPO\"))))","v":"A TIEMPO"},{"$f":"IF(H2090=\"\",\"\",NETWORKDAYS(C2090+1,H2090,DiasNOLaborables))","v":2},{"$f":"IF(NETWORKDAYS(J2090+1,H2090,DiasNOLaborables)<=0,\"\",NETWORKDAYS(J2090+1,H2090,DiasNOLaborables))","v":""},null,null,{"$f":"IFERROR(VLOOKUP(E2090,$X$51:$Y$64,2),\"\")","v":20}]
[2080,20219050142472,"2021-12-27","MODULO CONTACTENOS","SOLICITUD DE INFORMACIÓN Y DOCUMENTOS","ADMINISTRATIVA","OFICINA ASESORA JURÍDICA","2021-12-29","CORREO ELECTRÓNICO",{"$f":"IFERROR(WORKDAY(C2091,P2091,DiasNOLaborables),\"\")","v":"2022-01-24"},{"$f":"+IF(C2091=\"\",\"\",IF(H2091=\"\",\"SIN RESPUESTA\",(IF(H2091<=J2091,\"A TIEMPO\",\"FUERA DE TIEMPO\"))))","v":"A TIEMPO"},{"$f":"IF(H2091=\"\",\"\",NETWORKDAYS(C2091+1,H2091,DiasNOLaborables))","v":2},{"$f":"IF(NETWORKDAYS(J2091+1,H2091,DiasNOLaborables)<=0,\"\",NETWORKDAYS(J2091+1,H2091,DiasNOLaborables))","v":""},null,null,{"$f":"IFERROR(VLOOKUP(E2091,$X$51:$Y$64,2),\"\")","v":20}]
[2081,20219910071862,"2021-12-27","MODULO CONTACTENOS","SOLICITUD DE INFORMACIÓN Y DOCUMENTOS","CLIMATOLOGÍA","SUBDIRECCIÓN DE METEOROLOGÍA","2022-01-03","CORREO ELECTRÓNICO",{"$f":"IFERROR(WORKDAY(C2092,P2092,DiasNOLaborables),\"\")","v":"2022-01-24"},{"$f":"+IF(C2092=\"\",\"\",IF(H2092=\"\",\"SIN RESPUESTA\",(IF(H2092<=J2092,\"A TIEMPO\",\"FUERA DE TIEMPO\"))))","v":"A TIEMPO"},{"$f":"IF(H2092=\"\",\"\",NETWORKDAYS(C2092+1,H2092,DiasNOLaborables))","v":5},{"$f":"IF(NETWORKDAYS(J2092+1,H2092,DiasNOLaborables)<=0,\"\",NETWORKDAYS(J2092+1,H2092,DiasNOLaborables))","v":""},null,null,{"$f":"IFERROR(VLOOKUP(E2092,$X$51:$Y$64,2),\"\")","v":20}]
[2082,20219050142482,"2021-12-27","MODULO CONTACTENOS","SOLICITUD DE INFORMACIÓN Y DOCUMENTOS","ADMINISTRATIVA","OFICINA ASESORA JURÍDICA","2021-12-09","CORREO ELECTRÓNICO",{"$f":"IFERROR(WORKDAY(C2093,P2093,DiasNOLaborables),\"\")","v":"2022-01-24"},{"$f":"+IF(C2093=\"\",\"\",IF(H2093=\"\",\"SIN RESPUESTA\",(IF(H2093<=J2093,\"A TIEMPO\",\"FUERA DE TIEMPO\"))))","v":"A TIEMPO"},{"$f":"IF(H2093=\"\",\"\",NETWORKDAYS(C2093+1,H2093,DiasNOLaborables))","v":-14},{"$f":"IF(NETWORKDAYS(J2093+1,H2093,DiasNOLaborables)<=0,\"\",NETWORKDAYS(J2093+1,H2093,DiasNOLaborables))","v":""},null,null,{"$f":"IFERROR(VLOOKUP(E2093,$X$51:$Y$64,2),\"\")","v":20}]
[2083,20219050142212,"2021-12-27","MODULO CONTACTENOS","SOLICITUD DE INFORMACIÓN Y DOCUMENTOS","SOLICITUD DE INFORMACIÓN HIDROMETEOROLÓGICA","GRUPO DE SERVICIO AL CIUDADANO ","2021-12-31","CORREO ELECTRÓNICO",{"$f":"IFERROR(WORKDAY(C2094,P2094,DiasNOLaborables),\"\")","v":"2022-01-24"},{"$f":"+IF(C2094=\"\",\"\",IF(H2094=\"\",\"SIN RESPUESTA\",(IF(H2094<=J2094,\"A TIEMPO\",\"FUERA DE TIEMPO\"))))","v":"A TIEMPO"},{"$f":"IF(H2094=\"\",\"\",NETWORKDAYS(C2094+1,H2094,DiasNOLaborables))","v":4},{"$f":"IF(NETWORKDAYS(J2094+1,H2094,DiasNOLaborables)<=0,\"\",NETWORKDAYS(J2094+1,H2094,DiasNOLaborables))","v":""},null,null,{"$f":"IFERROR(VLOOKUP(E2094,$X$51:$Y$64,2),\"\")","v":20}]
[2084,20219910071902,"2021-12-27","CORREO ELECTRÓNICO","SOLICITUD DE INFORMACIÓN Y DOCUMENTOS","SOLICITUD DE INFORMACIÓN HIDROMETEOROLÓGICA","GRUPO DE SERVICIO AL CIUDADANO ","2021-12-31","CORREO ELECTRÓNICO",{"$f":"IFERROR(WORKDAY(C2095,P2095,DiasNOLaborables),\"\")","v":"2022-01-24"},{"$f":"+IF(C2095=\"\",\"\",IF(H2095=\"\",\"SIN RESPUESTA\",(IF(H2095<=J2095,\"A TIEMPO\",\"FUERA DE TIEMPO\"))))","v":"A TIEMPO"},{"$f":"IF(H2095=\"\",\"\",NETWORKDAYS(C2095+1,H2095,DiasNOLaborables))","v":4},{"$f":"IF(NETWORKDAYS(J2095+1,H2095,DiasNOLaborables)<=0,\"\",NETWORKDAYS(J2095+1,H2095,DiasNOLaborables))","v":""},null,null,{"$f":"IFERROR(VLOOKUP(E2095,$X$51:$Y$64,2),\"\")","v":20}]
[2085,20219050142372,"2021-12-27","CORREO ELECTRÓNICO","SOLICITUD DE INFORMACIÓN Y DOCUMENTOS","SOLICITUD DE INFORMACIÓN HIDROMETEOROLÓGICA","GRUPO DE SERVICIO AL CIUDADANO ","2021-12-31","CORREO ELECTRÓNICO",{"$f":"IFERROR(WORKDAY(C2096,P2096,DiasNOLaborables),\"\")","v":"2022-01-24"},{"$f":"+IF(C2096=\"\",\"\",IF(H2096=\"\",\"SIN RESPUESTA\",(IF(H2096<=J2096,\"A TIEMPO\",\"FUERA DE TIEMPO\"))))","v":"A TIEMPO"},{"$f":"IF(H2096=\"\",\"\",NETWORKDAYS(C2096+1,H2096,DiasNOLaborables))","v":4},{"$f":"IF(NETWORKDAYS(J2096+1,H2096,DiasNOLaborables)<=0,\"\",NETWORKDAYS(J2096+1,H2096,DiasNOLaborables))","v":""},null,null,{"$f":"IFERROR(VLOOKUP(E2096,$X$51:$Y$64,2),\"\")","v":20}]
[2086,20219050142382,"2021-12-27","CORREO ELECTRÓNICO","SOLICITUD DE INFORMACIÓN Y DOCUMENTOS","SOLICITUD DE INFORMACIÓN HIDROMETEOROLÓGICA","GRUPO DE SERVICIO AL CIUDADANO ","2021-12-31","CORREO ELECTRÓNICO",{"$f":"IFERROR(WORKDAY(C2097,P2097,DiasNOLaborables),\"\")","v":"2022-01-24"},{"$f":"+IF(C2097=\"\",\"\",IF(H2097=\"\",\"SIN RESPUESTA\",(IF(H2097<=J2097,\"A TIEMPO\",\"FUERA DE TIEMPO\"))))","v":"A TIEMPO"},{"$f":"IF(H2097=\"\",\"\",NETWORKDAYS(C2097+1,H2097,DiasNOLaborables))","v":4},{"$f":"IF(NETWORKDAYS(J2097+1,H2097,DiasNOLaborables)<=0,\"\",NETWORKDAYS(J2097+1,H2097,DiasNOLaborables))","v":""},null,null,{"$f":"IFERROR(VLOOKUP(E2097,$X$51:$Y$64,2),\"\")","v":20}]
[2087,20217090003822,"2021-12-28","CORREO ELECTRÓNICO","SOLICITUD DE INFORMACIÓN Y DOCUMENTOS","SOLICITUD DE INFORMACIÓN HIDROMETEOROLÓGICA","GRUPO DE SERVICIO AL CIUDADANO ","2021-12-29","CORREO ELECTRÓNICO",{"$f":"IFERROR(WORKDAY(C2098,P2098,DiasNOLaborables),\"\")","v":"2022-01-25"},{"$f":"+IF(C2098=\"\",\"\",IF(H2098=\"\",\"SIN RESPUESTA\",(IF(H2098<=J2098,\"A TIEMPO\",\"FUERA DE TIEMPO\"))))","v":"A TIEMPO"},{"$f":"IF(H2098=\"\",\"\",NETWORKDAYS(C2098+1,H2098,DiasNOLaborables))","v":1},{"$f":"IF(NETWORKDAYS(J2098+1,H2098,DiasNOLaborables)<=0,\"\",NETWORKDAYS(J2098+1,H2098,DiasNOLaborables))","v":""},null,null,{"$f":"IFERROR(VLOOKUP(E2098,$X$51:$Y$64,2),\"\")","v":20}]
[2088,20219050142572,"2021-12-28","CORREO ELECTRÓNICO","SOLICITUD DE INFORMACIÓN Y DOCUMENTOS","SOLICITUD DE INFORMACIÓN HIDROMETEOROLÓGICA","GRUPO DE SERVICIO AL CIUDADANO ","2021-12-31","CORREO ELECTRÓNICO",{"$f":"IFERROR(WORKDAY(C2099,P2099,DiasNOLaborables),\"\")","v":"2022-01-25"},{"$f":"+IF(C2099=\"\",\"\",IF(H2099=\"\",\"SIN RESPUESTA\",(IF(H2099<=J2099,\"A TIEMPO\",\"FUERA DE TIEMPO\"))))","v":"A TIEMPO"},{"$f":"IF(H2099=\"\",\"\",NETWORKDAYS([5]Hoja1!C2097+1,[5]Hoja1!P2097,DiasNOLaborables))","v":2},{"$f":"IF(NETWORKDAYS(J2099+1,H2099,DiasNOLaborables)<=0,\"\",NETWORKDAYS(J2099+1,H2099,DiasNOLaborables))","v":""},null,null,{"$f":"IFERROR(VLOOKUP(E2099,$X$51:$Y$64,2),\"\")","v":20}]
[2089,20219050142582,"2021-12-28","CORREO ELECTRÓNICO","SOLICITUD DE INFORMACIÓN Y DOCUMENTOS","SOLICITUD DE INFORMACIÓN HIDROMETEOROLÓGICA","GRUPO DE SERVICIO AL CIUDADANO ","2021-12-31","CORREO ELECTRÓNICO",{"$f":"IFERROR(WORKDAY(C2100,P2100,DiasNOLaborables),\"\")","v":"2022-01-25"},{"$f":"+IF(C2100=\"\",\"\",IF(H2100=\"\",\"SIN RESPUESTA\",(IF(H2100<=J2100,\"A TIEMPO\",\"FUERA DE TIEMPO\"))))","v":"A TIEMPO"},{"$f":"IF(H2100=\"\",\"\",NETWORKDAYS(C2100+1,H2100,DiasNOLaborables))","v":3},{"$f":"IF(NETWORKDAYS(J2100+1,H2100,DiasNOLaborables)<=0,\"\",NETWORKDAYS(J2100+1,H2100,DiasNOLaborables))","v":""},null,null,{"$f":"IFERROR(VLOOKUP(E2100,$X$51:$Y$64,2),\"\")","v":20}]
[2090,20219050142612,"2021-12-28","MODULO CONTACTENOS","SOLICITUD DE INFORMACIÓN Y DOCUMENTOS","SOLICITUD DE INFORMACIÓN HIDROMETEOROLÓGICA","GRUPO DE SERVICIO AL CIUDADANO ","2021-12-31","CORREO ELECTRÓNICO",{"$f":"IFERROR(WORKDAY(C2101,P2101,DiasNOLaborables),\"\")","v":"2022-01-25"},{"$f":"+IF(C2101=\"\",\"\",IF(H2101=\"\",\"SIN RESPUESTA\",(IF(H2101<=J2101,\"A TIEMPO\",\"FUERA DE TIEMPO\"))))","v":"A TIEMPO"},{"$f":"IF(H2101=\"\",\"\",NETWORKDAYS(C2101+1,H2101,DiasNOLaborables))","v":3},{"$f":"IF(NETWORKDAYS(J2101+1,H2101,DiasNOLaborables)<=0,\"\",NETWORKDAYS(J2101+1,H2101,DiasNOLaborables))","v":""},null,null,{"$f":"IFERROR(VLOOKUP(E2101,$X$51:$Y$64,2),\"\")","v":20}]
[2091,20219050142622,"2021-12-28","MODULO CONTACTENOS","SOLICITUD DE INFORMACIÓN Y DOCUMENTOS","SOLICITUD DE INFORMACIÓN HIDROMETEOROLÓGICA","GRUPO DE SERVICIO AL CIUDADANO ","2021-12-31","CORREO ELECTRÓNICO",{"$f":"IFERROR(WORKDAY(C2102,P2102,DiasNOLaborables),\"\")","v":"2022-01-25"},{"$f":"+IF(C2102=\"\",\"\",IF(H2102=\"\",\"SIN RESPUESTA\",(IF(H2102<=J2102,\"A TIEMPO\",\"FUERA DE TIEMPO\"))))","v":"A TIEMPO"},{"$f":"IF(H2102=\"\",\"\",NETWORKDAYS(C2102+1,H2102,DiasNOLaborables))","v":3},{"$f":"IF(NETWORKDAYS(J2102+1,H2102,DiasNOLaborables)<=0,\"\",NETWORKDAYS(J2102+1,H2102,DiasNOLaborables))","v":""},null,null,{"$f":"IFERROR(VLOOKUP(E2102,$X$51:$Y$64,2),\"\")","v":20}]
[2092,20219050142492,"2021-12-28","CORREO ELECTRÓNICO","PETICIÓN","SIRH","SUBDIRECCIÓN DE HIDROLOGÍA","2022-01-13","CORREO ELECTRÓNICO",{"$f":"IFERROR(WORKDAY(C2103,P2103,DiasNOLaborables),\"\")","v":"2022-02-08"},{"$f":"+IF(C2103=\"\",\"\",IF(H2103=\"\",\"SIN RESPUESTA\",(IF(H2103<=J2103,\"A TIEMPO\",\"FUERA DE TIEMPO\"))))","v":"A TIEMPO"},{"$f":"IF(H2103=\"\",\"\",NETWORKDAYS(C2103+1,H2103,DiasNOLaborables))","v":12},{"$f":"IF(NETWORKDAYS(J2103+1,H2103,DiasNOLaborables)<=0,\"\",NETWORKDAYS(J2103+1,H2103,DiasNOLaborables))","v":""},null,null,{"$f":"IFERROR(VLOOKUP(E2103,$X$51:$Y$64,2),\"\")","v":30}]
[2093,20219050142502,"2021-12-28","CORREO ELECTRÓNICO","PETICIÓN","SIRH","SUBDIRECCIÓN DE HIDROLOGÍA","2022-01-06","CORREO ELECTRÓNICO",{"$f":"IFERROR(WORKDAY(C2104,P2104,DiasNOLaborables),\"\")","v":"2022-02-08"},{"$f":"+IF(C2104=\"\",\"\",IF(H2104=\"\",\"SIN RESPUESTA\",(IF(H2104<=J2104,\"A TIEMPO\",\"FUERA DE TIEMPO\"))))","v":"A TIEMPO"},{"$f":"IF(H2104=\"\",\"\",NETWORKDAYS(C2104+1,H2104,DiasNOLaborables))","v":7},{"$f":"IF(NETWORKDAYS(J2104+1,H2104,DiasNOLaborables)<=0,\"\",NETWORKDAYS(J2104+1,H2104,DiasNOLaborables))","v":""},null,null,{"$f":"IFERROR(VLOOKUP(E2104,$X$51:$Y$64,2),\"\")","v":30}]
[2094,20219050142512,"2021-12-28","MODULO CONTACTENOS","SOLICITUD DE INFORMACIÓN Y DOCUMENTOS","ADMINISTRATIVA","OFICINA ASESORA JURÍDICA","2021-12-29","CORREO ELECTRÓNICO",{"$f":"IFERROR(WORKDAY(C2105,P2105,DiasNOLaborables),\"\")","v":"2022-01-25"},{"$f":"+IF(C2105=\"\",\"\",IF(H2105=\"\",\"SIN RESPUESTA\",(IF(H2105<=J2105,\"A TIEMPO\",\"FUERA DE TIEMPO\"))))","v":"A TIEMPO"},{"$f":"IF(H2105=\"\",\"\",NETWORKDAYS(C2105+1,H2105,DiasNOLaborables))","v":1},{"$f":"IF(NETWORKDAYS(J2105+1,H2105,DiasNOLaborables)<=0,\"\",NETWORKDAYS(J2105+1,H2105,DiasNOLaborables))","v":""},null,null,{"$f":"IFERROR(VLOOKUP(E2105,$X$51:$Y$64,2),\"\")","v":20}]
[2095,20219050142592,"2021-12-28","CORREO ELECTRÓNICO","PETICIÓN","BOSQUES","SUBDIRECCIÓN DE ESTUDIOS AMBIENTALES",null,null,{"$f":"IFERROR(WORKDAY(C2106,P2106,DiasNOLaborables),\"\")","v":"2022-02-08"},{"$f":"+IF(C2106=\"\",\"\",IF(H2106=\"\",\"SIN RESPUESTA\",(IF(H2106<=J2106,\"A TIEMPO\",\"FUERA DE TIEMPO\"))))","v":"SIN RESPUESTA"},{"$f":"IF(H2106=\"\",\"\",NETWORKDAYS(C2106+1,H2106,DiasNOLaborables))","v":""},{"$f":"IF(NETWORKDAYS(J2106+1,H2106,DiasNOLaborables)<=0,\"\",NETWORKDAYS(J2106+1,H2106,DiasNOLaborables))","v":""},null,null,{"$f":"IFERROR(VLOOKUP(E2106,$X$51:$Y$64,2),\"\")","v":30}]
[2096,20219050142602,"2021-12-28","CORREO ELECTRÓNICO","SOLICITUD DE INFORMACIÓN Y DOCUMENTOS","SIRH","SUBDIRECCIÓN DE HIDROLOGÍA","2022-01-20","CORREO ELECTRÓNICO",{"$f":"IFERROR(WORKDAY(C2107,P2107,DiasNOLaborables),\"\")","v":"2022-01-25"},{"$f":"+IF(C2107=\"\",\"\",IF(H2107=\"\",\"SIN RESPUESTA\",(IF(H2107<=J2107,\"A TIEMPO\",\"FUERA DE TIEMPO\"))))","v":"A TIEMPO"},{"$f":"IF(H2107=\"\",\"\",NETWORKDAYS(C2107+1,H2107,DiasNOLaborables))","v":17},{"$f":"IF(NETWORKDAYS(J2107+1,H2107,DiasNOLaborables)<=0,\"\",NETWORKDAYS(J2107+1,H2107,DiasNOLaborables))","v":""},null,null,{"$f":"IFERROR(VLOOKUP(E2107,$X$51:$Y$64,2),\"\")","v":20}]
[2097,20219050142552,"2021-12-28","CORREO ELECTRÓNICO","SOLICITUD DE INFORMACIÓN Y DOCUMENTOS","SIRH","SUBDIRECCIÓN DE HIDROLOGÍA","2022-01-20","CORREO ELECTRÓNICO",{"$f":"IFERROR(WORKDAY(C2108,P2108,DiasNOLaborables),\"\")","v":"2022-01-25"},{"$f":"+IF(C2108=\"\",\"\",IF(H2108=\"\",\"SIN RESPUESTA\",(IF(H2108<=J2108,\"A TIEMPO\",\"FUERA DE TIEMPO\"))))","v":"A TIEMPO"},{"$f":"IF(H2108=\"\",\"\",NETWORKDAYS(C2108+1,H2108,DiasNOLaborables))","v":17},{"$f":"IF(NETWORKDAYS(J2108+1,H2108,DiasNOLaborables)<=0,\"\",NETWORKDAYS(J2108+1,H2108,DiasNOLaborables))","v":""},null,null,{"$f":"IFERROR(VLOOKUP(E2108,$X$51:$Y$64,2),\"\")","v":20}]
[2098,20219050142662,"2021-12-28","MODULO CONTACTENOS","SOLICITUD DE INFORMACIÓN Y DOCUMENTOS","ACREDITACIÓN DE LABORATORIOS","SUBDIRECCIÓN DE ESTUDIOS AMBIENTALES","2022-01-07","CORREO ELECTRÓNICO",{"$f":"IFERROR(WORKDAY(C2109,P2109,DiasNOLaborables),\"\")","v":"2022-01-25"},{"$f":"+IF(C2109=\"\",\"\",IF(H2109=\"\",\"SIN RESPUESTA\",(IF(H2109<=J2109,\"A TIEMPO\",\"FUERA DE TIEMPO\"))))","v":"A TIEMPO"},{"$f":"IF(H2109=\"\",\"\",NETWORKDAYS(C2109+1,H2109,DiasNOLaborables))","v":8},{"$f":"IF(NETWORKDAYS(J2109+1,H2109,DiasNOLaborables)<=0,\"\",NETWORKDAYS(J2109+1,H2109,DiasNOLaborables))","v":""},null,null,{"$f":"IFERROR(VLOOKUP(E2109,$X$51:$Y$64,2),\"\")","v":20}]
[2099,20219050142682,"2021-12-28","CORREO ELECTRÓNICO","CERTIFICACIONES DE TIEMPO, CLIMA Y EVENTOS HIDROLÓGICOS","CERTIFICACIONES DE TIEMPO Y CLIMA","SUBDIRECCIÓN DE METEOROLOGÍA","2022-01-03","CORREO ELECTRÓNICO",{"$f":"IFERROR(WORKDAY(C2110,P2110,DiasNOLaborables),\"\")","v":"2022-02-15"},{"$f":"+IF(C2110=\"\",\"\",IF(H2110=\"\",\"SIN RESPUESTA\",(IF(H2110<=J2110,\"A TIEMPO\",\"FUERA DE TIEMPO\"))))","v":"A TIEMPO"},{"$f":"IF(H2110=\"\",\"\",NETWORKDAYS(C2110+1,H2110,DiasNOLaborables))","v":4},{"$f":"IF(NETWORKDAYS(J2110+1,H2110,DiasNOLaborables)<=0,\"\",NETWORKDAYS(J2110+1,H2110,DiasNOLaborables))","v":""},null,null,{"$f":"IFERROR(VLOOKUP(E2110,$X$51:$Y$64,2),\"\")","v":35}]
[2100,20219050142752,"2021-12-28","MODULO CONTACTENOS","SOLICITUD DE INFORMACIÓN Y DOCUMENTOS","ADMINISTRATIVA","OFICINA ASESORA JURÍDICA","2022-01-03","CORREO ELECTRÓNICO",{"$f":"IFERROR(WORKDAY(C2111,P2111,DiasNOLaborables),\"\")","v":"2022-01-25"},{"$f":"+IF(C2111=\"\",\"\",IF(H2111=\"\",\"SIN RESPUESTA\",(IF(H2111<=J2111,\"A TIEMPO\",\"FUERA DE TIEMPO\"))))","v":"A TIEMPO"},{"$f":"IF(H2111=\"\",\"\",NETWORKDAYS(C2111+1,H2111,DiasNOLaborables))","v":4},{"$f":"IF(NETWORKDAYS(J2111+1,H2111,DiasNOLaborables)<=0,\"\",NETWORKDAYS(J2111+1,H2111,DiasNOLaborables))","v":""},null,null,{"$f":"IFERROR(VLOOKUP(E2111,$X$51:$Y$64,2),\"\")","v":20}]
[2101,20219050142632,"2021-12-28","MODULO CONTACTENOS","SOLICITUD DE INFORMACIÓN Y DOCUMENTOS","SOLICITUD DE INFORMACIÓN HIDROMETEOROLÓGICA","GRUPO DE SERVICIO AL CIUDADANO ","2022-01-07","CORREO ELECTRÓNICO",{"$f":"IFERROR(WORKDAY(C2112,P2112,DiasNOLaborables),\"\")","v":"2022-01-25"},{"$f":"+IF(C2112=\"\",\"\",IF(H2112=\"\",\"SIN RESPUESTA\",(IF(H2112<=J2112,\"A TIEMPO\",\"FUERA DE TIEMPO\"))))","v":"A TIEMPO"},{"$f":"IF(H2112=\"\",\"\",NETWORKDAYS(C2112+1,H2112,DiasNOLaborables))","v":8},{"$f":"IF(NETWORKDAYS(J2112+1,H2112,DiasNOLaborables)<=0,\"\",NETWORKDAYS(J2112+1,H2112,DiasNOLaborables))","v":""},null,null,{"$f":"IFERROR(VLOOKUP(E2112,$X$51:$Y$64,2),\"\")","v":20}]
[2102,20219050142642,"2021-12-28","MODULO CONTACTENOS","SOLICITUD DE INFORMACIÓN Y DOCUMENTOS","SOLICITUD DE INFORMACIÓN HIDROMETEOROLÓGICA","GRUPO DE SERVICIO AL CIUDADANO ","2022-01-07","CORREO ELECTRÓNICO",{"$f":"IFERROR(WORKDAY(C2113,P2113,DiasNOLaborables),\"\")","v":"2022-01-25"},{"$f":"+IF(C2113=\"\",\"\",IF(H2113=\"\",\"SIN RESPUESTA\",(IF(H2113<=J2113,\"A TIEMPO\",\"FUERA DE TIEMPO\"))))","v":"A TIEMPO"},{"$f":"IF(H2113=\"\",\"\",NETWORKDAYS(C2113+1,H2113,DiasNOLaborables))","v":8},{"$f":"IF(NETWORKDAYS(J2113+1,H2113,DiasNOLaborables)<=0,\"\",NETWORKDAYS(J2113+1,H2113,DiasNOLaborables))","v":""},null,null,{"$f":"IFERROR(VLOOKUP(E2113,$X$51:$Y$64,2),\"\")","v":20}]
[2103,20219050142652,"2021-12-28","MODULO CONTACTENOS","SOLICITUD DE INFORMACIÓN Y DOCUMENTOS","SOLICITUD DE INFORMACIÓN HIDROMETEOROLÓGICA","GRUPO DE SERVICIO AL CIUDADANO ","2022-01-07","CORREO ELECTRÓNICO",{"$f":"IFERROR(WORKDAY(C2114,P2114,DiasNOLaborables),\"\")","v":"2022-01-25"},{"$f":"+IF(C2114=\"\",\"\",IF(H2114=\"\",\"SIN RESPUESTA\",(IF(H2114<=J2114,\"A TIEMPO\",\"FUERA DE TIEMPO\"))))","v":"A TIEMPO"},{"$f":"IF(H2114=\"\",\"\",NETWORKDAYS(C2114+1,H2114,DiasNOLaborables))","v":8},{"$f":"IF(NETWORKDAYS(J2114+1,H2114,DiasNOLaborables)<=0,\"\",NETWORKDAYS(J2114+1,H2114,DiasNOLaborables))","v":""},null,null,{"$f":"IFERROR(VLOOKUP(E2114,$X$51:$Y$64,2),\"\")","v":20}]
[2104,20219050142672,"2021-12-28","MODULO CONTACTENOS","SOLICITUD DE INFORMACIÓN Y DOCUMENTOS","SOLICITUD DE INFORMACIÓN HIDROMETEOROLÓGICA","GRUPO DE SERVICIO AL CIUDADANO ","2022-01-07","CORREO ELECTRÓNICO",{"$f":"IFERROR(WORKDAY(C2115,P2115,DiasNOLaborables),\"\")","v":"2022-01-25"},{"$f":"+IF(C2115=\"\",\"\",IF(H2115=\"\",\"SIN RESPUESTA\",(IF(H2115<=J2115,\"A TIEMPO\",\"FUERA DE TIEMPO\"))))","v":"A TIEMPO"},{"$f":"IF(H2115=\"\",\"\",NETWORKDAYS(C2115+1,H2115,DiasNOLaborables))","v":8},{"$f":"IF(NETWORKDAYS(J2115+1,H2115,DiasNOLaborables)<=0,\"\",NETWORKDAYS(J2115+1,H2115,DiasNOLaborables))","v":""},null,null,{"$f":"IFERROR(VLOOKUP(E2115,$X$51:$Y$64,2),\"\")","v":20}]
[2105,20219050142772,"2021-12-28","MODULO CONTACTENOS","CERTIFICACIONES DE TIEMPO, CLIMA Y EVENTOS HIDROLÓGICOS","CERTIFICACIONES DE TIEMPO Y CLIMA","SUBDIRECCIÓN DE METEOROLOGÍA","2022-01-04","CORREO ELECTRÓNICO",{"$f":"IFERROR(WORKDAY(C2116,P2116,DiasNOLaborables),\"\")","v":"2022-02-15"},{"$f":"+IF(C2116=\"\",\"\",IF(H2116=\"\",\"SIN RESPUESTA\",(IF(H2116<=J2116,\"A TIEMPO\",\"FUERA DE TIEMPO\"))))","v":"A TIEMPO"},{"$f":"IF(H2116=\"\",\"\",NETWORKDAYS(C2116+1,H2116,DiasNOLaborables))","v":5},{"$f":"IF(NETWORKDAYS(J2116+1,H2116,DiasNOLaborables)<=0,\"\",NETWORKDAYS(J2116+1,H2116,DiasNOLaborables))","v":""},null,null,{"$f":"IFERROR(VLOOKUP(E2116,$X$51:$Y$64,2),\"\")","v":35}]
[2106,20219050142692,"2021-12-28","MODULO CONTACTENOS","SOLICITUD DE INFORMACIÓN Y DOCUMENTOS","SOLICITUD DE INFORMACIÓN HIDROMETEOROLÓGICA","GRUPO DE SERVICIO AL CIUDADANO ","2022-01-11","CORREO ELECTRÓNICO",{"$f":"IFERROR(WORKDAY(C2117,P2117,DiasNOLaborables),\"\")","v":"2022-01-25"},{"$f":"+IF(C2117=\"\",\"\",IF(H2117=\"\",\"SIN RESPUESTA\",(IF(H2117<=J2117,\"A TIEMPO\",\"FUERA DE TIEMPO\"))))","v":"A TIEMPO"},{"$f":"IF(H2117=\"\",\"\",NETWORKDAYS(C2117+1,H2117,DiasNOLaborables))","v":10},{"$f":"IF(NETWORKDAYS(J2117+1,H2117,DiasNOLaborables)<=0,\"\",NETWORKDAYS(J2117+1,H2117,DiasNOLaborables))","v":""},null,null,{"$f":"IFERROR(VLOOKUP(E2117,$X$51:$Y$64,2),\"\")","v":20}]
[2107,20219050142702,"2021-12-28","MODULO CONTACTENOS","SOLICITUD DE INFORMACIÓN Y DOCUMENTOS","SOLICITUD DE INFORMACIÓN HIDROMETEOROLÓGICA","GRUPO DE SERVICIO AL CIUDADANO ","2022-01-11","CORREO ELECTRÓNICO",{"$f":"IFERROR(WORKDAY(C2118,P2118,DiasNOLaborables),\"\")","v":"2022-01-25"},{"$f":"+IF(C2118=\"\",\"\",IF(H2118=\"\",\"SIN RESPUESTA\",(IF(H2118<=J2118,\"A TIEMPO\",\"FUERA DE TIEMPO\"))))","v":"A TIEMPO"},{"$f":"IF(H2118=\"\",\"\",NETWORKDAYS(C2118+1,H2118,DiasNOLaborables))","v":10},{"$f":"IF(NETWORKDAYS(J2118+1,H2118,DiasNOLaborables)<=0,\"\",NETWORKDAYS(J2118+1,H2118,DiasNOLaborables))","v":""},null,null,{"$f":"IFERROR(VLOOKUP(E2118,$X$51:$Y$64,2),\"\")","v":20}]
[2108,20219050142712,"2021-12-28","MODULO CONTACTENOS","SOLICITUD DE INFORMACIÓN Y DOCUMENTOS","SOLICITUD DE INFORMACIÓN HIDROMETEOROLÓGICA","GRUPO DE SERVICIO AL CIUDADANO ","2022-01-11","CORREO ELECTRÓNICO",{"$f":"IFERROR(WORKDAY(C2119,P2119,DiasNOLaborables),\"\")","v":"2022-01-25"},{"$f":"+IF(C2119=\"\",\"\",IF(H2119=\"\",\"SIN RESPUESTA\",(IF(H2119<=J2119,\"A TIEMPO\",\"FUERA DE TIEMPO\"))))","v":"A TIEMPO"},{"$f":"IF(H2119=\"\",\"\",NETWORKDAYS(C2119+1,H2119,DiasNOLaborables))","v":10},{"$f":"IF(NETWORKDAYS(J2119+1,H2119,DiasNOLaborables)<=0,\"\",NETWORKDAYS(J2119+1,H2119,DiasNOLaborables))","v":""},null,null,{"$f":"IFERROR(VLOOKUP(E2119,$X$51:$Y$64,2),\"\")","v":20}]
[2109,20219050142522,"2021-12-28","MODULO CONTACTENOS","SOLICITUD DE INFORMACIÓN Y DOCUMENTOS","SOLICITUD DE INFORMACIÓN HIDROMETEOROLÓGICA","GRUPO DE SERVICIO AL CIUDADANO ","2021-12-29","CORREO ELECTRÓNICO",{"$f":"IFERROR(WORKDAY(C2120,P2120,DiasNOLaborables),\"\")","v":"2022-01-25"},{"$f":"+IF(C2120=\"\",\"\",IF(H2120=\"\",\"SIN RESPUESTA\",(IF(H2120<=J2120,\"A TIEMPO\",\"FUERA DE TIEMPO\"))))","v":"A TIEMPO"},{"$f":"IF(H2120=\"\",\"\",NETWORKDAYS(C2120+1,H2120,DiasNOLaborables))","v":1},{"$f":"IF(NETWORKDAYS(J2120+1,H2120,DiasNOLaborables)<=0,\"\",NETWORKDAYS(J2120+1,H2120,DiasNOLaborables))","v":""},null,null,{"$f":"IFERROR(VLOOKUP(E2120,$X$51:$Y$64,2),\"\")","v":20}]
[2110,20219050142532,"2021-12-28","MODULO CONTACTENOS","SOLICITUD DE INFORMACIÓN Y DOCUMENTOS","SOLICITUD DE INFORMACIÓN HIDROMETEOROLÓGICA","GRUPO DE SERVICIO AL CIUDADANO ","2021-12-29","CORREO ELECTRÓNICO",{"$f":"IFERROR(WORKDAY(C2121,P2121,DiasNOLaborables),\"\")","v":"2022-01-25"},{"$f":"+IF(C2121=\"\",\"\",IF(H2121=\"\",\"SIN RESPUESTA\",(IF(H2121<=J2121,\"A TIEMPO\",\"FUERA DE TIEMPO\"))))","v":"A TIEMPO"},{"$f":"IF(H2121=\"\",\"\",NETWORKDAYS(C2121+1,H2121,DiasNOLaborables))","v":1},{"$f":"IF(NETWORKDAYS(J2121+1,H2121,DiasNOLaborables)<=0,\"\",NETWORKDAYS(J2121+1,H2121,DiasNOLaborables))","v":""},null,null,{"$f":"IFERROR(VLOOKUP(E2121,$X$51:$Y$64,2),\"\")","v":20}]
[2111,20219050142722,"2021-12-28","MODULO CONTACTENOS","SOLICITUD DE INFORMACIÓN Y DOCUMENTOS","SOLICITUD DE INFORMACIÓN HIDROMETEOROLÓGICA","GRUPO DE SERVICIO AL CIUDADANO ","2022-01-11","CORREO ELECTRÓNICO",{"$f":"IFERROR(WORKDAY(C2122,P2122,DiasNOLaborables),\"\")","v":"2022-01-25"},{"$f":"+IF(C2122=\"\",\"\",IF(H2122=\"\",\"SIN RESPUESTA\",(IF(H2122<=J2122,\"A TIEMPO\",\"FUERA DE TIEMPO\"))))","v":"A TIEMPO"},{"$f":"IF(H2122=\"\",\"\",NETWORKDAYS(C2122+1,H2122,DiasNOLaborables))","v":10},{"$f":"IF(NETWORKDAYS(J2122+1,H2122,DiasNOLaborables)<=0,\"\",NETWORKDAYS(J2122+1,H2122,DiasNOLaborables))","v":""},null,null,{"$f":"IFERROR(VLOOKUP(E2122,$X$51:$Y$64,2),\"\")","v":20}]
[2112,20219050142732,"2021-12-28","MODULO CONTACTENOS","SOLICITUD DE INFORMACIÓN Y DOCUMENTOS","SOLICITUD DE INFORMACIÓN HIDROMETEOROLÓGICA","GRUPO DE SERVICIO AL CIUDADANO ","2022-01-11","CORREO ELECTRÓNICO",{"$f":"IFERROR(WORKDAY(C2123,P2123,DiasNOLaborables),\"\")","v":"2022-01-25"},{"$f":"+IF(C2123=\"\",\"\",IF(H2123=\"\",\"SIN RESPUESTA\",(IF(H2123<=J2123,\"A TIEMPO\",\"FUERA DE TIEMPO\"))))","v":"A TIEMPO"},{"$f":"IF(H2123=\"\",\"\",NETWORKDAYS(C2123+1,H2123,DiasNOLaborables))","v":10},{"$f":"IF(NETWORKDAYS(J2123+1,H2123,DiasNOLaborables)<=0,\"\",NETWORKDAYS(J2123+1,H2123,DiasNOLaborables))","v":""},null,null,{"$f":"IFERROR(VLOOKUP(E2123,$X$51:$Y$64,2),\"\")","v":20}]
[2113,20219050142742,"2021-12-28","MODULO CONTACTENOS","SOLICITUD DE INFORMACIÓN Y DOCUMENTOS","SOLICITUD DE INFORMACIÓN HIDROMETEOROLÓGICA","GRUPO DE SERVICIO AL CIUDADANO ","2022-01-11","CORREO ELECTRÓNICO",{"$f":"IFERROR(WORKDAY(C2124,P2124,DiasNOLaborables),\"\")","v":"2022-01-25"},{"$f":"+IF(C2124=\"\",\"\",IF(H2124=\"\",\"SIN RESPUESTA\",(IF(H2124<=J2124,\"A TIEMPO\",\"FUERA DE TIEMPO\"))))","v":"A TIEMPO"},{"$f":"IF(H2124=\"\",\"\",NETWORKDAYS(C2124+1,H2124,DiasNOLaborables))","v":10},{"$f":"IF(NETWORKDAYS(J2124+1,H2124,DiasNOLaborables)<=0,\"\",NETWORKDAYS(J2124+1,H2124,DiasNOLaborables))","v":""},null,null,{"$f":"IFERROR(VLOOKUP(E2124,$X$51:$Y$64,2),\"\")","v":20}]
[2114,20219050142762,"2021-12-28","MODULO CONTACTENOS","SOLICITUD DE INFORMACIÓN Y DOCUMENTOS","SOLICITUD DE INFORMACIÓN HIDROMETEOROLÓGICA","GRUPO DE SERVICIO AL CIUDADANO ","2022-01-11","CORREO ELECTRÓNICO",{"$f":"IFERROR(WORKDAY(C2125,P2125,DiasNOLaborables),\"\")","v":"2022-01-25"},{"$f":"+IF(C2125=\"\",\"\",IF(H2125=\"\",\"SIN RESPUESTA\",(IF(H2125<=J2125,\"A TIEMPO\",\"FUERA DE TIEMPO\"))))","v":"A TIEMPO"},{"$f":"IF(H2125=\"\",\"\",NETWORKDAYS(C2125+1,H2125,DiasNOLaborables))","v":10},{"$f":"IF(NETWORKDAYS(J2125+1,H2125,DiasNOLaborables)<=0,\"\",NETWORKDAYS(J2125+1,H2125,DiasNOLaborables))","v":""},null,null,{"$f":"IFERROR(VLOOKUP(E2125,$X$51:$Y$64,2),\"\")","v":20}]
[{"$f":"IF(B2126<>\"\",A2125+1,\"\")","v":2115},20219050142802,"2021-12-29","CORREO ELECTRÓNICO","SOLICITUD DE INFORMACIÓN Y DOCUMENTOS","SOLICITUD DE INFORMACIÓN HIDROMETEOROLÓGICA","GRUPO DE SERVICIO AL CIUDADANO ","2022-01-13","CORREO ELECTRÓNICO",{"$f":"IFERROR(WORKDAY(C2126,P2126,DiasNOLaborables),\"\")","v":"2022-01-26"},{"$f":"+IF(C2126=\"\",\"\",IF(H2126=\"\",\"SIN RESPUESTA\",(IF(H2126<=J2126,\"A TIEMPO\",\"FUERA DE TIEMPO\"))))","v":"A TIEMPO"},{"$f":"IF(H2126=\"\",\"\",NETWORKDAYS(C2126+1,H2126,DiasNOLaborables))","v":11},{"$f":"IF(NETWORKDAYS(J2126+1,H2126,DiasNOLaborables)<=0,\"\",NETWORKDAYS(J2126+1,H2126,DiasNOLaborables))","v":""},null,null,20]
[2116,20219050142832,"2021-12-29","MODULO CONTACTENOS","SOLICITUD DE INFORMACIÓN Y DOCUMENTOS","SOLICITUD DE INFORMACIÓN HIDROMETEOROLÓGICA","SUBDIRECCIÓN DE ECOSISTEMAS E INFORMACIÓN AMBIENTAL","2022-01-21","CORREO ELECTRÓNICO",{"$f":"IFERROR(WORKDAY(C2127,P2127,DiasNOLaborables),\"\")","v":"2022-01-26"},{"$f":"+IF(C2127=\"\",\"\",IF(H2127=\"\",\"SIN RESPUESTA\",(IF(H2127<=J2127,\"A TIEMPO\",\"FUERA DE TIEMPO\"))))","v":"A TIEMPO"},{"$f":"IF(H2127=\"\",\"\",NETWORKDAYS(C2127+1,H2127,DiasNOLaborables))","v":17},{"$f":"IF(NETWORKDAYS(J2127+1,H2127,DiasNOLaborables)<=0,\"\",NETWORKDAYS(J2127+1,H2127,DiasNOLaborables))","v":""},null,null,20]
[2117,20219050142882,"2021-12-29","MODULO CONTACTENOS","SOLICITUD DE INFORMACIÓN Y DOCUMENTOS","SOLICITUD DE INFORMACIÓN HIDROMETEOROLÓGICA","GRUPO DE SERVICIO AL CIUDADANO ","2022-01-12","CORREO ELECTRÓNICO",{"$f":"IFERROR(WORKDAY(C2128,P2128,DiasNOLaborables),\"\")","v":"2022-01-26"},{"$f":"+IF(C2128=\"\",\"\",IF(H2128=\"\",\"SIN RESPUESTA\",(IF(H2128<=J2128,\"A TIEMPO\",\"FUERA DE TIEMPO\"))))","v":"A TIEMPO"},{"$f":"IF(H2128=\"\",\"\",NETWORKDAYS(C2128+1,H2128,DiasNOLaborables))","v":10},{"$f":"IF(NETWORKDAYS(J2128+1,H2128,DiasNOLaborables)<=0,\"\",NETWORKDAYS(J2128+1,H2128,DiasNOLaborables))","v":""},null,null,20]
[2118,20219050142892,"2021-12-29","MODULO CONTACTENOS","SOLICITUD DE INFORMACIÓN Y DOCUMENTOS","SOLICITUD DE INFORMACIÓN HIDROMETEOROLÓGICA","GRUPO DE SERVICIO AL CIUDADANO ","2022-01-12","CORREO ELECTRÓNICO",{"$f":"IFERROR(WORKDAY(C2129,P2129,DiasNOLaborables),\"\")","v":"2022-01-26"},{"$f":"+IF(C2129=\"\",\"\",IF(H2129=\"\",\"SIN RESPUESTA\",(IF(H2129<=J2129,\"A TIEMPO\",\"FUERA DE TIEMPO\"))))","v":"A TIEMPO"},{"$f":"IF(H2129=\"\",\"\",NETWORKDAYS(C2129+1,H2129,DiasNOLaborables))","v":10},{"$f":"IF(NETWORKDAYS(J2129+1,H2129,DiasNOLaborables)<=0,\"\",NETWORKDAYS(J2129+1,H2129,DiasNOLaborables))","v":""},null,null,20]
[2119,20219050142982,"2021-12-29","CORREO ELECTRÓNICO","SOLICITUD DE INFORMACIÓN Y DOCUMENTOS","SOLICITUD DE INFORMACIÓN HIDROMETEOROLÓGICA","GRUPO DE SERVICIO AL CIUDADANO ","2022-01-12","CORREO ELECTRÓNICO",{"$f":"IFERROR(WORKDAY(C2130,P2130,DiasNOLaborables),\"\")","v":"2022-01-26"},{"$f":"+IF(C2130=\"\",\"\",IF(H2130=\"\",\"SIN RESPUESTA\",(IF(H2130<=J2130,\"A TIEMPO\",\"FUERA DE TIEMPO\"))))","v":"A TIEMPO"},{"$f":"IF(H2130=\"\",\"\",NETWORKDAYS(C2130+1,H2130,DiasNOLaborables))","v":10},{"$f":"IF(NETWORKDAYS(J2130+1,H2130,DiasNOLaborables)<=0,\"\",NETWORKDAYS(J2130+1,H2130,DiasNOLaborables))","v":""},null,null,20]
[2120,20219050142992,"2021-12-29","CORREO ELECTRÓNICO","SOLICITUD DE INFORMACIÓN Y DOCUMENTOS","SOLICITUD DE INFORMACIÓN HIDROMETEOROLÓGICA","GRUPO DE SERVICIO AL CIUDADANO ","2022-01-12","CORREO ELECTRÓNICO",{"$f":"IFERROR(WORKDAY(C2131,P2131,DiasNOLaborables),\"\")","v":"2022-01-26"},{"$f":"+IF(C2131=\"\",\"\",IF(H2131=\"\",\"SIN RESPUESTA\",(IF(H2131<=J2131,\"A TIEMPO\",\"FUERA DE TIEMPO\"))))","v":"A TIEMPO"},{"$f":"IF(H2131=\"\",\"\",NETWORKDAYS(C2131+1,H2131,DiasNOLaborables))","v":10},{"$f":"IF(NETWORKDAYS(J2131+1,H2131,DiasNOLaborables)<=0,\"\",NETWORKDAYS(J2131+1,H2131,DiasNOLaborables))","v":""},null,null,20]
[2121,20219050143042,"2021-12-29","MODULO CONTACTENOS","SOLICITUD DE INFORMACIÓN Y DOCUMENTOS","SOLICITUD DE INFORMACIÓN HIDROMETEOROLÓGICA","GRUPO DE SERVICIO AL CIUDADANO ","2022-01-12","CORREO ELECTRÓNICO",{"$f":"IFERROR(WORKDAY(C2132,P2132,DiasNOLaborables),\"\")","v":"2022-01-26"},{"$f":"+IF(C2132=\"\",\"\",IF(H2132=\"\",\"SIN RESPUESTA\",(IF(H2132<=J2132,\"A TIEMPO\",\"FUERA DE TIEMPO\"))))","v":"A TIEMPO"},{"$f":"IF(H2132=\"\",\"\",NETWORKDAYS(C2132+1,H2132,DiasNOLaborables))","v":10},{"$f":"IF(NETWORKDAYS(J2132+1,H2132,DiasNOLaborables)<=0,\"\",NETWORKDAYS(J2132+1,H2132,DiasNOLaborables))","v":""},null,null,20]
[2122,20219050142782,"2021-12-29","MODULO CONTACTENOS","SOLICITUD DE INFORMACIÓN Y DOCUMENTOS","REGISTROS AMBIENTALES","SUBDIRECCIÓN DE ESTUDIOS AMBIENTALES","2022-01-13","CORREO ELECTRÓNICO",{"$f":"IFERROR(WORKDAY(C2133,P2133,DiasNOLaborables),\"\")","v":"2022-01-26"},{"$f":"+IF(C2133=\"\",\"\",IF(H2133=\"\",\"SIN RESPUESTA\",(IF(H2133<=J2133,\"A TIEMPO\",\"FUERA DE TIEMPO\"))))","v":"A TIEMPO"},{"$f":"IF(H2133=\"\",\"\",NETWORKDAYS(C2133+1,H2133,DiasNOLaborables))","v":11},{"$f":"IF(NETWORKDAYS(J2133+1,H2133,DiasNOLaborables)<=0,\"\",NETWORKDAYS(J2133+1,H2133,DiasNOLaborables))","v":""},null,null,20]
[2123,20219050142792,"2021-12-29","MODULO CONTACTENOS","SOLICITUD DE INFORMACIÓN Y DOCUMENTOS","REGISTROS AMBIENTALES","SUBDIRECCIÓN DE ESTUDIOS AMBIENTALES","2022-01-11","CORREO ELECTRÓNICO",{"$f":"IFERROR(WORKDAY(C2134,P2134,DiasNOLaborables),\"\")","v":"2022-01-26"},{"$f":"+IF(C2134=\"\",\"\",IF(H2134=\"\",\"SIN RESPUESTA\",(IF(H2134<=J2134,\"A TIEMPO\",\"FUERA DE TIEMPO\"))))","v":"A TIEMPO"},{"$f":"IF(H2134=\"\",\"\",NETWORKDAYS(C2134+1,H2134,DiasNOLaborables))","v":9},{"$f":"IF(NETWORKDAYS(J2134+1,H2134,DiasNOLaborables)<=0,\"\",NETWORKDAYS(J2134+1,H2134,DiasNOLaborables))","v":""},null,null,20]
[2124,20219050142812,"2021-12-29","MODULO CONTACTENOS","SOLICITUD DE INFORMACIÓN Y DOCUMENTOS","BOSQUES","SUBDIRECCIÓN DE ECOSISTEMAS E INFORMACIÓN AMBIENTAL","2022-01-11","CORREO ELECTRÓNICO",{"$f":"IFERROR(WORKDAY(C2135,P2135,DiasNOLaborables),\"\")","v":"2022-01-26"},{"$f":"+IF(C2135=\"\",\"\",IF(H2135=\"\",\"SIN RESPUESTA\",(IF(H2135<=J2135,\"A TIEMPO\",\"FUERA DE TIEMPO\"))))","v":"A TIEMPO"},{"$f":"IF(H2135=\"\",\"\",NETWORKDAYS(C2135+1,H2135,DiasNOLaborables))","v":9},{"$f":"IF(NETWORKDAYS(J2135+1,H2135,DiasNOLaborables)<=0,\"\",NETWORKDAYS(J2135+1,H2135,DiasNOLaborables))","v":""},null,null,20]
[2125,20219050143002,"2021-12-29","CORREO ELECTRÓNICO","SOLICITUD DE INFORMACIÓN Y DOCUMENTOS","ADMINISTRATIVA","GRUPO DE ADMINISTRACIÓN Y DESARROLLO DEL TALENTO HUMANO","2021-12-30","CORREO ELECTRÓNICO",{"$f":"IFERROR(WORKDAY(C2136,P2136,DiasNOLaborables),\"\")","v":"2022-01-26"},{"$f":"+IF(C2136=\"\",\"\",IF(H2136=\"\",\"SIN RESPUESTA\",(IF(H2136<=J2136,\"A TIEMPO\",\"FUERA DE TIEMPO\"))))","v":"A TIEMPO"},{"$f":"IF(H2136=\"\",\"\",NETWORKDAYS(C2136+1,H2136,DiasNOLaborables))","v":1},{"$f":"IF(NETWORKDAYS(J2136+1,H2136,DiasNOLaborables)<=0,\"\",NETWORKDAYS(J2136+1,H2136,DiasNOLaborables))","v":""},null,null,20]
[2126,20219050143012,"2021-12-29","CORREO ELECTRÓNICO","SOLICITUD DE INFORMACIÓN Y DOCUMENTOS","ADMINISTRATIVA","OFICINA ASESORA JURÍDICA","2021-12-29","CORREO ELECTRÓNICO",{"$f":"IFERROR(WORKDAY(C2137,P2137,DiasNOLaborables),\"\")","v":"2022-01-26"},{"$f":"+IF(C2137=\"\",\"\",IF(H2137=\"\",\"SIN RESPUESTA\",(IF(H2137<=J2137,\"A TIEMPO\",\"FUERA DE TIEMPO\"))))","v":"A TIEMPO"},{"$f":"IF(H2137=\"\",\"\",NETWORKDAYS(C2137+1,H2137,DiasNOLaborables))","v":-2},{"$f":"IF(NETWORKDAYS(J2137+1,H2137,DiasNOLaborables)<=0,\"\",NETWORKDAYS(J2137+1,H2137,DiasNOLaborables))","v":""},null,null,20]
[2127,20219050143022,"2021-12-29","MODULO CONTACTENOS","SOLICITUD DE INFORMACIÓN Y DOCUMENTOS","BOSQUES","SUBDIRECCIÓN DE ECOSISTEMAS E INFORMACIÓN AMBIENTAL","2021-12-30","CORREO ELECTRÓNICO",{"$f":"IFERROR(WORKDAY(C2138,P2138,DiasNOLaborables),\"\")","v":"2022-01-26"},{"$f":"+IF(C2138=\"\",\"\",IF(H2138=\"\",\"SIN RESPUESTA\",(IF(H2138<=J2138,\"A TIEMPO\",\"FUERA DE TIEMPO\"))))","v":"A TIEMPO"},{"$f":"IF(H2138=\"\",\"\",NETWORKDAYS(C2138+1,H2138,DiasNOLaborables))","v":1},{"$f":"IF(NETWORKDAYS(J2138+1,H2138,DiasNOLaborables)<=0,\"\",NETWORKDAYS(J2138+1,H2138,DiasNOLaborables))","v":""},null,null,20]
[2128,20219050142922,"2021-12-29","MODULO CONTACTENOS","SOLICITUD DE INFORMACIÓN Y DOCUMENTOS","ADMINISTRATIVA","OFICINA ASESORA JURÍDICA","2022-01-03","CORREO ELECTRÓNICO",{"$f":"IFERROR(WORKDAY(C2139,P2139,DiasNOLaborables),\"\")","v":"2022-01-26"},{"$f":"+IF(C2139=\"\",\"\",IF(H2139=\"\",\"SIN RESPUESTA\",(IF(H2139<=J2139,\"A TIEMPO\",\"FUERA DE TIEMPO\"))))","v":"A TIEMPO"},{"$f":"IF(H2139=\"\",\"\",NETWORKDAYS(C2139+1,H2139,DiasNOLaborables))","v":3},{"$f":"IF(NETWORKDAYS(J2139+1,H2139,DiasNOLaborables)<=0,\"\",NETWORKDAYS(J2139+1,H2139,DiasNOLaborables))","v":""},null,null,20]
[2129,20219910072252,"2021-12-29","MODULO CONTACTENOS","SOLICITUD DE INFORMACIÓN Y DOCUMENTOS","BOSQUES","SUBDIRECCIÓN DE ECOSISTEMAS E INFORMACIÓN AMBIENTAL","2022-01-11","CORREO ELECTRÓNICO",{"$f":"IFERROR(WORKDAY(C2140,P2140,DiasNOLaborables),\"\")","v":"2022-01-26"},{"$f":"+IF(C2140=\"\",\"\",IF(H2140=\"\",\"SIN RESPUESTA\",(IF(H2140<=J2140,\"A TIEMPO\",\"FUERA DE TIEMPO\"))))","v":"A TIEMPO"},{"$f":"IF(H2140=\"\",\"\",NETWORKDAYS(C2140+1,H2140,DiasNOLaborables))","v":9},{"$f":"IF(NETWORKDAYS(J2140+1,H2140,DiasNOLaborables)<=0,\"\",NETWORKDAYS(J2140+1,H2140,DiasNOLaborables))","v":""},null,null,20]
[2130,20219910072262,"2021-12-29","CORREO ELECTRÓNICO","SOLICITUD DE INFORMACIÓN Y DOCUMENTOS","REGISTROS AMBIENTALES","SUBDIRECCIÓN DE ESTUDIOS AMBIENTALES","2021-12-29","CORREO ELECTRÓNICO",{"$f":"IFERROR(WORKDAY(C2141,P2141,DiasNOLaborables),\"\")","v":"2022-01-26"},{"$f":"+IF(C2141=\"\",\"\",IF(H2141=\"\",\"SIN RESPUESTA\",(IF(H2141<=J2141,\"A TIEMPO\",\"FUERA DE TIEMPO\"))))","v":"A TIEMPO"},{"$f":"IF(H2141=\"\",\"\",NETWORKDAYS(C2141+1,H2141,DiasNOLaborables))","v":-2},{"$f":"IF(NETWORKDAYS(J2141+1,H2141,DiasNOLaborables)<=0,\"\",NETWORKDAYS(J2141+1,H2141,DiasNOLaborables))","v":""},null,null,20]
[2131,20219050143032,"2021-12-29","MODULO CONTACTENOS","SOLICITUD DE INFORMACIÓN Y DOCUMENTOS","ADMINISTRATIVA","OFICINA ASESORA JURÍDICA","2022-01-04","CORREO ELECTRÓNICO",{"$f":"IFERROR(WORKDAY(C2142,P2142,DiasNOLaborables),\"\")","v":"2022-01-26"},{"$f":"+IF(C2142=\"\",\"\",IF(H2142=\"\",\"SIN RESPUESTA\",(IF(H2142<=J2142,\"A TIEMPO\",\"FUERA DE TIEMPO\"))))","v":"A TIEMPO"},{"$f":"IF(H2142=\"\",\"\",NETWORKDAYS(C2142+1,H2142,DiasNOLaborables))","v":4},{"$f":"IF(NETWORKDAYS(J2142+1,H2142,DiasNOLaborables)<=0,\"\",NETWORKDAYS(J2142+1,H2142,DiasNOLaborables))","v":""},null,null,20]
[2132,20219050143052,"2021-12-30","CORREO ELECTRÓNICO","CERTIFICACIONES DE TIEMPO, CLIMA Y EVENTOS HIDROLÓGICOS","CERTIFICACIONES DE TIEMPO Y CLIMA","SUBDIRECCIÓN DE METEOROLOGÍA","2022-01-03","CORREO ELECTRÓNICO",{"$f":"IFERROR(WORKDAY(C2143,P2143,DiasNOLaborables),\"\")","v":"2022-02-17"},{"$f":"+IF(C2143=\"\",\"\",IF(H2143=\"\",\"SIN RESPUESTA\",(IF(H2143<=J2143,\"A TIEMPO\",\"FUERA DE TIEMPO\"))))","v":"A TIEMPO"},{"$f":"IF(H2143=\"\",\"\",NETWORKDAYS(C2143+1,H2143,DiasNOLaborables))","v":2},{"$f":"IF(NETWORKDAYS(J2143+1,H2143,DiasNOLaborables)<=0,\"\",NETWORKDAYS(J2143+1,H2143,DiasNOLaborables))","v":""},null,null,35]
[2133,20219050143062,"2021-12-30","CORREO ELECTRÓNICO","SOLICITUD DE INFORMACIÓN Y DOCUMENTOS","ADMINISTRATIVA","OFICINA ASESORA JURÍDICA","2022-01-04","CORREO ELECTRÓNICO",{"$f":"IFERROR(WORKDAY(C2144,P2144,DiasNOLaborables),\"\")","v":"2022-01-27"},{"$f":"+IF(C2144=\"\",\"\",IF(H2144=\"\",\"SIN RESPUESTA\",(IF(H2144<=J2144,\"A TIEMPO\",\"FUERA DE TIEMPO\"))))","v":"A TIEMPO"},{"$f":"IF(H2144=\"\",\"\",NETWORKDAYS(C2144+1,H2144,DiasNOLaborables))","v":3},{"$f":"IF(NETWORKDAYS(J2144+1,H2144,DiasNOLaborables)<=0,\"\",NETWORKDAYS(J2144+1,H2144,DiasNOLaborables))","v":""},null,null,20]
[2134,20219050143072,"2021-12-30","CORREO ELECTRÓNICO","SOLICITUD DE INFORMACIÓN Y DOCUMENTOS","ADMINISTRATIVA","OFICINA ASESORA JURÍDICA","2022-01-04","CORREO ELECTRÓNICO",{"$f":"IFERROR(WORKDAY(C2145,P2145,DiasNOLaborables),\"\")","v":"2022-01-27"},{"$f":"+IF(C2145=\"\",\"\",IF(H2145=\"\",\"SIN RESPUESTA\",(IF(H2145<=J2145,\"A TIEMPO\",\"FUERA DE TIEMPO\"))))","v":"A TIEMPO"},{"$f":"IF(H2145=\"\",\"\",NETWORKDAYS(C2145+1,H2145,DiasNOLaborables))","v":3},{"$f":"IF(NETWORKDAYS(J2145+1,H2145,DiasNOLaborables)<=0,\"\",NETWORKDAYS(J2145+1,H2145,DiasNOLaborables))","v":""},null,null,20]
[2135,20219050143082,"2021-12-30","CORREO ELECTRÓNICO","SOLICITUD DE INFORMACIÓN Y DOCUMENTOS","ADMINISTRATIVA","GRUPO DE ADMINISTRACIÓN Y DESARROLLO DEL TALENTO HUMANO","2022-01-12","CORREO ELECTRÓNICO",{"$f":"IFERROR(WORKDAY(C2146,P2146,DiasNOLaborables),\"\")","v":"2022-01-27"},{"$f":"+IF(C2146=\"\",\"\",IF(H2146=\"\",\"SIN RESPUESTA\",(IF(H2146<=J2146,\"A TIEMPO\",\"FUERA DE TIEMPO\"))))","v":"A TIEMPO"},{"$f":"IF(H2146=\"\",\"\",NETWORKDAYS(C2146+1,H2146,DiasNOLaborables))","v":9},{"$f":"IF(NETWORKDAYS(J2146+1,H2146,DiasNOLaborables)<=0,\"\",NETWORKDAYS(J2146+1,H2146,DiasNOLaborables))","v":""},null,null,20]
[2136,20219050143132,"2021-12-30","MODULO CONTACTENOS","SOLICITUD DE INFORMACIÓN Y DOCUMENTOS","ADMINISTRATIVA","OFICINA ASESORA JURÍDICA","2022-01-04","CORREO ELECTRÓNICO",{"$f":"IFERROR(WORKDAY(C2147,P2147,DiasNOLaborables),\"\")","v":"2022-01-27"},{"$f":"+IF(C2147=\"\",\"\",IF(H2147=\"\",\"SIN RESPUESTA\",(IF(H2147<=J2147,\"A TIEMPO\",\"FUERA DE TIEMPO\"))))","v":"A TIEMPO"},{"$f":"IF(H2147=\"\",\"\",NETWORKDAYS(C2147+1,H2147,DiasNOLaborables))","v":3},{"$f":"IF(NETWORKDAYS(J2147+1,H2147,DiasNOLaborables)<=0,\"\",NETWORKDAYS(J2147+1,H2147,DiasNOLaborables))","v":""},null,null,20]
[2137,20219050143142,"2021-12-30","MODULO CONTACTENOS","CERTIFICACIONES DE TIEMPO, CLIMA Y EVENTOS HIDROLÓGICOS","CERTIFICACIONES DE TIEMPO Y CLIMA","SUBDIRECCIÓN DE METEOROLOGÍA","2022-01-14","CORREO ELECTRÓNICO",{"$f":"IFERROR(WORKDAY(C2148,P2148,DiasNOLaborables),\"\")","v":"2022-02-17"},{"$f":"+IF(C2148=\"\",\"\",IF(H2148=\"\",\"SIN RESPUESTA\",(IF(H2148<=J2148,\"A TIEMPO\",\"FUERA DE TIEMPO\"))))","v":"A TIEMPO"},{"$f":"IF(H2148=\"\",\"\",NETWORKDAYS(C2148+1,H2148,DiasNOLaborables))","v":11},{"$f":"IF(NETWORKDAYS(J2148+1,H2148,DiasNOLaborables)<=0,\"\",NETWORKDAYS(J2148+1,H2148,DiasNOLaborables))","v":""},null,null,35]
[2138,20219050143152,"2021-12-30","MODULO CONTACTENOS","SOLICITUD DE INFORMACIÓN Y DOCUMENTOS","ADMINISTRATIVA","OFICINA ASESORA JURÍDICA","2022-01-04","CORREO ELECTRÓNICO",{"$f":"IFERROR(WORKDAY(C2149,P2149,DiasNOLaborables),\"\")","v":"2022-01-27"},{"$f":"+IF(C2149=\"\",\"\",IF(H2149=\"\",\"SIN RESPUESTA\",(IF(H2149<=J2149,\"A TIEMPO\",\"FUERA DE TIEMPO\"))))","v":"A TIEMPO"},{"$f":"IF(H2149=\"\",\"\",NETWORKDAYS(C2149+1,H2149,DiasNOLaborables))","v":3},{"$f":"IF(NETWORKDAYS(J2149+1,H2149,DiasNOLaborables)<=0,\"\",NETWORKDAYS(J2149+1,H2149,DiasNOLaborables))","v":""},null,null,20]
[2139,20219050143202,"2021-12-30","CORREO ELECTRÓNICO","SOLICITUD DE INFORMACIÓN Y DOCUMENTOS","INFORMES AMBIENTALES","SUBDIRECCIÓN DE HIDROLOGÍA","2022-01-13","CORREO ELECTRÓNICO",{"$f":"IFERROR(WORKDAY(C2150,P2150,DiasNOLaborables),\"\")","v":"2022-01-27"},{"$f":"+IF(C2150=\"\",\"\",IF(H2150=\"\",\"SIN RESPUESTA\",(IF(H2150<=J2150,\"A TIEMPO\",\"FUERA DE TIEMPO\"))))","v":"A TIEMPO"},{"$f":"IF(H2150=\"\",\"\",NETWORKDAYS(C2150+1,H2150,DiasNOLaborables))","v":10},{"$f":"IF(NETWORKDAYS(J2150+1,H2150,DiasNOLaborables)<=0,\"\",NETWORKDAYS(J2150+1,H2150,DiasNOLaborables))","v":""},null,null,20]
[2140,20219050143212,"2021-12-30","CORREO ELECTRÓNICO","SOLICITUD DE INFORMACIÓN Y DOCUMENTOS","INFORMES AMBIENTALES","SUBDIRECCIÓN DE HIDROLOGÍA","2022-01-13","CORREO ELECTRÓNICO",{"$f":"IFERROR(WORKDAY(C2151,P2151,DiasNOLaborables),\"\")","v":"2022-01-27"},{"$f":"+IF(C2151=\"\",\"\",IF(H2151=\"\",\"SIN RESPUESTA\",(IF(H2151<=J2151,\"A TIEMPO\",\"FUERA DE TIEMPO\"))))","v":"A TIEMPO"},{"$f":"IF(H2151=\"\",\"\",NETWORKDAYS(C2151+1,H2151,DiasNOLaborables))","v":10},{"$f":"IF(NETWORKDAYS(J2151+1,H2151,DiasNOLaborables)<=0,\"\",NETWORKDAYS(J2151+1,H2151,DiasNOLaborables))","v":""},null,null,20]
[2141,20219050143222,"2021-12-30","CORREO ELECTRÓNICO","CERTIFICACIONES DE TIEMPO, CLIMA Y EVENTOS HIDROLÓGICOS","CERTIFICACIONES DE TIEMPO Y CLIMA","SUBDIRECCIÓN DE METEOROLOGÍA","2022-01-14","CORREO ELECTRÓNICO",{"$f":"IFERROR(WORKDAY(C2152,P2152,DiasNOLaborables),\"\")","v":"2022-02-17"},{"$f":"+IF(C2152=\"\",\"\",IF(H2152=\"\",\"SIN RESPUESTA\",(IF(H2152<=J2152,\"A TIEMPO\",\"FUERA DE TIEMPO\"))))","v":"A TIEMPO"},{"$f":"IF(H2152=\"\",\"\",NETWORKDAYS(C2152+1,H2152,DiasNOLaborables))","v":11},{"$f":"IF(NETWORKDAYS(J2152+1,H2152,DiasNOLaborables)<=0,\"\",NETWORKDAYS(J2152+1,H2152,DiasNOLaborables))","v":""},null,null,35]
[2142,20219050143232,"2021-12-30","CORREO ELECTRÓNICO","SOLICITUD DE INFORMACIÓN Y DOCUMENTOS","REGISTROS AMBIENTALES","SUBDIRECCIÓN DE ESTUDIOS AMBIENTALES","2022-01-05","CORREO ELECTRÓNICO",{"$f":"IFERROR(WORKDAY(C2153,P2153,DiasNOLaborables),\"\")","v":"2022-01-27"},{"$f":"+IF(C2153=\"\",\"\",IF(H2153=\"\",\"SIN RESPUESTA\",(IF(H2153<=J2153,\"A TIEMPO\",\"FUERA DE TIEMPO\"))))","v":"A TIEMPO"},{"$f":"IF(H2153=\"\",\"\",NETWORKDAYS(C2153+1,H2153,DiasNOLaborables))","v":4},{"$f":"IF(NETWORKDAYS(J2153+1,H2153,DiasNOLaborables)<=0,\"\",NETWORKDAYS(J2153+1,H2153,DiasNOLaborables))","v":""},null,null,20]
[2143,20219050143252,"2021-12-30","MODULO CONTACTENOS","SOLICITUD DE INFORMACIÓN Y DOCUMENTOS","REGISTROS AMBIENTALES","SUBDIRECCIÓN DE ESTUDIOS AMBIENTALES","2022-01-11","CORREO ELECTRÓNICO",{"$f":"IFERROR(WORKDAY(C2154,P2154,DiasNOLaborables),\"\")","v":"2022-01-27"},{"$f":"+IF(C2154=\"\",\"\",IF(H2154=\"\",\"SIN RESPUESTA\",(IF(H2154<=J2154,\"A TIEMPO\",\"FUERA DE TIEMPO\"))))","v":"A TIEMPO"},{"$f":"IF(H2154=\"\",\"\",NETWORKDAYS(C2154+1,H2154,DiasNOLaborables))","v":8},{"$f":"IF(NETWORKDAYS(J2154+1,H2154,DiasNOLaborables)<=0,\"\",NETWORKDAYS(J2154+1,H2154,DiasNOLaborables))","v":""},null,null,20]
[2144,20219050143262,"2021-12-30","CORREO ELECTRÓNICO","SOLICITUD DE INFORMACIÓN Y DOCUMENTOS","ADMINISTRATIVA","OFICINA ASESORA JURÍDICA","2022-01-04","CORREO ELECTRÓNICO",{"$f":"IFERROR(WORKDAY(C2155,P2155,DiasNOLaborables),\"\")","v":"2022-01-27"},{"$f":"+IF(C2155=\"\",\"\",IF(H2155=\"\",\"SIN RESPUESTA\",(IF(H2155<=J2155,\"A TIEMPO\",\"FUERA DE TIEMPO\"))))","v":"A TIEMPO"},{"$f":"IF(H2155=\"\",\"\",NETWORKDAYS(C2155+1,H2155,DiasNOLaborables))","v":3},{"$f":"IF(NETWORKDAYS(J2155+1,H2155,DiasNOLaborables)<=0,\"\",NETWORKDAYS(J2155+1,H2155,DiasNOLaborables))","v":""},null,null,20]
[2145,20219050143272,"2021-12-30","CORREO ELECTRÓNICO","PETICIÓN","CERTIFICACIONES DE TIEMPO Y CLIMA","SUBDIRECCIÓN DE METEOROLOGÍA","2022-01-11","CORREO ELECTRÓNICO",{"$f":"IFERROR(WORKDAY(C2156,P2156,DiasNOLaborables),\"\")","v":"2022-02-10"},{"$f":"+IF(C2156=\"\",\"\",IF(H2156=\"\",\"SIN RESPUESTA\",(IF(H2156<=J2156,\"A TIEMPO\",\"FUERA DE TIEMPO\"))))","v":"A TIEMPO"},{"$f":"IF(H2156=\"\",\"\",NETWORKDAYS(C2156+1,H2156,DiasNOLaborables))","v":8},{"$f":"IF(NETWORKDAYS(J2156+1,H2156,DiasNOLaborables)<=0,\"\",NETWORKDAYS(J2156+1,H2156,DiasNOLaborables))","v":""},null,null,30]
[2146,20219050143242,"2021-12-30","MODULO CONTACTENOS","SOLICITUD DE INFORMACIÓN Y DOCUMENTOS","ADMINISTRATIVA","OFICINA ASESORA JURÍDICA","2022-01-05","CORREO ELECTRÓNICO",{"$f":"IFERROR(WORKDAY(C2157,P2157,DiasNOLaborables),\"\")","v":"2022-01-27"},{"$f":"+IF(C2157=\"\",\"\",IF(H2157=\"\",\"SIN RESPUESTA\",(IF(H2157<=J2157,\"A TIEMPO\",\"FUERA DE TIEMPO\"))))","v":"A TIEMPO"},{"$f":"IF(H2157=\"\",\"\",NETWORKDAYS(C2157+1,H2157,DiasNOLaborables))","v":4},{"$f":"IF(NETWORKDAYS(J2157+1,H2157,DiasNOLaborables)<=0,\"\",NETWORKDAYS(J2157+1,H2157,DiasNOLaborables))","v":""},null,null,20]
[2147,20219050143092,"2021-12-30","MODULO CONTACTENOS","SOLICITUD DE INFORMACIÓN Y DOCUMENTOS","SOLICITUD DE INFORMACIÓN HIDROMETEOROLÓGICA","GRUPO DE SERVICIO AL CIUDADANO ","2022-01-12","CORREO ELECTRÓNICO",{"$f":"IFERROR(WORKDAY(C2158,P2158,DiasNOLaborables),\"\")","v":"2022-01-27"},{"$f":"+IF(C2158=\"\",\"\",IF(H2158=\"\",\"SIN RESPUESTA\",(IF(H2158<=J2158,\"A TIEMPO\",\"FUERA DE TIEMPO\"))))","v":"A TIEMPO"},{"$f":"IF(H2158=\"\",\"\",NETWORKDAYS(C2158+1,H2158,DiasNOLaborables))","v":9},{"$f":"IF(NETWORKDAYS(J2158+1,H2158,DiasNOLaborables)<=0,\"\",NETWORKDAYS(J2158+1,H2158,DiasNOLaborables))","v":""},null,null,20]
[2148,20219050143102,"2021-12-30","CORREO ELECTRÓNICO","SOLICITUD DE INFORMACIÓN Y DOCUMENTOS","SOLICITUD DE INFORMACIÓN HIDROMETEOROLÓGICA","GRUPO DE SERVICIO AL CIUDADANO ","2022-01-13","CORREO ELECTRÓNICO",{"$f":"IFERROR(WORKDAY(C2159,P2159,DiasNOLaborables),\"\")","v":"2022-01-27"},{"$f":"+IF(C2159=\"\",\"\",IF(H2159=\"\",\"SIN RESPUESTA\",(IF(H2159<=J2159,\"A TIEMPO\",\"FUERA DE TIEMPO\"))))","v":"A TIEMPO"},{"$f":"IF(H2159=\"\",\"\",NETWORKDAYS(C2159+1,H2159,DiasNOLaborables))","v":10},{"$f":"IF(NETWORKDAYS(J2159+1,H2159,DiasNOLaborables)<=0,\"\",NETWORKDAYS(J2159+1,H2159,DiasNOLaborables))","v":""},null,null,20]
[2149,20219050143112,"2021-12-30","MODULO CONTACTENOS","SOLICITUD DE INFORMACIÓN Y DOCUMENTOS","SOLICITUD DE INFORMACIÓN HIDROMETEOROLÓGICA","GRUPO DE SERVICIO AL CIUDADANO ","2022-01-13","CORREO ELECTRÓNICO",{"$f":"IFERROR(WORKDAY(C2160,P2160,DiasNOLaborables),\"\")","v":"2022-01-27"},{"$f":"+IF(C2160=\"\",\"\",IF(H2160=\"\",\"SIN RESPUESTA\",(IF(H2160<=J2160,\"A TIEMPO\",\"FUERA DE TIEMPO\"))))","v":"A TIEMPO"},{"$f":"IF(H2160=\"\",\"\",NETWORKDAYS(C2160+1,H2160,DiasNOLaborables))","v":10},{"$f":"IF(NETWORKDAYS(J2160+1,H2160,DiasNOLaborables)<=0,\"\",NETWORKDAYS(J2160+1,H2160,DiasNOLaborables))","v":""},null,null,20]
[2150,20219050143122,"2021-12-30","MODULO CONTACTENOS","SOLICITUD DE INFORMACIÓN Y DOCUMENTOS","SOLICITUD DE INFORMACIÓN HIDROMETEOROLÓGICA","GRUPO DE SERVICIO AL CIUDADANO ","2022-01-13","CORREO ELECTRÓNICO",{"$f":"IFERROR(WORKDAY(C2161,P2161,DiasNOLaborables),\"\")","v":"2022-01-27"},{"$f":"+IF(C2161=\"\",\"\",IF(H2161=\"\",\"SIN RESPUESTA\",(IF(H2161<=J2161,\"A TIEMPO\",\"FUERA DE TIEMPO\"))))","v":"A TIEMPO"},{"$f":"IF(H2161=\"\",\"\",NETWORKDAYS(C2161+1,H2161,DiasNOLaborables))","v":10},{"$f":"IF(NETWORKDAYS(J2161+1,H2161,DiasNOLaborables)<=0,\"\",NETWORKDAYS(J2161+1,H2161,DiasNOLaborables))","v":""},null,null,20]
[2151,20219050143182,"2021-12-30","CORREO ELECTRÓNICO","SOLICITUD DE INFORMACIÓN Y DOCUMENTOS","SOLICITUD DE INFORMACIÓN HIDROMETEOROLÓGICA","GRUPO DE SERVICIO AL CIUDADANO ","2022-01-13","CORREO ELECTRÓNICO",{"$f":"IFERROR(WORKDAY(C2162,P2162,DiasNOLaborables),\"\")","v":"2022-01-27"},{"$f":"+IF(C2162=\"\",\"\",IF(H2162=\"\",\"SIN RESPUESTA\",(IF(H2162<=J2162,\"A TIEMPO\",\"FUERA DE TIEMPO\"))))","v":"A TIEMPO"},{"$f":"IF(H2162=\"\",\"\",NETWORKDAYS(C2162+1,H2162,DiasNOLaborables))","v":10},{"$f":"IF(NETWORKDAYS(J2162+1,H2162,DiasNOLaborables)<=0,\"\",NETWORKDAYS(J2162+1,H2162,DiasNOLaborables))","v":""},null,null,20]
[2152,20219050143192,"2021-12-30","CORREO ELECTRÓNICO","SOLICITUD DE INFORMACIÓN Y DOCUMENTOS","SOLICITUD DE INFORMACIÓN HIDROMETEOROLÓGICA","GRUPO DE SERVICIO AL CIUDADANO ","2022-01-13","CORREO ELECTRÓNICO",{"$f":"IFERROR(WORKDAY(C2163,P2163,DiasNOLaborables),\"\")","v":"2022-01-27"},{"$f":"+IF(C2163=\"\",\"\",IF(H2163=\"\",\"SIN RESPUESTA\",(IF(H2163<=J2163,\"A TIEMPO\",\"FUERA DE TIEMPO\"))))","v":"A TIEMPO"},{"$f":"IF(H2163=\"\",\"\",NETWORKDAYS(C2163+1,H2163,DiasNOLaborables))","v":10},{"$f":"IF(NETWORKDAYS(J2163+1,H2163,DiasNOLaborables)<=0,\"\",NETWORKDAYS(J2163+1,H2163,DiasNOLaborables))","v":""},null,null,20]
[2153,20219050143292,"2021-12-30","MODULO CONTACTENOS","SOLICITUD DE INFORMACIÓN Y DOCUMENTOS","ADMINISTRATIVA","OFICINA ASESORA JURÍDICA","2022-01-05","CORREO ELECTRÓNICO",{"$f":"IFERROR(WORKDAY(C2164,P2164,DiasNOLaborables),\"\")","v":"2022-01-27"},{"$f":"+IF(C2164=\"\",\"\",IF(H2164=\"\",\"SIN RESPUESTA\",(IF(H2164<=J2164,\"A TIEMPO\",\"FUERA DE TIEMPO\"))))","v":"A TIEMPO"},{"$f":"IF(H2164=\"\",\"\",NETWORKDAYS(C2164+1,H2164,DiasNOLaborables))","v":4},{"$f":"IF(NETWORKDAYS(J2164+1,H2164,DiasNOLaborables)<=0,\"\",NETWORKDAYS(J2164+1,H2164,DiasNOLaborables))","v":""},null,null,20]
[2154,20219050143282,"2021-12-30","MODULO CONTACTENOS","SOLICITUD DE INFORMACIÓN Y DOCUMENTOS","SOLICITUD DE INFORMACIÓN HIDROMETEOROLÓGICA","GRUPO DE SERVICIO AL CIUDADANO ","2022-01-03","CORREO ELECTRÓNICO",{"$f":"IFERROR(WORKDAY(C2165,P2165,DiasNOLaborables),\"\")","v":"2022-01-27"},{"$f":"+IF(C2165=\"\",\"\",IF(H2165=\"\",\"SIN RESPUESTA\",(IF(H2165<=J2165,\"A TIEMPO\",\"FUERA DE TIEMPO\"))))","v":"A TIEMPO"},{"$f":"IF(H2165=\"\",\"\",NETWORKDAYS(C2165+1,H2165,DiasNOLaborables))","v":2},{"$f":"IF(NETWORKDAYS(J2165+1,H2165,DiasNOLaborables)<=0,\"\",NETWORKDAYS(J2165+1,H2165,DiasNOLaborables))","v":""},null,null,20]
[2155,20219050143322,"2021-12-31","MODULO CONTACTENOS","SOLICITUD DE INFORMACIÓN Y DOCUMENTOS","SOLICITUD DE INFORMACIÓN HIDROMETEOROLÓGICA","GRUPO DE SERVICIO AL CIUDADANO ","2022-01-03","CORREO ELECTRÓNICO",{"$f":"IFERROR(WORKDAY(C2166,P2166,DiasNOLaborables),\"\")","v":"2022-01-28"},{"$f":"+IF(C2166=\"\",\"\",IF(H2166=\"\",\"SIN RESPUESTA\",(IF(H2166<=J2166,\"A TIEMPO\",\"FUERA DE TIEMPO\"))))","v":"A TIEMPO"},{"$f":"IF(H2166=\"\",\"\",NETWORKDAYS(C2166+1,H2166,DiasNOLaborables))","v":1},{"$f":"IF(NETWORKDAYS(J2166+1,H2166,DiasNOLaborables)<=0,\"\",NETWORKDAYS(J2166+1,H2166,DiasNOLaborables))","v":""},null,null,20]
[2156,20219050143302,"2021-12-31","CORREO ELECTRÓNICO","CERTIFICACIONES DE TIEMPO, CLIMA Y EVENTOS HIDROLÓGICOS","CERTIFICACIONES DE TIEMPO Y CLIMA","SUBDIRECCIÓN DE METEOROLOGÍA","2022-01-14","CORREO ELECTRÓNICO",{"$f":"IFERROR(WORKDAY(C2167,P2167,DiasNOLaborables),\"\")","v":"2022-02-18"},{"$f":"+IF(C2167=\"\",\"\",IF(H2167=\"\",\"SIN RESPUESTA\",(IF(H2167<=J2167,\"A TIEMPO\",\"FUERA DE TIEMPO\"))))","v":"A TIEMPO"},{"$f":"IF(H2167=\"\",\"\",NETWORKDAYS(C2167+1,H2167,DiasNOLaborables))","v":10},{"$f":"IF(NETWORKDAYS(J2167+1,H2167,DiasNOLaborables)<=0,\"\",NETWORKDAYS(J2167+1,H2167,DiasNOLaborables))","v":""},null,null,35]
[2157,20219050143312,"2021-12-31","CORREO ELECTRÓNICO","SOLICITUD DE INFORMACIÓN Y DOCUMENTOS","REGISTROS AMBIENTALES","SUBDIRECCIÓN DE ESTUDIOS AMBIENTALES","2022-01-05","CORREO ELECTRÓNICO",{"$f":"IFERROR(WORKDAY(C2168,P2168,DiasNOLaborables),\"\")","v":"2022-01-28"},{"$f":"+IF(C2168=\"\",\"\",IF(H2168=\"\",\"SIN RESPUESTA\",(IF(H2168<=J2168,\"A TIEMPO\",\"FUERA DE TIEMPO\"))))","v":"A TIEMPO"},{"$f":"IF(H2168=\"\",\"\",NETWORKDAYS(C2168+1,H2168,DiasNOLaborables))","v":3},{"$f":"IF(NETWORKDAYS(J2168+1,H2168,DiasNOLaborables)<=0,\"\",NETWORKDAYS(J2168+1,H2168,DiasNOLaborables))","v":""},null,null,20]
[2158,20219910072812,"2021-12-31","CORREO ELECTRÓNICO","CERTIFICACIONES DE TIEMPO, CLIMA Y EVENTOS HIDROLÓGICOS","CERTIFICACIONES DE TIEMPO Y CLIMA","SUBDIRECCIÓN DE METEOROLOGÍA","2022-01-11","CORREO ELECTRÓNICO",{"$f":"IFERROR(WORKDAY(C2169,P2169,DiasNOLaborables),\"\")","v":"2022-02-18"},{"$f":"+IF(C2169=\"\",\"\",IF(H2169=\"\",\"SIN RESPUESTA\",(IF(H2169<=J2169,\"A TIEMPO\",\"FUERA DE TIEMPO\"))))","v":"A TIEMPO"},{"$f":"IF(H2169=\"\",\"\",NETWORKDAYS(C2169+1,H2169,DiasNOLaborables))","v":7},{"$f":"IF(NETWORKDAYS(J2169+1,H2169,DiasNOLaborables)<=0,\"\",NETWORKDAYS(J2169+1,H2169,DiasNOLaborables))","v":""},null,null,35]
[2159,20219050143332,"2021-12-31","MODULO CONTACTENOS","SOLICITUD DE INFORMACIÓN Y DOCUMENTOS","ADMINISTRATIVA","GRUPO DE ADMINISTRACIÓN Y DESARROLLO DEL TALENTO HUMANO","2022-01-14","CORREO ELECTRÓNICO",{"$f":"IFERROR(WORKDAY(C2170,P2170,DiasNOLaborables),\"\")","v":"2022-01-28"},{"$f":"+IF(C2170=\"\",\"\",IF(H2170=\"\",\"SIN RESPUESTA\",(IF(H2170<=J2170,\"A TIEMPO\",\"FUERA DE TIEMPO\"))))","v":"A TIEMPO"},{"$f":"IF(H2170=\"\",\"\",NETWORKDAYS(C2170+1,H2170,DiasNOLaborables))","v":10},{"$f":"IF(NETWORKDAYS(J2170+1,H2170,DiasNOLaborables)<=0,\"\",NETWORKDAYS(J2170+1,H2170,DiasNOLaborables))","v":""},null,null,20]
[2160,20219050143352,"2021-12-31","MODULO CONTACTENOS","SOLICITUD DE INFORMACIÓN Y DOCUMENTOS","ADMINISTRATIVA","OFICINA ASESORA JURÍDICA","2022-01-05","CORREO ELECTRÓNICO",{"$f":"IFERROR(WORKDAY(C2171,P2171,DiasNOLaborables),\"\")","v":"2022-01-28"},{"$f":"+IF(C2171=\"\",\"\",IF(H2171=\"\",\"SIN RESPUESTA\",(IF(H2171<=J2171,\"A TIEMPO\",\"FUERA DE TIEMPO\"))))","v":"A TIEMPO"},{"$f":"IF(H2171=\"\",\"\",NETWORKDAYS(C2171+1,H2171,DiasNOLaborables))","v":3},{"$f":"IF(NETWORKDAYS(J2171+1,H2171,DiasNOLaborables)<=0,\"\",NETWORKDAYS(J2171+1,H2171,DiasNOLaborables))","v":""},null,null,20]
[2161,20219050143392,"2021-12-31","MODULO CONTACTENOS","SOLICITUD DE INFORMACIÓN Y DOCUMENTOS","ADMINISTRATIVA","OFICINA ASESORA JURÍDICA","2022-01-05","CORREO ELECTRÓNICO",{"$f":"IFERROR(WORKDAY(C2172,P2172,DiasNOLaborables),\"\")","v":"2022-01-28"},{"$f":"+IF(C2172=\"\",\"\",IF(H2172=\"\",\"SIN RESPUESTA\",(IF(H2172<=J2172,\"A TIEMPO\",\"FUERA DE TIEMPO\"))))","v":"A TIEMPO"},{"$f":"IF(H2172=\"\",\"\",NETWORKDAYS(C2172+1,H2172,DiasNOLaborables))","v":3},{"$f":"IF(NETWORKDAYS(J2172+1,H2172,DiasNOLaborables)<=0,\"\",NETWORKDAYS(J2172+1,H2172,DiasNOLaborables))","v":""},null,null,20]