{"text_format":"1","workbook":"xlsx","n_sheets":3,"sheets":["Hoja1","Hoja5","Hoja2"],"not_rendered":{"charts":12,"images":0,"macros":1,"external_links":5,"defined_names":18,"comments":1,"pivot_tables":13},"unopened":[],"bounds":{"document_bytes":16777216,"sheet_cells":100000,"rows_first":2000,"rows_last":500,"rows_between":2000,"halvings":0,"cell_chars":16384,"cell_head_chars":4096},"cells_cut":0,"cells_raw":0,"read":"whole","date_system":"1900"}

{"sheet":"Hoja1","index":0,"n_rows":3868,"n_cols":31,"rows_kept":3868,"cut":false,"hidden":false,"merged":[[9,11,9,14],[9,3,9,5],[9,6,9,9],[5,1,5,2],[7,1,7,2],[9,0,9,2],[0,0,3,2],[0,3,3,12],[0,13,0,14],[1,13,1,14],[2,13,2,14],[3,13,3,14]]}
[null,null,null,null,null,null,null,null,null,null,null,null,null,"Código: M-AC-F012"]
[null,null,null,null,null,null,null,null,null,null,null,null,null,"Versión: 01",null,null,null,null,null,null,null,null,null,null,null,"TIPO DE ENTIDAD O USUARIO",null,null,null,null,"DÍAS NO  LABORABLES "]
[null,null,null,null,null,null,null,null,null,null,null,null,null,"Fecha: 15/01/2017",null,null,null,null,null,null,null,null,null,null,null,"CIUDADANO",null,null,null,null,43831]
[null,null,null,null,null,null,null,null,null,null,null,null,null,"Página: 1 de 1",null,null,null,null,null,null,null,null,null,null,null,"ACADEMIA ",null,null,null,null,43834]
[null,null,null,null,null,null,null,null,null,null,null,null,null,null,null,null,null,null,null,null,null,null,null,null,null,"EMPRESA PRIVADA",null,null,null,null,43835]
[null,"Dependencia:",null,"GRUPO DE SERVICIO AL CIUDADANO",null,null,null,null,null,null,null,null,null,null,null,null,null,null,null,null,null,null,null,null,null,"ENTIDAD PÚBLICA",null,null,null,null,43836]
[null,null,null,null,null,null,null,null,null,null,null,null,null,null,null,null,null,null,null,null,null,null,null,null,null,"EXTRANJERO",null,null,null,null,43841]
[null,"Período de Reporte",null,"SEGUNDO TRIMESTRE 2020",null,null,null,null,null,null,null,null,null,null,null,null,null,null,null,null,null,null,null,null,null,"FUNCIONARIO IDEAM",null,null,null,null,43842]
[null,null,null,null,null,null,null,null,null,null,null,null,null,null,null,null,null,null,null,null,null,null,null,null,null,"ONG/ORG",null,null,null,null,43848]
["DATOS DEL REQUERIMIENTO",null,null,"POSTURA DE REQUERIMIENTO",null,null,"RESOLUCION DEL REQUERIMIENTO",null,null,null,null,"ANÁLISIS DE RESPUESTAS",null,null,null,null,null,null,null,null,null,null,null,null,null,null,null,null,null,null,43849]
["No.","No.  DE REQUERIMIENTO","FECHA DE REQUERIMIENTO\n(dd/mm/aaaa)","MEDIO RECEPCIÓN","TIPO DE REQUERIMIENTO","PRODUCTO O SERVICIO AL CUAL SE REFIERE EL REQUERIMIENTO","¿ EL REQUERIMIENTO FUE ESCALADO?","DEPENDENCIA QUE DA RESPUESTA O A LA QUE SE DIRECCIONA","FECHA DE RESOLUCIÓN DEL REQUERIMIENTO\n(dd/mm/aaaa)","CANAL POR EL CUAL FUE RESUELTO EL REQUERIMIENTO","OBSERVACIONES","FECHA OPORTUNA DE RESPUESTA","ESTADO (A TIEMPO, FUERA DE TIEMPO, SIN RESPUESTA)","TIEMPO QUE TARDÓ EN  DAR RESPUESTA","DÍAS VENCIDOS CON RESPECTO A FECHA OPORTUNA DE RESPUESTA",null,null,null,null,null,null,null,null,null,null,"GÉNERO",null,null,null,null,43855]
[{"$f":"IF(B12<>\"\",1,\"\")","v":1},20200401234224,43922,"WEB (MÓDULO DE SOLICITUD DE INFORMACIÓN HIDROMETEOROLÓGICA)","SOLICITUD DE INFORMACIÓN Y DOCUMENTOS","SOLICITUD DE INFORMACIÓN HIDROMETEOROLÓGICA","NO","GRUPO DE ATENCIÓN AL CIUDADANO",43936,null,null,{"$f":"IFERROR(WORKDAY(C12,R12,DiasNOLaborables),\"\")","v":43955},{"$f":"+IF(C12=\"\",\"\",IF(I12=\"\",\"\",(IF(I12<=L12,\"A TIEMPO\",\"FUERA DE TIEMPO\"))))","v":"A TIEMPO"},{"$f":"IF(I12=\"\",\"\",NETWORKDAYS([4]Hoja1!C12+1,[4]Hoja1!P12,DiasNOLaborables))","v":8},{"$f":"IF(NETWORKDAYS(L12+1,I12,DiasNOLaborables)<=0,\"\",NETWORKDAYS(L12+1,I12,DiasNOLaborables))","v":""},null,null,{"$f":"IFERROR(VLOOKUP(E12,$Z$50:$AA$63,2),\"\")","v":20},null,null,null,null,null,null,null,"FEMENINO",null,null,null,null,43856]
[{"$f":"IF(A12<>\"\",A12+1,\"\")","v":2},20200401205707,43922,"WEB (MÓDULO DE SOLICITUD DE INFORMACIÓN HIDROMETEOROLÓGICA)","SOLICITUD DE INFORMACIÓN Y DOCUMENTOS","SOLICITUD DE INFORMACIÓN HIDROMETEOROLÓGICA","NO","GRUPO DE ATENCIÓN AL CIUDADANO",43936,null,null,{"$f":"IFERROR(WORKDAY(C13,R13,DiasNOLaborables),\"\")","v":43955},{"$f":"+IF(C13=\"\",\"\",IF(I13=\"\",\"\",(IF(I13<=L13,\"A TIEMPO\",\"FUERA DE TIEMPO\"))))","v":"A TIEMPO"},{"$f":"IF(I13=\"\",\"\",NETWORKDAYS([4]Hoja1!C13+1,[4]Hoja1!P13,DiasNOLaborables))","v":8},"",null,null,{"$f":"IFERROR(VLOOKUP(E13,$Z$50:$AA$63,2),\"\")","v":20},null,null,null,null,null,null,null,"MASCULINO",null,null,null,null,43862]
[{"$f":"IF(B13<>\"\",A13+1,\"\")","v":3},20200401205014,43922,"WEB (MÓDULO DE SOLICITUD DE INFORMACIÓN HIDROMETEOROLÓGICA)","SOLICITUD DE INFORMACIÓN Y DOCUMENTOS","SOLICITUD DE INFORMACIÓN HIDROMETEOROLÓGICA","NO","GRUPO DE ATENCIÓN AL CIUDADANO",43936,null,null,{"$f":"IFERROR(WORKDAY(C14,R14,DiasNOLaborables),\"\")","v":43955},{"$f":"+IF(C14=\"\",\"\",IF(I14=\"\",\"\",(IF(I14<=L14,\"A TIEMPO\",\"FUERA DE TIEMPO\"))))","v":"A TIEMPO"},{"$f":"IF(I14=\"\",\"\",NETWORKDAYS([4]Hoja1!C14+1,[4]Hoja1!P14,DiasNOLaborables))","v":8},"",null,null,20,null,null,null,null,null,null,null,"PERSONA JURÍDICA",null,null,null,null,43863]
[4,20200401183445,43922,"WEB (MÓDULO DE SOLICITUD DE INFORMACIÓN HIDROMETEOROLÓGICA)","SOLICITUD DE INFORMACIÓN Y DOCUMENTOS","SOLICITUD DE INFORMACIÓN HIDROMETEOROLÓGICA","NO","GRUPO DE ATENCIÓN AL CIUDADANO",43936,null,null,{"$f":"IFERROR(WORKDAY(C15,R15,DiasNOLaborables),\"\")","v":43955},{"$f":"+IF(C15=\"\",\"\",IF(I15=\"\",\"\",(IF(I15<=L15,\"A TIEMPO\",\"FUERA DE TIEMPO\"))))","v":"A TIEMPO"},{"$f":"IF(I15=\"\",\"\",NETWORKDAYS([4]Hoja1!C15+1,[4]Hoja1!P15,DiasNOLaborables))","v":8},"",null,null,20,null,null,null,null,null,null,null,null,null,null,null,null,43869]
[5,20200401182047,43922,"WEB (MÓDULO DE SOLICITUD DE INFORMACIÓN HIDROMETEOROLÓGICA)","SOLICITUD DE INFORMACIÓN Y DOCUMENTOS","SOLICITUD DE INFORMACIÓN HIDROMETEOROLÓGICA","NO","GRUPO DE ATENCIÓN AL CIUDADANO",43936,null,null,{"$f":"IFERROR(WORKDAY(C16,R16,DiasNOLaborables),\"\")","v":43955},{"$f":"+IF(C16=\"\",\"\",IF(I16=\"\",\"\",(IF(I16<=L16,\"A TIEMPO\",\"FUERA DE TIEMPO\"))))","v":"A TIEMPO"},{"$f":"IF(I16=\"\",\"\",NETWORKDAYS([4]Hoja1!C16+1,[4]Hoja1!P16,DiasNOLaborables))","v":8},"",null,null,20,null,null,null,null,null,null,null,"DEPENDENCIA QUE DA RESPUESTA O LA QUE SE DIRECCIONA",null,null,null,null,43870]
[6,20200401181607,43922,"WEB (MÓDULO DE SOLICITUD DE INFORMACIÓN HIDROMETEOROLÓGICA)","SOLICITUD DE INFORMACIÓN Y DOCUMENTOS","SOLICITUD DE INFORMACIÓN HIDROMETEOROLÓGICA","NO","GRUPO DE ATENCIÓN AL CIUDADANO",43936,null,null,{"$f":"IFERROR(WORKDAY(C17,R17,DiasNOLaborables),\"\")","v":43955},{"$f":"+IF(C17=\"\",\"\",IF(I17=\"\",\"\",(IF(I17<=L17,\"A TIEMPO\",\"FUERA DE TIEMPO\"))))","v":"A TIEMPO"},{"$f":"IF(I17=\"\",\"\",NETWORKDAYS([4]Hoja1!C17+1,[4]Hoja1!P17,DiasNOLaborables))","v":8},"",null,null,20,null,null,null,null,null,null,null,"AREA OPERATIVA No. 1",null,null,null,null,43876]
[7,20200401181427,43922,"WEB (MÓDULO DE SOLICITUD DE INFORMACIÓN HIDROMETEOROLÓGICA)","SOLICITUD DE INFORMACIÓN Y DOCUMENTOS","SOLICITUD DE INFORMACIÓN HIDROMETEOROLÓGICA","NO","GRUPO DE ATENCIÓN AL CIUDADANO",43936,null,null,{"$f":"IFERROR(WORKDAY(C18,R18,DiasNOLaborables),\"\")","v":43955},{"$f":"+IF(C18=\"\",\"\",IF(I18=\"\",\"\",(IF(I18<=L18,\"A TIEMPO\",\"FUERA DE TIEMPO\"))))","v":"A TIEMPO"},{"$f":"IF(I18=\"\",\"\",NETWORKDAYS([4]Hoja1!C18+1,[4]Hoja1!P18,DiasNOLaborables))","v":8},"",null,null,20,null,null,null,null,null,null,null,"AREA OPERATIVA No. 2",null,null,null,null,43877]
[8,20200401174453,43922,"WEB (MÓDULO DE SOLICITUD DE INFORMACIÓN HIDROMETEOROLÓGICA)","SOLICITUD DE INFORMACIÓN Y DOCUMENTOS","SOLICITUD DE INFORMACIÓN HIDROMETEOROLÓGICA","NO","GRUPO DE ATENCIÓN AL CIUDADANO",43936,null,null,{"$f":"IFERROR(WORKDAY(C19,R19,DiasNOLaborables),\"\")","v":43955},{"$f":"+IF(C19=\"\",\"\",IF(I19=\"\",\"\",(IF(I19<=L19,\"A TIEMPO\",\"FUERA DE TIEMPO\"))))","v":"A TIEMPO"},{"$f":"IF(I19=\"\",\"\",NETWORKDAYS([4]Hoja1!C19+1,[4]Hoja1!P19,DiasNOLaborables))","v":8},"",null,null,20,null,null,null,null,null,null,null,"AREA OPERATIVA No. 3",null,null,null,null,43883]
[9,20200401164848,43922,"WEB (MÓDULO DE SOLICITUD DE INFORMACIÓN HIDROMETEOROLÓGICA)","SOLICITUD DE INFORMACIÓN Y DOCUMENTOS","SOLICITUD DE INFORMACIÓN HIDROMETEOROLÓGICA","NO","GRUPO DE ATENCIÓN AL CIUDADANO",43936,null,null,{"$f":"IFERROR(WORKDAY(C20,R20,DiasNOLaborables),\"\")","v":43955},{"$f":"+IF(C20=\"\",\"\",IF(I20=\"\",\"\",(IF(I20<=L20,\"A TIEMPO\",\"FUERA DE TIEMPO\"))))","v":"A TIEMPO"},{"$f":"IF(I20=\"\",\"\",NETWORKDAYS([4]Hoja1!C20+1,[4]Hoja1!P20,DiasNOLaborables))","v":8},"",null,null,20,null,null,null,null,null,null,null,"AREA OPERATIVA No. 4",null,null,null,null,43884]
[10,20200401163320,43922,"WEB (MÓDULO DE SOLICITUD DE INFORMACIÓN HIDROMETEOROLÓGICA)","SOLICITUD DE INFORMACIÓN Y DOCUMENTOS","SOLICITUD DE INFORMACIÓN HIDROMETEOROLÓGICA","NO","GRUPO DE ATENCIÓN AL CIUDADANO",43936,null,null,{"$f":"IFERROR(WORKDAY(C21,R21,DiasNOLaborables),\"\")","v":43955},{"$f":"+IF(C21=\"\",\"\",IF(I21=\"\",\"\",(IF(I21<=L21,\"A TIEMPO\",\"FUERA DE TIEMPO\"))))","v":"A TIEMPO"},{"$f":"IF(I21=\"\",\"\",NETWORKDAYS([4]Hoja1!C21+1,[4]Hoja1!P21,DiasNOLaborables))","v":8},"",null,null,20,null,null,null,null,null,null,null,"AREA OPERATIVA No. 5",null,null,null,null,43890]
[11,20200401161505,43922,"WEB (MÓDULO DE SOLICITUD DE INFORMACIÓN HIDROMETEOROLÓGICA)","SOLICITUD DE INFORMACIÓN Y DOCUMENTOS","SOLICITUD DE INFORMACIÓN HIDROMETEOROLÓGICA","NO","GRUPO DE ATENCIÓN AL CIUDADANO",43936,null,null,{"$f":"IFERROR(WORKDAY(C22,R22,DiasNOLaborables),\"\")","v":43955},{"$f":"+IF(C22=\"\",\"\",IF(I22=\"\",\"\",(IF(I22<=L22,\"A TIEMPO\",\"FUERA DE TIEMPO\"))))","v":"A TIEMPO"},{"$f":"IF(I22=\"\",\"\",NETWORKDAYS([4]Hoja1!C22+1,[4]Hoja1!P22,DiasNOLaborables))","v":8},"",null,null,20,null,null,null,null,null,null,null,"AREA OPERATIVA No. 6",null,null,null,null,43891]
[12,20200401124000,43922,"WEB (MÓDULO DE SOLICITUD DE INFORMACIÓN HIDROMETEOROLÓGICA)","SOLICITUD DE INFORMACIÓN Y DOCUMENTOS","SOLICITUD DE INFORMACIÓN HIDROMETEOROLÓGICA","NO","GRUPO DE ATENCIÓN AL CIUDADANO",43936,null,null,{"$f":"IFERROR(WORKDAY(C23,R23,DiasNOLaborables),\"\")","v":43955},{"$f":"+IF(C23=\"\",\"\",IF(I23=\"\",\"\",(IF(I23<=L23,\"A TIEMPO\",\"FUERA DE TIEMPO\"))))","v":"A TIEMPO"},{"$f":"IF(I23=\"\",\"\",NETWORKDAYS([4]Hoja1!C23+1,[4]Hoja1!P23,DiasNOLaborables))","v":8},"",null,null,20,null,null,null,null,null,null,null,"AREA OPERATIVA No. 7",null,null,null,null,43897]
[13,20200401110727,43922,"WEB (MÓDULO DE SOLICITUD DE INFORMACIÓN HIDROMETEOROLÓGICA)","SOLICITUD DE INFORMACIÓN Y DOCUMENTOS","SOLICITUD DE INFORMACIÓN HIDROMETEOROLÓGICA","NO","GRUPO DE ATENCIÓN AL CIUDADANO",43936,null,null,{"$f":"IFERROR(WORKDAY(C24,R24,DiasNOLaborables),\"\")","v":43955},{"$f":"+IF(C24=\"\",\"\",IF(I24=\"\",\"\",(IF(I24<=L24,\"A TIEMPO\",\"FUERA DE TIEMPO\"))))","v":"A TIEMPO"},{"$f":"IF(I24=\"\",\"\",NETWORKDAYS([4]Hoja1!C24+1,[4]Hoja1!P24,DiasNOLaborables))","v":8},"",null,null,20,null,null,null,null,null,null,null,"AREA OPERATIVA No. 8",null,null,null,null,43898]
[14,20200401105727,43922,"WEB (MÓDULO DE SOLICITUD DE INFORMACIÓN HIDROMETEOROLÓGICA)","SOLICITUD DE INFORMACIÓN Y DOCUMENTOS","SOLICITUD DE INFORMACIÓN HIDROMETEOROLÓGICA","NO","GRUPO DE ATENCIÓN AL CIUDADANO",43936,null,null,{"$f":"IFERROR(WORKDAY(C25,R25,DiasNOLaborables),\"\")","v":43955},{"$f":"+IF(C25=\"\",\"\",IF(I25=\"\",\"\",(IF(I25<=L25,\"A TIEMPO\",\"FUERA DE TIEMPO\"))))","v":"A TIEMPO"},{"$f":"IF(I25=\"\",\"\",NETWORKDAYS([4]Hoja1!C25+1,[4]Hoja1!P25,DiasNOLaborables))","v":8},"",null,null,20,null,null,null,null,null,null,null,"AREA OPERATIVA No. 9",null,null,null,null,43904]
[15,20200401104313,43922,"WEB (MÓDULO DE SOLICITUD DE INFORMACIÓN HIDROMETEOROLÓGICA)","SOLICITUD DE INFORMACIÓN Y DOCUMENTOS","SOLICITUD DE INFORMACIÓN HIDROMETEOROLÓGICA","NO","GRUPO DE ATENCIÓN AL CIUDADANO",43936,null,null,{"$f":"IFERROR(WORKDAY(C26,R26,DiasNOLaborables),\"\")","v":43955},{"$f":"+IF(C26=\"\",\"\",IF(I26=\"\",\"\",(IF(I26<=L26,\"A TIEMPO\",\"FUERA DE TIEMPO\"))))","v":"A TIEMPO"},{"$f":"IF(I26=\"\",\"\",NETWORKDAYS([4]Hoja1!C26+1,[4]Hoja1!P26,DiasNOLaborables))","v":8},"",null,null,20,null,null,null,null,null,null,null,"AREA OPERATIVA No. 10",null,null,null,null,43905]
[16,20209050028162,43922,"MODULO CONTACTENOS","SOLICITUD DE INFORMACIÓN Y DOCUMENTOS","SOLICITUD DE INFORMACIÓN HIDROMETEOROLÓGICA","NO","GRUPO DE ATENCIÓN AL CIUDADANO",43936,null,null,{"$f":"IFERROR(WORKDAY(C27,R27,DiasNOLaborables),\"\")","v":43955},{"$f":"+IF(C27=\"\",\"\",IF(I27=\"\",\"\",(IF(I27<=L27,\"A TIEMPO\",\"FUERA DE TIEMPO\"))))","v":"A TIEMPO"},{"$f":"IF(I27=\"\",\"\",NETWORKDAYS([4]Hoja1!C27+1,[4]Hoja1!P27,DiasNOLaborables))","v":8},"",null,null,20,null,null,null,null,null,null,null,"AREA OPERATIVA No. 11",null,null,null,null,43911]
[17,20209050028172,43922,"MODULO CONTACTENOS","SOLICITUD DE INFORMACIÓN Y DOCUMENTOS","SOLICITUD DE INFORMACIÓN HIDROMETEOROLÓGICA","NO","GRUPO DE ATENCIÓN AL CIUDADANO",43936,null,null,{"$f":"IFERROR(WORKDAY(C28,R28,DiasNOLaborables),\"\")","v":43955},{"$f":"+IF(C28=\"\",\"\",IF(I28=\"\",\"\",(IF(I28<=L28,\"A TIEMPO\",\"FUERA DE TIEMPO\"))))","v":"A TIEMPO"},{"$f":"IF(I28=\"\",\"\",NETWORKDAYS([4]Hoja1!C28+1,[4]Hoja1!P28,DiasNOLaborables))","v":8},"",null,null,20,null,null,null,null,null,null,null,"DIRECCIÓN GENERAL",null,null,null,null,43912]
[18,20209050028192,43922,"MODULO CONTACTENOS","SOLICITUD DE INFORMACIÓN Y DOCUMENTOS","SOLICITUD DE INFORMACIÓN HIDROMETEOROLÓGICA","NO","GRUPO DE ATENCIÓN AL CIUDADANO",43936,null,null,{"$f":"IFERROR(WORKDAY(C29,R29,DiasNOLaborables),\"\")","v":43955},{"$f":"+IF(C29=\"\",\"\",IF(I29=\"\",\"\",(IF(I29<=L29,\"A TIEMPO\",\"FUERA DE TIEMPO\"))))","v":"A TIEMPO"},{"$f":"IF(I29=\"\",\"\",NETWORKDAYS([4]Hoja1!C29+1,[4]Hoja1!P29,DiasNOLaborables))","v":8},"",null,null,20,null,null,null,null,null,null,null,"GRUPO DE ADMINISTRACIÓN Y DESARROLLO DEL TALENTO HUMANO",null,null,null,null,43913]
[19,20209050028202,43922,"MODULO CONTACTENOS","SOLICITUD DE INFORMACIÓN Y DOCUMENTOS","SOLICITUD DE INFORMACIÓN HIDROMETEOROLÓGICA","NO","GRUPO DE ATENCIÓN AL CIUDADANO",43936,null,null,{"$f":"IFERROR(WORKDAY(C30,R30,DiasNOLaborables),\"\")","v":43955},{"$f":"+IF(C30=\"\",\"\",IF(I30=\"\",\"\",(IF(I30<=L30,\"A TIEMPO\",\"FUERA DE TIEMPO\"))))","v":"A TIEMPO"},{"$f":"IF(I30=\"\",\"\",NETWORKDAYS([4]Hoja1!C30+1,[4]Hoja1!P30,DiasNOLaborables))","v":8},"",null,null,20,null,null,null,null,null,null,null,"GRUPO DE COMUNICACIONES",null,null,null,null,43918]
[20,20209050028352,43922,"MODULO CONTACTENOS","SOLICITUD DE INFORMACIÓN Y DOCUMENTOS","SOLICITUD DE INFORMACIÓN HIDROMETEOROLÓGICA","NO","GRUPO DE ATENCIÓN AL CIUDADANO",43936,null,null,{"$f":"IFERROR(WORKDAY(C31,R31,DiasNOLaborables),\"\")","v":43955},{"$f":"+IF(C31=\"\",\"\",IF(I31=\"\",\"\",(IF(I31<=L31,\"A TIEMPO\",\"FUERA DE TIEMPO\"))))","v":"A TIEMPO"},{"$f":"IF(I31=\"\",\"\",NETWORKDAYS([4]Hoja1!C31+1,[4]Hoja1!P31,DiasNOLaborables))","v":4},"",null,null,20,null,null,null,null,null,null,null,"GRUPO DE CONTABILIDAD",null,null,null,null,43919]
[21,20209050028402,43922,"MODULO CONTACTENOS","SOLICITUD DE INFORMACIÓN Y DOCUMENTOS","SOLICITUD DE INFORMACIÓN HIDROMETEOROLÓGICA","NO","GRUPO DE ATENCIÓN AL CIUDADANO",43936,null,null,{"$f":"IFERROR(WORKDAY(C32,R32,DiasNOLaborables),\"\")","v":43955},{"$f":"+IF(C32=\"\",\"\",IF(I32=\"\",\"\",(IF(I32<=L32,\"A TIEMPO\",\"FUERA DE TIEMPO\"))))","v":"A TIEMPO"},{"$f":"IF(I32=\"\",\"\",NETWORKDAYS([4]Hoja1!C32+1,[4]Hoja1!P32,DiasNOLaborables))","v":4},"",null,null,20,null,null,null,null,null,null,null,"GRUPO DE CONTROL DISCIPLINARIO INTERNO",null,null,null,null,43925]
[22,20209050028432,43922,"MODULO CONTACTENOS","SOLICITUD DE INFORMACIÓN Y DOCUMENTOS","SOLICITUD DE INFORMACIÓN HIDROMETEOROLÓGICA","NO","GRUPO DE ATENCIÓN AL CIUDADANO",43936,null,null,{"$f":"IFERROR(WORKDAY(C33,R33,DiasNOLaborables),\"\")","v":43955},{"$f":"+IF(C33=\"\",\"\",IF(I33=\"\",\"\",(IF(I33<=L33,\"A TIEMPO\",\"FUERA DE TIEMPO\"))))","v":"A TIEMPO"},{"$f":"IF(I33=\"\",\"\",NETWORKDAYS([4]Hoja1!C33+1,[4]Hoja1!P33,DiasNOLaborables))","v":4},"",null,null,20,null,null,null,null,null,null,null,"GRUPO DE GESTIÓN DOCUMENTAL Y CENTRO DE DOCUMENTACIÓN",null,null,null,null,43926]
[23,20207090000872,43922,"MODULO CONTACTENOS","SOLICITUD DE INFORMACIÓN Y DOCUMENTOS","SOLICITUD DE INFORMACIÓN HIDROMETEOROLÓGICA","NO","GRUPO DE ATENCIÓN AL CIUDADANO",43936,null,null,{"$f":"IFERROR(WORKDAY(C34,R34,DiasNOLaborables),\"\")","v":43955},{"$f":"+IF(C34=\"\",\"\",IF(I34=\"\",\"\",(IF(I34<=L34,\"A TIEMPO\",\"FUERA DE TIEMPO\"))))","v":"A TIEMPO"},{"$f":"IF(I34=\"\",\"\",NETWORKDAYS([4]Hoja1!C34+1,[4]Hoja1!P34,DiasNOLaborables))","v":4},"",null,null,20,null,null,null,null,null,null,null,"GRUPO DE PRESUPUESTO",null,null,null,null,43930]
[24,20209050028452,43922,"MODULO CONTACTENOS","SOLICITUD DE INFORMACIÓN Y DOCUMENTOS","SOLICITUD DE INFORMACIÓN HIDROMETEOROLÓGICA","NO","GRUPO DE ATENCIÓN AL CIUDADANO",43936,null,null,{"$f":"IFERROR(WORKDAY(C35,R35,DiasNOLaborables),\"\")","v":43955},{"$f":"+IF(C35=\"\",\"\",IF(I35=\"\",\"\",(IF(I35<=L35,\"A TIEMPO\",\"FUERA DE TIEMPO\"))))","v":"A TIEMPO"},{"$f":"IF(I35=\"\",\"\",NETWORKDAYS([4]Hoja1!C35+1,[4]Hoja1!P35,DiasNOLaborables))","v":4},"",null,null,20,null,null,null,null,null,null,null,"GRUPO DE SERVICIO AL CIUDADANO",null,null,null,null,43931]
[25,20209050028462,43922,"MODULO CONTACTENOS","SOLICITUD DE INFORMACIÓN Y DOCUMENTOS","SOLICITUD DE INFORMACIÓN HIDROMETEOROLÓGICA","NO","GRUPO DE ATENCIÓN AL CIUDADANO",43937,null,null,{"$f":"IFERROR(WORKDAY(C36,R36,DiasNOLaborables),\"\")","v":43955},{"$f":"+IF(C36=\"\",\"\",IF(I36=\"\",\"\",(IF(I36<=L36,\"A TIEMPO\",\"FUERA DE TIEMPO\"))))","v":"A TIEMPO"},{"$f":"IF(I36=\"\",\"\",NETWORKDAYS([4]Hoja1!C36+1,[4]Hoja1!P36,DiasNOLaborables))","v":7},{"$f":"IF(NETWORKDAYS(L36+1,I36,DiasNOLaborables)<=0,\"\",NETWORKDAYS(L36+1,I36,DiasNOLaborables))","v":""},null,null,20,null,null,null,null,null,null,null,"GRUPO DE SERVICIOS ADMINISTRATIVOS",null,null,null,null,43932]
[26,20209050028522,43922,"MODULO CONTACTENOS","SOLICITUD DE INFORMACIÓN Y DOCUMENTOS","SOLICITUD DE INFORMACIÓN HIDROMETEOROLÓGICA","NO","GRUPO DE ATENCIÓN AL CIUDADANO",43937,null,null,{"$f":"IFERROR(WORKDAY(C37,R37,DiasNOLaborables),\"\")","v":43955},{"$f":"+IF(C37=\"\",\"\",IF(I37=\"\",\"\",(IF(I37<=L37,\"A TIEMPO\",\"FUERA DE TIEMPO\"))))","v":"A TIEMPO"},{"$f":"IF(I37=\"\",\"\",NETWORKDAYS([4]Hoja1!C37+1,[4]Hoja1!P37,DiasNOLaborables))","v":7},"",null,null,{"$f":"IFERROR(VLOOKUP(E37,$Z$50:$AA$63,2),\"\")","v":20},null,null,null,null,null,null,null,"GRUPO DE TESORERÍA",null,null,null,null,43933]
[27,20209050028532,43922,"MODULO CONTACTENOS","SOLICITUD DE INFORMACIÓN Y DOCUMENTOS","SOLICITUD DE INFORMACIÓN HIDROMETEOROLÓGICA","NO","GRUPO DE ATENCIÓN AL CIUDADANO",43937,null,null,{"$f":"IFERROR(WORKDAY(C38,R38,DiasNOLaborables),\"\")","v":43955},{"$f":"+IF(C38=\"\",\"\",IF(I38=\"\",\"\",(IF(I38<=L38,\"A TIEMPO\",\"FUERA DE TIEMPO\"))))","v":"A TIEMPO"},{"$f":"IF(I38=\"\",\"\",NETWORKDAYS([4]Hoja1!C38+1,[4]Hoja1!P38,DiasNOLaborables))","v":7},"",null,null,20,null,null,null,null,null,null,null,"OFICINA ASESORA DE PLANEACIÓN",null,null,null,null,43939]
[28,20209050028562,43922,"MODULO CONTACTENOS","SOLICITUD DE INFORMACIÓN Y DOCUMENTOS","SOLICITUD DE INFORMACIÓN HIDROMETEOROLÓGICA","NO","GRUPO DE ATENCIÓN AL CIUDADANO",43937,null,null,{"$f":"IFERROR(WORKDAY(C39,R39,DiasNOLaborables),\"\")","v":43955},{"$f":"+IF(C39=\"\",\"\",IF(I39=\"\",\"\",(IF(I39<=L39,\"A TIEMPO\",\"FUERA DE TIEMPO\"))))","v":"A TIEMPO"},{"$f":"IF(I39=\"\",\"\",NETWORKDAYS([4]Hoja1!C39+1,[4]Hoja1!P39,DiasNOLaborables))","v":7},"",null,null,20,null,null,null,null,null,null,null,"OFICINA ASESORA JURÍDICA",null,null,null,null,43940]
[29,20209050028592,43922,"MODULO CONTACTENOS","SOLICITUD DE INFORMACIÓN Y DOCUMENTOS","SOLICITUD DE INFORMACIÓN HIDROMETEOROLÓGICA","NO","GRUPO DE ATENCIÓN AL CIUDADANO",43937,null,null,{"$f":"IFERROR(WORKDAY(C40,R40,DiasNOLaborables),\"\")","v":43955},{"$f":"+IF(C40=\"\",\"\",IF(I40=\"\",\"\",(IF(I40<=L40,\"A TIEMPO\",\"FUERA DE TIEMPO\"))))","v":"A TIEMPO"},{"$f":"IF(I40=\"\",\"\",NETWORKDAYS([4]Hoja1!C40+1,[4]Hoja1!P40,DiasNOLaborables))","v":7},"",null,null,20,null,null,null,null,null,null,null,"OFICINA DE CONTROL INTERNO",null,null,null,null,43946]
[30,20200402221515,43923,"WEB (MÓDULO DE SOLICITUD DE INFORMACIÓN HIDROMETEOROLÓGICA)","SOLICITUD DE INFORMACIÓN Y DOCUMENTOS","SOLICITUD DE INFORMACIÓN HIDROMETEOROLÓGICA","NO","GRUPO DE ATENCIÓN AL CIUDADANO",43937,null,null,{"$f":"IFERROR(WORKDAY(C41,R41,DiasNOLaborables),\"\")","v":43956},{"$f":"+IF(C41=\"\",\"\",IF(I41=\"\",\"\",(IF(I41<=L41,\"A TIEMPO\",\"FUERA DE TIEMPO\"))))","v":"A TIEMPO"},{"$f":"IF(I41=\"\",\"\",NETWORKDAYS([4]Hoja1!C41+1,[4]Hoja1!P41,DiasNOLaborables))","v":7},{"$f":"IF(NETWORKDAYS(L41+1,I41,DiasNOLaborables)<=0,\"\",NETWORKDAYS(L41+1,I41,DiasNOLaborables))","v":""},null,null,20,null,null,null,null,null,null,null,"OFICINA DE INFORMÁTICA",null,null,null,null,43947]
[31,20200402215042,43923,"WEB (MÓDULO DE SOLICITUD DE INFORMACIÓN HIDROMETEOROLÓGICA)","SOLICITUD DE INFORMACIÓN Y DOCUMENTOS","SOLICITUD DE INFORMACIÓN HIDROMETEOROLÓGICA","NO","GRUPO DE ATENCIÓN AL CIUDADANO",43937,null,null,{"$f":"IFERROR(WORKDAY(C42,R42,DiasNOLaborables),\"\")","v":43956},{"$f":"+IF(C42=\"\",\"\",IF(I42=\"\",\"\",(IF(I42<=L42,\"A TIEMPO\",\"FUERA DE TIEMPO\"))))","v":"A TIEMPO"},{"$f":"IF(I42=\"\",\"\",NETWORKDAYS([4]Hoja1!C42+1,[4]Hoja1!P42,DiasNOLaborables))","v":7},"",null,null,20,null,null,null,null,null,null,null,"OFICINA DEL SERVICIO DE PRONÓSTICOS Y ALERTAS",null,null,null,null,43952]
[32,20200402214516,43923,"WEB (MÓDULO DE SOLICITUD DE INFORMACIÓN HIDROMETEOROLÓGICA)","SOLICITUD DE INFORMACIÓN Y DOCUMENTOS","SOLICITUD DE INFORMACIÓN HIDROMETEOROLÓGICA","NO","GRUPO DE ATENCIÓN AL CIUDADANO",43937,null,null,{"$f":"IFERROR(WORKDAY(C43,R43,DiasNOLaborables),\"\")","v":43956},{"$f":"+IF(C43=\"\",\"\",IF(I43=\"\",\"\",(IF(I43<=L43,\"A TIEMPO\",\"FUERA DE TIEMPO\"))))","v":"A TIEMPO"},{"$f":"IF(I43=\"\",\"\",NETWORKDAYS([4]Hoja1!C43+1,[4]Hoja1!P43,DiasNOLaborables))","v":7},"",null,null,20,null,null,null,null,null,null,null,"SECRETARÍA GENERAL",null,null,null,null,43953]
[33,20200402214229,43923,"WEB (MÓDULO DE SOLICITUD DE INFORMACIÓN HIDROMETEOROLÓGICA)","SOLICITUD DE INFORMACIÓN Y DOCUMENTOS","SOLICITUD DE INFORMACIÓN HIDROMETEOROLÓGICA","NO","GRUPO DE ATENCIÓN AL CIUDADANO",43937,null,null,{"$f":"IFERROR(WORKDAY(C44,R44,DiasNOLaborables),\"\")","v":43956},{"$f":"+IF(C44=\"\",\"\",IF(I44=\"\",\"\",(IF(I44<=L44,\"A TIEMPO\",\"FUERA DE TIEMPO\"))))","v":"A TIEMPO"},{"$f":"IF(I44=\"\",\"\",NETWORKDAYS([4]Hoja1!C44+1,[4]Hoja1!P44,DiasNOLaborables))","v":7},"",null,null,20,null,null,null,null,null,null,null,"SUBDIRECCIÓN DE ECOSISTEMAS E INFORMACIÓN AMBIENTAL",null,null,null,null,43954]
[34,20200402213712,43923,"WEB (MÓDULO DE SOLICITUD DE INFORMACIÓN HIDROMETEOROLÓGICA)","SOLICITUD DE INFORMACIÓN Y DOCUMENTOS","SOLICITUD DE INFORMACIÓN HIDROMETEOROLÓGICA","NO","GRUPO DE ATENCIÓN AL CIUDADANO",43937,null,null,{"$f":"IFERROR(WORKDAY(C45,R45,DiasNOLaborables),\"\")","v":43956},{"$f":"+IF(C45=\"\",\"\",IF(I45=\"\",\"\",(IF(I45<=L45,\"A TIEMPO\",\"FUERA DE TIEMPO\"))))","v":"A TIEMPO"},{"$f":"IF(I45=\"\",\"\",NETWORKDAYS([4]Hoja1!C45+1,[4]Hoja1!P45,DiasNOLaborables))","v":8},"",null,null,20,null,null,null,null,null,null,null,"SUBDIRECCIÓN DE ESTUDIOS AMBIENTALES",null,null,null,null,43960]
[35,20200402213058,43923,"WEB (MÓDULO DE SOLICITUD DE INFORMACIÓN HIDROMETEOROLÓGICA)","SOLICITUD DE INFORMACIÓN Y DOCUMENTOS","SOLICITUD DE INFORMACIÓN HIDROMETEOROLÓGICA","NO","GRUPO DE ATENCIÓN AL CIUDADANO",43937,null,null,{"$f":"IFERROR(WORKDAY(C46,R46,DiasNOLaborables),\"\")","v":43956},{"$f":"+IF(C46=\"\",\"\",IF(I46=\"\",\"\",(IF(I46<=L46,\"A TIEMPO\",\"FUERA DE TIEMPO\"))))","v":"A TIEMPO"},{"$f":"IF(I46=\"\",\"\",NETWORKDAYS([4]Hoja1!C46+1,[4]Hoja1!P46,DiasNOLaborables))","v":8},"",null,null,20,null,null,null,null,null,null,null,"SUBDIRECCIÓN DE HIDROLOGÍA",null,null,null,null,43961]
[36,20200402212628,43923,"WEB (MÓDULO DE SOLICITUD DE INFORMACIÓN HIDROMETEOROLÓGICA)","SOLICITUD DE INFORMACIÓN Y DOCUMENTOS","SOLICITUD DE INFORMACIÓN HIDROMETEOROLÓGICA","NO","GRUPO DE ATENCIÓN AL CIUDADANO",43937,null,null,{"$f":"IFERROR(WORKDAY(C47,R47,DiasNOLaborables),\"\")","v":43956},{"$f":"+IF(C47=\"\",\"\",IF(I47=\"\",\"\",(IF(I47<=L47,\"A TIEMPO\",\"FUERA DE TIEMPO\"))))","v":"A TIEMPO"},{"$f":"IF(I47=\"\",\"\",NETWORKDAYS([4]Hoja1!C47+1,[4]Hoja1!P47,DiasNOLaborables))","v":8},"",null,null,20,null,null,null,null,null,null,null,"SUBDIRECCIÓN DE METEOROLOGÍA",null,null,null,null,43967]
[37,20200402211655,43923,"WEB (MÓDULO DE SOLICITUD DE INFORMACIÓN HIDROMETEOROLÓGICA)","SOLICITUD DE INFORMACIÓN Y DOCUMENTOS","SOLICITUD DE INFORMACIÓN HIDROMETEOROLÓGICA","NO","GRUPO DE ATENCIÓN AL CIUDADANO",43937,null,null,{"$f":"IFERROR(WORKDAY(C48,R48,DiasNOLaborables),\"\")","v":43956},{"$f":"+IF(C48=\"\",\"\",IF(I48=\"\",\"\",(IF(I48<=L48,\"A TIEMPO\",\"FUERA DE TIEMPO\"))))","v":"A TIEMPO"},{"$f":"IF(I48=\"\",\"\",NETWORKDAYS([4]Hoja1!C48+1,[4]Hoja1!P48,DiasNOLaborables))","v":8},"",null,null,20,null,null,null,null,null,null,null,null,null,null,null,null,43968]
[38,20200402210952,43923,"WEB (MÓDULO DE SOLICITUD DE INFORMACIÓN HIDROMETEOROLÓGICA)","SOLICITUD DE INFORMACIÓN Y DOCUMENTOS","SOLICITUD DE INFORMACIÓN HIDROMETEOROLÓGICA","NO","GRUPO DE ATENCIÓN AL CIUDADANO",43937,null,null,{"$f":"IFERROR(WORKDAY(C49,R49,DiasNOLaborables),\"\")","v":43956},{"$f":"+IF(C49=\"\",\"\",IF(I49=\"\",\"\",(IF(I49<=L49,\"A TIEMPO\",\"FUERA DE TIEMPO\"))))","v":"A TIEMPO"},{"$f":"IF(I49=\"\",\"\",NETWORKDAYS([4]Hoja1!C49+1,[4]Hoja1!P49,DiasNOLaborables))","v":8},"",null,null,20,null,null,null,null,null,null,null,"TIPO DE REQUERIMIENTO","Término ",null,null,null,43974]
[39,20200402210538,43923,"WEB (MÓDULO DE SOLICITUD DE INFORMACIÓN HIDROMETEOROLÓGICA)","SOLICITUD DE INFORMACIÓN Y DOCUMENTOS","SOLICITUD DE INFORMACIÓN HIDROMETEOROLÓGICA","NO","GRUPO DE ATENCIÓN AL CIUDADANO",43937,null,null,{"$f":"IFERROR(WORKDAY(C50,R50,DiasNOLaborables),\"\")","v":43956},{"$f":"+IF(C50=\"\",\"\",IF(I50=\"\",\"\",(IF(I50<=L50,\"A TIEMPO\",\"FUERA DE TIEMPO\"))))","v":"A TIEMPO"},{"$f":"IF(I50=\"\",\"\",NETWORKDAYS([4]Hoja1!C50+1,[4]Hoja1!P50,DiasNOLaborables))","v":8},"",null,null,20,null,null,null,null,null,null,null,"AGRADECIMIENTO/FELICITACION",15,null,null,null,43975]
[40,20200402205800,43923,"WEB (MÓDULO DE SOLICITUD DE INFORMACIÓN HIDROMETEOROLÓGICA)","SOLICITUD DE INFORMACIÓN Y DOCUMENTOS","SOLICITUD DE INFORMACIÓN HIDROMETEOROLÓGICA","NO","GRUPO DE ATENCIÓN AL CIUDADANO",43937,null,null,{"$f":"IFERROR(WORKDAY(C51,R51,DiasNOLaborables),\"\")","v":43956},{"$f":"+IF(C51=\"\",\"\",IF(I51=\"\",\"\",(IF(I51<=L51,\"A TIEMPO\",\"FUERA DE TIEMPO\"))))","v":"A TIEMPO"},{"$f":"IF(I51=\"\",\"\",NETWORKDAYS([4]Hoja1!C51+1,[4]Hoja1!P51,DiasNOLaborables))","v":8},"",null,null,20,null,null,null,null,null,null,null,"CERTIFICACIONES DE TIEMPO, CLIMA Y EVENTOS HIDROLÓGICOS",30,null,null,null,43976]
[41,20200402193907,43923,"WEB (MÓDULO DE SOLICITUD DE INFORMACIÓN HIDROMETEOROLÓGICA)","SOLICITUD DE INFORMACIÓN Y DOCUMENTOS","SOLICITUD DE INFORMACIÓN HIDROMETEOROLÓGICA","NO","GRUPO DE ATENCIÓN AL CIUDADANO",43937,null,null,{"$f":"IFERROR(WORKDAY(C52,R52,DiasNOLaborables),\"\")","v":43956},{"$f":"+IF(C52=\"\",\"\",IF(I52=\"\",\"\",(IF(I52<=L52,\"A TIEMPO\",\"FUERA DE TIEMPO\"))))","v":"A TIEMPO"},{"$f":"IF(I52=\"\",\"\",NETWORKDAYS([4]Hoja1!C52+1,[4]Hoja1!P52,DiasNOLaborables))","v":8},"",null,null,20,null,null,null,null,null,null,null,"CONSULTA",35,null,null,null,43981]
[42,20200402181642,43923,"WEB (MÓDULO DE SOLICITUD DE INFORMACIÓN HIDROMETEOROLÓGICA)","SOLICITUD DE INFORMACIÓN Y DOCUMENTOS","SOLICITUD DE INFORMACIÓN HIDROMETEOROLÓGICA","NO","GRUPO DE ATENCIÓN AL CIUDADANO",43937,null,null,{"$f":"IFERROR(WORKDAY(C53,R53,DiasNOLaborables),\"\")","v":43956},{"$f":"+IF(C53=\"\",\"\",IF(I53=\"\",\"\",(IF(I53<=L53,\"A TIEMPO\",\"FUERA DE TIEMPO\"))))","v":"A TIEMPO"},{"$f":"IF(I53=\"\",\"\",NETWORKDAYS([4]Hoja1!C53+1,[4]Hoja1!P53,DiasNOLaborables))","v":8},"",null,null,20,null,null,null,null,null,null,null,"DENUNCIA",15,null,null,null,43982]
[43,20200402180644,43923,"WEB (MÓDULO DE SOLICITUD DE INFORMACIÓN HIDROMETEOROLÓGICA)","SOLICITUD DE INFORMACIÓN Y DOCUMENTOS","SOLICITUD DE INFORMACIÓN HIDROMETEOROLÓGICA","NO","GRUPO DE ATENCIÓN AL CIUDADANO",43937,null,null,{"$f":"IFERROR(WORKDAY(C54,R54,DiasNOLaborables),\"\")","v":43956},{"$f":"+IF(C54=\"\",\"\",IF(I54=\"\",\"\",(IF(I54<=L54,\"A TIEMPO\",\"FUERA DE TIEMPO\"))))","v":"A TIEMPO"},{"$f":"IF(I54=\"\",\"\",NETWORKDAYS([4]Hoja1!C54+1,[4]Hoja1!P54,DiasNOLaborables))","v":5},"",null,null,20,null,null,null,null,null,null,null,"PETICIÓN",30,null,null,null,43988]
[44,20200402175510,43923,"WEB (MÓDULO DE SOLICITUD DE INFORMACIÓN HIDROMETEOROLÓGICA)","SOLICITUD DE INFORMACIÓN Y DOCUMENTOS","SOLICITUD DE INFORMACIÓN HIDROMETEOROLÓGICA","NO","GRUPO DE ATENCIÓN AL CIUDADANO",43937,null,null,{"$f":"IFERROR(WORKDAY(C55,R55,DiasNOLaborables),\"\")","v":43956},{"$f":"+IF(C55=\"\",\"\",IF(I55=\"\",\"\",(IF(I55<=L55,\"A TIEMPO\",\"FUERA DE TIEMPO\"))))","v":"A TIEMPO"},{"$f":"IF(I55=\"\",\"\",NETWORKDAYS([4]Hoja1!C55+1,[4]Hoja1!P55,DiasNOLaborables))","v":5},"",null,null,20,null,null,null,null,null,null,null,"PETICIÓN ENTRE AUTORIDADES",10,null,null,null,43989]
[45,20200402175222,43923,"WEB (MÓDULO DE SOLICITUD DE INFORMACIÓN HIDROMETEOROLÓGICA)","SOLICITUD DE INFORMACIÓN Y DOCUMENTOS","SOLICITUD DE INFORMACIÓN HIDROMETEOROLÓGICA","NO","GRUPO DE ATENCIÓN AL CIUDADANO",43937,null,null,{"$f":"IFERROR(WORKDAY(C56,R56,DiasNOLaborables),\"\")","v":43956},{"$f":"+IF(C56=\"\",\"\",IF(I56=\"\",\"\",(IF(I56<=L56,\"A TIEMPO\",\"FUERA DE TIEMPO\"))))","v":"A TIEMPO"},{"$f":"IF(I56=\"\",\"\",NETWORKDAYS([4]Hoja1!C56+1,[4]Hoja1!P56,DiasNOLaborables))","v":5},"",null,null,20,null,null,null,null,null,null,null,"PETICION VERBAL",15,null,null,null,43995]
[46,20200402174339,43923,"WEB (MÓDULO DE SOLICITUD DE INFORMACIÓN HIDROMETEOROLÓGICA)","SOLICITUD DE INFORMACIÓN Y DOCUMENTOS","SOLICITUD DE INFORMACIÓN HIDROMETEOROLÓGICA","NO","GRUPO DE ATENCIÓN AL CIUDADANO",43937,null,null,{"$f":"IFERROR(WORKDAY(C57,R57,DiasNOLaborables),\"\")","v":43956},{"$f":"+IF(C57=\"\",\"\",IF(I57=\"\",\"\",(IF(I57<=L57,\"A TIEMPO\",\"FUERA DE TIEMPO\"))))","v":"A TIEMPO"},{"$f":"IF(I57=\"\",\"\",NETWORKDAYS([4]Hoja1!C57+1,[4]Hoja1!P57,DiasNOLaborables))","v":7},"",null,null,20,null,null,null,null,null,null,null,"QUEJA",15,null,null,null,43996]
[47,20200402174012,43923,"WEB (MÓDULO DE SOLICITUD DE INFORMACIÓN HIDROMETEOROLÓGICA)","SOLICITUD DE INFORMACIÓN Y DOCUMENTOS","SOLICITUD DE INFORMACIÓN HIDROMETEOROLÓGICA","NO","GRUPO DE ATENCIÓN AL CIUDADANO",43937,null,null,{"$f":"IFERROR(WORKDAY(C58,R58,DiasNOLaborables),\"\")","v":43956},{"$f":"+IF(C58=\"\",\"\",IF(I58=\"\",\"\",(IF(I58<=L58,\"A TIEMPO\",\"FUERA DE TIEMPO\"))))","v":"A TIEMPO"},{"$f":"IF(I58=\"\",\"\",NETWORKDAYS([4]Hoja1!C58+1,[4]Hoja1!P58,DiasNOLaborables))","v":7},"",null,null,20,null,null,null,null,null,null,null,"RECLAMO",15,null,null,null,43997]
[48,20200402173613,43923,"WEB (MÓDULO DE SOLICITUD DE INFORMACIÓN HIDROMETEOROLÓGICA)","SOLICITUD DE INFORMACIÓN Y DOCUMENTOS","SOLICITUD DE INFORMACIÓN HIDROMETEOROLÓGICA","NO","GRUPO DE ATENCIÓN AL CIUDADANO",43937,null,null,{"$f":"IFERROR(WORKDAY(C59,R59,DiasNOLaborables),\"\")","v":43956},{"$f":"+IF(C59=\"\",\"\",IF(I59=\"\",\"\",(IF(I59<=L59,\"A TIEMPO\",\"FUERA DE TIEMPO\"))))","v":"A TIEMPO"},{"$f":"IF(I59=\"\",\"\",NETWORKDAYS([4]Hoja1!C59+1,[4]Hoja1!P59,DiasNOLaborables))","v":7},"",null,null,20,null,null,null,null,null,null,null,"REMISIÓN POR COMPETENCIA",5,null,null,null,44002]
[49,20200402173029,43923,"WEB (MÓDULO DE SOLICITUD DE INFORMACIÓN HIDROMETEOROLÓGICA)","SOLICITUD DE INFORMACIÓN Y DOCUMENTOS","SOLICITUD DE INFORMACIÓN HIDROMETEOROLÓGICA","NO","GRUPO DE ATENCIÓN AL CIUDADANO",43937,null,null,{"$f":"IFERROR(WORKDAY(C60,R60,DiasNOLaborables),\"\")","v":43956},{"$f":"+IF(C60=\"\",\"\",IF(I60=\"\",\"\",(IF(I60<=L60,\"A TIEMPO\",\"FUERA DE TIEMPO\"))))","v":"A TIEMPO"},{"$f":"IF(I60=\"\",\"\",NETWORKDAYS([4]Hoja1!C60+1,[4]Hoja1!P60,DiasNOLaborables))","v":7},"",null,null,20,null,null,null,null,null,null,null,"SOLICITUD CONGRESITAS",5,null,null,null,44003]
[50,20200402171854,43923,"WEB (MÓDULO DE SOLICITUD DE INFORMACIÓN HIDROMETEOROLÓGICA)","SOLICITUD DE INFORMACIÓN Y DOCUMENTOS","SOLICITUD DE INFORMACIÓN HIDROMETEOROLÓGICA","NO","GRUPO DE ATENCIÓN AL CIUDADANO",43937,null,null,{"$f":"IFERROR(WORKDAY(C61,R61,DiasNOLaborables),\"\")","v":43956},{"$f":"+IF(C61=\"\",\"\",IF(I61=\"\",\"\",(IF(I61<=L61,\"A TIEMPO\",\"FUERA DE TIEMPO\"))))","v":"A TIEMPO"},{"$f":"IF(I61=\"\",\"\",NETWORKDAYS([4]Hoja1!C61+1,[4]Hoja1!P61,DiasNOLaborables))","v":7},"",null,null,20,null,null,null,null,null,null,null,"SOLICITUD DE INFORMACIÓN Y DOCUMENTOS",20,null,null,null,44004]
[51,20200402171252,43923,"WEB (MÓDULO DE SOLICITUD DE INFORMACIÓN HIDROMETEOROLÓGICA)","SOLICITUD DE INFORMACIÓN Y DOCUMENTOS","SOLICITUD DE INFORMACIÓN HIDROMETEOROLÓGICA","NO","GRUPO DE ATENCIÓN AL CIUDADANO",43937,null,null,{"$f":"IFERROR(WORKDAY(C62,R62,DiasNOLaborables),\"\")","v":43956},{"$f":"+IF(C62=\"\",\"\",IF(I62=\"\",\"\",(IF(I62<=L62,\"A TIEMPO\",\"FUERA DE TIEMPO\"))))","v":"A TIEMPO"},{"$f":"IF(I62=\"\",\"\",NETWORKDAYS([4]Hoja1!C62+1,[4]Hoja1!P62,DiasNOLaborables))","v":7},"",null,null,20,null,null,null,null,null,null,null,"SOLICITUD JUDICIAL",5,null,null,null,44009]
[52,20200402170736,43923,"WEB (MÓDULO DE SOLICITUD DE INFORMACIÓN HIDROMETEOROLÓGICA)","SOLICITUD DE INFORMACIÓN Y DOCUMENTOS","SOLICITUD DE INFORMACIÓN HIDROMETEOROLÓGICA","NO","GRUPO DE ATENCIÓN AL CIUDADANO",43937,null,null,{"$f":"IFERROR(WORKDAY(C63,R63,DiasNOLaborables),\"\")","v":43956},{"$f":"+IF(C63=\"\",\"\",IF(I63=\"\",\"\",(IF(I63<=L63,\"A TIEMPO\",\"FUERA DE TIEMPO\"))))","v":"A TIEMPO"},{"$f":"IF(I63=\"\",\"\",NETWORKDAYS([4]Hoja1!C63+1,[4]Hoja1!P63,DiasNOLaborables))","v":7},"",null,null,20,null,null,null,null,null,null,null,"SUGERENCIA",15,null,null,null,44010]
[53,20200402170309,43923,"WEB (MÓDULO DE SOLICITUD DE INFORMACIÓN HIDROMETEOROLÓGICA)","SOLICITUD DE INFORMACIÓN Y DOCUMENTOS","SOLICITUD DE INFORMACIÓN HIDROMETEOROLÓGICA","NO","GRUPO DE ATENCIÓN AL CIUDADANO",43937,null,null,{"$f":"IFERROR(WORKDAY(C64,R64,DiasNOLaborables),\"\")","v":43956},{"$f":"+IF(C64=\"\",\"\",IF(I64=\"\",\"\",(IF(I64<=L64,\"A TIEMPO\",\"FUERA DE TIEMPO\"))))","v":"A TIEMPO"},{"$f":"IF(I64=\"\",\"\",NETWORKDAYS([4]Hoja1!C64+1,[4]Hoja1!P64,DiasNOLaborables))","v":7},"",null,null,20,null,null,null,null,null,null,null,null,null,null,null,null,44011]
[54,20200402170113,43923,"WEB (MÓDULO DE SOLICITUD DE INFORMACIÓN HIDROMETEOROLÓGICA)","SOLICITUD DE INFORMACIÓN Y DOCUMENTOS","SOLICITUD DE INFORMACIÓN HIDROMETEOROLÓGICA","NO","GRUPO DE ATENCIÓN AL CIUDADANO",43937,null,null,{"$f":"IFERROR(WORKDAY(C65,R65,DiasNOLaborables),\"\")","v":43956},{"$f":"+IF(C65=\"\",\"\",IF(I65=\"\",\"\",(IF(I65<=L65,\"A TIEMPO\",\"FUERA DE TIEMPO\"))))","v":"A TIEMPO"},{"$f":"IF(I65=\"\",\"\",NETWORKDAYS([4]Hoja1!C65+1,[4]Hoja1!P65,DiasNOLaborables))","v":7},"",null,null,20,null,null,null,null,null,null,null,"PRODUCTO O SERVICIO",null,null,null,null,44016]
[55,20200402165033,43923,"WEB (MÓDULO DE SOLICITUD DE INFORMACIÓN HIDROMETEOROLÓGICA)","SOLICITUD DE INFORMACIÓN Y DOCUMENTOS","SOLICITUD DE INFORMACIÓN HIDROMETEOROLÓGICA","NO","GRUPO DE ATENCIÓN AL CIUDADANO",43937,null,null,{"$f":"IFERROR(WORKDAY(C66,R66,DiasNOLaborables),\"\")","v":43956},{"$f":"+IF(C66=\"\",\"\",IF(I66=\"\",\"\",(IF(I66<=L66,\"A TIEMPO\",\"FUERA DE TIEMPO\"))))","v":"A TIEMPO"},{"$f":"IF(I66=\"\",\"\",NETWORKDAYS([4]Hoja1!C66+1,[4]Hoja1!P66,DiasNOLaborables))","v":7},"",null,null,20,null,null,null,null,null,null,null,"ACREDITACIÓN DE LABORATORIOS",null,null,null,null,44017]
[56,20200402164533,43923,"WEB (MÓDULO DE SOLICITUD DE INFORMACIÓN HIDROMETEOROLÓGICA)","SOLICITUD DE INFORMACIÓN Y DOCUMENTOS","SOLICITUD DE INFORMACIÓN HIDROMETEOROLÓGICA","NO","GRUPO DE ATENCIÓN AL CIUDADANO",43937,null,null,{"$f":"IFERROR(WORKDAY(C67,R67,DiasNOLaborables),\"\")","v":43956},{"$f":"+IF(C67=\"\",\"\",IF(I67=\"\",\"\",(IF(I67<=L67,\"A TIEMPO\",\"FUERA DE TIEMPO\"))))","v":"A TIEMPO"},{"$f":"IF(I67=\"\",\"\",NETWORKDAYS([4]Hoja1!C67+1,[4]Hoja1!P67,DiasNOLaborables))","v":7},"",null,null,20,null,null,null,null,null,null,null,"ADMINISTRATIVA",null,null,null,null,44023]
[57,20200402122526,43923,"WEB (MÓDULO DE SOLICITUD DE INFORMACIÓN HIDROMETEOROLÓGICA)","SOLICITUD DE INFORMACIÓN Y DOCUMENTOS","SOLICITUD DE INFORMACIÓN HIDROMETEOROLÓGICA","NO","GRUPO DE ATENCIÓN AL CIUDADANO",43937,null,null,{"$f":"IFERROR(WORKDAY(C68,R68,DiasNOLaborables),\"\")","v":43956},{"$f":"+IF(C68=\"\",\"\",IF(I68=\"\",\"\",(IF(I68<=L68,\"A TIEMPO\",\"FUERA DE TIEMPO\"))))","v":"A TIEMPO"},{"$f":"IF(I68=\"\",\"\",NETWORKDAYS([4]Hoja1!C68+1,[4]Hoja1!P68,DiasNOLaborables))","v":7},"",null,null,20,null,null,null,null,null,null,null,"AGUAS SUBTERRANEAS",null,null,null,null,44024]
[58,20200402121531,43923,"WEB (MÓDULO DE SOLICITUD DE INFORMACIÓN HIDROMETEOROLÓGICA)","SOLICITUD DE INFORMACIÓN Y DOCUMENTOS","SOLICITUD DE INFORMACIÓN HIDROMETEOROLÓGICA","NO","GRUPO DE ATENCIÓN AL CIUDADANO",43937,null,null,{"$f":"IFERROR(WORKDAY(C69,R69,DiasNOLaborables),\"\")","v":43956},{"$f":"+IF(C69=\"\",\"\",IF(I69=\"\",\"\",(IF(I69<=L69,\"A TIEMPO\",\"FUERA DE TIEMPO\"))))","v":"A TIEMPO"},{"$f":"IF(I69=\"\",\"\",NETWORKDAYS([4]Hoja1!C69+1,[4]Hoja1!P69,DiasNOLaborables))","v":7},"",null,null,20,null,null,null,null,null,null,null,"ASESORÍAS Y CHARLAS",null,null,null,null,44030]
[59,20200402120555,43923,"WEB (MÓDULO DE SOLICITUD DE INFORMACIÓN HIDROMETEOROLÓGICA)","SOLICITUD DE INFORMACIÓN Y DOCUMENTOS","SOLICITUD DE INFORMACIÓN HIDROMETEOROLÓGICA","NO","GRUPO DE ATENCIÓN AL CIUDADANO",43937,null,null,{"$f":"IFERROR(WORKDAY(C70,R70,DiasNOLaborables),\"\")","v":43956},{"$f":"+IF(C70=\"\",\"\",IF(I70=\"\",\"\",(IF(I70<=L70,\"A TIEMPO\",\"FUERA DE TIEMPO\"))))","v":"A TIEMPO"},{"$f":"IF(I70=\"\",\"\",NETWORKDAYS([4]Hoja1!C70+1,[4]Hoja1!P70,DiasNOLaborables))","v":7},"",null,null,20,null,null,null,null,null,null,null,"BOSQUES",null,null,null,null,44031]
[60,20200402120307,43923,"WEB (MÓDULO DE SOLICITUD DE INFORMACIÓN HIDROMETEOROLÓGICA)","SOLICITUD DE INFORMACIÓN Y DOCUMENTOS","SOLICITUD DE INFORMACIÓN HIDROMETEOROLÓGICA","NO","GRUPO DE ATENCIÓN AL CIUDADANO",43937,null,null,{"$f":"IFERROR(WORKDAY(C71,R71,DiasNOLaborables),\"\")","v":43956},{"$f":"+IF(C71=\"\",\"\",IF(I71=\"\",\"\",(IF(I71<=L71,\"A TIEMPO\",\"FUERA DE TIEMPO\"))))","v":"A TIEMPO"},{"$f":"IF(I71=\"\",\"\",NETWORKDAYS([4]Hoja1!C71+1,[4]Hoja1!P71,DiasNOLaborables))","v":7},"",null,null,20,null,null,null,null,null,null,null,"CAMBIO CLIMÁTICO",null,null,null,null,44032]
[61,20200402115841,43923,"WEB (MÓDULO DE SOLICITUD DE INFORMACIÓN HIDROMETEOROLÓGICA)","SOLICITUD DE INFORMACIÓN Y DOCUMENTOS","SOLICITUD DE INFORMACIÓN HIDROMETEOROLÓGICA","NO","GRUPO DE ATENCIÓN AL CIUDADANO",43937,null,null,{"$f":"IFERROR(WORKDAY(C72,R72,DiasNOLaborables),\"\")","v":43956},{"$f":"+IF(C72=\"\",\"\",IF(I72=\"\",\"\",(IF(I72<=L72,\"A TIEMPO\",\"FUERA DE TIEMPO\"))))","v":"A TIEMPO"},{"$f":"IF(I72=\"\",\"\",NETWORKDAYS([4]Hoja1!C72+1,[4]Hoja1!P72,DiasNOLaborables))","v":7},"",null,null,20,null,null,null,null,null,null,null,"CERTIFICACIONES DE TIEMPO Y CLIMA",null,null,null,null,44037]
[62,20200402105509,43923,"WEB (MÓDULO DE SOLICITUD DE INFORMACIÓN HIDROMETEOROLÓGICA)","SOLICITUD DE INFORMACIÓN Y DOCUMENTOS","SOLICITUD DE INFORMACIÓN HIDROMETEOROLÓGICA","NO","GRUPO DE ATENCIÓN AL CIUDADANO",43937,null,null,{"$f":"IFERROR(WORKDAY(C73,R73,DiasNOLaborables),\"\")","v":43956},{"$f":"+IF(C73=\"\",\"\",IF(I73=\"\",\"\",(IF(I73<=L73,\"A TIEMPO\",\"FUERA DE TIEMPO\"))))","v":"A TIEMPO"},{"$f":"IF(I73=\"\",\"\",NETWORKDAYS([4]Hoja1!C73+1,[4]Hoja1!P73,DiasNOLaborables))","v":7},"",null,null,20,null,null,null,null,null,null,null,"CERTIFICACIONES HIDROLOGICAS",null,null,null,null,44038]
[63,20200403233023,43924,"WEB (MÓDULO DE SOLICITUD DE INFORMACIÓN HIDROMETEOROLÓGICA)","SOLICITUD DE INFORMACIÓN Y DOCUMENTOS","SOLICITUD DE INFORMACIÓN HIDROMETEOROLÓGICA","NO","GRUPO DE ATENCIÓN AL CIUDADANO",43938,null,null,{"$f":"IFERROR(WORKDAY(C74,R74,DiasNOLaborables),\"\")","v":43957},{"$f":"+IF(C74=\"\",\"\",IF(I74=\"\",\"\",(IF(I74<=L74,\"A TIEMPO\",\"FUERA DE TIEMPO\"))))","v":"A TIEMPO"},{"$f":"IF(I74=\"\",\"\",NETWORKDAYS([4]Hoja1!C74+1,[4]Hoja1!P74,DiasNOLaborables))","v":8},"",null,null,20,null,null,null,null,null,null,null,"CLIMATOLOGÍA",null,null,null,null,44044]
[64,20200403232406,43924,"WEB (MÓDULO DE SOLICITUD DE INFORMACIÓN HIDROMETEOROLÓGICA)","SOLICITUD DE INFORMACIÓN Y DOCUMENTOS","SOLICITUD DE INFORMACIÓN HIDROMETEOROLÓGICA","NO","GRUPO DE ATENCIÓN AL CIUDADANO",43938,null,null,{"$f":"IFERROR(WORKDAY(C75,R75,DiasNOLaborables),\"\")","v":43957},{"$f":"+IF(C75=\"\",\"\",IF(I75=\"\",\"\",(IF(I75<=L75,\"A TIEMPO\",\"FUERA DE TIEMPO\"))))","v":"A TIEMPO"},{"$f":"IF(I75=\"\",\"\",NETWORKDAYS([4]Hoja1!C75+1,[4]Hoja1!P75,DiasNOLaborables))","v":8},"",null,null,20,null,null,null,null,null,null,null,"ERA","EVALUACIÓN REGIONAL DEL AGUA",null,null,null,44045]
[65,20200403231223,43924,"WEB (MÓDULO DE SOLICITUD DE INFORMACIÓN HIDROMETEOROLÓGICA)","SOLICITUD DE INFORMACIÓN Y DOCUMENTOS","SOLICITUD DE INFORMACIÓN HIDROMETEOROLÓGICA","NO","GRUPO DE ATENCIÓN AL CIUDADANO",43938,null,null,{"$f":"IFERROR(WORKDAY(C76,R76,DiasNOLaborables),\"\")","v":43957},{"$f":"+IF(C76=\"\",\"\",IF(I76=\"\",\"\",(IF(I76<=L76,\"A TIEMPO\",\"FUERA DE TIEMPO\"))))","v":"A TIEMPO"},{"$f":"IF(I76=\"\",\"\",NETWORKDAYS([4]Hoja1!C76+1,[4]Hoja1!P76,DiasNOLaborables))","v":8},"",null,null,20,null,null,null,null,null,null,null,"ESTUDIO NACIONAL DEL AGUA",null,null,null,null,44051]
[66,20200403230140,43924,"WEB (MÓDULO DE SOLICITUD DE INFORMACIÓN HIDROMETEOROLÓGICA)","SOLICITUD DE INFORMACIÓN Y DOCUMENTOS","SOLICITUD DE INFORMACIÓN HIDROMETEOROLÓGICA","NO","GRUPO DE ATENCIÓN AL CIUDADANO",43938,null,null,{"$f":"IFERROR(WORKDAY(C77,R77,DiasNOLaborables),\"\")","v":43957},{"$f":"+IF(C77=\"\",\"\",IF(I77=\"\",\"\",(IF(I77<=L77,\"A TIEMPO\",\"FUERA DE TIEMPO\"))))","v":"A TIEMPO"},{"$f":"IF(I77=\"\",\"\",NETWORKDAYS([4]Hoja1!C77+1,[4]Hoja1!P77,DiasNOLaborables))","v":8},"",null,null,20,null,null,null,null,null,null,null,"INFORMES AMBIENTALES",null,null,null,null,44052]
[{"$f":"IF(B77<>\"\",A77+1,\"\")","v":67},20200403225434,43924,"WEB (MÓDULO DE SOLICITUD DE INFORMACIÓN HIDROMETEOROLÓGICA)","SOLICITUD DE INFORMACIÓN Y DOCUMENTOS","SOLICITUD DE INFORMACIÓN HIDROMETEOROLÓGICA","NO","GRUPO DE ATENCIÓN AL CIUDADANO",43938,null,null,{"$f":"IFERROR(WORKDAY(C78,R78,DiasNOLaborables),\"\")","v":43957},{"$f":"+IF(C78=\"\",\"\",IF(I78=\"\",\"\",(IF(I78<=L78,\"A TIEMPO\",\"FUERA DE TIEMPO\"))))","v":"A TIEMPO"},{"$f":"IF(I78=\"\",\"\",NETWORKDAYS([4]Hoja1!C78+1,[4]Hoja1!P78,DiasNOLaborables))","v":8},"",null,null,20,null,null,null,null,null,null,null,"JURIDICO",null,null,null,null,44058]
[68,20200403224644,43924,"WEB (MÓDULO DE SOLICITUD DE INFORMACIÓN HIDROMETEOROLÓGICA)","SOLICITUD DE INFORMACIÓN Y DOCUMENTOS","SOLICITUD DE INFORMACIÓN HIDROMETEOROLÓGICA","NO","GRUPO DE ATENCIÓN AL CIUDADANO",43938,null,null,{"$f":"IFERROR(WORKDAY(C79,R79,DiasNOLaborables),\"\")","v":43957},{"$f":"+IF(C79=\"\",\"\",IF(I79=\"\",\"\",(IF(I79<=L79,\"A TIEMPO\",\"FUERA DE TIEMPO\"))))","v":"A TIEMPO"},{"$f":"IF(I79=\"\",\"\",NETWORKDAYS([4]Hoja1!C79+1,[4]Hoja1!P79,DiasNOLaborables))","v":9},"",null,null,20,null,null,null,null,null,null,null,"LABORATORIO DE CALIDAD AMBIENTAL",null,null,null,null,44059]
[69,20200403224108,43924,"WEB (MÓDULO DE SOLICITUD DE INFORMACIÓN HIDROMETEOROLÓGICA)","SOLICITUD DE INFORMACIÓN Y DOCUMENTOS","SOLICITUD DE INFORMACIÓN HIDROMETEOROLÓGICA","NO","GRUPO DE ATENCIÓN AL CIUDADANO",43938,null,null,{"$f":"IFERROR(WORKDAY(C80,R80,DiasNOLaborables),\"\")","v":43957},{"$f":"+IF(C80=\"\",\"\",IF(I80=\"\",\"\",(IF(I80<=L80,\"A TIEMPO\",\"FUERA DE TIEMPO\"))))","v":"A TIEMPO"},{"$f":"IF(I80=\"\",\"\",NETWORKDAYS([4]Hoja1!C80+1,[4]Hoja1!P80,DiasNOLaborables))","v":9},"",null,null,20,null,null,null,null,null,null,null,"MEDIOS DE COMUNICACIÓN",null,null,null,null,44060]
[70,20200403223412,43924,"WEB (MÓDULO DE SOLICITUD DE INFORMACIÓN HIDROMETEOROLÓGICA)","SOLICITUD DE INFORMACIÓN Y DOCUMENTOS","SOLICITUD DE INFORMACIÓN HIDROMETEOROLÓGICA","NO","GRUPO DE ATENCIÓN AL CIUDADANO",43938,null,null,{"$f":"IFERROR(WORKDAY(C81,R81,DiasNOLaborables),\"\")","v":43957},{"$f":"+IF(C81=\"\",\"\",IF(I81=\"\",\"\",(IF(I81<=L81,\"A TIEMPO\",\"FUERA DE TIEMPO\"))))","v":"A TIEMPO"},{"$f":"IF(I81=\"\",\"\",NETWORKDAYS([4]Hoja1!C81+1,[4]Hoja1!P81,DiasNOLaborables))","v":9},"",null,null,20,null,null,null,null,null,null,null,"METEOROLOGÍA AERONAÚTICA",null,null,null,null,44065]
[71,20200403222844,43924,"WEB (MÓDULO DE SOLICITUD DE INFORMACIÓN HIDROMETEOROLÓGICA)","SOLICITUD DE INFORMACIÓN Y DOCUMENTOS","SOLICITUD DE INFORMACIÓN HIDROMETEOROLÓGICA","NO","GRUPO DE ATENCIÓN AL CIUDADANO",43938,null,null,{"$f":"IFERROR(WORKDAY(C82,R82,DiasNOLaborables),\"\")","v":43957},{"$f":"+IF(C82=\"\",\"\",IF(I82=\"\",\"\",(IF(I82<=L82,\"A TIEMPO\",\"FUERA DE TIEMPO\"))))","v":"A TIEMPO"},{"$f":"IF(I82=\"\",\"\",NETWORKDAYS([4]Hoja1!C82+1,[4]Hoja1!P82,DiasNOLaborables))","v":9},"",null,null,20,null,null,null,null,null,null,null,"MODELACIÓN HIDROLÓGICA",null,null,null,null,44066]
[72,20200403221549,43924,"WEB (MÓDULO DE SOLICITUD DE INFORMACIÓN HIDROMETEOROLÓGICA)","SOLICITUD DE INFORMACIÓN Y DOCUMENTOS","SOLICITUD DE INFORMACIÓN HIDROMETEOROLÓGICA","NO","GRUPO DE ATENCIÓN AL CIUDADANO",43938,null,null,{"$f":"IFERROR(WORKDAY(C83,R83,DiasNOLaborables),\"\")","v":43957},{"$f":"+IF(C83=\"\",\"\",IF(I83=\"\",\"\",(IF(I83<=L83,\"A TIEMPO\",\"FUERA DE TIEMPO\"))))","v":"A TIEMPO"},{"$f":"IF(I83=\"\",\"\",NETWORKDAYS([4]Hoja1!C83+1,[4]Hoja1!P83,DiasNOLaborables))","v":9},"",null,null,20,null,null,null,null,null,null,null,"MODELAMIENTO METEOROLÓGICO",null,null,null,null,44072]
[73,20200403184843,43924,"WEB (MÓDULO DE SOLICITUD DE INFORMACIÓN HIDROMETEOROLÓGICA)","SOLICITUD DE INFORMACIÓN Y DOCUMENTOS","SOLICITUD DE INFORMACIÓN HIDROMETEOROLÓGICA","NO","GRUPO DE ATENCIÓN AL CIUDADANO",43938,null,null,{"$f":"IFERROR(WORKDAY(C84,R84,DiasNOLaborables),\"\")","v":43957},{"$f":"+IF(C84=\"\",\"\",IF(I84=\"\",\"\",(IF(I84<=L84,\"A TIEMPO\",\"FUERA DE TIEMPO\"))))","v":"A TIEMPO"},{"$f":"IF(I84=\"\",\"\",NETWORKDAYS([4]Hoja1!C84+1,[4]Hoja1!P84,DiasNOLaborables))","v":9},"",null,null,20,null,null,null,null,null,null,null,"OPERACIÓN DE REDES",null,null,null,null,44073]
[74,20200403184011,43924,"WEB (MÓDULO DE SOLICITUD DE INFORMACIÓN HIDROMETEOROLÓGICA)","SOLICITUD DE INFORMACIÓN Y DOCUMENTOS","SOLICITUD DE INFORMACIÓN HIDROMETEOROLÓGICA","NO","GRUPO DE ATENCIÓN AL CIUDADANO",43938,null,null,{"$f":"IFERROR(WORKDAY(C85,R85,DiasNOLaborables),\"\")","v":43957},{"$f":"+IF(C85=\"\",\"\",IF(I85=\"\",\"\",(IF(I85<=L85,\"A TIEMPO\",\"FUERA DE TIEMPO\"))))","v":"A TIEMPO"},{"$f":"IF(I85=\"\",\"\",NETWORKDAYS([4]Hoja1!C85+1,[4]Hoja1!P85,DiasNOLaborables))","v":9},"",null,null,20,null,null,null,null,null,null,null,"PRONÓSTICOS Y ALERTAS",null,null,null,null,44079]
[75,20200403182605,43924,"WEB (MÓDULO DE SOLICITUD DE INFORMACIÓN HIDROMETEOROLÓGICA)","SOLICITUD DE INFORMACIÓN Y DOCUMENTOS","SOLICITUD DE INFORMACIÓN HIDROMETEOROLÓGICA","NO","GRUPO DE ATENCIÓN AL CIUDADANO",43938,null,null,{"$f":"IFERROR(WORKDAY(C86,R86,DiasNOLaborables),\"\")","v":43957},{"$f":"+IF(C86=\"\",\"\",IF(I86=\"\",\"\",(IF(I86<=L86,\"A TIEMPO\",\"FUERA DE TIEMPO\"))))","v":"A TIEMPO"},{"$f":"IF(I86=\"\",\"\",NETWORKDAYS([4]Hoja1!C86+1,[4]Hoja1!P86,DiasNOLaborables))","v":9},"",null,null,20,null,null,null,null,null,null,null,"REGISTROS AMBIENTALES",null,null,null,null,44080]
[76,20200403173519,43924,"WEB (MÓDULO DE SOLICITUD DE INFORMACIÓN HIDROMETEOROLÓGICA)","SOLICITUD DE INFORMACIÓN Y DOCUMENTOS","SOLICITUD DE INFORMACIÓN HIDROMETEOROLÓGICA","NO","GRUPO DE ATENCIÓN AL CIUDADANO",43938,null,null,{"$f":"IFERROR(WORKDAY(C87,R87,DiasNOLaborables),\"\")","v":43957},{"$f":"+IF(C87=\"\",\"\",IF(I87=\"\",\"\",(IF(I87<=L87,\"A TIEMPO\",\"FUERA DE TIEMPO\"))))","v":"A TIEMPO"},{"$f":"IF(I87=\"\",\"\",NETWORKDAYS([4]Hoja1!C87+1,[4]Hoja1!P87,DiasNOLaborables))","v":10},"",null,null,20,null,null,null,null,null,null,null,"SEDIMENTOS",null,null,null,null,44086]
[77,20200403095900,43924,"WEB (MÓDULO DE SOLICITUD DE INFORMACIÓN HIDROMETEOROLÓGICA)","SOLICITUD DE INFORMACIÓN Y DOCUMENTOS","SOLICITUD DE INFORMACIÓN HIDROMETEOROLÓGICA","NO","GRUPO DE ATENCIÓN AL CIUDADANO",43938,null,null,{"$f":"IFERROR(WORKDAY(C88,R88,DiasNOLaborables),\"\")","v":43957},{"$f":"+IF(C88=\"\",\"\",IF(I88=\"\",\"\",(IF(I88<=L88,\"A TIEMPO\",\"FUERA DE TIEMPO\"))))","v":"A TIEMPO"},{"$f":"IF(I88=\"\",\"\",NETWORKDAYS([4]Hoja1!C88+1,[4]Hoja1!P88,DiasNOLaborables))","v":10},"",null,null,20,null,null,null,null,null,null,null,"SIA","SISTEMA DE INFORMACIÓN AMBIENTAL",null,null,null,44087]
[78,20209050029162,43924,"MODULO CONTACTENOS","SOLICITUD DE INFORMACIÓN Y DOCUMENTOS","SOLICITUD DE INFORMACIÓN HIDROMETEOROLÓGICA","NO","GRUPO DE ATENCIÓN AL CIUDADANO",43938,null,null,{"$f":"IFERROR(WORKDAY(C89,R89,DiasNOLaborables),\"\")","v":43957},{"$f":"+IF(C89=\"\",\"\",IF(I89=\"\",\"\",(IF(I89<=L89,\"A TIEMPO\",\"FUERA DE TIEMPO\"))))","v":"A TIEMPO"},{"$f":"IF(I89=\"\",\"\",NETWORKDAYS([4]Hoja1!C89+1,[4]Hoja1!P89,DiasNOLaborables))","v":10},"",null,null,20,null,null,null,null,null,null,null,"SIRH","SISTEMA DE INFORMACIÓN DEL RECURDO HÍDRICO",null,null,null,44093]
[79,20209050029172,43924,"MODULO CONTACTENOS","SOLICITUD DE INFORMACIÓN Y DOCUMENTOS","SOLICITUD DE INFORMACIÓN HIDROMETEOROLÓGICA","NO","GRUPO DE ATENCIÓN AL CIUDADANO",43938,null,null,{"$f":"IFERROR(WORKDAY(C90,R90,DiasNOLaborables),\"\")","v":43957},{"$f":"+IF(C90=\"\",\"\",IF(I90=\"\",\"\",(IF(I90<=L90,\"A TIEMPO\",\"FUERA DE TIEMPO\"))))","v":"A TIEMPO"},{"$f":"IF(I90=\"\",\"\",NETWORKDAYS([4]Hoja1!C90+1,[4]Hoja1!P90,DiasNOLaborables))","v":10},"",null,null,20,null,null,null,null,null,null,null,"SOLICITUD DE INFORMACIÓN HIDROMETEOROLÓGICA",null,null,null,null,44094]
[80,20209050029192,43924,"MODULO CONTACTENOS","SOLICITUD DE INFORMACIÓN Y DOCUMENTOS","SOLICITUD DE INFORMACIÓN HIDROMETEOROLÓGICA","NO","GRUPO DE ATENCIÓN AL CIUDADANO",43938,null,null,{"$f":"IFERROR(WORKDAY(C91,R91,DiasNOLaborables),\"\")","v":43957},{"$f":"+IF(C91=\"\",\"\",IF(I91=\"\",\"\",(IF(I91<=L91,\"A TIEMPO\",\"FUERA DE TIEMPO\"))))","v":"A TIEMPO"},{"$f":"IF(I91=\"\",\"\",NETWORKDAYS([4]Hoja1!C91+1,[4]Hoja1!P91,DiasNOLaborables))","v":10},"",null,null,20,null,null,null,null,null,null,null,"SUELOS Y TIERRAS",null,null,null,null,44100]
[81,20209050029202,43924,"MODULO CONTACTENOS","SOLICITUD DE INFORMACIÓN Y DOCUMENTOS","SOLICITUD DE INFORMACIÓN HIDROMETEOROLÓGICA","NO","GRUPO DE ATENCIÓN AL CIUDADANO",43938,null,null,{"$f":"IFERROR(WORKDAY(C92,R92,DiasNOLaborables),\"\")","v":43957},{"$f":"+IF(C92=\"\",\"\",IF(I92=\"\",\"\",(IF(I92<=L92,\"A TIEMPO\",\"FUERA DE TIEMPO\"))))","v":"A TIEMPO"},{"$f":"IF(I92=\"\",\"\",NETWORKDAYS([4]Hoja1!C92+1,[4]Hoja1!P92,DiasNOLaborables))","v":10},"",null,null,20,null,null,null,null,null,null,null,"VISITAS ACADÉMICAS",null,null,null,null,44101]
[82,20209050029182,43924,"MODULO CONTACTENOS","SOLICITUD DE INFORMACIÓN Y DOCUMENTOS","SOLICITUD DE INFORMACIÓN HIDROMETEOROLÓGICA","NO","GRUPO DE ATENCIÓN AL CIUDADANO",43938,null,null,{"$f":"IFERROR(WORKDAY(C93,R93,DiasNOLaborables),\"\")","v":43957},{"$f":"+IF(C93=\"\",\"\",IF(I93=\"\",\"\",(IF(I93<=L93,\"A TIEMPO\",\"FUERA DE TIEMPO\"))))","v":"A TIEMPO"},{"$f":"IF(I93=\"\",\"\",NETWORKDAYS([4]Hoja1!C93+1,[4]Hoja1!P93,DiasNOLaborables))","v":10},"",null,null,20,null,null,null,null,null,null,null,"WEB Y CORREO",null,null,null,null,44107]
[83,20209050029212,43924,"MODULO CONTACTENOS","SOLICITUD DE INFORMACIÓN Y DOCUMENTOS","SOLICITUD DE INFORMACIÓN HIDROMETEOROLÓGICA","NO","GRUPO DE ATENCIÓN AL CIUDADANO",43938,null,null,{"$f":"IFERROR(WORKDAY(C94,R94,DiasNOLaborables),\"\")","v":43957},{"$f":"+IF(C94=\"\",\"\",IF(I94=\"\",\"\",(IF(I94<=L94,\"A TIEMPO\",\"FUERA DE TIEMPO\"))))","v":"A TIEMPO"},{"$f":"IF(I94=\"\",\"\",NETWORKDAYS([4]Hoja1!C94+1,[4]Hoja1!P94,DiasNOLaborables))","v":10},"",null,null,20,null,null,null,null,null,null,null,"ZONIFICACIÓN HIDROGRÁFICA",null,null,null,null,44108]
[84,20209050029222,43924,"MODULO CONTACTENOS","SOLICITUD DE INFORMACIÓN Y DOCUMENTOS","SOLICITUD DE INFORMACIÓN HIDROMETEOROLÓGICA","NO","GRUPO DE ATENCIÓN AL CIUDADANO",43938,null,null,{"$f":"IFERROR(WORKDAY(C95,R95,DiasNOLaborables),\"\")","v":43957},{"$f":"+IF(C95=\"\",\"\",IF(I95=\"\",\"\",(IF(I95<=L95,\"A TIEMPO\",\"FUERA DE TIEMPO\"))))","v":"A TIEMPO"},{"$f":"IF(I95=\"\",\"\",NETWORKDAYS([4]Hoja1!C95+1,[4]Hoja1!P95,DiasNOLaborables))","v":9},"",null,null,20,null,null,null,null,null,null,null,null,null,null,null,null,44114]
[85,20209050029232,43924,"MODULO CONTACTENOS","SOLICITUD DE INFORMACIÓN Y DOCUMENTOS","SOLICITUD DE INFORMACIÓN HIDROMETEOROLÓGICA","NO","GRUPO DE ATENCIÓN AL CIUDADANO",43938,null,null,{"$f":"IFERROR(WORKDAY(C96,R96,DiasNOLaborables),\"\")","v":43957},{"$f":"+IF(C96=\"\",\"\",IF(I96=\"\",\"\",(IF(I96<=L96,\"A TIEMPO\",\"FUERA DE TIEMPO\"))))","v":"A TIEMPO"},{"$f":"IF(I96=\"\",\"\",NETWORKDAYS([4]Hoja1!C96+1,[4]Hoja1!P96,DiasNOLaborables))","v":9},"",null,null,20,null,null,null,null,null,null,null,"MEDIO DE RECEPCIÓN",null,null,null,null,44115]
[86,20209050029252,43924,"MODULO CONTACTENOS","SOLICITUD DE INFORMACIÓN Y DOCUMENTOS","SOLICITUD DE INFORMACIÓN HIDROMETEOROLÓGICA","NO","GRUPO DE ATENCIÓN AL CIUDADANO",43938,null,null,{"$f":"IFERROR(WORKDAY(C97,R97,DiasNOLaborables),\"\")","v":43957},{"$f":"+IF(C97=\"\",\"\",IF(I97=\"\",\"\",(IF(I97<=L97,\"A TIEMPO\",\"FUERA DE TIEMPO\"))))","v":"A TIEMPO"},{"$f":"IF(I97=\"\",\"\",NETWORKDAYS([4]Hoja1!C97+1,[4]Hoja1!P97,DiasNOLaborables))","v":9},"",null,null,20,null,null,null,null,null,null,null,"ATENCIÓN PRESENCIAL",null,null,null,null,44116]
[87,20209050029332,43924,"MODULO CONTACTENOS","SOLICITUD DE INFORMACIÓN Y DOCUMENTOS","SOLICITUD DE INFORMACIÓN HIDROMETEOROLÓGICA","NO","GRUPO DE ATENCIÓN AL CIUDADANO",43938,null,null,{"$f":"IFERROR(WORKDAY(C98,R98,DiasNOLaborables),\"\")","v":43957},{"$f":"+IF(C98=\"\",\"\",IF(I98=\"\",\"\",(IF(I98<=L98,\"A TIEMPO\",\"FUERA DE TIEMPO\"))))","v":"A TIEMPO"},{"$f":"IF(I98=\"\",\"\",NETWORKDAYS([4]Hoja1!C98+1,[4]Hoja1!P98,DiasNOLaborables))","v":9},"",null,null,20,null,null,null,null,null,null,null,"ATENCIÓN TELEFÓNICA",null,null,null,null,44121]
[88,20209050029342,43924,"MODULO CONTACTENOS","SOLICITUD DE INFORMACIÓN Y DOCUMENTOS","SOLICITUD DE INFORMACIÓN HIDROMETEOROLÓGICA","NO","GRUPO DE ATENCIÓN AL CIUDADANO",43938,null,null,{"$f":"IFERROR(WORKDAY(C99,R99,DiasNOLaborables),\"\")","v":43957},{"$f":"+IF(C99=\"\",\"\",IF(I99=\"\",\"\",(IF(I99<=L99,\"A TIEMPO\",\"FUERA DE TIEMPO\"))))","v":"A TIEMPO"},{"$f":"IF(I99=\"\",\"\",NETWORKDAYS([4]Hoja1!C99+1,[4]Hoja1!P99,DiasNOLaborables))","v":9},"",null,null,20,null,null,null,null,null,null,null,"BUZÓN DE SUGERENCIAS",null,null,null,null,44122]
[89,20209050029392,43924,"MODULO CONTACTENOS","SOLICITUD DE INFORMACIÓN Y DOCUMENTOS","SOLICITUD DE INFORMACIÓN HIDROMETEOROLÓGICA","NO","GRUPO DE ATENCIÓN AL CIUDADANO",43939,null,null,{"$f":"IFERROR(WORKDAY(C100,R100,DiasNOLaborables),\"\")","v":43957},{"$f":"+IF(C100=\"\",\"\",IF(I100=\"\",\"\",(IF(I100<=L100,\"A TIEMPO\",\"FUERA DE TIEMPO\"))))","v":"A TIEMPO"},{"$f":"IF(I100=\"\",\"\",NETWORKDAYS([4]Hoja1!C100+1,[4]Hoja1!P100,DiasNOLaborables))","v":9},"",null,null,20,null,null,null,null,null,null,null,"CHAT",null,null,null,null,44128]
[90,20209050029402,43924,"MODULO CONTACTENOS","SOLICITUD DE INFORMACIÓN Y DOCUMENTOS","SOLICITUD DE INFORMACIÓN HIDROMETEOROLÓGICA","NO","GRUPO DE ATENCIÓN AL CIUDADANO",43939,null,null,{"$f":"IFERROR(WORKDAY(C101,R101,DiasNOLaborables),\"\")","v":43957},{"$f":"+IF(C101=\"\",\"\",IF(I101=\"\",\"\",(IF(I101<=L101,\"A TIEMPO\",\"FUERA DE TIEMPO\"))))","v":"A TIEMPO"},{"$f":"IF(I101=\"\",\"\",NETWORKDAYS([4]Hoja1!C101+1,[4]Hoja1!P101,DiasNOLaborables))","v":9},"",null,null,{"$f":"IFERROR(VLOOKUP(E101,$Z$50:$AA$63,2),\"\")","v":20},null,null,null,null,null,null,null,"CORREO CERTIFICADO",null,null,null,null,44129]
[91,20209050029412,43924,"MODULO CONTACTENOS","SOLICITUD DE INFORMACIÓN Y DOCUMENTOS","SOLICITUD DE INFORMACIÓN HIDROMETEOROLÓGICA","NO","GRUPO DE ATENCIÓN AL CIUDADANO",43939,null,null,{"$f":"IFERROR(WORKDAY(C102,R102,DiasNOLaborables),\"\")","v":43957},{"$f":"+IF(C102=\"\",\"\",IF(I102=\"\",\"\",(IF(I102<=L102,\"A TIEMPO\",\"FUERA DE TIEMPO\"))))","v":"A TIEMPO"},{"$f":"IF(I102=\"\",\"\",NETWORKDAYS([4]Hoja1!C102+1,[4]Hoja1!P102,DiasNOLaborables))","v":9},"",null,null,20,null,null,null,null,null,null,null,"CORREO ELECTRÓNICO",null,null,null,null,44135]
[92,20209050029422,43924,"MODULO CONTACTENOS","SOLICITUD DE INFORMACIÓN Y DOCUMENTOS","SOLICITUD DE INFORMACIÓN HIDROMETEOROLÓGICA","NO","GRUPO DE ATENCIÓN AL CIUDADANO",43939,null,null,{"$f":"IFERROR(WORKDAY(C103,R103,DiasNOLaborables),\"\")","v":43957},{"$f":"+IF(C103=\"\",\"\",IF(I103=\"\",\"\",(IF(I103<=L103,\"A TIEMPO\",\"FUERA DE TIEMPO\"))))","v":"A TIEMPO"},{"$f":"IF(I103=\"\",\"\",NETWORKDAYS([4]Hoja1!C103+1,[4]Hoja1!P103,DiasNOLaborables))","v":9},"",null,null,20,null,null,null,null,null,null,null,"FAX",null,null,null,null,44136]
[93,20209050029432,43925,"MODULO CONTACTENOS","SOLICITUD DE INFORMACIÓN Y DOCUMENTOS","SOLICITUD DE INFORMACIÓN HIDROMETEOROLÓGICA","NO","GRUPO DE ATENCIÓN AL CIUDADANO",43939,null,null,{"$f":"IFERROR(WORKDAY(C104,R104,DiasNOLaborables),\"\")","v":43957},{"$f":"+IF(C104=\"\",\"\",IF(I104=\"\",\"\",(IF(I104<=L104,\"A TIEMPO\",\"FUERA DE TIEMPO\"))))","v":"A TIEMPO"},{"$f":"IF(I104=\"\",\"\",NETWORKDAYS([4]Hoja1!C104+1,[4]Hoja1!P104,DiasNOLaborables))","v":9},"",null,null,20,null,null,null,null,null,null,null,"INTERNO",null,null,null,null,44142]
[94,20209050029452,43925,"MODULO CONTACTENOS","SOLICITUD DE INFORMACIÓN Y DOCUMENTOS","SOLICITUD DE INFORMACIÓN HIDROMETEOROLÓGICA","NO","GRUPO DE ATENCIÓN AL CIUDADANO",43939,null,null,{"$f":"IFERROR(WORKDAY(C105,R105,DiasNOLaborables),\"\")","v":43957},{"$f":"+IF(C105=\"\",\"\",IF(I105=\"\",\"\",(IF(I105<=L105,\"A TIEMPO\",\"FUERA DE TIEMPO\"))))","v":"A TIEMPO"},{"$f":"IF(I105=\"\",\"\",NETWORKDAYS([4]Hoja1!C105+1,[4]Hoja1!P105,DiasNOLaborables))","v":9},{"$f":"IF(NETWORKDAYS(L105+1,I105,DiasNOLaborables)<=0,\"\",NETWORKDAYS(L105+1,I105,DiasNOLaborables))","v":""},null,null,20,null,null,null,null,null,null,null,"MODULO CONTACTENOS",null,null,null,null,44143]
[95,20200404112514,43925,"WEB (MÓDULO DE SOLICITUD DE INFORMACIÓN HIDROMETEOROLÓGICA)","SOLICITUD DE INFORMACIÓN Y DOCUMENTOS","SOLICITUD DE INFORMACIÓN HIDROMETEOROLÓGICA","NO","GRUPO DE ATENCIÓN AL CIUDADANO",43939,null,null,{"$f":"IFERROR(WORKDAY(C106,R106,DiasNOLaborables),\"\")","v":43957},{"$f":"+IF(C106=\"\",\"\",IF(I106=\"\",\"\",(IF(I106<=L106,\"A TIEMPO\",\"FUERA DE TIEMPO\"))))","v":"A TIEMPO"},{"$f":"IF(I106=\"\",\"\",NETWORKDAYS([4]Hoja1!C106+1,[4]Hoja1!P106,DiasNOLaborables))","v":9},"",null,null,20,null,null,null,null,null,null,null,"WEB (MÓDULO DE SOLICITUD DE INFORMACIÓN HIDROMETEOROLÓGICA)",null,null,null,null,44149]
[96,20200404234622,43925,"WEB (MÓDULO DE SOLICITUD DE INFORMACIÓN HIDROMETEOROLÓGICA)","SOLICITUD DE INFORMACIÓN Y DOCUMENTOS","SOLICITUD DE INFORMACIÓN HIDROMETEOROLÓGICA","NO","GRUPO DE ATENCIÓN AL CIUDADANO",43941,null,null,{"$f":"IFERROR(WORKDAY(C107,R107,DiasNOLaborables),\"\")","v":43957},{"$f":"+IF(C107=\"\",\"\",IF(I107=\"\",\"\",(IF(I107<=L107,\"A TIEMPO\",\"FUERA DE TIEMPO\"))))","v":"A TIEMPO"},{"$f":"IF(I107=\"\",\"\",NETWORKDAYS([4]Hoja1!C107+1,[4]Hoja1!P107,DiasNOLaborables))","v":8},"",null,null,20,null,null,null,null,null,null,null,null,null,null,null,null,44150]
[97,20200404233842,43925,"WEB (MÓDULO DE SOLICITUD DE INFORMACIÓN HIDROMETEOROLÓGICA)","SOLICITUD DE INFORMACIÓN Y DOCUMENTOS","SOLICITUD DE INFORMACIÓN HIDROMETEOROLÓGICA","NO","GRUPO DE ATENCIÓN AL CIUDADANO",43941,null,null,{"$f":"IFERROR(WORKDAY(C108,R108,DiasNOLaborables),\"\")","v":43957},{"$f":"+IF(C108=\"\",\"\",IF(I108=\"\",\"\",(IF(I108<=L108,\"A TIEMPO\",\"FUERA DE TIEMPO\"))))","v":"A TIEMPO"},{"$f":"IF(I108=\"\",\"\",NETWORKDAYS([4]Hoja1!C108+1,[4]Hoja1!P108,DiasNOLaborables))","v":6},"",null,null,20,null,null,null,null,null,null,null,"¿REQUERIMIENTO FUE ESCALADO?",null,null,null,null,44156]
[98,20200404233231,43925,"WEB (MÓDULO DE SOLICITUD DE INFORMACIÓN HIDROMETEOROLÓGICA)","SOLICITUD DE INFORMACIÓN Y DOCUMENTOS","SOLICITUD DE INFORMACIÓN HIDROMETEOROLÓGICA","NO","GRUPO DE ATENCIÓN AL CIUDADANO",43941,null,null,{"$f":"IFERROR(WORKDAY(C109,R109,DiasNOLaborables),\"\")","v":43957},{"$f":"+IF(C109=\"\",\"\",IF(I109=\"\",\"\",(IF(I109<=L109,\"A TIEMPO\",\"FUERA DE TIEMPO\"))))","v":"A TIEMPO"},{"$f":"IF(I109=\"\",\"\",NETWORKDAYS([4]Hoja1!C109+1,[4]Hoja1!P109,DiasNOLaborables))","v":6},"",null,null,20,null,null,null,null,null,null,null,"SI",null,null,null,null,44157]
[99,20200404232932,43925,"WEB (MÓDULO DE SOLICITUD DE INFORMACIÓN HIDROMETEOROLÓGICA)","SOLICITUD DE INFORMACIÓN Y DOCUMENTOS","SOLICITUD DE INFORMACIÓN HIDROMETEOROLÓGICA","NO","GRUPO DE ATENCIÓN AL CIUDADANO",43941,null,null,{"$f":"IFERROR(WORKDAY(C110,R110,DiasNOLaborables),\"\")","v":43957},{"$f":"+IF(C110=\"\",\"\",IF(I110=\"\",\"\",(IF(I110<=L110,\"A TIEMPO\",\"FUERA DE TIEMPO\"))))","v":"A TIEMPO"},{"$f":"IF(I110=\"\",\"\",NETWORKDAYS([4]Hoja1!C110+1,[4]Hoja1!P110,DiasNOLaborables))","v":9},"",null,null,20,null,null,null,null,null,null,null,"NO",null,null,null,null,44163]
[100,20200404232447,43925,"WEB (MÓDULO DE SOLICITUD DE INFORMACIÓN HIDROMETEOROLÓGICA)","SOLICITUD DE INFORMACIÓN Y DOCUMENTOS","SOLICITUD DE INFORMACIÓN HIDROMETEOROLÓGICA","NO","GRUPO DE ATENCIÓN AL CIUDADANO",43941,null,null,{"$f":"IFERROR(WORKDAY(C111,R111,DiasNOLaborables),\"\")","v":43957},{"$f":"+IF(C111=\"\",\"\",IF(I111=\"\",\"\",(IF(I111<=L111,\"A TIEMPO\",\"FUERA DE TIEMPO\"))))","v":"A TIEMPO"},{"$f":"IF(I111=\"\",\"\",NETWORKDAYS([4]Hoja1!C111+1,[4]Hoja1!P111,DiasNOLaborables))","v":9},"",null,null,20,null,null,null,null,null,null,null,null,null,null,null,null,44164]
[101,20200404231344,43925,"WEB (MÓDULO DE SOLICITUD DE INFORMACIÓN HIDROMETEOROLÓGICA)","SOLICITUD DE INFORMACIÓN Y DOCUMENTOS","SOLICITUD DE INFORMACIÓN HIDROMETEOROLÓGICA","NO","GRUPO DE ATENCIÓN AL CIUDADANO",43941,null,null,{"$f":"IFERROR(WORKDAY(C112,R112,DiasNOLaborables),\"\")","v":43957},{"$f":"+IF(C112=\"\",\"\",IF(I112=\"\",\"\",(IF(I112<=L112,\"A TIEMPO\",\"FUERA DE TIEMPO\"))))","v":"A TIEMPO"},{"$f":"IF(I112=\"\",\"\",NETWORKDAYS([4]Hoja1!C112+1,[4]Hoja1!P112,DiasNOLaborables))","v":9},"",null,null,20,null,null,null,null,null,null,null,"CANAL POR EL CUAL FUE RESUELTO EL REQUERIMIENTO",null,null,null,null,44170]
[102,20200404230104,43925,"WEB (MÓDULO DE SOLICITUD DE INFORMACIÓN HIDROMETEOROLÓGICA)","SOLICITUD DE INFORMACIÓN Y DOCUMENTOS","SOLICITUD DE INFORMACIÓN HIDROMETEOROLÓGICA","NO","GRUPO DE ATENCIÓN AL CIUDADANO",43941,null,null,{"$f":"IFERROR(WORKDAY(C113,R113,DiasNOLaborables),\"\")","v":43957},{"$f":"+IF(C113=\"\",\"\",IF(I113=\"\",\"\",(IF(I113<=L113,\"A TIEMPO\",\"FUERA DE TIEMPO\"))))","v":"A TIEMPO"},{"$f":"IF(I113=\"\",\"\",NETWORKDAYS([4]Hoja1!C113+1,[4]Hoja1!P113,DiasNOLaborables))","v":9},"",null,null,20,null,null,null,null,null,null,null,"CORREO ELECTRÓNICO",null,null,null,null,44171]
[103,20200404225330,43925,"WEB (MÓDULO DE SOLICITUD DE INFORMACIÓN HIDROMETEOROLÓGICA)","SOLICITUD DE INFORMACIÓN Y DOCUMENTOS","SOLICITUD DE INFORMACIÓN HIDROMETEOROLÓGICA","NO","GRUPO DE ATENCIÓN AL CIUDADANO",43941,null,null,{"$f":"IFERROR(WORKDAY(C114,R114,DiasNOLaborables),\"\")","v":43957},{"$f":"+IF(C114=\"\",\"\",IF(I114=\"\",\"\",(IF(I114<=L114,\"A TIEMPO\",\"FUERA DE TIEMPO\"))))","v":"A TIEMPO"},{"$f":"IF(I114=\"\",\"\",NETWORKDAYS([4]Hoja1!C114+1,[4]Hoja1!P114,DiasNOLaborables))","v":9},"",null,null,20,null,null,null,null,null,null,null,"CORREO CERTIFICADO",null,null,null,null,44173]
[104,20200404224725,43925,"WEB (MÓDULO DE SOLICITUD DE INFORMACIÓN HIDROMETEOROLÓGICA)","SOLICITUD DE INFORMACIÓN Y DOCUMENTOS","SOLICITUD DE INFORMACIÓN HIDROMETEOROLÓGICA","NO","GRUPO DE ATENCIÓN AL CIUDADANO",43941,null,null,{"$f":"IFERROR(WORKDAY(C115,R115,DiasNOLaborables),\"\")","v":43957},{"$f":"+IF(C115=\"\",\"\",IF(I115=\"\",\"\",(IF(I115<=L115,\"A TIEMPO\",\"FUERA DE TIEMPO\"))))","v":"A TIEMPO"},{"$f":"IF(I115=\"\",\"\",NETWORKDAYS([4]Hoja1!C115+1,[4]Hoja1!P115,DiasNOLaborables))","v":9},"",null,null,20,null,null,null,null,null,null,null,null,null,null,null,null,44177]
[105,20200404223735,43925,"WEB (MÓDULO DE SOLICITUD DE INFORMACIÓN HIDROMETEOROLÓGICA)","SOLICITUD DE INFORMACIÓN Y DOCUMENTOS","SOLICITUD DE INFORMACIÓN HIDROMETEOROLÓGICA","NO","GRUPO DE ATENCIÓN AL CIUDADANO",43941,null,null,{"$f":"IFERROR(WORKDAY(C116,R116,DiasNOLaborables),\"\")","v":43957},{"$f":"+IF(C116=\"\",\"\",IF(I116=\"\",\"\",(IF(I116<=L116,\"A TIEMPO\",\"FUERA DE TIEMPO\"))))","v":"A TIEMPO"},{"$f":"IF(I116=\"\",\"\",NETWORKDAYS([4]Hoja1!C116+1,[4]Hoja1!P116,DiasNOLaborables))","v":8},"",null,null,20,null,null,null,null,null,null,null,null,null,null,null,null,44178]
[106,20200404223220,43925,"WEB (MÓDULO DE SOLICITUD DE INFORMACIÓN HIDROMETEOROLÓGICA)","SOLICITUD DE INFORMACIÓN Y DOCUMENTOS","SOLICITUD DE INFORMACIÓN HIDROMETEOROLÓGICA","NO","GRUPO DE ATENCIÓN AL CIUDADANO",43941,null,null,{"$f":"IFERROR(WORKDAY(C117,R117,DiasNOLaborables),\"\")","v":43957},{"$f":"+IF(C117=\"\",\"\",IF(I117=\"\",\"\",(IF(I117<=L117,\"A TIEMPO\",\"FUERA DE TIEMPO\"))))","v":"A TIEMPO"},{"$f":"IF(I117=\"\",\"\",NETWORKDAYS([4]Hoja1!C117+1,[4]Hoja1!P117,DiasNOLaborables))","v":8},"",null,null,20,null,null,null,null,null,null,null,null,null,null,null,null,44184]
[107,20200404222416,43925,"WEB (MÓDULO DE SOLICITUD DE INFORMACIÓN HIDROMETEOROLÓGICA)","SOLICITUD DE INFORMACIÓN Y DOCUMENTOS","SOLICITUD DE INFORMACIÓN HIDROMETEOROLÓGICA","NO","GRUPO DE ATENCIÓN AL CIUDADANO",43941,null,null,{"$f":"IFERROR(WORKDAY(C118,R118,DiasNOLaborables),\"\")","v":43957},{"$f":"+IF(C118=\"\",\"\",IF(I118=\"\",\"\",(IF(I118<=L118,\"A TIEMPO\",\"FUERA DE TIEMPO\"))))","v":"A TIEMPO"},{"$f":"IF(I118=\"\",\"\",NETWORKDAYS([4]Hoja1!C118+1,[4]Hoja1!P118,DiasNOLaborables))","v":8},"",null,null,20,null,null,null,null,null,null,null,null,null,null,null,null,44185]
[108,20200404215205,43925,"WEB (MÓDULO DE SOLICITUD DE INFORMACIÓN HIDROMETEOROLÓGICA)","SOLICITUD DE INFORMACIÓN Y DOCUMENTOS","SOLICITUD DE INFORMACIÓN HIDROMETEOROLÓGICA","NO","GRUPO DE ATENCIÓN AL CIUDADANO",43941,null,null,{"$f":"IFERROR(WORKDAY(C119,R119,DiasNOLaborables),\"\")","v":43957},{"$f":"+IF(C119=\"\",\"\",IF(I119=\"\",\"\",(IF(I119<=L119,\"A TIEMPO\",\"FUERA DE TIEMPO\"))))","v":"A TIEMPO"},{"$f":"IF(I119=\"\",\"\",NETWORKDAYS([4]Hoja1!C119+1,[4]Hoja1!P119,DiasNOLaborables))","v":8},"",null,null,20,null,null,null,null,null,null,null,null,null,null,null,null,44190]
[109,20209050029692,43927,"MODULO CONTACTENOS","SOLICITUD DE INFORMACIÓN Y DOCUMENTOS","SOLICITUD DE INFORMACIÓN HIDROMETEOROLÓGICA","NO","GRUPO DE ATENCIÓN AL CIUDADANO",43941,null,null,{"$f":"IFERROR(WORKDAY(C120,R120,DiasNOLaborables),\"\")","v":43958},{"$f":"+IF(C120=\"\",\"\",IF(I120=\"\",\"\",(IF(I120<=L120,\"A TIEMPO\",\"FUERA DE TIEMPO\"))))","v":"A TIEMPO"},{"$f":"IF(I120=\"\",\"\",NETWORKDAYS([4]Hoja1!C120+1,[4]Hoja1!P120,DiasNOLaborables))","v":10},"",null,null,20,null,null,null,null,null,null,null,null,null,null,null,null,44191]
[110,20209050029702,43927,"MODULO CONTACTENOS","SOLICITUD DE INFORMACIÓN Y DOCUMENTOS","SOLICITUD DE INFORMACIÓN HIDROMETEOROLÓGICA","NO","GRUPO DE ATENCIÓN AL CIUDADANO",43941,null,null,{"$f":"IFERROR(WORKDAY(C121,R121,DiasNOLaborables),\"\")","v":43958},{"$f":"+IF(C121=\"\",\"\",IF(I121=\"\",\"\",(IF(I121<=L121,\"A TIEMPO\",\"FUERA DE TIEMPO\"))))","v":"A TIEMPO"},{"$f":"IF(I121=\"\",\"\",NETWORKDAYS([4]Hoja1!C121+1,[4]Hoja1!P121,DiasNOLaborables))","v":10},"",null,null,20,null,null,null,null,null,null,null,null,null,null,null,null,44192]
[111,20209050029712,43927,"MODULO CONTACTENOS","SOLICITUD DE INFORMACIÓN Y DOCUMENTOS","SOLICITUD DE INFORMACIÓN HIDROMETEOROLÓGICA","NO","GRUPO DE ATENCIÓN AL CIUDADANO",43941,null,null,{"$f":"IFERROR(WORKDAY(C122,R122,DiasNOLaborables),\"\")","v":43958},{"$f":"+IF(C122=\"\",\"\",IF(I122=\"\",\"\",(IF(I122<=L122,\"A TIEMPO\",\"FUERA DE TIEMPO\"))))","v":"A TIEMPO"},{"$f":"IF(I122=\"\",\"\",NETWORKDAYS([4]Hoja1!C122+1,[4]Hoja1!P122,DiasNOLaborables))","v":10},"",null,null,20]
[112,20209050029722,43927,"MODULO CONTACTENOS","SOLICITUD DE INFORMACIÓN Y DOCUMENTOS","SOLICITUD DE INFORMACIÓN HIDROMETEOROLÓGICA","NO","GRUPO DE ATENCIÓN AL CIUDADANO",43941,null,null,{"$f":"IFERROR(WORKDAY(C123,R123,DiasNOLaborables),\"\")","v":43958},{"$f":"+IF(C123=\"\",\"\",IF(I123=\"\",\"\",(IF(I123<=L123,\"A TIEMPO\",\"FUERA DE TIEMPO\"))))","v":"A TIEMPO"},{"$f":"IF(I123=\"\",\"\",NETWORKDAYS([4]Hoja1!C123+1,[4]Hoja1!P123,DiasNOLaborables))","v":10},"",null,null,20]
[113,20209050029732,43927,"MODULO CONTACTENOS","SOLICITUD DE INFORMACIÓN Y DOCUMENTOS","SOLICITUD DE INFORMACIÓN HIDROMETEOROLÓGICA","NO","GRUPO DE ATENCIÓN AL CIUDADANO",43941,null,null,{"$f":"IFERROR(WORKDAY(C124,R124,DiasNOLaborables),\"\")","v":43958},{"$f":"+IF(C124=\"\",\"\",IF(I124=\"\",\"\",(IF(I124<=L124,\"A TIEMPO\",\"FUERA DE TIEMPO\"))))","v":"A TIEMPO"},{"$f":"IF(I124=\"\",\"\",NETWORKDAYS([4]Hoja1!C124+1,[4]Hoja1!P124,DiasNOLaborables))","v":9},"",null,null,20]
[114,20209050029762,43927,"MODULO CONTACTENOS","SOLICITUD DE INFORMACIÓN Y DOCUMENTOS","SOLICITUD DE INFORMACIÓN HIDROMETEOROLÓGICA","NO","GRUPO DE ATENCIÓN AL CIUDADANO",43941,null,null,{"$f":"IFERROR(WORKDAY(C125,R125,DiasNOLaborables),\"\")","v":43958},{"$f":"+IF(C125=\"\",\"\",IF(I125=\"\",\"\",(IF(I125<=L125,\"A TIEMPO\",\"FUERA DE TIEMPO\"))))","v":"A TIEMPO"},{"$f":"IF(I125=\"\",\"\",NETWORKDAYS([4]Hoja1!C125+1,[4]Hoja1!P125,DiasNOLaborables))","v":8},"",null,null,20]
[115,20209050030092,43928,"MODULO CONTACTENOS","SOLICITUD DE INFORMACIÓN Y DOCUMENTOS","SOLICITUD DE INFORMACIÓN HIDROMETEOROLÓGICA","NO","GRUPO DE ATENCIÓN AL CIUDADANO",43941,null,null,{"$f":"IFERROR(WORKDAY(C126,R126,DiasNOLaborables),\"\")","v":43959},{"$f":"+IF(C126=\"\",\"\",IF(I126=\"\",\"\",(IF(I126<=L126,\"A TIEMPO\",\"FUERA DE TIEMPO\"))))","v":"A TIEMPO"},{"$f":"IF(I126=\"\",\"\",NETWORKDAYS([4]Hoja1!C126+1,[4]Hoja1!P126,DiasNOLaborables))","v":8},"",null,null,20]
[116,20209050030102,43928,"MODULO CONTACTENOS","SOLICITUD DE INFORMACIÓN Y DOCUMENTOS","SOLICITUD DE INFORMACIÓN HIDROMETEOROLÓGICA","NO","GRUPO DE ATENCIÓN AL CIUDADANO",43941,null,null,{"$f":"IFERROR(WORKDAY(C127,R127,DiasNOLaborables),\"\")","v":43959},{"$f":"+IF(C127=\"\",\"\",IF(I127=\"\",\"\",(IF(I127<=L127,\"A TIEMPO\",\"FUERA DE TIEMPO\"))))","v":"A TIEMPO"},{"$f":"IF(I127=\"\",\"\",NETWORKDAYS([4]Hoja1!C127+1,[4]Hoja1!P127,DiasNOLaborables))","v":8},"",null,null,20]
[117,20209050030112,43928,"MODULO CONTACTENOS","SOLICITUD DE INFORMACIÓN Y DOCUMENTOS","SOLICITUD DE INFORMACIÓN HIDROMETEOROLÓGICA","NO","GRUPO DE ATENCIÓN AL CIUDADANO",43942,null,null,{"$f":"IFERROR(WORKDAY(C128,R128,DiasNOLaborables),\"\")","v":43959},{"$f":"+IF(C128=\"\",\"\",IF(I128=\"\",\"\",(IF(I128<=L128,\"A TIEMPO\",\"FUERA DE TIEMPO\"))))","v":"A TIEMPO"},{"$f":"IF(I128=\"\",\"\",NETWORKDAYS([4]Hoja1!C128+1,[4]Hoja1!P128,DiasNOLaborables))","v":8},"",null,null,20]
[118,20209050030122,43928,"MODULO CONTACTENOS","SOLICITUD DE INFORMACIÓN Y DOCUMENTOS","SOLICITUD DE INFORMACIÓN HIDROMETEOROLÓGICA","NO","GRUPO DE ATENCIÓN AL CIUDADANO",43942,null,null,{"$f":"IFERROR(WORKDAY(C129,R129,DiasNOLaborables),\"\")","v":43959},{"$f":"+IF(C129=\"\",\"\",IF(I129=\"\",\"\",(IF(I129<=L129,\"A TIEMPO\",\"FUERA DE TIEMPO\"))))","v":"A TIEMPO"},{"$f":"IF(I129=\"\",\"\",NETWORKDAYS([4]Hoja1!C129+1,[4]Hoja1!P129,DiasNOLaborables))","v":8},"",null,null,20]
[119,20209050030132,43928,"MODULO CONTACTENOS","SOLICITUD DE INFORMACIÓN Y DOCUMENTOS","SOLICITUD DE INFORMACIÓN HIDROMETEOROLÓGICA","NO","GRUPO DE ATENCIÓN AL CIUDADANO",43942,null,null,{"$f":"IFERROR(WORKDAY(C130,R130,DiasNOLaborables),\"\")","v":43959},{"$f":"+IF(C130=\"\",\"\",IF(I130=\"\",\"\",(IF(I130<=L130,\"A TIEMPO\",\"FUERA DE TIEMPO\"))))","v":"A TIEMPO"},{"$f":"IF(I130=\"\",\"\",NETWORKDAYS([4]Hoja1!C130+1,[4]Hoja1!P130,DiasNOLaborables))","v":5},"",null,null,20]
[120,20209050030412,43929,"MODULO CONTACTENOS","SOLICITUD DE INFORMACIÓN Y DOCUMENTOS","SOLICITUD DE INFORMACIÓN HIDROMETEOROLÓGICA","NO","GRUPO DE ATENCIÓN AL CIUDADANO",43942,null,null,{"$f":"IFERROR(WORKDAY(C131,R131,DiasNOLaborables),\"\")","v":43962},{"$f":"+IF(C131=\"\",\"\",IF(I131=\"\",\"\",(IF(I131<=L131,\"A TIEMPO\",\"FUERA DE TIEMPO\"))))","v":"A TIEMPO"},{"$f":"IF(I131=\"\",\"\",NETWORKDAYS([4]Hoja1!C131+1,[4]Hoja1!P131,DiasNOLaborables))","v":9},"",null,null,20]
[121,20209050030452,43929,"MODULO CONTACTENOS","SOLICITUD DE INFORMACIÓN Y DOCUMENTOS","SOLICITUD DE INFORMACIÓN HIDROMETEOROLÓGICA","NO","GRUPO DE ATENCIÓN AL CIUDADANO",43942,null,null,{"$f":"IFERROR(WORKDAY(C132,R132,DiasNOLaborables),\"\")","v":43962},{"$f":"+IF(C132=\"\",\"\",IF(I132=\"\",\"\",(IF(I132<=L132,\"A TIEMPO\",\"FUERA DE TIEMPO\"))))","v":"A TIEMPO"},{"$f":"IF(I132=\"\",\"\",NETWORKDAYS([4]Hoja1!C132+1,[4]Hoja1!P132,DiasNOLaborables))","v":9},"",null,null,20]
[122,20209050030472,43929,"MODULO CONTACTENOS","SOLICITUD DE INFORMACIÓN Y DOCUMENTOS","SOLICITUD DE INFORMACIÓN HIDROMETEOROLÓGICA","NO","GRUPO DE ATENCIÓN AL CIUDADANO",43942,null,null,{"$f":"IFERROR(WORKDAY(C133,R133,DiasNOLaborables),\"\")","v":43962},{"$f":"+IF(C133=\"\",\"\",IF(I133=\"\",\"\",(IF(I133<=L133,\"A TIEMPO\",\"FUERA DE TIEMPO\"))))","v":"A TIEMPO"},{"$f":"IF(I133=\"\",\"\",NETWORKDAYS([4]Hoja1!C133+1,[4]Hoja1!P133,DiasNOLaborables))","v":9},"",null,null,20]
[123,20209050030592,43929,"MODULO CONTACTENOS","SOLICITUD DE INFORMACIÓN Y DOCUMENTOS","SOLICITUD DE INFORMACIÓN HIDROMETEOROLÓGICA","NO","GRUPO DE ATENCIÓN AL CIUDADANO",43942,null,null,{"$f":"IFERROR(WORKDAY(C134,R134,DiasNOLaborables),\"\")","v":43962},{"$f":"+IF(C134=\"\",\"\",IF(I134=\"\",\"\",(IF(I134<=L134,\"A TIEMPO\",\"FUERA DE TIEMPO\"))))","v":"A TIEMPO"},{"$f":"IF(I134=\"\",\"\",NETWORKDAYS([4]Hoja1!C134+1,[4]Hoja1!P134,DiasNOLaborables))","v":9},"",null,null,20]
[124,20209050030602,43929,"MODULO CONTACTENOS","SOLICITUD DE INFORMACIÓN Y DOCUMENTOS","SOLICITUD DE INFORMACIÓN HIDROMETEOROLÓGICA","NO","GRUPO DE ATENCIÓN AL CIUDADANO",43942,null,null,{"$f":"IFERROR(WORKDAY(C135,R135,DiasNOLaborables),\"\")","v":43962},{"$f":"+IF(C135=\"\",\"\",IF(I135=\"\",\"\",(IF(I135<=L135,\"A TIEMPO\",\"FUERA DE TIEMPO\"))))","v":"A TIEMPO"},{"$f":"IF(I135=\"\",\"\",NETWORKDAYS([4]Hoja1!C135+1,[4]Hoja1!P135,DiasNOLaborables))","v":9},"",null,null,20]
[125,20209050030492,43929,"MODULO CONTACTENOS","SOLICITUD DE INFORMACIÓN Y DOCUMENTOS","SOLICITUD DE INFORMACIÓN HIDROMETEOROLÓGICA","NO","GRUPO DE ATENCIÓN AL CIUDADANO",43942,null,null,{"$f":"IFERROR(WORKDAY(C136,R136,DiasNOLaborables),\"\")","v":43962},{"$f":"+IF(C136=\"\",\"\",IF(I136=\"\",\"\",(IF(I136<=L136,\"A TIEMPO\",\"FUERA DE TIEMPO\"))))","v":"A TIEMPO"},{"$f":"IF(I136=\"\",\"\",NETWORKDAYS([4]Hoja1!C136+1,[4]Hoja1!P136,DiasNOLaborables))","v":9},"",null,null,20]
[126,20209910033442,43929,"MODULO CONTACTENOS","SOLICITUD DE INFORMACIÓN Y DOCUMENTOS","SOLICITUD DE INFORMACIÓN HIDROMETEOROLÓGICA","NO","GRUPO DE ATENCIÓN AL CIUDADANO",43942,null,null,{"$f":"IFERROR(WORKDAY(C137,R137,DiasNOLaborables),\"\")","v":43962},{"$f":"+IF(C137=\"\",\"\",IF(I137=\"\",\"\",(IF(I137<=L137,\"A TIEMPO\",\"FUERA DE TIEMPO\"))))","v":"A TIEMPO"},{"$f":"IF(I137=\"\",\"\",NETWORKDAYS([4]Hoja1!C137+1,[4]Hoja1!P137,DiasNOLaborables))","v":8},"",null,null,20]
[127,20209050030612,43929,"MODULO CONTACTENOS","SOLICITUD DE INFORMACIÓN Y DOCUMENTOS","SOLICITUD DE INFORMACIÓN HIDROMETEOROLÓGICA","NO","GRUPO DE ATENCIÓN AL CIUDADANO",43942,null,null,{"$f":"IFERROR(WORKDAY(C138,R138,DiasNOLaborables),\"\")","v":43962},{"$f":"+IF(C138=\"\",\"\",IF(I138=\"\",\"\",(IF(I138<=L138,\"A TIEMPO\",\"FUERA DE TIEMPO\"))))","v":"A TIEMPO"},{"$f":"IF(I138=\"\",\"\",NETWORKDAYS([4]Hoja1!C138+1,[4]Hoja1!P138,DiasNOLaborables))","v":8},"",null,null,20]
[128,20209050032052,43936,"MODULO CONTACTENOS","SOLICITUD DE INFORMACIÓN Y DOCUMENTOS","SOLICITUD DE INFORMACIÓN HIDROMETEOROLÓGICA","NO","GRUPO DE ATENCIÓN AL CIUDADANO",43942,null,null,{"$f":"IFERROR(WORKDAY(C139,R139,DiasNOLaborables),\"\")","v":43965},{"$f":"+IF(C139=\"\",\"\",IF(I139=\"\",\"\",(IF(I139<=L139,\"A TIEMPO\",\"FUERA DE TIEMPO\"))))","v":"A TIEMPO"},{"$f":"IF(I139=\"\",\"\",NETWORKDAYS([4]Hoja1!C139+1,[4]Hoja1!P139,DiasNOLaborables))","v":8},"",null,null,20]
[129,20209050030622,43929,"MODULO CONTACTENOS","SOLICITUD DE INFORMACIÓN Y DOCUMENTOS","SOLICITUD DE INFORMACIÓN HIDROMETEOROLÓGICA","NO","GRUPO DE ATENCIÓN AL CIUDADANO",43942,null,null,{"$f":"IFERROR(WORKDAY(C140,R140,DiasNOLaborables),\"\")","v":43962},{"$f":"+IF(C140=\"\",\"\",IF(I140=\"\",\"\",(IF(I140<=L140,\"A TIEMPO\",\"FUERA DE TIEMPO\"))))","v":"A TIEMPO"},{"$f":"IF(I140=\"\",\"\",NETWORKDAYS([4]Hoja1!C140+1,[4]Hoja1!P140,DiasNOLaborables))","v":8},"",null,null,20]
[130,20209050030632,43929,"MODULO CONTACTENOS","SOLICITUD DE INFORMACIÓN Y DOCUMENTOS","SOLICITUD DE INFORMACIÓN HIDROMETEOROLÓGICA","NO","GRUPO DE ATENCIÓN AL CIUDADANO",43942,null,null,{"$f":"IFERROR(WORKDAY(C141,R141,DiasNOLaborables),\"\")","v":43962},{"$f":"+IF(C141=\"\",\"\",IF(I141=\"\",\"\",(IF(I141<=L141,\"A TIEMPO\",\"FUERA DE TIEMPO\"))))","v":"A TIEMPO"},{"$f":"IF(I141=\"\",\"\",NETWORKDAYS([4]Hoja1!C141+1,[4]Hoja1!P141,DiasNOLaborables))","v":8},"",null,null,20]
[{"$f":"IF(B141<>\"\",A141+1,\"\")","v":131},20209050030642,43929,"MODULO CONTACTENOS","SOLICITUD DE INFORMACIÓN Y DOCUMENTOS","SOLICITUD DE INFORMACIÓN HIDROMETEOROLÓGICA","NO","GRUPO DE ATENCIÓN AL CIUDADANO",43942,null,null,{"$f":"IFERROR(WORKDAY(C142,R142,DiasNOLaborables),\"\")","v":43962},{"$f":"+IF(C142=\"\",\"\",IF(I142=\"\",\"\",(IF(I142<=L142,\"A TIEMPO\",\"FUERA DE TIEMPO\"))))","v":"A TIEMPO"},{"$f":"IF(I142=\"\",\"\",NETWORKDAYS([4]Hoja1!C142+1,[4]Hoja1!P142,DiasNOLaborables))","v":9},"",null,null,20]
[132,20209050030652,43929,"MODULO CONTACTENOS","SOLICITUD DE INFORMACIÓN Y DOCUMENTOS","SOLICITUD DE INFORMACIÓN HIDROMETEOROLÓGICA","NO","GRUPO DE ATENCIÓN AL CIUDADANO",43942,null,null,{"$f":"IFERROR(WORKDAY(C143,R143,DiasNOLaborables),\"\")","v":43962},{"$f":"+IF(C143=\"\",\"\",IF(I143=\"\",\"\",(IF(I143<=L143,\"A TIEMPO\",\"FUERA DE TIEMPO\"))))","v":"A TIEMPO"},{"$f":"IF(I143=\"\",\"\",NETWORKDAYS([4]Hoja1!C143+1,[4]Hoja1!P143,DiasNOLaborables))","v":9},"",null,null,20]
[133,20200408213210,43929,"WEB (MÓDULO DE SOLICITUD DE INFORMACIÓN HIDROMETEOROLÓGICA)","SOLICITUD DE INFORMACIÓN Y DOCUMENTOS","SOLICITUD DE INFORMACIÓN HIDROMETEOROLÓGICA","NO","GRUPO DE ATENCIÓN AL CIUDADANO",43943,null,null,{"$f":"IFERROR(WORKDAY(C144,R144,DiasNOLaborables),\"\")","v":43962},{"$f":"+IF(C144=\"\",\"\",IF(I144=\"\",\"\",(IF(I144<=L144,\"A TIEMPO\",\"FUERA DE TIEMPO\"))))","v":"A TIEMPO"},{"$f":"IF(I144=\"\",\"\",NETWORKDAYS([4]Hoja1!C144+1,[4]Hoja1!P144,DiasNOLaborables))","v":9},"",null,null,20]
[134,20200408212657,43929,"WEB (MÓDULO DE SOLICITUD DE INFORMACIÓN HIDROMETEOROLÓGICA)","SOLICITUD DE INFORMACIÓN Y DOCUMENTOS","SOLICITUD DE INFORMACIÓN HIDROMETEOROLÓGICA","NO","GRUPO DE ATENCIÓN AL CIUDADANO",43943,null,null,{"$f":"IFERROR(WORKDAY(C145,R145,DiasNOLaborables),\"\")","v":43962},{"$f":"+IF(C145=\"\",\"\",IF(I145=\"\",\"\",(IF(I145<=L145,\"A TIEMPO\",\"FUERA DE TIEMPO\"))))","v":"A TIEMPO"},{"$f":"IF(I145=\"\",\"\",NETWORKDAYS([4]Hoja1!C145+1,[4]Hoja1!P145,DiasNOLaborables))","v":9},"",null,null,20]
[135,20200408212154,43929,"WEB (MÓDULO DE SOLICITUD DE INFORMACIÓN HIDROMETEOROLÓGICA)","SOLICITUD DE INFORMACIÓN Y DOCUMENTOS","SOLICITUD DE INFORMACIÓN HIDROMETEOROLÓGICA","NO","GRUPO DE ATENCIÓN AL CIUDADANO",43943,null,null,{"$f":"IFERROR(WORKDAY(C146,R146,DiasNOLaborables),\"\")","v":43962},{"$f":"+IF(C146=\"\",\"\",IF(I146=\"\",\"\",(IF(I146<=L146,\"A TIEMPO\",\"FUERA DE TIEMPO\"))))","v":"A TIEMPO"},{"$f":"IF(I146=\"\",\"\",NETWORKDAYS([4]Hoja1!C146+1,[4]Hoja1!P146,DiasNOLaborables))","v":9},"",null,null,20]
[136,20200408211245,43929,"WEB (MÓDULO DE SOLICITUD DE INFORMACIÓN HIDROMETEOROLÓGICA)","SOLICITUD DE INFORMACIÓN Y DOCUMENTOS","SOLICITUD DE INFORMACIÓN HIDROMETEOROLÓGICA","NO","GRUPO DE ATENCIÓN AL CIUDADANO",43943,null,null,{"$f":"IFERROR(WORKDAY(C147,R147,DiasNOLaborables),\"\")","v":43962},{"$f":"+IF(C147=\"\",\"\",IF(I147=\"\",\"\",(IF(I147<=L147,\"A TIEMPO\",\"FUERA DE TIEMPO\"))))","v":"A TIEMPO"},{"$f":"IF(I147=\"\",\"\",NETWORKDAYS([4]Hoja1!C147+1,[4]Hoja1!P147,DiasNOLaborables))","v":9},"",null,null,20]
[137,20200408210611,43929,"WEB (MÓDULO DE SOLICITUD DE INFORMACIÓN HIDROMETEOROLÓGICA)","SOLICITUD DE INFORMACIÓN Y DOCUMENTOS","SOLICITUD DE INFORMACIÓN HIDROMETEOROLÓGICA","NO","GRUPO DE ATENCIÓN AL CIUDADANO",43943,null,null,{"$f":"IFERROR(WORKDAY(C148,R148,DiasNOLaborables),\"\")","v":43962},{"$f":"+IF(C148=\"\",\"\",IF(I148=\"\",\"\",(IF(I148<=L148,\"A TIEMPO\",\"FUERA DE TIEMPO\"))))","v":"A TIEMPO"},{"$f":"IF(I148=\"\",\"\",NETWORKDAYS([4]Hoja1!C148+1,[4]Hoja1!P148,DiasNOLaborables))","v":9},"",null,null,20]
[138,20200408191716,43929,"WEB (MÓDULO DE SOLICITUD DE INFORMACIÓN HIDROMETEOROLÓGICA)","SOLICITUD DE INFORMACIÓN Y DOCUMENTOS","SOLICITUD DE INFORMACIÓN HIDROMETEOROLÓGICA","NO","GRUPO DE ATENCIÓN AL CIUDADANO",43943,null,null,{"$f":"IFERROR(WORKDAY(C149,R149,DiasNOLaborables),\"\")","v":43962},{"$f":"+IF(C149=\"\",\"\",IF(I149=\"\",\"\",(IF(I149<=L149,\"A TIEMPO\",\"FUERA DE TIEMPO\"))))","v":"A TIEMPO"},{"$f":"IF(I149=\"\",\"\",NETWORKDAYS([4]Hoja1!C149+1,[4]Hoja1!P149,DiasNOLaborables))","v":9},"",null,null,20]
[139,20200408190026,43929,"WEB (MÓDULO DE SOLICITUD DE INFORMACIÓN HIDROMETEOROLÓGICA)","SOLICITUD DE INFORMACIÓN Y DOCUMENTOS","SOLICITUD DE INFORMACIÓN HIDROMETEOROLÓGICA","NO","GRUPO DE ATENCIÓN AL CIUDADANO",43943,null,null,{"$f":"IFERROR(WORKDAY(C150,R150,DiasNOLaborables),\"\")","v":43962},{"$f":"+IF(C150=\"\",\"\",IF(I150=\"\",\"\",(IF(I150<=L150,\"A TIEMPO\",\"FUERA DE TIEMPO\"))))","v":"A TIEMPO"},{"$f":"IF(I150=\"\",\"\",NETWORKDAYS([4]Hoja1!C150+1,[4]Hoja1!P150,DiasNOLaborables))","v":9},"",null,null,20]
[140,20200408185515,43929,"WEB (MÓDULO DE SOLICITUD DE INFORMACIÓN HIDROMETEOROLÓGICA)","SOLICITUD DE INFORMACIÓN Y DOCUMENTOS","SOLICITUD DE INFORMACIÓN HIDROMETEOROLÓGICA","NO","GRUPO DE ATENCIÓN AL CIUDADANO",43943,null,null,{"$f":"IFERROR(WORKDAY(C151,R151,DiasNOLaborables),\"\")","v":43962},{"$f":"+IF(C151=\"\",\"\",IF(I151=\"\",\"\",(IF(I151<=L151,\"A TIEMPO\",\"FUERA DE TIEMPO\"))))","v":"A TIEMPO"},{"$f":"IF(I151=\"\",\"\",NETWORKDAYS([4]Hoja1!C151+1,[4]Hoja1!P151,DiasNOLaborables))","v":9},"",null,null,20]
[141,20200408184929,43929,"WEB (MÓDULO DE SOLICITUD DE INFORMACIÓN HIDROMETEOROLÓGICA)","SOLICITUD DE INFORMACIÓN Y DOCUMENTOS","SOLICITUD DE INFORMACIÓN HIDROMETEOROLÓGICA","NO","GRUPO DE ATENCIÓN AL CIUDADANO",43943,null,null,{"$f":"IFERROR(WORKDAY(C152,R152,DiasNOLaborables),\"\")","v":43962},{"$f":"+IF(C152=\"\",\"\",IF(I152=\"\",\"\",(IF(I152<=L152,\"A TIEMPO\",\"FUERA DE TIEMPO\"))))","v":"A TIEMPO"},{"$f":"IF(I152=\"\",\"\",NETWORKDAYS([4]Hoja1!C152+1,[4]Hoja1!P152,DiasNOLaborables))","v":9},"",null,null,20]
[142,20200408183849,43929,"WEB (MÓDULO DE SOLICITUD DE INFORMACIÓN HIDROMETEOROLÓGICA)","SOLICITUD DE INFORMACIÓN Y DOCUMENTOS","SOLICITUD DE INFORMACIÓN HIDROMETEOROLÓGICA","NO","GRUPO DE ATENCIÓN AL CIUDADANO",43943,null,null,{"$f":"IFERROR(WORKDAY(C153,R153,DiasNOLaborables),\"\")","v":43962},{"$f":"+IF(C153=\"\",\"\",IF(I153=\"\",\"\",(IF(I153<=L153,\"A TIEMPO\",\"FUERA DE TIEMPO\"))))","v":"A TIEMPO"},{"$f":"IF(I153=\"\",\"\",NETWORKDAYS([4]Hoja1!C153+1,[4]Hoja1!P153,DiasNOLaborables))","v":8},"",null,null,20]
[143,20200408183205,43929,"WEB (MÓDULO DE SOLICITUD DE INFORMACIÓN HIDROMETEOROLÓGICA)","SOLICITUD DE INFORMACIÓN Y DOCUMENTOS","SOLICITUD DE INFORMACIÓN HIDROMETEOROLÓGICA","NO","GRUPO DE ATENCIÓN AL CIUDADANO",43943,null,null,{"$f":"IFERROR(WORKDAY(C154,R154,DiasNOLaborables),\"\")","v":43962},{"$f":"+IF(C154=\"\",\"\",IF(I154=\"\",\"\",(IF(I154<=L154,\"A TIEMPO\",\"FUERA DE TIEMPO\"))))","v":"A TIEMPO"},{"$f":"IF(I154=\"\",\"\",NETWORKDAYS([4]Hoja1!C154+1,[4]Hoja1!P154,DiasNOLaborables))","v":8},"",null,null,20]
[144,20200408182555,43929,"WEB (MÓDULO DE SOLICITUD DE INFORMACIÓN HIDROMETEOROLÓGICA)","SOLICITUD DE INFORMACIÓN Y DOCUMENTOS","SOLICITUD DE INFORMACIÓN HIDROMETEOROLÓGICA","NO","GRUPO DE ATENCIÓN AL CIUDADANO",43943,null,null,{"$f":"IFERROR(WORKDAY(C155,R155,DiasNOLaborables),\"\")","v":43962},{"$f":"+IF(C155=\"\",\"\",IF(I155=\"\",\"\",(IF(I155<=L155,\"A TIEMPO\",\"FUERA DE TIEMPO\"))))","v":"A TIEMPO"},{"$f":"IF(I155=\"\",\"\",NETWORKDAYS([4]Hoja1!C155+1,[4]Hoja1!P155,DiasNOLaborables))","v":9},"",null,null,20]
[145,20200408181756,43929,"WEB (MÓDULO DE SOLICITUD DE INFORMACIÓN HIDROMETEOROLÓGICA)","SOLICITUD DE INFORMACIÓN Y DOCUMENTOS","SOLICITUD DE INFORMACIÓN HIDROMETEOROLÓGICA","NO","GRUPO DE ATENCIÓN AL CIUDADANO",43943,null,null,{"$f":"IFERROR(WORKDAY(C156,R156,DiasNOLaborables),\"\")","v":43962},{"$f":"+IF(C156=\"\",\"\",IF(I156=\"\",\"\",(IF(I156<=L156,\"A TIEMPO\",\"FUERA DE TIEMPO\"))))","v":"A TIEMPO"},{"$f":"IF(I156=\"\",\"\",NETWORKDAYS([4]Hoja1!C156+1,[4]Hoja1!P156,DiasNOLaborables))","v":9},"",null,null,20]
[146,20200408181210,43929,"WEB (MÓDULO DE SOLICITUD DE INFORMACIÓN HIDROMETEOROLÓGICA)","SOLICITUD DE INFORMACIÓN Y DOCUMENTOS","SOLICITUD DE INFORMACIÓN HIDROMETEOROLÓGICA","NO","GRUPO DE ATENCIÓN AL CIUDADANO",43943,null,null,{"$f":"IFERROR(WORKDAY(C157,R157,DiasNOLaborables),\"\")","v":43962},{"$f":"+IF(C157=\"\",\"\",IF(I157=\"\",\"\",(IF(I157<=L157,\"A TIEMPO\",\"FUERA DE TIEMPO\"))))","v":"A TIEMPO"},{"$f":"IF(I157=\"\",\"\",NETWORKDAYS([4]Hoja1!C157+1,[4]Hoja1!P157,DiasNOLaborables))","v":9},"",null,null,20]
[147,20209050030672,43931,"MODULO CONTACTENOS","SOLICITUD DE INFORMACIÓN Y DOCUMENTOS","SOLICITUD DE INFORMACIÓN HIDROMETEOROLÓGICA","NO","GRUPO DE ATENCIÓN AL CIUDADANO",43943,null,null,{"$f":"IFERROR(WORKDAY(C158,R158,DiasNOLaborables),\"\")","v":43962},{"$f":"+IF(C158=\"\",\"\",IF(I158=\"\",\"\",(IF(I158<=L158,\"A TIEMPO\",\"FUERA DE TIEMPO\"))))","v":"A TIEMPO"},{"$f":"IF(I158=\"\",\"\",NETWORKDAYS([4]Hoja1!C158+1,[4]Hoja1!P158,DiasNOLaborables))","v":9},"",null,null,20]
[148,20209050030682,43931,"MODULO CONTACTENOS","SOLICITUD DE INFORMACIÓN Y DOCUMENTOS","SOLICITUD DE INFORMACIÓN HIDROMETEOROLÓGICA","NO","GRUPO DE ATENCIÓN AL CIUDADANO",43943,null,null,{"$f":"IFERROR(WORKDAY(C159,R159,DiasNOLaborables),\"\")","v":43962},{"$f":"+IF(C159=\"\",\"\",IF(I159=\"\",\"\",(IF(I159<=L159,\"A TIEMPO\",\"FUERA DE TIEMPO\"))))","v":"A TIEMPO"},{"$f":"IF(I159=\"\",\"\",NETWORKDAYS([4]Hoja1!C159+1,[4]Hoja1!P159,DiasNOLaborables))","v":9},"",null,null,20]
[149,20209050030702,43931,"MODULO CONTACTENOS","SOLICITUD DE INFORMACIÓN Y DOCUMENTOS","SOLICITUD DE INFORMACIÓN HIDROMETEOROLÓGICA","NO","GRUPO DE ATENCIÓN AL CIUDADANO",43943,null,null,{"$f":"IFERROR(WORKDAY(C160,R160,DiasNOLaborables),\"\")","v":43962},{"$f":"+IF(C160=\"\",\"\",IF(I160=\"\",\"\",(IF(I160<=L160,\"A TIEMPO\",\"FUERA DE TIEMPO\"))))","v":"A TIEMPO"},{"$f":"IF(I160=\"\",\"\",NETWORKDAYS([4]Hoja1!C160+1,[4]Hoja1!P160,DiasNOLaborables))","v":8},"",null,null,20]
[150,20209050030712,43932,"MODULO CONTACTENOS","SOLICITUD DE INFORMACIÓN Y DOCUMENTOS","SOLICITUD DE INFORMACIÓN HIDROMETEOROLÓGICA","NO","GRUPO DE ATENCIÓN AL CIUDADANO",43943,null,null,{"$f":"IFERROR(WORKDAY(C161,R161,DiasNOLaborables),\"\")","v":43962},{"$f":"+IF(C161=\"\",\"\",IF(I161=\"\",\"\",(IF(I161<=L161,\"A TIEMPO\",\"FUERA DE TIEMPO\"))))","v":"A TIEMPO"},{"$f":"IF(I161=\"\",\"\",NETWORKDAYS([4]Hoja1!C161+1,[4]Hoja1!P161,DiasNOLaborables))","v":2},"",null,null,20]
[151,20209050030722,43932,"MODULO CONTACTENOS","SOLICITUD DE INFORMACIÓN Y DOCUMENTOS","SOLICITUD DE INFORMACIÓN HIDROMETEOROLÓGICA","NO","GRUPO DE ATENCIÓN AL CIUDADANO",43943,null,null,{"$f":"IFERROR(WORKDAY(C162,R162,DiasNOLaborables),\"\")","v":43962},{"$f":"+IF(C162=\"\",\"\",IF(I162=\"\",\"\",(IF(I162<=L162,\"A TIEMPO\",\"FUERA DE TIEMPO\"))))","v":"A TIEMPO"},{"$f":"IF(I162=\"\",\"\",NETWORKDAYS([4]Hoja1!C162+1,[4]Hoja1!P162,DiasNOLaborables))","v":2},"",null,null,20]
[152,20209050030732,43932,"MODULO CONTACTENOS","SOLICITUD DE INFORMACIÓN Y DOCUMENTOS","SOLICITUD DE INFORMACIÓN HIDROMETEOROLÓGICA","NO","GRUPO DE ATENCIÓN AL CIUDADANO",43943,null,null,{"$f":"IFERROR(WORKDAY(C163,R163,DiasNOLaborables),\"\")","v":43962},{"$f":"+IF(C163=\"\",\"\",IF(I163=\"\",\"\",(IF(I163<=L163,\"A TIEMPO\",\"FUERA DE TIEMPO\"))))","v":"A TIEMPO"},{"$f":"IF(I163=\"\",\"\",NETWORKDAYS([4]Hoja1!C163+1,[4]Hoja1!P163,DiasNOLaborables))","v":2},"",null,null,20]
[153,20209050030752,43932,"MODULO CONTACTENOS","SOLICITUD DE INFORMACIÓN Y DOCUMENTOS","SOLICITUD DE INFORMACIÓN HIDROMETEOROLÓGICA","NO","GRUPO DE ATENCIÓN AL CIUDADANO",43943,null,null,{"$f":"IFERROR(WORKDAY(C164,R164,DiasNOLaborables),\"\")","v":43962},{"$f":"+IF(C164=\"\",\"\",IF(I164=\"\",\"\",(IF(I164<=L164,\"A TIEMPO\",\"FUERA DE TIEMPO\"))))","v":"A TIEMPO"},{"$f":"IF(I164=\"\",\"\",NETWORKDAYS([4]Hoja1!C164+1,[4]Hoja1!P164,DiasNOLaborables))","v":2},"",null,null,20]
[154,20200411220025,43932,"WEB (MÓDULO DE SOLICITUD DE INFORMACIÓN HIDROMETEOROLÓGICA)","SOLICITUD DE INFORMACIÓN Y DOCUMENTOS","SOLICITUD DE INFORMACIÓN HIDROMETEOROLÓGICA","NO","GRUPO DE ATENCIÓN AL CIUDADANO",43943,null,null,{"$f":"IFERROR(WORKDAY(C165,R165,DiasNOLaborables),\"\")","v":43962},{"$f":"+IF(C165=\"\",\"\",IF(I165=\"\",\"\",(IF(I165<=L165,\"A TIEMPO\",\"FUERA DE TIEMPO\"))))","v":"A TIEMPO"},{"$f":"IF(I165=\"\",\"\",NETWORKDAYS([4]Hoja1!C165+1,[4]Hoja1!P165,DiasNOLaborables))","v":2},"",null,null,{"$f":"IFERROR(VLOOKUP(E165,$Z$50:$AA$63,2),\"\")","v":20}]
[155,20200411215641,43932,"WEB (MÓDULO DE SOLICITUD DE INFORMACIÓN HIDROMETEOROLÓGICA)","SOLICITUD DE INFORMACIÓN Y DOCUMENTOS","SOLICITUD DE INFORMACIÓN HIDROMETEOROLÓGICA","NO","GRUPO DE ATENCIÓN AL CIUDADANO",43943,null,null,{"$f":"IFERROR(WORKDAY(C166,R166,DiasNOLaborables),\"\")","v":43962},{"$f":"+IF(C166=\"\",\"\",IF(I166=\"\",\"\",(IF(I166<=L166,\"A TIEMPO\",\"FUERA DE TIEMPO\"))))","v":"A TIEMPO"},{"$f":"IF(I166=\"\",\"\",NETWORKDAYS([4]Hoja1!C166+1,[4]Hoja1!P166,DiasNOLaborables))","v":2},"",null,null,20]
[156,20200411215329,43932,"WEB (MÓDULO DE SOLICITUD DE INFORMACIÓN HIDROMETEOROLÓGICA)","SOLICITUD DE INFORMACIÓN Y DOCUMENTOS","SOLICITUD DE INFORMACIÓN HIDROMETEOROLÓGICA","NO","GRUPO DE ATENCIÓN AL CIUDADANO",43943,null,null,{"$f":"IFERROR(WORKDAY(C167,R167,DiasNOLaborables),\"\")","v":43962},{"$f":"+IF(C167=\"\",\"\",IF(I167=\"\",\"\",(IF(I167<=L167,\"A TIEMPO\",\"FUERA DE TIEMPO\"))))","v":"A TIEMPO"},{"$f":"IF(I167=\"\",\"\",NETWORKDAYS([4]Hoja1!C167+1,[4]Hoja1!P167,DiasNOLaborables))","v":2},"",null,null,20]
[157,20200411214932,43932,"WEB (MÓDULO DE SOLICITUD DE INFORMACIÓN HIDROMETEOROLÓGICA)","SOLICITUD DE INFORMACIÓN Y DOCUMENTOS","SOLICITUD DE INFORMACIÓN HIDROMETEOROLÓGICA","NO","GRUPO DE ATENCIÓN AL CIUDADANO",43943,null,null,{"$f":"IFERROR(WORKDAY(C168,R168,DiasNOLaborables),\"\")","v":43962},{"$f":"+IF(C168=\"\",\"\",IF(I168=\"\",\"\",(IF(I168<=L168,\"A TIEMPO\",\"FUERA DE TIEMPO\"))))","v":"A TIEMPO"},{"$f":"IF(I168=\"\",\"\",NETWORKDAYS([4]Hoja1!C168+1,[4]Hoja1!P168,DiasNOLaborables))","v":7},"",null,null,20]
[158,20200411214610,43932,"WEB (MÓDULO DE SOLICITUD DE INFORMACIÓN HIDROMETEOROLÓGICA)","SOLICITUD DE INFORMACIÓN Y DOCUMENTOS","SOLICITUD DE INFORMACIÓN HIDROMETEOROLÓGICA","NO","GRUPO DE ATENCIÓN AL CIUDADANO",43943,null,null,{"$f":"IFERROR(WORKDAY(C169,R169,DiasNOLaborables),\"\")","v":43962},{"$f":"+IF(C169=\"\",\"\",IF(I169=\"\",\"\",(IF(I169<=L169,\"A TIEMPO\",\"FUERA DE TIEMPO\"))))","v":"A TIEMPO"},{"$f":"IF(I169=\"\",\"\",NETWORKDAYS([4]Hoja1!C169+1,[4]Hoja1!P169,DiasNOLaborables))","v":7},{"$f":"IF(NETWORKDAYS(L169+1,I169,DiasNOLaborables)<=0,\"\",NETWORKDAYS(L169+1,I169,DiasNOLaborables))","v":""},null,null,20]
[159,20200411214229,43932,"WEB (MÓDULO DE SOLICITUD DE INFORMACIÓN HIDROMETEOROLÓGICA)","SOLICITUD DE INFORMACIÓN Y DOCUMENTOS","SOLICITUD DE INFORMACIÓN HIDROMETEOROLÓGICA","NO","GRUPO DE ATENCIÓN AL CIUDADANO",43943,null,null,{"$f":"IFERROR(WORKDAY(C170,R170,DiasNOLaborables),\"\")","v":43962},{"$f":"+IF(C170=\"\",\"\",IF(I170=\"\",\"\",(IF(I170<=L170,\"A TIEMPO\",\"FUERA DE TIEMPO\"))))","v":"A TIEMPO"},{"$f":"IF(I170=\"\",\"\",NETWORKDAYS([4]Hoja1!C170+1,[4]Hoja1!P170,DiasNOLaborables))","v":7},"",null,null,20]
[160,20200411213506,43932,"WEB (MÓDULO DE SOLICITUD DE INFORMACIÓN HIDROMETEOROLÓGICA)","SOLICITUD DE INFORMACIÓN Y DOCUMENTOS","SOLICITUD DE INFORMACIÓN HIDROMETEOROLÓGICA","NO","GRUPO DE ATENCIÓN AL CIUDADANO",43943,null,null,{"$f":"IFERROR(WORKDAY(C171,R171,DiasNOLaborables),\"\")","v":43962},{"$f":"+IF(C171=\"\",\"\",IF(I171=\"\",\"\",(IF(I171<=L171,\"A TIEMPO\",\"FUERA DE TIEMPO\"))))","v":"A TIEMPO"},{"$f":"IF(I171=\"\",\"\",NETWORKDAYS([4]Hoja1!C171+1,[4]Hoja1!P171,DiasNOLaborables))","v":7},"",null,null,20]
[161,20200411213118,43932,"WEB (MÓDULO DE SOLICITUD DE INFORMACIÓN HIDROMETEOROLÓGICA)","SOLICITUD DE INFORMACIÓN Y DOCUMENTOS","SOLICITUD DE INFORMACIÓN HIDROMETEOROLÓGICA","NO","GRUPO DE ATENCIÓN AL CIUDADANO",43943,null,null,{"$f":"IFERROR(WORKDAY(C172,R172,DiasNOLaborables),\"\")","v":43962},{"$f":"+IF(C172=\"\",\"\",IF(I172=\"\",\"\",(IF(I172<=L172,\"A TIEMPO\",\"FUERA DE TIEMPO\"))))","v":"A TIEMPO"},{"$f":"IF(I172=\"\",\"\",NETWORKDAYS([4]Hoja1!C172+1,[4]Hoja1!P172,DiasNOLaborables))","v":7},"",null,null,20]
[162,20200411212544,43932,"WEB (MÓDULO DE SOLICITUD DE INFORMACIÓN HIDROMETEOROLÓGICA)","SOLICITUD DE INFORMACIÓN Y DOCUMENTOS","SOLICITUD DE INFORMACIÓN HIDROMETEOROLÓGICA","NO","GRUPO DE ATENCIÓN AL CIUDADANO",43943,null,null,{"$f":"IFERROR(WORKDAY(C173,R173,DiasNOLaborables),\"\")","v":43962},{"$f":"+IF(C173=\"\",\"\",IF(I173=\"\",\"\",(IF(I173<=L173,\"A TIEMPO\",\"FUERA DE TIEMPO\"))))","v":"A TIEMPO"},{"$f":"IF(I173=\"\",\"\",NETWORKDAYS([4]Hoja1!C173+1,[4]Hoja1!P173,DiasNOLaborables))","v":7},"",null,null,20]
[163,20200411105350,43932,"WEB (MÓDULO DE SOLICITUD DE INFORMACIÓN HIDROMETEOROLÓGICA)","SOLICITUD DE INFORMACIÓN Y DOCUMENTOS","SOLICITUD DE INFORMACIÓN HIDROMETEOROLÓGICA","NO","GRUPO DE ATENCIÓN AL CIUDADANO",43943,null,null,{"$f":"IFERROR(WORKDAY(C174,R174,DiasNOLaborables),\"\")","v":43962},{"$f":"+IF(C174=\"\",\"\",IF(I174=\"\",\"\",(IF(I174<=L174,\"A TIEMPO\",\"FUERA DE TIEMPO\"))))","v":"A TIEMPO"},{"$f":"IF(I174=\"\",\"\",NETWORKDAYS([4]Hoja1!C174+1,[4]Hoja1!P174,DiasNOLaborables))","v":7},"",null,null,20]
[164,20209050030912,43934,"MODULO CONTACTENOS","SOLICITUD DE INFORMACIÓN Y DOCUMENTOS","SOLICITUD DE INFORMACIÓN HIDROMETEOROLÓGICA","NO","GRUPO DE ATENCIÓN AL CIUDADANO",43944,null,null,{"$f":"IFERROR(WORKDAY(C175,R175,DiasNOLaborables),\"\")","v":43963},{"$f":"+IF(C175=\"\",\"\",IF(I175=\"\",\"\",(IF(I175<=L175,\"A TIEMPO\",\"FUERA DE TIEMPO\"))))","v":"A TIEMPO"},{"$f":"IF(I175=\"\",\"\",NETWORKDAYS([4]Hoja1!C175+1,[4]Hoja1!P175,DiasNOLaborables))","v":7},"",null,null,20]
[165,20209050030922,43934,"MODULO CONTACTENOS","SOLICITUD DE INFORMACIÓN Y DOCUMENTOS","SOLICITUD DE INFORMACIÓN HIDROMETEOROLÓGICA","NO","GRUPO DE ATENCIÓN AL CIUDADANO",43944,null,null,{"$f":"IFERROR(WORKDAY(C176,R176,DiasNOLaborables),\"\")","v":43963},{"$f":"+IF(C176=\"\",\"\",IF(I176=\"\",\"\",(IF(I176<=L176,\"A TIEMPO\",\"FUERA DE TIEMPO\"))))","v":"A TIEMPO"},{"$f":"IF(I176=\"\",\"\",NETWORKDAYS([4]Hoja1!C176+1,[4]Hoja1!P176,DiasNOLaborables))","v":7},"",null,null,20]
[166,20209050030942,43934,"MODULO CONTACTENOS","SOLICITUD DE INFORMACIÓN Y DOCUMENTOS","SOLICITUD DE INFORMACIÓN HIDROMETEOROLÓGICA","NO","GRUPO DE ATENCIÓN AL CIUDADANO",43944,null,null,{"$f":"IFERROR(WORKDAY(C177,R177,DiasNOLaborables),\"\")","v":43963},{"$f":"+IF(C177=\"\",\"\",IF(I177=\"\",\"\",(IF(I177<=L177,\"A TIEMPO\",\"FUERA DE TIEMPO\"))))","v":"A TIEMPO"},{"$f":"IF(I177=\"\",\"\",NETWORKDAYS([4]Hoja1!C177+1,[4]Hoja1!P177,DiasNOLaborables))","v":7},"",null,null,20]
[{"$f":"IF(B176<>\"\",A177+1,\"\")","v":167},20209050030952,43934,"MODULO CONTACTENOS","SOLICITUD DE INFORMACIÓN Y DOCUMENTOS","SOLICITUD DE INFORMACIÓN HIDROMETEOROLÓGICA","NO","GRUPO DE ATENCIÓN AL CIUDADANO",43944,null,null,{"$f":"IFERROR(WORKDAY(C178,R178,DiasNOLaborables),\"\")","v":43963},{"$f":"+IF(C178=\"\",\"\",IF(I178=\"\",\"\",(IF(I178<=L178,\"A TIEMPO\",\"FUERA DE TIEMPO\"))))","v":"A TIEMPO"},{"$f":"IF(I178=\"\",\"\",NETWORKDAYS([4]Hoja1!C178+1,[4]Hoja1!P178,DiasNOLaborables))","v":7},"",null,null,20]
[168,20209050031002,43934,"MODULO CONTACTENOS","SOLICITUD DE INFORMACIÓN Y DOCUMENTOS","SOLICITUD DE INFORMACIÓN HIDROMETEOROLÓGICA","NO","GRUPO DE ATENCIÓN AL CIUDADANO",43944,null,null,{"$f":"IFERROR(WORKDAY(C179,R179,DiasNOLaborables),\"\")","v":43963},{"$f":"+IF(C179=\"\",\"\",IF(I179=\"\",\"\",(IF(I179<=L179,\"A TIEMPO\",\"FUERA DE TIEMPO\"))))","v":"A TIEMPO"},{"$f":"IF(I179=\"\",\"\",NETWORKDAYS([4]Hoja1!C179+1,[4]Hoja1!P179,DiasNOLaborables))","v":6},"",null,null,20]
[169,20209050031242,43934,"MODULO CONTACTENOS","SOLICITUD DE INFORMACIÓN Y DOCUMENTOS","SOLICITUD DE INFORMACIÓN HIDROMETEOROLÓGICA","NO","GRUPO DE ATENCIÓN AL CIUDADANO",43944,null,null,{"$f":"IFERROR(WORKDAY(C180,R180,DiasNOLaborables),\"\")","v":43963},{"$f":"+IF(C180=\"\",\"\",IF(I180=\"\",\"\",(IF(I180<=L180,\"A TIEMPO\",\"FUERA DE TIEMPO\"))))","v":"A TIEMPO"},{"$f":"IF(I180=\"\",\"\",NETWORKDAYS([4]Hoja1!C180+1,[4]Hoja1!P180,DiasNOLaborables))","v":6},"",null,null,20]
[170,20209050031262,43934,"MODULO CONTACTENOS","SOLICITUD DE INFORMACIÓN Y DOCUMENTOS","SOLICITUD DE INFORMACIÓN HIDROMETEOROLÓGICA","NO","GRUPO DE ATENCIÓN AL CIUDADANO",43944,null,null,{"$f":"IFERROR(WORKDAY(C181,R181,DiasNOLaborables),\"\")","v":43963},{"$f":"+IF(C181=\"\",\"\",IF(I181=\"\",\"\",(IF(I181<=L181,\"A TIEMPO\",\"FUERA DE TIEMPO\"))))","v":"A TIEMPO"},{"$f":"IF(I181=\"\",\"\",NETWORKDAYS([4]Hoja1!C181+1,[4]Hoja1!P181,DiasNOLaborables))","v":6},"",null,null,20]
[171,20209050031272,43934,"MODULO CONTACTENOS","SOLICITUD DE INFORMACIÓN Y DOCUMENTOS","SOLICITUD DE INFORMACIÓN HIDROMETEOROLÓGICA","NO","GRUPO DE ATENCIÓN AL CIUDADANO",43944,null,null,{"$f":"IFERROR(WORKDAY(C182,R182,DiasNOLaborables),\"\")","v":43963},{"$f":"+IF(C182=\"\",\"\",IF(I182=\"\",\"\",(IF(I182<=L182,\"A TIEMPO\",\"FUERA DE TIEMPO\"))))","v":"A TIEMPO"},{"$f":"IF(I182=\"\",\"\",NETWORKDAYS([4]Hoja1!C182+1,[4]Hoja1!P182,DiasNOLaborables))","v":6},"",null,null,20]
[172,20209050031292,43934,"MODULO CONTACTENOS","SOLICITUD DE INFORMACIÓN Y DOCUMENTOS","SOLICITUD DE INFORMACIÓN HIDROMETEOROLÓGICA","NO","GRUPO DE ATENCIÓN AL CIUDADANO",43944,null,null,{"$f":"IFERROR(WORKDAY(C183,R183,DiasNOLaborables),\"\")","v":43963},{"$f":"+IF(C183=\"\",\"\",IF(I183=\"\",\"\",(IF(I183<=L183,\"A TIEMPO\",\"FUERA DE TIEMPO\"))))","v":"A TIEMPO"},{"$f":"IF(I183=\"\",\"\",NETWORKDAYS([4]Hoja1!C183+1,[4]Hoja1!P183,DiasNOLaborables))","v":6},"",null,null,20]
[173,20209050031302,43934,"MODULO CONTACTENOS","SOLICITUD DE INFORMACIÓN Y DOCUMENTOS","SOLICITUD DE INFORMACIÓN HIDROMETEOROLÓGICA","NO","GRUPO DE ATENCIÓN AL CIUDADANO",43944,null,null,{"$f":"IFERROR(WORKDAY(C184,R184,DiasNOLaborables),\"\")","v":43963},{"$f":"+IF(C184=\"\",\"\",IF(I184=\"\",\"\",(IF(I184<=L184,\"A TIEMPO\",\"FUERA DE TIEMPO\"))))","v":"A TIEMPO"},{"$f":"IF(I184=\"\",\"\",NETWORKDAYS([4]Hoja1!C184+1,[4]Hoja1!P184,DiasNOLaborables))","v":6},"",null,null,20]
[174,20200414221038,43935,"WEB (MÓDULO DE SOLICITUD DE INFORMACIÓN HIDROMETEOROLÓGICA)","SOLICITUD DE INFORMACIÓN Y DOCUMENTOS","SOLICITUD DE INFORMACIÓN HIDROMETEOROLÓGICA","NO","GRUPO DE ATENCIÓN AL CIUDADANO",43944,null,null,{"$f":"IFERROR(WORKDAY(C185,R185,DiasNOLaborables),\"\")","v":43964},{"$f":"+IF(C185=\"\",\"\",IF(I185=\"\",\"\",(IF(I185<=L185,\"A TIEMPO\",\"FUERA DE TIEMPO\"))))","v":"A TIEMPO"},{"$f":"IF(I185=\"\",\"\",NETWORKDAYS([4]Hoja1!C185+1,[4]Hoja1!P185,DiasNOLaborables))","v":6},"",null,null,20]
[175,20200414214557,43935,"WEB (MÓDULO DE SOLICITUD DE INFORMACIÓN HIDROMETEOROLÓGICA)","SOLICITUD DE INFORMACIÓN Y DOCUMENTOS","SOLICITUD DE INFORMACIÓN HIDROMETEOROLÓGICA","NO","GRUPO DE ATENCIÓN AL CIUDADANO",43944,null,null,{"$f":"IFERROR(WORKDAY(C186,R186,DiasNOLaborables),\"\")","v":43964},{"$f":"+IF(C186=\"\",\"\",IF(I186=\"\",\"\",(IF(I186<=L186,\"A TIEMPO\",\"FUERA DE TIEMPO\"))))","v":"A TIEMPO"},{"$f":"IF(I186=\"\",\"\",NETWORKDAYS([4]Hoja1!C186+1,[4]Hoja1!P186,DiasNOLaborables))","v":6},"",null,null,20]
[176,20200414204306,43935,"WEB (MÓDULO DE SOLICITUD DE INFORMACIÓN HIDROMETEOROLÓGICA)","SOLICITUD DE INFORMACIÓN Y DOCUMENTOS","SOLICITUD DE INFORMACIÓN HIDROMETEOROLÓGICA","NO","GRUPO DE ATENCIÓN AL CIUDADANO",43944,null,null,{"$f":"IFERROR(WORKDAY(C187,R187,DiasNOLaborables),\"\")","v":43964},{"$f":"+IF(C187=\"\",\"\",IF(I187=\"\",\"\",(IF(I187<=L187,\"A TIEMPO\",\"FUERA DE TIEMPO\"))))","v":"A TIEMPO"},{"$f":"IF(I187=\"\",\"\",NETWORKDAYS([4]Hoja1!C187+1,[4]Hoja1!P187,DiasNOLaborables))","v":6},"",null,null,20]
[177,20200414164509,43935,"WEB (MÓDULO DE SOLICITUD DE INFORMACIÓN HIDROMETEOROLÓGICA)","SOLICITUD DE INFORMACIÓN Y DOCUMENTOS","SOLICITUD DE INFORMACIÓN HIDROMETEOROLÓGICA","NO","GRUPO DE ATENCIÓN AL CIUDADANO",43944,null,null,{"$f":"IFERROR(WORKDAY(C188,R188,DiasNOLaborables),\"\")","v":43964},{"$f":"+IF(C188=\"\",\"\",IF(I188=\"\",\"\",(IF(I188<=L188,\"A TIEMPO\",\"FUERA DE TIEMPO\"))))","v":"A TIEMPO"},{"$f":"IF(I188=\"\",\"\",NETWORKDAYS([4]Hoja1!C188+1,[4]Hoja1!P188,DiasNOLaborables))","v":6},"",null,null,20]
[178,20200414164048,43935,"WEB (MÓDULO DE SOLICITUD DE INFORMACIÓN HIDROMETEOROLÓGICA)","SOLICITUD DE INFORMACIÓN Y DOCUMENTOS","SOLICITUD DE INFORMACIÓN HIDROMETEOROLÓGICA","NO","GRUPO DE ATENCIÓN AL CIUDADANO",43944,null,null,{"$f":"IFERROR(WORKDAY(C189,R189,DiasNOLaborables),\"\")","v":43964},{"$f":"+IF(C189=\"\",\"\",IF(I189=\"\",\"\",(IF(I189<=L189,\"A TIEMPO\",\"FUERA DE TIEMPO\"))))","v":"A TIEMPO"},{"$f":"IF(I189=\"\",\"\",NETWORKDAYS([4]Hoja1!C189+1,[4]Hoja1!P189,DiasNOLaborables))","v":6},"",null,null,20]
[179,20200414163610,43935,"WEB (MÓDULO DE SOLICITUD DE INFORMACIÓN HIDROMETEOROLÓGICA)","SOLICITUD DE INFORMACIÓN Y DOCUMENTOS","SOLICITUD DE INFORMACIÓN HIDROMETEOROLÓGICA","NO","GRUPO DE ATENCIÓN AL CIUDADANO",43944,null,null,{"$f":"IFERROR(WORKDAY(C190,R190,DiasNOLaborables),\"\")","v":43964},{"$f":"+IF(C190=\"\",\"\",IF(I190=\"\",\"\",(IF(I190<=L190,\"A TIEMPO\",\"FUERA DE TIEMPO\"))))","v":"A TIEMPO"},{"$f":"IF(I190=\"\",\"\",NETWORKDAYS([4]Hoja1!C190+1,[4]Hoja1!P190,DiasNOLaborables))","v":6},"",null,null,20]
[180,20200414163251,43935,"WEB (MÓDULO DE SOLICITUD DE INFORMACIÓN HIDROMETEOROLÓGICA)","SOLICITUD DE INFORMACIÓN Y DOCUMENTOS","SOLICITUD DE INFORMACIÓN HIDROMETEOROLÓGICA","NO","GRUPO DE ATENCIÓN AL CIUDADANO",43944,null,null,{"$f":"IFERROR(WORKDAY(C191,R191,DiasNOLaborables),\"\")","v":43964},{"$f":"+IF(C191=\"\",\"\",IF(I191=\"\",\"\",(IF(I191<=L191,\"A TIEMPO\",\"FUERA DE TIEMPO\"))))","v":"A TIEMPO"},{"$f":"IF(I191=\"\",\"\",NETWORKDAYS([4]Hoja1!C191+1,[4]Hoja1!P191,DiasNOLaborables))","v":6},"",null,null,20]
[181,20200414162830,43935,"WEB (MÓDULO DE SOLICITUD DE INFORMACIÓN HIDROMETEOROLÓGICA)","SOLICITUD DE INFORMACIÓN Y DOCUMENTOS","SOLICITUD DE INFORMACIÓN HIDROMETEOROLÓGICA","NO","GRUPO DE ATENCIÓN AL CIUDADANO",43944,null,null,{"$f":"IFERROR(WORKDAY(C192,R192,DiasNOLaborables),\"\")","v":43964},{"$f":"+IF(C192=\"\",\"\",IF(I192=\"\",\"\",(IF(I192<=L192,\"A TIEMPO\",\"FUERA DE TIEMPO\"))))","v":"A TIEMPO"},{"$f":"IF(I192=\"\",\"\",NETWORKDAYS([4]Hoja1!C192+1,[4]Hoja1!P192,DiasNOLaborables))","v":6},"",null,null,20]
[182,20200414162444,43935,"WEB (MÓDULO DE SOLICITUD DE INFORMACIÓN HIDROMETEOROLÓGICA)","SOLICITUD DE INFORMACIÓN Y DOCUMENTOS","SOLICITUD DE INFORMACIÓN HIDROMETEOROLÓGICA","NO","GRUPO DE ATENCIÓN AL CIUDADANO",43944,null,null,{"$f":"IFERROR(WORKDAY(C193,R193,DiasNOLaborables),\"\")","v":43964},{"$f":"+IF(C193=\"\",\"\",IF(I193=\"\",\"\",(IF(I193<=L193,\"A TIEMPO\",\"FUERA DE TIEMPO\"))))","v":"A TIEMPO"},{"$f":"IF(I193=\"\",\"\",NETWORKDAYS([4]Hoja1!C193+1,[4]Hoja1!P193,DiasNOLaborables))","v":6},"",null,null,20]
[183,20200414162106,43935,"WEB (MÓDULO DE SOLICITUD DE INFORMACIÓN HIDROMETEOROLÓGICA)","SOLICITUD DE INFORMACIÓN Y DOCUMENTOS","SOLICITUD DE INFORMACIÓN HIDROMETEOROLÓGICA","NO","GRUPO DE ATENCIÓN AL CIUDADANO",43944,null,null,{"$f":"IFERROR(WORKDAY(C194,R194,DiasNOLaborables),\"\")","v":43964},{"$f":"+IF(C194=\"\",\"\",IF(I194=\"\",\"\",(IF(I194<=L194,\"A TIEMPO\",\"FUERA DE TIEMPO\"))))","v":"A TIEMPO"},{"$f":"IF(I194=\"\",\"\",NETWORKDAYS([4]Hoja1!C194+1,[4]Hoja1!P194,DiasNOLaborables))","v":6},"",null,null,20]
[184,20200414161657,43935,"WEB (MÓDULO DE SOLICITUD DE INFORMACIÓN HIDROMETEOROLÓGICA)","SOLICITUD DE INFORMACIÓN Y DOCUMENTOS","SOLICITUD DE INFORMACIÓN HIDROMETEOROLÓGICA","NO","GRUPO DE ATENCIÓN AL CIUDADANO",43944,null,null,{"$f":"IFERROR(WORKDAY(C195,R195,DiasNOLaborables),\"\")","v":43964},{"$f":"+IF(C195=\"\",\"\",IF(I195=\"\",\"\",(IF(I195<=L195,\"A TIEMPO\",\"FUERA DE TIEMPO\"))))","v":"A TIEMPO"},{"$f":"IF(I195=\"\",\"\",NETWORKDAYS([4]Hoja1!C195+1,[4]Hoja1!P195,DiasNOLaborables))","v":6},"",null,null,20]
[185,20200414161056,43935,"WEB (MÓDULO DE SOLICITUD DE INFORMACIÓN HIDROMETEOROLÓGICA)","SOLICITUD DE INFORMACIÓN Y DOCUMENTOS","SOLICITUD DE INFORMACIÓN HIDROMETEOROLÓGICA","NO","GRUPO DE ATENCIÓN AL CIUDADANO",43944,null,null,{"$f":"IFERROR(WORKDAY(C196,R196,DiasNOLaborables),\"\")","v":43964},{"$f":"+IF(C196=\"\",\"\",IF(I196=\"\",\"\",(IF(I196<=L196,\"A TIEMPO\",\"FUERA DE TIEMPO\"))))","v":"A TIEMPO"},{"$f":"IF(I196=\"\",\"\",NETWORKDAYS([4]Hoja1!C196+1,[4]Hoja1!P196,DiasNOLaborables))","v":10},"",null,null,20]
[186,20200414155745,43935,"WEB (MÓDULO DE SOLICITUD DE INFORMACIÓN HIDROMETEOROLÓGICA)","SOLICITUD DE INFORMACIÓN Y DOCUMENTOS","SOLICITUD DE INFORMACIÓN HIDROMETEOROLÓGICA","NO","GRUPO DE ATENCIÓN AL CIUDADANO",43944,null,null,{"$f":"IFERROR(WORKDAY(C197,R197,DiasNOLaborables),\"\")","v":43964},{"$f":"+IF(C197=\"\",\"\",IF(I197=\"\",\"\",(IF(I197<=L197,\"A TIEMPO\",\"FUERA DE TIEMPO\"))))","v":"A TIEMPO"},{"$f":"IF(I197=\"\",\"\",NETWORKDAYS([4]Hoja1!C197+1,[4]Hoja1!P197,DiasNOLaborables))","v":10},"",null,null,20]
[187,20200414154333,43935,"WEB (MÓDULO DE SOLICITUD DE INFORMACIÓN HIDROMETEOROLÓGICA)","SOLICITUD DE INFORMACIÓN Y DOCUMENTOS","SOLICITUD DE INFORMACIÓN HIDROMETEOROLÓGICA","NO","GRUPO DE ATENCIÓN AL CIUDADANO",43944,null,null,{"$f":"IFERROR(WORKDAY(C198,R198,DiasNOLaborables),\"\")","v":43964},{"$f":"+IF(C198=\"\",\"\",IF(I198=\"\",\"\",(IF(I198<=L198,\"A TIEMPO\",\"FUERA DE TIEMPO\"))))","v":"A TIEMPO"},{"$f":"IF(I198=\"\",\"\",NETWORKDAYS([4]Hoja1!C198+1,[4]Hoja1!P198,DiasNOLaborables))","v":10},"",null,null,20]
[188,20200414153715,43935,"WEB (MÓDULO DE SOLICITUD DE INFORMACIÓN HIDROMETEOROLÓGICA)","SOLICITUD DE INFORMACIÓN Y DOCUMENTOS","SOLICITUD DE INFORMACIÓN HIDROMETEOROLÓGICA","NO","GRUPO DE ATENCIÓN AL CIUDADANO",43944,null,null,{"$f":"IFERROR(WORKDAY(C199,R199,DiasNOLaborables),\"\")","v":43964},{"$f":"+IF(C199=\"\",\"\",IF(I199=\"\",\"\",(IF(I199<=L199,\"A TIEMPO\",\"FUERA DE TIEMPO\"))))","v":"A TIEMPO"},{"$f":"IF(I199=\"\",\"\",NETWORKDAYS([4]Hoja1!C199+1,[4]Hoja1!P199,DiasNOLaborables))","v":10},"",null,null,20]
[189,20200414153431,43935,"WEB (MÓDULO DE SOLICITUD DE INFORMACIÓN HIDROMETEOROLÓGICA)","SOLICITUD DE INFORMACIÓN Y DOCUMENTOS","SOLICITUD DE INFORMACIÓN HIDROMETEOROLÓGICA","NO","GRUPO DE ATENCIÓN AL CIUDADANO",43944,null,null,{"$f":"IFERROR(WORKDAY(C200,R200,DiasNOLaborables),\"\")","v":43964},{"$f":"+IF(C200=\"\",\"\",IF(I200=\"\",\"\",(IF(I200<=L200,\"A TIEMPO\",\"FUERA DE TIEMPO\"))))","v":"A TIEMPO"},{"$f":"IF(I200=\"\",\"\",NETWORKDAYS([4]Hoja1!C200+1,[4]Hoja1!P200,DiasNOLaborables))","v":10},"",null,null,20]
[190,20200414005307,43935,"WEB (MÓDULO DE SOLICITUD DE INFORMACIÓN HIDROMETEOROLÓGICA)","SOLICITUD DE INFORMACIÓN Y DOCUMENTOS","SOLICITUD DE INFORMACIÓN HIDROMETEOROLÓGICA","NO","GRUPO DE ATENCIÓN AL CIUDADANO",43944,null,null,{"$f":"IFERROR(WORKDAY(C201,R201,DiasNOLaborables),\"\")","v":43964},{"$f":"+IF(C201=\"\",\"\",IF(I201=\"\",\"\",(IF(I201<=L201,\"A TIEMPO\",\"FUERA DE TIEMPO\"))))","v":"A TIEMPO"},{"$f":"IF(I201=\"\",\"\",NETWORKDAYS([4]Hoja1!C201+1,[4]Hoja1!P201,DiasNOLaborables))","v":10},"",null,null,20]
[191,20200414213920,43935,"WEB (MÓDULO DE SOLICITUD DE INFORMACIÓN HIDROMETEOROLÓGICA)","SOLICITUD DE INFORMACIÓN Y DOCUMENTOS","SOLICITUD DE INFORMACIÓN HIDROMETEOROLÓGICA","NO","GRUPO DE ATENCIÓN AL CIUDADANO",43945,null,null,{"$f":"IFERROR(WORKDAY(C202,R202,DiasNOLaborables),\"\")","v":43964},{"$f":"+IF(C202=\"\",\"\",IF(I202=\"\",\"\",(IF(I202<=L202,\"A TIEMPO\",\"FUERA DE TIEMPO\"))))","v":"A TIEMPO"},{"$f":"IF(I202=\"\",\"\",NETWORKDAYS([4]Hoja1!C202+1,[4]Hoja1!P202,DiasNOLaborables))","v":10},"",null,null,20]
[192,20200414212842,43935,"WEB (MÓDULO DE SOLICITUD DE INFORMACIÓN HIDROMETEOROLÓGICA)","SOLICITUD DE INFORMACIÓN Y DOCUMENTOS","SOLICITUD DE INFORMACIÓN HIDROMETEOROLÓGICA","NO","GRUPO DE ATENCIÓN AL CIUDADANO",43945,null,null,{"$f":"IFERROR(WORKDAY(C203,R203,DiasNOLaborables),\"\")","v":43964},{"$f":"+IF(C203=\"\",\"\",IF(I203=\"\",\"\",(IF(I203<=L203,\"A TIEMPO\",\"FUERA DE TIEMPO\"))))","v":"A TIEMPO"},{"$f":"IF(I203=\"\",\"\",NETWORKDAYS([4]Hoja1!C203+1,[4]Hoja1!P203,DiasNOLaborables))","v":10},"",null,null,20]
[193,20209050031412,43935,"MODULO CONTACTENOS","SOLICITUD DE INFORMACIÓN Y DOCUMENTOS","SOLICITUD DE INFORMACIÓN HIDROMETEOROLÓGICA","NO","GRUPO DE ATENCIÓN AL CIUDADANO",43945,null,null,{"$f":"IFERROR(WORKDAY(C204,R204,DiasNOLaborables),\"\")","v":43964},{"$f":"+IF(C204=\"\",\"\",IF(I204=\"\",\"\",(IF(I204<=L204,\"A TIEMPO\",\"FUERA DE TIEMPO\"))))","v":"A TIEMPO"},{"$f":"IF(I204=\"\",\"\",NETWORKDAYS([4]Hoja1!C204+1,[4]Hoja1!P204,DiasNOLaborables))","v":10},"",null,null,20]
[194,20209050031432,43935,"MODULO CONTACTENOS","SOLICITUD DE INFORMACIÓN Y DOCUMENTOS","SOLICITUD DE INFORMACIÓN HIDROMETEOROLÓGICA","NO","GRUPO DE ATENCIÓN AL CIUDADANO",43945,null,null,{"$f":"IFERROR(WORKDAY(C205,R205,DiasNOLaborables),\"\")","v":43964},{"$f":"+IF(C205=\"\",\"\",IF(I205=\"\",\"\",(IF(I205<=L205,\"A TIEMPO\",\"FUERA DE TIEMPO\"))))","v":"A TIEMPO"},{"$f":"IF(I205=\"\",\"\",NETWORKDAYS([4]Hoja1!C205+1,[4]Hoja1!P205,DiasNOLaborables))","v":10},"",null,null,20]
[195,20209050031452,43935,"MODULO CONTACTENOS","SOLICITUD DE INFORMACIÓN Y DOCUMENTOS","SOLICITUD DE INFORMACIÓN HIDROMETEOROLÓGICA","NO","GRUPO DE ATENCIÓN AL CIUDADANO",43945,null,null,{"$f":"IFERROR(WORKDAY(C206,R206,DiasNOLaborables),\"\")","v":43964},{"$f":"+IF(C206=\"\",\"\",IF(I206=\"\",\"\",(IF(I206<=L206,\"A TIEMPO\",\"FUERA DE TIEMPO\"))))","v":"A TIEMPO"},{"$f":"IF(I206=\"\",\"\",NETWORKDAYS([4]Hoja1!C206+1,[4]Hoja1!P206,DiasNOLaborables))","v":10},"",null,null,20]
[196,20209050031502,43935,"MODULO CONTACTENOS","SOLICITUD DE INFORMACIÓN Y DOCUMENTOS","SOLICITUD DE INFORMACIÓN HIDROMETEOROLÓGICA","NO","GRUPO DE ATENCIÓN AL CIUDADANO",43945,null,null,{"$f":"IFERROR(WORKDAY(C207,R207,DiasNOLaborables),\"\")","v":43964},{"$f":"+IF(C207=\"\",\"\",IF(I207=\"\",\"\",(IF(I207<=L207,\"A TIEMPO\",\"FUERA DE TIEMPO\"))))","v":"A TIEMPO"},{"$f":"IF(I207=\"\",\"\",NETWORKDAYS([4]Hoja1!C207+1,[4]Hoja1!P207,DiasNOLaborables))","v":4},"",null,null,20]
[197,20209050031532,43935,"MODULO CONTACTENOS","SOLICITUD DE INFORMACIÓN Y DOCUMENTOS","SOLICITUD DE INFORMACIÓN HIDROMETEOROLÓGICA","NO","GRUPO DE ATENCIÓN AL CIUDADANO",43945,null,null,{"$f":"IFERROR(WORKDAY(C208,R208,DiasNOLaborables),\"\")","v":43964},{"$f":"+IF(C208=\"\",\"\",IF(I208=\"\",\"\",(IF(I208<=L208,\"A TIEMPO\",\"FUERA DE TIEMPO\"))))","v":"A TIEMPO"},{"$f":"IF(I208=\"\",\"\",NETWORKDAYS([4]Hoja1!C208+1,[4]Hoja1!P208,DiasNOLaborables))","v":4},"",null,null,20]
[198,20209050031562,43935,"MODULO CONTACTENOS","SOLICITUD DE INFORMACIÓN Y DOCUMENTOS","SOLICITUD DE INFORMACIÓN HIDROMETEOROLÓGICA","NO","GRUPO DE ATENCIÓN AL CIUDADANO",43945,null,null,{"$f":"IFERROR(WORKDAY(C209,R209,DiasNOLaborables),\"\")","v":43964},{"$f":"+IF(C209=\"\",\"\",IF(I209=\"\",\"\",(IF(I209<=L209,\"A TIEMPO\",\"FUERA DE TIEMPO\"))))","v":"A TIEMPO"},{"$f":"IF(I209=\"\",\"\",NETWORKDAYS([4]Hoja1!C209+1,[4]Hoja1!P209,DiasNOLaborables))","v":4},"",null,null,20]
[199,20209050031572,43935,"MODULO CONTACTENOS","SOLICITUD DE INFORMACIÓN Y DOCUMENTOS","SOLICITUD DE INFORMACIÓN HIDROMETEOROLÓGICA","NO","GRUPO DE ATENCIÓN AL CIUDADANO",43945,null,null,{"$f":"IFERROR(WORKDAY(C210,R210,DiasNOLaborables),\"\")","v":43964},{"$f":"+IF(C210=\"\",\"\",IF(I210=\"\",\"\",(IF(I210<=L210,\"A TIEMPO\",\"FUERA DE TIEMPO\"))))","v":"A TIEMPO"},{"$f":"IF(I210=\"\",\"\",NETWORKDAYS([4]Hoja1!C210+1,[4]Hoja1!P210,DiasNOLaborables))","v":4},"",null,null,20]
[200,20209050031582,43935,"MODULO CONTACTENOS","SOLICITUD DE INFORMACIÓN Y DOCUMENTOS","SOLICITUD DE INFORMACIÓN HIDROMETEOROLÓGICA","NO","GRUPO DE ATENCIÓN AL CIUDADANO",43945,null,null,{"$f":"IFERROR(WORKDAY(C211,R211,DiasNOLaborables),\"\")","v":43964},{"$f":"+IF(C211=\"\",\"\",IF(I211=\"\",\"\",(IF(I211<=L211,\"A TIEMPO\",\"FUERA DE TIEMPO\"))))","v":"A TIEMPO"},{"$f":"IF(I211=\"\",\"\",NETWORKDAYS([4]Hoja1!C211+1,[4]Hoja1!P211,DiasNOLaborables))","v":4},"",null,null,20]
[201,20209050031722,43935,"MODULO CONTACTENOS","SOLICITUD DE INFORMACIÓN Y DOCUMENTOS","SOLICITUD DE INFORMACIÓN HIDROMETEOROLÓGICA","NO","GRUPO DE ATENCIÓN AL CIUDADANO",43945,null,null,{"$f":"IFERROR(WORKDAY(C212,R212,DiasNOLaborables),\"\")","v":43964},{"$f":"+IF(C212=\"\",\"\",IF(I212=\"\",\"\",(IF(I212<=L212,\"A TIEMPO\",\"FUERA DE TIEMPO\"))))","v":"A TIEMPO"},{"$f":"IF(I212=\"\",\"\",NETWORKDAYS([4]Hoja1!C212+1,[4]Hoja1!P212,DiasNOLaborables))","v":4},"",null,null,20]
[202,20209050031762,43935,"MODULO CONTACTENOS","SOLICITUD DE INFORMACIÓN Y DOCUMENTOS","SOLICITUD DE INFORMACIÓN HIDROMETEOROLÓGICA","NO","GRUPO DE ATENCIÓN AL CIUDADANO",43945,null,null,{"$f":"IFERROR(WORKDAY(C213,R213,DiasNOLaborables),\"\")","v":43964},{"$f":"+IF(C213=\"\",\"\",IF(I213=\"\",\"\",(IF(I213<=L213,\"A TIEMPO\",\"FUERA DE TIEMPO\"))))","v":"A TIEMPO"},{"$f":"IF(I213=\"\",\"\",NETWORKDAYS([4]Hoja1!C213+1,[4]Hoja1!P213,DiasNOLaborables))","v":4},"",null,null,20]
[203,20209050031812,43935,"MODULO CONTACTENOS","SOLICITUD DE INFORMACIÓN Y DOCUMENTOS","SOLICITUD DE INFORMACIÓN HIDROMETEOROLÓGICA","NO","GRUPO DE ATENCIÓN AL CIUDADANO",43945,null,null,{"$f":"IFERROR(WORKDAY(C214,R214,DiasNOLaborables),\"\")","v":43964},{"$f":"+IF(C214=\"\",\"\",IF(I214=\"\",\"\",(IF(I214<=L214,\"A TIEMPO\",\"FUERA DE TIEMPO\"))))","v":"A TIEMPO"},{"$f":"IF(I214=\"\",\"\",NETWORKDAYS([4]Hoja1!C214+1,[4]Hoja1!P214,DiasNOLaborables))","v":4},"",null,null,20]
[204,20209050031822,43935,"MODULO CONTACTENOS","SOLICITUD DE INFORMACIÓN Y DOCUMENTOS","SOLICITUD DE INFORMACIÓN HIDROMETEOROLÓGICA","NO","GRUPO DE ATENCIÓN AL CIUDADANO",43945,null,null,{"$f":"IFERROR(WORKDAY(C215,R215,DiasNOLaborables),\"\")","v":43964},{"$f":"+IF(C215=\"\",\"\",IF(I215=\"\",\"\",(IF(I215<=L215,\"A TIEMPO\",\"FUERA DE TIEMPO\"))))","v":"A TIEMPO"},{"$f":"IF(I215=\"\",\"\",NETWORKDAYS([4]Hoja1!C215+1,[4]Hoja1!P215,DiasNOLaborables))","v":4},"",null,null,20]
[205,20209050031832,43935,"MODULO CONTACTENOS","SOLICITUD DE INFORMACIÓN Y DOCUMENTOS","SOLICITUD DE INFORMACIÓN HIDROMETEOROLÓGICA","NO","GRUPO DE ATENCIÓN AL CIUDADANO",43945,null,null,{"$f":"IFERROR(WORKDAY(C216,R216,DiasNOLaborables),\"\")","v":43964},{"$f":"+IF(C216=\"\",\"\",IF(I216=\"\",\"\",(IF(I216<=L216,\"A TIEMPO\",\"FUERA DE TIEMPO\"))))","v":"A TIEMPO"},{"$f":"IF(I216=\"\",\"\",NETWORKDAYS([4]Hoja1!C216+1,[4]Hoja1!P216,DiasNOLaborables))","v":4},"",null,null,20]
[206,20209050031962,43935,"MODULO CONTACTENOS","SOLICITUD DE INFORMACIÓN Y DOCUMENTOS","SOLICITUD DE INFORMACIÓN HIDROMETEOROLÓGICA","NO","GRUPO DE ATENCIÓN AL CIUDADANO",43945,null,null,{"$f":"IFERROR(WORKDAY(C217,R217,DiasNOLaborables),\"\")","v":43964},{"$f":"+IF(C217=\"\",\"\",IF(I217=\"\",\"\",(IF(I217<=L217,\"A TIEMPO\",\"FUERA DE TIEMPO\"))))","v":"A TIEMPO"},{"$f":"IF(I217=\"\",\"\",NETWORKDAYS([4]Hoja1!C217+1,[4]Hoja1!P217,DiasNOLaborables))","v":4},"",null,null,20]
[207,20209050031972,43935,"MODULO CONTACTENOS","SOLICITUD DE INFORMACIÓN Y DOCUMENTOS","SOLICITUD DE INFORMACIÓN HIDROMETEOROLÓGICA","NO","GRUPO DE ATENCIÓN AL CIUDADANO",43948,null,null,{"$f":"IFERROR(WORKDAY(C218,R218,DiasNOLaborables),\"\")","v":43964},{"$f":"+IF(C218=\"\",\"\",IF(I218=\"\",\"\",(IF(I218<=L218,\"A TIEMPO\",\"FUERA DE TIEMPO\"))))","v":"A TIEMPO"},{"$f":"IF(I218=\"\",\"\",NETWORKDAYS([4]Hoja1!C218+1,[4]Hoja1!P218,DiasNOLaborables))","v":4},"",null,null,20]
[208,20209050031982,43936,"MODULO CONTACTENOS","SOLICITUD DE INFORMACIÓN Y DOCUMENTOS","SOLICITUD DE INFORMACIÓN HIDROMETEOROLÓGICA","NO","GRUPO DE ATENCIÓN AL CIUDADANO",43948,null,null,{"$f":"IFERROR(WORKDAY(C219,R219,DiasNOLaborables),\"\")","v":43965},{"$f":"+IF(C219=\"\",\"\",IF(I219=\"\",\"\",(IF(I219<=L219,\"A TIEMPO\",\"FUERA DE TIEMPO\"))))","v":"A TIEMPO"},{"$f":"IF(I219=\"\",\"\",NETWORKDAYS([4]Hoja1!C219+1,[4]Hoja1!P219,DiasNOLaborables))","v":4},"",null,null,20]
[209,20209050031992,43936,"MODULO CONTACTENOS","SOLICITUD DE INFORMACIÓN Y DOCUMENTOS","SOLICITUD DE INFORMACIÓN HIDROMETEOROLÓGICA","NO","GRUPO DE ATENCIÓN AL CIUDADANO",43948,null,null,{"$f":"IFERROR(WORKDAY(C220,R220,DiasNOLaborables),\"\")","v":43965},{"$f":"+IF(C220=\"\",\"\",IF(I220=\"\",\"\",(IF(I220<=L220,\"A TIEMPO\",\"FUERA DE TIEMPO\"))))","v":"A TIEMPO"},{"$f":"IF(I220=\"\",\"\",NETWORKDAYS([4]Hoja1!C220+1,[4]Hoja1!P220,DiasNOLaborables))","v":4},"",null,null,20]
[210,20209050032012,43936,"MODULO CONTACTENOS","SOLICITUD DE INFORMACIÓN Y DOCUMENTOS","SOLICITUD DE INFORMACIÓN HIDROMETEOROLÓGICA","NO","GRUPO DE ATENCIÓN AL CIUDADANO",43948,null,null,{"$f":"IFERROR(WORKDAY(C221,R221,DiasNOLaborables),\"\")","v":43965},{"$f":"+IF(C221=\"\",\"\",IF(I221=\"\",\"\",(IF(I221<=L221,\"A TIEMPO\",\"FUERA DE TIEMPO\"))))","v":"A TIEMPO"},{"$f":"IF(I221=\"\",\"\",NETWORKDAYS([4]Hoja1!C221+1,[4]Hoja1!P221,DiasNOLaborables))","v":4},"",null,null,20]
[211,20209050032032,43936,"MODULO CONTACTENOS","SOLICITUD DE INFORMACIÓN Y DOCUMENTOS","SOLICITUD DE INFORMACIÓN HIDROMETEOROLÓGICA","NO","GRUPO DE ATENCIÓN AL CIUDADANO",43948,null,null,{"$f":"IFERROR(WORKDAY(C222,R222,DiasNOLaborables),\"\")","v":43965},{"$f":"+IF(C222=\"\",\"\",IF(I222=\"\",\"\",(IF(I222<=L222,\"A TIEMPO\",\"FUERA DE TIEMPO\"))))","v":"A TIEMPO"},{"$f":"IF(I222=\"\",\"\",NETWORKDAYS([4]Hoja1!C222+1,[4]Hoja1!P222,DiasNOLaborables))","v":6},"",null,null,20]
[212,20209050032042,43936,"MODULO CONTACTENOS","SOLICITUD DE INFORMACIÓN Y DOCUMENTOS","SOLICITUD DE INFORMACIÓN HIDROMETEOROLÓGICA","NO","GRUPO DE ATENCIÓN AL CIUDADANO",43948,null,null,{"$f":"IFERROR(WORKDAY(C223,R223,DiasNOLaborables),\"\")","v":43965},{"$f":"+IF(C223=\"\",\"\",IF(I223=\"\",\"\",(IF(I223<=L223,\"A TIEMPO\",\"FUERA DE TIEMPO\"))))","v":"A TIEMPO"},{"$f":"IF(I223=\"\",\"\",NETWORKDAYS([4]Hoja1!C223+1,[4]Hoja1!P223,DiasNOLaborables))","v":6},"",null,null,20]
[213,20209050032062,43936,"MODULO CONTACTENOS","SOLICITUD DE INFORMACIÓN Y DOCUMENTOS","SOLICITUD DE INFORMACIÓN HIDROMETEOROLÓGICA","NO","GRUPO DE ATENCIÓN AL CIUDADANO",43948,null,null,{"$f":"IFERROR(WORKDAY(C224,R224,DiasNOLaborables),\"\")","v":43965},{"$f":"+IF(C224=\"\",\"\",IF(I224=\"\",\"\",(IF(I224<=L224,\"A TIEMPO\",\"FUERA DE TIEMPO\"))))","v":"A TIEMPO"},{"$f":"IF(I224=\"\",\"\",NETWORKDAYS([4]Hoja1!C224+1,[4]Hoja1!P224,DiasNOLaborables))","v":10},"",null,null,20]
[214,20209050032072,43936,"MODULO CONTACTENOS","SOLICITUD DE INFORMACIÓN Y DOCUMENTOS","SOLICITUD DE INFORMACIÓN HIDROMETEOROLÓGICA","NO","GRUPO DE ATENCIÓN AL CIUDADANO",43948,null,null,{"$f":"IFERROR(WORKDAY(C225,R225,DiasNOLaborables),\"\")","v":43965},{"$f":"+IF(C225=\"\",\"\",IF(I225=\"\",\"\",(IF(I225<=L225,\"A TIEMPO\",\"FUERA DE TIEMPO\"))))","v":"A TIEMPO"},{"$f":"IF(I225=\"\",\"\",NETWORKDAYS([4]Hoja1!C225+1,[4]Hoja1!P225,DiasNOLaborables))","v":10},"",null,null,20]
[215,20200418175918,43939,"WEB (MÓDULO DE SOLICITUD DE INFORMACIÓN HIDROMETEOROLÓGICA)","SOLICITUD DE INFORMACIÓN Y DOCUMENTOS","SOLICITUD DE INFORMACIÓN HIDROMETEOROLÓGICA","NO","GRUPO DE ATENCIÓN AL CIUDADANO",43948,null,null,{"$f":"IFERROR(WORKDAY(C226,R226,DiasNOLaborables),\"\")","v":43969},{"$f":"+IF(C226=\"\",\"\",IF(I226=\"\",\"\",(IF(I226<=L226,\"A TIEMPO\",\"FUERA DE TIEMPO\"))))","v":"A TIEMPO"},{"$f":"IF(I226=\"\",\"\",NETWORKDAYS([4]Hoja1!C226+1,[4]Hoja1!P226,DiasNOLaborables))","v":10},"",null,null,20]
[216,20200418115957,43939,"WEB (MÓDULO DE SOLICITUD DE INFORMACIÓN HIDROMETEOROLÓGICA)","SOLICITUD DE INFORMACIÓN Y DOCUMENTOS","SOLICITUD DE INFORMACIÓN HIDROMETEOROLÓGICA","NO","GRUPO DE ATENCIÓN AL CIUDADANO",43948,null,null,{"$f":"IFERROR(WORKDAY(C227,R227,DiasNOLaborables),\"\")","v":43969},{"$f":"+IF(C227=\"\",\"\",IF(I227=\"\",\"\",(IF(I227<=L227,\"A TIEMPO\",\"FUERA DE TIEMPO\"))))","v":"A TIEMPO"},{"$f":"IF(I227=\"\",\"\",NETWORKDAYS([4]Hoja1!C227+1,[4]Hoja1!P227,DiasNOLaborables))","v":10},"",null,null,20]
[217,20200418114904,43939,"WEB (MÓDULO DE SOLICITUD DE INFORMACIÓN HIDROMETEOROLÓGICA)","SOLICITUD DE INFORMACIÓN Y DOCUMENTOS","SOLICITUD DE INFORMACIÓN HIDROMETEOROLÓGICA","NO","GRUPO DE ATENCIÓN AL CIUDADANO",43948,null,null,{"$f":"IFERROR(WORKDAY(C228,R228,DiasNOLaborables),\"\")","v":43969},{"$f":"+IF(C228=\"\",\"\",IF(I228=\"\",\"\",(IF(I228<=L228,\"A TIEMPO\",\"FUERA DE TIEMPO\"))))","v":"A TIEMPO"},{"$f":"IF(I228=\"\",\"\",NETWORKDAYS([4]Hoja1!C228+1,[4]Hoja1!P228,DiasNOLaborables))","v":10},"",null,null,20]
[218,20200418110051,43939,"WEB (MÓDULO DE SOLICITUD DE INFORMACIÓN HIDROMETEOROLÓGICA)","SOLICITUD DE INFORMACIÓN Y DOCUMENTOS","SOLICITUD DE INFORMACIÓN HIDROMETEOROLÓGICA","NO","GRUPO DE ATENCIÓN AL CIUDADANO",43948,null,null,{"$f":"IFERROR(WORKDAY(C229,R229,DiasNOLaborables),\"\")","v":43969},{"$f":"+IF(C229=\"\",\"\",IF(I229=\"\",\"\",(IF(I229<=L229,\"A TIEMPO\",\"FUERA DE TIEMPO\"))))","v":"A TIEMPO"},{"$f":"IF(I229=\"\",\"\",NETWORKDAYS([4]Hoja1!C229+1,[4]Hoja1!P229,DiasNOLaborables))","v":10},"",null,null,{"$f":"IFERROR(VLOOKUP(E229,$Z$50:$AA$63,2),\"\")","v":20}]
[219,20200419202502,43940,"WEB (MÓDULO DE SOLICITUD DE INFORMACIÓN HIDROMETEOROLÓGICA)","SOLICITUD DE INFORMACIÓN Y DOCUMENTOS","SOLICITUD DE INFORMACIÓN HIDROMETEOROLÓGICA","NO","GRUPO DE ATENCIÓN AL CIUDADANO",43948,null,null,{"$f":"IFERROR(WORKDAY(C230,R230,DiasNOLaborables),\"\")","v":43969},{"$f":"+IF(C230=\"\",\"\",IF(I230=\"\",\"\",(IF(I230<=L230,\"A TIEMPO\",\"FUERA DE TIEMPO\"))))","v":"A TIEMPO"},{"$f":"IF(I230=\"\",\"\",NETWORKDAYS([4]Hoja1!C230+1,[4]Hoja1!P230,DiasNOLaborables))","v":10},"",null,null,20]
[220,20200419191835,43940,"WEB (MÓDULO DE SOLICITUD DE INFORMACIÓN HIDROMETEOROLÓGICA)","SOLICITUD DE INFORMACIÓN Y DOCUMENTOS","SOLICITUD DE INFORMACIÓN HIDROMETEOROLÓGICA","NO","GRUPO DE ATENCIÓN AL CIUDADANO",43948,null,null,{"$f":"IFERROR(WORKDAY(C231,R231,DiasNOLaborables),\"\")","v":43969},{"$f":"+IF(C231=\"\",\"\",IF(I231=\"\",\"\",(IF(I231<=L231,\"A TIEMPO\",\"FUERA DE TIEMPO\"))))","v":"A TIEMPO"},{"$f":"IF(I231=\"\",\"\",NETWORKDAYS([4]Hoja1!C231+1,[4]Hoja1!P231,DiasNOLaborables))","v":10},"",null,null,20]
[221,20200419165349,43940,"WEB (MÓDULO DE SOLICITUD DE INFORMACIÓN HIDROMETEOROLÓGICA)","SOLICITUD DE INFORMACIÓN Y DOCUMENTOS","SOLICITUD DE INFORMACIÓN HIDROMETEOROLÓGICA","NO","GRUPO DE ATENCIÓN AL CIUDADANO",43948,null,null,{"$f":"IFERROR(WORKDAY(C232,R232,DiasNOLaborables),\"\")","v":43969},{"$f":"+IF(C232=\"\",\"\",IF(I232=\"\",\"\",(IF(I232<=L232,\"A TIEMPO\",\"FUERA DE TIEMPO\"))))","v":"A TIEMPO"},{"$f":"IF(I232=\"\",\"\",NETWORKDAYS([4]Hoja1!C232+1,[4]Hoja1!P232,DiasNOLaborables))","v":10},"",null,null,20]
[222,20200419164310,43940,"WEB (MÓDULO DE SOLICITUD DE INFORMACIÓN HIDROMETEOROLÓGICA)","SOLICITUD DE INFORMACIÓN Y DOCUMENTOS","SOLICITUD DE INFORMACIÓN HIDROMETEOROLÓGICA","NO","GRUPO DE ATENCIÓN AL CIUDADANO",43948,null,null,{"$f":"IFERROR(WORKDAY(C233,R233,DiasNOLaborables),\"\")","v":43969},{"$f":"+IF(C233=\"\",\"\",IF(I233=\"\",\"\",(IF(I233<=L233,\"A TIEMPO\",\"FUERA DE TIEMPO\"))))","v":"A TIEMPO"},{"$f":"IF(I233=\"\",\"\",NETWORKDAYS([4]Hoja1!C233+1,[4]Hoja1!P233,DiasNOLaborables))","v":10},{"$f":"IF(NETWORKDAYS(L233+1,I233,DiasNOLaborables)<=0,\"\",NETWORKDAYS(L233+1,I233,DiasNOLaborables))","v":""},null,null,20]
[223,20200419125600,43940,"WEB (MÓDULO DE SOLICITUD DE INFORMACIÓN HIDROMETEOROLÓGICA)","SOLICITUD DE INFORMACIÓN Y DOCUMENTOS","SOLICITUD DE INFORMACIÓN HIDROMETEOROLÓGICA","NO","GRUPO DE ATENCIÓN AL CIUDADANO",43948,null,null,{"$f":"IFERROR(WORKDAY(C234,R234,DiasNOLaborables),\"\")","v":43969},{"$f":"+IF(C234=\"\",\"\",IF(I234=\"\",\"\",(IF(I234<=L234,\"A TIEMPO\",\"FUERA DE TIEMPO\"))))","v":"A TIEMPO"},{"$f":"IF(I234=\"\",\"\",NETWORKDAYS([4]Hoja1!C234+1,[4]Hoja1!P234,DiasNOLaborables))","v":10},"",null,null,20]
[224,20209050034212,43943,"MODULO CONTACTENOS","SOLICITUD DE INFORMACIÓN Y DOCUMENTOS","SOLICITUD DE INFORMACIÓN HIDROMETEOROLÓGICA","NO","GRUPO DE ATENCIÓN AL CIUDADANO",43948,null,null,{"$f":"IFERROR(WORKDAY(C235,R235,DiasNOLaborables),\"\")","v":43972},{"$f":"+IF(C235=\"\",\"\",IF(I235=\"\",\"\",(IF(I235<=L235,\"A TIEMPO\",\"FUERA DE TIEMPO\"))))","v":"A TIEMPO"},{"$f":"IF(I235=\"\",\"\",NETWORKDAYS([4]Hoja1!C235+1,[4]Hoja1!P235,DiasNOLaborables))","v":9},"",null,null,20]
[225,20209050034222,43943,"MODULO CONTACTENOS","SOLICITUD DE INFORMACIÓN Y DOCUMENTOS","SOLICITUD DE INFORMACIÓN HIDROMETEOROLÓGICA","NO","GRUPO DE ATENCIÓN AL CIUDADANO",43948,null,null,{"$f":"IFERROR(WORKDAY(C236,R236,DiasNOLaborables),\"\")","v":43972},{"$f":"+IF(C236=\"\",\"\",IF(I236=\"\",\"\",(IF(I236<=L236,\"A TIEMPO\",\"FUERA DE TIEMPO\"))))","v":"A TIEMPO"},{"$f":"IF(I236=\"\",\"\",NETWORKDAYS([4]Hoja1!C236+1,[4]Hoja1!P236,DiasNOLaborables))","v":8},"",null,null,20]
[226,20209050034232,43943,"MODULO CONTACTENOS","SOLICITUD DE INFORMACIÓN Y DOCUMENTOS","SOLICITUD DE INFORMACIÓN HIDROMETEOROLÓGICA","NO","GRUPO DE ATENCIÓN AL CIUDADANO",43948,null,null,{"$f":"IFERROR(WORKDAY(C237,R237,DiasNOLaborables),\"\")","v":43972},{"$f":"+IF(C237=\"\",\"\",IF(I237=\"\",\"\",(IF(I237<=L237,\"A TIEMPO\",\"FUERA DE TIEMPO\"))))","v":"A TIEMPO"},{"$f":"IF(I237=\"\",\"\",NETWORKDAYS([4]Hoja1!C237+1,[4]Hoja1!P237,DiasNOLaborables))","v":8},"",null,null,20]
[227,20209050034242,43943,"MODULO CONTACTENOS","SOLICITUD DE INFORMACIÓN Y DOCUMENTOS","SOLICITUD DE INFORMACIÓN HIDROMETEOROLÓGICA","NO","GRUPO DE ATENCIÓN AL CIUDADANO",43948,null,null,{"$f":"IFERROR(WORKDAY(C238,R238,DiasNOLaborables),\"\")","v":43972},{"$f":"+IF(C238=\"\",\"\",IF(I238=\"\",\"\",(IF(I238<=L238,\"A TIEMPO\",\"FUERA DE TIEMPO\"))))","v":"A TIEMPO"},{"$f":"IF(I238=\"\",\"\",NETWORKDAYS([4]Hoja1!C238+1,[4]Hoja1!P238,DiasNOLaborables))","v":8},"",null,null,20]
[228,20209050034252,43943,"MODULO CONTACTENOS","SOLICITUD DE INFORMACIÓN Y DOCUMENTOS","SOLICITUD DE INFORMACIÓN HIDROMETEOROLÓGICA","NO","GRUPO DE ATENCIÓN AL CIUDADANO",43948,null,null,{"$f":"IFERROR(WORKDAY(C239,R239,DiasNOLaborables),\"\")","v":43972},{"$f":"+IF(C239=\"\",\"\",IF(I239=\"\",\"\",(IF(I239<=L239,\"A TIEMPO\",\"FUERA DE TIEMPO\"))))","v":"A TIEMPO"},{"$f":"IF(I239=\"\",\"\",NETWORKDAYS([4]Hoja1!C239+1,[4]Hoja1!P239,DiasNOLaborables))","v":8},"",null,null,20]
[229,20209050034262,43943,"MODULO CONTACTENOS","SOLICITUD DE INFORMACIÓN Y DOCUMENTOS","SOLICITUD DE INFORMACIÓN HIDROMETEOROLÓGICA","NO","GRUPO DE ATENCIÓN AL CIUDADANO",43948,null,null,{"$f":"IFERROR(WORKDAY(C240,R240,DiasNOLaborables),\"\")","v":43972},{"$f":"+IF(C240=\"\",\"\",IF(I240=\"\",\"\",(IF(I240<=L240,\"A TIEMPO\",\"FUERA DE TIEMPO\"))))","v":"A TIEMPO"},{"$f":"IF(I240=\"\",\"\",NETWORKDAYS([4]Hoja1!C240+1,[4]Hoja1!P240,DiasNOLaborables))","v":8},"",null,null,20]
[230,20200420153532,43941,"WEB (MÓDULO DE SOLICITUD DE INFORMACIÓN HIDROMETEOROLÓGICA)","SOLICITUD DE INFORMACIÓN Y DOCUMENTOS","SOLICITUD DE INFORMACIÓN HIDROMETEOROLÓGICA","NO","GRUPO DE ATENCIÓN AL CIUDADANO",43949,null,null,{"$f":"IFERROR(WORKDAY(C241,R241,DiasNOLaborables),\"\")","v":43970},{"$f":"+IF(C241=\"\",\"\",IF(I241=\"\",\"\",(IF(I241<=L241,\"A TIEMPO\",\"FUERA DE TIEMPO\"))))","v":"A TIEMPO"},{"$f":"IF(I241=\"\",\"\",NETWORKDAYS([4]Hoja1!C241+1,[4]Hoja1!P241,DiasNOLaborables))","v":12},"",null,null,20]
[{"$f":"IF(B240<>\"\",A241+1,\"\")","v":231},20200420153236,43941,"WEB (MÓDULO DE SOLICITUD DE INFORMACIÓN HIDROMETEOROLÓGICA)","SOLICITUD DE INFORMACIÓN Y DOCUMENTOS","SOLICITUD DE INFORMACIÓN HIDROMETEOROLÓGICA","NO","GRUPO DE ATENCIÓN AL CIUDADANO",43949,null,null,{"$f":"IFERROR(WORKDAY(C242,R242,DiasNOLaborables),\"\")","v":43970},{"$f":"+IF(C242=\"\",\"\",IF(I242=\"\",\"\",(IF(I242<=L242,\"A TIEMPO\",\"FUERA DE TIEMPO\"))))","v":"A TIEMPO"},{"$f":"IF(I242=\"\",\"\",NETWORKDAYS([4]Hoja1!C242+1,[4]Hoja1!P242,DiasNOLaborables))","v":12},"",null,null,20]
[232,20200420153038,43941,"WEB (MÓDULO DE SOLICITUD DE INFORMACIÓN HIDROMETEOROLÓGICA)","SOLICITUD DE INFORMACIÓN Y DOCUMENTOS","SOLICITUD DE INFORMACIÓN HIDROMETEOROLÓGICA","NO","GRUPO DE ATENCIÓN AL CIUDADANO",43949,null,null,{"$f":"IFERROR(WORKDAY(C243,R243,DiasNOLaborables),\"\")","v":43970},{"$f":"+IF(C243=\"\",\"\",IF(I243=\"\",\"\",(IF(I243<=L243,\"A TIEMPO\",\"FUERA DE TIEMPO\"))))","v":"A TIEMPO"},{"$f":"IF(I243=\"\",\"\",NETWORKDAYS([4]Hoja1!C243+1,[4]Hoja1!P243,DiasNOLaborables))","v":12},"",null,null,20]
[233,20200420152610,43941,"WEB (MÓDULO DE SOLICITUD DE INFORMACIÓN HIDROMETEOROLÓGICA)","SOLICITUD DE INFORMACIÓN Y DOCUMENTOS","SOLICITUD DE INFORMACIÓN HIDROMETEOROLÓGICA","NO","GRUPO DE ATENCIÓN AL CIUDADANO",43949,null,null,{"$f":"IFERROR(WORKDAY(C244,R244,DiasNOLaborables),\"\")","v":43970},{"$f":"+IF(C244=\"\",\"\",IF(I244=\"\",\"\",(IF(I244<=L244,\"A TIEMPO\",\"FUERA DE TIEMPO\"))))","v":"A TIEMPO"},{"$f":"IF(I244=\"\",\"\",NETWORKDAYS([4]Hoja1!C244+1,[4]Hoja1!P244,DiasNOLaborables))","v":12},"",null,null,20]
[234,20200420152225,43941,"WEB (MÓDULO DE SOLICITUD DE INFORMACIÓN HIDROMETEOROLÓGICA)","SOLICITUD DE INFORMACIÓN Y DOCUMENTOS","SOLICITUD DE INFORMACIÓN HIDROMETEOROLÓGICA","NO","GRUPO DE ATENCIÓN AL CIUDADANO",43949,null,null,{"$f":"IFERROR(WORKDAY(C245,R245,DiasNOLaborables),\"\")","v":43970},{"$f":"+IF(C245=\"\",\"\",IF(I245=\"\",\"\",(IF(I245<=L245,\"A TIEMPO\",\"FUERA DE TIEMPO\"))))","v":"A TIEMPO"},{"$f":"IF(I245=\"\",\"\",NETWORKDAYS([4]Hoja1!C245+1,[4]Hoja1!P245,DiasNOLaborables))","v":12},"",null,null,20]
[235,20200420151838,43941,"WEB (MÓDULO DE SOLICITUD DE INFORMACIÓN HIDROMETEOROLÓGICA)","SOLICITUD DE INFORMACIÓN Y DOCUMENTOS","SOLICITUD DE INFORMACIÓN HIDROMETEOROLÓGICA","NO","GRUPO DE ATENCIÓN AL CIUDADANO",43949,null,null,{"$f":"IFERROR(WORKDAY(C246,R246,DiasNOLaborables),\"\")","v":43970},{"$f":"+IF(C246=\"\",\"\",IF(I246=\"\",\"\",(IF(I246<=L246,\"A TIEMPO\",\"FUERA DE TIEMPO\"))))","v":"A TIEMPO"},{"$f":"IF(I246=\"\",\"\",NETWORKDAYS([4]Hoja1!C246+1,[4]Hoja1!P246,DiasNOLaborables))","v":8},"",null,null,20]
[236,20200420151457,43941,"WEB (MÓDULO DE SOLICITUD DE INFORMACIÓN HIDROMETEOROLÓGICA)","SOLICITUD DE INFORMACIÓN Y DOCUMENTOS","SOLICITUD DE INFORMACIÓN HIDROMETEOROLÓGICA","NO","GRUPO DE ATENCIÓN AL CIUDADANO",43949,null,null,{"$f":"IFERROR(WORKDAY(C247,R247,DiasNOLaborables),\"\")","v":43970},{"$f":"+IF(C247=\"\",\"\",IF(I247=\"\",\"\",(IF(I247<=L247,\"A TIEMPO\",\"FUERA DE TIEMPO\"))))","v":"A TIEMPO"},{"$f":"IF(I247=\"\",\"\",NETWORKDAYS([4]Hoja1!C247+1,[4]Hoja1!P247,DiasNOLaborables))","v":7},"",null,null,20]
[237,20200420151424,43941,"WEB (MÓDULO DE SOLICITUD DE INFORMACIÓN HIDROMETEOROLÓGICA)","SOLICITUD DE INFORMACIÓN Y DOCUMENTOS","SOLICITUD DE INFORMACIÓN HIDROMETEOROLÓGICA","NO","GRUPO DE ATENCIÓN AL CIUDADANO",43949,null,null,{"$f":"IFERROR(WORKDAY(C248,R248,DiasNOLaborables),\"\")","v":43970},{"$f":"+IF(C248=\"\",\"\",IF(I248=\"\",\"\",(IF(I248<=L248,\"A TIEMPO\",\"FUERA DE TIEMPO\"))))","v":"A TIEMPO"},{"$f":"IF(I248=\"\",\"\",NETWORKDAYS([4]Hoja1!C248+1,[4]Hoja1!P248,DiasNOLaborables))","v":6},"",null,null,20]
[238,20200420151047,43941,"WEB (MÓDULO DE SOLICITUD DE INFORMACIÓN HIDROMETEOROLÓGICA)","SOLICITUD DE INFORMACIÓN Y DOCUMENTOS","SOLICITUD DE INFORMACIÓN HIDROMETEOROLÓGICA","NO","GRUPO DE ATENCIÓN AL CIUDADANO",43949,null,null,{"$f":"IFERROR(WORKDAY(C249,R249,DiasNOLaborables),\"\")","v":43970},{"$f":"+IF(C249=\"\",\"\",IF(I249=\"\",\"\",(IF(I249<=L249,\"A TIEMPO\",\"FUERA DE TIEMPO\"))))","v":"A TIEMPO"},{"$f":"IF(I249=\"\",\"\",NETWORKDAYS([4]Hoja1!C249+1,[4]Hoja1!P249,DiasNOLaborables))","v":6},"",null,null,20]
[239,20200420150817,43941,"WEB (MÓDULO DE SOLICITUD DE INFORMACIÓN HIDROMETEOROLÓGICA)","SOLICITUD DE INFORMACIÓN Y DOCUMENTOS","SOLICITUD DE INFORMACIÓN HIDROMETEOROLÓGICA","NO","GRUPO DE ATENCIÓN AL CIUDADANO",43949,null,null,{"$f":"IFERROR(WORKDAY(C250,R250,DiasNOLaborables),\"\")","v":43970},{"$f":"+IF(C250=\"\",\"\",IF(I250=\"\",\"\",(IF(I250<=L250,\"A TIEMPO\",\"FUERA DE TIEMPO\"))))","v":"A TIEMPO"},{"$f":"IF(I250=\"\",\"\",NETWORKDAYS([4]Hoja1!C250+1,[4]Hoja1!P250,DiasNOLaborables))","v":10},"",null,null,20]
[240,20200420150121,43941,"WEB (MÓDULO DE SOLICITUD DE INFORMACIÓN HIDROMETEOROLÓGICA)","SOLICITUD DE INFORMACIÓN Y DOCUMENTOS","SOLICITUD DE INFORMACIÓN HIDROMETEOROLÓGICA","NO","GRUPO DE ATENCIÓN AL CIUDADANO",43949,null,null,{"$f":"IFERROR(WORKDAY(C251,R251,DiasNOLaborables),\"\")","v":43970},{"$f":"+IF(C251=\"\",\"\",IF(I251=\"\",\"\",(IF(I251<=L251,\"A TIEMPO\",\"FUERA DE TIEMPO\"))))","v":"A TIEMPO"},{"$f":"IF(I251=\"\",\"\",NETWORKDAYS([4]Hoja1!C251+1,[4]Hoja1!P251,DiasNOLaborables))","v":10},"",null,null,20]
[241,20200420145728,43941,"WEB (MÓDULO DE SOLICITUD DE INFORMACIÓN HIDROMETEOROLÓGICA)","SOLICITUD DE INFORMACIÓN Y DOCUMENTOS","SOLICITUD DE INFORMACIÓN HIDROMETEOROLÓGICA","NO","GRUPO DE ATENCIÓN AL CIUDADANO",43949,null,null,{"$f":"IFERROR(WORKDAY(C252,R252,DiasNOLaborables),\"\")","v":43970},{"$f":"+IF(C252=\"\",\"\",IF(I252=\"\",\"\",(IF(I252<=L252,\"A TIEMPO\",\"FUERA DE TIEMPO\"))))","v":"A TIEMPO"},{"$f":"IF(I252=\"\",\"\",NETWORKDAYS([4]Hoja1!C252+1,[4]Hoja1!P252,DiasNOLaborables))","v":10},"",null,null,20]
[242,20200420145303,43941,"WEB (MÓDULO DE SOLICITUD DE INFORMACIÓN HIDROMETEOROLÓGICA)","SOLICITUD DE INFORMACIÓN Y DOCUMENTOS","SOLICITUD DE INFORMACIÓN HIDROMETEOROLÓGICA","NO","GRUPO DE ATENCIÓN AL CIUDADANO",43949,null,null,{"$f":"IFERROR(WORKDAY(C253,R253,DiasNOLaborables),\"\")","v":43970},{"$f":"+IF(C253=\"\",\"\",IF(I253=\"\",\"\",(IF(I253<=L253,\"A TIEMPO\",\"FUERA DE TIEMPO\"))))","v":"A TIEMPO"},{"$f":"IF(I253=\"\",\"\",NETWORKDAYS([4]Hoja1!C253+1,[4]Hoja1!P253,DiasNOLaborables))","v":10},"",null,null,20]
[243,20200420144847,43941,"WEB (MÓDULO DE SOLICITUD DE INFORMACIÓN HIDROMETEOROLÓGICA)","SOLICITUD DE INFORMACIÓN Y DOCUMENTOS","SOLICITUD DE INFORMACIÓN HIDROMETEOROLÓGICA","NO","GRUPO DE ATENCIÓN AL CIUDADANO",43949,null,null,{"$f":"IFERROR(WORKDAY(C254,R254,DiasNOLaborables),\"\")","v":43970},{"$f":"+IF(C254=\"\",\"\",IF(I254=\"\",\"\",(IF(I254<=L254,\"A TIEMPO\",\"FUERA DE TIEMPO\"))))","v":"A TIEMPO"},{"$f":"IF(I254=\"\",\"\",NETWORKDAYS([4]Hoja1!C254+1,[4]Hoja1!P254,DiasNOLaborables))","v":10},"",null,null,20]
[244,20200420144314,43941,"WEB (MÓDULO DE SOLICITUD DE INFORMACIÓN HIDROMETEOROLÓGICA)","SOLICITUD DE INFORMACIÓN Y DOCUMENTOS","SOLICITUD DE INFORMACIÓN HIDROMETEOROLÓGICA","NO","GRUPO DE ATENCIÓN AL CIUDADANO",43949,null,null,{"$f":"IFERROR(WORKDAY(C255,R255,DiasNOLaborables),\"\")","v":43970},{"$f":"+IF(C255=\"\",\"\",IF(I255=\"\",\"\",(IF(I255<=L255,\"A TIEMPO\",\"FUERA DE TIEMPO\"))))","v":"A TIEMPO"},{"$f":"IF(I255=\"\",\"\",NETWORKDAYS([4]Hoja1!C255+1,[4]Hoja1!P255,DiasNOLaborables))","v":10},"",null,null,20]
[245,20200420143940,43941,"WEB (MÓDULO DE SOLICITUD DE INFORMACIÓN HIDROMETEOROLÓGICA)","SOLICITUD DE INFORMACIÓN Y DOCUMENTOS","SOLICITUD DE INFORMACIÓN HIDROMETEOROLÓGICA","NO","GRUPO DE ATENCIÓN AL CIUDADANO",43949,null,null,{"$f":"IFERROR(WORKDAY(C256,R256,DiasNOLaborables),\"\")","v":43970},{"$f":"+IF(C256=\"\",\"\",IF(I256=\"\",\"\",(IF(I256<=L256,\"A TIEMPO\",\"FUERA DE TIEMPO\"))))","v":"A TIEMPO"},{"$f":"IF(I256=\"\",\"\",NETWORKDAYS([4]Hoja1!C256+1,[4]Hoja1!P256,DiasNOLaborables))","v":10},"",null,null,20]
[246,20200420143505,43941,"WEB (MÓDULO DE SOLICITUD DE INFORMACIÓN HIDROMETEOROLÓGICA)","SOLICITUD DE INFORMACIÓN Y DOCUMENTOS","SOLICITUD DE INFORMACIÓN HIDROMETEOROLÓGICA","NO","GRUPO DE ATENCIÓN AL CIUDADANO",43949,null,null,{"$f":"IFERROR(WORKDAY(C257,R257,DiasNOLaborables),\"\")","v":43970},{"$f":"+IF(C257=\"\",\"\",IF(I257=\"\",\"\",(IF(I257<=L257,\"A TIEMPO\",\"FUERA DE TIEMPO\"))))","v":"A TIEMPO"},{"$f":"IF(I257=\"\",\"\",NETWORKDAYS([4]Hoja1!C257+1,[4]Hoja1!P257,DiasNOLaborables))","v":10},"",null,null,20]
[247,20200420143102,43941,"WEB (MÓDULO DE SOLICITUD DE INFORMACIÓN HIDROMETEOROLÓGICA)","SOLICITUD DE INFORMACIÓN Y DOCUMENTOS","SOLICITUD DE INFORMACIÓN HIDROMETEOROLÓGICA","NO","GRUPO DE ATENCIÓN AL CIUDADANO",43949,null,null,{"$f":"IFERROR(WORKDAY(C258,R258,DiasNOLaborables),\"\")","v":43970},{"$f":"+IF(C258=\"\",\"\",IF(I258=\"\",\"\",(IF(I258<=L258,\"A TIEMPO\",\"FUERA DE TIEMPO\"))))","v":"A TIEMPO"},{"$f":"IF(I258=\"\",\"\",NETWORKDAYS([4]Hoja1!C258+1,[4]Hoja1!P258,DiasNOLaborables))","v":10},"",null,null,20]
[248,20200420142557,43941,"WEB (MÓDULO DE SOLICITUD DE INFORMACIÓN HIDROMETEOROLÓGICA)","SOLICITUD DE INFORMACIÓN Y DOCUMENTOS","SOLICITUD DE INFORMACIÓN HIDROMETEOROLÓGICA","NO","GRUPO DE ATENCIÓN AL CIUDADANO",43949,null,null,{"$f":"IFERROR(WORKDAY(C259,R259,DiasNOLaborables),\"\")","v":43970},{"$f":"+IF(C259=\"\",\"\",IF(I259=\"\",\"\",(IF(I259<=L259,\"A TIEMPO\",\"FUERA DE TIEMPO\"))))","v":"A TIEMPO"},{"$f":"IF(I259=\"\",\"\",NETWORKDAYS([4]Hoja1!C259+1,[4]Hoja1!P259,DiasNOLaborables))","v":10},"",null,null,20]
[249,20200420142224,43941,"WEB (MÓDULO DE SOLICITUD DE INFORMACIÓN HIDROMETEOROLÓGICA)","SOLICITUD DE INFORMACIÓN Y DOCUMENTOS","SOLICITUD DE INFORMACIÓN HIDROMETEOROLÓGICA","NO","GRUPO DE ATENCIÓN AL CIUDADANO",43949,null,null,{"$f":"IFERROR(WORKDAY(C260,R260,DiasNOLaborables),\"\")","v":43970},{"$f":"+IF(C260=\"\",\"\",IF(I260=\"\",\"\",(IF(I260<=L260,\"A TIEMPO\",\"FUERA DE TIEMPO\"))))","v":"A TIEMPO"},{"$f":"IF(I260=\"\",\"\",NETWORKDAYS([4]Hoja1!C260+1,[4]Hoja1!P260,DiasNOLaborables))","v":10},"",null,null,20]
[250,20200420141220,43941,"WEB (MÓDULO DE SOLICITUD DE INFORMACIÓN HIDROMETEOROLÓGICA)","SOLICITUD DE INFORMACIÓN Y DOCUMENTOS","SOLICITUD DE INFORMACIÓN HIDROMETEOROLÓGICA","NO","GRUPO DE ATENCIÓN AL CIUDADANO",43949,null,null,{"$f":"IFERROR(WORKDAY(C261,R261,DiasNOLaborables),\"\")","v":43970},{"$f":"+IF(C261=\"\",\"\",IF(I261=\"\",\"\",(IF(I261<=L261,\"A TIEMPO\",\"FUERA DE TIEMPO\"))))","v":"A TIEMPO"},{"$f":"IF(I261=\"\",\"\",NETWORKDAYS([4]Hoja1!C261+1,[4]Hoja1!P261,DiasNOLaborables))","v":10},"",null,null,20]
[251,20200420135853,43941,"WEB (MÓDULO DE SOLICITUD DE INFORMACIÓN HIDROMETEOROLÓGICA)","SOLICITUD DE INFORMACIÓN Y DOCUMENTOS","SOLICITUD DE INFORMACIÓN HIDROMETEOROLÓGICA","NO","GRUPO DE ATENCIÓN AL CIUDADANO",43949,null,null,{"$f":"IFERROR(WORKDAY(C262,R262,DiasNOLaborables),\"\")","v":43970},{"$f":"+IF(C262=\"\",\"\",IF(I262=\"\",\"\",(IF(I262<=L262,\"A TIEMPO\",\"FUERA DE TIEMPO\"))))","v":"A TIEMPO"},{"$f":"IF(I262=\"\",\"\",NETWORKDAYS([4]Hoja1!C262+1,[4]Hoja1!P262,DiasNOLaborables))","v":8},"",null,null,20]
[252,20200420122847,43941,"WEB (MÓDULO DE SOLICITUD DE INFORMACIÓN HIDROMETEOROLÓGICA)","SOLICITUD DE INFORMACIÓN Y DOCUMENTOS","SOLICITUD DE INFORMACIÓN HIDROMETEOROLÓGICA","NO","GRUPO DE ATENCIÓN AL CIUDADANO",43949,null,null,{"$f":"IFERROR(WORKDAY(C263,R263,DiasNOLaborables),\"\")","v":43970},{"$f":"+IF(C263=\"\",\"\",IF(I263=\"\",\"\",(IF(I263<=L263,\"A TIEMPO\",\"FUERA DE TIEMPO\"))))","v":"A TIEMPO"},{"$f":"IF(I263=\"\",\"\",NETWORKDAYS([4]Hoja1!C263+1,[4]Hoja1!P263,DiasNOLaborables))","v":8},"",null,null,20]
[253,20200420103025,43941,"WEB (MÓDULO DE SOLICITUD DE INFORMACIÓN HIDROMETEOROLÓGICA)","SOLICITUD DE INFORMACIÓN Y DOCUMENTOS","SOLICITUD DE INFORMACIÓN HIDROMETEOROLÓGICA","NO","GRUPO DE ATENCIÓN AL CIUDADANO",43949,null,null,{"$f":"IFERROR(WORKDAY(C264,R264,DiasNOLaborables),\"\")","v":43970},{"$f":"+IF(C264=\"\",\"\",IF(I264=\"\",\"\",(IF(I264<=L264,\"A TIEMPO\",\"FUERA DE TIEMPO\"))))","v":"A TIEMPO"},{"$f":"IF(I264=\"\",\"\",NETWORKDAYS([4]Hoja1!C264+1,[4]Hoja1!P264,DiasNOLaborables))","v":10},"",null,null,20]
[254,20200420102524,43941,"WEB (MÓDULO DE SOLICITUD DE INFORMACIÓN HIDROMETEOROLÓGICA)","SOLICITUD DE INFORMACIÓN Y DOCUMENTOS","SOLICITUD DE INFORMACIÓN HIDROMETEOROLÓGICA","NO","GRUPO DE ATENCIÓN AL CIUDADANO",43949,null,null,{"$f":"IFERROR(WORKDAY(C265,R265,DiasNOLaborables),\"\")","v":43970},{"$f":"+IF(C265=\"\",\"\",IF(I265=\"\",\"\",(IF(I265<=L265,\"A TIEMPO\",\"FUERA DE TIEMPO\"))))","v":"A TIEMPO"},{"$f":"IF(I265=\"\",\"\",NETWORKDAYS([4]Hoja1!C265+1,[4]Hoja1!P265,DiasNOLaborables))","v":10},"",null,null,20]
[255,20200420102507,43941,"WEB (MÓDULO DE SOLICITUD DE INFORMACIÓN HIDROMETEOROLÓGICA)","SOLICITUD DE INFORMACIÓN Y DOCUMENTOS","SOLICITUD DE INFORMACIÓN HIDROMETEOROLÓGICA","NO","GRUPO DE ATENCIÓN AL CIUDADANO",43949,null,null,{"$f":"IFERROR(WORKDAY(C266,R266,DiasNOLaborables),\"\")","v":43970},{"$f":"+IF(C266=\"\",\"\",IF(I266=\"\",\"\",(IF(I266<=L266,\"A TIEMPO\",\"FUERA DE TIEMPO\"))))","v":"A TIEMPO"},{"$f":"IF(I266=\"\",\"\",NETWORKDAYS([4]Hoja1!C266+1,[4]Hoja1!P266,DiasNOLaborables))","v":10},"",null,null,20]
[256,20200420094007,43941,"WEB (MÓDULO DE SOLICITUD DE INFORMACIÓN HIDROMETEOROLÓGICA)","SOLICITUD DE INFORMACIÓN Y DOCUMENTOS","SOLICITUD DE INFORMACIÓN HIDROMETEOROLÓGICA","NO","GRUPO DE ATENCIÓN AL CIUDADANO",43949,null,null,{"$f":"IFERROR(WORKDAY(C267,R267,DiasNOLaborables),\"\")","v":43970},{"$f":"+IF(C267=\"\",\"\",IF(I267=\"\",\"\",(IF(I267<=L267,\"A TIEMPO\",\"FUERA DE TIEMPO\"))))","v":"A TIEMPO"},{"$f":"IF(I267=\"\",\"\",NETWORKDAYS([4]Hoja1!C267+1,[4]Hoja1!P267,DiasNOLaborables))","v":10},"",null,null,20]
[257,20200420074247,43941,"WEB (MÓDULO DE SOLICITUD DE INFORMACIÓN HIDROMETEOROLÓGICA)","SOLICITUD DE INFORMACIÓN Y DOCUMENTOS","SOLICITUD DE INFORMACIÓN HIDROMETEOROLÓGICA","NO","GRUPO DE ATENCIÓN AL CIUDADANO",43949,null,null,{"$f":"IFERROR(WORKDAY(C268,R268,DiasNOLaborables),\"\")","v":43970},{"$f":"+IF(C268=\"\",\"\",IF(I268=\"\",\"\",(IF(I268<=L268,\"A TIEMPO\",\"FUERA DE TIEMPO\"))))","v":"A TIEMPO"},{"$f":"IF(I268=\"\",\"\",NETWORKDAYS([4]Hoja1!C268+1,[4]Hoja1!P268,DiasNOLaborables))","v":10},"",null,null,20]
[258,20200422221700,43943,"WEB (MÓDULO DE SOLICITUD DE INFORMACIÓN HIDROMETEOROLÓGICA)","SOLICITUD DE INFORMACIÓN Y DOCUMENTOS","SOLICITUD DE INFORMACIÓN HIDROMETEOROLÓGICA","NO","GRUPO DE ATENCIÓN AL CIUDADANO",43951,null,null,{"$f":"IFERROR(WORKDAY(C269,R269,DiasNOLaborables),\"\")","v":43972},{"$f":"+IF(C269=\"\",\"\",IF(I269=\"\",\"\",(IF(I269<=L269,\"A TIEMPO\",\"FUERA DE TIEMPO\"))))","v":"A TIEMPO"},{"$f":"IF(I269=\"\",\"\",NETWORKDAYS([4]Hoja1!C269+1,[4]Hoja1!P269,DiasNOLaborables))","v":10},"",null,null,20]
[259,20200422170409,43943,"WEB (MÓDULO DE SOLICITUD DE INFORMACIÓN HIDROMETEOROLÓGICA)","SOLICITUD DE INFORMACIÓN Y DOCUMENTOS","SOLICITUD DE INFORMACIÓN HIDROMETEOROLÓGICA","NO","GRUPO DE ATENCIÓN AL CIUDADANO",43951,null,null,{"$f":"IFERROR(WORKDAY(C270,R270,DiasNOLaborables),\"\")","v":43972},{"$f":"+IF(C270=\"\",\"\",IF(I270=\"\",\"\",(IF(I270<=L270,\"A TIEMPO\",\"FUERA DE TIEMPO\"))))","v":"A TIEMPO"},{"$f":"IF(I270=\"\",\"\",NETWORKDAYS([4]Hoja1!C270+1,[4]Hoja1!P270,DiasNOLaborables))","v":10},"",null,null,20]
[260,20200422115828,43943,"WEB (MÓDULO DE SOLICITUD DE INFORMACIÓN HIDROMETEOROLÓGICA)","SOLICITUD DE INFORMACIÓN Y DOCUMENTOS","SOLICITUD DE INFORMACIÓN HIDROMETEOROLÓGICA","NO","GRUPO DE ATENCIÓN AL CIUDADANO",43951,null,null,{"$f":"IFERROR(WORKDAY(C271,R271,DiasNOLaborables),\"\")","v":43972},{"$f":"+IF(C271=\"\",\"\",IF(I271=\"\",\"\",(IF(I271<=L271,\"A TIEMPO\",\"FUERA DE TIEMPO\"))))","v":"A TIEMPO"},{"$f":"IF(I271=\"\",\"\",NETWORKDAYS([4]Hoja1!C271+1,[4]Hoja1!P271,DiasNOLaborables))","v":10},"",null,null,20]
[261,20200422111522,43943,"WEB (MÓDULO DE SOLICITUD DE INFORMACIÓN HIDROMETEOROLÓGICA)","SOLICITUD DE INFORMACIÓN Y DOCUMENTOS","SOLICITUD DE INFORMACIÓN HIDROMETEOROLÓGICA","NO","GRUPO DE ATENCIÓN AL CIUDADANO",43951,null,null,{"$f":"IFERROR(WORKDAY(C272,R272,DiasNOLaborables),\"\")","v":43972},{"$f":"+IF(C272=\"\",\"\",IF(I272=\"\",\"\",(IF(I272<=L272,\"A TIEMPO\",\"FUERA DE TIEMPO\"))))","v":"A TIEMPO"},{"$f":"IF(I272=\"\",\"\",NETWORKDAYS([4]Hoja1!C272+1,[4]Hoja1!P272,DiasNOLaborables))","v":10},"",null,null,20]
[262,20200422111203,43943,"WEB (MÓDULO DE SOLICITUD DE INFORMACIÓN HIDROMETEOROLÓGICA)","SOLICITUD DE INFORMACIÓN Y DOCUMENTOS","SOLICITUD DE INFORMACIÓN HIDROMETEOROLÓGICA","NO","GRUPO DE ATENCIÓN AL CIUDADANO",43951,null,null,{"$f":"IFERROR(WORKDAY(C273,R273,DiasNOLaborables),\"\")","v":43972},{"$f":"+IF(C273=\"\",\"\",IF(I273=\"\",\"\",(IF(I273<=L273,\"A TIEMPO\",\"FUERA DE TIEMPO\"))))","v":"A TIEMPO"},{"$f":"IF(I273=\"\",\"\",NETWORKDAYS([4]Hoja1!C273+1,[4]Hoja1!P273,DiasNOLaborables))","v":10},"",null,null,20]
[263,20200422105354,43943,"WEB (MÓDULO DE SOLICITUD DE INFORMACIÓN HIDROMETEOROLÓGICA)","SOLICITUD DE INFORMACIÓN Y DOCUMENTOS","SOLICITUD DE INFORMACIÓN HIDROMETEOROLÓGICA","NO","GRUPO DE ATENCIÓN AL CIUDADANO",43951,null,null,{"$f":"IFERROR(WORKDAY(C274,R274,DiasNOLaborables),\"\")","v":43972},{"$f":"+IF(C274=\"\",\"\",IF(I274=\"\",\"\",(IF(I274<=L274,\"A TIEMPO\",\"FUERA DE TIEMPO\"))))","v":"A TIEMPO"},{"$f":"IF(I274=\"\",\"\",NETWORKDAYS([4]Hoja1!C274+1,[4]Hoja1!P274,DiasNOLaborables))","v":10},"",null,null,20]
[264,20200422104435,43943,"WEB (MÓDULO DE SOLICITUD DE INFORMACIÓN HIDROMETEOROLÓGICA)","SOLICITUD DE INFORMACIÓN Y DOCUMENTOS","SOLICITUD DE INFORMACIÓN HIDROMETEOROLÓGICA","NO","GRUPO DE ATENCIÓN AL CIUDADANO",43951,null,null,{"$f":"IFERROR(WORKDAY(C275,R275,DiasNOLaborables),\"\")","v":43972},{"$f":"+IF(C275=\"\",\"\",IF(I275=\"\",\"\",(IF(I275<=L275,\"A TIEMPO\",\"FUERA DE TIEMPO\"))))","v":"A TIEMPO"},{"$f":"IF(I275=\"\",\"\",NETWORKDAYS([4]Hoja1!C275+1,[4]Hoja1!P275,DiasNOLaborables))","v":10},"",null,null,20]
[265,20200422104140,43943,"WEB (MÓDULO DE SOLICITUD DE INFORMACIÓN HIDROMETEOROLÓGICA)","SOLICITUD DE INFORMACIÓN Y DOCUMENTOS","SOLICITUD DE INFORMACIÓN HIDROMETEOROLÓGICA","NO","GRUPO DE ATENCIÓN AL CIUDADANO",43951,null,null,{"$f":"IFERROR(WORKDAY(C276,R276,DiasNOLaborables),\"\")","v":43972},{"$f":"+IF(C276=\"\",\"\",IF(I276=\"\",\"\",(IF(I276<=L276,\"A TIEMPO\",\"FUERA DE TIEMPO\"))))","v":"A TIEMPO"},{"$f":"IF(I276=\"\",\"\",NETWORKDAYS([4]Hoja1!C276+1,[4]Hoja1!P276,DiasNOLaborables))","v":10},"",null,null,20]
[266,20200422092853,43943,"WEB (MÓDULO DE SOLICITUD DE INFORMACIÓN HIDROMETEOROLÓGICA)","SOLICITUD DE INFORMACIÓN Y DOCUMENTOS","SOLICITUD DE INFORMACIÓN HIDROMETEOROLÓGICA","NO","GRUPO DE ATENCIÓN AL CIUDADANO",43951,null,null,{"$f":"IFERROR(WORKDAY(C277,R277,DiasNOLaborables),\"\")","v":43972},{"$f":"+IF(C277=\"\",\"\",IF(I277=\"\",\"\",(IF(I277<=L277,\"A TIEMPO\",\"FUERA DE TIEMPO\"))))","v":"A TIEMPO"},{"$f":"IF(I277=\"\",\"\",NETWORKDAYS([4]Hoja1!C277+1,[4]Hoja1!P277,DiasNOLaborables))","v":10},"",null,null,20]
[267,20200422092103,43943,"WEB (MÓDULO DE SOLICITUD DE INFORMACIÓN HIDROMETEOROLÓGICA)","SOLICITUD DE INFORMACIÓN Y DOCUMENTOS","SOLICITUD DE INFORMACIÓN HIDROMETEOROLÓGICA","NO","GRUPO DE ATENCIÓN AL CIUDADANO",43951,null,null,{"$f":"IFERROR(WORKDAY(C278,R278,DiasNOLaborables),\"\")","v":43972},{"$f":"+IF(C278=\"\",\"\",IF(I278=\"\",\"\",(IF(I278<=L278,\"A TIEMPO\",\"FUERA DE TIEMPO\"))))","v":"A TIEMPO"},{"$f":"IF(I278=\"\",\"\",NETWORKDAYS([4]Hoja1!C278+1,[4]Hoja1!P278,DiasNOLaborables))","v":10},"",null,null,20]
[268,20200423230245,43944,"WEB (MÓDULO DE SOLICITUD DE INFORMACIÓN HIDROMETEOROLÓGICA)","SOLICITUD DE INFORMACIÓN Y DOCUMENTOS","SOLICITUD DE INFORMACIÓN HIDROMETEOROLÓGICA","NO","GRUPO DE ATENCIÓN AL CIUDADANO",43951,null,null,{"$f":"IFERROR(WORKDAY(C279,R279,DiasNOLaborables),\"\")","v":43973},{"$f":"+IF(C279=\"\",\"\",IF(I279=\"\",\"\",(IF(I279<=L279,\"A TIEMPO\",\"FUERA DE TIEMPO\"))))","v":"A TIEMPO"},{"$f":"IF(I279=\"\",\"\",NETWORKDAYS([4]Hoja1!C279+1,[4]Hoja1!P279,DiasNOLaborables))","v":10},"",null,null,20]
[269,20200423220350,43944,"WEB (MÓDULO DE SOLICITUD DE INFORMACIÓN HIDROMETEOROLÓGICA)","SOLICITUD DE INFORMACIÓN Y DOCUMENTOS","SOLICITUD DE INFORMACIÓN HIDROMETEOROLÓGICA","NO","GRUPO DE ATENCIÓN AL CIUDADANO",43951,null,null,{"$f":"IFERROR(WORKDAY(C280,R280,DiasNOLaborables),\"\")","v":43973},{"$f":"+IF(C280=\"\",\"\",IF(I280=\"\",\"\",(IF(I280<=L280,\"A TIEMPO\",\"FUERA DE TIEMPO\"))))","v":"A TIEMPO"},{"$f":"IF(I280=\"\",\"\",NETWORKDAYS([4]Hoja1!C280+1,[4]Hoja1!P280,DiasNOLaborables))","v":10},"",null,null,20]
[270,20200423155417,43944,"WEB (MÓDULO DE SOLICITUD DE INFORMACIÓN HIDROMETEOROLÓGICA)","SOLICITUD DE INFORMACIÓN Y DOCUMENTOS","SOLICITUD DE INFORMACIÓN HIDROMETEOROLÓGICA","NO","GRUPO DE ATENCIÓN AL CIUDADANO",43951,null,null,{"$f":"IFERROR(WORKDAY(C281,R281,DiasNOLaborables),\"\")","v":43973},{"$f":"+IF(C281=\"\",\"\",IF(I281=\"\",\"\",(IF(I281<=L281,\"A TIEMPO\",\"FUERA DE TIEMPO\"))))","v":"A TIEMPO"},{"$f":"IF(I281=\"\",\"\",NETWORKDAYS([4]Hoja1!C281+1,[4]Hoja1!P281,DiasNOLaborables))","v":10},"",null,null,20]
[271,20200423155313,43944,"WEB (MÓDULO DE SOLICITUD DE INFORMACIÓN HIDROMETEOROLÓGICA)","SOLICITUD DE INFORMACIÓN Y DOCUMENTOS","SOLICITUD DE INFORMACIÓN HIDROMETEOROLÓGICA","NO","GRUPO DE ATENCIÓN AL CIUDADANO",43951,null,null,{"$f":"IFERROR(WORKDAY(C282,R282,DiasNOLaborables),\"\")","v":43973},{"$f":"+IF(C282=\"\",\"\",IF(I282=\"\",\"\",(IF(I282<=L282,\"A TIEMPO\",\"FUERA DE TIEMPO\"))))","v":"A TIEMPO"},{"$f":"IF(I282=\"\",\"\",NETWORKDAYS([4]Hoja1!C282+1,[4]Hoja1!P282,DiasNOLaborables))","v":10},"",null,null,20]
[272,20200423152546,43944,"WEB (MÓDULO DE SOLICITUD DE INFORMACIÓN HIDROMETEOROLÓGICA)","SOLICITUD DE INFORMACIÓN Y DOCUMENTOS","SOLICITUD DE INFORMACIÓN HIDROMETEOROLÓGICA","NO","GRUPO DE ATENCIÓN AL CIUDADANO",43951,null,null,{"$f":"IFERROR(WORKDAY(C283,R283,DiasNOLaborables),\"\")","v":43973},{"$f":"+IF(C283=\"\",\"\",IF(I283=\"\",\"\",(IF(I283<=L283,\"A TIEMPO\",\"FUERA DE TIEMPO\"))))","v":"A TIEMPO"},{"$f":"IF(I283=\"\",\"\",NETWORKDAYS([4]Hoja1!C283+1,[4]Hoja1!P283,DiasNOLaborables))","v":10},"",null,null,20]
[273,20200423144113,43944,"WEB (MÓDULO DE SOLICITUD DE INFORMACIÓN HIDROMETEOROLÓGICA)","SOLICITUD DE INFORMACIÓN Y DOCUMENTOS","SOLICITUD DE INFORMACIÓN HIDROMETEOROLÓGICA","NO","GRUPO DE ATENCIÓN AL CIUDADANO",43951,null,null,{"$f":"IFERROR(WORKDAY(C284,R284,DiasNOLaborables),\"\")","v":43973},{"$f":"+IF(C284=\"\",\"\",IF(I284=\"\",\"\",(IF(I284<=L284,\"A TIEMPO\",\"FUERA DE TIEMPO\"))))","v":"A TIEMPO"},{"$f":"IF(I284=\"\",\"\",NETWORKDAYS([4]Hoja1!C284+1,[4]Hoja1!P284,DiasNOLaborables))","v":10},"",null,null,20]
[274,20200423140722,43944,"WEB (MÓDULO DE SOLICITUD DE INFORMACIÓN HIDROMETEOROLÓGICA)","SOLICITUD DE INFORMACIÓN Y DOCUMENTOS","SOLICITUD DE INFORMACIÓN HIDROMETEOROLÓGICA","NO","GRUPO DE ATENCIÓN AL CIUDADANO",43951,null,null,{"$f":"IFERROR(WORKDAY(C285,R285,DiasNOLaborables),\"\")","v":43973},{"$f":"+IF(C285=\"\",\"\",IF(I285=\"\",\"\",(IF(I285<=L285,\"A TIEMPO\",\"FUERA DE TIEMPO\"))))","v":"A TIEMPO"},{"$f":"IF(I285=\"\",\"\",NETWORKDAYS([4]Hoja1!C285+1,[4]Hoja1!P285,DiasNOLaborables))","v":10},"",null,null,20]
[275,20200423140640,43944,"WEB (MÓDULO DE SOLICITUD DE INFORMACIÓN HIDROMETEOROLÓGICA)","SOLICITUD DE INFORMACIÓN Y DOCUMENTOS","SOLICITUD DE INFORMACIÓN HIDROMETEOROLÓGICA","NO","GRUPO DE ATENCIÓN AL CIUDADANO",43951,null,null,{"$f":"IFERROR(WORKDAY(C286,R286,DiasNOLaborables),\"\")","v":43973},{"$f":"+IF(C286=\"\",\"\",IF(I286=\"\",\"\",(IF(I286<=L286,\"A TIEMPO\",\"FUERA DE TIEMPO\"))))","v":"A TIEMPO"},{"$f":"IF(I286=\"\",\"\",NETWORKDAYS([4]Hoja1!C286+1,[4]Hoja1!P286,DiasNOLaborables))","v":10},"",null,null,20]
[276,20200423133948,43944,"WEB (MÓDULO DE SOLICITUD DE INFORMACIÓN HIDROMETEOROLÓGICA)","SOLICITUD DE INFORMACIÓN Y DOCUMENTOS","SOLICITUD DE INFORMACIÓN HIDROMETEOROLÓGICA","NO","GRUPO DE ATENCIÓN AL CIUDADANO",43951,null,null,{"$f":"IFERROR(WORKDAY(C287,R287,DiasNOLaborables),\"\")","v":43973},{"$f":"+IF(C287=\"\",\"\",IF(I287=\"\",\"\",(IF(I287<=L287,\"A TIEMPO\",\"FUERA DE TIEMPO\"))))","v":"A TIEMPO"},{"$f":"IF(I287=\"\",\"\",NETWORKDAYS([4]Hoja1!C287+1,[4]Hoja1!P287,DiasNOLaborables))","v":10},"",null,null,20]
[277,20200423121415,43944,"WEB (MÓDULO DE SOLICITUD DE INFORMACIÓN HIDROMETEOROLÓGICA)","SOLICITUD DE INFORMACIÓN Y DOCUMENTOS","SOLICITUD DE INFORMACIÓN HIDROMETEOROLÓGICA","NO","GRUPO DE ATENCIÓN AL CIUDADANO",43951,null,null,{"$f":"IFERROR(WORKDAY(C288,R288,DiasNOLaborables),\"\")","v":43973},{"$f":"+IF(C288=\"\",\"\",IF(I288=\"\",\"\",(IF(I288<=L288,\"A TIEMPO\",\"FUERA DE TIEMPO\"))))","v":"A TIEMPO"},{"$f":"IF(I288=\"\",\"\",NETWORKDAYS([4]Hoja1!C288+1,[4]Hoja1!P288,DiasNOLaborables))","v":10},"",null,null,20]
[278,20200423120324,43944,"WEB (MÓDULO DE SOLICITUD DE INFORMACIÓN HIDROMETEOROLÓGICA)","SOLICITUD DE INFORMACIÓN Y DOCUMENTOS","SOLICITUD DE INFORMACIÓN HIDROMETEOROLÓGICA","NO","GRUPO DE ATENCIÓN AL CIUDADANO",43951,null,null,{"$f":"IFERROR(WORKDAY(C289,R289,DiasNOLaborables),\"\")","v":43973},{"$f":"+IF(C289=\"\",\"\",IF(I289=\"\",\"\",(IF(I289<=L289,\"A TIEMPO\",\"FUERA DE TIEMPO\"))))","v":"A TIEMPO"},{"$f":"IF(I289=\"\",\"\",NETWORKDAYS([4]Hoja1!C289+1,[4]Hoja1!P289,DiasNOLaborables))","v":10},"",null,null,20]
[279,20200423115811,43944,"WEB (MÓDULO DE SOLICITUD DE INFORMACIÓN HIDROMETEOROLÓGICA)","SOLICITUD DE INFORMACIÓN Y DOCUMENTOS","SOLICITUD DE INFORMACIÓN HIDROMETEOROLÓGICA","NO","GRUPO DE ATENCIÓN AL CIUDADANO",43951,null,null,{"$f":"IFERROR(WORKDAY(C290,R290,DiasNOLaborables),\"\")","v":43973},{"$f":"+IF(C290=\"\",\"\",IF(I290=\"\",\"\",(IF(I290<=L290,\"A TIEMPO\",\"FUERA DE TIEMPO\"))))","v":"A TIEMPO"},{"$f":"IF(I290=\"\",\"\",NETWORKDAYS([4]Hoja1!C290+1,[4]Hoja1!P290,DiasNOLaborables))","v":9},"",null,null,20]
[280,20200423114852,43944,"WEB (MÓDULO DE SOLICITUD DE INFORMACIÓN HIDROMETEOROLÓGICA)","SOLICITUD DE INFORMACIÓN Y DOCUMENTOS","SOLICITUD DE INFORMACIÓN HIDROMETEOROLÓGICA","NO","GRUPO DE ATENCIÓN AL CIUDADANO",43951,null,null,{"$f":"IFERROR(WORKDAY(C291,R291,DiasNOLaborables),\"\")","v":43973},{"$f":"+IF(C291=\"\",\"\",IF(I291=\"\",\"\",(IF(I291<=L291,\"A TIEMPO\",\"FUERA DE TIEMPO\"))))","v":"A TIEMPO"},{"$f":"IF(I291=\"\",\"\",NETWORKDAYS([4]Hoja1!C291+1,[4]Hoja1!P291,DiasNOLaborables))","v":9},"",null,null,20]
[281,20200423114241,43944,"WEB (MÓDULO DE SOLICITUD DE INFORMACIÓN HIDROMETEOROLÓGICA)","SOLICITUD DE INFORMACIÓN Y DOCUMENTOS","SOLICITUD DE INFORMACIÓN HIDROMETEOROLÓGICA","NO","GRUPO DE ATENCIÓN AL CIUDADANO",43951,null,null,{"$f":"IFERROR(WORKDAY(C292,R292,DiasNOLaborables),\"\")","v":43973},{"$f":"+IF(C292=\"\",\"\",IF(I292=\"\",\"\",(IF(I292<=L292,\"A TIEMPO\",\"FUERA DE TIEMPO\"))))","v":"A TIEMPO"},{"$f":"IF(I292=\"\",\"\",NETWORKDAYS([4]Hoja1!C292+1,[4]Hoja1!P292,DiasNOLaborables))","v":9},"",null,null,20]
[282,20200423094017,43944,"WEB (MÓDULO DE SOLICITUD DE INFORMACIÓN HIDROMETEOROLÓGICA)","SOLICITUD DE INFORMACIÓN Y DOCUMENTOS","SOLICITUD DE INFORMACIÓN HIDROMETEOROLÓGICA","NO","GRUPO DE ATENCIÓN AL CIUDADANO",43951,null,null,{"$f":"IFERROR(WORKDAY(C293,R293,DiasNOLaborables),\"\")","v":43973},{"$f":"+IF(C293=\"\",\"\",IF(I293=\"\",\"\",(IF(I293<=L293,\"A TIEMPO\",\"FUERA DE TIEMPO\"))))","v":"A TIEMPO"},{"$f":"IF(I293=\"\",\"\",NETWORKDAYS([4]Hoja1!C293+1,[4]Hoja1!P293,DiasNOLaborables))","v":9},"",null,null,{"$f":"IFERROR(VLOOKUP(E293,$Z$50:$AA$63,2),\"\")","v":20}]
[283,20200423092158,43944,"WEB (MÓDULO DE SOLICITUD DE INFORMACIÓN HIDROMETEOROLÓGICA)","SOLICITUD DE INFORMACIÓN Y DOCUMENTOS","SOLICITUD DE INFORMACIÓN HIDROMETEOROLÓGICA","NO","GRUPO DE ATENCIÓN AL CIUDADANO",43951,null,null,{"$f":"IFERROR(WORKDAY(C294,R294,DiasNOLaborables),\"\")","v":43973},{"$f":"+IF(C294=\"\",\"\",IF(I294=\"\",\"\",(IF(I294<=L294,\"A TIEMPO\",\"FUERA DE TIEMPO\"))))","v":"A TIEMPO"},{"$f":"IF(I294=\"\",\"\",NETWORKDAYS([4]Hoja1!C294+1,[4]Hoja1!P294,DiasNOLaborables))","v":9},"",null,null,20]
[284,20200423091736,43944,"WEB (MÓDULO DE SOLICITUD DE INFORMACIÓN HIDROMETEOROLÓGICA)","SOLICITUD DE INFORMACIÓN Y DOCUMENTOS","SOLICITUD DE INFORMACIÓN HIDROMETEOROLÓGICA","NO","GRUPO DE ATENCIÓN AL CIUDADANO",43951,null,null,{"$f":"IFERROR(WORKDAY(C295,R295,DiasNOLaborables),\"\")","v":43973},{"$f":"+IF(C295=\"\",\"\",IF(I295=\"\",\"\",(IF(I295<=L295,\"A TIEMPO\",\"FUERA DE TIEMPO\"))))","v":"A TIEMPO"},{"$f":"IF(I295=\"\",\"\",NETWORKDAYS([4]Hoja1!C295+1,[4]Hoja1!P295,DiasNOLaborables))","v":9},"",null,null,20]
[285,20200423091252,43944,"WEB (MÓDULO DE SOLICITUD DE INFORMACIÓN HIDROMETEOROLÓGICA)","SOLICITUD DE INFORMACIÓN Y DOCUMENTOS","SOLICITUD DE INFORMACIÓN HIDROMETEOROLÓGICA","NO","GRUPO DE ATENCIÓN AL CIUDADANO",43951,null,null,{"$f":"IFERROR(WORKDAY(C296,R296,DiasNOLaborables),\"\")","v":43973},{"$f":"+IF(C296=\"\",\"\",IF(I296=\"\",\"\",(IF(I296<=L296,\"A TIEMPO\",\"FUERA DE TIEMPO\"))))","v":"A TIEMPO"},{"$f":"IF(I296=\"\",\"\",NETWORKDAYS([4]Hoja1!C296+1,[4]Hoja1!P296,DiasNOLaborables))","v":8},"",null,null,20]
[286,20209050034502,43944,"MODULO CONTACTENOS","SOLICITUD DE INFORMACIÓN Y DOCUMENTOS","SOLICITUD DE INFORMACIÓN HIDROMETEOROLÓGICA","NO","GRUPO DE ATENCIÓN AL CIUDADANO",43955,null,null,{"$f":"IFERROR(WORKDAY(C297,R297,DiasNOLaborables),\"\")","v":43973},{"$f":"+IF(C297=\"\",\"\",IF(I297=\"\",\"\",(IF(I297<=L297,\"A TIEMPO\",\"FUERA DE TIEMPO\"))))","v":"A TIEMPO"},{"$f":"IF(I297=\"\",\"\",NETWORKDAYS([4]Hoja1!C297+1,[4]Hoja1!P297,DiasNOLaborables))","v":8},{"$f":"IF(NETWORKDAYS(L297+1,I297,DiasNOLaborables)<=0,\"\",NETWORKDAYS(L297+1,I297,DiasNOLaborables))","v":""},null,null,20]
[287,20209050034642,43944,"MODULO CONTACTENOS","SOLICITUD DE INFORMACIÓN Y DOCUMENTOS","SOLICITUD DE INFORMACIÓN HIDROMETEOROLÓGICA","NO","GRUPO DE ATENCIÓN AL CIUDADANO",43955,null,null,{"$f":"IFERROR(WORKDAY(C298,R298,DiasNOLaborables),\"\")","v":43973},{"$f":"+IF(C298=\"\",\"\",IF(I298=\"\",\"\",(IF(I298<=L298,\"A TIEMPO\",\"FUERA DE TIEMPO\"))))","v":"A TIEMPO"},{"$f":"IF(I298=\"\",\"\",NETWORKDAYS([4]Hoja1!C298+1,[4]Hoja1!P298,DiasNOLaborables))","v":8},"",null,null,20]
[288,20209050034652,43945,"MODULO CONTACTENOS","SOLICITUD DE INFORMACIÓN Y DOCUMENTOS","SOLICITUD DE INFORMACIÓN HIDROMETEOROLÓGICA","NO","GRUPO DE ATENCIÓN AL CIUDADANO",43955,null,null,{"$f":"IFERROR(WORKDAY(C299,R299,DiasNOLaborables),\"\")","v":43977},{"$f":"+IF(C299=\"\",\"\",IF(I299=\"\",\"\",(IF(I299<=L299,\"A TIEMPO\",\"FUERA DE TIEMPO\"))))","v":"A TIEMPO"},{"$f":"IF(I299=\"\",\"\",NETWORKDAYS([4]Hoja1!C299+1,[4]Hoja1!P299,DiasNOLaborables))","v":9},"",null,null,20]
[289,20200425174936,43946,"WEB (MÓDULO DE SOLICITUD DE INFORMACIÓN HIDROMETEOROLÓGICA)","SOLICITUD DE INFORMACIÓN Y DOCUMENTOS","SOLICITUD DE INFORMACIÓN HIDROMETEOROLÓGICA","NO","GRUPO DE ATENCIÓN AL CIUDADANO",43955,null,null,{"$f":"IFERROR(WORKDAY(C300,R300,DiasNOLaborables),\"\")","v":43977},{"$f":"+IF(C300=\"\",\"\",IF(I300=\"\",\"\",(IF(I300<=L300,\"A TIEMPO\",\"FUERA DE TIEMPO\"))))","v":"A TIEMPO"},{"$f":"IF(I300=\"\",\"\",NETWORKDAYS([4]Hoja1!C300+1,[4]Hoja1!P300,DiasNOLaborables))","v":9},"",null,null,20]
[290,20200425165956,43946,"WEB (MÓDULO DE SOLICITUD DE INFORMACIÓN HIDROMETEOROLÓGICA)","SOLICITUD DE INFORMACIÓN Y DOCUMENTOS","SOLICITUD DE INFORMACIÓN HIDROMETEOROLÓGICA","NO","GRUPO DE ATENCIÓN AL CIUDADANO",43955,null,null,{"$f":"IFERROR(WORKDAY(C301,R301,DiasNOLaborables),\"\")","v":43977},{"$f":"+IF(C301=\"\",\"\",IF(I301=\"\",\"\",(IF(I301<=L301,\"A TIEMPO\",\"FUERA DE TIEMPO\"))))","v":"A TIEMPO"},{"$f":"IF(I301=\"\",\"\",NETWORKDAYS([4]Hoja1!C301+1,[4]Hoja1!P301,DiasNOLaborables))","v":9},"",null,null,20]
[291,20200425162252,43946,"WEB (MÓDULO DE SOLICITUD DE INFORMACIÓN HIDROMETEOROLÓGICA)","SOLICITUD DE INFORMACIÓN Y DOCUMENTOS","SOLICITUD DE INFORMACIÓN HIDROMETEOROLÓGICA","NO","GRUPO DE ATENCIÓN AL CIUDADANO",43955,null,null,{"$f":"IFERROR(WORKDAY(C302,R302,DiasNOLaborables),\"\")","v":43977},{"$f":"+IF(C302=\"\",\"\",IF(I302=\"\",\"\",(IF(I302<=L302,\"A TIEMPO\",\"FUERA DE TIEMPO\"))))","v":"A TIEMPO"},{"$f":"IF(I302=\"\",\"\",NETWORKDAYS([4]Hoja1!C302+1,[4]Hoja1!P302,DiasNOLaborables))","v":9},"",null,null,20]
[292,20200425162101,43946,"WEB (MÓDULO DE SOLICITUD DE INFORMACIÓN HIDROMETEOROLÓGICA)","SOLICITUD DE INFORMACIÓN Y DOCUMENTOS","SOLICITUD DE INFORMACIÓN HIDROMETEOROLÓGICA","NO","GRUPO DE ATENCIÓN AL CIUDADANO",43955,null,null,{"$f":"IFERROR(WORKDAY(C303,R303,DiasNOLaborables),\"\")","v":43977},{"$f":"+IF(C303=\"\",\"\",IF(I303=\"\",\"\",(IF(I303<=L303,\"A TIEMPO\",\"FUERA DE TIEMPO\"))))","v":"A TIEMPO"},{"$f":"IF(I303=\"\",\"\",NETWORKDAYS([4]Hoja1!C303+1,[4]Hoja1!P303,DiasNOLaborables))","v":9},"",null,null,20]
[293,20200425121544,43946,"WEB (MÓDULO DE SOLICITUD DE INFORMACIÓN HIDROMETEOROLÓGICA)","SOLICITUD DE INFORMACIÓN Y DOCUMENTOS","SOLICITUD DE INFORMACIÓN HIDROMETEOROLÓGICA","NO","GRUPO DE ATENCIÓN AL CIUDADANO",43955,null,null,{"$f":"IFERROR(WORKDAY(C304,R304,DiasNOLaborables),\"\")","v":43977},{"$f":"+IF(C304=\"\",\"\",IF(I304=\"\",\"\",(IF(I304<=L304,\"A TIEMPO\",\"FUERA DE TIEMPO\"))))","v":"A TIEMPO"},{"$f":"IF(I304=\"\",\"\",NETWORKDAYS([4]Hoja1!C304+1,[4]Hoja1!P304,DiasNOLaborables))","v":9},"",null,null,20]
[294,20200426183636,43947,"WEB (MÓDULO DE SOLICITUD DE INFORMACIÓN HIDROMETEOROLÓGICA)","SOLICITUD DE INFORMACIÓN Y DOCUMENTOS","SOLICITUD DE INFORMACIÓN HIDROMETEOROLÓGICA","NO","GRUPO DE ATENCIÓN AL CIUDADANO",43955,null,null,{"$f":"IFERROR(WORKDAY(C305,R305,DiasNOLaborables),\"\")","v":43977},{"$f":"+IF(C305=\"\",\"\",IF(I305=\"\",\"\",(IF(I305<=L305,\"A TIEMPO\",\"FUERA DE TIEMPO\"))))","v":"A TIEMPO"},{"$f":"IF(I305=\"\",\"\",NETWORKDAYS([4]Hoja1!C305+1,[4]Hoja1!P305,DiasNOLaborables))","v":9},"",null,null,20]
[{"$f":"IF(B304<>\"\",A305+1,\"\")","v":295},20200426174259,43947,"WEB (MÓDULO DE SOLICITUD DE INFORMACIÓN HIDROMETEOROLÓGICA)","SOLICITUD DE INFORMACIÓN Y DOCUMENTOS","SOLICITUD DE INFORMACIÓN HIDROMETEOROLÓGICA","NO","GRUPO DE ATENCIÓN AL CIUDADANO",43955,null,null,{"$f":"IFERROR(WORKDAY(C306,R306,DiasNOLaborables),\"\")","v":43977},{"$f":"+IF(C306=\"\",\"\",IF(I306=\"\",\"\",(IF(I306<=L306,\"A TIEMPO\",\"FUERA DE TIEMPO\"))))","v":"A TIEMPO"},{"$f":"IF(I306=\"\",\"\",NETWORKDAYS([4]Hoja1!C306+1,[4]Hoja1!P306,DiasNOLaborables))","v":9},"",null,null,20]
[296,20200426154159,43947,"WEB (MÓDULO DE SOLICITUD DE INFORMACIÓN HIDROMETEOROLÓGICA)","SOLICITUD DE INFORMACIÓN Y DOCUMENTOS","SOLICITUD DE INFORMACIÓN HIDROMETEOROLÓGICA","NO","GRUPO DE ATENCIÓN AL CIUDADANO",43955,null,null,{"$f":"IFERROR(WORKDAY(C307,R307,DiasNOLaborables),\"\")","v":43977},{"$f":"+IF(C307=\"\",\"\",IF(I307=\"\",\"\",(IF(I307<=L307,\"A TIEMPO\",\"FUERA DE TIEMPO\"))))","v":"A TIEMPO"},{"$f":"IF(I307=\"\",\"\",NETWORKDAYS([4]Hoja1!C307+1,[4]Hoja1!P307,DiasNOLaborables))","v":8},"",null,null,20]
[297,20200426104041,43947,"WEB (MÓDULO DE SOLICITUD DE INFORMACIÓN HIDROMETEOROLÓGICA)","SOLICITUD DE INFORMACIÓN Y DOCUMENTOS","SOLICITUD DE INFORMACIÓN HIDROMETEOROLÓGICA","NO","GRUPO DE ATENCIÓN AL CIUDADANO",43955,null,null,{"$f":"IFERROR(WORKDAY(C308,R308,DiasNOLaborables),\"\")","v":43977},{"$f":"+IF(C308=\"\",\"\",IF(I308=\"\",\"\",(IF(I308<=L308,\"A TIEMPO\",\"FUERA DE TIEMPO\"))))","v":"A TIEMPO"},{"$f":"IF(I308=\"\",\"\",NETWORKDAYS([4]Hoja1!C308+1,[4]Hoja1!P308,DiasNOLaborables))","v":8},"",null,null,20]
[298,20200426103857,43947,"WEB (MÓDULO DE SOLICITUD DE INFORMACIÓN HIDROMETEOROLÓGICA)","SOLICITUD DE INFORMACIÓN Y DOCUMENTOS","SOLICITUD DE INFORMACIÓN HIDROMETEOROLÓGICA","NO","GRUPO DE ATENCIÓN AL CIUDADANO",43955,null,null,{"$f":"IFERROR(WORKDAY(C309,R309,DiasNOLaborables),\"\")","v":43977},{"$f":"+IF(C309=\"\",\"\",IF(I309=\"\",\"\",(IF(I309<=L309,\"A TIEMPO\",\"FUERA DE TIEMPO\"))))","v":"A TIEMPO"},{"$f":"IF(I309=\"\",\"\",NETWORKDAYS([4]Hoja1!C309+1,[4]Hoja1!P309,DiasNOLaborables))","v":8},"",null,null,20]
[299,20200426093555,43947,"WEB (MÓDULO DE SOLICITUD DE INFORMACIÓN HIDROMETEOROLÓGICA)","SOLICITUD DE INFORMACIÓN Y DOCUMENTOS","SOLICITUD DE INFORMACIÓN HIDROMETEOROLÓGICA","NO","GRUPO DE ATENCIÓN AL CIUDADANO",43955,null,null,{"$f":"IFERROR(WORKDAY(C310,R310,DiasNOLaborables),\"\")","v":43977},{"$f":"+IF(C310=\"\",\"\",IF(I310=\"\",\"\",(IF(I310<=L310,\"A TIEMPO\",\"FUERA DE TIEMPO\"))))","v":"A TIEMPO"},{"$f":"IF(I310=\"\",\"\",NETWORKDAYS([4]Hoja1!C310+1,[4]Hoja1!P310,DiasNOLaborables))","v":8},"",null,null,20]
[300,20200427232240,43948,"WEB (MÓDULO DE SOLICITUD DE INFORMACIÓN HIDROMETEOROLÓGICA)","SOLICITUD DE INFORMACIÓN Y DOCUMENTOS","SOLICITUD DE INFORMACIÓN HIDROMETEOROLÓGICA","NO","GRUPO DE ATENCIÓN AL CIUDADANO",43957,null,null,{"$f":"IFERROR(WORKDAY(C311,R311,DiasNOLaborables),\"\")","v":43978},{"$f":"+IF(C311=\"\",\"\",IF(I311=\"\",\"\",(IF(I311<=L311,\"A TIEMPO\",\"FUERA DE TIEMPO\"))))","v":"A TIEMPO"},{"$f":"IF(I311=\"\",\"\",NETWORKDAYS([4]Hoja1!C311+1,[4]Hoja1!P311,DiasNOLaborables))","v":8},"",null,null,20]
[301,20200427184124,43948,"WEB (MÓDULO DE SOLICITUD DE INFORMACIÓN HIDROMETEOROLÓGICA)","SOLICITUD DE INFORMACIÓN Y DOCUMENTOS","SOLICITUD DE INFORMACIÓN HIDROMETEOROLÓGICA","NO","GRUPO DE ATENCIÓN AL CIUDADANO",43957,null,null,{"$f":"IFERROR(WORKDAY(C312,R312,DiasNOLaborables),\"\")","v":43978},{"$f":"+IF(C312=\"\",\"\",IF(I312=\"\",\"\",(IF(I312<=L312,\"A TIEMPO\",\"FUERA DE TIEMPO\"))))","v":"A TIEMPO"},{"$f":"IF(I312=\"\",\"\",NETWORKDAYS([4]Hoja1!C312+1,[4]Hoja1!P312,DiasNOLaborables))","v":8},"",null,null,20]
[302,20200427180632,43948,"WEB (MÓDULO DE SOLICITUD DE INFORMACIÓN HIDROMETEOROLÓGICA)","SOLICITUD DE INFORMACIÓN Y DOCUMENTOS","SOLICITUD DE INFORMACIÓN HIDROMETEOROLÓGICA","NO","GRUPO DE ATENCIÓN AL CIUDADANO",43957,null,null,{"$f":"IFERROR(WORKDAY(C313,R313,DiasNOLaborables),\"\")","v":43978},{"$f":"+IF(C313=\"\",\"\",IF(I313=\"\",\"\",(IF(I313<=L313,\"A TIEMPO\",\"FUERA DE TIEMPO\"))))","v":"A TIEMPO"},{"$f":"IF(I313=\"\",\"\",NETWORKDAYS([4]Hoja1!C313+1,[4]Hoja1!P313,DiasNOLaborables))","v":8},"",null,null,20]
[303,20200427172714,43948,"WEB (MÓDULO DE SOLICITUD DE INFORMACIÓN HIDROMETEOROLÓGICA)","SOLICITUD DE INFORMACIÓN Y DOCUMENTOS","SOLICITUD DE INFORMACIÓN HIDROMETEOROLÓGICA","NO","GRUPO DE ATENCIÓN AL CIUDADANO",43957,null,null,{"$f":"IFERROR(WORKDAY(C314,R314,DiasNOLaborables),\"\")","v":43978},{"$f":"+IF(C314=\"\",\"\",IF(I314=\"\",\"\",(IF(I314<=L314,\"A TIEMPO\",\"FUERA DE TIEMPO\"))))","v":"A TIEMPO"},{"$f":"IF(I314=\"\",\"\",NETWORKDAYS([4]Hoja1!C314+1,[4]Hoja1!P314,DiasNOLaborables))","v":8},"",null,null,20]
[304,20200427142325,43948,"WEB (MÓDULO DE SOLICITUD DE INFORMACIÓN HIDROMETEOROLÓGICA)","SOLICITUD DE INFORMACIÓN Y DOCUMENTOS","SOLICITUD DE INFORMACIÓN HIDROMETEOROLÓGICA","NO","GRUPO DE ATENCIÓN AL CIUDADANO",43957,null,null,{"$f":"IFERROR(WORKDAY(C315,R315,DiasNOLaborables),\"\")","v":43978},{"$f":"+IF(C315=\"\",\"\",IF(I315=\"\",\"\",(IF(I315<=L315,\"A TIEMPO\",\"FUERA DE TIEMPO\"))))","v":"A TIEMPO"},{"$f":"IF(I315=\"\",\"\",NETWORKDAYS([4]Hoja1!C315+1,[4]Hoja1!P315,DiasNOLaborables))","v":8},"",null,null,20]
[305,20200427141612,43948,"WEB (MÓDULO DE SOLICITUD DE INFORMACIÓN HIDROMETEOROLÓGICA)","SOLICITUD DE INFORMACIÓN Y DOCUMENTOS","SOLICITUD DE INFORMACIÓN HIDROMETEOROLÓGICA","NO","GRUPO DE ATENCIÓN AL CIUDADANO",43957,null,null,{"$f":"IFERROR(WORKDAY(C316,R316,DiasNOLaborables),\"\")","v":43978},{"$f":"+IF(C316=\"\",\"\",IF(I316=\"\",\"\",(IF(I316<=L316,\"A TIEMPO\",\"FUERA DE TIEMPO\"))))","v":"A TIEMPO"},{"$f":"IF(I316=\"\",\"\",NETWORKDAYS([4]Hoja1!C316+1,[4]Hoja1!P316,DiasNOLaborables))","v":8},"",null,null,20]
[306,20200427141053,43948,"WEB (MÓDULO DE SOLICITUD DE INFORMACIÓN HIDROMETEOROLÓGICA)","SOLICITUD DE INFORMACIÓN Y DOCUMENTOS","SOLICITUD DE INFORMACIÓN HIDROMETEOROLÓGICA","NO","GRUPO DE ATENCIÓN AL CIUDADANO",43957,null,null,{"$f":"IFERROR(WORKDAY(C317,R317,DiasNOLaborables),\"\")","v":43978},{"$f":"+IF(C317=\"\",\"\",IF(I317=\"\",\"\",(IF(I317<=L317,\"A TIEMPO\",\"FUERA DE TIEMPO\"))))","v":"A TIEMPO"},{"$f":"IF(I317=\"\",\"\",NETWORKDAYS([4]Hoja1!C317+1,[4]Hoja1!P317,DiasNOLaborables))","v":8},"",null,null,20]
[307,20200427111649,43948,"WEB (MÓDULO DE SOLICITUD DE INFORMACIÓN HIDROMETEOROLÓGICA)","SOLICITUD DE INFORMACIÓN Y DOCUMENTOS","SOLICITUD DE INFORMACIÓN HIDROMETEOROLÓGICA","NO","GRUPO DE ATENCIÓN AL CIUDADANO",43957,null,null,{"$f":"IFERROR(WORKDAY(C318,R318,DiasNOLaborables),\"\")","v":43978},{"$f":"+IF(C318=\"\",\"\",IF(I318=\"\",\"\",(IF(I318<=L318,\"A TIEMPO\",\"FUERA DE TIEMPO\"))))","v":"A TIEMPO"},{"$f":"IF(I318=\"\",\"\",NETWORKDAYS([4]Hoja1!C318+1,[4]Hoja1!P318,DiasNOLaborables))","v":8},"",null,null,20]
[308,20200427104428,43948,"WEB (MÓDULO DE SOLICITUD DE INFORMACIÓN HIDROMETEOROLÓGICA)","SOLICITUD DE INFORMACIÓN Y DOCUMENTOS","SOLICITUD DE INFORMACIÓN HIDROMETEOROLÓGICA","NO","GRUPO DE ATENCIÓN AL CIUDADANO",43957,null,null,{"$f":"IFERROR(WORKDAY(C319,R319,DiasNOLaborables),\"\")","v":43978},{"$f":"+IF(C319=\"\",\"\",IF(I319=\"\",\"\",(IF(I319<=L319,\"A TIEMPO\",\"FUERA DE TIEMPO\"))))","v":"A TIEMPO"},{"$f":"IF(I319=\"\",\"\",NETWORKDAYS([4]Hoja1!C319+1,[4]Hoja1!P319,DiasNOLaborables))","v":8},"",null,null,20]
[309,20200427081335,43948,"WEB (MÓDULO DE SOLICITUD DE INFORMACIÓN HIDROMETEOROLÓGICA)","SOLICITUD DE INFORMACIÓN Y DOCUMENTOS","SOLICITUD DE INFORMACIÓN HIDROMETEOROLÓGICA","NO","GRUPO DE ATENCIÓN AL CIUDADANO",43957,null,null,{"$f":"IFERROR(WORKDAY(C320,R320,DiasNOLaborables),\"\")","v":43978},{"$f":"+IF(C320=\"\",\"\",IF(I320=\"\",\"\",(IF(I320<=L320,\"A TIEMPO\",\"FUERA DE TIEMPO\"))))","v":"A TIEMPO"},{"$f":"IF(I320=\"\",\"\",NETWORKDAYS([4]Hoja1!C320+1,[4]Hoja1!P320,DiasNOLaborables))","v":8},"",null,null,20]
[310,20209050035172,43948,"MODULO CONTACTENOS","SOLICITUD DE INFORMACIÓN Y DOCUMENTOS","SOLICITUD DE INFORMACIÓN HIDROMETEOROLÓGICA","NO","GRUPO DE ATENCIÓN AL CIUDADANO",43957,null,null,{"$f":"IFERROR(WORKDAY(C321,R321,DiasNOLaborables),\"\")","v":43978},{"$f":"+IF(C321=\"\",\"\",IF(I321=\"\",\"\",(IF(I321<=L321,\"A TIEMPO\",\"FUERA DE TIEMPO\"))))","v":"A TIEMPO"},{"$f":"IF(I321=\"\",\"\",NETWORKDAYS([4]Hoja1!C321+1,[4]Hoja1!P321,DiasNOLaborables))","v":8},"",null,null,20]
[311,20209050035222,43948,"MODULO CONTACTENOS","SOLICITUD DE INFORMACIÓN Y DOCUMENTOS","SOLICITUD DE INFORMACIÓN HIDROMETEOROLÓGICA","NO","GRUPO DE ATENCIÓN AL CIUDADANO",43957,null,null,{"$f":"IFERROR(WORKDAY(C322,R322,DiasNOLaborables),\"\")","v":43978},{"$f":"+IF(C322=\"\",\"\",IF(I322=\"\",\"\",(IF(I322<=L322,\"A TIEMPO\",\"FUERA DE TIEMPO\"))))","v":"A TIEMPO"},{"$f":"IF(I322=\"\",\"\",NETWORKDAYS([4]Hoja1!C322+1,[4]Hoja1!P322,DiasNOLaborables))","v":8},"",null,null,20]
[312,20209050035252,43948,"MODULO CONTACTENOS","SOLICITUD DE INFORMACIÓN Y DOCUMENTOS","SOLICITUD DE INFORMACIÓN HIDROMETEOROLÓGICA","NO","GRUPO DE ATENCIÓN AL CIUDADANO",43957,null,null,{"$f":"IFERROR(WORKDAY(C323,R323,DiasNOLaborables),\"\")","v":43978},{"$f":"+IF(C323=\"\",\"\",IF(I323=\"\",\"\",(IF(I323<=L323,\"A TIEMPO\",\"FUERA DE TIEMPO\"))))","v":"A TIEMPO"},{"$f":"IF(I323=\"\",\"\",NETWORKDAYS([4]Hoja1!C323+1,[4]Hoja1!P323,DiasNOLaborables))","v":8},"",null,null,20]
[313,20209050035322,43948,"MODULO CONTACTENOS","SOLICITUD DE INFORMACIÓN Y DOCUMENTOS","SOLICITUD DE INFORMACIÓN HIDROMETEOROLÓGICA","NO","GRUPO DE ATENCIÓN AL CIUDADANO",43957,null,null,{"$f":"IFERROR(WORKDAY(C324,R324,DiasNOLaborables),\"\")","v":43978},{"$f":"+IF(C324=\"\",\"\",IF(I324=\"\",\"\",(IF(I324<=L324,\"A TIEMPO\",\"FUERA DE TIEMPO\"))))","v":"A TIEMPO"},{"$f":"IF(I324=\"\",\"\",NETWORKDAYS([4]Hoja1!C324+1,[4]Hoja1!P324,DiasNOLaborables))","v":8},"",null,null,20]
[314,20200428195908,43949,"WEB (MÓDULO DE SOLICITUD DE INFORMACIÓN HIDROMETEOROLÓGICA)","SOLICITUD DE INFORMACIÓN Y DOCUMENTOS","SOLICITUD DE INFORMACIÓN HIDROMETEOROLÓGICA","NO","GRUPO DE ATENCIÓN AL CIUDADANO",43957,null,null,{"$f":"IFERROR(WORKDAY(C325,R325,DiasNOLaborables),\"\")","v":43979},{"$f":"+IF(C325=\"\",\"\",IF(I325=\"\",\"\",(IF(I325<=L325,\"A TIEMPO\",\"FUERA DE TIEMPO\"))))","v":"A TIEMPO"},{"$f":"IF(I325=\"\",\"\",NETWORKDAYS([4]Hoja1!C325+1,[4]Hoja1!P325,DiasNOLaborables))","v":8},"",null,null,20]
[315,20200428190820,43949,"WEB (MÓDULO DE SOLICITUD DE INFORMACIÓN HIDROMETEOROLÓGICA)","SOLICITUD DE INFORMACIÓN Y DOCUMENTOS","SOLICITUD DE INFORMACIÓN HIDROMETEOROLÓGICA","NO","GRUPO DE ATENCIÓN AL CIUDADANO",43957,null,null,{"$f":"IFERROR(WORKDAY(C326,R326,DiasNOLaborables),\"\")","v":43979},{"$f":"+IF(C326=\"\",\"\",IF(I326=\"\",\"\",(IF(I326<=L326,\"A TIEMPO\",\"FUERA DE TIEMPO\"))))","v":"A TIEMPO"},{"$f":"IF(I326=\"\",\"\",NETWORKDAYS([4]Hoja1!C326+1,[4]Hoja1!P326,DiasNOLaborables))","v":8},"",null,null,20]
[316,20200428154736,43949,"WEB (MÓDULO DE SOLICITUD DE INFORMACIÓN HIDROMETEOROLÓGICA)","SOLICITUD DE INFORMACIÓN Y DOCUMENTOS","SOLICITUD DE INFORMACIÓN HIDROMETEOROLÓGICA","NO","GRUPO DE ATENCIÓN AL CIUDADANO",43957,null,null,{"$f":"IFERROR(WORKDAY(C327,R327,DiasNOLaborables),\"\")","v":43979},{"$f":"+IF(C327=\"\",\"\",IF(I327=\"\",\"\",(IF(I327<=L327,\"A TIEMPO\",\"FUERA DE TIEMPO\"))))","v":"A TIEMPO"},{"$f":"IF(I327=\"\",\"\",NETWORKDAYS([4]Hoja1!C327+1,[4]Hoja1!P327,DiasNOLaborables))","v":8},"",null,null,20]
[317,20200428151747,43949,"WEB (MÓDULO DE SOLICITUD DE INFORMACIÓN HIDROMETEOROLÓGICA)","SOLICITUD DE INFORMACIÓN Y DOCUMENTOS","SOLICITUD DE INFORMACIÓN HIDROMETEOROLÓGICA","NO","GRUPO DE ATENCIÓN AL CIUDADANO",43957,null,null,{"$f":"IFERROR(WORKDAY(C328,R328,DiasNOLaborables),\"\")","v":43979},{"$f":"+IF(C328=\"\",\"\",IF(I328=\"\",\"\",(IF(I328<=L328,\"A TIEMPO\",\"FUERA DE TIEMPO\"))))","v":"A TIEMPO"},{"$f":"IF(I328=\"\",\"\",NETWORKDAYS([4]Hoja1!C328+1,[4]Hoja1!P328,DiasNOLaborables))","v":8},"",null,null,20]
[318,20200428151723,43949,"WEB (MÓDULO DE SOLICITUD DE INFORMACIÓN HIDROMETEOROLÓGICA)","SOLICITUD DE INFORMACIÓN Y DOCUMENTOS","SOLICITUD DE INFORMACIÓN HIDROMETEOROLÓGICA","NO","GRUPO DE ATENCIÓN AL CIUDADANO",43957,null,null,{"$f":"IFERROR(WORKDAY(C329,R329,DiasNOLaborables),\"\")","v":43979},{"$f":"+IF(C329=\"\",\"\",IF(I329=\"\",\"\",(IF(I329<=L329,\"A TIEMPO\",\"FUERA DE TIEMPO\"))))","v":"A TIEMPO"},{"$f":"IF(I329=\"\",\"\",NETWORKDAYS([4]Hoja1!C329+1,[4]Hoja1!P329,DiasNOLaborables))","v":8},"",null,null,20]
[319,20200428150756,43949,"WEB (MÓDULO DE SOLICITUD DE INFORMACIÓN HIDROMETEOROLÓGICA)","SOLICITUD DE INFORMACIÓN Y DOCUMENTOS","SOLICITUD DE INFORMACIÓN HIDROMETEOROLÓGICA","NO","GRUPO DE ATENCIÓN AL CIUDADANO",43957,null,null,{"$f":"IFERROR(WORKDAY(C330,R330,DiasNOLaborables),\"\")","v":43979},{"$f":"+IF(C330=\"\",\"\",IF(I330=\"\",\"\",(IF(I330<=L330,\"A TIEMPO\",\"FUERA DE TIEMPO\"))))","v":"A TIEMPO"},{"$f":"IF(I330=\"\",\"\",NETWORKDAYS([4]Hoja1!C330+1,[4]Hoja1!P330,DiasNOLaborables))","v":8},"",null,null,20]
[320,20200428143812,43949,"WEB (MÓDULO DE SOLICITUD DE INFORMACIÓN HIDROMETEOROLÓGICA)","SOLICITUD DE INFORMACIÓN Y DOCUMENTOS","SOLICITUD DE INFORMACIÓN HIDROMETEOROLÓGICA","NO","GRUPO DE ATENCIÓN AL CIUDADANO",43957,null,null,{"$f":"IFERROR(WORKDAY(C331,R331,DiasNOLaborables),\"\")","v":43979},{"$f":"+IF(C331=\"\",\"\",IF(I331=\"\",\"\",(IF(I331<=L331,\"A TIEMPO\",\"FUERA DE TIEMPO\"))))","v":"A TIEMPO"},{"$f":"IF(I331=\"\",\"\",NETWORKDAYS([4]Hoja1!C331+1,[4]Hoja1!P331,DiasNOLaborables))","v":8},"",null,null,20]
[321,20200428115712,43949,"WEB (MÓDULO DE SOLICITUD DE INFORMACIÓN HIDROMETEOROLÓGICA)","SOLICITUD DE INFORMACIÓN Y DOCUMENTOS","SOLICITUD DE INFORMACIÓN HIDROMETEOROLÓGICA","NO","GRUPO DE ATENCIÓN AL CIUDADANO",43957,null,null,{"$f":"IFERROR(WORKDAY(C332,R332,DiasNOLaborables),\"\")","v":43979},{"$f":"+IF(C332=\"\",\"\",IF(I332=\"\",\"\",(IF(I332<=L332,\"A TIEMPO\",\"FUERA DE TIEMPO\"))))","v":"A TIEMPO"},{"$f":"IF(I332=\"\",\"\",NETWORKDAYS([4]Hoja1!C332+1,[4]Hoja1!P332,DiasNOLaborables))","v":8},"",null,null,20]
[322,20200428115447,43949,"WEB (MÓDULO DE SOLICITUD DE INFORMACIÓN HIDROMETEOROLÓGICA)","SOLICITUD DE INFORMACIÓN Y DOCUMENTOS","SOLICITUD DE INFORMACIÓN HIDROMETEOROLÓGICA","NO","GRUPO DE ATENCIÓN AL CIUDADANO",43957,null,null,{"$f":"IFERROR(WORKDAY(C333,R333,DiasNOLaborables),\"\")","v":43979},{"$f":"+IF(C333=\"\",\"\",IF(I333=\"\",\"\",(IF(I333<=L333,\"A TIEMPO\",\"FUERA DE TIEMPO\"))))","v":"A TIEMPO"},{"$f":"IF(I333=\"\",\"\",NETWORKDAYS([4]Hoja1!C333+1,[4]Hoja1!P333,DiasNOLaborables))","v":8},"",null,null,20]
[323,20209050035702,43949,"MODULO CONTACTENOS","SOLICITUD DE INFORMACIÓN Y DOCUMENTOS","SOLICITUD DE INFORMACIÓN HIDROMETEOROLÓGICA","NO","GRUPO DE ATENCIÓN AL CIUDADANO",43957,null,null,{"$f":"IFERROR(WORKDAY(C334,R334,DiasNOLaborables),\"\")","v":43979},{"$f":"+IF(C334=\"\",\"\",IF(I334=\"\",\"\",(IF(I334<=L334,\"A TIEMPO\",\"FUERA DE TIEMPO\"))))","v":"A TIEMPO"},{"$f":"IF(I334=\"\",\"\",NETWORKDAYS([4]Hoja1!C334+1,[4]Hoja1!P334,DiasNOLaborables))","v":8},"",null,null,20]
[324,20209050035742,43949,"MODULO CONTACTENOS","SOLICITUD DE INFORMACIÓN Y DOCUMENTOS","SOLICITUD DE INFORMACIÓN HIDROMETEOROLÓGICA","NO","GRUPO DE ATENCIÓN AL CIUDADANO",43957,null,null,{"$f":"IFERROR(WORKDAY(C335,R335,DiasNOLaborables),\"\")","v":43979},{"$f":"+IF(C335=\"\",\"\",IF(I335=\"\",\"\",(IF(I335<=L335,\"A TIEMPO\",\"FUERA DE TIEMPO\"))))","v":"A TIEMPO"},{"$f":"IF(I335=\"\",\"\",NETWORKDAYS([4]Hoja1!C335+1,[4]Hoja1!P335,DiasNOLaborables))","v":8},"",null,null,{"$f":"IFERROR(VLOOKUP(E335,$Z$50:$AA$63,2),\"\")","v":20}]
[325,20209050035822,43949,"MODULO CONTACTENOS","SOLICITUD DE INFORMACIÓN Y DOCUMENTOS","SOLICITUD DE INFORMACIÓN HIDROMETEOROLÓGICA","NO","GRUPO DE ATENCIÓN AL CIUDADANO",43957,null,null,{"$f":"IFERROR(WORKDAY(C336,R336,DiasNOLaborables),\"\")","v":43979},{"$f":"+IF(C336=\"\",\"\",IF(I336=\"\",\"\",(IF(I336<=L336,\"A TIEMPO\",\"FUERA DE TIEMPO\"))))","v":"A TIEMPO"},{"$f":"IF(I336=\"\",\"\",NETWORKDAYS([4]Hoja1!C336+1,[4]Hoja1!P336,DiasNOLaborables))","v":9},"",null,null,20]
[326,20209050035872,43949,"MODULO CONTACTENOS","SOLICITUD DE INFORMACIÓN Y DOCUMENTOS","SOLICITUD DE INFORMACIÓN HIDROMETEOROLÓGICA","NO","GRUPO DE ATENCIÓN AL CIUDADANO",43957,null,null,{"$f":"IFERROR(WORKDAY(C337,R337,DiasNOLaborables),\"\")","v":43979},{"$f":"+IF(C337=\"\",\"\",IF(I337=\"\",\"\",(IF(I337<=L337,\"A TIEMPO\",\"FUERA DE TIEMPO\"))))","v":"A TIEMPO"},{"$f":"IF(I337=\"\",\"\",NETWORKDAYS([4]Hoja1!C337+1,[4]Hoja1!P337,DiasNOLaborables))","v":9},"",null,null,20]
[327,20200429200311,43950,"WEB (MÓDULO DE SOLICITUD DE INFORMACIÓN HIDROMETEOROLÓGICA)","SOLICITUD DE INFORMACIÓN Y DOCUMENTOS","SOLICITUD DE INFORMACIÓN HIDROMETEOROLÓGICA","NO","GRUPO DE ATENCIÓN AL CIUDADANO",43959,null,null,{"$f":"IFERROR(WORKDAY(C338,R338,DiasNOLaborables),\"\")","v":43980},{"$f":"+IF(C338=\"\",\"\",IF(I338=\"\",\"\",(IF(I338<=L338,\"A TIEMPO\",\"FUERA DE TIEMPO\"))))","v":"A TIEMPO"},{"$f":"IF(I338=\"\",\"\",NETWORKDAYS([4]Hoja1!C338+1,[4]Hoja1!P338,DiasNOLaborables))","v":9},"",null,null,20]
[328,20200429195725,43950,"WEB (MÓDULO DE SOLICITUD DE INFORMACIÓN HIDROMETEOROLÓGICA)","SOLICITUD DE INFORMACIÓN Y DOCUMENTOS","SOLICITUD DE INFORMACIÓN HIDROMETEOROLÓGICA","NO","GRUPO DE ATENCIÓN AL CIUDADANO",43959,null,null,{"$f":"IFERROR(WORKDAY(C339,R339,DiasNOLaborables),\"\")","v":43980},{"$f":"+IF(C339=\"\",\"\",IF(I339=\"\",\"\",(IF(I339<=L339,\"A TIEMPO\",\"FUERA DE TIEMPO\"))))","v":"A TIEMPO"},{"$f":"IF(I339=\"\",\"\",NETWORKDAYS([4]Hoja1!C339+1,[4]Hoja1!P339,DiasNOLaborables))","v":9},"",null,null,20]
[329,20200429195604,43950,"WEB (MÓDULO DE SOLICITUD DE INFORMACIÓN HIDROMETEOROLÓGICA)","SOLICITUD DE INFORMACIÓN Y DOCUMENTOS","SOLICITUD DE INFORMACIÓN HIDROMETEOROLÓGICA","NO","GRUPO DE ATENCIÓN AL CIUDADANO",43959,null,null,{"$f":"IFERROR(WORKDAY(C340,R340,DiasNOLaborables),\"\")","v":43980},{"$f":"+IF(C340=\"\",\"\",IF(I340=\"\",\"\",(IF(I340<=L340,\"A TIEMPO\",\"FUERA DE TIEMPO\"))))","v":"A TIEMPO"},{"$f":"IF(I340=\"\",\"\",NETWORKDAYS([4]Hoja1!C340+1,[4]Hoja1!P340,DiasNOLaborables))","v":8},"",null,null,20]
[330,20200429195346,43950,"WEB (MÓDULO DE SOLICITUD DE INFORMACIÓN HIDROMETEOROLÓGICA)","SOLICITUD DE INFORMACIÓN Y DOCUMENTOS","SOLICITUD DE INFORMACIÓN HIDROMETEOROLÓGICA","NO","GRUPO DE ATENCIÓN AL CIUDADANO",43959,null,null,{"$f":"IFERROR(WORKDAY(C341,R341,DiasNOLaborables),\"\")","v":43980},{"$f":"+IF(C341=\"\",\"\",IF(I341=\"\",\"\",(IF(I341<=L341,\"A TIEMPO\",\"FUERA DE TIEMPO\"))))","v":"A TIEMPO"},{"$f":"IF(I341=\"\",\"\",NETWORKDAYS([4]Hoja1!C341+1,[4]Hoja1!P341,DiasNOLaborables))","v":8},"",null,null,20]
[331,20200429194338,43950,"WEB (MÓDULO DE SOLICITUD DE INFORMACIÓN HIDROMETEOROLÓGICA)","SOLICITUD DE INFORMACIÓN Y DOCUMENTOS","SOLICITUD DE INFORMACIÓN HIDROMETEOROLÓGICA","NO","GRUPO DE ATENCIÓN AL CIUDADANO",43959,null,null,{"$f":"IFERROR(WORKDAY(C342,R342,DiasNOLaborables),\"\")","v":43980},{"$f":"+IF(C342=\"\",\"\",IF(I342=\"\",\"\",(IF(I342<=L342,\"A TIEMPO\",\"FUERA DE TIEMPO\"))))","v":"A TIEMPO"},{"$f":"IF(I342=\"\",\"\",NETWORKDAYS([4]Hoja1!C342+1,[4]Hoja1!P342,DiasNOLaborables))","v":7},"",null,null,20]
[332,20200429194228,43950,"WEB (MÓDULO DE SOLICITUD DE INFORMACIÓN HIDROMETEOROLÓGICA)","SOLICITUD DE INFORMACIÓN Y DOCUMENTOS","SOLICITUD DE INFORMACIÓN HIDROMETEOROLÓGICA","NO","GRUPO DE ATENCIÓN AL CIUDADANO",43959,null,null,{"$f":"IFERROR(WORKDAY(C343,R343,DiasNOLaborables),\"\")","v":43980},{"$f":"+IF(C343=\"\",\"\",IF(I343=\"\",\"\",(IF(I343<=L343,\"A TIEMPO\",\"FUERA DE TIEMPO\"))))","v":"A TIEMPO"},{"$f":"IF(I343=\"\",\"\",NETWORKDAYS([4]Hoja1!C343+1,[4]Hoja1!P343,DiasNOLaborables))","v":7},"",null,null,20]
[333,20200429194022,43950,"WEB (MÓDULO DE SOLICITUD DE INFORMACIÓN HIDROMETEOROLÓGICA)","SOLICITUD DE INFORMACIÓN Y DOCUMENTOS","SOLICITUD DE INFORMACIÓN HIDROMETEOROLÓGICA","NO","GRUPO DE ATENCIÓN AL CIUDADANO",43959,null,null,{"$f":"IFERROR(WORKDAY(C344,R344,DiasNOLaborables),\"\")","v":43980},{"$f":"+IF(C344=\"\",\"\",IF(I344=\"\",\"\",(IF(I344<=L344,\"A TIEMPO\",\"FUERA DE TIEMPO\"))))","v":"A TIEMPO"},{"$f":"IF(I344=\"\",\"\",NETWORKDAYS([4]Hoja1!C344+1,[4]Hoja1!P344,DiasNOLaborables))","v":7},"",null,null,20]
[334,20200429193819,43950,"WEB (MÓDULO DE SOLICITUD DE INFORMACIÓN HIDROMETEOROLÓGICA)","SOLICITUD DE INFORMACIÓN Y DOCUMENTOS","SOLICITUD DE INFORMACIÓN HIDROMETEOROLÓGICA","NO","GRUPO DE ATENCIÓN AL CIUDADANO",43959,null,null,{"$f":"IFERROR(WORKDAY(C345,R345,DiasNOLaborables),\"\")","v":43980},{"$f":"+IF(C345=\"\",\"\",IF(I345=\"\",\"\",(IF(I345<=L345,\"A TIEMPO\",\"FUERA DE TIEMPO\"))))","v":"A TIEMPO"},{"$f":"IF(I345=\"\",\"\",NETWORKDAYS([4]Hoja1!C345+1,[4]Hoja1!P345,DiasNOLaborables))","v":7},"",null,null,20]
[335,20200429193642,43950,"WEB (MÓDULO DE SOLICITUD DE INFORMACIÓN HIDROMETEOROLÓGICA)","SOLICITUD DE INFORMACIÓN Y DOCUMENTOS","SOLICITUD DE INFORMACIÓN HIDROMETEOROLÓGICA","NO","GRUPO DE ATENCIÓN AL CIUDADANO",43959,null,null,{"$f":"IFERROR(WORKDAY(C346,R346,DiasNOLaborables),\"\")","v":43980},{"$f":"+IF(C346=\"\",\"\",IF(I346=\"\",\"\",(IF(I346<=L346,\"A TIEMPO\",\"FUERA DE TIEMPO\"))))","v":"A TIEMPO"},{"$f":"IF(I346=\"\",\"\",NETWORKDAYS([4]Hoja1!C346+1,[4]Hoja1!P346,DiasNOLaborables))","v":7},"",null,null,20]
[336,20200429193322,43950,"WEB (MÓDULO DE SOLICITUD DE INFORMACIÓN HIDROMETEOROLÓGICA)","SOLICITUD DE INFORMACIÓN Y DOCUMENTOS","SOLICITUD DE INFORMACIÓN HIDROMETEOROLÓGICA","NO","GRUPO DE ATENCIÓN AL CIUDADANO",43959,null,null,{"$f":"IFERROR(WORKDAY(C347,R347,DiasNOLaborables),\"\")","v":43980},{"$f":"+IF(C347=\"\",\"\",IF(I347=\"\",\"\",(IF(I347<=L347,\"A TIEMPO\",\"FUERA DE TIEMPO\"))))","v":"A TIEMPO"},{"$f":"IF(I347=\"\",\"\",NETWORKDAYS([4]Hoja1!C347+1,[4]Hoja1!P347,DiasNOLaborables))","v":7},"",null,null,20]
[337,20200429192929,43950,"WEB (MÓDULO DE SOLICITUD DE INFORMACIÓN HIDROMETEOROLÓGICA)","SOLICITUD DE INFORMACIÓN Y DOCUMENTOS","SOLICITUD DE INFORMACIÓN HIDROMETEOROLÓGICA","NO","GRUPO DE ATENCIÓN AL CIUDADANO",43959,null,null,{"$f":"IFERROR(WORKDAY(C348,R348,DiasNOLaborables),\"\")","v":43980},{"$f":"+IF(C348=\"\",\"\",IF(I348=\"\",\"\",(IF(I348<=L348,\"A TIEMPO\",\"FUERA DE TIEMPO\"))))","v":"A TIEMPO"},{"$f":"IF(I348=\"\",\"\",NETWORKDAYS([4]Hoja1!C348+1,[4]Hoja1!P348,DiasNOLaborables))","v":7},"",null,null,20]
[338,20200429140959,43950,"WEB (MÓDULO DE SOLICITUD DE INFORMACIÓN HIDROMETEOROLÓGICA)","SOLICITUD DE INFORMACIÓN Y DOCUMENTOS","SOLICITUD DE INFORMACIÓN HIDROMETEOROLÓGICA","NO","GRUPO DE ATENCIÓN AL CIUDADANO",43959,null,null,{"$f":"IFERROR(WORKDAY(C349,R349,DiasNOLaborables),\"\")","v":43980},{"$f":"+IF(C349=\"\",\"\",IF(I349=\"\",\"\",(IF(I349<=L349,\"A TIEMPO\",\"FUERA DE TIEMPO\"))))","v":"A TIEMPO"},{"$f":"IF(I349=\"\",\"\",NETWORKDAYS([4]Hoja1!C349+1,[4]Hoja1!P349,DiasNOLaborables))","v":7},"",null,null,20]
[339,20200429135050,43950,"WEB (MÓDULO DE SOLICITUD DE INFORMACIÓN HIDROMETEOROLÓGICA)","SOLICITUD DE INFORMACIÓN Y DOCUMENTOS","SOLICITUD DE INFORMACIÓN HIDROMETEOROLÓGICA","NO","GRUPO DE ATENCIÓN AL CIUDADANO",43959,null,null,{"$f":"IFERROR(WORKDAY(C350,R350,DiasNOLaborables),\"\")","v":43980},{"$f":"+IF(C350=\"\",\"\",IF(I350=\"\",\"\",(IF(I350<=L350,\"A TIEMPO\",\"FUERA DE TIEMPO\"))))","v":"A TIEMPO"},{"$f":"IF(I350=\"\",\"\",NETWORKDAYS([4]Hoja1!C350+1,[4]Hoja1!P350,DiasNOLaborables))","v":7},"",null,null,20]
[340,20200429134304,43950,"WEB (MÓDULO DE SOLICITUD DE INFORMACIÓN HIDROMETEOROLÓGICA)","SOLICITUD DE INFORMACIÓN Y DOCUMENTOS","SOLICITUD DE INFORMACIÓN HIDROMETEOROLÓGICA","NO","GRUPO DE ATENCIÓN AL CIUDADANO",43959,null,null,{"$f":"IFERROR(WORKDAY(C351,R351,DiasNOLaborables),\"\")","v":43980},{"$f":"+IF(C351=\"\",\"\",IF(I351=\"\",\"\",(IF(I351<=L351,\"A TIEMPO\",\"FUERA DE TIEMPO\"))))","v":"A TIEMPO"},{"$f":"IF(I351=\"\",\"\",NETWORKDAYS([4]Hoja1!C351+1,[4]Hoja1!P351,DiasNOLaborables))","v":7},"",null,null,20]
[341,20200429132423,43950,"WEB (MÓDULO DE SOLICITUD DE INFORMACIÓN HIDROMETEOROLÓGICA)","SOLICITUD DE INFORMACIÓN Y DOCUMENTOS","SOLICITUD DE INFORMACIÓN HIDROMETEOROLÓGICA","NO","GRUPO DE ATENCIÓN AL CIUDADANO",43959,null,null,{"$f":"IFERROR(WORKDAY(C352,R352,DiasNOLaborables),\"\")","v":43980},{"$f":"+IF(C352=\"\",\"\",IF(I352=\"\",\"\",(IF(I352<=L352,\"A TIEMPO\",\"FUERA DE TIEMPO\"))))","v":"A TIEMPO"},{"$f":"IF(I352=\"\",\"\",NETWORKDAYS([4]Hoja1!C352+1,[4]Hoja1!P352,DiasNOLaborables))","v":7},"",null,null,20]
[342,20200429120245,43950,"WEB (MÓDULO DE SOLICITUD DE INFORMACIÓN HIDROMETEOROLÓGICA)","SOLICITUD DE INFORMACIÓN Y DOCUMENTOS","SOLICITUD DE INFORMACIÓN HIDROMETEOROLÓGICA","NO","GRUPO DE ATENCIÓN AL CIUDADANO",43959,null,null,{"$f":"IFERROR(WORKDAY(C353,R353,DiasNOLaborables),\"\")","v":43980},{"$f":"+IF(C353=\"\",\"\",IF(I353=\"\",\"\",(IF(I353<=L353,\"A TIEMPO\",\"FUERA DE TIEMPO\"))))","v":"A TIEMPO"},{"$f":"IF(I353=\"\",\"\",NETWORKDAYS([4]Hoja1!C353+1,[4]Hoja1!P353,DiasNOLaborables))","v":7},"",null,null,20]
[343,20200429111909,43950,"WEB (MÓDULO DE SOLICITUD DE INFORMACIÓN HIDROMETEOROLÓGICA)","SOLICITUD DE INFORMACIÓN Y DOCUMENTOS","SOLICITUD DE INFORMACIÓN HIDROMETEOROLÓGICA","NO","GRUPO DE ATENCIÓN AL CIUDADANO",43959,null,null,{"$f":"IFERROR(WORKDAY(C354,R354,DiasNOLaborables),\"\")","v":43980},{"$f":"+IF(C354=\"\",\"\",IF(I354=\"\",\"\",(IF(I354<=L354,\"A TIEMPO\",\"FUERA DE TIEMPO\"))))","v":"A TIEMPO"},{"$f":"IF(I354=\"\",\"\",NETWORKDAYS([4]Hoja1!C354+1,[4]Hoja1!P354,DiasNOLaborables))","v":7},"",null,null,20]
[344,20200429111617,43950,"WEB (MÓDULO DE SOLICITUD DE INFORMACIÓN HIDROMETEOROLÓGICA)","SOLICITUD DE INFORMACIÓN Y DOCUMENTOS","SOLICITUD DE INFORMACIÓN HIDROMETEOROLÓGICA","NO","GRUPO DE ATENCIÓN AL CIUDADANO",43959,null,null,{"$f":"IFERROR(WORKDAY(C355,R355,DiasNOLaborables),\"\")","v":43980},{"$f":"+IF(C355=\"\",\"\",IF(I355=\"\",\"\",(IF(I355<=L355,\"A TIEMPO\",\"FUERA DE TIEMPO\"))))","v":"A TIEMPO"},{"$f":"IF(I355=\"\",\"\",NETWORKDAYS([4]Hoja1!C355+1,[4]Hoja1!P355,DiasNOLaborables))","v":7},"",null,null,20]
[345,20200429111257,43950,"WEB (MÓDULO DE SOLICITUD DE INFORMACIÓN HIDROMETEOROLÓGICA)","SOLICITUD DE INFORMACIÓN Y DOCUMENTOS","SOLICITUD DE INFORMACIÓN HIDROMETEOROLÓGICA","NO","GRUPO DE ATENCIÓN AL CIUDADANO",43959,null,null,{"$f":"IFERROR(WORKDAY(C356,R356,DiasNOLaborables),\"\")","v":43980},{"$f":"+IF(C356=\"\",\"\",IF(I356=\"\",\"\",(IF(I356<=L356,\"A TIEMPO\",\"FUERA DE TIEMPO\"))))","v":"A TIEMPO"},{"$f":"IF(I356=\"\",\"\",NETWORKDAYS([4]Hoja1!C356+1,[4]Hoja1!P356,DiasNOLaborables))","v":7},"",null,null,20]
[346,20200429110111,43950,"WEB (MÓDULO DE SOLICITUD DE INFORMACIÓN HIDROMETEOROLÓGICA)","SOLICITUD DE INFORMACIÓN Y DOCUMENTOS","SOLICITUD DE INFORMACIÓN HIDROMETEOROLÓGICA","NO","GRUPO DE ATENCIÓN AL CIUDADANO",43959,null,null,{"$f":"IFERROR(WORKDAY(C357,R357,DiasNOLaborables),\"\")","v":43980},{"$f":"+IF(C357=\"\",\"\",IF(I357=\"\",\"\",(IF(I357<=L357,\"A TIEMPO\",\"FUERA DE TIEMPO\"))))","v":"A TIEMPO"},{"$f":"IF(I357=\"\",\"\",NETWORKDAYS([4]Hoja1!C357+1,[4]Hoja1!P357,DiasNOLaborables))","v":3},"",null,null,{"$f":"IFERROR(VLOOKUP(E357,$Z$50:$AA$63,2),\"\")","v":20}]
[347,20200429105447,43950,"WEB (MÓDULO DE SOLICITUD DE INFORMACIÓN HIDROMETEOROLÓGICA)","SOLICITUD DE INFORMACIÓN Y DOCUMENTOS","SOLICITUD DE INFORMACIÓN HIDROMETEOROLÓGICA","NO","GRUPO DE ATENCIÓN AL CIUDADANO",43959,null,null,{"$f":"IFERROR(WORKDAY(C358,R358,DiasNOLaborables),\"\")","v":43980},{"$f":"+IF(C358=\"\",\"\",IF(I358=\"\",\"\",(IF(I358<=L358,\"A TIEMPO\",\"FUERA DE TIEMPO\"))))","v":"A TIEMPO"},{"$f":"IF(I358=\"\",\"\",NETWORKDAYS([4]Hoja1!C358+1,[4]Hoja1!P358,DiasNOLaborables))","v":4},"",null,null,{"$f":"IFERROR(VLOOKUP(E358,$Z$50:$AA$63,2),\"\")","v":20}]
[348,20200429104825,43950,"WEB (MÓDULO DE SOLICITUD DE INFORMACIÓN HIDROMETEOROLÓGICA)","SOLICITUD DE INFORMACIÓN Y DOCUMENTOS","SOLICITUD DE INFORMACIÓN HIDROMETEOROLÓGICA","NO","GRUPO DE ATENCIÓN AL CIUDADANO",43959,null,null,{"$f":"IFERROR(WORKDAY(C359,R359,DiasNOLaborables),\"\")","v":43980},{"$f":"+IF(C359=\"\",\"\",IF(I359=\"\",\"\",(IF(I359<=L359,\"A TIEMPO\",\"FUERA DE TIEMPO\"))))","v":"A TIEMPO"},{"$f":"IF(I359=\"\",\"\",NETWORKDAYS([4]Hoja1!C359+1,[4]Hoja1!P359,DiasNOLaborables))","v":-2},"",null,null,20]
[349,20200429104247,43950,"WEB (MÓDULO DE SOLICITUD DE INFORMACIÓN HIDROMETEOROLÓGICA)","SOLICITUD DE INFORMACIÓN Y DOCUMENTOS","SOLICITUD DE INFORMACIÓN HIDROMETEOROLÓGICA","NO","GRUPO DE ATENCIÓN AL CIUDADANO",43959,null,null,{"$f":"IFERROR(WORKDAY(C360,R360,DiasNOLaborables),\"\")","v":43980},{"$f":"+IF(C360=\"\",\"\",IF(I360=\"\",\"\",(IF(I360<=L360,\"A TIEMPO\",\"FUERA DE TIEMPO\"))))","v":"A TIEMPO"},{"$f":"IF(I360=\"\",\"\",NETWORKDAYS([4]Hoja1!C360+1,[4]Hoja1!P360,DiasNOLaborables))","v":-2},"",null,null,20]
[350,20200429103316,43950,"WEB (MÓDULO DE SOLICITUD DE INFORMACIÓN HIDROMETEOROLÓGICA)","SOLICITUD DE INFORMACIÓN Y DOCUMENTOS","SOLICITUD DE INFORMACIÓN HIDROMETEOROLÓGICA","NO","GRUPO DE ATENCIÓN AL CIUDADANO",43959,null,null,{"$f":"IFERROR(WORKDAY(C361,R361,DiasNOLaborables),\"\")","v":43980},{"$f":"+IF(C361=\"\",\"\",IF(I361=\"\",\"\",(IF(I361<=L361,\"A TIEMPO\",\"FUERA DE TIEMPO\"))))","v":"A TIEMPO"},{"$f":"IF(I361=\"\",\"\",NETWORKDAYS([4]Hoja1!C361+1,[4]Hoja1!P361,DiasNOLaborables))","v":1},{"$f":"IF(NETWORKDAYS(L361+1,I361,DiasNOLaborables)<=0,\"\",NETWORKDAYS(L361+1,I361,DiasNOLaborables))","v":""},null,null,20]
[351,20200429083824,43950,"WEB (MÓDULO DE SOLICITUD DE INFORMACIÓN HIDROMETEOROLÓGICA)","SOLICITUD DE INFORMACIÓN Y DOCUMENTOS","SOLICITUD DE INFORMACIÓN HIDROMETEOROLÓGICA","NO","GRUPO DE ATENCIÓN AL CIUDADANO",43959,null,null,{"$f":"IFERROR(WORKDAY(C362,R362,DiasNOLaborables),\"\")","v":43980},{"$f":"+IF(C362=\"\",\"\",IF(I362=\"\",\"\",(IF(I362<=L362,\"A TIEMPO\",\"FUERA DE TIEMPO\"))))","v":"A TIEMPO"},{"$f":"IF(I362=\"\",\"\",NETWORKDAYS([4]Hoja1!C362+1,[4]Hoja1!P362,DiasNOLaborables))","v":2},"",null,null,20]
[352,20209050036292,43951,"MODULO CONTACTENOS","SOLICITUD DE INFORMACIÓN Y DOCUMENTOS","SOLICITUD DE INFORMACIÓN HIDROMETEOROLÓGICA","NO","GRUPO DE ATENCIÓN AL CIUDADANO",43962,null,null,{"$f":"IFERROR(WORKDAY(C363,R363,DiasNOLaborables),\"\")","v":43983},{"$f":"+IF(C363=\"\",\"\",IF(I363=\"\",\"\",(IF(I363<=L363,\"A TIEMPO\",\"FUERA DE TIEMPO\"))))","v":"A TIEMPO"},{"$f":"IF(I363=\"\",\"\",NETWORKDAYS([4]Hoja1!C363+1,[4]Hoja1!P363,DiasNOLaborables))","v":3},"",null,null,20]
[353,20209050036322,43951,"MODULO CONTACTENOS","SOLICITUD DE INFORMACIÓN Y DOCUMENTOS","SOLICITUD DE INFORMACIÓN HIDROMETEOROLÓGICA","NO","GRUPO DE ATENCIÓN AL CIUDADANO",43962,null,null,{"$f":"IFERROR(WORKDAY(C364,R364,DiasNOLaborables),\"\")","v":43983},{"$f":"+IF(C364=\"\",\"\",IF(I364=\"\",\"\",(IF(I364<=L364,\"A TIEMPO\",\"FUERA DE TIEMPO\"))))","v":"A TIEMPO"},{"$f":"IF(I364=\"\",\"\",NETWORKDAYS([4]Hoja1!C364+1,[4]Hoja1!P364,DiasNOLaborables))","v":2},"",null,null,20]
[354,20209050036342,43951,"MODULO CONTACTENOS","SOLICITUD DE INFORMACIÓN Y DOCUMENTOS","SOLICITUD DE INFORMACIÓN HIDROMETEOROLÓGICA","NO","GRUPO DE ATENCIÓN AL CIUDADANO",43962,null,null,{"$f":"IFERROR(WORKDAY(C365,R365,DiasNOLaborables),\"\")","v":43983},{"$f":"+IF(C365=\"\",\"\",IF(I365=\"\",\"\",(IF(I365<=L365,\"A TIEMPO\",\"FUERA DE TIEMPO\"))))","v":"A TIEMPO"},{"$f":"IF(I365=\"\",\"\",NETWORKDAYS([4]Hoja1!C365+1,[4]Hoja1!P365,DiasNOLaborables))","v":3},"",null,null,20]
[355,20200430232828,43951,"WEB (MÓDULO DE SOLICITUD DE INFORMACIÓN HIDROMETEOROLÓGICA)","SOLICITUD DE INFORMACIÓN Y DOCUMENTOS","SOLICITUD DE INFORMACIÓN HIDROMETEOROLÓGICA","NO","GRUPO DE ATENCIÓN AL CIUDADANO",43962,null,null,{"$f":"IFERROR(WORKDAY(C366,R366,DiasNOLaborables),\"\")","v":43983},{"$f":"+IF(C366=\"\",\"\",IF(I366=\"\",\"\",(IF(I366<=L366,\"A TIEMPO\",\"FUERA DE TIEMPO\"))))","v":"A TIEMPO"},{"$f":"IF(I366=\"\",\"\",NETWORKDAYS([4]Hoja1!C366+1,[4]Hoja1!P366,DiasNOLaborables))","v":3},"",null,null,20]
[356,20200430192129,43951,"WEB (MÓDULO DE SOLICITUD DE INFORMACIÓN HIDROMETEOROLÓGICA)","SOLICITUD DE INFORMACIÓN Y DOCUMENTOS","SOLICITUD DE INFORMACIÓN HIDROMETEOROLÓGICA","NO","GRUPO DE ATENCIÓN AL CIUDADANO",43962,null,null,{"$f":"IFERROR(WORKDAY(C367,R367,DiasNOLaborables),\"\")","v":43983},{"$f":"+IF(C367=\"\",\"\",IF(I367=\"\",\"\",(IF(I367<=L367,\"A TIEMPO\",\"FUERA DE TIEMPO\"))))","v":"A TIEMPO"},{"$f":"IF(I367=\"\",\"\",NETWORKDAYS([4]Hoja1!C367+1,[4]Hoja1!P367,DiasNOLaborables))","v":3},"",null,null,20]
[357,20200430191816,43951,"WEB (MÓDULO DE SOLICITUD DE INFORMACIÓN HIDROMETEOROLÓGICA)","SOLICITUD DE INFORMACIÓN Y DOCUMENTOS","SOLICITUD DE INFORMACIÓN HIDROMETEOROLÓGICA","NO","GRUPO DE ATENCIÓN AL CIUDADANO",43962,null,null,{"$f":"IFERROR(WORKDAY(C368,R368,DiasNOLaborables),\"\")","v":43983},{"$f":"+IF(C368=\"\",\"\",IF(I368=\"\",\"\",(IF(I368<=L368,\"A TIEMPO\",\"FUERA DE TIEMPO\"))))","v":"A TIEMPO"},{"$f":"IF(I368=\"\",\"\",NETWORKDAYS([4]Hoja1!C368+1,[4]Hoja1!P368,DiasNOLaborables))","v":3},"",null,null,20]
[358,20200430190951,43951,"WEB (MÓDULO DE SOLICITUD DE INFORMACIÓN HIDROMETEOROLÓGICA)","SOLICITUD DE INFORMACIÓN Y DOCUMENTOS","SOLICITUD DE INFORMACIÓN HIDROMETEOROLÓGICA","NO","GRUPO DE ATENCIÓN AL CIUDADANO",43962,null,null,{"$f":"IFERROR(WORKDAY(C369,R369,DiasNOLaborables),\"\")","v":43983},{"$f":"+IF(C369=\"\",\"\",IF(I369=\"\",\"\",(IF(I369<=L369,\"A TIEMPO\",\"FUERA DE TIEMPO\"))))","v":"A TIEMPO"},{"$f":"IF(I369=\"\",\"\",NETWORKDAYS([4]Hoja1!C369+1,[4]Hoja1!P369,DiasNOLaborables))","v":4},"",null,null,20]
[{"$f":"IF(B368<>\"\",A369+1,\"\")","v":359},20209050028182,43922,"WEB (MÓDULO DE SOLICITUD DE INFORMACIÓN HIDROMETEOROLÓGICA)","SOLICITUD DE INFORMACIÓN Y DOCUMENTOS","SOLICITUD DE INFORMACIÓN HIDROMETEOROLÓGICA","NO","GRUPO DE ATENCIÓN AL CIUDADANO",43932,null,null,{"$f":"IFERROR(WORKDAY(C370,R370,DiasNOLaborables),\"\")","v":43955},{"$f":"+IF(C370=\"\",\"\",IF(I370=\"\",\"\",(IF(I370<=L370,\"A TIEMPO\",\"FUERA DE TIEMPO\"))))","v":"A TIEMPO"},{"$f":"IF(I370=\"\",\"\",NETWORKDAYS([4]Hoja1!C370+1,[4]Hoja1!P370,DiasNOLaborables))","v":4},"",null,null,20]
[360,20209050028222,43922,"WEB (MÓDULO DE SOLICITUD DE INFORMACIÓN HIDROMETEOROLÓGICA)","SOLICITUD DE INFORMACIÓN Y DOCUMENTOS","SOLICITUD DE INFORMACIÓN HIDROMETEOROLÓGICA","NO","GRUPO DE ATENCIÓN AL CIUDADANO",43932,null,null,{"$f":"IFERROR(WORKDAY(C371,R371,DiasNOLaborables),\"\")","v":43955},{"$f":"+IF(C371=\"\",\"\",IF(I371=\"\",\"\",(IF(I371<=L371,\"A TIEMPO\",\"FUERA DE TIEMPO\"))))","v":"A TIEMPO"},{"$f":"IF(I371=\"\",\"\",NETWORKDAYS([4]Hoja1!C371+1,[4]Hoja1!P371,DiasNOLaborables))","v":4},"",null,null,20]
[361,20209050028232,43922,"WEB (MÓDULO DE SOLICITUD DE INFORMACIÓN HIDROMETEOROLÓGICA)","SOLICITUD DE INFORMACIÓN Y DOCUMENTOS","SOLICITUD DE INFORMACIÓN HIDROMETEOROLÓGICA","NO","GRUPO DE ATENCIÓN AL CIUDADANO",43932,null,null,{"$f":"IFERROR(WORKDAY(C372,R372,DiasNOLaborables),\"\")","v":43955},{"$f":"+IF(C372=\"\",\"\",IF(I372=\"\",\"\",(IF(I372<=L372,\"A TIEMPO\",\"FUERA DE TIEMPO\"))))","v":"A TIEMPO"},{"$f":"IF(I372=\"\",\"\",NETWORKDAYS([4]Hoja1!C372+1,[4]Hoja1!P372,DiasNOLaborables))","v":4},"",null,null,20]
[362,20209050028252,43922,"WEB (MÓDULO DE SOLICITUD DE INFORMACIÓN HIDROMETEOROLÓGICA)","SOLICITUD DE INFORMACIÓN Y DOCUMENTOS","SOLICITUD DE INFORMACIÓN HIDROMETEOROLÓGICA","NO","GRUPO DE ATENCIÓN AL CIUDADANO",43932,null,null,{"$f":"IFERROR(WORKDAY(C373,R373,DiasNOLaborables),\"\")","v":43955},{"$f":"+IF(C373=\"\",\"\",IF(I373=\"\",\"\",(IF(I373<=L373,\"A TIEMPO\",\"FUERA DE TIEMPO\"))))","v":"A TIEMPO"},{"$f":"IF(I373=\"\",\"\",NETWORKDAYS([4]Hoja1!C373+1,[4]Hoja1!P373,DiasNOLaborables))","v":4},"",null,null,20]
[363,20209050028602,43922,"WEB (MÓDULO DE SOLICITUD DE INFORMACIÓN HIDROMETEOROLÓGICA)","SOLICITUD DE INFORMACIÓN Y DOCUMENTOS","SOLICITUD DE INFORMACIÓN HIDROMETEOROLÓGICA","NO","GRUPO DE ATENCIÓN AL CIUDADANO",43932,null,null,{"$f":"IFERROR(WORKDAY(C374,R374,DiasNOLaborables),\"\")","v":43955},{"$f":"+IF(C374=\"\",\"\",IF(I374=\"\",\"\",(IF(I374<=L374,\"A TIEMPO\",\"FUERA DE TIEMPO\"))))","v":"A TIEMPO"},{"$f":"IF(I374=\"\",\"\",NETWORKDAYS([4]Hoja1!C374+1,[4]Hoja1!P374,DiasNOLaborables))","v":4},"",null,null,20]
[364,20209050029292,43924,"WEB (MÓDULO DE SOLICITUD DE INFORMACIÓN HIDROMETEOROLÓGICA)","SOLICITUD DE INFORMACIÓN Y DOCUMENTOS","SOLICITUD DE INFORMACIÓN HIDROMETEOROLÓGICA","NO","GRUPO DE ATENCIÓN AL CIUDADANO",43932,null,null,{"$f":"IFERROR(WORKDAY(C375,R375,DiasNOLaborables),\"\")","v":43957},{"$f":"+IF(C375=\"\",\"\",IF(I375=\"\",\"\",(IF(I375<=L375,\"A TIEMPO\",\"FUERA DE TIEMPO\"))))","v":"A TIEMPO"},{"$f":"IF(I375=\"\",\"\",NETWORKDAYS([4]Hoja1!C375+1,[4]Hoja1!P375,DiasNOLaborables))","v":4},"",null,null,20]
[365,20209050028612,43923,"WEB (MÓDULO DE SOLICITUD DE INFORMACIÓN HIDROMETEOROLÓGICA)","SOLICITUD DE INFORMACIÓN Y DOCUMENTOS","SOLICITUD DE INFORMACIÓN HIDROMETEOROLÓGICA","NO","GRUPO DE ATENCIÓN AL CIUDADANO",43932,null,null,{"$f":"IFERROR(WORKDAY(C376,R376,DiasNOLaborables),\"\")","v":43956},{"$f":"+IF(C376=\"\",\"\",IF(I376=\"\",\"\",(IF(I376<=L376,\"A TIEMPO\",\"FUERA DE TIEMPO\"))))","v":"A TIEMPO"},{"$f":"IF(I376=\"\",\"\",NETWORKDAYS([4]Hoja1!C376+1,[4]Hoja1!P376,DiasNOLaborables))","v":4},"",null,null,20]
[366,20209050028672,43923,"WEB (MÓDULO DE SOLICITUD DE INFORMACIÓN HIDROMETEOROLÓGICA)","SOLICITUD DE INFORMACIÓN Y DOCUMENTOS","SOLICITUD DE INFORMACIÓN HIDROMETEOROLÓGICA","NO","GRUPO DE ATENCIÓN AL CIUDADANO",43932,null,null,{"$f":"IFERROR(WORKDAY(C377,R377,DiasNOLaborables),\"\")","v":43956},{"$f":"+IF(C377=\"\",\"\",IF(I377=\"\",\"\",(IF(I377<=L377,\"A TIEMPO\",\"FUERA DE TIEMPO\"))))","v":"A TIEMPO"},{"$f":"IF(I377=\"\",\"\",NETWORKDAYS([4]Hoja1!C377+1,[4]Hoja1!P377,DiasNOLaborables))","v":4},"",null,null,20]
[367,20209050028792,43923,"WEB (MÓDULO DE SOLICITUD DE INFORMACIÓN HIDROMETEOROLÓGICA)","SOLICITUD DE INFORMACIÓN Y DOCUMENTOS","SOLICITUD DE INFORMACIÓN HIDROMETEOROLÓGICA","NO","GRUPO DE ATENCIÓN AL CIUDADANO",43932,null,null,{"$f":"IFERROR(WORKDAY(C378,R378,DiasNOLaborables),\"\")","v":43956},{"$f":"+IF(C378=\"\",\"\",IF(I378=\"\",\"\",(IF(I378<=L378,\"A TIEMPO\",\"FUERA DE TIEMPO\"))))","v":"A TIEMPO"},{"$f":"IF(I378=\"\",\"\",NETWORKDAYS([4]Hoja1!C378+1,[4]Hoja1!P378,DiasNOLaborables))","v":4},"",null,null,20]
[368,20209050028652,43923,"WEB (MÓDULO DE SOLICITUD DE INFORMACIÓN HIDROMETEOROLÓGICA)","SOLICITUD DE INFORMACIÓN Y DOCUMENTOS","SOLICITUD DE INFORMACIÓN HIDROMETEOROLÓGICA","NO","GRUPO DE ATENCIÓN AL CIUDADANO",43932,null,null,{"$f":"IFERROR(WORKDAY(C379,R379,DiasNOLaborables),\"\")","v":43956},{"$f":"+IF(C379=\"\",\"\",IF(I379=\"\",\"\",(IF(I379<=L379,\"A TIEMPO\",\"FUERA DE TIEMPO\"))))","v":"A TIEMPO"},{"$f":"IF(I379=\"\",\"\",NETWORKDAYS([4]Hoja1!C379+1,[4]Hoja1!P379,DiasNOLaborables))","v":5},"",null,null,20]
[369,20209050028682,43923,"WEB (MÓDULO DE SOLICITUD DE INFORMACIÓN HIDROMETEOROLÓGICA)","SOLICITUD DE INFORMACIÓN Y DOCUMENTOS","SOLICITUD DE INFORMACIÓN HIDROMETEOROLÓGICA","NO","GRUPO DE ATENCIÓN AL CIUDADANO",43932,null,null,{"$f":"IFERROR(WORKDAY(C380,R380,DiasNOLaborables),\"\")","v":43956},{"$f":"+IF(C380=\"\",\"\",IF(I380=\"\",\"\",(IF(I380<=L380,\"A TIEMPO\",\"FUERA DE TIEMPO\"))))","v":"A TIEMPO"},{"$f":"IF(I380=\"\",\"\",NETWORKDAYS([4]Hoja1!C380+1,[4]Hoja1!P380,DiasNOLaborables))","v":0},"",null,null,20]
[370,20209050028802,43923,"WEB (MÓDULO DE SOLICITUD DE INFORMACIÓN HIDROMETEOROLÓGICA)","SOLICITUD DE INFORMACIÓN Y DOCUMENTOS","SOLICITUD DE INFORMACIÓN HIDROMETEOROLÓGICA","NO","GRUPO DE ATENCIÓN AL CIUDADANO",43932,null,null,{"$f":"IFERROR(WORKDAY(C381,R381,DiasNOLaborables),\"\")","v":43956},{"$f":"+IF(C381=\"\",\"\",IF(I381=\"\",\"\",(IF(I381<=L381,\"A TIEMPO\",\"FUERA DE TIEMPO\"))))","v":"A TIEMPO"},{"$f":"IF(I381=\"\",\"\",NETWORKDAYS([4]Hoja1!C381+1,[4]Hoja1!P381,DiasNOLaborables))","v":5},"",null,null,20]
[371,20209050028812,43923,"WEB (MÓDULO DE SOLICITUD DE INFORMACIÓN HIDROMETEOROLÓGICA)","SOLICITUD DE INFORMACIÓN Y DOCUMENTOS","SOLICITUD DE INFORMACIÓN HIDROMETEOROLÓGICA","NO","GRUPO DE ATENCIÓN AL CIUDADANO",43932,null,null,{"$f":"IFERROR(WORKDAY(C382,R382,DiasNOLaborables),\"\")","v":43956},{"$f":"+IF(C382=\"\",\"\",IF(I382=\"\",\"\",(IF(I382<=L382,\"A TIEMPO\",\"FUERA DE TIEMPO\"))))","v":"A TIEMPO"},{"$f":"IF(I382=\"\",\"\",NETWORKDAYS([4]Hoja1!C382+1,[4]Hoja1!P382,DiasNOLaborables))","v":7},"",null,null,20]
[372,20209050028822,43923,"WEB (MÓDULO DE SOLICITUD DE INFORMACIÓN HIDROMETEOROLÓGICA)","SOLICITUD DE INFORMACIÓN Y DOCUMENTOS","SOLICITUD DE INFORMACIÓN HIDROMETEOROLÓGICA","NO","GRUPO DE ATENCIÓN AL CIUDADANO",43932,null,null,{"$f":"IFERROR(WORKDAY(C383,R383,DiasNOLaborables),\"\")","v":43956},{"$f":"+IF(C383=\"\",\"\",IF(I383=\"\",\"\",(IF(I383<=L383,\"A TIEMPO\",\"FUERA DE TIEMPO\"))))","v":"A TIEMPO"},{"$f":"IF(I383=\"\",\"\",NETWORKDAYS([4]Hoja1!C383+1,[4]Hoja1!P383,DiasNOLaborables))","v":-1},"",null,null,20]
[373,20209050028842,43923,"WEB (MÓDULO DE SOLICITUD DE INFORMACIÓN HIDROMETEOROLÓGICA)","SOLICITUD DE INFORMACIÓN Y DOCUMENTOS","SOLICITUD DE INFORMACIÓN HIDROMETEOROLÓGICA","NO","GRUPO DE ATENCIÓN AL CIUDADANO",43932,null,null,{"$f":"IFERROR(WORKDAY(C384,R384,DiasNOLaborables),\"\")","v":43956},{"$f":"+IF(C384=\"\",\"\",IF(I384=\"\",\"\",(IF(I384<=L384,\"A TIEMPO\",\"FUERA DE TIEMPO\"))))","v":"A TIEMPO"},{"$f":"IF(I384=\"\",\"\",NETWORKDAYS([4]Hoja1!C384+1,[4]Hoja1!P384,DiasNOLaborables))","v":8},"",null,null,20]
[374,20209050028852,43923,"WEB (MÓDULO DE SOLICITUD DE INFORMACIÓN HIDROMETEOROLÓGICA)","SOLICITUD DE INFORMACIÓN Y DOCUMENTOS","SOLICITUD DE INFORMACIÓN HIDROMETEOROLÓGICA","NO","GRUPO DE ATENCIÓN AL CIUDADANO",43932,null,null,{"$f":"IFERROR(WORKDAY(C385,R385,DiasNOLaborables),\"\")","v":43956},{"$f":"+IF(C385=\"\",\"\",IF(I385=\"\",\"\",(IF(I385<=L385,\"A TIEMPO\",\"FUERA DE TIEMPO\"))))","v":"A TIEMPO"},{"$f":"IF(I385=\"\",\"\",NETWORKDAYS([4]Hoja1!C385+1,[4]Hoja1!P385,DiasNOLaborables))","v":6},"",null,null,20]
[375,20209050028872,43923,"WEB (MÓDULO DE SOLICITUD DE INFORMACIÓN HIDROMETEOROLÓGICA)","SOLICITUD DE INFORMACIÓN Y DOCUMENTOS","SOLICITUD DE INFORMACIÓN HIDROMETEOROLÓGICA","NO","GRUPO DE ATENCIÓN AL CIUDADANO",43932,null,null,{"$f":"IFERROR(WORKDAY(C386,R386,DiasNOLaborables),\"\")","v":43956},{"$f":"+IF(C386=\"\",\"\",IF(I386=\"\",\"\",(IF(I386<=L386,\"A TIEMPO\",\"FUERA DE TIEMPO\"))))","v":"A TIEMPO"},{"$f":"IF(I386=\"\",\"\",NETWORKDAYS([4]Hoja1!C386+1,[4]Hoja1!P386,DiasNOLaborables))","v":6},"",null,null,20]
[376,20209050028892,43924,"WEB (MÓDULO DE SOLICITUD DE INFORMACIÓN HIDROMETEOROLÓGICA)","SOLICITUD DE INFORMACIÓN Y DOCUMENTOS","SOLICITUD DE INFORMACIÓN HIDROMETEOROLÓGICA","NO","GRUPO DE ATENCIÓN AL CIUDADANO",43932,null,null,{"$f":"IFERROR(WORKDAY(C387,R387,DiasNOLaborables),\"\")","v":43957},{"$f":"+IF(C387=\"\",\"\",IF(I387=\"\",\"\",(IF(I387<=L387,\"A TIEMPO\",\"FUERA DE TIEMPO\"))))","v":"A TIEMPO"},{"$f":"IF(I387=\"\",\"\",NETWORKDAYS([4]Hoja1!C387+1,[4]Hoja1!P387,DiasNOLaborables))","v":6},"",null,null,20]
[377,20209050029352,43924,"WEB (MÓDULO DE SOLICITUD DE INFORMACIÓN HIDROMETEOROLÓGICA)","SOLICITUD DE INFORMACIÓN Y DOCUMENTOS","SOLICITUD DE INFORMACIÓN HIDROMETEOROLÓGICA","NO","GRUPO DE ATENCIÓN AL CIUDADANO",43932,null,null,{"$f":"IFERROR(WORKDAY(C388,R388,DiasNOLaborables),\"\")","v":43957},{"$f":"+IF(C388=\"\",\"\",IF(I388=\"\",\"\",(IF(I388<=L388,\"A TIEMPO\",\"FUERA DE TIEMPO\"))))","v":"A TIEMPO"},{"$f":"IF(I388=\"\",\"\",NETWORKDAYS([4]Hoja1!C388+1,[4]Hoja1!P388,DiasNOLaborables))","v":6},"",null,null,20]
[378,20209050029572,43927,"WEB (MÓDULO DE SOLICITUD DE INFORMACIÓN HIDROMETEOROLÓGICA)","SOLICITUD DE INFORMACIÓN Y DOCUMENTOS","SOLICITUD DE INFORMACIÓN HIDROMETEOROLÓGICA","NO","GRUPO DE ATENCIÓN AL CIUDADANO",43932,null,null,{"$f":"IFERROR(WORKDAY(C389,R389,DiasNOLaborables),\"\")","v":43958},{"$f":"+IF(C389=\"\",\"\",IF(I389=\"\",\"\",(IF(I389<=L389,\"A TIEMPO\",\"FUERA DE TIEMPO\"))))","v":"A TIEMPO"},{"$f":"IF(I389=\"\",\"\",NETWORKDAYS([4]Hoja1!C389+1,[4]Hoja1!P389,DiasNOLaborables))","v":6},"",null,null,20]
[379,20209050028832,43923,"WEB (MÓDULO DE SOLICITUD DE INFORMACIÓN HIDROMETEOROLÓGICA)","SOLICITUD DE INFORMACIÓN Y DOCUMENTOS","SOLICITUD DE INFORMACIÓN HIDROMETEOROLÓGICA","NO","GRUPO DE ATENCIÓN AL CIUDADANO",43939,null,null,{"$f":"IFERROR(WORKDAY(C390,R390,DiasNOLaborables),\"\")","v":43956},{"$f":"+IF(C390=\"\",\"\",IF(I390=\"\",\"\",(IF(I390<=L390,\"A TIEMPO\",\"FUERA DE TIEMPO\"))))","v":"A TIEMPO"},{"$f":"IF(I390=\"\",\"\",NETWORKDAYS([4]Hoja1!C390+1,[4]Hoja1!P390,DiasNOLaborables))","v":6},"",null,null,20]
[380,20209050028582,43923,"WEB (MÓDULO DE SOLICITUD DE INFORMACIÓN HIDROMETEOROLÓGICA)","SOLICITUD DE INFORMACIÓN Y DOCUMENTOS","SOLICITUD DE INFORMACIÓN HIDROMETEOROLÓGICA","NO","GRUPO DE ATENCIÓN AL CIUDADANO",43939,null,null,{"$f":"IFERROR(WORKDAY(C391,R391,DiasNOLaborables),\"\")","v":43956},{"$f":"+IF(C391=\"\",\"\",IF(I391=\"\",\"\",(IF(I391<=L391,\"A TIEMPO\",\"FUERA DE TIEMPO\"))))","v":"A TIEMPO"},{"$f":"IF(I391=\"\",\"\",NETWORKDAYS([4]Hoja1!C391+1,[4]Hoja1!P391,DiasNOLaborables))","v":6},"",null,null,20]
[381,20209050028932,43924,"WEB (MÓDULO DE SOLICITUD DE INFORMACIÓN HIDROMETEOROLÓGICA)","SOLICITUD DE INFORMACIÓN Y DOCUMENTOS","SOLICITUD DE INFORMACIÓN HIDROMETEOROLÓGICA","NO","GRUPO DE ATENCIÓN AL CIUDADANO",43939,null,null,{"$f":"IFERROR(WORKDAY(C392,R392,DiasNOLaborables),\"\")","v":43957},{"$f":"+IF(C392=\"\",\"\",IF(I392=\"\",\"\",(IF(I392<=L392,\"A TIEMPO\",\"FUERA DE TIEMPO\"))))","v":"A TIEMPO"},{"$f":"IF(I392=\"\",\"\",NETWORKDAYS([4]Hoja1!C392+1,[4]Hoja1!P392,DiasNOLaborables))","v":6},"",null,null,20]
[382,20209050029372,43924,"WEB (MÓDULO DE SOLICITUD DE INFORMACIÓN HIDROMETEOROLÓGICA)","SOLICITUD DE INFORMACIÓN Y DOCUMENTOS","SOLICITUD DE INFORMACIÓN HIDROMETEOROLÓGICA","NO","GRUPO DE ATENCIÓN AL CIUDADANO",43939,null,null,{"$f":"IFERROR(WORKDAY(C393,R393,DiasNOLaborables),\"\")","v":43957},{"$f":"+IF(C393=\"\",\"\",IF(I393=\"\",\"\",(IF(I393<=L393,\"A TIEMPO\",\"FUERA DE TIEMPO\"))))","v":"A TIEMPO"},{"$f":"IF(I393=\"\",\"\",NETWORKDAYS([4]Hoja1!C393+1,[4]Hoja1!P393,DiasNOLaborables))","v":6},"",null,null,20]
[383,20209050028902,43924,"WEB (MÓDULO DE SOLICITUD DE INFORMACIÓN HIDROMETEOROLÓGICA)","SOLICITUD DE INFORMACIÓN Y DOCUMENTOS","SOLICITUD DE INFORMACIÓN HIDROMETEOROLÓGICA","NO","GRUPO DE ATENCIÓN AL CIUDADANO",43939,null,null,{"$f":"IFERROR(WORKDAY(C394,R394,DiasNOLaborables),\"\")","v":43957},{"$f":"+IF(C394=\"\",\"\",IF(I394=\"\",\"\",(IF(I394<=L394,\"A TIEMPO\",\"FUERA DE TIEMPO\"))))","v":"A TIEMPO"},{"$f":"IF(I394=\"\",\"\",NETWORKDAYS([4]Hoja1!C394+1,[4]Hoja1!P394,DiasNOLaborables))","v":6},"",null,null,20]
[384,20209050028912,43924,"WEB (MÓDULO DE SOLICITUD DE INFORMACIÓN HIDROMETEOROLÓGICA)","SOLICITUD DE INFORMACIÓN Y DOCUMENTOS","SOLICITUD DE INFORMACIÓN HIDROMETEOROLÓGICA","NO","GRUPO DE ATENCIÓN AL CIUDADANO",43939,null,null,{"$f":"IFERROR(WORKDAY(C395,R395,DiasNOLaborables),\"\")","v":43957},{"$f":"+IF(C395=\"\",\"\",IF(I395=\"\",\"\",(IF(I395<=L395,\"A TIEMPO\",\"FUERA DE TIEMPO\"))))","v":"A TIEMPO"},{"$f":"IF(I395=\"\",\"\",NETWORKDAYS([4]Hoja1!C395+1,[4]Hoja1!P395,DiasNOLaborables))","v":6},"",null,null,20]
[385,20209050029272,43924,"WEB (MÓDULO DE SOLICITUD DE INFORMACIÓN HIDROMETEOROLÓGICA)","SOLICITUD DE INFORMACIÓN Y DOCUMENTOS","SOLICITUD DE INFORMACIÓN HIDROMETEOROLÓGICA","NO","GRUPO DE ATENCIÓN AL CIUDADANO",43939,null,null,{"$f":"IFERROR(WORKDAY(C396,R396,DiasNOLaborables),\"\")","v":43957},{"$f":"+IF(C396=\"\",\"\",IF(I396=\"\",\"\",(IF(I396<=L396,\"A TIEMPO\",\"FUERA DE TIEMPO\"))))","v":"A TIEMPO"},{"$f":"IF(I396=\"\",\"\",NETWORKDAYS([4]Hoja1!C396+1,[4]Hoja1!P396,DiasNOLaborables))","v":8},"",null,null,20]
[386,20209050029362,43924,"WEB (MÓDULO DE SOLICITUD DE INFORMACIÓN HIDROMETEOROLÓGICA)","SOLICITUD DE INFORMACIÓN Y DOCUMENTOS","SOLICITUD DE INFORMACIÓN HIDROMETEOROLÓGICA","NO","GRUPO DE ATENCIÓN AL CIUDADANO",43939,null,null,{"$f":"IFERROR(WORKDAY(C397,R397,DiasNOLaborables),\"\")","v":43957},{"$f":"+IF(C397=\"\",\"\",IF(I397=\"\",\"\",(IF(I397<=L397,\"A TIEMPO\",\"FUERA DE TIEMPO\"))))","v":"A TIEMPO"},{"$f":"IF(I397=\"\",\"\",NETWORKDAYS([4]Hoja1!C397+1,[4]Hoja1!P397,DiasNOLaborables))","v":8},"",null,null,20]
[387,20209050029382,43924,"WEB (MÓDULO DE SOLICITUD DE INFORMACIÓN HIDROMETEOROLÓGICA)","SOLICITUD DE INFORMACIÓN Y DOCUMENTOS","SOLICITUD DE INFORMACIÓN HIDROMETEOROLÓGICA","NO","GRUPO DE ATENCIÓN AL CIUDADANO",43939,null,null,{"$f":"IFERROR(WORKDAY(C398,R398,DiasNOLaborables),\"\")","v":43957},{"$f":"+IF(C398=\"\",\"\",IF(I398=\"\",\"\",(IF(I398<=L398,\"A TIEMPO\",\"FUERA DE TIEMPO\"))))","v":"A TIEMPO"},{"$f":"IF(I398=\"\",\"\",NETWORKDAYS([4]Hoja1!C398+1,[4]Hoja1!P398,DiasNOLaborables))","v":8},"",null,null,20]
[388,20209050029532,43926,"WEB (MÓDULO DE SOLICITUD DE INFORMACIÓN HIDROMETEOROLÓGICA)","SOLICITUD DE INFORMACIÓN Y DOCUMENTOS","SOLICITUD DE INFORMACIÓN HIDROMETEOROLÓGICA","NO","GRUPO DE ATENCIÓN AL CIUDADANO",43939,null,null,{"$f":"IFERROR(WORKDAY(C399,R399,DiasNOLaborables),\"\")","v":43957},{"$f":"+IF(C399=\"\",\"\",IF(I399=\"\",\"\",(IF(I399<=L399,\"A TIEMPO\",\"FUERA DE TIEMPO\"))))","v":"A TIEMPO"},{"$f":"IF(I399=\"\",\"\",NETWORKDAYS([4]Hoja1!C399+1,[4]Hoja1!P399,DiasNOLaborables))","v":8},"",null,null,{"$f":"IFERROR(VLOOKUP(E399,$Z$50:$AA$63,2),\"\")","v":20}]
[389,20209050029582,43927,"WEB (MÓDULO DE SOLICITUD DE INFORMACIÓN HIDROMETEOROLÓGICA)","SOLICITUD DE INFORMACIÓN Y DOCUMENTOS","SOLICITUD DE INFORMACIÓN HIDROMETEOROLÓGICA","NO","GRUPO DE ATENCIÓN AL CIUDADANO",43939,null,null,{"$f":"IFERROR(WORKDAY(C400,R400,DiasNOLaborables),\"\")","v":43958},{"$f":"+IF(C400=\"\",\"\",IF(I400=\"\",\"\",(IF(I400<=L400,\"A TIEMPO\",\"FUERA DE TIEMPO\"))))","v":"A TIEMPO"},{"$f":"IF(I400=\"\",\"\",NETWORKDAYS([4]Hoja1!C400+1,[4]Hoja1!P400,DiasNOLaborables))","v":8},"",null,null,20]
[390,20209050029612,43927,"WEB (MÓDULO DE SOLICITUD DE INFORMACIÓN HIDROMETEOROLÓGICA)","SOLICITUD DE INFORMACIÓN Y DOCUMENTOS","SOLICITUD DE INFORMACIÓN HIDROMETEOROLÓGICA","NO","GRUPO DE ATENCIÓN AL CIUDADANO",43939,null,null,{"$f":"IFERROR(WORKDAY(C401,R401,DiasNOLaborables),\"\")","v":43958},{"$f":"+IF(C401=\"\",\"\",IF(I401=\"\",\"\",(IF(I401<=L401,\"A TIEMPO\",\"FUERA DE TIEMPO\"))))","v":"A TIEMPO"},{"$f":"IF(I401=\"\",\"\",NETWORKDAYS([4]Hoja1!C401+1,[4]Hoja1!P401,DiasNOLaborables))","v":8},"",null,null,20]
[391,20209050029622,43927,"WEB (MÓDULO DE SOLICITUD DE INFORMACIÓN HIDROMETEOROLÓGICA)","SOLICITUD DE INFORMACIÓN Y DOCUMENTOS","SOLICITUD DE INFORMACIÓN HIDROMETEOROLÓGICA","NO","GRUPO DE ATENCIÓN AL CIUDADANO",43939,null,null,{"$f":"IFERROR(WORKDAY(C402,R402,DiasNOLaborables),\"\")","v":43958},{"$f":"+IF(C402=\"\",\"\",IF(I402=\"\",\"\",(IF(I402<=L402,\"A TIEMPO\",\"FUERA DE TIEMPO\"))))","v":"A TIEMPO"},{"$f":"IF(I402=\"\",\"\",NETWORKDAYS([4]Hoja1!C402+1,[4]Hoja1!P402,DiasNOLaborables))","v":8},"",null,null,20]
[392,20209050029632,43927,"WEB (MÓDULO DE SOLICITUD DE INFORMACIÓN HIDROMETEOROLÓGICA)","SOLICITUD DE INFORMACIÓN Y DOCUMENTOS","SOLICITUD DE INFORMACIÓN HIDROMETEOROLÓGICA","NO","GRUPO DE ATENCIÓN AL CIUDADANO",43940,null,null,{"$f":"IFERROR(WORKDAY(C403,R403,DiasNOLaborables),\"\")","v":43958},{"$f":"+IF(C403=\"\",\"\",IF(I403=\"\",\"\",(IF(I403<=L403,\"A TIEMPO\",\"FUERA DE TIEMPO\"))))","v":"A TIEMPO"},{"$f":"IF(I403=\"\",\"\",NETWORKDAYS([4]Hoja1!C403+1,[4]Hoja1!P403,DiasNOLaborables))","v":8},"",null,null,20]
[393,20209050030012,43928,"WEB (MÓDULO DE SOLICITUD DE INFORMACIÓN HIDROMETEOROLÓGICA)","SOLICITUD DE INFORMACIÓN Y DOCUMENTOS","SOLICITUD DE INFORMACIÓN HIDROMETEOROLÓGICA","NO","GRUPO DE ATENCIÓN AL CIUDADANO",43940,null,null,{"$f":"IFERROR(WORKDAY(C404,R404,DiasNOLaborables),\"\")","v":43959},{"$f":"+IF(C404=\"\",\"\",IF(I404=\"\",\"\",(IF(I404<=L404,\"A TIEMPO\",\"FUERA DE TIEMPO\"))))","v":"A TIEMPO"},{"$f":"IF(I404=\"\",\"\",NETWORKDAYS([4]Hoja1!C404+1,[4]Hoja1!P404,DiasNOLaborables))","v":8},"",null,null,20]
[394,20209050030022,43928,"WEB (MÓDULO DE SOLICITUD DE INFORMACIÓN HIDROMETEOROLÓGICA)","SOLICITUD DE INFORMACIÓN Y DOCUMENTOS","SOLICITUD DE INFORMACIÓN HIDROMETEOROLÓGICA","NO","GRUPO DE ATENCIÓN AL CIUDADANO",43940,null,null,{"$f":"IFERROR(WORKDAY(C405,R405,DiasNOLaborables),\"\")","v":43959},{"$f":"+IF(C405=\"\",\"\",IF(I405=\"\",\"\",(IF(I405<=L405,\"A TIEMPO\",\"FUERA DE TIEMPO\"))))","v":"A TIEMPO"},{"$f":"IF(I405=\"\",\"\",NETWORKDAYS([4]Hoja1!C405+1,[4]Hoja1!P405,DiasNOLaborables))","v":8},"",null,null,20]
[395,20209050030062,43928,"WEB (MÓDULO DE SOLICITUD DE INFORMACIÓN HIDROMETEOROLÓGICA)","SOLICITUD DE INFORMACIÓN Y DOCUMENTOS","SOLICITUD DE INFORMACIÓN HIDROMETEOROLÓGICA","NO","GRUPO DE ATENCIÓN AL CIUDADANO",43940,null,null,{"$f":"IFERROR(WORKDAY(C406,R406,DiasNOLaborables),\"\")","v":43959},{"$f":"+IF(C406=\"\",\"\",IF(I406=\"\",\"\",(IF(I406<=L406,\"A TIEMPO\",\"FUERA DE TIEMPO\"))))","v":"A TIEMPO"},{"$f":"IF(I406=\"\",\"\",NETWORKDAYS([4]Hoja1!C406+1,[4]Hoja1!P406,DiasNOLaborables))","v":8},"",null,null,20]
[396,20209050030502,43929,"WEB (MÓDULO DE SOLICITUD DE INFORMACIÓN HIDROMETEOROLÓGICA)","SOLICITUD DE INFORMACIÓN Y DOCUMENTOS","SOLICITUD DE INFORMACIÓN HIDROMETEOROLÓGICA","NO","GRUPO DE ATENCIÓN AL CIUDADANO",43940,null,null,{"$f":"IFERROR(WORKDAY(C407,R407,DiasNOLaborables),\"\")","v":43962},{"$f":"+IF(C407=\"\",\"\",IF(I407=\"\",\"\",(IF(I407<=L407,\"A TIEMPO\",\"FUERA DE TIEMPO\"))))","v":"A TIEMPO"},{"$f":"IF(I407=\"\",\"\",NETWORKDAYS([4]Hoja1!C407+1,[4]Hoja1!P407,DiasNOLaborables))","v":8},"",null,null,20]
[397,20209050030522,43929,"WEB (MÓDULO DE SOLICITUD DE INFORMACIÓN HIDROMETEOROLÓGICA)","SOLICITUD DE INFORMACIÓN Y DOCUMENTOS","SOLICITUD DE INFORMACIÓN HIDROMETEOROLÓGICA","NO","GRUPO DE ATENCIÓN AL CIUDADANO",43940,null,null,{"$f":"IFERROR(WORKDAY(C408,R408,DiasNOLaborables),\"\")","v":43962},{"$f":"+IF(C408=\"\",\"\",IF(I408=\"\",\"\",(IF(I408<=L408,\"A TIEMPO\",\"FUERA DE TIEMPO\"))))","v":"A TIEMPO"},{"$f":"IF(I408=\"\",\"\",NETWORKDAYS([4]Hoja1!C408+1,[4]Hoja1!P408,DiasNOLaborables))","v":3},"",null,null,20]
[398,20209050030532,43929,"WEB (MÓDULO DE SOLICITUD DE INFORMACIÓN HIDROMETEOROLÓGICA)","SOLICITUD DE INFORMACIÓN Y DOCUMENTOS","SOLICITUD DE INFORMACIÓN HIDROMETEOROLÓGICA","NO","GRUPO DE ATENCIÓN AL CIUDADANO",43940,null,null,{"$f":"IFERROR(WORKDAY(C409,R409,DiasNOLaborables),\"\")","v":43962},{"$f":"+IF(C409=\"\",\"\",IF(I409=\"\",\"\",(IF(I409<=L409,\"A TIEMPO\",\"FUERA DE TIEMPO\"))))","v":"A TIEMPO"},{"$f":"IF(I409=\"\",\"\",NETWORKDAYS([4]Hoja1!C409+1,[4]Hoja1!P409,DiasNOLaborables))","v":-1},"",null,null,20]
[399,20209050030562,43929,"WEB (MÓDULO DE SOLICITUD DE INFORMACIÓN HIDROMETEOROLÓGICA)","SOLICITUD DE INFORMACIÓN Y DOCUMENTOS","SOLICITUD DE INFORMACIÓN HIDROMETEOROLÓGICA","NO","GRUPO DE ATENCIÓN AL CIUDADANO",43940,null,null,{"$f":"IFERROR(WORKDAY(C410,R410,DiasNOLaborables),\"\")","v":43962},{"$f":"+IF(C410=\"\",\"\",IF(I410=\"\",\"\",(IF(I410<=L410,\"A TIEMPO\",\"FUERA DE TIEMPO\"))))","v":"A TIEMPO"},{"$f":"IF(I410=\"\",\"\",NETWORKDAYS([4]Hoja1!C410+1,[4]Hoja1!P410,DiasNOLaborables))","v":4},"",null,null,20]
[400,20209050030782,43932,"WEB (MÓDULO DE SOLICITUD DE INFORMACIÓN HIDROMETEOROLÓGICA)","SOLICITUD DE INFORMACIÓN Y DOCUMENTOS","SOLICITUD DE INFORMACIÓN HIDROMETEOROLÓGICA","NO","GRUPO DE ATENCIÓN AL CIUDADANO",43940,null,null,{"$f":"IFERROR(WORKDAY(C411,R411,DiasNOLaborables),\"\")","v":43962},{"$f":"+IF(C411=\"\",\"\",IF(I411=\"\",\"\",(IF(I411<=L411,\"A TIEMPO\",\"FUERA DE TIEMPO\"))))","v":"A TIEMPO"},{"$f":"IF(I411=\"\",\"\",NETWORKDAYS([4]Hoja1!C411+1,[4]Hoja1!P411,DiasNOLaborables))","v":6},"",null,null,20]
[401,20209050030792,43932,"WEB (MÓDULO DE SOLICITUD DE INFORMACIÓN HIDROMETEOROLÓGICA)","SOLICITUD DE INFORMACIÓN Y DOCUMENTOS","SOLICITUD DE INFORMACIÓN HIDROMETEOROLÓGICA","NO","GRUPO DE ATENCIÓN AL CIUDADANO",43940,null,null,{"$f":"IFERROR(WORKDAY(C412,R412,DiasNOLaborables),\"\")","v":43962},{"$f":"+IF(C412=\"\",\"\",IF(I412=\"\",\"\",(IF(I412<=L412,\"A TIEMPO\",\"FUERA DE TIEMPO\"))))","v":"A TIEMPO"},{"$f":"IF(I412=\"\",\"\",NETWORKDAYS([4]Hoja1!C412+1,[4]Hoja1!P412,DiasNOLaborables))","v":-1},"",null,null,20]
[402,20200406220031,43927,"WEB (MÓDULO DE SOLICITUD DE INFORMACIÓN HIDROMETEOROLÓGICA)","SOLICITUD DE INFORMACIÓN Y DOCUMENTOS","SOLICITUD DE INFORMACIÓN HIDROMETEOROLÓGICA","NO","GRUPO DE ATENCIÓN AL CIUDADANO",43941,null,null,{"$f":"IFERROR(WORKDAY(C413,R413,DiasNOLaborables),\"\")","v":43958},{"$f":"+IF(C413=\"\",\"\",IF(I413=\"\",\"\",(IF(I413<=L413,\"A TIEMPO\",\"FUERA DE TIEMPO\"))))","v":"A TIEMPO"},{"$f":"IF(I413=\"\",\"\",NETWORKDAYS([4]Hoja1!C413+1,[4]Hoja1!P413,DiasNOLaborables))","v":2},"",null,null,20]
[403,20200406200632,43927,"WEB (MÓDULO DE SOLICITUD DE INFORMACIÓN HIDROMETEOROLÓGICA)","SOLICITUD DE INFORMACIÓN Y DOCUMENTOS","SOLICITUD DE INFORMACIÓN HIDROMETEOROLÓGICA","NO","GRUPO DE ATENCIÓN AL CIUDADANO",43941,null,null,{"$f":"IFERROR(WORKDAY(C414,R414,DiasNOLaborables),\"\")","v":43958},{"$f":"+IF(C414=\"\",\"\",IF(I414=\"\",\"\",(IF(I414<=L414,\"A TIEMPO\",\"FUERA DE TIEMPO\"))))","v":"A TIEMPO"},{"$f":"IF(I414=\"\",\"\",NETWORKDAYS([4]Hoja1!C414+1,[4]Hoja1!P414,DiasNOLaborables))","v":8},"",null,null,20]
[404,20200406200454,43927,"WEB (MÓDULO DE SOLICITUD DE INFORMACIÓN HIDROMETEOROLÓGICA)","SOLICITUD DE INFORMACIÓN Y DOCUMENTOS","SOLICITUD DE INFORMACIÓN HIDROMETEOROLÓGICA","NO","GRUPO DE ATENCIÓN AL CIUDADANO",43941,null,null,{"$f":"IFERROR(WORKDAY(C415,R415,DiasNOLaborables),\"\")","v":43958},{"$f":"+IF(C415=\"\",\"\",IF(I415=\"\",\"\",(IF(I415<=L415,\"A TIEMPO\",\"FUERA DE TIEMPO\"))))","v":"A TIEMPO"},{"$f":"IF(I415=\"\",\"\",NETWORKDAYS([4]Hoja1!C415+1,[4]Hoja1!P415,DiasNOLaborables))","v":1},"",null,null,20]
[405,20200406200053,43927,"WEB (MÓDULO DE SOLICITUD DE INFORMACIÓN HIDROMETEOROLÓGICA)","SOLICITUD DE INFORMACIÓN Y DOCUMENTOS","SOLICITUD DE INFORMACIÓN HIDROMETEOROLÓGICA","NO","GRUPO DE ATENCIÓN AL CIUDADANO",43941,null,null,{"$f":"IFERROR(WORKDAY(C416,R416,DiasNOLaborables),\"\")","v":43958},{"$f":"+IF(C416=\"\",\"\",IF(I416=\"\",\"\",(IF(I416<=L416,\"A TIEMPO\",\"FUERA DE TIEMPO\"))))","v":"A TIEMPO"},{"$f":"IF(I416=\"\",\"\",NETWORKDAYS([4]Hoja1!C416+1,[4]Hoja1!P416,DiasNOLaborables))","v":8},"",null,null,20]
[406,20200406195910,43927,"WEB (MÓDULO DE SOLICITUD DE INFORMACIÓN HIDROMETEOROLÓGICA)","SOLICITUD DE INFORMACIÓN Y DOCUMENTOS","SOLICITUD DE INFORMACIÓN HIDROMETEOROLÓGICA","NO","GRUPO DE ATENCIÓN AL CIUDADANO",43941,null,null,{"$f":"IFERROR(WORKDAY(C417,R417,DiasNOLaborables),\"\")","v":43958},{"$f":"+IF(C417=\"\",\"\",IF(I417=\"\",\"\",(IF(I417<=L417,\"A TIEMPO\",\"FUERA DE TIEMPO\"))))","v":"A TIEMPO"},{"$f":"IF(I417=\"\",\"\",NETWORKDAYS([4]Hoja1!C417+1,[4]Hoja1!P417,DiasNOLaborables))","v":1},"",null,null,20]
[407,20200406195644,43927,"WEB (MÓDULO DE SOLICITUD DE INFORMACIÓN HIDROMETEOROLÓGICA)","SOLICITUD DE INFORMACIÓN Y DOCUMENTOS","SOLICITUD DE INFORMACIÓN HIDROMETEOROLÓGICA","NO","GRUPO DE ATENCIÓN AL CIUDADANO",43941,null,null,{"$f":"IFERROR(WORKDAY(C418,R418,DiasNOLaborables),\"\")","v":43958},{"$f":"+IF(C418=\"\",\"\",IF(I418=\"\",\"\",(IF(I418<=L418,\"A TIEMPO\",\"FUERA DE TIEMPO\"))))","v":"A TIEMPO"},{"$f":"IF(I418=\"\",\"\",NETWORKDAYS([4]Hoja1!C418+1,[4]Hoja1!P418,DiasNOLaborables))","v":8},"",null,null,20]
[408,20200406195347,43927,"WEB (MÓDULO DE SOLICITUD DE INFORMACIÓN HIDROMETEOROLÓGICA)","SOLICITUD DE INFORMACIÓN Y DOCUMENTOS","SOLICITUD DE INFORMACIÓN HIDROMETEOROLÓGICA","NO","GRUPO DE ATENCIÓN AL CIUDADANO",43941,null,null,{"$f":"IFERROR(WORKDAY(C419,R419,DiasNOLaborables),\"\")","v":43958},{"$f":"+IF(C419=\"\",\"\",IF(I419=\"\",\"\",(IF(I419<=L419,\"A TIEMPO\",\"FUERA DE TIEMPO\"))))","v":"A TIEMPO"},{"$f":"IF(I419=\"\",\"\",NETWORKDAYS([4]Hoja1!C419+1,[4]Hoja1!P419,DiasNOLaborables))","v":11},"",null,null,20]
[409,20200406194337,43927,"WEB (MÓDULO DE SOLICITUD DE INFORMACIÓN HIDROMETEOROLÓGICA)","SOLICITUD DE INFORMACIÓN Y DOCUMENTOS","SOLICITUD DE INFORMACIÓN HIDROMETEOROLÓGICA","NO","GRUPO DE ATENCIÓN AL CIUDADANO",43941,null,null,{"$f":"IFERROR(WORKDAY(C420,R420,DiasNOLaborables),\"\")","v":43958},{"$f":"+IF(C420=\"\",\"\",IF(I420=\"\",\"\",(IF(I420<=L420,\"A TIEMPO\",\"FUERA DE TIEMPO\"))))","v":"A TIEMPO"},{"$f":"IF(I420=\"\",\"\",NETWORKDAYS([4]Hoja1!C420+1,[4]Hoja1!P420,DiasNOLaborables))","v":1},"",null,null,20]
[410,20200406192609,43927,"WEB (MÓDULO DE SOLICITUD DE INFORMACIÓN HIDROMETEOROLÓGICA)","SOLICITUD DE INFORMACIÓN Y DOCUMENTOS","SOLICITUD DE INFORMACIÓN HIDROMETEOROLÓGICA","NO","GRUPO DE ATENCIÓN AL CIUDADANO",43941,null,null,{"$f":"IFERROR(WORKDAY(C421,R421,DiasNOLaborables),\"\")","v":43958},{"$f":"+IF(C421=\"\",\"\",IF(I421=\"\",\"\",(IF(I421<=L421,\"A TIEMPO\",\"FUERA DE TIEMPO\"))))","v":"A TIEMPO"},{"$f":"IF(I421=\"\",\"\",NETWORKDAYS([4]Hoja1!C421+1,[4]Hoja1!P421,DiasNOLaborables))","v":2},"",null,null,20]
[411,20200406192253,43927,"WEB (MÓDULO DE SOLICITUD DE INFORMACIÓN HIDROMETEOROLÓGICA)","SOLICITUD DE INFORMACIÓN Y DOCUMENTOS","SOLICITUD DE INFORMACIÓN HIDROMETEOROLÓGICA","NO","GRUPO DE ATENCIÓN AL CIUDADANO",43941,null,null,{"$f":"IFERROR(WORKDAY(C422,R422,DiasNOLaborables),\"\")","v":43958},{"$f":"+IF(C422=\"\",\"\",IF(I422=\"\",\"\",(IF(I422<=L422,\"A TIEMPO\",\"FUERA DE TIEMPO\"))))","v":"A TIEMPO"},{"$f":"IF(I422=\"\",\"\",NETWORKDAYS([4]Hoja1!C422+1,[4]Hoja1!P422,DiasNOLaborables))","v":1},"",null,null,20]
[412,20200406191852,43927,"WEB (MÓDULO DE SOLICITUD DE INFORMACIÓN HIDROMETEOROLÓGICA)","SOLICITUD DE INFORMACIÓN Y DOCUMENTOS","SOLICITUD DE INFORMACIÓN HIDROMETEOROLÓGICA","NO","GRUPO DE ATENCIÓN AL CIUDADANO",43941,null,null,{"$f":"IFERROR(WORKDAY(C423,R423,DiasNOLaborables),\"\")","v":43958},{"$f":"+IF(C423=\"\",\"\",IF(I423=\"\",\"\",(IF(I423<=L423,\"A TIEMPO\",\"FUERA DE TIEMPO\"))))","v":"A TIEMPO"},{"$f":"IF(I423=\"\",\"\",NETWORKDAYS([4]Hoja1!C423+1,[4]Hoja1!P423,DiasNOLaborables))","v":2},"",null,null,20]
[413,20200406185755,43927,"WEB (MÓDULO DE SOLICITUD DE INFORMACIÓN HIDROMETEOROLÓGICA)","SOLICITUD DE INFORMACIÓN Y DOCUMENTOS","SOLICITUD DE INFORMACIÓN HIDROMETEOROLÓGICA","NO","GRUPO DE ATENCIÓN AL CIUDADANO",43941,null,null,{"$f":"IFERROR(WORKDAY(C424,R424,DiasNOLaborables),\"\")","v":43958},{"$f":"+IF(C424=\"\",\"\",IF(I424=\"\",\"\",(IF(I424<=L424,\"A TIEMPO\",\"FUERA DE TIEMPO\"))))","v":"A TIEMPO"},{"$f":"IF(I424=\"\",\"\",NETWORKDAYS([4]Hoja1!C424+1,[4]Hoja1!P424,DiasNOLaborables))","v":6},"",null,null,20]
[414,20200406185152,43927,"WEB (MÓDULO DE SOLICITUD DE INFORMACIÓN HIDROMETEOROLÓGICA)","SOLICITUD DE INFORMACIÓN Y DOCUMENTOS","SOLICITUD DE INFORMACIÓN HIDROMETEOROLÓGICA","NO","GRUPO DE ATENCIÓN AL CIUDADANO",43941,null,null,{"$f":"IFERROR(WORKDAY(C425,R425,DiasNOLaborables),\"\")","v":43958},{"$f":"+IF(C425=\"\",\"\",IF(I425=\"\",\"\",(IF(I425<=L425,\"A TIEMPO\",\"FUERA DE TIEMPO\"))))","v":"A TIEMPO"},{"$f":"IF(I425=\"\",\"\",NETWORKDAYS([4]Hoja1!C425+1,[4]Hoja1!P425,DiasNOLaborables))","v":2},{"$f":"IF(NETWORKDAYS(L425+1,I425,DiasNOLaborables)<=0,\"\",NETWORKDAYS(L425+1,I425,DiasNOLaborables))","v":""},null,null,20]
[415,20200406184457,43927,"WEB (MÓDULO DE SOLICITUD DE INFORMACIÓN HIDROMETEOROLÓGICA)","SOLICITUD DE INFORMACIÓN Y DOCUMENTOS","SOLICITUD DE INFORMACIÓN HIDROMETEOROLÓGICA","NO","GRUPO DE ATENCIÓN AL CIUDADANO",43941,null,null,{"$f":"IFERROR(WORKDAY(C426,R426,DiasNOLaborables),\"\")","v":43958},{"$f":"+IF(C426=\"\",\"\",IF(I426=\"\",\"\",(IF(I426<=L426,\"A TIEMPO\",\"FUERA DE TIEMPO\"))))","v":"A TIEMPO"},{"$f":"IF(I426=\"\",\"\",NETWORKDAYS([4]Hoja1!C426+1,[4]Hoja1!P426,DiasNOLaborables))","v":12},"",null,null,20]
[416,20200406162622,43927,"WEB (MÓDULO DE SOLICITUD DE INFORMACIÓN HIDROMETEOROLÓGICA)","SOLICITUD DE INFORMACIÓN Y DOCUMENTOS","SOLICITUD DE INFORMACIÓN HIDROMETEOROLÓGICA","NO","GRUPO DE ATENCIÓN AL CIUDADANO",43941,null,null,{"$f":"IFERROR(WORKDAY(C427,R427,DiasNOLaborables),\"\")","v":43958},{"$f":"+IF(C427=\"\",\"\",IF(I427=\"\",\"\",(IF(I427<=L427,\"A TIEMPO\",\"FUERA DE TIEMPO\"))))","v":"A TIEMPO"},{"$f":"IF(I427=\"\",\"\",NETWORKDAYS([4]Hoja1!C427+1,[4]Hoja1!P427,DiasNOLaborables))","v":6},"",null,null,20]
[417,20200406101800,43927,"WEB (MÓDULO DE SOLICITUD DE INFORMACIÓN HIDROMETEOROLÓGICA)","SOLICITUD DE INFORMACIÓN Y DOCUMENTOS","SOLICITUD DE INFORMACIÓN HIDROMETEOROLÓGICA","NO","GRUPO DE ATENCIÓN AL CIUDADANO",43941,null,null,{"$f":"IFERROR(WORKDAY(C428,R428,DiasNOLaborables),\"\")","v":43958},{"$f":"+IF(C428=\"\",\"\",IF(I428=\"\",\"\",(IF(I428<=L428,\"A TIEMPO\",\"FUERA DE TIEMPO\"))))","v":"A TIEMPO"},{"$f":"IF(I428=\"\",\"\",NETWORKDAYS([4]Hoja1!C428+1,[4]Hoja1!P428,DiasNOLaborables))","v":5},"",null,null,20]
[418,20200406090215,43927,"WEB (MÓDULO DE SOLICITUD DE INFORMACIÓN HIDROMETEOROLÓGICA)","SOLICITUD DE INFORMACIÓN Y DOCUMENTOS","SOLICITUD DE INFORMACIÓN HIDROMETEOROLÓGICA","NO","GRUPO DE ATENCIÓN AL CIUDADANO",43941,null,null,{"$f":"IFERROR(WORKDAY(C429,R429,DiasNOLaborables),\"\")","v":43958},{"$f":"+IF(C429=\"\",\"\",IF(I429=\"\",\"\",(IF(I429<=L429,\"A TIEMPO\",\"FUERA DE TIEMPO\"))))","v":"A TIEMPO"},{"$f":"IF(I429=\"\",\"\",NETWORKDAYS([4]Hoja1!C429+1,[4]Hoja1!P429,DiasNOLaborables))","v":8},"",null,null,20]
[419,20200406010331,43927,"WEB (MÓDULO DE SOLICITUD DE INFORMACIÓN HIDROMETEOROLÓGICA)","SOLICITUD DE INFORMACIÓN Y DOCUMENTOS","SOLICITUD DE INFORMACIÓN HIDROMETEOROLÓGICA","NO","GRUPO DE ATENCIÓN AL CIUDADANO",43941,null,null,{"$f":"IFERROR(WORKDAY(C430,R430,DiasNOLaborables),\"\")","v":43958},{"$f":"+IF(C430=\"\",\"\",IF(I430=\"\",\"\",(IF(I430<=L430,\"A TIEMPO\",\"FUERA DE TIEMPO\"))))","v":"A TIEMPO"},{"$f":"IF(I430=\"\",\"\",NETWORKDAYS([4]Hoja1!C430+1,[4]Hoja1!P430,DiasNOLaborables))","v":6},"",null,null,20]
[420,20200405193445,43926,"WEB (MÓDULO DE SOLICITUD DE INFORMACIÓN HIDROMETEOROLÓGICA)","SOLICITUD DE INFORMACIÓN Y DOCUMENTOS","SOLICITUD DE INFORMACIÓN HIDROMETEOROLÓGICA","NO","GRUPO DE ATENCIÓN AL CIUDADANO",43941,null,null,{"$f":"IFERROR(WORKDAY(C431,R431,DiasNOLaborables),\"\")","v":43957},{"$f":"+IF(C431=\"\",\"\",IF(I431=\"\",\"\",(IF(I431<=L431,\"A TIEMPO\",\"FUERA DE TIEMPO\"))))","v":"A TIEMPO"},{"$f":"IF(I431=\"\",\"\",NETWORKDAYS([4]Hoja1!C431+1,[4]Hoja1!P431,DiasNOLaborables))","v":8},"",null,null,20]
[421,20200405191106,43926,"WEB (MÓDULO DE SOLICITUD DE INFORMACIÓN HIDROMETEOROLÓGICA)","SOLICITUD DE INFORMACIÓN Y DOCUMENTOS","SOLICITUD DE INFORMACIÓN HIDROMETEOROLÓGICA","NO","GRUPO DE ATENCIÓN AL CIUDADANO",43941,null,null,{"$f":"IFERROR(WORKDAY(C432,R432,DiasNOLaborables),\"\")","v":43957},{"$f":"+IF(C432=\"\",\"\",IF(I432=\"\",\"\",(IF(I432<=L432,\"A TIEMPO\",\"FUERA DE TIEMPO\"))))","v":"A TIEMPO"},{"$f":"IF(I432=\"\",\"\",NETWORKDAYS([4]Hoja1!C432+1,[4]Hoja1!P432,DiasNOLaborables))","v":7},"",null,null,20]
[422,20200405190852,43926,"WEB (MÓDULO DE SOLICITUD DE INFORMACIÓN HIDROMETEOROLÓGICA)","SOLICITUD DE INFORMACIÓN Y DOCUMENTOS","SOLICITUD DE INFORMACIÓN HIDROMETEOROLÓGICA","NO","GRUPO DE ATENCIÓN AL CIUDADANO",43941,null,null,{"$f":"IFERROR(WORKDAY(C433,R433,DiasNOLaborables),\"\")","v":43957},{"$f":"+IF(C433=\"\",\"\",IF(I433=\"\",\"\",(IF(I433<=L433,\"A TIEMPO\",\"FUERA DE TIEMPO\"))))","v":"A TIEMPO"},{"$f":"IF(I433=\"\",\"\",NETWORKDAYS([4]Hoja1!C433+1,[4]Hoja1!P433,DiasNOLaborables))","v":7},"",null,null,20]
[{"$f":"IF(B432<>\"\",A433+1,\"\")","v":423},20200405190531,43926,"WEB (MÓDULO DE SOLICITUD DE INFORMACIÓN HIDROMETEOROLÓGICA)","SOLICITUD DE INFORMACIÓN Y DOCUMENTOS","SOLICITUD DE INFORMACIÓN HIDROMETEOROLÓGICA","NO","GRUPO DE ATENCIÓN AL CIUDADANO",43941,null,null,{"$f":"IFERROR(WORKDAY(C434,R434,DiasNOLaborables),\"\")","v":43957},{"$f":"+IF(C434=\"\",\"\",IF(I434=\"\",\"\",(IF(I434<=L434,\"A TIEMPO\",\"FUERA DE TIEMPO\"))))","v":"A TIEMPO"},{"$f":"IF(I434=\"\",\"\",NETWORKDAYS([4]Hoja1!C434+1,[4]Hoja1!P434,DiasNOLaborables))","v":7},"",null,null,20]
[424,20200405185436,43926,"WEB (MÓDULO DE SOLICITUD DE INFORMACIÓN HIDROMETEOROLÓGICA)","SOLICITUD DE INFORMACIÓN Y DOCUMENTOS","SOLICITUD DE INFORMACIÓN HIDROMETEOROLÓGICA","NO","GRUPO DE ATENCIÓN AL CIUDADANO",43941,null,null,{"$f":"IFERROR(WORKDAY(C435,R435,DiasNOLaborables),\"\")","v":43957},{"$f":"+IF(C435=\"\",\"\",IF(I435=\"\",\"\",(IF(I435<=L435,\"A TIEMPO\",\"FUERA DE TIEMPO\"))))","v":"A TIEMPO"},{"$f":"IF(I435=\"\",\"\",NETWORKDAYS([4]Hoja1!C435+1,[4]Hoja1!P435,DiasNOLaborables))","v":7},"",null,null,20]
[425,20200405183632,43926,"WEB (MÓDULO DE SOLICITUD DE INFORMACIÓN HIDROMETEOROLÓGICA)","SOLICITUD DE INFORMACIÓN Y DOCUMENTOS","SOLICITUD DE INFORMACIÓN HIDROMETEOROLÓGICA","NO","GRUPO DE ATENCIÓN AL CIUDADANO",43941,null,null,{"$f":"IFERROR(WORKDAY(C436,R436,DiasNOLaborables),\"\")","v":43957},{"$f":"+IF(C436=\"\",\"\",IF(I436=\"\",\"\",(IF(I436<=L436,\"A TIEMPO\",\"FUERA DE TIEMPO\"))))","v":"A TIEMPO"},{"$f":"IF(I436=\"\",\"\",NETWORKDAYS([4]Hoja1!C436+1,[4]Hoja1!P436,DiasNOLaborables))","v":7},"",null,null,20]
[426,20200405183431,43926,"WEB (MÓDULO DE SOLICITUD DE INFORMACIÓN HIDROMETEOROLÓGICA)","SOLICITUD DE INFORMACIÓN Y DOCUMENTOS","SOLICITUD DE INFORMACIÓN HIDROMETEOROLÓGICA","NO","GRUPO DE ATENCIÓN AL CIUDADANO",43941,null,null,{"$f":"IFERROR(WORKDAY(C437,R437,DiasNOLaborables),\"\")","v":43957},{"$f":"+IF(C437=\"\",\"\",IF(I437=\"\",\"\",(IF(I437<=L437,\"A TIEMPO\",\"FUERA DE TIEMPO\"))))","v":"A TIEMPO"},{"$f":"IF(I437=\"\",\"\",NETWORKDAYS([4]Hoja1!C437+1,[4]Hoja1!P437,DiasNOLaborables))","v":7},"",null,null,20]
[427,20200405183021,43926,"WEB (MÓDULO DE SOLICITUD DE INFORMACIÓN HIDROMETEOROLÓGICA)","SOLICITUD DE INFORMACIÓN Y DOCUMENTOS","SOLICITUD DE INFORMACIÓN HIDROMETEOROLÓGICA","NO","GRUPO DE ATENCIÓN AL CIUDADANO",43941,null,null,{"$f":"IFERROR(WORKDAY(C438,R438,DiasNOLaborables),\"\")","v":43957},{"$f":"+IF(C438=\"\",\"\",IF(I438=\"\",\"\",(IF(I438<=L438,\"A TIEMPO\",\"FUERA DE TIEMPO\"))))","v":"A TIEMPO"},{"$f":"IF(I438=\"\",\"\",NETWORKDAYS([4]Hoja1!C438+1,[4]Hoja1!P438,DiasNOLaborables))","v":7},"",null,null,20]
[428,20200405173448,43926,"WEB (MÓDULO DE SOLICITUD DE INFORMACIÓN HIDROMETEOROLÓGICA)","SOLICITUD DE INFORMACIÓN Y DOCUMENTOS","SOLICITUD DE INFORMACIÓN HIDROMETEOROLÓGICA","NO","GRUPO DE ATENCIÓN AL CIUDADANO",43941,null,null,{"$f":"IFERROR(WORKDAY(C439,R439,DiasNOLaborables),\"\")","v":43957},{"$f":"+IF(C439=\"\",\"\",IF(I439=\"\",\"\",(IF(I439<=L439,\"A TIEMPO\",\"FUERA DE TIEMPO\"))))","v":"A TIEMPO"},{"$f":"IF(I439=\"\",\"\",NETWORKDAYS([4]Hoja1!C439+1,[4]Hoja1!P439,DiasNOLaborables))","v":7},"",null,null,20]
[429,20200405172747,43926,"WEB (MÓDULO DE SOLICITUD DE INFORMACIÓN HIDROMETEOROLÓGICA)","SOLICITUD DE INFORMACIÓN Y DOCUMENTOS","SOLICITUD DE INFORMACIÓN HIDROMETEOROLÓGICA","NO","GRUPO DE ATENCIÓN AL CIUDADANO",43941,null,null,{"$f":"IFERROR(WORKDAY(C440,R440,DiasNOLaborables),\"\")","v":43957},{"$f":"+IF(C440=\"\",\"\",IF(I440=\"\",\"\",(IF(I440<=L440,\"A TIEMPO\",\"FUERA DE TIEMPO\"))))","v":"A TIEMPO"},{"$f":"IF(I440=\"\",\"\",NETWORKDAYS([4]Hoja1!C440+1,[4]Hoja1!P440,DiasNOLaborables))","v":7},"",null,null,20]
[430,20200405171208,43926,"WEB (MÓDULO DE SOLICITUD DE INFORMACIÓN HIDROMETEOROLÓGICA)","SOLICITUD DE INFORMACIÓN Y DOCUMENTOS","SOLICITUD DE INFORMACIÓN HIDROMETEOROLÓGICA","NO","GRUPO DE ATENCIÓN AL CIUDADANO",43941,null,null,{"$f":"IFERROR(WORKDAY(C441,R441,DiasNOLaborables),\"\")","v":43957},{"$f":"+IF(C441=\"\",\"\",IF(I441=\"\",\"\",(IF(I441<=L441,\"A TIEMPO\",\"FUERA DE TIEMPO\"))))","v":"A TIEMPO"},{"$f":"IF(I441=\"\",\"\",NETWORKDAYS([4]Hoja1!C441+1,[4]Hoja1!P441,DiasNOLaborables))","v":7},"",null,null,20]
[431,20200405152444,43926,"WEB (MÓDULO DE SOLICITUD DE INFORMACIÓN HIDROMETEOROLÓGICA)","SOLICITUD DE INFORMACIÓN Y DOCUMENTOS","SOLICITUD DE INFORMACIÓN HIDROMETEOROLÓGICA","NO","GRUPO DE ATENCIÓN AL CIUDADANO",43941,null,null,{"$f":"IFERROR(WORKDAY(C442,R442,DiasNOLaborables),\"\")","v":43957},{"$f":"+IF(C442=\"\",\"\",IF(I442=\"\",\"\",(IF(I442<=L442,\"A TIEMPO\",\"FUERA DE TIEMPO\"))))","v":"A TIEMPO"},{"$f":"IF(I442=\"\",\"\",NETWORKDAYS([4]Hoja1!C442+1,[4]Hoja1!P442,DiasNOLaborables))","v":7},"",null,null,20]
[432,20200405122221,43926,"WEB (MÓDULO DE SOLICITUD DE INFORMACIÓN HIDROMETEOROLÓGICA)","SOLICITUD DE INFORMACIÓN Y DOCUMENTOS","SOLICITUD DE INFORMACIÓN HIDROMETEOROLÓGICA","NO","GRUPO DE ATENCIÓN AL CIUDADANO",43941,null,null,{"$f":"IFERROR(WORKDAY(C443,R443,DiasNOLaborables),\"\")","v":43957},{"$f":"+IF(C443=\"\",\"\",IF(I443=\"\",\"\",(IF(I443<=L443,\"A TIEMPO\",\"FUERA DE TIEMPO\"))))","v":"A TIEMPO"},{"$f":"IF(I443=\"\",\"\",NETWORKDAYS([4]Hoja1!C443+1,[4]Hoja1!P443,DiasNOLaborables))","v":7},"",null,null,20]
[433,20200405121452,43926,"WEB (MÓDULO DE SOLICITUD DE INFORMACIÓN HIDROMETEOROLÓGICA)","SOLICITUD DE INFORMACIÓN Y DOCUMENTOS","SOLICITUD DE INFORMACIÓN HIDROMETEOROLÓGICA","NO","GRUPO DE ATENCIÓN AL CIUDADANO",43941,null,null,{"$f":"IFERROR(WORKDAY(C444,R444,DiasNOLaborables),\"\")","v":43957},{"$f":"+IF(C444=\"\",\"\",IF(I444=\"\",\"\",(IF(I444<=L444,\"A TIEMPO\",\"FUERA DE TIEMPO\"))))","v":"A TIEMPO"},{"$f":"IF(I444=\"\",\"\",NETWORKDAYS([4]Hoja1!C444+1,[4]Hoja1!P444,DiasNOLaborables))","v":7},"",null,null,20]
[434,20200405120744,43926,"WEB (MÓDULO DE SOLICITUD DE INFORMACIÓN HIDROMETEOROLÓGICA)","SOLICITUD DE INFORMACIÓN Y DOCUMENTOS","SOLICITUD DE INFORMACIÓN HIDROMETEOROLÓGICA","NO","GRUPO DE ATENCIÓN AL CIUDADANO",43941,null,null,{"$f":"IFERROR(WORKDAY(C445,R445,DiasNOLaborables),\"\")","v":43957},{"$f":"+IF(C445=\"\",\"\",IF(I445=\"\",\"\",(IF(I445<=L445,\"A TIEMPO\",\"FUERA DE TIEMPO\"))))","v":"A TIEMPO"},{"$f":"IF(I445=\"\",\"\",NETWORKDAYS([4]Hoja1!C445+1,[4]Hoja1!P445,DiasNOLaborables))","v":7},"",null,null,20]
[435,20200405100402,43926,"WEB (MÓDULO DE SOLICITUD DE INFORMACIÓN HIDROMETEOROLÓGICA)","SOLICITUD DE INFORMACIÓN Y DOCUMENTOS","SOLICITUD DE INFORMACIÓN HIDROMETEOROLÓGICA","NO","GRUPO DE ATENCIÓN AL CIUDADANO",43941,null,null,{"$f":"IFERROR(WORKDAY(C446,R446,DiasNOLaborables),\"\")","v":43957},{"$f":"+IF(C446=\"\",\"\",IF(I446=\"\",\"\",(IF(I446<=L446,\"A TIEMPO\",\"FUERA DE TIEMPO\"))))","v":"A TIEMPO"},{"$f":"IF(I446=\"\",\"\",NETWORKDAYS([4]Hoja1!C446+1,[4]Hoja1!P446,DiasNOLaborables))","v":7},"",null,null,20]
[436,20200405095646,43926,"WEB (MÓDULO DE SOLICITUD DE INFORMACIÓN HIDROMETEOROLÓGICA)","SOLICITUD DE INFORMACIÓN Y DOCUMENTOS","SOLICITUD DE INFORMACIÓN HIDROMETEOROLÓGICA","NO","GRUPO DE ATENCIÓN AL CIUDADANO",43941,null,null,{"$f":"IFERROR(WORKDAY(C447,R447,DiasNOLaborables),\"\")","v":43957},{"$f":"+IF(C447=\"\",\"\",IF(I447=\"\",\"\",(IF(I447<=L447,\"A TIEMPO\",\"FUERA DE TIEMPO\"))))","v":"A TIEMPO"},{"$f":"IF(I447=\"\",\"\",NETWORKDAYS([4]Hoja1!C447+1,[4]Hoja1!P447,DiasNOLaborables))","v":1},"",null,null,20]
[437,20200405094551,43926,"WEB (MÓDULO DE SOLICITUD DE INFORMACIÓN HIDROMETEOROLÓGICA)","SOLICITUD DE INFORMACIÓN Y DOCUMENTOS","SOLICITUD DE INFORMACIÓN HIDROMETEOROLÓGICA","NO","GRUPO DE ATENCIÓN AL CIUDADANO",43941,null,null,{"$f":"IFERROR(WORKDAY(C448,R448,DiasNOLaborables),\"\")","v":43957},{"$f":"+IF(C448=\"\",\"\",IF(I448=\"\",\"\",(IF(I448<=L448,\"A TIEMPO\",\"FUERA DE TIEMPO\"))))","v":"A TIEMPO"},{"$f":"IF(I448=\"\",\"\",NETWORKDAYS([4]Hoja1!C448+1,[4]Hoja1!P448,DiasNOLaborables))","v":1},"",null,null,20]
[438,20200405092945,43926,"WEB (MÓDULO DE SOLICITUD DE INFORMACIÓN HIDROMETEOROLÓGICA)","SOLICITUD DE INFORMACIÓN Y DOCUMENTOS","SOLICITUD DE INFORMACIÓN HIDROMETEOROLÓGICA","NO","GRUPO DE ATENCIÓN AL CIUDADANO",43941,null,null,{"$f":"IFERROR(WORKDAY(C449,R449,DiasNOLaborables),\"\")","v":43957},{"$f":"+IF(C449=\"\",\"\",IF(I449=\"\",\"\",(IF(I449<=L449,\"A TIEMPO\",\"FUERA DE TIEMPO\"))))","v":"A TIEMPO"},{"$f":"IF(I449=\"\",\"\",NETWORKDAYS([4]Hoja1!C449+1,[4]Hoja1!P449,DiasNOLaborables))","v":7},"",null,null,20]
[439,20209050030072,43928,"WEB (MÓDULO DE SOLICITUD DE INFORMACIÓN HIDROMETEOROLÓGICA)","SOLICITUD DE INFORMACIÓN Y DOCUMENTOS","SOLICITUD DE INFORMACIÓN HIDROMETEOROLÓGICA","NO","GRUPO DE ATENCIÓN AL CIUDADANO",43942,null,null,{"$f":"IFERROR(WORKDAY(C450,R450,DiasNOLaborables),\"\")","v":43959},{"$f":"+IF(C450=\"\",\"\",IF(I450=\"\",\"\",(IF(I450<=L450,\"A TIEMPO\",\"FUERA DE TIEMPO\"))))","v":"A TIEMPO"},{"$f":"IF(I450=\"\",\"\",NETWORKDAYS([4]Hoja1!C450+1,[4]Hoja1!P450,DiasNOLaborables))","v":6},"",null,null,20]
[440,20209050030082,43928,"WEB (MÓDULO DE SOLICITUD DE INFORMACIÓN HIDROMETEOROLÓGICA)","SOLICITUD DE INFORMACIÓN Y DOCUMENTOS","SOLICITUD DE INFORMACIÓN HIDROMETEOROLÓGICA","NO","GRUPO DE ATENCIÓN AL CIUDADANO",43942,null,null,{"$f":"IFERROR(WORKDAY(C451,R451,DiasNOLaborables),\"\")","v":43959},{"$f":"+IF(C451=\"\",\"\",IF(I451=\"\",\"\",(IF(I451<=L451,\"A TIEMPO\",\"FUERA DE TIEMPO\"))))","v":"A TIEMPO"},{"$f":"IF(I451=\"\",\"\",NETWORKDAYS([4]Hoja1!C451+1,[4]Hoja1!P451,DiasNOLaborables))","v":1},"",null,null,20]
[441,20200407194254,43928,"WEB (MÓDULO DE SOLICITUD DE INFORMACIÓN HIDROMETEOROLÓGICA)","SOLICITUD DE INFORMACIÓN Y DOCUMENTOS","SOLICITUD DE INFORMACIÓN HIDROMETEOROLÓGICA","NO","GRUPO DE ATENCIÓN AL CIUDADANO",43942,null,null,{"$f":"IFERROR(WORKDAY(C452,R452,DiasNOLaborables),\"\")","v":43959},{"$f":"+IF(C452=\"\",\"\",IF(I452=\"\",\"\",(IF(I452<=L452,\"A TIEMPO\",\"FUERA DE TIEMPO\"))))","v":"A TIEMPO"},{"$f":"IF(I452=\"\",\"\",NETWORKDAYS([4]Hoja1!C452+1,[4]Hoja1!P452,DiasNOLaborables))","v":1},"",null,null,20]
[442,20200407194005,43928,"WEB (MÓDULO DE SOLICITUD DE INFORMACIÓN HIDROMETEOROLÓGICA)","SOLICITUD DE INFORMACIÓN Y DOCUMENTOS","SOLICITUD DE INFORMACIÓN HIDROMETEOROLÓGICA","NO","GRUPO DE ATENCIÓN AL CIUDADANO",43942,null,null,{"$f":"IFERROR(WORKDAY(C453,R453,DiasNOLaborables),\"\")","v":43959},{"$f":"+IF(C453=\"\",\"\",IF(I453=\"\",\"\",(IF(I453<=L453,\"A TIEMPO\",\"FUERA DE TIEMPO\"))))","v":"A TIEMPO"},{"$f":"IF(I453=\"\",\"\",NETWORKDAYS([4]Hoja1!C453+1,[4]Hoja1!P453,DiasNOLaborables))","v":13},"",null,null,20]
[443,20200407193748,43928,"WEB (MÓDULO DE SOLICITUD DE INFORMACIÓN HIDROMETEOROLÓGICA)","SOLICITUD DE INFORMACIÓN Y DOCUMENTOS","SOLICITUD DE INFORMACIÓN HIDROMETEOROLÓGICA","NO","GRUPO DE ATENCIÓN AL CIUDADANO",43942,null,null,{"$f":"IFERROR(WORKDAY(C454,R454,DiasNOLaborables),\"\")","v":43959},{"$f":"+IF(C454=\"\",\"\",IF(I454=\"\",\"\",(IF(I454<=L454,\"A TIEMPO\",\"FUERA DE TIEMPO\"))))","v":"A TIEMPO"},{"$f":"IF(I454=\"\",\"\",NETWORKDAYS([4]Hoja1!C454+1,[4]Hoja1!P454,DiasNOLaborables))","v":13},"",null,null,20]
[444,20200407193431,43928,"WEB (MÓDULO DE SOLICITUD DE INFORMACIÓN HIDROMETEOROLÓGICA)","SOLICITUD DE INFORMACIÓN Y DOCUMENTOS","SOLICITUD DE INFORMACIÓN HIDROMETEOROLÓGICA","NO","GRUPO DE ATENCIÓN AL CIUDADANO",43942,null,null,{"$f":"IFERROR(WORKDAY(C455,R455,DiasNOLaborables),\"\")","v":43959},{"$f":"+IF(C455=\"\",\"\",IF(I455=\"\",\"\",(IF(I455<=L455,\"A TIEMPO\",\"FUERA DE TIEMPO\"))))","v":"A TIEMPO"},{"$f":"IF(I455=\"\",\"\",NETWORKDAYS([4]Hoja1!C455+1,[4]Hoja1!P455,DiasNOLaborables))","v":1},"",null,null,20]
[445,20200407193020,43928,"WEB (MÓDULO DE SOLICITUD DE INFORMACIÓN HIDROMETEOROLÓGICA)","SOLICITUD DE INFORMACIÓN Y DOCUMENTOS","SOLICITUD DE INFORMACIÓN HIDROMETEOROLÓGICA","NO","GRUPO DE ATENCIÓN AL CIUDADANO",43942,null,null,{"$f":"IFERROR(WORKDAY(C456,R456,DiasNOLaborables),\"\")","v":43959},{"$f":"+IF(C456=\"\",\"\",IF(I456=\"\",\"\",(IF(I456<=L456,\"A TIEMPO\",\"FUERA DE TIEMPO\"))))","v":"A TIEMPO"},{"$f":"IF(I456=\"\",\"\",NETWORKDAYS([4]Hoja1!C456+1,[4]Hoja1!P456,DiasNOLaborables))","v":1},"",null,null,20]
[446,20200407192600,43928,"WEB (MÓDULO DE SOLICITUD DE INFORMACIÓN HIDROMETEOROLÓGICA)","SOLICITUD DE INFORMACIÓN Y DOCUMENTOS","SOLICITUD DE INFORMACIÓN HIDROMETEOROLÓGICA","NO","GRUPO DE ATENCIÓN AL CIUDADANO",43942,null,null,{"$f":"IFERROR(WORKDAY(C457,R457,DiasNOLaborables),\"\")","v":43959},{"$f":"+IF(C457=\"\",\"\",IF(I457=\"\",\"\",(IF(I457<=L457,\"A TIEMPO\",\"FUERA DE TIEMPO\"))))","v":"A TIEMPO"},{"$f":"IF(I457=\"\",\"\",NETWORKDAYS([4]Hoja1!C457+1,[4]Hoja1!P457,DiasNOLaborables))","v":1},"",null,null,20]
[447,20200407192237,43928,"WEB (MÓDULO DE SOLICITUD DE INFORMACIÓN HIDROMETEOROLÓGICA)","SOLICITUD DE INFORMACIÓN Y DOCUMENTOS","SOLICITUD DE INFORMACIÓN HIDROMETEOROLÓGICA","NO","GRUPO DE ATENCIÓN AL CIUDADANO",43942,null,null,{"$f":"IFERROR(WORKDAY(C458,R458,DiasNOLaborables),\"\")","v":43959},{"$f":"+IF(C458=\"\",\"\",IF(I458=\"\",\"\",(IF(I458<=L458,\"A TIEMPO\",\"FUERA DE TIEMPO\"))))","v":"A TIEMPO"},{"$f":"IF(I458=\"\",\"\",NETWORKDAYS([4]Hoja1!C458+1,[4]Hoja1!P458,DiasNOLaborables))","v":1},"",null,null,20]
[448,20200407191943,43928,"WEB (MÓDULO DE SOLICITUD DE INFORMACIÓN HIDROMETEOROLÓGICA)","SOLICITUD DE INFORMACIÓN Y DOCUMENTOS","SOLICITUD DE INFORMACIÓN HIDROMETEOROLÓGICA","NO","GRUPO DE ATENCIÓN AL CIUDADANO",43942,null,null,{"$f":"IFERROR(WORKDAY(C459,R459,DiasNOLaborables),\"\")","v":43959},{"$f":"+IF(C459=\"\",\"\",IF(I459=\"\",\"\",(IF(I459<=L459,\"A TIEMPO\",\"FUERA DE TIEMPO\"))))","v":"A TIEMPO"},{"$f":"IF(I459=\"\",\"\",NETWORKDAYS([4]Hoja1!C459+1,[4]Hoja1!P459,DiasNOLaborables))","v":1},"",null,null,20]
[449,20200407190915,43928,"WEB (MÓDULO DE SOLICITUD DE INFORMACIÓN HIDROMETEOROLÓGICA)","SOLICITUD DE INFORMACIÓN Y DOCUMENTOS","SOLICITUD DE INFORMACIÓN HIDROMETEOROLÓGICA","NO","GRUPO DE ATENCIÓN AL CIUDADANO",43942,null,null,{"$f":"IFERROR(WORKDAY(C460,R460,DiasNOLaborables),\"\")","v":43959},{"$f":"+IF(C460=\"\",\"\",IF(I460=\"\",\"\",(IF(I460<=L460,\"A TIEMPO\",\"FUERA DE TIEMPO\"))))","v":"A TIEMPO"},{"$f":"IF(I460=\"\",\"\",NETWORKDAYS([4]Hoja1!C460+1,[4]Hoja1!P460,DiasNOLaborables))","v":1},"",null,null,20]
[450,20200407190215,43928,"WEB (MÓDULO DE SOLICITUD DE INFORMACIÓN HIDROMETEOROLÓGICA)","SOLICITUD DE INFORMACIÓN Y DOCUMENTOS","SOLICITUD DE INFORMACIÓN HIDROMETEOROLÓGICA","NO","GRUPO DE ATENCIÓN AL CIUDADANO",43942,null,null,{"$f":"IFERROR(WORKDAY(C461,R461,DiasNOLaborables),\"\")","v":43959},{"$f":"+IF(C461=\"\",\"\",IF(I461=\"\",\"\",(IF(I461<=L461,\"A TIEMPO\",\"FUERA DE TIEMPO\"))))","v":"A TIEMPO"},{"$f":"IF(I461=\"\",\"\",NETWORKDAYS([4]Hoja1!C461+1,[4]Hoja1!P461,DiasNOLaborables))","v":1},"",null,null,20]
[451,20200407174019,43928,"WEB (MÓDULO DE SOLICITUD DE INFORMACIÓN HIDROMETEOROLÓGICA)","SOLICITUD DE INFORMACIÓN Y DOCUMENTOS","SOLICITUD DE INFORMACIÓN HIDROMETEOROLÓGICA","NO","GRUPO DE ATENCIÓN AL CIUDADANO",43942,null,null,{"$f":"IFERROR(WORKDAY(C462,R462,DiasNOLaborables),\"\")","v":43959},{"$f":"+IF(C462=\"\",\"\",IF(I462=\"\",\"\",(IF(I462<=L462,\"A TIEMPO\",\"FUERA DE TIEMPO\"))))","v":"A TIEMPO"},{"$f":"IF(I462=\"\",\"\",NETWORKDAYS([4]Hoja1!C462+1,[4]Hoja1!P462,DiasNOLaborables))","v":4},"",null,null,20]
[452,20200407173227,43928,"WEB (MÓDULO DE SOLICITUD DE INFORMACIÓN HIDROMETEOROLÓGICA)","SOLICITUD DE INFORMACIÓN Y DOCUMENTOS","SOLICITUD DE INFORMACIÓN HIDROMETEOROLÓGICA","NO","GRUPO DE ATENCIÓN AL CIUDADANO",43942,null,null,{"$f":"IFERROR(WORKDAY(C463,R463,DiasNOLaborables),\"\")","v":43959},{"$f":"+IF(C463=\"\",\"\",IF(I463=\"\",\"\",(IF(I463<=L463,\"A TIEMPO\",\"FUERA DE TIEMPO\"))))","v":"A TIEMPO"},{"$f":"IF(I463=\"\",\"\",NETWORKDAYS([4]Hoja1!C463+1,[4]Hoja1!P463,DiasNOLaborables))","v":4},"",null,null,{"$f":"IFERROR(VLOOKUP(E463,$Z$50:$AA$63,2),\"\")","v":20}]
[453,20200407172749,43928,"WEB (MÓDULO DE SOLICITUD DE INFORMACIÓN HIDROMETEOROLÓGICA)","SOLICITUD DE INFORMACIÓN Y DOCUMENTOS","SOLICITUD DE INFORMACIÓN HIDROMETEOROLÓGICA","NO","GRUPO DE ATENCIÓN AL CIUDADANO",43942,null,null,{"$f":"IFERROR(WORKDAY(C464,R464,DiasNOLaborables),\"\")","v":43959},{"$f":"+IF(C464=\"\",\"\",IF(I464=\"\",\"\",(IF(I464<=L464,\"A TIEMPO\",\"FUERA DE TIEMPO\"))))","v":"A TIEMPO"},{"$f":"IF(I464=\"\",\"\",NETWORKDAYS([4]Hoja1!C464+1,[4]Hoja1!P464,DiasNOLaborables))","v":4},"",null,null,20]
[454,20200407172049,43928,"WEB (MÓDULO DE SOLICITUD DE INFORMACIÓN HIDROMETEOROLÓGICA)","SOLICITUD DE INFORMACIÓN Y DOCUMENTOS","SOLICITUD DE INFORMACIÓN HIDROMETEOROLÓGICA","NO","GRUPO DE ATENCIÓN AL CIUDADANO",43942,null,null,{"$f":"IFERROR(WORKDAY(C465,R465,DiasNOLaborables),\"\")","v":43959},{"$f":"+IF(C465=\"\",\"\",IF(I465=\"\",\"\",(IF(I465<=L465,\"A TIEMPO\",\"FUERA DE TIEMPO\"))))","v":"A TIEMPO"},{"$f":"IF(I465=\"\",\"\",NETWORKDAYS([4]Hoja1!C465+1,[4]Hoja1!P465,DiasNOLaborables))","v":6},"",null,null,20]
[455,20200407171305,43928,"WEB (MÓDULO DE SOLICITUD DE INFORMACIÓN HIDROMETEOROLÓGICA)","SOLICITUD DE INFORMACIÓN Y DOCUMENTOS","SOLICITUD DE INFORMACIÓN HIDROMETEOROLÓGICA","NO","GRUPO DE ATENCIÓN AL CIUDADANO",43942,null,null,{"$f":"IFERROR(WORKDAY(C466,R466,DiasNOLaborables),\"\")","v":43959},{"$f":"+IF(C466=\"\",\"\",IF(I466=\"\",\"\",(IF(I466<=L466,\"A TIEMPO\",\"FUERA DE TIEMPO\"))))","v":"A TIEMPO"},{"$f":"IF(I466=\"\",\"\",NETWORKDAYS([4]Hoja1!C466+1,[4]Hoja1!P466,DiasNOLaborables))","v":4},"",null,null,20]
[456,20200407170828,43928,"WEB (MÓDULO DE SOLICITUD DE INFORMACIÓN HIDROMETEOROLÓGICA)","SOLICITUD DE INFORMACIÓN Y DOCUMENTOS","SOLICITUD DE INFORMACIÓN HIDROMETEOROLÓGICA","NO","GRUPO DE ATENCIÓN AL CIUDADANO",43942,null,null,{"$f":"IFERROR(WORKDAY(C467,R467,DiasNOLaborables),\"\")","v":43959},{"$f":"+IF(C467=\"\",\"\",IF(I467=\"\",\"\",(IF(I467<=L467,\"A TIEMPO\",\"FUERA DE TIEMPO\"))))","v":"A TIEMPO"},{"$f":"IF(I467=\"\",\"\",NETWORKDAYS([4]Hoja1!C467+1,[4]Hoja1!P467,DiasNOLaborables))","v":4},"",null,null,20]
[457,20200407170006,43928,"WEB (MÓDULO DE SOLICITUD DE INFORMACIÓN HIDROMETEOROLÓGICA)","SOLICITUD DE INFORMACIÓN Y DOCUMENTOS","SOLICITUD DE INFORMACIÓN HIDROMETEOROLÓGICA","NO","GRUPO DE ATENCIÓN AL CIUDADANO",43942,null,null,{"$f":"IFERROR(WORKDAY(C468,R468,DiasNOLaborables),\"\")","v":43959},{"$f":"+IF(C468=\"\",\"\",IF(I468=\"\",\"\",(IF(I468<=L468,\"A TIEMPO\",\"FUERA DE TIEMPO\"))))","v":"A TIEMPO"},{"$f":"IF(I468=\"\",\"\",NETWORKDAYS([4]Hoja1!C468+1,[4]Hoja1!P468,DiasNOLaborables))","v":6},"",null,null,20]
[458,20200407165440,43928,"WEB (MÓDULO DE SOLICITUD DE INFORMACIÓN HIDROMETEOROLÓGICA)","SOLICITUD DE INFORMACIÓN Y DOCUMENTOS","SOLICITUD DE INFORMACIÓN HIDROMETEOROLÓGICA","NO","GRUPO DE ATENCIÓN AL CIUDADANO",43942,null,null,{"$f":"IFERROR(WORKDAY(C469,R469,DiasNOLaborables),\"\")","v":43959},{"$f":"+IF(C469=\"\",\"\",IF(I469=\"\",\"\",(IF(I469<=L469,\"A TIEMPO\",\"FUERA DE TIEMPO\"))))","v":"A TIEMPO"},{"$f":"IF(I469=\"\",\"\",NETWORKDAYS([4]Hoja1!C469+1,[4]Hoja1!P469,DiasNOLaborables))","v":5},"",null,null,20]
[459,20200407164952,43928,"WEB (MÓDULO DE SOLICITUD DE INFORMACIÓN HIDROMETEOROLÓGICA)","SOLICITUD DE INFORMACIÓN Y DOCUMENTOS","SOLICITUD DE INFORMACIÓN HIDROMETEOROLÓGICA","NO","GRUPO DE ATENCIÓN AL CIUDADANO",43942,null,null,{"$f":"IFERROR(WORKDAY(C470,R470,DiasNOLaborables),\"\")","v":43959},{"$f":"+IF(C470=\"\",\"\",IF(I470=\"\",\"\",(IF(I470<=L470,\"A TIEMPO\",\"FUERA DE TIEMPO\"))))","v":"A TIEMPO"},{"$f":"IF(I470=\"\",\"\",NETWORKDAYS([4]Hoja1!C470+1,[4]Hoja1!P470,DiasNOLaborables))","v":5},"",null,null,20]
[460,20200407152715,43928,"WEB (MÓDULO DE SOLICITUD DE INFORMACIÓN HIDROMETEOROLÓGICA)","SOLICITUD DE INFORMACIÓN Y DOCUMENTOS","SOLICITUD DE INFORMACIÓN HIDROMETEOROLÓGICA","NO","GRUPO DE ATENCIÓN AL CIUDADANO",43942,null,null,{"$f":"IFERROR(WORKDAY(C471,R471,DiasNOLaborables),\"\")","v":43959},{"$f":"+IF(C471=\"\",\"\",IF(I471=\"\",\"\",(IF(I471<=L471,\"A TIEMPO\",\"FUERA DE TIEMPO\"))))","v":"A TIEMPO"},{"$f":"IF(I471=\"\",\"\",NETWORKDAYS([4]Hoja1!C471+1,[4]Hoja1!P471,DiasNOLaborables))","v":6},"",null,null,20]
[461,20200407152121,43928,"WEB (MÓDULO DE SOLICITUD DE INFORMACIÓN HIDROMETEOROLÓGICA)","SOLICITUD DE INFORMACIÓN Y DOCUMENTOS","SOLICITUD DE INFORMACIÓN HIDROMETEOROLÓGICA","NO","GRUPO DE ATENCIÓN AL CIUDADANO",43942,null,null,{"$f":"IFERROR(WORKDAY(C472,R472,DiasNOLaborables),\"\")","v":43959},{"$f":"+IF(C472=\"\",\"\",IF(I472=\"\",\"\",(IF(I472<=L472,\"A TIEMPO\",\"FUERA DE TIEMPO\"))))","v":"A TIEMPO"},{"$f":"IF(I472=\"\",\"\",NETWORKDAYS([4]Hoja1!C472+1,[4]Hoja1!P472,DiasNOLaborables))","v":6},"",null,null,20]
[462,20200407151736,43928,"WEB (MÓDULO DE SOLICITUD DE INFORMACIÓN HIDROMETEOROLÓGICA)","SOLICITUD DE INFORMACIÓN Y DOCUMENTOS","SOLICITUD DE INFORMACIÓN HIDROMETEOROLÓGICA","NO","GRUPO DE ATENCIÓN AL CIUDADANO",43942,null,null,{"$f":"IFERROR(WORKDAY(C473,R473,DiasNOLaborables),\"\")","v":43959},{"$f":"+IF(C473=\"\",\"\",IF(I473=\"\",\"\",(IF(I473<=L473,\"A TIEMPO\",\"FUERA DE TIEMPO\"))))","v":"A TIEMPO"},{"$f":"IF(I473=\"\",\"\",NETWORKDAYS([4]Hoja1!C473+1,[4]Hoja1!P473,DiasNOLaborables))","v":7},"",null,null,20]
[463,20200407151454,43928,"WEB (MÓDULO DE SOLICITUD DE INFORMACIÓN HIDROMETEOROLÓGICA)","SOLICITUD DE INFORMACIÓN Y DOCUMENTOS","SOLICITUD DE INFORMACIÓN HIDROMETEOROLÓGICA","NO","GRUPO DE ATENCIÓN AL CIUDADANO",43942,null,null,{"$f":"IFERROR(WORKDAY(C474,R474,DiasNOLaborables),\"\")","v":43959},{"$f":"+IF(C474=\"\",\"\",IF(I474=\"\",\"\",(IF(I474<=L474,\"A TIEMPO\",\"FUERA DE TIEMPO\"))))","v":"A TIEMPO"},{"$f":"IF(I474=\"\",\"\",NETWORKDAYS([4]Hoja1!C474+1,[4]Hoja1!P474,DiasNOLaborables))","v":7},"",null,null,20]
[464,20200407134417,43928,"WEB (MÓDULO DE SOLICITUD DE INFORMACIÓN HIDROMETEOROLÓGICA)","SOLICITUD DE INFORMACIÓN Y DOCUMENTOS","SOLICITUD DE INFORMACIÓN HIDROMETEOROLÓGICA","NO","GRUPO DE ATENCIÓN AL CIUDADANO",43942,null,null,{"$f":"IFERROR(WORKDAY(C475,R475,DiasNOLaborables),\"\")","v":43959},{"$f":"+IF(C475=\"\",\"\",IF(I475=\"\",\"\",(IF(I475<=L475,\"A TIEMPO\",\"FUERA DE TIEMPO\"))))","v":"A TIEMPO"},{"$f":"IF(I475=\"\",\"\",NETWORKDAYS([4]Hoja1!C475+1,[4]Hoja1!P475,DiasNOLaborables))","v":7},{"$f":"IF(NETWORKDAYS(L475+1,I475,DiasNOLaborables)<=0,\"\",NETWORKDAYS(L475+1,I475,DiasNOLaborables))","v":""},null,null,20]
[465,20200407105625,43928,"WEB (MÓDULO DE SOLICITUD DE INFORMACIÓN HIDROMETEOROLÓGICA)","SOLICITUD DE INFORMACIÓN Y DOCUMENTOS","SOLICITUD DE INFORMACIÓN HIDROMETEOROLÓGICA","NO","GRUPO DE ATENCIÓN AL CIUDADANO",43942,null,null,{"$f":"IFERROR(WORKDAY(C476,R476,DiasNOLaborables),\"\")","v":43959},{"$f":"+IF(C476=\"\",\"\",IF(I476=\"\",\"\",(IF(I476<=L476,\"A TIEMPO\",\"FUERA DE TIEMPO\"))))","v":"A TIEMPO"},{"$f":"IF(I476=\"\",\"\",NETWORKDAYS([4]Hoja1!C476+1,[4]Hoja1!P476,DiasNOLaborables))","v":7},"",null,null,20]
[466,20209050030802,43933,"WEB (MÓDULO DE SOLICITUD DE INFORMACIÓN HIDROMETEOROLÓGICA)","SOLICITUD DE INFORMACIÓN Y DOCUMENTOS","SOLICITUD DE INFORMACIÓN HIDROMETEOROLÓGICA","NO","GRUPO DE ATENCIÓN AL CIUDADANO",43942,null,null,{"$f":"IFERROR(WORKDAY(C477,R477,DiasNOLaborables),\"\")","v":43962},{"$f":"+IF(C477=\"\",\"\",IF(I477=\"\",\"\",(IF(I477<=L477,\"A TIEMPO\",\"FUERA DE TIEMPO\"))))","v":"A TIEMPO"},{"$f":"IF(I477=\"\",\"\",NETWORKDAYS([4]Hoja1!C477+1,[4]Hoja1!P477,DiasNOLaborables))","v":7},"",null,null,20]
[467,20209050030822,43933,"WEB (MÓDULO DE SOLICITUD DE INFORMACIÓN HIDROMETEOROLÓGICA)","SOLICITUD DE INFORMACIÓN Y DOCUMENTOS","SOLICITUD DE INFORMACIÓN HIDROMETEOROLÓGICA","NO","GRUPO DE ATENCIÓN AL CIUDADANO",43942,null,null,{"$f":"IFERROR(WORKDAY(C478,R478,DiasNOLaborables),\"\")","v":43962},{"$f":"+IF(C478=\"\",\"\",IF(I478=\"\",\"\",(IF(I478<=L478,\"A TIEMPO\",\"FUERA DE TIEMPO\"))))","v":"A TIEMPO"},{"$f":"IF(I478=\"\",\"\",NETWORKDAYS([4]Hoja1!C478+1,[4]Hoja1!P478,DiasNOLaborables))","v":7},"",null,null,20]
[468,20209050030832,43933,"WEB (MÓDULO DE SOLICITUD DE INFORMACIÓN HIDROMETEOROLÓGICA)","SOLICITUD DE INFORMACIÓN Y DOCUMENTOS","SOLICITUD DE INFORMACIÓN HIDROMETEOROLÓGICA","NO","GRUPO DE ATENCIÓN AL CIUDADANO",43942,null,null,{"$f":"IFERROR(WORKDAY(C479,R479,DiasNOLaborables),\"\")","v":43962},{"$f":"+IF(C479=\"\",\"\",IF(I479=\"\",\"\",(IF(I479<=L479,\"A TIEMPO\",\"FUERA DE TIEMPO\"))))","v":"A TIEMPO"},{"$f":"IF(I479=\"\",\"\",NETWORKDAYS([4]Hoja1!C479+1,[4]Hoja1!P479,DiasNOLaborables))","v":7},"",null,null,20]
[469,20209050030842,43933,"WEB (MÓDULO DE SOLICITUD DE INFORMACIÓN HIDROMETEOROLÓGICA)","SOLICITUD DE INFORMACIÓN Y DOCUMENTOS","SOLICITUD DE INFORMACIÓN HIDROMETEOROLÓGICA","NO","GRUPO DE ATENCIÓN AL CIUDADANO",43942,null,null,{"$f":"IFERROR(WORKDAY(C480,R480,DiasNOLaborables),\"\")","v":43962},{"$f":"+IF(C480=\"\",\"\",IF(I480=\"\",\"\",(IF(I480<=L480,\"A TIEMPO\",\"FUERA DE TIEMPO\"))))","v":"A TIEMPO"},{"$f":"IF(I480=\"\",\"\",NETWORKDAYS([4]Hoja1!C480+1,[4]Hoja1!P480,DiasNOLaborables))","v":7},"",null,null,20]
[470,20209050030852,43933,"WEB (MÓDULO DE SOLICITUD DE INFORMACIÓN HIDROMETEOROLÓGICA)","SOLICITUD DE INFORMACIÓN Y DOCUMENTOS","SOLICITUD DE INFORMACIÓN HIDROMETEOROLÓGICA","NO","GRUPO DE ATENCIÓN AL CIUDADANO",43942,null,null,{"$f":"IFERROR(WORKDAY(C481,R481,DiasNOLaborables),\"\")","v":43962},{"$f":"+IF(C481=\"\",\"\",IF(I481=\"\",\"\",(IF(I481<=L481,\"A TIEMPO\",\"FUERA DE TIEMPO\"))))","v":"A TIEMPO"},{"$f":"IF(I481=\"\",\"\",NETWORKDAYS([4]Hoja1!C481+1,[4]Hoja1!P481,DiasNOLaborables))","v":8},"",null,null,20]
[471,20209050030862,43933,"WEB (MÓDULO DE SOLICITUD DE INFORMACIÓN HIDROMETEOROLÓGICA)","SOLICITUD DE INFORMACIÓN Y DOCUMENTOS","SOLICITUD DE INFORMACIÓN HIDROMETEOROLÓGICA","NO","GRUPO DE ATENCIÓN AL CIUDADANO",43942,null,null,{"$f":"IFERROR(WORKDAY(C482,R482,DiasNOLaborables),\"\")","v":43962},{"$f":"+IF(C482=\"\",\"\",IF(I482=\"\",\"\",(IF(I482<=L482,\"A TIEMPO\",\"FUERA DE TIEMPO\"))))","v":"A TIEMPO"},{"$f":"IF(I482=\"\",\"\",NETWORKDAYS([4]Hoja1!C482+1,[4]Hoja1!P482,DiasNOLaborables))","v":3},"",null,null,20]
[472,20209050031012,43934,"WEB (MÓDULO DE SOLICITUD DE INFORMACIÓN HIDROMETEOROLÓGICA)","SOLICITUD DE INFORMACIÓN Y DOCUMENTOS","SOLICITUD DE INFORMACIÓN HIDROMETEOROLÓGICA","NO","GRUPO DE ATENCIÓN AL CIUDADANO",43942,null,null,{"$f":"IFERROR(WORKDAY(C483,R483,DiasNOLaborables),\"\")","v":43963},{"$f":"+IF(C483=\"\",\"\",IF(I483=\"\",\"\",(IF(I483<=L483,\"A TIEMPO\",\"FUERA DE TIEMPO\"))))","v":"A TIEMPO"},{"$f":"IF(I483=\"\",\"\",NETWORKDAYS([4]Hoja1!C483+1,[4]Hoja1!P483,DiasNOLaborables))","v":3},"",null,null,20]
[473,20209050031032,43934,"WEB (MÓDULO DE SOLICITUD DE INFORMACIÓN HIDROMETEOROLÓGICA)","SOLICITUD DE INFORMACIÓN Y DOCUMENTOS","SOLICITUD DE INFORMACIÓN HIDROMETEOROLÓGICA","NO","GRUPO DE ATENCIÓN AL CIUDADANO",43942,null,null,{"$f":"IFERROR(WORKDAY(C484,R484,DiasNOLaborables),\"\")","v":43963},{"$f":"+IF(C484=\"\",\"\",IF(I484=\"\",\"\",(IF(I484<=L484,\"A TIEMPO\",\"FUERA DE TIEMPO\"))))","v":"A TIEMPO"},{"$f":"IF(I484=\"\",\"\",NETWORKDAYS([4]Hoja1!C484+1,[4]Hoja1!P484,DiasNOLaborables))","v":-2},"",null,null,20]
[474,20209050031052,43934,"WEB (MÓDULO DE SOLICITUD DE INFORMACIÓN HIDROMETEOROLÓGICA)","SOLICITUD DE INFORMACIÓN Y DOCUMENTOS","SOLICITUD DE INFORMACIÓN HIDROMETEOROLÓGICA","NO","GRUPO DE ATENCIÓN AL CIUDADANO",43943,null,null,{"$f":"IFERROR(WORKDAY(C485,R485,DiasNOLaborables),\"\")","v":43963},{"$f":"+IF(C485=\"\",\"\",IF(I485=\"\",\"\",(IF(I485<=L485,\"A TIEMPO\",\"FUERA DE TIEMPO\"))))","v":"A TIEMPO"},{"$f":"IF(I485=\"\",\"\",NETWORKDAYS([4]Hoja1!C485+1,[4]Hoja1!P485,DiasNOLaborables))","v":1},"",null,null,20]
[475,20200409213916,43930,"WEB (MÓDULO DE SOLICITUD DE INFORMACIÓN HIDROMETEOROLÓGICA)","SOLICITUD DE INFORMACIÓN Y DOCUMENTOS","SOLICITUD DE INFORMACIÓN HIDROMETEOROLÓGICA","NO","GRUPO DE ATENCIÓN AL CIUDADANO",43943,null,null,{"$f":"IFERROR(WORKDAY(C486,R486,DiasNOLaborables),\"\")","v":43962},{"$f":"+IF(C486=\"\",\"\",IF(I486=\"\",\"\",(IF(I486<=L486,\"A TIEMPO\",\"FUERA DE TIEMPO\"))))","v":"A TIEMPO"},{"$f":"IF(I486=\"\",\"\",NETWORKDAYS([4]Hoja1!C486+1,[4]Hoja1!P486,DiasNOLaborables))","v":2},"",null,null,20]
[476,20200409213246,43930,"WEB (MÓDULO DE SOLICITUD DE INFORMACIÓN HIDROMETEOROLÓGICA)","SOLICITUD DE INFORMACIÓN Y DOCUMENTOS","SOLICITUD DE INFORMACIÓN HIDROMETEOROLÓGICA","NO","GRUPO DE ATENCIÓN AL CIUDADANO",43943,null,null,{"$f":"IFERROR(WORKDAY(C487,R487,DiasNOLaborables),\"\")","v":43962},{"$f":"+IF(C487=\"\",\"\",IF(I487=\"\",\"\",(IF(I487<=L487,\"A TIEMPO\",\"FUERA DE TIEMPO\"))))","v":"A TIEMPO"},{"$f":"IF(I487=\"\",\"\",NETWORKDAYS([4]Hoja1!C487+1,[4]Hoja1!P487,DiasNOLaborables))","v":-2},"",null,null,20]
[477,20200409212921,43930,"WEB (MÓDULO DE SOLICITUD DE INFORMACIÓN HIDROMETEOROLÓGICA)","SOLICITUD DE INFORMACIÓN Y DOCUMENTOS","SOLICITUD DE INFORMACIÓN HIDROMETEOROLÓGICA","NO","GRUPO DE ATENCIÓN AL CIUDADANO",43943,null,null,{"$f":"IFERROR(WORKDAY(C488,R488,DiasNOLaborables),\"\")","v":43962},{"$f":"+IF(C488=\"\",\"\",IF(I488=\"\",\"\",(IF(I488<=L488,\"A TIEMPO\",\"FUERA DE TIEMPO\"))))","v":"A TIEMPO"},{"$f":"IF(I488=\"\",\"\",NETWORKDAYS([4]Hoja1!C488+1,[4]Hoja1!P488,DiasNOLaborables))","v":2},"",null,null,20]
[478,20200409212351,43930,"WEB (MÓDULO DE SOLICITUD DE INFORMACIÓN HIDROMETEOROLÓGICA)","SOLICITUD DE INFORMACIÓN Y DOCUMENTOS","SOLICITUD DE INFORMACIÓN HIDROMETEOROLÓGICA","NO","GRUPO DE ATENCIÓN AL CIUDADANO",43943,null,null,{"$f":"IFERROR(WORKDAY(C489,R489,DiasNOLaborables),\"\")","v":43962},{"$f":"+IF(C489=\"\",\"\",IF(I489=\"\",\"\",(IF(I489<=L489,\"A TIEMPO\",\"FUERA DE TIEMPO\"))))","v":"A TIEMPO"},{"$f":"IF(I489=\"\",\"\",NETWORKDAYS([4]Hoja1!C489+1,[4]Hoja1!P489,DiasNOLaborables))","v":2},"",null,null,20]
[479,20200409211844,43930,"WEB (MÓDULO DE SOLICITUD DE INFORMACIÓN HIDROMETEOROLÓGICA)","SOLICITUD DE INFORMACIÓN Y DOCUMENTOS","SOLICITUD DE INFORMACIÓN HIDROMETEOROLÓGICA","NO","GRUPO DE ATENCIÓN AL CIUDADANO",43943,null,null,{"$f":"IFERROR(WORKDAY(C490,R490,DiasNOLaborables),\"\")","v":43962},{"$f":"+IF(C490=\"\",\"\",IF(I490=\"\",\"\",(IF(I490<=L490,\"A TIEMPO\",\"FUERA DE TIEMPO\"))))","v":"A TIEMPO"},{"$f":"IF(I490=\"\",\"\",NETWORKDAYS([4]Hoja1!C490+1,[4]Hoja1!P490,DiasNOLaborables))","v":7},"",null,null,20]
[480,20200409211433,43930,"WEB (MÓDULO DE SOLICITUD DE INFORMACIÓN HIDROMETEOROLÓGICA)","SOLICITUD DE INFORMACIÓN Y DOCUMENTOS","SOLICITUD DE INFORMACIÓN HIDROMETEOROLÓGICA","NO","GRUPO DE ATENCIÓN AL CIUDADANO",43943,null,null,{"$f":"IFERROR(WORKDAY(C491,R491,DiasNOLaborables),\"\")","v":43962},{"$f":"+IF(C491=\"\",\"\",IF(I491=\"\",\"\",(IF(I491<=L491,\"A TIEMPO\",\"FUERA DE TIEMPO\"))))","v":"A TIEMPO"},{"$f":"IF(I491=\"\",\"\",NETWORKDAYS([4]Hoja1!C491+1,[4]Hoja1!P491,DiasNOLaborables))","v":-2},"",null,null,20]
[481,20200409210442,43930,"WEB (MÓDULO DE SOLICITUD DE INFORMACIÓN HIDROMETEOROLÓGICA)","SOLICITUD DE INFORMACIÓN Y DOCUMENTOS","SOLICITUD DE INFORMACIÓN HIDROMETEOROLÓGICA","NO","GRUPO DE ATENCIÓN AL CIUDADANO",43943,null,null,{"$f":"IFERROR(WORKDAY(C492,R492,DiasNOLaborables),\"\")","v":43962},{"$f":"+IF(C492=\"\",\"\",IF(I492=\"\",\"\",(IF(I492<=L492,\"A TIEMPO\",\"FUERA DE TIEMPO\"))))","v":"A TIEMPO"},{"$f":"IF(I492=\"\",\"\",NETWORKDAYS([4]Hoja1!C492+1,[4]Hoja1!P492,DiasNOLaborables))","v":12},"",null,null,20]
[482,20200409205820,43930,"WEB (MÓDULO DE SOLICITUD DE INFORMACIÓN HIDROMETEOROLÓGICA)","SOLICITUD DE INFORMACIÓN Y DOCUMENTOS","SOLICITUD DE INFORMACIÓN HIDROMETEOROLÓGICA","NO","GRUPO DE ATENCIÓN AL CIUDADANO",43943,null,null,{"$f":"IFERROR(WORKDAY(C493,R493,DiasNOLaborables),\"\")","v":43962},{"$f":"+IF(C493=\"\",\"\",IF(I493=\"\",\"\",(IF(I493<=L493,\"A TIEMPO\",\"FUERA DE TIEMPO\"))))","v":"A TIEMPO"},{"$f":"IF(I493=\"\",\"\",NETWORKDAYS([4]Hoja1!C493+1,[4]Hoja1!P493,DiasNOLaborables))","v":4},"",null,null,20]
[483,20200409203450,43930,"WEB (MÓDULO DE SOLICITUD DE INFORMACIÓN HIDROMETEOROLÓGICA)","SOLICITUD DE INFORMACIÓN Y DOCUMENTOS","SOLICITUD DE INFORMACIÓN HIDROMETEOROLÓGICA","NO","GRUPO DE ATENCIÓN AL CIUDADANO",43943,null,null,{"$f":"IFERROR(WORKDAY(C494,R494,DiasNOLaborables),\"\")","v":43962},{"$f":"+IF(C494=\"\",\"\",IF(I494=\"\",\"\",(IF(I494<=L494,\"A TIEMPO\",\"FUERA DE TIEMPO\"))))","v":"A TIEMPO"},{"$f":"IF(I494=\"\",\"\",NETWORKDAYS([4]Hoja1!C494+1,[4]Hoja1!P494,DiasNOLaborables))","v":6},"",null,null,20]
[484,20200409155525,43930,"WEB (MÓDULO DE SOLICITUD DE INFORMACIÓN HIDROMETEOROLÓGICA)","SOLICITUD DE INFORMACIÓN Y DOCUMENTOS","SOLICITUD DE INFORMACIÓN HIDROMETEOROLÓGICA","NO","GRUPO DE ATENCIÓN AL CIUDADANO",43943,null,null,{"$f":"IFERROR(WORKDAY(C495,R495,DiasNOLaborables),\"\")","v":43962},{"$f":"+IF(C495=\"\",\"\",IF(I495=\"\",\"\",(IF(I495<=L495,\"A TIEMPO\",\"FUERA DE TIEMPO\"))))","v":"A TIEMPO"},{"$f":"IF(I495=\"\",\"\",NETWORKDAYS([4]Hoja1!C495+1,[4]Hoja1!P495,DiasNOLaborables))","v":3},"",null,null,20]
[485,20200409153034,43930,"WEB (MÓDULO DE SOLICITUD DE INFORMACIÓN HIDROMETEOROLÓGICA)","SOLICITUD DE INFORMACIÓN Y DOCUMENTOS","SOLICITUD DE INFORMACIÓN HIDROMETEOROLÓGICA","NO","GRUPO DE ATENCIÓN AL CIUDADANO",43943,null,null,{"$f":"IFERROR(WORKDAY(C496,R496,DiasNOLaborables),\"\")","v":43962},{"$f":"+IF(C496=\"\",\"\",IF(I496=\"\",\"\",(IF(I496<=L496,\"A TIEMPO\",\"FUERA DE TIEMPO\"))))","v":"A TIEMPO"},{"$f":"IF(I496=\"\",\"\",NETWORKDAYS([4]Hoja1!C496+1,[4]Hoja1!P496,DiasNOLaborables))","v":8},"",null,null,20]
[486,20200409152503,43930,"WEB (MÓDULO DE SOLICITUD DE INFORMACIÓN HIDROMETEOROLÓGICA)","SOLICITUD DE INFORMACIÓN Y DOCUMENTOS","SOLICITUD DE INFORMACIÓN HIDROMETEOROLÓGICA","NO","GRUPO DE ATENCIÓN AL CIUDADANO",43943,null,null,{"$f":"IFERROR(WORKDAY(C497,R497,DiasNOLaborables),\"\")","v":43962},{"$f":"+IF(C497=\"\",\"\",IF(I497=\"\",\"\",(IF(I497<=L497,\"A TIEMPO\",\"FUERA DE TIEMPO\"))))","v":"A TIEMPO"},{"$f":"IF(I497=\"\",\"\",NETWORKDAYS([4]Hoja1!C497+1,[4]Hoja1!P497,DiasNOLaborables))","v":4},"",null,null,20]
[{"$f":"IF(B496<>\"\",A497+1,\"\")","v":487},20200410201752,43931,"WEB (MÓDULO DE SOLICITUD DE INFORMACIÓN HIDROMETEOROLÓGICA)","SOLICITUD DE INFORMACIÓN Y DOCUMENTOS","SOLICITUD DE INFORMACIÓN HIDROMETEOROLÓGICA","NO","GRUPO DE ATENCIÓN AL CIUDADANO",43943,null,null,{"$f":"IFERROR(WORKDAY(C498,R498,DiasNOLaborables),\"\")","v":43962},{"$f":"+IF(C498=\"\",\"\",IF(I498=\"\",\"\",(IF(I498<=L498,\"A TIEMPO\",\"FUERA DE TIEMPO\"))))","v":"A TIEMPO"},{"$f":"IF(I498=\"\",\"\",NETWORKDAYS([4]Hoja1!C498+1,[4]Hoja1!P498,DiasNOLaborables))","v":1},"",null,null,20]
[488,20200410201256,43931,"WEB (MÓDULO DE SOLICITUD DE INFORMACIÓN HIDROMETEOROLÓGICA)","SOLICITUD DE INFORMACIÓN Y DOCUMENTOS","SOLICITUD DE INFORMACIÓN HIDROMETEOROLÓGICA","NO","GRUPO DE ATENCIÓN AL CIUDADANO",43943,null,null,{"$f":"IFERROR(WORKDAY(C499,R499,DiasNOLaborables),\"\")","v":43962},{"$f":"+IF(C499=\"\",\"\",IF(I499=\"\",\"\",(IF(I499<=L499,\"A TIEMPO\",\"FUERA DE TIEMPO\"))))","v":"A TIEMPO"},{"$f":"IF(I499=\"\",\"\",NETWORKDAYS([4]Hoja1!C499+1,[4]Hoja1!P499,DiasNOLaborables))","v":5},"",null,null,20]
[489,20200410200857,43931,"WEB (MÓDULO DE SOLICITUD DE INFORMACIÓN HIDROMETEOROLÓGICA)","SOLICITUD DE INFORMACIÓN Y DOCUMENTOS","SOLICITUD DE INFORMACIÓN HIDROMETEOROLÓGICA","NO","GRUPO DE ATENCIÓN AL CIUDADANO",43943,null,null,{"$f":"IFERROR(WORKDAY(C500,R500,DiasNOLaborables),\"\")","v":43962},{"$f":"+IF(C500=\"\",\"\",IF(I500=\"\",\"\",(IF(I500<=L500,\"A TIEMPO\",\"FUERA DE TIEMPO\"))))","v":"A TIEMPO"},{"$f":"IF(I500=\"\",\"\",NETWORKDAYS([4]Hoja1!C500+1,[4]Hoja1!P500,DiasNOLaborables))","v":8},"",null,null,20]
[490,20200410195059,43931,"WEB (MÓDULO DE SOLICITUD DE INFORMACIÓN HIDROMETEOROLÓGICA)","SOLICITUD DE INFORMACIÓN Y DOCUMENTOS","SOLICITUD DE INFORMACIÓN HIDROMETEOROLÓGICA","NO","GRUPO DE ATENCIÓN AL CIUDADANO",43943,null,null,{"$f":"IFERROR(WORKDAY(C501,R501,DiasNOLaborables),\"\")","v":43962},{"$f":"+IF(C501=\"\",\"\",IF(I501=\"\",\"\",(IF(I501<=L501,\"A TIEMPO\",\"FUERA DE TIEMPO\"))))","v":"A TIEMPO"},{"$f":"IF(I501=\"\",\"\",NETWORKDAYS([4]Hoja1!C501+1,[4]Hoja1!P501,DiasNOLaborables))","v":1},"",null,null,20]
[491,20200410193401,43931,"WEB (MÓDULO DE SOLICITUD DE INFORMACIÓN HIDROMETEOROLÓGICA)","SOLICITUD DE INFORMACIÓN Y DOCUMENTOS","SOLICITUD DE INFORMACIÓN HIDROMETEOROLÓGICA","NO","GRUPO DE ATENCIÓN AL CIUDADANO",43943,null,null,{"$f":"IFERROR(WORKDAY(C502,R502,DiasNOLaborables),\"\")","v":43962},{"$f":"+IF(C502=\"\",\"\",IF(I502=\"\",\"\",(IF(I502<=L502,\"A TIEMPO\",\"FUERA DE TIEMPO\"))))","v":"A TIEMPO"},{"$f":"IF(I502=\"\",\"\",NETWORKDAYS([4]Hoja1!C502+1,[4]Hoja1!P502,DiasNOLaborables))","v":1},"",null,null,20]
[492,20200410193158,43931,"WEB (MÓDULO DE SOLICITUD DE INFORMACIÓN HIDROMETEOROLÓGICA)","SOLICITUD DE INFORMACIÓN Y DOCUMENTOS","SOLICITUD DE INFORMACIÓN HIDROMETEOROLÓGICA","NO","GRUPO DE ATENCIÓN AL CIUDADANO",43943,null,null,{"$f":"IFERROR(WORKDAY(C503,R503,DiasNOLaborables),\"\")","v":43962},{"$f":"+IF(C503=\"\",\"\",IF(I503=\"\",\"\",(IF(I503<=L503,\"A TIEMPO\",\"FUERA DE TIEMPO\"))))","v":"A TIEMPO"},{"$f":"IF(I503=\"\",\"\",NETWORKDAYS([4]Hoja1!C503+1,[4]Hoja1!P503,DiasNOLaborables))","v":2},"",null,null,20]
[493,20200410192729,43931,"WEB (MÓDULO DE SOLICITUD DE INFORMACIÓN HIDROMETEOROLÓGICA)","SOLICITUD DE INFORMACIÓN Y DOCUMENTOS","SOLICITUD DE INFORMACIÓN HIDROMETEOROLÓGICA","NO","GRUPO DE ATENCIÓN AL CIUDADANO",43943,null,null,{"$f":"IFERROR(WORKDAY(C504,R504,DiasNOLaborables),\"\")","v":43962},{"$f":"+IF(C504=\"\",\"\",IF(I504=\"\",\"\",(IF(I504<=L504,\"A TIEMPO\",\"FUERA DE TIEMPO\"))))","v":"A TIEMPO"},{"$f":"IF(I504=\"\",\"\",NETWORKDAYS([4]Hoja1!C504+1,[4]Hoja1!P504,DiasNOLaborables))","v":2},"",null,null,20]
[494,20200410190340,43931,"WEB (MÓDULO DE SOLICITUD DE INFORMACIÓN HIDROMETEOROLÓGICA)","SOLICITUD DE INFORMACIÓN Y DOCUMENTOS","SOLICITUD DE INFORMACIÓN HIDROMETEOROLÓGICA","NO","GRUPO DE ATENCIÓN AL CIUDADANO",43943,null,null,{"$f":"IFERROR(WORKDAY(C505,R505,DiasNOLaborables),\"\")","v":43962},{"$f":"+IF(C505=\"\",\"\",IF(I505=\"\",\"\",(IF(I505<=L505,\"A TIEMPO\",\"FUERA DE TIEMPO\"))))","v":"A TIEMPO"},{"$f":"IF(I505=\"\",\"\",NETWORKDAYS([4]Hoja1!C505+1,[4]Hoja1!P505,DiasNOLaborables))","v":7},"",null,null,20]
[495,20200410190201,43931,"WEB (MÓDULO DE SOLICITUD DE INFORMACIÓN HIDROMETEOROLÓGICA)","SOLICITUD DE INFORMACIÓN Y DOCUMENTOS","SOLICITUD DE INFORMACIÓN HIDROMETEOROLÓGICA","NO","GRUPO DE ATENCIÓN AL CIUDADANO",43943,null,null,{"$f":"IFERROR(WORKDAY(C506,R506,DiasNOLaborables),\"\")","v":43962},{"$f":"+IF(C506=\"\",\"\",IF(I506=\"\",\"\",(IF(I506<=L506,\"A TIEMPO\",\"FUERA DE TIEMPO\"))))","v":"A TIEMPO"},{"$f":"IF(I506=\"\",\"\",NETWORKDAYS([4]Hoja1!C506+1,[4]Hoja1!P506,DiasNOLaborables))","v":6},"",null,null,20]
[496,20200410190021,43931,"WEB (MÓDULO DE SOLICITUD DE INFORMACIÓN HIDROMETEOROLÓGICA)","SOLICITUD DE INFORMACIÓN Y DOCUMENTOS","SOLICITUD DE INFORMACIÓN HIDROMETEOROLÓGICA","NO","GRUPO DE ATENCIÓN AL CIUDADANO",43943,null,null,{"$f":"IFERROR(WORKDAY(C507,R507,DiasNOLaborables),\"\")","v":43962},{"$f":"+IF(C507=\"\",\"\",IF(I507=\"\",\"\",(IF(I507<=L507,\"A TIEMPO\",\"FUERA DE TIEMPO\"))))","v":"A TIEMPO"},{"$f":"IF(I507=\"\",\"\",NETWORKDAYS([4]Hoja1!C507+1,[4]Hoja1!P507,DiasNOLaborables))","v":7},"",null,null,20]
[497,20200410182554,43931,"WEB (MÓDULO DE SOLICITUD DE INFORMACIÓN HIDROMETEOROLÓGICA)","SOLICITUD DE INFORMACIÓN Y DOCUMENTOS","SOLICITUD DE INFORMACIÓN HIDROMETEOROLÓGICA","NO","GRUPO DE ATENCIÓN AL CIUDADANO",43943,null,null,{"$f":"IFERROR(WORKDAY(C508,R508,DiasNOLaborables),\"\")","v":43962},{"$f":"+IF(C508=\"\",\"\",IF(I508=\"\",\"\",(IF(I508<=L508,\"A TIEMPO\",\"FUERA DE TIEMPO\"))))","v":"A TIEMPO"},{"$f":"IF(I508=\"\",\"\",NETWORKDAYS([4]Hoja1!C508+1,[4]Hoja1!P508,DiasNOLaborables))","v":7},"",null,null,20]
[498,20200410181847,43931,"WEB (MÓDULO DE SOLICITUD DE INFORMACIÓN HIDROMETEOROLÓGICA)","SOLICITUD DE INFORMACIÓN Y DOCUMENTOS","SOLICITUD DE INFORMACIÓN HIDROMETEOROLÓGICA","NO","GRUPO DE ATENCIÓN AL CIUDADANO",43943,null,null,{"$f":"IFERROR(WORKDAY(C509,R509,DiasNOLaborables),\"\")","v":43962},{"$f":"+IF(C509=\"\",\"\",IF(I509=\"\",\"\",(IF(I509<=L509,\"A TIEMPO\",\"FUERA DE TIEMPO\"))))","v":"A TIEMPO"},{"$f":"IF(I509=\"\",\"\",NETWORKDAYS([4]Hoja1!C509+1,[4]Hoja1!P509,DiasNOLaborables))","v":7},"",null,null,20]
[499,20200410181215,43931,"WEB (MÓDULO DE SOLICITUD DE INFORMACIÓN HIDROMETEOROLÓGICA)","SOLICITUD DE INFORMACIÓN Y DOCUMENTOS","SOLICITUD DE INFORMACIÓN HIDROMETEOROLÓGICA","NO","GRUPO DE ATENCIÓN AL CIUDADANO",43943,null,null,{"$f":"IFERROR(WORKDAY(C510,R510,DiasNOLaborables),\"\")","v":43962},{"$f":"+IF(C510=\"\",\"\",IF(I510=\"\",\"\",(IF(I510<=L510,\"A TIEMPO\",\"FUERA DE TIEMPO\"))))","v":"A TIEMPO"},{"$f":"IF(I510=\"\",\"\",NETWORKDAYS([4]Hoja1!C510+1,[4]Hoja1!P510,DiasNOLaborables))","v":7},"",null,null,20]
[500,20200410173709,43931,"WEB (MÓDULO DE SOLICITUD DE INFORMACIÓN HIDROMETEOROLÓGICA)","SOLICITUD DE INFORMACIÓN Y DOCUMENTOS","SOLICITUD DE INFORMACIÓN HIDROMETEOROLÓGICA","NO","GRUPO DE ATENCIÓN AL CIUDADANO",43943,null,null,{"$f":"IFERROR(WORKDAY(C511,R511,DiasNOLaborables),\"\")","v":43962},{"$f":"+IF(C511=\"\",\"\",IF(I511=\"\",\"\",(IF(I511<=L511,\"A TIEMPO\",\"FUERA DE TIEMPO\"))))","v":"A TIEMPO"},{"$f":"IF(I511=\"\",\"\",NETWORKDAYS([4]Hoja1!C511+1,[4]Hoja1!P511,DiasNOLaborables))","v":7},"",null,null,20]
[501,20200410171913,43931,"WEB (MÓDULO DE SOLICITUD DE INFORMACIÓN HIDROMETEOROLÓGICA)","SOLICITUD DE INFORMACIÓN Y DOCUMENTOS","SOLICITUD DE INFORMACIÓN HIDROMETEOROLÓGICA","NO","GRUPO DE ATENCIÓN AL CIUDADANO",43943,null,null,{"$f":"IFERROR(WORKDAY(C512,R512,DiasNOLaborables),\"\")","v":43962},{"$f":"+IF(C512=\"\",\"\",IF(I512=\"\",\"\",(IF(I512<=L512,\"A TIEMPO\",\"FUERA DE TIEMPO\"))))","v":"A TIEMPO"},{"$f":"IF(I512=\"\",\"\",NETWORKDAYS([4]Hoja1!C512+1,[4]Hoja1!P512,DiasNOLaborables))","v":7},"",null,null,20]
[502,20200410171504,43931,"WEB (MÓDULO DE SOLICITUD DE INFORMACIÓN HIDROMETEOROLÓGICA)","SOLICITUD DE INFORMACIÓN Y DOCUMENTOS","SOLICITUD DE INFORMACIÓN HIDROMETEOROLÓGICA","NO","GRUPO DE ATENCIÓN AL CIUDADANO",43943,null,null,{"$f":"IFERROR(WORKDAY(C513,R513,DiasNOLaborables),\"\")","v":43962},{"$f":"+IF(C513=\"\",\"\",IF(I513=\"\",\"\",(IF(I513<=L513,\"A TIEMPO\",\"FUERA DE TIEMPO\"))))","v":"A TIEMPO"},{"$f":"IF(I513=\"\",\"\",NETWORKDAYS([4]Hoja1!C513+1,[4]Hoja1!P513,DiasNOLaborables))","v":6},"",null,null,20]
[503,20200410171259,43931,"WEB (MÓDULO DE SOLICITUD DE INFORMACIÓN HIDROMETEOROLÓGICA)","SOLICITUD DE INFORMACIÓN Y DOCUMENTOS","SOLICITUD DE INFORMACIÓN HIDROMETEOROLÓGICA","NO","GRUPO DE ATENCIÓN AL CIUDADANO",43943,null,null,{"$f":"IFERROR(WORKDAY(C514,R514,DiasNOLaborables),\"\")","v":43962},{"$f":"+IF(C514=\"\",\"\",IF(I514=\"\",\"\",(IF(I514<=L514,\"A TIEMPO\",\"FUERA DE TIEMPO\"))))","v":"A TIEMPO"},{"$f":"IF(I514=\"\",\"\",NETWORKDAYS([4]Hoja1!C514+1,[4]Hoja1!P514,DiasNOLaborables))","v":6},"",null,null,20]
[504,20200410170940,43931,"WEB (MÓDULO DE SOLICITUD DE INFORMACIÓN HIDROMETEOROLÓGICA)","SOLICITUD DE INFORMACIÓN Y DOCUMENTOS","SOLICITUD DE INFORMACIÓN HIDROMETEOROLÓGICA","NO","GRUPO DE ATENCIÓN AL CIUDADANO",43943,null,null,{"$f":"IFERROR(WORKDAY(C515,R515,DiasNOLaborables),\"\")","v":43962},{"$f":"+IF(C515=\"\",\"\",IF(I515=\"\",\"\",(IF(I515<=L515,\"A TIEMPO\",\"FUERA DE TIEMPO\"))))","v":"A TIEMPO"},{"$f":"IF(I515=\"\",\"\",NETWORKDAYS([4]Hoja1!C515+1,[4]Hoja1!P515,DiasNOLaborables))","v":6},"",null,null,20]
[505,20200410170747,43931,"WEB (MÓDULO DE SOLICITUD DE INFORMACIÓN HIDROMETEOROLÓGICA)","SOLICITUD DE INFORMACIÓN Y DOCUMENTOS","SOLICITUD DE INFORMACIÓN HIDROMETEOROLÓGICA","NO","GRUPO DE ATENCIÓN AL CIUDADANO",43943,null,null,{"$f":"IFERROR(WORKDAY(C516,R516,DiasNOLaborables),\"\")","v":43962},{"$f":"+IF(C516=\"\",\"\",IF(I516=\"\",\"\",(IF(I516<=L516,\"A TIEMPO\",\"FUERA DE TIEMPO\"))))","v":"A TIEMPO"},{"$f":"IF(I516=\"\",\"\",NETWORKDAYS([4]Hoja1!C516+1,[4]Hoja1!P516,DiasNOLaborables))","v":7},"",null,null,20]
[506,20200410170515,43931,"WEB (MÓDULO DE SOLICITUD DE INFORMACIÓN HIDROMETEOROLÓGICA)","SOLICITUD DE INFORMACIÓN Y DOCUMENTOS","SOLICITUD DE INFORMACIÓN HIDROMETEOROLÓGICA","NO","GRUPO DE ATENCIÓN AL CIUDADANO",43943,null,null,{"$f":"IFERROR(WORKDAY(C517,R517,DiasNOLaborables),\"\")","v":43962},{"$f":"+IF(C517=\"\",\"\",IF(I517=\"\",\"\",(IF(I517<=L517,\"A TIEMPO\",\"FUERA DE TIEMPO\"))))","v":"A TIEMPO"},{"$f":"IF(I517=\"\",\"\",NETWORKDAYS([4]Hoja1!C517+1,[4]Hoja1!P517,DiasNOLaborables))","v":7},"",null,null,20]
[507,20200410170207,43931,"WEB (MÓDULO DE SOLICITUD DE INFORMACIÓN HIDROMETEOROLÓGICA)","SOLICITUD DE INFORMACIÓN Y DOCUMENTOS","SOLICITUD DE INFORMACIÓN HIDROMETEOROLÓGICA","NO","GRUPO DE ATENCIÓN AL CIUDADANO",43943,null,null,{"$f":"IFERROR(WORKDAY(C518,R518,DiasNOLaborables),\"\")","v":43962},{"$f":"+IF(C518=\"\",\"\",IF(I518=\"\",\"\",(IF(I518<=L518,\"A TIEMPO\",\"FUERA DE TIEMPO\"))))","v":"A TIEMPO"},{"$f":"IF(I518=\"\",\"\",NETWORKDAYS([4]Hoja1!C518+1,[4]Hoja1!P518,DiasNOLaborables))","v":7},"",null,null,20]
[508,20200410170127,43931,"WEB (MÓDULO DE SOLICITUD DE INFORMACIÓN HIDROMETEOROLÓGICA)","SOLICITUD DE INFORMACIÓN Y DOCUMENTOS","SOLICITUD DE INFORMACIÓN HIDROMETEOROLÓGICA","NO","GRUPO DE ATENCIÓN AL CIUDADANO",43943,null,null,{"$f":"IFERROR(WORKDAY(C519,R519,DiasNOLaborables),\"\")","v":43962},{"$f":"+IF(C519=\"\",\"\",IF(I519=\"\",\"\",(IF(I519<=L519,\"A TIEMPO\",\"FUERA DE TIEMPO\"))))","v":"A TIEMPO"},{"$f":"IF(I519=\"\",\"\",NETWORKDAYS([4]Hoja1!C519+1,[4]Hoja1!P519,DiasNOLaborables))","v":7},"",null,null,20]
[509,20200410165900,43931,"WEB (MÓDULO DE SOLICITUD DE INFORMACIÓN HIDROMETEOROLÓGICA)","SOLICITUD DE INFORMACIÓN Y DOCUMENTOS","SOLICITUD DE INFORMACIÓN HIDROMETEOROLÓGICA","NO","GRUPO DE ATENCIÓN AL CIUDADANO",43943,null,null,{"$f":"IFERROR(WORKDAY(C520,R520,DiasNOLaborables),\"\")","v":43962},{"$f":"+IF(C520=\"\",\"\",IF(I520=\"\",\"\",(IF(I520<=L520,\"A TIEMPO\",\"FUERA DE TIEMPO\"))))","v":"A TIEMPO"},{"$f":"IF(I520=\"\",\"\",NETWORKDAYS([4]Hoja1!C520+1,[4]Hoja1!P520,DiasNOLaborables))","v":16},"",null,null,20]
[510,20200410165728,43931,"WEB (MÓDULO DE SOLICITUD DE INFORMACIÓN HIDROMETEOROLÓGICA)","SOLICITUD DE INFORMACIÓN Y DOCUMENTOS","SOLICITUD DE INFORMACIÓN HIDROMETEOROLÓGICA","NO","GRUPO DE ATENCIÓN AL CIUDADANO",43943,null,null,{"$f":"IFERROR(WORKDAY(C521,R521,DiasNOLaborables),\"\")","v":43962},{"$f":"+IF(C521=\"\",\"\",IF(I521=\"\",\"\",(IF(I521<=L521,\"A TIEMPO\",\"FUERA DE TIEMPO\"))))","v":"A TIEMPO"},{"$f":"IF(I521=\"\",\"\",NETWORKDAYS([4]Hoja1!C521+1,[4]Hoja1!P521,DiasNOLaborables))","v":1},"",null,null,20]
[511,20200410165545,43931,"WEB (MÓDULO DE SOLICITUD DE INFORMACIÓN HIDROMETEOROLÓGICA)","SOLICITUD DE INFORMACIÓN Y DOCUMENTOS","SOLICITUD DE INFORMACIÓN HIDROMETEOROLÓGICA","NO","GRUPO DE ATENCIÓN AL CIUDADANO",43943,null,null,{"$f":"IFERROR(WORKDAY(C522,R522,DiasNOLaborables),\"\")","v":43962},{"$f":"+IF(C522=\"\",\"\",IF(I522=\"\",\"\",(IF(I522<=L522,\"A TIEMPO\",\"FUERA DE TIEMPO\"))))","v":"A TIEMPO"},{"$f":"IF(I522=\"\",\"\",NETWORKDAYS([4]Hoja1!C522+1,[4]Hoja1!P522,DiasNOLaborables))","v":1},"",null,null,20]
[512,20200410165437,43931,"WEB (MÓDULO DE SOLICITUD DE INFORMACIÓN HIDROMETEOROLÓGICA)","SOLICITUD DE INFORMACIÓN Y DOCUMENTOS","SOLICITUD DE INFORMACIÓN HIDROMETEOROLÓGICA","NO","GRUPO DE ATENCIÓN AL CIUDADANO",43943,null,null,{"$f":"IFERROR(WORKDAY(C523,R523,DiasNOLaborables),\"\")","v":43962},{"$f":"+IF(C523=\"\",\"\",IF(I523=\"\",\"\",(IF(I523<=L523,\"A TIEMPO\",\"FUERA DE TIEMPO\"))))","v":"A TIEMPO"},{"$f":"IF(I523=\"\",\"\",NETWORKDAYS([4]Hoja1!C523+1,[4]Hoja1!P523,DiasNOLaborables))","v":5},"",null,null,20]
[513,20200410165141,43931,"WEB (MÓDULO DE SOLICITUD DE INFORMACIÓN HIDROMETEOROLÓGICA)","SOLICITUD DE INFORMACIÓN Y DOCUMENTOS","SOLICITUD DE INFORMACIÓN HIDROMETEOROLÓGICA","NO","GRUPO DE ATENCIÓN AL CIUDADANO",43943,null,null,{"$f":"IFERROR(WORKDAY(C524,R524,DiasNOLaborables),\"\")","v":43962},{"$f":"+IF(C524=\"\",\"\",IF(I524=\"\",\"\",(IF(I524<=L524,\"A TIEMPO\",\"FUERA DE TIEMPO\"))))","v":"A TIEMPO"},{"$f":"IF(I524=\"\",\"\",NETWORKDAYS([4]Hoja1!C524+1,[4]Hoja1!P524,DiasNOLaborables))","v":3},"",null,null,20]
[514,20200410163800,43931,"WEB (MÓDULO DE SOLICITUD DE INFORMACIÓN HIDROMETEOROLÓGICA)","SOLICITUD DE INFORMACIÓN Y DOCUMENTOS","SOLICITUD DE INFORMACIÓN HIDROMETEOROLÓGICA","NO","GRUPO DE ATENCIÓN AL CIUDADANO",43943,null,null,{"$f":"IFERROR(WORKDAY(C525,R525,DiasNOLaborables),\"\")","v":43962},{"$f":"+IF(C525=\"\",\"\",IF(I525=\"\",\"\",(IF(I525<=L525,\"A TIEMPO\",\"FUERA DE TIEMPO\"))))","v":"A TIEMPO"},{"$f":"IF(I525=\"\",\"\",NETWORKDAYS([4]Hoja1!C525+1,[4]Hoja1!P525,DiasNOLaborables))","v":3},"",null,null,20]
[515,20200410162944,43931,"WEB (MÓDULO DE SOLICITUD DE INFORMACIÓN HIDROMETEOROLÓGICA)","SOLICITUD DE INFORMACIÓN Y DOCUMENTOS","SOLICITUD DE INFORMACIÓN HIDROMETEOROLÓGICA","NO","GRUPO DE ATENCIÓN AL CIUDADANO",43943,null,null,{"$f":"IFERROR(WORKDAY(C526,R526,DiasNOLaborables),\"\")","v":43962},{"$f":"+IF(C526=\"\",\"\",IF(I526=\"\",\"\",(IF(I526<=L526,\"A TIEMPO\",\"FUERA DE TIEMPO\"))))","v":"A TIEMPO"},{"$f":"IF(I526=\"\",\"\",NETWORKDAYS([4]Hoja1!C526+1,[4]Hoja1!P526,DiasNOLaborables))","v":3},"",null,null,20]
[516,20200410154722,43931,"WEB (MÓDULO DE SOLICITUD DE INFORMACIÓN HIDROMETEOROLÓGICA)","SOLICITUD DE INFORMACIÓN Y DOCUMENTOS","SOLICITUD DE INFORMACIÓN HIDROMETEOROLÓGICA","NO","GRUPO DE ATENCIÓN AL CIUDADANO",43943,null,null,{"$f":"IFERROR(WORKDAY(C527,R527,DiasNOLaborables),\"\")","v":43962},{"$f":"+IF(C527=\"\",\"\",IF(I527=\"\",\"\",(IF(I527<=L527,\"A TIEMPO\",\"FUERA DE TIEMPO\"))))","v":"A TIEMPO"},{"$f":"IF(I527=\"\",\"\",NETWORKDAYS([4]Hoja1!C527+1,[4]Hoja1!P527,DiasNOLaborables))","v":3},"",null,null,{"$f":"IFERROR(VLOOKUP(E527,$Z$50:$AA$63,2),\"\")","v":20}]
[517,20200410154445,43931,"WEB (MÓDULO DE SOLICITUD DE INFORMACIÓN HIDROMETEOROLÓGICA)","SOLICITUD DE INFORMACIÓN Y DOCUMENTOS","SOLICITUD DE INFORMACIÓN HIDROMETEOROLÓGICA","NO","GRUPO DE ATENCIÓN AL CIUDADANO",43943,null,null,{"$f":"IFERROR(WORKDAY(C528,R528,DiasNOLaborables),\"\")","v":43962},{"$f":"+IF(C528=\"\",\"\",IF(I528=\"\",\"\",(IF(I528<=L528,\"A TIEMPO\",\"FUERA DE TIEMPO\"))))","v":"A TIEMPO"},{"$f":"IF(I528=\"\",\"\",NETWORKDAYS([4]Hoja1!C528+1,[4]Hoja1!P528,DiasNOLaborables))","v":3},"",null,null,20]
[518,20200410094153,43931,"WEB (MÓDULO DE SOLICITUD DE INFORMACIÓN HIDROMETEOROLÓGICA)","SOLICITUD DE INFORMACIÓN Y DOCUMENTOS","SOLICITUD DE INFORMACIÓN HIDROMETEOROLÓGICA","NO","GRUPO DE ATENCIÓN AL CIUDADANO",43943,null,null,{"$f":"IFERROR(WORKDAY(C529,R529,DiasNOLaborables),\"\")","v":43962},{"$f":"+IF(C529=\"\",\"\",IF(I529=\"\",\"\",(IF(I529<=L529,\"A TIEMPO\",\"FUERA DE TIEMPO\"))))","v":"A TIEMPO"},{"$f":"IF(I529=\"\",\"\",NETWORKDAYS([4]Hoja1!C529+1,[4]Hoja1!P529,DiasNOLaborables))","v":7},"",null,null,20]
[519,20200413220215,43934,"WEB (MÓDULO DE SOLICITUD DE INFORMACIÓN HIDROMETEOROLÓGICA)","SOLICITUD DE INFORMACIÓN Y DOCUMENTOS","SOLICITUD DE INFORMACIÓN HIDROMETEOROLÓGICA","NO","GRUPO DE ATENCIÓN AL CIUDADANO",43944,null,null,{"$f":"IFERROR(WORKDAY(C530,R530,DiasNOLaborables),\"\")","v":43963},{"$f":"+IF(C530=\"\",\"\",IF(I530=\"\",\"\",(IF(I530<=L530,\"A TIEMPO\",\"FUERA DE TIEMPO\"))))","v":"A TIEMPO"},{"$f":"IF(I530=\"\",\"\",NETWORKDAYS([4]Hoja1!C530+1,[4]Hoja1!P530,DiasNOLaborables))","v":7},"",null,null,20]
[520,20200413191134,43934,"WEB (MÓDULO DE SOLICITUD DE INFORMACIÓN HIDROMETEOROLÓGICA)","SOLICITUD DE INFORMACIÓN Y DOCUMENTOS","SOLICITUD DE INFORMACIÓN HIDROMETEOROLÓGICA","NO","GRUPO DE ATENCIÓN AL CIUDADANO",43944,null,null,{"$f":"IFERROR(WORKDAY(C531,R531,DiasNOLaborables),\"\")","v":43963},{"$f":"+IF(C531=\"\",\"\",IF(I531=\"\",\"\",(IF(I531<=L531,\"A TIEMPO\",\"FUERA DE TIEMPO\"))))","v":"A TIEMPO"},{"$f":"IF(I531=\"\",\"\",NETWORKDAYS([4]Hoja1!C531+1,[4]Hoja1!P531,DiasNOLaborables))","v":7},"",null,null,20]
[521,20200413190646,43934,"WEB (MÓDULO DE SOLICITUD DE INFORMACIÓN HIDROMETEOROLÓGICA)","SOLICITUD DE INFORMACIÓN Y DOCUMENTOS","SOLICITUD DE INFORMACIÓN HIDROMETEOROLÓGICA","NO","GRUPO DE ATENCIÓN AL CIUDADANO",43944,null,null,{"$f":"IFERROR(WORKDAY(C532,R532,DiasNOLaborables),\"\")","v":43963},{"$f":"+IF(C532=\"\",\"\",IF(I532=\"\",\"\",(IF(I532<=L532,\"A TIEMPO\",\"FUERA DE TIEMPO\"))))","v":"A TIEMPO"},{"$f":"IF(I532=\"\",\"\",NETWORKDAYS([4]Hoja1!C532+1,[4]Hoja1!P532,DiasNOLaborables))","v":6},"",null,null,20]
[522,20200413184928,43934,"WEB (MÓDULO DE SOLICITUD DE INFORMACIÓN HIDROMETEOROLÓGICA)","SOLICITUD DE INFORMACIÓN Y DOCUMENTOS","SOLICITUD DE INFORMACIÓN HIDROMETEOROLÓGICA","NO","GRUPO DE ATENCIÓN AL CIUDADANO",43944,null,null,{"$f":"IFERROR(WORKDAY(C533,R533,DiasNOLaborables),\"\")","v":43963},{"$f":"+IF(C533=\"\",\"\",IF(I533=\"\",\"\",(IF(I533<=L533,\"A TIEMPO\",\"FUERA DE TIEMPO\"))))","v":"A TIEMPO"},{"$f":"IF(I533=\"\",\"\",NETWORKDAYS([4]Hoja1!C533+1,[4]Hoja1!P533,DiasNOLaborables))","v":7},"",null,null,20]
[523,20200413184127,43934,"WEB (MÓDULO DE SOLICITUD DE INFORMACIÓN HIDROMETEOROLÓGICA)","SOLICITUD DE INFORMACIÓN Y DOCUMENTOS","SOLICITUD DE INFORMACIÓN HIDROMETEOROLÓGICA","NO","GRUPO DE ATENCIÓN AL CIUDADANO",43944,null,null,{"$f":"IFERROR(WORKDAY(C534,R534,DiasNOLaborables),\"\")","v":43963},{"$f":"+IF(C534=\"\",\"\",IF(I534=\"\",\"\",(IF(I534<=L534,\"A TIEMPO\",\"FUERA DE TIEMPO\"))))","v":"A TIEMPO"},{"$f":"IF(I534=\"\",\"\",NETWORKDAYS([4]Hoja1!C534+1,[4]Hoja1!P534,DiasNOLaborables))","v":7},"",null,null,20]
[524,20200413183750,43934,"WEB (MÓDULO DE SOLICITUD DE INFORMACIÓN HIDROMETEOROLÓGICA)","SOLICITUD DE INFORMACIÓN Y DOCUMENTOS","SOLICITUD DE INFORMACIÓN HIDROMETEOROLÓGICA","NO","GRUPO DE ATENCIÓN AL CIUDADANO",43944,null,null,{"$f":"IFERROR(WORKDAY(C535,R535,DiasNOLaborables),\"\")","v":43963},{"$f":"+IF(C535=\"\",\"\",IF(I535=\"\",\"\",(IF(I535<=L535,\"A TIEMPO\",\"FUERA DE TIEMPO\"))))","v":"A TIEMPO"},{"$f":"IF(I535=\"\",\"\",NETWORKDAYS([4]Hoja1!C535+1,[4]Hoja1!P535,DiasNOLaborables))","v":8},"",null,null,20]
[525,20200413181635,43934,"WEB (MÓDULO DE SOLICITUD DE INFORMACIÓN HIDROMETEOROLÓGICA)","SOLICITUD DE INFORMACIÓN Y DOCUMENTOS","SOLICITUD DE INFORMACIÓN HIDROMETEOROLÓGICA","NO","GRUPO DE ATENCIÓN AL CIUDADANO",43944,null,null,{"$f":"IFERROR(WORKDAY(C536,R536,DiasNOLaborables),\"\")","v":43963},{"$f":"+IF(C536=\"\",\"\",IF(I536=\"\",\"\",(IF(I536<=L536,\"A TIEMPO\",\"FUERA DE TIEMPO\"))))","v":"A TIEMPO"},{"$f":"IF(I536=\"\",\"\",NETWORKDAYS([4]Hoja1!C536+1,[4]Hoja1!P536,DiasNOLaborables))","v":8},"",null,null,20]
[526,20200413181023,43934,"WEB (MÓDULO DE SOLICITUD DE INFORMACIÓN HIDROMETEOROLÓGICA)","SOLICITUD DE INFORMACIÓN Y DOCUMENTOS","SOLICITUD DE INFORMACIÓN HIDROMETEOROLÓGICA","NO","GRUPO DE ATENCIÓN AL CIUDADANO",43944,null,null,{"$f":"IFERROR(WORKDAY(C537,R537,DiasNOLaborables),\"\")","v":43963},{"$f":"+IF(C537=\"\",\"\",IF(I537=\"\",\"\",(IF(I537<=L537,\"A TIEMPO\",\"FUERA DE TIEMPO\"))))","v":"A TIEMPO"},{"$f":"IF(I537=\"\",\"\",NETWORKDAYS([4]Hoja1!C537+1,[4]Hoja1!P537,DiasNOLaborables))","v":8},"",null,null,20]
[527,20200413180529,43934,"WEB (MÓDULO DE SOLICITUD DE INFORMACIÓN HIDROMETEOROLÓGICA)","SOLICITUD DE INFORMACIÓN Y DOCUMENTOS","SOLICITUD DE INFORMACIÓN HIDROMETEOROLÓGICA","NO","GRUPO DE ATENCIÓN AL CIUDADANO",43944,null,null,{"$f":"IFERROR(WORKDAY(C538,R538,DiasNOLaborables),\"\")","v":43963},{"$f":"+IF(C538=\"\",\"\",IF(I538=\"\",\"\",(IF(I538<=L538,\"A TIEMPO\",\"FUERA DE TIEMPO\"))))","v":"A TIEMPO"},{"$f":"IF(I538=\"\",\"\",NETWORKDAYS([4]Hoja1!C538+1,[4]Hoja1!P538,DiasNOLaborables))","v":8},"",null,null,20]
[528,20200413180051,43934,"WEB (MÓDULO DE SOLICITUD DE INFORMACIÓN HIDROMETEOROLÓGICA)","SOLICITUD DE INFORMACIÓN Y DOCUMENTOS","SOLICITUD DE INFORMACIÓN HIDROMETEOROLÓGICA","NO","GRUPO DE ATENCIÓN AL CIUDADANO",43944,null,null,{"$f":"IFERROR(WORKDAY(C539,R539,DiasNOLaborables),\"\")","v":43963},{"$f":"+IF(C539=\"\",\"\",IF(I539=\"\",\"\",(IF(I539<=L539,\"A TIEMPO\",\"FUERA DE TIEMPO\"))))","v":"A TIEMPO"},{"$f":"IF(I539=\"\",\"\",NETWORKDAYS([4]Hoja1!C539+1,[4]Hoja1!P539,DiasNOLaborables))","v":8},{"$f":"IF(NETWORKDAYS(L539+1,I539,DiasNOLaborables)<=0,\"\",NETWORKDAYS(L539+1,I539,DiasNOLaborables))","v":""},null,null,20]
[529,20200413171503,43934,"WEB (MÓDULO DE SOLICITUD DE INFORMACIÓN HIDROMETEOROLÓGICA)","SOLICITUD DE INFORMACIÓN Y DOCUMENTOS","SOLICITUD DE INFORMACIÓN HIDROMETEOROLÓGICA","NO","GRUPO DE ATENCIÓN AL CIUDADANO",43944,null,null,{"$f":"IFERROR(WORKDAY(C540,R540,DiasNOLaborables),\"\")","v":43963},{"$f":"+IF(C540=\"\",\"\",IF(I540=\"\",\"\",(IF(I540<=L540,\"A TIEMPO\",\"FUERA DE TIEMPO\"))))","v":"A TIEMPO"},{"$f":"IF(I540=\"\",\"\",NETWORKDAYS([4]Hoja1!C540+1,[4]Hoja1!P540,DiasNOLaborables))","v":8},"",null,null,20]
[530,20200413170720,43934,"WEB (MÓDULO DE SOLICITUD DE INFORMACIÓN HIDROMETEOROLÓGICA)","SOLICITUD DE INFORMACIÓN Y DOCUMENTOS","SOLICITUD DE INFORMACIÓN HIDROMETEOROLÓGICA","NO","GRUPO DE ATENCIÓN AL CIUDADANO",43944,null,null,{"$f":"IFERROR(WORKDAY(C541,R541,DiasNOLaborables),\"\")","v":43963},{"$f":"+IF(C541=\"\",\"\",IF(I541=\"\",\"\",(IF(I541<=L541,\"A TIEMPO\",\"FUERA DE TIEMPO\"))))","v":"A TIEMPO"},{"$f":"IF(I541=\"\",\"\",NETWORKDAYS([4]Hoja1!C541+1,[4]Hoja1!P541,DiasNOLaborables))","v":8},"",null,null,20]
[531,20200413165938,43934,"WEB (MÓDULO DE SOLICITUD DE INFORMACIÓN HIDROMETEOROLÓGICA)","SOLICITUD DE INFORMACIÓN Y DOCUMENTOS","SOLICITUD DE INFORMACIÓN HIDROMETEOROLÓGICA","NO","GRUPO DE ATENCIÓN AL CIUDADANO",43944,null,null,{"$f":"IFERROR(WORKDAY(C542,R542,DiasNOLaborables),\"\")","v":43963},{"$f":"+IF(C542=\"\",\"\",IF(I542=\"\",\"\",(IF(I542<=L542,\"A TIEMPO\",\"FUERA DE TIEMPO\"))))","v":"A TIEMPO"},{"$f":"IF(I542=\"\",\"\",NETWORKDAYS([4]Hoja1!C542+1,[4]Hoja1!P542,DiasNOLaborables))","v":8},"",null,null,20]
[532,20200413165340,43934,"WEB (MÓDULO DE SOLICITUD DE INFORMACIÓN HIDROMETEOROLÓGICA)","SOLICITUD DE INFORMACIÓN Y DOCUMENTOS","SOLICITUD DE INFORMACIÓN HIDROMETEOROLÓGICA","NO","GRUPO DE ATENCIÓN AL CIUDADANO",43944,null,null,{"$f":"IFERROR(WORKDAY(C543,R543,DiasNOLaborables),\"\")","v":43963},{"$f":"+IF(C543=\"\",\"\",IF(I543=\"\",\"\",(IF(I543<=L543,\"A TIEMPO\",\"FUERA DE TIEMPO\"))))","v":"A TIEMPO"},{"$f":"IF(I543=\"\",\"\",NETWORKDAYS([4]Hoja1!C543+1,[4]Hoja1!P543,DiasNOLaborables))","v":-1},"",null,null,20]
[533,20200413165021,43934,"WEB (MÓDULO DE SOLICITUD DE INFORMACIÓN HIDROMETEOROLÓGICA)","SOLICITUD DE INFORMACIÓN Y DOCUMENTOS","SOLICITUD DE INFORMACIÓN HIDROMETEOROLÓGICA","NO","GRUPO DE ATENCIÓN AL CIUDADANO",43944,null,null,{"$f":"IFERROR(WORKDAY(C544,R544,DiasNOLaborables),\"\")","v":43963},{"$f":"+IF(C544=\"\",\"\",IF(I544=\"\",\"\",(IF(I544<=L544,\"A TIEMPO\",\"FUERA DE TIEMPO\"))))","v":"A TIEMPO"},{"$f":"IF(I544=\"\",\"\",NETWORKDAYS([4]Hoja1!C544+1,[4]Hoja1!P544,DiasNOLaborables))","v":7},"",null,null,20]
[534,20200413160022,43934,"WEB (MÓDULO DE SOLICITUD DE INFORMACIÓN HIDROMETEOROLÓGICA)","SOLICITUD DE INFORMACIÓN Y DOCUMENTOS","SOLICITUD DE INFORMACIÓN HIDROMETEOROLÓGICA","NO","GRUPO DE ATENCIÓN AL CIUDADANO",43944,null,null,{"$f":"IFERROR(WORKDAY(C545,R545,DiasNOLaborables),\"\")","v":43963},{"$f":"+IF(C545=\"\",\"\",IF(I545=\"\",\"\",(IF(I545<=L545,\"A TIEMPO\",\"FUERA DE TIEMPO\"))))","v":"A TIEMPO"},{"$f":"IF(I545=\"\",\"\",NETWORKDAYS([4]Hoja1!C545+1,[4]Hoja1!P545,DiasNOLaborables))","v":7},"",null,null,20]
[535,20200413151425,43934,"WEB (MÓDULO DE SOLICITUD DE INFORMACIÓN HIDROMETEOROLÓGICA)","SOLICITUD DE INFORMACIÓN Y DOCUMENTOS","SOLICITUD DE INFORMACIÓN HIDROMETEOROLÓGICA","NO","GRUPO DE ATENCIÓN AL CIUDADANO",43944,null,null,{"$f":"IFERROR(WORKDAY(C546,R546,DiasNOLaborables),\"\")","v":43963},{"$f":"+IF(C546=\"\",\"\",IF(I546=\"\",\"\",(IF(I546<=L546,\"A TIEMPO\",\"FUERA DE TIEMPO\"))))","v":"A TIEMPO"},{"$f":"IF(I546=\"\",\"\",NETWORKDAYS([4]Hoja1!C546+1,[4]Hoja1!P546,DiasNOLaborables))","v":8},"",null,null,20]
[536,20200413085904,43934,"WEB (MÓDULO DE SOLICITUD DE INFORMACIÓN HIDROMETEOROLÓGICA)","SOLICITUD DE INFORMACIÓN Y DOCUMENTOS","SOLICITUD DE INFORMACIÓN HIDROMETEOROLÓGICA","NO","GRUPO DE ATENCIÓN AL CIUDADANO",43944,null,null,{"$f":"IFERROR(WORKDAY(C547,R547,DiasNOLaborables),\"\")","v":43963},{"$f":"+IF(C547=\"\",\"\",IF(I547=\"\",\"\",(IF(I547<=L547,\"A TIEMPO\",\"FUERA DE TIEMPO\"))))","v":"A TIEMPO"},{"$f":"IF(I547=\"\",\"\",NETWORKDAYS([4]Hoja1!C547+1,[4]Hoja1!P547,DiasNOLaborables))","v":8},"",null,null,20]
[537,20200413081302,43934,"WEB (MÓDULO DE SOLICITUD DE INFORMACIÓN HIDROMETEOROLÓGICA)","SOLICITUD DE INFORMACIÓN Y DOCUMENTOS","SOLICITUD DE INFORMACIÓN HIDROMETEOROLÓGICA","NO","GRUPO DE ATENCIÓN AL CIUDADANO",43944,null,null,{"$f":"IFERROR(WORKDAY(C548,R548,DiasNOLaborables),\"\")","v":43963},{"$f":"+IF(C548=\"\",\"\",IF(I548=\"\",\"\",(IF(I548<=L548,\"A TIEMPO\",\"FUERA DE TIEMPO\"))))","v":"A TIEMPO"},{"$f":"IF(I548=\"\",\"\",NETWORKDAYS([4]Hoja1!C548+1,[4]Hoja1!P548,DiasNOLaborables))","v":8},"",null,null,20]
[538,20200413080338,43934,"WEB (MÓDULO DE SOLICITUD DE INFORMACIÓN HIDROMETEOROLÓGICA)","SOLICITUD DE INFORMACIÓN Y DOCUMENTOS","SOLICITUD DE INFORMACIÓN HIDROMETEOROLÓGICA","NO","GRUPO DE ATENCIÓN AL CIUDADANO",43944,null,null,{"$f":"IFERROR(WORKDAY(C549,R549,DiasNOLaborables),\"\")","v":43963},{"$f":"+IF(C549=\"\",\"\",IF(I549=\"\",\"\",(IF(I549<=L549,\"A TIEMPO\",\"FUERA DE TIEMPO\"))))","v":"A TIEMPO"},{"$f":"IF(I549=\"\",\"\",NETWORKDAYS([4]Hoja1!C549+1,[4]Hoja1!P549,DiasNOLaborables))","v":6},"",null,null,20]
[539,20200413064230,43934,"WEB (MÓDULO DE SOLICITUD DE INFORMACIÓN HIDROMETEOROLÓGICA)","SOLICITUD DE INFORMACIÓN Y DOCUMENTOS","SOLICITUD DE INFORMACIÓN HIDROMETEOROLÓGICA","NO","GRUPO DE ATENCIÓN AL CIUDADANO",43944,null,null,{"$f":"IFERROR(WORKDAY(C550,R550,DiasNOLaborables),\"\")","v":43963},{"$f":"+IF(C550=\"\",\"\",IF(I550=\"\",\"\",(IF(I550<=L550,\"A TIEMPO\",\"FUERA DE TIEMPO\"))))","v":"A TIEMPO"},{"$f":"IF(I550=\"\",\"\",NETWORKDAYS([4]Hoja1!C550+1,[4]Hoja1!P550,DiasNOLaborables))","v":6},"",null,null,20]
[540,20200412230029,43933,"WEB (MÓDULO DE SOLICITUD DE INFORMACIÓN HIDROMETEOROLÓGICA)","SOLICITUD DE INFORMACIÓN Y DOCUMENTOS","SOLICITUD DE INFORMACIÓN HIDROMETEOROLÓGICA","NO","GRUPO DE ATENCIÓN AL CIUDADANO",43944,null,null,{"$f":"IFERROR(WORKDAY(C551,R551,DiasNOLaborables),\"\")","v":43962},{"$f":"+IF(C551=\"\",\"\",IF(I551=\"\",\"\",(IF(I551<=L551,\"A TIEMPO\",\"FUERA DE TIEMPO\"))))","v":"A TIEMPO"},{"$f":"IF(I551=\"\",\"\",NETWORKDAYS([4]Hoja1!C551+1,[4]Hoja1!P551,DiasNOLaborables))","v":6},"",null,null,20]
[541,20200412195259,43933,"WEB (MÓDULO DE SOLICITUD DE INFORMACIÓN HIDROMETEOROLÓGICA)","SOLICITUD DE INFORMACIÓN Y DOCUMENTOS","SOLICITUD DE INFORMACIÓN HIDROMETEOROLÓGICA","NO","GRUPO DE ATENCIÓN AL CIUDADANO",43944,null,null,{"$f":"IFERROR(WORKDAY(C552,R552,DiasNOLaborables),\"\")","v":43962},{"$f":"+IF(C552=\"\",\"\",IF(I552=\"\",\"\",(IF(I552<=L552,\"A TIEMPO\",\"FUERA DE TIEMPO\"))))","v":"A TIEMPO"},{"$f":"IF(I552=\"\",\"\",NETWORKDAYS([4]Hoja1!C552+1,[4]Hoja1!P552,DiasNOLaborables))","v":6},"",null,null,20]
[542,20200412194737,43933,"WEB (MÓDULO DE SOLICITUD DE INFORMACIÓN HIDROMETEOROLÓGICA)","SOLICITUD DE INFORMACIÓN Y DOCUMENTOS","SOLICITUD DE INFORMACIÓN HIDROMETEOROLÓGICA","NO","GRUPO DE ATENCIÓN AL CIUDADANO",43944,null,null,{"$f":"IFERROR(WORKDAY(C553,R553,DiasNOLaborables),\"\")","v":43962},{"$f":"+IF(C553=\"\",\"\",IF(I553=\"\",\"\",(IF(I553<=L553,\"A TIEMPO\",\"FUERA DE TIEMPO\"))))","v":"A TIEMPO"},{"$f":"IF(I553=\"\",\"\",NETWORKDAYS([4]Hoja1!C553+1,[4]Hoja1!P553,DiasNOLaborables))","v":10},"",null,null,20]
[543,20200412194224,43933,"WEB (MÓDULO DE SOLICITUD DE INFORMACIÓN HIDROMETEOROLÓGICA)","SOLICITUD DE INFORMACIÓN Y DOCUMENTOS","SOLICITUD DE INFORMACIÓN HIDROMETEOROLÓGICA","NO","GRUPO DE ATENCIÓN AL CIUDADANO",43944,null,null,{"$f":"IFERROR(WORKDAY(C554,R554,DiasNOLaborables),\"\")","v":43962},{"$f":"+IF(C554=\"\",\"\",IF(I554=\"\",\"\",(IF(I554<=L554,\"A TIEMPO\",\"FUERA DE TIEMPO\"))))","v":"A TIEMPO"},{"$f":"IF(I554=\"\",\"\",NETWORKDAYS([4]Hoja1!C554+1,[4]Hoja1!P554,DiasNOLaborables))","v":6},"",null,null,20]
[544,20200412184551,43933,"WEB (MÓDULO DE SOLICITUD DE INFORMACIÓN HIDROMETEOROLÓGICA)","SOLICITUD DE INFORMACIÓN Y DOCUMENTOS","SOLICITUD DE INFORMACIÓN HIDROMETEOROLÓGICA","NO","GRUPO DE ATENCIÓN AL CIUDADANO",43944,null,null,{"$f":"IFERROR(WORKDAY(C555,R555,DiasNOLaborables),\"\")","v":43962},{"$f":"+IF(C555=\"\",\"\",IF(I555=\"\",\"\",(IF(I555<=L555,\"A TIEMPO\",\"FUERA DE TIEMPO\"))))","v":"A TIEMPO"},{"$f":"IF(I555=\"\",\"\",NETWORKDAYS([4]Hoja1!C555+1,[4]Hoja1!P555,DiasNOLaborables))","v":6},"",null,null,20]
[545,20200412184046,43933,"WEB (MÓDULO DE SOLICITUD DE INFORMACIÓN HIDROMETEOROLÓGICA)","SOLICITUD DE INFORMACIÓN Y DOCUMENTOS","SOLICITUD DE INFORMACIÓN HIDROMETEOROLÓGICA","NO","GRUPO DE ATENCIÓN AL CIUDADANO",43944,null,null,{"$f":"IFERROR(WORKDAY(C556,R556,DiasNOLaborables),\"\")","v":43962},{"$f":"+IF(C556=\"\",\"\",IF(I556=\"\",\"\",(IF(I556<=L556,\"A TIEMPO\",\"FUERA DE TIEMPO\"))))","v":"A TIEMPO"},{"$f":"IF(I556=\"\",\"\",NETWORKDAYS([4]Hoja1!C556+1,[4]Hoja1!P556,DiasNOLaborables))","v":10},"",null,null,20]
[546,20200412183544,43933,"WEB (MÓDULO DE SOLICITUD DE INFORMACIÓN HIDROMETEOROLÓGICA)","SOLICITUD DE INFORMACIÓN Y DOCUMENTOS","SOLICITUD DE INFORMACIÓN HIDROMETEOROLÓGICA","NO","GRUPO DE ATENCIÓN AL CIUDADANO",43944,null,null,{"$f":"IFERROR(WORKDAY(C557,R557,DiasNOLaborables),\"\")","v":43962},{"$f":"+IF(C557=\"\",\"\",IF(I557=\"\",\"\",(IF(I557<=L557,\"A TIEMPO\",\"FUERA DE TIEMPO\"))))","v":"A TIEMPO"},{"$f":"IF(I557=\"\",\"\",NETWORKDAYS([4]Hoja1!C557+1,[4]Hoja1!P557,DiasNOLaborables))","v":6},"",null,null,20]
[547,20200412180958,43933,"WEB (MÓDULO DE SOLICITUD DE INFORMACIÓN HIDROMETEOROLÓGICA)","SOLICITUD DE INFORMACIÓN Y DOCUMENTOS","SOLICITUD DE INFORMACIÓN HIDROMETEOROLÓGICA","NO","GRUPO DE ATENCIÓN AL CIUDADANO",43944,null,null,{"$f":"IFERROR(WORKDAY(C558,R558,DiasNOLaborables),\"\")","v":43962},{"$f":"+IF(C558=\"\",\"\",IF(I558=\"\",\"\",(IF(I558<=L558,\"A TIEMPO\",\"FUERA DE TIEMPO\"))))","v":"A TIEMPO"},{"$f":"IF(I558=\"\",\"\",NETWORKDAYS([4]Hoja1!C558+1,[4]Hoja1!P558,DiasNOLaborables))","v":8},"",null,null,20]
[548,20209050031322,43935,"WEB (MÓDULO DE SOLICITUD DE INFORMACIÓN HIDROMETEOROLÓGICA)","SOLICITUD DE INFORMACIÓN Y DOCUMENTOS","SOLICITUD DE INFORMACIÓN HIDROMETEOROLÓGICA","NO","GRUPO DE ATENCIÓN AL CIUDADANO",43944,null,null,{"$f":"IFERROR(WORKDAY(C559,R559,DiasNOLaborables),\"\")","v":43964},{"$f":"+IF(C559=\"\",\"\",IF(I559=\"\",\"\",(IF(I559<=L559,\"A TIEMPO\",\"FUERA DE TIEMPO\"))))","v":"A TIEMPO"},{"$f":"IF(I559=\"\",\"\",NETWORKDAYS([4]Hoja1!C559+1,[4]Hoja1!P559,DiasNOLaborables))","v":1},"",null,null,20]
[549,20209050031342,43935,"WEB (MÓDULO DE SOLICITUD DE INFORMACIÓN HIDROMETEOROLÓGICA)","SOLICITUD DE INFORMACIÓN Y DOCUMENTOS","SOLICITUD DE INFORMACIÓN HIDROMETEOROLÓGICA","NO","GRUPO DE ATENCIÓN AL CIUDADANO",43944,null,null,{"$f":"IFERROR(WORKDAY(C560,R560,DiasNOLaborables),\"\")","v":43964},{"$f":"+IF(C560=\"\",\"\",IF(I560=\"\",\"\",(IF(I560<=L560,\"A TIEMPO\",\"FUERA DE TIEMPO\"))))","v":"A TIEMPO"},{"$f":"IF(I560=\"\",\"\",NETWORKDAYS([4]Hoja1!C560+1,[4]Hoja1!P560,DiasNOLaborables))","v":1},"",null,null,20]
[550,20209050031362,43935,"WEB (MÓDULO DE SOLICITUD DE INFORMACIÓN HIDROMETEOROLÓGICA)","SOLICITUD DE INFORMACIÓN Y DOCUMENTOS","SOLICITUD DE INFORMACIÓN HIDROMETEOROLÓGICA","NO","GRUPO DE ATENCIÓN AL CIUDADANO",43944,null,null,{"$f":"IFERROR(WORKDAY(C561,R561,DiasNOLaborables),\"\")","v":43964},{"$f":"+IF(C561=\"\",\"\",IF(I561=\"\",\"\",(IF(I561<=L561,\"A TIEMPO\",\"FUERA DE TIEMPO\"))))","v":"A TIEMPO"},{"$f":"IF(I561=\"\",\"\",NETWORKDAYS([4]Hoja1!C561+1,[4]Hoja1!P561,DiasNOLaborables))","v":1},"",null,null,{"$f":"IFERROR(VLOOKUP(E561,$Z$50:$AA$63,2),\"\")","v":20}]
[{"$f":"IF(B560<>\"\",A561+1,\"\")","v":551},20209050031382,43935,"WEB (MÓDULO DE SOLICITUD DE INFORMACIÓN HIDROMETEOROLÓGICA)","SOLICITUD DE INFORMACIÓN Y DOCUMENTOS","SOLICITUD DE INFORMACIÓN HIDROMETEOROLÓGICA","NO","GRUPO DE ATENCIÓN AL CIUDADANO",43944,null,null,{"$f":"IFERROR(WORKDAY(C562,R562,DiasNOLaborables),\"\")","v":43964},{"$f":"+IF(C562=\"\",\"\",IF(I562=\"\",\"\",(IF(I562<=L562,\"A TIEMPO\",\"FUERA DE TIEMPO\"))))","v":"A TIEMPO"},{"$f":"IF(I562=\"\",\"\",NETWORKDAYS([4]Hoja1!C562+1,[4]Hoja1!P562,DiasNOLaborables))","v":-2},"",null,null,{"$f":"IFERROR(VLOOKUP(E562,$Z$50:$AA$63,2),\"\")","v":20}]
[552,20209050031392,43935,"WEB (MÓDULO DE SOLICITUD DE INFORMACIÓN HIDROMETEOROLÓGICA)","SOLICITUD DE INFORMACIÓN Y DOCUMENTOS","SOLICITUD DE INFORMACIÓN HIDROMETEOROLÓGICA","NO","GRUPO DE ATENCIÓN AL CIUDADANO",43944,null,null,{"$f":"IFERROR(WORKDAY(C563,R563,DiasNOLaborables),\"\")","v":43964},{"$f":"+IF(C563=\"\",\"\",IF(I563=\"\",\"\",(IF(I563<=L563,\"A TIEMPO\",\"FUERA DE TIEMPO\"))))","v":"A TIEMPO"},{"$f":"IF(I563=\"\",\"\",NETWORKDAYS([4]Hoja1!C563+1,[4]Hoja1!P563,DiasNOLaborables))","v":2},"",null,null,{"$f":"IFERROR(VLOOKUP(E563,$Z$50:$AA$63,2),\"\")","v":20}]
[553,20200416182638,43937,"WEB (MÓDULO DE SOLICITUD DE INFORMACIÓN HIDROMETEOROLÓGICA)","SOLICITUD DE INFORMACIÓN Y DOCUMENTOS","SOLICITUD DE INFORMACIÓN HIDROMETEOROLÓGICA","NO","GRUPO DE ATENCIÓN AL CIUDADANO",43945,null,null,{"$f":"IFERROR(WORKDAY(C564,R564,DiasNOLaborables),\"\")","v":43966},{"$f":"+IF(C564=\"\",\"\",IF(I564=\"\",\"\",(IF(I564<=L564,\"A TIEMPO\",\"FUERA DE TIEMPO\"))))","v":"A TIEMPO"},{"$f":"IF(I564=\"\",\"\",NETWORKDAYS([4]Hoja1!C564+1,[4]Hoja1!P564,DiasNOLaborables))","v":2},"",null,null,20]
[554,20200416143932,43937,"WEB (MÓDULO DE SOLICITUD DE INFORMACIÓN HIDROMETEOROLÓGICA)","SOLICITUD DE INFORMACIÓN Y DOCUMENTOS","SOLICITUD DE INFORMACIÓN HIDROMETEOROLÓGICA","NO","GRUPO DE ATENCIÓN AL CIUDADANO",43945,null,null,{"$f":"IFERROR(WORKDAY(C565,R565,DiasNOLaborables),\"\")","v":43966},{"$f":"+IF(C565=\"\",\"\",IF(I565=\"\",\"\",(IF(I565<=L565,\"A TIEMPO\",\"FUERA DE TIEMPO\"))))","v":"A TIEMPO"},{"$f":"IF(I565=\"\",\"\",NETWORKDAYS([4]Hoja1!C565+1,[4]Hoja1!P565,DiasNOLaborables))","v":59},"",null,null,20]
[555,20200416112540,43937,"WEB (MÓDULO DE SOLICITUD DE INFORMACIÓN HIDROMETEOROLÓGICA)","SOLICITUD DE INFORMACIÓN Y DOCUMENTOS","SOLICITUD DE INFORMACIÓN HIDROMETEOROLÓGICA","NO","GRUPO DE ATENCIÓN AL CIUDADANO",43945,null,null,{"$f":"IFERROR(WORKDAY(C566,R566,DiasNOLaborables),\"\")","v":43966},{"$f":"+IF(C566=\"\",\"\",IF(I566=\"\",\"\",(IF(I566<=L566,\"A TIEMPO\",\"FUERA DE TIEMPO\"))))","v":"A TIEMPO"},{"$f":"IF(I566=\"\",\"\",NETWORKDAYS([4]Hoja1!C566+1,[4]Hoja1!P566,DiasNOLaborables))","v":6},"",null,null,20]
[556,20200416061210,43937,"WEB (MÓDULO DE SOLICITUD DE INFORMACIÓN HIDROMETEOROLÓGICA)","SOLICITUD DE INFORMACIÓN Y DOCUMENTOS","SOLICITUD DE INFORMACIÓN HIDROMETEOROLÓGICA","NO","GRUPO DE ATENCIÓN AL CIUDADANO",43945,null,null,{"$f":"IFERROR(WORKDAY(C567,R567,DiasNOLaborables),\"\")","v":43966},{"$f":"+IF(C567=\"\",\"\",IF(I567=\"\",\"\",(IF(I567<=L567,\"A TIEMPO\",\"FUERA DE TIEMPO\"))))","v":"A TIEMPO"},{"$f":"IF(I567=\"\",\"\",NETWORKDAYS([4]Hoja1!C567+1,[4]Hoja1!P567,DiasNOLaborables))","v":6},"",null,null,20]
[557,20200416045457,43937,"WEB (MÓDULO DE SOLICITUD DE INFORMACIÓN HIDROMETEOROLÓGICA)","SOLICITUD DE INFORMACIÓN Y DOCUMENTOS","SOLICITUD DE INFORMACIÓN HIDROMETEOROLÓGICA","NO","GRUPO DE ATENCIÓN AL CIUDADANO",43945,null,null,{"$f":"IFERROR(WORKDAY(C568,R568,DiasNOLaborables),\"\")","v":43966},{"$f":"+IF(C568=\"\",\"\",IF(I568=\"\",\"\",(IF(I568<=L568,\"A TIEMPO\",\"FUERA DE TIEMPO\"))))","v":"A TIEMPO"},{"$f":"IF(I568=\"\",\"\",NETWORKDAYS([4]Hoja1!C568+1,[4]Hoja1!P568,DiasNOLaborables))","v":2},"",null,null,20]
[558,20200415181738,43936,"WEB (MÓDULO DE SOLICITUD DE INFORMACIÓN HIDROMETEOROLÓGICA)","SOLICITUD DE INFORMACIÓN Y DOCUMENTOS","SOLICITUD DE INFORMACIÓN HIDROMETEOROLÓGICA","NO","GRUPO DE ATENCIÓN AL CIUDADANO",43945,null,null,{"$f":"IFERROR(WORKDAY(C569,R569,DiasNOLaborables),\"\")","v":43965},{"$f":"+IF(C569=\"\",\"\",IF(I569=\"\",\"\",(IF(I569<=L569,\"A TIEMPO\",\"FUERA DE TIEMPO\"))))","v":"A TIEMPO"},{"$f":"IF(I569=\"\",\"\",NETWORKDAYS([4]Hoja1!C569+1,[4]Hoja1!P569,DiasNOLaborables))","v":2},"",null,null,20]
[559,20200415145616,43936,"WEB (MÓDULO DE SOLICITUD DE INFORMACIÓN HIDROMETEOROLÓGICA)","SOLICITUD DE INFORMACIÓN Y DOCUMENTOS","SOLICITUD DE INFORMACIÓN HIDROMETEOROLÓGICA","NO","GRUPO DE ATENCIÓN AL CIUDADANO",43945,null,null,{"$f":"IFERROR(WORKDAY(C570,R570,DiasNOLaborables),\"\")","v":43965},{"$f":"+IF(C570=\"\",\"\",IF(I570=\"\",\"\",(IF(I570<=L570,\"A TIEMPO\",\"FUERA DE TIEMPO\"))))","v":"A TIEMPO"},{"$f":"IF(I570=\"\",\"\",NETWORKDAYS([4]Hoja1!C570+1,[4]Hoja1!P570,DiasNOLaborables))","v":5},"",null,null,20]
[560,20200415145220,43936,"WEB (MÓDULO DE SOLICITUD DE INFORMACIÓN HIDROMETEOROLÓGICA)","SOLICITUD DE INFORMACIÓN Y DOCUMENTOS","SOLICITUD DE INFORMACIÓN HIDROMETEOROLÓGICA","NO","GRUPO DE ATENCIÓN AL CIUDADANO",43945,null,null,{"$f":"IFERROR(WORKDAY(C571,R571,DiasNOLaborables),\"\")","v":43965},{"$f":"+IF(C571=\"\",\"\",IF(I571=\"\",\"\",(IF(I571<=L571,\"A TIEMPO\",\"FUERA DE TIEMPO\"))))","v":"A TIEMPO"},{"$f":"IF(I571=\"\",\"\",NETWORKDAYS([4]Hoja1!C571+1,[4]Hoja1!P571,DiasNOLaborables))","v":2},"",null,null,20]
[561,20200415144045,43936,"WEB (MÓDULO DE SOLICITUD DE INFORMACIÓN HIDROMETEOROLÓGICA)","SOLICITUD DE INFORMACIÓN Y DOCUMENTOS","SOLICITUD DE INFORMACIÓN HIDROMETEOROLÓGICA","NO","GRUPO DE ATENCIÓN AL CIUDADANO",43945,null,null,{"$f":"IFERROR(WORKDAY(C572,R572,DiasNOLaborables),\"\")","v":43965},{"$f":"+IF(C572=\"\",\"\",IF(I572=\"\",\"\",(IF(I572<=L572,\"A TIEMPO\",\"FUERA DE TIEMPO\"))))","v":"A TIEMPO"},{"$f":"IF(I572=\"\",\"\",NETWORKDAYS([4]Hoja1!C572+1,[4]Hoja1!P572,DiasNOLaborables))","v":2},"",null,null,20]
[562,20200415142741,43936,"WEB (MÓDULO DE SOLICITUD DE INFORMACIÓN HIDROMETEOROLÓGICA)","SOLICITUD DE INFORMACIÓN Y DOCUMENTOS","SOLICITUD DE INFORMACIÓN HIDROMETEOROLÓGICA","NO","GRUPO DE ATENCIÓN AL CIUDADANO",43945,null,null,{"$f":"IFERROR(WORKDAY(C573,R573,DiasNOLaborables),\"\")","v":43965},{"$f":"+IF(C573=\"\",\"\",IF(I573=\"\",\"\",(IF(I573<=L573,\"A TIEMPO\",\"FUERA DE TIEMPO\"))))","v":"A TIEMPO"},{"$f":"IF(I573=\"\",\"\",NETWORKDAYS([4]Hoja1!C573+1,[4]Hoja1!P573,DiasNOLaborables))","v":2},"",null,null,20]
[563,20200415142256,43936,"WEB (MÓDULO DE SOLICITUD DE INFORMACIÓN HIDROMETEOROLÓGICA)","SOLICITUD DE INFORMACIÓN Y DOCUMENTOS","SOLICITUD DE INFORMACIÓN HIDROMETEOROLÓGICA","NO","GRUPO DE ATENCIÓN AL CIUDADANO",43945,null,null,{"$f":"IFERROR(WORKDAY(C574,R574,DiasNOLaborables),\"\")","v":43965},{"$f":"+IF(C574=\"\",\"\",IF(I574=\"\",\"\",(IF(I574<=L574,\"A TIEMPO\",\"FUERA DE TIEMPO\"))))","v":"A TIEMPO"},{"$f":"IF(I574=\"\",\"\",NETWORKDAYS([4]Hoja1!C574+1,[4]Hoja1!P574,DiasNOLaborables))","v":15},"",null,null,20]
[564,20200415141621,43936,"WEB (MÓDULO DE SOLICITUD DE INFORMACIÓN HIDROMETEOROLÓGICA)","SOLICITUD DE INFORMACIÓN Y DOCUMENTOS","SOLICITUD DE INFORMACIÓN HIDROMETEOROLÓGICA","NO","GRUPO DE ATENCIÓN AL CIUDADANO",43945,null,null,{"$f":"IFERROR(WORKDAY(C575,R575,DiasNOLaborables),\"\")","v":43965},{"$f":"+IF(C575=\"\",\"\",IF(I575=\"\",\"\",(IF(I575<=L575,\"A TIEMPO\",\"FUERA DE TIEMPO\"))))","v":"A TIEMPO"},{"$f":"IF(I575=\"\",\"\",NETWORKDAYS([4]Hoja1!C575+1,[4]Hoja1!P575,DiasNOLaborables))","v":8},"",null,null,20]
[565,20200415140240,43936,"WEB (MÓDULO DE SOLICITUD DE INFORMACIÓN HIDROMETEOROLÓGICA)","SOLICITUD DE INFORMACIÓN Y DOCUMENTOS","SOLICITUD DE INFORMACIÓN HIDROMETEOROLÓGICA","NO","GRUPO DE ATENCIÓN AL CIUDADANO",43945,null,null,{"$f":"IFERROR(WORKDAY(C576,R576,DiasNOLaborables),\"\")","v":43965},{"$f":"+IF(C576=\"\",\"\",IF(I576=\"\",\"\",(IF(I576<=L576,\"A TIEMPO\",\"FUERA DE TIEMPO\"))))","v":"A TIEMPO"},{"$f":"IF(I576=\"\",\"\",NETWORKDAYS([4]Hoja1!C576+1,[4]Hoja1!P576,DiasNOLaborables))","v":8},"",null,null,20]
[566,20200415140035,43936,"WEB (MÓDULO DE SOLICITUD DE INFORMACIÓN HIDROMETEOROLÓGICA)","SOLICITUD DE INFORMACIÓN Y DOCUMENTOS","SOLICITUD DE INFORMACIÓN HIDROMETEOROLÓGICA","NO","GRUPO DE ATENCIÓN AL CIUDADANO",43945,null,null,{"$f":"IFERROR(WORKDAY(C577,R577,DiasNOLaborables),\"\")","v":43965},{"$f":"+IF(C577=\"\",\"\",IF(I577=\"\",\"\",(IF(I577<=L577,\"A TIEMPO\",\"FUERA DE TIEMPO\"))))","v":"A TIEMPO"},{"$f":"IF(I577=\"\",\"\",NETWORKDAYS([4]Hoja1!C577+1,[4]Hoja1!P577,DiasNOLaborables))","v":9},"",null,null,20]
[567,20200415134948,43936,"WEB (MÓDULO DE SOLICITUD DE INFORMACIÓN HIDROMETEOROLÓGICA)","SOLICITUD DE INFORMACIÓN Y DOCUMENTOS","SOLICITUD DE INFORMACIÓN HIDROMETEOROLÓGICA","NO","GRUPO DE ATENCIÓN AL CIUDADANO",43945,null,null,{"$f":"IFERROR(WORKDAY(C578,R578,DiasNOLaborables),\"\")","v":43965},{"$f":"+IF(C578=\"\",\"\",IF(I578=\"\",\"\",(IF(I578<=L578,\"A TIEMPO\",\"FUERA DE TIEMPO\"))))","v":"A TIEMPO"},{"$f":"IF(I578=\"\",\"\",NETWORKDAYS([4]Hoja1!C578+1,[4]Hoja1!P578,DiasNOLaborables))","v":8},"",null,null,20]
[568,20200415112028,43936,"WEB (MÓDULO DE SOLICITUD DE INFORMACIÓN HIDROMETEOROLÓGICA)","SOLICITUD DE INFORMACIÓN Y DOCUMENTOS","SOLICITUD DE INFORMACIÓN HIDROMETEOROLÓGICA","NO","GRUPO DE ATENCIÓN AL CIUDADANO",43945,null,null,{"$f":"IFERROR(WORKDAY(C579,R579,DiasNOLaborables),\"\")","v":43965},{"$f":"+IF(C579=\"\",\"\",IF(I579=\"\",\"\",(IF(I579<=L579,\"A TIEMPO\",\"FUERA DE TIEMPO\"))))","v":"A TIEMPO"},{"$f":"IF(I579=\"\",\"\",NETWORKDAYS([4]Hoja1!C579+1,[4]Hoja1!P579,DiasNOLaborables))","v":10},"",null,null,20]
[569,20200415095448,43936,"WEB (MÓDULO DE SOLICITUD DE INFORMACIÓN HIDROMETEOROLÓGICA)","SOLICITUD DE INFORMACIÓN Y DOCUMENTOS","SOLICITUD DE INFORMACIÓN HIDROMETEOROLÓGICA","NO","GRUPO DE ATENCIÓN AL CIUDADANO",43945,null,null,{"$f":"IFERROR(WORKDAY(C580,R580,DiasNOLaborables),\"\")","v":43965},{"$f":"+IF(C580=\"\",\"\",IF(I580=\"\",\"\",(IF(I580<=L580,\"A TIEMPO\",\"FUERA DE TIEMPO\"))))","v":"A TIEMPO"},{"$f":"IF(I580=\"\",\"\",NETWORKDAYS([4]Hoja1!C580+1,[4]Hoja1!P580,DiasNOLaborables))","v":1},"",null,null,20]
[570,20200415094438,43936,"WEB (MÓDULO DE SOLICITUD DE INFORMACIÓN HIDROMETEOROLÓGICA)","SOLICITUD DE INFORMACIÓN Y DOCUMENTOS","SOLICITUD DE INFORMACIÓN HIDROMETEOROLÓGICA","NO","GRUPO DE ATENCIÓN AL CIUDADANO",43945,null,null,{"$f":"IFERROR(WORKDAY(C581,R581,DiasNOLaborables),\"\")","v":43965},{"$f":"+IF(C581=\"\",\"\",IF(I581=\"\",\"\",(IF(I581<=L581,\"A TIEMPO\",\"FUERA DE TIEMPO\"))))","v":"A TIEMPO"},{"$f":"IF(I581=\"\",\"\",NETWORKDAYS([4]Hoja1!C581+1,[4]Hoja1!P581,DiasNOLaborables))","v":1},"",null,null,20]
[571,20200415092008,43936,"WEB (MÓDULO DE SOLICITUD DE INFORMACIÓN HIDROMETEOROLÓGICA)","SOLICITUD DE INFORMACIÓN Y DOCUMENTOS","SOLICITUD DE INFORMACIÓN HIDROMETEOROLÓGICA","NO","GRUPO DE ATENCIÓN AL CIUDADANO",43945,null,null,{"$f":"IFERROR(WORKDAY(C582,R582,DiasNOLaborables),\"\")","v":43965},{"$f":"+IF(C582=\"\",\"\",IF(I582=\"\",\"\",(IF(I582<=L582,\"A TIEMPO\",\"FUERA DE TIEMPO\"))))","v":"A TIEMPO"},{"$f":"IF(I582=\"\",\"\",NETWORKDAYS([4]Hoja1!C582+1,[4]Hoja1!P582,DiasNOLaborables))","v":1},"",null,null,20]
[572,20200415072952,43936,"WEB (MÓDULO DE SOLICITUD DE INFORMACIÓN HIDROMETEOROLÓGICA)","SOLICITUD DE INFORMACIÓN Y DOCUMENTOS","SOLICITUD DE INFORMACIÓN HIDROMETEOROLÓGICA","NO","GRUPO DE ATENCIÓN AL CIUDADANO",43945,null,null,{"$f":"IFERROR(WORKDAY(C583,R583,DiasNOLaborables),\"\")","v":43965},{"$f":"+IF(C583=\"\",\"\",IF(I583=\"\",\"\",(IF(I583<=L583,\"A TIEMPO\",\"FUERA DE TIEMPO\"))))","v":"A TIEMPO"},{"$f":"IF(I583=\"\",\"\",NETWORKDAYS([4]Hoja1!C583+1,[4]Hoja1!P583,DiasNOLaborables))","v":1},"",null,null,20]
[573,20209050031602,43935,"WEB (MÓDULO DE SOLICITUD DE INFORMACIÓN HIDROMETEOROLÓGICA)","SOLICITUD DE INFORMACIÓN Y DOCUMENTOS","SOLICITUD DE INFORMACIÓN HIDROMETEOROLÓGICA","NO","GRUPO DE ATENCIÓN AL CIUDADANO",43948,null,null,{"$f":"IFERROR(WORKDAY(C584,R584,DiasNOLaborables),\"\")","v":43964},{"$f":"+IF(C584=\"\",\"\",IF(I584=\"\",\"\",(IF(I584<=L584,\"A TIEMPO\",\"FUERA DE TIEMPO\"))))","v":"A TIEMPO"},{"$f":"IF(I584=\"\",\"\",NETWORKDAYS([4]Hoja1!C584+1,[4]Hoja1!P584,DiasNOLaborables))","v":5},"",null,null,20]
[574,20209050031612,43935,"WEB (MÓDULO DE SOLICITUD DE INFORMACIÓN HIDROMETEOROLÓGICA)","SOLICITUD DE INFORMACIÓN Y DOCUMENTOS","SOLICITUD DE INFORMACIÓN HIDROMETEOROLÓGICA","NO","GRUPO DE ATENCIÓN AL CIUDADANO",43948,null,null,{"$f":"IFERROR(WORKDAY(C585,R585,DiasNOLaborables),\"\")","v":43964},{"$f":"+IF(C585=\"\",\"\",IF(I585=\"\",\"\",(IF(I585<=L585,\"A TIEMPO\",\"FUERA DE TIEMPO\"))))","v":"A TIEMPO"},{"$f":"IF(I585=\"\",\"\",NETWORKDAYS([4]Hoja1!C585+1,[4]Hoja1!P585,DiasNOLaborables))","v":1},"",null,null,20]
[575,20209050031622,43935,"WEB (MÓDULO DE SOLICITUD DE INFORMACIÓN HIDROMETEOROLÓGICA)","SOLICITUD DE INFORMACIÓN Y DOCUMENTOS","SOLICITUD DE INFORMACIÓN HIDROMETEOROLÓGICA","NO","GRUPO DE ATENCIÓN AL CIUDADANO",43948,null,null,{"$f":"IFERROR(WORKDAY(C586,R586,DiasNOLaborables),\"\")","v":43964},{"$f":"+IF(C586=\"\",\"\",IF(I586=\"\",\"\",(IF(I586<=L586,\"A TIEMPO\",\"FUERA DE TIEMPO\"))))","v":"A TIEMPO"},{"$f":"IF(I586=\"\",\"\",NETWORKDAYS([4]Hoja1!C586+1,[4]Hoja1!P586,DiasNOLaborables))","v":2},"",null,null,20]
[576,20209050031642,43935,"WEB (MÓDULO DE SOLICITUD DE INFORMACIÓN HIDROMETEOROLÓGICA)","SOLICITUD DE INFORMACIÓN Y DOCUMENTOS","SOLICITUD DE INFORMACIÓN HIDROMETEOROLÓGICA","NO","GRUPO DE ATENCIÓN AL CIUDADANO",43948,null,null,{"$f":"IFERROR(WORKDAY(C587,R587,DiasNOLaborables),\"\")","v":43964},{"$f":"+IF(C587=\"\",\"\",IF(I587=\"\",\"\",(IF(I587<=L587,\"A TIEMPO\",\"FUERA DE TIEMPO\"))))","v":"A TIEMPO"},{"$f":"IF(I587=\"\",\"\",NETWORKDAYS([4]Hoja1!C587+1,[4]Hoja1!P587,DiasNOLaborables))","v":2},"",null,null,20]
[577,20209050031842,43935,"WEB (MÓDULO DE SOLICITUD DE INFORMACIÓN HIDROMETEOROLÓGICA)","SOLICITUD DE INFORMACIÓN Y DOCUMENTOS","SOLICITUD DE INFORMACIÓN HIDROMETEOROLÓGICA","NO","GRUPO DE ATENCIÓN AL CIUDADANO",43948,null,null,{"$f":"IFERROR(WORKDAY(C588,R588,DiasNOLaborables),\"\")","v":43964},{"$f":"+IF(C588=\"\",\"\",IF(I588=\"\",\"\",(IF(I588<=L588,\"A TIEMPO\",\"FUERA DE TIEMPO\"))))","v":"A TIEMPO"},{"$f":"IF(I588=\"\",\"\",NETWORKDAYS([4]Hoja1!C588+1,[4]Hoja1!P588,DiasNOLaborables))","v":1},"",null,null,20]
[578,20209050031852,43935,"WEB (MÓDULO DE SOLICITUD DE INFORMACIÓN HIDROMETEOROLÓGICA)","SOLICITUD DE INFORMACIÓN Y DOCUMENTOS","SOLICITUD DE INFORMACIÓN HIDROMETEOROLÓGICA","NO","GRUPO DE ATENCIÓN AL CIUDADANO",43948,null,null,{"$f":"IFERROR(WORKDAY(C589,R589,DiasNOLaborables),\"\")","v":43964},{"$f":"+IF(C589=\"\",\"\",IF(I589=\"\",\"\",(IF(I589<=L589,\"A TIEMPO\",\"FUERA DE TIEMPO\"))))","v":"A TIEMPO"},{"$f":"IF(I589=\"\",\"\",NETWORKDAYS([4]Hoja1!C589+1,[4]Hoja1!P589,DiasNOLaborables))","v":9},"",null,null,20]
[579,20209050031862,43935,"WEB (MÓDULO DE SOLICITUD DE INFORMACIÓN HIDROMETEOROLÓGICA)","SOLICITUD DE INFORMACIÓN Y DOCUMENTOS","SOLICITUD DE INFORMACIÓN HIDROMETEOROLÓGICA","NO","GRUPO DE ATENCIÓN AL CIUDADANO",43948,null,null,{"$f":"IFERROR(WORKDAY(C590,R590,DiasNOLaborables),\"\")","v":43964},{"$f":"+IF(C590=\"\",\"\",IF(I590=\"\",\"\",(IF(I590<=L590,\"A TIEMPO\",\"FUERA DE TIEMPO\"))))","v":"A TIEMPO"},{"$f":"IF(I590=\"\",\"\",NETWORKDAYS([4]Hoja1!C590+1,[4]Hoja1!P590,DiasNOLaborables))","v":-2},"",null,null,20]
[580,20209050031932,43935,"WEB (MÓDULO DE SOLICITUD DE INFORMACIÓN HIDROMETEOROLÓGICA)","SOLICITUD DE INFORMACIÓN Y DOCUMENTOS","SOLICITUD DE INFORMACIÓN HIDROMETEOROLÓGICA","NO","GRUPO DE ATENCIÓN AL CIUDADANO",43948,null,null,{"$f":"IFERROR(WORKDAY(C591,R591,DiasNOLaborables),\"\")","v":43964},{"$f":"+IF(C591=\"\",\"\",IF(I591=\"\",\"\",(IF(I591<=L591,\"A TIEMPO\",\"FUERA DE TIEMPO\"))))","v":"A TIEMPO"},{"$f":"IF(I591=\"\",\"\",NETWORKDAYS([4]Hoja1!C591+1,[4]Hoja1!P591,DiasNOLaborables))","v":9},"",null,null,{"$f":"IFERROR(VLOOKUP(E591,$Z$50:$AA$63,2),\"\")","v":20}]
[581,20209050032082,43936,"WEB (MÓDULO DE SOLICITUD DE INFORMACIÓN HIDROMETEOROLÓGICA)","SOLICITUD DE INFORMACIÓN Y DOCUMENTOS","SOLICITUD DE INFORMACIÓN HIDROMETEOROLÓGICA","NO","GRUPO DE ATENCIÓN AL CIUDADANO",43948,null,null,{"$f":"IFERROR(WORKDAY(C592,R592,DiasNOLaborables),\"\")","v":43965},{"$f":"+IF(C592=\"\",\"\",IF(I592=\"\",\"\",(IF(I592<=L592,\"A TIEMPO\",\"FUERA DE TIEMPO\"))))","v":"A TIEMPO"},{"$f":"IF(I592=\"\",\"\",NETWORKDAYS([4]Hoja1!C592+1,[4]Hoja1!P592,DiasNOLaborables))","v":2},"",null,null,20]
[582,20209050032092,43936,"WEB (MÓDULO DE SOLICITUD DE INFORMACIÓN HIDROMETEOROLÓGICA)","SOLICITUD DE INFORMACIÓN Y DOCUMENTOS","SOLICITUD DE INFORMACIÓN HIDROMETEOROLÓGICA","NO","GRUPO DE ATENCIÓN AL CIUDADANO",43948,null,null,{"$f":"IFERROR(WORKDAY(C593,R593,DiasNOLaborables),\"\")","v":43965},{"$f":"+IF(C593=\"\",\"\",IF(I593=\"\",\"\",(IF(I593<=L593,\"A TIEMPO\",\"FUERA DE TIEMPO\"))))","v":"A TIEMPO"},{"$f":"IF(I593=\"\",\"\",NETWORKDAYS([4]Hoja1!C593+1,[4]Hoja1!P593,DiasNOLaborables))","v":2},"",null,null,20]
[583,20209050032122,43936,"WEB (MÓDULO DE SOLICITUD DE INFORMACIÓN HIDROMETEOROLÓGICA)","SOLICITUD DE INFORMACIÓN Y DOCUMENTOS","SOLICITUD DE INFORMACIÓN HIDROMETEOROLÓGICA","NO","GRUPO DE ATENCIÓN AL CIUDADANO",43948,null,null,{"$f":"IFERROR(WORKDAY(C594,R594,DiasNOLaborables),\"\")","v":43965},{"$f":"+IF(C594=\"\",\"\",IF(I594=\"\",\"\",(IF(I594<=L594,\"A TIEMPO\",\"FUERA DE TIEMPO\"))))","v":"A TIEMPO"},{"$f":"IF(I594=\"\",\"\",NETWORKDAYS([4]Hoja1!C594+1,[4]Hoja1!P594,DiasNOLaborables))","v":3},"",null,null,20]
[584,20209050032132,43936,"WEB (MÓDULO DE SOLICITUD DE INFORMACIÓN HIDROMETEOROLÓGICA)","SOLICITUD DE INFORMACIÓN Y DOCUMENTOS","SOLICITUD DE INFORMACIÓN HIDROMETEOROLÓGICA","NO","GRUPO DE ATENCIÓN AL CIUDADANO",43948,null,null,{"$f":"IFERROR(WORKDAY(C595,R595,DiasNOLaborables),\"\")","v":43965},{"$f":"+IF(C595=\"\",\"\",IF(I595=\"\",\"\",(IF(I595<=L595,\"A TIEMPO\",\"FUERA DE TIEMPO\"))))","v":"A TIEMPO"},{"$f":"IF(I595=\"\",\"\",NETWORKDAYS([4]Hoja1!C595+1,[4]Hoja1!P595,DiasNOLaborables))","v":11},"",null,null,20]
[585,20209050032152,43936,"WEB (MÓDULO DE SOLICITUD DE INFORMACIÓN HIDROMETEOROLÓGICA)","SOLICITUD DE INFORMACIÓN Y DOCUMENTOS","SOLICITUD DE INFORMACIÓN HIDROMETEOROLÓGICA","NO","GRUPO DE ATENCIÓN AL CIUDADANO",43948,null,null,{"$f":"IFERROR(WORKDAY(C596,R596,DiasNOLaborables),\"\")","v":43965},{"$f":"+IF(C596=\"\",\"\",IF(I596=\"\",\"\",(IF(I596<=L596,\"A TIEMPO\",\"FUERA DE TIEMPO\"))))","v":"A TIEMPO"},{"$f":"IF(I596=\"\",\"\",NETWORKDAYS([4]Hoja1!C596+1,[4]Hoja1!P596,DiasNOLaborables))","v":1},"",null,null,20]
[586,20209050032162,43937,"WEB (MÓDULO DE SOLICITUD DE INFORMACIÓN HIDROMETEOROLÓGICA)","SOLICITUD DE INFORMACIÓN Y DOCUMENTOS","SOLICITUD DE INFORMACIÓN HIDROMETEOROLÓGICA","NO","GRUPO DE ATENCIÓN AL CIUDADANO",43948,null,null,{"$f":"IFERROR(WORKDAY(C597,R597,DiasNOLaborables),\"\")","v":43966},{"$f":"+IF(C597=\"\",\"\",IF(I597=\"\",\"\",(IF(I597<=L597,\"A TIEMPO\",\"FUERA DE TIEMPO\"))))","v":"A TIEMPO"},{"$f":"IF(I597=\"\",\"\",NETWORKDAYS([4]Hoja1!C597+1,[4]Hoja1!P597,DiasNOLaborables))","v":2},"",null,null,20]
[587,20209050032802,43938,"WEB (MÓDULO DE SOLICITUD DE INFORMACIÓN HIDROMETEOROLÓGICA)","SOLICITUD DE INFORMACIÓN Y DOCUMENTOS","SOLICITUD DE INFORMACIÓN HIDROMETEOROLÓGICA","NO","GRUPO DE ATENCIÓN AL CIUDADANO",43948,null,null,{"$f":"IFERROR(WORKDAY(C598,R598,DiasNOLaborables),\"\")","v":43969},{"$f":"+IF(C598=\"\",\"\",IF(I598=\"\",\"\",(IF(I598<=L598,\"A TIEMPO\",\"FUERA DE TIEMPO\"))))","v":"A TIEMPO"},{"$f":"IF(I598=\"\",\"\",NETWORKDAYS([4]Hoja1!C598+1,[4]Hoja1!P598,DiasNOLaborables))","v":9},"",null,null,20]
[588,20209050032822,43939,"WEB (MÓDULO DE SOLICITUD DE INFORMACIÓN HIDROMETEOROLÓGICA)","SOLICITUD DE INFORMACIÓN Y DOCUMENTOS","SOLICITUD DE INFORMACIÓN HIDROMETEOROLÓGICA","NO","GRUPO DE ATENCIÓN AL CIUDADANO",43948,null,null,{"$f":"IFERROR(WORKDAY(C599,R599,DiasNOLaborables),\"\")","v":43969},{"$f":"+IF(C599=\"\",\"\",IF(I599=\"\",\"\",(IF(I599<=L599,\"A TIEMPO\",\"FUERA DE TIEMPO\"))))","v":"A TIEMPO"},{"$f":"IF(I599=\"\",\"\",NETWORKDAYS([4]Hoja1!C599+1,[4]Hoja1!P599,DiasNOLaborables))","v":1},"",null,null,20]
[589,20200417201027,43938,"WEB (MÓDULO DE SOLICITUD DE INFORMACIÓN HIDROMETEOROLÓGICA)","SOLICITUD DE INFORMACIÓN Y DOCUMENTOS","SOLICITUD DE INFORMACIÓN HIDROMETEOROLÓGICA","NO","GRUPO DE ATENCIÓN AL CIUDADANO",43949,null,null,{"$f":"IFERROR(WORKDAY(C600,R600,DiasNOLaborables),\"\")","v":43969},{"$f":"+IF(C600=\"\",\"\",IF(I600=\"\",\"\",(IF(I600<=L600,\"A TIEMPO\",\"FUERA DE TIEMPO\"))))","v":"A TIEMPO"},{"$f":"IF(I600=\"\",\"\",NETWORKDAYS([4]Hoja1!C600+1,[4]Hoja1!P600,DiasNOLaborables))","v":1},"",null,null,20]
[590,20200417184159,43938,"WEB (MÓDULO DE SOLICITUD DE INFORMACIÓN HIDROMETEOROLÓGICA)","SOLICITUD DE INFORMACIÓN Y DOCUMENTOS","SOLICITUD DE INFORMACIÓN HIDROMETEOROLÓGICA","NO","GRUPO DE ATENCIÓN AL CIUDADANO",43949,null,null,{"$f":"IFERROR(WORKDAY(C601,R601,DiasNOLaborables),\"\")","v":43969},{"$f":"+IF(C601=\"\",\"\",IF(I601=\"\",\"\",(IF(I601<=L601,\"A TIEMPO\",\"FUERA DE TIEMPO\"))))","v":"A TIEMPO"},{"$f":"IF(I601=\"\",\"\",NETWORKDAYS([4]Hoja1!C601+1,[4]Hoja1!P601,DiasNOLaborables))","v":3},"",null,null,20]
[591,20200417183057,43938,"WEB (MÓDULO DE SOLICITUD DE INFORMACIÓN HIDROMETEOROLÓGICA)","SOLICITUD DE INFORMACIÓN Y DOCUMENTOS","SOLICITUD DE INFORMACIÓN HIDROMETEOROLÓGICA","NO","GRUPO DE ATENCIÓN AL CIUDADANO",43949,null,null,{"$f":"IFERROR(WORKDAY(C602,R602,DiasNOLaborables),\"\")","v":43969},{"$f":"+IF(C602=\"\",\"\",IF(I602=\"\",\"\",(IF(I602<=L602,\"A TIEMPO\",\"FUERA DE TIEMPO\"))))","v":"A TIEMPO"},{"$f":"IF(I602=\"\",\"\",NETWORKDAYS([4]Hoja1!C602+1,[4]Hoja1!P602,DiasNOLaborables))","v":12},"",null,null,20]
[592,20200417180505,43938,"WEB (MÓDULO DE SOLICITUD DE INFORMACIÓN HIDROMETEOROLÓGICA)","SOLICITUD DE INFORMACIÓN Y DOCUMENTOS","SOLICITUD DE INFORMACIÓN HIDROMETEOROLÓGICA","NO","GRUPO DE ATENCIÓN AL CIUDADANO",43949,null,null,{"$f":"IFERROR(WORKDAY(C603,R603,DiasNOLaborables),\"\")","v":43969},{"$f":"+IF(C603=\"\",\"\",IF(I603=\"\",\"\",(IF(I603<=L603,\"A TIEMPO\",\"FUERA DE TIEMPO\"))))","v":"A TIEMPO"},{"$f":"IF(I603=\"\",\"\",NETWORKDAYS([4]Hoja1!C603+1,[4]Hoja1!P603,DiasNOLaborables))","v":3},{"$f":"IF(NETWORKDAYS(L603+1,I603,DiasNOLaborables)<=0,\"\",NETWORKDAYS(L603+1,I603,DiasNOLaborables))","v":""},null,null,20]
[593,20200417170157,43938,"WEB (MÓDULO DE SOLICITUD DE INFORMACIÓN HIDROMETEOROLÓGICA)","SOLICITUD DE INFORMACIÓN Y DOCUMENTOS","SOLICITUD DE INFORMACIÓN HIDROMETEOROLÓGICA","NO","GRUPO DE ATENCIÓN AL CIUDADANO",43949,null,null,{"$f":"IFERROR(WORKDAY(C604,R604,DiasNOLaborables),\"\")","v":43969},{"$f":"+IF(C604=\"\",\"\",IF(I604=\"\",\"\",(IF(I604<=L604,\"A TIEMPO\",\"FUERA DE TIEMPO\"))))","v":"A TIEMPO"},{"$f":"IF(I604=\"\",\"\",NETWORKDAYS([4]Hoja1!C604+1,[4]Hoja1!P604,DiasNOLaborables))","v":9},"",null,null,20]
[594,20200417170052,43938,"WEB (MÓDULO DE SOLICITUD DE INFORMACIÓN HIDROMETEOROLÓGICA)","SOLICITUD DE INFORMACIÓN Y DOCUMENTOS","SOLICITUD DE INFORMACIÓN HIDROMETEOROLÓGICA","NO","GRUPO DE ATENCIÓN AL CIUDADANO",43949,null,null,{"$f":"IFERROR(WORKDAY(C605,R605,DiasNOLaborables),\"\")","v":43969},{"$f":"+IF(C605=\"\",\"\",IF(I605=\"\",\"\",(IF(I605<=L605,\"A TIEMPO\",\"FUERA DE TIEMPO\"))))","v":"A TIEMPO"},{"$f":"IF(I605=\"\",\"\",NETWORKDAYS([4]Hoja1!C605+1,[4]Hoja1!P605,DiasNOLaborables))","v":10},"",null,null,20]
[595,20200417152410,43938,"WEB (MÓDULO DE SOLICITUD DE INFORMACIÓN HIDROMETEOROLÓGICA)","SOLICITUD DE INFORMACIÓN Y DOCUMENTOS","SOLICITUD DE INFORMACIÓN HIDROMETEOROLÓGICA","NO","GRUPO DE ATENCIÓN AL CIUDADANO",43949,null,null,{"$f":"IFERROR(WORKDAY(C606,R606,DiasNOLaborables),\"\")","v":43969},{"$f":"+IF(C606=\"\",\"\",IF(I606=\"\",\"\",(IF(I606<=L606,\"A TIEMPO\",\"FUERA DE TIEMPO\"))))","v":"A TIEMPO"},{"$f":"IF(I606=\"\",\"\",NETWORKDAYS([4]Hoja1!C606+1,[4]Hoja1!P606,DiasNOLaborables))","v":8},"",null,null,20]
[596,20200417151302,43938,"WEB (MÓDULO DE SOLICITUD DE INFORMACIÓN HIDROMETEOROLÓGICA)","SOLICITUD DE INFORMACIÓN Y DOCUMENTOS","SOLICITUD DE INFORMACIÓN HIDROMETEOROLÓGICA","NO","GRUPO DE ATENCIÓN AL CIUDADANO",43949,null,null,{"$f":"IFERROR(WORKDAY(C607,R607,DiasNOLaborables),\"\")","v":43969},{"$f":"+IF(C607=\"\",\"\",IF(I607=\"\",\"\",(IF(I607<=L607,\"A TIEMPO\",\"FUERA DE TIEMPO\"))))","v":"A TIEMPO"},{"$f":"IF(I607=\"\",\"\",NETWORKDAYS([4]Hoja1!C607+1,[4]Hoja1!P607,DiasNOLaborables))","v":8},"",null,null,20]
[597,20200417144741,43938,"WEB (MÓDULO DE SOLICITUD DE INFORMACIÓN HIDROMETEOROLÓGICA)","SOLICITUD DE INFORMACIÓN Y DOCUMENTOS","SOLICITUD DE INFORMACIÓN HIDROMETEOROLÓGICA","NO","GRUPO DE ATENCIÓN AL CIUDADANO",43949,null,null,{"$f":"IFERROR(WORKDAY(C608,R608,DiasNOLaborables),\"\")","v":43969},{"$f":"+IF(C608=\"\",\"\",IF(I608=\"\",\"\",(IF(I608<=L608,\"A TIEMPO\",\"FUERA DE TIEMPO\"))))","v":"A TIEMPO"},{"$f":"IF(I608=\"\",\"\",NETWORKDAYS([4]Hoja1!C608+1,[4]Hoja1!P608,DiasNOLaborables))","v":3},"",null,null,20]
[598,20200417143822,43938,"WEB (MÓDULO DE SOLICITUD DE INFORMACIÓN HIDROMETEOROLÓGICA)","SOLICITUD DE INFORMACIÓN Y DOCUMENTOS","SOLICITUD DE INFORMACIÓN HIDROMETEOROLÓGICA","NO","GRUPO DE ATENCIÓN AL CIUDADANO",43949,null,null,{"$f":"IFERROR(WORKDAY(C609,R609,DiasNOLaborables),\"\")","v":43969},{"$f":"+IF(C609=\"\",\"\",IF(I609=\"\",\"\",(IF(I609<=L609,\"A TIEMPO\",\"FUERA DE TIEMPO\"))))","v":"A TIEMPO"},{"$f":"IF(I609=\"\",\"\",NETWORKDAYS([4]Hoja1!C609+1,[4]Hoja1!P609,DiasNOLaborables))","v":10},"",null,null,20]
[599,20200417142833,43938,"WEB (MÓDULO DE SOLICITUD DE INFORMACIÓN HIDROMETEOROLÓGICA)","SOLICITUD DE INFORMACIÓN Y DOCUMENTOS","SOLICITUD DE INFORMACIÓN HIDROMETEOROLÓGICA","NO","GRUPO DE ATENCIÓN AL CIUDADANO",43949,null,null,{"$f":"IFERROR(WORKDAY(C610,R610,DiasNOLaborables),\"\")","v":43969},{"$f":"+IF(C610=\"\",\"\",IF(I610=\"\",\"\",(IF(I610<=L610,\"A TIEMPO\",\"FUERA DE TIEMPO\"))))","v":"A TIEMPO"},{"$f":"IF(I610=\"\",\"\",NETWORKDAYS([4]Hoja1!C610+1,[4]Hoja1!P610,DiasNOLaborables))","v":10},"",null,null,20]
[600,20200417142208,43938,"WEB (MÓDULO DE SOLICITUD DE INFORMACIÓN HIDROMETEOROLÓGICA)","SOLICITUD DE INFORMACIÓN Y DOCUMENTOS","SOLICITUD DE INFORMACIÓN HIDROMETEOROLÓGICA","NO","GRUPO DE ATENCIÓN AL CIUDADANO",43949,null,null,{"$f":"IFERROR(WORKDAY(C611,R611,DiasNOLaborables),\"\")","v":43969},{"$f":"+IF(C611=\"\",\"\",IF(I611=\"\",\"\",(IF(I611<=L611,\"A TIEMPO\",\"FUERA DE TIEMPO\"))))","v":"A TIEMPO"},{"$f":"IF(I611=\"\",\"\",NETWORKDAYS([4]Hoja1!C611+1,[4]Hoja1!P611,DiasNOLaborables))","v":10},"",null,null,20]
[601,20200417141751,43938,"WEB (MÓDULO DE SOLICITUD DE INFORMACIÓN HIDROMETEOROLÓGICA)","SOLICITUD DE INFORMACIÓN Y DOCUMENTOS","SOLICITUD DE INFORMACIÓN HIDROMETEOROLÓGICA","NO","GRUPO DE ATENCIÓN AL CIUDADANO",43949,null,null,{"$f":"IFERROR(WORKDAY(C612,R612,DiasNOLaborables),\"\")","v":43969},{"$f":"+IF(C612=\"\",\"\",IF(I612=\"\",\"\",(IF(I612<=L612,\"A TIEMPO\",\"FUERA DE TIEMPO\"))))","v":"A TIEMPO"},{"$f":"IF(I612=\"\",\"\",NETWORKDAYS([4]Hoja1!C612+1,[4]Hoja1!P612,DiasNOLaborables))","v":10},"",null,null,20]
[602,20200417141346,43938,"WEB (MÓDULO DE SOLICITUD DE INFORMACIÓN HIDROMETEOROLÓGICA)","SOLICITUD DE INFORMACIÓN Y DOCUMENTOS","SOLICITUD DE INFORMACIÓN HIDROMETEOROLÓGICA","NO","GRUPO DE ATENCIÓN AL CIUDADANO",43949,null,null,{"$f":"IFERROR(WORKDAY(C613,R613,DiasNOLaborables),\"\")","v":43969},{"$f":"+IF(C613=\"\",\"\",IF(I613=\"\",\"\",(IF(I613<=L613,\"A TIEMPO\",\"FUERA DE TIEMPO\"))))","v":"A TIEMPO"},{"$f":"IF(I613=\"\",\"\",NETWORKDAYS([4]Hoja1!C613+1,[4]Hoja1!P613,DiasNOLaborables))","v":2},"",null,null,20]
[603,20200417140126,43938,"WEB (MÓDULO DE SOLICITUD DE INFORMACIÓN HIDROMETEOROLÓGICA)","SOLICITUD DE INFORMACIÓN Y DOCUMENTOS","SOLICITUD DE INFORMACIÓN HIDROMETEOROLÓGICA","NO","GRUPO DE ATENCIÓN AL CIUDADANO",43949,null,null,{"$f":"IFERROR(WORKDAY(C614,R614,DiasNOLaborables),\"\")","v":43969},{"$f":"+IF(C614=\"\",\"\",IF(I614=\"\",\"\",(IF(I614<=L614,\"A TIEMPO\",\"FUERA DE TIEMPO\"))))","v":"A TIEMPO"},{"$f":"IF(I614=\"\",\"\",NETWORKDAYS([4]Hoja1!C614+1,[4]Hoja1!P614,DiasNOLaborables))","v":2},"",null,null,20]
[604,20200417135016,43938,"WEB (MÓDULO DE SOLICITUD DE INFORMACIÓN HIDROMETEOROLÓGICA)","SOLICITUD DE INFORMACIÓN Y DOCUMENTOS","SOLICITUD DE INFORMACIÓN HIDROMETEOROLÓGICA","NO","GRUPO DE ATENCIÓN AL CIUDADANO",43949,null,null,{"$f":"IFERROR(WORKDAY(C615,R615,DiasNOLaborables),\"\")","v":43969},{"$f":"+IF(C615=\"\",\"\",IF(I615=\"\",\"\",(IF(I615<=L615,\"A TIEMPO\",\"FUERA DE TIEMPO\"))))","v":"A TIEMPO"},{"$f":"IF(I615=\"\",\"\",NETWORKDAYS([4]Hoja1!C615+1,[4]Hoja1!P615,DiasNOLaborables))","v":3},"",null,null,20]
[605,20200417134051,43938,"WEB (MÓDULO DE SOLICITUD DE INFORMACIÓN HIDROMETEOROLÓGICA)","SOLICITUD DE INFORMACIÓN Y DOCUMENTOS","SOLICITUD DE INFORMACIÓN HIDROMETEOROLÓGICA","NO","GRUPO DE ATENCIÓN AL CIUDADANO",43949,null,null,{"$f":"IFERROR(WORKDAY(C616,R616,DiasNOLaborables),\"\")","v":43969},{"$f":"+IF(C616=\"\",\"\",IF(I616=\"\",\"\",(IF(I616<=L616,\"A TIEMPO\",\"FUERA DE TIEMPO\"))))","v":"A TIEMPO"},{"$f":"IF(I616=\"\",\"\",NETWORKDAYS([4]Hoja1!C616+1,[4]Hoja1!P616,DiasNOLaborables))","v":2},"",null,null,20]
[606,20200417133635,43938,"WEB (MÓDULO DE SOLICITUD DE INFORMACIÓN HIDROMETEOROLÓGICA)","SOLICITUD DE INFORMACIÓN Y DOCUMENTOS","SOLICITUD DE INFORMACIÓN HIDROMETEOROLÓGICA","NO","GRUPO DE ATENCIÓN AL CIUDADANO",43949,null,null,{"$f":"IFERROR(WORKDAY(C617,R617,DiasNOLaborables),\"\")","v":43969},{"$f":"+IF(C617=\"\",\"\",IF(I617=\"\",\"\",(IF(I617<=L617,\"A TIEMPO\",\"FUERA DE TIEMPO\"))))","v":"A TIEMPO"},{"$f":"IF(I617=\"\",\"\",NETWORKDAYS([4]Hoja1!C617+1,[4]Hoja1!P617,DiasNOLaborables))","v":3},"",null,null,20]
[607,20200417132805,43938,"WEB (MÓDULO DE SOLICITUD DE INFORMACIÓN HIDROMETEOROLÓGICA)","SOLICITUD DE INFORMACIÓN Y DOCUMENTOS","SOLICITUD DE INFORMACIÓN HIDROMETEOROLÓGICA","NO","GRUPO DE ATENCIÓN AL CIUDADANO",43949,null,null,{"$f":"IFERROR(WORKDAY(C618,R618,DiasNOLaborables),\"\")","v":43969},{"$f":"+IF(C618=\"\",\"\",IF(I618=\"\",\"\",(IF(I618<=L618,\"A TIEMPO\",\"FUERA DE TIEMPO\"))))","v":"A TIEMPO"},{"$f":"IF(I618=\"\",\"\",NETWORKDAYS([4]Hoja1!C618+1,[4]Hoja1!P618,DiasNOLaborables))","v":3},"",null,null,20]
[608,20200417132400,43938,"WEB (MÓDULO DE SOLICITUD DE INFORMACIÓN HIDROMETEOROLÓGICA)","SOLICITUD DE INFORMACIÓN Y DOCUMENTOS","SOLICITUD DE INFORMACIÓN HIDROMETEOROLÓGICA","NO","GRUPO DE ATENCIÓN AL CIUDADANO",43949,null,null,{"$f":"IFERROR(WORKDAY(C619,R619,DiasNOLaborables),\"\")","v":43969},{"$f":"+IF(C619=\"\",\"\",IF(I619=\"\",\"\",(IF(I619<=L619,\"A TIEMPO\",\"FUERA DE TIEMPO\"))))","v":"A TIEMPO"},{"$f":"IF(I619=\"\",\"\",NETWORKDAYS([4]Hoja1!C619+1,[4]Hoja1!P619,DiasNOLaborables))","v":2},"",null,null,20]
[609,20200417131418,43938,"WEB (MÓDULO DE SOLICITUD DE INFORMACIÓN HIDROMETEOROLÓGICA)","SOLICITUD DE INFORMACIÓN Y DOCUMENTOS","SOLICITUD DE INFORMACIÓN HIDROMETEOROLÓGICA","NO","GRUPO DE ATENCIÓN AL CIUDADANO",43949,null,null,{"$f":"IFERROR(WORKDAY(C620,R620,DiasNOLaborables),\"\")","v":43969},{"$f":"+IF(C620=\"\",\"\",IF(I620=\"\",\"\",(IF(I620<=L620,\"A TIEMPO\",\"FUERA DE TIEMPO\"))))","v":"A TIEMPO"},{"$f":"IF(I620=\"\",\"\",NETWORKDAYS([4]Hoja1!C620+1,[4]Hoja1!P620,DiasNOLaborables))","v":2},"",null,null,20]
[610,20200417121700,43938,"WEB (MÓDULO DE SOLICITUD DE INFORMACIÓN HIDROMETEOROLÓGICA)","SOLICITUD DE INFORMACIÓN Y DOCUMENTOS","SOLICITUD DE INFORMACIÓN HIDROMETEOROLÓGICA","NO","GRUPO DE ATENCIÓN AL CIUDADANO",43949,null,null,{"$f":"IFERROR(WORKDAY(C621,R621,DiasNOLaborables),\"\")","v":43969},{"$f":"+IF(C621=\"\",\"\",IF(I621=\"\",\"\",(IF(I621<=L621,\"A TIEMPO\",\"FUERA DE TIEMPO\"))))","v":"A TIEMPO"},{"$f":"IF(I621=\"\",\"\",NETWORKDAYS([4]Hoja1!C621+1,[4]Hoja1!P621,DiasNOLaborables))","v":2},"",null,null,20]
[611,20200417121312,43938,"WEB (MÓDULO DE SOLICITUD DE INFORMACIÓN HIDROMETEOROLÓGICA)","SOLICITUD DE INFORMACIÓN Y DOCUMENTOS","SOLICITUD DE INFORMACIÓN HIDROMETEOROLÓGICA","NO","GRUPO DE ATENCIÓN AL CIUDADANO",43949,null,null,{"$f":"IFERROR(WORKDAY(C622,R622,DiasNOLaborables),\"\")","v":43969},{"$f":"+IF(C622=\"\",\"\",IF(I622=\"\",\"\",(IF(I622<=L622,\"A TIEMPO\",\"FUERA DE TIEMPO\"))))","v":"A TIEMPO"},{"$f":"IF(I622=\"\",\"\",NETWORKDAYS([4]Hoja1!C622+1,[4]Hoja1!P622,DiasNOLaborables))","v":2},"",null,null,20]
[612,20200417120141,43938,"WEB (MÓDULO DE SOLICITUD DE INFORMACIÓN HIDROMETEOROLÓGICA)","SOLICITUD DE INFORMACIÓN Y DOCUMENTOS","SOLICITUD DE INFORMACIÓN HIDROMETEOROLÓGICA","NO","GRUPO DE ATENCIÓN AL CIUDADANO",43949,null,null,{"$f":"IFERROR(WORKDAY(C623,R623,DiasNOLaborables),\"\")","v":43969},{"$f":"+IF(C623=\"\",\"\",IF(I623=\"\",\"\",(IF(I623<=L623,\"A TIEMPO\",\"FUERA DE TIEMPO\"))))","v":"A TIEMPO"},{"$f":"IF(I623=\"\",\"\",NETWORKDAYS([4]Hoja1!C623+1,[4]Hoja1!P623,DiasNOLaborables))","v":2},"",null,null,20]
[613,20200417115544,43938,"WEB (MÓDULO DE SOLICITUD DE INFORMACIÓN HIDROMETEOROLÓGICA)","SOLICITUD DE INFORMACIÓN Y DOCUMENTOS","SOLICITUD DE INFORMACIÓN HIDROMETEOROLÓGICA","NO","GRUPO DE ATENCIÓN AL CIUDADANO",43949,null,null,{"$f":"IFERROR(WORKDAY(C624,R624,DiasNOLaborables),\"\")","v":43969},{"$f":"+IF(C624=\"\",\"\",IF(I624=\"\",\"\",(IF(I624<=L624,\"A TIEMPO\",\"FUERA DE TIEMPO\"))))","v":"A TIEMPO"},{"$f":"IF(I624=\"\",\"\",NETWORKDAYS([4]Hoja1!C624+1,[4]Hoja1!P624,DiasNOLaborables))","v":2},"",null,null,20]
[614,20200417115044,43938,"WEB (MÓDULO DE SOLICITUD DE INFORMACIÓN HIDROMETEOROLÓGICA)","SOLICITUD DE INFORMACIÓN Y DOCUMENTOS","SOLICITUD DE INFORMACIÓN HIDROMETEOROLÓGICA","NO","GRUPO DE ATENCIÓN AL CIUDADANO",43949,null,null,{"$f":"IFERROR(WORKDAY(C625,R625,DiasNOLaborables),\"\")","v":43969},{"$f":"+IF(C625=\"\",\"\",IF(I625=\"\",\"\",(IF(I625<=L625,\"A TIEMPO\",\"FUERA DE TIEMPO\"))))","v":"A TIEMPO"},{"$f":"IF(I625=\"\",\"\",NETWORKDAYS([4]Hoja1!C625+1,[4]Hoja1!P625,DiasNOLaborables))","v":14},"",null,null,20]
[{"$f":"IF(B624<>\"\",A625+1,\"\")","v":615},20200417114419,43938,"WEB (MÓDULO DE SOLICITUD DE INFORMACIÓN HIDROMETEOROLÓGICA)","SOLICITUD DE INFORMACIÓN Y DOCUMENTOS","SOLICITUD DE INFORMACIÓN HIDROMETEOROLÓGICA","NO","GRUPO DE ATENCIÓN AL CIUDADANO",43949,null,null,{"$f":"IFERROR(WORKDAY(C626,R626,DiasNOLaborables),\"\")","v":43969},{"$f":"+IF(C626=\"\",\"\",IF(I626=\"\",\"\",(IF(I626<=L626,\"A TIEMPO\",\"FUERA DE TIEMPO\"))))","v":"A TIEMPO"},{"$f":"IF(I626=\"\",\"\",NETWORKDAYS([4]Hoja1!C626+1,[4]Hoja1!P626,DiasNOLaborables))","v":1},"",null,null,20]
[616,20200417111708,43938,"WEB (MÓDULO DE SOLICITUD DE INFORMACIÓN HIDROMETEOROLÓGICA)","SOLICITUD DE INFORMACIÓN Y DOCUMENTOS","SOLICITUD DE INFORMACIÓN HIDROMETEOROLÓGICA","NO","GRUPO DE ATENCIÓN AL CIUDADANO",43949,null,null,{"$f":"IFERROR(WORKDAY(C627,R627,DiasNOLaborables),\"\")","v":43969},{"$f":"+IF(C627=\"\",\"\",IF(I627=\"\",\"\",(IF(I627<=L627,\"A TIEMPO\",\"FUERA DE TIEMPO\"))))","v":"A TIEMPO"},{"$f":"IF(I627=\"\",\"\",NETWORKDAYS([4]Hoja1!C627+1,[4]Hoja1!P627,DiasNOLaborables))","v":1},"",null,null,20]
[617,20200417081923,43938,"WEB (MÓDULO DE SOLICITUD DE INFORMACIÓN HIDROMETEOROLÓGICA)","SOLICITUD DE INFORMACIÓN Y DOCUMENTOS","SOLICITUD DE INFORMACIÓN HIDROMETEOROLÓGICA","NO","GRUPO DE ATENCIÓN AL CIUDADANO",43949,null,null,{"$f":"IFERROR(WORKDAY(C628,R628,DiasNOLaborables),\"\")","v":43969},{"$f":"+IF(C628=\"\",\"\",IF(I628=\"\",\"\",(IF(I628<=L628,\"A TIEMPO\",\"FUERA DE TIEMPO\"))))","v":"A TIEMPO"},{"$f":"IF(I628=\"\",\"\",NETWORKDAYS([4]Hoja1!C628+1,[4]Hoja1!P628,DiasNOLaborables))","v":2},"",null,null,20]
[618,20209050032952,43939,"WEB (MÓDULO DE SOLICITUD DE INFORMACIÓN HIDROMETEOROLÓGICA)","SOLICITUD DE INFORMACIÓN Y DOCUMENTOS","SOLICITUD DE INFORMACIÓN HIDROMETEOROLÓGICA","NO","GRUPO DE ATENCIÓN AL CIUDADANO",43949,null,null,{"$f":"IFERROR(WORKDAY(C629,R629,DiasNOLaborables),\"\")","v":43969},{"$f":"+IF(C629=\"\",\"\",IF(I629=\"\",\"\",(IF(I629<=L629,\"A TIEMPO\",\"FUERA DE TIEMPO\"))))","v":"A TIEMPO"},{"$f":"IF(I629=\"\",\"\",NETWORKDAYS([4]Hoja1!C629+1,[4]Hoja1!P629,DiasNOLaborables))","v":4},"",null,null,20]
[619,20209050032962,43939,"WEB (MÓDULO DE SOLICITUD DE INFORMACIÓN HIDROMETEOROLÓGICA)","SOLICITUD DE INFORMACIÓN Y DOCUMENTOS","SOLICITUD DE INFORMACIÓN HIDROMETEOROLÓGICA","NO","GRUPO DE ATENCIÓN AL CIUDADANO",43949,null,null,{"$f":"IFERROR(WORKDAY(C630,R630,DiasNOLaborables),\"\")","v":43969},{"$f":"+IF(C630=\"\",\"\",IF(I630=\"\",\"\",(IF(I630<=L630,\"A TIEMPO\",\"FUERA DE TIEMPO\"))))","v":"A TIEMPO"},{"$f":"IF(I630=\"\",\"\",NETWORKDAYS([4]Hoja1!C630+1,[4]Hoja1!P630,DiasNOLaborables))","v":9},"",null,null,20]
[620,20200421222601,43942,"WEB (MÓDULO DE SOLICITUD DE INFORMACIÓN HIDROMETEOROLÓGICA)","SOLICITUD DE INFORMACIÓN Y DOCUMENTOS","SOLICITUD DE INFORMACIÓN HIDROMETEOROLÓGICA","NO","GRUPO DE ATENCIÓN AL CIUDADANO",43950,null,null,{"$f":"IFERROR(WORKDAY(C631,R631,DiasNOLaborables),\"\")","v":43971},{"$f":"+IF(C631=\"\",\"\",IF(I631=\"\",\"\",(IF(I631<=L631,\"A TIEMPO\",\"FUERA DE TIEMPO\"))))","v":"A TIEMPO"},{"$f":"IF(I631=\"\",\"\",NETWORKDAYS([4]Hoja1!C631+1,[4]Hoja1!P631,DiasNOLaborables))","v":2},"",null,null,20]
[621,20200421222030,43942,"WEB (MÓDULO DE SOLICITUD DE INFORMACIÓN HIDROMETEOROLÓGICA)","SOLICITUD DE INFORMACIÓN Y DOCUMENTOS","SOLICITUD DE INFORMACIÓN HIDROMETEOROLÓGICA","NO","GRUPO DE ATENCIÓN AL CIUDADANO",43950,null,null,{"$f":"IFERROR(WORKDAY(C632,R632,DiasNOLaborables),\"\")","v":43971},{"$f":"+IF(C632=\"\",\"\",IF(I632=\"\",\"\",(IF(I632<=L632,\"A TIEMPO\",\"FUERA DE TIEMPO\"))))","v":"A TIEMPO"},{"$f":"IF(I632=\"\",\"\",NETWORKDAYS([4]Hoja1!C632+1,[4]Hoja1!P632,DiasNOLaborables))","v":3},"",null,null,20]
[622,20200421192056,43942,"WEB (MÓDULO DE SOLICITUD DE INFORMACIÓN HIDROMETEOROLÓGICA)","SOLICITUD DE INFORMACIÓN Y DOCUMENTOS","SOLICITUD DE INFORMACIÓN HIDROMETEOROLÓGICA","NO","GRUPO DE ATENCIÓN AL CIUDADANO",43950,null,null,{"$f":"IFERROR(WORKDAY(C633,R633,DiasNOLaborables),\"\")","v":43971},{"$f":"+IF(C633=\"\",\"\",IF(I633=\"\",\"\",(IF(I633<=L633,\"A TIEMPO\",\"FUERA DE TIEMPO\"))))","v":"A TIEMPO"},{"$f":"IF(I633=\"\",\"\",NETWORKDAYS([4]Hoja1!C633+1,[4]Hoja1!P633,DiasNOLaborables))","v":6},"",null,null,20]
[623,20200421180557,43942,"WEB (MÓDULO DE SOLICITUD DE INFORMACIÓN HIDROMETEOROLÓGICA)","SOLICITUD DE INFORMACIÓN Y DOCUMENTOS","SOLICITUD DE INFORMACIÓN HIDROMETEOROLÓGICA","NO","GRUPO DE ATENCIÓN AL CIUDADANO",43950,null,null,{"$f":"IFERROR(WORKDAY(C634,R634,DiasNOLaborables),\"\")","v":43971},{"$f":"+IF(C634=\"\",\"\",IF(I634=\"\",\"\",(IF(I634<=L634,\"A TIEMPO\",\"FUERA DE TIEMPO\"))))","v":"A TIEMPO"},{"$f":"IF(I634=\"\",\"\",NETWORKDAYS([4]Hoja1!C634+1,[4]Hoja1!P634,DiasNOLaborables))","v":6},"",null,null,20]
[624,20200421175922,43942,"WEB (MÓDULO DE SOLICITUD DE INFORMACIÓN HIDROMETEOROLÓGICA)","SOLICITUD DE INFORMACIÓN Y DOCUMENTOS","SOLICITUD DE INFORMACIÓN HIDROMETEOROLÓGICA","NO","GRUPO DE ATENCIÓN AL CIUDADANO",43950,null,null,{"$f":"IFERROR(WORKDAY(C635,R635,DiasNOLaborables),\"\")","v":43971},{"$f":"+IF(C635=\"\",\"\",IF(I635=\"\",\"\",(IF(I635<=L635,\"A TIEMPO\",\"FUERA DE TIEMPO\"))))","v":"A TIEMPO"},{"$f":"IF(I635=\"\",\"\",NETWORKDAYS([4]Hoja1!C635+1,[4]Hoja1!P635,DiasNOLaborables))","v":5},"",null,null,20]
[625,20200421173137,43942,"WEB (MÓDULO DE SOLICITUD DE INFORMACIÓN HIDROMETEOROLÓGICA)","SOLICITUD DE INFORMACIÓN Y DOCUMENTOS","SOLICITUD DE INFORMACIÓN HIDROMETEOROLÓGICA","NO","GRUPO DE ATENCIÓN AL CIUDADANO",43950,null,null,{"$f":"IFERROR(WORKDAY(C636,R636,DiasNOLaborables),\"\")","v":43971},{"$f":"+IF(C636=\"\",\"\",IF(I636=\"\",\"\",(IF(I636<=L636,\"A TIEMPO\",\"FUERA DE TIEMPO\"))))","v":"A TIEMPO"},{"$f":"IF(I636=\"\",\"\",NETWORKDAYS([4]Hoja1!C636+1,[4]Hoja1!P636,DiasNOLaborables))","v":5},"",null,null,20]
[626,20200421172141,43942,"WEB (MÓDULO DE SOLICITUD DE INFORMACIÓN HIDROMETEOROLÓGICA)","SOLICITUD DE INFORMACIÓN Y DOCUMENTOS","SOLICITUD DE INFORMACIÓN HIDROMETEOROLÓGICA","NO","GRUPO DE ATENCIÓN AL CIUDADANO",43950,null,null,{"$f":"IFERROR(WORKDAY(C637,R637,DiasNOLaborables),\"\")","v":43971},{"$f":"+IF(C637=\"\",\"\",IF(I637=\"\",\"\",(IF(I637<=L637,\"A TIEMPO\",\"FUERA DE TIEMPO\"))))","v":"A TIEMPO"},{"$f":"IF(I637=\"\",\"\",NETWORKDAYS([4]Hoja1!C637+1,[4]Hoja1!P637,DiasNOLaborables))","v":5},"",null,null,20]
[627,20200421171400,43942,"WEB (MÓDULO DE SOLICITUD DE INFORMACIÓN HIDROMETEOROLÓGICA)","SOLICITUD DE INFORMACIÓN Y DOCUMENTOS","SOLICITUD DE INFORMACIÓN HIDROMETEOROLÓGICA","NO","GRUPO DE ATENCIÓN AL CIUDADANO",43950,null,null,{"$f":"IFERROR(WORKDAY(C638,R638,DiasNOLaborables),\"\")","v":43971},{"$f":"+IF(C638=\"\",\"\",IF(I638=\"\",\"\",(IF(I638<=L638,\"A TIEMPO\",\"FUERA DE TIEMPO\"))))","v":"A TIEMPO"},{"$f":"IF(I638=\"\",\"\",NETWORKDAYS([4]Hoja1!C638+1,[4]Hoja1!P638,DiasNOLaborables))","v":5},"",null,null,20]
[628,20200421165949,43942,"WEB (MÓDULO DE SOLICITUD DE INFORMACIÓN HIDROMETEOROLÓGICA)","SOLICITUD DE INFORMACIÓN Y DOCUMENTOS","SOLICITUD DE INFORMACIÓN HIDROMETEOROLÓGICA","NO","GRUPO DE ATENCIÓN AL CIUDADANO",43950,null,null,{"$f":"IFERROR(WORKDAY(C639,R639,DiasNOLaborables),\"\")","v":43971},{"$f":"+IF(C639=\"\",\"\",IF(I639=\"\",\"\",(IF(I639<=L639,\"A TIEMPO\",\"FUERA DE TIEMPO\"))))","v":"A TIEMPO"},{"$f":"IF(I639=\"\",\"\",NETWORKDAYS([4]Hoja1!C639+1,[4]Hoja1!P639,DiasNOLaborables))","v":5},"",null,null,20]
[629,20200421165707,43942,"WEB (MÓDULO DE SOLICITUD DE INFORMACIÓN HIDROMETEOROLÓGICA)","SOLICITUD DE INFORMACIÓN Y DOCUMENTOS","SOLICITUD DE INFORMACIÓN HIDROMETEOROLÓGICA","NO","GRUPO DE ATENCIÓN AL CIUDADANO",43950,null,null,{"$f":"IFERROR(WORKDAY(C640,R640,DiasNOLaborables),\"\")","v":43971},{"$f":"+IF(C640=\"\",\"\",IF(I640=\"\",\"\",(IF(I640<=L640,\"A TIEMPO\",\"FUERA DE TIEMPO\"))))","v":"A TIEMPO"},{"$f":"IF(I640=\"\",\"\",NETWORKDAYS([4]Hoja1!C640+1,[4]Hoja1!P640,DiasNOLaborables))","v":5},"",null,null,20]
[630,20200421165416,43942,"WEB (MÓDULO DE SOLICITUD DE INFORMACIÓN HIDROMETEOROLÓGICA)","SOLICITUD DE INFORMACIÓN Y DOCUMENTOS","SOLICITUD DE INFORMACIÓN HIDROMETEOROLÓGICA","NO","GRUPO DE ATENCIÓN AL CIUDADANO",43950,null,null,{"$f":"IFERROR(WORKDAY(C641,R641,DiasNOLaborables),\"\")","v":43971},{"$f":"+IF(C641=\"\",\"\",IF(I641=\"\",\"\",(IF(I641<=L641,\"A TIEMPO\",\"FUERA DE TIEMPO\"))))","v":"A TIEMPO"},{"$f":"IF(I641=\"\",\"\",NETWORKDAYS([4]Hoja1!C641+1,[4]Hoja1!P641,DiasNOLaborables))","v":5},"",null,null,20]
[631,20200421154918,43942,"WEB (MÓDULO DE SOLICITUD DE INFORMACIÓN HIDROMETEOROLÓGICA)","SOLICITUD DE INFORMACIÓN Y DOCUMENTOS","SOLICITUD DE INFORMACIÓN HIDROMETEOROLÓGICA","NO","GRUPO DE ATENCIÓN AL CIUDADANO",43950,null,null,{"$f":"IFERROR(WORKDAY(C642,R642,DiasNOLaborables),\"\")","v":43971},{"$f":"+IF(C642=\"\",\"\",IF(I642=\"\",\"\",(IF(I642<=L642,\"A TIEMPO\",\"FUERA DE TIEMPO\"))))","v":"A TIEMPO"},{"$f":"IF(I642=\"\",\"\",NETWORKDAYS([4]Hoja1!C642+1,[4]Hoja1!P642,DiasNOLaborables))","v":1},"",null,null,20]
[632,20200421154310,43942,"WEB (MÓDULO DE SOLICITUD DE INFORMACIÓN HIDROMETEOROLÓGICA)","SOLICITUD DE INFORMACIÓN Y DOCUMENTOS","SOLICITUD DE INFORMACIÓN HIDROMETEOROLÓGICA","NO","GRUPO DE ATENCIÓN AL CIUDADANO",43950,null,null,{"$f":"IFERROR(WORKDAY(C643,R643,DiasNOLaborables),\"\")","v":43971},{"$f":"+IF(C643=\"\",\"\",IF(I643=\"\",\"\",(IF(I643<=L643,\"A TIEMPO\",\"FUERA DE TIEMPO\"))))","v":"A TIEMPO"},{"$f":"IF(I643=\"\",\"\",NETWORKDAYS([4]Hoja1!C643+1,[4]Hoja1!P643,DiasNOLaborables))","v":1},"",null,null,20]
[633,20200421153829,43942,"WEB (MÓDULO DE SOLICITUD DE INFORMACIÓN HIDROMETEOROLÓGICA)","SOLICITUD DE INFORMACIÓN Y DOCUMENTOS","SOLICITUD DE INFORMACIÓN HIDROMETEOROLÓGICA","NO","GRUPO DE ATENCIÓN AL CIUDADANO",43950,null,null,{"$f":"IFERROR(WORKDAY(C644,R644,DiasNOLaborables),\"\")","v":43971},{"$f":"+IF(C644=\"\",\"\",IF(I644=\"\",\"\",(IF(I644<=L644,\"A TIEMPO\",\"FUERA DE TIEMPO\"))))","v":"A TIEMPO"},{"$f":"IF(I644=\"\",\"\",NETWORKDAYS([4]Hoja1!C644+1,[4]Hoja1!P644,DiasNOLaborables))","v":1},"",null,null,20]
[634,20200421153053,43942,"WEB (MÓDULO DE SOLICITUD DE INFORMACIÓN HIDROMETEOROLÓGICA)","SOLICITUD DE INFORMACIÓN Y DOCUMENTOS","SOLICITUD DE INFORMACIÓN HIDROMETEOROLÓGICA","NO","GRUPO DE ATENCIÓN AL CIUDADANO",43950,null,null,{"$f":"IFERROR(WORKDAY(C645,R645,DiasNOLaborables),\"\")","v":43971},{"$f":"+IF(C645=\"\",\"\",IF(I645=\"\",\"\",(IF(I645<=L645,\"A TIEMPO\",\"FUERA DE TIEMPO\"))))","v":"A TIEMPO"},{"$f":"IF(I645=\"\",\"\",NETWORKDAYS([4]Hoja1!C645+1,[4]Hoja1!P645,DiasNOLaborables))","v":1},"",null,null,20]
[635,20200421152654,43942,"WEB (MÓDULO DE SOLICITUD DE INFORMACIÓN HIDROMETEOROLÓGICA)","SOLICITUD DE INFORMACIÓN Y DOCUMENTOS","SOLICITUD DE INFORMACIÓN HIDROMETEOROLÓGICA","NO","GRUPO DE ATENCIÓN AL CIUDADANO",43950,null,null,{"$f":"IFERROR(WORKDAY(C646,R646,DiasNOLaborables),\"\")","v":43971},{"$f":"+IF(C646=\"\",\"\",IF(I646=\"\",\"\",(IF(I646<=L646,\"A TIEMPO\",\"FUERA DE TIEMPO\"))))","v":"A TIEMPO"},{"$f":"IF(I646=\"\",\"\",NETWORKDAYS([4]Hoja1!C646+1,[4]Hoja1!P646,DiasNOLaborables))","v":1},"",null,null,20]
[636,20200421152239,43942,"WEB (MÓDULO DE SOLICITUD DE INFORMACIÓN HIDROMETEOROLÓGICA)","SOLICITUD DE INFORMACIÓN Y DOCUMENTOS","SOLICITUD DE INFORMACIÓN HIDROMETEOROLÓGICA","NO","GRUPO DE ATENCIÓN AL CIUDADANO",43950,null,null,{"$f":"IFERROR(WORKDAY(C647,R647,DiasNOLaborables),\"\")","v":43971},{"$f":"+IF(C647=\"\",\"\",IF(I647=\"\",\"\",(IF(I647<=L647,\"A TIEMPO\",\"FUERA DE TIEMPO\"))))","v":"A TIEMPO"},{"$f":"IF(I647=\"\",\"\",NETWORKDAYS([4]Hoja1!C647+1,[4]Hoja1!P647,DiasNOLaborables))","v":6},"",null,null,20]
[637,20200421151434,43942,"WEB (MÓDULO DE SOLICITUD DE INFORMACIÓN HIDROMETEOROLÓGICA)","SOLICITUD DE INFORMACIÓN Y DOCUMENTOS","SOLICITUD DE INFORMACIÓN HIDROMETEOROLÓGICA","NO","GRUPO DE ATENCIÓN AL CIUDADANO",43950,null,null,{"$f":"IFERROR(WORKDAY(C648,R648,DiasNOLaborables),\"\")","v":43971},{"$f":"+IF(C648=\"\",\"\",IF(I648=\"\",\"\",(IF(I648<=L648,\"A TIEMPO\",\"FUERA DE TIEMPO\"))))","v":"A TIEMPO"},{"$f":"IF(I648=\"\",\"\",NETWORKDAYS([4]Hoja1!C648+1,[4]Hoja1!P648,DiasNOLaborables))","v":6},"",null,null,20]
[638,20200421151019,43942,"WEB (MÓDULO DE SOLICITUD DE INFORMACIÓN HIDROMETEOROLÓGICA)","SOLICITUD DE INFORMACIÓN Y DOCUMENTOS","SOLICITUD DE INFORMACIÓN HIDROMETEOROLÓGICA","NO","GRUPO DE ATENCIÓN AL CIUDADANO",43950,null,null,{"$f":"IFERROR(WORKDAY(C649,R649,DiasNOLaborables),\"\")","v":43971},{"$f":"+IF(C649=\"\",\"\",IF(I649=\"\",\"\",(IF(I649<=L649,\"A TIEMPO\",\"FUERA DE TIEMPO\"))))","v":"A TIEMPO"},{"$f":"IF(I649=\"\",\"\",NETWORKDAYS([4]Hoja1!C649+1,[4]Hoja1!P649,DiasNOLaborables))","v":2},"",null,null,20]
[639,20200421150134,43942,"WEB (MÓDULO DE SOLICITUD DE INFORMACIÓN HIDROMETEOROLÓGICA)","SOLICITUD DE INFORMACIÓN Y DOCUMENTOS","SOLICITUD DE INFORMACIÓN HIDROMETEOROLÓGICA","NO","GRUPO DE ATENCIÓN AL CIUDADANO",43950,null,null,{"$f":"IFERROR(WORKDAY(C650,R650,DiasNOLaborables),\"\")","v":43971},{"$f":"+IF(C650=\"\",\"\",IF(I650=\"\",\"\",(IF(I650<=L650,\"A TIEMPO\",\"FUERA DE TIEMPO\"))))","v":"A TIEMPO"},{"$f":"IF(I650=\"\",\"\",NETWORKDAYS([4]Hoja1!C650+1,[4]Hoja1!P650,DiasNOLaborables))","v":7},"",null,null,{"$f":"IFERROR(VLOOKUP(E650,$Z$50:$AA$63,2),\"\")","v":20}]
[640,20200421150031,43942,"WEB (MÓDULO DE SOLICITUD DE INFORMACIÓN HIDROMETEOROLÓGICA)","SOLICITUD DE INFORMACIÓN Y DOCUMENTOS","SOLICITUD DE INFORMACIÓN HIDROMETEOROLÓGICA","NO","GRUPO DE ATENCIÓN AL CIUDADANO",43950,null,null,{"$f":"IFERROR(WORKDAY(C651,R651,DiasNOLaborables),\"\")","v":43971},{"$f":"+IF(C651=\"\",\"\",IF(I651=\"\",\"\",(IF(I651<=L651,\"A TIEMPO\",\"FUERA DE TIEMPO\"))))","v":"A TIEMPO"},{"$f":"IF(I651=\"\",\"\",NETWORKDAYS([4]Hoja1!C651+1,[4]Hoja1!P651,DiasNOLaborables))","v":8},"",null,null,20]
[641,20200421145943,43942,"WEB (MÓDULO DE SOLICITUD DE INFORMACIÓN HIDROMETEOROLÓGICA)","SOLICITUD DE INFORMACIÓN Y DOCUMENTOS","SOLICITUD DE INFORMACIÓN HIDROMETEOROLÓGICA","NO","GRUPO DE ATENCIÓN AL CIUDADANO",43950,null,null,{"$f":"IFERROR(WORKDAY(C652,R652,DiasNOLaborables),\"\")","v":43971},{"$f":"+IF(C652=\"\",\"\",IF(I652=\"\",\"\",(IF(I652<=L652,\"A TIEMPO\",\"FUERA DE TIEMPO\"))))","v":"A TIEMPO"},{"$f":"IF(I652=\"\",\"\",NETWORKDAYS([4]Hoja1!C652+1,[4]Hoja1!P652,DiasNOLaborables))","v":1},"",null,null,20]
[642,20200421145120,43942,"WEB (MÓDULO DE SOLICITUD DE INFORMACIÓN HIDROMETEOROLÓGICA)","SOLICITUD DE INFORMACIÓN Y DOCUMENTOS","SOLICITUD DE INFORMACIÓN HIDROMETEOROLÓGICA","NO","GRUPO DE ATENCIÓN AL CIUDADANO",43950,null,null,{"$f":"IFERROR(WORKDAY(C653,R653,DiasNOLaborables),\"\")","v":43971},{"$f":"+IF(C653=\"\",\"\",IF(I653=\"\",\"\",(IF(I653<=L653,\"A TIEMPO\",\"FUERA DE TIEMPO\"))))","v":"A TIEMPO"},{"$f":"IF(I653=\"\",\"\",NETWORKDAYS([4]Hoja1!C653+1,[4]Hoja1!P653,DiasNOLaborables))","v":7},"",null,null,20]
[643,20200421144750,43942,"WEB (MÓDULO DE SOLICITUD DE INFORMACIÓN HIDROMETEOROLÓGICA)","SOLICITUD DE INFORMACIÓN Y DOCUMENTOS","SOLICITUD DE INFORMACIÓN HIDROMETEOROLÓGICA","NO","GRUPO DE ATENCIÓN AL CIUDADANO",43950,null,null,{"$f":"IFERROR(WORKDAY(C654,R654,DiasNOLaborables),\"\")","v":43971},{"$f":"+IF(C654=\"\",\"\",IF(I654=\"\",\"\",(IF(I654<=L654,\"A TIEMPO\",\"FUERA DE TIEMPO\"))))","v":"A TIEMPO"},{"$f":"IF(I654=\"\",\"\",NETWORKDAYS([4]Hoja1!C654+1,[4]Hoja1!P654,DiasNOLaborables))","v":1},"",null,null,20]
[644,20200421144419,43942,"WEB (MÓDULO DE SOLICITUD DE INFORMACIÓN HIDROMETEOROLÓGICA)","SOLICITUD DE INFORMACIÓN Y DOCUMENTOS","SOLICITUD DE INFORMACIÓN HIDROMETEOROLÓGICA","NO","GRUPO DE ATENCIÓN AL CIUDADANO",43950,null,null,{"$f":"IFERROR(WORKDAY(C655,R655,DiasNOLaborables),\"\")","v":43971},{"$f":"+IF(C655=\"\",\"\",IF(I655=\"\",\"\",(IF(I655<=L655,\"A TIEMPO\",\"FUERA DE TIEMPO\"))))","v":"A TIEMPO"},{"$f":"IF(I655=\"\",\"\",NETWORKDAYS([4]Hoja1!C655+1,[4]Hoja1!P655,DiasNOLaborables))","v":2},"",null,null,20]
[645,20200421143759,43942,"WEB (MÓDULO DE SOLICITUD DE INFORMACIÓN HIDROMETEOROLÓGICA)","SOLICITUD DE INFORMACIÓN Y DOCUMENTOS","SOLICITUD DE INFORMACIÓN HIDROMETEOROLÓGICA","NO","GRUPO DE ATENCIÓN AL CIUDADANO",43950,null,null,{"$f":"IFERROR(WORKDAY(C656,R656,DiasNOLaborables),\"\")","v":43971},{"$f":"+IF(C656=\"\",\"\",IF(I656=\"\",\"\",(IF(I656<=L656,\"A TIEMPO\",\"FUERA DE TIEMPO\"))))","v":"A TIEMPO"},{"$f":"IF(I656=\"\",\"\",NETWORKDAYS([4]Hoja1!C656+1,[4]Hoja1!P656,DiasNOLaborables))","v":7},"",null,null,20]
[646,20200421143305,43942,"WEB (MÓDULO DE SOLICITUD DE INFORMACIÓN HIDROMETEOROLÓGICA)","SOLICITUD DE INFORMACIÓN Y DOCUMENTOS","SOLICITUD DE INFORMACIÓN HIDROMETEOROLÓGICA","NO","GRUPO DE ATENCIÓN AL CIUDADANO",43950,null,null,{"$f":"IFERROR(WORKDAY(C657,R657,DiasNOLaborables),\"\")","v":43971},{"$f":"+IF(C657=\"\",\"\",IF(I657=\"\",\"\",(IF(I657<=L657,\"A TIEMPO\",\"FUERA DE TIEMPO\"))))","v":"A TIEMPO"},{"$f":"IF(I657=\"\",\"\",NETWORKDAYS([4]Hoja1!C657+1,[4]Hoja1!P657,DiasNOLaborables))","v":1},"",null,null,20]
[647,20200421141330,43942,"WEB (MÓDULO DE SOLICITUD DE INFORMACIÓN HIDROMETEOROLÓGICA)","SOLICITUD DE INFORMACIÓN Y DOCUMENTOS","SOLICITUD DE INFORMACIÓN HIDROMETEOROLÓGICA","NO","GRUPO DE ATENCIÓN AL CIUDADANO",43950,null,null,{"$f":"IFERROR(WORKDAY(C658,R658,DiasNOLaborables),\"\")","v":43971},{"$f":"+IF(C658=\"\",\"\",IF(I658=\"\",\"\",(IF(I658<=L658,\"A TIEMPO\",\"FUERA DE TIEMPO\"))))","v":"A TIEMPO"},{"$f":"IF(I658=\"\",\"\",NETWORKDAYS([4]Hoja1!C658+1,[4]Hoja1!P658,DiasNOLaborables))","v":5},"",null,null,20]
[648,20200421122839,43942,"WEB (MÓDULO DE SOLICITUD DE INFORMACIÓN HIDROMETEOROLÓGICA)","SOLICITUD DE INFORMACIÓN Y DOCUMENTOS","SOLICITUD DE INFORMACIÓN HIDROMETEOROLÓGICA","NO","GRUPO DE ATENCIÓN AL CIUDADANO",43950,null,null,{"$f":"IFERROR(WORKDAY(C659,R659,DiasNOLaborables),\"\")","v":43971},{"$f":"+IF(C659=\"\",\"\",IF(I659=\"\",\"\",(IF(I659<=L659,\"A TIEMPO\",\"FUERA DE TIEMPO\"))))","v":"A TIEMPO"},{"$f":"IF(I659=\"\",\"\",NETWORKDAYS([4]Hoja1!C659+1,[4]Hoja1!P659,DiasNOLaborables))","v":4},"",null,null,20]
[649,20200421122413,43942,"WEB (MÓDULO DE SOLICITUD DE INFORMACIÓN HIDROMETEOROLÓGICA)","SOLICITUD DE INFORMACIÓN Y DOCUMENTOS","SOLICITUD DE INFORMACIÓN HIDROMETEOROLÓGICA","NO","GRUPO DE ATENCIÓN AL CIUDADANO",43950,null,null,{"$f":"IFERROR(WORKDAY(C660,R660,DiasNOLaborables),\"\")","v":43971},{"$f":"+IF(C660=\"\",\"\",IF(I660=\"\",\"\",(IF(I660<=L660,\"A TIEMPO\",\"FUERA DE TIEMPO\"))))","v":"A TIEMPO"},{"$f":"IF(I660=\"\",\"\",NETWORKDAYS([4]Hoja1!C660+1,[4]Hoja1!P660,DiasNOLaborables))","v":2},"",null,null,20]
[650,20200421122024,43942,"WEB (MÓDULO DE SOLICITUD DE INFORMACIÓN HIDROMETEOROLÓGICA)","SOLICITUD DE INFORMACIÓN Y DOCUMENTOS","SOLICITUD DE INFORMACIÓN HIDROMETEOROLÓGICA","NO","GRUPO DE ATENCIÓN AL CIUDADANO",43950,null,null,{"$f":"IFERROR(WORKDAY(C661,R661,DiasNOLaborables),\"\")","v":43971},{"$f":"+IF(C661=\"\",\"\",IF(I661=\"\",\"\",(IF(I661<=L661,\"A TIEMPO\",\"FUERA DE TIEMPO\"))))","v":"A TIEMPO"},{"$f":"IF(I661=\"\",\"\",NETWORKDAYS([4]Hoja1!C661+1,[4]Hoja1!P661,DiasNOLaborables))","v":2},"",null,null,20]
[651,20200421120213,43942,"WEB (MÓDULO DE SOLICITUD DE INFORMACIÓN HIDROMETEOROLÓGICA)","SOLICITUD DE INFORMACIÓN Y DOCUMENTOS","SOLICITUD DE INFORMACIÓN HIDROMETEOROLÓGICA","NO","GRUPO DE ATENCIÓN AL CIUDADANO",43950,null,null,{"$f":"IFERROR(WORKDAY(C662,R662,DiasNOLaborables),\"\")","v":43971},{"$f":"+IF(C662=\"\",\"\",IF(I662=\"\",\"\",(IF(I662<=L662,\"A TIEMPO\",\"FUERA DE TIEMPO\"))))","v":"A TIEMPO"},{"$f":"IF(I662=\"\",\"\",NETWORKDAYS([4]Hoja1!C662+1,[4]Hoja1!P662,DiasNOLaborables))","v":8},"",null,null,20]
[652,20200421114858,43942,"WEB (MÓDULO DE SOLICITUD DE INFORMACIÓN HIDROMETEOROLÓGICA)","SOLICITUD DE INFORMACIÓN Y DOCUMENTOS","SOLICITUD DE INFORMACIÓN HIDROMETEOROLÓGICA","NO","GRUPO DE ATENCIÓN AL CIUDADANO",43950,null,null,{"$f":"IFERROR(WORKDAY(C663,R663,DiasNOLaborables),\"\")","v":43971},{"$f":"+IF(C663=\"\",\"\",IF(I663=\"\",\"\",(IF(I663<=L663,\"A TIEMPO\",\"FUERA DE TIEMPO\"))))","v":"A TIEMPO"},{"$f":"IF(I663=\"\",\"\",NETWORKDAYS([4]Hoja1!C663+1,[4]Hoja1!P663,DiasNOLaborables))","v":1},"",null,null,20]
[653,20200421113029,43942,"WEB (MÓDULO DE SOLICITUD DE INFORMACIÓN HIDROMETEOROLÓGICA)","SOLICITUD DE INFORMACIÓN Y DOCUMENTOS","SOLICITUD DE INFORMACIÓN HIDROMETEOROLÓGICA","NO","GRUPO DE ATENCIÓN AL CIUDADANO",43950,null,null,{"$f":"IFERROR(WORKDAY(C664,R664,DiasNOLaborables),\"\")","v":43971},{"$f":"+IF(C664=\"\",\"\",IF(I664=\"\",\"\",(IF(I664<=L664,\"A TIEMPO\",\"FUERA DE TIEMPO\"))))","v":"A TIEMPO"},{"$f":"IF(I664=\"\",\"\",NETWORKDAYS([4]Hoja1!C664+1,[4]Hoja1!P664,DiasNOLaborables))","v":2},"",null,null,20]
[654,20200424185320,43945,"WEB (MÓDULO DE SOLICITUD DE INFORMACIÓN HIDROMETEOROLÓGICA)","SOLICITUD DE INFORMACIÓN Y DOCUMENTOS","SOLICITUD DE INFORMACIÓN HIDROMETEOROLÓGICA","NO","GRUPO DE ATENCIÓN AL CIUDADANO",43951,null,null,{"$f":"IFERROR(WORKDAY(C665,R665,DiasNOLaborables),\"\")","v":43977},{"$f":"+IF(C665=\"\",\"\",IF(I665=\"\",\"\",(IF(I665<=L665,\"A TIEMPO\",\"FUERA DE TIEMPO\"))))","v":"A TIEMPO"},{"$f":"IF(I665=\"\",\"\",NETWORKDAYS([4]Hoja1!C665+1,[4]Hoja1!P665,DiasNOLaborables))","v":1},"",null,null,20]
[655,20200424174220,43945,"WEB (MÓDULO DE SOLICITUD DE INFORMACIÓN HIDROMETEOROLÓGICA)","SOLICITUD DE INFORMACIÓN Y DOCUMENTOS","SOLICITUD DE INFORMACIÓN HIDROMETEOROLÓGICA","NO","GRUPO DE ATENCIÓN AL CIUDADANO",43951,null,null,{"$f":"IFERROR(WORKDAY(C666,R666,DiasNOLaborables),\"\")","v":43977},{"$f":"+IF(C666=\"\",\"\",IF(I666=\"\",\"\",(IF(I666<=L666,\"A TIEMPO\",\"FUERA DE TIEMPO\"))))","v":"A TIEMPO"},{"$f":"IF(I666=\"\",\"\",NETWORKDAYS([4]Hoja1!C666+1,[4]Hoja1!P666,DiasNOLaborables))","v":4},"",null,null,20]
[656,20200424173635,43945,"WEB (MÓDULO DE SOLICITUD DE INFORMACIÓN HIDROMETEOROLÓGICA)","SOLICITUD DE INFORMACIÓN Y DOCUMENTOS","SOLICITUD DE INFORMACIÓN HIDROMETEOROLÓGICA","NO","GRUPO DE ATENCIÓN AL CIUDADANO",43951,null,null,{"$f":"IFERROR(WORKDAY(C667,R667,DiasNOLaborables),\"\")","v":43977},{"$f":"+IF(C667=\"\",\"\",IF(I667=\"\",\"\",(IF(I667<=L667,\"A TIEMPO\",\"FUERA DE TIEMPO\"))))","v":"A TIEMPO"},{"$f":"IF(I667=\"\",\"\",NETWORKDAYS([4]Hoja1!C667+1,[4]Hoja1!P667,DiasNOLaborables))","v":1},{"$f":"IF(NETWORKDAYS(L667+1,I667,DiasNOLaborables)<=0,\"\",NETWORKDAYS(L667+1,I667,DiasNOLaborables))","v":""},null,null,20]
[657,20200424172006,43945,"WEB (MÓDULO DE SOLICITUD DE INFORMACIÓN HIDROMETEOROLÓGICA)","SOLICITUD DE INFORMACIÓN Y DOCUMENTOS","SOLICITUD DE INFORMACIÓN HIDROMETEOROLÓGICA","NO","GRUPO DE ATENCIÓN AL CIUDADANO",43951,null,null,{"$f":"IFERROR(WORKDAY(C668,R668,DiasNOLaborables),\"\")","v":43977},{"$f":"+IF(C668=\"\",\"\",IF(I668=\"\",\"\",(IF(I668<=L668,\"A TIEMPO\",\"FUERA DE TIEMPO\"))))","v":"A TIEMPO"},{"$f":"IF(I668=\"\",\"\",NETWORKDAYS([4]Hoja1!C668+1,[4]Hoja1!P668,DiasNOLaborables))","v":1},"",null,null,20]
[658,20200424165732,43945,"WEB (MÓDULO DE SOLICITUD DE INFORMACIÓN HIDROMETEOROLÓGICA)","SOLICITUD DE INFORMACIÓN Y DOCUMENTOS","SOLICITUD DE INFORMACIÓN HIDROMETEOROLÓGICA","NO","GRUPO DE ATENCIÓN AL CIUDADANO",43951,null,null,{"$f":"IFERROR(WORKDAY(C669,R669,DiasNOLaborables),\"\")","v":43977},{"$f":"+IF(C669=\"\",\"\",IF(I669=\"\",\"\",(IF(I669<=L669,\"A TIEMPO\",\"FUERA DE TIEMPO\"))))","v":"A TIEMPO"},{"$f":"IF(I669=\"\",\"\",NETWORKDAYS([4]Hoja1!C669+1,[4]Hoja1!P669,DiasNOLaborables))","v":2},"",null,null,20]
[659,20200424133703,43945,"WEB (MÓDULO DE SOLICITUD DE INFORMACIÓN HIDROMETEOROLÓGICA)","SOLICITUD DE INFORMACIÓN Y DOCUMENTOS","SOLICITUD DE INFORMACIÓN HIDROMETEOROLÓGICA","NO","GRUPO DE ATENCIÓN AL CIUDADANO",43951,null,null,{"$f":"IFERROR(WORKDAY(C670,R670,DiasNOLaborables),\"\")","v":43977},{"$f":"+IF(C670=\"\",\"\",IF(I670=\"\",\"\",(IF(I670<=L670,\"A TIEMPO\",\"FUERA DE TIEMPO\"))))","v":"A TIEMPO"},{"$f":"IF(I670=\"\",\"\",NETWORKDAYS([4]Hoja1!C670+1,[4]Hoja1!P670,DiasNOLaborables))","v":2},"",null,null,20]
[660,20200424114638,43945,"WEB (MÓDULO DE SOLICITUD DE INFORMACIÓN HIDROMETEOROLÓGICA)","SOLICITUD DE INFORMACIÓN Y DOCUMENTOS","SOLICITUD DE INFORMACIÓN HIDROMETEOROLÓGICA","NO","GRUPO DE ATENCIÓN AL CIUDADANO",43951,null,null,{"$f":"IFERROR(WORKDAY(C671,R671,DiasNOLaborables),\"\")","v":43977},{"$f":"+IF(C671=\"\",\"\",IF(I671=\"\",\"\",(IF(I671<=L671,\"A TIEMPO\",\"FUERA DE TIEMPO\"))))","v":"A TIEMPO"},{"$f":"IF(I671=\"\",\"\",NETWORKDAYS([4]Hoja1!C671+1,[4]Hoja1!P671,DiasNOLaborables))","v":2},"",null,null,20]
[661,20200424105058,43945,"WEB (MÓDULO DE SOLICITUD DE INFORMACIÓN HIDROMETEOROLÓGICA)","SOLICITUD DE INFORMACIÓN Y DOCUMENTOS","SOLICITUD DE INFORMACIÓN HIDROMETEOROLÓGICA","NO","GRUPO DE ATENCIÓN AL CIUDADANO",43951,null,null,{"$f":"IFERROR(WORKDAY(C672,R672,DiasNOLaborables),\"\")","v":43977},{"$f":"+IF(C672=\"\",\"\",IF(I672=\"\",\"\",(IF(I672<=L672,\"A TIEMPO\",\"FUERA DE TIEMPO\"))))","v":"A TIEMPO"},{"$f":"IF(I672=\"\",\"\",NETWORKDAYS([4]Hoja1!C672+1,[4]Hoja1!P672,DiasNOLaborables))","v":1},"",null,null,20]
[662,20200424102455,43945,"WEB (MÓDULO DE SOLICITUD DE INFORMACIÓN HIDROMETEOROLÓGICA)","SOLICITUD DE INFORMACIÓN Y DOCUMENTOS","SOLICITUD DE INFORMACIÓN HIDROMETEOROLÓGICA","NO","GRUPO DE ATENCIÓN AL CIUDADANO",43951,null,null,{"$f":"IFERROR(WORKDAY(C673,R673,DiasNOLaborables),\"\")","v":43977},{"$f":"+IF(C673=\"\",\"\",IF(I673=\"\",\"\",(IF(I673<=L673,\"A TIEMPO\",\"FUERA DE TIEMPO\"))))","v":"A TIEMPO"},{"$f":"IF(I673=\"\",\"\",NETWORKDAYS([4]Hoja1!C673+1,[4]Hoja1!P673,DiasNOLaborables))","v":7},"",null,null,20]
[663,20200424100839,43945,"WEB (MÓDULO DE SOLICITUD DE INFORMACIÓN HIDROMETEOROLÓGICA)","SOLICITUD DE INFORMACIÓN Y DOCUMENTOS","SOLICITUD DE INFORMACIÓN HIDROMETEOROLÓGICA","NO","GRUPO DE ATENCIÓN AL CIUDADANO",43951,null,null,{"$f":"IFERROR(WORKDAY(C674,R674,DiasNOLaborables),\"\")","v":43977},{"$f":"+IF(C674=\"\",\"\",IF(I674=\"\",\"\",(IF(I674<=L674,\"A TIEMPO\",\"FUERA DE TIEMPO\"))))","v":"A TIEMPO"},{"$f":"IF(I674=\"\",\"\",NETWORKDAYS([4]Hoja1!C674+1,[4]Hoja1!P674,DiasNOLaborables))","v":8},"",null,null,20]
[664,20200424011503,43945,"WEB (MÓDULO DE SOLICITUD DE INFORMACIÓN HIDROMETEOROLÓGICA)","SOLICITUD DE INFORMACIÓN Y DOCUMENTOS","SOLICITUD DE INFORMACIÓN HIDROMETEOROLÓGICA","NO","GRUPO DE ATENCIÓN AL CIUDADANO",43951,null,null,{"$f":"IFERROR(WORKDAY(C675,R675,DiasNOLaborables),\"\")","v":43977},{"$f":"+IF(C675=\"\",\"\",IF(I675=\"\",\"\",(IF(I675<=L675,\"A TIEMPO\",\"FUERA DE TIEMPO\"))))","v":"A TIEMPO"},{"$f":"IF(I675=\"\",\"\",NETWORKDAYS([4]Hoja1!C675+1,[4]Hoja1!P675,DiasNOLaborables))","v":7},"",null,null,20]
[665,20209050032972,43939,"WEB (MÓDULO DE SOLICITUD DE INFORMACIÓN HIDROMETEOROLÓGICA)","SOLICITUD DE INFORMACIÓN Y DOCUMENTOS","SOLICITUD DE INFORMACIÓN HIDROMETEOROLÓGICA","NO","GRUPO DE ATENCIÓN AL CIUDADANO",43955,null,null,{"$f":"IFERROR(WORKDAY(C676,R676,DiasNOLaborables),\"\")","v":43969},{"$f":"+IF(C676=\"\",\"\",IF(I676=\"\",\"\",(IF(I676<=L676,\"A TIEMPO\",\"FUERA DE TIEMPO\"))))","v":"A TIEMPO"},{"$f":"IF(I676=\"\",\"\",NETWORKDAYS([4]Hoja1!C676+1,[4]Hoja1!P676,DiasNOLaborables))","v":7},"",null,null,20]
[666,20209050033182,43941,"WEB (MÓDULO DE SOLICITUD DE INFORMACIÓN HIDROMETEOROLÓGICA)","SOLICITUD DE INFORMACIÓN Y DOCUMENTOS","SOLICITUD DE INFORMACIÓN HIDROMETEOROLÓGICA","NO","GRUPO DE ATENCIÓN AL CIUDADANO",43955,null,null,{"$f":"IFERROR(WORKDAY(C677,R677,DiasNOLaborables),\"\")","v":43970},{"$f":"+IF(C677=\"\",\"\",IF(I677=\"\",\"\",(IF(I677<=L677,\"A TIEMPO\",\"FUERA DE TIEMPO\"))))","v":"A TIEMPO"},{"$f":"IF(I677=\"\",\"\",NETWORKDAYS([4]Hoja1!C677+1,[4]Hoja1!P677,DiasNOLaborables))","v":8},"",null,null,20]
[667,20209050033192,43941,"WEB (MÓDULO DE SOLICITUD DE INFORMACIÓN HIDROMETEOROLÓGICA)","SOLICITUD DE INFORMACIÓN Y DOCUMENTOS","SOLICITUD DE INFORMACIÓN HIDROMETEOROLÓGICA","NO","GRUPO DE ATENCIÓN AL CIUDADANO",43955,null,null,{"$f":"IFERROR(WORKDAY(C678,R678,DiasNOLaborables),\"\")","v":43970},{"$f":"+IF(C678=\"\",\"\",IF(I678=\"\",\"\",(IF(I678<=L678,\"A TIEMPO\",\"FUERA DE TIEMPO\"))))","v":"A TIEMPO"},{"$f":"IF(I678=\"\",\"\",NETWORKDAYS([4]Hoja1!C678+1,[4]Hoja1!P678,DiasNOLaborables))","v":8},"",null,null,20]
[668,20209050033222,43941,"WEB (MÓDULO DE SOLICITUD DE INFORMACIÓN HIDROMETEOROLÓGICA)","SOLICITUD DE INFORMACIÓN Y DOCUMENTOS","SOLICITUD DE INFORMACIÓN HIDROMETEOROLÓGICA","NO","GRUPO DE ATENCIÓN AL CIUDADANO",43955,null,null,{"$f":"IFERROR(WORKDAY(C679,R679,DiasNOLaborables),\"\")","v":43970},{"$f":"+IF(C679=\"\",\"\",IF(I679=\"\",\"\",(IF(I679<=L679,\"A TIEMPO\",\"FUERA DE TIEMPO\"))))","v":"A TIEMPO"},{"$f":"IF(I679=\"\",\"\",NETWORKDAYS([4]Hoja1!C679+1,[4]Hoja1!P679,DiasNOLaborables))","v":8},"",null,null,20]
[669,20209050033252,43941,"WEB (MÓDULO DE SOLICITUD DE INFORMACIÓN HIDROMETEOROLÓGICA)","SOLICITUD DE INFORMACIÓN Y DOCUMENTOS","SOLICITUD DE INFORMACIÓN HIDROMETEOROLÓGICA","NO","GRUPO DE ATENCIÓN AL CIUDADANO",43955,null,null,{"$f":"IFERROR(WORKDAY(C680,R680,DiasNOLaborables),\"\")","v":43970},{"$f":"+IF(C680=\"\",\"\",IF(I680=\"\",\"\",(IF(I680<=L680,\"A TIEMPO\",\"FUERA DE TIEMPO\"))))","v":"A TIEMPO"},{"$f":"IF(I680=\"\",\"\",NETWORKDAYS([4]Hoja1!C680+1,[4]Hoja1!P680,DiasNOLaborables))","v":8},"",null,null,20]
[670,20209050033262,43941,"WEB (MÓDULO DE SOLICITUD DE INFORMACIÓN HIDROMETEOROLÓGICA)","SOLICITUD DE INFORMACIÓN Y DOCUMENTOS","SOLICITUD DE INFORMACIÓN HIDROMETEOROLÓGICA","NO","GRUPO DE ATENCIÓN AL CIUDADANO",43955,null,null,{"$f":"IFERROR(WORKDAY(C681,R681,DiasNOLaborables),\"\")","v":43970},{"$f":"+IF(C681=\"\",\"\",IF(I681=\"\",\"\",(IF(I681<=L681,\"A TIEMPO\",\"FUERA DE TIEMPO\"))))","v":"A TIEMPO"},{"$f":"IF(I681=\"\",\"\",NETWORKDAYS([4]Hoja1!C681+1,[4]Hoja1!P681,DiasNOLaborables))","v":8},"",null,null,20]
[671,20209050033282,43941,"WEB (MÓDULO DE SOLICITUD DE INFORMACIÓN HIDROMETEOROLÓGICA)","SOLICITUD DE INFORMACIÓN Y DOCUMENTOS","SOLICITUD DE INFORMACIÓN HIDROMETEOROLÓGICA","NO","GRUPO DE ATENCIÓN AL CIUDADANO",43955,null,null,{"$f":"IFERROR(WORKDAY(C682,R682,DiasNOLaborables),\"\")","v":43970},{"$f":"+IF(C682=\"\",\"\",IF(I682=\"\",\"\",(IF(I682<=L682,\"A TIEMPO\",\"FUERA DE TIEMPO\"))))","v":"A TIEMPO"},{"$f":"IF(I682=\"\",\"\",NETWORKDAYS([4]Hoja1!C682+1,[4]Hoja1!P682,DiasNOLaborables))","v":8},"",null,null,20]
[672,20209050033402,43942,"WEB (MÓDULO DE SOLICITUD DE INFORMACIÓN HIDROMETEOROLÓGICA)","SOLICITUD DE INFORMACIÓN Y DOCUMENTOS","SOLICITUD DE INFORMACIÓN HIDROMETEOROLÓGICA","NO","GRUPO DE ATENCIÓN AL CIUDADANO",43955,null,null,{"$f":"IFERROR(WORKDAY(C683,R683,DiasNOLaborables),\"\")","v":43971},{"$f":"+IF(C683=\"\",\"\",IF(I683=\"\",\"\",(IF(I683<=L683,\"A TIEMPO\",\"FUERA DE TIEMPO\"))))","v":"A TIEMPO"},{"$f":"IF(I683=\"\",\"\",NETWORKDAYS([4]Hoja1!C683+1,[4]Hoja1!P683,DiasNOLaborables))","v":9},"",null,null,20]
[673,20209050033442,43942,"WEB (MÓDULO DE SOLICITUD DE INFORMACIÓN HIDROMETEOROLÓGICA)","SOLICITUD DE INFORMACIÓN Y DOCUMENTOS","SOLICITUD DE INFORMACIÓN HIDROMETEOROLÓGICA","NO","GRUPO DE ATENCIÓN AL CIUDADANO",43955,null,null,{"$f":"IFERROR(WORKDAY(C684,R684,DiasNOLaborables),\"\")","v":43971},{"$f":"+IF(C684=\"\",\"\",IF(I684=\"\",\"\",(IF(I684<=L684,\"A TIEMPO\",\"FUERA DE TIEMPO\"))))","v":"A TIEMPO"},{"$f":"IF(I684=\"\",\"\",NETWORKDAYS([4]Hoja1!C684+1,[4]Hoja1!P684,DiasNOLaborables))","v":8},"",null,null,20]
[674,20209050033452,43942,"WEB (MÓDULO DE SOLICITUD DE INFORMACIÓN HIDROMETEOROLÓGICA)","SOLICITUD DE INFORMACIÓN Y DOCUMENTOS","SOLICITUD DE INFORMACIÓN HIDROMETEOROLÓGICA","NO","GRUPO DE ATENCIÓN AL CIUDADANO",43955,null,null,{"$f":"IFERROR(WORKDAY(C685,R685,DiasNOLaborables),\"\")","v":43971},{"$f":"+IF(C685=\"\",\"\",IF(I685=\"\",\"\",(IF(I685<=L685,\"A TIEMPO\",\"FUERA DE TIEMPO\"))))","v":"A TIEMPO"},{"$f":"IF(I685=\"\",\"\",NETWORKDAYS([4]Hoja1!C685+1,[4]Hoja1!P685,DiasNOLaborables))","v":-2},"",null,null,20]
[675,20209050033462,43942,"WEB (MÓDULO DE SOLICITUD DE INFORMACIÓN HIDROMETEOROLÓGICA)","SOLICITUD DE INFORMACIÓN Y DOCUMENTOS","SOLICITUD DE INFORMACIÓN HIDROMETEOROLÓGICA","NO","GRUPO DE ATENCIÓN AL CIUDADANO",43955,null,null,{"$f":"IFERROR(WORKDAY(C686,R686,DiasNOLaborables),\"\")","v":43971},{"$f":"+IF(C686=\"\",\"\",IF(I686=\"\",\"\",(IF(I686<=L686,\"A TIEMPO\",\"FUERA DE TIEMPO\"))))","v":"A TIEMPO"},{"$f":"IF(I686=\"\",\"\",NETWORKDAYS([4]Hoja1!C686+1,[4]Hoja1!P686,DiasNOLaborables))","v":-2},"",null,null,20]
[676,20209050033472,43942,"WEB (MÓDULO DE SOLICITUD DE INFORMACIÓN HIDROMETEOROLÓGICA)","SOLICITUD DE INFORMACIÓN Y DOCUMENTOS","SOLICITUD DE INFORMACIÓN HIDROMETEOROLÓGICA","NO","GRUPO DE ATENCIÓN AL CIUDADANO",43955,null,null,{"$f":"IFERROR(WORKDAY(C687,R687,DiasNOLaborables),\"\")","v":43971},{"$f":"+IF(C687=\"\",\"\",IF(I687=\"\",\"\",(IF(I687<=L687,\"A TIEMPO\",\"FUERA DE TIEMPO\"))))","v":"A TIEMPO"},{"$f":"IF(I687=\"\",\"\",NETWORKDAYS([4]Hoja1!C687+1,[4]Hoja1!P687,DiasNOLaborables))","v":-2},"",null,null,20]
[677,20209050033492,43942,"WEB (MÓDULO DE SOLICITUD DE INFORMACIÓN HIDROMETEOROLÓGICA)","SOLICITUD DE INFORMACIÓN Y DOCUMENTOS","SOLICITUD DE INFORMACIÓN HIDROMETEOROLÓGICA","NO","GRUPO DE ATENCIÓN AL CIUDADANO",43955,null,null,{"$f":"IFERROR(WORKDAY(C688,R688,DiasNOLaborables),\"\")","v":43971},{"$f":"+IF(C688=\"\",\"\",IF(I688=\"\",\"\",(IF(I688<=L688,\"A TIEMPO\",\"FUERA DE TIEMPO\"))))","v":"A TIEMPO"},{"$f":"IF(I688=\"\",\"\",NETWORKDAYS([4]Hoja1!C688+1,[4]Hoja1!P688,DiasNOLaborables))","v":-2},"",null,null,20]
[678,20209050033522,43942,"WEB (MÓDULO DE SOLICITUD DE INFORMACIÓN HIDROMETEOROLÓGICA)","SOLICITUD DE INFORMACIÓN Y DOCUMENTOS","SOLICITUD DE INFORMACIÓN HIDROMETEOROLÓGICA","NO","GRUPO DE ATENCIÓN AL CIUDADANO",43958,null,null,{"$f":"IFERROR(WORKDAY(C689,R689,DiasNOLaborables),\"\")","v":43971},{"$f":"+IF(C689=\"\",\"\",IF(I689=\"\",\"\",(IF(I689<=L689,\"A TIEMPO\",\"FUERA DE TIEMPO\"))))","v":"A TIEMPO"},{"$f":"IF(I689=\"\",\"\",NETWORKDAYS([4]Hoja1!C689+1,[4]Hoja1!P689,DiasNOLaborables))","v":-2},"",null,null,20]
[{"$f":"IF(B688<>\"\",A689+1,\"\")","v":679},20209050033702,43943,"MODULO CONTACTENOS","SOLICITUD DE INFORMACIÓN Y DOCUMENTOS","SOLICITUD DE INFORMACIÓN HIDROMETEOROLÓGICA","NO","GRUPO DE ATENCIÓN AL CIUDADANO",43958,null,null,{"$f":"IFERROR(WORKDAY(C690,R690,DiasNOLaborables),\"\")","v":43972},{"$f":"+IF(C690=\"\",\"\",IF(I690=\"\",\"\",(IF(I690<=L690,\"A TIEMPO\",\"FUERA DE TIEMPO\"))))","v":"A TIEMPO"},{"$f":"IF(I690=\"\",\"\",NETWORKDAYS([4]Hoja1!C690+1,[4]Hoja1!P690,DiasNOLaborables))","v":1},"",null,null,20]
[680,20209050033722,43943,"MODULO CONTACTENOS","SOLICITUD DE INFORMACIÓN Y DOCUMENTOS","SOLICITUD DE INFORMACIÓN HIDROMETEOROLÓGICA","NO","GRUPO DE ATENCIÓN AL CIUDADANO",43958,null,null,{"$f":"IFERROR(WORKDAY(C691,R691,DiasNOLaborables),\"\")","v":43972},{"$f":"+IF(C691=\"\",\"\",IF(I691=\"\",\"\",(IF(I691<=L691,\"A TIEMPO\",\"FUERA DE TIEMPO\"))))","v":"A TIEMPO"},{"$f":"IF(I691=\"\",\"\",NETWORKDAYS([4]Hoja1!C691+1,[4]Hoja1!P691,DiasNOLaborables))","v":-2},"",null,null,20]
[681,20209050033742,43943,"MODULO CONTACTENOS","SOLICITUD DE INFORMACIÓN Y DOCUMENTOS","SOLICITUD DE INFORMACIÓN HIDROMETEOROLÓGICA","NO","GRUPO DE ATENCIÓN AL CIUDADANO",43958,null,null,{"$f":"IFERROR(WORKDAY(C692,R692,DiasNOLaborables),\"\")","v":43972},{"$f":"+IF(C692=\"\",\"\",IF(I692=\"\",\"\",(IF(I692<=L692,\"A TIEMPO\",\"FUERA DE TIEMPO\"))))","v":"A TIEMPO"},{"$f":"IF(I692=\"\",\"\",NETWORKDAYS([4]Hoja1!C692+1,[4]Hoja1!P692,DiasNOLaborables))","v":-2},"",null,null,20]
[682,20209050034102,43943,"MODULO CONTACTENOS","SOLICITUD DE INFORMACIÓN Y DOCUMENTOS","SOLICITUD DE INFORMACIÓN HIDROMETEOROLÓGICA","NO","GRUPO DE ATENCIÓN AL CIUDADANO",43958,null,null,{"$f":"IFERROR(WORKDAY(C693,R693,DiasNOLaborables),\"\")","v":43972},{"$f":"+IF(C693=\"\",\"\",IF(I693=\"\",\"\",(IF(I693<=L693,\"A TIEMPO\",\"FUERA DE TIEMPO\"))))","v":"A TIEMPO"},{"$f":"IF(I693=\"\",\"\",NETWORKDAYS([4]Hoja1!C693+1,[4]Hoja1!P693,DiasNOLaborables))","v":18},"",null,null,20]
[683,20209050034122,43943,"MODULO CONTACTENOS","SOLICITUD DE INFORMACIÓN Y DOCUMENTOS","SOLICITUD DE INFORMACIÓN HIDROMETEOROLÓGICA","NO","GRUPO DE ATENCIÓN AL CIUDADANO",43958,null,null,{"$f":"IFERROR(WORKDAY(C694,R694,DiasNOLaborables),\"\")","v":43972},{"$f":"+IF(C694=\"\",\"\",IF(I694=\"\",\"\",(IF(I694<=L694,\"A TIEMPO\",\"FUERA DE TIEMPO\"))))","v":"A TIEMPO"},{"$f":"IF(I694=\"\",\"\",NETWORKDAYS([4]Hoja1!C694+1,[4]Hoja1!P694,DiasNOLaborables))","v":1},"",null,null,20]
[684,20209050034132,43943,"MODULO CONTACTENOS","SOLICITUD DE INFORMACIÓN Y DOCUMENTOS","SOLICITUD DE INFORMACIÓN HIDROMETEOROLÓGICA","NO","GRUPO DE ATENCIÓN AL CIUDADANO",43958,null,null,{"$f":"IFERROR(WORKDAY(C695,R695,DiasNOLaborables),\"\")","v":43972},{"$f":"+IF(C695=\"\",\"\",IF(I695=\"\",\"\",(IF(I695<=L695,\"A TIEMPO\",\"FUERA DE TIEMPO\"))))","v":"A TIEMPO"},{"$f":"IF(I695=\"\",\"\",NETWORKDAYS([4]Hoja1!C695+1,[4]Hoja1!P695,DiasNOLaborables))","v":10},"",null,null,20]
[685,20209050034142,43943,"MODULO CONTACTENOS","SOLICITUD DE INFORMACIÓN Y DOCUMENTOS","SOLICITUD DE INFORMACIÓN HIDROMETEOROLÓGICA","NO","GRUPO DE ATENCIÓN AL CIUDADANO",43958,null,null,{"$f":"IFERROR(WORKDAY(C696,R696,DiasNOLaborables),\"\")","v":43972},{"$f":"+IF(C696=\"\",\"\",IF(I696=\"\",\"\",(IF(I696<=L696,\"A TIEMPO\",\"FUERA DE TIEMPO\"))))","v":"A TIEMPO"},{"$f":"IF(I696=\"\",\"\",NETWORKDAYS([4]Hoja1!C696+1,[4]Hoja1!P696,DiasNOLaborables))","v":22},"",null,null,20]
[686,20209050034152,43943,"MODULO CONTACTENOS","SOLICITUD DE INFORMACIÓN Y DOCUMENTOS","SOLICITUD DE INFORMACIÓN HIDROMETEOROLÓGICA","NO","GRUPO DE ATENCIÓN AL CIUDADANO",43958,null,null,{"$f":"IFERROR(WORKDAY(C697,R697,DiasNOLaborables),\"\")","v":43972},{"$f":"+IF(C697=\"\",\"\",IF(I697=\"\",\"\",(IF(I697<=L697,\"A TIEMPO\",\"FUERA DE TIEMPO\"))))","v":"A TIEMPO"},{"$f":"IF(I697=\"\",\"\",NETWORKDAYS([4]Hoja1!C697+1,[4]Hoja1!P697,DiasNOLaborables))","v":18},"",null,null,20]
[687,20209050034172,43943,"MODULO CONTACTENOS","SOLICITUD DE INFORMACIÓN Y DOCUMENTOS","SOLICITUD DE INFORMACIÓN HIDROMETEOROLÓGICA","NO","GRUPO DE ATENCIÓN AL CIUDADANO",43958,null,null,{"$f":"IFERROR(WORKDAY(C698,R698,DiasNOLaborables),\"\")","v":43972},{"$f":"+IF(C698=\"\",\"\",IF(I698=\"\",\"\",(IF(I698<=L698,\"A TIEMPO\",\"FUERA DE TIEMPO\"))))","v":"A TIEMPO"},{"$f":"IF(I698=\"\",\"\",NETWORKDAYS([4]Hoja1!C698+1,[4]Hoja1!P698,DiasNOLaborables))","v":7},"",null,null,20]
[688,20209050034182,43943,"MODULO CONTACTENOS","SOLICITUD DE INFORMACIÓN Y DOCUMENTOS","SOLICITUD DE INFORMACIÓN HIDROMETEOROLÓGICA","NO","GRUPO DE ATENCIÓN AL CIUDADANO",43958,null,null,{"$f":"IFERROR(WORKDAY(C699,R699,DiasNOLaborables),\"\")","v":43972},{"$f":"+IF(C699=\"\",\"\",IF(I699=\"\",\"\",(IF(I699<=L699,\"A TIEMPO\",\"FUERA DE TIEMPO\"))))","v":"A TIEMPO"},{"$f":"IF(I699=\"\",\"\",NETWORKDAYS([4]Hoja1!C699+1,[4]Hoja1!P699,DiasNOLaborables))","v":-2},"",null,null,20]
[689,20209050034202,43943,"MODULO CONTACTENOS","SOLICITUD DE INFORMACIÓN Y DOCUMENTOS","SOLICITUD DE INFORMACIÓN HIDROMETEOROLÓGICA","NO","GRUPO DE ATENCIÓN AL CIUDADANO",43958,null,null,{"$f":"IFERROR(WORKDAY(C700,R700,DiasNOLaborables),\"\")","v":43972},{"$f":"+IF(C700=\"\",\"\",IF(I700=\"\",\"\",(IF(I700<=L700,\"A TIEMPO\",\"FUERA DE TIEMPO\"))))","v":"A TIEMPO"},{"$f":"IF(I700=\"\",\"\",NETWORKDAYS([4]Hoja1!C700+1,[4]Hoja1!P700,DiasNOLaborables))","v":6},"",null,null,20]
[690,20209050034432,43944,"MODULO CONTACTENOS","SOLICITUD DE INFORMACIÓN Y DOCUMENTOS","SOLICITUD DE INFORMACIÓN HIDROMETEOROLÓGICA","NO","GRUPO DE ATENCIÓN AL CIUDADANO",43959,null,null,{"$f":"IFERROR(WORKDAY(C701,R701,DiasNOLaborables),\"\")","v":43973},{"$f":"+IF(C701=\"\",\"\",IF(I701=\"\",\"\",(IF(I701<=L701,\"A TIEMPO\",\"FUERA DE TIEMPO\"))))","v":"A TIEMPO"},{"$f":"IF(I701=\"\",\"\",NETWORKDAYS([4]Hoja1!C701+1,[4]Hoja1!P701,DiasNOLaborables))","v":4},"",null,null,20]
[691,20209050034442,43944,"MODULO CONTACTENOS","SOLICITUD DE INFORMACIÓN Y DOCUMENTOS","SOLICITUD DE INFORMACIÓN HIDROMETEOROLÓGICA","NO","GRUPO DE ATENCIÓN AL CIUDADANO",43959,null,null,{"$f":"IFERROR(WORKDAY(C702,R702,DiasNOLaborables),\"\")","v":43973},{"$f":"+IF(C702=\"\",\"\",IF(I702=\"\",\"\",(IF(I702<=L702,\"A TIEMPO\",\"FUERA DE TIEMPO\"))))","v":"A TIEMPO"},{"$f":"IF(I702=\"\",\"\",NETWORKDAYS([4]Hoja1!C702+1,[4]Hoja1!P702,DiasNOLaborables))","v":7},"",null,null,20]
[692,20209050034452,43944,"MODULO CONTACTENOS","SOLICITUD DE INFORMACIÓN Y DOCUMENTOS","SOLICITUD DE INFORMACIÓN HIDROMETEOROLÓGICA","NO","GRUPO DE ATENCIÓN AL CIUDADANO",43959,null,null,{"$f":"IFERROR(WORKDAY(C703,R703,DiasNOLaborables),\"\")","v":43973},{"$f":"+IF(C703=\"\",\"\",IF(I703=\"\",\"\",(IF(I703<=L703,\"A TIEMPO\",\"FUERA DE TIEMPO\"))))","v":"A TIEMPO"},{"$f":"IF(I703=\"\",\"\",NETWORKDAYS([4]Hoja1!C703+1,[4]Hoja1!P703,DiasNOLaborables))","v":7},"",null,null,20]
[693,20209050034462,43944,"MODULO CONTACTENOS","SOLICITUD DE INFORMACIÓN Y DOCUMENTOS","SOLICITUD DE INFORMACIÓN HIDROMETEOROLÓGICA","NO","GRUPO DE ATENCIÓN AL CIUDADANO",43959,null,null,{"$f":"IFERROR(WORKDAY(C704,R704,DiasNOLaborables),\"\")","v":43973},{"$f":"+IF(C704=\"\",\"\",IF(I704=\"\",\"\",(IF(I704<=L704,\"A TIEMPO\",\"FUERA DE TIEMPO\"))))","v":"A TIEMPO"},{"$f":"IF(I704=\"\",\"\",NETWORKDAYS([4]Hoja1!C704+1,[4]Hoja1!P704,DiasNOLaborables))","v":11},"",null,null,20]
[694,20209050035072,43947,"MODULO CONTACTENOS","SOLICITUD DE INFORMACIÓN Y DOCUMENTOS","SOLICITUD DE INFORMACIÓN HIDROMETEOROLÓGICA","NO","GRUPO DE ATENCIÓN AL CIUDADANO",43959,null,null,{"$f":"IFERROR(WORKDAY(C705,R705,DiasNOLaborables),\"\")","v":43977},{"$f":"+IF(C705=\"\",\"\",IF(I705=\"\",\"\",(IF(I705<=L705,\"A TIEMPO\",\"FUERA DE TIEMPO\"))))","v":"A TIEMPO"},{"$f":"IF(I705=\"\",\"\",NETWORKDAYS([4]Hoja1!C705+1,[4]Hoja1!P705,DiasNOLaborables))","v":7},"",null,null,20]
[695,20209050035082,43948,"MODULO CONTACTENOS","SOLICITUD DE INFORMACIÓN Y DOCUMENTOS","SOLICITUD DE INFORMACIÓN HIDROMETEOROLÓGICA","NO","GRUPO DE ATENCIÓN AL CIUDADANO",43959,null,null,{"$f":"IFERROR(WORKDAY(C706,R706,DiasNOLaborables),\"\")","v":43978},{"$f":"+IF(C706=\"\",\"\",IF(I706=\"\",\"\",(IF(I706<=L706,\"A TIEMPO\",\"FUERA DE TIEMPO\"))))","v":"A TIEMPO"},{"$f":"IF(I706=\"\",\"\",NETWORKDAYS([4]Hoja1!C706+1,[4]Hoja1!P706,DiasNOLaborables))","v":-2},"",null,null,20]
[696,20209050035092,43948,"MODULO CONTACTENOS","SOLICITUD DE INFORMACIÓN Y DOCUMENTOS","SOLICITUD DE INFORMACIÓN HIDROMETEOROLÓGICA","NO","GRUPO DE ATENCIÓN AL CIUDADANO",43959,null,null,{"$f":"IFERROR(WORKDAY(C707,R707,DiasNOLaborables),\"\")","v":43978},{"$f":"+IF(C707=\"\",\"\",IF(I707=\"\",\"\",(IF(I707<=L707,\"A TIEMPO\",\"FUERA DE TIEMPO\"))))","v":"A TIEMPO"},{"$f":"IF(I707=\"\",\"\",NETWORKDAYS([4]Hoja1!C707+1,[4]Hoja1!P707,DiasNOLaborables))","v":4},"",null,null,20]
[697,20209050035102,43948,"MODULO CONTACTENOS","SOLICITUD DE INFORMACIÓN Y DOCUMENTOS","SOLICITUD DE INFORMACIÓN HIDROMETEOROLÓGICA","NO","GRUPO DE ATENCIÓN AL CIUDADANO",43959,null,null,{"$f":"IFERROR(WORKDAY(C708,R708,DiasNOLaborables),\"\")","v":43978},{"$f":"+IF(C708=\"\",\"\",IF(I708=\"\",\"\",(IF(I708<=L708,\"A TIEMPO\",\"FUERA DE TIEMPO\"))))","v":"A TIEMPO"},{"$f":"IF(I708=\"\",\"\",NETWORKDAYS([4]Hoja1!C708+1,[4]Hoja1!P708,DiasNOLaborables))","v":-2},"",null,null,20]
[698,20209050035762,43949,"MODULO CONTACTENOS","SOLICITUD DE INFORMACIÓN Y DOCUMENTOS","SOLICITUD DE INFORMACIÓN HIDROMETEOROLÓGICA","NO","GRUPO DE ATENCIÓN AL CIUDADANO",43963,null,null,{"$f":"IFERROR(WORKDAY(C709,R709,DiasNOLaborables),\"\")","v":43979},{"$f":"+IF(C709=\"\",\"\",IF(I709=\"\",\"\",(IF(I709<=L709,\"A TIEMPO\",\"FUERA DE TIEMPO\"))))","v":"A TIEMPO"},{"$f":"IF(I709=\"\",\"\",NETWORKDAYS([4]Hoja1!C709+1,[4]Hoja1!P709,DiasNOLaborables))","v":1},"",null,null,20]
[699,20209050035882,43949,"MODULO CONTACTENOS","SOLICITUD DE INFORMACIÓN Y DOCUMENTOS","SOLICITUD DE INFORMACIÓN HIDROMETEOROLÓGICA","NO","GRUPO DE ATENCIÓN AL CIUDADANO",43963,null,null,{"$f":"IFERROR(WORKDAY(C710,R710,DiasNOLaborables),\"\")","v":43979},{"$f":"+IF(C710=\"\",\"\",IF(I710=\"\",\"\",(IF(I710<=L710,\"A TIEMPO\",\"FUERA DE TIEMPO\"))))","v":"A TIEMPO"},{"$f":"IF(I710=\"\",\"\",NETWORKDAYS([4]Hoja1!C710+1,[4]Hoja1!P710,DiasNOLaborables))","v":-2},"",null,null,20]
[700,20209050035892,43949,"MODULO CONTACTENOS","SOLICITUD DE INFORMACIÓN Y DOCUMENTOS","SOLICITUD DE INFORMACIÓN HIDROMETEOROLÓGICA","NO","GRUPO DE ATENCIÓN AL CIUDADANO",43963,null,null,{"$f":"IFERROR(WORKDAY(C711,R711,DiasNOLaborables),\"\")","v":43979},{"$f":"+IF(C711=\"\",\"\",IF(I711=\"\",\"\",(IF(I711<=L711,\"A TIEMPO\",\"FUERA DE TIEMPO\"))))","v":"A TIEMPO"},{"$f":"IF(I711=\"\",\"\",NETWORKDAYS([4]Hoja1!C711+1,[4]Hoja1!P711,DiasNOLaborables))","v":-2},"",null,null,20]
[701,20209050035902,43950,"MODULO CONTACTENOS","SOLICITUD DE INFORMACIÓN Y DOCUMENTOS","SOLICITUD DE INFORMACIÓN HIDROMETEOROLÓGICA","NO","GRUPO DE ATENCIÓN AL CIUDADANO",43963,null,null,{"$f":"IFERROR(WORKDAY(C712,R712,DiasNOLaborables),\"\")","v":43980},{"$f":"+IF(C712=\"\",\"\",IF(I712=\"\",\"\",(IF(I712<=L712,\"A TIEMPO\",\"FUERA DE TIEMPO\"))))","v":"A TIEMPO"},{"$f":"IF(I712=\"\",\"\",NETWORKDAYS([4]Hoja1!C712+1,[4]Hoja1!P712,DiasNOLaborables))","v":6},"",null,null,{"$f":"IFERROR(VLOOKUP(E712,$Z$50:$AA$63,2),\"\")","v":20}]
[702,20209050036252,43950,"MODULO CONTACTENOS","SOLICITUD DE INFORMACIÓN Y DOCUMENTOS","SOLICITUD DE INFORMACIÓN HIDROMETEOROLÓGICA","NO","GRUPO DE ATENCIÓN AL CIUDADANO",43963,null,null,{"$f":"IFERROR(WORKDAY(C713,R713,DiasNOLaborables),\"\")","v":43980},{"$f":"+IF(C713=\"\",\"\",IF(I713=\"\",\"\",(IF(I713<=L713,\"A TIEMPO\",\"FUERA DE TIEMPO\"))))","v":"A TIEMPO"},{"$f":"IF(I713=\"\",\"\",NETWORKDAYS([4]Hoja1!C713+1,[4]Hoja1!P713,DiasNOLaborables))","v":-2},"",null,null,20]
[703,20209050036312,43951,"MODULO CONTACTENOS","SOLICITUD DE INFORMACIÓN Y DOCUMENTOS","SOLICITUD DE INFORMACIÓN HIDROMETEOROLÓGICA","NO","GRUPO DE ATENCIÓN AL CIUDADANO",43963,null,null,{"$f":"IFERROR(WORKDAY(C714,R714,DiasNOLaborables),\"\")","v":43983},{"$f":"+IF(C714=\"\",\"\",IF(I714=\"\",\"\",(IF(I714<=L714,\"A TIEMPO\",\"FUERA DE TIEMPO\"))))","v":"A TIEMPO"},{"$f":"IF(I714=\"\",\"\",NETWORKDAYS([4]Hoja1!C714+1,[4]Hoja1!P714,DiasNOLaborables))","v":-2},"",null,null,20]
[704,20209050036332,43951,"MODULO CONTACTENOS","SOLICITUD DE INFORMACIÓN Y DOCUMENTOS","SOLICITUD DE INFORMACIÓN HIDROMETEOROLÓGICA","NO","GRUPO DE ATENCIÓN AL CIUDADANO",43963,null,null,{"$f":"IFERROR(WORKDAY(C715,R715,DiasNOLaborables),\"\")","v":43983},{"$f":"+IF(C715=\"\",\"\",IF(I715=\"\",\"\",(IF(I715<=L715,\"A TIEMPO\",\"FUERA DE TIEMPO\"))))","v":"A TIEMPO"},{"$f":"IF(I715=\"\",\"\",NETWORKDAYS([4]Hoja1!C715+1,[4]Hoja1!P715,DiasNOLaborables))","v":4},"",null,null,20]
[705,20209050028092,43922,"MODULO CONTACTENOS","CERTIFICACIONES DE TIEMPO, CLIMA Y EVENTOS HIDROLÓGICOS","CERTIFICACIONES DE TIEMPO Y CLIMA","SI","SUBDIRECCIÓN DE METEOROLOGÍA",43935,null,null,{"$f":"IFERROR(WORKDAY(C716,R716,DiasNOLaborables),\"\")","v":43969},{"$f":"+IF(C716=\"\",\"\",IF(I716=\"\",\"\",(IF(I716<=L716,\"A TIEMPO\",\"FUERA DE TIEMPO\"))))","v":"A TIEMPO"},{"$f":"IF(I716=\"\",\"\",NETWORKDAYS([4]Hoja1!C716+1,[4]Hoja1!P716,DiasNOLaborables))","v":4},"",null,null,30]
[706,20209050028262,43922,"MODULO CONTACTENOS","SOLICITUD DE INFORMACIÓN Y DOCUMENTOS","INFORMES AMBIENTALES","SI","SUBDIRECCIÓN DE ESTUDIOS AMBIENTALES",43927,null,null,{"$f":"IFERROR(WORKDAY(C717,R717,DiasNOLaborables),\"\")","v":43955},{"$f":"+IF(C717=\"\",\"\",IF(I717=\"\",\"\",(IF(I717<=L717,\"A TIEMPO\",\"FUERA DE TIEMPO\"))))","v":"A TIEMPO"},{"$f":"IF(I717=\"\",\"\",NETWORKDAYS([4]Hoja1!C717+1,[4]Hoja1!P717,DiasNOLaborables))","v":-2},"",null,null,20]
[707,20209050028282,43922,"CORREO ELECTRÓNICO","SOLICITUD DE INFORMACIÓN Y DOCUMENTOS","REGISTROS AMBIENTALES","SI","SUBDIRECCIÓN DE ESTUDIOS AMBIENTALES",43924,null,null,{"$f":"IFERROR(WORKDAY(C718,R718,DiasNOLaborables),\"\")","v":43955},{"$f":"+IF(C718=\"\",\"\",IF(I718=\"\",\"\",(IF(I718<=L718,\"A TIEMPO\",\"FUERA DE TIEMPO\"))))","v":"A TIEMPO"},{"$f":"IF(I718=\"\",\"\",NETWORKDAYS([4]Hoja1!C718+1,[4]Hoja1!P718,DiasNOLaborables))","v":1},"",null,null,20]
[708,20209050028312,43922,"CORREO ELECTRÓNICO","CERTIFICACIONES DE TIEMPO, CLIMA Y EVENTOS HIDROLÓGICOS","CERTIFICACIONES DE TIEMPO Y CLIMA","SI","SUBDIRECCIÓN DE METEOROLOGÍA",43923,null,null,{"$f":"IFERROR(WORKDAY(C719,R719,DiasNOLaborables),\"\")","v":43969},{"$f":"+IF(C719=\"\",\"\",IF(I719=\"\",\"\",(IF(I719<=L719,\"A TIEMPO\",\"FUERA DE TIEMPO\"))))","v":"A TIEMPO"},{"$f":"IF(I719=\"\",\"\",NETWORKDAYS([4]Hoja1!C719+1,[4]Hoja1!P719,DiasNOLaborables))","v":2},"",null,null,30]
[709,20209050028372,43922,"CORREO ELECTRÓNICO","SOLICITUD DE INFORMACIÓN Y DOCUMENTOS","SOLICITUD DE INFORMACIÓN Y DOCUMENTOS","SI","SUBDIRECCIÓN DE HIDROLOGÍA",43934,null,null,{"$f":"IFERROR(WORKDAY(C720,R720,DiasNOLaborables),\"\")","v":43955},{"$f":"+IF(C720=\"\",\"\",IF(I720=\"\",\"\",(IF(I720<=L720,\"A TIEMPO\",\"FUERA DE TIEMPO\"))))","v":"A TIEMPO"},{"$f":"IF(I720=\"\",\"\",NETWORKDAYS([4]Hoja1!C720+1,[4]Hoja1!P720,DiasNOLaborables))","v":4},"",null,null,20]
[710,20209050028392,43922,"CORREO ELECTRÓNICO","SOLICITUD DE INFORMACIÓN Y DOCUMENTOS","REGISTROS AMBIENTALES","SI","SUBDIRECCIÓN DE ESTUDIOS AMBIENTALES",43922,null,null,{"$f":"IFERROR(WORKDAY(C721,R721,DiasNOLaborables),\"\")","v":43955},{"$f":"+IF(C721=\"\",\"\",IF(I721=\"\",\"\",(IF(I721<=L721,\"A TIEMPO\",\"FUERA DE TIEMPO\"))))","v":"A TIEMPO"},{"$f":"IF(I721=\"\",\"\",NETWORKDAYS([4]Hoja1!C721+1,[4]Hoja1!P721,DiasNOLaborables))","v":7},"",null,null,20]
[711,20209050028412,43922,"CORREO ELECTRÓNICO","SOLICITUD DE INFORMACIÓN Y DOCUMENTOS","REGISTROS AMBIENTALES","SI","SUBDIRECCIÓN DE ESTUDIOS AMBIENTALES",43938,null,null,{"$f":"IFERROR(WORKDAY(C722,R722,DiasNOLaborables),\"\")","v":43955},{"$f":"+IF(C722=\"\",\"\",IF(I722=\"\",\"\",(IF(I722<=L722,\"A TIEMPO\",\"FUERA DE TIEMPO\"))))","v":"A TIEMPO"},{"$f":"IF(I722=\"\",\"\",NETWORKDAYS([4]Hoja1!C722+1,[4]Hoja1!P722,DiasNOLaborables))","v":10},"",null,null,20]
[712,20209050028422,43922,"CORREO ELECTRÓNICO","CERTIFICACIONES DE TIEMPO, CLIMA Y EVENTOS HIDROLÓGICOS","CERTIFICACIONES DE TIEMPO Y CLIMA","SI","SUBDIRECCIÓN DE METEOROLOGÍA",43923,null,null,{"$f":"IFERROR(WORKDAY(C723,R723,DiasNOLaborables),\"\")","v":43969},{"$f":"+IF(C723=\"\",\"\",IF(I723=\"\",\"\",(IF(I723<=L723,\"A TIEMPO\",\"FUERA DE TIEMPO\"))))","v":"A TIEMPO"},{"$f":"IF(I723=\"\",\"\",NETWORKDAYS([4]Hoja1!C723+1,[4]Hoja1!P723,DiasNOLaborables))","v":2},"",null,null,30]
[713,20209050028472,43922,"CORREO ELECTRÓNICO","SOLICITUD DE INFORMACIÓN Y DOCUMENTOS","SOLICITUD DE INFORMACIÓN Y DOCUMENTOS","SI","SUBDIRECCIÓN DE ESTUDIOS AMBIENTALES",43934,null,null,{"$f":"IFERROR(WORKDAY(C724,R724,DiasNOLaborables),\"\")","v":43955},{"$f":"+IF(C724=\"\",\"\",IF(I724=\"\",\"\",(IF(I724<=L724,\"A TIEMPO\",\"FUERA DE TIEMPO\"))))","v":"A TIEMPO"},{"$f":"IF(I724=\"\",\"\",NETWORKDAYS([4]Hoja1!C724+1,[4]Hoja1!P724,DiasNOLaborables))","v":1},"",null,null,20]
[714,20209050028482,43922,"CORREO ELECTRÓNICO","SOLICITUD DE INFORMACIÓN Y DOCUMENTOS","SOLICITUD DE INFORMACIÓN Y DOCUMENTOS","SI","SUBDIRECCIÓN DE ESTUDIOS AMBIENTALES",43950,null,null,{"$f":"IFERROR(WORKDAY(C725,R725,DiasNOLaborables),\"\")","v":43955},{"$f":"+IF(C725=\"\",\"\",IF(I725=\"\",\"\",(IF(I725<=L725,\"A TIEMPO\",\"FUERA DE TIEMPO\"))))","v":"A TIEMPO"},{"$f":"IF(I725=\"\",\"\",NETWORKDAYS([4]Hoja1!C725+1,[4]Hoja1!P725,DiasNOLaborables))","v":-1},"",null,null,20]
[715,20209050028492,43922,"CORREO ELECTRÓNICO","SOLICITUD DE INFORMACIÓN Y DOCUMENTOS","REGISTROS AMBIENTALES","SI","SUBDIRECCIÓN DE ESTUDIOS AMBIENTALES",43924,null,null,{"$f":"IFERROR(WORKDAY(C726,R726,DiasNOLaborables),\"\")","v":43955},{"$f":"+IF(C726=\"\",\"\",IF(I726=\"\",\"\",(IF(I726<=L726,\"A TIEMPO\",\"FUERA DE TIEMPO\"))))","v":"A TIEMPO"},{"$f":"IF(I726=\"\",\"\",NETWORKDAYS([4]Hoja1!C726+1,[4]Hoja1!P726,DiasNOLaborables))","v":18},"",null,null,20]
[716,20209050028502,43922,"CORREO ELECTRÓNICO","CERTIFICACIONES DE TIEMPO, CLIMA Y EVENTOS HIDROLÓGICOS","CERTIFICACIONES DE TIEMPO Y CLIMA","SI","SUBDIRECCIÓN DE METEOROLOGÍA",43923,null,null,{"$f":"IFERROR(WORKDAY(C727,R727,DiasNOLaborables),\"\")","v":43969},{"$f":"+IF(C727=\"\",\"\",IF(I727=\"\",\"\",(IF(I727<=L727,\"A TIEMPO\",\"FUERA DE TIEMPO\"))))","v":"A TIEMPO"},{"$f":"IF(I727=\"\",\"\",NETWORKDAYS([4]Hoja1!C727+1,[4]Hoja1!P727,DiasNOLaborables))","v":2},"",null,null,30]
[717,20209050028512,43922,"CORREO ELECTRÓNICO","SOLICITUD DE INFORMACIÓN Y DOCUMENTOS","REGISTROS AMBIENTALES","SI","SUBDIRECCIÓN DE ESTUDIOS AMBIENTALES",43922,null,null,{"$f":"IFERROR(WORKDAY(C728,R728,DiasNOLaborables),\"\")","v":43955},{"$f":"+IF(C728=\"\",\"\",IF(I728=\"\",\"\",(IF(I728<=L728,\"A TIEMPO\",\"FUERA DE TIEMPO\"))))","v":"A TIEMPO"},{"$f":"IF(I728=\"\",\"\",NETWORKDAYS([4]Hoja1!C728+1,[4]Hoja1!P728,DiasNOLaborables))","v":4},"",null,null,20]
[718,20209050028542,43922,"CORREO ELECTRÓNICO","SOLICITUD DE INFORMACIÓN Y DOCUMENTOS","REGISTROS AMBIENTALES","SI","SUBDIRECCIÓN DE ESTUDIOS AMBIENTALES",43924,null,null,{"$f":"IFERROR(WORKDAY(C729,R729,DiasNOLaborables),\"\")","v":43955},{"$f":"+IF(C729=\"\",\"\",IF(I729=\"\",\"\",(IF(I729<=L729,\"A TIEMPO\",\"FUERA DE TIEMPO\"))))","v":"A TIEMPO"},{"$f":"IF(I729=\"\",\"\",NETWORKDAYS([4]Hoja1!C729+1,[4]Hoja1!P729,DiasNOLaborables))","v":2},"",null,null,20]
[719,20209050028552,43922,"CORREO ELECTRÓNICO","SOLICITUD DE INFORMACIÓN Y DOCUMENTOS","REGISTROS AMBIENTALES","SI","SUBDIRECCIÓN DE ESTUDIOS AMBIENTALES",43928,null,null,{"$f":"IFERROR(WORKDAY(C730,R730,DiasNOLaborables),\"\")","v":43955},{"$f":"+IF(C730=\"\",\"\",IF(I730=\"\",\"\",(IF(I730<=L730,\"A TIEMPO\",\"FUERA DE TIEMPO\"))))","v":"A TIEMPO"},{"$f":"IF(I730=\"\",\"\",NETWORKDAYS([4]Hoja1!C730+1,[4]Hoja1!P730,DiasNOLaborables))","v":8},"",null,null,20]
[720,20209050028572,43922,"CORREO ELECTRÓNICO","SOLICITUD DE INFORMACIÓN Y DOCUMENTOS","REGISTROS AMBIENTALES","SI","SUBDIRECCIÓN DE ESTUDIOS AMBIENTALES",43924,null,null,{"$f":"IFERROR(WORKDAY(C731,R731,DiasNOLaborables),\"\")","v":43955},{"$f":"+IF(C731=\"\",\"\",IF(I731=\"\",\"\",(IF(I731<=L731,\"A TIEMPO\",\"FUERA DE TIEMPO\"))))","v":"A TIEMPO"},{"$f":"IF(I731=\"\",\"\",NETWORKDAYS([4]Hoja1!C731+1,[4]Hoja1!P731,DiasNOLaborables))","v":8},{"$f":"IF(NETWORKDAYS(L731+1,I731,DiasNOLaborables)<=0,\"\",NETWORKDAYS(L731+1,I731,DiasNOLaborables))","v":""},null,null,20]
[721,20209050028382,43922,"MODULO CONTACTENOS","SOLICITUD DE INFORMACIÓN Y DOCUMENTOS","REGISTROS AMBIENTALES","SI","SUBDIRECCIÓN DE ESTUDIOS AMBIENTALES",43924,null,null,{"$f":"IFERROR(WORKDAY(C732,R732,DiasNOLaborables),\"\")","v":43955},{"$f":"+IF(C732=\"\",\"\",IF(I732=\"\",\"\",(IF(I732<=L732,\"A TIEMPO\",\"FUERA DE TIEMPO\"))))","v":"A TIEMPO"},{"$f":"IF(I732=\"\",\"\",NETWORKDAYS([4]Hoja1!C732+1,[4]Hoja1!P732,DiasNOLaborables))","v":8},"",null,null,20]
[722,20209050028442,43922,"MODULO CONTACTENOS","SOLICITUD DE INFORMACIÓN Y DOCUMENTOS","PRONÓSTICOS Y ALERTAS","SI","OFICINA DEL SERVICIO DE PRONÓSTICOS Y ALERTAS",43935,null,null,{"$f":"IFERROR(WORKDAY(C733,R733,DiasNOLaborables),\"\")","v":43955},{"$f":"+IF(C733=\"\",\"\",IF(I733=\"\",\"\",(IF(I733<=L733,\"A TIEMPO\",\"FUERA DE TIEMPO\"))))","v":"A TIEMPO"},{"$f":"IF(I733=\"\",\"\",NETWORKDAYS([4]Hoja1!C733+1,[4]Hoja1!P733,DiasNOLaborables))","v":3},"",null,null,20]
[723,20209050028102,43922,"CORREO ELECTRÓNICO","SOLICITUD DE INFORMACIÓN Y DOCUMENTOS","SOLICITUD DE INFORMACIÓN HIDROMETEOROLÓGICA","NO","GRUPO DE ATENCIÓN AL CIUDADANO",43928,null,null,{"$f":"IFERROR(WORKDAY(C734,R734,DiasNOLaborables),\"\")","v":43955},{"$f":"+IF(C734=\"\",\"\",IF(I734=\"\",\"\",(IF(I734<=L734,\"A TIEMPO\",\"FUERA DE TIEMPO\"))))","v":"A TIEMPO"},{"$f":"IF(I734=\"\",\"\",NETWORKDAYS([4]Hoja1!C734+1,[4]Hoja1!P734,DiasNOLaborables))","v":3},"",null,null,20]
[724,20209050028112,43922,"CORREO ELECTRÓNICO","SOLICITUD DE INFORMACIÓN Y DOCUMENTOS","SOLICITUD DE INFORMACIÓN HIDROMETEOROLÓGICA","NO","GRUPO DE ATENCIÓN AL CIUDADANO",43928,null,null,{"$f":"IFERROR(WORKDAY(C735,R735,DiasNOLaborables),\"\")","v":43955},{"$f":"+IF(C735=\"\",\"\",IF(I735=\"\",\"\",(IF(I735<=L735,\"A TIEMPO\",\"FUERA DE TIEMPO\"))))","v":"A TIEMPO"},{"$f":"IF(I735=\"\",\"\",NETWORKDAYS([4]Hoja1!C735+1,[4]Hoja1!P735,DiasNOLaborables))","v":3},"",null,null,20]
[725,20209050028132,43922,"CORREO ELECTRÓNICO","SOLICITUD DE INFORMACIÓN Y DOCUMENTOS","SOLICITUD DE INFORMACIÓN HIDROMETEOROLÓGICA","NO","GRUPO DE ATENCIÓN AL CIUDADANO",43928,null,null,{"$f":"IFERROR(WORKDAY(C736,R736,DiasNOLaborables),\"\")","v":43955},{"$f":"+IF(C736=\"\",\"\",IF(I736=\"\",\"\",(IF(I736<=L736,\"A TIEMPO\",\"FUERA DE TIEMPO\"))))","v":"A TIEMPO"},{"$f":"IF(I736=\"\",\"\",NETWORKDAYS([4]Hoja1!C736+1,[4]Hoja1!P736,DiasNOLaborables))","v":5},"",null,null,20]
[726,20209050028142,43922,"CORREO ELECTRÓNICO","SOLICITUD DE INFORMACIÓN Y DOCUMENTOS","SOLICITUD DE INFORMACIÓN HIDROMETEOROLÓGICA","NO","GRUPO DE ATENCIÓN AL CIUDADANO",43928,null,null,{"$f":"IFERROR(WORKDAY(C737,R737,DiasNOLaborables),\"\")","v":43955},{"$f":"+IF(C737=\"\",\"\",IF(I737=\"\",\"\",(IF(I737<=L737,\"A TIEMPO\",\"FUERA DE TIEMPO\"))))","v":"A TIEMPO"},{"$f":"IF(I737=\"\",\"\",NETWORKDAYS([4]Hoja1!C737+1,[4]Hoja1!P737,DiasNOLaborables))","v":5},"",null,null,20]
[727,20209050028152,43922,"CORREO ELECTRÓNICO","SOLICITUD DE INFORMACIÓN Y DOCUMENTOS","SOLICITUD DE INFORMACIÓN HIDROMETEOROLÓGICA","NO","GRUPO DE ATENCIÓN AL CIUDADANO",43928,null,null,{"$f":"IFERROR(WORKDAY(C738,R738,DiasNOLaborables),\"\")","v":43955},{"$f":"+IF(C738=\"\",\"\",IF(I738=\"\",\"\",(IF(I738<=L738,\"A TIEMPO\",\"FUERA DE TIEMPO\"))))","v":"A TIEMPO"},{"$f":"IF(I738=\"\",\"\",NETWORKDAYS([4]Hoja1!C738+1,[4]Hoja1!P738,DiasNOLaborables))","v":5},"",null,null,20]
[728,20209050028272,43922,"CORREO ELECTRÓNICO","SOLICITUD DE INFORMACIÓN Y DOCUMENTOS","SOLICITUD DE INFORMACIÓN HIDROMETEOROLÓGICA","NO","GRUPO DE ATENCIÓN AL CIUDADANO",43928,null,null,{"$f":"IFERROR(WORKDAY(C739,R739,DiasNOLaborables),\"\")","v":43955},{"$f":"+IF(C739=\"\",\"\",IF(I739=\"\",\"\",(IF(I739<=L739,\"A TIEMPO\",\"FUERA DE TIEMPO\"))))","v":"A TIEMPO"},{"$f":"IF(I739=\"\",\"\",NETWORKDAYS([4]Hoja1!C739+1,[4]Hoja1!P739,DiasNOLaborables))","v":5},"",null,null,20]
[729,20209050028292,43922,"CORREO ELECTRÓNICO","SOLICITUD DE INFORMACIÓN Y DOCUMENTOS","SOLICITUD DE INFORMACIÓN HIDROMETEOROLÓGICA","NO","GRUPO DE ATENCIÓN AL CIUDADANO",43928,null,null,{"$f":"IFERROR(WORKDAY(C740,R740,DiasNOLaborables),\"\")","v":43955},{"$f":"+IF(C740=\"\",\"\",IF(I740=\"\",\"\",(IF(I740<=L740,\"A TIEMPO\",\"FUERA DE TIEMPO\"))))","v":"A TIEMPO"},{"$f":"IF(I740=\"\",\"\",NETWORKDAYS([4]Hoja1!C740+1,[4]Hoja1!P740,DiasNOLaborables))","v":5},"",null,null,20]
[730,20209050028302,43922,"CORREO ELECTRÓNICO","SOLICITUD DE INFORMACIÓN Y DOCUMENTOS","SOLICITUD DE INFORMACIÓN HIDROMETEOROLÓGICA","NO","GRUPO DE ATENCIÓN AL CIUDADANO",43928,null,null,{"$f":"IFERROR(WORKDAY(C741,R741,DiasNOLaborables),\"\")","v":43955},{"$f":"+IF(C741=\"\",\"\",IF(I741=\"\",\"\",(IF(I741<=L741,\"A TIEMPO\",\"FUERA DE TIEMPO\"))))","v":"A TIEMPO"},{"$f":"IF(I741=\"\",\"\",NETWORKDAYS([4]Hoja1!C741+1,[4]Hoja1!P741,DiasNOLaborables))","v":5},"",null,null,20]
[731,20209050028342,43922,"CORREO ELECTRÓNICO","SOLICITUD DE INFORMACIÓN Y DOCUMENTOS","SOLICITUD DE INFORMACIÓN HIDROMETEOROLÓGICA","SI","GRUPO DE ATENCIÓN AL CIUDADANO",43928,null,null,{"$f":"IFERROR(WORKDAY(C742,R742,DiasNOLaborables),\"\")","v":43955},{"$f":"+IF(C742=\"\",\"\",IF(I742=\"\",\"\",(IF(I742<=L742,\"A TIEMPO\",\"FUERA DE TIEMPO\"))))","v":"A TIEMPO"},{"$f":"IF(I742=\"\",\"\",NETWORKDAYS([4]Hoja1!C742+1,[4]Hoja1!P742,DiasNOLaborables))","v":6},"",null,null,20]
[732,20209050028632,43922,"CORREO ELECTRÓNICO","SOLICITUD DE INFORMACIÓN Y DOCUMENTOS","SOLICITUD DE INFORMACIÓN HIDROMETEOROLÓGICA","NO","GRUPO DE ATENCIÓN AL CIUDADANO",43928,null,null,{"$f":"IFERROR(WORKDAY(C743,R743,DiasNOLaborables),\"\")","v":43955},{"$f":"+IF(C743=\"\",\"\",IF(I743=\"\",\"\",(IF(I743<=L743,\"A TIEMPO\",\"FUERA DE TIEMPO\"))))","v":"A TIEMPO"},{"$f":"IF(I743=\"\",\"\",NETWORKDAYS([4]Hoja1!C743+1,[4]Hoja1!P743,DiasNOLaborables))","v":6},"",null,null,20]
[733,20209910032712,43922,"CORREO ELECTRÓNICO","SOLICITUD DE INFORMACIÓN Y DOCUMENTOS","SOLICITUD DE INFORMACIÓN HIDROMETEOROLÓGICA","NO","GRUPO DE ATENCIÓN AL CIUDADANO",43928,null,null,{"$f":"IFERROR(WORKDAY(C744,R744,DiasNOLaborables),\"\")","v":43955},{"$f":"+IF(C744=\"\",\"\",IF(I744=\"\",\"\",(IF(I744<=L744,\"A TIEMPO\",\"FUERA DE TIEMPO\"))))","v":"A TIEMPO"},{"$f":"IF(I744=\"\",\"\",NETWORKDAYS([4]Hoja1!C744+1,[4]Hoja1!P744,DiasNOLaborables))","v":6},"",null,null,20]
[734,20209050028662,43922,"CORREO ELECTRÓNICO","SOLICITUD DE INFORMACIÓN Y DOCUMENTOS","SOLICITUD DE INFORMACIÓN HIDROMETEOROLÓGICA","NO","GRUPO DE ATENCIÓN AL CIUDADANO",43928,null,null,{"$f":"IFERROR(WORKDAY(C745,R745,DiasNOLaborables),\"\")","v":43955},{"$f":"+IF(C745=\"\",\"\",IF(I745=\"\",\"\",(IF(I745<=L745,\"A TIEMPO\",\"FUERA DE TIEMPO\"))))","v":"A TIEMPO"},{"$f":"IF(I745=\"\",\"\",NETWORKDAYS([4]Hoja1!C745+1,[4]Hoja1!P745,DiasNOLaborables))","v":6},"",null,null,20]
[735,20209050028692,43922,"CORREO ELECTRÓNICO","SOLICITUD DE INFORMACIÓN Y DOCUMENTOS","SOLICITUD DE INFORMACIÓN HIDROMETEOROLÓGICA","NO","GRUPO DE ATENCIÓN AL CIUDADANO",43928,null,null,{"$f":"IFERROR(WORKDAY(C746,R746,DiasNOLaborables),\"\")","v":43955},{"$f":"+IF(C746=\"\",\"\",IF(I746=\"\",\"\",(IF(I746<=L746,\"A TIEMPO\",\"FUERA DE TIEMPO\"))))","v":"A TIEMPO"},{"$f":"IF(I746=\"\",\"\",NETWORKDAYS([4]Hoja1!C746+1,[4]Hoja1!P746,DiasNOLaborables))","v":7},"",null,null,20]
[736,20209050028702,43922,"CORREO ELECTRÓNICO","SOLICITUD DE INFORMACIÓN Y DOCUMENTOS","SOLICITUD DE INFORMACIÓN HIDROMETEOROLÓGICA","NO","GRUPO DE ATENCIÓN AL CIUDADANO",43928,null,null,{"$f":"IFERROR(WORKDAY(C747,R747,DiasNOLaborables),\"\")","v":43955},{"$f":"+IF(C747=\"\",\"\",IF(I747=\"\",\"\",(IF(I747<=L747,\"A TIEMPO\",\"FUERA DE TIEMPO\"))))","v":"A TIEMPO"},{"$f":"IF(I747=\"\",\"\",NETWORKDAYS([4]Hoja1!C747+1,[4]Hoja1!P747,DiasNOLaborables))","v":7},"",null,null,20]
[737,20209910032732,43923,"CORREO ELECTRÓNICO","SOLICITUD DE INFORMACIÓN Y DOCUMENTOS","SOLICITUD DE INFORMACIÓN HIDROMETEOROLÓGICA","NO","GRUPO DE ATENCIÓN AL CIUDADANO",43928,null,null,{"$f":"IFERROR(WORKDAY(C748,R748,DiasNOLaborables),\"\")","v":43956},{"$f":"+IF(C748=\"\",\"\",IF(I748=\"\",\"\",(IF(I748<=L748,\"A TIEMPO\",\"FUERA DE TIEMPO\"))))","v":"A TIEMPO"},{"$f":"IF(I748=\"\",\"\",NETWORKDAYS([4]Hoja1!C748+1,[4]Hoja1!P748,DiasNOLaborables))","v":7},"",null,null,20]
[738,20209050028712,43923,"CORREO ELECTRÓNICO","SOLICITUD DE INFORMACIÓN Y DOCUMENTOS","SOLICITUD DE INFORMACIÓN HIDROMETEOROLÓGICA","NO","GRUPO DE ATENCIÓN AL CIUDADANO",43929,null,null,{"$f":"IFERROR(WORKDAY(C749,R749,DiasNOLaborables),\"\")","v":43956},{"$f":"+IF(C749=\"\",\"\",IF(I749=\"\",\"\",(IF(I749<=L749,\"A TIEMPO\",\"FUERA DE TIEMPO\"))))","v":"A TIEMPO"},{"$f":"IF(I749=\"\",\"\",NETWORKDAYS([4]Hoja1!C749+1,[4]Hoja1!P749,DiasNOLaborables))","v":7},"",null,null,20]
[739,20209050028722,43923,"CORREO ELECTRÓNICO","SOLICITUD DE INFORMACIÓN Y DOCUMENTOS","SOLICITUD DE INFORMACIÓN HIDROMETEOROLÓGICA","NO","GRUPO DE ATENCIÓN AL CIUDADANO",43929,null,null,{"$f":"IFERROR(WORKDAY(C750,R750,DiasNOLaborables),\"\")","v":43956},{"$f":"+IF(C750=\"\",\"\",IF(I750=\"\",\"\",(IF(I750<=L750,\"A TIEMPO\",\"FUERA DE TIEMPO\"))))","v":"A TIEMPO"},{"$f":"IF(I750=\"\",\"\",NETWORKDAYS([4]Hoja1!C750+1,[4]Hoja1!P750,DiasNOLaborables))","v":7},"",null,null,20]
[740,20209050028752,43923,"CORREO ELECTRÓNICO","SOLICITUD DE INFORMACIÓN Y DOCUMENTOS","SOLICITUD DE INFORMACIÓN HIDROMETEOROLÓGICA","NO","GRUPO DE ATENCIÓN AL CIUDADANO",43929,null,null,{"$f":"IFERROR(WORKDAY(C751,R751,DiasNOLaborables),\"\")","v":43956},{"$f":"+IF(C751=\"\",\"\",IF(I751=\"\",\"\",(IF(I751<=L751,\"A TIEMPO\",\"FUERA DE TIEMPO\"))))","v":"A TIEMPO"},{"$f":"IF(I751=\"\",\"\",NETWORKDAYS([4]Hoja1!C751+1,[4]Hoja1!P751,DiasNOLaborables))","v":7},"",null,null,20]
[741,20209050028762,43923,"CORREO ELECTRÓNICO","SOLICITUD DE INFORMACIÓN Y DOCUMENTOS","SOLICITUD DE INFORMACIÓN HIDROMETEOROLÓGICA","NO","GRUPO DE ATENCIÓN AL CIUDADANO",43929,null,null,{"$f":"IFERROR(WORKDAY(C752,R752,DiasNOLaborables),\"\")","v":43956},{"$f":"+IF(C752=\"\",\"\",IF(I752=\"\",\"\",(IF(I752<=L752,\"A TIEMPO\",\"FUERA DE TIEMPO\"))))","v":"A TIEMPO"},{"$f":"IF(I752=\"\",\"\",NETWORKDAYS([4]Hoja1!C752+1,[4]Hoja1!P752,DiasNOLaborables))","v":8},"",null,null,20]
[742,20209050028772,43923,"CORREO ELECTRÓNICO","SOLICITUD DE INFORMACIÓN Y DOCUMENTOS","SOLICITUD DE INFORMACIÓN HIDROMETEOROLÓGICA","NO","GRUPO DE ATENCIÓN AL CIUDADANO",43929,null,null,{"$f":"IFERROR(WORKDAY(C753,R753,DiasNOLaborables),\"\")","v":43956},{"$f":"+IF(C753=\"\",\"\",IF(I753=\"\",\"\",(IF(I753<=L753,\"A TIEMPO\",\"FUERA DE TIEMPO\"))))","v":"A TIEMPO"},{"$f":"IF(I753=\"\",\"\",NETWORKDAYS([4]Hoja1!C753+1,[4]Hoja1!P753,DiasNOLaborables))","v":7},"",null,null,20]
[{"$f":"IF(B752<>\"\",A753+1,\"\")","v":743},20209050028942,43923,"CORREO ELECTRÓNICO","SOLICITUD DE INFORMACIÓN Y DOCUMENTOS","SOLICITUD DE INFORMACIÓN HIDROMETEOROLÓGICA","NO","GRUPO DE ATENCIÓN AL CIUDADANO",43929,null,null,{"$f":"IFERROR(WORKDAY(C754,R754,DiasNOLaborables),\"\")","v":43956},{"$f":"+IF(C754=\"\",\"\",IF(I754=\"\",\"\",(IF(I754<=L754,\"A TIEMPO\",\"FUERA DE TIEMPO\"))))","v":"A TIEMPO"},{"$f":"IF(I754=\"\",\"\",NETWORKDAYS([4]Hoja1!C754+1,[4]Hoja1!P754,DiasNOLaborables))","v":7},"",null,null,20]
[744,20209050028952,43923,"CORREO ELECTRÓNICO","SOLICITUD DE INFORMACIÓN Y DOCUMENTOS","SOLICITUD DE INFORMACIÓN HIDROMETEOROLÓGICA","NO","GRUPO DE ATENCIÓN AL CIUDADANO",43929,null,null,{"$f":"IFERROR(WORKDAY(C755,R755,DiasNOLaborables),\"\")","v":43956},{"$f":"+IF(C755=\"\",\"\",IF(I755=\"\",\"\",(IF(I755<=L755,\"A TIEMPO\",\"FUERA DE TIEMPO\"))))","v":"A TIEMPO"},{"$f":"IF(I755=\"\",\"\",NETWORKDAYS([4]Hoja1!C755+1,[4]Hoja1!P755,DiasNOLaborables))","v":8},"",null,null,20]
[745,20209050028962,43923,"CORREO ELECTRÓNICO","SOLICITUD DE INFORMACIÓN Y DOCUMENTOS","SOLICITUD DE INFORMACIÓN HIDROMETEOROLÓGICA","NO","GRUPO DE ATENCIÓN AL CIUDADANO",43929,null,null,{"$f":"IFERROR(WORKDAY(C756,R756,DiasNOLaborables),\"\")","v":43956},{"$f":"+IF(C756=\"\",\"\",IF(I756=\"\",\"\",(IF(I756<=L756,\"A TIEMPO\",\"FUERA DE TIEMPO\"))))","v":"A TIEMPO"},{"$f":"IF(I756=\"\",\"\",NETWORKDAYS([4]Hoja1!C756+1,[4]Hoja1!P756,DiasNOLaborables))","v":5},"",null,null,20]
[746,20209050028982,43923,"CORREO ELECTRÓNICO","SOLICITUD DE INFORMACIÓN Y DOCUMENTOS","SOLICITUD DE INFORMACIÓN HIDROMETEOROLÓGICA","NO","GRUPO DE ATENCIÓN AL CIUDADANO",43929,null,null,{"$f":"IFERROR(WORKDAY(C757,R757,DiasNOLaborables),\"\")","v":43956},{"$f":"+IF(C757=\"\",\"\",IF(I757=\"\",\"\",(IF(I757<=L757,\"A TIEMPO\",\"FUERA DE TIEMPO\"))))","v":"A TIEMPO"},{"$f":"IF(I757=\"\",\"\",NETWORKDAYS([4]Hoja1!C757+1,[4]Hoja1!P757,DiasNOLaborables))","v":8},"",null,null,20]
[747,20209050029002,43923,"CORREO ELECTRÓNICO","SOLICITUD DE INFORMACIÓN Y DOCUMENTOS","SOLICITUD DE INFORMACIÓN HIDROMETEOROLÓGICA","NO","GRUPO DE ATENCIÓN AL CIUDADANO",43929,null,null,{"$f":"IFERROR(WORKDAY(C758,R758,DiasNOLaborables),\"\")","v":43956},{"$f":"+IF(C758=\"\",\"\",IF(I758=\"\",\"\",(IF(I758<=L758,\"A TIEMPO\",\"FUERA DE TIEMPO\"))))","v":"A TIEMPO"},{"$f":"IF(I758=\"\",\"\",NETWORKDAYS([4]Hoja1!C758+1,[4]Hoja1!P758,DiasNOLaborables))","v":8},"",null,null,20]
[748,20209050028992,43923,"CORREO ELECTRÓNICO","SOLICITUD DE INFORMACIÓN Y DOCUMENTOS","SOLICITUD DE INFORMACIÓN HIDROMETEOROLÓGICA","NO","GRUPO DE ATENCIÓN AL CIUDADANO",43929,null,null,{"$f":"IFERROR(WORKDAY(C759,R759,DiasNOLaborables),\"\")","v":43956},{"$f":"+IF(C759=\"\",\"\",IF(I759=\"\",\"\",(IF(I759<=L759,\"A TIEMPO\",\"FUERA DE TIEMPO\"))))","v":"A TIEMPO"},{"$f":"IF(I759=\"\",\"\",NETWORKDAYS([4]Hoja1!C759+1,[4]Hoja1!P759,DiasNOLaborables))","v":8},"",null,null,20]
[749,20209050029012,43923,"CORREO ELECTRÓNICO","SOLICITUD DE INFORMACIÓN Y DOCUMENTOS","SOLICITUD DE INFORMACIÓN HIDROMETEOROLÓGICA","NO","GRUPO DE ATENCIÓN AL CIUDADANO",43929,null,null,{"$f":"IFERROR(WORKDAY(C760,R760,DiasNOLaborables),\"\")","v":43956},{"$f":"+IF(C760=\"\",\"\",IF(I760=\"\",\"\",(IF(I760<=L760,\"A TIEMPO\",\"FUERA DE TIEMPO\"))))","v":"A TIEMPO"},{"$f":"IF(I760=\"\",\"\",NETWORKDAYS([4]Hoja1!C760+1,[4]Hoja1!P760,DiasNOLaborables))","v":8},"",null,null,20]
[750,20209050029022,43923,"CORREO ELECTRÓNICO","SOLICITUD DE INFORMACIÓN Y DOCUMENTOS","SOLICITUD DE INFORMACIÓN HIDROMETEOROLÓGICA","NO","GRUPO DE ATENCIÓN AL CIUDADANO",43929,null,null,{"$f":"IFERROR(WORKDAY(C761,R761,DiasNOLaborables),\"\")","v":43956},{"$f":"+IF(C761=\"\",\"\",IF(I761=\"\",\"\",(IF(I761<=L761,\"A TIEMPO\",\"FUERA DE TIEMPO\"))))","v":"A TIEMPO"},{"$f":"IF(I761=\"\",\"\",NETWORKDAYS([4]Hoja1!C761+1,[4]Hoja1!P761,DiasNOLaborables))","v":7},"",null,null,20]
[751,20209050029032,43923,"CORREO ELECTRÓNICO","SOLICITUD DE INFORMACIÓN Y DOCUMENTOS","SOLICITUD DE INFORMACIÓN HIDROMETEOROLÓGICA","NO","GRUPO DE ATENCIÓN AL CIUDADANO",43929,null,null,{"$f":"IFERROR(WORKDAY(C762,R762,DiasNOLaborables),\"\")","v":43956},{"$f":"+IF(C762=\"\",\"\",IF(I762=\"\",\"\",(IF(I762<=L762,\"A TIEMPO\",\"FUERA DE TIEMPO\"))))","v":"A TIEMPO"},{"$f":"IF(I762=\"\",\"\",NETWORKDAYS([4]Hoja1!C762+1,[4]Hoja1!P762,DiasNOLaborables))","v":7},"",null,null,20]
[752,20209050029082,43923,"CORREO ELECTRÓNICO","SOLICITUD DE INFORMACIÓN Y DOCUMENTOS","SOLICITUD DE INFORMACIÓN HIDROMETEOROLÓGICA","NO","GRUPO DE ATENCIÓN AL CIUDADANO",43929,null,null,{"$f":"IFERROR(WORKDAY(C763,R763,DiasNOLaborables),\"\")","v":43956},{"$f":"+IF(C763=\"\",\"\",IF(I763=\"\",\"\",(IF(I763<=L763,\"A TIEMPO\",\"FUERA DE TIEMPO\"))))","v":"A TIEMPO"},{"$f":"IF(I763=\"\",\"\",NETWORKDAYS([4]Hoja1!C763+1,[4]Hoja1!P763,DiasNOLaborables))","v":7},"",null,null,20]
[753,20209050029092,43923,"CORREO ELECTRÓNICO","SOLICITUD DE INFORMACIÓN Y DOCUMENTOS","SOLICITUD DE INFORMACIÓN HIDROMETEOROLÓGICA","NO","GRUPO DE ATENCIÓN AL CIUDADANO",43932,null,null,{"$f":"IFERROR(WORKDAY(C764,R764,DiasNOLaborables),\"\")","v":43956},{"$f":"+IF(C764=\"\",\"\",IF(I764=\"\",\"\",(IF(I764<=L764,\"A TIEMPO\",\"FUERA DE TIEMPO\"))))","v":"A TIEMPO"},{"$f":"IF(I764=\"\",\"\",NETWORKDAYS([4]Hoja1!C764+1,[4]Hoja1!P764,DiasNOLaborables))","v":7},"",null,null,20]
[754,20209050029102,43923,"CORREO ELECTRÓNICO","SOLICITUD DE INFORMACIÓN Y DOCUMENTOS","SOLICITUD DE INFORMACIÓN HIDROMETEOROLÓGICA","NO","GRUPO DE ATENCIÓN AL CIUDADANO",43933,null,null,{"$f":"IFERROR(WORKDAY(C765,R765,DiasNOLaborables),\"\")","v":43956},{"$f":"+IF(C765=\"\",\"\",IF(I765=\"\",\"\",(IF(I765<=L765,\"A TIEMPO\",\"FUERA DE TIEMPO\"))))","v":"A TIEMPO"},{"$f":"IF(I765=\"\",\"\",NETWORKDAYS([4]Hoja1!C765+1,[4]Hoja1!P765,DiasNOLaborables))","v":7},"",null,null,20]
[755,20209050029132,43923,"CORREO ELECTRÓNICO","SOLICITUD DE INFORMACIÓN Y DOCUMENTOS","SOLICITUD DE INFORMACIÓN HIDROMETEOROLÓGICA","NO","GRUPO DE ATENCIÓN AL CIUDADANO",43933,null,null,{"$f":"IFERROR(WORKDAY(C766,R766,DiasNOLaborables),\"\")","v":43956},{"$f":"+IF(C766=\"\",\"\",IF(I766=\"\",\"\",(IF(I766<=L766,\"A TIEMPO\",\"FUERA DE TIEMPO\"))))","v":"A TIEMPO"},{"$f":"IF(I766=\"\",\"\",NETWORKDAYS([4]Hoja1!C766+1,[4]Hoja1!P766,DiasNOLaborables))","v":3},"",null,null,20]
[756,20209050029142,43923,"CORREO ELECTRÓNICO","SOLICITUD DE INFORMACIÓN Y DOCUMENTOS","SOLICITUD DE INFORMACIÓN HIDROMETEOROLÓGICA","NO","GRUPO DE ATENCIÓN AL CIUDADANO",43933,null,null,{"$f":"IFERROR(WORKDAY(C767,R767,DiasNOLaborables),\"\")","v":43956},{"$f":"+IF(C767=\"\",\"\",IF(I767=\"\",\"\",(IF(I767<=L767,\"A TIEMPO\",\"FUERA DE TIEMPO\"))))","v":"A TIEMPO"},{"$f":"IF(I767=\"\",\"\",NETWORKDAYS([4]Hoja1!C767+1,[4]Hoja1!P767,DiasNOLaborables))","v":4},"",null,null,20]
[757,20209050029462,43923,"CORREO ELECTRÓNICO","SOLICITUD DE INFORMACIÓN Y DOCUMENTOS","SOLICITUD DE INFORMACIÓN HIDROMETEOROLÓGICA","NO","GRUPO DE ATENCIÓN AL CIUDADANO",43933,null,null,{"$f":"IFERROR(WORKDAY(C768,R768,DiasNOLaborables),\"\")","v":43956},{"$f":"+IF(C768=\"\",\"\",IF(I768=\"\",\"\",(IF(I768<=L768,\"A TIEMPO\",\"FUERA DE TIEMPO\"))))","v":"A TIEMPO"},{"$f":"IF(I768=\"\",\"\",NETWORKDAYS([4]Hoja1!C768+1,[4]Hoja1!P768,DiasNOLaborables))","v":7},"",null,null,20]
[758,20209050029472,43923,"CORREO ELECTRÓNICO","SOLICITUD DE INFORMACIÓN Y DOCUMENTOS","SOLICITUD DE INFORMACIÓN HIDROMETEOROLÓGICA","NO","GRUPO DE ATENCIÓN AL CIUDADANO",43933,null,null,{"$f":"IFERROR(WORKDAY(C769,R769,DiasNOLaborables),\"\")","v":43956},{"$f":"+IF(C769=\"\",\"\",IF(I769=\"\",\"\",(IF(I769<=L769,\"A TIEMPO\",\"FUERA DE TIEMPO\"))))","v":"A TIEMPO"},{"$f":"IF(I769=\"\",\"\",NETWORKDAYS([4]Hoja1!C769+1,[4]Hoja1!P769,DiasNOLaborables))","v":10},"",null,null,20]
[759,20209050029482,43923,"CORREO ELECTRÓNICO","SOLICITUD DE INFORMACIÓN Y DOCUMENTOS","SOLICITUD DE INFORMACIÓN HIDROMETEOROLÓGICA","NO","GRUPO DE ATENCIÓN AL CIUDADANO",43933,null,null,{"$f":"IFERROR(WORKDAY(C770,R770,DiasNOLaborables),\"\")","v":43956},{"$f":"+IF(C770=\"\",\"\",IF(I770=\"\",\"\",(IF(I770<=L770,\"A TIEMPO\",\"FUERA DE TIEMPO\"))))","v":"A TIEMPO"},{"$f":"IF(I770=\"\",\"\",NETWORKDAYS([4]Hoja1!C770+1,[4]Hoja1!P770,DiasNOLaborables))","v":2},"",null,null,20]
[760,20209050029492,43923,"CORREO ELECTRÓNICO","SOLICITUD DE INFORMACIÓN Y DOCUMENTOS","SOLICITUD DE INFORMACIÓN HIDROMETEOROLÓGICA","NO","GRUPO DE ATENCIÓN AL CIUDADANO",43933,null,null,{"$f":"IFERROR(WORKDAY(C771,R771,DiasNOLaborables),\"\")","v":43956},{"$f":"+IF(C771=\"\",\"\",IF(I771=\"\",\"\",(IF(I771<=L771,\"A TIEMPO\",\"FUERA DE TIEMPO\"))))","v":"A TIEMPO"},{"$f":"IF(I771=\"\",\"\",NETWORKDAYS([4]Hoja1!C771+1,[4]Hoja1!P771,DiasNOLaborables))","v":2},"",null,null,20]
[761,20209050028622,43923,"MODULO CONTACTENOS","SOLICITUD DE INFORMACIÓN Y DOCUMENTOS","ADMINISTRATIVA","SI","GRUPO DE ADMINISTRACIÓN Y DESARROLLO DEL TALENTO HUMANO",43949,null,null,{"$f":"IFERROR(WORKDAY(C772,R772,DiasNOLaborables),\"\")","v":43956},{"$f":"+IF(C772=\"\",\"\",IF(I772=\"\",\"\",(IF(I772<=L772,\"A TIEMPO\",\"FUERA DE TIEMPO\"))))","v":"A TIEMPO"},{"$f":"IF(I772=\"\",\"\",NETWORKDAYS([4]Hoja1!C772+1,[4]Hoja1!P772,DiasNOLaborables))","v":3},"",null,null,20]
[762,20209050028732,43923,"MODULO CONTACTENOS","SOLICITUD DE INFORMACIÓN Y DOCUMENTOS","CAMBIO CLIMÁTICO","SI","SUBDIRECCIÓN DE ECOSISTEMAS E INFORMACIÓN AMBIENTAL",43935,null,null,{"$f":"IFERROR(WORKDAY(C773,R773,DiasNOLaborables),\"\")","v":43956},{"$f":"+IF(C773=\"\",\"\",IF(I773=\"\",\"\",(IF(I773<=L773,\"A TIEMPO\",\"FUERA DE TIEMPO\"))))","v":"A TIEMPO"},{"$f":"IF(I773=\"\",\"\",NETWORKDAYS([4]Hoja1!C773+1,[4]Hoja1!P773,DiasNOLaborables))","v":2},"",null,null,20]
[763,20209050028782,43923,"MODULO CONTACTENOS","SOLICITUD DE INFORMACIÓN Y DOCUMENTOS","ADMINISTRATIVA","NO","GRUPO DE ATENCIÓN AL CIUDADANO",43924,null,null,{"$f":"IFERROR(WORKDAY(C774,R774,DiasNOLaborables),\"\")","v":43956},{"$f":"+IF(C774=\"\",\"\",IF(I774=\"\",\"\",(IF(I774<=L774,\"A TIEMPO\",\"FUERA DE TIEMPO\"))))","v":"A TIEMPO"},{"$f":"IF(I774=\"\",\"\",NETWORKDAYS([4]Hoja1!C774+1,[4]Hoja1!P774,DiasNOLaborables))","v":1},"",null,null,20]
[764,20209050028642,43923,"MODULO CONTACTENOS","SOLICITUD DE INFORMACIÓN Y DOCUMENTOS","WEB Y CORREO","SI","OFICINA DE INFORMÁTICA",43934,null,null,{"$f":"IFERROR(WORKDAY(C775,R775,DiasNOLaborables),\"\")","v":43956},{"$f":"+IF(C775=\"\",\"\",IF(I775=\"\",\"\",(IF(I775<=L775,\"A TIEMPO\",\"FUERA DE TIEMPO\"))))","v":"A TIEMPO"},{"$f":"IF(I775=\"\",\"\",NETWORKDAYS([4]Hoja1!C775+1,[4]Hoja1!P775,DiasNOLaborables))","v":2},"",null,null,20]
[765,20209050028832,43923,"MODULO CONTACTENOS","SOLICITUD DE INFORMACIÓN Y DOCUMENTOS","WEB Y CORREO","SI","OFICINA DE INFORMÁTICA",43934,null,null,{"$f":"IFERROR(WORKDAY(C776,R776,DiasNOLaborables),\"\")","v":43956},{"$f":"+IF(C776=\"\",\"\",IF(I776=\"\",\"\",(IF(I776<=L776,\"A TIEMPO\",\"FUERA DE TIEMPO\"))))","v":"A TIEMPO"},{"$f":"IF(I776=\"\",\"\",NETWORKDAYS([4]Hoja1!C776+1,[4]Hoja1!P776,DiasNOLaborables))","v":2},"",null,null,{"$f":"IFERROR(VLOOKUP(E776,$Z$50:$AA$63,2),\"\")","v":20}]
[766,20209050028932,43924,"CORREO ELECTRÓNICO","SOLICITUD DE INFORMACIÓN Y DOCUMENTOS","WEB Y CORREO","SI","OFICINA DE INFORMÁTICA",43934,null,null,{"$f":"IFERROR(WORKDAY(C777,R777,DiasNOLaborables),\"\")","v":43957},{"$f":"+IF(C777=\"\",\"\",IF(I777=\"\",\"\",(IF(I777<=L777,\"A TIEMPO\",\"FUERA DE TIEMPO\"))))","v":"A TIEMPO"},{"$f":"IF(I777=\"\",\"\",NETWORKDAYS([4]Hoja1!C777+1,[4]Hoja1!P777,DiasNOLaborables))","v":15},"",null,null,20]
[767,20209050029372,43924,"CORREO ELECTRÓNICO","SOLICITUD DE INFORMACIÓN Y DOCUMENTOS","WEB Y CORREO","SI","OFICINA DE INFORMÁTICA",43934,null,null,{"$f":"IFERROR(WORKDAY(C778,R778,DiasNOLaborables),\"\")","v":43957},{"$f":"+IF(C778=\"\",\"\",IF(I778=\"\",\"\",(IF(I778<=L778,\"A TIEMPO\",\"FUERA DE TIEMPO\"))))","v":"A TIEMPO"},{"$f":"IF(I778=\"\",\"\",NETWORKDAYS([4]Hoja1!C778+1,[4]Hoja1!P778,DiasNOLaborables))","v":1},"",null,null,20]
[768,20209050028922,43924,"CORREO ELECTRÓNICO","CERTIFICACIONES DE TIEMPO, CLIMA Y EVENTOS HIDROLÓGICOS","CERTIFICACIONES DE TIEMPO Y CLIMA","SI","SUBDIRECCIÓN DE METEOROLOGÍA",43927,null,null,{"$f":"IFERROR(WORKDAY(C779,R779,DiasNOLaborables),\"\")","v":43971},{"$f":"+IF(C779=\"\",\"\",IF(I779=\"\",\"\",(IF(I779<=L779,\"A TIEMPO\",\"FUERA DE TIEMPO\"))))","v":"A TIEMPO"},{"$f":"IF(I779=\"\",\"\",NETWORKDAYS([4]Hoja1!C779+1,[4]Hoja1!P779,DiasNOLaborables))","v":-2},"",null,null,30]
[769,20209050028972,43924,"CORREO ELECTRÓNICO","SOLICITUD DE INFORMACIÓN Y DOCUMENTOS","REGISTROS AMBIENTALES","SI","SUBDIRECCIÓN DE ESTUDIOS AMBIENTALES",43929,null,null,{"$f":"IFERROR(WORKDAY(C780,R780,DiasNOLaborables),\"\")","v":43957},{"$f":"+IF(C780=\"\",\"\",IF(I780=\"\",\"\",(IF(I780<=L780,\"A TIEMPO\",\"FUERA DE TIEMPO\"))))","v":"A TIEMPO"},{"$f":"IF(I780=\"\",\"\",NETWORKDAYS([4]Hoja1!C780+1,[4]Hoja1!P780,DiasNOLaborables))","v":6},"",null,null,20]
[770,20209050029052,43924,"CORREO ELECTRÓNICO","SOLICITUD DE INFORMACIÓN Y DOCUMENTOS","REGISTROS AMBIENTALES","SI","SUBDIRECCIÓN DE ESTUDIOS AMBIENTALES",43929,null,null,{"$f":"IFERROR(WORKDAY(C781,R781,DiasNOLaborables),\"\")","v":43957},{"$f":"+IF(C781=\"\",\"\",IF(I781=\"\",\"\",(IF(I781<=L781,\"A TIEMPO\",\"FUERA DE TIEMPO\"))))","v":"A TIEMPO"},{"$f":"IF(I781=\"\",\"\",NETWORKDAYS([4]Hoja1!C781+1,[4]Hoja1!P781,DiasNOLaborables))","v":-2},"",null,null,20]
[771,20209050029062,43924,"CORREO ELECTRÓNICO","CERTIFICACIONES DE TIEMPO, CLIMA Y EVENTOS HIDROLÓGICOS","CERTIFICACIONES DE TIEMPO Y CLIMA","SI","SUBDIRECCIÓN DE METEOROLOGÍA",43935,null,null,{"$f":"IFERROR(WORKDAY(C782,R782,DiasNOLaborables),\"\")","v":43971},{"$f":"+IF(C782=\"\",\"\",IF(I782=\"\",\"\",(IF(I782<=L782,\"A TIEMPO\",\"FUERA DE TIEMPO\"))))","v":"A TIEMPO"},{"$f":"IF(I782=\"\",\"\",NETWORKDAYS([4]Hoja1!C782+1,[4]Hoja1!P782,DiasNOLaborables))","v":8},"",null,null,30]
[772,20209050029072,43924,"CORREO ELECTRÓNICO","SOLICITUD DE INFORMACIÓN Y DOCUMENTOS","REGISTROS AMBIENTALES","SI","SUBDIRECCIÓN DE ESTUDIOS AMBIENTALES",43929,null,null,{"$f":"IFERROR(WORKDAY(C783,R783,DiasNOLaborables),\"\")","v":43957},{"$f":"+IF(C783=\"\",\"\",IF(I783=\"\",\"\",(IF(I783<=L783,\"A TIEMPO\",\"FUERA DE TIEMPO\"))))","v":"A TIEMPO"},{"$f":"IF(I783=\"\",\"\",NETWORKDAYS([4]Hoja1!C783+1,[4]Hoja1!P783,DiasNOLaborables))","v":7},"",null,null,20]
[773,20209050029112,43924,"CORREO ELECTRÓNICO","SOLICITUD DE INFORMACIÓN Y DOCUMENTOS","REGISTROS AMBIENTALES","SI","SUBDIRECCIÓN DE ESTUDIOS AMBIENTALES",43928,null,null,{"$f":"IFERROR(WORKDAY(C784,R784,DiasNOLaborables),\"\")","v":43957},{"$f":"+IF(C784=\"\",\"\",IF(I784=\"\",\"\",(IF(I784<=L784,\"A TIEMPO\",\"FUERA DE TIEMPO\"))))","v":"A TIEMPO"},{"$f":"IF(I784=\"\",\"\",NETWORKDAYS([4]Hoja1!C784+1,[4]Hoja1!P784,DiasNOLaborables))","v":3},"",null,null,20]
[774,20209050029122,43924,"CORREO ELECTRÓNICO","SOLICITUD DE INFORMACIÓN Y DOCUMENTOS","SOLICITUD DE INFORMACIÓN Y DOCUMENTOS","SI","SUBDIRECCIÓN DE METEOROLOGÍA",43927,null,null,{"$f":"IFERROR(WORKDAY(C785,R785,DiasNOLaborables),\"\")","v":43957},{"$f":"+IF(C785=\"\",\"\",IF(I785=\"\",\"\",(IF(I785<=L785,\"A TIEMPO\",\"FUERA DE TIEMPO\"))))","v":"A TIEMPO"},{"$f":"IF(I785=\"\",\"\",NETWORKDAYS([4]Hoja1!C785+1,[4]Hoja1!P785,DiasNOLaborables))","v":1},"",null,null,20]
[775,20209050029152,43924,"CORREO ELECTRÓNICO","CERTIFICACIONES DE TIEMPO, CLIMA Y EVENTOS HIDROLÓGICOS","CERTIFICACIONES DE TIEMPO Y CLIMA","SI","SUBDIRECCIÓN DE METEOROLOGÍA",43928,null,null,{"$f":"IFERROR(WORKDAY(C786,R786,DiasNOLaborables),\"\")","v":43971},{"$f":"+IF(C786=\"\",\"\",IF(I786=\"\",\"\",(IF(I786<=L786,\"A TIEMPO\",\"FUERA DE TIEMPO\"))))","v":"A TIEMPO"},{"$f":"IF(I786=\"\",\"\",NETWORKDAYS([4]Hoja1!C786+1,[4]Hoja1!P786,DiasNOLaborables))","v":8},"",null,null,30]
[776,20209050029242,43924,"CORREO ELECTRÓNICO","SOLICITUD DE INFORMACIÓN Y DOCUMENTOS","REGISTROS AMBIENTALES","SI","SUBDIRECCIÓN DE ESTUDIOS AMBIENTALES",43929,null,null,{"$f":"IFERROR(WORKDAY(C787,R787,DiasNOLaborables),\"\")","v":43957},{"$f":"+IF(C787=\"\",\"\",IF(I787=\"\",\"\",(IF(I787<=L787,\"A TIEMPO\",\"FUERA DE TIEMPO\"))))","v":"A TIEMPO"},{"$f":"IF(I787=\"\",\"\",NETWORKDAYS([4]Hoja1!C787+1,[4]Hoja1!P787,DiasNOLaborables))","v":10},"",null,null,20]
[777,20209050029262,43924,"CORREO ELECTRÓNICO","SOLICITUD DE INFORMACIÓN Y DOCUMENTOS","SOLICITUD DE INFORMACIÓN Y DOCUMENTOS","SI","SUBDIRECCIÓN DE ECOSISTEMAS E INFORMACIÓN AMBIENTAL",43935,null,null,{"$f":"IFERROR(WORKDAY(C788,R788,DiasNOLaborables),\"\")","v":43957},{"$f":"+IF(C788=\"\",\"\",IF(I788=\"\",\"\",(IF(I788<=L788,\"A TIEMPO\",\"FUERA DE TIEMPO\"))))","v":"A TIEMPO"},{"$f":"IF(I788=\"\",\"\",NETWORKDAYS([4]Hoja1!C788+1,[4]Hoja1!P788,DiasNOLaborables))","v":2},"",null,null,20]
[778,20209050029282,43924,"CORREO ELECTRÓNICO","SOLICITUD DE INFORMACIÓN Y DOCUMENTOS","REGISTROS AMBIENTALES","SI","SUBDIRECCIÓN DE ESTUDIOS AMBIENTALES",43929,null,null,{"$f":"IFERROR(WORKDAY(C789,R789,DiasNOLaborables),\"\")","v":43957},{"$f":"+IF(C789=\"\",\"\",IF(I789=\"\",\"\",(IF(I789<=L789,\"A TIEMPO\",\"FUERA DE TIEMPO\"))))","v":"A TIEMPO"},{"$f":"IF(I789=\"\",\"\",NETWORKDAYS([4]Hoja1!C789+1,[4]Hoja1!P789,DiasNOLaborables))","v":1},"",null,null,20]
[779,20209050029302,43924,"CORREO ELECTRÓNICO","CERTIFICACIONES DE TIEMPO, CLIMA Y EVENTOS HIDROLÓGICOS","CERTIFICACIONES DE TIEMPO Y CLIMA","SI","SUBDIRECCIÓN DE METEOROLOGÍA",43944,null,null,{"$f":"IFERROR(WORKDAY(C790,R790,DiasNOLaborables),\"\")","v":43971},{"$f":"+IF(C790=\"\",\"\",IF(I790=\"\",\"\",(IF(I790<=L790,\"A TIEMPO\",\"FUERA DE TIEMPO\"))))","v":"A TIEMPO"},{"$f":"IF(I790=\"\",\"\",NETWORKDAYS([4]Hoja1!C790+1,[4]Hoja1!P790,DiasNOLaborables))","v":3},"",null,null,30]
[780,20209050029312,43924,"CORREO ELECTRÓNICO","SOLICITUD DE INFORMACIÓN Y DOCUMENTOS","SOLICITUD DE INFORMACIÓN Y DOCUMENTOS","SI","DIRECCIÓN GENERAL",43935,null,null,{"$f":"IFERROR(WORKDAY(C791,R791,DiasNOLaborables),\"\")","v":43957},{"$f":"+IF(C791=\"\",\"\",IF(I791=\"\",\"\",(IF(I791<=L791,\"A TIEMPO\",\"FUERA DE TIEMPO\"))))","v":"A TIEMPO"},{"$f":"IF(I791=\"\",\"\",NETWORKDAYS([4]Hoja1!C791+1,[4]Hoja1!P791,DiasNOLaborables))","v":10},"",null,null,20]
[781,20209050029322,43924,"CORREO ELECTRÓNICO","SOLICITUD DE INFORMACIÓN Y DOCUMENTOS","REGISTROS AMBIENTALES","SI","SUBDIRECCIÓN DE ESTUDIOS AMBIENTALES",43924,null,null,{"$f":"IFERROR(WORKDAY(C792,R792,DiasNOLaborables),\"\")","v":43957},{"$f":"+IF(C792=\"\",\"\",IF(I792=\"\",\"\",(IF(I792<=L792,\"A TIEMPO\",\"FUERA DE TIEMPO\"))))","v":"A TIEMPO"},{"$f":"IF(I792=\"\",\"\",NETWORKDAYS([4]Hoja1!C792+1,[4]Hoja1!P792,DiasNOLaborables))","v":12},"",null,null,20]
[782,20209050028882,43924,"MODULO CONTACTENOS","CERTIFICACIONES DE TIEMPO, CLIMA Y EVENTOS HIDROLÓGICOS","CERTIFICACIONES DE TIEMPO Y CLIMA","SI","SUBDIRECCIÓN DE METEOROLOGÍA",43935,null,null,{"$f":"IFERROR(WORKDAY(C793,R793,DiasNOLaborables),\"\")","v":43971},{"$f":"+IF(C793=\"\",\"\",IF(I793=\"\",\"\",(IF(I793<=L793,\"A TIEMPO\",\"FUERA DE TIEMPO\"))))","v":"A TIEMPO"},{"$f":"IF(I793=\"\",\"\",NETWORKDAYS([4]Hoja1!C793+1,[4]Hoja1!P793,DiasNOLaborables))","v":2},"",null,null,30]
[783,20209050029442,43925,"CORREO ELECTRÓNICO","SOLICITUD DE INFORMACIÓN Y DOCUMENTOS","WEB Y CORREO","SI","OFICINA DE INFORMÁTICA",43938,null,null,{"$f":"IFERROR(WORKDAY(C794,R794,DiasNOLaborables),\"\")","v":43957},{"$f":"+IF(C794=\"\",\"\",IF(I794=\"\",\"\",(IF(I794<=L794,\"A TIEMPO\",\"FUERA DE TIEMPO\"))))","v":"A TIEMPO"},{"$f":"IF(I794=\"\",\"\",NETWORKDAYS([4]Hoja1!C794+1,[4]Hoja1!P794,DiasNOLaborables))","v":9},"",null,null,20]
[784,20209050029502,43926,"CORREO ELECTRÓNICO","SOLICITUD DE INFORMACIÓN Y DOCUMENTOS","SOLICITUD DE INFORMACIÓN HIDROMETEOROLÓGICA","NO","GRUPO DE ATENCIÓN AL CIUDADANO",43933,null,null,{"$f":"IFERROR(WORKDAY(C795,R795,DiasNOLaborables),\"\")","v":43957},{"$f":"+IF(C795=\"\",\"\",IF(I795=\"\",\"\",(IF(I795<=L795,\"A TIEMPO\",\"FUERA DE TIEMPO\"))))","v":"A TIEMPO"},{"$f":"IF(I795=\"\",\"\",NETWORKDAYS([4]Hoja1!C795+1,[4]Hoja1!P795,DiasNOLaborables))","v":3},{"$f":"IF(NETWORKDAYS(L795+1,I795,DiasNOLaborables)<=0,\"\",NETWORKDAYS(L795+1,I795,DiasNOLaborables))","v":""},null,null,20]
[785,20209050029592,43927,"CORREO ELECTRÓNICO","CERTIFICACIONES DE TIEMPO, CLIMA Y EVENTOS HIDROLÓGICOS","CERTIFICACIONES DE TIEMPO Y CLIMA","SI","SUBDIRECCIÓN DE METEOROLOGÍA",43935,null,null,{"$f":"IFERROR(WORKDAY(C796,R796,DiasNOLaborables),\"\")","v":43972},{"$f":"+IF(C796=\"\",\"\",IF(I796=\"\",\"\",(IF(I796<=L796,\"A TIEMPO\",\"FUERA DE TIEMPO\"))))","v":"A TIEMPO"},{"$f":"IF(I796=\"\",\"\",NETWORKDAYS([4]Hoja1!C796+1,[4]Hoja1!P796,DiasNOLaborables))","v":4},"",null,null,30]
[786,20209050029602,43927,"CORREO ELECTRÓNICO","SOLICITUD DE INFORMACIÓN Y DOCUMENTOS","SOLICITUD DE INFORMACIÓN Y DOCUMENTOS","SI","SUBDIRECCIÓN DE HIDROLOGÍA",43939,null,null,{"$f":"IFERROR(WORKDAY(C797,R797,DiasNOLaborables),\"\")","v":43958},{"$f":"+IF(C797=\"\",\"\",IF(I797=\"\",\"\",(IF(I797<=L797,\"A TIEMPO\",\"FUERA DE TIEMPO\"))))","v":"A TIEMPO"},{"$f":"IF(I797=\"\",\"\",NETWORKDAYS([4]Hoja1!C797+1,[4]Hoja1!P797,DiasNOLaborables))","v":-2},"",null,null,20]
[787,20209050029642,43927,"CORREO ELECTRÓNICO","SOLICITUD DE INFORMACIÓN Y DOCUMENTOS","REGISTROS AMBIENTALES","SI","SUBDIRECCIÓN DE ESTUDIOS AMBIENTALES",43927,null,null,{"$f":"IFERROR(WORKDAY(C798,R798,DiasNOLaborables),\"\")","v":43958},{"$f":"+IF(C798=\"\",\"\",IF(I798=\"\",\"\",(IF(I798<=L798,\"A TIEMPO\",\"FUERA DE TIEMPO\"))))","v":"A TIEMPO"},{"$f":"IF(I798=\"\",\"\",NETWORKDAYS([4]Hoja1!C798+1,[4]Hoja1!P798,DiasNOLaborables))","v":9},"",null,null,20]
[788,20209050029652,43927,"CORREO ELECTRÓNICO","SOLICITUD DE INFORMACIÓN Y DOCUMENTOS","REGISTROS AMBIENTALES","SI","SUBDIRECCIÓN DE ESTUDIOS AMBIENTALES",43927,null,null,{"$f":"IFERROR(WORKDAY(C799,R799,DiasNOLaborables),\"\")","v":43958},{"$f":"+IF(C799=\"\",\"\",IF(I799=\"\",\"\",(IF(I799<=L799,\"A TIEMPO\",\"FUERA DE TIEMPO\"))))","v":"A TIEMPO"},{"$f":"IF(I799=\"\",\"\",NETWORKDAYS([4]Hoja1!C799+1,[4]Hoja1!P799,DiasNOLaborables))","v":9},"",null,null,20]
[789,20209050029662,43927,"CORREO ELECTRÓNICO","SOLICITUD DE INFORMACIÓN Y DOCUMENTOS","REGISTROS AMBIENTALES","SI","SUBDIRECCIÓN DE ESTUDIOS AMBIENTALES",43927,null,null,{"$f":"IFERROR(WORKDAY(C800,R800,DiasNOLaborables),\"\")","v":43958},{"$f":"+IF(C800=\"\",\"\",IF(I800=\"\",\"\",(IF(I800<=L800,\"A TIEMPO\",\"FUERA DE TIEMPO\"))))","v":"A TIEMPO"},{"$f":"IF(I800=\"\",\"\",NETWORKDAYS([4]Hoja1!C800+1,[4]Hoja1!P800,DiasNOLaborables))","v":1},"",null,null,20]
[790,20209050029672,43927,"CORREO ELECTRÓNICO","SOLICITUD DE INFORMACIÓN Y DOCUMENTOS","REGISTROS AMBIENTALES","SI","SUBDIRECCIÓN DE ESTUDIOS AMBIENTALES",43927,null,null,{"$f":"IFERROR(WORKDAY(C801,R801,DiasNOLaborables),\"\")","v":43958},{"$f":"+IF(C801=\"\",\"\",IF(I801=\"\",\"\",(IF(I801<=L801,\"A TIEMPO\",\"FUERA DE TIEMPO\"))))","v":"A TIEMPO"},{"$f":"IF(I801=\"\",\"\",NETWORKDAYS([4]Hoja1!C801+1,[4]Hoja1!P801,DiasNOLaborables))","v":4},"",null,null,20]
[791,20209050029742,43927,"CORREO ELECTRÓNICO","SOLICITUD DE INFORMACIÓN Y DOCUMENTOS","SOLICITUD DE INFORMACIÓN Y DOCUMENTOS","SI","SUBDIRECCIÓN DE ESTUDIOS AMBIENTALES",43936,null,null,{"$f":"IFERROR(WORKDAY(C802,R802,DiasNOLaborables),\"\")","v":43958},{"$f":"+IF(C802=\"\",\"\",IF(I802=\"\",\"\",(IF(I802<=L802,\"A TIEMPO\",\"FUERA DE TIEMPO\"))))","v":"A TIEMPO"},{"$f":"IF(I802=\"\",\"\",NETWORKDAYS([4]Hoja1!C802+1,[4]Hoja1!P802,DiasNOLaborables))","v":11},"",null,null,20]
[792,20209050029752,43927,"CORREO ELECTRÓNICO","SOLICITUD DE INFORMACIÓN Y DOCUMENTOS","SOLICITUD DE INFORMACIÓN Y DOCUMENTOS","SI","SUBDIRECCIÓN DE ESTUDIOS AMBIENTALES",43929,null,null,{"$f":"IFERROR(WORKDAY(C803,R803,DiasNOLaborables),\"\")","v":43958},{"$f":"+IF(C803=\"\",\"\",IF(I803=\"\",\"\",(IF(I803<=L803,\"A TIEMPO\",\"FUERA DE TIEMPO\"))))","v":"A TIEMPO"},{"$f":"IF(I803=\"\",\"\",NETWORKDAYS([4]Hoja1!C803+1,[4]Hoja1!P803,DiasNOLaborables))","v":6},"",null,null,20]
[793,20209050029782,43927,"CORREO ELECTRÓNICO","SOLICITUD DE INFORMACIÓN Y DOCUMENTOS","SOLICITUD DE INFORMACIÓN Y DOCUMENTOS","SI","SUBDIRECCIÓN DE ECOSISTEMAS E INFORMACIÓN AMBIENTAL",43936,null,null,{"$f":"IFERROR(WORKDAY(C804,R804,DiasNOLaborables),\"\")","v":43958},{"$f":"+IF(C804=\"\",\"\",IF(I804=\"\",\"\",(IF(I804<=L804,\"A TIEMPO\",\"FUERA DE TIEMPO\"))))","v":"A TIEMPO"},{"$f":"IF(I804=\"\",\"\",NETWORKDAYS([4]Hoja1!C804+1,[4]Hoja1!P804,DiasNOLaborables))","v":11},"",null,null,20]
[794,20209050029812,43927,"CORREO ELECTRÓNICO","SOLICITUD DE INFORMACIÓN Y DOCUMENTOS","SOLICITUD DE INFORMACIÓN Y DOCUMENTOS","SI","GRUPO DE ADMINISTRACIÓN Y DESARROLLO DEL TALENTO HUMANO",43928,null,null,{"$f":"IFERROR(WORKDAY(C805,R805,DiasNOLaborables),\"\")","v":43958},{"$f":"+IF(C805=\"\",\"\",IF(I805=\"\",\"\",(IF(I805<=L805,\"A TIEMPO\",\"FUERA DE TIEMPO\"))))","v":"A TIEMPO"},{"$f":"IF(I805=\"\",\"\",NETWORKDAYS([4]Hoja1!C805+1,[4]Hoja1!P805,DiasNOLaborables))","v":1},"",null,null,20]
[795,20209050029832,43927,"CORREO ELECTRÓNICO","SOLICITUD DE INFORMACIÓN Y DOCUMENTOS","ADMINISTRATIVA","SI","OFICINA ASESORA JURÍDICA",43948,null,null,{"$f":"IFERROR(WORKDAY(C806,R806,DiasNOLaborables),\"\")","v":43958},{"$f":"+IF(C806=\"\",\"\",IF(I806=\"\",\"\",(IF(I806<=L806,\"A TIEMPO\",\"FUERA DE TIEMPO\"))))","v":"A TIEMPO"},{"$f":"IF(I806=\"\",\"\",NETWORKDAYS([4]Hoja1!C806+1,[4]Hoja1!P806,DiasNOLaborables))","v":5},"",null,null,20]
[796,20209050029852,43927,"CORREO ELECTRÓNICO","SOLICITUD DE INFORMACIÓN Y DOCUMENTOS","SOLICITUD DE INFORMACIÓN Y DOCUMENTOS","SI","OFICINA DE INFORMÁTICA",43945,null,null,{"$f":"IFERROR(WORKDAY(C807,R807,DiasNOLaborables),\"\")","v":43958},{"$f":"+IF(C807=\"\",\"\",IF(I807=\"\",\"\",(IF(I807<=L807,\"A TIEMPO\",\"FUERA DE TIEMPO\"))))","v":"A TIEMPO"},{"$f":"IF(I807=\"\",\"\",NETWORKDAYS([4]Hoja1!C807+1,[4]Hoja1!P807,DiasNOLaborables))","v":9},"",null,null,20]
[797,20209050029862,43927,"CORREO ELECTRÓNICO","SOLICITUD DE INFORMACIÓN Y DOCUMENTOS","SOLICITUD DE INFORMACIÓN Y DOCUMENTOS","SI","SUBDIRECCIÓN DE ECOSISTEMAS E INFORMACIÓN AMBIENTAL",43941,null,null,{"$f":"IFERROR(WORKDAY(C808,R808,DiasNOLaborables),\"\")","v":43958},{"$f":"+IF(C808=\"\",\"\",IF(I808=\"\",\"\",(IF(I808<=L808,\"A TIEMPO\",\"FUERA DE TIEMPO\"))))","v":"A TIEMPO"},{"$f":"IF(I808=\"\",\"\",NETWORKDAYS([4]Hoja1!C808+1,[4]Hoja1!P808,DiasNOLaborables))","v":8},"",null,null,20]
[798,20209050029542,43927,"MODULO CONTACTENOS","SOLICITUD DE INFORMACIÓN Y DOCUMENTOS","SOLICITUD DE INFORMACIÓN Y DOCUMENTOS","SI","SUBDIRECCIÓN DE ECOSISTEMAS E INFORMACIÓN AMBIENTAL",43935,null,null,{"$f":"IFERROR(WORKDAY(C809,R809,DiasNOLaborables),\"\")","v":43958},{"$f":"+IF(C809=\"\",\"\",IF(I809=\"\",\"\",(IF(I809<=L809,\"A TIEMPO\",\"FUERA DE TIEMPO\"))))","v":"A TIEMPO"},{"$f":"IF(I809=\"\",\"\",NETWORKDAYS([4]Hoja1!C809+1,[4]Hoja1!P809,DiasNOLaborables))","v":2},"",null,null,20]
[799,20209050029562,43927,"MODULO CONTACTENOS","SOLICITUD DE INFORMACIÓN Y DOCUMENTOS","ADMINISTRATIVA","SI","GRUPO DE ADMINISTRACIÓN Y DESARROLLO DEL TALENTO HUMANO",43928,null,null,{"$f":"IFERROR(WORKDAY(C810,R810,DiasNOLaborables),\"\")","v":43958},{"$f":"+IF(C810=\"\",\"\",IF(I810=\"\",\"\",(IF(I810<=L810,\"A TIEMPO\",\"FUERA DE TIEMPO\"))))","v":"A TIEMPO"},{"$f":"IF(I810=\"\",\"\",NETWORKDAYS([4]Hoja1!C810+1,[4]Hoja1!P810,DiasNOLaborables))","v":8},"",null,null,20]
[800,20209050029682,43927,"MODULO CONTACTENOS","SOLICITUD DE INFORMACIÓN Y DOCUMENTOS","SOLICITUD DE INFORMACIÓN Y DOCUMENTOS","SI","OFICINA DE INFORMÁTICA",43938,null,null,{"$f":"IFERROR(WORKDAY(C811,R811,DiasNOLaborables),\"\")","v":43958},{"$f":"+IF(C811=\"\",\"\",IF(I811=\"\",\"\",(IF(I811<=L811,\"A TIEMPO\",\"FUERA DE TIEMPO\"))))","v":"A TIEMPO"},{"$f":"IF(I811=\"\",\"\",NETWORKDAYS([4]Hoja1!C811+1,[4]Hoja1!P811,DiasNOLaborables))","v":8},"",null,null,20]
[801,20209050029722,43927,"CORREO ELECTRÓNICO","SOLICITUD DE INFORMACIÓN Y DOCUMENTOS","WEB Y CORREO","SI","OFICINA DE INFORMÁTICA",43941,null,null,{"$f":"IFERROR(WORKDAY(C812,R812,DiasNOLaborables),\"\")","v":43958},{"$f":"+IF(C812=\"\",\"\",IF(I812=\"\",\"\",(IF(I812<=L812,\"A TIEMPO\",\"FUERA DE TIEMPO\"))))","v":"A TIEMPO"},{"$f":"IF(I812=\"\",\"\",NETWORKDAYS([4]Hoja1!C812+1,[4]Hoja1!P812,DiasNOLaborables))","v":5},"",null,null,20]
[802,20209050029842,43927,"CORREO ELECTRÓNICO","SOLICITUD DE INFORMACIÓN Y DOCUMENTOS","SOLICITUD DE INFORMACIÓN Y DOCUMENTOS","SI","SUBDIRECCIÓN DE HIDROLOGÍA",43941,null,null,{"$f":"IFERROR(WORKDAY(C813,R813,DiasNOLaborables),\"\")","v":43958},{"$f":"+IF(C813=\"\",\"\",IF(I813=\"\",\"\",(IF(I813<=L813,\"A TIEMPO\",\"FUERA DE TIEMPO\"))))","v":"A TIEMPO"},{"$f":"IF(I813=\"\",\"\",NETWORKDAYS([4]Hoja1!C813+1,[4]Hoja1!P813,DiasNOLaborables))","v":4},"",null,null,20]
[803,20209050030142,43928,"CORREO ELECTRÓNICO","SOLICITUD DE INFORMACIÓN Y DOCUMENTOS","SOLICITUD DE INFORMACIÓN Y DOCUMENTOS","SI","SUBDIRECCIÓN DE HIDROLOGÍA",43934,null,null,{"$f":"IFERROR(WORKDAY(C814,R814,DiasNOLaborables),\"\")","v":43959},{"$f":"+IF(C814=\"\",\"\",IF(I814=\"\",\"\",(IF(I814<=L814,\"A TIEMPO\",\"FUERA DE TIEMPO\"))))","v":"A TIEMPO"},{"$f":"IF(I814=\"\",\"\",NETWORKDAYS([4]Hoja1!C814+1,[4]Hoja1!P814,DiasNOLaborables))","v":5},"",null,null,20]
[804,20209050030162,43928,"CORREO ELECTRÓNICO","SOLICITUD DE INFORMACIÓN Y DOCUMENTOS","SOLICITUD DE INFORMACIÓN Y DOCUMENTOS","SI","SUBDIRECCIÓN DE ECOSISTEMAS E INFORMACIÓN AMBIENTAL",43928,null,null,{"$f":"IFERROR(WORKDAY(C815,R815,DiasNOLaborables),\"\")","v":43959},{"$f":"+IF(C815=\"\",\"\",IF(I815=\"\",\"\",(IF(I815<=L815,\"A TIEMPO\",\"FUERA DE TIEMPO\"))))","v":"A TIEMPO"},{"$f":"IF(I815=\"\",\"\",NETWORKDAYS([4]Hoja1!C815+1,[4]Hoja1!P815,DiasNOLaborables))","v":5},"",null,null,20]
[805,20209050030172,43928,"CORREO ELECTRÓNICO","SOLICITUD DE INFORMACIÓN Y DOCUMENTOS","ADMINISTRATIVA","SI","GRUPO DE ADMINISTRACIÓN Y DESARROLLO DEL TALENTO HUMANO",43949,null,null,{"$f":"IFERROR(WORKDAY(C816,R816,DiasNOLaborables),\"\")","v":43959},{"$f":"+IF(C816=\"\",\"\",IF(I816=\"\",\"\",(IF(I816<=L816,\"A TIEMPO\",\"FUERA DE TIEMPO\"))))","v":"A TIEMPO"},{"$f":"IF(I816=\"\",\"\",NETWORKDAYS([4]Hoja1!C816+1,[4]Hoja1!P816,DiasNOLaborables))","v":5},"",null,null,20]
[806,20209050030182,43928,"MODULO CONTACTENOS","SOLICITUD DE INFORMACIÓN Y DOCUMENTOS","SOLICITUD DE INFORMACIÓN Y DOCUMENTOS","SI","SUBDIRECCIÓN DE METEOROLOGÍA",43935,null,null,{"$f":"IFERROR(WORKDAY(C817,R817,DiasNOLaborables),\"\")","v":43959},{"$f":"+IF(C817=\"\",\"\",IF(I817=\"\",\"\",(IF(I817<=L817,\"A TIEMPO\",\"FUERA DE TIEMPO\"))))","v":"A TIEMPO"},{"$f":"IF(I817=\"\",\"\",NETWORKDAYS([4]Hoja1!C817+1,[4]Hoja1!P817,DiasNOLaborables))","v":5},"",null,null,20]
[{"$f":"IF(B816<>\"\",A817+1,\"\")","v":807},20209050030192,43928,"MODULO CONTACTENOS","SOLICITUD DE INFORMACIÓN Y DOCUMENTOS","SOLICITUD DE INFORMACIÓN Y DOCUMENTOS","SI","SUBDIRECCIÓN DE METEOROLOGÍA",43935,null,null,{"$f":"IFERROR(WORKDAY(C818,R818,DiasNOLaborables),\"\")","v":43959},{"$f":"+IF(C818=\"\",\"\",IF(I818=\"\",\"\",(IF(I818<=L818,\"A TIEMPO\",\"FUERA DE TIEMPO\"))))","v":"A TIEMPO"},{"$f":"IF(I818=\"\",\"\",NETWORKDAYS([4]Hoja1!C818+1,[4]Hoja1!P818,DiasNOLaborables))","v":5},"",null,null,20]
[808,20209050030232,43928,"MODULO CONTACTENOS","SOLICITUD DE INFORMACIÓN Y DOCUMENTOS","ADMINISTRATIVA","SI","GRUPO DE ADMINISTRACIÓN Y DESARROLLO DEL TALENTO HUMANO",43944,null,null,{"$f":"IFERROR(WORKDAY(C819,R819,DiasNOLaborables),\"\")","v":43959},{"$f":"+IF(C819=\"\",\"\",IF(I819=\"\",\"\",(IF(I819<=L819,\"A TIEMPO\",\"FUERA DE TIEMPO\"))))","v":"A TIEMPO"},{"$f":"IF(I819=\"\",\"\",NETWORKDAYS([4]Hoja1!C819+1,[4]Hoja1!P819,DiasNOLaborables))","v":6},"",null,null,20]
[809,20209050029972,43928,"MODULO CONTACTENOS","CERTIFICACIONES DE TIEMPO, CLIMA Y EVENTOS HIDROLÓGICOS","CERTIFICACIONES DE TIEMPO Y CLIMA","SI","SUBDIRECCIÓN DE METEOROLOGÍA",43966,null,null,{"$f":"IFERROR(WORKDAY(C820,R820,DiasNOLaborables),\"\")","v":43973},{"$f":"+IF(C820=\"\",\"\",IF(I820=\"\",\"\",(IF(I820<=L820,\"A TIEMPO\",\"FUERA DE TIEMPO\"))))","v":"A TIEMPO"},{"$f":"IF(I820=\"\",\"\",NETWORKDAYS([4]Hoja1!C820+1,[4]Hoja1!P820,DiasNOLaborables))","v":7},"",null,null,30]
[810,20209050029982,43928,"MODULO CONTACTENOS","SOLICITUD DE INFORMACIÓN Y DOCUMENTOS","ADMINISTRATIVA","SI","GRUPO DE ADMINISTRACIÓN Y DESARROLLO DEL TALENTO HUMANO",43956,null,null,{"$f":"IFERROR(WORKDAY(C821,R821,DiasNOLaborables),\"\")","v":43959},{"$f":"+IF(C821=\"\",\"\",IF(I821=\"\",\"\",(IF(I821<=L821,\"A TIEMPO\",\"FUERA DE TIEMPO\"))))","v":"A TIEMPO"},{"$f":"IF(I821=\"\",\"\",NETWORKDAYS([4]Hoja1!C821+1,[4]Hoja1!P821,DiasNOLaborables))","v":7},"",null,null,20]
[811,20209050029992,43928,"MODULO CONTACTENOS","CERTIFICACIONES DE TIEMPO, CLIMA Y EVENTOS HIDROLÓGICOS","CERTIFICACIONES DE TIEMPO Y CLIMA","SI","SUBDIRECCIÓN DE METEOROLOGÍA",43936,null,null,{"$f":"IFERROR(WORKDAY(C822,R822,DiasNOLaborables),\"\")","v":43973},{"$f":"+IF(C822=\"\",\"\",IF(I822=\"\",\"\",(IF(I822<=L822,\"A TIEMPO\",\"FUERA DE TIEMPO\"))))","v":"A TIEMPO"},{"$f":"IF(I822=\"\",\"\",NETWORKDAYS([4]Hoja1!C822+1,[4]Hoja1!P822,DiasNOLaborables))","v":7},"",null,null,30]
[812,20209050030002,43928,"CORREO ELECTRÓNICO","SOLICITUD DE INFORMACIÓN Y DOCUMENTOS","SOLICITUD DE INFORMACIÓN Y DOCUMENTOS","SI","SUBDIRECCIÓN DE METEOROLOGÍA",43937,null,null,{"$f":"IFERROR(WORKDAY(C823,R823,DiasNOLaborables),\"\")","v":43959},{"$f":"+IF(C823=\"\",\"\",IF(I823=\"\",\"\",(IF(I823<=L823,\"A TIEMPO\",\"FUERA DE TIEMPO\"))))","v":"A TIEMPO"},{"$f":"IF(I823=\"\",\"\",NETWORKDAYS([4]Hoja1!C823+1,[4]Hoja1!P823,DiasNOLaborables))","v":9},"",null,null,20]
[813,20209050030032,43928,"CORREO ELECTRÓNICO","SOLICITUD DE INFORMACIÓN Y DOCUMENTOS","SOLICITUD DE INFORMACIÓN Y DOCUMENTOS","SI","SUBDIRECCIÓN DE ECOSISTEMAS E INFORMACIÓN AMBIENTAL",43941,null,null,{"$f":"IFERROR(WORKDAY(C824,R824,DiasNOLaborables),\"\")","v":43959},{"$f":"+IF(C824=\"\",\"\",IF(I824=\"\",\"\",(IF(I824<=L824,\"A TIEMPO\",\"FUERA DE TIEMPO\"))))","v":"A TIEMPO"},{"$f":"IF(I824=\"\",\"\",NETWORKDAYS([4]Hoja1!C824+1,[4]Hoja1!P824,DiasNOLaborables))","v":9},"",null,null,20]
[814,20209050030042,43928,"CORREO ELECTRÓNICO","SOLICITUD DE INFORMACIÓN Y DOCUMENTOS","ADMINISTRATIVA","SI","GRUPO DE TESORERÍA",43935,null,null,{"$f":"IFERROR(WORKDAY(C825,R825,DiasNOLaborables),\"\")","v":43959},{"$f":"+IF(C825=\"\",\"\",IF(I825=\"\",\"\",(IF(I825<=L825,\"A TIEMPO\",\"FUERA DE TIEMPO\"))))","v":"A TIEMPO"},{"$f":"IF(I825=\"\",\"\",NETWORKDAYS([4]Hoja1!C825+1,[4]Hoja1!P825,DiasNOLaborables))","v":9},"",null,null,20]
[815,20209050030052,43928,"CORREO ELECTRÓNICO","SOLICITUD DE INFORMACIÓN Y DOCUMENTOS","REGISTROS AMBIENTALES","SI","SUBDIRECCIÓN DE ESTUDIOS AMBIENTALES",43928,null,null,{"$f":"IFERROR(WORKDAY(C826,R826,DiasNOLaborables),\"\")","v":43959},{"$f":"+IF(C826=\"\",\"\",IF(I826=\"\",\"\",(IF(I826<=L826,\"A TIEMPO\",\"FUERA DE TIEMPO\"))))","v":"A TIEMPO"},{"$f":"IF(I826=\"\",\"\",NETWORKDAYS([4]Hoja1!C826+1,[4]Hoja1!P826,DiasNOLaborables))","v":9},"",null,null,20]
[816,20209050029932,43928,"MODULO CONTACTENOS","SOLICITUD DE INFORMACIÓN Y DOCUMENTOS","CLIMATOLOGÍA","SI","OFICINA DEL SERVICIO DE PRONÓSTICOS Y ALERTAS",43941,null,null,{"$f":"IFERROR(WORKDAY(C827,R827,DiasNOLaborables),\"\")","v":43959},{"$f":"+IF(C827=\"\",\"\",IF(I827=\"\",\"\",(IF(I827<=L827,\"A TIEMPO\",\"FUERA DE TIEMPO\"))))","v":"A TIEMPO"},{"$f":"IF(I827=\"\",\"\",NETWORKDAYS([4]Hoja1!C827+1,[4]Hoja1!P827,DiasNOLaborables))","v":9},"",null,null,20]
[817,20209910033102,43928,"MODULO CONTACTENOS","SOLICITUD DE INFORMACIÓN Y DOCUMENTOS","CAMBIO CLIMÁTICO","SI","SUBDIRECCIÓN DE ESTUDIOS AMBIENTALES",43955,null,null,{"$f":"IFERROR(WORKDAY(C828,R828,DiasNOLaborables),\"\")","v":43959},{"$f":"+IF(C828=\"\",\"\",IF(I828=\"\",\"\",(IF(I828<=L828,\"A TIEMPO\",\"FUERA DE TIEMPO\"))))","v":"A TIEMPO"},{"$f":"IF(I828=\"\",\"\",NETWORKDAYS([4]Hoja1!C828+1,[4]Hoja1!P828,DiasNOLaborables))","v":10},"",null,null,20]
[818,20209050030462,43929,"CORREO ELECTRÓNICO","SOLICITUD DE INFORMACIÓN Y DOCUMENTOS","BOSQUES","SI","SUBDIRECCIÓN DE ECOSISTEMAS E INFORMACIÓN AMBIENTAL",43936,null,null,{"$f":"IFERROR(WORKDAY(C829,R829,DiasNOLaborables),\"\")","v":43962},{"$f":"+IF(C829=\"\",\"\",IF(I829=\"\",\"\",(IF(I829<=L829,\"A TIEMPO\",\"FUERA DE TIEMPO\"))))","v":"A TIEMPO"},{"$f":"IF(I829=\"\",\"\",NETWORKDAYS([4]Hoja1!C829+1,[4]Hoja1!P829,DiasNOLaborables))","v":10},"",null,null,20]
[819,20209050030482,43929,"CORREO ELECTRÓNICO","SOLICITUD DE INFORMACIÓN Y DOCUMENTOS","PRONÓSTICOS Y ALERTAS","SI","OFICINA DEL SERVICIO DE PRONÓSTICOS Y ALERTAS",43934,null,null,{"$f":"IFERROR(WORKDAY(C830,R830,DiasNOLaborables),\"\")","v":43962},{"$f":"+IF(C830=\"\",\"\",IF(I830=\"\",\"\",(IF(I830<=L830,\"A TIEMPO\",\"FUERA DE TIEMPO\"))))","v":"A TIEMPO"},{"$f":"IF(I830=\"\",\"\",NETWORKDAYS([4]Hoja1!C830+1,[4]Hoja1!P830,DiasNOLaborables))","v":15},"",null,null,20]
[820,20209050030322,43929,"MODULO CONTACTENOS","CERTIFICACIONES DE TIEMPO, CLIMA Y EVENTOS HIDROLÓGICOS","CERTIFICACIONES DE TIEMPO Y CLIMA","SI","SUBDIRECCIÓN DE METEOROLOGÍA",43934,null,null,{"$f":"IFERROR(WORKDAY(C831,R831,DiasNOLaborables),\"\")","v":43977},{"$f":"+IF(C831=\"\",\"\",IF(I831=\"\",\"\",(IF(I831<=L831,\"A TIEMPO\",\"FUERA DE TIEMPO\"))))","v":"A TIEMPO"},{"$f":"IF(I831=\"\",\"\",NETWORKDAYS([4]Hoja1!C831+1,[4]Hoja1!P831,DiasNOLaborables))","v":1},"",null,null,30]
[821,20209050030332,43929,"CORREO ELECTRÓNICO","SOLICITUD DE INFORMACIÓN Y DOCUMENTOS","SOLICITUD DE INFORMACIÓN Y DOCUMENTOS","SI","OFICINA DE INFORMÁTICA",43929,null,null,{"$f":"IFERROR(WORKDAY(C832,R832,DiasNOLaborables),\"\")","v":43962},{"$f":"+IF(C832=\"\",\"\",IF(I832=\"\",\"\",(IF(I832<=L832,\"A TIEMPO\",\"FUERA DE TIEMPO\"))))","v":"A TIEMPO"},{"$f":"IF(I832=\"\",\"\",NETWORKDAYS([4]Hoja1!C832+1,[4]Hoja1!P832,DiasNOLaborables))","v":1},"",null,null,20]
[822,20209050030352,43929,"CORREO ELECTRÓNICO","CERTIFICACIONES DE TIEMPO, CLIMA Y EVENTOS HIDROLÓGICOS","CERTIFICACIONES DE TIEMPO Y CLIMA","SI","SUBDIRECCIÓN DE METEOROLOGÍA",43942,null,null,{"$f":"IFERROR(WORKDAY(C833,R833,DiasNOLaborables),\"\")","v":43977},{"$f":"+IF(C833=\"\",\"\",IF(I833=\"\",\"\",(IF(I833<=L833,\"A TIEMPO\",\"FUERA DE TIEMPO\"))))","v":"A TIEMPO"},{"$f":"IF(I833=\"\",\"\",NETWORKDAYS([4]Hoja1!C833+1,[4]Hoja1!P833,DiasNOLaborables))","v":4},"",null,null,30]
[823,20209050030362,43929,"CORREO ELECTRÓNICO","SOLICITUD DE INFORMACIÓN Y DOCUMENTOS","SOLICITUD DE INFORMACIÓN Y DOCUMENTOS","SI","SUBDIRECCIÓN DE HIDROLOGÍA",43941,null,null,{"$f":"IFERROR(WORKDAY(C834,R834,DiasNOLaborables),\"\")","v":43962},{"$f":"+IF(C834=\"\",\"\",IF(I834=\"\",\"\",(IF(I834<=L834,\"A TIEMPO\",\"FUERA DE TIEMPO\"))))","v":"A TIEMPO"},{"$f":"IF(I834=\"\",\"\",NETWORKDAYS([4]Hoja1!C834+1,[4]Hoja1!P834,DiasNOLaborables))","v":3},"",null,null,20]
[824,20209050030382,43929,"CORREO ELECTRÓNICO","SOLICITUD DE INFORMACIÓN Y DOCUMENTOS","REGISTROS AMBIENTALES","SI","SUBDIRECCIÓN DE ESTUDIOS AMBIENTALES",43929,null,null,{"$f":"IFERROR(WORKDAY(C835,R835,DiasNOLaborables),\"\")","v":43962},{"$f":"+IF(C835=\"\",\"\",IF(I835=\"\",\"\",(IF(I835<=L835,\"A TIEMPO\",\"FUERA DE TIEMPO\"))))","v":"A TIEMPO"},{"$f":"IF(I835=\"\",\"\",NETWORKDAYS([4]Hoja1!C835+1,[4]Hoja1!P835,DiasNOLaborables))","v":4},"",null,null,20]
[825,20209050030392,43929,"CORREO ELECTRÓNICO","SOLICITUD DE INFORMACIÓN Y DOCUMENTOS","REGISTROS AMBIENTALES","SI","SUBDIRECCIÓN DE ESTUDIOS AMBIENTALES",43941,null,null,{"$f":"IFERROR(WORKDAY(C836,R836,DiasNOLaborables),\"\")","v":43962},{"$f":"+IF(C836=\"\",\"\",IF(I836=\"\",\"\",(IF(I836<=L836,\"A TIEMPO\",\"FUERA DE TIEMPO\"))))","v":"A TIEMPO"},{"$f":"IF(I836=\"\",\"\",NETWORKDAYS([4]Hoja1!C836+1,[4]Hoja1!P836,DiasNOLaborables))","v":3},"",null,null,20]
[826,20209050030402,43929,"CORREO ELECTRÓNICO","SOLICITUD DE INFORMACIÓN Y DOCUMENTOS","SOLICITUD DE INFORMACIÓN Y DOCUMENTOS","SI","SUBDIRECCIÓN DE ESTUDIOS AMBIENTALES",43948,null,null,{"$f":"IFERROR(WORKDAY(C837,R837,DiasNOLaborables),\"\")","v":43962},{"$f":"+IF(C837=\"\",\"\",IF(I837=\"\",\"\",(IF(I837<=L837,\"A TIEMPO\",\"FUERA DE TIEMPO\"))))","v":"A TIEMPO"},{"$f":"IF(I837=\"\",\"\",NETWORKDAYS([4]Hoja1!C837+1,[4]Hoja1!P837,DiasNOLaborables))","v":4},"",null,null,20]
[827,20209050030422,43929,"CORREO ELECTRÓNICO","CERTIFICACIONES DE TIEMPO, CLIMA Y EVENTOS HIDROLÓGICOS","CERTIFICACIONES DE TIEMPO Y CLIMA","SI","SUBDIRECCIÓN DE METEOROLOGÍA",43938,null,null,{"$f":"IFERROR(WORKDAY(C838,R838,DiasNOLaborables),\"\")","v":43977},{"$f":"+IF(C838=\"\",\"\",IF(I838=\"\",\"\",(IF(I838<=L838,\"A TIEMPO\",\"FUERA DE TIEMPO\"))))","v":"A TIEMPO"},{"$f":"IF(I838=\"\",\"\",NETWORKDAYS([4]Hoja1!C838+1,[4]Hoja1!P838,DiasNOLaborables))","v":2},"",null,null,{"$f":"IFERROR(VLOOKUP(E838,$Z$50:$AA$63,2),\"\")","v":30}]
[828,20209050030432,43929,"MODULO CONTACTENOS","SOLICITUD DE INFORMACIÓN Y DOCUMENTOS","SOLICITUD DE INFORMACIÓN Y DOCUMENTOS","SI","SUBDIRECCIÓN DE METEOROLOGÍA",43934,null,null,{"$f":"IFERROR(WORKDAY(C839,R839,DiasNOLaborables),\"\")","v":43962},{"$f":"+IF(C839=\"\",\"\",IF(I839=\"\",\"\",(IF(I839<=L839,\"A TIEMPO\",\"FUERA DE TIEMPO\"))))","v":"A TIEMPO"},{"$f":"IF(I839=\"\",\"\",NETWORKDAYS([4]Hoja1!C839+1,[4]Hoja1!P839,DiasNOLaborables))","v":1},"",null,null,20]
[829,20209050030442,43929,"CORREO ELECTRÓNICO","SOLICITUD DE INFORMACIÓN Y DOCUMENTOS","SOLICITUD DE INFORMACIÓN Y DOCUMENTOS","SI","SUBDIRECCIÓN DE HIDROLOGÍA",43948,null,null,{"$f":"IFERROR(WORKDAY(C840,R840,DiasNOLaborables),\"\")","v":43962},{"$f":"+IF(C840=\"\",\"\",IF(I840=\"\",\"\",(IF(I840<=L840,\"A TIEMPO\",\"FUERA DE TIEMPO\"))))","v":"A TIEMPO"},{"$f":"IF(I840=\"\",\"\",NETWORKDAYS([4]Hoja1!C840+1,[4]Hoja1!P840,DiasNOLaborables))","v":5},"",null,null,20]
[830,20209050030512,43929,"CORREO ELECTRÓNICO","CERTIFICACIONES DE TIEMPO, CLIMA Y EVENTOS HIDROLÓGICOS","CERTIFICACIONES DE TIEMPO Y CLIMA","SI","SUBDIRECCIÓN DE METEOROLOGÍA",43936,null,null,{"$f":"IFERROR(WORKDAY(C841,R841,DiasNOLaborables),\"\")","v":43977},{"$f":"+IF(C841=\"\",\"\",IF(I841=\"\",\"\",(IF(I841<=L841,\"A TIEMPO\",\"FUERA DE TIEMPO\"))))","v":"A TIEMPO"},{"$f":"IF(I841=\"\",\"\",NETWORKDAYS([4]Hoja1!C841+1,[4]Hoja1!P841,DiasNOLaborables))","v":10},"",null,null,30]
[831,20209050030542,43929,"CORREO ELECTRÓNICO","SOLICITUD DE INFORMACIÓN Y DOCUMENTOS","SOLICITUD DE INFORMACIÓN Y DOCUMENTOS","SI","SUBDIRECCIÓN DE ECOSISTEMAS E INFORMACIÓN AMBIENTAL",43942,null,null,{"$f":"IFERROR(WORKDAY(C842,R842,DiasNOLaborables),\"\")","v":43962},{"$f":"+IF(C842=\"\",\"\",IF(I842=\"\",\"\",(IF(I842<=L842,\"A TIEMPO\",\"FUERA DE TIEMPO\"))))","v":"A TIEMPO"},{"$f":"IF(I842=\"\",\"\",NETWORKDAYS([4]Hoja1!C842+1,[4]Hoja1!P842,DiasNOLaborables))","v":1},"",null,null,20]
[832,20209050030552,43929,"CORREO ELECTRÓNICO","SOLICITUD DE INFORMACIÓN Y DOCUMENTOS","REGISTROS AMBIENTALES","SI","SUBDIRECCIÓN DE ESTUDIOS AMBIENTALES",43929,null,null,{"$f":"IFERROR(WORKDAY(C843,R843,DiasNOLaborables),\"\")","v":43962},{"$f":"+IF(C843=\"\",\"\",IF(I843=\"\",\"\",(IF(I843<=L843,\"A TIEMPO\",\"FUERA DE TIEMPO\"))))","v":"A TIEMPO"},{"$f":"IF(I843=\"\",\"\",NETWORKDAYS([4]Hoja1!C843+1,[4]Hoja1!P843,DiasNOLaborables))","v":1},"",null,null,20]
[833,20209050030662,43931,"MODULO CONTACTENOS","CERTIFICACIONES DE TIEMPO, CLIMA Y EVENTOS HIDROLÓGICOS","CERTIFICACIONES DE TIEMPO Y CLIMA","SI","SUBDIRECCIÓN DE METEOROLOGÍA",43937,null,null,{"$f":"IFERROR(WORKDAY(C844,R844,DiasNOLaborables),\"\")","v":43977},{"$f":"+IF(C844=\"\",\"\",IF(I844=\"\",\"\",(IF(I844<=L844,\"A TIEMPO\",\"FUERA DE TIEMPO\"))))","v":"A TIEMPO"},{"$f":"IF(I844=\"\",\"\",NETWORKDAYS([4]Hoja1!C844+1,[4]Hoja1!P844,DiasNOLaborables))","v":4},"",null,null,30]
[834,20209050030742,43932,"MODULO CONTACTENOS","SOLICITUD DE INFORMACIÓN Y DOCUMENTOS","ADMINISTRATIVA","SI","GRUPO DE ADMINISTRACIÓN Y DESARROLLO DEL TALENTO HUMANO",43937,null,null,{"$f":"IFERROR(WORKDAY(C845,R845,DiasNOLaborables),\"\")","v":43962},{"$f":"+IF(C845=\"\",\"\",IF(I845=\"\",\"\",(IF(I845<=L845,\"A TIEMPO\",\"FUERA DE TIEMPO\"))))","v":"A TIEMPO"},{"$f":"IF(I845=\"\",\"\",NETWORKDAYS([4]Hoja1!C845+1,[4]Hoja1!P845,DiasNOLaborables))","v":-2},"",null,null,20]
[835,20209050030812,43933,"MODULO CONTACTENOS","SOLICITUD DE INFORMACIÓN Y DOCUMENTOS","WEB Y CORREO","SI","OFICINA DE INFORMÁTICA",43945,null,null,{"$f":"IFERROR(WORKDAY(C846,R846,DiasNOLaborables),\"\")","v":43962},{"$f":"+IF(C846=\"\",\"\",IF(I846=\"\",\"\",(IF(I846<=L846,\"A TIEMPO\",\"FUERA DE TIEMPO\"))))","v":"A TIEMPO"},{"$f":"IF(I846=\"\",\"\",NETWORKDAYS([4]Hoja1!C846+1,[4]Hoja1!P846,DiasNOLaborables))","v":10},"",null,null,20]
[836,20209050030902,43934,"MODULO CONTACTENOS","SOLICITUD DE INFORMACIÓN Y DOCUMENTOS","WEB Y CORREO","SI","OFICINA DE INFORMÁTICA",43945,null,null,{"$f":"IFERROR(WORKDAY(C847,R847,DiasNOLaborables),\"\")","v":43963},{"$f":"+IF(C847=\"\",\"\",IF(I847=\"\",\"\",(IF(I847<=L847,\"A TIEMPO\",\"FUERA DE TIEMPO\"))))","v":"A TIEMPO"},{"$f":"IF(I847=\"\",\"\",NETWORKDAYS([4]Hoja1!C847+1,[4]Hoja1!P847,DiasNOLaborables))","v":3},"",null,null,20]
[837,20209050030932,43934,"MODULO CONTACTENOS","SOLICITUD DE INFORMACIÓN Y DOCUMENTOS","WEB Y CORREO","SI","OFICINA DE INFORMÁTICA",43945,null,null,{"$f":"IFERROR(WORKDAY(C848,R848,DiasNOLaborables),\"\")","v":43963},{"$f":"+IF(C848=\"\",\"\",IF(I848=\"\",\"\",(IF(I848<=L848,\"A TIEMPO\",\"FUERA DE TIEMPO\"))))","v":"A TIEMPO"},{"$f":"IF(I848=\"\",\"\",NETWORKDAYS([4]Hoja1!C848+1,[4]Hoja1!P848,DiasNOLaborables))","v":-2},"",null,null,20]
[838,20209050030962,43934,"MODULO CONTACTENOS","SOLICITUD DE INFORMACIÓN Y DOCUMENTOS","WEB Y CORREO","SI","OFICINA DE INFORMÁTICA",43945,null,null,{"$f":"IFERROR(WORKDAY(C849,R849,DiasNOLaborables),\"\")","v":43963},{"$f":"+IF(C849=\"\",\"\",IF(I849=\"\",\"\",(IF(I849<=L849,\"A TIEMPO\",\"FUERA DE TIEMPO\"))))","v":"A TIEMPO"},{"$f":"IF(I849=\"\",\"\",NETWORKDAYS([4]Hoja1!C849+1,[4]Hoja1!P849,DiasNOLaborables))","v":-2},"",null,null,20]
[839,20209050030982,43934,"MODULO CONTACTENOS","SOLICITUD DE INFORMACIÓN Y DOCUMENTOS","CLIMATOLOGÍA","SI","OFICINA DEL SERVICIO DE PRONÓSTICOS Y ALERTAS",43941,null,null,{"$f":"IFERROR(WORKDAY(C850,R850,DiasNOLaborables),\"\")","v":43963},{"$f":"+IF(C850=\"\",\"\",IF(I850=\"\",\"\",(IF(I850<=L850,\"A TIEMPO\",\"FUERA DE TIEMPO\"))))","v":"A TIEMPO"},{"$f":"IF(I850=\"\",\"\",NETWORKDAYS([4]Hoja1!C850+1,[4]Hoja1!P850,DiasNOLaborables))","v":1},"",null,null,20]
[840,20209050031202,43934,"MODULO CONTACTENOS","SOLICITUD DE INFORMACIÓN Y DOCUMENTOS","WEB Y CORREO","SI","OFICINA DE INFORMÁTICA",43945,null,null,{"$f":"IFERROR(WORKDAY(C851,R851,DiasNOLaborables),\"\")","v":43963},{"$f":"+IF(C851=\"\",\"\",IF(I851=\"\",\"\",(IF(I851<=L851,\"A TIEMPO\",\"FUERA DE TIEMPO\"))))","v":"A TIEMPO"},{"$f":"IF(I851=\"\",\"\",NETWORKDAYS([4]Hoja1!C851+1,[4]Hoja1!P851,DiasNOLaborables))","v":3},"",null,null,20]
[841,20209050031022,43934,"CORREO ELECTRÓNICO","SOLICITUD DE INFORMACIÓN Y DOCUMENTOS","SOLICITUD DE INFORMACIÓN Y DOCUMENTOS","SI","OFICINA DEL SERVICIO DE PRONÓSTICOS Y ALERTAS",43934,null,null,{"$f":"IFERROR(WORKDAY(C852,R852,DiasNOLaborables),\"\")","v":43963},{"$f":"+IF(C852=\"\",\"\",IF(I852=\"\",\"\",(IF(I852<=L852,\"A TIEMPO\",\"FUERA DE TIEMPO\"))))","v":"A TIEMPO"},{"$f":"IF(I852=\"\",\"\",NETWORKDAYS([4]Hoja1!C852+1,[4]Hoja1!P852,DiasNOLaborables))","v":3},"",null,null,20]
[842,20209050031042,43934,"CORREO ELECTRÓNICO","SOLICITUD DE INFORMACIÓN Y DOCUMENTOS","SOLICITUD DE INFORMACIÓN Y DOCUMENTOS","SI","SUBDIRECCIÓN DE ESTUDIOS AMBIENTALES",43946,null,null,{"$f":"IFERROR(WORKDAY(C853,R853,DiasNOLaborables),\"\")","v":43963},{"$f":"+IF(C853=\"\",\"\",IF(I853=\"\",\"\",(IF(I853<=L853,\"A TIEMPO\",\"FUERA DE TIEMPO\"))))","v":"A TIEMPO"},{"$f":"IF(I853=\"\",\"\",NETWORKDAYS([4]Hoja1!C853+1,[4]Hoja1!P853,DiasNOLaborables))","v":3},"",null,null,20]
[843,20209050031062,43934,"MODULO CONTACTENOS","SOLICITUD DE INFORMACIÓN Y DOCUMENTOS","SOLICITUD DE INFORMACIÓN Y DOCUMENTOS","SI","OFICINA DE INFORMÁTICA",43938,null,null,{"$f":"IFERROR(WORKDAY(C854,R854,DiasNOLaborables),\"\")","v":43963},{"$f":"+IF(C854=\"\",\"\",IF(I854=\"\",\"\",(IF(I854<=L854,\"A TIEMPO\",\"FUERA DE TIEMPO\"))))","v":"A TIEMPO"},{"$f":"IF(I854=\"\",\"\",NETWORKDAYS([4]Hoja1!C854+1,[4]Hoja1!P854,DiasNOLaborables))","v":3},"",null,null,20]
[844,20209050031312,43934,"CORREO ELECTRÓNICO","SOLICITUD DE INFORMACIÓN Y DOCUMENTOS","SOLICITUD DE INFORMACIÓN Y DOCUMENTOS","SI","OFICINA DE INFORMÁTICA",43938,null,null,{"$f":"IFERROR(WORKDAY(C855,R855,DiasNOLaborables),\"\")","v":43963},{"$f":"+IF(C855=\"\",\"\",IF(I855=\"\",\"\",(IF(I855<=L855,\"A TIEMPO\",\"FUERA DE TIEMPO\"))))","v":"A TIEMPO"},{"$f":"IF(I855=\"\",\"\",NETWORKDAYS([4]Hoja1!C855+1,[4]Hoja1!P855,DiasNOLaborables))","v":4},"",null,null,20]
[845,20209050030992,43934,"CORREO ELECTRÓNICO","CERTIFICACIONES DE TIEMPO, CLIMA Y EVENTOS HIDROLÓGICOS","CERTIFICACIONES DE TIEMPO Y CLIMA","SI","SUBDIRECCIÓN DE METEOROLOGÍA",43942,null,null,{"$f":"IFERROR(WORKDAY(C856,R856,DiasNOLaborables),\"\")","v":43978},{"$f":"+IF(C856=\"\",\"\",IF(I856=\"\",\"\",(IF(I856<=L856,\"A TIEMPO\",\"FUERA DE TIEMPO\"))))","v":"A TIEMPO"},{"$f":"IF(I856=\"\",\"\",NETWORKDAYS([4]Hoja1!C856+1,[4]Hoja1!P856,DiasNOLaborables))","v":3},"",null,null,30]
[846,20209050031282,43934,"MODULO CONTACTENOS","CERTIFICACIONES DE TIEMPO, CLIMA Y EVENTOS HIDROLÓGICOS","CERTIFICACIONES DE TIEMPO Y CLIMA","SI","SUBDIRECCIÓN DE METEOROLOGÍA",43936,null,null,{"$f":"IFERROR(WORKDAY(C857,R857,DiasNOLaborables),\"\")","v":43978},{"$f":"+IF(C857=\"\",\"\",IF(I857=\"\",\"\",(IF(I857<=L857,\"A TIEMPO\",\"FUERA DE TIEMPO\"))))","v":"A TIEMPO"},{"$f":"IF(I857=\"\",\"\",NETWORKDAYS([4]Hoja1!C857+1,[4]Hoja1!P857,DiasNOLaborables))","v":4},"",null,null,30]
[847,20209050031332,43935,"MODULO CONTACTENOS","SOLICITUD DE INFORMACIÓN Y DOCUMENTOS","INFORMES AMBIENTALES","SI","SUBDIRECCIÓN DE ESTUDIOS AMBIENTALES",43946,null,null,{"$f":"IFERROR(WORKDAY(C858,R858,DiasNOLaborables),\"\")","v":43964},{"$f":"+IF(C858=\"\",\"\",IF(I858=\"\",\"\",(IF(I858<=L858,\"A TIEMPO\",\"FUERA DE TIEMPO\"))))","v":"A TIEMPO"},{"$f":"IF(I858=\"\",\"\",NETWORKDAYS([4]Hoja1!C858+1,[4]Hoja1!P858,DiasNOLaborables))","v":4},"",null,null,20]
[848,20209050031352,43935,"CORREO ELECTRÓNICO","SOLICITUD DE INFORMACIÓN Y DOCUMENTOS","WEB Y CORREO","SI","OFICINA DE INFORMÁTICA",43936,null,null,{"$f":"IFERROR(WORKDAY(C859,R859,DiasNOLaborables),\"\")","v":43964},{"$f":"+IF(C859=\"\",\"\",IF(I859=\"\",\"\",(IF(I859<=L859,\"A TIEMPO\",\"FUERA DE TIEMPO\"))))","v":"A TIEMPO"},{"$f":"IF(I859=\"\",\"\",NETWORKDAYS([4]Hoja1!C859+1,[4]Hoja1!P859,DiasNOLaborables))","v":1},{"$f":"IF(NETWORKDAYS(L859+1,I859,DiasNOLaborables)<=0,\"\",NETWORKDAYS(L859+1,I859,DiasNOLaborables))","v":""},null,null,20]
[849,20209050031372,43935,"CORREO ELECTRÓNICO","PETICIÓN ENTRE AUTORIDADES","BOSQUES","SI","SUBDIRECCIÓN DE ECOSISTEMAS E INFORMACIÓN AMBIENTAL",43949,null,null,{"$f":"IFERROR(WORKDAY(C860,R860,DiasNOLaborables),\"\")","v":43949},{"$f":"+IF(C860=\"\",\"\",IF(I860=\"\",\"\",(IF(I860<=L860,\"A TIEMPO\",\"FUERA DE TIEMPO\"))))","v":"A TIEMPO"},{"$f":"IF(I860=\"\",\"\",NETWORKDAYS([4]Hoja1!C860+1,[4]Hoja1!P860,DiasNOLaborables))","v":5},"",null,null,10]
[850,20209050031402,43935,"CORREO ELECTRÓNICO","PETICIÓN ENTRE AUTORIDADES","BOSQUES","SI","SUBDIRECCIÓN DE ECOSISTEMAS E INFORMACIÓN AMBIENTAL",43949,null,null,{"$f":"IFERROR(WORKDAY(C861,R861,DiasNOLaborables),\"\")","v":43949},{"$f":"+IF(C861=\"\",\"\",IF(I861=\"\",\"\",(IF(I861<=L861,\"A TIEMPO\",\"FUERA DE TIEMPO\"))))","v":"A TIEMPO"},{"$f":"IF(I861=\"\",\"\",NETWORKDAYS([4]Hoja1!C861+1,[4]Hoja1!P861,DiasNOLaborables))","v":6},"",null,null,10]
[851,20209050031772,43935,"CORREO ELECTRÓNICO","SOLICITUD DE INFORMACIÓN Y DOCUMENTOS","SOLICITUD DE INFORMACIÓN HIDROMETEOROLÓGICA","NO","GRUPO DE ATENCIÓN AL CIUDADANO",43941,null,null,{"$f":"IFERROR(WORKDAY(C862,R862,DiasNOLaborables),\"\")","v":43964},{"$f":"+IF(C862=\"\",\"\",IF(I862=\"\",\"\",(IF(I862<=L862,\"A TIEMPO\",\"FUERA DE TIEMPO\"))))","v":"A TIEMPO"},{"$f":"IF(I862=\"\",\"\",NETWORKDAYS([4]Hoja1!C862+1,[4]Hoja1!P862,DiasNOLaborables))","v":11},"",null,null,20]
[852,20209050031792,43935,"CORREO ELECTRÓNICO","SOLICITUD DE INFORMACIÓN Y DOCUMENTOS","SOLICITUD DE INFORMACIÓN HIDROMETEOROLÓGICA","NO","GRUPO DE ATENCIÓN AL CIUDADANO",43941,null,null,{"$f":"IFERROR(WORKDAY(C863,R863,DiasNOLaborables),\"\")","v":43964},{"$f":"+IF(C863=\"\",\"\",IF(I863=\"\",\"\",(IF(I863<=L863,\"A TIEMPO\",\"FUERA DE TIEMPO\"))))","v":"A TIEMPO"},{"$f":"IF(I863=\"\",\"\",NETWORKDAYS([4]Hoja1!C863+1,[4]Hoja1!P863,DiasNOLaborables))","v":8},"",null,null,20]
[853,20209050031802,43935,"CORREO ELECTRÓNICO","SOLICITUD DE INFORMACIÓN Y DOCUMENTOS","SOLICITUD DE INFORMACIÓN HIDROMETEOROLÓGICA","NO","GRUPO DE ATENCIÓN AL CIUDADANO",43941,null,null,{"$f":"IFERROR(WORKDAY(C864,R864,DiasNOLaborables),\"\")","v":43964},{"$f":"+IF(C864=\"\",\"\",IF(I864=\"\",\"\",(IF(I864<=L864,\"A TIEMPO\",\"FUERA DE TIEMPO\"))))","v":"A TIEMPO"},{"$f":"IF(I864=\"\",\"\",NETWORKDAYS([4]Hoja1!C864+1,[4]Hoja1!P864,DiasNOLaborables))","v":2},"",null,null,20]
[854,20209050031902,43935,"CORREO ELECTRÓNICO","SOLICITUD DE INFORMACIÓN Y DOCUMENTOS","SOLICITUD DE INFORMACIÓN HIDROMETEOROLÓGICA","NO","GRUPO DE ATENCIÓN AL CIUDADANO",43941,null,null,{"$f":"IFERROR(WORKDAY(C865,R865,DiasNOLaborables),\"\")","v":43964},{"$f":"+IF(C865=\"\",\"\",IF(I865=\"\",\"\",(IF(I865<=L865,\"A TIEMPO\",\"FUERA DE TIEMPO\"))))","v":"A TIEMPO"},{"$f":"IF(I865=\"\",\"\",NETWORKDAYS([4]Hoja1!C865+1,[4]Hoja1!P865,DiasNOLaborables))","v":-2},"",null,null,20]
[855,20209050031922,43935,"CORREO ELECTRÓNICO","SOLICITUD DE INFORMACIÓN Y DOCUMENTOS","SOLICITUD DE INFORMACIÓN HIDROMETEOROLÓGICA","NO","GRUPO DE ATENCIÓN AL CIUDADANO",43941,null,null,{"$f":"IFERROR(WORKDAY(C866,R866,DiasNOLaborables),\"\")","v":43964},{"$f":"+IF(C866=\"\",\"\",IF(I866=\"\",\"\",(IF(I866<=L866,\"A TIEMPO\",\"FUERA DE TIEMPO\"))))","v":"A TIEMPO"},{"$f":"IF(I866=\"\",\"\",NETWORKDAYS([4]Hoja1!C866+1,[4]Hoja1!P866,DiasNOLaborables))","v":10},"",null,null,20]
[856,20209050031952,43935,"CORREO ELECTRÓNICO","SOLICITUD DE INFORMACIÓN Y DOCUMENTOS","SOLICITUD DE INFORMACIÓN HIDROMETEOROLÓGICA","NO","GRUPO DE ATENCIÓN AL CIUDADANO",43941,null,null,{"$f":"IFERROR(WORKDAY(C867,R867,DiasNOLaborables),\"\")","v":43964},{"$f":"+IF(C867=\"\",\"\",IF(I867=\"\",\"\",(IF(I867<=L867,\"A TIEMPO\",\"FUERA DE TIEMPO\"))))","v":"A TIEMPO"},{"$f":"IF(I867=\"\",\"\",NETWORKDAYS([4]Hoja1!C867+1,[4]Hoja1!P867,DiasNOLaborables))","v":14},"",null,null,20]
[857,20209050032112,43935,"CORREO ELECTRÓNICO","SOLICITUD DE INFORMACIÓN Y DOCUMENTOS","SOLICITUD DE INFORMACIÓN HIDROMETEOROLÓGICA","NO","GRUPO DE ATENCIÓN AL CIUDADANO",43941,null,null,{"$f":"IFERROR(WORKDAY(C868,R868,DiasNOLaborables),\"\")","v":43964},{"$f":"+IF(C868=\"\",\"\",IF(I868=\"\",\"\",(IF(I868<=L868,\"A TIEMPO\",\"FUERA DE TIEMPO\"))))","v":"A TIEMPO"},{"$f":"IF(I868=\"\",\"\",NETWORKDAYS([4]Hoja1!C868+1,[4]Hoja1!P868,DiasNOLaborables))","v":7},"",null,null,20]
[858,20209050032192,43935,"CORREO ELECTRÓNICO","SOLICITUD DE INFORMACIÓN Y DOCUMENTOS","SOLICITUD DE INFORMACIÓN HIDROMETEOROLÓGICA","NO","GRUPO DE ATENCIÓN AL CIUDADANO",43941,null,null,{"$f":"IFERROR(WORKDAY(C869,R869,DiasNOLaborables),\"\")","v":43964},{"$f":"+IF(C869=\"\",\"\",IF(I869=\"\",\"\",(IF(I869<=L869,\"A TIEMPO\",\"FUERA DE TIEMPO\"))))","v":"A TIEMPO"},{"$f":"IF(I869=\"\",\"\",NETWORKDAYS([4]Hoja1!C869+1,[4]Hoja1!P869,DiasNOLaborables))","v":13},"",null,null,20]
[859,20209050032202,43935,"CORREO ELECTRÓNICO","SOLICITUD DE INFORMACIÓN Y DOCUMENTOS","SOLICITUD DE INFORMACIÓN HIDROMETEOROLÓGICA","NO","GRUPO DE ATENCIÓN AL CIUDADANO",43942,null,null,{"$f":"IFERROR(WORKDAY(C870,R870,DiasNOLaborables),\"\")","v":43964},{"$f":"+IF(C870=\"\",\"\",IF(I870=\"\",\"\",(IF(I870<=L870,\"A TIEMPO\",\"FUERA DE TIEMPO\"))))","v":"A TIEMPO"},{"$f":"IF(I870=\"\",\"\",NETWORKDAYS([4]Hoja1!C870+1,[4]Hoja1!P870,DiasNOLaborables))","v":5},"",null,null,20]
[860,20209050032212,43935,"CORREO ELECTRÓNICO","SOLICITUD DE INFORMACIÓN Y DOCUMENTOS","SOLICITUD DE INFORMACIÓN HIDROMETEOROLÓGICA","NO","GRUPO DE ATENCIÓN AL CIUDADANO",43942,null,null,{"$f":"IFERROR(WORKDAY(C871,R871,DiasNOLaborables),\"\")","v":43964},{"$f":"+IF(C871=\"\",\"\",IF(I871=\"\",\"\",(IF(I871<=L871,\"A TIEMPO\",\"FUERA DE TIEMPO\"))))","v":"A TIEMPO"},{"$f":"IF(I871=\"\",\"\",NETWORKDAYS([4]Hoja1!C871+1,[4]Hoja1!P871,DiasNOLaborables))","v":8},"",null,null,20]
[861,20209050032272,43935,"CORREO ELECTRÓNICO","SOLICITUD DE INFORMACIÓN Y DOCUMENTOS","SOLICITUD DE INFORMACIÓN HIDROMETEOROLÓGICA","NO","GRUPO DE ATENCIÓN AL CIUDADANO",43942,null,null,{"$f":"IFERROR(WORKDAY(C872,R872,DiasNOLaborables),\"\")","v":43964},{"$f":"+IF(C872=\"\",\"\",IF(I872=\"\",\"\",(IF(I872<=L872,\"A TIEMPO\",\"FUERA DE TIEMPO\"))))","v":"A TIEMPO"},{"$f":"IF(I872=\"\",\"\",NETWORKDAYS([4]Hoja1!C872+1,[4]Hoja1!P872,DiasNOLaborables))","v":4},"",null,null,20]
[862,20209050031492,43935,"CORREO ELECTRÓNICO","CERTIFICACIONES DE TIEMPO, CLIMA Y EVENTOS HIDROLÓGICOS","CERTIFICACIONES DE TIEMPO Y CLIMA","SI","SUBDIRECCIÓN DE METEOROLOGÍA",43941,null,null,{"$f":"IFERROR(WORKDAY(C873,R873,DiasNOLaborables),\"\")","v":43979},{"$f":"+IF(C873=\"\",\"\",IF(I873=\"\",\"\",(IF(I873<=L873,\"A TIEMPO\",\"FUERA DE TIEMPO\"))))","v":"A TIEMPO"},{"$f":"IF(I873=\"\",\"\",NETWORKDAYS([4]Hoja1!C873+1,[4]Hoja1!P873,DiasNOLaborables))","v":1},"",null,null,30]
[863,20209050031512,43935,"CORREO ELECTRÓNICO","SOLICITUD DE INFORMACIÓN Y DOCUMENTOS","SIRH","SI","SUBDIRECCIÓN DE HIDROLOGÍA",43938,null,null,{"$f":"IFERROR(WORKDAY(C874,R874,DiasNOLaborables),\"\")","v":43964},{"$f":"+IF(C874=\"\",\"\",IF(I874=\"\",\"\",(IF(I874<=L874,\"A TIEMPO\",\"FUERA DE TIEMPO\"))))","v":"A TIEMPO"},{"$f":"IF(I874=\"\",\"\",NETWORKDAYS([4]Hoja1!C874+1,[4]Hoja1!P874,DiasNOLaborables))","v":7},"",null,null,20]
[864,20209050031522,43935,"CORREO ELECTRÓNICO","CERTIFICACIONES DE TIEMPO, CLIMA Y EVENTOS HIDROLÓGICOS","CERTIFICACIONES DE TIEMPO Y CLIMA","SI","SUBDIRECCIÓN DE METEOROLOGÍA",43950,null,null,{"$f":"IFERROR(WORKDAY(C875,R875,DiasNOLaborables),\"\")","v":43979},{"$f":"+IF(C875=\"\",\"\",IF(I875=\"\",\"\",(IF(I875<=L875,\"A TIEMPO\",\"FUERA DE TIEMPO\"))))","v":"A TIEMPO"},{"$f":"IF(I875=\"\",\"\",NETWORKDAYS([4]Hoja1!C875+1,[4]Hoja1!P875,DiasNOLaborables))","v":3},"",null,null,30]
[865,20209050031652,43935,"CORREO ELECTRÓNICO","SOLICITUD DE INFORMACIÓN Y DOCUMENTOS","WEB Y CORREO","SI","OFICINA DE INFORMÁTICA",43945,null,null,{"$f":"IFERROR(WORKDAY(C876,R876,DiasNOLaborables),\"\")","v":43964},{"$f":"+IF(C876=\"\",\"\",IF(I876=\"\",\"\",(IF(I876<=L876,\"A TIEMPO\",\"FUERA DE TIEMPO\"))))","v":"A TIEMPO"},{"$f":"IF(I876=\"\",\"\",NETWORKDAYS([4]Hoja1!C876+1,[4]Hoja1!P876,DiasNOLaborables))","v":6},"",null,null,20]
[866,20209050031672,43935,"CORREO ELECTRÓNICO","SOLICITUD DE INFORMACIÓN Y DOCUMENTOS","SIA","SI","SUBDIRECCIÓN DE ECOSISTEMAS E INFORMACIÓN AMBIENTAL",43936,null,null,{"$f":"IFERROR(WORKDAY(C877,R877,DiasNOLaborables),\"\")","v":43964},{"$f":"+IF(C877=\"\",\"\",IF(I877=\"\",\"\",(IF(I877<=L877,\"A TIEMPO\",\"FUERA DE TIEMPO\"))))","v":"A TIEMPO"},{"$f":"IF(I877=\"\",\"\",NETWORKDAYS([4]Hoja1!C877+1,[4]Hoja1!P877,DiasNOLaborables))","v":1},"",null,null,20]
[867,20209050031682,43935,"CORREO ELECTRÓNICO","SOLICITUD DE INFORMACIÓN Y DOCUMENTOS","SIA","SI","SUBDIRECCIÓN DE ECOSISTEMAS E INFORMACIÓN AMBIENTAL",43937,null,null,{"$f":"IFERROR(WORKDAY(C878,R878,DiasNOLaborables),\"\")","v":43964},{"$f":"+IF(C878=\"\",\"\",IF(I878=\"\",\"\",(IF(I878<=L878,\"A TIEMPO\",\"FUERA DE TIEMPO\"))))","v":"A TIEMPO"},{"$f":"IF(I878=\"\",\"\",NETWORKDAYS([4]Hoja1!C878+1,[4]Hoja1!P878,DiasNOLaborables))","v":-1},"",null,null,20]
[868,20209050031692,43935,"CORREO ELECTRÓNICO","PETICIÓN","BOSQUES","SI","SUBDIRECCIÓN DE ECOSISTEMAS E INFORMACIÓN AMBIENTAL",43950,null,null,{"$f":"IFERROR(WORKDAY(C879,R879,DiasNOLaborables),\"\")","v":43979},{"$f":"+IF(C879=\"\",\"\",IF(I879=\"\",\"\",(IF(I879<=L879,\"A TIEMPO\",\"FUERA DE TIEMPO\"))))","v":"A TIEMPO"},{"$f":"IF(I879=\"\",\"\",NETWORKDAYS([4]Hoja1!C879+1,[4]Hoja1!P879,DiasNOLaborables))","v":7},"",null,null,30]
[869,20209050031702,43935,"CORREO ELECTRÓNICO","PETICIÓN","BOSQUES","SI","OFICINA ASESORA JURÍDICA",43973,null,null,{"$f":"IFERROR(WORKDAY(C880,R880,DiasNOLaborables),\"\")","v":43979},{"$f":"+IF(C880=\"\",\"\",IF(I880=\"\",\"\",(IF(I880<=L880,\"A TIEMPO\",\"FUERA DE TIEMPO\"))))","v":"A TIEMPO"},{"$f":"IF(I880=\"\",\"\",NETWORKDAYS([4]Hoja1!C880+1,[4]Hoja1!P880,DiasNOLaborables))","v":5},"",null,null,30]
[870,20209050031712,43935,"CORREO ELECTRÓNICO","SOLICITUD DE INFORMACIÓN Y DOCUMENTOS","REGISTROS AMBIENTALES","SI","SUBDIRECCIÓN DE ESTUDIOS AMBIENTALES",43929,null,null,{"$f":"IFERROR(WORKDAY(C881,R881,DiasNOLaborables),\"\")","v":43964},{"$f":"+IF(C881=\"\",\"\",IF(I881=\"\",\"\",(IF(I881<=L881,\"A TIEMPO\",\"FUERA DE TIEMPO\"))))","v":"A TIEMPO"},{"$f":"IF(I881=\"\",\"\",NETWORKDAYS([4]Hoja1!C881+1,[4]Hoja1!P881,DiasNOLaborables))","v":6},"",null,null,20]
[{"$f":"IF(B880<>\"\",A881+1,\"\")","v":871},20209050031732,43935,"CORREO ELECTRÓNICO","SOLICITUD DE INFORMACIÓN Y DOCUMENTOS","ADMINISTRATIVA","SI","GRUPO DE TESORERÍA",43941,null,null,{"$f":"IFERROR(WORKDAY(C882,R882,DiasNOLaborables),\"\")","v":43964},{"$f":"+IF(C882=\"\",\"\",IF(I882=\"\",\"\",(IF(I882<=L882,\"A TIEMPO\",\"FUERA DE TIEMPO\"))))","v":"A TIEMPO"},{"$f":"IF(I882=\"\",\"\",NETWORKDAYS([4]Hoja1!C882+1,[4]Hoja1!P882,DiasNOLaborables))","v":-1},"",null,null,20]
[872,20209050031742,43935,"CORREO ELECTRÓNICO","SOLICITUD DE INFORMACIÓN Y DOCUMENTOS","SIA","SI","SUBDIRECCIÓN DE ECOSISTEMAS E INFORMACIÓN AMBIENTAL",43936,null,null,{"$f":"IFERROR(WORKDAY(C883,R883,DiasNOLaborables),\"\")","v":43964},{"$f":"+IF(C883=\"\",\"\",IF(I883=\"\",\"\",(IF(I883<=L883,\"A TIEMPO\",\"FUERA DE TIEMPO\"))))","v":"A TIEMPO"},{"$f":"IF(I883=\"\",\"\",NETWORKDAYS([4]Hoja1!C883+1,[4]Hoja1!P883,DiasNOLaborables))","v":-1},"",null,null,20]
[873,20209050031752,43935,"CORREO ELECTRÓNICO","PETICIÓN","JURIDICO","SI","OFICINA ASESORA JURÍDICA",43973,null,null,{"$f":"IFERROR(WORKDAY(C884,R884,DiasNOLaborables),\"\")","v":43979},{"$f":"+IF(C884=\"\",\"\",IF(I884=\"\",\"\",(IF(I884<=L884,\"A TIEMPO\",\"FUERA DE TIEMPO\"))))","v":"A TIEMPO"},{"$f":"IF(I884=\"\",\"\",NETWORKDAYS([4]Hoja1!C884+1,[4]Hoja1!P884,DiasNOLaborables))","v":6},"",null,null,30]
[874,20209050031592,43935,"CORREO ELECTRÓNICO","SOLICITUD DE INFORMACIÓN Y DOCUMENTOS","WEB Y CORREO","SI","OFICINA DE INFORMÁTICA",43941,null,null,{"$f":"IFERROR(WORKDAY(C885,R885,DiasNOLaborables),\"\")","v":43964},{"$f":"+IF(C885=\"\",\"\",IF(I885=\"\",\"\",(IF(I885<=L885,\"A TIEMPO\",\"FUERA DE TIEMPO\"))))","v":"A TIEMPO"},{"$f":"IF(I885=\"\",\"\",NETWORKDAYS([4]Hoja1!C885+1,[4]Hoja1!P885,DiasNOLaborables))","v":5},"",null,null,20]
[875,20209050031782,43935,"CORREO ELECTRÓNICO","SOLICITUD DE INFORMACIÓN Y DOCUMENTOS","CERTIFICACIONES DE TIEMPO Y CLIMA","SI","SUBDIRECCIÓN DE METEOROLOGÍA",43942,null,null,{"$f":"IFERROR(WORKDAY(C886,R886,DiasNOLaborables),\"\")","v":43964},{"$f":"+IF(C886=\"\",\"\",IF(I886=\"\",\"\",(IF(I886<=L886,\"A TIEMPO\",\"FUERA DE TIEMPO\"))))","v":"A TIEMPO"},{"$f":"IF(I886=\"\",\"\",NETWORKDAYS([4]Hoja1!C886+1,[4]Hoja1!P886,DiasNOLaborables))","v":1},"",null,null,20]
[876,20209050031872,43935,"CORREO ELECTRÓNICO","SOLICITUD DE INFORMACIÓN Y DOCUMENTOS","JURIDICO","SI","OFICINA ASESORA JURÍDICA",43957,null,null,{"$f":"IFERROR(WORKDAY(C887,R887,DiasNOLaborables),\"\")","v":43964},{"$f":"+IF(C887=\"\",\"\",IF(I887=\"\",\"\",(IF(I887<=L887,\"A TIEMPO\",\"FUERA DE TIEMPO\"))))","v":"A TIEMPO"},{"$f":"IF(I887=\"\",\"\",NETWORKDAYS([4]Hoja1!C887+1,[4]Hoja1!P887,DiasNOLaborables))","v":-1},"",null,null,20]
[877,20209050031882,43935,"CORREO ELECTRÓNICO","SOLICITUD DE INFORMACIÓN Y DOCUMENTOS","REGISTROS AMBIENTALES","SI","SUBDIRECCIÓN DE ESTUDIOS AMBIENTALES",43941,null,null,{"$f":"IFERROR(WORKDAY(C888,R888,DiasNOLaborables),\"\")","v":43964},{"$f":"+IF(C888=\"\",\"\",IF(I888=\"\",\"\",(IF(I888<=L888,\"A TIEMPO\",\"FUERA DE TIEMPO\"))))","v":"A TIEMPO"},{"$f":"IF(I888=\"\",\"\",NETWORKDAYS([4]Hoja1!C888+1,[4]Hoja1!P888,DiasNOLaborables))","v":5},"",null,null,20]
[878,20209050031892,43935,"CORREO ELECTRÓNICO","SOLICITUD DE INFORMACIÓN Y DOCUMENTOS","CLIMATOLOGÍA","NO","SUBDIRECCIÓN DE METEOROLOGÍA",43935,null,null,{"$f":"IFERROR(WORKDAY(C889,R889,DiasNOLaborables),\"\")","v":43964},{"$f":"+IF(C889=\"\",\"\",IF(I889=\"\",\"\",(IF(I889<=L889,\"A TIEMPO\",\"FUERA DE TIEMPO\"))))","v":"A TIEMPO"},{"$f":"IF(I889=\"\",\"\",NETWORKDAYS([4]Hoja1!C889+1,[4]Hoja1!P889,DiasNOLaborables))","v":2},"",null,null,20]
[879,20209050031912,43935,"CORREO ELECTRÓNICO","SOLICITUD DE INFORMACIÓN Y DOCUMENTOS","ACREDITACIÓN DE LABORATORIOS","SI","SUBDIRECCIÓN DE ESTUDIOS AMBIENTALES",43943,null,null,{"$f":"IFERROR(WORKDAY(C890,R890,DiasNOLaborables),\"\")","v":43964},{"$f":"+IF(C890=\"\",\"\",IF(I890=\"\",\"\",(IF(I890<=L890,\"A TIEMPO\",\"FUERA DE TIEMPO\"))))","v":"A TIEMPO"},{"$f":"IF(I890=\"\",\"\",NETWORKDAYS([4]Hoja1!C890+1,[4]Hoja1!P890,DiasNOLaborables))","v":8},"",null,null,20]
[880,20209050031942,43935,"CORREO ELECTRÓNICO","SOLICITUD DE INFORMACIÓN Y DOCUMENTOS","REGISTROS AMBIENTALES","SI","SUBDIRECCIÓN DE ESTUDIOS AMBIENTALES",43946,null,null,{"$f":"IFERROR(WORKDAY(C891,R891,DiasNOLaborables),\"\")","v":43964},{"$f":"+IF(C891=\"\",\"\",IF(I891=\"\",\"\",(IF(I891<=L891,\"A TIEMPO\",\"FUERA DE TIEMPO\"))))","v":"A TIEMPO"},{"$f":"IF(I891=\"\",\"\",NETWORKDAYS([4]Hoja1!C891+1,[4]Hoja1!P891,DiasNOLaborables))","v":8},"",null,null,20]
[881,20209050031542,43935,"MODULO CONTACTENOS","SOLICITUD DE INFORMACIÓN Y DOCUMENTOS","ADMINISTRATIVA","SI","GRUPO DE ADMINISTRACIÓN Y DESARROLLO DEL TALENTO HUMANO",43942,null,null,{"$f":"IFERROR(WORKDAY(C892,R892,DiasNOLaborables),\"\")","v":43964},{"$f":"+IF(C892=\"\",\"\",IF(I892=\"\",\"\",(IF(I892<=L892,\"A TIEMPO\",\"FUERA DE TIEMPO\"))))","v":"A TIEMPO"},{"$f":"IF(I892=\"\",\"\",NETWORKDAYS([4]Hoja1!C892+1,[4]Hoja1!P892,DiasNOLaborables))","v":11},"",null,null,20]
[882,20209050031632,43935,"MODULO CONTACTENOS","CERTIFICACIONES DE TIEMPO, CLIMA Y EVENTOS HIDROLÓGICOS","CERTIFICACIONES DE TIEMPO Y CLIMA","SI","SUBDIRECCIÓN DE METEOROLOGÍA",43950,null,null,{"$f":"IFERROR(WORKDAY(C893,R893,DiasNOLaborables),\"\")","v":43979},{"$f":"+IF(C893=\"\",\"\",IF(I893=\"\",\"\",(IF(I893<=L893,\"A TIEMPO\",\"FUERA DE TIEMPO\"))))","v":"A TIEMPO"},{"$f":"IF(I893=\"\",\"\",NETWORKDAYS([4]Hoja1!C893+1,[4]Hoja1!P893,DiasNOLaborables))","v":11},"",null,null,30]
[883,20209050032002,43936,"MODULO CONTACTENOS","SOLICITUD DE INFORMACIÓN Y DOCUMENTOS","SIA","SI","SUBDIRECCIÓN DE ECOSISTEMAS E INFORMACIÓN AMBIENTAL",43951,null,null,{"$f":"IFERROR(WORKDAY(C894,R894,DiasNOLaborables),\"\")","v":43965},{"$f":"+IF(C894=\"\",\"\",IF(I894=\"\",\"\",(IF(I894<=L894,\"A TIEMPO\",\"FUERA DE TIEMPO\"))))","v":"A TIEMPO"},{"$f":"IF(I894=\"\",\"\",NETWORKDAYS([4]Hoja1!C894+1,[4]Hoja1!P894,DiasNOLaborables))","v":11},"",null,null,20]
[884,20209050032022,43936,"MODULO CONTACTENOS","CERTIFICACIONES DE TIEMPO, CLIMA Y EVENTOS HIDROLÓGICOS","CERTIFICACIONES DE TIEMPO Y CLIMA","SI","SUBDIRECCIÓN DE METEOROLOGÍA",43942,null,null,{"$f":"IFERROR(WORKDAY(C895,R895,DiasNOLaborables),\"\")","v":43980},{"$f":"+IF(C895=\"\",\"\",IF(I895=\"\",\"\",(IF(I895<=L895,\"A TIEMPO\",\"FUERA DE TIEMPO\"))))","v":"A TIEMPO"},{"$f":"IF(I895=\"\",\"\",NETWORKDAYS([4]Hoja1!C895+1,[4]Hoja1!P895,DiasNOLaborables))","v":7},"",null,null,30]
[885,20209050032102,43936,"MODULO CONTACTENOS","SOLICITUD DE INFORMACIÓN Y DOCUMENTOS","INFORMES AMBIENTALES","SI","SUBDIRECCIÓN DE ESTUDIOS AMBIENTALES",43958,null,null,{"$f":"IFERROR(WORKDAY(C896,R896,DiasNOLaborables),\"\")","v":43965},{"$f":"+IF(C896=\"\",\"\",IF(I896=\"\",\"\",(IF(I896<=L896,\"A TIEMPO\",\"FUERA DE TIEMPO\"))))","v":"A TIEMPO"},{"$f":"IF(I896=\"\",\"\",NETWORKDAYS([4]Hoja1!C896+1,[4]Hoja1!P896,DiasNOLaborables))","v":7},"",null,null,20]
[886,20209050032142,43936,"MODULO CONTACTENOS","SOLICITUD DE INFORMACIÓN Y DOCUMENTOS","OPERACIÓN DE REDES","SI","SUBDIRECCIÓN DE HIDROLOGÍA",43945,null,null,{"$f":"IFERROR(WORKDAY(C897,R897,DiasNOLaborables),\"\")","v":43965},{"$f":"+IF(C897=\"\",\"\",IF(I897=\"\",\"\",(IF(I897<=L897,\"A TIEMPO\",\"FUERA DE TIEMPO\"))))","v":"A TIEMPO"},{"$f":"IF(I897=\"\",\"\",NETWORKDAYS([4]Hoja1!C897+1,[4]Hoja1!P897,DiasNOLaborables))","v":7},"",null,null,20]
[887,20209050032172,43937,"MODULO CONTACTENOS","SOLICITUD DE INFORMACIÓN Y DOCUMENTOS","WEB Y CORREO","SI","OFICINA DE INFORMÁTICA",43945,null,null,{"$f":"IFERROR(WORKDAY(C898,R898,DiasNOLaborables),\"\")","v":43966},{"$f":"+IF(C898=\"\",\"\",IF(I898=\"\",\"\",(IF(I898<=L898,\"A TIEMPO\",\"FUERA DE TIEMPO\"))))","v":"A TIEMPO"},{"$f":"IF(I898=\"\",\"\",NETWORKDAYS([4]Hoja1!C898+1,[4]Hoja1!P898,DiasNOLaborables))","v":2},"",null,null,20]
[888,20209050032182,43937,"MODULO CONTACTENOS","SOLICITUD DE INFORMACIÓN Y DOCUMENTOS","REGISTROS AMBIENTALES","SI","SUBDIRECCIÓN DE ESTUDIOS AMBIENTALES",43937,null,null,{"$f":"IFERROR(WORKDAY(C899,R899,DiasNOLaborables),\"\")","v":43966},{"$f":"+IF(C899=\"\",\"\",IF(I899=\"\",\"\",(IF(I899<=L899,\"A TIEMPO\",\"FUERA DE TIEMPO\"))))","v":"A TIEMPO"},{"$f":"IF(I899=\"\",\"\",NETWORKDAYS([4]Hoja1!C899+1,[4]Hoja1!P899,DiasNOLaborables))","v":4},"",null,null,20]
[889,20209050032222,43937,"MODULO CONTACTENOS","SOLICITUD DE INFORMACIÓN Y DOCUMENTOS","REGISTROS AMBIENTALES","SI","SUBDIRECCIÓN DE ESTUDIOS AMBIENTALES",43943,null,null,{"$f":"IFERROR(WORKDAY(C900,R900,DiasNOLaborables),\"\")","v":43966},{"$f":"+IF(C900=\"\",\"\",IF(I900=\"\",\"\",(IF(I900<=L900,\"A TIEMPO\",\"FUERA DE TIEMPO\"))))","v":"A TIEMPO"},{"$f":"IF(I900=\"\",\"\",NETWORKDAYS([4]Hoja1!C900+1,[4]Hoja1!P900,DiasNOLaborables))","v":-2},"",null,null,20]
[890,20209050032232,43937,"MODULO CONTACTENOS","SOLICITUD DE INFORMACIÓN Y DOCUMENTOS","REGISTROS AMBIENTALES","SI","SUBDIRECCIÓN DE ESTUDIOS AMBIENTALES",43946,null,null,{"$f":"IFERROR(WORKDAY(C901,R901,DiasNOLaborables),\"\")","v":43966},{"$f":"+IF(C901=\"\",\"\",IF(I901=\"\",\"\",(IF(I901<=L901,\"A TIEMPO\",\"FUERA DE TIEMPO\"))))","v":"A TIEMPO"},{"$f":"IF(I901=\"\",\"\",NETWORKDAYS([4]Hoja1!C901+1,[4]Hoja1!P901,DiasNOLaborables))","v":3},"",null,null,20]
[891,20209050032242,43937,"MODULO CONTACTENOS","CERTIFICACIONES DE TIEMPO, CLIMA Y EVENTOS HIDROLÓGICOS","CERTIFICACIONES DE TIEMPO Y CLIMA","SI","SUBDIRECCIÓN DE METEOROLOGÍA",43941,null,null,{"$f":"IFERROR(WORKDAY(C902,R902,DiasNOLaborables),\"\")","v":43983},{"$f":"+IF(C902=\"\",\"\",IF(I902=\"\",\"\",(IF(I902<=L902,\"A TIEMPO\",\"FUERA DE TIEMPO\"))))","v":"A TIEMPO"},{"$f":"IF(I902=\"\",\"\",NETWORKDAYS([4]Hoja1!C902+1,[4]Hoja1!P902,DiasNOLaborables))","v":2},"",null,null,{"$f":"IFERROR(VLOOKUP(E902,$Z$50:$AA$63,2),\"\")","v":30}]
[892,20209050032252,43937,"MODULO CONTACTENOS","SOLICITUD DE INFORMACIÓN Y DOCUMENTOS","ADMINISTRATIVA","SI","GRUPO DE ADMINISTRACIÓN Y DESARROLLO DEL TALENTO HUMANO",43941,null,null,{"$f":"IFERROR(WORKDAY(C903,R903,DiasNOLaborables),\"\")","v":43966},{"$f":"+IF(C903=\"\",\"\",IF(I903=\"\",\"\",(IF(I903<=L903,\"A TIEMPO\",\"FUERA DE TIEMPO\"))))","v":"A TIEMPO"},{"$f":"IF(I903=\"\",\"\",NETWORKDAYS([4]Hoja1!C903+1,[4]Hoja1!P903,DiasNOLaborables))","v":7},"",null,null,20]
[893,20209050032262,43937,"MODULO CONTACTENOS","SOLICITUD DE INFORMACIÓN Y DOCUMENTOS","WEB Y CORREO","SI","OFICINA DE INFORMÁTICA",43945,null,null,{"$f":"IFERROR(WORKDAY(C904,R904,DiasNOLaborables),\"\")","v":43966},{"$f":"+IF(C904=\"\",\"\",IF(I904=\"\",\"\",(IF(I904<=L904,\"A TIEMPO\",\"FUERA DE TIEMPO\"))))","v":"A TIEMPO"},{"$f":"IF(I904=\"\",\"\",NETWORKDAYS([4]Hoja1!C904+1,[4]Hoja1!P904,DiasNOLaborables))","v":1},"",null,null,20]
[894,20209050032282,43937,"MODULO CONTACTENOS","SOLICITUD DE INFORMACIÓN Y DOCUMENTOS","ADMINISTRATIVA","SI","GRUPO DE GESTIÓN DOCUMENTAL Y CENTRO DE DOCUMENTACIÓN",43942,null,null,{"$f":"IFERROR(WORKDAY(C905,R905,DiasNOLaborables),\"\")","v":43966},{"$f":"+IF(C905=\"\",\"\",IF(I905=\"\",\"\",(IF(I905<=L905,\"A TIEMPO\",\"FUERA DE TIEMPO\"))))","v":"A TIEMPO"},{"$f":"IF(I905=\"\",\"\",NETWORKDAYS([4]Hoja1!C905+1,[4]Hoja1!P905,DiasNOLaborables))","v":-2},"",null,null,20]
[895,20209050032292,43937,"MODULO CONTACTENOS","SOLICITUD DE INFORMACIÓN Y DOCUMENTOS","WEB Y CORREO","SI","OFICINA DE INFORMÁTICA",43942,null,null,{"$f":"IFERROR(WORKDAY(C906,R906,DiasNOLaborables),\"\")","v":43966},{"$f":"+IF(C906=\"\",\"\",IF(I906=\"\",\"\",(IF(I906<=L906,\"A TIEMPO\",\"FUERA DE TIEMPO\"))))","v":"A TIEMPO"},{"$f":"IF(I906=\"\",\"\",NETWORKDAYS([4]Hoja1!C906+1,[4]Hoja1!P906,DiasNOLaborables))","v":-2},"",null,null,20]
[896,20209050032322,43937,"MODULO CONTACTENOS","SOLICITUD DE INFORMACIÓN Y DOCUMENTOS","REGISTROS AMBIENTALES","SI","SUBDIRECCIÓN DE ESTUDIOS AMBIENTALES",43937,null,null,{"$f":"IFERROR(WORKDAY(C907,R907,DiasNOLaborables),\"\")","v":43966},{"$f":"+IF(C907=\"\",\"\",IF(I907=\"\",\"\",(IF(I907<=L907,\"A TIEMPO\",\"FUERA DE TIEMPO\"))))","v":"A TIEMPO"},{"$f":"IF(I907=\"\",\"\",NETWORKDAYS([4]Hoja1!C907+1,[4]Hoja1!P907,DiasNOLaborables))","v":11},"",null,null,20]
[897,20209050032332,43937,"MODULO CONTACTENOS","SOLICITUD DE INFORMACIÓN Y DOCUMENTOS","CLIMATOLOGÍA","SI","SUBDIRECCIÓN DE METEOROLOGÍA",43957,null,null,{"$f":"IFERROR(WORKDAY(C908,R908,DiasNOLaborables),\"\")","v":43966},{"$f":"+IF(C908=\"\",\"\",IF(I908=\"\",\"\",(IF(I908<=L908,\"A TIEMPO\",\"FUERA DE TIEMPO\"))))","v":"A TIEMPO"},{"$f":"IF(I908=\"\",\"\",NETWORKDAYS([4]Hoja1!C908+1,[4]Hoja1!P908,DiasNOLaborables))","v":1},"",null,null,20]
[898,20209050032342,43937,"CORREO ELECTRÓNICO","SOLICITUD JUDICIAL","BOSQUES","SI","SUBDIRECCIÓN DE ECOSISTEMAS E INFORMACIÓN AMBIENTAL",43937,null,null,{"$f":"IFERROR(WORKDAY(C909,R909,DiasNOLaborables),\"\")","v":43944},{"$f":"+IF(C909=\"\",\"\",IF(I909=\"\",\"\",(IF(I909<=L909,\"A TIEMPO\",\"FUERA DE TIEMPO\"))))","v":"A TIEMPO"},{"$f":"IF(I909=\"\",\"\",NETWORKDAYS([4]Hoja1!C909+1,[4]Hoja1!P909,DiasNOLaborables))","v":1},"",null,null,5]
[899,20209050032352,43937,"CORREO ELECTRÓNICO","PETICIÓN","CLIMATOLOGÍA","SI","SUBDIRECCIÓN DE METEOROLOGÍA",43966,null,null,{"$f":"IFERROR(WORKDAY(C910,R910,DiasNOLaborables),\"\")","v":43983},{"$f":"+IF(C910=\"\",\"\",IF(I910=\"\",\"\",(IF(I910<=L910,\"A TIEMPO\",\"FUERA DE TIEMPO\"))))","v":"A TIEMPO"},{"$f":"IF(I910=\"\",\"\",NETWORKDAYS([4]Hoja1!C910+1,[4]Hoja1!P910,DiasNOLaborables))","v":3},"",null,null,30]
[900,20209050032372,43937,"CORREO ELECTRÓNICO","CERTIFICACIONES DE TIEMPO, CLIMA Y EVENTOS HIDROLÓGICOS","CERTIFICACIONES DE TIEMPO Y CLIMA","SI","SUBDIRECCIÓN DE METEOROLOGÍA",43951,null,null,{"$f":"IFERROR(WORKDAY(C911,R911,DiasNOLaborables),\"\")","v":43983},{"$f":"+IF(C911=\"\",\"\",IF(I911=\"\",\"\",(IF(I911<=L911,\"A TIEMPO\",\"FUERA DE TIEMPO\"))))","v":"A TIEMPO"},{"$f":"IF(I911=\"\",\"\",NETWORKDAYS([4]Hoja1!C911+1,[4]Hoja1!P911,DiasNOLaborables))","v":2},"",null,null,30]
[901,20209050032392,43937,"CORREO ELECTRÓNICO","SOLICITUD DE INFORMACIÓN Y DOCUMENTOS","WEB Y CORREO","SI","OFICINA DE INFORMÁTICA",43945,null,null,{"$f":"IFERROR(WORKDAY(C912,R912,DiasNOLaborables),\"\")","v":43966},{"$f":"+IF(C912=\"\",\"\",IF(I912=\"\",\"\",(IF(I912<=L912,\"A TIEMPO\",\"FUERA DE TIEMPO\"))))","v":"A TIEMPO"},{"$f":"IF(I912=\"\",\"\",NETWORKDAYS([4]Hoja1!C912+1,[4]Hoja1!P912,DiasNOLaborables))","v":11},"",null,null,20]
[902,20209050032402,43937,"CORREO ELECTRÓNICO","SOLICITUD DE INFORMACIÓN Y DOCUMENTOS","WEB Y CORREO","SI","OFICINA DE INFORMÁTICA",43945,null,null,{"$f":"IFERROR(WORKDAY(C913,R913,DiasNOLaborables),\"\")","v":43966},{"$f":"+IF(C913=\"\",\"\",IF(I913=\"\",\"\",(IF(I913<=L913,\"A TIEMPO\",\"FUERA DE TIEMPO\"))))","v":"A TIEMPO"},{"$f":"IF(I913=\"\",\"\",NETWORKDAYS([4]Hoja1!C913+1,[4]Hoja1!P913,DiasNOLaborables))","v":5},"",null,null,20]
[903,20209050032412,43937,"CORREO ELECTRÓNICO","SOLICITUD DE INFORMACIÓN Y DOCUMENTOS","ADMINISTRATIVA","SI","GRUPO DE ADMINISTRACIÓN Y DESARROLLO DEL TALENTO HUMANO",43942,null,null,{"$f":"IFERROR(WORKDAY(C914,R914,DiasNOLaborables),\"\")","v":43966},{"$f":"+IF(C914=\"\",\"\",IF(I914=\"\",\"\",(IF(I914<=L914,\"A TIEMPO\",\"FUERA DE TIEMPO\"))))","v":"A TIEMPO"},{"$f":"IF(I914=\"\",\"\",NETWORKDAYS([4]Hoja1!C914+1,[4]Hoja1!P914,DiasNOLaborables))","v":9},"",null,null,20]
[904,20209050032422,43937,"CORREO ELECTRÓNICO","SOLICITUD DE INFORMACIÓN Y DOCUMENTOS","ACREDITACIÓN DE LABORATORIOS","SI","SUBDIRECCIÓN DE ESTUDIOS AMBIENTALES",43943,null,null,{"$f":"IFERROR(WORKDAY(C915,R915,DiasNOLaborables),\"\")","v":43966},{"$f":"+IF(C915=\"\",\"\",IF(I915=\"\",\"\",(IF(I915<=L915,\"A TIEMPO\",\"FUERA DE TIEMPO\"))))","v":"A TIEMPO"},{"$f":"IF(I915=\"\",\"\",NETWORKDAYS([4]Hoja1!C915+1,[4]Hoja1!P915,DiasNOLaborables))","v":9},"",null,null,20]
[905,20209050032432,43937,"CORREO ELECTRÓNICO","SOLICITUD DE INFORMACIÓN Y DOCUMENTOS","ACREDITACIÓN DE LABORATORIOS","SI","SUBDIRECCIÓN DE ESTUDIOS AMBIENTALES",43951,null,null,{"$f":"IFERROR(WORKDAY(C916,R916,DiasNOLaborables),\"\")","v":43966},{"$f":"+IF(C916=\"\",\"\",IF(I916=\"\",\"\",(IF(I916<=L916,\"A TIEMPO\",\"FUERA DE TIEMPO\"))))","v":"A TIEMPO"},{"$f":"IF(I916=\"\",\"\",NETWORKDAYS([4]Hoja1!C916+1,[4]Hoja1!P916,DiasNOLaborables))","v":-2},"",null,null,20]
[906,20209050032442,43937,"CORREO ELECTRÓNICO","CERTIFICACIONES DE TIEMPO, CLIMA Y EVENTOS HIDROLÓGICOS","CERTIFICACIONES DE TIEMPO Y CLIMA","SI","SUBDIRECCIÓN DE METEOROLOGÍA",43944,null,null,{"$f":"IFERROR(WORKDAY(C917,R917,DiasNOLaborables),\"\")","v":43983},{"$f":"+IF(C917=\"\",\"\",IF(I917=\"\",\"\",(IF(I917<=L917,\"A TIEMPO\",\"FUERA DE TIEMPO\"))))","v":"A TIEMPO"},{"$f":"IF(I917=\"\",\"\",NETWORKDAYS([4]Hoja1!C917+1,[4]Hoja1!P917,DiasNOLaborables))","v":7},"",null,null,30]
[907,20209050032452,43937,"CORREO ELECTRÓNICO","SOLICITUD DE INFORMACIÓN Y DOCUMENTOS","SUELOS Y TIERRAS","SI","SUBDIRECCIÓN DE ECOSISTEMAS E INFORMACIÓN AMBIENTAL",43944,null,null,{"$f":"IFERROR(WORKDAY(C918,R918,DiasNOLaborables),\"\")","v":43966},{"$f":"+IF(C918=\"\",\"\",IF(I918=\"\",\"\",(IF(I918<=L918,\"A TIEMPO\",\"FUERA DE TIEMPO\"))))","v":"A TIEMPO"},{"$f":"IF(I918=\"\",\"\",NETWORKDAYS([4]Hoja1!C918+1,[4]Hoja1!P918,DiasNOLaborables))","v":4},"",null,null,20]
[908,20209050032462,43937,"CORREO ELECTRÓNICO","SOLICITUD DE INFORMACIÓN Y DOCUMENTOS","ADMINISTRATIVA","SI","GRUPO DE TESORERÍA",43942,null,null,{"$f":"IFERROR(WORKDAY(C919,R919,DiasNOLaborables),\"\")","v":43966},{"$f":"+IF(C919=\"\",\"\",IF(I919=\"\",\"\",(IF(I919<=L919,\"A TIEMPO\",\"FUERA DE TIEMPO\"))))","v":"A TIEMPO"},{"$f":"IF(I919=\"\",\"\",NETWORKDAYS([4]Hoja1!C919+1,[4]Hoja1!P919,DiasNOLaborables))","v":7},"",null,null,20]
[909,20209050032472,43937,"CORREO ELECTRÓNICO","PETICIÓN","ACREDITACIÓN DE LABORATORIOS","SI","SUBDIRECCIÓN DE ESTUDIOS AMBIENTALES",43958,null,null,{"$f":"IFERROR(WORKDAY(C920,R920,DiasNOLaborables),\"\")","v":43983},{"$f":"+IF(C920=\"\",\"\",IF(I920=\"\",\"\",(IF(I920<=L920,\"A TIEMPO\",\"FUERA DE TIEMPO\"))))","v":"A TIEMPO"},{"$f":"IF(I920=\"\",\"\",NETWORKDAYS([4]Hoja1!C920+1,[4]Hoja1!P920,DiasNOLaborables))","v":4},"",null,null,30]
[910,20209050032532,43937,"MODULO CONTACTENOS","SOLICITUD DE INFORMACIÓN Y DOCUMENTOS","ACREDITACIÓN DE LABORATORIOS","SI","SUBDIRECCIÓN DE ESTUDIOS AMBIENTALES",43946,null,null,{"$f":"IFERROR(WORKDAY(C921,R921,DiasNOLaborables),\"\")","v":43966},{"$f":"+IF(C921=\"\",\"\",IF(I921=\"\",\"\",(IF(I921<=L921,\"A TIEMPO\",\"FUERA DE TIEMPO\"))))","v":"A TIEMPO"},{"$f":"IF(I921=\"\",\"\",NETWORKDAYS([4]Hoja1!C921+1,[4]Hoja1!P921,DiasNOLaborables))","v":9},"",null,null,20]
[911,20209050032552,43937,"MODULO CONTACTENOS","CERTIFICACIONES DE TIEMPO, CLIMA Y EVENTOS HIDROLÓGICOS","CERTIFICACIONES DE TIEMPO Y CLIMA","SI","SUBDIRECCIÓN DE METEOROLOGÍA",43948,null,null,{"$f":"IFERROR(WORKDAY(C922,R922,DiasNOLaborables),\"\")","v":43983},{"$f":"+IF(C922=\"\",\"\",IF(I922=\"\",\"\",(IF(I922<=L922,\"A TIEMPO\",\"FUERA DE TIEMPO\"))))","v":"A TIEMPO"},{"$f":"IF(I922=\"\",\"\",NETWORKDAYS([4]Hoja1!C922+1,[4]Hoja1!P922,DiasNOLaborables))","v":1},"",null,null,30]
[912,20209050032302,43937,"CORREO ELECTRÓNICO","SOLICITUD DE INFORMACIÓN Y DOCUMENTOS","SOLICITUD DE INFORMACIÓN HIDROMETEOROLÓGICA","NO","GRUPO DE ATENCIÓN AL CIUDADANO",43942,null,null,{"$f":"IFERROR(WORKDAY(C923,R923,DiasNOLaborables),\"\")","v":43966},{"$f":"+IF(C923=\"\",\"\",IF(I923=\"\",\"\",(IF(I923<=L923,\"A TIEMPO\",\"FUERA DE TIEMPO\"))))","v":"A TIEMPO"},{"$f":"IF(I923=\"\",\"\",NETWORKDAYS([4]Hoja1!C923+1,[4]Hoja1!P923,DiasNOLaborables))","v":9},{"$f":"IF(NETWORKDAYS(L923+1,I923,DiasNOLaborables)<=0,\"\",NETWORKDAYS(L923+1,I923,DiasNOLaborables))","v":""},null,null,20]
[913,20209050032312,43937,"CORREO ELECTRÓNICO","SOLICITUD DE INFORMACIÓN Y DOCUMENTOS","SOLICITUD DE INFORMACIÓN HIDROMETEOROLÓGICA","NO","GRUPO DE ATENCIÓN AL CIUDADANO",43942,null,null,{"$f":"IFERROR(WORKDAY(C924,R924,DiasNOLaborables),\"\")","v":43966},{"$f":"+IF(C924=\"\",\"\",IF(I924=\"\",\"\",(IF(I924<=L924,\"A TIEMPO\",\"FUERA DE TIEMPO\"))))","v":"A TIEMPO"},{"$f":"IF(I924=\"\",\"\",NETWORKDAYS([4]Hoja1!C924+1,[4]Hoja1!P924,DiasNOLaborables))","v":9},"",null,null,20]
[914,20207090000892,43937,"CORREO ELECTRÓNICO","SOLICITUD DE INFORMACIÓN Y DOCUMENTOS","SOLICITUD DE INFORMACIÓN HIDROMETEOROLÓGICA","NO","GRUPO DE ATENCIÓN AL CIUDADANO",43942,null,null,{"$f":"IFERROR(WORKDAY(C925,R925,DiasNOLaborables),\"\")","v":43966},{"$f":"+IF(C925=\"\",\"\",IF(I925=\"\",\"\",(IF(I925<=L925,\"A TIEMPO\",\"FUERA DE TIEMPO\"))))","v":"A TIEMPO"},{"$f":"IF(I925=\"\",\"\",NETWORKDAYS([4]Hoja1!C925+1,[4]Hoja1!P925,DiasNOLaborables))","v":4},"",null,null,20]
[915,20209050032362,43937,"CORREO ELECTRÓNICO","SOLICITUD DE INFORMACIÓN Y DOCUMENTOS","SOLICITUD DE INFORMACIÓN HIDROMETEOROLÓGICA","NO","GRUPO DE ATENCIÓN AL CIUDADANO",43942,null,null,{"$f":"IFERROR(WORKDAY(C926,R926,DiasNOLaborables),\"\")","v":43966},{"$f":"+IF(C926=\"\",\"\",IF(I926=\"\",\"\",(IF(I926<=L926,\"A TIEMPO\",\"FUERA DE TIEMPO\"))))","v":"A TIEMPO"},{"$f":"IF(I926=\"\",\"\",NETWORKDAYS([4]Hoja1!C926+1,[4]Hoja1!P926,DiasNOLaborables))","v":4},"",null,null,20]
[916,20209050032382,43937,"CORREO ELECTRÓNICO","SOLICITUD DE INFORMACIÓN Y DOCUMENTOS","SOLICITUD DE INFORMACIÓN HIDROMETEOROLÓGICA","NO","GRUPO DE ATENCIÓN AL CIUDADANO",43942,null,null,{"$f":"IFERROR(WORKDAY(C927,R927,DiasNOLaborables),\"\")","v":43966},{"$f":"+IF(C927=\"\",\"\",IF(I927=\"\",\"\",(IF(I927<=L927,\"A TIEMPO\",\"FUERA DE TIEMPO\"))))","v":"A TIEMPO"},{"$f":"IF(I927=\"\",\"\",NETWORKDAYS([4]Hoja1!C927+1,[4]Hoja1!P927,DiasNOLaborables))","v":4},"",null,null,20]
[917,20209050032482,43937,"CORREO ELECTRÓNICO","SOLICITUD DE INFORMACIÓN Y DOCUMENTOS","SOLICITUD DE INFORMACIÓN HIDROMETEOROLÓGICA","NO","GRUPO DE ATENCIÓN AL CIUDADANO",43942,null,null,{"$f":"IFERROR(WORKDAY(C928,R928,DiasNOLaborables),\"\")","v":43966},{"$f":"+IF(C928=\"\",\"\",IF(I928=\"\",\"\",(IF(I928<=L928,\"A TIEMPO\",\"FUERA DE TIEMPO\"))))","v":"A TIEMPO"},{"$f":"IF(I928=\"\",\"\",NETWORKDAYS([4]Hoja1!C928+1,[4]Hoja1!P928,DiasNOLaborables))","v":4},"",null,null,20]
[918,20209910034092,43937,"CORREO ELECTRÓNICO","SOLICITUD DE INFORMACIÓN Y DOCUMENTOS","SOLICITUD DE INFORMACIÓN HIDROMETEOROLÓGICA","NO","GRUPO DE ATENCIÓN AL CIUDADANO",43942,null,null,{"$f":"IFERROR(WORKDAY(C929,R929,DiasNOLaborables),\"\")","v":43966},{"$f":"+IF(C929=\"\",\"\",IF(I929=\"\",\"\",(IF(I929<=L929,\"A TIEMPO\",\"FUERA DE TIEMPO\"))))","v":"A TIEMPO"},{"$f":"IF(I929=\"\",\"\",NETWORKDAYS([4]Hoja1!C929+1,[4]Hoja1!P929,DiasNOLaborables))","v":4},"",null,null,20]
[919,20209050032492,43937,"CORREO ELECTRÓNICO","SOLICITUD DE INFORMACIÓN Y DOCUMENTOS","SOLICITUD DE INFORMACIÓN HIDROMETEOROLÓGICA","NO","GRUPO DE ATENCIÓN AL CIUDADANO",43942,null,null,{"$f":"IFERROR(WORKDAY(C930,R930,DiasNOLaborables),\"\")","v":43966},{"$f":"+IF(C930=\"\",\"\",IF(I930=\"\",\"\",(IF(I930<=L930,\"A TIEMPO\",\"FUERA DE TIEMPO\"))))","v":"A TIEMPO"},{"$f":"IF(I930=\"\",\"\",NETWORKDAYS([4]Hoja1!C930+1,[4]Hoja1!P930,DiasNOLaborables))","v":4},"",null,null,20]
[920,20209050032502,43937,"CORREO ELECTRÓNICO","SOLICITUD DE INFORMACIÓN Y DOCUMENTOS","SOLICITUD DE INFORMACIÓN HIDROMETEOROLÓGICA","NO","GRUPO DE ATENCIÓN AL CIUDADANO",43942,null,null,{"$f":"IFERROR(WORKDAY(C931,R931,DiasNOLaborables),\"\")","v":43966},{"$f":"+IF(C931=\"\",\"\",IF(I931=\"\",\"\",(IF(I931<=L931,\"A TIEMPO\",\"FUERA DE TIEMPO\"))))","v":"A TIEMPO"},{"$f":"IF(I931=\"\",\"\",NETWORKDAYS([4]Hoja1!C931+1,[4]Hoja1!P931,DiasNOLaborables))","v":4},"",null,null,20]
[921,20209050032512,43937,"CORREO ELECTRÓNICO","SOLICITUD DE INFORMACIÓN Y DOCUMENTOS","SOLICITUD DE INFORMACIÓN HIDROMETEOROLÓGICA","NO","GRUPO DE ATENCIÓN AL CIUDADANO",43942,null,null,{"$f":"IFERROR(WORKDAY(C932,R932,DiasNOLaborables),\"\")","v":43966},{"$f":"+IF(C932=\"\",\"\",IF(I932=\"\",\"\",(IF(I932<=L932,\"A TIEMPO\",\"FUERA DE TIEMPO\"))))","v":"A TIEMPO"},{"$f":"IF(I932=\"\",\"\",NETWORKDAYS([4]Hoja1!C932+1,[4]Hoja1!P932,DiasNOLaborables))","v":4},"",null,null,20]
[922,20209050032522,43937,"CORREO ELECTRÓNICO","SOLICITUD DE INFORMACIÓN Y DOCUMENTOS","SOLICITUD DE INFORMACIÓN HIDROMETEOROLÓGICA","NO","GRUPO DE ATENCIÓN AL CIUDADANO",43942,null,null,{"$f":"IFERROR(WORKDAY(C933,R933,DiasNOLaborables),\"\")","v":43966},{"$f":"+IF(C933=\"\",\"\",IF(I933=\"\",\"\",(IF(I933<=L933,\"A TIEMPO\",\"FUERA DE TIEMPO\"))))","v":"A TIEMPO"},{"$f":"IF(I933=\"\",\"\",NETWORKDAYS([4]Hoja1!C933+1,[4]Hoja1!P933,DiasNOLaborables))","v":4},"",null,null,20]
[923,20209050032562,43937,"CORREO ELECTRÓNICO","SOLICITUD DE INFORMACIÓN Y DOCUMENTOS","SOLICITUD DE INFORMACIÓN HIDROMETEOROLÓGICA","NO","GRUPO DE ATENCIÓN AL CIUDADANO",43942,null,null,{"$f":"IFERROR(WORKDAY(C934,R934,DiasNOLaborables),\"\")","v":43966},{"$f":"+IF(C934=\"\",\"\",IF(I934=\"\",\"\",(IF(I934<=L934,\"A TIEMPO\",\"FUERA DE TIEMPO\"))))","v":"A TIEMPO"},{"$f":"IF(I934=\"\",\"\",NETWORKDAYS([4]Hoja1!C934+1,[4]Hoja1!P934,DiasNOLaborables))","v":4},"",null,null,20]
[924,20209050032602,43937,"CORREO ELECTRÓNICO","SOLICITUD DE INFORMACIÓN Y DOCUMENTOS","SOLICITUD DE INFORMACIÓN HIDROMETEOROLÓGICA","NO","GRUPO DE ATENCIÓN AL CIUDADANO",43942,null,null,{"$f":"IFERROR(WORKDAY(C935,R935,DiasNOLaborables),\"\")","v":43966},{"$f":"+IF(C935=\"\",\"\",IF(I935=\"\",\"\",(IF(I935<=L935,\"A TIEMPO\",\"FUERA DE TIEMPO\"))))","v":"A TIEMPO"},{"$f":"IF(I935=\"\",\"\",NETWORKDAYS([4]Hoja1!C935+1,[4]Hoja1!P935,DiasNOLaborables))","v":5},"",null,null,20]
[925,20209050032612,43937,"CORREO ELECTRÓNICO","SOLICITUD DE INFORMACIÓN Y DOCUMENTOS","SOLICITUD DE INFORMACIÓN HIDROMETEOROLÓGICA","NO","GRUPO DE ATENCIÓN AL CIUDADANO",43942,null,null,{"$f":"IFERROR(WORKDAY(C936,R936,DiasNOLaborables),\"\")","v":43966},{"$f":"+IF(C936=\"\",\"\",IF(I936=\"\",\"\",(IF(I936<=L936,\"A TIEMPO\",\"FUERA DE TIEMPO\"))))","v":"A TIEMPO"},{"$f":"IF(I936=\"\",\"\",NETWORKDAYS([4]Hoja1!C936+1,[4]Hoja1!P936,DiasNOLaborables))","v":5},"",null,null,20]
[926,20209050032622,43938,"CORREO ELECTRÓNICO","SOLICITUD DE INFORMACIÓN Y DOCUMENTOS","SOLICITUD DE INFORMACIÓN HIDROMETEOROLÓGICA","NO","GRUPO DE ATENCIÓN AL CIUDADANO",43943,null,null,{"$f":"IFERROR(WORKDAY(C937,R937,DiasNOLaborables),\"\")","v":43969},{"$f":"+IF(C937=\"\",\"\",IF(I937=\"\",\"\",(IF(I937<=L937,\"A TIEMPO\",\"FUERA DE TIEMPO\"))))","v":"A TIEMPO"},{"$f":"IF(I937=\"\",\"\",NETWORKDAYS([4]Hoja1!C937+1,[4]Hoja1!P937,DiasNOLaborables))","v":5},"",null,null,20]
[927,20209050032682,43938,"CORREO ELECTRÓNICO","SOLICITUD DE INFORMACIÓN Y DOCUMENTOS","SOLICITUD DE INFORMACIÓN HIDROMETEOROLÓGICA","NO","GRUPO DE ATENCIÓN AL CIUDADANO",43943,null,null,{"$f":"IFERROR(WORKDAY(C938,R938,DiasNOLaborables),\"\")","v":43969},{"$f":"+IF(C938=\"\",\"\",IF(I938=\"\",\"\",(IF(I938<=L938,\"A TIEMPO\",\"FUERA DE TIEMPO\"))))","v":"A TIEMPO"},{"$f":"IF(I938=\"\",\"\",NETWORKDAYS([4]Hoja1!C938+1,[4]Hoja1!P938,DiasNOLaborables))","v":5},"",null,null,20]
[928,20209050032692,43938,"CORREO ELECTRÓNICO","SOLICITUD DE INFORMACIÓN Y DOCUMENTOS","SOLICITUD DE INFORMACIÓN HIDROMETEOROLÓGICA","NO","GRUPO DE ATENCIÓN AL CIUDADANO",43943,null,null,{"$f":"IFERROR(WORKDAY(C939,R939,DiasNOLaborables),\"\")","v":43969},{"$f":"+IF(C939=\"\",\"\",IF(I939=\"\",\"\",(IF(I939<=L939,\"A TIEMPO\",\"FUERA DE TIEMPO\"))))","v":"A TIEMPO"},{"$f":"IF(I939=\"\",\"\",NETWORKDAYS([4]Hoja1!C939+1,[4]Hoja1!P939,DiasNOLaborables))","v":7},"",null,null,20]
[929,20209050032702,43938,"CORREO ELECTRÓNICO","SOLICITUD DE INFORMACIÓN Y DOCUMENTOS","SOLICITUD DE INFORMACIÓN HIDROMETEOROLÓGICA","NO","GRUPO DE ATENCIÓN AL CIUDADANO",43943,null,null,{"$f":"IFERROR(WORKDAY(C940,R940,DiasNOLaborables),\"\")","v":43969},{"$f":"+IF(C940=\"\",\"\",IF(I940=\"\",\"\",(IF(I940<=L940,\"A TIEMPO\",\"FUERA DE TIEMPO\"))))","v":"A TIEMPO"},{"$f":"IF(I940=\"\",\"\",NETWORKDAYS([4]Hoja1!C940+1,[4]Hoja1!P940,DiasNOLaborables))","v":7},"",null,null,20]
[930,20209050032722,43938,"CORREO ELECTRÓNICO","SOLICITUD DE INFORMACIÓN Y DOCUMENTOS","SOLICITUD DE INFORMACIÓN HIDROMETEOROLÓGICA","NO","GRUPO DE ATENCIÓN AL CIUDADANO",43943,null,null,{"$f":"IFERROR(WORKDAY(C941,R941,DiasNOLaborables),\"\")","v":43969},{"$f":"+IF(C941=\"\",\"\",IF(I941=\"\",\"\",(IF(I941<=L941,\"A TIEMPO\",\"FUERA DE TIEMPO\"))))","v":"A TIEMPO"},{"$f":"IF(I941=\"\",\"\",NETWORKDAYS([4]Hoja1!C941+1,[4]Hoja1!P941,DiasNOLaborables))","v":8},"",null,null,20]
[931,20209050032732,43938,"CORREO ELECTRÓNICO","SOLICITUD DE INFORMACIÓN Y DOCUMENTOS","SOLICITUD DE INFORMACIÓN HIDROMETEOROLÓGICA","NO","GRUPO DE ATENCIÓN AL CIUDADANO",43943,null,null,{"$f":"IFERROR(WORKDAY(C942,R942,DiasNOLaborables),\"\")","v":43969},{"$f":"+IF(C942=\"\",\"\",IF(I942=\"\",\"\",(IF(I942<=L942,\"A TIEMPO\",\"FUERA DE TIEMPO\"))))","v":"A TIEMPO"},{"$f":"IF(I942=\"\",\"\",NETWORKDAYS([4]Hoja1!C942+1,[4]Hoja1!P942,DiasNOLaborables))","v":9},"",null,null,20]
[932,20209050032772,43938,"CORREO ELECTRÓNICO","SOLICITUD DE INFORMACIÓN Y DOCUMENTOS","SOLICITUD DE INFORMACIÓN HIDROMETEOROLÓGICA","NO","GRUPO DE ATENCIÓN AL CIUDADANO",43944,null,null,{"$f":"IFERROR(WORKDAY(C943,R943,DiasNOLaborables),\"\")","v":43969},{"$f":"+IF(C943=\"\",\"\",IF(I943=\"\",\"\",(IF(I943<=L943,\"A TIEMPO\",\"FUERA DE TIEMPO\"))))","v":"A TIEMPO"},{"$f":"IF(I943=\"\",\"\",NETWORKDAYS([4]Hoja1!C943+1,[4]Hoja1!P943,DiasNOLaborables))","v":10},"",null,null,20]
[933,20209050032782,43938,"CORREO ELECTRÓNICO","SOLICITUD DE INFORMACIÓN Y DOCUMENTOS","SOLICITUD DE INFORMACIÓN HIDROMETEOROLÓGICA","NO","GRUPO DE ATENCIÓN AL CIUDADANO",43944,null,null,{"$f":"IFERROR(WORKDAY(C944,R944,DiasNOLaborables),\"\")","v":43969},{"$f":"+IF(C944=\"\",\"\",IF(I944=\"\",\"\",(IF(I944<=L944,\"A TIEMPO\",\"FUERA DE TIEMPO\"))))","v":"A TIEMPO"},{"$f":"IF(I944=\"\",\"\",NETWORKDAYS([4]Hoja1!C944+1,[4]Hoja1!P944,DiasNOLaborables))","v":9},"",null,null,20]
[934,20209050032792,43938,"CORREO ELECTRÓNICO","SOLICITUD DE INFORMACIÓN Y DOCUMENTOS","SOLICITUD DE INFORMACIÓN HIDROMETEOROLÓGICA","NO","GRUPO DE ATENCIÓN AL CIUDADANO",43944,null,null,{"$f":"IFERROR(WORKDAY(C945,R945,DiasNOLaborables),\"\")","v":43969},{"$f":"+IF(C945=\"\",\"\",IF(I945=\"\",\"\",(IF(I945<=L945,\"A TIEMPO\",\"FUERA DE TIEMPO\"))))","v":"A TIEMPO"},{"$f":"IF(I945=\"\",\"\",NETWORKDAYS([4]Hoja1!C945+1,[4]Hoja1!P945,DiasNOLaborables))","v":9},"",null,null,20]
[{"$f":"IF(B944<>\"\",A945+1,\"\")","v":935},20209050032632,43938,"CORREO ELECTRÓNICO","SOLICITUD DE INFORMACIÓN Y DOCUMENTOS","ADMINISTRATIVA","SI","SUBDIRECCIÓN DE HIDROLOGÍA",43954,null,null,{"$f":"IFERROR(WORKDAY(C946,R946,DiasNOLaborables),\"\")","v":43969},{"$f":"+IF(C946=\"\",\"\",IF(I946=\"\",\"\",(IF(I946<=L946,\"A TIEMPO\",\"FUERA DE TIEMPO\"))))","v":"A TIEMPO"},{"$f":"IF(I946=\"\",\"\",NETWORKDAYS([4]Hoja1!C946+1,[4]Hoja1!P946,DiasNOLaborables))","v":9},"",null,null,20]
[936,20209050032642,43938,"CORREO ELECTRÓNICO","SOLICITUD DE INFORMACIÓN Y DOCUMENTOS","ADMINISTRATIVA","SI","GRUPO DE TESORERÍA",43943,null,null,{"$f":"IFERROR(WORKDAY(C947,R947,DiasNOLaborables),\"\")","v":43969},{"$f":"+IF(C947=\"\",\"\",IF(I947=\"\",\"\",(IF(I947<=L947,\"A TIEMPO\",\"FUERA DE TIEMPO\"))))","v":"A TIEMPO"},{"$f":"IF(I947=\"\",\"\",NETWORKDAYS([4]Hoja1!C947+1,[4]Hoja1!P947,DiasNOLaborables))","v":9},"",null,null,20]
[937,20209050032662,43938,"CORREO ELECTRÓNICO","SOLICITUD DE INFORMACIÓN Y DOCUMENTOS","REGISTROS AMBIENTALES","SI","SUBDIRECCIÓN DE ESTUDIOS AMBIENTALES",43938,null,null,{"$f":"IFERROR(WORKDAY(C948,R948,DiasNOLaborables),\"\")","v":43969},{"$f":"+IF(C948=\"\",\"\",IF(I948=\"\",\"\",(IF(I948<=L948,\"A TIEMPO\",\"FUERA DE TIEMPO\"))))","v":"A TIEMPO"},{"$f":"IF(I948=\"\",\"\",NETWORKDAYS([4]Hoja1!C948+1,[4]Hoja1!P948,DiasNOLaborables))","v":9},"",null,null,20]
[938,20209050032672,43938,"CORREO ELECTRÓNICO","SOLICITUD DE INFORMACIÓN Y DOCUMENTOS","ADMINISTRATIVA","SI","GRUPO DE TESORERÍA",43943,null,null,{"$f":"IFERROR(WORKDAY(C949,R949,DiasNOLaborables),\"\")","v":43969},{"$f":"+IF(C949=\"\",\"\",IF(I949=\"\",\"\",(IF(I949<=L949,\"A TIEMPO\",\"FUERA DE TIEMPO\"))))","v":"A TIEMPO"},{"$f":"IF(I949=\"\",\"\",NETWORKDAYS([4]Hoja1!C949+1,[4]Hoja1!P949,DiasNOLaborables))","v":10},"",null,null,20]
[939,20209050032712,43938,"CORREO ELECTRÓNICO","SOLICITUD JUDICIAL ","SOLICITUD DE INFORMACIÓN Y DOCUMENTOS","SI","SUBDIRECCIÓN DE ECOSISTEMAS E INFORMACIÓN AMBIENTAL",43950,null,null,{"$f":"IFERROR(WORKDAY(C950,R950,DiasNOLaborables),\"\")","v":43945},{"$f":"+IF(C950=\"\",\"\",IF(I950=\"\",\"\",(IF(I950<=L950,\"A TIEMPO\",\"FUERA DE TIEMPO\"))))","v":"FUERA DE TIEMPO"},{"$f":"IF(I950=\"\",\"\",NETWORKDAYS([4]Hoja1!C950+1,[4]Hoja1!P950,DiasNOLaborables))","v":10},3,null,null,5]
[940,20209050032582,43938,"MODULO CONTACTENOS","SOLICITUD DE INFORMACIÓN Y DOCUMENTOS","ADMINISTRATIVA","SI","GRUPO DE TESORERÍA",43942,null,null,{"$f":"IFERROR(WORKDAY(C951,R951,DiasNOLaborables),\"\")","v":43969},{"$f":"+IF(C951=\"\",\"\",IF(I951=\"\",\"\",(IF(I951<=L951,\"A TIEMPO\",\"FUERA DE TIEMPO\"))))","v":"A TIEMPO"},{"$f":"IF(I951=\"\",\"\",NETWORKDAYS([4]Hoja1!C951+1,[4]Hoja1!P951,DiasNOLaborables))","v":4},"",null,null,20]
[941,20209050032592,43938,"MODULO CONTACTENOS","SOLICITUD DE INFORMACIÓN Y DOCUMENTOS","ADMINISTRATIVA","SI","GRUPO DE TESORERÍA",43942,null,null,{"$f":"IFERROR(WORKDAY(C952,R952,DiasNOLaborables),\"\")","v":43969},{"$f":"+IF(C952=\"\",\"\",IF(I952=\"\",\"\",(IF(I952<=L952,\"A TIEMPO\",\"FUERA DE TIEMPO\"))))","v":"A TIEMPO"},{"$f":"IF(I952=\"\",\"\",NETWORKDAYS([4]Hoja1!C952+1,[4]Hoja1!P952,DiasNOLaborables))","v":5},"",null,null,20]
[942,20209050032652,43938,"MODULO CONTACTENOS","SOLICITUD DE INFORMACIÓN Y DOCUMENTOS","REGISTROS AMBIENTALES","SI","SUBDIRECCIÓN DE ESTUDIOS AMBIENTALES",43942,null,null,{"$f":"IFERROR(WORKDAY(C953,R953,DiasNOLaborables),\"\")","v":43969},{"$f":"+IF(C953=\"\",\"\",IF(I953=\"\",\"\",(IF(I953<=L953,\"A TIEMPO\",\"FUERA DE TIEMPO\"))))","v":"A TIEMPO"},{"$f":"IF(I953=\"\",\"\",NETWORKDAYS([4]Hoja1!C953+1,[4]Hoja1!P953,DiasNOLaborables))","v":5},"",null,null,20]
[943,20209050032812,43939,"CORREO ELECTRÓNICO","SOLICITUD DE INFORMACIÓN Y DOCUMENTOS","SOLICITUD DE INFORMACIÓN HIDROMETEOROLÓGICA","NO","GRUPO DE ATENCIÓN AL CIUDADANO",43943,null,null,{"$f":"IFERROR(WORKDAY(C954,R954,DiasNOLaborables),\"\")","v":43969},{"$f":"+IF(C954=\"\",\"\",IF(I954=\"\",\"\",(IF(I954<=L954,\"A TIEMPO\",\"FUERA DE TIEMPO\"))))","v":"A TIEMPO"},{"$f":"IF(I954=\"\",\"\",NETWORKDAYS([4]Hoja1!C954+1,[4]Hoja1!P954,DiasNOLaborables))","v":5},"",null,null,20]
[944,20209050032832,43939,"CORREO ELECTRÓNICO","SOLICITUD DE INFORMACIÓN Y DOCUMENTOS","SOLICITUD DE INFORMACIÓN HIDROMETEOROLÓGICA","NO","GRUPO DE ATENCIÓN AL CIUDADANO",43943,null,null,{"$f":"IFERROR(WORKDAY(C955,R955,DiasNOLaborables),\"\")","v":43969},{"$f":"+IF(C955=\"\",\"\",IF(I955=\"\",\"\",(IF(I955<=L955,\"A TIEMPO\",\"FUERA DE TIEMPO\"))))","v":"A TIEMPO"},{"$f":"IF(I955=\"\",\"\",NETWORKDAYS([4]Hoja1!C955+1,[4]Hoja1!P955,DiasNOLaborables))","v":5},"",null,null,20]
[945,20209050032842,43939,"CORREO ELECTRÓNICO","SOLICITUD DE INFORMACIÓN Y DOCUMENTOS","SOLICITUD DE INFORMACIÓN HIDROMETEOROLÓGICA","NO","GRUPO DE ATENCIÓN AL CIUDADANO",43943,null,null,{"$f":"IFERROR(WORKDAY(C956,R956,DiasNOLaborables),\"\")","v":43969},{"$f":"+IF(C956=\"\",\"\",IF(I956=\"\",\"\",(IF(I956<=L956,\"A TIEMPO\",\"FUERA DE TIEMPO\"))))","v":"A TIEMPO"},{"$f":"IF(I956=\"\",\"\",NETWORKDAYS([4]Hoja1!C956+1,[4]Hoja1!P956,DiasNOLaborables))","v":5},"",null,null,20]
[946,20209050032852,43939,"CORREO ELECTRÓNICO","SOLICITUD DE INFORMACIÓN Y DOCUMENTOS","SOLICITUD DE INFORMACIÓN HIDROMETEOROLÓGICA","NO","GRUPO DE ATENCIÓN AL CIUDADANO",43943,null,null,{"$f":"IFERROR(WORKDAY(C957,R957,DiasNOLaborables),\"\")","v":43969},{"$f":"+IF(C957=\"\",\"\",IF(I957=\"\",\"\",(IF(I957<=L957,\"A TIEMPO\",\"FUERA DE TIEMPO\"))))","v":"A TIEMPO"},{"$f":"IF(I957=\"\",\"\",NETWORKDAYS([4]Hoja1!C957+1,[4]Hoja1!P957,DiasNOLaborables))","v":5},"",null,null,20]
[947,20209050032862,43939,"CORREO ELECTRÓNICO","SOLICITUD DE INFORMACIÓN Y DOCUMENTOS","SOLICITUD DE INFORMACIÓN HIDROMETEOROLÓGICA","NO","GRUPO DE ATENCIÓN AL CIUDADANO",43943,null,null,{"$f":"IFERROR(WORKDAY(C958,R958,DiasNOLaborables),\"\")","v":43969},{"$f":"+IF(C958=\"\",\"\",IF(I958=\"\",\"\",(IF(I958<=L958,\"A TIEMPO\",\"FUERA DE TIEMPO\"))))","v":"A TIEMPO"},{"$f":"IF(I958=\"\",\"\",NETWORKDAYS([4]Hoja1!C958+1,[4]Hoja1!P958,DiasNOLaborables))","v":2},"",null,null,20]
[948,20209050032872,43939,"CORREO ELECTRÓNICO","SOLICITUD DE INFORMACIÓN Y DOCUMENTOS","SOLICITUD DE INFORMACIÓN HIDROMETEOROLÓGICA","NO","GRUPO DE ATENCIÓN AL CIUDADANO",43943,null,null,{"$f":"IFERROR(WORKDAY(C959,R959,DiasNOLaborables),\"\")","v":43969},{"$f":"+IF(C959=\"\",\"\",IF(I959=\"\",\"\",(IF(I959<=L959,\"A TIEMPO\",\"FUERA DE TIEMPO\"))))","v":"A TIEMPO"},{"$f":"IF(I959=\"\",\"\",NETWORKDAYS([4]Hoja1!C959+1,[4]Hoja1!P959,DiasNOLaborables))","v":1},"",null,null,20]
[949,20209050032882,43939,"CORREO ELECTRÓNICO","SOLICITUD DE INFORMACIÓN Y DOCUMENTOS","SOLICITUD DE INFORMACIÓN HIDROMETEOROLÓGICA","NO","GRUPO DE ATENCIÓN AL CIUDADANO",43943,null,null,{"$f":"IFERROR(WORKDAY(C960,R960,DiasNOLaborables),\"\")","v":43969},{"$f":"+IF(C960=\"\",\"\",IF(I960=\"\",\"\",(IF(I960<=L960,\"A TIEMPO\",\"FUERA DE TIEMPO\"))))","v":"A TIEMPO"},{"$f":"IF(I960=\"\",\"\",NETWORKDAYS([4]Hoja1!C960+1,[4]Hoja1!P960,DiasNOLaborables))","v":4},"",null,null,20]
[950,20209050032892,43939,"CORREO ELECTRÓNICO","SOLICITUD DE INFORMACIÓN Y DOCUMENTOS","SOLICITUD DE INFORMACIÓN HIDROMETEOROLÓGICA","NO","GRUPO DE ATENCIÓN AL CIUDADANO",43943,null,null,{"$f":"IFERROR(WORKDAY(C961,R961,DiasNOLaborables),\"\")","v":43969},{"$f":"+IF(C961=\"\",\"\",IF(I961=\"\",\"\",(IF(I961<=L961,\"A TIEMPO\",\"FUERA DE TIEMPO\"))))","v":"A TIEMPO"},{"$f":"IF(I961=\"\",\"\",NETWORKDAYS([4]Hoja1!C961+1,[4]Hoja1!P961,DiasNOLaborables))","v":-2},"",null,null,20]
[951,20209050032902,43939,"CORREO ELECTRÓNICO","SOLICITUD DE INFORMACIÓN Y DOCUMENTOS","SOLICITUD DE INFORMACIÓN HIDROMETEOROLÓGICA","NO","GRUPO DE ATENCIÓN AL CIUDADANO",43943,null,null,{"$f":"IFERROR(WORKDAY(C962,R962,DiasNOLaborables),\"\")","v":43969},{"$f":"+IF(C962=\"\",\"\",IF(I962=\"\",\"\",(IF(I962<=L962,\"A TIEMPO\",\"FUERA DE TIEMPO\"))))","v":"A TIEMPO"},{"$f":"IF(I962=\"\",\"\",NETWORKDAYS([4]Hoja1!C962+1,[4]Hoja1!P962,DiasNOLaborables))","v":8},"",null,null,20]
[952,20209050032912,43939,"CORREO ELECTRÓNICO","SOLICITUD DE INFORMACIÓN Y DOCUMENTOS","SOLICITUD DE INFORMACIÓN HIDROMETEOROLÓGICA","NO","GRUPO DE ATENCIÓN AL CIUDADANO",43943,null,null,{"$f":"IFERROR(WORKDAY(C963,R963,DiasNOLaborables),\"\")","v":43969},{"$f":"+IF(C963=\"\",\"\",IF(I963=\"\",\"\",(IF(I963<=L963,\"A TIEMPO\",\"FUERA DE TIEMPO\"))))","v":"A TIEMPO"},{"$f":"IF(I963=\"\",\"\",NETWORKDAYS([4]Hoja1!C963+1,[4]Hoja1!P963,DiasNOLaborables))","v":13},"",null,null,20]
[953,20209050032922,43939,"CORREO ELECTRÓNICO","SOLICITUD DE INFORMACIÓN Y DOCUMENTOS","SOLICITUD DE INFORMACIÓN HIDROMETEOROLÓGICA","NO","GRUPO DE ATENCIÓN AL CIUDADANO",43943,null,null,{"$f":"IFERROR(WORKDAY(C964,R964,DiasNOLaborables),\"\")","v":43969},{"$f":"+IF(C964=\"\",\"\",IF(I964=\"\",\"\",(IF(I964<=L964,\"A TIEMPO\",\"FUERA DE TIEMPO\"))))","v":"A TIEMPO"},{"$f":"IF(I964=\"\",\"\",NETWORKDAYS([4]Hoja1!C964+1,[4]Hoja1!P964,DiasNOLaborables))","v":-2},"",null,null,20]
[954,20209050032932,43939,"CORREO ELECTRÓNICO","SOLICITUD DE INFORMACIÓN Y DOCUMENTOS","SOLICITUD DE INFORMACIÓN HIDROMETEOROLÓGICA","NO","GRUPO DE ATENCIÓN AL CIUDADANO",43943,null,null,{"$f":"IFERROR(WORKDAY(C965,R965,DiasNOLaborables),\"\")","v":43969},{"$f":"+IF(C965=\"\",\"\",IF(I965=\"\",\"\",(IF(I965<=L965,\"A TIEMPO\",\"FUERA DE TIEMPO\"))))","v":"A TIEMPO"},{"$f":"IF(I965=\"\",\"\",NETWORKDAYS([4]Hoja1!C965+1,[4]Hoja1!P965,DiasNOLaborables))","v":18},"",null,null,20]
[955,20209020032942,43939,"CORREO ELECTRÓNICO","SOLICITUD DE INFORMACIÓN Y DOCUMENTOS","SOLICITUD DE INFORMACIÓN HIDROMETEOROLÓGICA","NO","GRUPO DE ATENCIÓN AL CIUDADANO",43943,null,null,{"$f":"IFERROR(WORKDAY(C966,R966,DiasNOLaborables),\"\")","v":43969},{"$f":"+IF(C966=\"\",\"\",IF(I966=\"\",\"\",(IF(I966<=L966,\"A TIEMPO\",\"FUERA DE TIEMPO\"))))","v":"A TIEMPO"},{"$f":"IF(I966=\"\",\"\",NETWORKDAYS([4]Hoja1!C966+1,[4]Hoja1!P966,DiasNOLaborables))","v":4},"",null,null,{"$f":"IFERROR(VLOOKUP(E966,$Z$50:$AA$63,2),\"\")","v":20}]
[956,20209050033052,43941,"MODULO CONTACTENOS","SOLICITUD DE INFORMACIÓN Y DOCUMENTOS","WEB Y CORREO","SI","OFICINA DE INFORMÁTICA",43945,null,null,{"$f":"IFERROR(WORKDAY(C967,R967,DiasNOLaborables),\"\")","v":43970},{"$f":"+IF(C967=\"\",\"\",IF(I967=\"\",\"\",(IF(I967<=L967,\"A TIEMPO\",\"FUERA DE TIEMPO\"))))","v":"A TIEMPO"},{"$f":"IF(I967=\"\",\"\",NETWORKDAYS([4]Hoja1!C967+1,[4]Hoja1!P967,DiasNOLaborables))","v":5},"",null,null,20]
[957,20209050033062,43941,"MODULO CONTACTENOS","SOLICITUD DE INFORMACIÓN Y DOCUMENTOS","WEB Y CORREO","SI","OFICINA DE INFORMÁTICA",43945,null,null,{"$f":"IFERROR(WORKDAY(C968,R968,DiasNOLaborables),\"\")","v":43970},{"$f":"+IF(C968=\"\",\"\",IF(I968=\"\",\"\",(IF(I968<=L968,\"A TIEMPO\",\"FUERA DE TIEMPO\"))))","v":"A TIEMPO"},{"$f":"IF(I968=\"\",\"\",NETWORKDAYS([4]Hoja1!C968+1,[4]Hoja1!P968,DiasNOLaborables))","v":2},"",null,null,20]
[958,20209050033312,43941,"MODULO CONTACTENOS","SOLICITUD DE INFORMACIÓN Y DOCUMENTOS","ADMINISTRATIVA","SI","GRUPO DE ADMINISTRACIÓN Y DESARROLLO DEL TALENTO HUMANO",43951,null,null,{"$f":"IFERROR(WORKDAY(C969,R969,DiasNOLaborables),\"\")","v":43970},{"$f":"+IF(C969=\"\",\"\",IF(I969=\"\",\"\",(IF(I969<=L969,\"A TIEMPO\",\"FUERA DE TIEMPO\"))))","v":"A TIEMPO"},{"$f":"IF(I969=\"\",\"\",NETWORKDAYS([4]Hoja1!C969+1,[4]Hoja1!P969,DiasNOLaborables))","v":-2},"",null,null,20]
[959,20209050033082,43941,"CORREO ELECTRÓNICO","SOLICITUD DE INFORMACIÓN Y DOCUMENTOS","REGISTROS AMBIENTALES","SI","SUBDIRECCIÓN DE ESTUDIOS AMBIENTALES",43951,null,null,{"$f":"IFERROR(WORKDAY(C970,R970,DiasNOLaborables),\"\")","v":43970},{"$f":"+IF(C970=\"\",\"\",IF(I970=\"\",\"\",(IF(I970<=L970,\"A TIEMPO\",\"FUERA DE TIEMPO\"))))","v":"A TIEMPO"},{"$f":"IF(I970=\"\",\"\",NETWORKDAYS([4]Hoja1!C970+1,[4]Hoja1!P970,DiasNOLaborables))","v":1},"",null,null,20]
[960,20209050033092,43941,"CORREO ELECTRÓNICO","SOLICITUD DE INFORMACIÓN Y DOCUMENTOS","REGISTROS AMBIENTALES","SI","SUBDIRECCIÓN DE ESTUDIOS AMBIENTALES",43951,null,null,{"$f":"IFERROR(WORKDAY(C971,R971,DiasNOLaborables),\"\")","v":43970},{"$f":"+IF(C971=\"\",\"\",IF(I971=\"\",\"\",(IF(I971<=L971,\"A TIEMPO\",\"FUERA DE TIEMPO\"))))","v":"A TIEMPO"},{"$f":"IF(I971=\"\",\"\",NETWORKDAYS([4]Hoja1!C971+1,[4]Hoja1!P971,DiasNOLaborables))","v":1},"",null,null,20]
[961,20209050033122,43941,"CORREO ELECTRÓNICO","SOLICITUD DE INFORMACIÓN Y DOCUMENTOS","REGISTROS AMBIENTALES","SI","SUBDIRECCIÓN DE ESTUDIOS AMBIENTALES",43945,null,null,{"$f":"IFERROR(WORKDAY(C972,R972,DiasNOLaborables),\"\")","v":43970},{"$f":"+IF(C972=\"\",\"\",IF(I972=\"\",\"\",(IF(I972<=L972,\"A TIEMPO\",\"FUERA DE TIEMPO\"))))","v":"A TIEMPO"},{"$f":"IF(I972=\"\",\"\",NETWORKDAYS([4]Hoja1!C972+1,[4]Hoja1!P972,DiasNOLaborables))","v":3},"",null,null,20]
[962,20209050033142,43941,"CORREO ELECTRÓNICO","SOLICITUD DE INFORMACIÓN Y DOCUMENTOS","REGISTROS AMBIENTALES","SI","DIRECCIÓN GENERAL",43945,null,null,{"$f":"IFERROR(WORKDAY(C973,R973,DiasNOLaborables),\"\")","v":43970},{"$f":"+IF(C973=\"\",\"\",IF(I973=\"\",\"\",(IF(I973<=L973,\"A TIEMPO\",\"FUERA DE TIEMPO\"))))","v":"A TIEMPO"},{"$f":"IF(I973=\"\",\"\",NETWORKDAYS([4]Hoja1!C973+1,[4]Hoja1!P973,DiasNOLaborables))","v":-2},"",null,null,20]
[963,20209050033172,43941,"CORREO ELECTRÓNICO","SOLICITUD DE INFORMACIÓN Y DOCUMENTOS","REGISTROS AMBIENTALES","SI","OFICINA DE INFORMÁTICA",43955,null,null,{"$f":"IFERROR(WORKDAY(C974,R974,DiasNOLaborables),\"\")","v":43970},{"$f":"+IF(C974=\"\",\"\",IF(I974=\"\",\"\",(IF(I974<=L974,\"A TIEMPO\",\"FUERA DE TIEMPO\"))))","v":"A TIEMPO"},{"$f":"IF(I974=\"\",\"\",NETWORKDAYS([4]Hoja1!C974+1,[4]Hoja1!P974,DiasNOLaborables))","v":-2},"",null,null,20]
[964,20209050033202,43941,"CORREO ELECTRÓNICO","CERTIFICACIONES DE TIEMPO, CLIMA Y EVENTOS HIDROLÓGICOS","CERTIFICACIONES DE TIEMPO Y CLIMA","SI","SUBDIRECCIÓN DE METEOROLOGÍA",43942,null,null,{"$f":"IFERROR(WORKDAY(C975,R975,DiasNOLaborables),\"\")","v":43985},{"$f":"+IF(C975=\"\",\"\",IF(I975=\"\",\"\",(IF(I975<=L975,\"A TIEMPO\",\"FUERA DE TIEMPO\"))))","v":"A TIEMPO"},{"$f":"IF(I975=\"\",\"\",NETWORKDAYS([4]Hoja1!C975+1,[4]Hoja1!P975,DiasNOLaborables))","v":4},"",null,null,30]
[965,20209050033212,43941,"CORREO ELECTRÓNICO","SOLICITUD DE INFORMACIÓN Y DOCUMENTOS","REGISTROS AMBIENTALES","SI","SUBDIRECCIÓN DE ESTUDIOS AMBIENTALES",43946,null,null,{"$f":"IFERROR(WORKDAY(C976,R976,DiasNOLaborables),\"\")","v":43970},{"$f":"+IF(C976=\"\",\"\",IF(I976=\"\",\"\",(IF(I976<=L976,\"A TIEMPO\",\"FUERA DE TIEMPO\"))))","v":"A TIEMPO"},{"$f":"IF(I976=\"\",\"\",NETWORKDAYS([4]Hoja1!C976+1,[4]Hoja1!P976,DiasNOLaborables))","v":7},"",null,null,20]
[966,20209050033232,43941,"CORREO ELECTRÓNICO","SOLICITUD DE INFORMACIÓN Y DOCUMENTOS","SOLICITUD DE INFORMACIÓN Y DOCUMENTOS","SI","OFICINA DE INFORMÁTICA",43942,null,null,{"$f":"IFERROR(WORKDAY(C977,R977,DiasNOLaborables),\"\")","v":43970},{"$f":"+IF(C977=\"\",\"\",IF(I977=\"\",\"\",(IF(I977<=L977,\"A TIEMPO\",\"FUERA DE TIEMPO\"))))","v":"A TIEMPO"},{"$f":"IF(I977=\"\",\"\",NETWORKDAYS([4]Hoja1!C977+1,[4]Hoja1!P977,DiasNOLaborables))","v":3},"",null,null,20]
[967,20209050033292,43941,"CORREO ELECTRÓNICO","SOLICITUD DE INFORMACIÓN Y DOCUMENTOS","ADMINISTRATIVA","SI","GRUPO DE TESORERÍA",43944,null,null,{"$f":"IFERROR(WORKDAY(C978,R978,DiasNOLaborables),\"\")","v":43970},{"$f":"+IF(C978=\"\",\"\",IF(I978=\"\",\"\",(IF(I978<=L978,\"A TIEMPO\",\"FUERA DE TIEMPO\"))))","v":"A TIEMPO"},{"$f":"IF(I978=\"\",\"\",NETWORKDAYS([4]Hoja1!C978+1,[4]Hoja1!P978,DiasNOLaborables))","v":13},"",null,null,20]
[968,20209050033302,43941,"CORREO ELECTRÓNICO","SOLICITUD DE INFORMACIÓN Y DOCUMENTOS","SOLICITUD DE INFORMACIÓN Y DOCUMENTOS","SI","SUBDIRECCIÓN DE METEOROLOGÍA",43956,null,null,{"$f":"IFERROR(WORKDAY(C979,R979,DiasNOLaborables),\"\")","v":43970},{"$f":"+IF(C979=\"\",\"\",IF(I979=\"\",\"\",(IF(I979<=L979,\"A TIEMPO\",\"FUERA DE TIEMPO\"))))","v":"A TIEMPO"},{"$f":"IF(I979=\"\",\"\",NETWORKDAYS([4]Hoja1!C979+1,[4]Hoja1!P979,DiasNOLaborables))","v":11},"",null,null,20]
[969,20209050032982,43941,"CORREO ELECTRÓNICO","SOLICITUD DE INFORMACIÓN Y DOCUMENTOS","SOLICITUD DE INFORMACIÓN HIDROMETEOROLÓGICA","NO","GRUPO DE ATENCIÓN AL CIUDADANO",43944,null,null,{"$f":"IFERROR(WORKDAY(C980,R980,DiasNOLaborables),\"\")","v":43970},{"$f":"+IF(C980=\"\",\"\",IF(I980=\"\",\"\",(IF(I980<=L980,\"A TIEMPO\",\"FUERA DE TIEMPO\"))))","v":"A TIEMPO"},{"$f":"IF(I980=\"\",\"\",NETWORKDAYS([4]Hoja1!C980+1,[4]Hoja1!P980,DiasNOLaborables))","v":4},"",null,null,20]
[970,20209050032992,43941,"CORREO ELECTRÓNICO","SOLICITUD DE INFORMACIÓN Y DOCUMENTOS","SOLICITUD DE INFORMACIÓN HIDROMETEOROLÓGICA","NO","GRUPO DE ATENCIÓN AL CIUDADANO",43944,null,null,{"$f":"IFERROR(WORKDAY(C981,R981,DiasNOLaborables),\"\")","v":43970},{"$f":"+IF(C981=\"\",\"\",IF(I981=\"\",\"\",(IF(I981<=L981,\"A TIEMPO\",\"FUERA DE TIEMPO\"))))","v":"A TIEMPO"},{"$f":"IF(I981=\"\",\"\",NETWORKDAYS([4]Hoja1!C981+1,[4]Hoja1!P981,DiasNOLaborables))","v":2},"",null,null,20]
[971,20209050033002,43941,"CORREO ELECTRÓNICO","SOLICITUD DE INFORMACIÓN Y DOCUMENTOS","SOLICITUD DE INFORMACIÓN HIDROMETEOROLÓGICA","NO","GRUPO DE ATENCIÓN AL CIUDADANO",43944,null,null,{"$f":"IFERROR(WORKDAY(C982,R982,DiasNOLaborables),\"\")","v":43970},{"$f":"+IF(C982=\"\",\"\",IF(I982=\"\",\"\",(IF(I982<=L982,\"A TIEMPO\",\"FUERA DE TIEMPO\"))))","v":"A TIEMPO"},{"$f":"IF(I982=\"\",\"\",NETWORKDAYS([4]Hoja1!C982+1,[4]Hoja1!P982,DiasNOLaborables))","v":9},"",null,null,20]
[972,20209050033012,43941,"CORREO ELECTRÓNICO","SOLICITUD DE INFORMACIÓN Y DOCUMENTOS","SOLICITUD DE INFORMACIÓN HIDROMETEOROLÓGICA","NO","GRUPO DE ATENCIÓN AL CIUDADANO",43944,null,null,{"$f":"IFERROR(WORKDAY(C983,R983,DiasNOLaborables),\"\")","v":43970},{"$f":"+IF(C983=\"\",\"\",IF(I983=\"\",\"\",(IF(I983<=L983,\"A TIEMPO\",\"FUERA DE TIEMPO\"))))","v":"A TIEMPO"},{"$f":"IF(I983=\"\",\"\",NETWORKDAYS([4]Hoja1!C983+1,[4]Hoja1!P983,DiasNOLaborables))","v":6},"",null,null,20]
[973,20209050033022,43941,"CORREO ELECTRÓNICO","SOLICITUD DE INFORMACIÓN Y DOCUMENTOS","SOLICITUD DE INFORMACIÓN HIDROMETEOROLÓGICA","NO","GRUPO DE ATENCIÓN AL CIUDADANO",43944,null,null,{"$f":"IFERROR(WORKDAY(C984,R984,DiasNOLaborables),\"\")","v":43970},{"$f":"+IF(C984=\"\",\"\",IF(I984=\"\",\"\",(IF(I984<=L984,\"A TIEMPO\",\"FUERA DE TIEMPO\"))))","v":"A TIEMPO"},{"$f":"IF(I984=\"\",\"\",NETWORKDAYS([4]Hoja1!C984+1,[4]Hoja1!P984,DiasNOLaborables))","v":4},"",null,null,20]
[974,20209050033042,43941,"CORREO ELECTRÓNICO","SOLICITUD DE INFORMACIÓN Y DOCUMENTOS","SOLICITUD DE INFORMACIÓN HIDROMETEOROLÓGICA","NO","GRUPO DE ATENCIÓN AL CIUDADANO",43944,null,null,{"$f":"IFERROR(WORKDAY(C985,R985,DiasNOLaborables),\"\")","v":43970},{"$f":"+IF(C985=\"\",\"\",IF(I985=\"\",\"\",(IF(I985<=L985,\"A TIEMPO\",\"FUERA DE TIEMPO\"))))","v":"A TIEMPO"},{"$f":"IF(I985=\"\",\"\",NETWORKDAYS([4]Hoja1!C985+1,[4]Hoja1!P985,DiasNOLaborables))","v":4},"",null,null,20]
[975,20209050033072,43941,"CORREO ELECTRÓNICO","SOLICITUD DE INFORMACIÓN Y DOCUMENTOS","SOLICITUD DE INFORMACIÓN HIDROMETEOROLÓGICA","NO","GRUPO DE ATENCIÓN AL CIUDADANO",43944,null,null,{"$f":"IFERROR(WORKDAY(C986,R986,DiasNOLaborables),\"\")","v":43970},{"$f":"+IF(C986=\"\",\"\",IF(I986=\"\",\"\",(IF(I986<=L986,\"A TIEMPO\",\"FUERA DE TIEMPO\"))))","v":"A TIEMPO"},{"$f":"IF(I986=\"\",\"\",NETWORKDAYS([4]Hoja1!C986+1,[4]Hoja1!P986,DiasNOLaborables))","v":4},"",null,null,20]
[976,20209050033102,43941,"CORREO ELECTRÓNICO","SOLICITUD DE INFORMACIÓN Y DOCUMENTOS","SOLICITUD DE INFORMACIÓN HIDROMETEOROLÓGICA","NO","GRUPO DE ATENCIÓN AL CIUDADANO",43944,null,null,{"$f":"IFERROR(WORKDAY(C987,R987,DiasNOLaborables),\"\")","v":43970},{"$f":"+IF(C987=\"\",\"\",IF(I987=\"\",\"\",(IF(I987<=L987,\"A TIEMPO\",\"FUERA DE TIEMPO\"))))","v":"A TIEMPO"},{"$f":"IF(I987=\"\",\"\",NETWORKDAYS([4]Hoja1!C987+1,[4]Hoja1!P987,DiasNOLaborables))","v":10},{"$f":"IF(NETWORKDAYS(L987+1,I987,DiasNOLaborables)<=0,\"\",NETWORKDAYS(L987+1,I987,DiasNOLaborables))","v":""},null,null,20]
[977,20209050033132,43941,"CORREO ELECTRÓNICO","SOLICITUD DE INFORMACIÓN Y DOCUMENTOS","SOLICITUD DE INFORMACIÓN HIDROMETEOROLÓGICA","NO","GRUPO DE ATENCIÓN AL CIUDADANO",43944,null,null,{"$f":"IFERROR(WORKDAY(C988,R988,DiasNOLaborables),\"\")","v":43970},{"$f":"+IF(C988=\"\",\"\",IF(I988=\"\",\"\",(IF(I988<=L988,\"A TIEMPO\",\"FUERA DE TIEMPO\"))))","v":"A TIEMPO"},{"$f":"IF(I988=\"\",\"\",NETWORKDAYS([4]Hoja1!C988+1,[4]Hoja1!P988,DiasNOLaborables))","v":4},"",null,null,20]
[978,20209050033152,43941,"CORREO ELECTRÓNICO","SOLICITUD DE INFORMACIÓN Y DOCUMENTOS","SOLICITUD DE INFORMACIÓN HIDROMETEOROLÓGICA","NO","GRUPO DE ATENCIÓN AL CIUDADANO",43944,null,null,{"$f":"IFERROR(WORKDAY(C989,R989,DiasNOLaborables),\"\")","v":43970},{"$f":"+IF(C989=\"\",\"\",IF(I989=\"\",\"\",(IF(I989<=L989,\"A TIEMPO\",\"FUERA DE TIEMPO\"))))","v":"A TIEMPO"},{"$f":"IF(I989=\"\",\"\",NETWORKDAYS([4]Hoja1!C989+1,[4]Hoja1!P989,DiasNOLaborables))","v":4},"",null,null,20]
[979,20209050033162,43941,"CORREO ELECTRÓNICO","SOLICITUD DE INFORMACIÓN Y DOCUMENTOS","SOLICITUD DE INFORMACIÓN HIDROMETEOROLÓGICA","NO","GRUPO DE ATENCIÓN AL CIUDADANO",43944,null,null,{"$f":"IFERROR(WORKDAY(C990,R990,DiasNOLaborables),\"\")","v":43970},{"$f":"+IF(C990=\"\",\"\",IF(I990=\"\",\"\",(IF(I990<=L990,\"A TIEMPO\",\"FUERA DE TIEMPO\"))))","v":"A TIEMPO"},{"$f":"IF(I990=\"\",\"\",NETWORKDAYS([4]Hoja1!C990+1,[4]Hoja1!P990,DiasNOLaborables))","v":6},"",null,null,20]
[980,20207090000902,43941,"CORREO ELECTRÓNICO","SOLICITUD DE INFORMACIÓN Y DOCUMENTOS","SOLICITUD DE INFORMACIÓN HIDROMETEOROLÓGICA","NO","GRUPO DE ATENCIÓN AL CIUDADANO",43946,null,null,{"$f":"IFERROR(WORKDAY(C991,R991,DiasNOLaborables),\"\")","v":43970},{"$f":"+IF(C991=\"\",\"\",IF(I991=\"\",\"\",(IF(I991<=L991,\"A TIEMPO\",\"FUERA DE TIEMPO\"))))","v":"A TIEMPO"},{"$f":"IF(I991=\"\",\"\",NETWORKDAYS([4]Hoja1!C991+1,[4]Hoja1!P991,DiasNOLaborables))","v":4},"",null,null,20]
[981,20209050033322,43941,"CORREO ELECTRÓNICO","SOLICITUD DE INFORMACIÓN Y DOCUMENTOS","SOLICITUD DE INFORMACIÓN HIDROMETEOROLÓGICA","NO","GRUPO DE ATENCIÓN AL CIUDADANO",43946,null,null,{"$f":"IFERROR(WORKDAY(C992,R992,DiasNOLaborables),\"\")","v":43970},{"$f":"+IF(C992=\"\",\"\",IF(I992=\"\",\"\",(IF(I992<=L992,\"A TIEMPO\",\"FUERA DE TIEMPO\"))))","v":"A TIEMPO"},{"$f":"IF(I992=\"\",\"\",NETWORKDAYS([4]Hoja1!C992+1,[4]Hoja1!P992,DiasNOLaborables))","v":4},"",null,null,20]
[982,20209050033332,43941,"CORREO ELECTRÓNICO","SOLICITUD DE INFORMACIÓN Y DOCUMENTOS","SOLICITUD DE INFORMACIÓN HIDROMETEOROLÓGICA","NO","GRUPO DE ATENCIÓN AL CIUDADANO",43946,null,null,{"$f":"IFERROR(WORKDAY(C993,R993,DiasNOLaborables),\"\")","v":43970},{"$f":"+IF(C993=\"\",\"\",IF(I993=\"\",\"\",(IF(I993<=L993,\"A TIEMPO\",\"FUERA DE TIEMPO\"))))","v":"A TIEMPO"},{"$f":"IF(I993=\"\",\"\",NETWORKDAYS([4]Hoja1!C993+1,[4]Hoja1!P993,DiasNOLaborables))","v":9},"",null,null,20]
[983,20209050033362,43941,"CORREO ELECTRÓNICO","SOLICITUD DE INFORMACIÓN Y DOCUMENTOS","SOLICITUD DE INFORMACIÓN HIDROMETEOROLÓGICA","NO","GRUPO DE ATENCIÓN AL CIUDADANO",43946,null,null,{"$f":"IFERROR(WORKDAY(C994,R994,DiasNOLaborables),\"\")","v":43970},{"$f":"+IF(C994=\"\",\"\",IF(I994=\"\",\"\",(IF(I994<=L994,\"A TIEMPO\",\"FUERA DE TIEMPO\"))))","v":"A TIEMPO"},{"$f":"IF(I994=\"\",\"\",NETWORKDAYS([4]Hoja1!C994+1,[4]Hoja1!P994,DiasNOLaborables))","v":9},"",null,null,20]
[984,20209050033372,43941,"CORREO ELECTRÓNICO","SOLICITUD DE INFORMACIÓN Y DOCUMENTOS","SOLICITUD DE INFORMACIÓN HIDROMETEOROLÓGICA","NO","GRUPO DE ATENCIÓN AL CIUDADANO",43946,null,null,{"$f":"IFERROR(WORKDAY(C995,R995,DiasNOLaborables),\"\")","v":43970},{"$f":"+IF(C995=\"\",\"\",IF(I995=\"\",\"\",(IF(I995<=L995,\"A TIEMPO\",\"FUERA DE TIEMPO\"))))","v":"A TIEMPO"},{"$f":"IF(I995=\"\",\"\",NETWORKDAYS([4]Hoja1!C995+1,[4]Hoja1!P995,DiasNOLaborables))","v":10},"",null,null,20]
[985,20209050033382,43941,"CORREO ELECTRÓNICO","SOLICITUD DE INFORMACIÓN Y DOCUMENTOS","SOLICITUD DE INFORMACIÓN HIDROMETEOROLÓGICA","NO","GRUPO DE ATENCIÓN AL CIUDADANO",43946,null,null,{"$f":"IFERROR(WORKDAY(C996,R996,DiasNOLaborables),\"\")","v":43970},{"$f":"+IF(C996=\"\",\"\",IF(I996=\"\",\"\",(IF(I996<=L996,\"A TIEMPO\",\"FUERA DE TIEMPO\"))))","v":"A TIEMPO"},{"$f":"IF(I996=\"\",\"\",NETWORKDAYS([4]Hoja1!C996+1,[4]Hoja1!P996,DiasNOLaborables))","v":10},"",null,null,20]
[986,20209050033392,43941,"CORREO ELECTRÓNICO","SOLICITUD DE INFORMACIÓN Y DOCUMENTOS","SOLICITUD DE INFORMACIÓN HIDROMETEOROLÓGICA","NO","GRUPO DE ATENCIÓN AL CIUDADANO",43946,null,null,{"$f":"IFERROR(WORKDAY(C997,R997,DiasNOLaborables),\"\")","v":43970},{"$f":"+IF(C997=\"\",\"\",IF(I997=\"\",\"\",(IF(I997<=L997,\"A TIEMPO\",\"FUERA DE TIEMPO\"))))","v":"A TIEMPO"},{"$f":"IF(I997=\"\",\"\",NETWORKDAYS([4]Hoja1!C997+1,[4]Hoja1!P997,DiasNOLaborables))","v":-2},"",null,null,20]
[987,20209050033412,43941,"CORREO ELECTRÓNICO","SOLICITUD DE INFORMACIÓN Y DOCUMENTOS","SOLICITUD DE INFORMACIÓN HIDROMETEOROLÓGICA","NO","GRUPO DE ATENCIÓN AL CIUDADANO",43946,null,null,{"$f":"IFERROR(WORKDAY(C998,R998,DiasNOLaborables),\"\")","v":43970},{"$f":"+IF(C998=\"\",\"\",IF(I998=\"\",\"\",(IF(I998<=L998,\"A TIEMPO\",\"FUERA DE TIEMPO\"))))","v":"A TIEMPO"},{"$f":"IF(I998=\"\",\"\",NETWORKDAYS([4]Hoja1!C998+1,[4]Hoja1!P998,DiasNOLaborables))","v":1},"",null,null,20]
[988,20209050033572,43942,"CORREO ELECTRÓNICO","SOLICITUD DE INFORMACIÓN Y DOCUMENTOS","SOLICITUD DE INFORMACIÓN HIDROMETEOROLÓGICA","NO","GRUPO DE ATENCIÓN AL CIUDADANO",43946,null,null,{"$f":"IFERROR(WORKDAY(C999,R999,DiasNOLaborables),\"\")","v":43971},{"$f":"+IF(C999=\"\",\"\",IF(I999=\"\",\"\",(IF(I999<=L999,\"A TIEMPO\",\"FUERA DE TIEMPO\"))))","v":"A TIEMPO"},{"$f":"IF(I999=\"\",\"\",NETWORKDAYS([4]Hoja1!C999+1,[4]Hoja1!P999,DiasNOLaborables))","v":4},"",null,null,20]
[989,20209050033582,43942,"CORREO ELECTRÓNICO","SOLICITUD DE INFORMACIÓN Y DOCUMENTOS","SOLICITUD DE INFORMACIÓN HIDROMETEOROLÓGICA","NO","GRUPO DE ATENCIÓN AL CIUDADANO",43946,null,null,{"$f":"IFERROR(WORKDAY(C1000,R1000,DiasNOLaborables),\"\")","v":43971},{"$f":"+IF(C1000=\"\",\"\",IF(I1000=\"\",\"\",(IF(I1000<=L1000,\"A TIEMPO\",\"FUERA DE TIEMPO\"))))","v":"A TIEMPO"},{"$f":"IF(I1000=\"\",\"\",NETWORKDAYS([4]Hoja1!C1000+1,[4]Hoja1!P1000,DiasNOLaborables))","v":1},"",null,null,20]
[990,20209050033342,43942,"CORREO ELECTRÓNICO","SOLICITUD DE INFORMACIÓN Y DOCUMENTOS","ADMINISTRATIVA","SI","GRUPO DE TESORERÍA",43944,null,null,{"$f":"IFERROR(WORKDAY(C1001,R1001,DiasNOLaborables),\"\")","v":43971},{"$f":"+IF(C1001=\"\",\"\",IF(I1001=\"\",\"\",(IF(I1001<=L1001,\"A TIEMPO\",\"FUERA DE TIEMPO\"))))","v":"A TIEMPO"},{"$f":"IF(I1001=\"\",\"\",NETWORKDAYS([4]Hoja1!C1001+1,[4]Hoja1!P1001,DiasNOLaborables))","v":8},"",null,null,20]
[991,20209050033352,43942,"CORREO ELECTRÓNICO","SOLICITUD DE INFORMACIÓN Y DOCUMENTOS","REGISTROS AMBIENTALES","SI","SUBDIRECCIÓN DE ESTUDIOS AMBIENTALES",43943,null,null,{"$f":"IFERROR(WORKDAY(C1002,R1002,DiasNOLaborables),\"\")","v":43971},{"$f":"+IF(C1002=\"\",\"\",IF(I1002=\"\",\"\",(IF(I1002<=L1002,\"A TIEMPO\",\"FUERA DE TIEMPO\"))))","v":"A TIEMPO"},{"$f":"IF(I1002=\"\",\"\",NETWORKDAYS([4]Hoja1!C1002+1,[4]Hoja1!P1002,DiasNOLaborables))","v":11},"",null,null,20]
[992,20209050033422,43942,"CORREO ELECTRÓNICO","SOLICITUD DE INFORMACIÓN Y DOCUMENTOS","REGISTROS AMBIENTALES","SI","SUBDIRECCIÓN DE ESTUDIOS AMBIENTALES",43942,null,null,{"$f":"IFERROR(WORKDAY(C1003,R1003,DiasNOLaborables),\"\")","v":43971},{"$f":"+IF(C1003=\"\",\"\",IF(I1003=\"\",\"\",(IF(I1003<=L1003,\"A TIEMPO\",\"FUERA DE TIEMPO\"))))","v":"A TIEMPO"},{"$f":"IF(I1003=\"\",\"\",NETWORKDAYS([4]Hoja1!C1003+1,[4]Hoja1!P1003,DiasNOLaborables))","v":2},"",null,null,20]
[993,20209050033432,43942,"CORREO ELECTRÓNICO","SOLICITUD DE INFORMACIÓN Y DOCUMENTOS","SOLICITUD DE INFORMACIÓN Y DOCUMENTOS","SI","SUBDIRECCIÓN DE ECOSISTEMAS E INFORMACIÓN AMBIENTAL",43950,null,null,{"$f":"IFERROR(WORKDAY(C1004,R1004,DiasNOLaborables),\"\")","v":43971},{"$f":"+IF(C1004=\"\",\"\",IF(I1004=\"\",\"\",(IF(I1004<=L1004,\"A TIEMPO\",\"FUERA DE TIEMPO\"))))","v":"A TIEMPO"},{"$f":"IF(I1004=\"\",\"\",NETWORKDAYS([4]Hoja1!C1004+1,[4]Hoja1!P1004,DiasNOLaborables))","v":2},"",null,null,20]
[994,20209050033532,43942,"CORREO ELECTRÓNICO","SOLICITUD DE INFORMACIÓN Y DOCUMENTOS","SOLICITUD DE INFORMACIÓN Y DOCUMENTOS","SI","SUBDIRECCIÓN DE METEOROLOGÍA",43943,null,null,{"$f":"IFERROR(WORKDAY(C1005,R1005,DiasNOLaborables),\"\")","v":43971},{"$f":"+IF(C1005=\"\",\"\",IF(I1005=\"\",\"\",(IF(I1005<=L1005,\"A TIEMPO\",\"FUERA DE TIEMPO\"))))","v":"A TIEMPO"},{"$f":"IF(I1005=\"\",\"\",NETWORKDAYS([4]Hoja1!C1005+1,[4]Hoja1!P1005,DiasNOLaborables))","v":5},"",null,null,20]
[995,20209050033542,43942,"CORREO ELECTRÓNICO","SOLICITUD DE INFORMACIÓN Y DOCUMENTOS","SOLICITUD DE INFORMACIÓN Y DOCUMENTOS","SI","SUBDIRECCIÓN DE ESTUDIOS AMBIENTALES",43951,null,null,{"$f":"IFERROR(WORKDAY(C1006,R1006,DiasNOLaborables),\"\")","v":43971},{"$f":"+IF(C1006=\"\",\"\",IF(I1006=\"\",\"\",(IF(I1006<=L1006,\"A TIEMPO\",\"FUERA DE TIEMPO\"))))","v":"A TIEMPO"},{"$f":"IF(I1006=\"\",\"\",NETWORKDAYS([4]Hoja1!C1006+1,[4]Hoja1!P1006,DiasNOLaborables))","v":5},"",null,null,20]
[996,20209050033552,43942,"CORREO ELECTRÓNICO","PETICIÓN","SOLICITUD DE INFORMACIÓN Y DOCUMENTOS","SI","SUBDIRECCIÓN DE ECOSISTEMAS E INFORMACIÓN AMBIENTAL",43978,null,null,{"$f":"IFERROR(WORKDAY(C1007,R1007,DiasNOLaborables),\"\")","v":43986},{"$f":"+IF(C1007=\"\",\"\",IF(I1007=\"\",\"\",(IF(I1007<=L1007,\"A TIEMPO\",\"FUERA DE TIEMPO\"))))","v":"A TIEMPO"},{"$f":"IF(I1007=\"\",\"\",NETWORKDAYS([4]Hoja1!C1007+1,[4]Hoja1!P1007,DiasNOLaborables))","v":5},"",null,null,30]
[997,20209050033562,43942,"MODULO CONTACTENOS","SOLICITUD DE INFORMACIÓN Y DOCUMENTOS","REGISTROS AMBIENTALES","SI","SUBDIRECCIÓN DE ESTUDIOS AMBIENTALES",43946,null,null,{"$f":"IFERROR(WORKDAY(C1008,R1008,DiasNOLaborables),\"\")","v":43971},{"$f":"+IF(C1008=\"\",\"\",IF(I1008=\"\",\"\",(IF(I1008<=L1008,\"A TIEMPO\",\"FUERA DE TIEMPO\"))))","v":"A TIEMPO"},{"$f":"IF(I1008=\"\",\"\",NETWORKDAYS([4]Hoja1!C1008+1,[4]Hoja1!P1008,DiasNOLaborables))","v":5},"",null,null,20]
[998,20209050033802,43943,"MODULO CONTACTENOS","SOLICITUD DE INFORMACIÓN Y DOCUMENTOS","ADMINISTRATIVA","SI","GRUPO DE TESORERÍA",43944,null,null,{"$f":"IFERROR(WORKDAY(C1009,R1009,DiasNOLaborables),\"\")","v":43972},{"$f":"+IF(C1009=\"\",\"\",IF(I1009=\"\",\"\",(IF(I1009<=L1009,\"A TIEMPO\",\"FUERA DE TIEMPO\"))))","v":"A TIEMPO"},{"$f":"IF(I1009=\"\",\"\",NETWORKDAYS([4]Hoja1!C1009+1,[4]Hoja1!P1009,DiasNOLaborables))","v":4},"",null,null,20]
[{"$f":"IF(B1008<>\"\",A1009+1,\"\")","v":999},20209050033902,43943,"MODULO CONTACTENOS","SOLICITUD DE INFORMACIÓN Y DOCUMENTOS","WEB Y CORREO","SI","OFICINA DE INFORMÁTICA",43945,null,null,{"$f":"IFERROR(WORKDAY(C1010,R1010,DiasNOLaborables),\"\")","v":43972},{"$f":"+IF(C1010=\"\",\"\",IF(I1010=\"\",\"\",(IF(I1010<=L1010,\"A TIEMPO\",\"FUERA DE TIEMPO\"))))","v":"A TIEMPO"},{"$f":"IF(I1010=\"\",\"\",NETWORKDAYS([4]Hoja1!C1010+1,[4]Hoja1!P1010,DiasNOLaborables))","v":-2},"",null,null,20]
[1000,20209050033992,43943,"MODULO CONTACTENOS","CERTIFICACIONES DE TIEMPO, CLIMA Y EVENTOS HIDROLÓGICOS","CERTIFICACIONES DE TIEMPO Y CLIMA","SI","SUBDIRECCIÓN DE METEOROLOGÍA",43959,null,null,{"$f":"IFERROR(WORKDAY(C1011,R1011,DiasNOLaborables),\"\")","v":43987},{"$f":"+IF(C1011=\"\",\"\",IF(I1011=\"\",\"\",(IF(I1011<=L1011,\"A TIEMPO\",\"FUERA DE TIEMPO\"))))","v":"A TIEMPO"},{"$f":"IF(I1011=\"\",\"\",NETWORKDAYS([4]Hoja1!C1011+1,[4]Hoja1!P1011,DiasNOLaborables))","v":2},"",null,null,30]
[1001,20209050033622,43943,"CORREO ELECTRÓNICO","SOLICITUD DE INFORMACIÓN Y DOCUMENTOS","REGISTROS AMBIENTALES","SI","SUBDIRECCIÓN DE ESTUDIOS AMBIENTALES",43943,null,null,{"$f":"IFERROR(WORKDAY(C1012,R1012,DiasNOLaborables),\"\")","v":43972},{"$f":"+IF(C1012=\"\",\"\",IF(I1012=\"\",\"\",(IF(I1012<=L1012,\"A TIEMPO\",\"FUERA DE TIEMPO\"))))","v":"A TIEMPO"},{"$f":"IF(I1012=\"\",\"\",NETWORKDAYS([4]Hoja1!C1012+1,[4]Hoja1!P1012,DiasNOLaborables))","v":4},"",null,null,20]
[1002,20209050033632,43943,"CORREO ELECTRÓNICO","SOLICITUD DE INFORMACIÓN Y DOCUMENTOS","REGISTROS AMBIENTALES","SI","SUBDIRECCIÓN DE ESTUDIOS AMBIENTALES",43943,null,null,{"$f":"IFERROR(WORKDAY(C1013,R1013,DiasNOLaborables),\"\")","v":43972},{"$f":"+IF(C1013=\"\",\"\",IF(I1013=\"\",\"\",(IF(I1013<=L1013,\"A TIEMPO\",\"FUERA DE TIEMPO\"))))","v":"A TIEMPO"},{"$f":"IF(I1013=\"\",\"\",NETWORKDAYS([4]Hoja1!C1013+1,[4]Hoja1!P1013,DiasNOLaborables))","v":1},"",null,null,20]
[1003,20209050033642,43943,"CORREO ELECTRÓNICO","SOLICITUD DE INFORMACIÓN Y DOCUMENTOS","ADMINISTRATIVA","SI","GRUPO DE TESORERÍA",43944,null,null,{"$f":"IFERROR(WORKDAY(C1014,R1014,DiasNOLaborables),\"\")","v":43972},{"$f":"+IF(C1014=\"\",\"\",IF(I1014=\"\",\"\",(IF(I1014<=L1014,\"A TIEMPO\",\"FUERA DE TIEMPO\"))))","v":"A TIEMPO"},{"$f":"IF(I1014=\"\",\"\",NETWORKDAYS([4]Hoja1!C1014+1,[4]Hoja1!P1014,DiasNOLaborables))","v":-2},"",null,null,20]
[1004,20209050033662,43943,"CORREO ELECTRÓNICO","SOLICITUD DE INFORMACIÓN Y DOCUMENTOS","SOLICITUD DE INFORMACIÓN Y DOCUMENTOS","SI","SUBDIRECCIÓN DE ECOSISTEMAS E INFORMACIÓN AMBIENTAL",43945,null,null,{"$f":"IFERROR(WORKDAY(C1015,R1015,DiasNOLaborables),\"\")","v":43972},{"$f":"+IF(C1015=\"\",\"\",IF(I1015=\"\",\"\",(IF(I1015<=L1015,\"A TIEMPO\",\"FUERA DE TIEMPO\"))))","v":"A TIEMPO"},{"$f":"IF(I1015=\"\",\"\",NETWORKDAYS([4]Hoja1!C1015+1,[4]Hoja1!P1015,DiasNOLaborables))","v":3},"",null,null,20]
[1005,20209050033672,43943,"CORREO ELECTRÓNICO","SOLICITUD DE INFORMACIÓN Y DOCUMENTOS","SOLICITUD DE INFORMACIÓN Y DOCUMENTOS","SI","OFICINA DE INFORMÁTICA",43944,null,null,{"$f":"IFERROR(WORKDAY(C1016,R1016,DiasNOLaborables),\"\")","v":43972},{"$f":"+IF(C1016=\"\",\"\",IF(I1016=\"\",\"\",(IF(I1016<=L1016,\"A TIEMPO\",\"FUERA DE TIEMPO\"))))","v":"A TIEMPO"},{"$f":"IF(I1016=\"\",\"\",NETWORKDAYS([4]Hoja1!C1016+1,[4]Hoja1!P1016,DiasNOLaborables))","v":1},"",null,null,20]
[1006,20209050033682,43943,"CORREO ELECTRÓNICO","PETICIÓN","SOLICITUD DE INFORMACIÓN Y DOCUMENTOS","SI","OFICINA ASESORA JURÍDICA",43986,null,null,{"$f":"IFERROR(WORKDAY(C1017,R1017,DiasNOLaborables),\"\")","v":43987},{"$f":"+IF(C1017=\"\",\"\",IF(I1017=\"\",\"\",(IF(I1017<=L1017,\"A TIEMPO\",\"FUERA DE TIEMPO\"))))","v":"A TIEMPO"},{"$f":"IF(I1017=\"\",\"\",NETWORKDAYS([4]Hoja1!C1017+1,[4]Hoja1!P1017,DiasNOLaborables))","v":5},"",null,null,30]
[1007,20209050033782,43943,"CORREO ELECTRÓNICO","SOLICITUD DE INFORMACIÓN Y DOCUMENTOS","SOLICITUD DE INFORMACIÓN Y DOCUMENTOS","SI","SUBDIRECCIÓN DE HIDROLOGÍA",43957,null,null,{"$f":"IFERROR(WORKDAY(C1018,R1018,DiasNOLaborables),\"\")","v":43972},{"$f":"+IF(C1018=\"\",\"\",IF(I1018=\"\",\"\",(IF(I1018<=L1018,\"A TIEMPO\",\"FUERA DE TIEMPO\"))))","v":"A TIEMPO"},{"$f":"IF(I1018=\"\",\"\",NETWORKDAYS([4]Hoja1!C1018+1,[4]Hoja1!P1018,DiasNOLaborables))","v":5},"",null,null,20]
[1008,20209050033822,43943,"CORREO ELECTRÓNICO","CERTIFICACIONES DE TIEMPO, CLIMA Y EVENTOS HIDROLÓGICOS","CERTIFICACIONES DE TIEMPO Y CLIMA","SI","SUBDIRECCIÓN DE METEOROLOGÍA",43949,null,null,{"$f":"IFERROR(WORKDAY(C1019,R1019,DiasNOLaborables),\"\")","v":43987},{"$f":"+IF(C1019=\"\",\"\",IF(I1019=\"\",\"\",(IF(I1019<=L1019,\"A TIEMPO\",\"FUERA DE TIEMPO\"))))","v":"A TIEMPO"},{"$f":"IF(I1019=\"\",\"\",NETWORKDAYS([4]Hoja1!C1019+1,[4]Hoja1!P1019,DiasNOLaborables))","v":5},"",null,null,30]
[1009,20209050033842,43943,"CORREO ELECTRÓNICO","CERTIFICACIONES DE TIEMPO, CLIMA Y EVENTOS HIDROLÓGICOS","CERTIFICACIONES DE TIEMPO Y CLIMA","SI","SUBDIRECCIÓN DE METEOROLOGÍA",43966,null,null,{"$f":"IFERROR(WORKDAY(C1020,R1020,DiasNOLaborables),\"\")","v":43987},{"$f":"+IF(C1020=\"\",\"\",IF(I1020=\"\",\"\",(IF(I1020<=L1020,\"A TIEMPO\",\"FUERA DE TIEMPO\"))))","v":"A TIEMPO"},{"$f":"IF(I1020=\"\",\"\",NETWORKDAYS([4]Hoja1!C1020+1,[4]Hoja1!P1020,DiasNOLaborables))","v":5},"",null,null,30]
[1010,20209050033892,43943,"CORREO ELECTRÓNICO","SOLICITUD DE INFORMACIÓN Y DOCUMENTOS","REGISTROS AMBIENTALES","SI","SUBDIRECCIÓN DE ESTUDIOS AMBIENTALES",43951,null,null,{"$f":"IFERROR(WORKDAY(C1021,R1021,DiasNOLaborables),\"\")","v":43972},{"$f":"+IF(C1021=\"\",\"\",IF(I1021=\"\",\"\",(IF(I1021<=L1021,\"A TIEMPO\",\"FUERA DE TIEMPO\"))))","v":"A TIEMPO"},{"$f":"IF(I1021=\"\",\"\",NETWORKDAYS([4]Hoja1!C1021+1,[4]Hoja1!P1021,DiasNOLaborables))","v":6},"",null,null,20]
[1011,20209050033912,43943,"CORREO ELECTRÓNICO","SOLICITUD DE INFORMACIÓN Y DOCUMENTOS","REGISTROS AMBIENTALES","SI","SUBDIRECCIÓN DE ESTUDIOS AMBIENTALES",43943,null,null,{"$f":"IFERROR(WORKDAY(C1022,R1022,DiasNOLaborables),\"\")","v":43972},{"$f":"+IF(C1022=\"\",\"\",IF(I1022=\"\",\"\",(IF(I1022<=L1022,\"A TIEMPO\",\"FUERA DE TIEMPO\"))))","v":"A TIEMPO"},{"$f":"IF(I1022=\"\",\"\",NETWORKDAYS([4]Hoja1!C1022+1,[4]Hoja1!P1022,DiasNOLaborables))","v":6},"",null,null,20]
[1012,20209050033922,43943,"CORREO ELECTRÓNICO","SOLICITUD DE INFORMACIÓN Y DOCUMENTOS","SOLICITUD DE INFORMACIÓN Y DOCUMENTOS","SI","SUBDIRECCIÓN DE HIDROLOGÍA",43948,null,null,{"$f":"IFERROR(WORKDAY(C1023,R1023,DiasNOLaborables),\"\")","v":43972},{"$f":"+IF(C1023=\"\",\"\",IF(I1023=\"\",\"\",(IF(I1023<=L1023,\"A TIEMPO\",\"FUERA DE TIEMPO\"))))","v":"A TIEMPO"},{"$f":"IF(I1023=\"\",\"\",NETWORKDAYS([4]Hoja1!C1023+1,[4]Hoja1!P1023,DiasNOLaborables))","v":5},"",null,null,20]
[1013,20209050033932,43943,"CORREO ELECTRÓNICO","CERTIFICACIONES DE TIEMPO, CLIMA Y EVENTOS HIDROLÓGICOS","CERTIFICACIONES DE TIEMPO Y CLIMA","SI","SUBDIRECCIÓN DE METEOROLOGÍA",43951,null,null,{"$f":"IFERROR(WORKDAY(C1024,R1024,DiasNOLaborables),\"\")","v":43987},{"$f":"+IF(C1024=\"\",\"\",IF(I1024=\"\",\"\",(IF(I1024<=L1024,\"A TIEMPO\",\"FUERA DE TIEMPO\"))))","v":"A TIEMPO"},{"$f":"IF(I1024=\"\",\"\",NETWORKDAYS([4]Hoja1!C1024+1,[4]Hoja1!P1024,DiasNOLaborables))","v":5},"",null,null,30]
[1014,20209050033942,43943,"CORREO ELECTRÓNICO","SOLICITUD DE INFORMACIÓN Y DOCUMENTOS","SOLICITUD DE INFORMACIÓN Y DOCUMENTOS","SI","SUBDIRECCIÓN DE ESTUDIOS AMBIENTALES",43957,null,null,{"$f":"IFERROR(WORKDAY(C1025,R1025,DiasNOLaborables),\"\")","v":43972},{"$f":"+IF(C1025=\"\",\"\",IF(I1025=\"\",\"\",(IF(I1025<=L1025,\"A TIEMPO\",\"FUERA DE TIEMPO\"))))","v":"A TIEMPO"},{"$f":"IF(I1025=\"\",\"\",NETWORKDAYS([4]Hoja1!C1025+1,[4]Hoja1!P1025,DiasNOLaborables))","v":2},"",null,null,20]
[1015,20209050033952,43943,"CORREO ELECTRÓNICO","SOLICITUD DE INFORMACIÓN Y DOCUMENTOS","SOLICITUD DE INFORMACIÓN Y DOCUMENTOS","SI","SUBDIRECCIÓN DE ECOSISTEMAS E INFORMACIÓN AMBIENTAL",43944,null,null,{"$f":"IFERROR(WORKDAY(C1026,R1026,DiasNOLaborables),\"\")","v":43972},{"$f":"+IF(C1026=\"\",\"\",IF(I1026=\"\",\"\",(IF(I1026<=L1026,\"A TIEMPO\",\"FUERA DE TIEMPO\"))))","v":"A TIEMPO"},{"$f":"IF(I1026=\"\",\"\",NETWORKDAYS([4]Hoja1!C1026+1,[4]Hoja1!P1026,DiasNOLaborables))","v":16},"",null,null,20]
[1016,20209050033972,43943,"CORREO ELECTRÓNICO","SOLICITUD DE INFORMACIÓN Y DOCUMENTOS","SOLICITUD DE INFORMACIÓN Y DOCUMENTOS","SI","SUBDIRECCIÓN DE ECOSISTEMAS E INFORMACIÓN AMBIENTAL",43955,null,null,{"$f":"IFERROR(WORKDAY(C1027,R1027,DiasNOLaborables),\"\")","v":43972},{"$f":"+IF(C1027=\"\",\"\",IF(I1027=\"\",\"\",(IF(I1027<=L1027,\"A TIEMPO\",\"FUERA DE TIEMPO\"))))","v":"A TIEMPO"},{"$f":"IF(I1027=\"\",\"\",NETWORKDAYS([4]Hoja1!C1027+1,[4]Hoja1!P1027,DiasNOLaborables))","v":5},"",null,null,20]
[1017,20209050034022,43943,"CORREO ELECTRÓNICO","SOLICITUD DE INFORMACIÓN Y DOCUMENTOS","SOLICITUD DE INFORMACIÓN Y DOCUMENTOS","NO","SUBDIRECCIÓN DE ESTUDIOS AMBIENTALES",43943,null,null,{"$f":"IFERROR(WORKDAY(C1028,R1028,DiasNOLaborables),\"\")","v":43972},{"$f":"+IF(C1028=\"\",\"\",IF(I1028=\"\",\"\",(IF(I1028<=L1028,\"A TIEMPO\",\"FUERA DE TIEMPO\"))))","v":"A TIEMPO"},{"$f":"IF(I1028=\"\",\"\",NETWORKDAYS([4]Hoja1!C1028+1,[4]Hoja1!P1028,DiasNOLaborables))","v":25},"",null,null,20]
[1018,20209050034042,43943,"CORREO ELECTRÓNICO","SOLICITUD DE INFORMACIÓN Y DOCUMENTOS","SOLICITUD DE INFORMACIÓN Y DOCUMENTOS","SI","OFICINA DE INFORMÁTICA",43944,null,null,{"$f":"IFERROR(WORKDAY(C1029,R1029,DiasNOLaborables),\"\")","v":43972},{"$f":"+IF(C1029=\"\",\"\",IF(I1029=\"\",\"\",(IF(I1029<=L1029,\"A TIEMPO\",\"FUERA DE TIEMPO\"))))","v":"A TIEMPO"},{"$f":"IF(I1029=\"\",\"\",NETWORKDAYS([4]Hoja1!C1029+1,[4]Hoja1!P1029,DiasNOLaborables))","v":8},"",null,null,20]
[1019,20209050034062,43943,"CORREO ELECTRÓNICO","SOLICITUD DE INFORMACIÓN Y DOCUMENTOS","SOLICITUD DE INFORMACIÓN Y DOCUMENTOS","SI","SUBDIRECCIÓN DE HIDROLOGÍA",43945,null,null,{"$f":"IFERROR(WORKDAY(C1030,R1030,DiasNOLaborables),\"\")","v":43972},{"$f":"+IF(C1030=\"\",\"\",IF(I1030=\"\",\"\",(IF(I1030<=L1030,\"A TIEMPO\",\"FUERA DE TIEMPO\"))))","v":"A TIEMPO"},{"$f":"IF(I1030=\"\",\"\",NETWORKDAYS([4]Hoja1!C1030+1,[4]Hoja1!P1030,DiasNOLaborables))","v":4},"",null,null,{"$f":"IFERROR(VLOOKUP(E1030,$Z$50:$AA$63,2),\"\")","v":20}]
[1020,20209050034072,43943,"CORREO ELECTRÓNICO","SOLICITUD DE INFORMACIÓN Y DOCUMENTOS","ADMINISTRATIVA","SI","GRUPO DE ADMINISTRACIÓN Y DESARROLLO DEL TALENTO HUMANO",43949,null,null,{"$f":"IFERROR(WORKDAY(C1031,R1031,DiasNOLaborables),\"\")","v":43972},{"$f":"+IF(C1031=\"\",\"\",IF(I1031=\"\",\"\",(IF(I1031<=L1031,\"A TIEMPO\",\"FUERA DE TIEMPO\"))))","v":"A TIEMPO"},{"$f":"IF(I1031=\"\",\"\",NETWORKDAYS([4]Hoja1!C1031+1,[4]Hoja1!P1031,DiasNOLaborables))","v":15},"",null,null,20]
[1021,20209050034092,43943,"CORREO ELECTRÓNICO","CERTIFICACIONES DE TIEMPO, CLIMA Y EVENTOS HIDROLÓGICOS","CERTIFICACIONES DE TIEMPO Y CLIMA","SI","SUBDIRECCIÓN DE METEOROLOGÍA",43945,null,null,{"$f":"IFERROR(WORKDAY(C1032,R1032,DiasNOLaborables),\"\")","v":43987},{"$f":"+IF(C1032=\"\",\"\",IF(I1032=\"\",\"\",(IF(I1032<=L1032,\"A TIEMPO\",\"FUERA DE TIEMPO\"))))","v":"A TIEMPO"},{"$f":"IF(I1032=\"\",\"\",NETWORKDAYS([4]Hoja1!C1032+1,[4]Hoja1!P1032,DiasNOLaborables))","v":1},"",null,null,30]
[1022,20209050034112,43943,"CORREO ELECTRÓNICO","CERTIFICACIONES DE TIEMPO, CLIMA Y EVENTOS HIDROLÓGICOS","CERTIFICACIONES DE TIEMPO Y CLIMA","SI","SUBDIRECCIÓN DE METEOROLOGÍA",43945,null,null,{"$f":"IFERROR(WORKDAY(C1033,R1033,DiasNOLaborables),\"\")","v":43987},{"$f":"+IF(C1033=\"\",\"\",IF(I1033=\"\",\"\",(IF(I1033<=L1033,\"A TIEMPO\",\"FUERA DE TIEMPO\"))))","v":"A TIEMPO"},{"$f":"IF(I1033=\"\",\"\",NETWORKDAYS([4]Hoja1!C1033+1,[4]Hoja1!P1033,DiasNOLaborables))","v":12},"",null,null,30]
[1023,20209050034162,43943,"CORREO ELECTRÓNICO","CERTIFICACIONES DE TIEMPO, CLIMA Y EVENTOS HIDROLÓGICOS","CERTIFICACIONES DE TIEMPO Y CLIMA","SI","SUBDIRECCIÓN DE METEOROLOGÍA",43945,null,null,{"$f":"IFERROR(WORKDAY(C1034,R1034,DiasNOLaborables),\"\")","v":43987},{"$f":"+IF(C1034=\"\",\"\",IF(I1034=\"\",\"\",(IF(I1034<=L1034,\"A TIEMPO\",\"FUERA DE TIEMPO\"))))","v":"A TIEMPO"},{"$f":"IF(I1034=\"\",\"\",NETWORKDAYS([4]Hoja1!C1034+1,[4]Hoja1!P1034,DiasNOLaborables))","v":8},"",null,null,30]
[1024,20209050034192,43943,"CORREO ELECTRÓNICO","CERTIFICACIONES DE TIEMPO, CLIMA Y EVENTOS HIDROLÓGICOS","CERTIFICACIONES DE TIEMPO Y CLIMA","SI","SUBDIRECCIÓN DE METEOROLOGÍA",43945,null,null,{"$f":"IFERROR(WORKDAY(C1035,R1035,DiasNOLaborables),\"\")","v":43987},{"$f":"+IF(C1035=\"\",\"\",IF(I1035=\"\",\"\",(IF(I1035<=L1035,\"A TIEMPO\",\"FUERA DE TIEMPO\"))))","v":"A TIEMPO"},{"$f":"IF(I1035=\"\",\"\",NETWORKDAYS([4]Hoja1!C1035+1,[4]Hoja1!P1035,DiasNOLaborables))","v":1},"",null,null,30]
[1025,20209050033612,43942,"CORREO ELECTRÓNICO","SOLICITUD DE INFORMACIÓN Y DOCUMENTOS","SOLICITUD DE INFORMACIÓN HIDROMETEOROLÓGICA","NO","GRUPO DE ATENCIÓN AL CIUDADANO",43948,null,null,{"$f":"IFERROR(WORKDAY(C1036,R1036,DiasNOLaborables),\"\")","v":43971},{"$f":"+IF(C1036=\"\",\"\",IF(I1036=\"\",\"\",(IF(I1036<=L1036,\"A TIEMPO\",\"FUERA DE TIEMPO\"))))","v":"A TIEMPO"},{"$f":"IF(I1036=\"\",\"\",NETWORKDAYS([4]Hoja1!C1036+1,[4]Hoja1!P1036,DiasNOLaborables))","v":10},"",null,null,20]
[1026,20209050033242,43942,"CORREO ELECTRÓNICO","SOLICITUD DE INFORMACIÓN Y DOCUMENTOS","SOLICITUD DE INFORMACIÓN HIDROMETEOROLÓGICA","NO","GRUPO DE ATENCIÓN AL CIUDADANO",43948,null,null,{"$f":"IFERROR(WORKDAY(C1037,R1037,DiasNOLaborables),\"\")","v":43971},{"$f":"+IF(C1037=\"\",\"\",IF(I1037=\"\",\"\",(IF(I1037<=L1037,\"A TIEMPO\",\"FUERA DE TIEMPO\"))))","v":"A TIEMPO"},{"$f":"IF(I1037=\"\",\"\",NETWORKDAYS([4]Hoja1!C1037+1,[4]Hoja1!P1037,DiasNOLaborables))","v":-2},"",null,null,20]
[1027,20209050033652,43943,"CORREO ELECTRÓNICO","SOLICITUD DE INFORMACIÓN Y DOCUMENTOS","SOLICITUD DE INFORMACIÓN HIDROMETEOROLÓGICA","NO","GRUPO DE ATENCIÓN AL CIUDADANO",43948,null,null,{"$f":"IFERROR(WORKDAY(C1038,R1038,DiasNOLaborables),\"\")","v":43972},{"$f":"+IF(C1038=\"\",\"\",IF(I1038=\"\",\"\",(IF(I1038<=L1038,\"A TIEMPO\",\"FUERA DE TIEMPO\"))))","v":"A TIEMPO"},{"$f":"IF(I1038=\"\",\"\",NETWORKDAYS([4]Hoja1!C1038+1,[4]Hoja1!P1038,DiasNOLaborables))","v":4},"",null,null,20]
[1028,20209050033692,43943,"CORREO ELECTRÓNICO","SOLICITUD DE INFORMACIÓN Y DOCUMENTOS","SOLICITUD DE INFORMACIÓN HIDROMETEOROLÓGICA","NO","GRUPO DE ATENCIÓN AL CIUDADANO",43948,null,null,{"$f":"IFERROR(WORKDAY(C1039,R1039,DiasNOLaborables),\"\")","v":43972},{"$f":"+IF(C1039=\"\",\"\",IF(I1039=\"\",\"\",(IF(I1039<=L1039,\"A TIEMPO\",\"FUERA DE TIEMPO\"))))","v":"A TIEMPO"},{"$f":"IF(I1039=\"\",\"\",NETWORKDAYS([4]Hoja1!C1039+1,[4]Hoja1!P1039,DiasNOLaborables))","v":4},"",null,null,20]
[1029,20209050033712,43943,"CORREO ELECTRÓNICO","SOLICITUD DE INFORMACIÓN Y DOCUMENTOS","SOLICITUD DE INFORMACIÓN HIDROMETEOROLÓGICA","NO","GRUPO DE ATENCIÓN AL CIUDADANO",43948,null,null,{"$f":"IFERROR(WORKDAY(C1040,R1040,DiasNOLaborables),\"\")","v":43972},{"$f":"+IF(C1040=\"\",\"\",IF(I1040=\"\",\"\",(IF(I1040<=L1040,\"A TIEMPO\",\"FUERA DE TIEMPO\"))))","v":"A TIEMPO"},{"$f":"IF(I1040=\"\",\"\",NETWORKDAYS([4]Hoja1!C1040+1,[4]Hoja1!P1040,DiasNOLaborables))","v":9},"",null,null,20]
[1030,20209050033732,43943,"CORREO ELECTRÓNICO","SOLICITUD DE INFORMACIÓN Y DOCUMENTOS","SOLICITUD DE INFORMACIÓN HIDROMETEOROLÓGICA","NO","GRUPO DE ATENCIÓN AL CIUDADANO",43948,null,null,{"$f":"IFERROR(WORKDAY(C1041,R1041,DiasNOLaborables),\"\")","v":43972},{"$f":"+IF(C1041=\"\",\"\",IF(I1041=\"\",\"\",(IF(I1041<=L1041,\"A TIEMPO\",\"FUERA DE TIEMPO\"))))","v":"A TIEMPO"},{"$f":"IF(I1041=\"\",\"\",NETWORKDAYS([4]Hoja1!C1041+1,[4]Hoja1!P1041,DiasNOLaborables))","v":4},"",null,null,20]
[1031,20209050033762,43943,"CORREO ELECTRÓNICO","SOLICITUD DE INFORMACIÓN Y DOCUMENTOS","SOLICITUD DE INFORMACIÓN HIDROMETEOROLÓGICA","NO","GRUPO DE ATENCIÓN AL CIUDADANO",43948,null,null,{"$f":"IFERROR(WORKDAY(C1042,R1042,DiasNOLaborables),\"\")","v":43972},{"$f":"+IF(C1042=\"\",\"\",IF(I1042=\"\",\"\",(IF(I1042<=L1042,\"A TIEMPO\",\"FUERA DE TIEMPO\"))))","v":"A TIEMPO"},{"$f":"IF(I1042=\"\",\"\",NETWORKDAYS([4]Hoja1!C1042+1,[4]Hoja1!P1042,DiasNOLaborables))","v":5},"",null,null,20]
[1032,20209050033812,43943,"CORREO ELECTRÓNICO","SOLICITUD DE INFORMACIÓN Y DOCUMENTOS","SOLICITUD DE INFORMACIÓN HIDROMETEOROLÓGICA","NO","GRUPO DE ATENCIÓN AL CIUDADANO",43948,null,null,{"$f":"IFERROR(WORKDAY(C1043,R1043,DiasNOLaborables),\"\")","v":43972},{"$f":"+IF(C1043=\"\",\"\",IF(I1043=\"\",\"\",(IF(I1043<=L1043,\"A TIEMPO\",\"FUERA DE TIEMPO\"))))","v":"A TIEMPO"},{"$f":"IF(I1043=\"\",\"\",NETWORKDAYS([4]Hoja1!C1043+1,[4]Hoja1!P1043,DiasNOLaborables))","v":10},"",null,null,20]
[1033,20209050033832,43943,"CORREO ELECTRÓNICO","SOLICITUD DE INFORMACIÓN Y DOCUMENTOS","SOLICITUD DE INFORMACIÓN HIDROMETEOROLÓGICA","NO","GRUPO DE ATENCIÓN AL CIUDADANO",43948,null,null,{"$f":"IFERROR(WORKDAY(C1044,R1044,DiasNOLaborables),\"\")","v":43972},{"$f":"+IF(C1044=\"\",\"\",IF(I1044=\"\",\"\",(IF(I1044<=L1044,\"A TIEMPO\",\"FUERA DE TIEMPO\"))))","v":"A TIEMPO"},{"$f":"IF(I1044=\"\",\"\",NETWORKDAYS([4]Hoja1!C1044+1,[4]Hoja1!P1044,DiasNOLaborables))","v":4},"",null,null,20]
[1034,20209050033852,43943,"CORREO ELECTRÓNICO","SOLICITUD DE INFORMACIÓN Y DOCUMENTOS","SOLICITUD DE INFORMACIÓN HIDROMETEOROLÓGICA","NO","GRUPO DE ATENCIÓN AL CIUDADANO",43948,null,null,{"$f":"IFERROR(WORKDAY(C1045,R1045,DiasNOLaborables),\"\")","v":43972},{"$f":"+IF(C1045=\"\",\"\",IF(I1045=\"\",\"\",(IF(I1045<=L1045,\"A TIEMPO\",\"FUERA DE TIEMPO\"))))","v":"A TIEMPO"},{"$f":"IF(I1045=\"\",\"\",NETWORKDAYS([4]Hoja1!C1045+1,[4]Hoja1!P1045,DiasNOLaborables))","v":16},"",null,null,20]
[1035,20209050033862,43943,"CORREO ELECTRÓNICO","SOLICITUD DE INFORMACIÓN Y DOCUMENTOS","SOLICITUD DE INFORMACIÓN HIDROMETEOROLÓGICA","NO","GRUPO DE ATENCIÓN AL CIUDADANO",43948,null,null,{"$f":"IFERROR(WORKDAY(C1046,R1046,DiasNOLaborables),\"\")","v":43972},{"$f":"+IF(C1046=\"\",\"\",IF(I1046=\"\",\"\",(IF(I1046<=L1046,\"A TIEMPO\",\"FUERA DE TIEMPO\"))))","v":"A TIEMPO"},{"$f":"IF(I1046=\"\",\"\",NETWORKDAYS([4]Hoja1!C1046+1,[4]Hoja1!P1046,DiasNOLaborables))","v":10},"",null,null,20]
[1036,20209050033872,43943,"CORREO ELECTRÓNICO","SOLICITUD DE INFORMACIÓN Y DOCUMENTOS","SOLICITUD DE INFORMACIÓN HIDROMETEOROLÓGICA","NO","GRUPO DE ATENCIÓN AL CIUDADANO",43948,null,null,{"$f":"IFERROR(WORKDAY(C1047,R1047,DiasNOLaborables),\"\")","v":43972},{"$f":"+IF(C1047=\"\",\"\",IF(I1047=\"\",\"\",(IF(I1047<=L1047,\"A TIEMPO\",\"FUERA DE TIEMPO\"))))","v":"A TIEMPO"},{"$f":"IF(I1047=\"\",\"\",NETWORKDAYS([4]Hoja1!C1047+1,[4]Hoja1!P1047,DiasNOLaborables))","v":1},"",null,null,20]
[1037,20209050033962,43943,"CORREO ELECTRÓNICO","SOLICITUD DE INFORMACIÓN Y DOCUMENTOS","SOLICITUD DE INFORMACIÓN HIDROMETEOROLÓGICA","NO","GRUPO DE ATENCIÓN AL CIUDADANO",43949,null,null,{"$f":"IFERROR(WORKDAY(C1048,R1048,DiasNOLaborables),\"\")","v":43972},{"$f":"+IF(C1048=\"\",\"\",IF(I1048=\"\",\"\",(IF(I1048<=L1048,\"A TIEMPO\",\"FUERA DE TIEMPO\"))))","v":"A TIEMPO"},{"$f":"IF(I1048=\"\",\"\",NETWORKDAYS([4]Hoja1!C1048+1,[4]Hoja1!P1048,DiasNOLaborables))","v":1},"",null,null,20]
[1038,20209050033982,43943,"CORREO ELECTRÓNICO","SOLICITUD DE INFORMACIÓN Y DOCUMENTOS","SOLICITUD DE INFORMACIÓN HIDROMETEOROLÓGICA","NO","GRUPO DE ATENCIÓN AL CIUDADANO",43949,null,null,{"$f":"IFERROR(WORKDAY(C1049,R1049,DiasNOLaborables),\"\")","v":43972},{"$f":"+IF(C1049=\"\",\"\",IF(I1049=\"\",\"\",(IF(I1049<=L1049,\"A TIEMPO\",\"FUERA DE TIEMPO\"))))","v":"A TIEMPO"},{"$f":"IF(I1049=\"\",\"\",NETWORKDAYS([4]Hoja1!C1049+1,[4]Hoja1!P1049,DiasNOLaborables))","v":17},"",null,null,20]
[1039,20209050034012,43943,"CORREO ELECTRÓNICO","SOLICITUD DE INFORMACIÓN Y DOCUMENTOS","SOLICITUD DE INFORMACIÓN HIDROMETEOROLÓGICA","NO","GRUPO DE ATENCIÓN AL CIUDADANO",43949,null,null,{"$f":"IFERROR(WORKDAY(C1050,R1050,DiasNOLaborables),\"\")","v":43972},{"$f":"+IF(C1050=\"\",\"\",IF(I1050=\"\",\"\",(IF(I1050<=L1050,\"A TIEMPO\",\"FUERA DE TIEMPO\"))))","v":"A TIEMPO"},{"$f":"IF(I1050=\"\",\"\",NETWORKDAYS([4]Hoja1!C1050+1,[4]Hoja1!P1050,DiasNOLaborables))","v":1},"",null,null,20]
[1040,20209050034052,43943,"CORREO ELECTRÓNICO","SOLICITUD DE INFORMACIÓN Y DOCUMENTOS","SOLICITUD DE INFORMACIÓN HIDROMETEOROLÓGICA","NO","GRUPO DE ATENCIÓN AL CIUDADANO",43949,null,null,{"$f":"IFERROR(WORKDAY(C1051,R1051,DiasNOLaborables),\"\")","v":43972},{"$f":"+IF(C1051=\"\",\"\",IF(I1051=\"\",\"\",(IF(I1051<=L1051,\"A TIEMPO\",\"FUERA DE TIEMPO\"))))","v":"A TIEMPO"},{"$f":"IF(I1051=\"\",\"\",NETWORKDAYS([4]Hoja1!C1051+1,[4]Hoja1!P1051,DiasNOLaborables))","v":4},{"$f":"IF(NETWORKDAYS(L1051+1,I1051,DiasNOLaborables)<=0,\"\",NETWORKDAYS(L1051+1,I1051,DiasNOLaborables))","v":""},null,null,20]
[1041,20209050034082,43943,"CORREO ELECTRÓNICO","SOLICITUD DE INFORMACIÓN Y DOCUMENTOS","SOLICITUD DE INFORMACIÓN HIDROMETEOROLÓGICA","NO","GRUPO DE ATENCIÓN AL CIUDADANO",43949,null,null,{"$f":"IFERROR(WORKDAY(C1052,R1052,DiasNOLaborables),\"\")","v":43972},{"$f":"+IF(C1052=\"\",\"\",IF(I1052=\"\",\"\",(IF(I1052<=L1052,\"A TIEMPO\",\"FUERA DE TIEMPO\"))))","v":"A TIEMPO"},{"$f":"IF(I1052=\"\",\"\",NETWORKDAYS([4]Hoja1!C1052+1,[4]Hoja1!P1052,DiasNOLaborables))","v":3},"",null,null,20]
[1042,20209050034302,43943,"CORREO ELECTRÓNICO","SOLICITUD DE INFORMACIÓN Y DOCUMENTOS","SOLICITUD DE INFORMACIÓN HIDROMETEOROLÓGICA","NO","GRUPO DE ATENCIÓN AL CIUDADANO",43949,null,null,{"$f":"IFERROR(WORKDAY(C1053,R1053,DiasNOLaborables),\"\")","v":43972},{"$f":"+IF(C1053=\"\",\"\",IF(I1053=\"\",\"\",(IF(I1053<=L1053,\"A TIEMPO\",\"FUERA DE TIEMPO\"))))","v":"A TIEMPO"},{"$f":"IF(I1053=\"\",\"\",NETWORKDAYS([4]Hoja1!C1053+1,[4]Hoja1!P1053,DiasNOLaborables))","v":4},"",null,null,20]
[1043,20209050034312,43943,"CORREO ELECTRÓNICO","SOLICITUD DE INFORMACIÓN Y DOCUMENTOS","SOLICITUD DE INFORMACIÓN HIDROMETEOROLÓGICA","NO","GRUPO DE ATENCIÓN AL CIUDADANO",43949,null,null,{"$f":"IFERROR(WORKDAY(C1054,R1054,DiasNOLaborables),\"\")","v":43972},{"$f":"+IF(C1054=\"\",\"\",IF(I1054=\"\",\"\",(IF(I1054<=L1054,\"A TIEMPO\",\"FUERA DE TIEMPO\"))))","v":"A TIEMPO"},{"$f":"IF(I1054=\"\",\"\",NETWORKDAYS([4]Hoja1!C1054+1,[4]Hoja1!P1054,DiasNOLaborables))","v":4},"",null,null,20]
[1044,20209050034322,43943,"CORREO ELECTRÓNICO","SOLICITUD DE INFORMACIÓN Y DOCUMENTOS","SOLICITUD DE INFORMACIÓN HIDROMETEOROLÓGICA","NO","GRUPO DE ATENCIÓN AL CIUDADANO",43949,null,null,{"$f":"IFERROR(WORKDAY(C1055,R1055,DiasNOLaborables),\"\")","v":43972},{"$f":"+IF(C1055=\"\",\"\",IF(I1055=\"\",\"\",(IF(I1055<=L1055,\"A TIEMPO\",\"FUERA DE TIEMPO\"))))","v":"A TIEMPO"},{"$f":"IF(I1055=\"\",\"\",NETWORKDAYS([4]Hoja1!C1055+1,[4]Hoja1!P1055,DiasNOLaborables))","v":8},"",null,null,20]
[1045,20209050034332,43943,"CORREO ELECTRÓNICO","SOLICITUD DE INFORMACIÓN Y DOCUMENTOS","SOLICITUD DE INFORMACIÓN HIDROMETEOROLÓGICA","NO","GRUPO DE ATENCIÓN AL CIUDADANO",43950,null,null,{"$f":"IFERROR(WORKDAY(C1056,R1056,DiasNOLaborables),\"\")","v":43972},{"$f":"+IF(C1056=\"\",\"\",IF(I1056=\"\",\"\",(IF(I1056<=L1056,\"A TIEMPO\",\"FUERA DE TIEMPO\"))))","v":"A TIEMPO"},{"$f":"IF(I1056=\"\",\"\",NETWORKDAYS([4]Hoja1!C1056+1,[4]Hoja1!P1056,DiasNOLaborables))","v":8},"",null,null,20]
[1046,20209050034342,43943,"CORREO ELECTRÓNICO","SOLICITUD DE INFORMACIÓN Y DOCUMENTOS","SOLICITUD DE INFORMACIÓN HIDROMETEOROLÓGICA","NO","GRUPO DE ATENCIÓN AL CIUDADANO",43950,null,null,{"$f":"IFERROR(WORKDAY(C1057,R1057,DiasNOLaborables),\"\")","v":43972},{"$f":"+IF(C1057=\"\",\"\",IF(I1057=\"\",\"\",(IF(I1057<=L1057,\"A TIEMPO\",\"FUERA DE TIEMPO\"))))","v":"A TIEMPO"},{"$f":"IF(I1057=\"\",\"\",NETWORKDAYS([4]Hoja1!C1057+1,[4]Hoja1!P1057,DiasNOLaborables))","v":9},"",null,null,20]
[1047,20209050034362,43943,"CORREO ELECTRÓNICO","SOLICITUD DE INFORMACIÓN Y DOCUMENTOS","SOLICITUD DE INFORMACIÓN HIDROMETEOROLÓGICA","NO","GRUPO DE ATENCIÓN AL CIUDADANO",43950,null,null,{"$f":"IFERROR(WORKDAY(C1058,R1058,DiasNOLaborables),\"\")","v":43972},{"$f":"+IF(C1058=\"\",\"\",IF(I1058=\"\",\"\",(IF(I1058<=L1058,\"A TIEMPO\",\"FUERA DE TIEMPO\"))))","v":"A TIEMPO"},{"$f":"IF(I1058=\"\",\"\",NETWORKDAYS([4]Hoja1!C1058+1,[4]Hoja1!P1058,DiasNOLaborables))","v":10},"",null,null,20]
[1048,20209050034272,43944,"CORREO ELECTRÓNICO","SOLICITUD DE INFORMACIÓN Y DOCUMENTOS","REGISTROS AMBIENTALES","SI","SUBDIRECCIÓN DE ESTUDIOS AMBIENTALES",43945,null,null,{"$f":"IFERROR(WORKDAY(C1059,R1059,DiasNOLaborables),\"\")","v":43973},{"$f":"+IF(C1059=\"\",\"\",IF(I1059=\"\",\"\",(IF(I1059<=L1059,\"A TIEMPO\",\"FUERA DE TIEMPO\"))))","v":"A TIEMPO"},{"$f":"IF(I1059=\"\",\"\",NETWORKDAYS([4]Hoja1!C1059+1,[4]Hoja1!P1059,DiasNOLaborables))","v":4},"",null,null,20]
[1049,20209050034282,43944,"CORREO ELECTRÓNICO","SOLICITUD DE INFORMACIÓN Y DOCUMENTOS","SOLICITUD DE INFORMACIÓN Y DOCUMENTOS","SI","GRUPO DE COMUNICACIONES",43945,null,null,{"$f":"IFERROR(WORKDAY(C1060,R1060,DiasNOLaborables),\"\")","v":43973},{"$f":"+IF(C1060=\"\",\"\",IF(I1060=\"\",\"\",(IF(I1060<=L1060,\"A TIEMPO\",\"FUERA DE TIEMPO\"))))","v":"A TIEMPO"},{"$f":"IF(I1060=\"\",\"\",NETWORKDAYS([4]Hoja1!C1060+1,[4]Hoja1!P1060,DiasNOLaborables))","v":11},"",null,null,20]
[1050,20209050034292,43944,"CORREO ELECTRÓNICO","PETICIÓN","SOLICITUD DE INFORMACIÓN Y DOCUMENTOS","SI","SUBDIRECCIÓN DE ECOSISTEMAS E INFORMACIÓN AMBIENTAL",43987,null,null,{"$f":"IFERROR(WORKDAY(C1061,R1061,DiasNOLaborables),\"\")","v":43990},{"$f":"+IF(C1061=\"\",\"\",IF(I1061=\"\",\"\",(IF(I1061<=L1061,\"A TIEMPO\",\"FUERA DE TIEMPO\"))))","v":"A TIEMPO"},{"$f":"IF(I1061=\"\",\"\",NETWORKDAYS([4]Hoja1!C1061+1,[4]Hoja1!P1061,DiasNOLaborables))","v":5},"",null,null,30]
[1051,20209050034472,43944,"CORREO ELECTRÓNICO","SOLICITUD DE INFORMACIÓN Y DOCUMENTOS","SOLICITUD DE INFORMACIÓN Y DOCUMENTOS","SI","SUBDIRECCIÓN DE METEOROLOGÍA",43949,null,null,{"$f":"IFERROR(WORKDAY(C1062,R1062,DiasNOLaborables),\"\")","v":43973},{"$f":"+IF(C1062=\"\",\"\",IF(I1062=\"\",\"\",(IF(I1062<=L1062,\"A TIEMPO\",\"FUERA DE TIEMPO\"))))","v":"A TIEMPO"},{"$f":"IF(I1062=\"\",\"\",NETWORKDAYS([4]Hoja1!C1062+1,[4]Hoja1!P1062,DiasNOLaborables))","v":4},"",null,null,20]
[1052,20209050034482,43944,"CORREO ELECTRÓNICO","SOLICITUD DE INFORMACIÓN Y DOCUMENTOS","SOLICITUD DE INFORMACIÓN Y DOCUMENTOS","SI","OFICINA DE INFORMÁTICA",43945,null,null,{"$f":"IFERROR(WORKDAY(C1063,R1063,DiasNOLaborables),\"\")","v":43973},{"$f":"+IF(C1063=\"\",\"\",IF(I1063=\"\",\"\",(IF(I1063<=L1063,\"A TIEMPO\",\"FUERA DE TIEMPO\"))))","v":"A TIEMPO"},{"$f":"IF(I1063=\"\",\"\",NETWORKDAYS([4]Hoja1!C1063+1,[4]Hoja1!P1063,DiasNOLaborables))","v":15},"",null,null,20]
[1053,20209050034522,43944,"CORREO ELECTRÓNICO","SOLICITUD DE INFORMACIÓN Y DOCUMENTOS","SOLICITUD DE INFORMACIÓN Y DOCUMENTOS","SI","SUBDIRECCIÓN DE ECOSISTEMAS E INFORMACIÓN AMBIENTAL",43955,null,null,{"$f":"IFERROR(WORKDAY(C1064,R1064,DiasNOLaborables),\"\")","v":43973},{"$f":"+IF(C1064=\"\",\"\",IF(I1064=\"\",\"\",(IF(I1064<=L1064,\"A TIEMPO\",\"FUERA DE TIEMPO\"))))","v":"A TIEMPO"},{"$f":"IF(I1064=\"\",\"\",NETWORKDAYS([4]Hoja1!C1064+1,[4]Hoja1!P1064,DiasNOLaborables))","v":12},"",null,null,20]
[1054,20209050034532,43944,"CORREO ELECTRÓNICO","SOLICITUD DE INFORMACIÓN Y DOCUMENTOS","SOLICITUD DE INFORMACIÓN Y DOCUMENTOS","SI","SUBDIRECCIÓN DE ESTUDIOS AMBIENTALES",43944,null,null,{"$f":"IFERROR(WORKDAY(C1065,R1065,DiasNOLaborables),\"\")","v":43973},{"$f":"+IF(C1065=\"\",\"\",IF(I1065=\"\",\"\",(IF(I1065<=L1065,\"A TIEMPO\",\"FUERA DE TIEMPO\"))))","v":"A TIEMPO"},{"$f":"IF(I1065=\"\",\"\",NETWORKDAYS([4]Hoja1!C1065+1,[4]Hoja1!P1065,DiasNOLaborables))","v":-1},"",null,null,20]
[1055,20209050034542,43944,"CORREO ELECTRÓNICO","SOLICITUD DE INFORMACIÓN Y DOCUMENTOS","SOLICITUD DE INFORMACIÓN Y DOCUMENTOS","SI","SUBDIRECCIÓN DE ESTUDIOS AMBIENTALES",43945,null,null,{"$f":"IFERROR(WORKDAY(C1066,R1066,DiasNOLaborables),\"\")","v":43973},{"$f":"+IF(C1066=\"\",\"\",IF(I1066=\"\",\"\",(IF(I1066<=L1066,\"A TIEMPO\",\"FUERA DE TIEMPO\"))))","v":"A TIEMPO"},{"$f":"IF(I1066=\"\",\"\",NETWORKDAYS([4]Hoja1!C1066+1,[4]Hoja1!P1066,DiasNOLaborables))","v":59},"",null,null,20]
[1056,20209050034552,43944,"CORREO ELECTRÓNICO","SOLICITUD DE INFORMACIÓN Y DOCUMENTOS","REGISTROS AMBIENTALES","SI","SUBDIRECCIÓN DE ESTUDIOS AMBIENTALES",43944,null,null,{"$f":"IFERROR(WORKDAY(C1067,R1067,DiasNOLaborables),\"\")","v":43973},{"$f":"+IF(C1067=\"\",\"\",IF(I1067=\"\",\"\",(IF(I1067<=L1067,\"A TIEMPO\",\"FUERA DE TIEMPO\"))))","v":"A TIEMPO"},{"$f":"IF(I1067=\"\",\"\",NETWORKDAYS([4]Hoja1!C1067+1,[4]Hoja1!P1067,DiasNOLaborables))","v":7},"",null,null,20]
[1057,20209050034562,43944,"CORREO ELECTRÓNICO","SOLICITUD DE INFORMACIÓN Y DOCUMENTOS","SOLICITUD DE INFORMACIÓN Y DOCUMENTOS","SI","OFICINA DE INFORMÁTICA",43944,null,null,{"$f":"IFERROR(WORKDAY(C1068,R1068,DiasNOLaborables),\"\")","v":43973},{"$f":"+IF(C1068=\"\",\"\",IF(I1068=\"\",\"\",(IF(I1068<=L1068,\"A TIEMPO\",\"FUERA DE TIEMPO\"))))","v":"A TIEMPO"},{"$f":"IF(I1068=\"\",\"\",NETWORKDAYS([4]Hoja1!C1068+1,[4]Hoja1!P1068,DiasNOLaborables))","v":4},"",null,null,20]
[1058,20209050034582,43944,"CORREO ELECTRÓNICO","SOLICITUD DE INFORMACIÓN Y DOCUMENTOS","REGISTROS AMBIENTALES","SI","SUBDIRECCIÓN DE ESTUDIOS AMBIENTALES",43944,null,null,{"$f":"IFERROR(WORKDAY(C1069,R1069,DiasNOLaborables),\"\")","v":43973},{"$f":"+IF(C1069=\"\",\"\",IF(I1069=\"\",\"\",(IF(I1069<=L1069,\"A TIEMPO\",\"FUERA DE TIEMPO\"))))","v":"A TIEMPO"},{"$f":"IF(I1069=\"\",\"\",NETWORKDAYS([4]Hoja1!C1069+1,[4]Hoja1!P1069,DiasNOLaborables))","v":4},"",null,null,20]
[1059,20209050034592,43944,"CORREO ELECTRÓNICO","SOLICITUD DE INFORMACIÓN Y DOCUMENTOS","ADMINISTRATIVA","SI","GRUPO DE TESORERÍA",43945,null,null,{"$f":"IFERROR(WORKDAY(C1070,R1070,DiasNOLaborables),\"\")","v":43973},{"$f":"+IF(C1070=\"\",\"\",IF(I1070=\"\",\"\",(IF(I1070<=L1070,\"A TIEMPO\",\"FUERA DE TIEMPO\"))))","v":"A TIEMPO"},{"$f":"IF(I1070=\"\",\"\",NETWORKDAYS([4]Hoja1!C1070+1,[4]Hoja1!P1070,DiasNOLaborables))","v":4},"",null,null,20]
[1060,20209050034602,43944,"CORREO ELECTRÓNICO","SOLICITUD DE INFORMACIÓN Y DOCUMENTOS","REGISTROS AMBIENTALES","SI","SUBDIRECCIÓN DE ESTUDIOS AMBIENTALES",43963,null,null,{"$f":"IFERROR(WORKDAY(C1071,R1071,DiasNOLaborables),\"\")","v":43973},{"$f":"+IF(C1071=\"\",\"\",IF(I1071=\"\",\"\",(IF(I1071<=L1071,\"A TIEMPO\",\"FUERA DE TIEMPO\"))))","v":"A TIEMPO"},{"$f":"IF(I1071=\"\",\"\",NETWORKDAYS([4]Hoja1!C1071+1,[4]Hoja1!P1071,DiasNOLaborables))","v":4},"",null,null,20]
[1061,20209050034612,43944,"CORREO ELECTRÓNICO","SOLICITUD DE INFORMACIÓN Y DOCUMENTOS","SOLICITUD DE INFORMACIÓN Y DOCUMENTOS","SI","SUBDIRECCIÓN DE HIDROLOGÍA",43957,null,null,{"$f":"IFERROR(WORKDAY(C1072,R1072,DiasNOLaborables),\"\")","v":43973},{"$f":"+IF(C1072=\"\",\"\",IF(I1072=\"\",\"\",(IF(I1072<=L1072,\"A TIEMPO\",\"FUERA DE TIEMPO\"))))","v":"A TIEMPO"},{"$f":"IF(I1072=\"\",\"\",NETWORKDAYS([4]Hoja1!C1072+1,[4]Hoja1!P1072,DiasNOLaborables))","v":4},"",null,null,20]
[1062,20209050034622,43944,"CORREO ELECTRÓNICO","SOLICITUD DE INFORMACIÓN Y DOCUMENTOS","SOLICITUD DE INFORMACIÓN Y DOCUMENTOS","SI","SUBDIRECCIÓN DE HIDROLOGÍA",43945,null,null,{"$f":"IFERROR(WORKDAY(C1073,R1073,DiasNOLaborables),\"\")","v":43973},{"$f":"+IF(C1073=\"\",\"\",IF(I1073=\"\",\"\",(IF(I1073<=L1073,\"A TIEMPO\",\"FUERA DE TIEMPO\"))))","v":"A TIEMPO"},{"$f":"IF(I1073=\"\",\"\",NETWORKDAYS([4]Hoja1!C1073+1,[4]Hoja1!P1073,DiasNOLaborables))","v":4},"",null,null,20]
[{"$f":"IF(B1072<>\"\",A1073+1,\"\")","v":1063},20209050034352,43944,"MODULO CONTACTENOS","SOLICITUD DE INFORMACIÓN Y DOCUMENTOS","CLIMATOLOGÍA","SI","SUBDIRECCIÓN DE METEOROLOGÍA",43949,null,null,{"$f":"IFERROR(WORKDAY(C1074,R1074,DiasNOLaborables),\"\")","v":43973},{"$f":"+IF(C1074=\"\",\"\",IF(I1074=\"\",\"\",(IF(I1074<=L1074,\"A TIEMPO\",\"FUERA DE TIEMPO\"))))","v":"A TIEMPO"},{"$f":"IF(I1074=\"\",\"\",NETWORKDAYS([4]Hoja1!C1074+1,[4]Hoja1!P1074,DiasNOLaborables))","v":3},"",null,null,20]
[1064,20209050034372,43944,"MODULO CONTACTENOS","SOLICITUD DE INFORMACIÓN Y DOCUMENTOS","WEB Y CORREO","SI","OFICINA DE INFORMÁTICA",43945,null,null,{"$f":"IFERROR(WORKDAY(C1075,R1075,DiasNOLaborables),\"\")","v":43973},{"$f":"+IF(C1075=\"\",\"\",IF(I1075=\"\",\"\",(IF(I1075<=L1075,\"A TIEMPO\",\"FUERA DE TIEMPO\"))))","v":"A TIEMPO"},{"$f":"IF(I1075=\"\",\"\",NETWORKDAYS([4]Hoja1!C1075+1,[4]Hoja1!P1075,DiasNOLaborables))","v":3},"",null,null,20]
[1065,20209050034382,43944,"MODULO CONTACTENOS","CERTIFICACIONES DE TIEMPO, CLIMA Y EVENTOS HIDROLÓGICOS","CERTIFICACIONES DE TIEMPO Y CLIMA","SI","SUBDIRECCIÓN DE METEOROLOGÍA",43956,null,null,{"$f":"IFERROR(WORKDAY(C1076,R1076,DiasNOLaborables),\"\")","v":43990},{"$f":"+IF(C1076=\"\",\"\",IF(I1076=\"\",\"\",(IF(I1076<=L1076,\"A TIEMPO\",\"FUERA DE TIEMPO\"))))","v":"A TIEMPO"},{"$f":"IF(I1076=\"\",\"\",NETWORKDAYS([4]Hoja1!C1076+1,[4]Hoja1!P1076,DiasNOLaborables))","v":1},{"$f":"IF(NETWORKDAYS(L1076+1,I1076,DiasNOLaborables)<=0,\"\",NETWORKDAYS(L1076+1,I1076,DiasNOLaborables))","v":""},null,null,30]
[1066,20209050034392,43944,"MODULO CONTACTENOS","SOLICITUD DE INFORMACIÓN Y DOCUMENTOS","ADMINISTRATIVA","SI","GRUPO DE TESORERÍA",43944,null,null,{"$f":"IFERROR(WORKDAY(C1077,R1077,DiasNOLaborables),\"\")","v":43973},{"$f":"+IF(C1077=\"\",\"\",IF(I1077=\"\",\"\",(IF(I1077<=L1077,\"A TIEMPO\",\"FUERA DE TIEMPO\"))))","v":"A TIEMPO"},{"$f":"IF(I1077=\"\",\"\",NETWORKDAYS([4]Hoja1!C1077+1,[4]Hoja1!P1077,DiasNOLaborables))","v":8},"",null,null,20]
[1067,20209910034612,43944,"CORREO ELECTRÓNICO","PETICIÓN","ACREDITACIÓN DE LABORATORIOS","SI","SUBDIRECCIÓN DE ESTUDIOS AMBIENTALES",43958,null,null,{"$f":"IFERROR(WORKDAY(C1078,R1078,DiasNOLaborables),\"\")","v":43990},{"$f":"+IF(C1078=\"\",\"\",IF(I1078=\"\",\"\",(IF(I1078<=L1078,\"A TIEMPO\",\"FUERA DE TIEMPO\"))))","v":"A TIEMPO"},{"$f":"IF(I1078=\"\",\"\",NETWORKDAYS([4]Hoja1!C1078+1,[4]Hoja1!P1078,DiasNOLaborables))","v":8},"",null,null,30]
[1068,20209050034402,43944,"CORREO ELECTRÓNICO","SOLICITUD DE INFORMACIÓN Y DOCUMENTOS","SOLICITUD DE INFORMACIÓN HIDROMETEOROLÓGICA","NO","GRUPO DE ATENCIÓN AL CIUDADANO",43950,null,null,{"$f":"IFERROR(WORKDAY(C1079,R1079,DiasNOLaborables),\"\")","v":43973},{"$f":"+IF(C1079=\"\",\"\",IF(I1079=\"\",\"\",(IF(I1079<=L1079,\"A TIEMPO\",\"FUERA DE TIEMPO\"))))","v":"A TIEMPO"},{"$f":"IF(I1079=\"\",\"\",NETWORKDAYS([4]Hoja1!C1079+1,[4]Hoja1!P1079,DiasNOLaborables))","v":8},"",null,null,20]
[1069,20209050034412,43944,"CORREO ELECTRÓNICO","SOLICITUD DE INFORMACIÓN Y DOCUMENTOS","SOLICITUD DE INFORMACIÓN HIDROMETEOROLÓGICA","NO","GRUPO DE ATENCIÓN AL CIUDADANO",43950,null,null,{"$f":"IFERROR(WORKDAY(C1080,R1080,DiasNOLaborables),\"\")","v":43973},{"$f":"+IF(C1080=\"\",\"\",IF(I1080=\"\",\"\",(IF(I1080<=L1080,\"A TIEMPO\",\"FUERA DE TIEMPO\"))))","v":"A TIEMPO"},{"$f":"IF(I1080=\"\",\"\",NETWORKDAYS([4]Hoja1!C1080+1,[4]Hoja1!P1080,DiasNOLaborables))","v":8},"",null,null,20]
[1070,20209050034422,43944,"CORREO ELECTRÓNICO","SOLICITUD DE INFORMACIÓN Y DOCUMENTOS","SOLICITUD DE INFORMACIÓN HIDROMETEOROLÓGICA","NO","GRUPO DE ATENCIÓN AL CIUDADANO",43950,null,null,{"$f":"IFERROR(WORKDAY(C1081,R1081,DiasNOLaborables),\"\")","v":43973},{"$f":"+IF(C1081=\"\",\"\",IF(I1081=\"\",\"\",(IF(I1081<=L1081,\"A TIEMPO\",\"FUERA DE TIEMPO\"))))","v":"A TIEMPO"},{"$f":"IF(I1081=\"\",\"\",NETWORKDAYS([4]Hoja1!C1081+1,[4]Hoja1!P1081,DiasNOLaborables))","v":8},"",null,null,20]
[1071,20209050034492,43944,"CORREO ELECTRÓNICO","SOLICITUD DE INFORMACIÓN Y DOCUMENTOS","SOLICITUD DE INFORMACIÓN HIDROMETEOROLÓGICA","NO","GRUPO DE ATENCIÓN AL CIUDADANO",43950,null,null,{"$f":"IFERROR(WORKDAY(C1082,R1082,DiasNOLaborables),\"\")","v":43973},{"$f":"+IF(C1082=\"\",\"\",IF(I1082=\"\",\"\",(IF(I1082<=L1082,\"A TIEMPO\",\"FUERA DE TIEMPO\"))))","v":"A TIEMPO"},{"$f":"IF(I1082=\"\",\"\",NETWORKDAYS([4]Hoja1!C1082+1,[4]Hoja1!P1082,DiasNOLaborables))","v":8},"",null,null,20]
[1072,20209050034512,43944,"CORREO ELECTRÓNICO","SOLICITUD DE INFORMACIÓN Y DOCUMENTOS","SOLICITUD DE INFORMACIÓN HIDROMETEOROLÓGICA","NO","GRUPO DE ATENCIÓN AL CIUDADANO",43950,null,null,{"$f":"IFERROR(WORKDAY(C1083,R1083,DiasNOLaborables),\"\")","v":43973},{"$f":"+IF(C1083=\"\",\"\",IF(I1083=\"\",\"\",(IF(I1083<=L1083,\"A TIEMPO\",\"FUERA DE TIEMPO\"))))","v":"A TIEMPO"},{"$f":"IF(I1083=\"\",\"\",NETWORKDAYS([4]Hoja1!C1083+1,[4]Hoja1!P1083,DiasNOLaborables))","v":8},"",null,null,20]
[1073,20209050034572,43944,"CORREO ELECTRÓNICO","SOLICITUD DE INFORMACIÓN Y DOCUMENTOS","SOLICITUD DE INFORMACIÓN HIDROMETEOROLÓGICA","NO","GRUPO DE ATENCIÓN AL CIUDADANO",43950,null,null,{"$f":"IFERROR(WORKDAY(C1084,R1084,DiasNOLaborables),\"\")","v":43973},{"$f":"+IF(C1084=\"\",\"\",IF(I1084=\"\",\"\",(IF(I1084<=L1084,\"A TIEMPO\",\"FUERA DE TIEMPO\"))))","v":"A TIEMPO"},{"$f":"IF(I1084=\"\",\"\",NETWORKDAYS([4]Hoja1!C1084+1,[4]Hoja1!P1084,DiasNOLaborables))","v":8},"",null,null,20]
[1074,20209050034632,43945,"CORREO ELECTRÓNICO","SOLICITUD DE INFORMACIÓN Y DOCUMENTOS","SOLICITUD DE INFORMACIÓN HIDROMETEOROLÓGICA","NO","GRUPO DE ATENCIÓN AL CIUDADANO",43950,null,null,{"$f":"IFERROR(WORKDAY(C1085,R1085,DiasNOLaborables),\"\")","v":43977},{"$f":"+IF(C1085=\"\",\"\",IF(I1085=\"\",\"\",(IF(I1085<=L1085,\"A TIEMPO\",\"FUERA DE TIEMPO\"))))","v":"A TIEMPO"},{"$f":"IF(I1085=\"\",\"\",NETWORKDAYS([4]Hoja1!C1085+1,[4]Hoja1!P1085,DiasNOLaborables))","v":8},"",null,null,20]
[1075,20209050034672,43945,"CORREO ELECTRÓNICO","SOLICITUD DE INFORMACIÓN Y DOCUMENTOS","SOLICITUD DE INFORMACIÓN HIDROMETEOROLÓGICA","NO","GRUPO DE ATENCIÓN AL CIUDADANO",43951,null,null,{"$f":"IFERROR(WORKDAY(C1086,R1086,DiasNOLaborables),\"\")","v":43977},{"$f":"+IF(C1086=\"\",\"\",IF(I1086=\"\",\"\",(IF(I1086<=L1086,\"A TIEMPO\",\"FUERA DE TIEMPO\"))))","v":"A TIEMPO"},{"$f":"IF(I1086=\"\",\"\",NETWORKDAYS([4]Hoja1!C1086+1,[4]Hoja1!P1086,DiasNOLaborables))","v":8},"",null,null,20]
[1076,20209050034682,43945,"CORREO ELECTRÓNICO","SOLICITUD DE INFORMACIÓN Y DOCUMENTOS","SOLICITUD DE INFORMACIÓN HIDROMETEOROLÓGICA","NO","GRUPO DE ATENCIÓN AL CIUDADANO",43951,null,null,{"$f":"IFERROR(WORKDAY(C1087,R1087,DiasNOLaborables),\"\")","v":43977},{"$f":"+IF(C1087=\"\",\"\",IF(I1087=\"\",\"\",(IF(I1087<=L1087,\"A TIEMPO\",\"FUERA DE TIEMPO\"))))","v":"A TIEMPO"},{"$f":"IF(I1087=\"\",\"\",NETWORKDAYS([4]Hoja1!C1087+1,[4]Hoja1!P1087,DiasNOLaborables))","v":8},"",null,null,20]
[1077,20209050034702,43945,"CORREO ELECTRÓNICO","SOLICITUD DE INFORMACIÓN Y DOCUMENTOS","SOLICITUD DE INFORMACIÓN HIDROMETEOROLÓGICA","NO","GRUPO DE ATENCIÓN AL CIUDADANO",43951,null,null,{"$f":"IFERROR(WORKDAY(C1088,R1088,DiasNOLaborables),\"\")","v":43977},{"$f":"+IF(C1088=\"\",\"\",IF(I1088=\"\",\"\",(IF(I1088<=L1088,\"A TIEMPO\",\"FUERA DE TIEMPO\"))))","v":"A TIEMPO"},{"$f":"IF(I1088=\"\",\"\",NETWORKDAYS([4]Hoja1!C1088+1,[4]Hoja1!P1088,DiasNOLaborables))","v":8},"",null,null,20]
[1078,20209050034722,43945,"CORREO ELECTRÓNICO","SOLICITUD DE INFORMACIÓN Y DOCUMENTOS","SOLICITUD DE INFORMACIÓN HIDROMETEOROLÓGICA","NO","GRUPO DE ATENCIÓN AL CIUDADANO",43951,null,null,{"$f":"IFERROR(WORKDAY(C1089,R1089,DiasNOLaborables),\"\")","v":43977},{"$f":"+IF(C1089=\"\",\"\",IF(I1089=\"\",\"\",(IF(I1089<=L1089,\"A TIEMPO\",\"FUERA DE TIEMPO\"))))","v":"A TIEMPO"},{"$f":"IF(I1089=\"\",\"\",NETWORKDAYS([4]Hoja1!C1089+1,[4]Hoja1!P1089,DiasNOLaborables))","v":8},"",null,null,20]
[1079,20209050034842,43945,"MODULO CONTACTENOS","SOLICITUD DE INFORMACIÓN Y DOCUMENTOS","SOLICITUD DE INFORMACIÓN Y DOCUMENTOS","SI","OFICINA DE INFORMÁTICA",43956,null,null,{"$f":"IFERROR(WORKDAY(C1090,R1090,DiasNOLaborables),\"\")","v":43977},{"$f":"+IF(C1090=\"\",\"\",IF(I1090=\"\",\"\",(IF(I1090<=L1090,\"A TIEMPO\",\"FUERA DE TIEMPO\"))))","v":"A TIEMPO"},{"$f":"IF(I1090=\"\",\"\",NETWORKDAYS([4]Hoja1!C1090+1,[4]Hoja1!P1090,DiasNOLaborables))","v":8},"",null,null,20]
[1080,20209050034762,43945,"CORREO ELECTRÓNICO","SOLICITUD DE INFORMACIÓN Y DOCUMENTOS","SOLICITUD DE INFORMACIÓN HIDROMETEOROLÓGICA","NO","GRUPO DE ATENCIÓN AL CIUDADANO",43951,null,null,{"$f":"IFERROR(WORKDAY(C1091,R1091,DiasNOLaborables),\"\")","v":43977},{"$f":"+IF(C1091=\"\",\"\",IF(I1091=\"\",\"\",(IF(I1091<=L1091,\"A TIEMPO\",\"FUERA DE TIEMPO\"))))","v":"A TIEMPO"},{"$f":"IF(I1091=\"\",\"\",NETWORKDAYS([4]Hoja1!C1091+1,[4]Hoja1!P1091,DiasNOLaborables))","v":8},"",null,null,20]
[1081,20209050034752,43945,"CORREO ELECTRÓNICO","SOLICITUD DE INFORMACIÓN Y DOCUMENTOS","SOLICITUD DE INFORMACIÓN HIDROMETEOROLÓGICA","NO","GRUPO DE ATENCIÓN AL CIUDADANO",43951,null,null,{"$f":"IFERROR(WORKDAY(C1092,R1092,DiasNOLaborables),\"\")","v":43977},{"$f":"+IF(C1092=\"\",\"\",IF(I1092=\"\",\"\",(IF(I1092<=L1092,\"A TIEMPO\",\"FUERA DE TIEMPO\"))))","v":"A TIEMPO"},{"$f":"IF(I1092=\"\",\"\",NETWORKDAYS([4]Hoja1!C1092+1,[4]Hoja1!P1092,DiasNOLaborables))","v":8},"",null,null,{"$f":"IFERROR(VLOOKUP(E1092,$Z$50:$AA$63,2),\"\")","v":20}]
[1082,20209050034782,43945,"CORREO ELECTRÓNICO","SOLICITUD DE INFORMACIÓN Y DOCUMENTOS","SOLICITUD DE INFORMACIÓN HIDROMETEOROLÓGICA","NO","GRUPO DE ATENCIÓN AL CIUDADANO",43951,null,null,{"$f":"IFERROR(WORKDAY(C1093,R1093,DiasNOLaborables),\"\")","v":43977},{"$f":"+IF(C1093=\"\",\"\",IF(I1093=\"\",\"\",(IF(I1093<=L1093,\"A TIEMPO\",\"FUERA DE TIEMPO\"))))","v":"A TIEMPO"},{"$f":"IF(I1093=\"\",\"\",NETWORKDAYS([4]Hoja1!C1093+1,[4]Hoja1!P1093,DiasNOLaborables))","v":8},"",null,null,20]
[1083,20207090000912,43945,"CORREO ELECTRÓNICO","SOLICITUD DE INFORMACIÓN Y DOCUMENTOS","SOLICITUD DE INFORMACIÓN HIDROMETEOROLÓGICA","NO","GRUPO DE ATENCIÓN AL CIUDADANO",43951,null,null,{"$f":"IFERROR(WORKDAY(C1094,R1094,DiasNOLaborables),\"\")","v":43977},{"$f":"+IF(C1094=\"\",\"\",IF(I1094=\"\",\"\",(IF(I1094<=L1094,\"A TIEMPO\",\"FUERA DE TIEMPO\"))))","v":"A TIEMPO"},{"$f":"IF(I1094=\"\",\"\",NETWORKDAYS([4]Hoja1!C1094+1,[4]Hoja1!P1094,DiasNOLaborables))","v":8},"",null,null,20]
[1084,20209050034862,43945,"CORREO ELECTRÓNICO","SOLICITUD DE INFORMACIÓN Y DOCUMENTOS","SOLICITUD DE INFORMACIÓN HIDROMETEOROLÓGICA","NO","GRUPO DE ATENCIÓN AL CIUDADANO",43951,null,null,{"$f":"IFERROR(WORKDAY(C1095,R1095,DiasNOLaborables),\"\")","v":43977},{"$f":"+IF(C1095=\"\",\"\",IF(I1095=\"\",\"\",(IF(I1095<=L1095,\"A TIEMPO\",\"FUERA DE TIEMPO\"))))","v":"A TIEMPO"},{"$f":"IF(I1095=\"\",\"\",NETWORKDAYS([4]Hoja1!C1095+1,[4]Hoja1!P1095,DiasNOLaborables))","v":8},"",null,null,20]
[1085,20209050034892,43945,"CORREO ELECTRÓNICO","SOLICITUD DE INFORMACIÓN Y DOCUMENTOS","SOLICITUD DE INFORMACIÓN HIDROMETEOROLÓGICA","NO","GRUPO DE ATENCIÓN AL CIUDADANO",43951,null,null,{"$f":"IFERROR(WORKDAY(C1096,R1096,DiasNOLaborables),\"\")","v":43977},{"$f":"+IF(C1096=\"\",\"\",IF(I1096=\"\",\"\",(IF(I1096<=L1096,\"A TIEMPO\",\"FUERA DE TIEMPO\"))))","v":"A TIEMPO"},{"$f":"IF(I1096=\"\",\"\",NETWORKDAYS([4]Hoja1!C1096+1,[4]Hoja1!P1096,DiasNOLaborables))","v":8},"",null,null,20]
[1086,20209910034892,43945,"CORREO ELECTRÓNICO","PETICIÓN","ACREDITACIÓN DE LABORATORIOS","SI","SUBDIRECCIÓN DE ESTUDIOS AMBIENTALES",43970,null,null,{"$f":"IFERROR(WORKDAY(C1097,R1097,DiasNOLaborables),\"\")","v":43991},{"$f":"+IF(C1097=\"\",\"\",IF(I1097=\"\",\"\",(IF(I1097<=L1097,\"A TIEMPO\",\"FUERA DE TIEMPO\"))))","v":"A TIEMPO"},{"$f":"IF(I1097=\"\",\"\",NETWORKDAYS([4]Hoja1!C1097+1,[4]Hoja1!P1097,DiasNOLaborables))","v":8},"",null,null,30]
[1087,20209050034692,43945,"MODULO CONTACTENOS","PETICIÓN","SIRH","SI","SUBDIRECCIÓN DE HIDROLOGÍA",43949,null,null,{"$f":"IFERROR(WORKDAY(C1098,R1098,DiasNOLaborables),\"\")","v":43991},{"$f":"+IF(C1098=\"\",\"\",IF(I1098=\"\",\"\",(IF(I1098<=L1098,\"A TIEMPO\",\"FUERA DE TIEMPO\"))))","v":"A TIEMPO"},{"$f":"IF(I1098=\"\",\"\",NETWORKDAYS([4]Hoja1!C1098+1,[4]Hoja1!P1098,DiasNOLaborables))","v":8},"",null,null,30]
[1088,20209050034772,43945,"MODULO CONTACTENOS","SOLICITUD DE INFORMACIÓN Y DOCUMENTOS","WEB Y CORREO","SI","OFICINA DE INFORMÁTICA",43966,null,null,{"$f":"IFERROR(WORKDAY(C1099,R1099,DiasNOLaborables),\"\")","v":43977},{"$f":"+IF(C1099=\"\",\"\",IF(I1099=\"\",\"\",(IF(I1099<=L1099,\"A TIEMPO\",\"FUERA DE TIEMPO\"))))","v":"A TIEMPO"},{"$f":"IF(I1099=\"\",\"\",NETWORKDAYS([4]Hoja1!C1099+1,[4]Hoja1!P1099,DiasNOLaborables))","v":8},"",null,null,20]
[1089,20209050034822,43945,"MODULO CONTACTENOS","SOLICITUD DE INFORMACIÓN Y DOCUMENTOS","INFORMES AMBIENTALES","SI","SUBDIRECCIÓN DE ESTUDIOS AMBIENTALES",43949,null,null,{"$f":"IFERROR(WORKDAY(C1100,R1100,DiasNOLaborables),\"\")","v":43977},{"$f":"+IF(C1100=\"\",\"\",IF(I1100=\"\",\"\",(IF(I1100<=L1100,\"A TIEMPO\",\"FUERA DE TIEMPO\"))))","v":"A TIEMPO"},{"$f":"IF(I1100=\"\",\"\",NETWORKDAYS([4]Hoja1!C1100+1,[4]Hoja1!P1100,DiasNOLaborables))","v":8},"",null,null,20]
[1090,20209050034872,43945,"MODULO CONTACTENOS","CERTIFICACIONES DE TIEMPO, CLIMA Y EVENTOS HIDROLÓGICOS","CERTIFICACIONES DE TIEMPO Y CLIMA","SI","SUBDIRECCIÓN DE METEOROLOGÍA",43956,null,null,{"$f":"IFERROR(WORKDAY(C1101,R1101,DiasNOLaborables),\"\")","v":43991},{"$f":"+IF(C1101=\"\",\"\",IF(I1101=\"\",\"\",(IF(I1101<=L1101,\"A TIEMPO\",\"FUERA DE TIEMPO\"))))","v":"A TIEMPO"},{"$f":"IF(I1101=\"\",\"\",NETWORKDAYS([4]Hoja1!C1101+1,[4]Hoja1!P1101,DiasNOLaborables))","v":8},"",null,null,30]
[1091,20209050034732,43945,"CORREO ELECTRÓNICO","SOLICITUD DE INFORMACIÓN Y DOCUMENTOS","REGISTROS AMBIENTALES","SI","SUBDIRECCIÓN DE ESTUDIOS AMBIENTALES",43946,null,null,{"$f":"IFERROR(WORKDAY(C1102,R1102,DiasNOLaborables),\"\")","v":43977},{"$f":"+IF(C1102=\"\",\"\",IF(I1102=\"\",\"\",(IF(I1102<=L1102,\"A TIEMPO\",\"FUERA DE TIEMPO\"))))","v":"A TIEMPO"},{"$f":"IF(I1102=\"\",\"\",NETWORKDAYS([4]Hoja1!C1102+1,[4]Hoja1!P1102,DiasNOLaborables))","v":8},"",null,null,20]
[1092,20209050034792,43945,"CORREO ELECTRÓNICO","CERTIFICACIONES DE TIEMPO, CLIMA Y EVENTOS HIDROLÓGICOS","CERTIFICACIONES DE TIEMPO Y CLIMA","SI","SUBDIRECCIÓN DE METEOROLOGÍA",43951,null,null,{"$f":"IFERROR(WORKDAY(C1103,R1103,DiasNOLaborables),\"\")","v":43991},{"$f":"+IF(C1103=\"\",\"\",IF(I1103=\"\",\"\",(IF(I1103<=L1103,\"A TIEMPO\",\"FUERA DE TIEMPO\"))))","v":"A TIEMPO"},{"$f":"IF(I1103=\"\",\"\",NETWORKDAYS([4]Hoja1!C1103+1,[4]Hoja1!P1103,DiasNOLaborables))","v":8},"",null,null,30]
[1093,20209050034802,43945,"CORREO ELECTRÓNICO","SOLICITUD DE INFORMACIÓN Y DOCUMENTOS","REGISTROS AMBIENTALES","SI","SUBDIRECCIÓN DE ESTUDIOS AMBIENTALES",43945,null,null,{"$f":"IFERROR(WORKDAY(C1104,R1104,DiasNOLaborables),\"\")","v":43977},{"$f":"+IF(C1104=\"\",\"\",IF(I1104=\"\",\"\",(IF(I1104<=L1104,\"A TIEMPO\",\"FUERA DE TIEMPO\"))))","v":"A TIEMPO"},{"$f":"IF(I1104=\"\",\"\",NETWORKDAYS([4]Hoja1!C1104+1,[4]Hoja1!P1104,DiasNOLaborables))","v":8},"",null,null,20]
[1094,20209050034812,43945,"CORREO ELECTRÓNICO","CERTIFICACIONES DE TIEMPO, CLIMA Y EVENTOS HIDROLÓGICOS","CERTIFICACIONES DE TIEMPO Y CLIMA","SI","SUBDIRECCIÓN DE METEOROLOGÍA",43949,null,null,{"$f":"IFERROR(WORKDAY(C1105,R1105,DiasNOLaborables),\"\")","v":43991},{"$f":"+IF(C1105=\"\",\"\",IF(I1105=\"\",\"\",(IF(I1105<=L1105,\"A TIEMPO\",\"FUERA DE TIEMPO\"))))","v":"A TIEMPO"},{"$f":"IF(I1105=\"\",\"\",NETWORKDAYS([4]Hoja1!C1105+1,[4]Hoja1!P1105,DiasNOLaborables))","v":8},"",null,null,30]
[1095,20209050034832,43945,"CORREO ELECTRÓNICO","SOLICITUD DE INFORMACIÓN Y DOCUMENTOS","SOLICITUD DE INFORMACIÓN Y DOCUMENTOS","SI","SUBDIRECCIÓN DE ESTUDIOS AMBIENTALES",43949,null,null,{"$f":"IFERROR(WORKDAY(C1106,R1106,DiasNOLaborables),\"\")","v":43977},{"$f":"+IF(C1106=\"\",\"\",IF(I1106=\"\",\"\",(IF(I1106<=L1106,\"A TIEMPO\",\"FUERA DE TIEMPO\"))))","v":"A TIEMPO"},{"$f":"IF(I1106=\"\",\"\",NETWORKDAYS([4]Hoja1!C1106+1,[4]Hoja1!P1106,DiasNOLaborables))","v":8},"",null,null,20]
[1096,20209050034882,43945,"CORREO ELECTRÓNICO","SOLICITUD DE INFORMACIÓN Y DOCUMENTOS","ADMINISTRATIVA","SI","OFICINA ASESORA JURÍDICA",43977,null,null,{"$f":"IFERROR(WORKDAY(C1107,R1107,DiasNOLaborables),\"\")","v":43977},{"$f":"+IF(C1107=\"\",\"\",IF(I1107=\"\",\"\",(IF(I1107<=L1107,\"A TIEMPO\",\"FUERA DE TIEMPO\"))))","v":"A TIEMPO"},{"$f":"IF(I1107=\"\",\"\",NETWORKDAYS([4]Hoja1!C1107+1,[4]Hoja1!P1107,DiasNOLaborables))","v":8},"",null,null,20]
[1097,20209050034902,43945,"MODULO CONTACTENOS","SOLICITUD DE INFORMACIÓN Y DOCUMENTOS","BOSQUES","SI","SUBDIRECCIÓN DE ECOSISTEMAS E INFORMACIÓN AMBIENTAL",43955,null,null,{"$f":"IFERROR(WORKDAY(C1108,R1108,DiasNOLaborables),\"\")","v":43977},{"$f":"+IF(C1108=\"\",\"\",IF(I1108=\"\",\"\",(IF(I1108<=L1108,\"A TIEMPO\",\"FUERA DE TIEMPO\"))))","v":"A TIEMPO"},{"$f":"IF(I1108=\"\",\"\",NETWORKDAYS([4]Hoja1!C1108+1,[4]Hoja1!P1108,DiasNOLaborables))","v":8},"",null,null,20]
[1098,20209050034912,43945,"CORREO ELECTRÓNICO","SOLICITUD DE INFORMACIÓN Y DOCUMENTOS","SOLICITUD DE INFORMACIÓN HIDROMETEOROLÓGICA","NO","GRUPO DE ATENCIÓN AL CIUDADANO",43955,null,null,{"$f":"IFERROR(WORKDAY(C1109,R1109,DiasNOLaborables),\"\")","v":43977},{"$f":"+IF(C1109=\"\",\"\",IF(I1109=\"\",\"\",(IF(I1109<=L1109,\"A TIEMPO\",\"FUERA DE TIEMPO\"))))","v":"A TIEMPO"},{"$f":"IF(I1109=\"\",\"\",NETWORKDAYS([4]Hoja1!C1109+1,[4]Hoja1!P1109,DiasNOLaborables))","v":8},"",null,null,20]
[1099,20209050034932,43945,"CORREO ELECTRÓNICO","SOLICITUD DE INFORMACIÓN Y DOCUMENTOS","SOLICITUD DE INFORMACIÓN HIDROMETEOROLÓGICA","NO","GRUPO DE ATENCIÓN AL CIUDADANO",43955,null,null,{"$f":"IFERROR(WORKDAY(C1110,R1110,DiasNOLaborables),\"\")","v":43977},{"$f":"+IF(C1110=\"\",\"\",IF(I1110=\"\",\"\",(IF(I1110<=L1110,\"A TIEMPO\",\"FUERA DE TIEMPO\"))))","v":"A TIEMPO"},{"$f":"IF(I1110=\"\",\"\",NETWORKDAYS([4]Hoja1!C1110+1,[4]Hoja1!P1110,DiasNOLaborables))","v":8},"",null,null,20]
[1100,20209050034942,43945,"CORREO ELECTRÓNICO","SOLICITUD DE INFORMACIÓN Y DOCUMENTOS","SOLICITUD DE INFORMACIÓN HIDROMETEOROLÓGICA","NO","GRUPO DE ATENCIÓN AL CIUDADANO",43955,null,null,{"$f":"IFERROR(WORKDAY(C1111,R1111,DiasNOLaborables),\"\")","v":43977},{"$f":"+IF(C1111=\"\",\"\",IF(I1111=\"\",\"\",(IF(I1111<=L1111,\"A TIEMPO\",\"FUERA DE TIEMPO\"))))","v":"A TIEMPO"},{"$f":"IF(I1111=\"\",\"\",NETWORKDAYS([4]Hoja1!C1111+1,[4]Hoja1!P1111,DiasNOLaborables))","v":8},"",null,null,20]
[1101,20209050034952,43946,"CORREO ELECTRÓNICO","SOLICITUD DE INFORMACIÓN Y DOCUMENTOS","SOLICITUD DE INFORMACIÓN HIDROMETEOROLÓGICA","NO","GRUPO DE ATENCIÓN AL CIUDADANO",43955,null,null,{"$f":"IFERROR(WORKDAY(C1112,R1112,DiasNOLaborables),\"\")","v":43977},{"$f":"+IF(C1112=\"\",\"\",IF(I1112=\"\",\"\",(IF(I1112<=L1112,\"A TIEMPO\",\"FUERA DE TIEMPO\"))))","v":"A TIEMPO"},{"$f":"IF(I1112=\"\",\"\",NETWORKDAYS([4]Hoja1!C1112+1,[4]Hoja1!P1112,DiasNOLaborables))","v":8},"",null,null,20]
[1102,20209050034972,43946,"CORREO ELECTRÓNICO","SOLICITUD DE INFORMACIÓN Y DOCUMENTOS","SOLICITUD DE INFORMACIÓN HIDROMETEOROLÓGICA","SI","GRUPO DE ATENCIÓN AL CIUDADANO",43955,null,null,{"$f":"IFERROR(WORKDAY(C1113,R1113,DiasNOLaborables),\"\")","v":43977},{"$f":"+IF(C1113=\"\",\"\",IF(I1113=\"\",\"\",(IF(I1113<=L1113,\"A TIEMPO\",\"FUERA DE TIEMPO\"))))","v":"A TIEMPO"},{"$f":"IF(I1113=\"\",\"\",NETWORKDAYS([4]Hoja1!C1113+1,[4]Hoja1!P1113,DiasNOLaborables))","v":8},"",null,null,20]
[1103,20209050034982,43946,"CORREO ELECTRÓNICO","SOLICITUD DE INFORMACIÓN Y DOCUMENTOS","SOLICITUD DE INFORMACIÓN HIDROMETEOROLÓGICA","SI","GRUPO DE ATENCIÓN AL CIUDADANO",43955,null,null,{"$f":"IFERROR(WORKDAY(C1114,R1114,DiasNOLaborables),\"\")","v":43977},{"$f":"+IF(C1114=\"\",\"\",IF(I1114=\"\",\"\",(IF(I1114<=L1114,\"A TIEMPO\",\"FUERA DE TIEMPO\"))))","v":"A TIEMPO"},{"$f":"IF(I1114=\"\",\"\",NETWORKDAYS([4]Hoja1!C1114+1,[4]Hoja1!P1114,DiasNOLaborables))","v":8},"",null,null,20]
[1104,20209050034992,43946,"CORREO ELECTRÓNICO","SOLICITUD DE INFORMACIÓN Y DOCUMENTOS","SOLICITUD DE INFORMACIÓN HIDROMETEOROLÓGICA","NO","GRUPO DE ATENCIÓN AL CIUDADANO",43955,null,null,{"$f":"IFERROR(WORKDAY(C1115,R1115,DiasNOLaborables),\"\")","v":43977},{"$f":"+IF(C1115=\"\",\"\",IF(I1115=\"\",\"\",(IF(I1115<=L1115,\"A TIEMPO\",\"FUERA DE TIEMPO\"))))","v":"A TIEMPO"},{"$f":"IF(I1115=\"\",\"\",NETWORKDAYS([4]Hoja1!C1115+1,[4]Hoja1!P1115,DiasNOLaborables))","v":8},"",null,null,20]
[1105,20209050035002,43946,"CORREO ELECTRÓNICO","SOLICITUD DE INFORMACIÓN Y DOCUMENTOS","SOLICITUD DE INFORMACIÓN HIDROMETEOROLÓGICA","NO","GRUPO DE ATENCIÓN AL CIUDADANO",43955,null,null,{"$f":"IFERROR(WORKDAY(C1116,R1116,DiasNOLaborables),\"\")","v":43977},{"$f":"+IF(C1116=\"\",\"\",IF(I1116=\"\",\"\",(IF(I1116<=L1116,\"A TIEMPO\",\"FUERA DE TIEMPO\"))))","v":"A TIEMPO"},{"$f":"IF(I1116=\"\",\"\",NETWORKDAYS([4]Hoja1!C1116+1,[4]Hoja1!P1116,DiasNOLaborables))","v":9},"",null,null,20]
[1106,20209050035012,43946,"CORREO ELECTRÓNICO","SOLICITUD DE INFORMACIÓN Y DOCUMENTOS","SOLICITUD DE INFORMACIÓN HIDROMETEOROLÓGICA","NO","GRUPO DE ATENCIÓN AL CIUDADANO",43955,null,null,{"$f":"IFERROR(WORKDAY(C1117,R1117,DiasNOLaborables),\"\")","v":43977},{"$f":"+IF(C1117=\"\",\"\",IF(I1117=\"\",\"\",(IF(I1117<=L1117,\"A TIEMPO\",\"FUERA DE TIEMPO\"))))","v":"A TIEMPO"},{"$f":"IF(I1117=\"\",\"\",NETWORKDAYS([4]Hoja1!C1117+1,[4]Hoja1!P1117,DiasNOLaborables))","v":9},"",null,null,20]
[1107,20209050035032,43946,"CORREO ELECTRÓNICO","SOLICITUD DE INFORMACIÓN Y DOCUMENTOS","SOLICITUD DE INFORMACIÓN HIDROMETEOROLÓGICA","NO","GRUPO DE ATENCIÓN AL CIUDADANO",43955,null,null,{"$f":"IFERROR(WORKDAY(C1118,R1118,DiasNOLaborables),\"\")","v":43977},{"$f":"+IF(C1118=\"\",\"\",IF(I1118=\"\",\"\",(IF(I1118<=L1118,\"A TIEMPO\",\"FUERA DE TIEMPO\"))))","v":"A TIEMPO"},{"$f":"IF(I1118=\"\",\"\",NETWORKDAYS([4]Hoja1!C1118+1,[4]Hoja1!P1118,DiasNOLaborables))","v":9},"",null,null,20]
[1108,20209050034962,43946,"MODULO CONTACTENOS","SOLICITUD DE INFORMACIÓN Y DOCUMENTOS","BOSQUES","SI","SUBDIRECCIÓN DE ECOSISTEMAS E INFORMACIÓN AMBIENTAL",43957,null,null,{"$f":"IFERROR(WORKDAY(C1119,R1119,DiasNOLaborables),\"\")","v":43977},{"$f":"+IF(C1119=\"\",\"\",IF(I1119=\"\",\"\",(IF(I1119<=L1119,\"A TIEMPO\",\"FUERA DE TIEMPO\"))))","v":"A TIEMPO"},{"$f":"IF(I1119=\"\",\"\",NETWORKDAYS([4]Hoja1!C1119+1,[4]Hoja1!P1119,DiasNOLaborables))","v":9},"",null,null,20]
[1109,20209050035052,43947,"CORREO ELECTRÓNICO","SOLICITUD DE INFORMACIÓN Y DOCUMENTOS","SOLICITUD DE INFORMACIÓN HIDROMETEOROLÓGICA","NO","GRUPO DE ATENCIÓN AL CIUDADANO",43955,null,null,{"$f":"IFERROR(WORKDAY(C1120,R1120,DiasNOLaborables),\"\")","v":43977},{"$f":"+IF(C1120=\"\",\"\",IF(I1120=\"\",\"\",(IF(I1120<=L1120,\"A TIEMPO\",\"FUERA DE TIEMPO\"))))","v":"A TIEMPO"},{"$f":"IF(I1120=\"\",\"\",NETWORKDAYS([4]Hoja1!C1120+1,[4]Hoja1!P1120,DiasNOLaborables))","v":9},"",null,null,20]
[1110,20209050035192,43948,"CORREO ELECTRÓNICO","SOLICITUD DE INFORMACIÓN Y DOCUMENTOS","SOLICITUD DE INFORMACIÓN HIDROMETEOROLÓGICA","NO","GRUPO DE ATENCIÓN AL CIUDADANO",43956,null,null,{"$f":"IFERROR(WORKDAY(C1121,R1121,DiasNOLaborables),\"\")","v":43978},{"$f":"+IF(C1121=\"\",\"\",IF(I1121=\"\",\"\",(IF(I1121<=L1121,\"A TIEMPO\",\"FUERA DE TIEMPO\"))))","v":"A TIEMPO"},{"$f":"IF(I1121=\"\",\"\",NETWORKDAYS([4]Hoja1!C1121+1,[4]Hoja1!P1121,DiasNOLaborables))","v":9},"",null,null,20]
[1111,20209050035202,43948,"CORREO ELECTRÓNICO","SOLICITUD DE INFORMACIÓN Y DOCUMENTOS","SOLICITUD DE INFORMACIÓN HIDROMETEOROLÓGICA","NO","GRUPO DE ATENCIÓN AL CIUDADANO",43956,null,null,{"$f":"IFERROR(WORKDAY(C1122,R1122,DiasNOLaborables),\"\")","v":43978},{"$f":"+IF(C1122=\"\",\"\",IF(I1122=\"\",\"\",(IF(I1122<=L1122,\"A TIEMPO\",\"FUERA DE TIEMPO\"))))","v":"A TIEMPO"},{"$f":"IF(I1122=\"\",\"\",NETWORKDAYS([4]Hoja1!C1122+1,[4]Hoja1!P1122,DiasNOLaborables))","v":9},"",null,null,20]
[1112,20209050035212,43948,"CORREO ELECTRÓNICO","SOLICITUD DE INFORMACIÓN Y DOCUMENTOS","SOLICITUD DE INFORMACIÓN HIDROMETEOROLÓGICA","NO","GRUPO DE ATENCIÓN AL CIUDADANO",43956,null,null,{"$f":"IFERROR(WORKDAY(C1123,R1123,DiasNOLaborables),\"\")","v":43978},{"$f":"+IF(C1123=\"\",\"\",IF(I1123=\"\",\"\",(IF(I1123<=L1123,\"A TIEMPO\",\"FUERA DE TIEMPO\"))))","v":"A TIEMPO"},{"$f":"IF(I1123=\"\",\"\",NETWORKDAYS([4]Hoja1!C1123+1,[4]Hoja1!P1123,DiasNOLaborables))","v":9},"",null,null,20]
[1113,20209050035232,43948,"CORREO ELECTRÓNICO","SOLICITUD DE INFORMACIÓN Y DOCUMENTOS","SOLICITUD DE INFORMACIÓN HIDROMETEOROLÓGICA","NO","GRUPO DE ATENCIÓN AL CIUDADANO",43957,null,null,{"$f":"IFERROR(WORKDAY(C1124,R1124,DiasNOLaborables),\"\")","v":43978},{"$f":"+IF(C1124=\"\",\"\",IF(I1124=\"\",\"\",(IF(I1124<=L1124,\"A TIEMPO\",\"FUERA DE TIEMPO\"))))","v":"A TIEMPO"},{"$f":"IF(I1124=\"\",\"\",NETWORKDAYS([4]Hoja1!C1124+1,[4]Hoja1!P1124,DiasNOLaborables))","v":9},"",null,null,20]
[1114,20209050035262,43948,"CORREO ELECTRÓNICO","SOLICITUD DE INFORMACIÓN Y DOCUMENTOS","SOLICITUD DE INFORMACIÓN HIDROMETEOROLÓGICA","NO","GRUPO DE ATENCIÓN AL CIUDADANO",43956,null,null,{"$f":"IFERROR(WORKDAY(C1125,R1125,DiasNOLaborables),\"\")","v":43978},{"$f":"+IF(C1125=\"\",\"\",IF(I1125=\"\",\"\",(IF(I1125<=L1125,\"A TIEMPO\",\"FUERA DE TIEMPO\"))))","v":"A TIEMPO"},{"$f":"IF(I1125=\"\",\"\",NETWORKDAYS([4]Hoja1!C1125+1,[4]Hoja1!P1125,DiasNOLaborables))","v":9},"",null,null,20]
[1115,20209050035382,43948,"CORREO ELECTRÓNICO","SOLICITUD DE INFORMACIÓN Y DOCUMENTOS","SOLICITUD DE INFORMACIÓN HIDROMETEOROLÓGICA","NO","GRUPO DE ATENCIÓN AL CIUDADANO",43956,null,null,{"$f":"IFERROR(WORKDAY(C1126,R1126,DiasNOLaborables),\"\")","v":43978},{"$f":"+IF(C1126=\"\",\"\",IF(I1126=\"\",\"\",(IF(I1126<=L1126,\"A TIEMPO\",\"FUERA DE TIEMPO\"))))","v":"A TIEMPO"},{"$f":"IF(I1126=\"\",\"\",NETWORKDAYS([4]Hoja1!C1126+1,[4]Hoja1!P1126,DiasNOLaborables))","v":9},"",null,null,20]
[1116,20209050035392,43948,"CORREO ELECTRÓNICO","SOLICITUD DE INFORMACIÓN Y DOCUMENTOS","SOLICITUD DE INFORMACIÓN HIDROMETEOROLÓGICA","NO","GRUPO DE ATENCIÓN AL CIUDADANO",43956,null,null,{"$f":"IFERROR(WORKDAY(C1127,R1127,DiasNOLaborables),\"\")","v":43978},{"$f":"+IF(C1127=\"\",\"\",IF(I1127=\"\",\"\",(IF(I1127<=L1127,\"A TIEMPO\",\"FUERA DE TIEMPO\"))))","v":"A TIEMPO"},{"$f":"IF(I1127=\"\",\"\",NETWORKDAYS([4]Hoja1!C1127+1,[4]Hoja1!P1127,DiasNOLaborables))","v":9},"",null,null,20]
[1117,20209050035402,43948,"CORREO ELECTRÓNICO","SOLICITUD DE INFORMACIÓN Y DOCUMENTOS","SOLICITUD DE INFORMACIÓN HIDROMETEOROLÓGICA","NO","GRUPO DE ATENCIÓN AL CIUDADANO",43956,null,null,{"$f":"IFERROR(WORKDAY(C1128,R1128,DiasNOLaborables),\"\")","v":43978},{"$f":"+IF(C1128=\"\",\"\",IF(I1128=\"\",\"\",(IF(I1128<=L1128,\"A TIEMPO\",\"FUERA DE TIEMPO\"))))","v":"A TIEMPO"},{"$f":"IF(I1128=\"\",\"\",NETWORKDAYS([4]Hoja1!C1128+1,[4]Hoja1!P1128,DiasNOLaborables))","v":9},"",null,null,20]
[1118,20209050035432,43948,"CORREO ELECTRÓNICO","SOLICITUD DE INFORMACIÓN Y DOCUMENTOS","SOLICITUD DE INFORMACIÓN HIDROMETEOROLÓGICA","NO","GRUPO DE ATENCIÓN AL CIUDADANO",43957,null,null,{"$f":"IFERROR(WORKDAY(C1129,R1129,DiasNOLaborables),\"\")","v":43978},{"$f":"+IF(C1129=\"\",\"\",IF(I1129=\"\",\"\",(IF(I1129<=L1129,\"A TIEMPO\",\"FUERA DE TIEMPO\"))))","v":"A TIEMPO"},{"$f":"IF(I1129=\"\",\"\",NETWORKDAYS([4]Hoja1!C1129+1,[4]Hoja1!P1129,DiasNOLaborables))","v":9},"",null,null,20]
[1119,20209050035462,43948,"CORREO ELECTRÓNICO","SOLICITUD DE INFORMACIÓN Y DOCUMENTOS","SOLICITUD DE INFORMACIÓN HIDROMETEOROLÓGICA","NO","GRUPO DE ATENCIÓN AL CIUDADANO",43956,null,null,{"$f":"IFERROR(WORKDAY(C1130,R1130,DiasNOLaborables),\"\")","v":43978},{"$f":"+IF(C1130=\"\",\"\",IF(I1130=\"\",\"\",(IF(I1130<=L1130,\"A TIEMPO\",\"FUERA DE TIEMPO\"))))","v":"A TIEMPO"},{"$f":"IF(I1130=\"\",\"\",NETWORKDAYS([4]Hoja1!C1130+1,[4]Hoja1!P1130,DiasNOLaborables))","v":9},"",null,null,20]
[1120,20209050035472,43948,"CORREO ELECTRÓNICO","SOLICITUD DE INFORMACIÓN Y DOCUMENTOS","SOLICITUD DE INFORMACIÓN HIDROMETEOROLÓGICA","NO","GRUPO DE ATENCIÓN AL CIUDADANO",43956,null,null,{"$f":"IFERROR(WORKDAY(C1131,R1131,DiasNOLaborables),\"\")","v":43978},{"$f":"+IF(C1131=\"\",\"\",IF(I1131=\"\",\"\",(IF(I1131<=L1131,\"A TIEMPO\",\"FUERA DE TIEMPO\"))))","v":"A TIEMPO"},{"$f":"IF(I1131=\"\",\"\",NETWORKDAYS([4]Hoja1!C1131+1,[4]Hoja1!P1131,DiasNOLaborables))","v":9},"",null,null,20]
[1121,20209050035532,43948,"CORREO ELECTRÓNICO","SOLICITUD DE INFORMACIÓN Y DOCUMENTOS","SOLICITUD DE INFORMACIÓN HIDROMETEOROLÓGICA","NO","GRUPO DE ATENCIÓN AL CIUDADANO",43956,null,null,{"$f":"IFERROR(WORKDAY(C1132,R1132,DiasNOLaborables),\"\")","v":43978},{"$f":"+IF(C1132=\"\",\"\",IF(I1132=\"\",\"\",(IF(I1132<=L1132,\"A TIEMPO\",\"FUERA DE TIEMPO\"))))","v":"A TIEMPO"},{"$f":"IF(I1132=\"\",\"\",NETWORKDAYS([4]Hoja1!C1132+1,[4]Hoja1!P1132,DiasNOLaborables))","v":9},"",null,null,20]
[1122,20209050035552,43948,"CORREO ELECTRÓNICO","SOLICITUD DE INFORMACIÓN Y DOCUMENTOS","SOLICITUD DE INFORMACIÓN HIDROMETEOROLÓGICA","NO","GRUPO DE ATENCIÓN AL CIUDADANO",43956,null,null,{"$f":"IFERROR(WORKDAY(C1133,R1133,DiasNOLaborables),\"\")","v":43978},{"$f":"+IF(C1133=\"\",\"\",IF(I1133=\"\",\"\",(IF(I1133<=L1133,\"A TIEMPO\",\"FUERA DE TIEMPO\"))))","v":"A TIEMPO"},{"$f":"IF(I1133=\"\",\"\",NETWORKDAYS([4]Hoja1!C1133+1,[4]Hoja1!P1133,DiasNOLaborables))","v":9},"",null,null,20]
[1123,20209050035582,43948,"CORREO ELECTRÓNICO","SOLICITUD DE INFORMACIÓN Y DOCUMENTOS","SOLICITUD DE INFORMACIÓN HIDROMETEOROLÓGICA","NO","GRUPO DE ATENCIÓN AL CIUDADANO",43957,null,null,{"$f":"IFERROR(WORKDAY(C1134,R1134,DiasNOLaborables),\"\")","v":43978},{"$f":"+IF(C1134=\"\",\"\",IF(I1134=\"\",\"\",(IF(I1134<=L1134,\"A TIEMPO\",\"FUERA DE TIEMPO\"))))","v":"A TIEMPO"},{"$f":"IF(I1134=\"\",\"\",NETWORKDAYS([4]Hoja1!C1134+1,[4]Hoja1!P1134,DiasNOLaborables))","v":9},"",null,null,20]
[1124,20209050035592,43948,"CORREO ELECTRÓNICO","SOLICITUD DE INFORMACIÓN Y DOCUMENTOS","SOLICITUD DE INFORMACIÓN HIDROMETEOROLÓGICA","NO","GRUPO DE ATENCIÓN AL CIUDADANO",43956,null,null,{"$f":"IFERROR(WORKDAY(C1135,R1135,DiasNOLaborables),\"\")","v":43978},{"$f":"+IF(C1135=\"\",\"\",IF(I1135=\"\",\"\",(IF(I1135<=L1135,\"A TIEMPO\",\"FUERA DE TIEMPO\"))))","v":"A TIEMPO"},{"$f":"IF(I1135=\"\",\"\",NETWORKDAYS([4]Hoja1!C1135+1,[4]Hoja1!P1135,DiasNOLaborables))","v":9},"",null,null,20]
[1125,20209050035612,43948,"CORREO ELECTRÓNICO","SOLICITUD DE INFORMACIÓN Y DOCUMENTOS","SOLICITUD DE INFORMACIÓN HIDROMETEOROLÓGICA","NO","GRUPO DE ATENCIÓN AL CIUDADANO",43956,null,null,{"$f":"IFERROR(WORKDAY(C1136,R1136,DiasNOLaborables),\"\")","v":43978},{"$f":"+IF(C1136=\"\",\"\",IF(I1136=\"\",\"\",(IF(I1136<=L1136,\"A TIEMPO\",\"FUERA DE TIEMPO\"))))","v":"A TIEMPO"},{"$f":"IF(I1136=\"\",\"\",NETWORKDAYS([4]Hoja1!C1136+1,[4]Hoja1!P1136,DiasNOLaborables))","v":9},"",null,null,20]
[1126,20209050035122,43948,"MODULO CONTACTENOS","SOLICITUD DE INFORMACIÓN Y DOCUMENTOS","ADMINISTRATIVA","SI","GRUPO DE ADMINISTRACIÓN Y DESARROLLO DEL TALENTO HUMANO",43964,null,null,{"$f":"IFERROR(WORKDAY(C1137,R1137,DiasNOLaborables),\"\")","v":43978},{"$f":"+IF(C1137=\"\",\"\",IF(I1137=\"\",\"\",(IF(I1137<=L1137,\"A TIEMPO\",\"FUERA DE TIEMPO\"))))","v":"A TIEMPO"},{"$f":"IF(I1137=\"\",\"\",NETWORKDAYS([4]Hoja1!C1137+1,[4]Hoja1!P1137,DiasNOLaborables))","v":9},"",null,null,20]
[{"$f":"IF(B1136<>\"\",A1137+1,\"\")","v":1127},20209050035272,43948,"MODULO CONTACTENOS","SOLICITUD DE INFORMACIÓN Y DOCUMENTOS","WEB Y CORREO","SI","OFICINA DE INFORMÁTICA",43966,null,null,{"$f":"IFERROR(WORKDAY(C1138,R1138,DiasNOLaborables),\"\")","v":43978},{"$f":"+IF(C1138=\"\",\"\",IF(I1138=\"\",\"\",(IF(I1138<=L1138,\"A TIEMPO\",\"FUERA DE TIEMPO\"))))","v":"A TIEMPO"},{"$f":"IF(I1138=\"\",\"\",NETWORKDAYS([4]Hoja1!C1138+1,[4]Hoja1!P1138,DiasNOLaborables))","v":9},"",null,null,20]
[1128,20209050035362,43948,"MODULO CONTACTENOS","SOLICITUD DE INFORMACIÓN Y DOCUMENTOS","ADMINISTRATIVA","SI","GRUPO DE TESORERÍA",43955,null,null,{"$f":"IFERROR(WORKDAY(C1139,R1139,DiasNOLaborables),\"\")","v":43978},{"$f":"+IF(C1139=\"\",\"\",IF(I1139=\"\",\"\",(IF(I1139<=L1139,\"A TIEMPO\",\"FUERA DE TIEMPO\"))))","v":"A TIEMPO"},{"$f":"IF(I1139=\"\",\"\",NETWORKDAYS([4]Hoja1!C1139+1,[4]Hoja1!P1139,DiasNOLaborables))","v":9},"",null,null,20]
[1129,20209050035372,43948,"MODULO CONTACTENOS","SOLICITUD DE INFORMACIÓN Y DOCUMENTOS","ACREDITACIÓN DE LABORATORIOS","SI","SUBDIRECCIÓN DE ESTUDIOS AMBIENTALES",43958,null,null,{"$f":"IFERROR(WORKDAY(C1140,R1140,DiasNOLaborables),\"\")","v":43978},{"$f":"+IF(C1140=\"\",\"\",IF(I1140=\"\",\"\",(IF(I1140<=L1140,\"A TIEMPO\",\"FUERA DE TIEMPO\"))))","v":"A TIEMPO"},{"$f":"IF(I1140=\"\",\"\",NETWORKDAYS([4]Hoja1!C1140+1,[4]Hoja1!P1140,DiasNOLaborables))","v":9},{"$f":"IF(NETWORKDAYS(L1140+1,I1140,DiasNOLaborables)<=0,\"\",NETWORKDAYS(L1140+1,I1140,DiasNOLaborables))","v":""},null,null,20]
[1130,20209050035142,43948,"CORREO ELECTRÓNICO","SOLICITUD DE INFORMACIÓN Y DOCUMENTOS","REGISTROS AMBIENTALES","SI","SUBDIRECCIÓN DE ESTUDIOS AMBIENTALES",43948,null,null,{"$f":"IFERROR(WORKDAY(C1141,R1141,DiasNOLaborables),\"\")","v":43978},{"$f":"+IF(C1141=\"\",\"\",IF(I1141=\"\",\"\",(IF(I1141<=L1141,\"A TIEMPO\",\"FUERA DE TIEMPO\"))))","v":"A TIEMPO"},{"$f":"IF(I1141=\"\",\"\",NETWORKDAYS([4]Hoja1!C1141+1,[4]Hoja1!P1141,DiasNOLaborables))","v":9},"",null,null,20]
[1131,20209050035152,43948,"CORREO ELECTRÓNICO","SOLICITUD DE INFORMACIÓN Y DOCUMENTOS","SOLICITUD DE INFORMACIÓN Y DOCUMENTOS","SI","SUBDIRECCIÓN DE ECOSISTEMAS E INFORMACIÓN AMBIENTAL",43957,null,null,{"$f":"IFERROR(WORKDAY(C1142,R1142,DiasNOLaborables),\"\")","v":43978},{"$f":"+IF(C1142=\"\",\"\",IF(I1142=\"\",\"\",(IF(I1142<=L1142,\"A TIEMPO\",\"FUERA DE TIEMPO\"))))","v":"A TIEMPO"},{"$f":"IF(I1142=\"\",\"\",NETWORKDAYS([4]Hoja1!C1142+1,[4]Hoja1!P1142,DiasNOLaborables))","v":9},"",null,null,20]
[1132,20209050035162,43948,"CORREO ELECTRÓNICO","SOLICITUD DE INFORMACIÓN Y DOCUMENTOS","SOLICITUD DE INFORMACIÓN Y DOCUMENTOS","SI","SUBDIRECCIÓN DE ECOSISTEMAS E INFORMACIÓN AMBIENTAL",43949,null,null,{"$f":"IFERROR(WORKDAY(C1143,R1143,DiasNOLaborables),\"\")","v":43978},{"$f":"+IF(C1143=\"\",\"\",IF(I1143=\"\",\"\",(IF(I1143<=L1143,\"A TIEMPO\",\"FUERA DE TIEMPO\"))))","v":"A TIEMPO"},{"$f":"IF(I1143=\"\",\"\",NETWORKDAYS([4]Hoja1!C1143+1,[4]Hoja1!P1143,DiasNOLaborables))","v":9},"",null,null,20]
[1133,20209050035182,43948,"CORREO ELECTRÓNICO","SOLICITUD DE INFORMACIÓN Y DOCUMENTOS","SOLICITUD DE INFORMACIÓN Y DOCUMENTOS","SI","SUBDIRECCIÓN DE HIDROLOGÍA",43956,null,null,{"$f":"IFERROR(WORKDAY(C1144,R1144,DiasNOLaborables),\"\")","v":43978},{"$f":"+IF(C1144=\"\",\"\",IF(I1144=\"\",\"\",(IF(I1144<=L1144,\"A TIEMPO\",\"FUERA DE TIEMPO\"))))","v":"A TIEMPO"},{"$f":"IF(I1144=\"\",\"\",NETWORKDAYS([4]Hoja1!C1144+1,[4]Hoja1!P1144,DiasNOLaborables))","v":9},"",null,null,20]
[1134,20209050035112,43948,"MODULO CONTACTENOS","CERTIFICACIONES DE TIEMPO, CLIMA Y EVENTOS HIDROLÓGICOS","CERTIFICACIONES DE TIEMPO Y CLIMA","SI","SUBDIRECCIÓN DE METEOROLOGÍA",43956,null,null,{"$f":"IFERROR(WORKDAY(C1145,R1145,DiasNOLaborables),\"\")","v":43992},{"$f":"+IF(C1145=\"\",\"\",IF(I1145=\"\",\"\",(IF(I1145<=L1145,\"A TIEMPO\",\"FUERA DE TIEMPO\"))))","v":"A TIEMPO"},{"$f":"IF(I1145=\"\",\"\",NETWORKDAYS([4]Hoja1!C1145+1,[4]Hoja1!P1145,DiasNOLaborables))","v":9},"",null,null,30]
[1135,20209050035412,43948,"MODULO CONTACTENOS","SOLICITUD DE INFORMACIÓN Y DOCUMENTOS","SIRH","SI","SUBDIRECCIÓN DE HIDROLOGÍA",43959,null,null,{"$f":"IFERROR(WORKDAY(C1146,R1146,DiasNOLaborables),\"\")","v":43978},{"$f":"+IF(C1146=\"\",\"\",IF(I1146=\"\",\"\",(IF(I1146<=L1146,\"A TIEMPO\",\"FUERA DE TIEMPO\"))))","v":"A TIEMPO"},{"$f":"IF(I1146=\"\",\"\",NETWORKDAYS([4]Hoja1!C1146+1,[4]Hoja1!P1146,DiasNOLaborables))","v":9},"",null,null,20]
[1136,20209050035422,43948,"MODULO CONTACTENOS","SOLICITUD DE INFORMACIÓN Y DOCUMENTOS","ADMINISTRATIVA","SI","GRUPO DE ADMINISTRACIÓN Y DESARROLLO DEL TALENTO HUMANO",43951,null,null,{"$f":"IFERROR(WORKDAY(C1147,R1147,DiasNOLaborables),\"\")","v":43978},{"$f":"+IF(C1147=\"\",\"\",IF(I1147=\"\",\"\",(IF(I1147<=L1147,\"A TIEMPO\",\"FUERA DE TIEMPO\"))))","v":"A TIEMPO"},{"$f":"IF(I1147=\"\",\"\",NETWORKDAYS([4]Hoja1!C1147+1,[4]Hoja1!P1147,DiasNOLaborables))","v":9},"",null,null,20]
[1137,20209050035542,43948,"MODULO CONTACTENOS","SOLICITUD DE INFORMACIÓN Y DOCUMENTOS","ADMINISTRATIVA","SI","GRUPO DE ADMINISTRACIÓN Y DESARROLLO DEL TALENTO HUMANO",43970,null,null,{"$f":"IFERROR(WORKDAY(C1148,R1148,DiasNOLaborables),\"\")","v":43978},{"$f":"+IF(C1148=\"\",\"\",IF(I1148=\"\",\"\",(IF(I1148<=L1148,\"A TIEMPO\",\"FUERA DE TIEMPO\"))))","v":"A TIEMPO"},{"$f":"IF(I1148=\"\",\"\",NETWORKDAYS([4]Hoja1!C1148+1,[4]Hoja1!P1148,DiasNOLaborables))","v":9},"",null,null,20]
[1138,20209050035562,43948,"MODULO CONTACTENOS","CERTIFICACIONES DE TIEMPO, CLIMA Y EVENTOS HIDROLÓGICOS","CERTIFICACIONES DE TIEMPO Y CLIMA","SI","SUBDIRECCIÓN DE METEOROLOGÍA",43958,null,null,{"$f":"IFERROR(WORKDAY(C1149,R1149,DiasNOLaborables),\"\")","v":43992},{"$f":"+IF(C1149=\"\",\"\",IF(I1149=\"\",\"\",(IF(I1149<=L1149,\"A TIEMPO\",\"FUERA DE TIEMPO\"))))","v":"A TIEMPO"},{"$f":"IF(I1149=\"\",\"\",NETWORKDAYS([4]Hoja1!C1149+1,[4]Hoja1!P1149,DiasNOLaborables))","v":9},"",null,null,30]
[1139,20209050035572,43948,"MODULO CONTACTENOS","CERTIFICACIONES DE TIEMPO, CLIMA Y EVENTOS HIDROLÓGICOS","CERTIFICACIONES DE TIEMPO Y CLIMA","SI","SUBDIRECCIÓN DE METEOROLOGÍA",43958,null,null,{"$f":"IFERROR(WORKDAY(C1150,R1150,DiasNOLaborables),\"\")","v":43992},{"$f":"+IF(C1150=\"\",\"\",IF(I1150=\"\",\"\",(IF(I1150<=L1150,\"A TIEMPO\",\"FUERA DE TIEMPO\"))))","v":"A TIEMPO"},{"$f":"IF(I1150=\"\",\"\",NETWORKDAYS([4]Hoja1!C1150+1,[4]Hoja1!P1150,DiasNOLaborables))","v":9},"",null,null,30]
[1140,20209050035242,43948,"CORREO ELECTRÓNICO","SOLICITUD JUDICIAL ","CERTIFICACIONES DE TIEMPO Y CLIMA","SI","SUBDIRECCIÓN DE METEOROLOGÍA",43955,null,null,{"$f":"IFERROR(WORKDAY(C1151,R1151,DiasNOLaborables),\"\")","v":43956},{"$f":"+IF(C1151=\"\",\"\",IF(I1151=\"\",\"\",(IF(I1151<=L1151,\"A TIEMPO\",\"FUERA DE TIEMPO\"))))","v":"A TIEMPO"},{"$f":"IF(I1151=\"\",\"\",NETWORKDAYS([4]Hoja1!C1151+1,[4]Hoja1!P1151,DiasNOLaborables))","v":10},"",null,null,5]
[1141,20209050035282,43948,"CORREO ELECTRÓNICO","CERTIFICACIONES DE TIEMPO, CLIMA Y EVENTOS HIDROLÓGICOS","CERTIFICACIONES DE TIEMPO Y CLIMA","SI","SUBDIRECCIÓN DE METEOROLOGÍA",43951,null,null,{"$f":"IFERROR(WORKDAY(C1152,R1152,DiasNOLaborables),\"\")","v":43992},{"$f":"+IF(C1152=\"\",\"\",IF(I1152=\"\",\"\",(IF(I1152<=L1152,\"A TIEMPO\",\"FUERA DE TIEMPO\"))))","v":"A TIEMPO"},{"$f":"IF(I1152=\"\",\"\",NETWORKDAYS([4]Hoja1!C1152+1,[4]Hoja1!P1152,DiasNOLaborables))","v":10},"",null,null,30]
[1142,20209050035292,43948,"CORREO ELECTRÓNICO","SOLICITUD DE INFORMACIÓN Y DOCUMENTOS","SOLICITUD DE INFORMACIÓN Y DOCUMENTOS","SI","SUBDIRECCIÓN DE ESTUDIOS AMBIENTALES",43970,null,null,{"$f":"IFERROR(WORKDAY(C1153,R1153,DiasNOLaborables),\"\")","v":43978},{"$f":"+IF(C1153=\"\",\"\",IF(I1153=\"\",\"\",(IF(I1153<=L1153,\"A TIEMPO\",\"FUERA DE TIEMPO\"))))","v":"A TIEMPO"},{"$f":"IF(I1153=\"\",\"\",NETWORKDAYS([4]Hoja1!C1153+1,[4]Hoja1!P1153,DiasNOLaborables))","v":10},"",null,null,20]
[1143,20209050035302,43948,"CORREO ELECTRÓNICO","CERTIFICACIONES DE TIEMPO, CLIMA Y EVENTOS HIDROLÓGICOS","CERTIFICACIONES DE TIEMPO Y CLIMA","SI","SUBDIRECCIÓN DE METEOROLOGÍA",43956,null,null,{"$f":"IFERROR(WORKDAY(C1154,R1154,DiasNOLaborables),\"\")","v":43992},{"$f":"+IF(C1154=\"\",\"\",IF(I1154=\"\",\"\",(IF(I1154<=L1154,\"A TIEMPO\",\"FUERA DE TIEMPO\"))))","v":"A TIEMPO"},{"$f":"IF(I1154=\"\",\"\",NETWORKDAYS([4]Hoja1!C1154+1,[4]Hoja1!P1154,DiasNOLaborables))","v":10},"",null,null,30]
[1144,20209050035312,43948,"CORREO ELECTRÓNICO","SOLICITUD DE INFORMACIÓN Y DOCUMENTOS","SOLICITUD DE INFORMACIÓN Y DOCUMENTOS","SI","SUBDIRECCIÓN DE ECOSISTEMAS E INFORMACIÓN AMBIENTAL",43955,null,null,{"$f":"IFERROR(WORKDAY(C1155,R1155,DiasNOLaborables),\"\")","v":43978},{"$f":"+IF(C1155=\"\",\"\",IF(I1155=\"\",\"\",(IF(I1155<=L1155,\"A TIEMPO\",\"FUERA DE TIEMPO\"))))","v":"A TIEMPO"},{"$f":"IF(I1155=\"\",\"\",NETWORKDAYS([4]Hoja1!C1155+1,[4]Hoja1!P1155,DiasNOLaborables))","v":10},"",null,null,20]
[1145,20209050035332,43948,"CORREO ELECTRÓNICO","CERTIFICACIONES DE TIEMPO, CLIMA Y EVENTOS HIDROLÓGICOS","CERTIFICACIONES DE TIEMPO Y CLIMA","SI","SUBDIRECCIÓN DE METEOROLOGÍA",43951,null,null,{"$f":"IFERROR(WORKDAY(C1156,R1156,DiasNOLaborables),\"\")","v":43992},{"$f":"+IF(C1156=\"\",\"\",IF(I1156=\"\",\"\",(IF(I1156<=L1156,\"A TIEMPO\",\"FUERA DE TIEMPO\"))))","v":"A TIEMPO"},{"$f":"IF(I1156=\"\",\"\",NETWORKDAYS([4]Hoja1!C1156+1,[4]Hoja1!P1156,DiasNOLaborables))","v":10},"",null,null,{"$f":"IFERROR(VLOOKUP(E1156,$Z$50:$AA$63,2),\"\")","v":30}]
[1146,20209050035342,43948,"CORREO ELECTRÓNICO","CERTIFICACIONES DE TIEMPO, CLIMA Y EVENTOS HIDROLÓGICOS","CERTIFICACIONES DE TIEMPO Y CLIMA","SI","SUBDIRECCIÓN DE METEOROLOGÍA",43955,null,null,{"$f":"IFERROR(WORKDAY(C1157,R1157,DiasNOLaborables),\"\")","v":43992},{"$f":"+IF(C1157=\"\",\"\",IF(I1157=\"\",\"\",(IF(I1157<=L1157,\"A TIEMPO\",\"FUERA DE TIEMPO\"))))","v":"A TIEMPO"},{"$f":"IF(I1157=\"\",\"\",NETWORKDAYS([4]Hoja1!C1157+1,[4]Hoja1!P1157,DiasNOLaborables))","v":10},"",null,null,30]
[1147,20209050035352,43948,"CORREO ELECTRÓNICO","CERTIFICACIONES DE TIEMPO, CLIMA Y EVENTOS HIDROLÓGICOS","CERTIFICACIONES DE TIEMPO Y CLIMA","SI","SUBDIRECCIÓN DE METEOROLOGÍA",43951,null,null,{"$f":"IFERROR(WORKDAY(C1158,R1158,DiasNOLaborables),\"\")","v":43992},{"$f":"+IF(C1158=\"\",\"\",IF(I1158=\"\",\"\",(IF(I1158<=L1158,\"A TIEMPO\",\"FUERA DE TIEMPO\"))))","v":"A TIEMPO"},{"$f":"IF(I1158=\"\",\"\",NETWORKDAYS([4]Hoja1!C1158+1,[4]Hoja1!P1158,DiasNOLaborables))","v":10},"",null,null,30]
[1148,20209050035132,43948,"MODULO CONTACTENOS","SOLICITUD DE INFORMACIÓN Y DOCUMENTOS","SOLICITUD DE INFORMACIÓN Y DOCUMENTOS","SI","OFICINA DE INFORMÁTICA",43956,null,null,{"$f":"IFERROR(WORKDAY(C1159,R1159,DiasNOLaborables),\"\")","v":43978},{"$f":"+IF(C1159=\"\",\"\",IF(I1159=\"\",\"\",(IF(I1159<=L1159,\"A TIEMPO\",\"FUERA DE TIEMPO\"))))","v":"A TIEMPO"},{"$f":"IF(I1159=\"\",\"\",NETWORKDAYS([4]Hoja1!C1159+1,[4]Hoja1!P1159,DiasNOLaborables))","v":10},"",null,null,20]
[1149,20209050035442,43948,"CORREO ELECTRÓNICO","SOLICITUD DE INFORMACIÓN Y DOCUMENTOS","SOLICITUD DE INFORMACIÓN Y DOCUMENTOS","SI","SUBDIRECCIÓN DE HIDROLOGÍA",43949,null,null,{"$f":"IFERROR(WORKDAY(C1160,R1160,DiasNOLaborables),\"\")","v":43978},{"$f":"+IF(C1160=\"\",\"\",IF(I1160=\"\",\"\",(IF(I1160<=L1160,\"A TIEMPO\",\"FUERA DE TIEMPO\"))))","v":"A TIEMPO"},{"$f":"IF(I1160=\"\",\"\",NETWORKDAYS([4]Hoja1!C1160+1,[4]Hoja1!P1160,DiasNOLaborables))","v":9},"",null,null,20]
[1150,20209050035492,43948,"CORREO ELECTRÓNICO","SOLICITUD DE INFORMACIÓN Y DOCUMENTOS","ADMINISTRATIVA","SI","OFICINA ASESORA JURÍDICA",43977,null,null,{"$f":"IFERROR(WORKDAY(C1161,R1161,DiasNOLaborables),\"\")","v":43978},{"$f":"+IF(C1161=\"\",\"\",IF(I1161=\"\",\"\",(IF(I1161<=L1161,\"A TIEMPO\",\"FUERA DE TIEMPO\"))))","v":"A TIEMPO"},{"$f":"IF(I1161=\"\",\"\",NETWORKDAYS([4]Hoja1!C1161+1,[4]Hoja1!P1161,DiasNOLaborables))","v":9},"",null,null,20]
[1151,20209050035502,43948,"CORREO ELECTRÓNICO","SOLICITUD DE INFORMACIÓN Y DOCUMENTOS","SOLICITUD DE INFORMACIÓN Y DOCUMENTOS","SI","OFICINA DE INFORMÁTICA",43956,null,null,{"$f":"IFERROR(WORKDAY(C1162,R1162,DiasNOLaborables),\"\")","v":43978},{"$f":"+IF(C1162=\"\",\"\",IF(I1162=\"\",\"\",(IF(I1162<=L1162,\"A TIEMPO\",\"FUERA DE TIEMPO\"))))","v":"A TIEMPO"},{"$f":"IF(I1162=\"\",\"\",NETWORKDAYS([4]Hoja1!C1162+1,[4]Hoja1!P1162,DiasNOLaborables))","v":9},"",null,null,20]
[1152,20209050035512,43948,"CORREO ELECTRÓNICO","SOLICITUD DE INFORMACIÓN Y DOCUMENTOS","SOLICITUD DE INFORMACIÓN Y DOCUMENTOS","SI","SUBDIRECCIÓN DE ESTUDIOS AMBIENTALES",43957,null,null,{"$f":"IFERROR(WORKDAY(C1163,R1163,DiasNOLaborables),\"\")","v":43978},{"$f":"+IF(C1163=\"\",\"\",IF(I1163=\"\",\"\",(IF(I1163<=L1163,\"A TIEMPO\",\"FUERA DE TIEMPO\"))))","v":"A TIEMPO"},{"$f":"IF(I1163=\"\",\"\",NETWORKDAYS([4]Hoja1!C1163+1,[4]Hoja1!P1163,DiasNOLaborables))","v":9},"",null,null,20]
[1153,20209050035522,43948,"CORREO ELECTRÓNICO","SOLICITUD DE INFORMACIÓN Y DOCUMENTOS","SOLICITUD DE INFORMACIÓN Y DOCUMENTOS","SI","SUBDIRECCIÓN DE ESTUDIOS AMBIENTALES",43951,null,null,{"$f":"IFERROR(WORKDAY(C1164,R1164,DiasNOLaborables),\"\")","v":43978},{"$f":"+IF(C1164=\"\",\"\",IF(I1164=\"\",\"\",(IF(I1164<=L1164,\"A TIEMPO\",\"FUERA DE TIEMPO\"))))","v":"A TIEMPO"},{"$f":"IF(I1164=\"\",\"\",NETWORKDAYS([4]Hoja1!C1164+1,[4]Hoja1!P1164,DiasNOLaborables))","v":9},"",null,null,20]
[1154,20209050035602,43948,"CORREO ELECTRÓNICO","SOLICITUD DE INFORMACIÓN Y DOCUMENTOS","SOLICITUD DE INFORMACIÓN Y DOCUMENTOS","SI","OFICINA DE INFORMÁTICA",43951,null,null,{"$f":"IFERROR(WORKDAY(C1165,R1165,DiasNOLaborables),\"\")","v":43978},{"$f":"+IF(C1165=\"\",\"\",IF(I1165=\"\",\"\",(IF(I1165<=L1165,\"A TIEMPO\",\"FUERA DE TIEMPO\"))))","v":"A TIEMPO"},{"$f":"IF(I1165=\"\",\"\",NETWORKDAYS([4]Hoja1!C1165+1,[4]Hoja1!P1165,DiasNOLaborables))","v":9},"",null,null,20]
[1155,20209050035622,43948,"CORREO ELECTRÓNICO","SOLICITUD DE INFORMACIÓN Y DOCUMENTOS","SOLICITUD DE INFORMACIÓN Y DOCUMENTOS","SI","SUBDIRECCIÓN DE METEOROLOGÍA",43951,null,null,{"$f":"IFERROR(WORKDAY(C1166,R1166,DiasNOLaborables),\"\")","v":43978},{"$f":"+IF(C1166=\"\",\"\",IF(I1166=\"\",\"\",(IF(I1166<=L1166,\"A TIEMPO\",\"FUERA DE TIEMPO\"))))","v":"A TIEMPO"},{"$f":"IF(I1166=\"\",\"\",NETWORKDAYS([4]Hoja1!C1166+1,[4]Hoja1!P1166,DiasNOLaborables))","v":9},"",null,null,20]
[1156,20209050035712,43949,"CORREO ELECTRÓNICO","SOLICITUD JUDICIAL ","CERTIFICACIONES DE TIEMPO Y CLIMA","SI","SUBDIRECCIÓN DE METEOROLOGÍA",43954,null,null,{"$f":"IFERROR(WORKDAY(C1167,R1167,DiasNOLaborables),\"\")","v":43957},{"$f":"+IF(C1167=\"\",\"\",IF(I1167=\"\",\"\",(IF(I1167<=L1167,\"A TIEMPO\",\"FUERA DE TIEMPO\"))))","v":"A TIEMPO"},{"$f":"IF(I1167=\"\",\"\",NETWORKDAYS([4]Hoja1!C1167+1,[4]Hoja1!P1167,DiasNOLaborables))","v":9},"",null,null,5]
[1157,20209050035722,43949,"CORREO ELECTRÓNICO","SOLICITUD DE INFORMACIÓN Y DOCUMENTOS","REGISTROS AMBIENTALES","SI","SUBDIRECCIÓN DE ESTUDIOS AMBIENTALES",43949,null,null,{"$f":"IFERROR(WORKDAY(C1168,R1168,DiasNOLaborables),\"\")","v":43979},{"$f":"+IF(C1168=\"\",\"\",IF(I1168=\"\",\"\",(IF(I1168<=L1168,\"A TIEMPO\",\"FUERA DE TIEMPO\"))))","v":"A TIEMPO"},{"$f":"IF(I1168=\"\",\"\",NETWORKDAYS([4]Hoja1!C1168+1,[4]Hoja1!P1168,DiasNOLaborables))","v":9},"",null,null,20]
[1158,20209050035732,43949,"CORREO ELECTRÓNICO","SOLICITUD DE INFORMACIÓN Y DOCUMENTOS","REGISTROS AMBIENTALES","SI","SUBDIRECCIÓN DE ESTUDIOS AMBIENTALES",43949,null,null,{"$f":"IFERROR(WORKDAY(C1169,R1169,DiasNOLaborables),\"\")","v":43979},{"$f":"+IF(C1169=\"\",\"\",IF(I1169=\"\",\"\",(IF(I1169<=L1169,\"A TIEMPO\",\"FUERA DE TIEMPO\"))))","v":"A TIEMPO"},{"$f":"IF(I1169=\"\",\"\",NETWORKDAYS([4]Hoja1!C1169+1,[4]Hoja1!P1169,DiasNOLaborables))","v":9},"",null,null,20]
[1159,20209050035752,43949,"CORREO ELECTRÓNICO","SOLICITUD DE INFORMACIÓN Y DOCUMENTOS","REGISTROS AMBIENTALES","SI","SUBDIRECCIÓN DE ESTUDIOS AMBIENTALES",43951,null,null,{"$f":"IFERROR(WORKDAY(C1170,R1170,DiasNOLaborables),\"\")","v":43979},{"$f":"+IF(C1170=\"\",\"\",IF(I1170=\"\",\"\",(IF(I1170<=L1170,\"A TIEMPO\",\"FUERA DE TIEMPO\"))))","v":"A TIEMPO"},{"$f":"IF(I1170=\"\",\"\",NETWORKDAYS([4]Hoja1!C1170+1,[4]Hoja1!P1170,DiasNOLaborables))","v":9},"",null,null,20]
[1160,20209050035772,43949,"CORREO ELECTRÓNICO","SOLICITUD DE INFORMACIÓN Y DOCUMENTOS","SOLICITUD DE INFORMACIÓN Y DOCUMENTOS","SI","SUBDIRECCIÓN DE ECOSISTEMAS E INFORMACIÓN AMBIENTAL",43955,null,null,{"$f":"IFERROR(WORKDAY(C1171,R1171,DiasNOLaborables),\"\")","v":43979},{"$f":"+IF(C1171=\"\",\"\",IF(I1171=\"\",\"\",(IF(I1171<=L1171,\"A TIEMPO\",\"FUERA DE TIEMPO\"))))","v":"A TIEMPO"},{"$f":"IF(I1171=\"\",\"\",NETWORKDAYS([4]Hoja1!C1171+1,[4]Hoja1!P1171,DiasNOLaborables))","v":9},"",null,null,20]
[1161,20209050035792,43949,"CORREO ELECTRÓNICO","SOLICITUD DE INFORMACIÓN Y DOCUMENTOS","REGISTROS AMBIENTALES","SI","SUBDIRECCIÓN DE ESTUDIOS AMBIENTALES",43951,null,null,{"$f":"IFERROR(WORKDAY(C1172,R1172,DiasNOLaborables),\"\")","v":43979},{"$f":"+IF(C1172=\"\",\"\",IF(I1172=\"\",\"\",(IF(I1172<=L1172,\"A TIEMPO\",\"FUERA DE TIEMPO\"))))","v":"A TIEMPO"},{"$f":"IF(I1172=\"\",\"\",NETWORKDAYS([4]Hoja1!C1172+1,[4]Hoja1!P1172,DiasNOLaborables))","v":9},"",null,null,20]
[1162,20209050035802,43949,"CORREO ELECTRÓNICO","SOLICITUD DE INFORMACIÓN Y DOCUMENTOS","REGISTROS AMBIENTALES","SI","SUBDIRECCIÓN DE ESTUDIOS AMBIENTALES",43949,null,null,{"$f":"IFERROR(WORKDAY(C1173,R1173,DiasNOLaborables),\"\")","v":43979},{"$f":"+IF(C1173=\"\",\"\",IF(I1173=\"\",\"\",(IF(I1173<=L1173,\"A TIEMPO\",\"FUERA DE TIEMPO\"))))","v":"A TIEMPO"},{"$f":"IF(I1173=\"\",\"\",NETWORKDAYS([4]Hoja1!C1173+1,[4]Hoja1!P1173,DiasNOLaborables))","v":9},"",null,null,20]
[1163,20209050035812,43949,"CORREO ELECTRÓNICO","SOLICITUD DE INFORMACIÓN Y DOCUMENTOS","CERTIFICACIONES DE TIEMPO Y CLIMA","SI","SUBDIRECCIÓN DE METEOROLOGÍA",43963,null,null,{"$f":"IFERROR(WORKDAY(C1174,R1174,DiasNOLaborables),\"\")","v":43979},{"$f":"+IF(C1174=\"\",\"\",IF(I1174=\"\",\"\",(IF(I1174<=L1174,\"A TIEMPO\",\"FUERA DE TIEMPO\"))))","v":"A TIEMPO"},{"$f":"IF(I1174=\"\",\"\",NETWORKDAYS([4]Hoja1!C1174+1,[4]Hoja1!P1174,DiasNOLaborables))","v":9},"",null,null,20]
[1164,20209050035652,43949,"MODULO CONTACTENOS","SOLICITUD DE INFORMACIÓN Y DOCUMENTOS","ADMINISTRATIVA","SI","GRUPO DE TESORERÍA",43959,null,null,{"$f":"IFERROR(WORKDAY(C1175,R1175,DiasNOLaborables),\"\")","v":43979},{"$f":"+IF(C1175=\"\",\"\",IF(I1175=\"\",\"\",(IF(I1175<=L1175,\"A TIEMPO\",\"FUERA DE TIEMPO\"))))","v":"A TIEMPO"},{"$f":"IF(I1175=\"\",\"\",NETWORKDAYS([4]Hoja1!C1175+1,[4]Hoja1!P1175,DiasNOLaborables))","v":9},"",null,null,20]
[1165,20209050035692,43949,"MODULO CONTACTENOS","PETICIÓN","CERTIFICACIONES DE TIEMPO Y CLIMA","SI","SUBDIRECCIÓN DE METEOROLOGÍA",43958,null,null,{"$f":"IFERROR(WORKDAY(C1176,R1176,DiasNOLaborables),\"\")","v":43993},{"$f":"+IF(C1176=\"\",\"\",IF(I1176=\"\",\"\",(IF(I1176<=L1176,\"A TIEMPO\",\"FUERA DE TIEMPO\"))))","v":"A TIEMPO"},{"$f":"IF(I1176=\"\",\"\",NETWORKDAYS([4]Hoja1!C1176+1,[4]Hoja1!P1176,DiasNOLaborables))","v":9},"",null,null,30]
[1166,20209050035782,43949,"MODULO CONTACTENOS","SOLICITUD DE INFORMACIÓN Y DOCUMENTOS","WEB Y CORREO","SI","OFICINA DE INFORMÁTICA",43966,null,null,{"$f":"IFERROR(WORKDAY(C1177,R1177,DiasNOLaborables),\"\")","v":43979},{"$f":"+IF(C1177=\"\",\"\",IF(I1177=\"\",\"\",(IF(I1177<=L1177,\"A TIEMPO\",\"FUERA DE TIEMPO\"))))","v":"A TIEMPO"},{"$f":"IF(I1177=\"\",\"\",NETWORKDAYS([4]Hoja1!C1177+1,[4]Hoja1!P1177,DiasNOLaborables))","v":9},"",null,null,20]
[1167,20209050035832,43949,"MODULO CONTACTENOS","SOLICITUD DE INFORMACIÓN Y DOCUMENTOS","REGISTROS AMBIENTALES","SI","SUBDIRECCIÓN DE ESTUDIOS AMBIENTALES",43950,null,null,{"$f":"IFERROR(WORKDAY(C1178,R1178,DiasNOLaborables),\"\")","v":43979},{"$f":"+IF(C1178=\"\",\"\",IF(I1178=\"\",\"\",(IF(I1178<=L1178,\"A TIEMPO\",\"FUERA DE TIEMPO\"))))","v":"A TIEMPO"},{"$f":"IF(I1178=\"\",\"\",NETWORKDAYS([4]Hoja1!C1178+1,[4]Hoja1!P1178,DiasNOLaborables))","v":9},"",null,null,20]
[1168,20209050035972,43949,"MODULO CONTACTENOS","SOLICITUD JUDICIAL","CERTIFICACIONES DE TIEMPO Y CLIMA","SI","SUBDIRECCIÓN DE METEOROLOGÍA",43954,null,null,{"$f":"IFERROR(WORKDAY(C1179,R1179,DiasNOLaborables),\"\")","v":43957},{"$f":"+IF(C1179=\"\",\"\",IF(I1179=\"\",\"\",(IF(I1179<=L1179,\"A TIEMPO\",\"FUERA DE TIEMPO\"))))","v":"A TIEMPO"},{"$f":"IF(I1179=\"\",\"\",NETWORKDAYS([4]Hoja1!C1179+1,[4]Hoja1!P1179,DiasNOLaborables))","v":9},"",null,null,5]
[1169,20209050035642,43949,"CORREO ELECTRÓNICO","SOLICITUD DE INFORMACIÓN Y DOCUMENTOS","SOLICITUD DE INFORMACIÓN HIDROMETEOROLÓGICA","NO","GRUPO DE ATENCIÓN AL CIUDADANO",43956,null,null,{"$f":"IFERROR(WORKDAY(C1180,R1180,DiasNOLaborables),\"\")","v":43979},{"$f":"+IF(C1180=\"\",\"\",IF(I1180=\"\",\"\",(IF(I1180<=L1180,\"A TIEMPO\",\"FUERA DE TIEMPO\"))))","v":"A TIEMPO"},{"$f":"IF(I1180=\"\",\"\",NETWORKDAYS([4]Hoja1!C1180+1,[4]Hoja1!P1180,DiasNOLaborables))","v":9},"",null,null,20]
[1170,20209050035662,43949,"CORREO ELECTRÓNICO","SOLICITUD DE INFORMACIÓN Y DOCUMENTOS","SOLICITUD DE INFORMACIÓN HIDROMETEOROLÓGICA","NO","GRUPO DE ATENCIÓN AL CIUDADANO",43957,null,null,{"$f":"IFERROR(WORKDAY(C1181,R1181,DiasNOLaborables),\"\")","v":43979},{"$f":"+IF(C1181=\"\",\"\",IF(I1181=\"\",\"\",(IF(I1181<=L1181,\"A TIEMPO\",\"FUERA DE TIEMPO\"))))","v":"A TIEMPO"},{"$f":"IF(I1181=\"\",\"\",NETWORKDAYS([4]Hoja1!C1181+1,[4]Hoja1!P1181,DiasNOLaborables))","v":10},"",null,null,20]
[1171,20209050035682,43949,"CORREO ELECTRÓNICO","SOLICITUD DE INFORMACIÓN Y DOCUMENTOS","SOLICITUD DE INFORMACIÓN HIDROMETEOROLÓGICA","NO","GRUPO DE ATENCIÓN AL CIUDADANO",43962,null,null,{"$f":"IFERROR(WORKDAY(C1182,R1182,DiasNOLaborables),\"\")","v":43979},{"$f":"+IF(C1182=\"\",\"\",IF(I1182=\"\",\"\",(IF(I1182<=L1182,\"A TIEMPO\",\"FUERA DE TIEMPO\"))))","v":"A TIEMPO"},{"$f":"IF(I1182=\"\",\"\",NETWORKDAYS([4]Hoja1!C1182+1,[4]Hoja1!P1182,DiasNOLaborables))","v":10},"",null,null,20]
[1172,20209050035672,43949,"CORREO ELECTRÓNICO","SOLICITUD DE INFORMACIÓN Y DOCUMENTOS","SOLICITUD DE INFORMACIÓN HIDROMETEOROLÓGICA","NO","GRUPO DE ATENCIÓN AL CIUDADANO",43957,null,null,{"$f":"IFERROR(WORKDAY(C1183,R1183,DiasNOLaborables),\"\")","v":43979},{"$f":"+IF(C1183=\"\",\"\",IF(I1183=\"\",\"\",(IF(I1183<=L1183,\"A TIEMPO\",\"FUERA DE TIEMPO\"))))","v":"A TIEMPO"},{"$f":"IF(I1183=\"\",\"\",NETWORKDAYS([4]Hoja1!C1183+1,[4]Hoja1!P1183,DiasNOLaborables))","v":10},"",null,null,20]
[1173,20209050035912,43950,"CORREO ELECTRÓNICO","SOLICITUD DE INFORMACIÓN Y DOCUMENTOS","SOLICITUD DE INFORMACIÓN HIDROMETEOROLÓGICA","NO","GRUPO DE ATENCIÓN AL CIUDADANO",43957,null,null,{"$f":"IFERROR(WORKDAY(C1184,R1184,DiasNOLaborables),\"\")","v":43980},{"$f":"+IF(C1184=\"\",\"\",IF(I1184=\"\",\"\",(IF(I1184<=L1184,\"A TIEMPO\",\"FUERA DE TIEMPO\"))))","v":"A TIEMPO"},{"$f":"IF(I1184=\"\",\"\",NETWORKDAYS([4]Hoja1!C1184+1,[4]Hoja1!P1184,DiasNOLaborables))","v":10},"",null,null,20]
[1174,20209050035922,43950,"CORREO ELECTRÓNICO","SOLICITUD DE INFORMACIÓN Y DOCUMENTOS","SOLICITUD DE INFORMACIÓN HIDROMETEOROLÓGICA","NO","GRUPO DE ATENCIÓN AL CIUDADANO",43957,null,null,{"$f":"IFERROR(WORKDAY(C1185,R1185,DiasNOLaborables),\"\")","v":43980},{"$f":"+IF(C1185=\"\",\"\",IF(I1185=\"\",\"\",(IF(I1185<=L1185,\"A TIEMPO\",\"FUERA DE TIEMPO\"))))","v":"A TIEMPO"},{"$f":"IF(I1185=\"\",\"\",NETWORKDAYS([4]Hoja1!C1185+1,[4]Hoja1!P1185,DiasNOLaborables))","v":8},"",null,null,20]
[1175,20209050035932,43950,"CORREO ELECTRÓNICO","SOLICITUD DE INFORMACIÓN Y DOCUMENTOS","SOLICITUD DE INFORMACIÓN HIDROMETEOROLÓGICA","NO","GRUPO DE ATENCIÓN AL CIUDADANO",43957,null,null,{"$f":"IFERROR(WORKDAY(C1186,R1186,DiasNOLaborables),\"\")","v":43980},{"$f":"+IF(C1186=\"\",\"\",IF(I1186=\"\",\"\",(IF(I1186<=L1186,\"A TIEMPO\",\"FUERA DE TIEMPO\"))))","v":"A TIEMPO"},{"$f":"IF(I1186=\"\",\"\",NETWORKDAYS([4]Hoja1!C1186+1,[4]Hoja1!P1186,DiasNOLaborables))","v":8},"",null,null,20]
[1176,20209050035942,43950,"CORREO ELECTRÓNICO","SOLICITUD DE INFORMACIÓN Y DOCUMENTOS","SOLICITUD DE INFORMACIÓN HIDROMETEOROLÓGICA","NO","GRUPO DE ATENCIÓN AL CIUDADANO",43957,null,null,{"$f":"IFERROR(WORKDAY(C1187,R1187,DiasNOLaborables),\"\")","v":43980},{"$f":"+IF(C1187=\"\",\"\",IF(I1187=\"\",\"\",(IF(I1187<=L1187,\"A TIEMPO\",\"FUERA DE TIEMPO\"))))","v":"A TIEMPO"},{"$f":"IF(I1187=\"\",\"\",NETWORKDAYS([4]Hoja1!C1187+1,[4]Hoja1!P1187,DiasNOLaborables))","v":8},"",null,null,20]
[1177,20209050035962,43950,"CORREO ELECTRÓNICO","SOLICITUD DE INFORMACIÓN Y DOCUMENTOS","SOLICITUD DE INFORMACIÓN HIDROMETEOROLÓGICA","NO","GRUPO DE ATENCIÓN AL CIUDADANO",43957,null,null,{"$f":"IFERROR(WORKDAY(C1188,R1188,DiasNOLaborables),\"\")","v":43980},{"$f":"+IF(C1188=\"\",\"\",IF(I1188=\"\",\"\",(IF(I1188<=L1188,\"A TIEMPO\",\"FUERA DE TIEMPO\"))))","v":"A TIEMPO"},{"$f":"IF(I1188=\"\",\"\",NETWORKDAYS([4]Hoja1!C1188+1,[4]Hoja1!P1188,DiasNOLaborables))","v":8},"",null,null,20]
[1178,20209050035982,43950,"CORREO ELECTRÓNICO","SOLICITUD DE INFORMACIÓN Y DOCUMENTOS","SOLICITUD DE INFORMACIÓN HIDROMETEOROLÓGICA","NO","GRUPO DE ATENCIÓN AL CIUDADANO",43957,null,null,{"$f":"IFERROR(WORKDAY(C1189,R1189,DiasNOLaborables),\"\")","v":43980},{"$f":"+IF(C1189=\"\",\"\",IF(I1189=\"\",\"\",(IF(I1189<=L1189,\"A TIEMPO\",\"FUERA DE TIEMPO\"))))","v":"A TIEMPO"},{"$f":"IF(I1189=\"\",\"\",NETWORKDAYS([4]Hoja1!C1189+1,[4]Hoja1!P1189,DiasNOLaborables))","v":8},"",null,null,20]
[1179,20209050035992,43950,"CORREO ELECTRÓNICO","SOLICITUD DE INFORMACIÓN Y DOCUMENTOS","SOLICITUD DE INFORMACIÓN HIDROMETEOROLÓGICA","NO","GRUPO DE ATENCIÓN AL CIUDADANO",43957,null,null,{"$f":"IFERROR(WORKDAY(C1190,R1190,DiasNOLaborables),\"\")","v":43980},{"$f":"+IF(C1190=\"\",\"\",IF(I1190=\"\",\"\",(IF(I1190<=L1190,\"A TIEMPO\",\"FUERA DE TIEMPO\"))))","v":"A TIEMPO"},{"$f":"IF(I1190=\"\",\"\",NETWORKDAYS([4]Hoja1!C1190+1,[4]Hoja1!P1190,DiasNOLaborables))","v":8},"",null,null,20]
[1180,20209050036042,43950,"CORREO ELECTRÓNICO","SOLICITUD DE INFORMACIÓN Y DOCUMENTOS","SOLICITUD DE INFORMACIÓN HIDROMETEOROLÓGICA","NO","GRUPO DE ATENCIÓN AL CIUDADANO",43957,null,null,{"$f":"IFERROR(WORKDAY(C1191,R1191,DiasNOLaborables),\"\")","v":43980},{"$f":"+IF(C1191=\"\",\"\",IF(I1191=\"\",\"\",(IF(I1191<=L1191,\"A TIEMPO\",\"FUERA DE TIEMPO\"))))","v":"A TIEMPO"},{"$f":"IF(I1191=\"\",\"\",NETWORKDAYS([4]Hoja1!C1191+1,[4]Hoja1!P1191,DiasNOLaborables))","v":7},"",null,null,20]
[1181,20209050036052,43950,"CORREO ELECTRÓNICO","SOLICITUD DE INFORMACIÓN Y DOCUMENTOS","SOLICITUD DE INFORMACIÓN HIDROMETEOROLÓGICA","NO","GRUPO DE ATENCIÓN AL CIUDADANO",43957,null,null,{"$f":"IFERROR(WORKDAY(C1192,R1192,DiasNOLaborables),\"\")","v":43980},{"$f":"+IF(C1192=\"\",\"\",IF(I1192=\"\",\"\",(IF(I1192<=L1192,\"A TIEMPO\",\"FUERA DE TIEMPO\"))))","v":"A TIEMPO"},{"$f":"IF(I1192=\"\",\"\",NETWORKDAYS([4]Hoja1!C1192+1,[4]Hoja1!P1192,DiasNOLaborables))","v":7},"",null,null,20]
[1182,20209050036092,43950,"CORREO ELECTRÓNICO","SOLICITUD DE INFORMACIÓN Y DOCUMENTOS","SOLICITUD DE INFORMACIÓN HIDROMETEOROLÓGICA","NO","GRUPO DE ATENCIÓN AL CIUDADANO",43958,null,null,{"$f":"IFERROR(WORKDAY(C1193,R1193,DiasNOLaborables),\"\")","v":43980},{"$f":"+IF(C1193=\"\",\"\",IF(I1193=\"\",\"\",(IF(I1193<=L1193,\"A TIEMPO\",\"FUERA DE TIEMPO\"))))","v":"A TIEMPO"},{"$f":"IF(I1193=\"\",\"\",NETWORKDAYS([4]Hoja1!C1193+1,[4]Hoja1!P1193,DiasNOLaborables))","v":7},"",null,null,20]
[1183,20209050036102,43950,"CORREO ELECTRÓNICO","SOLICITUD DE INFORMACIÓN Y DOCUMENTOS","SOLICITUD DE INFORMACIÓN HIDROMETEOROLÓGICA","NO","GRUPO DE ATENCIÓN AL CIUDADANO",43958,null,null,{"$f":"IFERROR(WORKDAY(C1194,R1194,DiasNOLaborables),\"\")","v":43980},{"$f":"+IF(C1194=\"\",\"\",IF(I1194=\"\",\"\",(IF(I1194<=L1194,\"A TIEMPO\",\"FUERA DE TIEMPO\"))))","v":"A TIEMPO"},{"$f":"IF(I1194=\"\",\"\",NETWORKDAYS([4]Hoja1!C1194+1,[4]Hoja1!P1194,DiasNOLaborables))","v":7},"",null,null,20]
[1184,20209050036122,43950,"CORREO ELECTRÓNICO","SOLICITUD DE INFORMACIÓN Y DOCUMENTOS","SOLICITUD DE INFORMACIÓN HIDROMETEOROLÓGICA","NO","GRUPO DE ATENCIÓN AL CIUDADANO",43958,null,null,{"$f":"IFERROR(WORKDAY(C1195,R1195,DiasNOLaborables),\"\")","v":43980},{"$f":"+IF(C1195=\"\",\"\",IF(I1195=\"\",\"\",(IF(I1195<=L1195,\"A TIEMPO\",\"FUERA DE TIEMPO\"))))","v":"A TIEMPO"},{"$f":"IF(I1195=\"\",\"\",NETWORKDAYS([4]Hoja1!C1195+1,[4]Hoja1!P1195,DiasNOLaborables))","v":7},"",null,null,20]
[1185,20209050036162,43950,"CORREO ELECTRÓNICO","SOLICITUD DE INFORMACIÓN Y DOCUMENTOS","SOLICITUD DE INFORMACIÓN HIDROMETEOROLÓGICA","NO","GRUPO DE ATENCIÓN AL CIUDADANO",43959,null,null,{"$f":"IFERROR(WORKDAY(C1196,R1196,DiasNOLaborables),\"\")","v":43980},{"$f":"+IF(C1196=\"\",\"\",IF(I1196=\"\",\"\",(IF(I1196<=L1196,\"A TIEMPO\",\"FUERA DE TIEMPO\"))))","v":"A TIEMPO"},{"$f":"IF(I1196=\"\",\"\",NETWORKDAYS([4]Hoja1!C1196+1,[4]Hoja1!P1196,DiasNOLaborables))","v":7},"",null,null,20]
[1186,20209050036242,43950,"CORREO ELECTRÓNICO","SOLICITUD DE INFORMACIÓN Y DOCUMENTOS","SOLICITUD DE INFORMACIÓN HIDROMETEOROLÓGICA","NO","GRUPO DE ATENCIÓN AL CIUDADANO",43959,null,null,{"$f":"IFERROR(WORKDAY(C1197,R1197,DiasNOLaborables),\"\")","v":43980},{"$f":"+IF(C1197=\"\",\"\",IF(I1197=\"\",\"\",(IF(I1197<=L1197,\"A TIEMPO\",\"FUERA DE TIEMPO\"))))","v":"A TIEMPO"},{"$f":"IF(I1197=\"\",\"\",NETWORKDAYS([4]Hoja1!C1197+1,[4]Hoja1!P1197,DiasNOLaborables))","v":9},"",null,null,20]
[1187,20209050036412,43950,"CORREO ELECTRÓNICO","SOLICITUD DE INFORMACIÓN Y DOCUMENTOS","SOLICITUD DE INFORMACIÓN HIDROMETEOROLÓGICA","NO","GRUPO DE ATENCIÓN AL CIUDADANO",43959,null,null,{"$f":"IFERROR(WORKDAY(C1198,R1198,DiasNOLaborables),\"\")","v":43980},{"$f":"+IF(C1198=\"\",\"\",IF(I1198=\"\",\"\",(IF(I1198<=L1198,\"A TIEMPO\",\"FUERA DE TIEMPO\"))))","v":"A TIEMPO"},{"$f":"IF(I1198=\"\",\"\",NETWORKDAYS([4]Hoja1!C1198+1,[4]Hoja1!P1198,DiasNOLaborables))","v":9},"",null,null,20]
[1188,20209050036422,43950,"CORREO ELECTRÓNICO","SOLICITUD DE INFORMACIÓN Y DOCUMENTOS","SOLICITUD DE INFORMACIÓN HIDROMETEOROLÓGICA","NO","GRUPO DE ATENCIÓN AL CIUDADANO",43959,null,null,{"$f":"IFERROR(WORKDAY(C1199,R1199,DiasNOLaborables),\"\")","v":43980},{"$f":"+IF(C1199=\"\",\"\",IF(I1199=\"\",\"\",(IF(I1199<=L1199,\"A TIEMPO\",\"FUERA DE TIEMPO\"))))","v":"A TIEMPO"},{"$f":"IF(I1199=\"\",\"\",NETWORKDAYS([4]Hoja1!C1199+1,[4]Hoja1!P1199,DiasNOLaborables))","v":9},"",null,null,20]
[1189,20209050036062,43950,"MODULO CONTACTENOS","SOLICITUD DE INFORMACIÓN Y DOCUMENTOS","REGISTROS AMBIENTALES","SI","SUBDIRECCIÓN DE ESTUDIOS AMBIENTALES",43962,null,null,{"$f":"IFERROR(WORKDAY(C1200,R1200,DiasNOLaborables),\"\")","v":43980},{"$f":"+IF(C1200=\"\",\"\",IF(I1200=\"\",\"\",(IF(I1200<=L1200,\"A TIEMPO\",\"FUERA DE TIEMPO\"))))","v":"A TIEMPO"},{"$f":"IF(I1200=\"\",\"\",NETWORKDAYS([4]Hoja1!C1200+1,[4]Hoja1!P1200,DiasNOLaborables))","v":9},"",null,null,20]
[1190,20209050036082,43950,"MODULO CONTACTENOS","SOLICITUD DE INFORMACIÓN Y DOCUMENTOS","ADMINISTRATIVA","SI","GRUPO DE ADMINISTRACIÓN Y DESARROLLO DEL TALENTO HUMANO",43970,null,null,{"$f":"IFERROR(WORKDAY(C1201,R1201,DiasNOLaborables),\"\")","v":43980},{"$f":"+IF(C1201=\"\",\"\",IF(I1201=\"\",\"\",(IF(I1201<=L1201,\"A TIEMPO\",\"FUERA DE TIEMPO\"))))","v":"A TIEMPO"},{"$f":"IF(I1201=\"\",\"\",NETWORKDAYS([4]Hoja1!C1201+1,[4]Hoja1!P1201,DiasNOLaborables))","v":9},"",null,null,20]
[{"$f":"IF(B1200<>\"\",A1201+1,\"\")","v":1191},20209050035862,43950,"MODULO CONTACTENOS","SOLICITUD DE INFORMACIÓN Y DOCUMENTOS","SOLICITUD DE INFORMACIÓN Y DOCUMENTOS","SI","OFICINA DE INFORMÁTICA",43961,null,null,{"$f":"IFERROR(WORKDAY(C1202,R1202,DiasNOLaborables),\"\")","v":43980},{"$f":"+IF(C1202=\"\",\"\",IF(I1202=\"\",\"\",(IF(I1202<=L1202,\"A TIEMPO\",\"FUERA DE TIEMPO\"))))","v":"A TIEMPO"},{"$f":"IF(I1202=\"\",\"\",NETWORKDAYS([4]Hoja1!C1202+1,[4]Hoja1!P1202,DiasNOLaborables))","v":9},"",null,null,20]
[1192,20209050036002,43950,"CORREO ELECTRÓNICO","SOLICITUD DE INFORMACIÓN Y DOCUMENTOS","SOLICITUD DE INFORMACIÓN Y DOCUMENTOS","SI","SUBDIRECCIÓN DE METEOROLOGÍA",43958,null,null,{"$f":"IFERROR(WORKDAY(C1203,R1203,DiasNOLaborables),\"\")","v":43980},{"$f":"+IF(C1203=\"\",\"\",IF(I1203=\"\",\"\",(IF(I1203<=L1203,\"A TIEMPO\",\"FUERA DE TIEMPO\"))))","v":"A TIEMPO"},{"$f":"IF(I1203=\"\",\"\",NETWORKDAYS([4]Hoja1!C1203+1,[4]Hoja1!P1203,DiasNOLaborables))","v":9},"",null,null,20]
[1193,20209050036012,43950,"CORREO ELECTRÓNICO","SOLICITUD DE INFORMACIÓN Y DOCUMENTOS","SOLICITUD DE INFORMACIÓN Y DOCUMENTOS","SI","SUBDIRECCIÓN DE METEOROLOGÍA",43963,null,null,{"$f":"IFERROR(WORKDAY(C1204,R1204,DiasNOLaborables),\"\")","v":43980},{"$f":"+IF(C1204=\"\",\"\",IF(I1204=\"\",\"\",(IF(I1204<=L1204,\"A TIEMPO\",\"FUERA DE TIEMPO\"))))","v":"A TIEMPO"},{"$f":"IF(I1204=\"\",\"\",NETWORKDAYS([4]Hoja1!C1204+1,[4]Hoja1!P1204,DiasNOLaborables))","v":9},{"$f":"IF(NETWORKDAYS(L1204+1,I1204,DiasNOLaborables)<=0,\"\",NETWORKDAYS(L1204+1,I1204,DiasNOLaborables))","v":""},null,null,20]
[1194,20209050036022,43950,"CORREO ELECTRÓNICO","SOLICITUD DE INFORMACIÓN Y DOCUMENTOS","REGISTROS AMBIENTALES","SI","SUBDIRECCIÓN DE ESTUDIOS AMBIENTALES",43950,null,null,{"$f":"IFERROR(WORKDAY(C1205,R1205,DiasNOLaborables),\"\")","v":43980},{"$f":"+IF(C1205=\"\",\"\",IF(I1205=\"\",\"\",(IF(I1205<=L1205,\"A TIEMPO\",\"FUERA DE TIEMPO\"))))","v":"A TIEMPO"},{"$f":"IF(I1205=\"\",\"\",NETWORKDAYS([4]Hoja1!C1205+1,[4]Hoja1!P1205,DiasNOLaborables))","v":10},"",null,null,20]
[1195,20209050036032,43950,"CORREO ELECTRÓNICO","SOLICITUD DE INFORMACIÓN Y DOCUMENTOS","REGISTROS AMBIENTALES","SI","SUBDIRECCIÓN DE ESTUDIOS AMBIENTALES",43950,null,null,{"$f":"IFERROR(WORKDAY(C1206,R1206,DiasNOLaborables),\"\")","v":43980},{"$f":"+IF(C1206=\"\",\"\",IF(I1206=\"\",\"\",(IF(I1206<=L1206,\"A TIEMPO\",\"FUERA DE TIEMPO\"))))","v":"A TIEMPO"},{"$f":"IF(I1206=\"\",\"\",NETWORKDAYS([4]Hoja1!C1206+1,[4]Hoja1!P1206,DiasNOLaborables))","v":10},"",null,null,20]
[1196,20209050036072,43950,"CORREO ELECTRÓNICO","SOLICITUD DE INFORMACIÓN Y DOCUMENTOS","SOLICITUD DE INFORMACIÓN Y DOCUMENTOS","SI","SUBDIRECCIÓN DE METEOROLOGÍA",43963,null,null,{"$f":"IFERROR(WORKDAY(C1207,R1207,DiasNOLaborables),\"\")","v":43980},{"$f":"+IF(C1207=\"\",\"\",IF(I1207=\"\",\"\",(IF(I1207<=L1207,\"A TIEMPO\",\"FUERA DE TIEMPO\"))))","v":"A TIEMPO"},{"$f":"IF(I1207=\"\",\"\",NETWORKDAYS([4]Hoja1!C1207+1,[4]Hoja1!P1207,DiasNOLaborables))","v":10},"",null,null,20]
[1197,20209050036112,43950,"CORREO ELECTRÓNICO","SOLICITUD DE INFORMACIÓN Y DOCUMENTOS","SOLICITUD DE INFORMACIÓN Y DOCUMENTOS","SI","SUBDIRECCIÓN DE HIDROLOGÍA",43950,null,null,{"$f":"IFERROR(WORKDAY(C1208,R1208,DiasNOLaborables),\"\")","v":43980},{"$f":"+IF(C1208=\"\",\"\",IF(I1208=\"\",\"\",(IF(I1208<=L1208,\"A TIEMPO\",\"FUERA DE TIEMPO\"))))","v":"A TIEMPO"},{"$f":"IF(I1208=\"\",\"\",NETWORKDAYS([4]Hoja1!C1208+1,[4]Hoja1!P1208,DiasNOLaborables))","v":10},"",null,null,20]
[1198,20209050036132,43950,"CORREO ELECTRÓNICO","CERTIFICACIONES DE TIEMPO, CLIMA Y EVENTOS HIDROLÓGICOS","CERTIFICACIONES DE TIEMPO Y CLIMA","SI","SUBDIRECCIÓN DE METEOROLOGÍA",43956,null,null,{"$f":"IFERROR(WORKDAY(C1209,R1209,DiasNOLaborables),\"\")","v":43994},{"$f":"+IF(C1209=\"\",\"\",IF(I1209=\"\",\"\",(IF(I1209<=L1209,\"A TIEMPO\",\"FUERA DE TIEMPO\"))))","v":"A TIEMPO"},{"$f":"IF(I1209=\"\",\"\",NETWORKDAYS([4]Hoja1!C1209+1,[4]Hoja1!P1209,DiasNOLaborables))","v":10},"",null,null,30]
[1199,20209050036142,43950,"CORREO ELECTRÓNICO","CERTIFICACIONES DE TIEMPO, CLIMA Y EVENTOS HIDROLÓGICOS","CERTIFICACIONES DE TIEMPO Y CLIMA","SI","SUBDIRECCIÓN DE METEOROLOGÍA",43956,null,null,{"$f":"IFERROR(WORKDAY(C1210,R1210,DiasNOLaborables),\"\")","v":43994},{"$f":"+IF(C1210=\"\",\"\",IF(I1210=\"\",\"\",(IF(I1210<=L1210,\"A TIEMPO\",\"FUERA DE TIEMPO\"))))","v":"A TIEMPO"},{"$f":"IF(I1210=\"\",\"\",NETWORKDAYS([4]Hoja1!C1210+1,[4]Hoja1!P1210,DiasNOLaborables))","v":10},"",null,null,30]
[1200,20209050036152,43950,"CORREO ELECTRÓNICO","CERTIFICACIONES DE TIEMPO, CLIMA Y EVENTOS HIDROLÓGICOS","CERTIFICACIONES DE TIEMPO Y CLIMA","SI","SUBDIRECCIÓN DE METEOROLOGÍA",43958,null,null,{"$f":"IFERROR(WORKDAY(C1211,R1211,DiasNOLaborables),\"\")","v":43994},{"$f":"+IF(C1211=\"\",\"\",IF(I1211=\"\",\"\",(IF(I1211<=L1211,\"A TIEMPO\",\"FUERA DE TIEMPO\"))))","v":"A TIEMPO"},{"$f":"IF(I1211=\"\",\"\",NETWORKDAYS([4]Hoja1!C1211+1,[4]Hoja1!P1211,DiasNOLaborables))","v":10},"",null,null,30]
[1201,20209050036172,43950,"CORREO ELECTRÓNICO","CERTIFICACIONES DE TIEMPO, CLIMA Y EVENTOS HIDROLÓGICOS","CERTIFICACIONES DE TIEMPO Y CLIMA","SI","SUBDIRECCIÓN DE METEOROLOGÍA",43958,null,null,{"$f":"IFERROR(WORKDAY(C1212,R1212,DiasNOLaborables),\"\")","v":43994},{"$f":"+IF(C1212=\"\",\"\",IF(I1212=\"\",\"\",(IF(I1212<=L1212,\"A TIEMPO\",\"FUERA DE TIEMPO\"))))","v":"A TIEMPO"},{"$f":"IF(I1212=\"\",\"\",NETWORKDAYS([4]Hoja1!C1212+1,[4]Hoja1!P1212,DiasNOLaborables))","v":10},"",null,null,30]
[1202,20209050036182,43950,"CORREO ELECTRÓNICO","CERTIFICACIONES DE TIEMPO, CLIMA Y EVENTOS HIDROLÓGICOS","CERTIFICACIONES DE TIEMPO Y CLIMA","SI","SUBDIRECCIÓN DE METEOROLOGÍA",43955,null,null,{"$f":"IFERROR(WORKDAY(C1213,R1213,DiasNOLaborables),\"\")","v":43994},{"$f":"+IF(C1213=\"\",\"\",IF(I1213=\"\",\"\",(IF(I1213<=L1213,\"A TIEMPO\",\"FUERA DE TIEMPO\"))))","v":"A TIEMPO"},{"$f":"IF(I1213=\"\",\"\",NETWORKDAYS([4]Hoja1!C1213+1,[4]Hoja1!P1213,DiasNOLaborables))","v":10},"",null,null,30]
[1203,20209050036192,43950,"CORREO ELECTRÓNICO","CERTIFICACIONES DE TIEMPO, CLIMA Y EVENTOS HIDROLÓGICOS","CERTIFICACIONES DE TIEMPO Y CLIMA","SI","SUBDIRECCIÓN DE METEOROLOGÍA",43955,null,null,{"$f":"IFERROR(WORKDAY(C1214,R1214,DiasNOLaborables),\"\")","v":43994},{"$f":"+IF(C1214=\"\",\"\",IF(I1214=\"\",\"\",(IF(I1214<=L1214,\"A TIEMPO\",\"FUERA DE TIEMPO\"))))","v":"A TIEMPO"},{"$f":"IF(I1214=\"\",\"\",NETWORKDAYS([4]Hoja1!C1214+1,[4]Hoja1!P1214,DiasNOLaborables))","v":5},"",null,null,30]
[1204,20209050036202,43950,"CORREO ELECTRÓNICO","CERTIFICACIONES DE TIEMPO, CLIMA Y EVENTOS HIDROLÓGICOS","CERTIFICACIONES DE TIEMPO Y CLIMA","SI","SUBDIRECCIÓN DE METEOROLOGÍA",43955,null,null,{"$f":"IFERROR(WORKDAY(C1215,R1215,DiasNOLaborables),\"\")","v":43994},{"$f":"+IF(C1215=\"\",\"\",IF(I1215=\"\",\"\",(IF(I1215<=L1215,\"A TIEMPO\",\"FUERA DE TIEMPO\"))))","v":"A TIEMPO"},{"$f":"IF(I1215=\"\",\"\",NETWORKDAYS([4]Hoja1!C1215+1,[4]Hoja1!P1215,DiasNOLaborables))","v":10},"",null,null,30]
[1205,20209050036212,43950,"CORREO ELECTRÓNICO","CERTIFICACIONES DE TIEMPO, CLIMA Y EVENTOS HIDROLÓGICOS","CERTIFICACIONES DE TIEMPO Y CLIMA","SI","SUBDIRECCIÓN DE METEOROLOGÍA",43955,null,null,{"$f":"IFERROR(WORKDAY(C1216,R1216,DiasNOLaborables),\"\")","v":43994},{"$f":"+IF(C1216=\"\",\"\",IF(I1216=\"\",\"\",(IF(I1216<=L1216,\"A TIEMPO\",\"FUERA DE TIEMPO\"))))","v":"A TIEMPO"},{"$f":"IF(I1216=\"\",\"\",NETWORKDAYS([4]Hoja1!C1216+1,[4]Hoja1!P1216,DiasNOLaborables))","v":10},"",null,null,30]
[1206,20209050036222,43950,"CORREO ELECTRÓNICO","CERTIFICACIONES DE TIEMPO, CLIMA Y EVENTOS HIDROLÓGICOS","CERTIFICACIONES DE TIEMPO Y CLIMA","SI","SUBDIRECCIÓN DE METEOROLOGÍA",43955,null,null,{"$f":"IFERROR(WORKDAY(C1217,R1217,DiasNOLaborables),\"\")","v":43994},{"$f":"+IF(C1217=\"\",\"\",IF(I1217=\"\",\"\",(IF(I1217<=L1217,\"A TIEMPO\",\"FUERA DE TIEMPO\"))))","v":"A TIEMPO"},{"$f":"IF(I1217=\"\",\"\",NETWORKDAYS([4]Hoja1!C1217+1,[4]Hoja1!P1217,DiasNOLaborables))","v":10},"",null,null,30]
[1207,20209050036232,43950,"CORREO ELECTRÓNICO","CERTIFICACIONES DE TIEMPO, CLIMA Y EVENTOS HIDROLÓGICOS","CERTIFICACIONES DE TIEMPO Y CLIMA","SI","SUBDIRECCIÓN DE METEOROLOGÍA",43955,null,null,{"$f":"IFERROR(WORKDAY(C1218,R1218,DiasNOLaborables),\"\")","v":43994},{"$f":"+IF(C1218=\"\",\"\",IF(I1218=\"\",\"\",(IF(I1218<=L1218,\"A TIEMPO\",\"FUERA DE TIEMPO\"))))","v":"A TIEMPO"},{"$f":"IF(I1218=\"\",\"\",NETWORKDAYS([4]Hoja1!C1218+1,[4]Hoja1!P1218,DiasNOLaborables))","v":10},"",null,null,30]
[1208,20209050036402,43951,"CORREO ELECTRÓNICO","SOLICITUD DE INFORMACIÓN Y DOCUMENTOS","SOLICITUD DE INFORMACIÓN Y DOCUMENTOS","SI","SUBDIRECCIÓN DE ESTUDIOS AMBIENTALES",43962,null,null,{"$f":"IFERROR(WORKDAY(C1219,R1219,DiasNOLaborables),\"\")","v":43983},{"$f":"+IF(C1219=\"\",\"\",IF(I1219=\"\",\"\",(IF(I1219<=L1219,\"A TIEMPO\",\"FUERA DE TIEMPO\"))))","v":"A TIEMPO"},{"$f":"IF(I1219=\"\",\"\",NETWORKDAYS([4]Hoja1!C1219+1,[4]Hoja1!P1219,DiasNOLaborables))","v":10},"",null,null,{"$f":"IFERROR(VLOOKUP(E1219,$Z$50:$AA$63,2),\"\")","v":20}]
[1209,20209050036482,43951,"CORREO ELECTRÓNICO","SOLICITUD DE INFORMACIÓN Y DOCUMENTOS","SOLICITUD DE INFORMACIÓN HIDROMETEOROLÓGICA","NO","GRUPO DE ATENCIÓN AL CIUDADANO",43959,null,null,{"$f":"IFERROR(WORKDAY(C1220,R1220,DiasNOLaborables),\"\")","v":43983},{"$f":"+IF(C1220=\"\",\"\",IF(I1220=\"\",\"\",(IF(I1220<=L1220,\"A TIEMPO\",\"FUERA DE TIEMPO\"))))","v":"A TIEMPO"},{"$f":"IF(I1220=\"\",\"\",NETWORKDAYS([4]Hoja1!C1220+1,[4]Hoja1!P1220,DiasNOLaborables))","v":10},"",null,null,20]
[1210,20209050036492,43951,"CORREO ELECTRÓNICO","SOLICITUD DE INFORMACIÓN Y DOCUMENTOS","SOLICITUD DE INFORMACIÓN HIDROMETEOROLÓGICA","NO","GRUPO DE ATENCIÓN AL CIUDADANO",43959,null,null,{"$f":"IFERROR(WORKDAY(C1221,R1221,DiasNOLaborables),\"\")","v":43983},{"$f":"+IF(C1221=\"\",\"\",IF(I1221=\"\",\"\",(IF(I1221<=L1221,\"A TIEMPO\",\"FUERA DE TIEMPO\"))))","v":"A TIEMPO"},{"$f":"IF(I1221=\"\",\"\",NETWORKDAYS([4]Hoja1!C1221+1,[4]Hoja1!P1221,DiasNOLaborables))","v":10},"",null,null,20]
[1211,20209050036522,43951,"CORREO ELECTRÓNICO","SOLICITUD DE INFORMACIÓN Y DOCUMENTOS","SOLICITUD DE INFORMACIÓN HIDROMETEOROLÓGICA","NO","GRUPO DE ATENCIÓN AL CIUDADANO",43959,null,null,{"$f":"IFERROR(WORKDAY(C1222,R1222,DiasNOLaborables),\"\")","v":43983},{"$f":"+IF(C1222=\"\",\"\",IF(I1222=\"\",\"\",(IF(I1222<=L1222,\"A TIEMPO\",\"FUERA DE TIEMPO\"))))","v":"A TIEMPO"},{"$f":"IF(I1222=\"\",\"\",NETWORKDAYS([4]Hoja1!C1222+1,[4]Hoja1!P1222,DiasNOLaborables))","v":10},"",null,null,20]
[1212,20209050036532,43951,"CORREO ELECTRÓNICO","SOLICITUD DE INFORMACIÓN Y DOCUMENTOS","SOLICITUD DE INFORMACIÓN HIDROMETEOROLÓGICA","NO","GRUPO DE ATENCIÓN AL CIUDADANO",43959,null,null,{"$f":"IFERROR(WORKDAY(C1223,R1223,DiasNOLaborables),\"\")","v":43983},{"$f":"+IF(C1223=\"\",\"\",IF(I1223=\"\",\"\",(IF(I1223<=L1223,\"A TIEMPO\",\"FUERA DE TIEMPO\"))))","v":"A TIEMPO"},{"$f":"IF(I1223=\"\",\"\",NETWORKDAYS([4]Hoja1!C1223+1,[4]Hoja1!P1223,DiasNOLaborables))","v":10},"",null,null,20]
[1213,20209050036542,43951,"CORREO ELECTRÓNICO","SOLICITUD DE INFORMACIÓN Y DOCUMENTOS","SOLICITUD DE INFORMACIÓN HIDROMETEOROLÓGICA","NO","GRUPO DE ATENCIÓN AL CIUDADANO",43959,null,null,{"$f":"IFERROR(WORKDAY(C1224,R1224,DiasNOLaborables),\"\")","v":43983},{"$f":"+IF(C1224=\"\",\"\",IF(I1224=\"\",\"\",(IF(I1224<=L1224,\"A TIEMPO\",\"FUERA DE TIEMPO\"))))","v":"A TIEMPO"},{"$f":"IF(I1224=\"\",\"\",NETWORKDAYS([4]Hoja1!C1224+1,[4]Hoja1!P1224,DiasNOLaborables))","v":10},"",null,null,20]
[1214,20209050036352,43951,"CORREO ELECTRÓNICO","SOLICITUD DE INFORMACIÓN Y DOCUMENTOS","SOLICITUD DE INFORMACIÓN HIDROMETEOROLÓGICA","NO","GRUPO DE ATENCIÓN AL CIUDADANO",43959,null,null,{"$f":"IFERROR(WORKDAY(C1225,R1225,DiasNOLaborables),\"\")","v":43983},{"$f":"+IF(C1225=\"\",\"\",IF(I1225=\"\",\"\",(IF(I1225<=L1225,\"A TIEMPO\",\"FUERA DE TIEMPO\"))))","v":"A TIEMPO"},{"$f":"IF(I1225=\"\",\"\",NETWORKDAYS([4]Hoja1!C1225+1,[4]Hoja1!P1225,DiasNOLaborables))","v":10},"",null,null,20]
[1215,20209050036362,43951,"CORREO ELECTRÓNICO","SOLICITUD DE INFORMACIÓN Y DOCUMENTOS","SOLICITUD DE INFORMACIÓN HIDROMETEOROLÓGICA","NO","GRUPO DE ATENCIÓN AL CIUDADANO",43959,null,null,{"$f":"IFERROR(WORKDAY(C1226,R1226,DiasNOLaborables),\"\")","v":43983},{"$f":"+IF(C1226=\"\",\"\",IF(I1226=\"\",\"\",(IF(I1226<=L1226,\"A TIEMPO\",\"FUERA DE TIEMPO\"))))","v":"A TIEMPO"},{"$f":"IF(I1226=\"\",\"\",NETWORKDAYS([4]Hoja1!C1226+1,[4]Hoja1!P1226,DiasNOLaborables))","v":10},"",null,null,20]
[1216,20209050036372,43951,"CORREO ELECTRÓNICO","SOLICITUD DE INFORMACIÓN Y DOCUMENTOS","SOLICITUD DE INFORMACIÓN HIDROMETEOROLÓGICA","NO","GRUPO DE ATENCIÓN AL CIUDADANO",43959,null,null,{"$f":"IFERROR(WORKDAY(C1227,R1227,DiasNOLaborables),\"\")","v":43983},{"$f":"+IF(C1227=\"\",\"\",IF(I1227=\"\",\"\",(IF(I1227<=L1227,\"A TIEMPO\",\"FUERA DE TIEMPO\"))))","v":"A TIEMPO"},{"$f":"IF(I1227=\"\",\"\",NETWORKDAYS([4]Hoja1!C1227+1,[4]Hoja1!P1227,DiasNOLaborables))","v":10},"",null,null,20]
[1217,20209050036382,43951,"CORREO ELECTRÓNICO","SOLICITUD DE INFORMACIÓN Y DOCUMENTOS","SOLICITUD DE INFORMACIÓN HIDROMETEOROLÓGICA","NO","GRUPO DE ATENCIÓN AL CIUDADANO",43959,null,null,{"$f":"IFERROR(WORKDAY(C1228,R1228,DiasNOLaborables),\"\")","v":43983},{"$f":"+IF(C1228=\"\",\"\",IF(I1228=\"\",\"\",(IF(I1228<=L1228,\"A TIEMPO\",\"FUERA DE TIEMPO\"))))","v":"A TIEMPO"},{"$f":"IF(I1228=\"\",\"\",NETWORKDAYS([4]Hoja1!C1228+1,[4]Hoja1!P1228,DiasNOLaborables))","v":10},"",null,null,20]
[1218,20209050036392,43951,"CORREO ELECTRÓNICO","SOLICITUD DE INFORMACIÓN Y DOCUMENTOS","SOLICITUD DE INFORMACIÓN HIDROMETEOROLÓGICA","NO","GRUPO DE ATENCIÓN AL CIUDADANO",43959,null,null,{"$f":"IFERROR(WORKDAY(C1229,R1229,DiasNOLaborables),\"\")","v":43983},{"$f":"+IF(C1229=\"\",\"\",IF(I1229=\"\",\"\",(IF(I1229<=L1229,\"A TIEMPO\",\"FUERA DE TIEMPO\"))))","v":"A TIEMPO"},{"$f":"IF(I1229=\"\",\"\",NETWORKDAYS([4]Hoja1!C1229+1,[4]Hoja1!P1229,DiasNOLaborables))","v":10},"",null,null,20]
[1219,20209050036562,43951,"CORREO ELECTRÓNICO","SOLICITUD DE INFORMACIÓN Y DOCUMENTOS","SOLICITUD DE INFORMACIÓN HIDROMETEOROLÓGICA","NO","GRUPO DE ATENCIÓN AL CIUDADANO",43959,null,null,{"$f":"IFERROR(WORKDAY(C1230,R1230,DiasNOLaborables),\"\")","v":43983},{"$f":"+IF(C1230=\"\",\"\",IF(I1230=\"\",\"\",(IF(I1230<=L1230,\"A TIEMPO\",\"FUERA DE TIEMPO\"))))","v":"A TIEMPO"},{"$f":"IF(I1230=\"\",\"\",NETWORKDAYS([4]Hoja1!C1230+1,[4]Hoja1!P1230,DiasNOLaborables))","v":10},"",null,null,20]
[1220,20209050036572,43951,"CORREO ELECTRÓNICO","SOLICITUD DE INFORMACIÓN Y DOCUMENTOS","SOLICITUD DE INFORMACIÓN HIDROMETEOROLÓGICA","NO","GRUPO DE ATENCIÓN AL CIUDADANO",43959,null,null,{"$f":"IFERROR(WORKDAY(C1231,R1231,DiasNOLaborables),\"\")","v":43983},{"$f":"+IF(C1231=\"\",\"\",IF(I1231=\"\",\"\",(IF(I1231<=L1231,\"A TIEMPO\",\"FUERA DE TIEMPO\"))))","v":"A TIEMPO"},{"$f":"IF(I1231=\"\",\"\",NETWORKDAYS([4]Hoja1!C1231+1,[4]Hoja1!P1231,DiasNOLaborables))","v":10},"",null,null,20]
[1221,20209050036592,43951,"CORREO ELECTRÓNICO","SOLICITUD DE INFORMACIÓN Y DOCUMENTOS","SOLICITUD DE INFORMACIÓN HIDROMETEOROLÓGICA","NO","GRUPO DE ATENCIÓN AL CIUDADANO",43959,null,null,{"$f":"IFERROR(WORKDAY(C1232,R1232,DiasNOLaborables),\"\")","v":43983},{"$f":"+IF(C1232=\"\",\"\",IF(I1232=\"\",\"\",(IF(I1232<=L1232,\"A TIEMPO\",\"FUERA DE TIEMPO\"))))","v":"A TIEMPO"},{"$f":"IF(I1232=\"\",\"\",NETWORKDAYS([4]Hoja1!C1232+1,[4]Hoja1!P1232,DiasNOLaborables))","v":10},"",null,null,20]
[1222,20209050036432,43951,"CORREO ELECTRÓNICO","SOLICITUD DE INFORMACIÓN Y DOCUMENTOS","SOLICITUD DE INFORMACIÓN Y DOCUMENTOS","SI","SUBDIRECCIÓN DE ESTUDIOS AMBIENTALES",43962,null,null,{"$f":"IFERROR(WORKDAY(C1233,R1233,DiasNOLaborables),\"\")","v":43983},{"$f":"+IF(C1233=\"\",\"\",IF(I1233=\"\",\"\",(IF(I1233<=L1233,\"A TIEMPO\",\"FUERA DE TIEMPO\"))))","v":"A TIEMPO"},{"$f":"IF(I1233=\"\",\"\",NETWORKDAYS([4]Hoja1!C1233+1,[4]Hoja1!P1233,DiasNOLaborables))","v":10},"",null,null,20]
[1223,20209050036442,43951,"CORREO ELECTRÓNICO","SOLICITUD DE INFORMACIÓN Y DOCUMENTOS","SOLICITUD DE INFORMACIÓN Y DOCUMENTOS","SI","SUBDIRECCIÓN DE ECOSISTEMAS E INFORMACIÓN AMBIENTAL",43969,null,null,{"$f":"IFERROR(WORKDAY(C1234,R1234,DiasNOLaborables),\"\")","v":43983},{"$f":"+IF(C1234=\"\",\"\",IF(I1234=\"\",\"\",(IF(I1234<=L1234,\"A TIEMPO\",\"FUERA DE TIEMPO\"))))","v":"A TIEMPO"},{"$f":"IF(I1234=\"\",\"\",NETWORKDAYS([4]Hoja1!C1234+1,[4]Hoja1!P1234,DiasNOLaborables))","v":10},"",null,null,20]
[1224,20209050036452,43951,"CORREO ELECTRÓNICO","SOLICITUD DE INFORMACIÓN Y DOCUMENTOS","ADMINISTRATIVA","SI","GRUPO DE TESORERÍA",43958,null,null,{"$f":"IFERROR(WORKDAY(C1235,R1235,DiasNOLaborables),\"\")","v":43983},{"$f":"+IF(C1235=\"\",\"\",IF(I1235=\"\",\"\",(IF(I1235<=L1235,\"A TIEMPO\",\"FUERA DE TIEMPO\"))))","v":"A TIEMPO"},{"$f":"IF(I1235=\"\",\"\",NETWORKDAYS([4]Hoja1!C1235+1,[4]Hoja1!P1235,DiasNOLaborables))","v":10},"",null,null,20]
[1225,20209050036462,43951,"CORREO ELECTRÓNICO","CERTIFICACIONES DE TIEMPO, CLIMA Y EVENTOS HIDROLÓGICOS","CERTIFICACIONES DE TIEMPO Y CLIMA","SI","SUBDIRECCIÓN DE METEOROLOGÍA",43958,null,null,{"$f":"IFERROR(WORKDAY(C1236,R1236,DiasNOLaborables),\"\")","v":43998},{"$f":"+IF(C1236=\"\",\"\",IF(I1236=\"\",\"\",(IF(I1236<=L1236,\"A TIEMPO\",\"FUERA DE TIEMPO\"))))","v":"A TIEMPO"},{"$f":"IF(I1236=\"\",\"\",NETWORKDAYS([4]Hoja1!C1236+1,[4]Hoja1!P1236,DiasNOLaborables))","v":10},"",null,null,30]
[1226,20209050036472,43951,"CORREO ELECTRÓNICO","CERTIFICACIONES DE TIEMPO, CLIMA Y EVENTOS HIDROLÓGICOS","CERTIFICACIONES DE TIEMPO Y CLIMA","SI","SUBDIRECCIÓN DE METEOROLOGÍA",43959,null,null,{"$f":"IFERROR(WORKDAY(C1237,R1237,DiasNOLaborables),\"\")","v":43998},{"$f":"+IF(C1237=\"\",\"\",IF(I1237=\"\",\"\",(IF(I1237<=L1237,\"A TIEMPO\",\"FUERA DE TIEMPO\"))))","v":"A TIEMPO"},{"$f":"IF(I1237=\"\",\"\",NETWORKDAYS([4]Hoja1!C1237+1,[4]Hoja1!P1237,DiasNOLaborables))","v":10},"",null,null,30]
[1227,20209050036502,43951,"CORREO ELECTRÓNICO","SOLICITUD DE INFORMACIÓN Y DOCUMENTOS","SOLICITUD DE INFORMACIÓN Y DOCUMENTOS","SI","SUBDIRECCIÓN DE ECOSISTEMAS E INFORMACIÓN AMBIENTAL",43969,null,null,{"$f":"IFERROR(WORKDAY(C1238,R1238,DiasNOLaborables),\"\")","v":43983},{"$f":"+IF(C1238=\"\",\"\",IF(I1238=\"\",\"\",(IF(I1238<=L1238,\"A TIEMPO\",\"FUERA DE TIEMPO\"))))","v":"A TIEMPO"},{"$f":"IF(I1238=\"\",\"\",NETWORKDAYS([4]Hoja1!C1238+1,[4]Hoja1!P1238,DiasNOLaborables))","v":10},"",null,null,20]
[1228,20209050036512,43951,"CORREO ELECTRÓNICO","SOLICITUD DE INFORMACIÓN Y DOCUMENTOS","SOLICITUD DE INFORMACIÓN Y DOCUMENTOS","SI","SUBDIRECCIÓN DE HIDROLOGÍA",43962,null,null,{"$f":"IFERROR(WORKDAY(C1239,R1239,DiasNOLaborables),\"\")","v":43983},{"$f":"+IF(C1239=\"\",\"\",IF(I1239=\"\",\"\",(IF(I1239<=L1239,\"A TIEMPO\",\"FUERA DE TIEMPO\"))))","v":"A TIEMPO"},{"$f":"IF(I1239=\"\",\"\",NETWORKDAYS([4]Hoja1!C1239+1,[4]Hoja1!P1239,DiasNOLaborables))","v":10},"",null,null,20]
[1229,20209050036552,43951,"CORREO ELECTRÓNICO","SOLICITUD DE INFORMACIÓN Y DOCUMENTOS","SOLICITUD DE INFORMACIÓN Y DOCUMENTOS","SI","SUBDIRECCIÓN DE METEOROLOGÍA",43955,null,null,{"$f":"IFERROR(WORKDAY(C1240,R1240,DiasNOLaborables),\"\")","v":43983},{"$f":"+IF(C1240=\"\",\"\",IF(I1240=\"\",\"\",(IF(I1240<=L1240,\"A TIEMPO\",\"FUERA DE TIEMPO\"))))","v":"A TIEMPO"},{"$f":"IF(I1240=\"\",\"\",NETWORKDAYS([4]Hoja1!C1240+1,[4]Hoja1!P1240,DiasNOLaborables))","v":10},"",null,null,20]
[1230,20209050036262,43951,"MODULO CONTACTENOS","SOLICITUD DE INFORMACIÓN Y DOCUMENTOS","ADMINISTRATIVA","SI","GRUPO DE ADMINISTRACIÓN Y DESARROLLO DEL TALENTO HUMANO",43966,null,null,{"$f":"IFERROR(WORKDAY(C1241,R1241,DiasNOLaborables),\"\")","v":43983},{"$f":"+IF(C1241=\"\",\"\",IF(I1241=\"\",\"\",(IF(I1241<=L1241,\"A TIEMPO\",\"FUERA DE TIEMPO\"))))","v":"A TIEMPO"},{"$f":"IF(I1241=\"\",\"\",NETWORKDAYS([4]Hoja1!C1241+1,[4]Hoja1!P1241,DiasNOLaborables))","v":10},"",null,null,20]
[1231,20209050036272,43951,"MODULO CONTACTENOS","SOLICITUD DE INFORMACIÓN Y DOCUMENTOS","ADMINISTRATIVA","SI","GRUPO DE ADMINISTRACIÓN Y DESARROLLO DEL TALENTO HUMANO",43951,null,null,{"$f":"IFERROR(WORKDAY(C1242,R1242,DiasNOLaborables),\"\")","v":43983},{"$f":"+IF(C1242=\"\",\"\",IF(I1242=\"\",\"\",(IF(I1242<=L1242,\"A TIEMPO\",\"FUERA DE TIEMPO\"))))","v":"A TIEMPO"},{"$f":"IF(I1242=\"\",\"\",NETWORKDAYS([4]Hoja1!C1242+1,[4]Hoja1!P1242,DiasNOLaborables))","v":10},"",null,null,20]
[1232,20209050036582,43951,"MODULO CONTACTENOS","SOLICITUD DE INFORMACIÓN Y DOCUMENTOS","SIRH","SI","SUBDIRECCIÓN DE HIDROLOGÍA",43965,null,null,{"$f":"IFERROR(WORKDAY(C1243,R1243,DiasNOLaborables),\"\")","v":43983},{"$f":"+IF(C1243=\"\",\"\",IF(I1243=\"\",\"\",(IF(I1243<=L1243,\"A TIEMPO\",\"FUERA DE TIEMPO\"))))","v":"A TIEMPO"},{"$f":"IF(I1243=\"\",\"\",NETWORKDAYS([4]Hoja1!C1243+1,[4]Hoja1!P1243,DiasNOLaborables))","v":10},"",null,null,20]
[1233,20200503224118,43954,"WEB (MÓDULO DE SOLICITUD DE INFORMACIÓN HIDROMETEOROLÓGICA)","SOLICITUD DE INFORMACIÓN Y DOCUMENTOS","SOLICITUD DE INFORMACIÓN HIDROMETEOROLÓGICA","NO","GRUPO DE ATENCIÓN AL CIUDADANO",43964,null,null,{"$f":"IFERROR(WORKDAY(C1244,R1244,DiasNOLaborables),\"\")","v":43983},{"$f":"+IF(C1244=\"\",\"\",IF(I1244=\"\",\"\",(IF(I1244<=L1244,\"A TIEMPO\",\"FUERA DE TIEMPO\"))))","v":"A TIEMPO"},{"$f":"IF(I1244=\"\",\"\",NETWORKDAYS([4]Hoja1!C1244+1,[4]Hoja1!P1244,DiasNOLaborables))","v":10},"",null,null,20]
[1234,20200503221615,43954,"WEB (MÓDULO DE SOLICITUD DE INFORMACIÓN HIDROMETEOROLÓGICA)","SOLICITUD DE INFORMACIÓN Y DOCUMENTOS","SOLICITUD DE INFORMACIÓN HIDROMETEOROLÓGICA","NO","GRUPO DE ATENCIÓN AL CIUDADANO",43964,null,null,{"$f":"IFERROR(WORKDAY(C1245,R1245,DiasNOLaborables),\"\")","v":43983},{"$f":"+IF(C1245=\"\",\"\",IF(I1245=\"\",\"\",(IF(I1245<=L1245,\"A TIEMPO\",\"FUERA DE TIEMPO\"))))","v":"A TIEMPO"},{"$f":"IF(I1245=\"\",\"\",NETWORKDAYS([4]Hoja1!C1245+1,[4]Hoja1!P1245,DiasNOLaborables))","v":10},"",null,null,20]
[1235,20200503200754,43954,"WEB (MÓDULO DE SOLICITUD DE INFORMACIÓN HIDROMETEOROLÓGICA)","SOLICITUD DE INFORMACIÓN Y DOCUMENTOS","SOLICITUD DE INFORMACIÓN HIDROMETEOROLÓGICA","NO","GRUPO DE ATENCIÓN AL CIUDADANO",43964,null,null,{"$f":"IFERROR(WORKDAY(C1246,R1246,DiasNOLaborables),\"\")","v":43983},{"$f":"+IF(C1246=\"\",\"\",IF(I1246=\"\",\"\",(IF(I1246<=L1246,\"A TIEMPO\",\"FUERA DE TIEMPO\"))))","v":"A TIEMPO"},{"$f":"IF(I1246=\"\",\"\",NETWORKDAYS([4]Hoja1!C1246+1,[4]Hoja1!P1246,DiasNOLaborables))","v":10},"",null,null,20]
[1236,20200504112351,43955,"WEB (MÓDULO DE SOLICITUD DE INFORMACIÓN HIDROMETEOROLÓGICA)","SOLICITUD DE INFORMACIÓN Y DOCUMENTOS","SOLICITUD DE INFORMACIÓN HIDROMETEOROLÓGICA","NO","GRUPO DE ATENCIÓN AL CIUDADANO",43964,null,null,{"$f":"IFERROR(WORKDAY(C1247,R1247,DiasNOLaborables),\"\")","v":43984},{"$f":"+IF(C1247=\"\",\"\",IF(I1247=\"\",\"\",(IF(I1247<=L1247,\"A TIEMPO\",\"FUERA DE TIEMPO\"))))","v":"A TIEMPO"},{"$f":"IF(I1247=\"\",\"\",NETWORKDAYS([4]Hoja1!C1247+1,[4]Hoja1!P1247,DiasNOLaborables))","v":10},"",null,null,20]
[1237,20209050036802,43955,"MODULO CONTACTENOS","SOLICITUD DE INFORMACIÓN Y DOCUMENTOS","SOLICITUD DE INFORMACIÓN HIDROMETEOROLÓGICA","NO","GRUPO DE ATENCIÓN AL CIUDADANO",43964,null,null,{"$f":"IFERROR(WORKDAY(C1248,R1248,DiasNOLaborables),\"\")","v":43984},{"$f":"+IF(C1248=\"\",\"\",IF(I1248=\"\",\"\",(IF(I1248<=L1248,\"A TIEMPO\",\"FUERA DE TIEMPO\"))))","v":"A TIEMPO"},{"$f":"IF(I1248=\"\",\"\",NETWORKDAYS([4]Hoja1!C1248+1,[4]Hoja1!P1248,DiasNOLaborables))","v":10},"",null,null,20]
[1238,20209050036822,43955,"MODULO CONTACTENOS","SOLICITUD DE INFORMACIÓN Y DOCUMENTOS","SOLICITUD DE INFORMACIÓN HIDROMETEOROLÓGICA","NO","GRUPO DE ATENCIÓN AL CIUDADANO",43964,null,null,{"$f":"IFERROR(WORKDAY(C1249,R1249,DiasNOLaborables),\"\")","v":43984},{"$f":"+IF(C1249=\"\",\"\",IF(I1249=\"\",\"\",(IF(I1249<=L1249,\"A TIEMPO\",\"FUERA DE TIEMPO\"))))","v":"A TIEMPO"},{"$f":"IF(I1249=\"\",\"\",NETWORKDAYS([4]Hoja1!C1249+1,[4]Hoja1!P1249,DiasNOLaborables))","v":10},"",null,null,20]
[1239,20209050036842,43955,"MODULO CONTACTENOS","SOLICITUD DE INFORMACIÓN Y DOCUMENTOS","SOLICITUD DE INFORMACIÓN HIDROMETEOROLÓGICA","NO","GRUPO DE ATENCIÓN AL CIUDADANO",43964,null,null,{"$f":"IFERROR(WORKDAY(C1250,R1250,DiasNOLaborables),\"\")","v":43984},{"$f":"+IF(C1250=\"\",\"\",IF(I1250=\"\",\"\",(IF(I1250<=L1250,\"A TIEMPO\",\"FUERA DE TIEMPO\"))))","v":"A TIEMPO"},{"$f":"IF(I1250=\"\",\"\",NETWORKDAYS([4]Hoja1!C1250+1,[4]Hoja1!P1250,DiasNOLaborables))","v":10},"",null,null,20]
[1240,20200505135025,43956,"WEB (MÓDULO DE SOLICITUD DE INFORMACIÓN HIDROMETEOROLÓGICA)","SOLICITUD DE INFORMACIÓN Y DOCUMENTOS","SOLICITUD DE INFORMACIÓN HIDROMETEOROLÓGICA","NO","GRUPO DE ATENCIÓN AL CIUDADANO",43964,null,null,{"$f":"IFERROR(WORKDAY(C1251,R1251,DiasNOLaborables),\"\")","v":43985},{"$f":"+IF(C1251=\"\",\"\",IF(I1251=\"\",\"\",(IF(I1251<=L1251,\"A TIEMPO\",\"FUERA DE TIEMPO\"))))","v":"A TIEMPO"},{"$f":"IF(I1251=\"\",\"\",NETWORKDAYS([4]Hoja1!C1251+1,[4]Hoja1!P1251,DiasNOLaborables))","v":10},"",null,null,20]
[1241,20200505125827,43956,"WEB (MÓDULO DE SOLICITUD DE INFORMACIÓN HIDROMETEOROLÓGICA)","SOLICITUD DE INFORMACIÓN Y DOCUMENTOS","SOLICITUD DE INFORMACIÓN HIDROMETEOROLÓGICA","NO","GRUPO DE ATENCIÓN AL CIUDADANO",43964,null,null,{"$f":"IFERROR(WORKDAY(C1252,R1252,DiasNOLaborables),\"\")","v":43985},{"$f":"+IF(C1252=\"\",\"\",IF(I1252=\"\",\"\",(IF(I1252<=L1252,\"A TIEMPO\",\"FUERA DE TIEMPO\"))))","v":"A TIEMPO"},{"$f":"IF(I1252=\"\",\"\",NETWORKDAYS([4]Hoja1!C1252+1,[4]Hoja1!P1252,DiasNOLaborables))","v":10},"",null,null,20]
[1242,20200505121301,43956,"WEB (MÓDULO DE SOLICITUD DE INFORMACIÓN HIDROMETEOROLÓGICA)","SOLICITUD DE INFORMACIÓN Y DOCUMENTOS","SOLICITUD DE INFORMACIÓN HIDROMETEOROLÓGICA","NO","GRUPO DE ATENCIÓN AL CIUDADANO",43964,null,null,{"$f":"IFERROR(WORKDAY(C1253,R1253,DiasNOLaborables),\"\")","v":43985},{"$f":"+IF(C1253=\"\",\"\",IF(I1253=\"\",\"\",(IF(I1253<=L1253,\"A TIEMPO\",\"FUERA DE TIEMPO\"))))","v":"A TIEMPO"},{"$f":"IF(I1253=\"\",\"\",NETWORKDAYS([4]Hoja1!C1253+1,[4]Hoja1!P1253,DiasNOLaborables))","v":10},"",null,null,20]
[1243,20209050036852,43955,"MODULO CONTACTENOS","SOLICITUD DE INFORMACIÓN Y DOCUMENTOS","SOLICITUD DE INFORMACIÓN HIDROMETEOROLÓGICA","NO","GRUPO DE ATENCIÓN AL CIUDADANO",43965,null,null,{"$f":"IFERROR(WORKDAY(C1254,R1254,DiasNOLaborables),\"\")","v":43984},{"$f":"+IF(C1254=\"\",\"\",IF(I1254=\"\",\"\",(IF(I1254<=L1254,\"A TIEMPO\",\"FUERA DE TIEMPO\"))))","v":"A TIEMPO"},{"$f":"IF(I1254=\"\",\"\",NETWORKDAYS([4]Hoja1!C1254+1,[4]Hoja1!P1254,DiasNOLaborables))","v":10},"",null,null,20]
[1244,20209050036862,43955,"MODULO CONTACTENOS","SOLICITUD DE INFORMACIÓN Y DOCUMENTOS","SOLICITUD DE INFORMACIÓN HIDROMETEOROLÓGICA","NO","GRUPO DE ATENCIÓN AL CIUDADANO",43965,null,null,{"$f":"IFERROR(WORKDAY(C1255,R1255,DiasNOLaborables),\"\")","v":43984},{"$f":"+IF(C1255=\"\",\"\",IF(I1255=\"\",\"\",(IF(I1255<=L1255,\"A TIEMPO\",\"FUERA DE TIEMPO\"))))","v":"A TIEMPO"},{"$f":"IF(I1255=\"\",\"\",NETWORKDAYS([4]Hoja1!C1255+1,[4]Hoja1!P1255,DiasNOLaborables))","v":10},"",null,null,20]
[1245,20209050036872,43955,"MODULO CONTACTENOS","SOLICITUD DE INFORMACIÓN Y DOCUMENTOS","SOLICITUD DE INFORMACIÓN HIDROMETEOROLÓGICA","NO","GRUPO DE ATENCIÓN AL CIUDADANO",43965,null,null,{"$f":"IFERROR(WORKDAY(C1256,R1256,DiasNOLaborables),\"\")","v":43984},{"$f":"+IF(C1256=\"\",\"\",IF(I1256=\"\",\"\",(IF(I1256<=L1256,\"A TIEMPO\",\"FUERA DE TIEMPO\"))))","v":"A TIEMPO"},{"$f":"IF(I1256=\"\",\"\",NETWORKDAYS([4]Hoja1!C1256+1,[4]Hoja1!P1256,DiasNOLaborables))","v":10},"",null,null,20]
[1246,20209050036882,43955,"MODULO CONTACTENOS","SOLICITUD DE INFORMACIÓN Y DOCUMENTOS","SOLICITUD DE INFORMACIÓN HIDROMETEOROLÓGICA","NO","GRUPO DE ATENCIÓN AL CIUDADANO",43965,null,null,{"$f":"IFERROR(WORKDAY(C1257,R1257,DiasNOLaborables),\"\")","v":43984},{"$f":"+IF(C1257=\"\",\"\",IF(I1257=\"\",\"\",(IF(I1257<=L1257,\"A TIEMPO\",\"FUERA DE TIEMPO\"))))","v":"A TIEMPO"},{"$f":"IF(I1257=\"\",\"\",NETWORKDAYS([4]Hoja1!C1257+1,[4]Hoja1!P1257,DiasNOLaborables))","v":10},"",null,null,20]
[1247,20209050036892,43955,"MODULO CONTACTENOS","SOLICITUD DE INFORMACIÓN Y DOCUMENTOS","SOLICITUD DE INFORMACIÓN HIDROMETEOROLÓGICA","NO","GRUPO DE ATENCIÓN AL CIUDADANO",43965,null,null,{"$f":"IFERROR(WORKDAY(C1258,R1258,DiasNOLaborables),\"\")","v":43984},{"$f":"+IF(C1258=\"\",\"\",IF(I1258=\"\",\"\",(IF(I1258<=L1258,\"A TIEMPO\",\"FUERA DE TIEMPO\"))))","v":"A TIEMPO"},{"$f":"IF(I1258=\"\",\"\",NETWORKDAYS([4]Hoja1!C1258+1,[4]Hoja1!P1258,DiasNOLaborables))","v":10},"",null,null,20]
[1248,20209050036962,43955,"MODULO CONTACTENOS","SOLICITUD DE INFORMACIÓN Y DOCUMENTOS","SOLICITUD DE INFORMACIÓN HIDROMETEOROLÓGICA","NO","GRUPO DE ATENCIÓN AL CIUDADANO",43965,null,null,{"$f":"IFERROR(WORKDAY(C1259,R1259,DiasNOLaborables),\"\")","v":43984},{"$f":"+IF(C1259=\"\",\"\",IF(I1259=\"\",\"\",(IF(I1259<=L1259,\"A TIEMPO\",\"FUERA DE TIEMPO\"))))","v":"A TIEMPO"},{"$f":"IF(I1259=\"\",\"\",NETWORKDAYS([4]Hoja1!C1259+1,[4]Hoja1!P1259,DiasNOLaborables))","v":10},"",null,null,20]
[1249,2020905003738,43956,"MODULO CONTACTENOS","SOLICITUD DE INFORMACIÓN Y DOCUMENTOS","SOLICITUD DE INFORMACIÓN HIDROMETEOROLÓGICA","NO","GRUPO DE ATENCIÓN AL CIUDADANO",43965,null,null,{"$f":"IFERROR(WORKDAY(C1260,R1260,DiasNOLaborables),\"\")","v":43985},{"$f":"+IF(C1260=\"\",\"\",IF(I1260=\"\",\"\",(IF(I1260<=L1260,\"A TIEMPO\",\"FUERA DE TIEMPO\"))))","v":"A TIEMPO"},{"$f":"IF(I1260=\"\",\"\",NETWORKDAYS([4]Hoja1!C1260+1,[4]Hoja1!P1260,DiasNOLaborables))","v":10},"",null,null,20]
[1250,20209050037402,43956,"MODULO CONTACTENOS","SOLICITUD DE INFORMACIÓN Y DOCUMENTOS","SOLICITUD DE INFORMACIÓN HIDROMETEOROLÓGICA","NO","GRUPO DE ATENCIÓN AL CIUDADANO",43965,null,null,{"$f":"IFERROR(WORKDAY(C1261,R1261,DiasNOLaborables),\"\")","v":43985},{"$f":"+IF(C1261=\"\",\"\",IF(I1261=\"\",\"\",(IF(I1261<=L1261,\"A TIEMPO\",\"FUERA DE TIEMPO\"))))","v":"A TIEMPO"},{"$f":"IF(I1261=\"\",\"\",NETWORKDAYS([4]Hoja1!C1261+1,[4]Hoja1!P1261,DiasNOLaborables))","v":10},"",null,null,20]
[1251,20209050037412,43956,"MODULO CONTACTENOS","SOLICITUD DE INFORMACIÓN Y DOCUMENTOS","SOLICITUD DE INFORMACIÓN HIDROMETEOROLÓGICA","NO","GRUPO DE ATENCIÓN AL CIUDADANO",43965,null,null,{"$f":"IFERROR(WORKDAY(C1262,R1262,DiasNOLaborables),\"\")","v":43985},{"$f":"+IF(C1262=\"\",\"\",IF(I1262=\"\",\"\",(IF(I1262<=L1262,\"A TIEMPO\",\"FUERA DE TIEMPO\"))))","v":"A TIEMPO"},{"$f":"IF(I1262=\"\",\"\",NETWORKDAYS([4]Hoja1!C1262+1,[4]Hoja1!P1262,DiasNOLaborables))","v":10},"",null,null,20]
[1252,20209050037422,43956,"MODULO CONTACTENOS","SOLICITUD DE INFORMACIÓN Y DOCUMENTOS","SOLICITUD DE INFORMACIÓN HIDROMETEOROLÓGICA","NO","GRUPO DE ATENCIÓN AL CIUDADANO",43966,null,null,{"$f":"IFERROR(WORKDAY(C1263,R1263,DiasNOLaborables),\"\")","v":43985},{"$f":"+IF(C1263=\"\",\"\",IF(I1263=\"\",\"\",(IF(I1263<=L1263,\"A TIEMPO\",\"FUERA DE TIEMPO\"))))","v":"A TIEMPO"},{"$f":"IF(I1263=\"\",\"\",NETWORKDAYS([4]Hoja1!C1263+1,[4]Hoja1!P1263,DiasNOLaborables))","v":10},"",null,null,20]
[1253,20209050037432,43956,"MODULO CONTACTENOS","SOLICITUD DE INFORMACIÓN Y DOCUMENTOS","SOLICITUD DE INFORMACIÓN HIDROMETEOROLÓGICA","NO","GRUPO DE ATENCIÓN AL CIUDADANO",43966,null,null,{"$f":"IFERROR(WORKDAY(C1264,R1264,DiasNOLaborables),\"\")","v":43985},{"$f":"+IF(C1264=\"\",\"\",IF(I1264=\"\",\"\",(IF(I1264<=L1264,\"A TIEMPO\",\"FUERA DE TIEMPO\"))))","v":"A TIEMPO"},{"$f":"IF(I1264=\"\",\"\",NETWORKDAYS([4]Hoja1!C1264+1,[4]Hoja1!P1264,DiasNOLaborables))","v":10},"",null,null,20]
[1254,20209050037452,43956,"MODULO CONTACTENOS","SOLICITUD DE INFORMACIÓN Y DOCUMENTOS","SOLICITUD DE INFORMACIÓN HIDROMETEOROLÓGICA","NO","GRUPO DE ATENCIÓN AL CIUDADANO",43966,null,null,{"$f":"IFERROR(WORKDAY(C1265,R1265,DiasNOLaborables),\"\")","v":43985},{"$f":"+IF(C1265=\"\",\"\",IF(I1265=\"\",\"\",(IF(I1265<=L1265,\"A TIEMPO\",\"FUERA DE TIEMPO\"))))","v":"A TIEMPO"},{"$f":"IF(I1265=\"\",\"\",NETWORKDAYS([4]Hoja1!C1265+1,[4]Hoja1!P1265,DiasNOLaborables))","v":10},"",null,null,20]
[{"$f":"IF(B1264<>\"\",A1265+1,\"\")","v":1255},20209050037462,43956,"MODULO CONTACTENOS","SOLICITUD DE INFORMACIÓN Y DOCUMENTOS","SOLICITUD DE INFORMACIÓN HIDROMETEOROLÓGICA","NO","GRUPO DE ATENCIÓN AL CIUDADANO",43966,null,null,{"$f":"IFERROR(WORKDAY(C1266,R1266,DiasNOLaborables),\"\")","v":43985},{"$f":"+IF(C1266=\"\",\"\",IF(I1266=\"\",\"\",(IF(I1266<=L1266,\"A TIEMPO\",\"FUERA DE TIEMPO\"))))","v":"A TIEMPO"},{"$f":"IF(I1266=\"\",\"\",NETWORKDAYS([4]Hoja1!C1266+1,[4]Hoja1!P1266,DiasNOLaborables))","v":10},"",null,null,20]
[1256,20209910036162,43956,"MODULO CONTACTENOS","SOLICITUD DE INFORMACIÓN Y DOCUMENTOS","SOLICITUD DE INFORMACIÓN HIDROMETEOROLÓGICA","NO","GRUPO DE ATENCIÓN AL CIUDADANO",43966,null,null,{"$f":"IFERROR(WORKDAY(C1267,R1267,DiasNOLaborables),\"\")","v":43985},{"$f":"+IF(C1267=\"\",\"\",IF(I1267=\"\",\"\",(IF(I1267<=L1267,\"A TIEMPO\",\"FUERA DE TIEMPO\"))))","v":"A TIEMPO"},{"$f":"IF(I1267=\"\",\"\",NETWORKDAYS([4]Hoja1!C1267+1,[4]Hoja1!P1267,DiasNOLaborables))","v":10},"",null,null,20]
[1257,20200506200430,43957,"WEB (MÓDULO DE SOLICITUD DE INFORMACIÓN HIDROMETEOROLÓGICA)","SOLICITUD DE INFORMACIÓN Y DOCUMENTOS","SOLICITUD DE INFORMACIÓN HIDROMETEOROLÓGICA","NO","GRUPO DE ATENCIÓN AL CIUDADANO",43966,null,null,{"$f":"IFERROR(WORKDAY(C1268,R1268,DiasNOLaborables),\"\")","v":43986},{"$f":"+IF(C1268=\"\",\"\",IF(I1268=\"\",\"\",(IF(I1268<=L1268,\"A TIEMPO\",\"FUERA DE TIEMPO\"))))","v":"A TIEMPO"},{"$f":"IF(I1268=\"\",\"\",NETWORKDAYS([4]Hoja1!C1268+1,[4]Hoja1!P1268,DiasNOLaborables))","v":10},{"$f":"IF(NETWORKDAYS(L1268+1,I1268,DiasNOLaborables)<=0,\"\",NETWORKDAYS(L1268+1,I1268,DiasNOLaborables))","v":""},null,null,20]
[1258,20200506192548,43957,"WEB (MÓDULO DE SOLICITUD DE INFORMACIÓN HIDROMETEOROLÓGICA)","SOLICITUD DE INFORMACIÓN Y DOCUMENTOS","SOLICITUD DE INFORMACIÓN HIDROMETEOROLÓGICA","NO","GRUPO DE ATENCIÓN AL CIUDADANO",43966,null,null,{"$f":"IFERROR(WORKDAY(C1269,R1269,DiasNOLaborables),\"\")","v":43986},{"$f":"+IF(C1269=\"\",\"\",IF(I1269=\"\",\"\",(IF(I1269<=L1269,\"A TIEMPO\",\"FUERA DE TIEMPO\"))))","v":"A TIEMPO"},{"$f":"IF(I1269=\"\",\"\",NETWORKDAYS([4]Hoja1!C1269+1,[4]Hoja1!P1269,DiasNOLaborables))","v":10},"",null,null,20]
[1259,20200506124215,43957,"WEB (MÓDULO DE SOLICITUD DE INFORMACIÓN HIDROMETEOROLÓGICA)","SOLICITUD DE INFORMACIÓN Y DOCUMENTOS","SOLICITUD DE INFORMACIÓN HIDROMETEOROLÓGICA","NO","GRUPO DE ATENCIÓN AL CIUDADANO",43966,null,null,{"$f":"IFERROR(WORKDAY(C1270,R1270,DiasNOLaborables),\"\")","v":43986},{"$f":"+IF(C1270=\"\",\"\",IF(I1270=\"\",\"\",(IF(I1270<=L1270,\"A TIEMPO\",\"FUERA DE TIEMPO\"))))","v":"A TIEMPO"},{"$f":"IF(I1270=\"\",\"\",NETWORKDAYS([4]Hoja1!C1270+1,[4]Hoja1!P1270,DiasNOLaborables))","v":10},"",null,null,20]
[1260,20200506123439,43957,"WEB (MÓDULO DE SOLICITUD DE INFORMACIÓN HIDROMETEOROLÓGICA)","SOLICITUD DE INFORMACIÓN Y DOCUMENTOS","SOLICITUD DE INFORMACIÓN HIDROMETEOROLÓGICA","NO","GRUPO DE ATENCIÓN AL CIUDADANO",43966,null,null,{"$f":"IFERROR(WORKDAY(C1271,R1271,DiasNOLaborables),\"\")","v":43986},{"$f":"+IF(C1271=\"\",\"\",IF(I1271=\"\",\"\",(IF(I1271<=L1271,\"A TIEMPO\",\"FUERA DE TIEMPO\"))))","v":"A TIEMPO"},{"$f":"IF(I1271=\"\",\"\",NETWORKDAYS([4]Hoja1!C1271+1,[4]Hoja1!P1271,DiasNOLaborables))","v":9},"",null,null,20]
[1261,20200506122723,43957,"WEB (MÓDULO DE SOLICITUD DE INFORMACIÓN HIDROMETEOROLÓGICA)","SOLICITUD DE INFORMACIÓN Y DOCUMENTOS","SOLICITUD DE INFORMACIÓN HIDROMETEOROLÓGICA","NO","GRUPO DE ATENCIÓN AL CIUDADANO",43966,null,null,{"$f":"IFERROR(WORKDAY(C1272,R1272,DiasNOLaborables),\"\")","v":43986},{"$f":"+IF(C1272=\"\",\"\",IF(I1272=\"\",\"\",(IF(I1272<=L1272,\"A TIEMPO\",\"FUERA DE TIEMPO\"))))","v":"A TIEMPO"},{"$f":"IF(I1272=\"\",\"\",NETWORKDAYS([4]Hoja1!C1272+1,[4]Hoja1!P1272,DiasNOLaborables))","v":9},"",null,null,20]
[1262,20200506121600,43957,"WEB (MÓDULO DE SOLICITUD DE INFORMACIÓN HIDROMETEOROLÓGICA)","SOLICITUD DE INFORMACIÓN Y DOCUMENTOS","SOLICITUD DE INFORMACIÓN HIDROMETEOROLÓGICA","NO","GRUPO DE ATENCIÓN AL CIUDADANO",43966,null,null,{"$f":"IFERROR(WORKDAY(C1273,R1273,DiasNOLaborables),\"\")","v":43986},{"$f":"+IF(C1273=\"\",\"\",IF(I1273=\"\",\"\",(IF(I1273<=L1273,\"A TIEMPO\",\"FUERA DE TIEMPO\"))))","v":"A TIEMPO"},{"$f":"IF(I1273=\"\",\"\",NETWORKDAYS([4]Hoja1!C1273+1,[4]Hoja1!P1273,DiasNOLaborables))","v":9},"",null,null,20]
[1263,20209050037772,43957,"MODULO CONTACTENOS","SOLICITUD DE INFORMACIÓN Y DOCUMENTOS","SOLICITUD DE INFORMACIÓN HIDROMETEOROLÓGICA","NO","GRUPO DE ATENCIÓN AL CIUDADANO",43966,null,null,{"$f":"IFERROR(WORKDAY(C1274,R1274,DiasNOLaborables),\"\")","v":43986},{"$f":"+IF(C1274=\"\",\"\",IF(I1274=\"\",\"\",(IF(I1274<=L1274,\"A TIEMPO\",\"FUERA DE TIEMPO\"))))","v":"A TIEMPO"},{"$f":"IF(I1274=\"\",\"\",NETWORKDAYS([4]Hoja1!C1274+1,[4]Hoja1!P1274,DiasNOLaborables))","v":9},"",null,null,20]
[1264,20209050037792,43957,"MODULO CONTACTENOS","SOLICITUD DE INFORMACIÓN Y DOCUMENTOS","SOLICITUD DE INFORMACIÓN HIDROMETEOROLÓGICA","NO","GRUPO DE ATENCIÓN AL CIUDADANO",43967,null,null,{"$f":"IFERROR(WORKDAY(C1275,R1275,DiasNOLaborables),\"\")","v":43986},{"$f":"+IF(C1275=\"\",\"\",IF(I1275=\"\",\"\",(IF(I1275<=L1275,\"A TIEMPO\",\"FUERA DE TIEMPO\"))))","v":"A TIEMPO"},{"$f":"IF(I1275=\"\",\"\",NETWORKDAYS([4]Hoja1!C1275+1,[4]Hoja1!P1275,DiasNOLaborables))","v":9},"",null,null,20]
[1265,20209050037802,43957,"MODULO CONTACTENOS","SOLICITUD DE INFORMACIÓN Y DOCUMENTOS","SOLICITUD DE INFORMACIÓN HIDROMETEOROLÓGICA","NO","GRUPO DE ATENCIÓN AL CIUDADANO",43967,null,null,{"$f":"IFERROR(WORKDAY(C1276,R1276,DiasNOLaborables),\"\")","v":43986},{"$f":"+IF(C1276=\"\",\"\",IF(I1276=\"\",\"\",(IF(I1276<=L1276,\"A TIEMPO\",\"FUERA DE TIEMPO\"))))","v":"A TIEMPO"},{"$f":"IF(I1276=\"\",\"\",NETWORKDAYS([4]Hoja1!C1276+1,[4]Hoja1!P1276,DiasNOLaborables))","v":9},"",null,null,20]
[1266,20209050037822,43957,"MODULO CONTACTENOS","SOLICITUD DE INFORMACIÓN Y DOCUMENTOS","SOLICITUD DE INFORMACIÓN HIDROMETEOROLÓGICA","NO","GRUPO DE ATENCIÓN AL CIUDADANO",43967,null,null,{"$f":"IFERROR(WORKDAY(C1277,R1277,DiasNOLaborables),\"\")","v":43986},{"$f":"+IF(C1277=\"\",\"\",IF(I1277=\"\",\"\",(IF(I1277<=L1277,\"A TIEMPO\",\"FUERA DE TIEMPO\"))))","v":"A TIEMPO"},{"$f":"IF(I1277=\"\",\"\",NETWORKDAYS([4]Hoja1!C1277+1,[4]Hoja1!P1277,DiasNOLaborables))","v":9},"",null,null,20]
[1267,20209050037832,43957,"MODULO CONTACTENOS","SOLICITUD DE INFORMACIÓN Y DOCUMENTOS","SOLICITUD DE INFORMACIÓN HIDROMETEOROLÓGICA","NO","GRUPO DE ATENCIÓN AL CIUDADANO",43967,null,null,{"$f":"IFERROR(WORKDAY(C1278,R1278,DiasNOLaborables),\"\")","v":43986},{"$f":"+IF(C1278=\"\",\"\",IF(I1278=\"\",\"\",(IF(I1278<=L1278,\"A TIEMPO\",\"FUERA DE TIEMPO\"))))","v":"A TIEMPO"},{"$f":"IF(I1278=\"\",\"\",NETWORKDAYS([4]Hoja1!C1278+1,[4]Hoja1!P1278,DiasNOLaborables))","v":9},"",null,null,20]
[1268,20209050037842,43957,"MODULO CONTACTENOS","SOLICITUD DE INFORMACIÓN Y DOCUMENTOS","SOLICITUD DE INFORMACIÓN HIDROMETEOROLÓGICA","NO","GRUPO DE ATENCIÓN AL CIUDADANO",43967,null,null,{"$f":"IFERROR(WORKDAY(C1279,R1279,DiasNOLaborables),\"\")","v":43986},{"$f":"+IF(C1279=\"\",\"\",IF(I1279=\"\",\"\",(IF(I1279<=L1279,\"A TIEMPO\",\"FUERA DE TIEMPO\"))))","v":"A TIEMPO"},{"$f":"IF(I1279=\"\",\"\",NETWORKDAYS([4]Hoja1!C1279+1,[4]Hoja1!P1279,DiasNOLaborables))","v":9},"",null,null,20]
[1269,20209050038022,43958,"MODULO CONTACTENOS","SOLICITUD DE INFORMACIÓN Y DOCUMENTOS","SOLICITUD DE INFORMACIÓN HIDROMETEOROLÓGICA","NO","GRUPO DE ATENCIÓN AL CIUDADANO",43967,null,null,{"$f":"IFERROR(WORKDAY(C1280,R1280,DiasNOLaborables),\"\")","v":43987},{"$f":"+IF(C1280=\"\",\"\",IF(I1280=\"\",\"\",(IF(I1280<=L1280,\"A TIEMPO\",\"FUERA DE TIEMPO\"))))","v":"A TIEMPO"},{"$f":"IF(I1280=\"\",\"\",NETWORKDAYS([4]Hoja1!C1280+1,[4]Hoja1!P1280,DiasNOLaborables))","v":9},"",null,null,20]
[1270,20209050038142,43958,"MODULO CONTACTENOS","SOLICITUD DE INFORMACIÓN Y DOCUMENTOS","SOLICITUD DE INFORMACIÓN HIDROMETEOROLÓGICA","NO","GRUPO DE ATENCIÓN AL CIUDADANO",43967,null,null,{"$f":"IFERROR(WORKDAY(C1281,R1281,DiasNOLaborables),\"\")","v":43987},{"$f":"+IF(C1281=\"\",\"\",IF(I1281=\"\",\"\",(IF(I1281<=L1281,\"A TIEMPO\",\"FUERA DE TIEMPO\"))))","v":"A TIEMPO"},{"$f":"IF(I1281=\"\",\"\",NETWORKDAYS([4]Hoja1!C1281+1,[4]Hoja1!P1281,DiasNOLaborables))","v":9},"",null,null,{"$f":"IFERROR(VLOOKUP(E1281,$Z$50:$AA$63,2),\"\")","v":20}]
[1271,20200507174824,43958,"WEB (MÓDULO DE SOLICITUD DE INFORMACIÓN HIDROMETEOROLÓGICA)","SOLICITUD DE INFORMACIÓN Y DOCUMENTOS","SOLICITUD DE INFORMACIÓN HIDROMETEOROLÓGICA","NO","GRUPO DE ATENCIÓN AL CIUDADANO",43967,null,null,{"$f":"IFERROR(WORKDAY(C1282,R1282,DiasNOLaborables),\"\")","v":43987},{"$f":"+IF(C1282=\"\",\"\",IF(I1282=\"\",\"\",(IF(I1282<=L1282,\"A TIEMPO\",\"FUERA DE TIEMPO\"))))","v":"A TIEMPO"},{"$f":"IF(I1282=\"\",\"\",NETWORKDAYS([4]Hoja1!C1282+1,[4]Hoja1!P1282,DiasNOLaborables))","v":9},"",null,null,20]
[1272,20200507172827,43958,"WEB (MÓDULO DE SOLICITUD DE INFORMACIÓN HIDROMETEOROLÓGICA)","SOLICITUD DE INFORMACIÓN Y DOCUMENTOS","SOLICITUD DE INFORMACIÓN HIDROMETEOROLÓGICA","NO","GRUPO DE ATENCIÓN AL CIUDADANO",43967,null,null,{"$f":"IFERROR(WORKDAY(C1283,R1283,DiasNOLaborables),\"\")","v":43987},{"$f":"+IF(C1283=\"\",\"\",IF(I1283=\"\",\"\",(IF(I1283<=L1283,\"A TIEMPO\",\"FUERA DE TIEMPO\"))))","v":"A TIEMPO"},{"$f":"IF(I1283=\"\",\"\",NETWORKDAYS([4]Hoja1!C1283+1,[4]Hoja1!P1283,DiasNOLaborables))","v":9},"",null,null,20]
[1273,20200507171845,43958,"WEB (MÓDULO DE SOLICITUD DE INFORMACIÓN HIDROMETEOROLÓGICA)","SOLICITUD DE INFORMACIÓN Y DOCUMENTOS","SOLICITUD DE INFORMACIÓN HIDROMETEOROLÓGICA","NO","GRUPO DE ATENCIÓN AL CIUDADANO",43967,null,null,{"$f":"IFERROR(WORKDAY(C1284,R1284,DiasNOLaborables),\"\")","v":43987},{"$f":"+IF(C1284=\"\",\"\",IF(I1284=\"\",\"\",(IF(I1284<=L1284,\"A TIEMPO\",\"FUERA DE TIEMPO\"))))","v":"A TIEMPO"},{"$f":"IF(I1284=\"\",\"\",NETWORKDAYS([4]Hoja1!C1284+1,[4]Hoja1!P1284,DiasNOLaborables))","v":9},"",null,null,20]
[1274,20200507160903,43958,"WEB (MÓDULO DE SOLICITUD DE INFORMACIÓN HIDROMETEOROLÓGICA)","SOLICITUD DE INFORMACIÓN Y DOCUMENTOS","SOLICITUD DE INFORMACIÓN HIDROMETEOROLÓGICA","NO","GRUPO DE ATENCIÓN AL CIUDADANO",43967,null,null,{"$f":"IFERROR(WORKDAY(C1285,R1285,DiasNOLaborables),\"\")","v":43987},{"$f":"+IF(C1285=\"\",\"\",IF(I1285=\"\",\"\",(IF(I1285<=L1285,\"A TIEMPO\",\"FUERA DE TIEMPO\"))))","v":"A TIEMPO"},{"$f":"IF(I1285=\"\",\"\",NETWORKDAYS([4]Hoja1!C1285+1,[4]Hoja1!P1285,DiasNOLaborables))","v":8},"",null,null,20]
[1275,20200507155745,43958,"WEB (MÓDULO DE SOLICITUD DE INFORMACIÓN HIDROMETEOROLÓGICA)","SOLICITUD DE INFORMACIÓN Y DOCUMENTOS","SOLICITUD DE INFORMACIÓN HIDROMETEOROLÓGICA","NO","GRUPO DE ATENCIÓN AL CIUDADANO",43967,null,null,{"$f":"IFERROR(WORKDAY(C1286,R1286,DiasNOLaborables),\"\")","v":43987},{"$f":"+IF(C1286=\"\",\"\",IF(I1286=\"\",\"\",(IF(I1286<=L1286,\"A TIEMPO\",\"FUERA DE TIEMPO\"))))","v":"A TIEMPO"},{"$f":"IF(I1286=\"\",\"\",NETWORKDAYS([4]Hoja1!C1286+1,[4]Hoja1!P1286,DiasNOLaborables))","v":8},"",null,null,20]
[1276,20200507094350,43958,"WEB (MÓDULO DE SOLICITUD DE INFORMACIÓN HIDROMETEOROLÓGICA)","SOLICITUD DE INFORMACIÓN Y DOCUMENTOS","SOLICITUD DE INFORMACIÓN HIDROMETEOROLÓGICA","NO","GRUPO DE ATENCIÓN AL CIUDADANO",43967,null,null,{"$f":"IFERROR(WORKDAY(C1287,R1287,DiasNOLaborables),\"\")","v":43987},{"$f":"+IF(C1287=\"\",\"\",IF(I1287=\"\",\"\",(IF(I1287<=L1287,\"A TIEMPO\",\"FUERA DE TIEMPO\"))))","v":"A TIEMPO"},{"$f":"IF(I1287=\"\",\"\",NETWORKDAYS([4]Hoja1!C1287+1,[4]Hoja1!P1287,DiasNOLaborables))","v":8},"",null,null,20]
[1277,20209050038692,43959,"MODULO CONTACTENOS","SOLICITUD DE INFORMACIÓN Y DOCUMENTOS","SOLICITUD DE INFORMACIÓN HIDROMETEOROLÓGICA","NO","GRUPO DE ATENCIÓN AL CIUDADANO",43969,null,null,{"$f":"IFERROR(WORKDAY(C1288,R1288,DiasNOLaborables),\"\")","v":43990},{"$f":"+IF(C1288=\"\",\"\",IF(I1288=\"\",\"\",(IF(I1288<=L1288,\"A TIEMPO\",\"FUERA DE TIEMPO\"))))","v":"A TIEMPO"},{"$f":"IF(I1288=\"\",\"\",NETWORKDAYS([4]Hoja1!C1288+1,[4]Hoja1!P1288,DiasNOLaborables))","v":8},"",null,null,20]
[1278,20209050038702,43960,"MODULO CONTACTENOS","SOLICITUD DE INFORMACIÓN Y DOCUMENTOS","SOLICITUD DE INFORMACIÓN HIDROMETEOROLÓGICA","NO","GRUPO DE ATENCIÓN AL CIUDADANO",43969,null,null,{"$f":"IFERROR(WORKDAY(C1289,R1289,DiasNOLaborables),\"\")","v":43990},{"$f":"+IF(C1289=\"\",\"\",IF(I1289=\"\",\"\",(IF(I1289<=L1289,\"A TIEMPO\",\"FUERA DE TIEMPO\"))))","v":"A TIEMPO"},{"$f":"IF(I1289=\"\",\"\",NETWORKDAYS([4]Hoja1!C1289+1,[4]Hoja1!P1289,DiasNOLaborables))","v":8},"",null,null,20]
[1279,20209050038712,43960,"MODULO CONTACTENOS","SOLICITUD DE INFORMACIÓN Y DOCUMENTOS","SOLICITUD DE INFORMACIÓN HIDROMETEOROLÓGICA","NO","GRUPO DE ATENCIÓN AL CIUDADANO",43969,null,null,{"$f":"IFERROR(WORKDAY(C1290,R1290,DiasNOLaborables),\"\")","v":43990},{"$f":"+IF(C1290=\"\",\"\",IF(I1290=\"\",\"\",(IF(I1290<=L1290,\"A TIEMPO\",\"FUERA DE TIEMPO\"))))","v":"A TIEMPO"},{"$f":"IF(I1290=\"\",\"\",NETWORKDAYS([4]Hoja1!C1290+1,[4]Hoja1!P1290,DiasNOLaborables))","v":8},"",null,null,20]
[1280,20209050038722,43960,"MODULO CONTACTENOS","SOLICITUD DE INFORMACIÓN Y DOCUMENTOS","SOLICITUD DE INFORMACIÓN HIDROMETEOROLÓGICA","NO","GRUPO DE ATENCIÓN AL CIUDADANO",43969,null,null,{"$f":"IFERROR(WORKDAY(C1291,R1291,DiasNOLaborables),\"\")","v":43990},{"$f":"+IF(C1291=\"\",\"\",IF(I1291=\"\",\"\",(IF(I1291<=L1291,\"A TIEMPO\",\"FUERA DE TIEMPO\"))))","v":"A TIEMPO"},{"$f":"IF(I1291=\"\",\"\",NETWORKDAYS([4]Hoja1!C1291+1,[4]Hoja1!P1291,DiasNOLaborables))","v":8},"",null,null,20]
[1281,20209050038732,43960,"MODULO CONTACTENOS","SOLICITUD DE INFORMACIÓN Y DOCUMENTOS","SOLICITUD DE INFORMACIÓN HIDROMETEOROLÓGICA","NO","GRUPO DE ATENCIÓN AL CIUDADANO",43969,null,null,{"$f":"IFERROR(WORKDAY(C1292,R1292,DiasNOLaborables),\"\")","v":43990},{"$f":"+IF(C1292=\"\",\"\",IF(I1292=\"\",\"\",(IF(I1292<=L1292,\"A TIEMPO\",\"FUERA DE TIEMPO\"))))","v":"A TIEMPO"},{"$f":"IF(I1292=\"\",\"\",NETWORKDAYS([4]Hoja1!C1292+1,[4]Hoja1!P1292,DiasNOLaborables))","v":8},"",null,null,20]
[1282,20209050038742,43960,"MODULO CONTACTENOS","SOLICITUD DE INFORMACIÓN Y DOCUMENTOS","SOLICITUD DE INFORMACIÓN HIDROMETEOROLÓGICA","NO","GRUPO DE ATENCIÓN AL CIUDADANO",43969,null,null,{"$f":"IFERROR(WORKDAY(C1293,R1293,DiasNOLaborables),\"\")","v":43990},{"$f":"+IF(C1293=\"\",\"\",IF(I1293=\"\",\"\",(IF(I1293<=L1293,\"A TIEMPO\",\"FUERA DE TIEMPO\"))))","v":"A TIEMPO"},{"$f":"IF(I1293=\"\",\"\",NETWORKDAYS([4]Hoja1!C1293+1,[4]Hoja1!P1293,DiasNOLaborables))","v":8},"",null,null,20]
[1283,20209050038762,43961,"MODULO CONTACTENOS","SOLICITUD DE INFORMACIÓN Y DOCUMENTOS","SOLICITUD DE INFORMACIÓN HIDROMETEOROLÓGICA","NO","GRUPO DE ATENCIÓN AL CIUDADANO",43969,null,null,{"$f":"IFERROR(WORKDAY(C1294,R1294,DiasNOLaborables),\"\")","v":43990},{"$f":"+IF(C1294=\"\",\"\",IF(I1294=\"\",\"\",(IF(I1294<=L1294,\"A TIEMPO\",\"FUERA DE TIEMPO\"))))","v":"A TIEMPO"},{"$f":"IF(I1294=\"\",\"\",NETWORKDAYS([4]Hoja1!C1294+1,[4]Hoja1!P1294,DiasNOLaborables))","v":8},"",null,null,20]
[1284,20200510205053,43961,"WEB (MÓDULO DE SOLICITUD DE INFORMACIÓN HIDROMETEOROLÓGICA)","SOLICITUD DE INFORMACIÓN Y DOCUMENTOS","SOLICITUD DE INFORMACIÓN HIDROMETEOROLÓGICA","NO","GRUPO DE ATENCIÓN AL CIUDADANO",43969,null,null,{"$f":"IFERROR(WORKDAY(C1295,R1295,DiasNOLaborables),\"\")","v":43990},{"$f":"+IF(C1295=\"\",\"\",IF(I1295=\"\",\"\",(IF(I1295<=L1295,\"A TIEMPO\",\"FUERA DE TIEMPO\"))))","v":"A TIEMPO"},{"$f":"IF(I1295=\"\",\"\",NETWORKDAYS([4]Hoja1!C1295+1,[4]Hoja1!P1295,DiasNOLaborables))","v":8},"",null,null,20]
[1285,20200510203002,43961,"WEB (MÓDULO DE SOLICITUD DE INFORMACIÓN HIDROMETEOROLÓGICA)","SOLICITUD DE INFORMACIÓN Y DOCUMENTOS","SOLICITUD DE INFORMACIÓN HIDROMETEOROLÓGICA","NO","GRUPO DE ATENCIÓN AL CIUDADANO",43969,null,null,{"$f":"IFERROR(WORKDAY(C1296,R1296,DiasNOLaborables),\"\")","v":43990},{"$f":"+IF(C1296=\"\",\"\",IF(I1296=\"\",\"\",(IF(I1296<=L1296,\"A TIEMPO\",\"FUERA DE TIEMPO\"))))","v":"A TIEMPO"},{"$f":"IF(I1296=\"\",\"\",NETWORKDAYS([4]Hoja1!C1296+1,[4]Hoja1!P1296,DiasNOLaborables))","v":8},"",null,null,20]
[1286,20200510002848,43961,"WEB (MÓDULO DE SOLICITUD DE INFORMACIÓN HIDROMETEOROLÓGICA)","SOLICITUD DE INFORMACIÓN Y DOCUMENTOS","SOLICITUD DE INFORMACIÓN HIDROMETEOROLÓGICA","NO","GRUPO DE ATENCIÓN AL CIUDADANO",43969,null,null,{"$f":"IFERROR(WORKDAY(C1297,R1297,DiasNOLaborables),\"\")","v":43990},{"$f":"+IF(C1297=\"\",\"\",IF(I1297=\"\",\"\",(IF(I1297<=L1297,\"A TIEMPO\",\"FUERA DE TIEMPO\"))))","v":"A TIEMPO"},{"$f":"IF(I1297=\"\",\"\",NETWORKDAYS([4]Hoja1!C1297+1,[4]Hoja1!P1297,DiasNOLaborables))","v":8},"",null,null,20]
[1287,20200511153553,43962,"WEB (MÓDULO DE SOLICITUD DE INFORMACIÓN HIDROMETEOROLÓGICA)","SOLICITUD DE INFORMACIÓN Y DOCUMENTOS","SOLICITUD DE INFORMACIÓN HIDROMETEOROLÓGICA","NO","GRUPO DE ATENCIÓN AL CIUDADANO",43969,null,null,{"$f":"IFERROR(WORKDAY(C1298,R1298,DiasNOLaborables),\"\")","v":43991},{"$f":"+IF(C1298=\"\",\"\",IF(I1298=\"\",\"\",(IF(I1298<=L1298,\"A TIEMPO\",\"FUERA DE TIEMPO\"))))","v":"A TIEMPO"},{"$f":"IF(I1298=\"\",\"\",NETWORKDAYS([4]Hoja1!C1298+1,[4]Hoja1!P1298,DiasNOLaborables))","v":8},"",null,null,20]
[1288,20200511153234,43962,"WEB (MÓDULO DE SOLICITUD DE INFORMACIÓN HIDROMETEOROLÓGICA)","SOLICITUD DE INFORMACIÓN Y DOCUMENTOS","SOLICITUD DE INFORMACIÓN HIDROMETEOROLÓGICA","NO","GRUPO DE ATENCIÓN AL CIUDADANO",43969,null,null,{"$f":"IFERROR(WORKDAY(C1299,R1299,DiasNOLaborables),\"\")","v":43991},{"$f":"+IF(C1299=\"\",\"\",IF(I1299=\"\",\"\",(IF(I1299<=L1299,\"A TIEMPO\",\"FUERA DE TIEMPO\"))))","v":"A TIEMPO"},{"$f":"IF(I1299=\"\",\"\",NETWORKDAYS([4]Hoja1!C1299+1,[4]Hoja1!P1299,DiasNOLaborables))","v":8},"",null,null,20]
[1289,20200511151552,43962,"WEB (MÓDULO DE SOLICITUD DE INFORMACIÓN HIDROMETEOROLÓGICA)","SOLICITUD DE INFORMACIÓN Y DOCUMENTOS","SOLICITUD DE INFORMACIÓN HIDROMETEOROLÓGICA","NO","GRUPO DE ATENCIÓN AL CIUDADANO",43969,null,null,{"$f":"IFERROR(WORKDAY(C1300,R1300,DiasNOLaborables),\"\")","v":43991},{"$f":"+IF(C1300=\"\",\"\",IF(I1300=\"\",\"\",(IF(I1300<=L1300,\"A TIEMPO\",\"FUERA DE TIEMPO\"))))","v":"A TIEMPO"},{"$f":"IF(I1300=\"\",\"\",NETWORKDAYS([4]Hoja1!C1300+1,[4]Hoja1!P1300,DiasNOLaborables))","v":8},"",null,null,20]
[1290,20200511151139,43962,"WEB (MÓDULO DE SOLICITUD DE INFORMACIÓN HIDROMETEOROLÓGICA)","SOLICITUD DE INFORMACIÓN Y DOCUMENTOS","SOLICITUD DE INFORMACIÓN HIDROMETEOROLÓGICA","NO","GRUPO DE ATENCIÓN AL CIUDADANO",43969,null,null,{"$f":"IFERROR(WORKDAY(C1301,R1301,DiasNOLaborables),\"\")","v":43991},{"$f":"+IF(C1301=\"\",\"\",IF(I1301=\"\",\"\",(IF(I1301<=L1301,\"A TIEMPO\",\"FUERA DE TIEMPO\"))))","v":"A TIEMPO"},{"$f":"IF(I1301=\"\",\"\",NETWORKDAYS([4]Hoja1!C1301+1,[4]Hoja1!P1301,DiasNOLaborables))","v":8},"",null,null,20]
[1291,20200511145926,43962,"WEB (MÓDULO DE SOLICITUD DE INFORMACIÓN HIDROMETEOROLÓGICA)","SOLICITUD DE INFORMACIÓN Y DOCUMENTOS","SOLICITUD DE INFORMACIÓN HIDROMETEOROLÓGICA","NO","GRUPO DE ATENCIÓN AL CIUDADANO",43969,null,null,{"$f":"IFERROR(WORKDAY(C1302,R1302,DiasNOLaborables),\"\")","v":43991},{"$f":"+IF(C1302=\"\",\"\",IF(I1302=\"\",\"\",(IF(I1302<=L1302,\"A TIEMPO\",\"FUERA DE TIEMPO\"))))","v":"A TIEMPO"},{"$f":"IF(I1302=\"\",\"\",NETWORKDAYS([4]Hoja1!C1302+1,[4]Hoja1!P1302,DiasNOLaborables))","v":8},"",null,null,20]
[1292,20200511144715,43962,"WEB (MÓDULO DE SOLICITUD DE INFORMACIÓN HIDROMETEOROLÓGICA)","SOLICITUD DE INFORMACIÓN Y DOCUMENTOS","SOLICITUD DE INFORMACIÓN HIDROMETEOROLÓGICA","NO","GRUPO DE ATENCIÓN AL CIUDADANO",43969,null,null,{"$f":"IFERROR(WORKDAY(C1303,R1303,DiasNOLaborables),\"\")","v":43991},{"$f":"+IF(C1303=\"\",\"\",IF(I1303=\"\",\"\",(IF(I1303<=L1303,\"A TIEMPO\",\"FUERA DE TIEMPO\"))))","v":"A TIEMPO"},{"$f":"IF(I1303=\"\",\"\",NETWORKDAYS([4]Hoja1!C1303+1,[4]Hoja1!P1303,DiasNOLaborables))","v":8},"",null,null,20]
[1293,20200511133436,43962,"WEB (MÓDULO DE SOLICITUD DE INFORMACIÓN HIDROMETEOROLÓGICA)","SOLICITUD DE INFORMACIÓN Y DOCUMENTOS","SOLICITUD DE INFORMACIÓN HIDROMETEOROLÓGICA","NO","GRUPO DE ATENCIÓN AL CIUDADANO",43969,null,null,{"$f":"IFERROR(WORKDAY(C1304,R1304,DiasNOLaborables),\"\")","v":43991},{"$f":"+IF(C1304=\"\",\"\",IF(I1304=\"\",\"\",(IF(I1304<=L1304,\"A TIEMPO\",\"FUERA DE TIEMPO\"))))","v":"A TIEMPO"},{"$f":"IF(I1304=\"\",\"\",NETWORKDAYS([4]Hoja1!C1304+1,[4]Hoja1!P1304,DiasNOLaborables))","v":8},"",null,null,20]
[1294,20200511115614,43962,"WEB (MÓDULO DE SOLICITUD DE INFORMACIÓN HIDROMETEOROLÓGICA)","SOLICITUD DE INFORMACIÓN Y DOCUMENTOS","SOLICITUD DE INFORMACIÓN HIDROMETEOROLÓGICA","NO","GRUPO DE ATENCIÓN AL CIUDADANO",43969,null,null,{"$f":"IFERROR(WORKDAY(C1305,R1305,DiasNOLaborables),\"\")","v":43991},{"$f":"+IF(C1305=\"\",\"\",IF(I1305=\"\",\"\",(IF(I1305<=L1305,\"A TIEMPO\",\"FUERA DE TIEMPO\"))))","v":"A TIEMPO"},{"$f":"IF(I1305=\"\",\"\",NETWORKDAYS([4]Hoja1!C1305+1,[4]Hoja1!P1305,DiasNOLaborables))","v":8},"",null,null,20]
[1295,20200511114806,43962,"WEB (MÓDULO DE SOLICITUD DE INFORMACIÓN HIDROMETEOROLÓGICA)","SOLICITUD DE INFORMACIÓN Y DOCUMENTOS","SOLICITUD DE INFORMACIÓN HIDROMETEOROLÓGICA","NO","GRUPO DE ATENCIÓN AL CIUDADANO",43969,null,null,{"$f":"IFERROR(WORKDAY(C1306,R1306,DiasNOLaborables),\"\")","v":43991},{"$f":"+IF(C1306=\"\",\"\",IF(I1306=\"\",\"\",(IF(I1306<=L1306,\"A TIEMPO\",\"FUERA DE TIEMPO\"))))","v":"A TIEMPO"},{"$f":"IF(I1306=\"\",\"\",NETWORKDAYS([4]Hoja1!C1306+1,[4]Hoja1!P1306,DiasNOLaborables))","v":8},"",null,null,20]
[1296,20200511114204,43962,"WEB (MÓDULO DE SOLICITUD DE INFORMACIÓN HIDROMETEOROLÓGICA)","SOLICITUD DE INFORMACIÓN Y DOCUMENTOS","SOLICITUD DE INFORMACIÓN HIDROMETEOROLÓGICA","NO","GRUPO DE ATENCIÓN AL CIUDADANO",43969,null,null,{"$f":"IFERROR(WORKDAY(C1307,R1307,DiasNOLaborables),\"\")","v":43991},{"$f":"+IF(C1307=\"\",\"\",IF(I1307=\"\",\"\",(IF(I1307<=L1307,\"A TIEMPO\",\"FUERA DE TIEMPO\"))))","v":"A TIEMPO"},{"$f":"IF(I1307=\"\",\"\",NETWORKDAYS([4]Hoja1!C1307+1,[4]Hoja1!P1307,DiasNOLaborables))","v":8},"",null,null,20]
[1297,20200511112403,43962,"WEB (MÓDULO DE SOLICITUD DE INFORMACIÓN HIDROMETEOROLÓGICA)","SOLICITUD DE INFORMACIÓN Y DOCUMENTOS","SOLICITUD DE INFORMACIÓN HIDROMETEOROLÓGICA","NO","GRUPO DE ATENCIÓN AL CIUDADANO",43969,null,null,{"$f":"IFERROR(WORKDAY(C1308,R1308,DiasNOLaborables),\"\")","v":43991},{"$f":"+IF(C1308=\"\",\"\",IF(I1308=\"\",\"\",(IF(I1308<=L1308,\"A TIEMPO\",\"FUERA DE TIEMPO\"))))","v":"A TIEMPO"},{"$f":"IF(I1308=\"\",\"\",NETWORKDAYS([4]Hoja1!C1308+1,[4]Hoja1!P1308,DiasNOLaborables))","v":8},"",null,null,20]
[1298,20200511104721,43962,"WEB (MÓDULO DE SOLICITUD DE INFORMACIÓN HIDROMETEOROLÓGICA)","SOLICITUD DE INFORMACIÓN Y DOCUMENTOS","SOLICITUD DE INFORMACIÓN HIDROMETEOROLÓGICA","NO","GRUPO DE ATENCIÓN AL CIUDADANO",43969,null,null,{"$f":"IFERROR(WORKDAY(C1309,R1309,DiasNOLaborables),\"\")","v":43991},{"$f":"+IF(C1309=\"\",\"\",IF(I1309=\"\",\"\",(IF(I1309<=L1309,\"A TIEMPO\",\"FUERA DE TIEMPO\"))))","v":"A TIEMPO"},{"$f":"IF(I1309=\"\",\"\",NETWORKDAYS([4]Hoja1!C1309+1,[4]Hoja1!P1309,DiasNOLaborables))","v":8},"",null,null,20]
[1299,20209050039212,43962,"MODULO CONTACTENOS","SOLICITUD DE INFORMACIÓN Y DOCUMENTOS","SOLICITUD DE INFORMACIÓN HIDROMETEOROLÓGICA","NO","GRUPO DE ATENCIÓN AL CIUDADANO",43971,null,null,{"$f":"IFERROR(WORKDAY(C1310,R1310,DiasNOLaborables),\"\")","v":43991},{"$f":"+IF(C1310=\"\",\"\",IF(I1310=\"\",\"\",(IF(I1310<=L1310,\"A TIEMPO\",\"FUERA DE TIEMPO\"))))","v":"A TIEMPO"},{"$f":"IF(I1310=\"\",\"\",NETWORKDAYS([4]Hoja1!C1310+1,[4]Hoja1!P1310,DiasNOLaborables))","v":8},"",null,null,20]
[1300,20209050039232,43962,"MODULO CONTACTENOS","SOLICITUD DE INFORMACIÓN Y DOCUMENTOS","SOLICITUD DE INFORMACIÓN HIDROMETEOROLÓGICA","NO","GRUPO DE ATENCIÓN AL CIUDADANO",43971,null,null,{"$f":"IFERROR(WORKDAY(C1311,R1311,DiasNOLaborables),\"\")","v":43991},{"$f":"+IF(C1311=\"\",\"\",IF(I1311=\"\",\"\",(IF(I1311<=L1311,\"A TIEMPO\",\"FUERA DE TIEMPO\"))))","v":"A TIEMPO"},{"$f":"IF(I1311=\"\",\"\",NETWORKDAYS([4]Hoja1!C1311+1,[4]Hoja1!P1311,DiasNOLaborables))","v":8},"",null,null,20]
[1301,20209050039242,43962,"MODULO CONTACTENOS","SOLICITUD DE INFORMACIÓN Y DOCUMENTOS","SOLICITUD DE INFORMACIÓN HIDROMETEOROLÓGICA","NO","GRUPO DE ATENCIÓN AL CIUDADANO",43971,null,null,{"$f":"IFERROR(WORKDAY(C1312,R1312,DiasNOLaborables),\"\")","v":43991},{"$f":"+IF(C1312=\"\",\"\",IF(I1312=\"\",\"\",(IF(I1312<=L1312,\"A TIEMPO\",\"FUERA DE TIEMPO\"))))","v":"A TIEMPO"},{"$f":"IF(I1312=\"\",\"\",NETWORKDAYS([4]Hoja1!C1312+1,[4]Hoja1!P1312,DiasNOLaborables))","v":8},"",null,null,20]
[1302,20209050039272,43962,"MODULO CONTACTENOS","SOLICITUD DE INFORMACIÓN Y DOCUMENTOS","SOLICITUD DE INFORMACIÓN HIDROMETEOROLÓGICA","NO","GRUPO DE ATENCIÓN AL CIUDADANO",43971,null,null,{"$f":"IFERROR(WORKDAY(C1313,R1313,DiasNOLaborables),\"\")","v":43991},{"$f":"+IF(C1313=\"\",\"\",IF(I1313=\"\",\"\",(IF(I1313<=L1313,\"A TIEMPO\",\"FUERA DE TIEMPO\"))))","v":"A TIEMPO"},{"$f":"IF(I1313=\"\",\"\",NETWORKDAYS([4]Hoja1!C1313+1,[4]Hoja1!P1313,DiasNOLaborables))","v":8},"",null,null,20]
[1303,20209050039252,43962,"MODULO CONTACTENOS","SOLICITUD DE INFORMACIÓN Y DOCUMENTOS","SOLICITUD DE INFORMACIÓN HIDROMETEOROLÓGICA","NO","GRUPO DE ATENCIÓN AL CIUDADANO",43971,null,null,{"$f":"IFERROR(WORKDAY(C1314,R1314,DiasNOLaborables),\"\")","v":43991},{"$f":"+IF(C1314=\"\",\"\",IF(I1314=\"\",\"\",(IF(I1314<=L1314,\"A TIEMPO\",\"FUERA DE TIEMPO\"))))","v":"A TIEMPO"},{"$f":"IF(I1314=\"\",\"\",NETWORKDAYS([4]Hoja1!C1314+1,[4]Hoja1!P1314,DiasNOLaborables))","v":8},"",null,null,20]
[1304,20209050039262,43962,"MODULO CONTACTENOS","SOLICITUD DE INFORMACIÓN Y DOCUMENTOS","SOLICITUD DE INFORMACIÓN HIDROMETEOROLÓGICA","NO","GRUPO DE ATENCIÓN AL CIUDADANO",43971,null,null,{"$f":"IFERROR(WORKDAY(C1315,R1315,DiasNOLaborables),\"\")","v":43991},{"$f":"+IF(C1315=\"\",\"\",IF(I1315=\"\",\"\",(IF(I1315<=L1315,\"A TIEMPO\",\"FUERA DE TIEMPO\"))))","v":"A TIEMPO"},{"$f":"IF(I1315=\"\",\"\",NETWORKDAYS([4]Hoja1!C1315+1,[4]Hoja1!P1315,DiasNOLaborables))","v":8},"",null,null,20]
[1305,20209050039312,43962,"MODULO CONTACTENOS","SOLICITUD DE INFORMACIÓN Y DOCUMENTOS","SOLICITUD DE INFORMACIÓN HIDROMETEOROLÓGICA","NO","GRUPO DE ATENCIÓN AL CIUDADANO",43971,null,null,{"$f":"IFERROR(WORKDAY(C1316,R1316,DiasNOLaborables),\"\")","v":43991},{"$f":"+IF(C1316=\"\",\"\",IF(I1316=\"\",\"\",(IF(I1316<=L1316,\"A TIEMPO\",\"FUERA DE TIEMPO\"))))","v":"A TIEMPO"},{"$f":"IF(I1316=\"\",\"\",NETWORKDAYS([4]Hoja1!C1316+1,[4]Hoja1!P1316,DiasNOLaborables))","v":8},"",null,null,20]
[1306,20209050039392,43962,"MODULO CONTACTENOS","SOLICITUD DE INFORMACIÓN Y DOCUMENTOS","SOLICITUD DE INFORMACIÓN HIDROMETEOROLÓGICA","NO","GRUPO DE ATENCIÓN AL CIUDADANO",43971,null,null,{"$f":"IFERROR(WORKDAY(C1317,R1317,DiasNOLaborables),\"\")","v":43991},{"$f":"+IF(C1317=\"\",\"\",IF(I1317=\"\",\"\",(IF(I1317<=L1317,\"A TIEMPO\",\"FUERA DE TIEMPO\"))))","v":"A TIEMPO"},{"$f":"IF(I1317=\"\",\"\",NETWORKDAYS([4]Hoja1!C1317+1,[4]Hoja1!P1317,DiasNOLaborables))","v":8},"",null,null,20]
[1307,20209050039462,43962,"MODULO CONTACTENOS","SOLICITUD DE INFORMACIÓN Y DOCUMENTOS","SOLICITUD DE INFORMACIÓN HIDROMETEOROLÓGICA","NO","GRUPO DE ATENCIÓN AL CIUDADANO",43971,null,null,{"$f":"IFERROR(WORKDAY(C1318,R1318,DiasNOLaborables),\"\")","v":43991},{"$f":"+IF(C1318=\"\",\"\",IF(I1318=\"\",\"\",(IF(I1318<=L1318,\"A TIEMPO\",\"FUERA DE TIEMPO\"))))","v":"A TIEMPO"},{"$f":"IF(I1318=\"\",\"\",NETWORKDAYS([4]Hoja1!C1318+1,[4]Hoja1!P1318,DiasNOLaborables))","v":8},"",null,null,20]
[1308,20200512202420,43963,"WEB (MÓDULO DE SOLICITUD DE INFORMACIÓN HIDROMETEOROLÓGICA)","SOLICITUD DE INFORMACIÓN Y DOCUMENTOS","SOLICITUD DE INFORMACIÓN HIDROMETEOROLÓGICA","NO","GRUPO DE ATENCIÓN AL CIUDADANO",43972,null,null,{"$f":"IFERROR(WORKDAY(C1319,R1319,DiasNOLaborables),\"\")","v":43992},{"$f":"+IF(C1319=\"\",\"\",IF(I1319=\"\",\"\",(IF(I1319<=L1319,\"A TIEMPO\",\"FUERA DE TIEMPO\"))))","v":"A TIEMPO"},{"$f":"IF(I1319=\"\",\"\",NETWORKDAYS([4]Hoja1!C1319+1,[4]Hoja1!P1319,DiasNOLaborables))","v":8},"",null,null,20]
[1309,20200512185855,43963,"WEB (MÓDULO DE SOLICITUD DE INFORMACIÓN HIDROMETEOROLÓGICA)","SOLICITUD DE INFORMACIÓN Y DOCUMENTOS","SOLICITUD DE INFORMACIÓN HIDROMETEOROLÓGICA","NO","GRUPO DE ATENCIÓN AL CIUDADANO",43972,null,null,{"$f":"IFERROR(WORKDAY(C1320,R1320,DiasNOLaborables),\"\")","v":43992},{"$f":"+IF(C1320=\"\",\"\",IF(I1320=\"\",\"\",(IF(I1320<=L1320,\"A TIEMPO\",\"FUERA DE TIEMPO\"))))","v":"A TIEMPO"},{"$f":"IF(I1320=\"\",\"\",NETWORKDAYS([4]Hoja1!C1320+1,[4]Hoja1!P1320,DiasNOLaborables))","v":8},"",null,null,20]
[1310,20200513205956,43964,"WEB (MÓDULO DE SOLICITUD DE INFORMACIÓN HIDROMETEOROLÓGICA)","SOLICITUD DE INFORMACIÓN Y DOCUMENTOS","SOLICITUD DE INFORMACIÓN HIDROMETEOROLÓGICA","NO","GRUPO DE ATENCIÓN AL CIUDADANO",43972,null,null,{"$f":"IFERROR(WORKDAY(C1321,R1321,DiasNOLaborables),\"\")","v":43993},{"$f":"+IF(C1321=\"\",\"\",IF(I1321=\"\",\"\",(IF(I1321<=L1321,\"A TIEMPO\",\"FUERA DE TIEMPO\"))))","v":"A TIEMPO"},{"$f":"IF(I1321=\"\",\"\",NETWORKDAYS([4]Hoja1!C1321+1,[4]Hoja1!P1321,DiasNOLaborables))","v":8},"",null,null,20]
[1311,20200513140124,43964,"WEB (MÓDULO DE SOLICITUD DE INFORMACIÓN HIDROMETEOROLÓGICA)","SOLICITUD DE INFORMACIÓN Y DOCUMENTOS","SOLICITUD DE INFORMACIÓN HIDROMETEOROLÓGICA","NO","GRUPO DE ATENCIÓN AL CIUDADANO",43972,null,null,{"$f":"IFERROR(WORKDAY(C1322,R1322,DiasNOLaborables),\"\")","v":43993},{"$f":"+IF(C1322=\"\",\"\",IF(I1322=\"\",\"\",(IF(I1322<=L1322,\"A TIEMPO\",\"FUERA DE TIEMPO\"))))","v":"A TIEMPO"},{"$f":"IF(I1322=\"\",\"\",NETWORKDAYS([4]Hoja1!C1322+1,[4]Hoja1!P1322,DiasNOLaborables))","v":8},"",null,null,20]
[1312,20200513114718,43964,"WEB (MÓDULO DE SOLICITUD DE INFORMACIÓN HIDROMETEOROLÓGICA)","SOLICITUD DE INFORMACIÓN Y DOCUMENTOS","SOLICITUD DE INFORMACIÓN HIDROMETEOROLÓGICA","NO","GRUPO DE ATENCIÓN AL CIUDADANO",43972,null,null,{"$f":"IFERROR(WORKDAY(C1323,R1323,DiasNOLaborables),\"\")","v":43993},{"$f":"+IF(C1323=\"\",\"\",IF(I1323=\"\",\"\",(IF(I1323<=L1323,\"A TIEMPO\",\"FUERA DE TIEMPO\"))))","v":"A TIEMPO"},{"$f":"IF(I1323=\"\",\"\",NETWORKDAYS([4]Hoja1!C1323+1,[4]Hoja1!P1323,DiasNOLaborables))","v":8},"",null,null,20]
[1313,20200513110145,43964,"WEB (MÓDULO DE SOLICITUD DE INFORMACIÓN HIDROMETEOROLÓGICA)","SOLICITUD DE INFORMACIÓN Y DOCUMENTOS","SOLICITUD DE INFORMACIÓN HIDROMETEOROLÓGICA","NO","GRUPO DE ATENCIÓN AL CIUDADANO",43972,null,null,{"$f":"IFERROR(WORKDAY(C1324,R1324,DiasNOLaborables),\"\")","v":43993},{"$f":"+IF(C1324=\"\",\"\",IF(I1324=\"\",\"\",(IF(I1324<=L1324,\"A TIEMPO\",\"FUERA DE TIEMPO\"))))","v":"A TIEMPO"},{"$f":"IF(I1324=\"\",\"\",NETWORKDAYS([4]Hoja1!C1324+1,[4]Hoja1!P1324,DiasNOLaborables))","v":8},"",null,null,20]
[1314,20200513105840,43964,"WEB (MÓDULO DE SOLICITUD DE INFORMACIÓN HIDROMETEOROLÓGICA)","SOLICITUD DE INFORMACIÓN Y DOCUMENTOS","SOLICITUD DE INFORMACIÓN HIDROMETEOROLÓGICA","NO","GRUPO DE ATENCIÓN AL CIUDADANO",43972,null,null,{"$f":"IFERROR(WORKDAY(C1325,R1325,DiasNOLaborables),\"\")","v":43993},{"$f":"+IF(C1325=\"\",\"\",IF(I1325=\"\",\"\",(IF(I1325<=L1325,\"A TIEMPO\",\"FUERA DE TIEMPO\"))))","v":"A TIEMPO"},{"$f":"IF(I1325=\"\",\"\",NETWORKDAYS([4]Hoja1!C1325+1,[4]Hoja1!P1325,DiasNOLaborables))","v":8},"",null,null,20]
[1315,20200513105121,43964,"WEB (MÓDULO DE SOLICITUD DE INFORMACIÓN HIDROMETEOROLÓGICA)","SOLICITUD DE INFORMACIÓN Y DOCUMENTOS","SOLICITUD DE INFORMACIÓN HIDROMETEOROLÓGICA","NO","GRUPO DE ATENCIÓN AL CIUDADANO",43972,null,null,{"$f":"IFERROR(WORKDAY(C1326,R1326,DiasNOLaborables),\"\")","v":43993},{"$f":"+IF(C1326=\"\",\"\",IF(I1326=\"\",\"\",(IF(I1326<=L1326,\"A TIEMPO\",\"FUERA DE TIEMPO\"))))","v":"A TIEMPO"},{"$f":"IF(I1326=\"\",\"\",NETWORKDAYS([4]Hoja1!C1326+1,[4]Hoja1!P1326,DiasNOLaborables))","v":8},"",null,null,20]
[1316,20200513105002,43964,"WEB (MÓDULO DE SOLICITUD DE INFORMACIÓN HIDROMETEOROLÓGICA)","SOLICITUD DE INFORMACIÓN Y DOCUMENTOS","SOLICITUD DE INFORMACIÓN HIDROMETEOROLÓGICA","NO","GRUPO DE ATENCIÓN AL CIUDADANO",43972,null,null,{"$f":"IFERROR(WORKDAY(C1327,R1327,DiasNOLaborables),\"\")","v":43993},{"$f":"+IF(C1327=\"\",\"\",IF(I1327=\"\",\"\",(IF(I1327<=L1327,\"A TIEMPO\",\"FUERA DE TIEMPO\"))))","v":"A TIEMPO"},{"$f":"IF(I1327=\"\",\"\",NETWORKDAYS([4]Hoja1!C1327+1,[4]Hoja1!P1327,DiasNOLaborables))","v":8},"",null,null,20]
[1317,20200513104852,43964,"WEB (MÓDULO DE SOLICITUD DE INFORMACIÓN HIDROMETEOROLÓGICA)","SOLICITUD DE INFORMACIÓN Y DOCUMENTOS","SOLICITUD DE INFORMACIÓN HIDROMETEOROLÓGICA","NO","GRUPO DE ATENCIÓN AL CIUDADANO",43972,null,null,{"$f":"IFERROR(WORKDAY(C1328,R1328,DiasNOLaborables),\"\")","v":43993},{"$f":"+IF(C1328=\"\",\"\",IF(I1328=\"\",\"\",(IF(I1328<=L1328,\"A TIEMPO\",\"FUERA DE TIEMPO\"))))","v":"A TIEMPO"},{"$f":"IF(I1328=\"\",\"\",NETWORKDAYS([4]Hoja1!C1328+1,[4]Hoja1!P1328,DiasNOLaborables))","v":8},"",null,null,20]
[1318,20200513103837,43964,"WEB (MÓDULO DE SOLICITUD DE INFORMACIÓN HIDROMETEOROLÓGICA)","SOLICITUD DE INFORMACIÓN Y DOCUMENTOS","SOLICITUD DE INFORMACIÓN HIDROMETEOROLÓGICA","NO","GRUPO DE ATENCIÓN AL CIUDADANO",43972,null,null,{"$f":"IFERROR(WORKDAY(C1329,R1329,DiasNOLaborables),\"\")","v":43993},{"$f":"+IF(C1329=\"\",\"\",IF(I1329=\"\",\"\",(IF(I1329<=L1329,\"A TIEMPO\",\"FUERA DE TIEMPO\"))))","v":"A TIEMPO"},{"$f":"IF(I1329=\"\",\"\",NETWORKDAYS([4]Hoja1!C1329+1,[4]Hoja1!P1329,DiasNOLaborables))","v":8},"",null,null,20]
[{"$f":"IF(B1328<>\"\",A1329+1,\"\")","v":1319},20200513103715,43964,"WEB (MÓDULO DE SOLICITUD DE INFORMACIÓN HIDROMETEOROLÓGICA)","SOLICITUD DE INFORMACIÓN Y DOCUMENTOS","SOLICITUD DE INFORMACIÓN HIDROMETEOROLÓGICA","NO","GRUPO DE ATENCIÓN AL CIUDADANO",43972,null,null,{"$f":"IFERROR(WORKDAY(C1330,R1330,DiasNOLaborables),\"\")","v":43993},{"$f":"+IF(C1330=\"\",\"\",IF(I1330=\"\",\"\",(IF(I1330<=L1330,\"A TIEMPO\",\"FUERA DE TIEMPO\"))))","v":"A TIEMPO"},{"$f":"IF(I1330=\"\",\"\",NETWORKDAYS([4]Hoja1!C1330+1,[4]Hoja1!P1330,DiasNOLaborables))","v":8},"",null,null,20]
[1320,20200513082321,43964,"WEB (MÓDULO DE SOLICITUD DE INFORMACIÓN HIDROMETEOROLÓGICA)","SOLICITUD DE INFORMACIÓN Y DOCUMENTOS","SOLICITUD DE INFORMACIÓN HIDROMETEOROLÓGICA","NO","GRUPO DE ATENCIÓN AL CIUDADANO",43972,null,null,{"$f":"IFERROR(WORKDAY(C1331,R1331,DiasNOLaborables),\"\")","v":43993},{"$f":"+IF(C1331=\"\",\"\",IF(I1331=\"\",\"\",(IF(I1331<=L1331,\"A TIEMPO\",\"FUERA DE TIEMPO\"))))","v":"A TIEMPO"},{"$f":"IF(I1331=\"\",\"\",NETWORKDAYS([4]Hoja1!C1331+1,[4]Hoja1!P1331,DiasNOLaborables))","v":8},"",null,null,20]
[1321,20200513075612,43964,"WEB (MÓDULO DE SOLICITUD DE INFORMACIÓN HIDROMETEOROLÓGICA)","SOLICITUD DE INFORMACIÓN Y DOCUMENTOS","SOLICITUD DE INFORMACIÓN HIDROMETEOROLÓGICA","NO","GRUPO DE ATENCIÓN AL CIUDADANO",43972,null,null,{"$f":"IFERROR(WORKDAY(C1332,R1332,DiasNOLaborables),\"\")","v":43993},{"$f":"+IF(C1332=\"\",\"\",IF(I1332=\"\",\"\",(IF(I1332<=L1332,\"A TIEMPO\",\"FUERA DE TIEMPO\"))))","v":"A TIEMPO"},{"$f":"IF(I1332=\"\",\"\",NETWORKDAYS([4]Hoja1!C1332+1,[4]Hoja1!P1332,DiasNOLaborables))","v":8},{"$f":"IF(NETWORKDAYS(L1332+1,I1332,DiasNOLaborables)<=0,\"\",NETWORKDAYS(L1332+1,I1332,DiasNOLaborables))","v":""},null,null,20]
[1322,20200513075412,43964,"WEB (MÓDULO DE SOLICITUD DE INFORMACIÓN HIDROMETEOROLÓGICA)","SOLICITUD DE INFORMACIÓN Y DOCUMENTOS","SOLICITUD DE INFORMACIÓN HIDROMETEOROLÓGICA","NO","GRUPO DE ATENCIÓN AL CIUDADANO",43972,null,null,{"$f":"IFERROR(WORKDAY(C1333,R1333,DiasNOLaborables),\"\")","v":43993},{"$f":"+IF(C1333=\"\",\"\",IF(I1333=\"\",\"\",(IF(I1333<=L1333,\"A TIEMPO\",\"FUERA DE TIEMPO\"))))","v":"A TIEMPO"},{"$f":"IF(I1333=\"\",\"\",NETWORKDAYS([4]Hoja1!C1333+1,[4]Hoja1!P1333,DiasNOLaborables))","v":8},"",null,null,20]
[1323,20200513075215,43964,"WEB (MÓDULO DE SOLICITUD DE INFORMACIÓN HIDROMETEOROLÓGICA)","SOLICITUD DE INFORMACIÓN Y DOCUMENTOS","SOLICITUD DE INFORMACIÓN HIDROMETEOROLÓGICA","NO","GRUPO DE ATENCIÓN AL CIUDADANO",43972,null,null,{"$f":"IFERROR(WORKDAY(C1334,R1334,DiasNOLaborables),\"\")","v":43993},{"$f":"+IF(C1334=\"\",\"\",IF(I1334=\"\",\"\",(IF(I1334<=L1334,\"A TIEMPO\",\"FUERA DE TIEMPO\"))))","v":"A TIEMPO"},{"$f":"IF(I1334=\"\",\"\",NETWORKDAYS([4]Hoja1!C1334+1,[4]Hoja1!P1334,DiasNOLaborables))","v":8},"",null,null,20]
[1324,20200513072539,43964,"WEB (MÓDULO DE SOLICITUD DE INFORMACIÓN HIDROMETEOROLÓGICA)","SOLICITUD DE INFORMACIÓN Y DOCUMENTOS","SOLICITUD DE INFORMACIÓN HIDROMETEOROLÓGICA","NO","GRUPO DE ATENCIÓN AL CIUDADANO",43972,null,null,{"$f":"IFERROR(WORKDAY(C1335,R1335,DiasNOLaborables),\"\")","v":43993},{"$f":"+IF(C1335=\"\",\"\",IF(I1335=\"\",\"\",(IF(I1335<=L1335,\"A TIEMPO\",\"FUERA DE TIEMPO\"))))","v":"A TIEMPO"},{"$f":"IF(I1335=\"\",\"\",NETWORKDAYS([4]Hoja1!C1335+1,[4]Hoja1!P1335,DiasNOLaborables))","v":8},"",null,null,20]
[1325,20200513072329,43964,"WEB (MÓDULO DE SOLICITUD DE INFORMACIÓN HIDROMETEOROLÓGICA)","SOLICITUD DE INFORMACIÓN Y DOCUMENTOS","SOLICITUD DE INFORMACIÓN HIDROMETEOROLÓGICA","NO","GRUPO DE ATENCIÓN AL CIUDADANO",43972,null,null,{"$f":"IFERROR(WORKDAY(C1336,R1336,DiasNOLaborables),\"\")","v":43993},{"$f":"+IF(C1336=\"\",\"\",IF(I1336=\"\",\"\",(IF(I1336<=L1336,\"A TIEMPO\",\"FUERA DE TIEMPO\"))))","v":"A TIEMPO"},{"$f":"IF(I1336=\"\",\"\",NETWORKDAYS([4]Hoja1!C1336+1,[4]Hoja1!P1336,DiasNOLaborables))","v":8},"",null,null,20]
[1326,20200513071954,43964,"WEB (MÓDULO DE SOLICITUD DE INFORMACIÓN HIDROMETEOROLÓGICA)","SOLICITUD DE INFORMACIÓN Y DOCUMENTOS","SOLICITUD DE INFORMACIÓN HIDROMETEOROLÓGICA","NO","GRUPO DE ATENCIÓN AL CIUDADANO",43972,null,null,{"$f":"IFERROR(WORKDAY(C1337,R1337,DiasNOLaborables),\"\")","v":43993},{"$f":"+IF(C1337=\"\",\"\",IF(I1337=\"\",\"\",(IF(I1337<=L1337,\"A TIEMPO\",\"FUERA DE TIEMPO\"))))","v":"A TIEMPO"},{"$f":"IF(I1337=\"\",\"\",NETWORKDAYS([4]Hoja1!C1337+1,[4]Hoja1!P1337,DiasNOLaborables))","v":8},"",null,null,20]
[1327,20209050039812,43964,"MODULO CONTACTENOS","SOLICITUD DE INFORMACIÓN Y DOCUMENTOS","SOLICITUD DE INFORMACIÓN HIDROMETEOROLÓGICA","NO","GRUPO DE ATENCIÓN AL CIUDADANO",43973,null,null,{"$f":"IFERROR(WORKDAY(C1338,R1338,DiasNOLaborables),\"\")","v":43993},{"$f":"+IF(C1338=\"\",\"\",IF(I1338=\"\",\"\",(IF(I1338<=L1338,\"A TIEMPO\",\"FUERA DE TIEMPO\"))))","v":"A TIEMPO"},{"$f":"IF(I1338=\"\",\"\",NETWORKDAYS([4]Hoja1!C1338+1,[4]Hoja1!P1338,DiasNOLaborables))","v":8},"",null,null,20]
[1328,20207070000532,43964,"MODULO CONTACTENOS","SOLICITUD DE INFORMACIÓN Y DOCUMENTOS","SOLICITUD DE INFORMACIÓN HIDROMETEOROLÓGICA","NO","GRUPO DE ATENCIÓN AL CIUDADANO",43973,null,null,{"$f":"IFERROR(WORKDAY(C1339,R1339,DiasNOLaborables),\"\")","v":43993},{"$f":"+IF(C1339=\"\",\"\",IF(I1339=\"\",\"\",(IF(I1339<=L1339,\"A TIEMPO\",\"FUERA DE TIEMPO\"))))","v":"A TIEMPO"},{"$f":"IF(I1339=\"\",\"\",NETWORKDAYS([4]Hoja1!C1339+1,[4]Hoja1!P1339,DiasNOLaborables))","v":8},"",null,null,20]
[1329,20209050039822,43964,"MODULO CONTACTENOS","SOLICITUD DE INFORMACIÓN Y DOCUMENTOS","SOLICITUD DE INFORMACIÓN HIDROMETEOROLÓGICA","NO","GRUPO DE ATENCIÓN AL CIUDADANO",43973,null,null,{"$f":"IFERROR(WORKDAY(C1340,R1340,DiasNOLaborables),\"\")","v":43993},{"$f":"+IF(C1340=\"\",\"\",IF(I1340=\"\",\"\",(IF(I1340<=L1340,\"A TIEMPO\",\"FUERA DE TIEMPO\"))))","v":"A TIEMPO"},{"$f":"IF(I1340=\"\",\"\",NETWORKDAYS([4]Hoja1!C1340+1,[4]Hoja1!P1340,DiasNOLaborables))","v":8},"",null,null,{"$f":"IFERROR(VLOOKUP(E1340,$Z$50:$AA$63,2),\"\")","v":20}]
[1330,2020905003983,43964,"MODULO CONTACTENOS","SOLICITUD DE INFORMACIÓN Y DOCUMENTOS","SOLICITUD DE INFORMACIÓN HIDROMETEOROLÓGICA","NO","GRUPO DE ATENCIÓN AL CIUDADANO",43973,null,null,{"$f":"IFERROR(WORKDAY(C1341,R1341,DiasNOLaborables),\"\")","v":43993},{"$f":"+IF(C1341=\"\",\"\",IF(I1341=\"\",\"\",(IF(I1341<=L1341,\"A TIEMPO\",\"FUERA DE TIEMPO\"))))","v":"A TIEMPO"},{"$f":"IF(I1341=\"\",\"\",NETWORKDAYS([4]Hoja1!C1341+1,[4]Hoja1!P1341,DiasNOLaborables))","v":8},"",null,null,20]
[1331,20209050040002,43964,"MODULO CONTACTENOS","SOLICITUD DE INFORMACIÓN Y DOCUMENTOS","SOLICITUD DE INFORMACIÓN HIDROMETEOROLÓGICA","NO","GRUPO DE ATENCIÓN AL CIUDADANO",43973,null,null,{"$f":"IFERROR(WORKDAY(C1342,R1342,DiasNOLaborables),\"\")","v":43993},{"$f":"+IF(C1342=\"\",\"\",IF(I1342=\"\",\"\",(IF(I1342<=L1342,\"A TIEMPO\",\"FUERA DE TIEMPO\"))))","v":"A TIEMPO"},{"$f":"IF(I1342=\"\",\"\",NETWORKDAYS([4]Hoja1!C1342+1,[4]Hoja1!P1342,DiasNOLaborables))","v":8},"",null,null,20]
[1332,20209050040022,43964,"MODULO CONTACTENOS","SOLICITUD DE INFORMACIÓN Y DOCUMENTOS","SOLICITUD DE INFORMACIÓN HIDROMETEOROLÓGICA","NO","GRUPO DE ATENCIÓN AL CIUDADANO",43973,null,null,{"$f":"IFERROR(WORKDAY(C1343,R1343,DiasNOLaborables),\"\")","v":43993},{"$f":"+IF(C1343=\"\",\"\",IF(I1343=\"\",\"\",(IF(I1343<=L1343,\"A TIEMPO\",\"FUERA DE TIEMPO\"))))","v":"A TIEMPO"},{"$f":"IF(I1343=\"\",\"\",NETWORKDAYS([4]Hoja1!C1343+1,[4]Hoja1!P1343,DiasNOLaborables))","v":8},"",null,null,20]
[1333,20209050040032,43964,"MODULO CONTACTENOS","SOLICITUD DE INFORMACIÓN Y DOCUMENTOS","SOLICITUD DE INFORMACIÓN HIDROMETEOROLÓGICA","NO","GRUPO DE ATENCIÓN AL CIUDADANO",43973,null,null,{"$f":"IFERROR(WORKDAY(C1344,R1344,DiasNOLaborables),\"\")","v":43993},{"$f":"+IF(C1344=\"\",\"\",IF(I1344=\"\",\"\",(IF(I1344<=L1344,\"A TIEMPO\",\"FUERA DE TIEMPO\"))))","v":"A TIEMPO"},{"$f":"IF(I1344=\"\",\"\",NETWORKDAYS([4]Hoja1!C1344+1,[4]Hoja1!P1344,DiasNOLaborables))","v":8},"",null,null,20]
[1334,20209050040042,43964,"MODULO CONTACTENOS","SOLICITUD DE INFORMACIÓN Y DOCUMENTOS","SOLICITUD DE INFORMACIÓN HIDROMETEOROLÓGICA","NO","GRUPO DE ATENCIÓN AL CIUDADANO",43973,null,null,{"$f":"IFERROR(WORKDAY(C1345,R1345,DiasNOLaborables),\"\")","v":43993},{"$f":"+IF(C1345=\"\",\"\",IF(I1345=\"\",\"\",(IF(I1345<=L1345,\"A TIEMPO\",\"FUERA DE TIEMPO\"))))","v":"A TIEMPO"},{"$f":"IF(I1345=\"\",\"\",NETWORKDAYS([4]Hoja1!C1345+1,[4]Hoja1!P1345,DiasNOLaborables))","v":8},"",null,null,20]
[1335,20200514182735,43965,"WEB (MÓDULO DE SOLICITUD DE INFORMACIÓN HIDROMETEOROLÓGICA)","SOLICITUD DE INFORMACIÓN Y DOCUMENTOS","SOLICITUD DE INFORMACIÓN HIDROMETEOROLÓGICA","NO","GRUPO DE ATENCIÓN AL CIUDADANO",43973,null,null,{"$f":"IFERROR(WORKDAY(C1346,R1346,DiasNOLaborables),\"\")","v":43994},{"$f":"+IF(C1346=\"\",\"\",IF(I1346=\"\",\"\",(IF(I1346<=L1346,\"A TIEMPO\",\"FUERA DE TIEMPO\"))))","v":"A TIEMPO"},{"$f":"IF(I1346=\"\",\"\",NETWORKDAYS([4]Hoja1!C1346+1,[4]Hoja1!P1346,DiasNOLaborables))","v":8},"",null,null,20]
[1336,20200514175526,43965,"WEB (MÓDULO DE SOLICITUD DE INFORMACIÓN HIDROMETEOROLÓGICA)","SOLICITUD DE INFORMACIÓN Y DOCUMENTOS","SOLICITUD DE INFORMACIÓN HIDROMETEOROLÓGICA","NO","GRUPO DE ATENCIÓN AL CIUDADANO",43973,null,null,{"$f":"IFERROR(WORKDAY(C1347,R1347,DiasNOLaborables),\"\")","v":43994},{"$f":"+IF(C1347=\"\",\"\",IF(I1347=\"\",\"\",(IF(I1347<=L1347,\"A TIEMPO\",\"FUERA DE TIEMPO\"))))","v":"A TIEMPO"},{"$f":"IF(I1347=\"\",\"\",NETWORKDAYS([4]Hoja1!C1347+1,[4]Hoja1!P1347,DiasNOLaborables))","v":8},"",null,null,20]
[1337,20200514175146,43965,"WEB (MÓDULO DE SOLICITUD DE INFORMACIÓN HIDROMETEOROLÓGICA)","SOLICITUD DE INFORMACIÓN Y DOCUMENTOS","SOLICITUD DE INFORMACIÓN HIDROMETEOROLÓGICA","NO","GRUPO DE ATENCIÓN AL CIUDADANO",43973,null,null,{"$f":"IFERROR(WORKDAY(C1348,R1348,DiasNOLaborables),\"\")","v":43994},{"$f":"+IF(C1348=\"\",\"\",IF(I1348=\"\",\"\",(IF(I1348<=L1348,\"A TIEMPO\",\"FUERA DE TIEMPO\"))))","v":"A TIEMPO"},{"$f":"IF(I1348=\"\",\"\",NETWORKDAYS([4]Hoja1!C1348+1,[4]Hoja1!P1348,DiasNOLaborables))","v":8},"",null,null,20]
[1338,20200514174916,43965,"WEB (MÓDULO DE SOLICITUD DE INFORMACIÓN HIDROMETEOROLÓGICA)","SOLICITUD DE INFORMACIÓN Y DOCUMENTOS","SOLICITUD DE INFORMACIÓN HIDROMETEOROLÓGICA","NO","GRUPO DE ATENCIÓN AL CIUDADANO",43973,null,null,{"$f":"IFERROR(WORKDAY(C1349,R1349,DiasNOLaborables),\"\")","v":43994},{"$f":"+IF(C1349=\"\",\"\",IF(I1349=\"\",\"\",(IF(I1349<=L1349,\"A TIEMPO\",\"FUERA DE TIEMPO\"))))","v":"A TIEMPO"},{"$f":"IF(I1349=\"\",\"\",NETWORKDAYS([4]Hoja1!C1349+1,[4]Hoja1!P1349,DiasNOLaborables))","v":8},"",null,null,20]
[1339,20200514174601,43965,"WEB (MÓDULO DE SOLICITUD DE INFORMACIÓN HIDROMETEOROLÓGICA)","SOLICITUD DE INFORMACIÓN Y DOCUMENTOS","SOLICITUD DE INFORMACIÓN HIDROMETEOROLÓGICA","NO","GRUPO DE ATENCIÓN AL CIUDADANO",43973,null,null,{"$f":"IFERROR(WORKDAY(C1350,R1350,DiasNOLaborables),\"\")","v":43994},{"$f":"+IF(C1350=\"\",\"\",IF(I1350=\"\",\"\",(IF(I1350<=L1350,\"A TIEMPO\",\"FUERA DE TIEMPO\"))))","v":"A TIEMPO"},{"$f":"IF(I1350=\"\",\"\",NETWORKDAYS([4]Hoja1!C1350+1,[4]Hoja1!P1350,DiasNOLaborables))","v":8},"",null,null,20]
[1340,20200514103116,43965,"WEB (MÓDULO DE SOLICITUD DE INFORMACIÓN HIDROMETEOROLÓGICA)","SOLICITUD DE INFORMACIÓN Y DOCUMENTOS","SOLICITUD DE INFORMACIÓN HIDROMETEOROLÓGICA","NO","GRUPO DE ATENCIÓN AL CIUDADANO",43973,null,null,{"$f":"IFERROR(WORKDAY(C1351,R1351,DiasNOLaborables),\"\")","v":43994},{"$f":"+IF(C1351=\"\",\"\",IF(I1351=\"\",\"\",(IF(I1351<=L1351,\"A TIEMPO\",\"FUERA DE TIEMPO\"))))","v":"A TIEMPO"},{"$f":"IF(I1351=\"\",\"\",NETWORKDAYS([4]Hoja1!C1351+1,[4]Hoja1!P1351,DiasNOLaborables))","v":8},"",null,null,20]
[1341,20200514093430,43965,"WEB (MÓDULO DE SOLICITUD DE INFORMACIÓN HIDROMETEOROLÓGICA)","SOLICITUD DE INFORMACIÓN Y DOCUMENTOS","SOLICITUD DE INFORMACIÓN HIDROMETEOROLÓGICA","NO","GRUPO DE ATENCIÓN AL CIUDADANO",43973,null,null,{"$f":"IFERROR(WORKDAY(C1352,R1352,DiasNOLaborables),\"\")","v":43994},{"$f":"+IF(C1352=\"\",\"\",IF(I1352=\"\",\"\",(IF(I1352<=L1352,\"A TIEMPO\",\"FUERA DE TIEMPO\"))))","v":"A TIEMPO"},{"$f":"IF(I1352=\"\",\"\",NETWORKDAYS([4]Hoja1!C1352+1,[4]Hoja1!P1352,DiasNOLaborables))","v":8},"",null,null,20]
[1342,20200514092437,43965,"WEB (MÓDULO DE SOLICITUD DE INFORMACIÓN HIDROMETEOROLÓGICA)","SOLICITUD DE INFORMACIÓN Y DOCUMENTOS","SOLICITUD DE INFORMACIÓN HIDROMETEOROLÓGICA","NO","GRUPO DE ATENCIÓN AL CIUDADANO",43973,null,null,{"$f":"IFERROR(WORKDAY(C1353,R1353,DiasNOLaborables),\"\")","v":43994},{"$f":"+IF(C1353=\"\",\"\",IF(I1353=\"\",\"\",(IF(I1353<=L1353,\"A TIEMPO\",\"FUERA DE TIEMPO\"))))","v":"A TIEMPO"},{"$f":"IF(I1353=\"\",\"\",NETWORKDAYS([4]Hoja1!C1353+1,[4]Hoja1!P1353,DiasNOLaborables))","v":8},"",null,null,20]
[1343,20209050040072,43965,"MODULO CONTACTENOS","SOLICITUD DE INFORMACIÓN Y DOCUMENTOS","SOLICITUD DE INFORMACIÓN HIDROMETEOROLÓGICA","NO","GRUPO DE ATENCIÓN AL CIUDADANO",43974,null,null,{"$f":"IFERROR(WORKDAY(C1354,R1354,DiasNOLaborables),\"\")","v":43994},{"$f":"+IF(C1354=\"\",\"\",IF(I1354=\"\",\"\",(IF(I1354<=L1354,\"A TIEMPO\",\"FUERA DE TIEMPO\"))))","v":"A TIEMPO"},{"$f":"IF(I1354=\"\",\"\",NETWORKDAYS([4]Hoja1!C1354+1,[4]Hoja1!P1354,DiasNOLaborables))","v":8},"",null,null,20]
[1344,20209050040102,43965,"MODULO CONTACTENOS","SOLICITUD DE INFORMACIÓN Y DOCUMENTOS","SOLICITUD DE INFORMACIÓN HIDROMETEOROLÓGICA","NO","GRUPO DE ATENCIÓN AL CIUDADANO",43974,null,null,{"$f":"IFERROR(WORKDAY(C1355,R1355,DiasNOLaborables),\"\")","v":43994},{"$f":"+IF(C1355=\"\",\"\",IF(I1355=\"\",\"\",(IF(I1355<=L1355,\"A TIEMPO\",\"FUERA DE TIEMPO\"))))","v":"A TIEMPO"},{"$f":"IF(I1355=\"\",\"\",NETWORKDAYS([4]Hoja1!C1355+1,[4]Hoja1!P1355,DiasNOLaborables))","v":8},"",null,null,20]
[1345,20209050040222,43965,"MODULO CONTACTENOS","SOLICITUD DE INFORMACIÓN Y DOCUMENTOS","SOLICITUD DE INFORMACIÓN HIDROMETEOROLÓGICA","NO","GRUPO DE ATENCIÓN AL CIUDADANO",43974,null,null,{"$f":"IFERROR(WORKDAY(C1356,R1356,DiasNOLaborables),\"\")","v":43994},{"$f":"+IF(C1356=\"\",\"\",IF(I1356=\"\",\"\",(IF(I1356<=L1356,\"A TIEMPO\",\"FUERA DE TIEMPO\"))))","v":"A TIEMPO"},{"$f":"IF(I1356=\"\",\"\",NETWORKDAYS([4]Hoja1!C1356+1,[4]Hoja1!P1356,DiasNOLaborables))","v":8},"",null,null,20]
[1346,20209050040272,43965,"MODULO CONTACTENOS","SOLICITUD DE INFORMACIÓN Y DOCUMENTOS","SOLICITUD DE INFORMACIÓN HIDROMETEOROLÓGICA","NO","GRUPO DE ATENCIÓN AL CIUDADANO",43974,null,null,{"$f":"IFERROR(WORKDAY(C1357,R1357,DiasNOLaborables),\"\")","v":43994},{"$f":"+IF(C1357=\"\",\"\",IF(I1357=\"\",\"\",(IF(I1357<=L1357,\"A TIEMPO\",\"FUERA DE TIEMPO\"))))","v":"A TIEMPO"},{"$f":"IF(I1357=\"\",\"\",NETWORKDAYS([4]Hoja1!C1357+1,[4]Hoja1!P1357,DiasNOLaborables))","v":9},"",null,null,20]
[1347,20200515210408,43966,"WEB (MÓDULO DE SOLICITUD DE INFORMACIÓN HIDROMETEOROLÓGICA)","SOLICITUD DE INFORMACIÓN Y DOCUMENTOS","SOLICITUD DE INFORMACIÓN HIDROMETEOROLÓGICA","NO","GRUPO DE ATENCIÓN AL CIUDADANO",43974,null,null,{"$f":"IFERROR(WORKDAY(C1358,R1358,DiasNOLaborables),\"\")","v":43998},{"$f":"+IF(C1358=\"\",\"\",IF(I1358=\"\",\"\",(IF(I1358<=L1358,\"A TIEMPO\",\"FUERA DE TIEMPO\"))))","v":"A TIEMPO"},{"$f":"IF(I1358=\"\",\"\",NETWORKDAYS([4]Hoja1!C1358+1,[4]Hoja1!P1358,DiasNOLaborables))","v":9},"",null,null,20]
[1348,20200515205621,43966,"WEB (MÓDULO DE SOLICITUD DE INFORMACIÓN HIDROMETEOROLÓGICA)","SOLICITUD DE INFORMACIÓN Y DOCUMENTOS","SOLICITUD DE INFORMACIÓN HIDROMETEOROLÓGICA","NO","GRUPO DE ATENCIÓN AL CIUDADANO",43974,null,null,{"$f":"IFERROR(WORKDAY(C1359,R1359,DiasNOLaborables),\"\")","v":43998},{"$f":"+IF(C1359=\"\",\"\",IF(I1359=\"\",\"\",(IF(I1359<=L1359,\"A TIEMPO\",\"FUERA DE TIEMPO\"))))","v":"A TIEMPO"},{"$f":"IF(I1359=\"\",\"\",NETWORKDAYS([4]Hoja1!C1359+1,[4]Hoja1!P1359,DiasNOLaborables))","v":9},"",null,null,20]
[1349,20200515164630,43966,"WEB (MÓDULO DE SOLICITUD DE INFORMACIÓN HIDROMETEOROLÓGICA)","SOLICITUD DE INFORMACIÓN Y DOCUMENTOS","SOLICITUD DE INFORMACIÓN HIDROMETEOROLÓGICA","NO","GRUPO DE ATENCIÓN AL CIUDADANO",43974,null,null,{"$f":"IFERROR(WORKDAY(C1360,R1360,DiasNOLaborables),\"\")","v":43998},{"$f":"+IF(C1360=\"\",\"\",IF(I1360=\"\",\"\",(IF(I1360<=L1360,\"A TIEMPO\",\"FUERA DE TIEMPO\"))))","v":"A TIEMPO"},{"$f":"IF(I1360=\"\",\"\",NETWORKDAYS([4]Hoja1!C1360+1,[4]Hoja1!P1360,DiasNOLaborables))","v":9},"",null,null,20]
[1350,20200515094950,43966,"WEB (MÓDULO DE SOLICITUD DE INFORMACIÓN HIDROMETEOROLÓGICA)","SOLICITUD DE INFORMACIÓN Y DOCUMENTOS","SOLICITUD DE INFORMACIÓN HIDROMETEOROLÓGICA","NO","GRUPO DE ATENCIÓN AL CIUDADANO",43974,null,null,{"$f":"IFERROR(WORKDAY(C1361,R1361,DiasNOLaborables),\"\")","v":43998},{"$f":"+IF(C1361=\"\",\"\",IF(I1361=\"\",\"\",(IF(I1361<=L1361,\"A TIEMPO\",\"FUERA DE TIEMPO\"))))","v":"A TIEMPO"},{"$f":"IF(I1361=\"\",\"\",NETWORKDAYS([4]Hoja1!C1361+1,[4]Hoja1!P1361,DiasNOLaborables))","v":9},"",null,null,20]
[1351,20200515084805,43966,"WEB (MÓDULO DE SOLICITUD DE INFORMACIÓN HIDROMETEOROLÓGICA)","SOLICITUD DE INFORMACIÓN Y DOCUMENTOS","SOLICITUD DE INFORMACIÓN HIDROMETEOROLÓGICA","NO","GRUPO DE ATENCIÓN AL CIUDADANO",43974,null,null,{"$f":"IFERROR(WORKDAY(C1362,R1362,DiasNOLaborables),\"\")","v":43998},{"$f":"+IF(C1362=\"\",\"\",IF(I1362=\"\",\"\",(IF(I1362<=L1362,\"A TIEMPO\",\"FUERA DE TIEMPO\"))))","v":"A TIEMPO"},{"$f":"IF(I1362=\"\",\"\",NETWORKDAYS([4]Hoja1!C1362+1,[4]Hoja1!P1362,DiasNOLaborables))","v":9},"",null,null,20]
[1352,20200515013608,43966,"WEB (MÓDULO DE SOLICITUD DE INFORMACIÓN HIDROMETEOROLÓGICA)","SOLICITUD DE INFORMACIÓN Y DOCUMENTOS","SOLICITUD DE INFORMACIÓN HIDROMETEOROLÓGICA","NO","GRUPO DE ATENCIÓN AL CIUDADANO",43974,null,null,{"$f":"IFERROR(WORKDAY(C1363,R1363,DiasNOLaborables),\"\")","v":43998},{"$f":"+IF(C1363=\"\",\"\",IF(I1363=\"\",\"\",(IF(I1363<=L1363,\"A TIEMPO\",\"FUERA DE TIEMPO\"))))","v":"A TIEMPO"},{"$f":"IF(I1363=\"\",\"\",NETWORKDAYS([4]Hoja1!C1363+1,[4]Hoja1!P1363,DiasNOLaborables))","v":9},"",null,null,20]
[1353,20209050040842,43967,"MODULO CONTACTENOS","SOLICITUD DE INFORMACIÓN Y DOCUMENTOS","SOLICITUD DE INFORMACIÓN HIDROMETEOROLÓGICA","NO","GRUPO DE ATENCIÓN AL CIUDADANO",43978,null,null,{"$f":"IFERROR(WORKDAY(C1364,R1364,DiasNOLaborables),\"\")","v":43998},{"$f":"+IF(C1364=\"\",\"\",IF(I1364=\"\",\"\",(IF(I1364<=L1364,\"A TIEMPO\",\"FUERA DE TIEMPO\"))))","v":"A TIEMPO"},{"$f":"IF(I1364=\"\",\"\",NETWORKDAYS([4]Hoja1!C1364+1,[4]Hoja1!P1364,DiasNOLaborables))","v":9},"",null,null,20]
[1354,20209050040872,43968,"MODULO CONTACTENOS","SOLICITUD DE INFORMACIÓN Y DOCUMENTOS","SOLICITUD DE INFORMACIÓN HIDROMETEOROLÓGICA","NO","GRUPO DE ATENCIÓN AL CIUDADANO",43978,null,null,{"$f":"IFERROR(WORKDAY(C1365,R1365,DiasNOLaborables),\"\")","v":43998},{"$f":"+IF(C1365=\"\",\"\",IF(I1365=\"\",\"\",(IF(I1365<=L1365,\"A TIEMPO\",\"FUERA DE TIEMPO\"))))","v":"A TIEMPO"},{"$f":"IF(I1365=\"\",\"\",NETWORKDAYS([4]Hoja1!C1365+1,[4]Hoja1!P1365,DiasNOLaborables))","v":10},"",null,null,20]
[1355,20209050040882,43968,"MODULO CONTACTENOS","SOLICITUD DE INFORMACIÓN Y DOCUMENTOS","SOLICITUD DE INFORMACIÓN HIDROMETEOROLÓGICA","NO","GRUPO DE ATENCIÓN AL CIUDADANO",43978,null,null,{"$f":"IFERROR(WORKDAY(C1366,R1366,DiasNOLaborables),\"\")","v":43998},{"$f":"+IF(C1366=\"\",\"\",IF(I1366=\"\",\"\",(IF(I1366<=L1366,\"A TIEMPO\",\"FUERA DE TIEMPO\"))))","v":"A TIEMPO"},{"$f":"IF(I1366=\"\",\"\",NETWORKDAYS([4]Hoja1!C1366+1,[4]Hoja1!P1366,DiasNOLaborables))","v":10},"",null,null,20]
[1356,20209050040892,43968,"MODULO CONTACTENOS","SOLICITUD DE INFORMACIÓN Y DOCUMENTOS","SOLICITUD DE INFORMACIÓN HIDROMETEOROLÓGICA","NO","GRUPO DE ATENCIÓN AL CIUDADANO",43978,null,null,{"$f":"IFERROR(WORKDAY(C1367,R1367,DiasNOLaborables),\"\")","v":43998},{"$f":"+IF(C1367=\"\",\"\",IF(I1367=\"\",\"\",(IF(I1367<=L1367,\"A TIEMPO\",\"FUERA DE TIEMPO\"))))","v":"A TIEMPO"},{"$f":"IF(I1367=\"\",\"\",NETWORKDAYS([4]Hoja1!C1367+1,[4]Hoja1!P1367,DiasNOLaborables))","v":10},"",null,null,20]
[1357,20209050040932,43968,"MODULO CONTACTENOS","SOLICITUD DE INFORMACIÓN Y DOCUMENTOS","SOLICITUD DE INFORMACIÓN HIDROMETEOROLÓGICA","NO","GRUPO DE ATENCIÓN AL CIUDADANO",43978,null,null,{"$f":"IFERROR(WORKDAY(C1368,R1368,DiasNOLaborables),\"\")","v":43998},{"$f":"+IF(C1368=\"\",\"\",IF(I1368=\"\",\"\",(IF(I1368<=L1368,\"A TIEMPO\",\"FUERA DE TIEMPO\"))))","v":"A TIEMPO"},{"$f":"IF(I1368=\"\",\"\",NETWORKDAYS([4]Hoja1!C1368+1,[4]Hoja1!P1368,DiasNOLaborables))","v":10},"",null,null,20]
[1358,20209050040942,43968,"MODULO CONTACTENOS","SOLICITUD DE INFORMACIÓN Y DOCUMENTOS","SOLICITUD DE INFORMACIÓN HIDROMETEOROLÓGICA","NO","GRUPO DE ATENCIÓN AL CIUDADANO",43978,null,null,{"$f":"IFERROR(WORKDAY(C1369,R1369,DiasNOLaborables),\"\")","v":43998},{"$f":"+IF(C1369=\"\",\"\",IF(I1369=\"\",\"\",(IF(I1369<=L1369,\"A TIEMPO\",\"FUERA DE TIEMPO\"))))","v":"A TIEMPO"},{"$f":"IF(I1369=\"\",\"\",NETWORKDAYS([4]Hoja1!C1369+1,[4]Hoja1!P1369,DiasNOLaborables))","v":10},"",null,null,20]
[1359,20209050040952,43968,"MODULO CONTACTENOS","SOLICITUD DE INFORMACIÓN Y DOCUMENTOS","SOLICITUD DE INFORMACIÓN HIDROMETEOROLÓGICA","NO","GRUPO DE ATENCIÓN AL CIUDADANO",43978,null,null,{"$f":"IFERROR(WORKDAY(C1370,R1370,DiasNOLaborables),\"\")","v":43998},{"$f":"+IF(C1370=\"\",\"\",IF(I1370=\"\",\"\",(IF(I1370<=L1370,\"A TIEMPO\",\"FUERA DE TIEMPO\"))))","v":"A TIEMPO"},{"$f":"IF(I1370=\"\",\"\",NETWORKDAYS([4]Hoja1!C1370+1,[4]Hoja1!P1370,DiasNOLaborables))","v":10},"",null,null,20]
[1360,20209050040992,43969,"MODULO CONTACTENOS","SOLICITUD DE INFORMACIÓN Y DOCUMENTOS","SOLICITUD DE INFORMACIÓN HIDROMETEOROLÓGICA","NO","GRUPO DE ATENCIÓN AL CIUDADANO",43978,null,null,{"$f":"IFERROR(WORKDAY(C1371,R1371,DiasNOLaborables),\"\")","v":43999},{"$f":"+IF(C1371=\"\",\"\",IF(I1371=\"\",\"\",(IF(I1371<=L1371,\"A TIEMPO\",\"FUERA DE TIEMPO\"))))","v":"A TIEMPO"},{"$f":"IF(I1371=\"\",\"\",NETWORKDAYS([4]Hoja1!C1371+1,[4]Hoja1!P1371,DiasNOLaborables))","v":10},"",null,null,20]
[1361,20209050041032,43969,"MODULO CONTACTENOS","SOLICITUD DE INFORMACIÓN Y DOCUMENTOS","SOLICITUD DE INFORMACIÓN HIDROMETEOROLÓGICA","NO","GRUPO DE ATENCIÓN AL CIUDADANO",43978,null,null,{"$f":"IFERROR(WORKDAY(C1372,R1372,DiasNOLaborables),\"\")","v":43999},{"$f":"+IF(C1372=\"\",\"\",IF(I1372=\"\",\"\",(IF(I1372<=L1372,\"A TIEMPO\",\"FUERA DE TIEMPO\"))))","v":"A TIEMPO"},{"$f":"IF(I1372=\"\",\"\",NETWORKDAYS([4]Hoja1!C1372+1,[4]Hoja1!P1372,DiasNOLaborables))","v":9},"",null,null,20]
[1362,20209050041052,43969,"MODULO CONTACTENOS","SOLICITUD DE INFORMACIÓN Y DOCUMENTOS","SOLICITUD DE INFORMACIÓN HIDROMETEOROLÓGICA","NO","GRUPO DE ATENCIÓN AL CIUDADANO",43978,null,null,{"$f":"IFERROR(WORKDAY(C1373,R1373,DiasNOLaborables),\"\")","v":43999},{"$f":"+IF(C1373=\"\",\"\",IF(I1373=\"\",\"\",(IF(I1373<=L1373,\"A TIEMPO\",\"FUERA DE TIEMPO\"))))","v":"A TIEMPO"},{"$f":"IF(I1373=\"\",\"\",NETWORKDAYS([4]Hoja1!C1373+1,[4]Hoja1!P1373,DiasNOLaborables))","v":9},"",null,null,20]
[1363,20209050041442,43969,"MODULO CONTACTENOS","SOLICITUD DE INFORMACIÓN Y DOCUMENTOS","SOLICITUD DE INFORMACIÓN HIDROMETEOROLÓGICA","NO","GRUPO DE ATENCIÓN AL CIUDADANO",43978,null,null,{"$f":"IFERROR(WORKDAY(C1374,R1374,DiasNOLaborables),\"\")","v":43999},{"$f":"+IF(C1374=\"\",\"\",IF(I1374=\"\",\"\",(IF(I1374<=L1374,\"A TIEMPO\",\"FUERA DE TIEMPO\"))))","v":"A TIEMPO"},{"$f":"IF(I1374=\"\",\"\",NETWORKDAYS([4]Hoja1!C1374+1,[4]Hoja1!P1374,DiasNOLaborables))","v":9},"",null,null,20]
[1364,20209050041462,43969,"MODULO CONTACTENOS","SOLICITUD DE INFORMACIÓN Y DOCUMENTOS","SOLICITUD DE INFORMACIÓN HIDROMETEOROLÓGICA","NO","GRUPO DE ATENCIÓN AL CIUDADANO",43978,null,null,{"$f":"IFERROR(WORKDAY(C1375,R1375,DiasNOLaborables),\"\")","v":43999},{"$f":"+IF(C1375=\"\",\"\",IF(I1375=\"\",\"\",(IF(I1375<=L1375,\"A TIEMPO\",\"FUERA DE TIEMPO\"))))","v":"A TIEMPO"},{"$f":"IF(I1375=\"\",\"\",NETWORKDAYS([4]Hoja1!C1375+1,[4]Hoja1!P1375,DiasNOLaborables))","v":9},"",null,null,20]
[1365,20209050041482,43969,"MODULO CONTACTENOS","SOLICITUD DE INFORMACIÓN Y DOCUMENTOS","SOLICITUD DE INFORMACIÓN HIDROMETEOROLÓGICA","NO","GRUPO DE ATENCIÓN AL CIUDADANO",43978,null,null,{"$f":"IFERROR(WORKDAY(C1376,R1376,DiasNOLaborables),\"\")","v":43999},{"$f":"+IF(C1376=\"\",\"\",IF(I1376=\"\",\"\",(IF(I1376<=L1376,\"A TIEMPO\",\"FUERA DE TIEMPO\"))))","v":"A TIEMPO"},{"$f":"IF(I1376=\"\",\"\",NETWORKDAYS([4]Hoja1!C1376+1,[4]Hoja1!P1376,DiasNOLaborables))","v":9},"",null,null,20]
[1366,20209050041492,43969,"MODULO CONTACTENOS","SOLICITUD DE INFORMACIÓN Y DOCUMENTOS","SOLICITUD DE INFORMACIÓN HIDROMETEOROLÓGICA","NO","GRUPO DE ATENCIÓN AL CIUDADANO",43978,null,null,{"$f":"IFERROR(WORKDAY(C1377,R1377,DiasNOLaborables),\"\")","v":43999},{"$f":"+IF(C1377=\"\",\"\",IF(I1377=\"\",\"\",(IF(I1377<=L1377,\"A TIEMPO\",\"FUERA DE TIEMPO\"))))","v":"A TIEMPO"},{"$f":"IF(I1377=\"\",\"\",NETWORKDAYS([4]Hoja1!C1377+1,[4]Hoja1!P1377,DiasNOLaborables))","v":9},"",null,null,20]
[1367,20209050041902,43970,"MODULO CONTACTENOS","SOLICITUD DE INFORMACIÓN Y DOCUMENTOS","SOLICITUD DE INFORMACIÓN HIDROMETEOROLÓGICA","NO","GRUPO DE ATENCIÓN AL CIUDADANO",43979,null,null,{"$f":"IFERROR(WORKDAY(C1378,R1378,DiasNOLaborables),\"\")","v":44000},{"$f":"+IF(C1378=\"\",\"\",IF(I1378=\"\",\"\",(IF(I1378<=L1378,\"A TIEMPO\",\"FUERA DE TIEMPO\"))))","v":"A TIEMPO"},{"$f":"IF(I1378=\"\",\"\",NETWORKDAYS([4]Hoja1!C1378+1,[4]Hoja1!P1378,DiasNOLaborables))","v":9},"",null,null,20]
[1368,20209050041892,43970,"MODULO CONTACTENOS","SOLICITUD DE INFORMACIÓN Y DOCUMENTOS","SOLICITUD DE INFORMACIÓN HIDROMETEOROLÓGICA","NO","GRUPO DE ATENCIÓN AL CIUDADANO",43979,null,null,{"$f":"IFERROR(WORKDAY(C1379,R1379,DiasNOLaborables),\"\")","v":44000},{"$f":"+IF(C1379=\"\",\"\",IF(I1379=\"\",\"\",(IF(I1379<=L1379,\"A TIEMPO\",\"FUERA DE TIEMPO\"))))","v":"A TIEMPO"},{"$f":"IF(I1379=\"\",\"\",NETWORKDAYS([4]Hoja1!C1379+1,[4]Hoja1!P1379,DiasNOLaborables))","v":9},"",null,null,20]
[1369,20209050041882,43970,"MODULO CONTACTENOS","SOLICITUD DE INFORMACIÓN Y DOCUMENTOS","SOLICITUD DE INFORMACIÓN HIDROMETEOROLÓGICA","NO","GRUPO DE ATENCIÓN AL CIUDADANO",43979,null,null,{"$f":"IFERROR(WORKDAY(C1380,R1380,DiasNOLaborables),\"\")","v":44000},{"$f":"+IF(C1380=\"\",\"\",IF(I1380=\"\",\"\",(IF(I1380<=L1380,\"A TIEMPO\",\"FUERA DE TIEMPO\"))))","v":"A TIEMPO"},{"$f":"IF(I1380=\"\",\"\",NETWORKDAYS([4]Hoja1!C1380+1,[4]Hoja1!P1380,DiasNOLaborables))","v":9},"",null,null,20]
[1370,20209050041872,43970,"MODULO CONTACTENOS","SOLICITUD DE INFORMACIÓN Y DOCUMENTOS","SOLICITUD DE INFORMACIÓN HIDROMETEOROLÓGICA","NO","GRUPO DE ATENCIÓN AL CIUDADANO",43979,null,null,{"$f":"IFERROR(WORKDAY(C1381,R1381,DiasNOLaborables),\"\")","v":44000},{"$f":"+IF(C1381=\"\",\"\",IF(I1381=\"\",\"\",(IF(I1381<=L1381,\"A TIEMPO\",\"FUERA DE TIEMPO\"))))","v":"A TIEMPO"},{"$f":"IF(I1381=\"\",\"\",NETWORKDAYS([4]Hoja1!C1381+1,[4]Hoja1!P1381,DiasNOLaborables))","v":9},"",null,null,20]
[1371,20209050041842,43970,"MODULO CONTACTENOS","SOLICITUD DE INFORMACIÓN Y DOCUMENTOS","SOLICITUD DE INFORMACIÓN HIDROMETEOROLÓGICA","NO","GRUPO DE ATENCIÓN AL CIUDADANO",43979,null,null,{"$f":"IFERROR(WORKDAY(C1382,R1382,DiasNOLaborables),\"\")","v":44000},{"$f":"+IF(C1382=\"\",\"\",IF(I1382=\"\",\"\",(IF(I1382<=L1382,\"A TIEMPO\",\"FUERA DE TIEMPO\"))))","v":"A TIEMPO"},{"$f":"IF(I1382=\"\",\"\",NETWORKDAYS([4]Hoja1!C1382+1,[4]Hoja1!P1382,DiasNOLaborables))","v":9},"",null,null,20]
[1372,20200520075530,43971,"WEB (MÓDULO DE SOLICITUD DE INFORMACIÓN HIDROMETEOROLÓGICA)","SOLICITUD DE INFORMACIÓN Y DOCUMENTOS","SOLICITUD DE INFORMACIÓN HIDROMETEOROLÓGICA","NO","GRUPO DE ATENCIÓN AL CIUDADANO",43979,null,null,{"$f":"IFERROR(WORKDAY(C1383,R1383,DiasNOLaborables),\"\")","v":44001},{"$f":"+IF(C1383=\"\",\"\",IF(I1383=\"\",\"\",(IF(I1383<=L1383,\"A TIEMPO\",\"FUERA DE TIEMPO\"))))","v":"A TIEMPO"},{"$f":"IF(I1383=\"\",\"\",NETWORKDAYS([4]Hoja1!C1383+1,[4]Hoja1!P1383,DiasNOLaborables))","v":9},"",null,null,20]
[1373,20200520075321,43971,"WEB (MÓDULO DE SOLICITUD DE INFORMACIÓN HIDROMETEOROLÓGICA)","SOLICITUD DE INFORMACIÓN Y DOCUMENTOS","SOLICITUD DE INFORMACIÓN HIDROMETEOROLÓGICA","NO","GRUPO DE ATENCIÓN AL CIUDADANO",43979,null,null,{"$f":"IFERROR(WORKDAY(C1384,R1384,DiasNOLaborables),\"\")","v":44001},{"$f":"+IF(C1384=\"\",\"\",IF(I1384=\"\",\"\",(IF(I1384<=L1384,\"A TIEMPO\",\"FUERA DE TIEMPO\"))))","v":"A TIEMPO"},{"$f":"IF(I1384=\"\",\"\",NETWORKDAYS([4]Hoja1!C1384+1,[4]Hoja1!P1384,DiasNOLaborables))","v":9},"",null,null,20]
[1374,20200520074932,43971,"WEB (MÓDULO DE SOLICITUD DE INFORMACIÓN HIDROMETEOROLÓGICA)","SOLICITUD DE INFORMACIÓN Y DOCUMENTOS","SOLICITUD DE INFORMACIÓN HIDROMETEOROLÓGICA","NO","GRUPO DE ATENCIÓN AL CIUDADANO",43979,null,null,{"$f":"IFERROR(WORKDAY(C1385,R1385,DiasNOLaborables),\"\")","v":44001},{"$f":"+IF(C1385=\"\",\"\",IF(I1385=\"\",\"\",(IF(I1385<=L1385,\"A TIEMPO\",\"FUERA DE TIEMPO\"))))","v":"A TIEMPO"},{"$f":"IF(I1385=\"\",\"\",NETWORKDAYS([4]Hoja1!C1385+1,[4]Hoja1!P1385,DiasNOLaborables))","v":9},"",null,null,20]
[1375,20200520074401,43971,"WEB (MÓDULO DE SOLICITUD DE INFORMACIÓN HIDROMETEOROLÓGICA)","SOLICITUD DE INFORMACIÓN Y DOCUMENTOS","SOLICITUD DE INFORMACIÓN HIDROMETEOROLÓGICA","NO","GRUPO DE ATENCIÓN AL CIUDADANO",43979,null,null,{"$f":"IFERROR(WORKDAY(C1386,R1386,DiasNOLaborables),\"\")","v":44001},{"$f":"+IF(C1386=\"\",\"\",IF(I1386=\"\",\"\",(IF(I1386<=L1386,\"A TIEMPO\",\"FUERA DE TIEMPO\"))))","v":"A TIEMPO"},{"$f":"IF(I1386=\"\",\"\",NETWORKDAYS([4]Hoja1!C1386+1,[4]Hoja1!P1386,DiasNOLaborables))","v":9},"",null,null,20]
[1376,20200521224122,43972,"WEB (MÓDULO DE SOLICITUD DE INFORMACIÓN HIDROMETEOROLÓGICA)","SOLICITUD DE INFORMACIÓN Y DOCUMENTOS","SOLICITUD DE INFORMACIÓN HIDROMETEOROLÓGICA","NO","GRUPO DE ATENCIÓN AL CIUDADANO",43979,null,null,{"$f":"IFERROR(WORKDAY(C1387,R1387,DiasNOLaborables),\"\")","v":44005},{"$f":"+IF(C1387=\"\",\"\",IF(I1387=\"\",\"\",(IF(I1387<=L1387,\"A TIEMPO\",\"FUERA DE TIEMPO\"))))","v":"A TIEMPO"},{"$f":"IF(I1387=\"\",\"\",NETWORKDAYS([4]Hoja1!C1387+1,[4]Hoja1!P1387,DiasNOLaborables))","v":9},"",null,null,20]
[1377,20200521170804,43972,"WEB (MÓDULO DE SOLICITUD DE INFORMACIÓN HIDROMETEOROLÓGICA)","SOLICITUD DE INFORMACIÓN Y DOCUMENTOS","SOLICITUD DE INFORMACIÓN HIDROMETEOROLÓGICA","NO","GRUPO DE ATENCIÓN AL CIUDADANO",43979,null,null,{"$f":"IFERROR(WORKDAY(C1388,R1388,DiasNOLaborables),\"\")","v":44005},{"$f":"+IF(C1388=\"\",\"\",IF(I1388=\"\",\"\",(IF(I1388<=L1388,\"A TIEMPO\",\"FUERA DE TIEMPO\"))))","v":"A TIEMPO"},{"$f":"IF(I1388=\"\",\"\",NETWORKDAYS([4]Hoja1!C1388+1,[4]Hoja1!P1388,DiasNOLaborables))","v":9},"",null,null,20]
[1378,20200521122825,43972,"WEB (MÓDULO DE SOLICITUD DE INFORMACIÓN HIDROMETEOROLÓGICA)","SOLICITUD DE INFORMACIÓN Y DOCUMENTOS","SOLICITUD DE INFORMACIÓN HIDROMETEOROLÓGICA","NO","GRUPO DE ATENCIÓN AL CIUDADANO",43979,null,null,{"$f":"IFERROR(WORKDAY(C1389,R1389,DiasNOLaborables),\"\")","v":44005},{"$f":"+IF(C1389=\"\",\"\",IF(I1389=\"\",\"\",(IF(I1389<=L1389,\"A TIEMPO\",\"FUERA DE TIEMPO\"))))","v":"A TIEMPO"},{"$f":"IF(I1389=\"\",\"\",NETWORKDAYS([4]Hoja1!C1389+1,[4]Hoja1!P1389,DiasNOLaborables))","v":9},"",null,null,20]
[1379,20200521112801,43972,"WEB (MÓDULO DE SOLICITUD DE INFORMACIÓN HIDROMETEOROLÓGICA)","SOLICITUD DE INFORMACIÓN Y DOCUMENTOS","SOLICITUD DE INFORMACIÓN HIDROMETEOROLÓGICA","NO","GRUPO DE ATENCIÓN AL CIUDADANO",43979,null,null,{"$f":"IFERROR(WORKDAY(C1390,R1390,DiasNOLaborables),\"\")","v":44005},{"$f":"+IF(C1390=\"\",\"\",IF(I1390=\"\",\"\",(IF(I1390<=L1390,\"A TIEMPO\",\"FUERA DE TIEMPO\"))))","v":"A TIEMPO"},{"$f":"IF(I1390=\"\",\"\",NETWORKDAYS([4]Hoja1!C1390+1,[4]Hoja1!P1390,DiasNOLaborables))","v":9},"",null,null,20]
[1380,20200521111416,43972,"WEB (MÓDULO DE SOLICITUD DE INFORMACIÓN HIDROMETEOROLÓGICA)","SOLICITUD DE INFORMACIÓN Y DOCUMENTOS","SOLICITUD DE INFORMACIÓN HIDROMETEOROLÓGICA","NO","GRUPO DE ATENCIÓN AL CIUDADANO",43979,null,null,{"$f":"IFERROR(WORKDAY(C1391,R1391,DiasNOLaborables),\"\")","v":44005},{"$f":"+IF(C1391=\"\",\"\",IF(I1391=\"\",\"\",(IF(I1391<=L1391,\"A TIEMPO\",\"FUERA DE TIEMPO\"))))","v":"A TIEMPO"},{"$f":"IF(I1391=\"\",\"\",NETWORKDAYS([4]Hoja1!C1391+1,[4]Hoja1!P1391,DiasNOLaborables))","v":9},"",null,null,20]
[1381,20200521104755,43972,"WEB (MÓDULO DE SOLICITUD DE INFORMACIÓN HIDROMETEOROLÓGICA)","SOLICITUD DE INFORMACIÓN Y DOCUMENTOS","SOLICITUD DE INFORMACIÓN HIDROMETEOROLÓGICA","NO","GRUPO DE ATENCIÓN AL CIUDADANO",43979,null,null,{"$f":"IFERROR(WORKDAY(C1392,R1392,DiasNOLaborables),\"\")","v":44005},{"$f":"+IF(C1392=\"\",\"\",IF(I1392=\"\",\"\",(IF(I1392<=L1392,\"A TIEMPO\",\"FUERA DE TIEMPO\"))))","v":"A TIEMPO"},{"$f":"IF(I1392=\"\",\"\",NETWORKDAYS([4]Hoja1!C1392+1,[4]Hoja1!P1392,DiasNOLaborables))","v":9},"",null,null,20]
[1382,20200521095156,43972,"WEB (MÓDULO DE SOLICITUD DE INFORMACIÓN HIDROMETEOROLÓGICA)","SOLICITUD DE INFORMACIÓN Y DOCUMENTOS","SOLICITUD DE INFORMACIÓN HIDROMETEOROLÓGICA","NO","GRUPO DE ATENCIÓN AL CIUDADANO",43979,null,null,{"$f":"IFERROR(WORKDAY(C1393,R1393,DiasNOLaborables),\"\")","v":44005},{"$f":"+IF(C1393=\"\",\"\",IF(I1393=\"\",\"\",(IF(I1393<=L1393,\"A TIEMPO\",\"FUERA DE TIEMPO\"))))","v":"A TIEMPO"},{"$f":"IF(I1393=\"\",\"\",NETWORKDAYS([4]Hoja1!C1393+1,[4]Hoja1!P1393,DiasNOLaborables))","v":9},"",null,null,20]
[{"$f":"IF(B1392<>\"\",A1393+1,\"\")","v":1383},20200521094949,43972,"WEB (MÓDULO DE SOLICITUD DE INFORMACIÓN HIDROMETEOROLÓGICA)","SOLICITUD DE INFORMACIÓN Y DOCUMENTOS","SOLICITUD DE INFORMACIÓN HIDROMETEOROLÓGICA","NO","GRUPO DE ATENCIÓN AL CIUDADANO",43979,null,null,{"$f":"IFERROR(WORKDAY(C1394,R1394,DiasNOLaborables),\"\")","v":44005},{"$f":"+IF(C1394=\"\",\"\",IF(I1394=\"\",\"\",(IF(I1394<=L1394,\"A TIEMPO\",\"FUERA DE TIEMPO\"))))","v":"A TIEMPO"},{"$f":"IF(I1394=\"\",\"\",NETWORKDAYS([4]Hoja1!C1394+1,[4]Hoja1!P1394,DiasNOLaborables))","v":9},"",null,null,20]
[1384,20200521093512,43972,"WEB (MÓDULO DE SOLICITUD DE INFORMACIÓN HIDROMETEOROLÓGICA)","SOLICITUD DE INFORMACIÓN Y DOCUMENTOS","SOLICITUD DE INFORMACIÓN HIDROMETEOROLÓGICA","NO","GRUPO DE ATENCIÓN AL CIUDADANO",43979,null,null,{"$f":"IFERROR(WORKDAY(C1395,R1395,DiasNOLaborables),\"\")","v":44005},{"$f":"+IF(C1395=\"\",\"\",IF(I1395=\"\",\"\",(IF(I1395<=L1395,\"A TIEMPO\",\"FUERA DE TIEMPO\"))))","v":"A TIEMPO"},{"$f":"IF(I1395=\"\",\"\",NETWORKDAYS([4]Hoja1!C1395+1,[4]Hoja1!P1395,DiasNOLaborables))","v":9},"",null,null,20]
[1385,20200521073931,43972,"WEB (MÓDULO DE SOLICITUD DE INFORMACIÓN HIDROMETEOROLÓGICA)","SOLICITUD DE INFORMACIÓN Y DOCUMENTOS","SOLICITUD DE INFORMACIÓN HIDROMETEOROLÓGICA","NO","GRUPO DE ATENCIÓN AL CIUDADANO",43979,null,null,{"$f":"IFERROR(WORKDAY(C1396,R1396,DiasNOLaborables),\"\")","v":44005},{"$f":"+IF(C1396=\"\",\"\",IF(I1396=\"\",\"\",(IF(I1396<=L1396,\"A TIEMPO\",\"FUERA DE TIEMPO\"))))","v":"A TIEMPO"},{"$f":"IF(I1396=\"\",\"\",NETWORKDAYS([4]Hoja1!C1396+1,[4]Hoja1!P1396,DiasNOLaborables))","v":9},{"$f":"IF(NETWORKDAYS(L1396+1,I1396,DiasNOLaborables)<=0,\"\",NETWORKDAYS(L1396+1,I1396,DiasNOLaborables))","v":""},null,null,20]
[1386,20209050042302,43972,"MODULO CONTACTENOS","SOLICITUD DE INFORMACIÓN Y DOCUMENTOS","SOLICITUD DE INFORMACIÓN HIDROMETEOROLÓGICA","NO","GRUPO DE ATENCIÓN AL CIUDADANO",43980,null,null,{"$f":"IFERROR(WORKDAY(C1397,R1397,DiasNOLaborables),\"\")","v":44005},{"$f":"+IF(C1397=\"\",\"\",IF(I1397=\"\",\"\",(IF(I1397<=L1397,\"A TIEMPO\",\"FUERA DE TIEMPO\"))))","v":"A TIEMPO"},{"$f":"IF(I1397=\"\",\"\",NETWORKDAYS([4]Hoja1!C1397+1,[4]Hoja1!P1397,DiasNOLaborables))","v":9},"",null,null,20]
[1387,20209050042312,43972,"MODULO CONTACTENOS","SOLICITUD DE INFORMACIÓN Y DOCUMENTOS","SOLICITUD DE INFORMACIÓN HIDROMETEOROLÓGICA","NO","GRUPO DE ATENCIÓN AL CIUDADANO",43980,null,null,{"$f":"IFERROR(WORKDAY(C1398,R1398,DiasNOLaborables),\"\")","v":44005},{"$f":"+IF(C1398=\"\",\"\",IF(I1398=\"\",\"\",(IF(I1398<=L1398,\"A TIEMPO\",\"FUERA DE TIEMPO\"))))","v":"A TIEMPO"},{"$f":"IF(I1398=\"\",\"\",NETWORKDAYS([4]Hoja1!C1398+1,[4]Hoja1!P1398,DiasNOLaborables))","v":9},"",null,null,20]
[1388,20209050042322,43972,"MODULO CONTACTENOS","SOLICITUD DE INFORMACIÓN Y DOCUMENTOS","SOLICITUD DE INFORMACIÓN HIDROMETEOROLÓGICA","NO","GRUPO DE ATENCIÓN AL CIUDADANO",43980,null,null,{"$f":"IFERROR(WORKDAY(C1399,R1399,DiasNOLaborables),\"\")","v":44005},{"$f":"+IF(C1399=\"\",\"\",IF(I1399=\"\",\"\",(IF(I1399<=L1399,\"A TIEMPO\",\"FUERA DE TIEMPO\"))))","v":"A TIEMPO"},{"$f":"IF(I1399=\"\",\"\",NETWORKDAYS([4]Hoja1!C1399+1,[4]Hoja1!P1399,DiasNOLaborables))","v":9},"",null,null,20]
[1389,20209050042332,43972,"MODULO CONTACTENOS","SOLICITUD DE INFORMACIÓN Y DOCUMENTOS","SOLICITUD DE INFORMACIÓN HIDROMETEOROLÓGICA","NO","GRUPO DE ATENCIÓN AL CIUDADANO",43980,null,null,{"$f":"IFERROR(WORKDAY(C1400,R1400,DiasNOLaborables),\"\")","v":44005},{"$f":"+IF(C1400=\"\",\"\",IF(I1400=\"\",\"\",(IF(I1400<=L1400,\"A TIEMPO\",\"FUERA DE TIEMPO\"))))","v":"A TIEMPO"},{"$f":"IF(I1400=\"\",\"\",NETWORKDAYS([4]Hoja1!C1400+1,[4]Hoja1!P1400,DiasNOLaborables))","v":9},"",null,null,{"$f":"IFERROR(VLOOKUP(E1400,$Z$50:$AA$63,2),\"\")","v":20}]
[1390,20209050042342,43972,"MODULO CONTACTENOS","SOLICITUD DE INFORMACIÓN Y DOCUMENTOS","SOLICITUD DE INFORMACIÓN HIDROMETEOROLÓGICA","NO","GRUPO DE ATENCIÓN AL CIUDADANO",43980,null,null,{"$f":"IFERROR(WORKDAY(C1401,R1401,DiasNOLaborables),\"\")","v":44005},{"$f":"+IF(C1401=\"\",\"\",IF(I1401=\"\",\"\",(IF(I1401<=L1401,\"A TIEMPO\",\"FUERA DE TIEMPO\"))))","v":"A TIEMPO"},{"$f":"IF(I1401=\"\",\"\",NETWORKDAYS([4]Hoja1!C1401+1,[4]Hoja1!P1401,DiasNOLaborables))","v":9},"",null,null,20]
[1391,20209050042352,43972,"MODULO CONTACTENOS","SOLICITUD DE INFORMACIÓN Y DOCUMENTOS","SOLICITUD DE INFORMACIÓN HIDROMETEOROLÓGICA","NO","GRUPO DE ATENCIÓN AL CIUDADANO",43980,null,null,{"$f":"IFERROR(WORKDAY(C1402,R1402,DiasNOLaborables),\"\")","v":44005},{"$f":"+IF(C1402=\"\",\"\",IF(I1402=\"\",\"\",(IF(I1402<=L1402,\"A TIEMPO\",\"FUERA DE TIEMPO\"))))","v":"A TIEMPO"},{"$f":"IF(I1402=\"\",\"\",NETWORKDAYS([4]Hoja1!C1402+1,[4]Hoja1!P1402,DiasNOLaborables))","v":9},"",null,null,20]
[1392,20209050042362,43972,"MODULO CONTACTENOS","SOLICITUD DE INFORMACIÓN Y DOCUMENTOS","SOLICITUD DE INFORMACIÓN HIDROMETEOROLÓGICA","NO","GRUPO DE ATENCIÓN AL CIUDADANO",43980,null,null,{"$f":"IFERROR(WORKDAY(C1403,R1403,DiasNOLaborables),\"\")","v":44005},{"$f":"+IF(C1403=\"\",\"\",IF(I1403=\"\",\"\",(IF(I1403<=L1403,\"A TIEMPO\",\"FUERA DE TIEMPO\"))))","v":"A TIEMPO"},{"$f":"IF(I1403=\"\",\"\",NETWORKDAYS([4]Hoja1!C1403+1,[4]Hoja1!P1403,DiasNOLaborables))","v":9},"",null,null,20]
[1393,20209050042632,43972,"MODULO CONTACTENOS","SOLICITUD DE INFORMACIÓN Y DOCUMENTOS","SOLICITUD DE INFORMACIÓN HIDROMETEOROLÓGICA","NO","GRUPO DE ATENCIÓN AL CIUDADANO",43980,null,null,{"$f":"IFERROR(WORKDAY(C1404,R1404,DiasNOLaborables),\"\")","v":44005},{"$f":"+IF(C1404=\"\",\"\",IF(I1404=\"\",\"\",(IF(I1404<=L1404,\"A TIEMPO\",\"FUERA DE TIEMPO\"))))","v":"A TIEMPO"},{"$f":"IF(I1404=\"\",\"\",NETWORKDAYS([4]Hoja1!C1404+1,[4]Hoja1!P1404,DiasNOLaborables))","v":8},"",null,null,20]
[1394,20209050042702,43972,"MODULO CONTACTENOS","SOLICITUD DE INFORMACIÓN Y DOCUMENTOS","SOLICITUD DE INFORMACIÓN HIDROMETEOROLÓGICA","NO","GRUPO DE ATENCIÓN AL CIUDADANO",43980,null,null,{"$f":"IFERROR(WORKDAY(C1405,R1405,DiasNOLaborables),\"\")","v":44005},{"$f":"+IF(C1405=\"\",\"\",IF(I1405=\"\",\"\",(IF(I1405<=L1405,\"A TIEMPO\",\"FUERA DE TIEMPO\"))))","v":"A TIEMPO"},{"$f":"IF(I1405=\"\",\"\",NETWORKDAYS([4]Hoja1!C1405+1,[4]Hoja1!P1405,DiasNOLaborables))","v":8},"",null,null,20]
[1395,20209050042712,43972,"MODULO CONTACTENOS","SOLICITUD DE INFORMACIÓN Y DOCUMENTOS","SOLICITUD DE INFORMACIÓN HIDROMETEOROLÓGICA","NO","GRUPO DE ATENCIÓN AL CIUDADANO",43980,null,null,{"$f":"IFERROR(WORKDAY(C1406,R1406,DiasNOLaborables),\"\")","v":44005},{"$f":"+IF(C1406=\"\",\"\",IF(I1406=\"\",\"\",(IF(I1406<=L1406,\"A TIEMPO\",\"FUERA DE TIEMPO\"))))","v":"A TIEMPO"},{"$f":"IF(I1406=\"\",\"\",NETWORKDAYS([4]Hoja1!C1406+1,[4]Hoja1!P1406,DiasNOLaborables))","v":8},"",null,null,20]
[1396,20200522232341,43973,"WEB (MÓDULO DE SOLICITUD DE INFORMACIÓN HIDROMETEOROLÓGICA)","SOLICITUD DE INFORMACIÓN Y DOCUMENTOS","SOLICITUD DE INFORMACIÓN HIDROMETEOROLÓGICA","NO","GRUPO DE ATENCIÓN AL CIUDADANO",43980,null,null,{"$f":"IFERROR(WORKDAY(C1407,R1407,DiasNOLaborables),\"\")","v":44006},{"$f":"+IF(C1407=\"\",\"\",IF(I1407=\"\",\"\",(IF(I1407<=L1407,\"A TIEMPO\",\"FUERA DE TIEMPO\"))))","v":"A TIEMPO"},{"$f":"IF(I1407=\"\",\"\",NETWORKDAYS([4]Hoja1!C1407+1,[4]Hoja1!P1407,DiasNOLaborables))","v":8},"",null,null,20]
[1397,20200522163254,43973,"WEB (MÓDULO DE SOLICITUD DE INFORMACIÓN HIDROMETEOROLÓGICA)","SOLICITUD DE INFORMACIÓN Y DOCUMENTOS","SOLICITUD DE INFORMACIÓN HIDROMETEOROLÓGICA","NO","GRUPO DE ATENCIÓN AL CIUDADANO",43980,null,null,{"$f":"IFERROR(WORKDAY(C1408,R1408,DiasNOLaborables),\"\")","v":44006},{"$f":"+IF(C1408=\"\",\"\",IF(I1408=\"\",\"\",(IF(I1408<=L1408,\"A TIEMPO\",\"FUERA DE TIEMPO\"))))","v":"A TIEMPO"},{"$f":"IF(I1408=\"\",\"\",NETWORKDAYS([4]Hoja1!C1408+1,[4]Hoja1!P1408,DiasNOLaborables))","v":8},"",null,null,20]
[1398,20200522144242,43973,"WEB (MÓDULO DE SOLICITUD DE INFORMACIÓN HIDROMETEOROLÓGICA)","SOLICITUD DE INFORMACIÓN Y DOCUMENTOS","SOLICITUD DE INFORMACIÓN HIDROMETEOROLÓGICA","NO","GRUPO DE ATENCIÓN AL CIUDADANO",43980,null,null,{"$f":"IFERROR(WORKDAY(C1409,R1409,DiasNOLaborables),\"\")","v":44006},{"$f":"+IF(C1409=\"\",\"\",IF(I1409=\"\",\"\",(IF(I1409<=L1409,\"A TIEMPO\",\"FUERA DE TIEMPO\"))))","v":"A TIEMPO"},{"$f":"IF(I1409=\"\",\"\",NETWORKDAYS([4]Hoja1!C1409+1,[4]Hoja1!P1409,DiasNOLaborables))","v":8},"",null,null,20]
[1399,20200522143529,43973,"WEB (MÓDULO DE SOLICITUD DE INFORMACIÓN HIDROMETEOROLÓGICA)","SOLICITUD DE INFORMACIÓN Y DOCUMENTOS","SOLICITUD DE INFORMACIÓN HIDROMETEOROLÓGICA","NO","GRUPO DE ATENCIÓN AL CIUDADANO",43980,null,null,{"$f":"IFERROR(WORKDAY(C1410,R1410,DiasNOLaborables),\"\")","v":44006},{"$f":"+IF(C1410=\"\",\"\",IF(I1410=\"\",\"\",(IF(I1410<=L1410,\"A TIEMPO\",\"FUERA DE TIEMPO\"))))","v":"A TIEMPO"},{"$f":"IF(I1410=\"\",\"\",NETWORKDAYS([4]Hoja1!C1410+1,[4]Hoja1!P1410,DiasNOLaborables))","v":8},"",null,null,20]
[1400,20200522122654,43973,"WEB (MÓDULO DE SOLICITUD DE INFORMACIÓN HIDROMETEOROLÓGICA)","SOLICITUD DE INFORMACIÓN Y DOCUMENTOS","SOLICITUD DE INFORMACIÓN HIDROMETEOROLÓGICA","NO","GRUPO DE ATENCIÓN AL CIUDADANO",43980,null,null,{"$f":"IFERROR(WORKDAY(C1411,R1411,DiasNOLaborables),\"\")","v":44006},{"$f":"+IF(C1411=\"\",\"\",IF(I1411=\"\",\"\",(IF(I1411<=L1411,\"A TIEMPO\",\"FUERA DE TIEMPO\"))))","v":"A TIEMPO"},{"$f":"IF(I1411=\"\",\"\",NETWORKDAYS([4]Hoja1!C1411+1,[4]Hoja1!P1411,DiasNOLaborables))","v":8},"",null,null,20]
[1401,20200522122529,43973,"WEB (MÓDULO DE SOLICITUD DE INFORMACIÓN HIDROMETEOROLÓGICA)","SOLICITUD DE INFORMACIÓN Y DOCUMENTOS","SOLICITUD DE INFORMACIÓN HIDROMETEOROLÓGICA","NO","GRUPO DE ATENCIÓN AL CIUDADANO",43980,null,null,{"$f":"IFERROR(WORKDAY(C1412,R1412,DiasNOLaborables),\"\")","v":44006},{"$f":"+IF(C1412=\"\",\"\",IF(I1412=\"\",\"\",(IF(I1412<=L1412,\"A TIEMPO\",\"FUERA DE TIEMPO\"))))","v":"A TIEMPO"},{"$f":"IF(I1412=\"\",\"\",NETWORKDAYS([4]Hoja1!C1412+1,[4]Hoja1!P1412,DiasNOLaborables))","v":8},"",null,null,20]
[1402,20200522122353,43973,"WEB (MÓDULO DE SOLICITUD DE INFORMACIÓN HIDROMETEOROLÓGICA)","SOLICITUD DE INFORMACIÓN Y DOCUMENTOS","SOLICITUD DE INFORMACIÓN HIDROMETEOROLÓGICA","NO","GRUPO DE ATENCIÓN AL CIUDADANO",43980,null,null,{"$f":"IFERROR(WORKDAY(C1413,R1413,DiasNOLaborables),\"\")","v":44006},{"$f":"+IF(C1413=\"\",\"\",IF(I1413=\"\",\"\",(IF(I1413<=L1413,\"A TIEMPO\",\"FUERA DE TIEMPO\"))))","v":"A TIEMPO"},{"$f":"IF(I1413=\"\",\"\",NETWORKDAYS([4]Hoja1!C1413+1,[4]Hoja1!P1413,DiasNOLaborables))","v":8},"",null,null,20]
[1403,20200522122030,43973,"WEB (MÓDULO DE SOLICITUD DE INFORMACIÓN HIDROMETEOROLÓGICA)","SOLICITUD DE INFORMACIÓN Y DOCUMENTOS","SOLICITUD DE INFORMACIÓN HIDROMETEOROLÓGICA","NO","GRUPO DE ATENCIÓN AL CIUDADANO",43980,null,null,{"$f":"IFERROR(WORKDAY(C1414,R1414,DiasNOLaborables),\"\")","v":44006},{"$f":"+IF(C1414=\"\",\"\",IF(I1414=\"\",\"\",(IF(I1414<=L1414,\"A TIEMPO\",\"FUERA DE TIEMPO\"))))","v":"A TIEMPO"},{"$f":"IF(I1414=\"\",\"\",NETWORKDAYS([4]Hoja1!C1414+1,[4]Hoja1!P1414,DiasNOLaborables))","v":8},"",null,null,20]
[1404,20200522121824,43973,"WEB (MÓDULO DE SOLICITUD DE INFORMACIÓN HIDROMETEOROLÓGICA)","SOLICITUD DE INFORMACIÓN Y DOCUMENTOS","SOLICITUD DE INFORMACIÓN HIDROMETEOROLÓGICA","NO","GRUPO DE ATENCIÓN AL CIUDADANO",43980,null,null,{"$f":"IFERROR(WORKDAY(C1415,R1415,DiasNOLaborables),\"\")","v":44006},{"$f":"+IF(C1415=\"\",\"\",IF(I1415=\"\",\"\",(IF(I1415<=L1415,\"A TIEMPO\",\"FUERA DE TIEMPO\"))))","v":"A TIEMPO"},{"$f":"IF(I1415=\"\",\"\",NETWORKDAYS([4]Hoja1!C1415+1,[4]Hoja1!P1415,DiasNOLaborables))","v":8},"",null,null,20]
[1405,20200522120232,43973,"WEB (MÓDULO DE SOLICITUD DE INFORMACIÓN HIDROMETEOROLÓGICA)","SOLICITUD DE INFORMACIÓN Y DOCUMENTOS","SOLICITUD DE INFORMACIÓN HIDROMETEOROLÓGICA","NO","GRUPO DE ATENCIÓN AL CIUDADANO",43980,null,null,{"$f":"IFERROR(WORKDAY(C1416,R1416,DiasNOLaborables),\"\")","v":44006},{"$f":"+IF(C1416=\"\",\"\",IF(I1416=\"\",\"\",(IF(I1416<=L1416,\"A TIEMPO\",\"FUERA DE TIEMPO\"))))","v":"A TIEMPO"},{"$f":"IF(I1416=\"\",\"\",NETWORKDAYS([4]Hoja1!C1416+1,[4]Hoja1!P1416,DiasNOLaborables))","v":8},"",null,null,20]
[1406,20200522114940,43973,"WEB (MÓDULO DE SOLICITUD DE INFORMACIÓN HIDROMETEOROLÓGICA)","SOLICITUD DE INFORMACIÓN Y DOCUMENTOS","SOLICITUD DE INFORMACIÓN HIDROMETEOROLÓGICA","NO","GRUPO DE ATENCIÓN AL CIUDADANO",43980,null,null,{"$f":"IFERROR(WORKDAY(C1417,R1417,DiasNOLaborables),\"\")","v":44006},{"$f":"+IF(C1417=\"\",\"\",IF(I1417=\"\",\"\",(IF(I1417<=L1417,\"A TIEMPO\",\"FUERA DE TIEMPO\"))))","v":"A TIEMPO"},{"$f":"IF(I1417=\"\",\"\",NETWORKDAYS([4]Hoja1!C1417+1,[4]Hoja1!P1417,DiasNOLaborables))","v":8},"",null,null,20]
[1407,20200522113654,43973,"WEB (MÓDULO DE SOLICITUD DE INFORMACIÓN HIDROMETEOROLÓGICA)","SOLICITUD DE INFORMACIÓN Y DOCUMENTOS","SOLICITUD DE INFORMACIÓN HIDROMETEOROLÓGICA","NO","GRUPO DE ATENCIÓN AL CIUDADANO",43980,null,null,{"$f":"IFERROR(WORKDAY(C1418,R1418,DiasNOLaborables),\"\")","v":44006},{"$f":"+IF(C1418=\"\",\"\",IF(I1418=\"\",\"\",(IF(I1418<=L1418,\"A TIEMPO\",\"FUERA DE TIEMPO\"))))","v":"A TIEMPO"},{"$f":"IF(I1418=\"\",\"\",NETWORKDAYS([4]Hoja1!C1418+1,[4]Hoja1!P1418,DiasNOLaborables))","v":8},"",null,null,20]
[1408,20200522095804,43973,"WEB (MÓDULO DE SOLICITUD DE INFORMACIÓN HIDROMETEOROLÓGICA)","SOLICITUD DE INFORMACIÓN Y DOCUMENTOS","SOLICITUD DE INFORMACIÓN HIDROMETEOROLÓGICA","NO","GRUPO DE ATENCIÓN AL CIUDADANO",43980,null,null,{"$f":"IFERROR(WORKDAY(C1419,R1419,DiasNOLaborables),\"\")","v":44006},{"$f":"+IF(C1419=\"\",\"\",IF(I1419=\"\",\"\",(IF(I1419<=L1419,\"A TIEMPO\",\"FUERA DE TIEMPO\"))))","v":"A TIEMPO"},{"$f":"IF(I1419=\"\",\"\",NETWORKDAYS([4]Hoja1!C1419+1,[4]Hoja1!P1419,DiasNOLaborables))","v":8},"",null,null,20]
[1409,20200522092741,43973,"WEB (MÓDULO DE SOLICITUD DE INFORMACIÓN HIDROMETEOROLÓGICA)","SOLICITUD DE INFORMACIÓN Y DOCUMENTOS","SOLICITUD DE INFORMACIÓN HIDROMETEOROLÓGICA","NO","GRUPO DE ATENCIÓN AL CIUDADANO",43980,null,null,{"$f":"IFERROR(WORKDAY(C1420,R1420,DiasNOLaborables),\"\")","v":44006},{"$f":"+IF(C1420=\"\",\"\",IF(I1420=\"\",\"\",(IF(I1420<=L1420,\"A TIEMPO\",\"FUERA DE TIEMPO\"))))","v":"A TIEMPO"},{"$f":"IF(I1420=\"\",\"\",NETWORKDAYS([4]Hoja1!C1420+1,[4]Hoja1!P1420,DiasNOLaborables))","v":8},"",null,null,20]
[1410,20200522085848,43973,"WEB (MÓDULO DE SOLICITUD DE INFORMACIÓN HIDROMETEOROLÓGICA)","SOLICITUD DE INFORMACIÓN Y DOCUMENTOS","SOLICITUD DE INFORMACIÓN HIDROMETEOROLÓGICA","NO","GRUPO DE ATENCIÓN AL CIUDADANO",43980,null,null,{"$f":"IFERROR(WORKDAY(C1421,R1421,DiasNOLaborables),\"\")","v":44006},{"$f":"+IF(C1421=\"\",\"\",IF(I1421=\"\",\"\",(IF(I1421<=L1421,\"A TIEMPO\",\"FUERA DE TIEMPO\"))))","v":"A TIEMPO"},{"$f":"IF(I1421=\"\",\"\",NETWORKDAYS([4]Hoja1!C1421+1,[4]Hoja1!P1421,DiasNOLaborables))","v":8},"",null,null,20]
[1411,20209050043112,43974,"MODULO CONTACTENOS","SOLICITUD DE INFORMACIÓN Y DOCUMENTOS","SOLICITUD DE INFORMACIÓN HIDROMETEOROLÓGICA","NO","GRUPO DE ATENCIÓN AL CIUDADANO",43984,null,null,{"$f":"IFERROR(WORKDAY(C1422,R1422,DiasNOLaborables),\"\")","v":44006},{"$f":"+IF(C1422=\"\",\"\",IF(I1422=\"\",\"\",(IF(I1422<=L1422,\"A TIEMPO\",\"FUERA DE TIEMPO\"))))","v":"A TIEMPO"},{"$f":"IF(I1422=\"\",\"\",NETWORKDAYS([4]Hoja1!C1422+1,[4]Hoja1!P1422,DiasNOLaborables))","v":8},"",null,null,20]
[1412,20209050043122,43974,"MODULO CONTACTENOS","SOLICITUD DE INFORMACIÓN Y DOCUMENTOS","SOLICITUD DE INFORMACIÓN HIDROMETEOROLÓGICA","NO","GRUPO DE ATENCIÓN AL CIUDADANO",43984,null,null,{"$f":"IFERROR(WORKDAY(C1423,R1423,DiasNOLaborables),\"\")","v":44006},{"$f":"+IF(C1423=\"\",\"\",IF(I1423=\"\",\"\",(IF(I1423<=L1423,\"A TIEMPO\",\"FUERA DE TIEMPO\"))))","v":"A TIEMPO"},{"$f":"IF(I1423=\"\",\"\",NETWORKDAYS([4]Hoja1!C1423+1,[4]Hoja1!P1423,DiasNOLaborables))","v":8},"",null,null,20]
[1413,20209050043132,43974,"MODULO CONTACTENOS","SOLICITUD DE INFORMACIÓN Y DOCUMENTOS","SOLICITUD DE INFORMACIÓN HIDROMETEOROLÓGICA","NO","GRUPO DE ATENCIÓN AL CIUDADANO",43984,null,null,{"$f":"IFERROR(WORKDAY(C1424,R1424,DiasNOLaborables),\"\")","v":44006},{"$f":"+IF(C1424=\"\",\"\",IF(I1424=\"\",\"\",(IF(I1424<=L1424,\"A TIEMPO\",\"FUERA DE TIEMPO\"))))","v":"A TIEMPO"},{"$f":"IF(I1424=\"\",\"\",NETWORKDAYS([4]Hoja1!C1424+1,[4]Hoja1!P1424,DiasNOLaborables))","v":8},"",null,null,20]
[1414,20209050043142,43974,"MODULO CONTACTENOS","SOLICITUD DE INFORMACIÓN Y DOCUMENTOS","SOLICITUD DE INFORMACIÓN HIDROMETEOROLÓGICA","NO","GRUPO DE ATENCIÓN AL CIUDADANO",43984,null,null,{"$f":"IFERROR(WORKDAY(C1425,R1425,DiasNOLaborables),\"\")","v":44006},{"$f":"+IF(C1425=\"\",\"\",IF(I1425=\"\",\"\",(IF(I1425<=L1425,\"A TIEMPO\",\"FUERA DE TIEMPO\"))))","v":"A TIEMPO"},{"$f":"IF(I1425=\"\",\"\",NETWORKDAYS([4]Hoja1!C1425+1,[4]Hoja1!P1425,DiasNOLaborables))","v":8},"",null,null,20]
[1415,20209050043152,43974,"MODULO CONTACTENOS","SOLICITUD DE INFORMACIÓN Y DOCUMENTOS","SOLICITUD DE INFORMACIÓN HIDROMETEOROLÓGICA","NO","GRUPO DE ATENCIÓN AL CIUDADANO",43984,null,null,{"$f":"IFERROR(WORKDAY(C1426,R1426,DiasNOLaborables),\"\")","v":44006},{"$f":"+IF(C1426=\"\",\"\",IF(I1426=\"\",\"\",(IF(I1426<=L1426,\"A TIEMPO\",\"FUERA DE TIEMPO\"))))","v":"A TIEMPO"},{"$f":"IF(I1426=\"\",\"\",NETWORKDAYS([4]Hoja1!C1426+1,[4]Hoja1!P1426,DiasNOLaborables))","v":8},"",null,null,20]
[1416,20200523174134,43974,"WEB (MÓDULO DE SOLICITUD DE INFORMACIÓN HIDROMETEOROLÓGICA)","SOLICITUD DE INFORMACIÓN Y DOCUMENTOS","SOLICITUD DE INFORMACIÓN HIDROMETEOROLÓGICA","NO","GRUPO DE ATENCIÓN AL CIUDADANO",43984,null,null,{"$f":"IFERROR(WORKDAY(C1427,R1427,DiasNOLaborables),\"\")","v":44006},{"$f":"+IF(C1427=\"\",\"\",IF(I1427=\"\",\"\",(IF(I1427<=L1427,\"A TIEMPO\",\"FUERA DE TIEMPO\"))))","v":"A TIEMPO"},{"$f":"IF(I1427=\"\",\"\",NETWORKDAYS([4]Hoja1!C1427+1,[4]Hoja1!P1427,DiasNOLaborables))","v":8},"",null,null,20]
[1417,20200523173845,43974,"WEB (MÓDULO DE SOLICITUD DE INFORMACIÓN HIDROMETEOROLÓGICA)","SOLICITUD DE INFORMACIÓN Y DOCUMENTOS","SOLICITUD DE INFORMACIÓN HIDROMETEOROLÓGICA","NO","GRUPO DE ATENCIÓN AL CIUDADANO",43984,null,null,{"$f":"IFERROR(WORKDAY(C1428,R1428,DiasNOLaborables),\"\")","v":44006},{"$f":"+IF(C1428=\"\",\"\",IF(I1428=\"\",\"\",(IF(I1428<=L1428,\"A TIEMPO\",\"FUERA DE TIEMPO\"))))","v":"A TIEMPO"},{"$f":"IF(I1428=\"\",\"\",NETWORKDAYS([4]Hoja1!C1428+1,[4]Hoja1!P1428,DiasNOLaborables))","v":8},"",null,null,20]
[1418,20200523161016,43974,"WEB (MÓDULO DE SOLICITUD DE INFORMACIÓN HIDROMETEOROLÓGICA)","SOLICITUD DE INFORMACIÓN Y DOCUMENTOS","SOLICITUD DE INFORMACIÓN HIDROMETEOROLÓGICA","NO","GRUPO DE ATENCIÓN AL CIUDADANO",43984,null,null,{"$f":"IFERROR(WORKDAY(C1429,R1429,DiasNOLaborables),\"\")","v":44006},{"$f":"+IF(C1429=\"\",\"\",IF(I1429=\"\",\"\",(IF(I1429<=L1429,\"A TIEMPO\",\"FUERA DE TIEMPO\"))))","v":"A TIEMPO"},{"$f":"IF(I1429=\"\",\"\",NETWORKDAYS([4]Hoja1!C1429+1,[4]Hoja1!P1429,DiasNOLaborables))","v":8},"",null,null,20]
[1419,20200524124423,43975,"WEB (MÓDULO DE SOLICITUD DE INFORMACIÓN HIDROMETEOROLÓGICA)","SOLICITUD DE INFORMACIÓN Y DOCUMENTOS","SOLICITUD DE INFORMACIÓN HIDROMETEOROLÓGICA","NO","GRUPO DE ATENCIÓN AL CIUDADANO",43984,null,null,{"$f":"IFERROR(WORKDAY(C1430,R1430,DiasNOLaborables),\"\")","v":44006},{"$f":"+IF(C1430=\"\",\"\",IF(I1430=\"\",\"\",(IF(I1430<=L1430,\"A TIEMPO\",\"FUERA DE TIEMPO\"))))","v":"A TIEMPO"},{"$f":"IF(I1430=\"\",\"\",NETWORKDAYS([4]Hoja1!C1430+1,[4]Hoja1!P1430,DiasNOLaborables))","v":8},"",null,null,20]
[1420,20200524112312,43975,"WEB (MÓDULO DE SOLICITUD DE INFORMACIÓN HIDROMETEOROLÓGICA)","SOLICITUD DE INFORMACIÓN Y DOCUMENTOS","SOLICITUD DE INFORMACIÓN HIDROMETEOROLÓGICA","NO","GRUPO DE ATENCIÓN AL CIUDADANO",43984,null,null,{"$f":"IFERROR(WORKDAY(C1431,R1431,DiasNOLaborables),\"\")","v":44006},{"$f":"+IF(C1431=\"\",\"\",IF(I1431=\"\",\"\",(IF(I1431<=L1431,\"A TIEMPO\",\"FUERA DE TIEMPO\"))))","v":"A TIEMPO"},{"$f":"IF(I1431=\"\",\"\",NETWORKDAYS([4]Hoja1!C1431+1,[4]Hoja1!P1431,DiasNOLaborables))","v":8},"",null,null,20]
[1421,20200524082936,43975,"WEB (MÓDULO DE SOLICITUD DE INFORMACIÓN HIDROMETEOROLÓGICA)","SOLICITUD DE INFORMACIÓN Y DOCUMENTOS","SOLICITUD DE INFORMACIÓN HIDROMETEOROLÓGICA","NO","GRUPO DE ATENCIÓN AL CIUDADANO",43984,null,null,{"$f":"IFERROR(WORKDAY(C1432,R1432,DiasNOLaborables),\"\")","v":44006},{"$f":"+IF(C1432=\"\",\"\",IF(I1432=\"\",\"\",(IF(I1432<=L1432,\"A TIEMPO\",\"FUERA DE TIEMPO\"))))","v":"A TIEMPO"},{"$f":"IF(I1432=\"\",\"\",NETWORKDAYS([4]Hoja1!C1432+1,[4]Hoja1!P1432,DiasNOLaborables))","v":8},"",null,null,20]
[1422,20200524075010,43975,"WEB (MÓDULO DE SOLICITUD DE INFORMACIÓN HIDROMETEOROLÓGICA)","SOLICITUD DE INFORMACIÓN Y DOCUMENTOS","SOLICITUD DE INFORMACIÓN HIDROMETEOROLÓGICA","NO","GRUPO DE ATENCIÓN AL CIUDADANO",43984,null,null,{"$f":"IFERROR(WORKDAY(C1433,R1433,DiasNOLaborables),\"\")","v":44006},{"$f":"+IF(C1433=\"\",\"\",IF(I1433=\"\",\"\",(IF(I1433<=L1433,\"A TIEMPO\",\"FUERA DE TIEMPO\"))))","v":"A TIEMPO"},{"$f":"IF(I1433=\"\",\"\",NETWORKDAYS([4]Hoja1!C1433+1,[4]Hoja1!P1433,DiasNOLaborables))","v":8},"",null,null,20]
[1423,20200524071110,43975,"WEB (MÓDULO DE SOLICITUD DE INFORMACIÓN HIDROMETEOROLÓGICA)","SOLICITUD DE INFORMACIÓN Y DOCUMENTOS","SOLICITUD DE INFORMACIÓN HIDROMETEOROLÓGICA","NO","GRUPO DE ATENCIÓN AL CIUDADANO",43984,null,null,{"$f":"IFERROR(WORKDAY(C1434,R1434,DiasNOLaborables),\"\")","v":44006},{"$f":"+IF(C1434=\"\",\"\",IF(I1434=\"\",\"\",(IF(I1434<=L1434,\"A TIEMPO\",\"FUERA DE TIEMPO\"))))","v":"A TIEMPO"},{"$f":"IF(I1434=\"\",\"\",NETWORKDAYS([4]Hoja1!C1434+1,[4]Hoja1!P1434,DiasNOLaborables))","v":8},"",null,null,20]
[1424,20200524063912,43975,"WEB (MÓDULO DE SOLICITUD DE INFORMACIÓN HIDROMETEOROLÓGICA)","SOLICITUD DE INFORMACIÓN Y DOCUMENTOS","SOLICITUD DE INFORMACIÓN HIDROMETEOROLÓGICA","NO","GRUPO DE ATENCIÓN AL CIUDADANO",43984,null,null,{"$f":"IFERROR(WORKDAY(C1435,R1435,DiasNOLaborables),\"\")","v":44006},{"$f":"+IF(C1435=\"\",\"\",IF(I1435=\"\",\"\",(IF(I1435<=L1435,\"A TIEMPO\",\"FUERA DE TIEMPO\"))))","v":"A TIEMPO"},{"$f":"IF(I1435=\"\",\"\",NETWORKDAYS([4]Hoja1!C1435+1,[4]Hoja1!P1435,DiasNOLaborables))","v":9},"",null,null,20]
[1425,20200525153919,43976,"WEB (MÓDULO DE SOLICITUD DE INFORMACIÓN HIDROMETEOROLÓGICA)","SOLICITUD DE INFORMACIÓN Y DOCUMENTOS","SOLICITUD DE INFORMACIÓN HIDROMETEOROLÓGICA","NO","GRUPO DE ATENCIÓN AL CIUDADANO",43985,null,null,{"$f":"IFERROR(WORKDAY(C1436,R1436,DiasNOLaborables),\"\")","v":44006},{"$f":"+IF(C1436=\"\",\"\",IF(I1436=\"\",\"\",(IF(I1436<=L1436,\"A TIEMPO\",\"FUERA DE TIEMPO\"))))","v":"A TIEMPO"},{"$f":"IF(I1436=\"\",\"\",NETWORKDAYS([4]Hoja1!C1436+1,[4]Hoja1!P1436,DiasNOLaborables))","v":9},"",null,null,20]
[1426,20200525071151,43976,"WEB (MÓDULO DE SOLICITUD DE INFORMACIÓN HIDROMETEOROLÓGICA)","SOLICITUD DE INFORMACIÓN Y DOCUMENTOS","SOLICITUD DE INFORMACIÓN HIDROMETEOROLÓGICA","NO","GRUPO DE ATENCIÓN AL CIUDADANO",43985,null,null,{"$f":"IFERROR(WORKDAY(C1437,R1437,DiasNOLaborables),\"\")","v":44006},{"$f":"+IF(C1437=\"\",\"\",IF(I1437=\"\",\"\",(IF(I1437<=L1437,\"A TIEMPO\",\"FUERA DE TIEMPO\"))))","v":"A TIEMPO"},{"$f":"IF(I1437=\"\",\"\",NETWORKDAYS([4]Hoja1!C1437+1,[4]Hoja1!P1437,DiasNOLaborables))","v":9},"",null,null,20]
[1427,20209050043322,43976,"MODULO CONTACTENOS","SOLICITUD DE INFORMACIÓN Y DOCUMENTOS","SOLICITUD DE INFORMACIÓN HIDROMETEOROLÓGICA","NO","GRUPO DE ATENCIÓN AL CIUDADANO",43985,null,null,{"$f":"IFERROR(WORKDAY(C1438,R1438,DiasNOLaborables),\"\")","v":44006},{"$f":"+IF(C1438=\"\",\"\",IF(I1438=\"\",\"\",(IF(I1438<=L1438,\"A TIEMPO\",\"FUERA DE TIEMPO\"))))","v":"A TIEMPO"},{"$f":"IF(I1438=\"\",\"\",NETWORKDAYS([4]Hoja1!C1438+1,[4]Hoja1!P1438,DiasNOLaborables))","v":9},"",null,null,20]
[1428,20209050043332,43976,"MODULO CONTACTENOS","SOLICITUD DE INFORMACIÓN Y DOCUMENTOS","SOLICITUD DE INFORMACIÓN HIDROMETEOROLÓGICA","NO","GRUPO DE ATENCIÓN AL CIUDADANO",43985,null,null,{"$f":"IFERROR(WORKDAY(C1439,R1439,DiasNOLaborables),\"\")","v":44006},{"$f":"+IF(C1439=\"\",\"\",IF(I1439=\"\",\"\",(IF(I1439<=L1439,\"A TIEMPO\",\"FUERA DE TIEMPO\"))))","v":"A TIEMPO"},{"$f":"IF(I1439=\"\",\"\",NETWORKDAYS([4]Hoja1!C1439+1,[4]Hoja1!P1439,DiasNOLaborables))","v":9},"",null,null,20]
[1429,20209050043362,43976,"MODULO CONTACTENOS","SOLICITUD DE INFORMACIÓN Y DOCUMENTOS","SOLICITUD DE INFORMACIÓN HIDROMETEOROLÓGICA","NO","GRUPO DE ATENCIÓN AL CIUDADANO",43985,null,null,{"$f":"IFERROR(WORKDAY(C1440,R1440,DiasNOLaborables),\"\")","v":44006},{"$f":"+IF(C1440=\"\",\"\",IF(I1440=\"\",\"\",(IF(I1440<=L1440,\"A TIEMPO\",\"FUERA DE TIEMPO\"))))","v":"A TIEMPO"},{"$f":"IF(I1440=\"\",\"\",NETWORKDAYS([4]Hoja1!C1440+1,[4]Hoja1!P1440,DiasNOLaborables))","v":9},"",null,null,20]
[1430,20200526200959,43977,"WEB (MÓDULO DE SOLICITUD DE INFORMACIÓN HIDROMETEOROLÓGICA)","SOLICITUD DE INFORMACIÓN Y DOCUMENTOS","SOLICITUD DE INFORMACIÓN HIDROMETEOROLÓGICA","NO","GRUPO DE ATENCIÓN AL CIUDADANO",43985,null,null,{"$f":"IFERROR(WORKDAY(C1441,R1441,DiasNOLaborables),\"\")","v":44007},{"$f":"+IF(C1441=\"\",\"\",IF(I1441=\"\",\"\",(IF(I1441<=L1441,\"A TIEMPO\",\"FUERA DE TIEMPO\"))))","v":"A TIEMPO"},{"$f":"IF(I1441=\"\",\"\",NETWORKDAYS([4]Hoja1!C1441+1,[4]Hoja1!P1441,DiasNOLaborables))","v":9},"",null,null,20]
[1431,20200526151633,43977,"WEB (MÓDULO DE SOLICITUD DE INFORMACIÓN HIDROMETEOROLÓGICA)","SOLICITUD DE INFORMACIÓN Y DOCUMENTOS","SOLICITUD DE INFORMACIÓN HIDROMETEOROLÓGICA","NO","GRUPO DE ATENCIÓN AL CIUDADANO",43985,null,null,{"$f":"IFERROR(WORKDAY(C1442,R1442,DiasNOLaborables),\"\")","v":44007},{"$f":"+IF(C1442=\"\",\"\",IF(I1442=\"\",\"\",(IF(I1442<=L1442,\"A TIEMPO\",\"FUERA DE TIEMPO\"))))","v":"A TIEMPO"},{"$f":"IF(I1442=\"\",\"\",NETWORKDAYS([4]Hoja1!C1442+1,[4]Hoja1!P1442,DiasNOLaborables))","v":9},"",null,null,20]
[1432,20200526135200,43977,"WEB (MÓDULO DE SOLICITUD DE INFORMACIÓN HIDROMETEOROLÓGICA)","SOLICITUD DE INFORMACIÓN Y DOCUMENTOS","SOLICITUD DE INFORMACIÓN HIDROMETEOROLÓGICA","NO","GRUPO DE ATENCIÓN AL CIUDADANO",43985,null,null,{"$f":"IFERROR(WORKDAY(C1443,R1443,DiasNOLaborables),\"\")","v":44007},{"$f":"+IF(C1443=\"\",\"\",IF(I1443=\"\",\"\",(IF(I1443<=L1443,\"A TIEMPO\",\"FUERA DE TIEMPO\"))))","v":"A TIEMPO"},{"$f":"IF(I1443=\"\",\"\",NETWORKDAYS([4]Hoja1!C1443+1,[4]Hoja1!P1443,DiasNOLaborables))","v":9},"",null,null,20]
[1433,20200526130832,43977,"WEB (MÓDULO DE SOLICITUD DE INFORMACIÓN HIDROMETEOROLÓGICA)","SOLICITUD DE INFORMACIÓN Y DOCUMENTOS","SOLICITUD DE INFORMACIÓN HIDROMETEOROLÓGICA","NO","GRUPO DE ATENCIÓN AL CIUDADANO",43985,null,null,{"$f":"IFERROR(WORKDAY(C1444,R1444,DiasNOLaborables),\"\")","v":44007},{"$f":"+IF(C1444=\"\",\"\",IF(I1444=\"\",\"\",(IF(I1444<=L1444,\"A TIEMPO\",\"FUERA DE TIEMPO\"))))","v":"A TIEMPO"},{"$f":"IF(I1444=\"\",\"\",NETWORKDAYS([4]Hoja1!C1444+1,[4]Hoja1!P1444,DiasNOLaborables))","v":9},"",null,null,20]
[1434,20200526105125,43977,"WEB (MÓDULO DE SOLICITUD DE INFORMACIÓN HIDROMETEOROLÓGICA)","SOLICITUD DE INFORMACIÓN Y DOCUMENTOS","SOLICITUD DE INFORMACIÓN HIDROMETEOROLÓGICA","NO","GRUPO DE ATENCIÓN AL CIUDADANO",43985,null,null,{"$f":"IFERROR(WORKDAY(C1445,R1445,DiasNOLaborables),\"\")","v":44007},{"$f":"+IF(C1445=\"\",\"\",IF(I1445=\"\",\"\",(IF(I1445<=L1445,\"A TIEMPO\",\"FUERA DE TIEMPO\"))))","v":"A TIEMPO"},{"$f":"IF(I1445=\"\",\"\",NETWORKDAYS([4]Hoja1!C1445+1,[4]Hoja1!P1445,DiasNOLaborables))","v":9},"",null,null,20]
[1435,20200526090544,43977,"WEB (MÓDULO DE SOLICITUD DE INFORMACIÓN HIDROMETEOROLÓGICA)","SOLICITUD DE INFORMACIÓN Y DOCUMENTOS","SOLICITUD DE INFORMACIÓN HIDROMETEOROLÓGICA","NO","GRUPO DE ATENCIÓN AL CIUDADANO",43985,null,null,{"$f":"IFERROR(WORKDAY(C1446,R1446,DiasNOLaborables),\"\")","v":44007},{"$f":"+IF(C1446=\"\",\"\",IF(I1446=\"\",\"\",(IF(I1446<=L1446,\"A TIEMPO\",\"FUERA DE TIEMPO\"))))","v":"A TIEMPO"},{"$f":"IF(I1446=\"\",\"\",NETWORKDAYS([4]Hoja1!C1446+1,[4]Hoja1!P1446,DiasNOLaborables))","v":9},"",null,null,20]
[1436,20209050043612,43977,"MODULO CONTACTENOS","SOLICITUD DE INFORMACIÓN Y DOCUMENTOS","SOLICITUD DE INFORMACIÓN HIDROMETEOROLÓGICA","NO","GRUPO DE ATENCIÓN AL CIUDADANO",43986,null,null,{"$f":"IFERROR(WORKDAY(C1447,R1447,DiasNOLaborables),\"\")","v":44007},{"$f":"+IF(C1447=\"\",\"\",IF(I1447=\"\",\"\",(IF(I1447<=L1447,\"A TIEMPO\",\"FUERA DE TIEMPO\"))))","v":"A TIEMPO"},{"$f":"IF(I1447=\"\",\"\",NETWORKDAYS([4]Hoja1!C1447+1,[4]Hoja1!P1447,DiasNOLaborables))","v":9},"",null,null,20]
[1437,20209050043622,43977,"MODULO CONTACTENOS","SOLICITUD DE INFORMACIÓN Y DOCUMENTOS","SOLICITUD DE INFORMACIÓN HIDROMETEOROLÓGICA","NO","GRUPO DE ATENCIÓN AL CIUDADANO",43986,null,null,{"$f":"IFERROR(WORKDAY(C1448,R1448,DiasNOLaborables),\"\")","v":44007},{"$f":"+IF(C1448=\"\",\"\",IF(I1448=\"\",\"\",(IF(I1448<=L1448,\"A TIEMPO\",\"FUERA DE TIEMPO\"))))","v":"A TIEMPO"},{"$f":"IF(I1448=\"\",\"\",NETWORKDAYS([4]Hoja1!C1448+1,[4]Hoja1!P1448,DiasNOLaborables))","v":10},"",null,null,20]
[1438,20209050043782,43977,"MODULO CONTACTENOS","SOLICITUD DE INFORMACIÓN Y DOCUMENTOS","SOLICITUD DE INFORMACIÓN HIDROMETEOROLÓGICA","NO","GRUPO DE ATENCIÓN AL CIUDADANO",43986,null,null,{"$f":"IFERROR(WORKDAY(C1449,R1449,DiasNOLaborables),\"\")","v":44007},{"$f":"+IF(C1449=\"\",\"\",IF(I1449=\"\",\"\",(IF(I1449<=L1449,\"A TIEMPO\",\"FUERA DE TIEMPO\"))))","v":"A TIEMPO"},{"$f":"IF(I1449=\"\",\"\",NETWORKDAYS([4]Hoja1!C1449+1,[4]Hoja1!P1449,DiasNOLaborables))","v":10},"",null,null,20]
[1439,20209050043792,43977,"MODULO CONTACTENOS","SOLICITUD DE INFORMACIÓN Y DOCUMENTOS","SOLICITUD DE INFORMACIÓN HIDROMETEOROLÓGICA","NO","GRUPO DE ATENCIÓN AL CIUDADANO",43986,null,null,{"$f":"IFERROR(WORKDAY(C1450,R1450,DiasNOLaborables),\"\")","v":44007},{"$f":"+IF(C1450=\"\",\"\",IF(I1450=\"\",\"\",(IF(I1450<=L1450,\"A TIEMPO\",\"FUERA DE TIEMPO\"))))","v":"A TIEMPO"},{"$f":"IF(I1450=\"\",\"\",NETWORKDAYS([4]Hoja1!C1450+1,[4]Hoja1!P1450,DiasNOLaborables))","v":10},"",null,null,20]
[1440,20209050043812,43977,"MODULO CONTACTENOS","SOLICITUD DE INFORMACIÓN Y DOCUMENTOS","SOLICITUD DE INFORMACIÓN HIDROMETEOROLÓGICA","NO","GRUPO DE ATENCIÓN AL CIUDADANO",43986,null,null,{"$f":"IFERROR(WORKDAY(C1451,R1451,DiasNOLaborables),\"\")","v":44007},{"$f":"+IF(C1451=\"\",\"\",IF(I1451=\"\",\"\",(IF(I1451<=L1451,\"A TIEMPO\",\"FUERA DE TIEMPO\"))))","v":"A TIEMPO"},{"$f":"IF(I1451=\"\",\"\",NETWORKDAYS([4]Hoja1!C1451+1,[4]Hoja1!P1451,DiasNOLaborables))","v":10},"",null,null,20]
[1441,20209050043832,43977,"MODULO CONTACTENOS","SOLICITUD DE INFORMACIÓN Y DOCUMENTOS","SOLICITUD DE INFORMACIÓN HIDROMETEOROLÓGICA","NO","GRUPO DE ATENCIÓN AL CIUDADANO",43986,null,null,{"$f":"IFERROR(WORKDAY(C1452,R1452,DiasNOLaborables),\"\")","v":44007},{"$f":"+IF(C1452=\"\",\"\",IF(I1452=\"\",\"\",(IF(I1452<=L1452,\"A TIEMPO\",\"FUERA DE TIEMPO\"))))","v":"A TIEMPO"},{"$f":"IF(I1452=\"\",\"\",NETWORKDAYS([4]Hoja1!C1452+1,[4]Hoja1!P1452,DiasNOLaborables))","v":10},"",null,null,20]
[1442,20209050043892,43978,"MODULO CONTACTENOS","SOLICITUD DE INFORMACIÓN Y DOCUMENTOS","SOLICITUD DE INFORMACIÓN HIDROMETEOROLÓGICA","NO","GRUPO DE ATENCIÓN AL CIUDADANO",43986,null,null,{"$f":"IFERROR(WORKDAY(C1453,R1453,DiasNOLaborables),\"\")","v":44008},{"$f":"+IF(C1453=\"\",\"\",IF(I1453=\"\",\"\",(IF(I1453<=L1453,\"A TIEMPO\",\"FUERA DE TIEMPO\"))))","v":"A TIEMPO"},{"$f":"IF(I1453=\"\",\"\",NETWORKDAYS([4]Hoja1!C1453+1,[4]Hoja1!P1453,DiasNOLaborables))","v":10},"",null,null,20]
[1443,20209050043942,43978,"MODULO CONTACTENOS","SOLICITUD DE INFORMACIÓN Y DOCUMENTOS","SOLICITUD DE INFORMACIÓN HIDROMETEOROLÓGICA","NO","GRUPO DE ATENCIÓN AL CIUDADANO",43986,null,null,{"$f":"IFERROR(WORKDAY(C1454,R1454,DiasNOLaborables),\"\")","v":44008},{"$f":"+IF(C1454=\"\",\"\",IF(I1454=\"\",\"\",(IF(I1454<=L1454,\"A TIEMPO\",\"FUERA DE TIEMPO\"))))","v":"A TIEMPO"},{"$f":"IF(I1454=\"\",\"\",NETWORKDAYS([4]Hoja1!C1454+1,[4]Hoja1!P1454,DiasNOLaborables))","v":10},"",null,null,20]
[1444,20200527215638,43978,"WEB (MÓDULO DE SOLICITUD DE INFORMACIÓN HIDROMETEOROLÓGICA)","SOLICITUD DE INFORMACIÓN Y DOCUMENTOS","SOLICITUD DE INFORMACIÓN HIDROMETEOROLÓGICA","NO","GRUPO DE ATENCIÓN AL CIUDADANO",43986,null,null,{"$f":"IFERROR(WORKDAY(C1455,R1455,DiasNOLaborables),\"\")","v":44008},{"$f":"+IF(C1455=\"\",\"\",IF(I1455=\"\",\"\",(IF(I1455<=L1455,\"A TIEMPO\",\"FUERA DE TIEMPO\"))))","v":"A TIEMPO"},{"$f":"IF(I1455=\"\",\"\",NETWORKDAYS([4]Hoja1!C1455+1,[4]Hoja1!P1455,DiasNOLaborables))","v":10},"",null,null,20]
[1445,20200527182006,43978,"WEB (MÓDULO DE SOLICITUD DE INFORMACIÓN HIDROMETEOROLÓGICA)","SOLICITUD DE INFORMACIÓN Y DOCUMENTOS","SOLICITUD DE INFORMACIÓN HIDROMETEOROLÓGICA","NO","GRUPO DE ATENCIÓN AL CIUDADANO",43986,null,null,{"$f":"IFERROR(WORKDAY(C1456,R1456,DiasNOLaborables),\"\")","v":44008},{"$f":"+IF(C1456=\"\",\"\",IF(I1456=\"\",\"\",(IF(I1456<=L1456,\"A TIEMPO\",\"FUERA DE TIEMPO\"))))","v":"A TIEMPO"},{"$f":"IF(I1456=\"\",\"\",NETWORKDAYS([4]Hoja1!C1456+1,[4]Hoja1!P1456,DiasNOLaborables))","v":10},"",null,null,20]
[1446,20200527160544,43978,"WEB (MÓDULO DE SOLICITUD DE INFORMACIÓN HIDROMETEOROLÓGICA)","SOLICITUD DE INFORMACIÓN Y DOCUMENTOS","SOLICITUD DE INFORMACIÓN HIDROMETEOROLÓGICA","NO","GRUPO DE ATENCIÓN AL CIUDADANO",43986,null,null,{"$f":"IFERROR(WORKDAY(C1457,R1457,DiasNOLaborables),\"\")","v":44008},{"$f":"+IF(C1457=\"\",\"\",IF(I1457=\"\",\"\",(IF(I1457<=L1457,\"A TIEMPO\",\"FUERA DE TIEMPO\"))))","v":"A TIEMPO"},{"$f":"IF(I1457=\"\",\"\",NETWORKDAYS([4]Hoja1!C1457+1,[4]Hoja1!P1457,DiasNOLaborables))","v":10},"",null,null,20]
[{"$f":"IF(B1456<>\"\",A1457+1,\"\")","v":1447},20200527154632,43978,"WEB (MÓDULO DE SOLICITUD DE INFORMACIÓN HIDROMETEOROLÓGICA)","SOLICITUD DE INFORMACIÓN Y DOCUMENTOS","SOLICITUD DE INFORMACIÓN HIDROMETEOROLÓGICA","NO","GRUPO DE ATENCIÓN AL CIUDADANO",43986,null,null,{"$f":"IFERROR(WORKDAY(C1458,R1458,DiasNOLaborables),\"\")","v":44008},{"$f":"+IF(C1458=\"\",\"\",IF(I1458=\"\",\"\",(IF(I1458<=L1458,\"A TIEMPO\",\"FUERA DE TIEMPO\"))))","v":"A TIEMPO"},{"$f":"IF(I1458=\"\",\"\",NETWORKDAYS([4]Hoja1!C1458+1,[4]Hoja1!P1458,DiasNOLaborables))","v":10},"",null,null,{"$f":"IFERROR(VLOOKUP(E1458,$Z$50:$AA$63,2),\"\")","v":20}]
[1448,20200527153132,43978,"WEB (MÓDULO DE SOLICITUD DE INFORMACIÓN HIDROMETEOROLÓGICA)","SOLICITUD DE INFORMACIÓN Y DOCUMENTOS","SOLICITUD DE INFORMACIÓN HIDROMETEOROLÓGICA","NO","GRUPO DE ATENCIÓN AL CIUDADANO",43986,null,null,{"$f":"IFERROR(WORKDAY(C1459,R1459,DiasNOLaborables),\"\")","v":44008},{"$f":"+IF(C1459=\"\",\"\",IF(I1459=\"\",\"\",(IF(I1459<=L1459,\"A TIEMPO\",\"FUERA DE TIEMPO\"))))","v":"A TIEMPO"},{"$f":"IF(I1459=\"\",\"\",NETWORKDAYS([4]Hoja1!C1459+1,[4]Hoja1!P1459,DiasNOLaborables))","v":10},"",null,null,20]
[1449,20200527152228,43978,"WEB (MÓDULO DE SOLICITUD DE INFORMACIÓN HIDROMETEOROLÓGICA)","SOLICITUD DE INFORMACIÓN Y DOCUMENTOS","SOLICITUD DE INFORMACIÓN HIDROMETEOROLÓGICA","NO","GRUPO DE ATENCIÓN AL CIUDADANO",43986,null,null,{"$f":"IFERROR(WORKDAY(C1460,R1460,DiasNOLaborables),\"\")","v":44008},{"$f":"+IF(C1460=\"\",\"\",IF(I1460=\"\",\"\",(IF(I1460<=L1460,\"A TIEMPO\",\"FUERA DE TIEMPO\"))))","v":"A TIEMPO"},{"$f":"IF(I1460=\"\",\"\",NETWORKDAYS([4]Hoja1!C1460+1,[4]Hoja1!P1460,DiasNOLaborables))","v":10},{"$f":"IF(NETWORKDAYS(L1460+1,I1460,DiasNOLaborables)<=0,\"\",NETWORKDAYS(L1460+1,I1460,DiasNOLaborables))","v":""},null,null,20]
[1450,20200527115034,43978,"WEB (MÓDULO DE SOLICITUD DE INFORMACIÓN HIDROMETEOROLÓGICA)","SOLICITUD DE INFORMACIÓN Y DOCUMENTOS","SOLICITUD DE INFORMACIÓN HIDROMETEOROLÓGICA","NO","GRUPO DE ATENCIÓN AL CIUDADANO",43986,null,null,{"$f":"IFERROR(WORKDAY(C1461,R1461,DiasNOLaborables),\"\")","v":44008},{"$f":"+IF(C1461=\"\",\"\",IF(I1461=\"\",\"\",(IF(I1461<=L1461,\"A TIEMPO\",\"FUERA DE TIEMPO\"))))","v":"A TIEMPO"},{"$f":"IF(I1461=\"\",\"\",NETWORKDAYS([4]Hoja1!C1461+1,[4]Hoja1!P1461,DiasNOLaborables))","v":10},"",null,null,20]
[1451,20200527103328,43978,"WEB (MÓDULO DE SOLICITUD DE INFORMACIÓN HIDROMETEOROLÓGICA)","SOLICITUD DE INFORMACIÓN Y DOCUMENTOS","SOLICITUD DE INFORMACIÓN HIDROMETEOROLÓGICA","NO","GRUPO DE ATENCIÓN AL CIUDADANO",43986,null,null,{"$f":"IFERROR(WORKDAY(C1462,R1462,DiasNOLaborables),\"\")","v":44008},{"$f":"+IF(C1462=\"\",\"\",IF(I1462=\"\",\"\",(IF(I1462<=L1462,\"A TIEMPO\",\"FUERA DE TIEMPO\"))))","v":"A TIEMPO"},{"$f":"IF(I1462=\"\",\"\",NETWORKDAYS([4]Hoja1!C1462+1,[4]Hoja1!P1462,DiasNOLaborables))","v":10},"",null,null,20]
[1452,20200527062432,43978,"WEB (MÓDULO DE SOLICITUD DE INFORMACIÓN HIDROMETEOROLÓGICA)","SOLICITUD DE INFORMACIÓN Y DOCUMENTOS","SOLICITUD DE INFORMACIÓN HIDROMETEOROLÓGICA","NO","GRUPO DE ATENCIÓN AL CIUDADANO",43986,null,null,{"$f":"IFERROR(WORKDAY(C1463,R1463,DiasNOLaborables),\"\")","v":44008},{"$f":"+IF(C1463=\"\",\"\",IF(I1463=\"\",\"\",(IF(I1463<=L1463,\"A TIEMPO\",\"FUERA DE TIEMPO\"))))","v":"A TIEMPO"},{"$f":"IF(I1463=\"\",\"\",NETWORKDAYS([4]Hoja1!C1463+1,[4]Hoja1!P1463,DiasNOLaborables))","v":10},"",null,null,20]
[1453,20209050044162,43979,"MODULO CONTACTENOS","SOLICITUD DE INFORMACIÓN Y DOCUMENTOS","SOLICITUD DE INFORMACIÓN HIDROMETEOROLÓGICA","NO","GRUPO DE ATENCIÓN AL CIUDADANO",43988,null,null,{"$f":"IFERROR(WORKDAY(C1464,R1464,DiasNOLaborables),\"\")","v":44012},{"$f":"+IF(C1464=\"\",\"\",IF(I1464=\"\",\"\",(IF(I1464<=L1464,\"A TIEMPO\",\"FUERA DE TIEMPO\"))))","v":"A TIEMPO"},{"$f":"IF(I1464=\"\",\"\",NETWORKDAYS([4]Hoja1!C1464+1,[4]Hoja1!P1464,DiasNOLaborables))","v":10},"",null,null,20]
[1454,20209050044192,43979,"MODULO CONTACTENOS","SOLICITUD DE INFORMACIÓN Y DOCUMENTOS","SOLICITUD DE INFORMACIÓN HIDROMETEOROLÓGICA","NO","GRUPO DE ATENCIÓN AL CIUDADANO",43988,null,null,{"$f":"IFERROR(WORKDAY(C1465,R1465,DiasNOLaborables),\"\")","v":44012},{"$f":"+IF(C1465=\"\",\"\",IF(I1465=\"\",\"\",(IF(I1465<=L1465,\"A TIEMPO\",\"FUERA DE TIEMPO\"))))","v":"A TIEMPO"},{"$f":"IF(I1465=\"\",\"\",NETWORKDAYS([4]Hoja1!C1465+1,[4]Hoja1!P1465,DiasNOLaborables))","v":10},"",null,null,20]
[1455,20209050044212,43979,"MODULO CONTACTENOS","SOLICITUD DE INFORMACIÓN Y DOCUMENTOS","SOLICITUD DE INFORMACIÓN HIDROMETEOROLÓGICA","NO","GRUPO DE ATENCIÓN AL CIUDADANO",43988,null,null,{"$f":"IFERROR(WORKDAY(C1466,R1466,DiasNOLaborables),\"\")","v":44012},{"$f":"+IF(C1466=\"\",\"\",IF(I1466=\"\",\"\",(IF(I1466<=L1466,\"A TIEMPO\",\"FUERA DE TIEMPO\"))))","v":"A TIEMPO"},{"$f":"IF(I1466=\"\",\"\",NETWORKDAYS([4]Hoja1!C1466+1,[4]Hoja1!P1466,DiasNOLaborables))","v":10},"",null,null,20]
[1456,20209050044432,43979,"MODULO CONTACTENOS","SOLICITUD DE INFORMACIÓN Y DOCUMENTOS","SOLICITUD DE INFORMACIÓN HIDROMETEOROLÓGICA","NO","GRUPO DE ATENCIÓN AL CIUDADANO",43988,null,null,{"$f":"IFERROR(WORKDAY(C1467,R1467,DiasNOLaborables),\"\")","v":44012},{"$f":"+IF(C1467=\"\",\"\",IF(I1467=\"\",\"\",(IF(I1467<=L1467,\"A TIEMPO\",\"FUERA DE TIEMPO\"))))","v":"A TIEMPO"},{"$f":"IF(I1467=\"\",\"\",NETWORKDAYS([4]Hoja1!C1467+1,[4]Hoja1!P1467,DiasNOLaborables))","v":10},"",null,null,20]
[1457,20209050044442,43979,"MODULO CONTACTENOS","SOLICITUD DE INFORMACIÓN Y DOCUMENTOS","SOLICITUD DE INFORMACIÓN HIDROMETEOROLÓGICA","NO","GRUPO DE ATENCIÓN AL CIUDADANO",43988,null,null,{"$f":"IFERROR(WORKDAY(C1468,R1468,DiasNOLaborables),\"\")","v":44012},{"$f":"+IF(C1468=\"\",\"\",IF(I1468=\"\",\"\",(IF(I1468<=L1468,\"A TIEMPO\",\"FUERA DE TIEMPO\"))))","v":"A TIEMPO"},{"$f":"IF(I1468=\"\",\"\",NETWORKDAYS([4]Hoja1!C1468+1,[4]Hoja1!P1468,DiasNOLaborables))","v":10},"",null,null,20]
[1458,20209050044452,43979,"MODULO CONTACTENOS","SOLICITUD DE INFORMACIÓN Y DOCUMENTOS","SOLICITUD DE INFORMACIÓN HIDROMETEOROLÓGICA","NO","GRUPO DE ATENCIÓN AL CIUDADANO",43988,null,null,{"$f":"IFERROR(WORKDAY(C1469,R1469,DiasNOLaborables),\"\")","v":44012},{"$f":"+IF(C1469=\"\",\"\",IF(I1469=\"\",\"\",(IF(I1469<=L1469,\"A TIEMPO\",\"FUERA DE TIEMPO\"))))","v":"A TIEMPO"},{"$f":"IF(I1469=\"\",\"\",NETWORKDAYS([4]Hoja1!C1469+1,[4]Hoja1!P1469,DiasNOLaborables))","v":10},"",null,null,20]
[1459,20209050044782,43980,"MODULO CONTACTENOS","SOLICITUD DE INFORMACIÓN Y DOCUMENTOS","SOLICITUD DE INFORMACIÓN HIDROMETEOROLÓGICA","NO","GRUPO DE ATENCIÓN AL CIUDADANO",43988,null,null,{"$f":"IFERROR(WORKDAY(C1470,R1470,DiasNOLaborables),\"\")","v":44013},{"$f":"+IF(C1470=\"\",\"\",IF(I1470=\"\",\"\",(IF(I1470<=L1470,\"A TIEMPO\",\"FUERA DE TIEMPO\"))))","v":"A TIEMPO"},{"$f":"IF(I1470=\"\",\"\",NETWORKDAYS([4]Hoja1!C1470+1,[4]Hoja1!P1470,DiasNOLaborables))","v":10},"",null,null,20]
[1460,20209050044802,43980,"MODULO CONTACTENOS","SOLICITUD DE INFORMACIÓN Y DOCUMENTOS","SOLICITUD DE INFORMACIÓN HIDROMETEOROLÓGICA","NO","GRUPO DE ATENCIÓN AL CIUDADANO",43988,null,null,{"$f":"IFERROR(WORKDAY(C1471,R1471,DiasNOLaborables),\"\")","v":44013},{"$f":"+IF(C1471=\"\",\"\",IF(I1471=\"\",\"\",(IF(I1471<=L1471,\"A TIEMPO\",\"FUERA DE TIEMPO\"))))","v":"A TIEMPO"},{"$f":"IF(I1471=\"\",\"\",NETWORKDAYS([4]Hoja1!C1471+1,[4]Hoja1!P1471,DiasNOLaborables))","v":10},"",null,null,20]
[1461,20209050044822,43980,"MODULO CONTACTENOS","SOLICITUD DE INFORMACIÓN Y DOCUMENTOS","SOLICITUD DE INFORMACIÓN HIDROMETEOROLÓGICA","NO","GRUPO DE ATENCIÓN AL CIUDADANO",43988,null,null,{"$f":"IFERROR(WORKDAY(C1472,R1472,DiasNOLaborables),\"\")","v":44013},{"$f":"+IF(C1472=\"\",\"\",IF(I1472=\"\",\"\",(IF(I1472<=L1472,\"A TIEMPO\",\"FUERA DE TIEMPO\"))))","v":"A TIEMPO"},{"$f":"IF(I1472=\"\",\"\",NETWORKDAYS([4]Hoja1!C1472+1,[4]Hoja1!P1472,DiasNOLaborables))","v":9},"",null,null,20]
[1462,20209050044852,43980,"MODULO CONTACTENOS","SOLICITUD DE INFORMACIÓN Y DOCUMENTOS","SOLICITUD DE INFORMACIÓN HIDROMETEOROLÓGICA","NO","GRUPO DE ATENCIÓN AL CIUDADANO",43990,null,null,{"$f":"IFERROR(WORKDAY(C1473,R1473,DiasNOLaborables),\"\")","v":44013},{"$f":"+IF(C1473=\"\",\"\",IF(I1473=\"\",\"\",(IF(I1473<=L1473,\"A TIEMPO\",\"FUERA DE TIEMPO\"))))","v":"A TIEMPO"},{"$f":"IF(I1473=\"\",\"\",NETWORKDAYS([4]Hoja1!C1473+1,[4]Hoja1!P1473,DiasNOLaborables))","v":9},"",null,null,20]
[1463,20209050044862,43980,"MODULO CONTACTENOS","SOLICITUD DE INFORMACIÓN Y DOCUMENTOS","SOLICITUD DE INFORMACIÓN HIDROMETEOROLÓGICA","NO","GRUPO DE ATENCIÓN AL CIUDADANO",43990,null,null,{"$f":"IFERROR(WORKDAY(C1474,R1474,DiasNOLaborables),\"\")","v":44013},{"$f":"+IF(C1474=\"\",\"\",IF(I1474=\"\",\"\",(IF(I1474<=L1474,\"A TIEMPO\",\"FUERA DE TIEMPO\"))))","v":"A TIEMPO"},{"$f":"IF(I1474=\"\",\"\",NETWORKDAYS([4]Hoja1!C1474+1,[4]Hoja1!P1474,DiasNOLaborables))","v":9},"",null,null,20]
[1464,20200529215712,43980,"WEB (MÓDULO DE SOLICITUD DE INFORMACIÓN HIDROMETEOROLÓGICA)","SOLICITUD DE INFORMACIÓN Y DOCUMENTOS","SOLICITUD DE INFORMACIÓN HIDROMETEOROLÓGICA","NO","GRUPO DE ATENCIÓN AL CIUDADANO",43990,null,null,{"$f":"IFERROR(WORKDAY(C1475,R1475,DiasNOLaborables),\"\")","v":44013},{"$f":"+IF(C1475=\"\",\"\",IF(I1475=\"\",\"\",(IF(I1475<=L1475,\"A TIEMPO\",\"FUERA DE TIEMPO\"))))","v":"A TIEMPO"},{"$f":"IF(I1475=\"\",\"\",NETWORKDAYS([4]Hoja1!C1475+1,[4]Hoja1!P1475,DiasNOLaborables))","v":9},"",null,null,20]
[1465,20200529185658,43980,"WEB (MÓDULO DE SOLICITUD DE INFORMACIÓN HIDROMETEOROLÓGICA)","SOLICITUD DE INFORMACIÓN Y DOCUMENTOS","SOLICITUD DE INFORMACIÓN HIDROMETEOROLÓGICA","NO","GRUPO DE ATENCIÓN AL CIUDADANO",43990,null,null,{"$f":"IFERROR(WORKDAY(C1476,R1476,DiasNOLaborables),\"\")","v":44013},{"$f":"+IF(C1476=\"\",\"\",IF(I1476=\"\",\"\",(IF(I1476<=L1476,\"A TIEMPO\",\"FUERA DE TIEMPO\"))))","v":"A TIEMPO"},{"$f":"IF(I1476=\"\",\"\",NETWORKDAYS([4]Hoja1!C1476+1,[4]Hoja1!P1476,DiasNOLaborables))","v":9},"",null,null,20]
[1466,20200529143349,43980,"WEB (MÓDULO DE SOLICITUD DE INFORMACIÓN HIDROMETEOROLÓGICA)","SOLICITUD DE INFORMACIÓN Y DOCUMENTOS","SOLICITUD DE INFORMACIÓN HIDROMETEOROLÓGICA","NO","GRUPO DE ATENCIÓN AL CIUDADANO",43990,null,null,{"$f":"IFERROR(WORKDAY(C1477,R1477,DiasNOLaborables),\"\")","v":44013},{"$f":"+IF(C1477=\"\",\"\",IF(I1477=\"\",\"\",(IF(I1477<=L1477,\"A TIEMPO\",\"FUERA DE TIEMPO\"))))","v":"A TIEMPO"},{"$f":"IF(I1477=\"\",\"\",NETWORKDAYS([4]Hoja1!C1477+1,[4]Hoja1!P1477,DiasNOLaborables))","v":8},"",null,null,20]
[1467,20200529094305,43980,"WEB (MÓDULO DE SOLICITUD DE INFORMACIÓN HIDROMETEOROLÓGICA)","SOLICITUD DE INFORMACIÓN Y DOCUMENTOS","SOLICITUD DE INFORMACIÓN HIDROMETEOROLÓGICA","NO","GRUPO DE ATENCIÓN AL CIUDADANO",43990,null,null,{"$f":"IFERROR(WORKDAY(C1478,R1478,DiasNOLaborables),\"\")","v":44013},{"$f":"+IF(C1478=\"\",\"\",IF(I1478=\"\",\"\",(IF(I1478<=L1478,\"A TIEMPO\",\"FUERA DE TIEMPO\"))))","v":"A TIEMPO"},{"$f":"IF(I1478=\"\",\"\",NETWORKDAYS([4]Hoja1!C1478+1,[4]Hoja1!P1478,DiasNOLaborables))","v":8},"",null,null,20]
[1468,20200530143935,43981,"WEB (MÓDULO DE SOLICITUD DE INFORMACIÓN HIDROMETEOROLÓGICA)","SOLICITUD DE INFORMACIÓN Y DOCUMENTOS","SOLICITUD DE INFORMACIÓN HIDROMETEOROLÓGICA","NO","GRUPO DE ATENCIÓN AL CIUDADANO",43990,null,null,{"$f":"IFERROR(WORKDAY(C1479,R1479,DiasNOLaborables),\"\")","v":44013},{"$f":"+IF(C1479=\"\",\"\",IF(I1479=\"\",\"\",(IF(I1479<=L1479,\"A TIEMPO\",\"FUERA DE TIEMPO\"))))","v":"A TIEMPO"},{"$f":"IF(I1479=\"\",\"\",NETWORKDAYS([4]Hoja1!C1479+1,[4]Hoja1!P1479,DiasNOLaborables))","v":8},"",null,null,20]
[1469,20200530110139,43981,"WEB (MÓDULO DE SOLICITUD DE INFORMACIÓN HIDROMETEOROLÓGICA)","SOLICITUD DE INFORMACIÓN Y DOCUMENTOS","SOLICITUD DE INFORMACIÓN HIDROMETEOROLÓGICA","NO","GRUPO DE ATENCIÓN AL CIUDADANO",43990,null,null,{"$f":"IFERROR(WORKDAY(C1480,R1480,DiasNOLaborables),\"\")","v":44013},{"$f":"+IF(C1480=\"\",\"\",IF(I1480=\"\",\"\",(IF(I1480<=L1480,\"A TIEMPO\",\"FUERA DE TIEMPO\"))))","v":"A TIEMPO"},{"$f":"IF(I1480=\"\",\"\",NETWORKDAYS([4]Hoja1!C1480+1,[4]Hoja1!P1480,DiasNOLaborables))","v":8},"",null,null,20]
[1470,20200530105638,43981,"WEB (MÓDULO DE SOLICITUD DE INFORMACIÓN HIDROMETEOROLÓGICA)","SOLICITUD DE INFORMACIÓN Y DOCUMENTOS","SOLICITUD DE INFORMACIÓN HIDROMETEOROLÓGICA","NO","GRUPO DE ATENCIÓN AL CIUDADANO",43990,null,null,{"$f":"IFERROR(WORKDAY(C1481,R1481,DiasNOLaborables),\"\")","v":44013},{"$f":"+IF(C1481=\"\",\"\",IF(I1481=\"\",\"\",(IF(I1481<=L1481,\"A TIEMPO\",\"FUERA DE TIEMPO\"))))","v":"A TIEMPO"},{"$f":"IF(I1481=\"\",\"\",NETWORKDAYS([4]Hoja1!C1481+1,[4]Hoja1!P1481,DiasNOLaborables))","v":9},"",null,null,20]
[1471,20200531150035,43982,"WEB (MÓDULO DE SOLICITUD DE INFORMACIÓN HIDROMETEOROLÓGICA)","SOLICITUD DE INFORMACIÓN Y DOCUMENTOS","SOLICITUD DE INFORMACIÓN HIDROMETEOROLÓGICA","NO","GRUPO DE ATENCIÓN AL CIUDADANO",43990,null,null,{"$f":"IFERROR(WORKDAY(C1482,R1482,DiasNOLaborables),\"\")","v":44013},{"$f":"+IF(C1482=\"\",\"\",IF(I1482=\"\",\"\",(IF(I1482<=L1482,\"A TIEMPO\",\"FUERA DE TIEMPO\"))))","v":"A TIEMPO"},{"$f":"IF(I1482=\"\",\"\",NETWORKDAYS([4]Hoja1!C1482+1,[4]Hoja1!P1482,DiasNOLaborables))","v":9},"",null,null,20]
[1472,20200531100101,43982,"WEB (MÓDULO DE SOLICITUD DE INFORMACIÓN HIDROMETEOROLÓGICA)","SOLICITUD DE INFORMACIÓN Y DOCUMENTOS","SOLICITUD DE INFORMACIÓN HIDROMETEOROLÓGICA","NO","GRUPO DE ATENCIÓN AL CIUDADANO",43990,null,null,{"$f":"IFERROR(WORKDAY(C1483,R1483,DiasNOLaborables),\"\")","v":44013},{"$f":"+IF(C1483=\"\",\"\",IF(I1483=\"\",\"\",(IF(I1483<=L1483,\"A TIEMPO\",\"FUERA DE TIEMPO\"))))","v":"A TIEMPO"},{"$f":"IF(I1483=\"\",\"\",NETWORKDAYS([4]Hoja1!C1483+1,[4]Hoja1!P1483,DiasNOLaborables))","v":9},"",null,null,20]
[1473,20200531093226,43982,"WEB (MÓDULO DE SOLICITUD DE INFORMACIÓN HIDROMETEOROLÓGICA)","SOLICITUD DE INFORMACIÓN Y DOCUMENTOS","SOLICITUD DE INFORMACIÓN HIDROMETEOROLÓGICA","NO","GRUPO DE ATENCIÓN AL CIUDADANO",43990,null,null,{"$f":"IFERROR(WORKDAY(C1484,R1484,DiasNOLaborables),\"\")","v":44013},{"$f":"+IF(C1484=\"\",\"\",IF(I1484=\"\",\"\",(IF(I1484<=L1484,\"A TIEMPO\",\"FUERA DE TIEMPO\"))))","v":"A TIEMPO"},{"$f":"IF(I1484=\"\",\"\",NETWORKDAYS([4]Hoja1!C1484+1,[4]Hoja1!P1484,DiasNOLaborables))","v":9},"",null,null,20]
[1474,20200530230905,43982,"WEB (MÓDULO DE SOLICITUD DE INFORMACIÓN HIDROMETEOROLÓGICA)","SOLICITUD DE INFORMACIÓN Y DOCUMENTOS","SOLICITUD DE INFORMACIÓN HIDROMETEOROLÓGICA","NO","GRUPO DE ATENCIÓN AL CIUDADANO",43990,null,null,{"$f":"IFERROR(WORKDAY(C1485,R1485,DiasNOLaborables),\"\")","v":44013},{"$f":"+IF(C1485=\"\",\"\",IF(I1485=\"\",\"\",(IF(I1485<=L1485,\"A TIEMPO\",\"FUERA DE TIEMPO\"))))","v":"A TIEMPO"},{"$f":"IF(I1485=\"\",\"\",NETWORKDAYS([4]Hoja1!C1485+1,[4]Hoja1!P1485,DiasNOLaborables))","v":9},"",null,null,20]
[1475,20209050045052,43982,"MODULO CONTACTENOS","SOLICITUD DE INFORMACIÓN Y DOCUMENTOS","SOLICITUD DE INFORMACIÓN HIDROMETEOROLÓGICA","NO","GRUPO DE ATENCIÓN AL CIUDADANO",43990,null,null,{"$f":"IFERROR(WORKDAY(C1486,R1486,DiasNOLaborables),\"\")","v":44013},{"$f":"+IF(C1486=\"\",\"\",IF(I1486=\"\",\"\",(IF(I1486<=L1486,\"A TIEMPO\",\"FUERA DE TIEMPO\"))))","v":"A TIEMPO"},{"$f":"IF(I1486=\"\",\"\",NETWORKDAYS([4]Hoja1!C1486+1,[4]Hoja1!P1486,DiasNOLaborables))","v":9},"",null,null,20]
[1476,20209050045062,43982,"MODULO CONTACTENOS","SOLICITUD DE INFORMACIÓN Y DOCUMENTOS","SOLICITUD DE INFORMACIÓN HIDROMETEOROLÓGICA","NO","GRUPO DE ATENCIÓN AL CIUDADANO",43990,null,null,{"$f":"IFERROR(WORKDAY(C1487,R1487,DiasNOLaborables),\"\")","v":44013},{"$f":"+IF(C1487=\"\",\"\",IF(I1487=\"\",\"\",(IF(I1487<=L1487,\"A TIEMPO\",\"FUERA DE TIEMPO\"))))","v":"A TIEMPO"},{"$f":"IF(I1487=\"\",\"\",NETWORKDAYS([4]Hoja1!C1487+1,[4]Hoja1!P1487,DiasNOLaborables))","v":9},"",null,null,20]
[1477,20209050045072,43982,"MODULO CONTACTENOS","SOLICITUD DE INFORMACIÓN Y DOCUMENTOS","SOLICITUD DE INFORMACIÓN HIDROMETEOROLÓGICA","NO","GRUPO DE ATENCIÓN AL CIUDADANO",43990,null,null,{"$f":"IFERROR(WORKDAY(C1488,R1488,DiasNOLaborables),\"\")","v":44013},{"$f":"+IF(C1488=\"\",\"\",IF(I1488=\"\",\"\",(IF(I1488<=L1488,\"A TIEMPO\",\"FUERA DE TIEMPO\"))))","v":"A TIEMPO"},{"$f":"IF(I1488=\"\",\"\",NETWORKDAYS([4]Hoja1!C1488+1,[4]Hoja1!P1488,DiasNOLaborables))","v":9},"",null,null,20]
[1478,20209050036632,43952,"MODULO CONTACTENOS","SOLICITUD DE INFORMACIÓN Y DOCUMENTOS","SOLICITUD DE INFORMACIÓN HIDROMETEOROLÓGICA","NO","GRUPO DE ATENCIÓN AL CIUDADANO",43932,null,null,{"$f":"IFERROR(WORKDAY(C1489,R1489,DiasNOLaborables),\"\")","v":43983},{"$f":"+IF(C1489=\"\",\"\",IF(I1489=\"\",\"\",(IF(I1489<=L1489,\"A TIEMPO\",\"FUERA DE TIEMPO\"))))","v":"A TIEMPO"},{"$f":"IF(I1489=\"\",\"\",NETWORKDAYS([4]Hoja1!C1489+1,[4]Hoja1!P1489,DiasNOLaborables))","v":9},"",null,null,20]
[1479,20209050036642,43953,"MODULO CONTACTENOS","SOLICITUD DE INFORMACIÓN Y DOCUMENTOS","SOLICITUD DE INFORMACIÓN HIDROMETEOROLÓGICA","NO","GRUPO DE ATENCIÓN AL CIUDADANO",43964,null,null,{"$f":"IFERROR(WORKDAY(C1490,R1490,DiasNOLaborables),\"\")","v":43983},{"$f":"+IF(C1490=\"\",\"\",IF(I1490=\"\",\"\",(IF(I1490<=L1490,\"A TIEMPO\",\"FUERA DE TIEMPO\"))))","v":"A TIEMPO"},{"$f":"IF(I1490=\"\",\"\",NETWORKDAYS([4]Hoja1!C1490+1,[4]Hoja1!P1490,DiasNOLaborables))","v":9},"",null,null,20]
[1480,20209050036662,43953,"MODULO CONTACTENOS","SOLICITUD DE INFORMACIÓN Y DOCUMENTOS","SOLICITUD DE INFORMACIÓN HIDROMETEOROLÓGICA","NO","GRUPO DE ATENCIÓN AL CIUDADANO",43964,null,null,{"$f":"IFERROR(WORKDAY(C1491,R1491,DiasNOLaborables),\"\")","v":43983},{"$f":"+IF(C1491=\"\",\"\",IF(I1491=\"\",\"\",(IF(I1491<=L1491,\"A TIEMPO\",\"FUERA DE TIEMPO\"))))","v":"A TIEMPO"},{"$f":"IF(I1491=\"\",\"\",NETWORKDAYS([4]Hoja1!C1491+1,[4]Hoja1!P1491,DiasNOLaborables))","v":9},"",null,null,20]
[1481,20209050036692,43953,"MODULO CONTACTENOS","SOLICITUD DE INFORMACIÓN Y DOCUMENTOS","SOLICITUD DE INFORMACIÓN HIDROMETEOROLÓGICA","NO","GRUPO DE ATENCIÓN AL CIUDADANO",43964,null,null,{"$f":"IFERROR(WORKDAY(C1492,R1492,DiasNOLaborables),\"\")","v":43983},{"$f":"+IF(C1492=\"\",\"\",IF(I1492=\"\",\"\",(IF(I1492<=L1492,\"A TIEMPO\",\"FUERA DE TIEMPO\"))))","v":"A TIEMPO"},{"$f":"IF(I1492=\"\",\"\",NETWORKDAYS([4]Hoja1!C1492+1,[4]Hoja1!P1492,DiasNOLaborables))","v":9},"",null,null,20]
[1482,20209050036702,43954,"MODULO CONTACTENOS","SOLICITUD DE INFORMACIÓN Y DOCUMENTOS","SOLICITUD DE INFORMACIÓN HIDROMETEOROLÓGICA","NO","GRUPO DE ATENCIÓN AL CIUDADANO",43965,null,null,{"$f":"IFERROR(WORKDAY(C1493,R1493,DiasNOLaborables),\"\")","v":43983},{"$f":"+IF(C1493=\"\",\"\",IF(I1493=\"\",\"\",(IF(I1493<=L1493,\"A TIEMPO\",\"FUERA DE TIEMPO\"))))","v":"A TIEMPO"},{"$f":"IF(I1493=\"\",\"\",NETWORKDAYS([4]Hoja1!C1493+1,[4]Hoja1!P1493,DiasNOLaborables))","v":9},"",null,null,20]
[1483,20209050036732,43954,"MODULO CONTACTENOS","SOLICITUD DE INFORMACIÓN Y DOCUMENTOS","SOLICITUD DE INFORMACIÓN HIDROMETEOROLÓGICA","NO","GRUPO DE ATENCIÓN AL CIUDADANO",43965,null,null,{"$f":"IFERROR(WORKDAY(C1494,R1494,DiasNOLaborables),\"\")","v":43983},{"$f":"+IF(C1494=\"\",\"\",IF(I1494=\"\",\"\",(IF(I1494<=L1494,\"A TIEMPO\",\"FUERA DE TIEMPO\"))))","v":"A TIEMPO"},{"$f":"IF(I1494=\"\",\"\",NETWORKDAYS([4]Hoja1!C1494+1,[4]Hoja1!P1494,DiasNOLaborables))","v":9},"",null,null,20]
[1484,20209050036752,43954,"MODULO CONTACTENOS","SOLICITUD DE INFORMACIÓN Y DOCUMENTOS","SOLICITUD DE INFORMACIÓN HIDROMETEOROLÓGICA","NO","GRUPO DE ATENCIÓN AL CIUDADANO",43965,null,null,{"$f":"IFERROR(WORKDAY(C1495,R1495,DiasNOLaborables),\"\")","v":43983},{"$f":"+IF(C1495=\"\",\"\",IF(I1495=\"\",\"\",(IF(I1495<=L1495,\"A TIEMPO\",\"FUERA DE TIEMPO\"))))","v":"A TIEMPO"},{"$f":"IF(I1495=\"\",\"\",NETWORKDAYS([4]Hoja1!C1495+1,[4]Hoja1!P1495,DiasNOLaborables))","v":8},"",null,null,20]
[1485,20209050036762,43954,"MODULO CONTACTENOS","SOLICITUD DE INFORMACIÓN Y DOCUMENTOS","SOLICITUD DE INFORMACIÓN HIDROMETEOROLÓGICA","NO","GRUPO DE ATENCIÓN AL CIUDADANO",43965,null,null,{"$f":"IFERROR(WORKDAY(C1496,R1496,DiasNOLaborables),\"\")","v":43983},{"$f":"+IF(C1496=\"\",\"\",IF(I1496=\"\",\"\",(IF(I1496<=L1496,\"A TIEMPO\",\"FUERA DE TIEMPO\"))))","v":"A TIEMPO"},{"$f":"IF(I1496=\"\",\"\",NETWORKDAYS([4]Hoja1!C1496+1,[4]Hoja1!P1496,DiasNOLaborables))","v":8},"",null,null,20]
[1486,20209050036792,43955,"MODULO CONTACTENOS","SOLICITUD DE INFORMACIÓN Y DOCUMENTOS","SOLICITUD DE INFORMACIÓN HIDROMETEOROLÓGICA","NO","GRUPO DE ATENCIÓN AL CIUDADANO",43965,null,null,{"$f":"IFERROR(WORKDAY(C1497,R1497,DiasNOLaborables),\"\")","v":43984},{"$f":"+IF(C1497=\"\",\"\",IF(I1497=\"\",\"\",(IF(I1497<=L1497,\"A TIEMPO\",\"FUERA DE TIEMPO\"))))","v":"A TIEMPO"},{"$f":"IF(I1497=\"\",\"\",NETWORKDAYS([4]Hoja1!C1497+1,[4]Hoja1!P1497,DiasNOLaborables))","v":8},"",null,null,20]
[1487,20209050037142,43955,"MODULO CONTACTENOS","SOLICITUD DE INFORMACIÓN Y DOCUMENTOS","SOLICITUD DE INFORMACIÓN HIDROMETEOROLÓGICA","NO","GRUPO DE ATENCIÓN AL CIUDADANO",43965,null,null,{"$f":"IFERROR(WORKDAY(C1498,R1498,DiasNOLaborables),\"\")","v":43984},{"$f":"+IF(C1498=\"\",\"\",IF(I1498=\"\",\"\",(IF(I1498<=L1498,\"A TIEMPO\",\"FUERA DE TIEMPO\"))))","v":"A TIEMPO"},{"$f":"IF(I1498=\"\",\"\",NETWORKDAYS([4]Hoja1!C1498+1,[4]Hoja1!P1498,DiasNOLaborables))","v":8},"",null,null,20]
[1488,20209050037152,43955,"MODULO CONTACTENOS","SOLICITUD DE INFORMACIÓN Y DOCUMENTOS","SOLICITUD DE INFORMACIÓN HIDROMETEOROLÓGICA","NO","GRUPO DE ATENCIÓN AL CIUDADANO",43965,null,null,{"$f":"IFERROR(WORKDAY(C1499,R1499,DiasNOLaborables),\"\")","v":43984},{"$f":"+IF(C1499=\"\",\"\",IF(I1499=\"\",\"\",(IF(I1499<=L1499,\"A TIEMPO\",\"FUERA DE TIEMPO\"))))","v":"A TIEMPO"},{"$f":"IF(I1499=\"\",\"\",NETWORKDAYS([4]Hoja1!C1499+1,[4]Hoja1!P1499,DiasNOLaborables))","v":8},"",null,null,20]
[1489,20209050037162,43955,"MODULO CONTACTENOS","SOLICITUD DE INFORMACIÓN Y DOCUMENTOS","SOLICITUD DE INFORMACIÓN HIDROMETEOROLÓGICA","NO","GRUPO DE ATENCIÓN AL CIUDADANO",43965,null,null,{"$f":"IFERROR(WORKDAY(C1500,R1500,DiasNOLaborables),\"\")","v":43984},{"$f":"+IF(C1500=\"\",\"\",IF(I1500=\"\",\"\",(IF(I1500<=L1500,\"A TIEMPO\",\"FUERA DE TIEMPO\"))))","v":"A TIEMPO"},{"$f":"IF(I1500=\"\",\"\",NETWORKDAYS([4]Hoja1!C1500+1,[4]Hoja1!P1500,DiasNOLaborables))","v":8},"",null,null,20]
[1490,20209050037182,43955,"MODULO CONTACTENOS","SOLICITUD DE INFORMACIÓN Y DOCUMENTOS","SOLICITUD DE INFORMACIÓN HIDROMETEOROLÓGICA","NO","GRUPO DE ATENCIÓN AL CIUDADANO",43965,null,null,{"$f":"IFERROR(WORKDAY(C1501,R1501,DiasNOLaborables),\"\")","v":43984},{"$f":"+IF(C1501=\"\",\"\",IF(I1501=\"\",\"\",(IF(I1501<=L1501,\"A TIEMPO\",\"FUERA DE TIEMPO\"))))","v":"A TIEMPO"},{"$f":"IF(I1501=\"\",\"\",NETWORKDAYS([4]Hoja1!C1501+1,[4]Hoja1!P1501,DiasNOLaborables))","v":8},"",null,null,20]
[1491,20209050037192,43955,"MODULO CONTACTENOS","SOLICITUD DE INFORMACIÓN Y DOCUMENTOS","SOLICITUD DE INFORMACIÓN HIDROMETEOROLÓGICA","NO","GRUPO DE ATENCIÓN AL CIUDADANO",43965,null,null,{"$f":"IFERROR(WORKDAY(C1502,R1502,DiasNOLaborables),\"\")","v":43984},{"$f":"+IF(C1502=\"\",\"\",IF(I1502=\"\",\"\",(IF(I1502<=L1502,\"A TIEMPO\",\"FUERA DE TIEMPO\"))))","v":"A TIEMPO"},{"$f":"IF(I1502=\"\",\"\",NETWORKDAYS([4]Hoja1!C1502+1,[4]Hoja1!P1502,DiasNOLaborables))","v":8},"",null,null,20]
[1492,20209050037212,43955,"MODULO CONTACTENOS","SOLICITUD DE INFORMACIÓN Y DOCUMENTOS","SOLICITUD DE INFORMACIÓN HIDROMETEOROLÓGICA","NO","GRUPO DE ATENCIÓN AL CIUDADANO",43965,null,null,{"$f":"IFERROR(WORKDAY(C1503,R1503,DiasNOLaborables),\"\")","v":43984},{"$f":"+IF(C1503=\"\",\"\",IF(I1503=\"\",\"\",(IF(I1503<=L1503,\"A TIEMPO\",\"FUERA DE TIEMPO\"))))","v":"A TIEMPO"},{"$f":"IF(I1503=\"\",\"\",NETWORKDAYS([4]Hoja1!C1503+1,[4]Hoja1!P1503,DiasNOLaborables))","v":8},"",null,null,20]
[1493,20209050037222,43956,"MODULO CONTACTENOS","SOLICITUD DE INFORMACIÓN Y DOCUMENTOS","SOLICITUD DE INFORMACIÓN HIDROMETEOROLÓGICA","NO","GRUPO DE ATENCIÓN AL CIUDADANO",43965,null,null,{"$f":"IFERROR(WORKDAY(C1504,R1504,DiasNOLaborables),\"\")","v":43985},{"$f":"+IF(C1504=\"\",\"\",IF(I1504=\"\",\"\",(IF(I1504<=L1504,\"A TIEMPO\",\"FUERA DE TIEMPO\"))))","v":"A TIEMPO"},{"$f":"IF(I1504=\"\",\"\",NETWORKDAYS([4]Hoja1!C1504+1,[4]Hoja1!P1504,DiasNOLaborables))","v":8},"",null,null,20]
[1494,20209050037312,43956,"MODULO CONTACTENOS","SOLICITUD DE INFORMACIÓN Y DOCUMENTOS","SOLICITUD DE INFORMACIÓN HIDROMETEOROLÓGICA","NO","GRUPO DE ATENCIÓN AL CIUDADANO",43965,null,null,{"$f":"IFERROR(WORKDAY(C1505,R1505,DiasNOLaborables),\"\")","v":43985},{"$f":"+IF(C1505=\"\",\"\",IF(I1505=\"\",\"\",(IF(I1505<=L1505,\"A TIEMPO\",\"FUERA DE TIEMPO\"))))","v":"A TIEMPO"},{"$f":"IF(I1505=\"\",\"\",NETWORKDAYS([4]Hoja1!C1505+1,[4]Hoja1!P1505,DiasNOLaborables))","v":8},"",null,null,20]
[1495,20209050037552,43956,"MODULO CONTACTENOS","SOLICITUD DE INFORMACIÓN Y DOCUMENTOS","SOLICITUD DE INFORMACIÓN HIDROMETEOROLÓGICA","NO","GRUPO DE ATENCIÓN AL CIUDADANO",43966,null,null,{"$f":"IFERROR(WORKDAY(C1506,R1506,DiasNOLaborables),\"\")","v":43985},{"$f":"+IF(C1506=\"\",\"\",IF(I1506=\"\",\"\",(IF(I1506<=L1506,\"A TIEMPO\",\"FUERA DE TIEMPO\"))))","v":"A TIEMPO"},{"$f":"IF(I1506=\"\",\"\",NETWORKDAYS([4]Hoja1!C1506+1,[4]Hoja1!P1506,DiasNOLaborables))","v":9},"",null,null,20]
[1496,20209050037712,43957,"MODULO CONTACTENOS","SOLICITUD DE INFORMACIÓN Y DOCUMENTOS","SOLICITUD DE INFORMACIÓN HIDROMETEOROLÓGICA","NO","GRUPO DE ATENCIÓN AL CIUDADANO",43966,null,null,{"$f":"IFERROR(WORKDAY(C1507,R1507,DiasNOLaborables),\"\")","v":43986},{"$f":"+IF(C1507=\"\",\"\",IF(I1507=\"\",\"\",(IF(I1507<=L1507,\"A TIEMPO\",\"FUERA DE TIEMPO\"))))","v":"A TIEMPO"},{"$f":"IF(I1507=\"\",\"\",NETWORKDAYS([4]Hoja1!C1507+1,[4]Hoja1!P1507,DiasNOLaborables))","v":9},"",null,null,20]
[1497,20209050037722,43957,"MODULO CONTACTENOS","SOLICITUD DE INFORMACIÓN Y DOCUMENTOS","SOLICITUD DE INFORMACIÓN HIDROMETEOROLÓGICA","NO","GRUPO DE ATENCIÓN AL CIUDADANO",43966,null,null,{"$f":"IFERROR(WORKDAY(C1508,R1508,DiasNOLaborables),\"\")","v":43986},{"$f":"+IF(C1508=\"\",\"\",IF(I1508=\"\",\"\",(IF(I1508<=L1508,\"A TIEMPO\",\"FUERA DE TIEMPO\"))))","v":"A TIEMPO"},{"$f":"IF(I1508=\"\",\"\",NETWORKDAYS([4]Hoja1!C1508+1,[4]Hoja1!P1508,DiasNOLaborables))","v":9},"",null,null,20]
[1498,20209050037732,43957,"MODULO CONTACTENOS","SOLICITUD DE INFORMACIÓN Y DOCUMENTOS","SOLICITUD DE INFORMACIÓN HIDROMETEOROLÓGICA","NO","GRUPO DE ATENCIÓN AL CIUDADANO",43966,null,null,{"$f":"IFERROR(WORKDAY(C1509,R1509,DiasNOLaborables),\"\")","v":43986},{"$f":"+IF(C1509=\"\",\"\",IF(I1509=\"\",\"\",(IF(I1509<=L1509,\"A TIEMPO\",\"FUERA DE TIEMPO\"))))","v":"A TIEMPO"},{"$f":"IF(I1509=\"\",\"\",NETWORKDAYS([4]Hoja1!C1509+1,[4]Hoja1!P1509,DiasNOLaborables))","v":9},"",null,null,20]
[1499,20209050037752,43957,"MODULO CONTACTENOS","SOLICITUD DE INFORMACIÓN Y DOCUMENTOS","SOLICITUD DE INFORMACIÓN HIDROMETEOROLÓGICA","NO","GRUPO DE ATENCIÓN AL CIUDADANO",43966,null,null,{"$f":"IFERROR(WORKDAY(C1510,R1510,DiasNOLaborables),\"\")","v":43986},{"$f":"+IF(C1510=\"\",\"\",IF(I1510=\"\",\"\",(IF(I1510<=L1510,\"A TIEMPO\",\"FUERA DE TIEMPO\"))))","v":"A TIEMPO"},{"$f":"IF(I1510=\"\",\"\",NETWORKDAYS([4]Hoja1!C1510+1,[4]Hoja1!P1510,DiasNOLaborables))","v":9},"",null,null,20]
[1500,20209050037762,43957,"MODULO CONTACTENOS","SOLICITUD DE INFORMACIÓN Y DOCUMENTOS","SOLICITUD DE INFORMACIÓN HIDROMETEOROLÓGICA","NO","GRUPO DE ATENCIÓN AL CIUDADANO",43966,null,null,{"$f":"IFERROR(WORKDAY(C1511,R1511,DiasNOLaborables),\"\")","v":43986},{"$f":"+IF(C1511=\"\",\"\",IF(I1511=\"\",\"\",(IF(I1511<=L1511,\"A TIEMPO\",\"FUERA DE TIEMPO\"))))","v":"A TIEMPO"},{"$f":"IF(I1511=\"\",\"\",NETWORKDAYS([4]Hoja1!C1511+1,[4]Hoja1!P1511,DiasNOLaborables))","v":9},"",null,null,20]
[1501,20209050037862,43957,"MODULO CONTACTENOS","SOLICITUD DE INFORMACIÓN Y DOCUMENTOS","SOLICITUD DE INFORMACIÓN HIDROMETEOROLÓGICA","NO","GRUPO DE ATENCIÓN AL CIUDADANO",43966,null,null,{"$f":"IFERROR(WORKDAY(C1512,R1512,DiasNOLaborables),\"\")","v":43986},{"$f":"+IF(C1512=\"\",\"\",IF(I1512=\"\",\"\",(IF(I1512<=L1512,\"A TIEMPO\",\"FUERA DE TIEMPO\"))))","v":"A TIEMPO"},{"$f":"IF(I1512=\"\",\"\",NETWORKDAYS([4]Hoja1!C1512+1,[4]Hoja1!P1512,DiasNOLaborables))","v":9},"",null,null,20]
[1502,20209050037952,43957,"MODULO CONTACTENOS","SOLICITUD DE INFORMACIÓN Y DOCUMENTOS","SOLICITUD DE INFORMACIÓN HIDROMETEOROLÓGICA","NO","GRUPO DE ATENCIÓN AL CIUDADANO",43966,null,null,{"$f":"IFERROR(WORKDAY(C1513,R1513,DiasNOLaborables),\"\")","v":43986},{"$f":"+IF(C1513=\"\",\"\",IF(I1513=\"\",\"\",(IF(I1513<=L1513,\"A TIEMPO\",\"FUERA DE TIEMPO\"))))","v":"A TIEMPO"},{"$f":"IF(I1513=\"\",\"\",NETWORKDAYS([4]Hoja1!C1513+1,[4]Hoja1!P1513,DiasNOLaborables))","v":9},"",null,null,20]
[1503,20209050038012,43958,"MODULO CONTACTENOS","SOLICITUD DE INFORMACIÓN Y DOCUMENTOS","SOLICITUD DE INFORMACIÓN HIDROMETEOROLÓGICA","NO","GRUPO DE ATENCIÓN AL CIUDADANO",43966,null,null,{"$f":"IFERROR(WORKDAY(C1514,R1514,DiasNOLaborables),\"\")","v":43987},{"$f":"+IF(C1514=\"\",\"\",IF(I1514=\"\",\"\",(IF(I1514<=L1514,\"A TIEMPO\",\"FUERA DE TIEMPO\"))))","v":"A TIEMPO"},{"$f":"IF(I1514=\"\",\"\",NETWORKDAYS([4]Hoja1!C1514+1,[4]Hoja1!P1514,DiasNOLaborables))","v":9},"",null,null,20]
[1504,20209050038562,43959,"MODULO CONTACTENOS","SOLICITUD DE INFORMACIÓN Y DOCUMENTOS","SOLICITUD DE INFORMACIÓN HIDROMETEOROLÓGICA","NO","GRUPO DE ATENCIÓN AL CIUDADANO",43966,null,null,{"$f":"IFERROR(WORKDAY(C1515,R1515,DiasNOLaborables),\"\")","v":43990},{"$f":"+IF(C1515=\"\",\"\",IF(I1515=\"\",\"\",(IF(I1515<=L1515,\"A TIEMPO\",\"FUERA DE TIEMPO\"))))","v":"A TIEMPO"},{"$f":"IF(I1515=\"\",\"\",NETWORKDAYS([4]Hoja1!C1515+1,[4]Hoja1!P1515,DiasNOLaborables))","v":9},"",null,null,20]
[1505,20209050038572,43959,"MODULO CONTACTENOS","SOLICITUD DE INFORMACIÓN Y DOCUMENTOS","SOLICITUD DE INFORMACIÓN HIDROMETEOROLÓGICA","NO","GRUPO DE ATENCIÓN AL CIUDADANO",43966,null,null,{"$f":"IFERROR(WORKDAY(C1516,R1516,DiasNOLaborables),\"\")","v":43990},{"$f":"+IF(C1516=\"\",\"\",IF(I1516=\"\",\"\",(IF(I1516<=L1516,\"A TIEMPO\",\"FUERA DE TIEMPO\"))))","v":"A TIEMPO"},{"$f":"IF(I1516=\"\",\"\",NETWORKDAYS([4]Hoja1!C1516+1,[4]Hoja1!P1516,DiasNOLaborables))","v":8},"",null,null,20]
[1506,20209050038582,43959,"MODULO CONTACTENOS","SOLICITUD DE INFORMACIÓN Y DOCUMENTOS","SOLICITUD DE INFORMACIÓN HIDROMETEOROLÓGICA","NO","GRUPO DE ATENCIÓN AL CIUDADANO",43966,null,null,{"$f":"IFERROR(WORKDAY(C1517,R1517,DiasNOLaborables),\"\")","v":43990},{"$f":"+IF(C1517=\"\",\"\",IF(I1517=\"\",\"\",(IF(I1517<=L1517,\"A TIEMPO\",\"FUERA DE TIEMPO\"))))","v":"A TIEMPO"},{"$f":"IF(I1517=\"\",\"\",NETWORKDAYS([4]Hoja1!C1517+1,[4]Hoja1!P1517,DiasNOLaborables))","v":8},"",null,null,20]
[1507,20209050038592,43959,"MODULO CONTACTENOS","SOLICITUD DE INFORMACIÓN Y DOCUMENTOS","SOLICITUD DE INFORMACIÓN HIDROMETEOROLÓGICA","NO","GRUPO DE ATENCIÓN AL CIUDADANO",43966,null,null,{"$f":"IFERROR(WORKDAY(C1518,R1518,DiasNOLaborables),\"\")","v":43990},{"$f":"+IF(C1518=\"\",\"\",IF(I1518=\"\",\"\",(IF(I1518<=L1518,\"A TIEMPO\",\"FUERA DE TIEMPO\"))))","v":"A TIEMPO"},{"$f":"IF(I1518=\"\",\"\",NETWORKDAYS([4]Hoja1!C1518+1,[4]Hoja1!P1518,DiasNOLaborables))","v":8},"",null,null,20]
[1508,20209050038622,43959,"MODULO CONTACTENOS","SOLICITUD DE INFORMACIÓN Y DOCUMENTOS","SOLICITUD DE INFORMACIÓN HIDROMETEOROLÓGICA","NO","GRUPO DE ATENCIÓN AL CIUDADANO",43966,null,null,{"$f":"IFERROR(WORKDAY(C1519,R1519,DiasNOLaborables),\"\")","v":43990},{"$f":"+IF(C1519=\"\",\"\",IF(I1519=\"\",\"\",(IF(I1519<=L1519,\"A TIEMPO\",\"FUERA DE TIEMPO\"))))","v":"A TIEMPO"},{"$f":"IF(I1519=\"\",\"\",NETWORKDAYS([4]Hoja1!C1519+1,[4]Hoja1!P1519,DiasNOLaborables))","v":8},"",null,null,20]
[1509,20209050038642,43959,"MODULO CONTACTENOS","SOLICITUD DE INFORMACIÓN Y DOCUMENTOS","SOLICITUD DE INFORMACIÓN HIDROMETEOROLÓGICA","NO","GRUPO DE ATENCIÓN AL CIUDADANO",43966,null,null,{"$f":"IFERROR(WORKDAY(C1520,R1520,DiasNOLaborables),\"\")","v":43990},{"$f":"+IF(C1520=\"\",\"\",IF(I1520=\"\",\"\",(IF(I1520<=L1520,\"A TIEMPO\",\"FUERA DE TIEMPO\"))))","v":"A TIEMPO"},{"$f":"IF(I1520=\"\",\"\",NETWORKDAYS([4]Hoja1!C1520+1,[4]Hoja1!P1520,DiasNOLaborables))","v":8},"",null,null,20]
[1510,20209050038652,43959,"MODULO CONTACTENOS","SOLICITUD DE INFORMACIÓN Y DOCUMENTOS","SOLICITUD DE INFORMACIÓN HIDROMETEOROLÓGICA","NO","GRUPO DE ATENCIÓN AL CIUDADANO",43966,null,null,{"$f":"IFERROR(WORKDAY(C1521,R1521,DiasNOLaborables),\"\")","v":43990},{"$f":"+IF(C1521=\"\",\"\",IF(I1521=\"\",\"\",(IF(I1521<=L1521,\"A TIEMPO\",\"FUERA DE TIEMPO\"))))","v":"A TIEMPO"},{"$f":"IF(I1521=\"\",\"\",NETWORKDAYS([4]Hoja1!C1521+1,[4]Hoja1!P1521,DiasNOLaborables))","v":8},"",null,null,20]
[{"$f":"IF(B1520<>\"\",A1521+1,\"\")","v":1511},20209050038662,43959,"MODULO CONTACTENOS","SOLICITUD DE INFORMACIÓN Y DOCUMENTOS","SOLICITUD DE INFORMACIÓN HIDROMETEOROLÓGICA","NO","GRUPO DE ATENCIÓN AL CIUDADANO",43966,null,null,{"$f":"IFERROR(WORKDAY(C1522,R1522,DiasNOLaborables),\"\")","v":43990},{"$f":"+IF(C1522=\"\",\"\",IF(I1522=\"\",\"\",(IF(I1522<=L1522,\"A TIEMPO\",\"FUERA DE TIEMPO\"))))","v":"A TIEMPO"},{"$f":"IF(I1522=\"\",\"\",NETWORKDAYS([4]Hoja1!C1522+1,[4]Hoja1!P1522,DiasNOLaborables))","v":8},"",null,null,{"$f":"IFERROR(VLOOKUP(E1522,$Z$50:$AA$63,2),\"\")","v":20}]
[1512,20209050038682,43959,"MODULO CONTACTENOS","SOLICITUD DE INFORMACIÓN Y DOCUMENTOS","SOLICITUD DE INFORMACIÓN HIDROMETEOROLÓGICA","NO","GRUPO DE ATENCIÓN AL CIUDADANO",43966,null,null,{"$f":"IFERROR(WORKDAY(C1523,R1523,DiasNOLaborables),\"\")","v":43990},{"$f":"+IF(C1523=\"\",\"\",IF(I1523=\"\",\"\",(IF(I1523<=L1523,\"A TIEMPO\",\"FUERA DE TIEMPO\"))))","v":"A TIEMPO"},{"$f":"IF(I1523=\"\",\"\",NETWORKDAYS([4]Hoja1!C1523+1,[4]Hoja1!P1523,DiasNOLaborables))","v":8},"",null,null,20]
[1513,20209050039282,43962,"MODULO CONTACTENOS","SOLICITUD DE INFORMACIÓN Y DOCUMENTOS","SOLICITUD DE INFORMACIÓN HIDROMETEOROLÓGICA","NO","GRUPO DE ATENCIÓN AL CIUDADANO",43968,null,null,{"$f":"IFERROR(WORKDAY(C1524,R1524,DiasNOLaborables),\"\")","v":43991},{"$f":"+IF(C1524=\"\",\"\",IF(I1524=\"\",\"\",(IF(I1524<=L1524,\"A TIEMPO\",\"FUERA DE TIEMPO\"))))","v":"A TIEMPO"},{"$f":"IF(I1524=\"\",\"\",NETWORKDAYS([4]Hoja1!C1524+1,[4]Hoja1!P1524,DiasNOLaborables))","v":7},{"$f":"IF(NETWORKDAYS(L1524+1,I1524,DiasNOLaborables)<=0,\"\",NETWORKDAYS(L1524+1,I1524,DiasNOLaborables))","v":""},null,null,20]
[1514,20209050039352,43962,"MODULO CONTACTENOS","SOLICITUD DE INFORMACIÓN Y DOCUMENTOS","SOLICITUD DE INFORMACIÓN HIDROMETEOROLÓGICA","NO","GRUPO DE ATENCIÓN AL CIUDADANO",43968,null,null,{"$f":"IFERROR(WORKDAY(C1525,R1525,DiasNOLaborables),\"\")","v":43991},{"$f":"+IF(C1525=\"\",\"\",IF(I1525=\"\",\"\",(IF(I1525<=L1525,\"A TIEMPO\",\"FUERA DE TIEMPO\"))))","v":"A TIEMPO"},{"$f":"IF(I1525=\"\",\"\",NETWORKDAYS([4]Hoja1!C1525+1,[4]Hoja1!P1525,DiasNOLaborables))","v":7},"",null,null,20]
[1515,20209050039362,43962,"MODULO CONTACTENOS","SOLICITUD DE INFORMACIÓN Y DOCUMENTOS","SOLICITUD DE INFORMACIÓN HIDROMETEOROLÓGICA","NO","GRUPO DE ATENCIÓN AL CIUDADANO",43968,null,null,{"$f":"IFERROR(WORKDAY(C1526,R1526,DiasNOLaborables),\"\")","v":43991},{"$f":"+IF(C1526=\"\",\"\",IF(I1526=\"\",\"\",(IF(I1526<=L1526,\"A TIEMPO\",\"FUERA DE TIEMPO\"))))","v":"A TIEMPO"},{"$f":"IF(I1526=\"\",\"\",NETWORKDAYS([4]Hoja1!C1526+1,[4]Hoja1!P1526,DiasNOLaborables))","v":6},"",null,null,20]
[1516,20209050039472,43962,"MODULO CONTACTENOS","SOLICITUD DE INFORMACIÓN Y DOCUMENTOS","SOLICITUD DE INFORMACIÓN HIDROMETEOROLÓGICA","NO","GRUPO DE ATENCIÓN AL CIUDADANO",43968,null,null,{"$f":"IFERROR(WORKDAY(C1527,R1527,DiasNOLaborables),\"\")","v":43991},{"$f":"+IF(C1527=\"\",\"\",IF(I1527=\"\",\"\",(IF(I1527<=L1527,\"A TIEMPO\",\"FUERA DE TIEMPO\"))))","v":"A TIEMPO"},{"$f":"IF(I1527=\"\",\"\",NETWORKDAYS([4]Hoja1!C1527+1,[4]Hoja1!P1527,DiasNOLaborables))","v":1},"",null,null,20]
[1517,20209050039482,43963,"MODULO CONTACTENOS","SOLICITUD DE INFORMACIÓN Y DOCUMENTOS","SOLICITUD DE INFORMACIÓN HIDROMETEOROLÓGICA","NO","GRUPO DE ATENCIÓN AL CIUDADANO",43968,null,null,{"$f":"IFERROR(WORKDAY(C1528,R1528,DiasNOLaborables),\"\")","v":43992},{"$f":"+IF(C1528=\"\",\"\",IF(I1528=\"\",\"\",(IF(I1528<=L1528,\"A TIEMPO\",\"FUERA DE TIEMPO\"))))","v":"A TIEMPO"},{"$f":"IF(I1528=\"\",\"\",NETWORKDAYS([4]Hoja1!C1528+1,[4]Hoja1!P1528,DiasNOLaborables))","v":8},"",null,null,20]
[1518,20209050039492,43963,"MODULO CONTACTENOS","SOLICITUD DE INFORMACIÓN Y DOCUMENTOS","SOLICITUD DE INFORMACIÓN HIDROMETEOROLÓGICA","NO","GRUPO DE ATENCIÓN AL CIUDADANO",43968,null,null,{"$f":"IFERROR(WORKDAY(C1529,R1529,DiasNOLaborables),\"\")","v":43992},{"$f":"+IF(C1529=\"\",\"\",IF(I1529=\"\",\"\",(IF(I1529<=L1529,\"A TIEMPO\",\"FUERA DE TIEMPO\"))))","v":"A TIEMPO"},{"$f":"IF(I1529=\"\",\"\",NETWORKDAYS([4]Hoja1!C1529+1,[4]Hoja1!P1529,DiasNOLaborables))","v":8},"",null,null,20]
[1519,20209050039522,43963,"MODULO CONTACTENOS","SOLICITUD DE INFORMACIÓN Y DOCUMENTOS","SOLICITUD DE INFORMACIÓN HIDROMETEOROLÓGICA","NO","GRUPO DE ATENCIÓN AL CIUDADANO",43968,null,null,{"$f":"IFERROR(WORKDAY(C1530,R1530,DiasNOLaborables),\"\")","v":43992},{"$f":"+IF(C1530=\"\",\"\",IF(I1530=\"\",\"\",(IF(I1530<=L1530,\"A TIEMPO\",\"FUERA DE TIEMPO\"))))","v":"A TIEMPO"},{"$f":"IF(I1530=\"\",\"\",NETWORKDAYS([4]Hoja1!C1530+1,[4]Hoja1!P1530,DiasNOLaborables))","v":8},"",null,null,20]
[1520,20209050039752,43963,"MODULO CONTACTENOS","SOLICITUD DE INFORMACIÓN Y DOCUMENTOS","SOLICITUD DE INFORMACIÓN HIDROMETEOROLÓGICA","NO","GRUPO DE ATENCIÓN AL CIUDADANO",43968,null,null,{"$f":"IFERROR(WORKDAY(C1531,R1531,DiasNOLaborables),\"\")","v":43992},{"$f":"+IF(C1531=\"\",\"\",IF(I1531=\"\",\"\",(IF(I1531<=L1531,\"A TIEMPO\",\"FUERA DE TIEMPO\"))))","v":"A TIEMPO"},{"$f":"IF(I1531=\"\",\"\",NETWORKDAYS([4]Hoja1!C1531+1,[4]Hoja1!P1531,DiasNOLaborables))","v":8},"",null,null,20]
[1521,20209050039772,43963,"MODULO CONTACTENOS","SOLICITUD DE INFORMACIÓN Y DOCUMENTOS","SOLICITUD DE INFORMACIÓN HIDROMETEOROLÓGICA","NO","GRUPO DE ATENCIÓN AL CIUDADANO",43968,null,null,{"$f":"IFERROR(WORKDAY(C1532,R1532,DiasNOLaborables),\"\")","v":43992},{"$f":"+IF(C1532=\"\",\"\",IF(I1532=\"\",\"\",(IF(I1532<=L1532,\"A TIEMPO\",\"FUERA DE TIEMPO\"))))","v":"A TIEMPO"},{"$f":"IF(I1532=\"\",\"\",NETWORKDAYS([4]Hoja1!C1532+1,[4]Hoja1!P1532,DiasNOLaborables))","v":8},"",null,null,20]
[1522,20209050039782,43964,"MODULO CONTACTENOS","SOLICITUD DE INFORMACIÓN Y DOCUMENTOS","SOLICITUD DE INFORMACIÓN HIDROMETEOROLÓGICA","NO","GRUPO DE ATENCIÓN AL CIUDADANO",43968,null,null,{"$f":"IFERROR(WORKDAY(C1533,R1533,DiasNOLaborables),\"\")","v":43993},{"$f":"+IF(C1533=\"\",\"\",IF(I1533=\"\",\"\",(IF(I1533<=L1533,\"A TIEMPO\",\"FUERA DE TIEMPO\"))))","v":"A TIEMPO"},{"$f":"IF(I1533=\"\",\"\",NETWORKDAYS([4]Hoja1!C1533+1,[4]Hoja1!P1533,DiasNOLaborables))","v":8},"",null,null,20]
[1523,20209050039842,43964,"MODULO CONTACTENOS","SOLICITUD DE INFORMACIÓN Y DOCUMENTOS","SOLICITUD DE INFORMACIÓN HIDROMETEOROLÓGICA","NO","GRUPO DE ATENCIÓN AL CIUDADANO",43968,null,null,{"$f":"IFERROR(WORKDAY(C1534,R1534,DiasNOLaborables),\"\")","v":43993},{"$f":"+IF(C1534=\"\",\"\",IF(I1534=\"\",\"\",(IF(I1534<=L1534,\"A TIEMPO\",\"FUERA DE TIEMPO\"))))","v":"A TIEMPO"},{"$f":"IF(I1534=\"\",\"\",NETWORKDAYS([4]Hoja1!C1534+1,[4]Hoja1!P1534,DiasNOLaborables))","v":8},"",null,null,20]
[1524,20209050039882,43964,"MODULO CONTACTENOS","SOLICITUD DE INFORMACIÓN Y DOCUMENTOS","SOLICITUD DE INFORMACIÓN HIDROMETEOROLÓGICA","NO","GRUPO DE ATENCIÓN AL CIUDADANO",43968,null,null,{"$f":"IFERROR(WORKDAY(C1535,R1535,DiasNOLaborables),\"\")","v":43993},{"$f":"+IF(C1535=\"\",\"\",IF(I1535=\"\",\"\",(IF(I1535<=L1535,\"A TIEMPO\",\"FUERA DE TIEMPO\"))))","v":"A TIEMPO"},{"$f":"IF(I1535=\"\",\"\",NETWORKDAYS([4]Hoja1!C1535+1,[4]Hoja1!P1535,DiasNOLaborables))","v":8},"",null,null,20]
[1525,20209050039872,43964,"MODULO CONTACTENOS","SOLICITUD DE INFORMACIÓN Y DOCUMENTOS","SOLICITUD DE INFORMACIÓN HIDROMETEOROLÓGICA","NO","GRUPO DE ATENCIÓN AL CIUDADANO",43968,null,null,{"$f":"IFERROR(WORKDAY(C1536,R1536,DiasNOLaborables),\"\")","v":43993},{"$f":"+IF(C1536=\"\",\"\",IF(I1536=\"\",\"\",(IF(I1536<=L1536,\"A TIEMPO\",\"FUERA DE TIEMPO\"))))","v":"A TIEMPO"},{"$f":"IF(I1536=\"\",\"\",NETWORKDAYS([4]Hoja1!C1536+1,[4]Hoja1!P1536,DiasNOLaborables))","v":8},"",null,null,20]
[1526,20209050039932,43964,"MODULO CONTACTENOS","SOLICITUD DE INFORMACIÓN Y DOCUMENTOS","SOLICITUD DE INFORMACIÓN HIDROMETEOROLÓGICA","NO","GRUPO DE ATENCIÓN AL CIUDADANO",43968,null,null,{"$f":"IFERROR(WORKDAY(C1537,R1537,DiasNOLaborables),\"\")","v":43993},{"$f":"+IF(C1537=\"\",\"\",IF(I1537=\"\",\"\",(IF(I1537<=L1537,\"A TIEMPO\",\"FUERA DE TIEMPO\"))))","v":"A TIEMPO"},{"$f":"IF(I1537=\"\",\"\",NETWORKDAYS([4]Hoja1!C1537+1,[4]Hoja1!P1537,DiasNOLaborables))","v":8},"",null,null,20]
[1527,20209050039972,43964,"MODULO CONTACTENOS","SOLICITUD DE INFORMACIÓN Y DOCUMENTOS","SOLICITUD DE INFORMACIÓN HIDROMETEOROLÓGICA","NO","GRUPO DE ATENCIÓN AL CIUDADANO",43968,null,null,{"$f":"IFERROR(WORKDAY(C1538,R1538,DiasNOLaborables),\"\")","v":43993},{"$f":"+IF(C1538=\"\",\"\",IF(I1538=\"\",\"\",(IF(I1538<=L1538,\"A TIEMPO\",\"FUERA DE TIEMPO\"))))","v":"A TIEMPO"},{"$f":"IF(I1538=\"\",\"\",NETWORKDAYS([4]Hoja1!C1538+1,[4]Hoja1!P1538,DiasNOLaborables))","v":8},"",null,null,20]
[1528,20209050039982,43964,"MODULO CONTACTENOS","SOLICITUD DE INFORMACIÓN Y DOCUMENTOS","SOLICITUD DE INFORMACIÓN HIDROMETEOROLÓGICA","NO","GRUPO DE ATENCIÓN AL CIUDADANO",43968,null,null,{"$f":"IFERROR(WORKDAY(C1539,R1539,DiasNOLaborables),\"\")","v":43993},{"$f":"+IF(C1539=\"\",\"\",IF(I1539=\"\",\"\",(IF(I1539<=L1539,\"A TIEMPO\",\"FUERA DE TIEMPO\"))))","v":"A TIEMPO"},{"$f":"IF(I1539=\"\",\"\",NETWORKDAYS([4]Hoja1!C1539+1,[4]Hoja1!P1539,DiasNOLaborables))","v":8},"",null,null,20]
[1529,20209050040312,43969,"MODULO CONTACTENOS","SOLICITUD DE INFORMACIÓN Y DOCUMENTOS","SOLICITUD DE INFORMACIÓN HIDROMETEOROLÓGICA","NO","GRUPO DE ATENCIÓN AL CIUDADANO",43968,null,null,{"$f":"IFERROR(WORKDAY(C1540,R1540,DiasNOLaborables),\"\")","v":43999},{"$f":"+IF(C1540=\"\",\"\",IF(I1540=\"\",\"\",(IF(I1540<=L1540,\"A TIEMPO\",\"FUERA DE TIEMPO\"))))","v":"A TIEMPO"},{"$f":"IF(I1540=\"\",\"\",NETWORKDAYS([4]Hoja1!C1540+1,[4]Hoja1!P1540,DiasNOLaborables))","v":8},"",null,null,20]
[1530,20209050040322,43965,"MODULO CONTACTENOS","SOLICITUD DE INFORMACIÓN Y DOCUMENTOS","SOLICITUD DE INFORMACIÓN HIDROMETEOROLÓGICA","NO","GRUPO DE ATENCIÓN AL CIUDADANO",43968,null,null,{"$f":"IFERROR(WORKDAY(C1541,R1541,DiasNOLaborables),\"\")","v":43994},{"$f":"+IF(C1541=\"\",\"\",IF(I1541=\"\",\"\",(IF(I1541<=L1541,\"A TIEMPO\",\"FUERA DE TIEMPO\"))))","v":"A TIEMPO"},{"$f":"IF(I1541=\"\",\"\",NETWORKDAYS([4]Hoja1!C1541+1,[4]Hoja1!P1541,DiasNOLaborables))","v":9},"",null,null,20]
[1531,20209050040712,43966,"MODULO CONTACTENOS","SOLICITUD DE INFORMACIÓN Y DOCUMENTOS","SOLICITUD DE INFORMACIÓN HIDROMETEOROLÓGICA","NO","GRUPO DE ATENCIÓN AL CIUDADANO",43968,null,null,{"$f":"IFERROR(WORKDAY(C1542,R1542,DiasNOLaborables),\"\")","v":43998},{"$f":"+IF(C1542=\"\",\"\",IF(I1542=\"\",\"\",(IF(I1542<=L1542,\"A TIEMPO\",\"FUERA DE TIEMPO\"))))","v":"A TIEMPO"},{"$f":"IF(I1542=\"\",\"\",NETWORKDAYS([4]Hoja1!C1542+1,[4]Hoja1!P1542,DiasNOLaborables))","v":9},"",null,null,20]
[1532,20200508173911,43959,"WEB (MÓDULO DE SOLICITUD DE INFORMACIÓN HIDROMETEOROLÓGICA)","SOLICITUD DE INFORMACIÓN Y DOCUMENTOS","SOLICITUD DE INFORMACIÓN HIDROMETEOROLÓGICA","NO","GRUPO DE ATENCIÓN AL CIUDADANO",43968,null,null,{"$f":"IFERROR(WORKDAY(C1543,R1543,DiasNOLaborables),\"\")","v":43990},{"$f":"+IF(C1543=\"\",\"\",IF(I1543=\"\",\"\",(IF(I1543<=L1543,\"A TIEMPO\",\"FUERA DE TIEMPO\"))))","v":"A TIEMPO"},{"$f":"IF(I1543=\"\",\"\",NETWORKDAYS([4]Hoja1!C1543+1,[4]Hoja1!P1543,DiasNOLaborables))","v":9},"",null,null,20]
[1533,20200508171328,43959,"WEB (MÓDULO DE SOLICITUD DE INFORMACIÓN HIDROMETEOROLÓGICA)","SOLICITUD DE INFORMACIÓN Y DOCUMENTOS","SOLICITUD DE INFORMACIÓN HIDROMETEOROLÓGICA","NO","GRUPO DE ATENCIÓN AL CIUDADANO",43968,null,null,{"$f":"IFERROR(WORKDAY(C1544,R1544,DiasNOLaborables),\"\")","v":43990},{"$f":"+IF(C1544=\"\",\"\",IF(I1544=\"\",\"\",(IF(I1544<=L1544,\"A TIEMPO\",\"FUERA DE TIEMPO\"))))","v":"A TIEMPO"},{"$f":"IF(I1544=\"\",\"\",NETWORKDAYS([4]Hoja1!C1544+1,[4]Hoja1!P1544,DiasNOLaborables))","v":9},"",null,null,20]
[1534,20200508163134,43959,"WEB (MÓDULO DE SOLICITUD DE INFORMACIÓN HIDROMETEOROLÓGICA)","SOLICITUD DE INFORMACIÓN Y DOCUMENTOS","SOLICITUD DE INFORMACIÓN HIDROMETEOROLÓGICA","NO","GRUPO DE ATENCIÓN AL CIUDADANO",43968,null,null,{"$f":"IFERROR(WORKDAY(C1545,R1545,DiasNOLaborables),\"\")","v":43990},{"$f":"+IF(C1545=\"\",\"\",IF(I1545=\"\",\"\",(IF(I1545<=L1545,\"A TIEMPO\",\"FUERA DE TIEMPO\"))))","v":"A TIEMPO"},{"$f":"IF(I1545=\"\",\"\",NETWORKDAYS([4]Hoja1!C1545+1,[4]Hoja1!P1545,DiasNOLaborables))","v":9},"",null,null,20]
[1535,20200508162643,43959,"WEB (MÓDULO DE SOLICITUD DE INFORMACIÓN HIDROMETEOROLÓGICA)","SOLICITUD DE INFORMACIÓN Y DOCUMENTOS","SOLICITUD DE INFORMACIÓN HIDROMETEOROLÓGICA","NO","GRUPO DE ATENCIÓN AL CIUDADANO",43968,null,null,{"$f":"IFERROR(WORKDAY(C1546,R1546,DiasNOLaborables),\"\")","v":43990},{"$f":"+IF(C1546=\"\",\"\",IF(I1546=\"\",\"\",(IF(I1546<=L1546,\"A TIEMPO\",\"FUERA DE TIEMPO\"))))","v":"A TIEMPO"},{"$f":"IF(I1546=\"\",\"\",NETWORKDAYS([4]Hoja1!C1546+1,[4]Hoja1!P1546,DiasNOLaborables))","v":9},"",null,null,20]
[1536,20200508112510,43959,"WEB (MÓDULO DE SOLICITUD DE INFORMACIÓN HIDROMETEOROLÓGICA)","SOLICITUD DE INFORMACIÓN Y DOCUMENTOS","SOLICITUD DE INFORMACIÓN HIDROMETEOROLÓGICA","NO","GRUPO DE ATENCIÓN AL CIUDADANO",43968,null,null,{"$f":"IFERROR(WORKDAY(C1547,R1547,DiasNOLaborables),\"\")","v":43990},{"$f":"+IF(C1547=\"\",\"\",IF(I1547=\"\",\"\",(IF(I1547<=L1547,\"A TIEMPO\",\"FUERA DE TIEMPO\"))))","v":"A TIEMPO"},{"$f":"IF(I1547=\"\",\"\",NETWORKDAYS([4]Hoja1!C1547+1,[4]Hoja1!P1547,DiasNOLaborables))","v":9},"",null,null,20]
[1537,20200508112240,43959,"WEB (MÓDULO DE SOLICITUD DE INFORMACIÓN HIDROMETEOROLÓGICA)","SOLICITUD DE INFORMACIÓN Y DOCUMENTOS","SOLICITUD DE INFORMACIÓN HIDROMETEOROLÓGICA","NO","GRUPO DE ATENCIÓN AL CIUDADANO",43968,null,null,{"$f":"IFERROR(WORKDAY(C1548,R1548,DiasNOLaborables),\"\")","v":43990},{"$f":"+IF(C1548=\"\",\"\",IF(I1548=\"\",\"\",(IF(I1548<=L1548,\"A TIEMPO\",\"FUERA DE TIEMPO\"))))","v":"A TIEMPO"},{"$f":"IF(I1548=\"\",\"\",NETWORKDAYS([4]Hoja1!C1548+1,[4]Hoja1!P1548,DiasNOLaborables))","v":8},"",null,null,20]
[1538,20200508111817,43959,"WEB (MÓDULO DE SOLICITUD DE INFORMACIÓN HIDROMETEOROLÓGICA)","SOLICITUD DE INFORMACIÓN Y DOCUMENTOS","SOLICITUD DE INFORMACIÓN HIDROMETEOROLÓGICA","NO","GRUPO DE ATENCIÓN AL CIUDADANO",43968,null,null,{"$f":"IFERROR(WORKDAY(C1549,R1549,DiasNOLaborables),\"\")","v":43990},{"$f":"+IF(C1549=\"\",\"\",IF(I1549=\"\",\"\",(IF(I1549<=L1549,\"A TIEMPO\",\"FUERA DE TIEMPO\"))))","v":"A TIEMPO"},{"$f":"IF(I1549=\"\",\"\",NETWORKDAYS([4]Hoja1!C1549+1,[4]Hoja1!P1549,DiasNOLaborables))","v":8},"",null,null,20]
[1539,20200508104819,43959,"WEB (MÓDULO DE SOLICITUD DE INFORMACIÓN HIDROMETEOROLÓGICA)","SOLICITUD DE INFORMACIÓN Y DOCUMENTOS","SOLICITUD DE INFORMACIÓN HIDROMETEOROLÓGICA","NO","GRUPO DE ATENCIÓN AL CIUDADANO",43968,null,null,{"$f":"IFERROR(WORKDAY(C1550,R1550,DiasNOLaborables),\"\")","v":43990},{"$f":"+IF(C1550=\"\",\"\",IF(I1550=\"\",\"\",(IF(I1550<=L1550,\"A TIEMPO\",\"FUERA DE TIEMPO\"))))","v":"A TIEMPO"},{"$f":"IF(I1550=\"\",\"\",NETWORKDAYS([4]Hoja1!C1550+1,[4]Hoja1!P1550,DiasNOLaborables))","v":8},"",null,null,20]
[1540,20200508101731,43959,"WEB (MÓDULO DE SOLICITUD DE INFORMACIÓN HIDROMETEOROLÓGICA)","SOLICITUD DE INFORMACIÓN Y DOCUMENTOS","SOLICITUD DE INFORMACIÓN HIDROMETEOROLÓGICA","NO","GRUPO DE ATENCIÓN AL CIUDADANO",43968,null,null,{"$f":"IFERROR(WORKDAY(C1551,R1551,DiasNOLaborables),\"\")","v":43990},{"$f":"+IF(C1551=\"\",\"\",IF(I1551=\"\",\"\",(IF(I1551<=L1551,\"A TIEMPO\",\"FUERA DE TIEMPO\"))))","v":"A TIEMPO"},{"$f":"IF(I1551=\"\",\"\",NETWORKDAYS([4]Hoja1!C1551+1,[4]Hoja1!P1551,DiasNOLaborables))","v":8},"",null,null,20]
[1541,20200509155951,43960,"WEB (MÓDULO DE SOLICITUD DE INFORMACIÓN HIDROMETEOROLÓGICA)","SOLICITUD DE INFORMACIÓN Y DOCUMENTOS","SOLICITUD DE INFORMACIÓN HIDROMETEOROLÓGICA","NO","GRUPO DE ATENCIÓN AL CIUDADANO",43968,null,null,{"$f":"IFERROR(WORKDAY(C1552,R1552,DiasNOLaborables),\"\")","v":43990},{"$f":"+IF(C1552=\"\",\"\",IF(I1552=\"\",\"\",(IF(I1552<=L1552,\"A TIEMPO\",\"FUERA DE TIEMPO\"))))","v":"A TIEMPO"},{"$f":"IF(I1552=\"\",\"\",NETWORKDAYS([4]Hoja1!C1552+1,[4]Hoja1!P1552,DiasNOLaborables))","v":8},"",null,null,20]
[1542,20200519165612,43970,"WEB (MÓDULO DE SOLICITUD DE INFORMACIÓN HIDROMETEOROLÓGICA)","SOLICITUD DE INFORMACIÓN Y DOCUMENTOS","SOLICITUD DE INFORMACIÓN HIDROMETEOROLÓGICA","NO","GRUPO DE ATENCIÓN AL CIUDADANO",43977,null,null,{"$f":"IFERROR(WORKDAY(C1553,R1553,DiasNOLaborables),\"\")","v":44000},{"$f":"+IF(C1553=\"\",\"\",IF(I1553=\"\",\"\",(IF(I1553<=L1553,\"A TIEMPO\",\"FUERA DE TIEMPO\"))))","v":"A TIEMPO"},{"$f":"IF(I1553=\"\",\"\",NETWORKDAYS([4]Hoja1!C1553+1,[4]Hoja1!P1553,DiasNOLaborables))","v":8},"",null,null,20]
[1543,20200519163502,43970,"WEB (MÓDULO DE SOLICITUD DE INFORMACIÓN HIDROMETEOROLÓGICA)","SOLICITUD DE INFORMACIÓN Y DOCUMENTOS","SOLICITUD DE INFORMACIÓN HIDROMETEOROLÓGICA","NO","GRUPO DE ATENCIÓN AL CIUDADANO",43977,null,null,{"$f":"IFERROR(WORKDAY(C1554,R1554,DiasNOLaborables),\"\")","v":44000},{"$f":"+IF(C1554=\"\",\"\",IF(I1554=\"\",\"\",(IF(I1554<=L1554,\"A TIEMPO\",\"FUERA DE TIEMPO\"))))","v":"A TIEMPO"},{"$f":"IF(I1554=\"\",\"\",NETWORKDAYS([4]Hoja1!C1554+1,[4]Hoja1!P1554,DiasNOLaborables))","v":8},"",null,null,20]
[1544,20200519161247,43970,"WEB (MÓDULO DE SOLICITUD DE INFORMACIÓN HIDROMETEOROLÓGICA)","SOLICITUD DE INFORMACIÓN Y DOCUMENTOS","SOLICITUD DE INFORMACIÓN HIDROMETEOROLÓGICA","NO","GRUPO DE ATENCIÓN AL CIUDADANO",43977,null,null,{"$f":"IFERROR(WORKDAY(C1555,R1555,DiasNOLaborables),\"\")","v":44000},{"$f":"+IF(C1555=\"\",\"\",IF(I1555=\"\",\"\",(IF(I1555<=L1555,\"A TIEMPO\",\"FUERA DE TIEMPO\"))))","v":"A TIEMPO"},{"$f":"IF(I1555=\"\",\"\",NETWORKDAYS([4]Hoja1!C1555+1,[4]Hoja1!P1555,DiasNOLaborables))","v":8},"",null,null,20]
[1545,20200519154112,43970,"WEB (MÓDULO DE SOLICITUD DE INFORMACIÓN HIDROMETEOROLÓGICA)","SOLICITUD DE INFORMACIÓN Y DOCUMENTOS","SOLICITUD DE INFORMACIÓN HIDROMETEOROLÓGICA","NO","GRUPO DE ATENCIÓN AL CIUDADANO",43977,null,null,{"$f":"IFERROR(WORKDAY(C1556,R1556,DiasNOLaborables),\"\")","v":44000},{"$f":"+IF(C1556=\"\",\"\",IF(I1556=\"\",\"\",(IF(I1556<=L1556,\"A TIEMPO\",\"FUERA DE TIEMPO\"))))","v":"A TIEMPO"},{"$f":"IF(I1556=\"\",\"\",NETWORKDAYS([4]Hoja1!C1556+1,[4]Hoja1!P1556,DiasNOLaborables))","v":8},"",null,null,20]
[1546,20200519151706,43970,"WEB (MÓDULO DE SOLICITUD DE INFORMACIÓN HIDROMETEOROLÓGICA)","SOLICITUD DE INFORMACIÓN Y DOCUMENTOS","SOLICITUD DE INFORMACIÓN HIDROMETEOROLÓGICA","NO","GRUPO DE ATENCIÓN AL CIUDADANO",43977,null,null,{"$f":"IFERROR(WORKDAY(C1557,R1557,DiasNOLaborables),\"\")","v":44000},{"$f":"+IF(C1557=\"\",\"\",IF(I1557=\"\",\"\",(IF(I1557<=L1557,\"A TIEMPO\",\"FUERA DE TIEMPO\"))))","v":"A TIEMPO"},{"$f":"IF(I1557=\"\",\"\",NETWORKDAYS([4]Hoja1!C1557+1,[4]Hoja1!P1557,DiasNOLaborables))","v":8},"",null,null,20]
[1547,20200519143532,43970,"WEB (MÓDULO DE SOLICITUD DE INFORMACIÓN HIDROMETEOROLÓGICA)","SOLICITUD DE INFORMACIÓN Y DOCUMENTOS","SOLICITUD DE INFORMACIÓN HIDROMETEOROLÓGICA","NO","GRUPO DE ATENCIÓN AL CIUDADANO",43977,null,null,{"$f":"IFERROR(WORKDAY(C1558,R1558,DiasNOLaborables),\"\")","v":44000},{"$f":"+IF(C1558=\"\",\"\",IF(I1558=\"\",\"\",(IF(I1558<=L1558,\"A TIEMPO\",\"FUERA DE TIEMPO\"))))","v":"A TIEMPO"},{"$f":"IF(I1558=\"\",\"\",NETWORKDAYS([4]Hoja1!C1558+1,[4]Hoja1!P1558,DiasNOLaborables))","v":8},"",null,null,20]
[1548,20200519140515,43970,"WEB (MÓDULO DE SOLICITUD DE INFORMACIÓN HIDROMETEOROLÓGICA)","SOLICITUD DE INFORMACIÓN Y DOCUMENTOS","SOLICITUD DE INFORMACIÓN HIDROMETEOROLÓGICA","NO","GRUPO DE ATENCIÓN AL CIUDADANO",43977,null,null,{"$f":"IFERROR(WORKDAY(C1559,R1559,DiasNOLaborables),\"\")","v":44000},{"$f":"+IF(C1559=\"\",\"\",IF(I1559=\"\",\"\",(IF(I1559<=L1559,\"A TIEMPO\",\"FUERA DE TIEMPO\"))))","v":"A TIEMPO"},{"$f":"IF(I1559=\"\",\"\",NETWORKDAYS([4]Hoja1!C1559+1,[4]Hoja1!P1559,DiasNOLaborables))","v":8},"",null,null,20]
[1549,20200519134014,43970,"WEB (MÓDULO DE SOLICITUD DE INFORMACIÓN HIDROMETEOROLÓGICA)","SOLICITUD DE INFORMACIÓN Y DOCUMENTOS","SOLICITUD DE INFORMACIÓN HIDROMETEOROLÓGICA","NO","GRUPO DE ATENCIÓN AL CIUDADANO",43977,null,null,{"$f":"IFERROR(WORKDAY(C1560,R1560,DiasNOLaborables),\"\")","v":44000},{"$f":"+IF(C1560=\"\",\"\",IF(I1560=\"\",\"\",(IF(I1560<=L1560,\"A TIEMPO\",\"FUERA DE TIEMPO\"))))","v":"A TIEMPO"},{"$f":"IF(I1560=\"\",\"\",NETWORKDAYS([4]Hoja1!C1560+1,[4]Hoja1!P1560,DiasNOLaborables))","v":8},"",null,null,20]
[1550,20200519130224,43970,"WEB (MÓDULO DE SOLICITUD DE INFORMACIÓN HIDROMETEOROLÓGICA)","SOLICITUD DE INFORMACIÓN Y DOCUMENTOS","SOLICITUD DE INFORMACIÓN HIDROMETEOROLÓGICA","NO","GRUPO DE ATENCIÓN AL CIUDADANO",43977,null,null,{"$f":"IFERROR(WORKDAY(C1561,R1561,DiasNOLaborables),\"\")","v":44000},{"$f":"+IF(C1561=\"\",\"\",IF(I1561=\"\",\"\",(IF(I1561<=L1561,\"A TIEMPO\",\"FUERA DE TIEMPO\"))))","v":"A TIEMPO"},{"$f":"IF(I1561=\"\",\"\",NETWORKDAYS([4]Hoja1!C1561+1,[4]Hoja1!P1561,DiasNOLaborables))","v":8},"",null,null,20]
[1551,20200519125744,43970,"WEB (MÓDULO DE SOLICITUD DE INFORMACIÓN HIDROMETEOROLÓGICA)","SOLICITUD DE INFORMACIÓN Y DOCUMENTOS","SOLICITUD DE INFORMACIÓN HIDROMETEOROLÓGICA","NO","GRUPO DE ATENCIÓN AL CIUDADANO",43977,null,null,{"$f":"IFERROR(WORKDAY(C1562,R1562,DiasNOLaborables),\"\")","v":44000},{"$f":"+IF(C1562=\"\",\"\",IF(I1562=\"\",\"\",(IF(I1562<=L1562,\"A TIEMPO\",\"FUERA DE TIEMPO\"))))","v":"A TIEMPO"},{"$f":"IF(I1562=\"\",\"\",NETWORKDAYS([4]Hoja1!C1562+1,[4]Hoja1!P1562,DiasNOLaborables))","v":8},"",null,null,20]
[1552,20200519110641,43970,"WEB (MÓDULO DE SOLICITUD DE INFORMACIÓN HIDROMETEOROLÓGICA)","SOLICITUD DE INFORMACIÓN Y DOCUMENTOS","SOLICITUD DE INFORMACIÓN HIDROMETEOROLÓGICA","NO","GRUPO DE ATENCIÓN AL CIUDADANO",43977,null,null,{"$f":"IFERROR(WORKDAY(C1563,R1563,DiasNOLaborables),\"\")","v":44000},{"$f":"+IF(C1563=\"\",\"\",IF(I1563=\"\",\"\",(IF(I1563<=L1563,\"A TIEMPO\",\"FUERA DE TIEMPO\"))))","v":"A TIEMPO"},{"$f":"IF(I1563=\"\",\"\",NETWORKDAYS([4]Hoja1!C1563+1,[4]Hoja1!P1563,DiasNOLaborables))","v":8},"",null,null,20]
[1553,20200519101617,43970,"WEB (MÓDULO DE SOLICITUD DE INFORMACIÓN HIDROMETEOROLÓGICA)","SOLICITUD DE INFORMACIÓN Y DOCUMENTOS","SOLICITUD DE INFORMACIÓN HIDROMETEOROLÓGICA","NO","GRUPO DE ATENCIÓN AL CIUDADANO",43977,null,null,{"$f":"IFERROR(WORKDAY(C1564,R1564,DiasNOLaborables),\"\")","v":44000},{"$f":"+IF(C1564=\"\",\"\",IF(I1564=\"\",\"\",(IF(I1564<=L1564,\"A TIEMPO\",\"FUERA DE TIEMPO\"))))","v":"A TIEMPO"},{"$f":"IF(I1564=\"\",\"\",NETWORKDAYS([4]Hoja1!C1564+1,[4]Hoja1!P1564,DiasNOLaborables))","v":8},"",null,null,20]
[1554,20200519092212,43970,"WEB (MÓDULO DE SOLICITUD DE INFORMACIÓN HIDROMETEOROLÓGICA)","SOLICITUD DE INFORMACIÓN Y DOCUMENTOS","SOLICITUD DE INFORMACIÓN HIDROMETEOROLÓGICA","NO","GRUPO DE ATENCIÓN AL CIUDADANO",43977,null,null,{"$f":"IFERROR(WORKDAY(C1565,R1565,DiasNOLaborables),\"\")","v":44000},{"$f":"+IF(C1565=\"\",\"\",IF(I1565=\"\",\"\",(IF(I1565<=L1565,\"A TIEMPO\",\"FUERA DE TIEMPO\"))))","v":"A TIEMPO"},{"$f":"IF(I1565=\"\",\"\",NETWORKDAYS([4]Hoja1!C1565+1,[4]Hoja1!P1565,DiasNOLaborables))","v":8},"",null,null,20]
[1555,20200519091737,43970,"WEB (MÓDULO DE SOLICITUD DE INFORMACIÓN HIDROMETEOROLÓGICA)","SOLICITUD DE INFORMACIÓN Y DOCUMENTOS","SOLICITUD DE INFORMACIÓN HIDROMETEOROLÓGICA","NO","GRUPO DE ATENCIÓN AL CIUDADANO",43977,null,null,{"$f":"IFERROR(WORKDAY(C1566,R1566,DiasNOLaborables),\"\")","v":44000},{"$f":"+IF(C1566=\"\",\"\",IF(I1566=\"\",\"\",(IF(I1566<=L1566,\"A TIEMPO\",\"FUERA DE TIEMPO\"))))","v":"A TIEMPO"},{"$f":"IF(I1566=\"\",\"\",NETWORKDAYS([4]Hoja1!C1566+1,[4]Hoja1!P1566,DiasNOLaborables))","v":8},"",null,null,20]
[1556,20200518174050,43969,"WEB (MÓDULO DE SOLICITUD DE INFORMACIÓN HIDROMETEOROLÓGICA)","SOLICITUD DE INFORMACIÓN Y DOCUMENTOS","SOLICITUD DE INFORMACIÓN HIDROMETEOROLÓGICA","NO","GRUPO DE ATENCIÓN AL CIUDADANO",43977,null,null,{"$f":"IFERROR(WORKDAY(C1567,R1567,DiasNOLaborables),\"\")","v":43999},{"$f":"+IF(C1567=\"\",\"\",IF(I1567=\"\",\"\",(IF(I1567<=L1567,\"A TIEMPO\",\"FUERA DE TIEMPO\"))))","v":"A TIEMPO"},{"$f":"IF(I1567=\"\",\"\",NETWORKDAYS([4]Hoja1!C1567+1,[4]Hoja1!P1567,DiasNOLaborables))","v":10},"",null,null,20]
[1557,20200518161216,43969,"WEB (MÓDULO DE SOLICITUD DE INFORMACIÓN HIDROMETEOROLÓGICA)","SOLICITUD DE INFORMACIÓN Y DOCUMENTOS","SOLICITUD DE INFORMACIÓN HIDROMETEOROLÓGICA","NO","GRUPO DE ATENCIÓN AL CIUDADANO",43977,null,null,{"$f":"IFERROR(WORKDAY(C1568,R1568,DiasNOLaborables),\"\")","v":43999},{"$f":"+IF(C1568=\"\",\"\",IF(I1568=\"\",\"\",(IF(I1568<=L1568,\"A TIEMPO\",\"FUERA DE TIEMPO\"))))","v":"A TIEMPO"},{"$f":"IF(I1568=\"\",\"\",NETWORKDAYS([4]Hoja1!C1568+1,[4]Hoja1!P1568,DiasNOLaborables))","v":10},"",null,null,20]
[1558,20200518155459,43969,"WEB (MÓDULO DE SOLICITUD DE INFORMACIÓN HIDROMETEOROLÓGICA)","SOLICITUD DE INFORMACIÓN Y DOCUMENTOS","SOLICITUD DE INFORMACIÓN HIDROMETEOROLÓGICA","NO","GRUPO DE ATENCIÓN AL CIUDADANO",43977,null,null,{"$f":"IFERROR(WORKDAY(C1569,R1569,DiasNOLaborables),\"\")","v":43999},{"$f":"+IF(C1569=\"\",\"\",IF(I1569=\"\",\"\",(IF(I1569<=L1569,\"A TIEMPO\",\"FUERA DE TIEMPO\"))))","v":"A TIEMPO"},{"$f":"IF(I1569=\"\",\"\",NETWORKDAYS([4]Hoja1!C1569+1,[4]Hoja1!P1569,DiasNOLaborables))","v":10},"",null,null,20]
[1559,20200518155104,43969,"WEB (MÓDULO DE SOLICITUD DE INFORMACIÓN HIDROMETEOROLÓGICA)","SOLICITUD DE INFORMACIÓN Y DOCUMENTOS","SOLICITUD DE INFORMACIÓN HIDROMETEOROLÓGICA","NO","GRUPO DE ATENCIÓN AL CIUDADANO",43977,null,null,{"$f":"IFERROR(WORKDAY(C1570,R1570,DiasNOLaborables),\"\")","v":43999},{"$f":"+IF(C1570=\"\",\"\",IF(I1570=\"\",\"\",(IF(I1570<=L1570,\"A TIEMPO\",\"FUERA DE TIEMPO\"))))","v":"A TIEMPO"},{"$f":"IF(I1570=\"\",\"\",NETWORKDAYS([4]Hoja1!C1570+1,[4]Hoja1!P1570,DiasNOLaborables))","v":10},"",null,null,20]
[1560,20200518154318,43969,"WEB (MÓDULO DE SOLICITUD DE INFORMACIÓN HIDROMETEOROLÓGICA)","SOLICITUD DE INFORMACIÓN Y DOCUMENTOS","SOLICITUD DE INFORMACIÓN HIDROMETEOROLÓGICA","NO","GRUPO DE ATENCIÓN AL CIUDADANO",43977,null,null,{"$f":"IFERROR(WORKDAY(C1571,R1571,DiasNOLaborables),\"\")","v":43999},{"$f":"+IF(C1571=\"\",\"\",IF(I1571=\"\",\"\",(IF(I1571<=L1571,\"A TIEMPO\",\"FUERA DE TIEMPO\"))))","v":"A TIEMPO"},{"$f":"IF(I1571=\"\",\"\",NETWORKDAYS([4]Hoja1!C1571+1,[4]Hoja1!P1571,DiasNOLaborables))","v":10},"",null,null,20]
[1561,20200518153313,43969,"WEB (MÓDULO DE SOLICITUD DE INFORMACIÓN HIDROMETEOROLÓGICA)","SOLICITUD DE INFORMACIÓN Y DOCUMENTOS","SOLICITUD DE INFORMACIÓN HIDROMETEOROLÓGICA","NO","GRUPO DE ATENCIÓN AL CIUDADANO",43977,null,null,{"$f":"IFERROR(WORKDAY(C1572,R1572,DiasNOLaborables),\"\")","v":43999},{"$f":"+IF(C1572=\"\",\"\",IF(I1572=\"\",\"\",(IF(I1572<=L1572,\"A TIEMPO\",\"FUERA DE TIEMPO\"))))","v":"A TIEMPO"},{"$f":"IF(I1572=\"\",\"\",NETWORKDAYS([4]Hoja1!C1572+1,[4]Hoja1!P1572,DiasNOLaborables))","v":10},"",null,null,20]
[1562,20200518141455,43969,"WEB (MÓDULO DE SOLICITUD DE INFORMACIÓN HIDROMETEOROLÓGICA)","SOLICITUD DE INFORMACIÓN Y DOCUMENTOS","SOLICITUD DE INFORMACIÓN HIDROMETEOROLÓGICA","NO","GRUPO DE ATENCIÓN AL CIUDADANO",43977,null,null,{"$f":"IFERROR(WORKDAY(C1573,R1573,DiasNOLaborables),\"\")","v":43999},{"$f":"+IF(C1573=\"\",\"\",IF(I1573=\"\",\"\",(IF(I1573<=L1573,\"A TIEMPO\",\"FUERA DE TIEMPO\"))))","v":"A TIEMPO"},{"$f":"IF(I1573=\"\",\"\",NETWORKDAYS([4]Hoja1!C1573+1,[4]Hoja1!P1573,DiasNOLaborables))","v":10},"",null,null,20]
[1563,20200518140137,43969,"WEB (MÓDULO DE SOLICITUD DE INFORMACIÓN HIDROMETEOROLÓGICA)","SOLICITUD DE INFORMACIÓN Y DOCUMENTOS","SOLICITUD DE INFORMACIÓN HIDROMETEOROLÓGICA","NO","GRUPO DE ATENCIÓN AL CIUDADANO",43977,null,null,{"$f":"IFERROR(WORKDAY(C1574,R1574,DiasNOLaborables),\"\")","v":43999},{"$f":"+IF(C1574=\"\",\"\",IF(I1574=\"\",\"\",(IF(I1574<=L1574,\"A TIEMPO\",\"FUERA DE TIEMPO\"))))","v":"A TIEMPO"},{"$f":"IF(I1574=\"\",\"\",NETWORKDAYS([4]Hoja1!C1574+1,[4]Hoja1!P1574,DiasNOLaborables))","v":9},"",null,null,20]
[1564,20200518083353,43969,"WEB (MÓDULO DE SOLICITUD DE INFORMACIÓN HIDROMETEOROLÓGICA)","SOLICITUD DE INFORMACIÓN Y DOCUMENTOS","SOLICITUD DE INFORMACIÓN HIDROMETEOROLÓGICA","NO","GRUPO DE ATENCIÓN AL CIUDADANO",43977,null,null,{"$f":"IFERROR(WORKDAY(C1575,R1575,DiasNOLaborables),\"\")","v":43999},{"$f":"+IF(C1575=\"\",\"\",IF(I1575=\"\",\"\",(IF(I1575<=L1575,\"A TIEMPO\",\"FUERA DE TIEMPO\"))))","v":"A TIEMPO"},{"$f":"IF(I1575=\"\",\"\",NETWORKDAYS([4]Hoja1!C1575+1,[4]Hoja1!P1575,DiasNOLaborables))","v":9},"",null,null,20]
[1565,20200518083000,43969,"WEB (MÓDULO DE SOLICITUD DE INFORMACIÓN HIDROMETEOROLÓGICA)","SOLICITUD DE INFORMACIÓN Y DOCUMENTOS","SOLICITUD DE INFORMACIÓN HIDROMETEOROLÓGICA","NO","GRUPO DE ATENCIÓN AL CIUDADANO",43977,null,null,{"$f":"IFERROR(WORKDAY(C1576,R1576,DiasNOLaborables),\"\")","v":43999},{"$f":"+IF(C1576=\"\",\"\",IF(I1576=\"\",\"\",(IF(I1576<=L1576,\"A TIEMPO\",\"FUERA DE TIEMPO\"))))","v":"A TIEMPO"},{"$f":"IF(I1576=\"\",\"\",NETWORKDAYS([4]Hoja1!C1576+1,[4]Hoja1!P1576,DiasNOLaborables))","v":9},"",null,null,20]
[1566,20200518082530,43969,"WEB (MÓDULO DE SOLICITUD DE INFORMACIÓN HIDROMETEOROLÓGICA)","SOLICITUD DE INFORMACIÓN Y DOCUMENTOS","SOLICITUD DE INFORMACIÓN HIDROMETEOROLÓGICA","NO","GRUPO DE ATENCIÓN AL CIUDADANO",43977,null,null,{"$f":"IFERROR(WORKDAY(C1577,R1577,DiasNOLaborables),\"\")","v":43999},{"$f":"+IF(C1577=\"\",\"\",IF(I1577=\"\",\"\",(IF(I1577<=L1577,\"A TIEMPO\",\"FUERA DE TIEMPO\"))))","v":"A TIEMPO"},{"$f":"IF(I1577=\"\",\"\",NETWORKDAYS([4]Hoja1!C1577+1,[4]Hoja1!P1577,DiasNOLaborables))","v":9},"",null,null,20]
[1567,20200518081937,43969,"WEB (MÓDULO DE SOLICITUD DE INFORMACIÓN HIDROMETEOROLÓGICA)","SOLICITUD DE INFORMACIÓN Y DOCUMENTOS","SOLICITUD DE INFORMACIÓN HIDROMETEOROLÓGICA","NO","GRUPO DE ATENCIÓN AL CIUDADANO",43977,null,null,{"$f":"IFERROR(WORKDAY(C1578,R1578,DiasNOLaborables),\"\")","v":43999},{"$f":"+IF(C1578=\"\",\"\",IF(I1578=\"\",\"\",(IF(I1578<=L1578,\"A TIEMPO\",\"FUERA DE TIEMPO\"))))","v":"A TIEMPO"},{"$f":"IF(I1578=\"\",\"\",NETWORKDAYS([4]Hoja1!C1578+1,[4]Hoja1!P1578,DiasNOLaborables))","v":9},"",null,null,20]
[1568,20200517203556,43968,"WEB (MÓDULO DE SOLICITUD DE INFORMACIÓN HIDROMETEOROLÓGICA)","SOLICITUD DE INFORMACIÓN Y DOCUMENTOS","SOLICITUD DE INFORMACIÓN HIDROMETEOROLÓGICA","NO","GRUPO DE ATENCIÓN AL CIUDADANO",43977,null,null,{"$f":"IFERROR(WORKDAY(C1579,R1579,DiasNOLaborables),\"\")","v":43998},{"$f":"+IF(C1579=\"\",\"\",IF(I1579=\"\",\"\",(IF(I1579<=L1579,\"A TIEMPO\",\"FUERA DE TIEMPO\"))))","v":"A TIEMPO"},{"$f":"IF(I1579=\"\",\"\",NETWORKDAYS([4]Hoja1!C1579+1,[4]Hoja1!P1579,DiasNOLaborables))","v":9},"",null,null,20]
[1569,20200517022739,43968,"WEB (MÓDULO DE SOLICITUD DE INFORMACIÓN HIDROMETEOROLÓGICA)","SOLICITUD DE INFORMACIÓN Y DOCUMENTOS","SOLICITUD DE INFORMACIÓN HIDROMETEOROLÓGICA","NO","GRUPO DE ATENCIÓN AL CIUDADANO",43977,null,null,{"$f":"IFERROR(WORKDAY(C1580,R1580,DiasNOLaborables),\"\")","v":43998},{"$f":"+IF(C1580=\"\",\"\",IF(I1580=\"\",\"\",(IF(I1580<=L1580,\"A TIEMPO\",\"FUERA DE TIEMPO\"))))","v":"A TIEMPO"},{"$f":"IF(I1580=\"\",\"\",NETWORKDAYS([4]Hoja1!C1580+1,[4]Hoja1!P1580,DiasNOLaborables))","v":9},"",null,null,20]
[1570,20200516211418,43967,"WEB (MÓDULO DE SOLICITUD DE INFORMACIÓN HIDROMETEOROLÓGICA)","SOLICITUD DE INFORMACIÓN Y DOCUMENTOS","SOLICITUD DE INFORMACIÓN HIDROMETEOROLÓGICA","NO","GRUPO DE ATENCIÓN AL CIUDADANO",43977,null,null,{"$f":"IFERROR(WORKDAY(C1581,R1581,DiasNOLaborables),\"\")","v":43998},{"$f":"+IF(C1581=\"\",\"\",IF(I1581=\"\",\"\",(IF(I1581<=L1581,\"A TIEMPO\",\"FUERA DE TIEMPO\"))))","v":"A TIEMPO"},{"$f":"IF(I1581=\"\",\"\",NETWORKDAYS([4]Hoja1!C1581+1,[4]Hoja1!P1581,DiasNOLaborables))","v":9},"",null,null,20]
[1571,20200516191456,43967,"WEB (MÓDULO DE SOLICITUD DE INFORMACIÓN HIDROMETEOROLÓGICA)","SOLICITUD DE INFORMACIÓN Y DOCUMENTOS","SOLICITUD DE INFORMACIÓN HIDROMETEOROLÓGICA","NO","GRUPO DE ATENCIÓN AL CIUDADANO",43977,null,null,{"$f":"IFERROR(WORKDAY(C1582,R1582,DiasNOLaborables),\"\")","v":43998},{"$f":"+IF(C1582=\"\",\"\",IF(I1582=\"\",\"\",(IF(I1582<=L1582,\"A TIEMPO\",\"FUERA DE TIEMPO\"))))","v":"A TIEMPO"},{"$f":"IF(I1582=\"\",\"\",NETWORKDAYS([4]Hoja1!C1582+1,[4]Hoja1!P1582,DiasNOLaborables))","v":9},"",null,null,20]
[1572,20200516190040,43967,"WEB (MÓDULO DE SOLICITUD DE INFORMACIÓN HIDROMETEOROLÓGICA)","SOLICITUD DE INFORMACIÓN Y DOCUMENTOS","SOLICITUD DE INFORMACIÓN HIDROMETEOROLÓGICA","NO","GRUPO DE ATENCIÓN AL CIUDADANO",43977,null,null,{"$f":"IFERROR(WORKDAY(C1583,R1583,DiasNOLaborables),\"\")","v":43998},{"$f":"+IF(C1583=\"\",\"\",IF(I1583=\"\",\"\",(IF(I1583<=L1583,\"A TIEMPO\",\"FUERA DE TIEMPO\"))))","v":"A TIEMPO"},{"$f":"IF(I1583=\"\",\"\",NETWORKDAYS([4]Hoja1!C1583+1,[4]Hoja1!P1583,DiasNOLaborables))","v":8},"",null,null,20]
[1573,20200516155934,43967,"WEB (MÓDULO DE SOLICITUD DE INFORMACIÓN HIDROMETEOROLÓGICA)","SOLICITUD DE INFORMACIÓN Y DOCUMENTOS","SOLICITUD DE INFORMACIÓN HIDROMETEOROLÓGICA","NO","GRUPO DE ATENCIÓN AL CIUDADANO",43977,null,null,{"$f":"IFERROR(WORKDAY(C1584,R1584,DiasNOLaborables),\"\")","v":43998},{"$f":"+IF(C1584=\"\",\"\",IF(I1584=\"\",\"\",(IF(I1584<=L1584,\"A TIEMPO\",\"FUERA DE TIEMPO\"))))","v":"A TIEMPO"},{"$f":"IF(I1584=\"\",\"\",NETWORKDAYS([4]Hoja1!C1584+1,[4]Hoja1!P1584,DiasNOLaborables))","v":9},"",null,null,20]
[1574,20200516144511,43967,"WEB (MÓDULO DE SOLICITUD DE INFORMACIÓN HIDROMETEOROLÓGICA)","SOLICITUD DE INFORMACIÓN Y DOCUMENTOS","SOLICITUD DE INFORMACIÓN HIDROMETEOROLÓGICA","NO","GRUPO DE ATENCIÓN AL CIUDADANO",43977,null,null,{"$f":"IFERROR(WORKDAY(C1585,R1585,DiasNOLaborables),\"\")","v":43998},{"$f":"+IF(C1585=\"\",\"\",IF(I1585=\"\",\"\",(IF(I1585<=L1585,\"A TIEMPO\",\"FUERA DE TIEMPO\"))))","v":"A TIEMPO"},{"$f":"IF(I1585=\"\",\"\",NETWORKDAYS([4]Hoja1!C1585+1,[4]Hoja1!P1585,DiasNOLaborables))","v":9},"",null,null,20]
[{"$f":"IF(B1584<>\"\",A1585+1,\"\")","v":1575},20200516143901,43967,"WEB (MÓDULO DE SOLICITUD DE INFORMACIÓN HIDROMETEOROLÓGICA)","SOLICITUD DE INFORMACIÓN Y DOCUMENTOS","SOLICITUD DE INFORMACIÓN HIDROMETEOROLÓGICA","NO","GRUPO DE ATENCIÓN AL CIUDADANO",43977,null,null,{"$f":"IFERROR(WORKDAY(C1586,R1586,DiasNOLaborables),\"\")","v":43998},{"$f":"+IF(C1586=\"\",\"\",IF(I1586=\"\",\"\",(IF(I1586<=L1586,\"A TIEMPO\",\"FUERA DE TIEMPO\"))))","v":"A TIEMPO"},{"$f":"IF(I1586=\"\",\"\",NETWORKDAYS([4]Hoja1!C1586+1,[4]Hoja1!P1586,DiasNOLaborables))","v":9},"",null,null,{"$f":"IFERROR(VLOOKUP(E1586,$Z$50:$AA$63,2),\"\")","v":20}]
[1576,20200516142506,43967,"WEB (MÓDULO DE SOLICITUD DE INFORMACIÓN HIDROMETEOROLÓGICA)","SOLICITUD DE INFORMACIÓN Y DOCUMENTOS","SOLICITUD DE INFORMACIÓN HIDROMETEOROLÓGICA","NO","GRUPO DE ATENCIÓN AL CIUDADANO",43977,null,null,{"$f":"IFERROR(WORKDAY(C1587,R1587,DiasNOLaborables),\"\")","v":43998},{"$f":"+IF(C1587=\"\",\"\",IF(I1587=\"\",\"\",(IF(I1587<=L1587,\"A TIEMPO\",\"FUERA DE TIEMPO\"))))","v":"A TIEMPO"},{"$f":"IF(I1587=\"\",\"\",NETWORKDAYS([4]Hoja1!C1587+1,[4]Hoja1!P1587,DiasNOLaborables))","v":8},"",null,null,20]
[1577,20200516131435,43967,"WEB (MÓDULO DE SOLICITUD DE INFORMACIÓN HIDROMETEOROLÓGICA)","SOLICITUD DE INFORMACIÓN Y DOCUMENTOS","SOLICITUD DE INFORMACIÓN HIDROMETEOROLÓGICA","NO","GRUPO DE ATENCIÓN AL CIUDADANO",43977,null,null,{"$f":"IFERROR(WORKDAY(C1588,R1588,DiasNOLaborables),\"\")","v":43998},{"$f":"+IF(C1588=\"\",\"\",IF(I1588=\"\",\"\",(IF(I1588<=L1588,\"A TIEMPO\",\"FUERA DE TIEMPO\"))))","v":"A TIEMPO"},{"$f":"IF(I1588=\"\",\"\",NETWORKDAYS([4]Hoja1!C1588+1,[4]Hoja1!P1588,DiasNOLaborables))","v":8},{"$f":"IF(NETWORKDAYS(L1588+1,I1588,DiasNOLaborables)<=0,\"\",NETWORKDAYS(L1588+1,I1588,DiasNOLaborables))","v":""},null,null,20]
[1578,20200515013608,43966,"WEB (MÓDULO DE SOLICITUD DE INFORMACIÓN HIDROMETEOROLÓGICA)","SOLICITUD DE INFORMACIÓN Y DOCUMENTOS","SOLICITUD DE INFORMACIÓN HIDROMETEOROLÓGICA","NO","GRUPO DE ATENCIÓN AL CIUDADANO",43977,null,null,{"$f":"IFERROR(WORKDAY(C1589,R1589,DiasNOLaborables),\"\")","v":43998},{"$f":"+IF(C1589=\"\",\"\",IF(I1589=\"\",\"\",(IF(I1589<=L1589,\"A TIEMPO\",\"FUERA DE TIEMPO\"))))","v":"A TIEMPO"},{"$f":"IF(I1589=\"\",\"\",NETWORKDAYS([4]Hoja1!C1589+1,[4]Hoja1!P1589,DiasNOLaborables))","v":8},"",null,null,20]
[1579,20209050040592,43966,"MODULO CONTACTENOS","SOLICITUD DE INFORMACIÓN Y DOCUMENTOS","SOLICITUD DE INFORMACIÓN HIDROMETEOROLÓGICA","NO","GRUPO DE ATENCIÓN AL CIUDADANO",43980,null,null,{"$f":"IFERROR(WORKDAY(C1590,R1590,DiasNOLaborables),\"\")","v":43998},{"$f":"+IF(C1590=\"\",\"\",IF(I1590=\"\",\"\",(IF(I1590<=L1590,\"A TIEMPO\",\"FUERA DE TIEMPO\"))))","v":"A TIEMPO"},{"$f":"IF(I1590=\"\",\"\",NETWORKDAYS([4]Hoja1!C1590+1,[4]Hoja1!P1590,DiasNOLaborables))","v":8},"",null,null,20]
[1580,20209050040602,43966,"MODULO CONTACTENOS","SOLICITUD DE INFORMACIÓN Y DOCUMENTOS","SOLICITUD DE INFORMACIÓN HIDROMETEOROLÓGICA","NO","GRUPO DE ATENCIÓN AL CIUDADANO",43980,null,null,{"$f":"IFERROR(WORKDAY(C1591,R1591,DiasNOLaborables),\"\")","v":43998},{"$f":"+IF(C1591=\"\",\"\",IF(I1591=\"\",\"\",(IF(I1591<=L1591,\"A TIEMPO\",\"FUERA DE TIEMPO\"))))","v":"A TIEMPO"},{"$f":"IF(I1591=\"\",\"\",NETWORKDAYS([4]Hoja1!C1591+1,[4]Hoja1!P1591,DiasNOLaborables))","v":8},"",null,null,20]
[1581,20209050040612,43966,"MODULO CONTACTENOS","SOLICITUD DE INFORMACIÓN Y DOCUMENTOS","SOLICITUD DE INFORMACIÓN HIDROMETEOROLÓGICA","NO","GRUPO DE ATENCIÓN AL CIUDADANO",43980,null,null,{"$f":"IFERROR(WORKDAY(C1592,R1592,DiasNOLaborables),\"\")","v":43998},{"$f":"+IF(C1592=\"\",\"\",IF(I1592=\"\",\"\",(IF(I1592<=L1592,\"A TIEMPO\",\"FUERA DE TIEMPO\"))))","v":"A TIEMPO"},{"$f":"IF(I1592=\"\",\"\",NETWORKDAYS([4]Hoja1!C1592+1,[4]Hoja1!P1592,DiasNOLaborables))","v":8},"",null,null,20]
[1582,20209050040622,43966,"MODULO CONTACTENOS","SOLICITUD DE INFORMACIÓN Y DOCUMENTOS","SOLICITUD DE INFORMACIÓN HIDROMETEOROLÓGICA","NO","GRUPO DE ATENCIÓN AL CIUDADANO",43980,null,null,{"$f":"IFERROR(WORKDAY(C1593,R1593,DiasNOLaborables),\"\")","v":43998},{"$f":"+IF(C1593=\"\",\"\",IF(I1593=\"\",\"\",(IF(I1593<=L1593,\"A TIEMPO\",\"FUERA DE TIEMPO\"))))","v":"A TIEMPO"},{"$f":"IF(I1593=\"\",\"\",NETWORKDAYS([4]Hoja1!C1593+1,[4]Hoja1!P1593,DiasNOLaborables))","v":7},"",null,null,20]
[1583,20209050040632,43966,"MODULO CONTACTENOS","SOLICITUD DE INFORMACIÓN Y DOCUMENTOS","SOLICITUD DE INFORMACIÓN HIDROMETEOROLÓGICA","NO","GRUPO DE ATENCIÓN AL CIUDADANO",43980,null,null,{"$f":"IFERROR(WORKDAY(C1594,R1594,DiasNOLaborables),\"\")","v":43998},{"$f":"+IF(C1594=\"\",\"\",IF(I1594=\"\",\"\",(IF(I1594<=L1594,\"A TIEMPO\",\"FUERA DE TIEMPO\"))))","v":"A TIEMPO"},{"$f":"IF(I1594=\"\",\"\",NETWORKDAYS([4]Hoja1!C1594+1,[4]Hoja1!P1594,DiasNOLaborables))","v":7},"",null,null,20]
[1584,20209050040642,43966,"MODULO CONTACTENOS","SOLICITUD DE INFORMACIÓN Y DOCUMENTOS","SOLICITUD DE INFORMACIÓN HIDROMETEOROLÓGICA","NO","GRUPO DE ATENCIÓN AL CIUDADANO",43980,null,null,{"$f":"IFERROR(WORKDAY(C1595,R1595,DiasNOLaborables),\"\")","v":43998},{"$f":"+IF(C1595=\"\",\"\",IF(I1595=\"\",\"\",(IF(I1595<=L1595,\"A TIEMPO\",\"FUERA DE TIEMPO\"))))","v":"A TIEMPO"},{"$f":"IF(I1595=\"\",\"\",NETWORKDAYS([4]Hoja1!C1595+1,[4]Hoja1!P1595,DiasNOLaborables))","v":7},"",null,null,20]
[1585,20209050040672,43966,"MODULO CONTACTENOS","SOLICITUD DE INFORMACIÓN Y DOCUMENTOS","SOLICITUD DE INFORMACIÓN HIDROMETEOROLÓGICA","NO","GRUPO DE ATENCIÓN AL CIUDADANO",43980,null,null,{"$f":"IFERROR(WORKDAY(C1596,R1596,DiasNOLaborables),\"\")","v":43998},{"$f":"+IF(C1596=\"\",\"\",IF(I1596=\"\",\"\",(IF(I1596<=L1596,\"A TIEMPO\",\"FUERA DE TIEMPO\"))))","v":"A TIEMPO"},{"$f":"IF(I1596=\"\",\"\",NETWORKDAYS([4]Hoja1!C1596+1,[4]Hoja1!P1596,DiasNOLaborables))","v":6},"",null,null,20]
[1586,20209050040732,43966,"MODULO CONTACTENOS","SOLICITUD DE INFORMACIÓN Y DOCUMENTOS","SOLICITUD DE INFORMACIÓN HIDROMETEOROLÓGICA","NO","GRUPO DE ATENCIÓN AL CIUDADANO",43980,null,null,{"$f":"IFERROR(WORKDAY(C1597,R1597,DiasNOLaborables),\"\")","v":43998},{"$f":"+IF(C1597=\"\",\"\",IF(I1597=\"\",\"\",(IF(I1597<=L1597,\"A TIEMPO\",\"FUERA DE TIEMPO\"))))","v":"A TIEMPO"},{"$f":"IF(I1597=\"\",\"\",NETWORKDAYS([4]Hoja1!C1597+1,[4]Hoja1!P1597,DiasNOLaborables))","v":6},"",null,null,20]
[1587,20209050040762,43967,"MODULO CONTACTENOS","SOLICITUD DE INFORMACIÓN Y DOCUMENTOS","SOLICITUD DE INFORMACIÓN HIDROMETEOROLÓGICA","NO","GRUPO DE ATENCIÓN AL CIUDADANO",43980,null,null,{"$f":"IFERROR(WORKDAY(C1598,R1598,DiasNOLaborables),\"\")","v":43998},{"$f":"+IF(C1598=\"\",\"\",IF(I1598=\"\",\"\",(IF(I1598<=L1598,\"A TIEMPO\",\"FUERA DE TIEMPO\"))))","v":"A TIEMPO"},{"$f":"IF(I1598=\"\",\"\",NETWORKDAYS([4]Hoja1!C1598+1,[4]Hoja1!P1598,DiasNOLaborables))","v":6},"",null,null,20]
[1588,20209050040792,43967,"MODULO CONTACTENOS","SOLICITUD DE INFORMACIÓN Y DOCUMENTOS","SOLICITUD DE INFORMACIÓN HIDROMETEOROLÓGICA","NO","GRUPO DE ATENCIÓN AL CIUDADANO",43980,null,null,{"$f":"IFERROR(WORKDAY(C1599,R1599,DiasNOLaborables),\"\")","v":43998},{"$f":"+IF(C1599=\"\",\"\",IF(I1599=\"\",\"\",(IF(I1599<=L1599,\"A TIEMPO\",\"FUERA DE TIEMPO\"))))","v":"A TIEMPO"},{"$f":"IF(I1599=\"\",\"\",NETWORKDAYS([4]Hoja1!C1599+1,[4]Hoja1!P1599,DiasNOLaborables))","v":6},"",null,null,20]
[1589,20209050040802,43967,"MODULO CONTACTENOS","SOLICITUD DE INFORMACIÓN Y DOCUMENTOS","SOLICITUD DE INFORMACIÓN HIDROMETEOROLÓGICA","NO","GRUPO DE ATENCIÓN AL CIUDADANO",43980,null,null,{"$f":"IFERROR(WORKDAY(C1600,R1600,DiasNOLaborables),\"\")","v":43998},{"$f":"+IF(C1600=\"\",\"\",IF(I1600=\"\",\"\",(IF(I1600<=L1600,\"A TIEMPO\",\"FUERA DE TIEMPO\"))))","v":"A TIEMPO"},{"$f":"IF(I1600=\"\",\"\",NETWORKDAYS([4]Hoja1!C1600+1,[4]Hoja1!P1600,DiasNOLaborables))","v":6},"",null,null,20]
[1590,20209050040812,43967,"MODULO CONTACTENOS","SOLICITUD DE INFORMACIÓN Y DOCUMENTOS","SOLICITUD DE INFORMACIÓN HIDROMETEOROLÓGICA","NO","GRUPO DE ATENCIÓN AL CIUDADANO",43980,null,null,{"$f":"IFERROR(WORKDAY(C1601,R1601,DiasNOLaborables),\"\")","v":43998},{"$f":"+IF(C1601=\"\",\"\",IF(I1601=\"\",\"\",(IF(I1601<=L1601,\"A TIEMPO\",\"FUERA DE TIEMPO\"))))","v":"A TIEMPO"},{"$f":"IF(I1601=\"\",\"\",NETWORKDAYS([4]Hoja1!C1601+1,[4]Hoja1!P1601,DiasNOLaborables))","v":6},"",null,null,20]
[1591,20209050041502,43969,"MODULO CONTACTENOS","SOLICITUD DE INFORMACIÓN Y DOCUMENTOS","SOLICITUD DE INFORMACIÓN HIDROMETEOROLÓGICA","NO","GRUPO DE ATENCIÓN AL CIUDADANO",43983,null,null,{"$f":"IFERROR(WORKDAY(C1602,R1602,DiasNOLaborables),\"\")","v":43999},{"$f":"+IF(C1602=\"\",\"\",IF(I1602=\"\",\"\",(IF(I1602<=L1602,\"A TIEMPO\",\"FUERA DE TIEMPO\"))))","v":"A TIEMPO"},{"$f":"IF(I1602=\"\",\"\",NETWORKDAYS([4]Hoja1!C1602+1,[4]Hoja1!P1602,DiasNOLaborables))","v":6},"",null,null,20]
[1592,20209050041512,43969,"MODULO CONTACTENOS","SOLICITUD DE INFORMACIÓN Y DOCUMENTOS","SOLICITUD DE INFORMACIÓN HIDROMETEOROLÓGICA","NO","GRUPO DE ATENCIÓN AL CIUDADANO",43983,null,null,{"$f":"IFERROR(WORKDAY(C1603,R1603,DiasNOLaborables),\"\")","v":43999},{"$f":"+IF(C1603=\"\",\"\",IF(I1603=\"\",\"\",(IF(I1603<=L1603,\"A TIEMPO\",\"FUERA DE TIEMPO\"))))","v":"A TIEMPO"},{"$f":"IF(I1603=\"\",\"\",NETWORKDAYS([4]Hoja1!C1603+1,[4]Hoja1!P1603,DiasNOLaborables))","v":10},"",null,null,20]
[1593,20209050041522,43969,"MODULO CONTACTENOS","SOLICITUD DE INFORMACIÓN Y DOCUMENTOS","SOLICITUD DE INFORMACIÓN HIDROMETEOROLÓGICA","NO","GRUPO DE ATENCIÓN AL CIUDADANO",43983,null,null,{"$f":"IFERROR(WORKDAY(C1604,R1604,DiasNOLaborables),\"\")","v":43999},{"$f":"+IF(C1604=\"\",\"\",IF(I1604=\"\",\"\",(IF(I1604<=L1604,\"A TIEMPO\",\"FUERA DE TIEMPO\"))))","v":"A TIEMPO"},{"$f":"IF(I1604=\"\",\"\",NETWORKDAYS([4]Hoja1!C1604+1,[4]Hoja1!P1604,DiasNOLaborables))","v":10},"",null,null,20]
[1594,20209050041532,43969,"MODULO CONTACTENOS","SOLICITUD DE INFORMACIÓN Y DOCUMENTOS","SOLICITUD DE INFORMACIÓN HIDROMETEOROLÓGICA","NO","GRUPO DE ATENCIÓN AL CIUDADANO",43983,null,null,{"$f":"IFERROR(WORKDAY(C1605,R1605,DiasNOLaborables),\"\")","v":43999},{"$f":"+IF(C1605=\"\",\"\",IF(I1605=\"\",\"\",(IF(I1605<=L1605,\"A TIEMPO\",\"FUERA DE TIEMPO\"))))","v":"A TIEMPO"},{"$f":"IF(I1605=\"\",\"\",NETWORKDAYS([4]Hoja1!C1605+1,[4]Hoja1!P1605,DiasNOLaborables))","v":10},"",null,null,20]
[1595,20209050041912,43970,"MODULO CONTACTENOS","SOLICITUD DE INFORMACIÓN Y DOCUMENTOS","SOLICITUD DE INFORMACIÓN HIDROMETEOROLÓGICA","NO","GRUPO DE ATENCIÓN AL CIUDADANO",43985,null,null,{"$f":"IFERROR(WORKDAY(C1606,R1606,DiasNOLaborables),\"\")","v":44000},{"$f":"+IF(C1606=\"\",\"\",IF(I1606=\"\",\"\",(IF(I1606<=L1606,\"A TIEMPO\",\"FUERA DE TIEMPO\"))))","v":"A TIEMPO"},{"$f":"IF(I1606=\"\",\"\",NETWORKDAYS([4]Hoja1!C1606+1,[4]Hoja1!P1606,DiasNOLaborables))","v":10},"",null,null,20]
[1596,20209050041922,43970,"MODULO CONTACTENOS","SOLICITUD DE INFORMACIÓN Y DOCUMENTOS","SOLICITUD DE INFORMACIÓN HIDROMETEOROLÓGICA","NO","GRUPO DE ATENCIÓN AL CIUDADANO",43985,null,null,{"$f":"IFERROR(WORKDAY(C1607,R1607,DiasNOLaborables),\"\")","v":44000},{"$f":"+IF(C1607=\"\",\"\",IF(I1607=\"\",\"\",(IF(I1607<=L1607,\"A TIEMPO\",\"FUERA DE TIEMPO\"))))","v":"A TIEMPO"},{"$f":"IF(I1607=\"\",\"\",NETWORKDAYS([4]Hoja1!C1607+1,[4]Hoja1!P1607,DiasNOLaborables))","v":10},"",null,null,20]
[1597,20209050041932,43970,"MODULO CONTACTENOS","SOLICITUD DE INFORMACIÓN Y DOCUMENTOS","SOLICITUD DE INFORMACIÓN HIDROMETEOROLÓGICA","NO","GRUPO DE ATENCIÓN AL CIUDADANO",43985,null,null,{"$f":"IFERROR(WORKDAY(C1608,R1608,DiasNOLaborables),\"\")","v":44000},{"$f":"+IF(C1608=\"\",\"\",IF(I1608=\"\",\"\",(IF(I1608<=L1608,\"A TIEMPO\",\"FUERA DE TIEMPO\"))))","v":"A TIEMPO"},{"$f":"IF(I1608=\"\",\"\",NETWORKDAYS([4]Hoja1!C1608+1,[4]Hoja1!P1608,DiasNOLaborables))","v":10},"",null,null,20]
[1598,20209050041942,43970,"MODULO CONTACTENOS","SOLICITUD DE INFORMACIÓN Y DOCUMENTOS","SOLICITUD DE INFORMACIÓN HIDROMETEOROLÓGICA","NO","GRUPO DE ATENCIÓN AL CIUDADANO",43985,null,null,{"$f":"IFERROR(WORKDAY(C1609,R1609,DiasNOLaborables),\"\")","v":44000},{"$f":"+IF(C1609=\"\",\"\",IF(I1609=\"\",\"\",(IF(I1609<=L1609,\"A TIEMPO\",\"FUERA DE TIEMPO\"))))","v":"A TIEMPO"},{"$f":"IF(I1609=\"\",\"\",NETWORKDAYS([4]Hoja1!C1609+1,[4]Hoja1!P1609,DiasNOLaborables))","v":10},"",null,null,20]
[1599,20209050041952,43970,"MODULO CONTACTENOS","SOLICITUD DE INFORMACIÓN Y DOCUMENTOS","SOLICITUD DE INFORMACIÓN HIDROMETEOROLÓGICA","NO","GRUPO DE ATENCIÓN AL CIUDADANO",43985,null,null,{"$f":"IFERROR(WORKDAY(C1610,R1610,DiasNOLaborables),\"\")","v":44000},{"$f":"+IF(C1610=\"\",\"\",IF(I1610=\"\",\"\",(IF(I1610<=L1610,\"A TIEMPO\",\"FUERA DE TIEMPO\"))))","v":"A TIEMPO"},{"$f":"IF(I1610=\"\",\"\",NETWORKDAYS([4]Hoja1!C1610+1,[4]Hoja1!P1610,DiasNOLaborables))","v":10},"",null,null,20]
[1600,20209050042082,43971,"MODULO CONTACTENOS","SOLICITUD DE INFORMACIÓN Y DOCUMENTOS","SOLICITUD DE INFORMACIÓN HIDROMETEOROLÓGICA","NO","GRUPO DE ATENCIÓN AL CIUDADANO",43985,null,null,{"$f":"IFERROR(WORKDAY(C1611,R1611,DiasNOLaborables),\"\")","v":44001},{"$f":"+IF(C1611=\"\",\"\",IF(I1611=\"\",\"\",(IF(I1611<=L1611,\"A TIEMPO\",\"FUERA DE TIEMPO\"))))","v":"A TIEMPO"},{"$f":"IF(I1611=\"\",\"\",NETWORKDAYS([4]Hoja1!C1611+1,[4]Hoja1!P1611,DiasNOLaborables))","v":10},"",null,null,20]
[1601,20209050042152,43971,"MODULO CONTACTENOS","SOLICITUD DE INFORMACIÓN Y DOCUMENTOS","SOLICITUD DE INFORMACIÓN HIDROMETEOROLÓGICA","NO","GRUPO DE ATENCIÓN AL CIUDADANO",43985,null,null,{"$f":"IFERROR(WORKDAY(C1612,R1612,DiasNOLaborables),\"\")","v":44001},{"$f":"+IF(C1612=\"\",\"\",IF(I1612=\"\",\"\",(IF(I1612<=L1612,\"A TIEMPO\",\"FUERA DE TIEMPO\"))))","v":"A TIEMPO"},{"$f":"IF(I1612=\"\",\"\",NETWORKDAYS([4]Hoja1!C1612+1,[4]Hoja1!P1612,DiasNOLaborables))","v":10},"",null,null,20]
[1602,20209050042182,43971,"MODULO CONTACTENOS","SOLICITUD DE INFORMACIÓN Y DOCUMENTOS","SOLICITUD DE INFORMACIÓN HIDROMETEOROLÓGICA","NO","GRUPO DE ATENCIÓN AL CIUDADANO",43985,null,null,{"$f":"IFERROR(WORKDAY(C1613,R1613,DiasNOLaborables),\"\")","v":44001},{"$f":"+IF(C1613=\"\",\"\",IF(I1613=\"\",\"\",(IF(I1613<=L1613,\"A TIEMPO\",\"FUERA DE TIEMPO\"))))","v":"A TIEMPO"},{"$f":"IF(I1613=\"\",\"\",NETWORKDAYS([4]Hoja1!C1613+1,[4]Hoja1!P1613,DiasNOLaborables))","v":10},"",null,null,20]
[1603,20209050042252,43971,"MODULO CONTACTENOS","SOLICITUD DE INFORMACIÓN Y DOCUMENTOS","SOLICITUD DE INFORMACIÓN HIDROMETEOROLÓGICA","NO","GRUPO DE ATENCIÓN AL CIUDADANO",43985,null,null,{"$f":"IFERROR(WORKDAY(C1614,R1614,DiasNOLaborables),\"\")","v":44001},{"$f":"+IF(C1614=\"\",\"\",IF(I1614=\"\",\"\",(IF(I1614<=L1614,\"A TIEMPO\",\"FUERA DE TIEMPO\"))))","v":"A TIEMPO"},{"$f":"IF(I1614=\"\",\"\",NETWORKDAYS([4]Hoja1!C1614+1,[4]Hoja1!P1614,DiasNOLaborables))","v":10},"",null,null,20]
[1604,20209050042262,43972,"MODULO CONTACTENOS","SOLICITUD DE INFORMACIÓN Y DOCUMENTOS","SOLICITUD DE INFORMACIÓN HIDROMETEOROLÓGICA","NO","GRUPO DE ATENCIÓN AL CIUDADANO",43985,null,null,{"$f":"IFERROR(WORKDAY(C1615,R1615,DiasNOLaborables),\"\")","v":44005},{"$f":"+IF(C1615=\"\",\"\",IF(I1615=\"\",\"\",(IF(I1615<=L1615,\"A TIEMPO\",\"FUERA DE TIEMPO\"))))","v":"A TIEMPO"},{"$f":"IF(I1615=\"\",\"\",NETWORKDAYS([4]Hoja1!C1615+1,[4]Hoja1!P1615,DiasNOLaborables))","v":10},"",null,null,20]
[1605,20209050042272,43972,"MODULO CONTACTENOS","SOLICITUD DE INFORMACIÓN Y DOCUMENTOS","SOLICITUD DE INFORMACIÓN HIDROMETEOROLÓGICA","NO","GRUPO DE ATENCIÓN AL CIUDADANO",43985,null,null,{"$f":"IFERROR(WORKDAY(C1616,R1616,DiasNOLaborables),\"\")","v":44005},{"$f":"+IF(C1616=\"\",\"\",IF(I1616=\"\",\"\",(IF(I1616<=L1616,\"A TIEMPO\",\"FUERA DE TIEMPO\"))))","v":"A TIEMPO"},{"$f":"IF(I1616=\"\",\"\",NETWORKDAYS([4]Hoja1!C1616+1,[4]Hoja1!P1616,DiasNOLaborables))","v":10},"",null,null,20]
[1606,20209050042282,43972,"MODULO CONTACTENOS","SOLICITUD DE INFORMACIÓN Y DOCUMENTOS","SOLICITUD DE INFORMACIÓN HIDROMETEOROLÓGICA","NO","GRUPO DE ATENCIÓN AL CIUDADANO",43985,null,null,{"$f":"IFERROR(WORKDAY(C1617,R1617,DiasNOLaborables),\"\")","v":44005},{"$f":"+IF(C1617=\"\",\"\",IF(I1617=\"\",\"\",(IF(I1617<=L1617,\"A TIEMPO\",\"FUERA DE TIEMPO\"))))","v":"A TIEMPO"},{"$f":"IF(I1617=\"\",\"\",NETWORKDAYS([4]Hoja1!C1617+1,[4]Hoja1!P1617,DiasNOLaborables))","v":8},"",null,null,20]
[1607,20209050042292,43972,"MODULO CONTACTENOS","SOLICITUD DE INFORMACIÓN Y DOCUMENTOS","SOLICITUD DE INFORMACIÓN HIDROMETEOROLÓGICA","NO","GRUPO DE ATENCIÓN AL CIUDADANO",43985,null,null,{"$f":"IFERROR(WORKDAY(C1618,R1618,DiasNOLaborables),\"\")","v":44005},{"$f":"+IF(C1618=\"\",\"\",IF(I1618=\"\",\"\",(IF(I1618<=L1618,\"A TIEMPO\",\"FUERA DE TIEMPO\"))))","v":"A TIEMPO"},{"$f":"IF(I1618=\"\",\"\",NETWORKDAYS([4]Hoja1!C1618+1,[4]Hoja1!P1618,DiasNOLaborables))","v":8},"",null,null,20]
[1608,20209050042442,43972,"MODULO CONTACTENOS","SOLICITUD DE INFORMACIÓN Y DOCUMENTOS","SOLICITUD DE INFORMACIÓN HIDROMETEOROLÓGICA","NO","GRUPO DE ATENCIÓN AL CIUDADANO",43985,null,null,{"$f":"IFERROR(WORKDAY(C1619,R1619,DiasNOLaborables),\"\")","v":44005},{"$f":"+IF(C1619=\"\",\"\",IF(I1619=\"\",\"\",(IF(I1619<=L1619,\"A TIEMPO\",\"FUERA DE TIEMPO\"))))","v":"A TIEMPO"},{"$f":"IF(I1619=\"\",\"\",NETWORKDAYS([4]Hoja1!C1619+1,[4]Hoja1!P1619,DiasNOLaborables))","v":8},"",null,null,20]
[1609,20209050042472,43972,"MODULO CONTACTENOS","SOLICITUD DE INFORMACIÓN Y DOCUMENTOS","SOLICITUD DE INFORMACIÓN HIDROMETEOROLÓGICA","NO","GRUPO DE ATENCIÓN AL CIUDADANO",43985,null,null,{"$f":"IFERROR(WORKDAY(C1620,R1620,DiasNOLaborables),\"\")","v":44005},{"$f":"+IF(C1620=\"\",\"\",IF(I1620=\"\",\"\",(IF(I1620<=L1620,\"A TIEMPO\",\"FUERA DE TIEMPO\"))))","v":"A TIEMPO"},{"$f":"IF(I1620=\"\",\"\",NETWORKDAYS([4]Hoja1!C1620+1,[4]Hoja1!P1620,DiasNOLaborables))","v":8},"",null,null,20]
[1610,20207090001082,43972,"WEB (MÓDULO DE SOLICITUD DE INFORMACIÓN HIDROMETEOROLÓGICA)","SOLICITUD DE INFORMACIÓN Y DOCUMENTOS","SOLICITUD DE INFORMACIÓN HIDROMETEOROLÓGICA","NO","GRUPO DE ATENCIÓN AL CIUDADANO",43985,null,null,{"$f":"IFERROR(WORKDAY(C1621,R1621,DiasNOLaborables),\"\")","v":44005},{"$f":"+IF(C1621=\"\",\"\",IF(I1621=\"\",\"\",(IF(I1621<=L1621,\"A TIEMPO\",\"FUERA DE TIEMPO\"))))","v":"A TIEMPO"},{"$f":"IF(I1621=\"\",\"\",NETWORKDAYS([4]Hoja1!C1621+1,[4]Hoja1!P1621,DiasNOLaborables))","v":8},"",null,null,20]
[1611,20209050042602,43972,"MODULO CONTACTENOS","SOLICITUD DE INFORMACIÓN Y DOCUMENTOS","SOLICITUD DE INFORMACIÓN HIDROMETEOROLÓGICA","NO","GRUPO DE ATENCIÓN AL CIUDADANO",43985,null,null,{"$f":"IFERROR(WORKDAY(C1622,R1622,DiasNOLaborables),\"\")","v":44005},{"$f":"+IF(C1622=\"\",\"\",IF(I1622=\"\",\"\",(IF(I1622<=L1622,\"A TIEMPO\",\"FUERA DE TIEMPO\"))))","v":"A TIEMPO"},{"$f":"IF(I1622=\"\",\"\",NETWORKDAYS([4]Hoja1!C1622+1,[4]Hoja1!P1622,DiasNOLaborables))","v":8},"",null,null,20]
[1612,20209050042622,43972,"MODULO CONTACTENOS","SOLICITUD DE INFORMACIÓN Y DOCUMENTOS","SOLICITUD DE INFORMACIÓN HIDROMETEOROLÓGICA","NO","GRUPO DE ATENCIÓN AL CIUDADANO",43985,null,null,{"$f":"IFERROR(WORKDAY(C1623,R1623,DiasNOLaborables),\"\")","v":44005},{"$f":"+IF(C1623=\"\",\"\",IF(I1623=\"\",\"\",(IF(I1623<=L1623,\"A TIEMPO\",\"FUERA DE TIEMPO\"))))","v":"A TIEMPO"},{"$f":"IF(I1623=\"\",\"\",NETWORKDAYS([4]Hoja1!C1623+1,[4]Hoja1!P1623,DiasNOLaborables))","v":10},"",null,null,20]
[1613,20209050042922,43973,"MODULO CONTACTENOS","SOLICITUD DE INFORMACIÓN Y DOCUMENTOS","SOLICITUD DE INFORMACIÓN HIDROMETEOROLÓGICA","NO","GRUPO DE ATENCIÓN AL CIUDADANO",43986,null,null,{"$f":"IFERROR(WORKDAY(C1624,R1624,DiasNOLaborables),\"\")","v":44006},{"$f":"+IF(C1624=\"\",\"\",IF(I1624=\"\",\"\",(IF(I1624<=L1624,\"A TIEMPO\",\"FUERA DE TIEMPO\"))))","v":"A TIEMPO"},{"$f":"IF(I1624=\"\",\"\",NETWORKDAYS([4]Hoja1!C1624+1,[4]Hoja1!P1624,DiasNOLaborables))","v":10},"",null,null,20]
[1614,20209050042972,43973,"MODULO CONTACTENOS","SOLICITUD DE INFORMACIÓN Y DOCUMENTOS","SOLICITUD DE INFORMACIÓN HIDROMETEOROLÓGICA","NO","GRUPO DE ATENCIÓN AL CIUDADANO",43986,null,null,{"$f":"IFERROR(WORKDAY(C1625,R1625,DiasNOLaborables),\"\")","v":44006},{"$f":"+IF(C1625=\"\",\"\",IF(I1625=\"\",\"\",(IF(I1625<=L1625,\"A TIEMPO\",\"FUERA DE TIEMPO\"))))","v":"A TIEMPO"},{"$f":"IF(I1625=\"\",\"\",NETWORKDAYS([4]Hoja1!C1625+1,[4]Hoja1!P1625,DiasNOLaborables))","v":10},"",null,null,20]
[1615,20209050042982,43973,"MODULO CONTACTENOS","SOLICITUD DE INFORMACIÓN Y DOCUMENTOS","SOLICITUD DE INFORMACIÓN HIDROMETEOROLÓGICA","NO","GRUPO DE ATENCIÓN AL CIUDADANO",43986,null,null,{"$f":"IFERROR(WORKDAY(C1626,R1626,DiasNOLaborables),\"\")","v":44006},{"$f":"+IF(C1626=\"\",\"\",IF(I1626=\"\",\"\",(IF(I1626<=L1626,\"A TIEMPO\",\"FUERA DE TIEMPO\"))))","v":"A TIEMPO"},{"$f":"IF(I1626=\"\",\"\",NETWORKDAYS([4]Hoja1!C1626+1,[4]Hoja1!P1626,DiasNOLaborables))","v":10},"",null,null,20]
[1616,20209050042992,43973,"MODULO CONTACTENOS","SOLICITUD DE INFORMACIÓN Y DOCUMENTOS","SOLICITUD DE INFORMACIÓN HIDROMETEOROLÓGICA","NO","GRUPO DE ATENCIÓN AL CIUDADANO",43986,null,null,{"$f":"IFERROR(WORKDAY(C1627,R1627,DiasNOLaborables),\"\")","v":44006},{"$f":"+IF(C1627=\"\",\"\",IF(I1627=\"\",\"\",(IF(I1627<=L1627,\"A TIEMPO\",\"FUERA DE TIEMPO\"))))","v":"A TIEMPO"},{"$f":"IF(I1627=\"\",\"\",NETWORKDAYS([4]Hoja1!C1627+1,[4]Hoja1!P1627,DiasNOLaborables))","v":10},"",null,null,20]
[1617,20209050043002,43973,"MODULO CONTACTENOS","SOLICITUD DE INFORMACIÓN Y DOCUMENTOS","SOLICITUD DE INFORMACIÓN HIDROMETEOROLÓGICA","NO","GRUPO DE ATENCIÓN AL CIUDADANO",43986,null,null,{"$f":"IFERROR(WORKDAY(C1628,R1628,DiasNOLaborables),\"\")","v":44006},{"$f":"+IF(C1628=\"\",\"\",IF(I1628=\"\",\"\",(IF(I1628<=L1628,\"A TIEMPO\",\"FUERA DE TIEMPO\"))))","v":"A TIEMPO"},{"$f":"IF(I1628=\"\",\"\",NETWORKDAYS([4]Hoja1!C1628+1,[4]Hoja1!P1628,DiasNOLaborables))","v":10},"",null,null,20]
[1618,20209050043022,43973,"MODULO CONTACTENOS","SOLICITUD DE INFORMACIÓN Y DOCUMENTOS","SOLICITUD DE INFORMACIÓN HIDROMETEOROLÓGICA","NO","GRUPO DE ATENCIÓN AL CIUDADANO",43986,null,null,{"$f":"IFERROR(WORKDAY(C1629,R1629,DiasNOLaborables),\"\")","v":44006},{"$f":"+IF(C1629=\"\",\"\",IF(I1629=\"\",\"\",(IF(I1629<=L1629,\"A TIEMPO\",\"FUERA DE TIEMPO\"))))","v":"A TIEMPO"},{"$f":"IF(I1629=\"\",\"\",NETWORKDAYS([4]Hoja1!C1629+1,[4]Hoja1!P1629,DiasNOLaborables))","v":10},"",null,null,20]
[1619,20209050043062,43973,"MODULO CONTACTENOS","SOLICITUD DE INFORMACIÓN Y DOCUMENTOS","SOLICITUD DE INFORMACIÓN HIDROMETEOROLÓGICA","NO","GRUPO DE ATENCIÓN AL CIUDADANO",43986,null,null,{"$f":"IFERROR(WORKDAY(C1630,R1630,DiasNOLaborables),\"\")","v":44006},{"$f":"+IF(C1630=\"\",\"\",IF(I1630=\"\",\"\",(IF(I1630<=L1630,\"A TIEMPO\",\"FUERA DE TIEMPO\"))))","v":"A TIEMPO"},{"$f":"IF(I1630=\"\",\"\",NETWORKDAYS([4]Hoja1!C1630+1,[4]Hoja1!P1630,DiasNOLaborables))","v":10},"",null,null,20]
[1620,20209050043072,43974,"MODULO CONTACTENOS","SOLICITUD DE INFORMACIÓN Y DOCUMENTOS","SOLICITUD DE INFORMACIÓN HIDROMETEOROLÓGICA","NO","GRUPO DE ATENCIÓN AL CIUDADANO",43986,null,null,{"$f":"IFERROR(WORKDAY(C1631,R1631,DiasNOLaborables),\"\")","v":44006},{"$f":"+IF(C1631=\"\",\"\",IF(I1631=\"\",\"\",(IF(I1631<=L1631,\"A TIEMPO\",\"FUERA DE TIEMPO\"))))","v":"A TIEMPO"},{"$f":"IF(I1631=\"\",\"\",NETWORKDAYS([4]Hoja1!C1631+1,[4]Hoja1!P1631,DiasNOLaborables))","v":10},"",null,null,20]
[1621,20209050043092,43974,"MODULO CONTACTENOS","SOLICITUD DE INFORMACIÓN Y DOCUMENTOS","SOLICITUD DE INFORMACIÓN HIDROMETEOROLÓGICA","NO","GRUPO DE ATENCIÓN AL CIUDADANO",43986,null,null,{"$f":"IFERROR(WORKDAY(C1632,R1632,DiasNOLaborables),\"\")","v":44006},{"$f":"+IF(C1632=\"\",\"\",IF(I1632=\"\",\"\",(IF(I1632<=L1632,\"A TIEMPO\",\"FUERA DE TIEMPO\"))))","v":"A TIEMPO"},{"$f":"IF(I1632=\"\",\"\",NETWORKDAYS([4]Hoja1!C1632+1,[4]Hoja1!P1632,DiasNOLaborables))","v":9},"",null,null,20]
[1622,20209050043102,43974,"MODULO CONTACTENOS","SOLICITUD DE INFORMACIÓN Y DOCUMENTOS","SOLICITUD DE INFORMACIÓN HIDROMETEOROLÓGICA","NO","GRUPO DE ATENCIÓN AL CIUDADANO",43986,null,null,{"$f":"IFERROR(WORKDAY(C1633,R1633,DiasNOLaborables),\"\")","v":44006},{"$f":"+IF(C1633=\"\",\"\",IF(I1633=\"\",\"\",(IF(I1633<=L1633,\"A TIEMPO\",\"FUERA DE TIEMPO\"))))","v":"A TIEMPO"},{"$f":"IF(I1633=\"\",\"\",NETWORKDAYS([4]Hoja1!C1633+1,[4]Hoja1!P1633,DiasNOLaborables))","v":9},"",null,null,20]
[1623,20209050043172,43975,"MODULO CONTACTENOS","SOLICITUD DE INFORMACIÓN Y DOCUMENTOS","SOLICITUD DE INFORMACIÓN HIDROMETEOROLÓGICA","NO","GRUPO DE ATENCIÓN AL CIUDADANO",43986,null,null,{"$f":"IFERROR(WORKDAY(C1634,R1634,DiasNOLaborables),\"\")","v":44006},{"$f":"+IF(C1634=\"\",\"\",IF(I1634=\"\",\"\",(IF(I1634<=L1634,\"A TIEMPO\",\"FUERA DE TIEMPO\"))))","v":"A TIEMPO"},{"$f":"IF(I1634=\"\",\"\",NETWORKDAYS([4]Hoja1!C1634+1,[4]Hoja1!P1634,DiasNOLaborables))","v":9},"",null,null,20]
[1624,20209050043182,43975,"MODULO CONTACTENOS","SOLICITUD DE INFORMACIÓN Y DOCUMENTOS","SOLICITUD DE INFORMACIÓN HIDROMETEOROLÓGICA","NO","GRUPO DE ATENCIÓN AL CIUDADANO",43986,null,null,{"$f":"IFERROR(WORKDAY(C1635,R1635,DiasNOLaborables),\"\")","v":44006},{"$f":"+IF(C1635=\"\",\"\",IF(I1635=\"\",\"\",(IF(I1635<=L1635,\"A TIEMPO\",\"FUERA DE TIEMPO\"))))","v":"A TIEMPO"},{"$f":"IF(I1635=\"\",\"\",NETWORKDAYS([4]Hoja1!C1635+1,[4]Hoja1!P1635,DiasNOLaborables))","v":9},"",null,null,20]
[1625,20209050043192,43975,"MODULO CONTACTENOS","SOLICITUD DE INFORMACIÓN Y DOCUMENTOS","SOLICITUD DE INFORMACIÓN HIDROMETEOROLÓGICA","NO","GRUPO DE ATENCIÓN AL CIUDADANO",43986,null,null,{"$f":"IFERROR(WORKDAY(C1636,R1636,DiasNOLaborables),\"\")","v":44006},{"$f":"+IF(C1636=\"\",\"\",IF(I1636=\"\",\"\",(IF(I1636<=L1636,\"A TIEMPO\",\"FUERA DE TIEMPO\"))))","v":"A TIEMPO"},{"$f":"IF(I1636=\"\",\"\",NETWORKDAYS([4]Hoja1!C1636+1,[4]Hoja1!P1636,DiasNOLaborables))","v":9},"",null,null,20]
[1626,20200528214453,43979,"WEB (MÓDULO DE SOLICITUD DE INFORMACIÓN HIDROMETEOROLÓGICA)","SOLICITUD DE INFORMACIÓN Y DOCUMENTOS","SOLICITUD DE INFORMACIÓN HIDROMETEOROLÓGICA","NO","GRUPO DE ATENCIÓN AL CIUDADANO",43989,null,null,{"$f":"IFERROR(WORKDAY(C1637,R1637,DiasNOLaborables),\"\")","v":44012},{"$f":"+IF(C1637=\"\",\"\",IF(I1637=\"\",\"\",(IF(I1637<=L1637,\"A TIEMPO\",\"FUERA DE TIEMPO\"))))","v":"A TIEMPO"},{"$f":"IF(I1637=\"\",\"\",NETWORKDAYS([4]Hoja1!C1637+1,[4]Hoja1!P1637,DiasNOLaborables))","v":9},"",null,null,20]
[1627,20200528173303,43979,"WEB (MÓDULO DE SOLICITUD DE INFORMACIÓN HIDROMETEOROLÓGICA)","SOLICITUD DE INFORMACIÓN Y DOCUMENTOS","SOLICITUD DE INFORMACIÓN HIDROMETEOROLÓGICA","NO","GRUPO DE ATENCIÓN AL CIUDADANO",43989,null,null,{"$f":"IFERROR(WORKDAY(C1638,R1638,DiasNOLaborables),\"\")","v":44012},{"$f":"+IF(C1638=\"\",\"\",IF(I1638=\"\",\"\",(IF(I1638<=L1638,\"A TIEMPO\",\"FUERA DE TIEMPO\"))))","v":"A TIEMPO"},{"$f":"IF(I1638=\"\",\"\",NETWORKDAYS([4]Hoja1!C1638+1,[4]Hoja1!P1638,DiasNOLaborables))","v":9},"",null,null,20]
[1628,20200528172625,43979,"WEB (MÓDULO DE SOLICITUD DE INFORMACIÓN HIDROMETEOROLÓGICA)","SOLICITUD DE INFORMACIÓN Y DOCUMENTOS","SOLICITUD DE INFORMACIÓN HIDROMETEOROLÓGICA","NO","GRUPO DE ATENCIÓN AL CIUDADANO",43989,null,null,{"$f":"IFERROR(WORKDAY(C1639,R1639,DiasNOLaborables),\"\")","v":44012},{"$f":"+IF(C1639=\"\",\"\",IF(I1639=\"\",\"\",(IF(I1639<=L1639,\"A TIEMPO\",\"FUERA DE TIEMPO\"))))","v":"A TIEMPO"},{"$f":"IF(I1639=\"\",\"\",NETWORKDAYS([4]Hoja1!C1639+1,[4]Hoja1!P1639,DiasNOLaborables))","v":9},"",null,null,20]
[1629,20200528172015,43979,"WEB (MÓDULO DE SOLICITUD DE INFORMACIÓN HIDROMETEOROLÓGICA)","SOLICITUD DE INFORMACIÓN Y DOCUMENTOS","SOLICITUD DE INFORMACIÓN HIDROMETEOROLÓGICA","NO","GRUPO DE ATENCIÓN AL CIUDADANO",43989,null,null,{"$f":"IFERROR(WORKDAY(C1640,R1640,DiasNOLaborables),\"\")","v":44012},{"$f":"+IF(C1640=\"\",\"\",IF(I1640=\"\",\"\",(IF(I1640<=L1640,\"A TIEMPO\",\"FUERA DE TIEMPO\"))))","v":"A TIEMPO"},{"$f":"IF(I1640=\"\",\"\",NETWORKDAYS([4]Hoja1!C1640+1,[4]Hoja1!P1640,DiasNOLaborables))","v":9},"",null,null,20]
[1630,20200528170850,43979,"WEB (MÓDULO DE SOLICITUD DE INFORMACIÓN HIDROMETEOROLÓGICA)","SOLICITUD DE INFORMACIÓN Y DOCUMENTOS","SOLICITUD DE INFORMACIÓN HIDROMETEOROLÓGICA","NO","GRUPO DE ATENCIÓN AL CIUDADANO",43989,null,null,{"$f":"IFERROR(WORKDAY(C1641,R1641,DiasNOLaborables),\"\")","v":44012},{"$f":"+IF(C1641=\"\",\"\",IF(I1641=\"\",\"\",(IF(I1641<=L1641,\"A TIEMPO\",\"FUERA DE TIEMPO\"))))","v":"A TIEMPO"},{"$f":"IF(I1641=\"\",\"\",NETWORKDAYS([4]Hoja1!C1641+1,[4]Hoja1!P1641,DiasNOLaborables))","v":9},"",null,null,20]
[1631,20200528164544,43979,"WEB (MÓDULO DE SOLICITUD DE INFORMACIÓN HIDROMETEOROLÓGICA)","SOLICITUD DE INFORMACIÓN Y DOCUMENTOS","SOLICITUD DE INFORMACIÓN HIDROMETEOROLÓGICA","NO","GRUPO DE ATENCIÓN AL CIUDADANO",43989,null,null,{"$f":"IFERROR(WORKDAY(C1642,R1642,DiasNOLaborables),\"\")","v":44012},{"$f":"+IF(C1642=\"\",\"\",IF(I1642=\"\",\"\",(IF(I1642<=L1642,\"A TIEMPO\",\"FUERA DE TIEMPO\"))))","v":"A TIEMPO"},{"$f":"IF(I1642=\"\",\"\",NETWORKDAYS([4]Hoja1!C1642+1,[4]Hoja1!P1642,DiasNOLaborables))","v":9},"",null,null,20]
[1632,20200528163423,43979,"WEB (MÓDULO DE SOLICITUD DE INFORMACIÓN HIDROMETEOROLÓGICA)","SOLICITUD DE INFORMACIÓN Y DOCUMENTOS","SOLICITUD DE INFORMACIÓN HIDROMETEOROLÓGICA","NO","GRUPO DE ATENCIÓN AL CIUDADANO",43989,null,null,{"$f":"IFERROR(WORKDAY(C1643,R1643,DiasNOLaborables),\"\")","v":44012},{"$f":"+IF(C1643=\"\",\"\",IF(I1643=\"\",\"\",(IF(I1643<=L1643,\"A TIEMPO\",\"FUERA DE TIEMPO\"))))","v":"A TIEMPO"},{"$f":"IF(I1643=\"\",\"\",NETWORKDAYS([4]Hoja1!C1643+1,[4]Hoja1!P1643,DiasNOLaborables))","v":10},"",null,null,20]
[1633,20200528162007,43979,"WEB (MÓDULO DE SOLICITUD DE INFORMACIÓN HIDROMETEOROLÓGICA)","SOLICITUD DE INFORMACIÓN Y DOCUMENTOS","SOLICITUD DE INFORMACIÓN HIDROMETEOROLÓGICA","NO","GRUPO DE ATENCIÓN AL CIUDADANO",43989,null,null,{"$f":"IFERROR(WORKDAY(C1644,R1644,DiasNOLaborables),\"\")","v":44012},{"$f":"+IF(C1644=\"\",\"\",IF(I1644=\"\",\"\",(IF(I1644<=L1644,\"A TIEMPO\",\"FUERA DE TIEMPO\"))))","v":"A TIEMPO"},{"$f":"IF(I1644=\"\",\"\",NETWORKDAYS([4]Hoja1!C1644+1,[4]Hoja1!P1644,DiasNOLaborables))","v":10},"",null,null,20]
[1634,20200528161155,43979,"WEB (MÓDULO DE SOLICITUD DE INFORMACIÓN HIDROMETEOROLÓGICA)","SOLICITUD DE INFORMACIÓN Y DOCUMENTOS","SOLICITUD DE INFORMACIÓN HIDROMETEOROLÓGICA","NO","GRUPO DE ATENCIÓN AL CIUDADANO",43989,null,null,{"$f":"IFERROR(WORKDAY(C1645,R1645,DiasNOLaborables),\"\")","v":44012},{"$f":"+IF(C1645=\"\",\"\",IF(I1645=\"\",\"\",(IF(I1645<=L1645,\"A TIEMPO\",\"FUERA DE TIEMPO\"))))","v":"A TIEMPO"},{"$f":"IF(I1645=\"\",\"\",NETWORKDAYS([4]Hoja1!C1645+1,[4]Hoja1!P1645,DiasNOLaborables))","v":10},"",null,null,20]
[1635,20200528160701,43979,"WEB (MÓDULO DE SOLICITUD DE INFORMACIÓN HIDROMETEOROLÓGICA)","SOLICITUD DE INFORMACIÓN Y DOCUMENTOS","SOLICITUD DE INFORMACIÓN HIDROMETEOROLÓGICA","NO","GRUPO DE ATENCIÓN AL CIUDADANO",43989,null,null,{"$f":"IFERROR(WORKDAY(C1646,R1646,DiasNOLaborables),\"\")","v":44012},{"$f":"+IF(C1646=\"\",\"\",IF(I1646=\"\",\"\",(IF(I1646<=L1646,\"A TIEMPO\",\"FUERA DE TIEMPO\"))))","v":"A TIEMPO"},{"$f":"IF(I1646=\"\",\"\",NETWORKDAYS([4]Hoja1!C1646+1,[4]Hoja1!P1646,DiasNOLaborables))","v":10},"",null,null,20]
[1636,20200528155302,43979,"WEB (MÓDULO DE SOLICITUD DE INFORMACIÓN HIDROMETEOROLÓGICA)","SOLICITUD DE INFORMACIÓN Y DOCUMENTOS","SOLICITUD DE INFORMACIÓN HIDROMETEOROLÓGICA","NO","GRUPO DE ATENCIÓN AL CIUDADANO",43989,null,null,{"$f":"IFERROR(WORKDAY(C1647,R1647,DiasNOLaborables),\"\")","v":44012},{"$f":"+IF(C1647=\"\",\"\",IF(I1647=\"\",\"\",(IF(I1647<=L1647,\"A TIEMPO\",\"FUERA DE TIEMPO\"))))","v":"A TIEMPO"},{"$f":"IF(I1647=\"\",\"\",NETWORKDAYS([4]Hoja1!C1647+1,[4]Hoja1!P1647,DiasNOLaborables))","v":10},"",null,null,20]
[1637,20200528153540,43979,"WEB (MÓDULO DE SOLICITUD DE INFORMACIÓN HIDROMETEOROLÓGICA)","SOLICITUD DE INFORMACIÓN Y DOCUMENTOS","SOLICITUD DE INFORMACIÓN HIDROMETEOROLÓGICA","NO","GRUPO DE ATENCIÓN AL CIUDADANO",43989,null,null,{"$f":"IFERROR(WORKDAY(C1648,R1648,DiasNOLaborables),\"\")","v":44012},{"$f":"+IF(C1648=\"\",\"\",IF(I1648=\"\",\"\",(IF(I1648<=L1648,\"A TIEMPO\",\"FUERA DE TIEMPO\"))))","v":"A TIEMPO"},{"$f":"IF(I1648=\"\",\"\",NETWORKDAYS([4]Hoja1!C1648+1,[4]Hoja1!P1648,DiasNOLaborables))","v":10},"",null,null,20]
[1638,20200528151640,43979,"WEB (MÓDULO DE SOLICITUD DE INFORMACIÓN HIDROMETEOROLÓGICA)","SOLICITUD DE INFORMACIÓN Y DOCUMENTOS","SOLICITUD DE INFORMACIÓN HIDROMETEOROLÓGICA","NO","GRUPO DE ATENCIÓN AL CIUDADANO",43989,null,null,{"$f":"IFERROR(WORKDAY(C1649,R1649,DiasNOLaborables),\"\")","v":44012},{"$f":"+IF(C1649=\"\",\"\",IF(I1649=\"\",\"\",(IF(I1649<=L1649,\"A TIEMPO\",\"FUERA DE TIEMPO\"))))","v":"A TIEMPO"},{"$f":"IF(I1649=\"\",\"\",NETWORKDAYS([4]Hoja1!C1649+1,[4]Hoja1!P1649,DiasNOLaborables))","v":10},"",null,null,20]
[{"$f":"IF(B1648<>\"\",A1649+1,\"\")","v":1639},20200528142825,43979,"WEB (MÓDULO DE SOLICITUD DE INFORMACIÓN HIDROMETEOROLÓGICA)","SOLICITUD DE INFORMACIÓN Y DOCUMENTOS","SOLICITUD DE INFORMACIÓN HIDROMETEOROLÓGICA","NO","GRUPO DE ATENCIÓN AL CIUDADANO",43989,null,null,{"$f":"IFERROR(WORKDAY(C1650,R1650,DiasNOLaborables),\"\")","v":44012},{"$f":"+IF(C1650=\"\",\"\",IF(I1650=\"\",\"\",(IF(I1650<=L1650,\"A TIEMPO\",\"FUERA DE TIEMPO\"))))","v":"A TIEMPO"},{"$f":"IF(I1650=\"\",\"\",NETWORKDAYS([4]Hoja1!C1650+1,[4]Hoja1!P1650,DiasNOLaborables))","v":10},"",null,null,{"$f":"IFERROR(VLOOKUP(E1650,$Z$50:$AA$63,2),\"\")","v":20}]
[1640,20200528120908,43979,"WEB (MÓDULO DE SOLICITUD DE INFORMACIÓN HIDROMETEOROLÓGICA)","SOLICITUD DE INFORMACIÓN Y DOCUMENTOS","SOLICITUD DE INFORMACIÓN HIDROMETEOROLÓGICA","NO","GRUPO DE ATENCIÓN AL CIUDADANO",43989,null,null,{"$f":"IFERROR(WORKDAY(C1651,R1651,DiasNOLaborables),\"\")","v":44012},{"$f":"+IF(C1651=\"\",\"\",IF(I1651=\"\",\"\",(IF(I1651<=L1651,\"A TIEMPO\",\"FUERA DE TIEMPO\"))))","v":"A TIEMPO"},{"$f":"IF(I1651=\"\",\"\",NETWORKDAYS([4]Hoja1!C1651+1,[4]Hoja1!P1651,DiasNOLaborables))","v":10},"",null,null,20]
[1641,20200528115051,43979,"WEB (MÓDULO DE SOLICITUD DE INFORMACIÓN HIDROMETEOROLÓGICA)","SOLICITUD DE INFORMACIÓN Y DOCUMENTOS","SOLICITUD DE INFORMACIÓN HIDROMETEOROLÓGICA","NO","GRUPO DE ATENCIÓN AL CIUDADANO",43989,null,null,{"$f":"IFERROR(WORKDAY(C1652,R1652,DiasNOLaborables),\"\")","v":44012},{"$f":"+IF(C1652=\"\",\"\",IF(I1652=\"\",\"\",(IF(I1652<=L1652,\"A TIEMPO\",\"FUERA DE TIEMPO\"))))","v":"A TIEMPO"},{"$f":"IF(I1652=\"\",\"\",NETWORKDAYS([4]Hoja1!C1652+1,[4]Hoja1!P1652,DiasNOLaborables))","v":10},{"$f":"IF(NETWORKDAYS(L1652+1,I1652,DiasNOLaborables)<=0,\"\",NETWORKDAYS(L1652+1,I1652,DiasNOLaborables))","v":""},null,null,20]
[1642,20200528113529,43979,"WEB (MÓDULO DE SOLICITUD DE INFORMACIÓN HIDROMETEOROLÓGICA)","SOLICITUD DE INFORMACIÓN Y DOCUMENTOS","SOLICITUD DE INFORMACIÓN HIDROMETEOROLÓGICA","NO","GRUPO DE ATENCIÓN AL CIUDADANO",43989,null,null,{"$f":"IFERROR(WORKDAY(C1653,R1653,DiasNOLaborables),\"\")","v":44012},{"$f":"+IF(C1653=\"\",\"\",IF(I1653=\"\",\"\",(IF(I1653<=L1653,\"A TIEMPO\",\"FUERA DE TIEMPO\"))))","v":"A TIEMPO"},{"$f":"IF(I1653=\"\",\"\",NETWORKDAYS([4]Hoja1!C1653+1,[4]Hoja1!P1653,DiasNOLaborables))","v":10},"",null,null,20]
[1643,20200528110610,43979,"WEB (MÓDULO DE SOLICITUD DE INFORMACIÓN HIDROMETEOROLÓGICA)","SOLICITUD DE INFORMACIÓN Y DOCUMENTOS","SOLICITUD DE INFORMACIÓN HIDROMETEOROLÓGICA","NO","GRUPO DE ATENCIÓN AL CIUDADANO",43989,null,null,{"$f":"IFERROR(WORKDAY(C1654,R1654,DiasNOLaborables),\"\")","v":44012},{"$f":"+IF(C1654=\"\",\"\",IF(I1654=\"\",\"\",(IF(I1654<=L1654,\"A TIEMPO\",\"FUERA DE TIEMPO\"))))","v":"A TIEMPO"},{"$f":"IF(I1654=\"\",\"\",NETWORKDAYS([4]Hoja1!C1654+1,[4]Hoja1!P1654,DiasNOLaborables))","v":10},"",null,null,20]
[1644,20200528103707,43979,"WEB (MÓDULO DE SOLICITUD DE INFORMACIÓN HIDROMETEOROLÓGICA)","SOLICITUD DE INFORMACIÓN Y DOCUMENTOS","SOLICITUD DE INFORMACIÓN HIDROMETEOROLÓGICA","NO","GRUPO DE ATENCIÓN AL CIUDADANO",43989,null,null,{"$f":"IFERROR(WORKDAY(C1655,R1655,DiasNOLaborables),\"\")","v":44012},{"$f":"+IF(C1655=\"\",\"\",IF(I1655=\"\",\"\",(IF(I1655<=L1655,\"A TIEMPO\",\"FUERA DE TIEMPO\"))))","v":"A TIEMPO"},{"$f":"IF(I1655=\"\",\"\",NETWORKDAYS([4]Hoja1!C1655+1,[4]Hoja1!P1655,DiasNOLaborables))","v":10},"",null,null,20]
[1645,20200528103149,43979,"WEB (MÓDULO DE SOLICITUD DE INFORMACIÓN HIDROMETEOROLÓGICA)","SOLICITUD DE INFORMACIÓN Y DOCUMENTOS","SOLICITUD DE INFORMACIÓN HIDROMETEOROLÓGICA","NO","GRUPO DE ATENCIÓN AL CIUDADANO",43989,null,null,{"$f":"IFERROR(WORKDAY(C1656,R1656,DiasNOLaborables),\"\")","v":44012},{"$f":"+IF(C1656=\"\",\"\",IF(I1656=\"\",\"\",(IF(I1656<=L1656,\"A TIEMPO\",\"FUERA DE TIEMPO\"))))","v":"A TIEMPO"},{"$f":"IF(I1656=\"\",\"\",NETWORKDAYS([4]Hoja1!C1656+1,[4]Hoja1!P1656,DiasNOLaborables))","v":10},"",null,null,20]
[1646,20200528102112,43979,"WEB (MÓDULO DE SOLICITUD DE INFORMACIÓN HIDROMETEOROLÓGICA)","SOLICITUD DE INFORMACIÓN Y DOCUMENTOS","SOLICITUD DE INFORMACIÓN HIDROMETEOROLÓGICA","NO","GRUPO DE ATENCIÓN AL CIUDADANO",43989,null,null,{"$f":"IFERROR(WORKDAY(C1657,R1657,DiasNOLaborables),\"\")","v":44012},{"$f":"+IF(C1657=\"\",\"\",IF(I1657=\"\",\"\",(IF(I1657<=L1657,\"A TIEMPO\",\"FUERA DE TIEMPO\"))))","v":"A TIEMPO"},{"$f":"IF(I1657=\"\",\"\",NETWORKDAYS([4]Hoja1!C1657+1,[4]Hoja1!P1657,DiasNOLaborables))","v":10},"",null,null,20]
[1647,20200528101243,43979,"WEB (MÓDULO DE SOLICITUD DE INFORMACIÓN HIDROMETEOROLÓGICA)","SOLICITUD DE INFORMACIÓN Y DOCUMENTOS","SOLICITUD DE INFORMACIÓN HIDROMETEOROLÓGICA","NO","GRUPO DE ATENCIÓN AL CIUDADANO",43989,null,null,{"$f":"IFERROR(WORKDAY(C1658,R1658,DiasNOLaborables),\"\")","v":44012},{"$f":"+IF(C1658=\"\",\"\",IF(I1658=\"\",\"\",(IF(I1658<=L1658,\"A TIEMPO\",\"FUERA DE TIEMPO\"))))","v":"A TIEMPO"},{"$f":"IF(I1658=\"\",\"\",NETWORKDAYS([4]Hoja1!C1658+1,[4]Hoja1!P1658,DiasNOLaborables))","v":10},"",null,null,20]
[1648,20200528095824,43979,"WEB (MÓDULO DE SOLICITUD DE INFORMACIÓN HIDROMETEOROLÓGICA)","SOLICITUD DE INFORMACIÓN Y DOCUMENTOS","SOLICITUD DE INFORMACIÓN HIDROMETEOROLÓGICA","NO","GRUPO DE ATENCIÓN AL CIUDADANO",43989,null,null,{"$f":"IFERROR(WORKDAY(C1659,R1659,DiasNOLaborables),\"\")","v":44012},{"$f":"+IF(C1659=\"\",\"\",IF(I1659=\"\",\"\",(IF(I1659<=L1659,\"A TIEMPO\",\"FUERA DE TIEMPO\"))))","v":"A TIEMPO"},{"$f":"IF(I1659=\"\",\"\",NETWORKDAYS([4]Hoja1!C1659+1,[4]Hoja1!P1659,DiasNOLaborables))","v":10},"",null,null,20]
[1649,20200528095517,43979,"WEB (MÓDULO DE SOLICITUD DE INFORMACIÓN HIDROMETEOROLÓGICA)","SOLICITUD DE INFORMACIÓN Y DOCUMENTOS","SOLICITUD DE INFORMACIÓN HIDROMETEOROLÓGICA","NO","GRUPO DE ATENCIÓN AL CIUDADANO",43989,null,null,{"$f":"IFERROR(WORKDAY(C1660,R1660,DiasNOLaborables),\"\")","v":44012},{"$f":"+IF(C1660=\"\",\"\",IF(I1660=\"\",\"\",(IF(I1660<=L1660,\"A TIEMPO\",\"FUERA DE TIEMPO\"))))","v":"A TIEMPO"},{"$f":"IF(I1660=\"\",\"\",NETWORKDAYS([4]Hoja1!C1660+1,[4]Hoja1!P1660,DiasNOLaborables))","v":10},"",null,null,20]
[1650,20200528095139,43979,"WEB (MÓDULO DE SOLICITUD DE INFORMACIÓN HIDROMETEOROLÓGICA)","SOLICITUD DE INFORMACIÓN Y DOCUMENTOS","SOLICITUD DE INFORMACIÓN HIDROMETEOROLÓGICA","NO","GRUPO DE ATENCIÓN AL CIUDADANO",43989,null,null,{"$f":"IFERROR(WORKDAY(C1661,R1661,DiasNOLaborables),\"\")","v":44012},{"$f":"+IF(C1661=\"\",\"\",IF(I1661=\"\",\"\",(IF(I1661<=L1661,\"A TIEMPO\",\"FUERA DE TIEMPO\"))))","v":"A TIEMPO"},{"$f":"IF(I1661=\"\",\"\",NETWORKDAYS([4]Hoja1!C1661+1,[4]Hoja1!P1661,DiasNOLaborables))","v":10},"",null,null,20]
[1651,20200528093245,43979,"WEB (MÓDULO DE SOLICITUD DE INFORMACIÓN HIDROMETEOROLÓGICA)","SOLICITUD DE INFORMACIÓN Y DOCUMENTOS","SOLICITUD DE INFORMACIÓN HIDROMETEOROLÓGICA","NO","GRUPO DE ATENCIÓN AL CIUDADANO",43989,null,null,{"$f":"IFERROR(WORKDAY(C1662,R1662,DiasNOLaborables),\"\")","v":44012},{"$f":"+IF(C1662=\"\",\"\",IF(I1662=\"\",\"\",(IF(I1662<=L1662,\"A TIEMPO\",\"FUERA DE TIEMPO\"))))","v":"A TIEMPO"},{"$f":"IF(I1662=\"\",\"\",NETWORKDAYS([4]Hoja1!C1662+1,[4]Hoja1!P1662,DiasNOLaborables))","v":10},"",null,null,20]
[1652,20200528092957,43979,"WEB (MÓDULO DE SOLICITUD DE INFORMACIÓN HIDROMETEOROLÓGICA)","SOLICITUD DE INFORMACIÓN Y DOCUMENTOS","SOLICITUD DE INFORMACIÓN HIDROMETEOROLÓGICA","NO","GRUPO DE ATENCIÓN AL CIUDADANO",43989,null,null,{"$f":"IFERROR(WORKDAY(C1663,R1663,DiasNOLaborables),\"\")","v":44012},{"$f":"+IF(C1663=\"\",\"\",IF(I1663=\"\",\"\",(IF(I1663<=L1663,\"A TIEMPO\",\"FUERA DE TIEMPO\"))))","v":"A TIEMPO"},{"$f":"IF(I1663=\"\",\"\",NETWORKDAYS([4]Hoja1!C1663+1,[4]Hoja1!P1663,DiasNOLaborables))","v":10},"",null,null,20]
[1653,20200528092300,43979,"WEB (MÓDULO DE SOLICITUD DE INFORMACIÓN HIDROMETEOROLÓGICA)","SOLICITUD DE INFORMACIÓN Y DOCUMENTOS","SOLICITUD DE INFORMACIÓN HIDROMETEOROLÓGICA","NO","GRUPO DE ATENCIÓN AL CIUDADANO",43989,null,null,{"$f":"IFERROR(WORKDAY(C1664,R1664,DiasNOLaborables),\"\")","v":44012},{"$f":"+IF(C1664=\"\",\"\",IF(I1664=\"\",\"\",(IF(I1664<=L1664,\"A TIEMPO\",\"FUERA DE TIEMPO\"))))","v":"A TIEMPO"},{"$f":"IF(I1664=\"\",\"\",NETWORKDAYS([4]Hoja1!C1664+1,[4]Hoja1!P1664,DiasNOLaborables))","v":10},"",null,null,20]
[1654,20200528090006,43979,"WEB (MÓDULO DE SOLICITUD DE INFORMACIÓN HIDROMETEOROLÓGICA)","SOLICITUD DE INFORMACIÓN Y DOCUMENTOS","SOLICITUD DE INFORMACIÓN HIDROMETEOROLÓGICA","NO","GRUPO DE ATENCIÓN AL CIUDADANO",43989,null,null,{"$f":"IFERROR(WORKDAY(C1665,R1665,DiasNOLaborables),\"\")","v":44012},{"$f":"+IF(C1665=\"\",\"\",IF(I1665=\"\",\"\",(IF(I1665<=L1665,\"A TIEMPO\",\"FUERA DE TIEMPO\"))))","v":"A TIEMPO"},{"$f":"IF(I1665=\"\",\"\",NETWORKDAYS([4]Hoja1!C1665+1,[4]Hoja1!P1665,DiasNOLaborables))","v":10},"",null,null,20]
[1655,20200528085936,43979,"WEB (MÓDULO DE SOLICITUD DE INFORMACIÓN HIDROMETEOROLÓGICA)","SOLICITUD DE INFORMACIÓN Y DOCUMENTOS","SOLICITUD DE INFORMACIÓN HIDROMETEOROLÓGICA","NO","GRUPO DE ATENCIÓN AL CIUDADANO",43989,null,null,{"$f":"IFERROR(WORKDAY(C1666,R1666,DiasNOLaborables),\"\")","v":44012},{"$f":"+IF(C1666=\"\",\"\",IF(I1666=\"\",\"\",(IF(I1666<=L1666,\"A TIEMPO\",\"FUERA DE TIEMPO\"))))","v":"A TIEMPO"},{"$f":"IF(I1666=\"\",\"\",NETWORKDAYS([4]Hoja1!C1666+1,[4]Hoja1!P1666,DiasNOLaborables))","v":10},"",null,null,20]
[1656,20200528085616,43979,"WEB (MÓDULO DE SOLICITUD DE INFORMACIÓN HIDROMETEOROLÓGICA)","SOLICITUD DE INFORMACIÓN Y DOCUMENTOS","SOLICITUD DE INFORMACIÓN HIDROMETEOROLÓGICA","NO","GRUPO DE ATENCIÓN AL CIUDADANO",43989,null,null,{"$f":"IFERROR(WORKDAY(C1667,R1667,DiasNOLaborables),\"\")","v":44012},{"$f":"+IF(C1667=\"\",\"\",IF(I1667=\"\",\"\",(IF(I1667<=L1667,\"A TIEMPO\",\"FUERA DE TIEMPO\"))))","v":"A TIEMPO"},{"$f":"IF(I1667=\"\",\"\",NETWORKDAYS([4]Hoja1!C1667+1,[4]Hoja1!P1667,DiasNOLaborables))","v":10},"",null,null,20]
[1657,20200528084720,43979,"WEB (MÓDULO DE SOLICITUD DE INFORMACIÓN HIDROMETEOROLÓGICA)","SOLICITUD DE INFORMACIÓN Y DOCUMENTOS","SOLICITUD DE INFORMACIÓN HIDROMETEOROLÓGICA","NO","GRUPO DE ATENCIÓN AL CIUDADANO",43989,null,null,{"$f":"IFERROR(WORKDAY(C1668,R1668,DiasNOLaborables),\"\")","v":44012},{"$f":"+IF(C1668=\"\",\"\",IF(I1668=\"\",\"\",(IF(I1668<=L1668,\"A TIEMPO\",\"FUERA DE TIEMPO\"))))","v":"A TIEMPO"},{"$f":"IF(I1668=\"\",\"\",NETWORKDAYS([4]Hoja1!C1668+1,[4]Hoja1!P1668,DiasNOLaborables))","v":10},"",null,null,20]
[1658,20200528084333,43979,"WEB (MÓDULO DE SOLICITUD DE INFORMACIÓN HIDROMETEOROLÓGICA)","SOLICITUD DE INFORMACIÓN Y DOCUMENTOS","SOLICITUD DE INFORMACIÓN HIDROMETEOROLÓGICA","NO","GRUPO DE ATENCIÓN AL CIUDADANO",43989,null,null,{"$f":"IFERROR(WORKDAY(C1669,R1669,DiasNOLaborables),\"\")","v":44012},{"$f":"+IF(C1669=\"\",\"\",IF(I1669=\"\",\"\",(IF(I1669<=L1669,\"A TIEMPO\",\"FUERA DE TIEMPO\"))))","v":"A TIEMPO"},{"$f":"IF(I1669=\"\",\"\",NETWORKDAYS([4]Hoja1!C1669+1,[4]Hoja1!P1669,DiasNOLaborables))","v":10},"",null,null,20]
[1659,20200528083319,43979,"WEB (MÓDULO DE SOLICITUD DE INFORMACIÓN HIDROMETEOROLÓGICA)","SOLICITUD DE INFORMACIÓN Y DOCUMENTOS","SOLICITUD DE INFORMACIÓN HIDROMETEOROLÓGICA","NO","GRUPO DE ATENCIÓN AL CIUDADANO",43989,null,null,{"$f":"IFERROR(WORKDAY(C1670,R1670,DiasNOLaborables),\"\")","v":44012},{"$f":"+IF(C1670=\"\",\"\",IF(I1670=\"\",\"\",(IF(I1670<=L1670,\"A TIEMPO\",\"FUERA DE TIEMPO\"))))","v":"A TIEMPO"},{"$f":"IF(I1670=\"\",\"\",NETWORKDAYS([4]Hoja1!C1670+1,[4]Hoja1!P1670,DiasNOLaborables))","v":10},"",null,null,20]
[1660,20200528013218,43979,"WEB (MÓDULO DE SOLICITUD DE INFORMACIÓN HIDROMETEOROLÓGICA)","SOLICITUD DE INFORMACIÓN Y DOCUMENTOS","SOLICITUD DE INFORMACIÓN HIDROMETEOROLÓGICA","NO","GRUPO DE ATENCIÓN AL CIUDADANO",43989,null,null,{"$f":"IFERROR(WORKDAY(C1671,R1671,DiasNOLaborables),\"\")","v":44012},{"$f":"+IF(C1671=\"\",\"\",IF(I1671=\"\",\"\",(IF(I1671<=L1671,\"A TIEMPO\",\"FUERA DE TIEMPO\"))))","v":"A TIEMPO"},{"$f":"IF(I1671=\"\",\"\",NETWORKDAYS([4]Hoja1!C1671+1,[4]Hoja1!P1671,DiasNOLaborables))","v":10},"",null,null,20]
[1661,20200528010630,43979,"WEB (MÓDULO DE SOLICITUD DE INFORMACIÓN HIDROMETEOROLÓGICA)","SOLICITUD DE INFORMACIÓN Y DOCUMENTOS","SOLICITUD DE INFORMACIÓN HIDROMETEOROLÓGICA","NO","GRUPO DE ATENCIÓN AL CIUDADANO",43989,null,null,{"$f":"IFERROR(WORKDAY(C1672,R1672,DiasNOLaborables),\"\")","v":44012},{"$f":"+IF(C1672=\"\",\"\",IF(I1672=\"\",\"\",(IF(I1672<=L1672,\"A TIEMPO\",\"FUERA DE TIEMPO\"))))","v":"A TIEMPO"},{"$f":"IF(I1672=\"\",\"\",NETWORKDAYS([4]Hoja1!C1672+1,[4]Hoja1!P1672,DiasNOLaborables))","v":10},"",null,null,20]
[1662,20209050043202,43975,"MODULO CONTACTENOS","SOLICITUD DE INFORMACIÓN Y DOCUMENTOS","SOLICITUD DE INFORMACIÓN HIDROMETEOROLÓGICA","NO","GRUPO DE ATENCIÓN AL CIUDADANO",43990,null,null,{"$f":"IFERROR(WORKDAY(C1673,R1673,DiasNOLaborables),\"\")","v":44006},{"$f":"+IF(C1673=\"\",\"\",IF(I1673=\"\",\"\",(IF(I1673<=L1673,\"A TIEMPO\",\"FUERA DE TIEMPO\"))))","v":"A TIEMPO"},{"$f":"IF(I1673=\"\",\"\",NETWORKDAYS([4]Hoja1!C1673+1,[4]Hoja1!P1673,DiasNOLaborables))","v":10},"",null,null,20]
[1663,20209050043232,43976,"MODULO CONTACTENOS","SOLICITUD DE INFORMACIÓN Y DOCUMENTOS","SOLICITUD DE INFORMACIÓN HIDROMETEOROLÓGICA","NO","GRUPO DE ATENCIÓN AL CIUDADANO",43990,null,null,{"$f":"IFERROR(WORKDAY(C1674,R1674,DiasNOLaborables),\"\")","v":44006},{"$f":"+IF(C1674=\"\",\"\",IF(I1674=\"\",\"\",(IF(I1674<=L1674,\"A TIEMPO\",\"FUERA DE TIEMPO\"))))","v":"A TIEMPO"},{"$f":"IF(I1674=\"\",\"\",NETWORKDAYS([4]Hoja1!C1674+1,[4]Hoja1!P1674,DiasNOLaborables))","v":10},"",null,null,20]
[1664,20209050043242,43976,"MODULO CONTACTENOS","SOLICITUD DE INFORMACIÓN Y DOCUMENTOS","SOLICITUD DE INFORMACIÓN HIDROMETEOROLÓGICA","NO","GRUPO DE ATENCIÓN AL CIUDADANO",43990,null,null,{"$f":"IFERROR(WORKDAY(C1675,R1675,DiasNOLaborables),\"\")","v":44006},{"$f":"+IF(C1675=\"\",\"\",IF(I1675=\"\",\"\",(IF(I1675<=L1675,\"A TIEMPO\",\"FUERA DE TIEMPO\"))))","v":"A TIEMPO"},{"$f":"IF(I1675=\"\",\"\",NETWORKDAYS([4]Hoja1!C1675+1,[4]Hoja1!P1675,DiasNOLaborables))","v":10},"",null,null,20]
[1665,20209050043252,43976,"MODULO CONTACTENOS","SOLICITUD DE INFORMACIÓN Y DOCUMENTOS","SOLICITUD DE INFORMACIÓN HIDROMETEOROLÓGICA","NO","GRUPO DE ATENCIÓN AL CIUDADANO",43990,null,null,{"$f":"IFERROR(WORKDAY(C1676,R1676,DiasNOLaborables),\"\")","v":44006},{"$f":"+IF(C1676=\"\",\"\",IF(I1676=\"\",\"\",(IF(I1676<=L1676,\"A TIEMPO\",\"FUERA DE TIEMPO\"))))","v":"A TIEMPO"},{"$f":"IF(I1676=\"\",\"\",NETWORKDAYS([4]Hoja1!C1676+1,[4]Hoja1!P1676,DiasNOLaborables))","v":10},"",null,null,20]
[1666,20209050043952,43978,"MODULO CONTACTENOS","SOLICITUD DE INFORMACIÓN Y DOCUMENTOS","SOLICITUD DE INFORMACIÓN HIDROMETEOROLÓGICA","NO","GRUPO DE ATENCIÓN AL CIUDADANO",43990,null,null,{"$f":"IFERROR(WORKDAY(C1677,R1677,DiasNOLaborables),\"\")","v":44008},{"$f":"+IF(C1677=\"\",\"\",IF(I1677=\"\",\"\",(IF(I1677<=L1677,\"A TIEMPO\",\"FUERA DE TIEMPO\"))))","v":"A TIEMPO"},{"$f":"IF(I1677=\"\",\"\",NETWORKDAYS([4]Hoja1!C1677+1,[4]Hoja1!P1677,DiasNOLaborables))","v":10},"",null,null,20]
[1667,20209050044112,43978,"MODULO CONTACTENOS","SOLICITUD DE INFORMACIÓN Y DOCUMENTOS","SOLICITUD DE INFORMACIÓN HIDROMETEOROLÓGICA","NO","GRUPO DE ATENCIÓN AL CIUDADANO",43990,null,null,{"$f":"IFERROR(WORKDAY(C1678,R1678,DiasNOLaborables),\"\")","v":44008},{"$f":"+IF(C1678=\"\",\"\",IF(I1678=\"\",\"\",(IF(I1678<=L1678,\"A TIEMPO\",\"FUERA DE TIEMPO\"))))","v":"A TIEMPO"},{"$f":"IF(I1678=\"\",\"\",NETWORKDAYS([4]Hoja1!C1678+1,[4]Hoja1!P1678,DiasNOLaborables))","v":10},"",null,null,20]
[1668,20209050044272,43979,"MODULO CONTACTENOS","SOLICITUD DE INFORMACIÓN Y DOCUMENTOS","SOLICITUD DE INFORMACIÓN HIDROMETEOROLÓGICA","NO","GRUPO DE ATENCIÓN AL CIUDADANO",43992,null,null,{"$f":"IFERROR(WORKDAY(C1679,R1679,DiasNOLaborables),\"\")","v":44012},{"$f":"+IF(C1679=\"\",\"\",IF(I1679=\"\",\"\",(IF(I1679<=L1679,\"A TIEMPO\",\"FUERA DE TIEMPO\"))))","v":"A TIEMPO"},{"$f":"IF(I1679=\"\",\"\",NETWORKDAYS([4]Hoja1!C1679+1,[4]Hoja1!P1679,DiasNOLaborables))","v":10},"",null,null,20]
[1669,20209050044342,43979,"MODULO CONTACTENOS","SOLICITUD DE INFORMACIÓN Y DOCUMENTOS","SOLICITUD DE INFORMACIÓN HIDROMETEOROLÓGICA","NO","GRUPO DE ATENCIÓN AL CIUDADANO",43992,null,null,{"$f":"IFERROR(WORKDAY(C1680,R1680,DiasNOLaborables),\"\")","v":44012},{"$f":"+IF(C1680=\"\",\"\",IF(I1680=\"\",\"\",(IF(I1680<=L1680,\"A TIEMPO\",\"FUERA DE TIEMPO\"))))","v":"A TIEMPO"},{"$f":"IF(I1680=\"\",\"\",NETWORKDAYS([4]Hoja1!C1680+1,[4]Hoja1!P1680,DiasNOLaborables))","v":10},"",null,null,20]
[1670,20209050044462,43979,"MODULO CONTACTENOS","SOLICITUD DE INFORMACIÓN Y DOCUMENTOS","SOLICITUD DE INFORMACIÓN HIDROMETEOROLÓGICA","NO","GRUPO DE ATENCIÓN AL CIUDADANO",43992,null,null,{"$f":"IFERROR(WORKDAY(C1681,R1681,DiasNOLaborables),\"\")","v":44012},{"$f":"+IF(C1681=\"\",\"\",IF(I1681=\"\",\"\",(IF(I1681<=L1681,\"A TIEMPO\",\"FUERA DE TIEMPO\"))))","v":"A TIEMPO"},{"$f":"IF(I1681=\"\",\"\",NETWORKDAYS([4]Hoja1!C1681+1,[4]Hoja1!P1681,DiasNOLaborables))","v":10},"",null,null,20]
[1671,20209050044472,43980,"MODULO CONTACTENOS","SOLICITUD DE INFORMACIÓN Y DOCUMENTOS","SOLICITUD DE INFORMACIÓN HIDROMETEOROLÓGICA","NO","GRUPO DE ATENCIÓN AL CIUDADANO",43992,null,null,{"$f":"IFERROR(WORKDAY(C1682,R1682,DiasNOLaborables),\"\")","v":44013},{"$f":"+IF(C1682=\"\",\"\",IF(I1682=\"\",\"\",(IF(I1682<=L1682,\"A TIEMPO\",\"FUERA DE TIEMPO\"))))","v":"A TIEMPO"},{"$f":"IF(I1682=\"\",\"\",NETWORKDAYS([4]Hoja1!C1682+1,[4]Hoja1!P1682,DiasNOLaborables))","v":10},"",null,null,20]
[1672,20207080001112,43980,"WEB (MÓDULO DE SOLICITUD DE INFORMACIÓN HIDROMETEOROLÓGICA)","SOLICITUD DE INFORMACIÓN Y DOCUMENTOS","SOLICITUD DE INFORMACIÓN HIDROMETEOROLÓGICA","NO","GRUPO DE ATENCIÓN AL CIUDADANO",43992,null,null,{"$f":"IFERROR(WORKDAY(C1683,R1683,DiasNOLaborables),\"\")","v":44013},{"$f":"+IF(C1683=\"\",\"\",IF(I1683=\"\",\"\",(IF(I1683<=L1683,\"A TIEMPO\",\"FUERA DE TIEMPO\"))))","v":"A TIEMPO"},{"$f":"IF(I1683=\"\",\"\",NETWORKDAYS([4]Hoja1!C1683+1,[4]Hoja1!P1683,DiasNOLaborables))","v":10},"",null,null,20]
[1673,20209050044482,43980,"MODULO CONTACTENOS","SOLICITUD DE INFORMACIÓN Y DOCUMENTOS","SOLICITUD DE INFORMACIÓN HIDROMETEOROLÓGICA","NO","GRUPO DE ATENCIÓN AL CIUDADANO",43992,null,null,{"$f":"IFERROR(WORKDAY(C1684,R1684,DiasNOLaborables),\"\")","v":44013},{"$f":"+IF(C1684=\"\",\"\",IF(I1684=\"\",\"\",(IF(I1684<=L1684,\"A TIEMPO\",\"FUERA DE TIEMPO\"))))","v":"A TIEMPO"},{"$f":"IF(I1684=\"\",\"\",NETWORKDAYS([4]Hoja1!C1684+1,[4]Hoja1!P1684,DiasNOLaborables))","v":10},"",null,null,20]
[1674,20209050044512,43980,"MODULO CONTACTENOS","SOLICITUD DE INFORMACIÓN Y DOCUMENTOS","SOLICITUD DE INFORMACIÓN HIDROMETEOROLÓGICA","NO","GRUPO DE ATENCIÓN AL CIUDADANO",43992,null,null,{"$f":"IFERROR(WORKDAY(C1685,R1685,DiasNOLaborables),\"\")","v":44013},{"$f":"+IF(C1685=\"\",\"\",IF(I1685=\"\",\"\",(IF(I1685<=L1685,\"A TIEMPO\",\"FUERA DE TIEMPO\"))))","v":"A TIEMPO"},{"$f":"IF(I1685=\"\",\"\",NETWORKDAYS([4]Hoja1!C1685+1,[4]Hoja1!P1685,DiasNOLaborables))","v":10},"",null,null,20]
[1675,20209050044522,43980,"MODULO CONTACTENOS","SOLICITUD DE INFORMACIÓN Y DOCUMENTOS","SOLICITUD DE INFORMACIÓN HIDROMETEOROLÓGICA","NO","GRUPO DE ATENCIÓN AL CIUDADANO",43992,null,null,{"$f":"IFERROR(WORKDAY(C1686,R1686,DiasNOLaborables),\"\")","v":44013},{"$f":"+IF(C1686=\"\",\"\",IF(I1686=\"\",\"\",(IF(I1686<=L1686,\"A TIEMPO\",\"FUERA DE TIEMPO\"))))","v":"A TIEMPO"},{"$f":"IF(I1686=\"\",\"\",NETWORKDAYS([4]Hoja1!C1686+1,[4]Hoja1!P1686,DiasNOLaborables))","v":10},"",null,null,20]
[1676,20209050044532,43980,"MODULO CONTACTENOS","SOLICITUD DE INFORMACIÓN Y DOCUMENTOS","SOLICITUD DE INFORMACIÓN HIDROMETEOROLÓGICA","NO","GRUPO DE ATENCIÓN AL CIUDADANO",43992,null,null,{"$f":"IFERROR(WORKDAY(C1687,R1687,DiasNOLaborables),\"\")","v":44013},{"$f":"+IF(C1687=\"\",\"\",IF(I1687=\"\",\"\",(IF(I1687<=L1687,\"A TIEMPO\",\"FUERA DE TIEMPO\"))))","v":"A TIEMPO"},{"$f":"IF(I1687=\"\",\"\",NETWORKDAYS([4]Hoja1!C1687+1,[4]Hoja1!P1687,DiasNOLaborables))","v":10},"",null,null,20]
[1677,20209050044542,43980,"MODULO CONTACTENOS","SOLICITUD DE INFORMACIÓN Y DOCUMENTOS","SOLICITUD DE INFORMACIÓN HIDROMETEOROLÓGICA","NO","GRUPO DE ATENCIÓN AL CIUDADANO",43992,null,null,{"$f":"IFERROR(WORKDAY(C1688,R1688,DiasNOLaborables),\"\")","v":44013},{"$f":"+IF(C1688=\"\",\"\",IF(I1688=\"\",\"\",(IF(I1688<=L1688,\"A TIEMPO\",\"FUERA DE TIEMPO\"))))","v":"A TIEMPO"},{"$f":"IF(I1688=\"\",\"\",NETWORKDAYS([4]Hoja1!C1688+1,[4]Hoja1!P1688,DiasNOLaborables))","v":10},"",null,null,20]
[1678,20209050044552,43980,"MODULO CONTACTENOS","SOLICITUD DE INFORMACIÓN Y DOCUMENTOS","SOLICITUD DE INFORMACIÓN HIDROMETEOROLÓGICA","NO","GRUPO DE ATENCIÓN AL CIUDADANO",43992,null,null,{"$f":"IFERROR(WORKDAY(C1689,R1689,DiasNOLaborables),\"\")","v":44013},{"$f":"+IF(C1689=\"\",\"\",IF(I1689=\"\",\"\",(IF(I1689<=L1689,\"A TIEMPO\",\"FUERA DE TIEMPO\"))))","v":"A TIEMPO"},{"$f":"IF(I1689=\"\",\"\",NETWORKDAYS([4]Hoja1!C1689+1,[4]Hoja1!P1689,DiasNOLaborables))","v":10},"",null,null,20]
[1679,20209050044562,43980,"MODULO CONTACTENOS","SOLICITUD DE INFORMACIÓN Y DOCUMENTOS","SOLICITUD DE INFORMACIÓN HIDROMETEOROLÓGICA","NO","GRUPO DE ATENCIÓN AL CIUDADANO",43992,null,null,{"$f":"IFERROR(WORKDAY(C1690,R1690,DiasNOLaborables),\"\")","v":44013},{"$f":"+IF(C1690=\"\",\"\",IF(I1690=\"\",\"\",(IF(I1690<=L1690,\"A TIEMPO\",\"FUERA DE TIEMPO\"))))","v":"A TIEMPO"},{"$f":"IF(I1690=\"\",\"\",NETWORKDAYS([4]Hoja1!C1690+1,[4]Hoja1!P1690,DiasNOLaborables))","v":10},"",null,null,20]
[1680,20209050044592,43980,"MODULO CONTACTENOS","SOLICITUD DE INFORMACIÓN Y DOCUMENTOS","SOLICITUD DE INFORMACIÓN HIDROMETEOROLÓGICA","NO","GRUPO DE ATENCIÓN AL CIUDADANO",43992,null,null,{"$f":"IFERROR(WORKDAY(C1691,R1691,DiasNOLaborables),\"\")","v":44013},{"$f":"+IF(C1691=\"\",\"\",IF(I1691=\"\",\"\",(IF(I1691<=L1691,\"A TIEMPO\",\"FUERA DE TIEMPO\"))))","v":"A TIEMPO"},{"$f":"IF(I1691=\"\",\"\",NETWORKDAYS([4]Hoja1!C1691+1,[4]Hoja1!P1691,DiasNOLaborables))","v":10},"",null,null,20]
[1681,20209050044652,43980,"MODULO CONTACTENOS","SOLICITUD DE INFORMACIÓN Y DOCUMENTOS","SOLICITUD DE INFORMACIÓN HIDROMETEOROLÓGICA","NO","GRUPO DE ATENCIÓN AL CIUDADANO",43992,null,null,{"$f":"IFERROR(WORKDAY(C1692,R1692,DiasNOLaborables),\"\")","v":44013},{"$f":"+IF(C1692=\"\",\"\",IF(I1692=\"\",\"\",(IF(I1692<=L1692,\"A TIEMPO\",\"FUERA DE TIEMPO\"))))","v":"A TIEMPO"},{"$f":"IF(I1692=\"\",\"\",NETWORKDAYS([4]Hoja1!C1692+1,[4]Hoja1!P1692,DiasNOLaborables))","v":10},"",null,null,20]
[1682,20209050044682,43980,"MODULO CONTACTENOS","SOLICITUD DE INFORMACIÓN Y DOCUMENTOS","SOLICITUD DE INFORMACIÓN HIDROMETEOROLÓGICA","NO","GRUPO DE ATENCIÓN AL CIUDADANO",43992,null,null,{"$f":"IFERROR(WORKDAY(C1693,R1693,DiasNOLaborables),\"\")","v":44013},{"$f":"+IF(C1693=\"\",\"\",IF(I1693=\"\",\"\",(IF(I1693<=L1693,\"A TIEMPO\",\"FUERA DE TIEMPO\"))))","v":"A TIEMPO"},{"$f":"IF(I1693=\"\",\"\",NETWORKDAYS([4]Hoja1!C1693+1,[4]Hoja1!P1693,DiasNOLaborables))","v":9},"",null,null,20]
[1683,20209050044702,43980,"MODULO CONTACTENOS","SOLICITUD DE INFORMACIÓN Y DOCUMENTOS","SOLICITUD DE INFORMACIÓN HIDROMETEOROLÓGICA","NO","GRUPO DE ATENCIÓN AL CIUDADANO",43992,null,null,{"$f":"IFERROR(WORKDAY(C1694,R1694,DiasNOLaborables),\"\")","v":44013},{"$f":"+IF(C1694=\"\",\"\",IF(I1694=\"\",\"\",(IF(I1694<=L1694,\"A TIEMPO\",\"FUERA DE TIEMPO\"))))","v":"A TIEMPO"},{"$f":"IF(I1694=\"\",\"\",NETWORKDAYS([4]Hoja1!C1694+1,[4]Hoja1!P1694,DiasNOLaborables))","v":9},"",null,null,20]
[1684,20209050044712,43980,"MODULO CONTACTENOS","SOLICITUD DE INFORMACIÓN Y DOCUMENTOS","SOLICITUD DE INFORMACIÓN HIDROMETEOROLÓGICA","NO","GRUPO DE ATENCIÓN AL CIUDADANO",43992,null,null,{"$f":"IFERROR(WORKDAY(C1695,R1695,DiasNOLaborables),\"\")","v":44013},{"$f":"+IF(C1695=\"\",\"\",IF(I1695=\"\",\"\",(IF(I1695<=L1695,\"A TIEMPO\",\"FUERA DE TIEMPO\"))))","v":"A TIEMPO"},{"$f":"IF(I1695=\"\",\"\",NETWORKDAYS([4]Hoja1!C1695+1,[4]Hoja1!P1695,DiasNOLaborables))","v":9},"",null,null,20]
[1685,20209050044772,43980,"MODULO CONTACTENOS","SOLICITUD DE INFORMACIÓN Y DOCUMENTOS","SOLICITUD DE INFORMACIÓN HIDROMETEOROLÓGICA","NO","GRUPO DE ATENCIÓN AL CIUDADANO",43992,null,null,{"$f":"IFERROR(WORKDAY(C1696,R1696,DiasNOLaborables),\"\")","v":44013},{"$f":"+IF(C1696=\"\",\"\",IF(I1696=\"\",\"\",(IF(I1696<=L1696,\"A TIEMPO\",\"FUERA DE TIEMPO\"))))","v":"A TIEMPO"},{"$f":"IF(I1696=\"\",\"\",NETWORKDAYS([4]Hoja1!C1696+1,[4]Hoja1!P1696,DiasNOLaborables))","v":9},"",null,null,20]
[1686,20209050045112,43982,"MODULO CONTACTENOS","SOLICITUD DE INFORMACIÓN Y DOCUMENTOS","SOLICITUD DE INFORMACIÓN HIDROMETEOROLÓGICA","NO","GRUPO DE ATENCIÓN AL CIUDADANO",43992,null,null,{"$f":"IFERROR(WORKDAY(C1697,R1697,DiasNOLaborables),\"\")","v":44013},{"$f":"+IF(C1697=\"\",\"\",IF(I1697=\"\",\"\",(IF(I1697<=L1697,\"A TIEMPO\",\"FUERA DE TIEMPO\"))))","v":"A TIEMPO"},{"$f":"IF(I1697=\"\",\"\",NETWORKDAYS([4]Hoja1!C1697+1,[4]Hoja1!P1697,DiasNOLaborables))","v":9},"",null,null,20]
[1687,20209050036602,43952,"CORREO ELECTRÓNICO","SOLICITUD DE INFORMACIÓN Y DOCUMENTOS","SOLICITUD DE INFORMACIÓN HIDROMETEOROLÓGICA","NO","GRUPO DE ATENCIÓN AL CIUDADANO",43960,null,null,{"$f":"IFERROR(WORKDAY(C1698,R1698,DiasNOLaborables),\"\")","v":43983},{"$f":"+IF(C1698=\"\",\"\",IF(I1698=\"\",\"\",(IF(I1698<=L1698,\"A TIEMPO\",\"FUERA DE TIEMPO\"))))","v":"A TIEMPO"},{"$f":"IF(I1698=\"\",\"\",NETWORKDAYS([4]Hoja1!C1698+1,[4]Hoja1!P1698,DiasNOLaborables))","v":9},"",null,null,20]
[1688,20209050036622,43952,"CORREO ELECTRÓNICO","SOLICITUD DE INFORMACIÓN Y DOCUMENTOS","SOLICITUD DE INFORMACIÓN HIDROMETEOROLÓGICA","NO","GRUPO DE ATENCIÓN AL CIUDADANO",43961,null,null,{"$f":"IFERROR(WORKDAY(C1699,R1699,DiasNOLaborables),\"\")","v":43983},{"$f":"+IF(C1699=\"\",\"\",IF(I1699=\"\",\"\",(IF(I1699<=L1699,\"A TIEMPO\",\"FUERA DE TIEMPO\"))))","v":"A TIEMPO"},{"$f":"IF(I1699=\"\",\"\",NETWORKDAYS([4]Hoja1!C1699+1,[4]Hoja1!P1699,DiasNOLaborables))","v":9},"",null,null,20]
[1689,20209050036612,43952,"CORREO ELECTRÓNICO","SOLICITUD DE INFORMACIÓN Y DOCUMENTOS","SOLICITUD DE INFORMACIÓN HIDROMETEOROLÓGICA","NO","GRUPO DE ATENCIÓN AL CIUDADANO",43962,null,null,{"$f":"IFERROR(WORKDAY(C1700,R1700,DiasNOLaborables),\"\")","v":43983},{"$f":"+IF(C1700=\"\",\"\",IF(I1700=\"\",\"\",(IF(I1700<=L1700,\"A TIEMPO\",\"FUERA DE TIEMPO\"))))","v":"A TIEMPO"},{"$f":"IF(I1700=\"\",\"\",NETWORKDAYS([4]Hoja1!C1700+1,[4]Hoja1!P1700,DiasNOLaborables))","v":9},"",null,null,20]
[1690,20209050036992,43952,"CORREO ELECTRÓNICO","SOLICITUD DE INFORMACIÓN Y DOCUMENTOS","SOLICITUD DE INFORMACIÓN HIDROMETEOROLÓGICA","NO","GRUPO DE ATENCIÓN AL CIUDADANO",43964,null,null,{"$f":"IFERROR(WORKDAY(C1701,R1701,DiasNOLaborables),\"\")","v":43983},{"$f":"+IF(C1701=\"\",\"\",IF(I1701=\"\",\"\",(IF(I1701<=L1701,\"A TIEMPO\",\"FUERA DE TIEMPO\"))))","v":"A TIEMPO"},{"$f":"IF(I1701=\"\",\"\",NETWORKDAYS([4]Hoja1!C1701+1,[4]Hoja1!P1701,DiasNOLaborables))","v":9},"",null,null,20]
[1691,20209050036912,43952,"CORREO ELECTRÓNICO","SOLICITUD DE INFORMACIÓN Y DOCUMENTOS","SOLICITUD DE INFORMACIÓN HIDROMETEOROLÓGICA","NO","GRUPO DE ATENCIÓN AL CIUDADANO",43960,null,null,{"$f":"IFERROR(WORKDAY(C1702,R1702,DiasNOLaborables),\"\")","v":43983},{"$f":"+IF(C1702=\"\",\"\",IF(I1702=\"\",\"\",(IF(I1702<=L1702,\"A TIEMPO\",\"FUERA DE TIEMPO\"))))","v":"A TIEMPO"},{"$f":"IF(I1702=\"\",\"\",NETWORKDAYS([4]Hoja1!C1702+1,[4]Hoja1!P1702,DiasNOLaborables))","v":9},"",null,null,20]
[1692,20209050036652,43953,"MODULO CONTACTENOS","SOLICITUD DE INFORMACIÓN Y DOCUMENTOS","CLIMATOLOGÍA","SI","SUBDIRECCIÓN DE METEOROLOGÍA",43966,null,null,{"$f":"IFERROR(WORKDAY(C1703,R1703,DiasNOLaborables),\"\")","v":43983},{"$f":"+IF(C1703=\"\",\"\",IF(I1703=\"\",\"\",(IF(I1703<=L1703,\"A TIEMPO\",\"FUERA DE TIEMPO\"))))","v":"A TIEMPO"},{"$f":"IF(I1703=\"\",\"\",NETWORKDAYS([4]Hoja1!C1703+1,[4]Hoja1!P1703,DiasNOLaborables))","v":9},"",null,null,20]
[1693,20209050036682,43953,"MODULO CONTACTENOS","SOLICITUD DE INFORMACIÓN Y DOCUMENTOS","REGISTROS AMBIENTALES","SI","SUBDIRECCIÓN DE ESTUDIOS AMBIENTALES",43962,null,null,{"$f":"IFERROR(WORKDAY(C1704,R1704,DiasNOLaborables),\"\")","v":43983},{"$f":"+IF(C1704=\"\",\"\",IF(I1704=\"\",\"\",(IF(I1704<=L1704,\"A TIEMPO\",\"FUERA DE TIEMPO\"))))","v":"A TIEMPO"},{"$f":"IF(I1704=\"\",\"\",NETWORKDAYS([4]Hoja1!C1704+1,[4]Hoja1!P1704,DiasNOLaborables))","v":9},"",null,null,20]
[1694,20209050036712,43954,"MODULO CONTACTENOS","SOLICITUD DE INFORMACIÓN Y DOCUMENTOS","WEB Y CORREO","SI","OFICINA DE INFORMÁTICA",43966,null,null,{"$f":"IFERROR(WORKDAY(C1705,R1705,DiasNOLaborables),\"\")","v":43983},{"$f":"+IF(C1705=\"\",\"\",IF(I1705=\"\",\"\",(IF(I1705<=L1705,\"A TIEMPO\",\"FUERA DE TIEMPO\"))))","v":"A TIEMPO"},{"$f":"IF(I1705=\"\",\"\",NETWORKDAYS([4]Hoja1!C1705+1,[4]Hoja1!P1705,DiasNOLaborables))","v":9},"",null,null,20]
[1695,20209050036742,43954,"MODULO CONTACTENOS","CERTIFICACIONES DE TIEMPO, CLIMA Y EVENTOS HIDROLÓGICOS","CERTIFICACIONES DE TIEMPO Y CLIMA","SI","SUBDIRECCIÓN DE METEOROLOGÍA",43963,null,null,{"$f":"IFERROR(WORKDAY(C1706,R1706,DiasNOLaborables),\"\")","v":43998},{"$f":"+IF(C1706=\"\",\"\",IF(I1706=\"\",\"\",(IF(I1706<=L1706,\"A TIEMPO\",\"FUERA DE TIEMPO\"))))","v":"A TIEMPO"},{"$f":"IF(I1706=\"\",\"\",NETWORKDAYS([4]Hoja1!C1706+1,[4]Hoja1!P1706,DiasNOLaborables))","v":9},"",null,null,30]
[1696,20209050036772,43954,"MODULO CONTACTENOS","SOLICITUD DE INFORMACIÓN Y DOCUMENTOS","INFORMES AMBIENTALES","SI","SUBDIRECCIÓN DE ESTUDIOS AMBIENTALES",43965,null,null,{"$f":"IFERROR(WORKDAY(C1707,R1707,DiasNOLaborables),\"\")","v":43983},{"$f":"+IF(C1707=\"\",\"\",IF(I1707=\"\",\"\",(IF(I1707<=L1707,\"A TIEMPO\",\"FUERA DE TIEMPO\"))))","v":"A TIEMPO"},{"$f":"IF(I1707=\"\",\"\",NETWORKDAYS([4]Hoja1!C1707+1,[4]Hoja1!P1707,DiasNOLaborables))","v":8},"",null,null,20]
[1697,20209050036722,43954,"MODULO CONTACTENOS","SOLICITUD DE INFORMACIÓN Y DOCUMENTOS","SOLICITUD DE INFORMACIÓN Y DOCUMENTOS","SI","OFICINA DE INFORMÁTICA",43963,null,null,{"$f":"IFERROR(WORKDAY(C1708,R1708,DiasNOLaborables),\"\")","v":43983},{"$f":"+IF(C1708=\"\",\"\",IF(I1708=\"\",\"\",(IF(I1708<=L1708,\"A TIEMPO\",\"FUERA DE TIEMPO\"))))","v":"A TIEMPO"},{"$f":"IF(I1708=\"\",\"\",NETWORKDAYS([4]Hoja1!C1708+1,[4]Hoja1!P1708,DiasNOLaborables))","v":8},"",null,null,20]
[1698,20209050036832,43955,"CORREO ELECTRÓNICO","CERTIFICACIONES DE TIEMPO, CLIMA Y EVENTOS HIDROLÓGICOS","CERTIFICACIONES DE TIEMPO Y CLIMA","SI","SUBDIRECCIÓN DE METEOROLOGÍA",43959,null,null,{"$f":"IFERROR(WORKDAY(C1709,R1709,DiasNOLaborables),\"\")","v":43999},{"$f":"+IF(C1709=\"\",\"\",IF(I1709=\"\",\"\",(IF(I1709<=L1709,\"A TIEMPO\",\"FUERA DE TIEMPO\"))))","v":"A TIEMPO"},{"$f":"IF(I1709=\"\",\"\",NETWORKDAYS([4]Hoja1!C1709+1,[4]Hoja1!P1709,DiasNOLaborables))","v":8},"",null,null,30]
[1699,20209050036902,43955,"CORREO ELECTRÓNICO","SOLICITUD DE INFORMACIÓN Y DOCUMENTOS","SOLICITUD DE INFORMACIÓN Y DOCUMENTOS","SI","SUBDIRECCIÓN DE HIDROLOGÍA",43978,null,null,{"$f":"IFERROR(WORKDAY(C1710,R1710,DiasNOLaborables),\"\")","v":43984},{"$f":"+IF(C1710=\"\",\"\",IF(I1710=\"\",\"\",(IF(I1710<=L1710,\"A TIEMPO\",\"FUERA DE TIEMPO\"))))","v":"A TIEMPO"},{"$f":"IF(I1710=\"\",\"\",NETWORKDAYS([4]Hoja1!C1710+1,[4]Hoja1!P1710,DiasNOLaborables))","v":8},"",null,null,20]
[1700,20209050037062,43955,"CORREO ELECTRÓNICO","SOLICITUD DE INFORMACIÓN Y DOCUMENTOS","SOLICITUD DE INFORMACIÓN Y DOCUMENTOS","SI","SUBDIRECCIÓN DE HIDROLOGÍA",43956,null,null,{"$f":"IFERROR(WORKDAY(C1711,R1711,DiasNOLaborables),\"\")","v":43984},{"$f":"+IF(C1711=\"\",\"\",IF(I1711=\"\",\"\",(IF(I1711<=L1711,\"A TIEMPO\",\"FUERA DE TIEMPO\"))))","v":"A TIEMPO"},{"$f":"IF(I1711=\"\",\"\",NETWORKDAYS([4]Hoja1!C1711+1,[4]Hoja1!P1711,DiasNOLaborables))","v":10},"",null,null,20]
[1701,20209050037092,43955,"CORREO ELECTRÓNICO","CERTIFICACIONES DE TIEMPO, CLIMA Y EVENTOS HIDROLÓGICOS","CERTIFICACIONES DE TIEMPO Y CLIMA","SI","SUBDIRECCIÓN DE METEOROLOGÍA",43958,null,null,{"$f":"IFERROR(WORKDAY(C1712,R1712,DiasNOLaborables),\"\")","v":43999},{"$f":"+IF(C1712=\"\",\"\",IF(I1712=\"\",\"\",(IF(I1712<=L1712,\"A TIEMPO\",\"FUERA DE TIEMPO\"))))","v":"A TIEMPO"},{"$f":"IF(I1712=\"\",\"\",NETWORKDAYS([4]Hoja1!C1712+1,[4]Hoja1!P1712,DiasNOLaborables))","v":10},"",null,null,30]
[1702,20209050037102,43955,"CORREO ELECTRÓNICO","CERTIFICACIONES DE TIEMPO, CLIMA Y EVENTOS HIDROLÓGICOS","CERTIFICACIONES DE TIEMPO Y CLIMA","SI","SUBDIRECCIÓN DE METEOROLOGÍA",43964,null,null,{"$f":"IFERROR(WORKDAY(C1713,R1713,DiasNOLaborables),\"\")","v":43999},{"$f":"+IF(C1713=\"\",\"\",IF(I1713=\"\",\"\",(IF(I1713<=L1713,\"A TIEMPO\",\"FUERA DE TIEMPO\"))))","v":"A TIEMPO"},{"$f":"IF(I1713=\"\",\"\",NETWORKDAYS([4]Hoja1!C1713+1,[4]Hoja1!P1713,DiasNOLaborables))","v":10},"",null,null,30]
[{"$f":"IF(B1712<>\"\",A1713+1,\"\")","v":1703},20209050037042,43955,"MODULO CONTACTENOS","SOLICITUD DE INFORMACIÓN Y DOCUMENTOS","SOLICITUD DE INFORMACIÓN Y DOCUMENTOS","SI","OFICINA DE INFORMÁTICA",43963,null,null,{"$f":"IFERROR(WORKDAY(C1714,R1714,DiasNOLaborables),\"\")","v":43984},{"$f":"+IF(C1714=\"\",\"\",IF(I1714=\"\",\"\",(IF(I1714<=L1714,\"A TIEMPO\",\"FUERA DE TIEMPO\"))))","v":"A TIEMPO"},{"$f":"IF(I1714=\"\",\"\",NETWORKDAYS([4]Hoja1!C1714+1,[4]Hoja1!P1714,DiasNOLaborables))","v":10},"",null,null,{"$f":"IFERROR(VLOOKUP(E1714,$Z$50:$AA$63,2),\"\")","v":20}]
[1704,20209050036922,43955,"MODULO CONTACTENOS","PETICIÓN","BOSQUES","SI","SUBDIRECCIÓN DE ECOSISTEMAS E INFORMACIÓN AMBIENTAL",43969,null,null,{"$f":"IFERROR(WORKDAY(C1715,R1715,DiasNOLaborables),\"\")","v":43999},{"$f":"+IF(C1715=\"\",\"\",IF(I1715=\"\",\"\",(IF(I1715<=L1715,\"A TIEMPO\",\"FUERA DE TIEMPO\"))))","v":"A TIEMPO"},{"$f":"IF(I1715=\"\",\"\",NETWORKDAYS([4]Hoja1!C1715+1,[4]Hoja1!P1715,DiasNOLaborables))","v":10},"",null,null,30]
[1705,20209050036932,43955,"MODULO CONTACTENOS","SOLICITUD DE INFORMACIÓN Y DOCUMENTOS","WEB Y CORREO","SI","OFICINA DE INFORMÁTICA",43966,null,null,{"$f":"IFERROR(WORKDAY(C1716,R1716,DiasNOLaborables),\"\")","v":43984},{"$f":"+IF(C1716=\"\",\"\",IF(I1716=\"\",\"\",(IF(I1716<=L1716,\"A TIEMPO\",\"FUERA DE TIEMPO\"))))","v":"A TIEMPO"},{"$f":"IF(I1716=\"\",\"\",NETWORKDAYS([4]Hoja1!C1716+1,[4]Hoja1!P1716,DiasNOLaborables))","v":10},{"$f":"IF(NETWORKDAYS(L1716+1,I1716,DiasNOLaborables)<=0,\"\",NETWORKDAYS(L1716+1,I1716,DiasNOLaborables))","v":""},null,null,20]
[1706,20209910035852,43955,"CORREO ELECTRÓNICO","PETICIÓN","ADMINISTRATIVA","SI","OFICINA ASESORA JURÍDICA",43998,null,null,{"$f":"IFERROR(WORKDAY(C1717,R1717,DiasNOLaborables),\"\")","v":43999},{"$f":"+IF(C1717=\"\",\"\",IF(I1717=\"\",\"\",(IF(I1717<=L1717,\"A TIEMPO\",\"FUERA DE TIEMPO\"))))","v":"A TIEMPO"},{"$f":"IF(I1717=\"\",\"\",NETWORKDAYS([4]Hoja1!C1717+1,[4]Hoja1!P1717,DiasNOLaborables))","v":10},"",null,null,30]
[1707,20209910035862,43955,"CORREO ELECTRÓNICO","PETICIÓN","ADMINISTRATIVA","SI","GRUPO DE ADMINISTRACIÓN Y DESARROLLO DEL TALENTO HUMANO",43973,null,null,{"$f":"IFERROR(WORKDAY(C1718,R1718,DiasNOLaborables),\"\")","v":43999},{"$f":"+IF(C1718=\"\",\"\",IF(I1718=\"\",\"\",(IF(I1718<=L1718,\"A TIEMPO\",\"FUERA DE TIEMPO\"))))","v":"A TIEMPO"},{"$f":"IF(I1718=\"\",\"\",NETWORKDAYS([4]Hoja1!C1718+1,[4]Hoja1!P1718,DiasNOLaborables))","v":10},"",null,null,30]
[1708,20209910035872,43955,"CORREO ELECTRÓNICO","PETICIÓN","ADMINISTRATIVA","SI","OFICINA ASESORA JURÍDICA",43985,null,null,{"$f":"IFERROR(WORKDAY(C1719,R1719,DiasNOLaborables),\"\")","v":43999},{"$f":"+IF(C1719=\"\",\"\",IF(I1719=\"\",\"\",(IF(I1719<=L1719,\"A TIEMPO\",\"FUERA DE TIEMPO\"))))","v":"A TIEMPO"},{"$f":"IF(I1719=\"\",\"\",NETWORKDAYS([4]Hoja1!C1719+1,[4]Hoja1!P1719,DiasNOLaborables))","v":10},"",null,null,30]
[1709,20209050036942,43955,"CORREO ELECTRÓNICO","SOLICITUD DE INFORMACIÓN Y DOCUMENTOS","SOLICITUD DE INFORMACIÓN HIDROMETEOROLÓGICA","NO","GRUPO DE ATENCIÓN AL CIUDADANO",43960,null,null,{"$f":"IFERROR(WORKDAY(C1720,R1720,DiasNOLaborables),\"\")","v":43984},{"$f":"+IF(C1720=\"\",\"\",IF(I1720=\"\",\"\",(IF(I1720<=L1720,\"A TIEMPO\",\"FUERA DE TIEMPO\"))))","v":"A TIEMPO"},{"$f":"IF(I1720=\"\",\"\",NETWORKDAYS([4]Hoja1!C1720+1,[4]Hoja1!P1720,DiasNOLaborables))","v":10},"",null,null,20]
[1710,20209050036952,43955,"CORREO ELECTRÓNICO","SOLICITUD DE INFORMACIÓN Y DOCUMENTOS","SOLICITUD DE INFORMACIÓN HIDROMETEOROLÓGICA","NO","GRUPO DE ATENCIÓN AL CIUDADANO",43960,null,null,{"$f":"IFERROR(WORKDAY(C1721,R1721,DiasNOLaborables),\"\")","v":43984},{"$f":"+IF(C1721=\"\",\"\",IF(I1721=\"\",\"\",(IF(I1721<=L1721,\"A TIEMPO\",\"FUERA DE TIEMPO\"))))","v":"A TIEMPO"},{"$f":"IF(I1721=\"\",\"\",NETWORKDAYS([4]Hoja1!C1721+1,[4]Hoja1!P1721,DiasNOLaborables))","v":10},"",null,null,20]
[1711,20209050036982,43955,"CORREO ELECTRÓNICO","SOLICITUD DE INFORMACIÓN Y DOCUMENTOS","SOLICITUD DE INFORMACIÓN HIDROMETEOROLÓGICA","NO","GRUPO DE ATENCIÓN AL CIUDADANO",43961,null,null,{"$f":"IFERROR(WORKDAY(C1722,R1722,DiasNOLaborables),\"\")","v":43984},{"$f":"+IF(C1722=\"\",\"\",IF(I1722=\"\",\"\",(IF(I1722<=L1722,\"A TIEMPO\",\"FUERA DE TIEMPO\"))))","v":"A TIEMPO"},{"$f":"IF(I1722=\"\",\"\",NETWORKDAYS([4]Hoja1!C1722+1,[4]Hoja1!P1722,DiasNOLaborables))","v":10},"",null,null,20]
[1712,20209910036022,43955,"CORREO ELECTRÓNICO","PETICIÓN","ADMINISTRATIVA","SI","GRUPO DE ADMINISTRACIÓN Y DESARROLLO DEL TALENTO HUMANO",43985,null,null,{"$f":"IFERROR(WORKDAY(C1723,R1723,DiasNOLaborables),\"\")","v":43999},{"$f":"+IF(C1723=\"\",\"\",IF(I1723=\"\",\"\",(IF(I1723<=L1723,\"A TIEMPO\",\"FUERA DE TIEMPO\"))))","v":"A TIEMPO"},{"$f":"IF(I1723=\"\",\"\",NETWORKDAYS([4]Hoja1!C1723+1,[4]Hoja1!P1723,DiasNOLaborables))","v":10},"",null,null,30]
[1713,20209050037012,43955,"CORREO ELECTRÓNICO","SOLICITUD DE INFORMACIÓN Y DOCUMENTOS","SOLICITUD DE INFORMACIÓN HIDROMETEOROLÓGICA","NO","GRUPO DE ATENCIÓN AL CIUDADANO",43963,null,null,{"$f":"IFERROR(WORKDAY(C1724,R1724,DiasNOLaborables),\"\")","v":43984},{"$f":"+IF(C1724=\"\",\"\",IF(I1724=\"\",\"\",(IF(I1724<=L1724,\"A TIEMPO\",\"FUERA DE TIEMPO\"))))","v":"A TIEMPO"},{"$f":"IF(I1724=\"\",\"\",NETWORKDAYS([4]Hoja1!C1724+1,[4]Hoja1!P1724,DiasNOLaborables))","v":10},"",null,null,20]
[1714,20209050037002,43955,"CORREO ELECTRÓNICO","SOLICITUD DE INFORMACIÓN Y DOCUMENTOS","SOLICITUD DE INFORMACIÓN HIDROMETEOROLÓGICA","NO","GRUPO DE ATENCIÓN AL CIUDADANO",43963,null,null,{"$f":"IFERROR(WORKDAY(C1725,R1725,DiasNOLaborables),\"\")","v":43984},{"$f":"+IF(C1725=\"\",\"\",IF(I1725=\"\",\"\",(IF(I1725<=L1725,\"A TIEMPO\",\"FUERA DE TIEMPO\"))))","v":"A TIEMPO"},{"$f":"IF(I1725=\"\",\"\",NETWORKDAYS([4]Hoja1!C1725+1,[4]Hoja1!P1725,DiasNOLaborables))","v":10},"",null,null,20]
[1715,20209050037022,43955,"CORREO ELECTRÓNICO","SOLICITUD DE INFORMACIÓN Y DOCUMENTOS","SOLICITUD DE INFORMACIÓN HIDROMETEOROLÓGICA","NO","GRUPO DE ATENCIÓN AL CIUDADANO",43963,null,null,{"$f":"IFERROR(WORKDAY(C1726,R1726,DiasNOLaborables),\"\")","v":43984},{"$f":"+IF(C1726=\"\",\"\",IF(I1726=\"\",\"\",(IF(I1726<=L1726,\"A TIEMPO\",\"FUERA DE TIEMPO\"))))","v":"A TIEMPO"},{"$f":"IF(I1726=\"\",\"\",NETWORKDAYS([4]Hoja1!C1726+1,[4]Hoja1!P1726,DiasNOLaborables))","v":10},"",null,null,20]
[1716,20209050037032,43955,"CORREO ELECTRÓNICO","SOLICITUD DE INFORMACIÓN Y DOCUMENTOS","SOLICITUD DE INFORMACIÓN HIDROMETEOROLÓGICA","NO","GRUPO DE ATENCIÓN AL CIUDADANO",43963,null,null,{"$f":"IFERROR(WORKDAY(C1727,R1727,DiasNOLaborables),\"\")","v":43984},{"$f":"+IF(C1727=\"\",\"\",IF(I1727=\"\",\"\",(IF(I1727<=L1727,\"A TIEMPO\",\"FUERA DE TIEMPO\"))))","v":"A TIEMPO"},{"$f":"IF(I1727=\"\",\"\",NETWORKDAYS([4]Hoja1!C1727+1,[4]Hoja1!P1727,DiasNOLaborables))","v":10},"",null,null,20]
[1717,20209050037052,43955,"CORREO ELECTRÓNICO","SOLICITUD DE INFORMACIÓN Y DOCUMENTOS","SOLICITUD DE INFORMACIÓN HIDROMETEOROLÓGICA","NO","GRUPO DE ATENCIÓN AL CIUDADANO",43963,null,null,{"$f":"IFERROR(WORKDAY(C1728,R1728,DiasNOLaborables),\"\")","v":43984},{"$f":"+IF(C1728=\"\",\"\",IF(I1728=\"\",\"\",(IF(I1728<=L1728,\"A TIEMPO\",\"FUERA DE TIEMPO\"))))","v":"A TIEMPO"},{"$f":"IF(I1728=\"\",\"\",NETWORKDAYS([4]Hoja1!C1728+1,[4]Hoja1!P1728,DiasNOLaborables))","v":10},"",null,null,20]
[1718,20209050037082,43955,"CORREO ELECTRÓNICO","SOLICITUD DE INFORMACIÓN Y DOCUMENTOS","SOLICITUD DE INFORMACIÓN HIDROMETEOROLÓGICA","NO","GRUPO DE ATENCIÓN AL CIUDADANO",43963,null,null,{"$f":"IFERROR(WORKDAY(C1729,R1729,DiasNOLaborables),\"\")","v":43984},{"$f":"+IF(C1729=\"\",\"\",IF(I1729=\"\",\"\",(IF(I1729<=L1729,\"A TIEMPO\",\"FUERA DE TIEMPO\"))))","v":"A TIEMPO"},{"$f":"IF(I1729=\"\",\"\",NETWORKDAYS([4]Hoja1!C1729+1,[4]Hoja1!P1729,DiasNOLaborables))","v":10},"",null,null,20]
[1719,20209050037072,43955,"CORREO ELECTRÓNICO","SOLICITUD DE INFORMACIÓN Y DOCUMENTOS","SOLICITUD DE INFORMACIÓN HIDROMETEOROLÓGICA","NO","GRUPO DE ATENCIÓN AL CIUDADANO",43963,null,null,{"$f":"IFERROR(WORKDAY(C1730,R1730,DiasNOLaborables),\"\")","v":43984},{"$f":"+IF(C1730=\"\",\"\",IF(I1730=\"\",\"\",(IF(I1730<=L1730,\"A TIEMPO\",\"FUERA DE TIEMPO\"))))","v":"A TIEMPO"},{"$f":"IF(I1730=\"\",\"\",NETWORKDAYS([4]Hoja1!C1730+1,[4]Hoja1!P1730,DiasNOLaborables))","v":10},"",null,null,20]
[1720,20209050037112,43955,"CORREO ELECTRÓNICO","SOLICITUD DE INFORMACIÓN Y DOCUMENTOS","SOLICITUD DE INFORMACIÓN HIDROMETEOROLÓGICA","NO","GRUPO DE ATENCIÓN AL CIUDADANO",43963,null,null,{"$f":"IFERROR(WORKDAY(C1731,R1731,DiasNOLaborables),\"\")","v":43984},{"$f":"+IF(C1731=\"\",\"\",IF(I1731=\"\",\"\",(IF(I1731<=L1731,\"A TIEMPO\",\"FUERA DE TIEMPO\"))))","v":"A TIEMPO"},{"$f":"IF(I1731=\"\",\"\",NETWORKDAYS([4]Hoja1!C1731+1,[4]Hoja1!P1731,DiasNOLaborables))","v":10},"",null,null,20]
[1721,20209050037122,43955,"CORREO ELECTRÓNICO","SOLICITUD DE INFORMACIÓN Y DOCUMENTOS","SOLICITUD DE INFORMACIÓN HIDROMETEOROLÓGICA","NO","GRUPO DE ATENCIÓN AL CIUDADANO",43963,null,null,{"$f":"IFERROR(WORKDAY(C1732,R1732,DiasNOLaborables),\"\")","v":43984},{"$f":"+IF(C1732=\"\",\"\",IF(I1732=\"\",\"\",(IF(I1732<=L1732,\"A TIEMPO\",\"FUERA DE TIEMPO\"))))","v":"A TIEMPO"},{"$f":"IF(I1732=\"\",\"\",NETWORKDAYS([4]Hoja1!C1732+1,[4]Hoja1!P1732,DiasNOLaborables))","v":10},"",null,null,20]
[1722,20209050037132,43955,"CORREO ELECTRÓNICO","SOLICITUD DE INFORMACIÓN Y DOCUMENTOS","SOLICITUD DE INFORMACIÓN HIDROMETEOROLÓGICA","NO","GRUPO DE ATENCIÓN AL CIUDADANO",43963,null,null,{"$f":"IFERROR(WORKDAY(C1733,R1733,DiasNOLaborables),\"\")","v":43984},{"$f":"+IF(C1733=\"\",\"\",IF(I1733=\"\",\"\",(IF(I1733<=L1733,\"A TIEMPO\",\"FUERA DE TIEMPO\"))))","v":"A TIEMPO"},{"$f":"IF(I1733=\"\",\"\",NETWORKDAYS([4]Hoja1!C1733+1,[4]Hoja1!P1733,DiasNOLaborables))","v":9},"",null,null,20]
[1723,20209050036972,43955,"CORREO ELECTRÓNICO","SOLICITUD DE INFORMACIÓN Y DOCUMENTOS","SOLICITUD DE INFORMACIÓN HIDROMETEOROLÓGICA","NO","GRUPO DE ATENCIÓN AL CIUDADANO",43963,null,null,{"$f":"IFERROR(WORKDAY(C1734,R1734,DiasNOLaborables),\"\")","v":43984},{"$f":"+IF(C1734=\"\",\"\",IF(I1734=\"\",\"\",(IF(I1734<=L1734,\"A TIEMPO\",\"FUERA DE TIEMPO\"))))","v":"A TIEMPO"},{"$f":"IF(I1734=\"\",\"\",NETWORKDAYS([4]Hoja1!C1734+1,[4]Hoja1!P1734,DiasNOLaborables))","v":9},"",null,null,{"$f":"IFERROR(VLOOKUP(E1734,$Z$50:$AA$63,2),\"\")","v":20}]
[1724,20209050037252,43956,"CORREO ELECTRÓNICO","SOLICITUD DE INFORMACIÓN Y DOCUMENTOS","SOLICITUD DE INFORMACIÓN HIDROMETEOROLÓGICA","NO","GRUPO DE ATENCIÓN AL CIUDADANO",43963,null,null,{"$f":"IFERROR(WORKDAY(C1735,R1735,DiasNOLaborables),\"\")","v":43985},{"$f":"+IF(C1735=\"\",\"\",IF(I1735=\"\",\"\",(IF(I1735<=L1735,\"A TIEMPO\",\"FUERA DE TIEMPO\"))))","v":"A TIEMPO"},{"$f":"IF(I1735=\"\",\"\",NETWORKDAYS([4]Hoja1!C1735+1,[4]Hoja1!P1735,DiasNOLaborables))","v":9},"",null,null,20]
[1725,20209050037322,43956,"CORREO ELECTRÓNICO","SOLICITUD DE INFORMACIÓN Y DOCUMENTOS","SOLICITUD DE INFORMACIÓN HIDROMETEOROLÓGICA","NO","GRUPO DE ATENCIÓN AL CIUDADANO",43963,null,null,{"$f":"IFERROR(WORKDAY(C1736,R1736,DiasNOLaborables),\"\")","v":43985},{"$f":"+IF(C1736=\"\",\"\",IF(I1736=\"\",\"\",(IF(I1736<=L1736,\"A TIEMPO\",\"FUERA DE TIEMPO\"))))","v":"A TIEMPO"},{"$f":"IF(I1736=\"\",\"\",NETWORKDAYS([4]Hoja1!C1736+1,[4]Hoja1!P1736,DiasNOLaborables))","v":9},"",null,null,20]
[1726,20209050037352,43956,"CORREO ELECTRÓNICO","SOLICITUD DE INFORMACIÓN Y DOCUMENTOS","SOLICITUD DE INFORMACIÓN HIDROMETEOROLÓGICA","NO","GRUPO DE ATENCIÓN AL CIUDADANO",43963,null,null,{"$f":"IFERROR(WORKDAY(C1737,R1737,DiasNOLaborables),\"\")","v":43985},{"$f":"+IF(C1737=\"\",\"\",IF(I1737=\"\",\"\",(IF(I1737<=L1737,\"A TIEMPO\",\"FUERA DE TIEMPO\"))))","v":"A TIEMPO"},{"$f":"IF(I1737=\"\",\"\",NETWORKDAYS([4]Hoja1!C1737+1,[4]Hoja1!P1737,DiasNOLaborables))","v":9},"",null,null,20]
[1727,20209050037602,43956,"CORREO ELECTRÓNICO","SOLICITUD DE INFORMACIÓN Y DOCUMENTOS","SOLICITUD DE INFORMACIÓN HIDROMETEOROLÓGICA","NO","GRUPO DE ATENCIÓN AL CIUDADANO",43964,null,null,{"$f":"IFERROR(WORKDAY(C1738,R1738,DiasNOLaborables),\"\")","v":43985},{"$f":"+IF(C1738=\"\",\"\",IF(I1738=\"\",\"\",(IF(I1738<=L1738,\"A TIEMPO\",\"FUERA DE TIEMPO\"))))","v":"A TIEMPO"},{"$f":"IF(I1738=\"\",\"\",NETWORKDAYS([4]Hoja1!C1738+1,[4]Hoja1!P1738,DiasNOLaborables))","v":9},"",null,null,20]
[1728,20209910036082,43956,"ATENCIÓN PRESENCIAL","SOLICITUD DE INFORMACIÓN Y DOCUMENTOS","SOLICITUD DE INFORMACIÓN HIDROMETEOROLÓGICA","SI","SUBDIRECCIÓN DE ECOSISTEMAS E INFORMACIÓN AMBIENTAL",43985,null,null,{"$f":"IFERROR(WORKDAY(C1739,R1739,DiasNOLaborables),\"\")","v":43985},{"$f":"+IF(C1739=\"\",\"\",IF(I1739=\"\",\"\",(IF(I1739<=L1739,\"A TIEMPO\",\"FUERA DE TIEMPO\"))))","v":"A TIEMPO"},{"$f":"IF(I1739=\"\",\"\",NETWORKDAYS([4]Hoja1!C1739+1,[4]Hoja1!P1739,DiasNOLaborables))","v":9},"",null,null,20]
[1729,20209050037622,43956,"CORREO ELECTRÓNICO","SOLICITUD DE INFORMACIÓN Y DOCUMENTOS","SOLICITUD DE INFORMACIÓN HIDROMETEOROLÓGICA","NO","GRUPO DE ATENCIÓN AL CIUDADANO",43964,null,null,{"$f":"IFERROR(WORKDAY(C1740,R1740,DiasNOLaborables),\"\")","v":43985},{"$f":"+IF(C1740=\"\",\"\",IF(I1740=\"\",\"\",(IF(I1740<=L1740,\"A TIEMPO\",\"FUERA DE TIEMPO\"))))","v":"A TIEMPO"},{"$f":"IF(I1740=\"\",\"\",NETWORKDAYS([4]Hoja1!C1740+1,[4]Hoja1!P1740,DiasNOLaborables))","v":9},"",null,null,20]
[1730,20209050037342,43956,"MODULO CONTACTENOS","SOLICITUD DE INFORMACIÓN Y DOCUMENTOS","SUELOS Y TIERRAS","SI","SUBDIRECCIÓN DE ECOSISTEMAS E INFORMACIÓN AMBIENTAL",43970,null,null,{"$f":"IFERROR(WORKDAY(C1741,R1741,DiasNOLaborables),\"\")","v":43985},{"$f":"+IF(C1741=\"\",\"\",IF(I1741=\"\",\"\",(IF(I1741<=L1741,\"A TIEMPO\",\"FUERA DE TIEMPO\"))))","v":"A TIEMPO"},{"$f":"IF(I1741=\"\",\"\",NETWORKDAYS([4]Hoja1!C1741+1,[4]Hoja1!P1741,DiasNOLaborables))","v":9},"",null,null,20]
[1731,20209050037442,43956,"MODULO CONTACTENOS","SOLICITUD DE INFORMACIÓN Y DOCUMENTOS","CLIMATOLOGÍA","SI","SUBDIRECCIÓN DE METEOROLOGÍA",43957,null,null,{"$f":"IFERROR(WORKDAY(C1742,R1742,DiasNOLaborables),\"\")","v":43985},{"$f":"+IF(C1742=\"\",\"\",IF(I1742=\"\",\"\",(IF(I1742<=L1742,\"A TIEMPO\",\"FUERA DE TIEMPO\"))))","v":"A TIEMPO"},{"$f":"IF(I1742=\"\",\"\",NETWORKDAYS([4]Hoja1!C1742+1,[4]Hoja1!P1742,DiasNOLaborables))","v":9},"",null,null,20]
[1732,20209050037472,43956,"MODULO CONTACTENOS","SOLICITUD DE INFORMACIÓN Y DOCUMENTOS","WEB Y CORREO","SI","OFICINA DE INFORMÁTICA",43970,null,null,{"$f":"IFERROR(WORKDAY(C1743,R1743,DiasNOLaborables),\"\")","v":43985},{"$f":"+IF(C1743=\"\",\"\",IF(I1743=\"\",\"\",(IF(I1743<=L1743,\"A TIEMPO\",\"FUERA DE TIEMPO\"))))","v":"A TIEMPO"},{"$f":"IF(I1743=\"\",\"\",NETWORKDAYS([4]Hoja1!C1743+1,[4]Hoja1!P1743,DiasNOLaborables))","v":9},"",null,null,20]
[1733,20209050037492,43956,"MODULO CONTACTENOS","CERTIFICACIONES DE TIEMPO, CLIMA Y EVENTOS HIDROLÓGICOS","CERTIFICACIONES DE TIEMPO Y CLIMA","SI","SUBDIRECCIÓN DE METEOROLOGÍA",43967,null,null,{"$f":"IFERROR(WORKDAY(C1744,R1744,DiasNOLaborables),\"\")","v":44000},{"$f":"+IF(C1744=\"\",\"\",IF(I1744=\"\",\"\",(IF(I1744<=L1744,\"A TIEMPO\",\"FUERA DE TIEMPO\"))))","v":"A TIEMPO"},{"$f":"IF(I1744=\"\",\"\",NETWORKDAYS([4]Hoja1!C1744+1,[4]Hoja1!P1744,DiasNOLaborables))","v":9},"",null,null,30]
[1734,20209050037512,43956,"MODULO CONTACTENOS","CERTIFICACIONES DE TIEMPO, CLIMA Y EVENTOS HIDROLÓGICOS","CERTIFICACIONES DE TIEMPO Y CLIMA","SI","SUBDIRECCIÓN DE METEOROLOGÍA",43964,null,null,{"$f":"IFERROR(WORKDAY(C1745,R1745,DiasNOLaborables),\"\")","v":44000},{"$f":"+IF(C1745=\"\",\"\",IF(I1745=\"\",\"\",(IF(I1745<=L1745,\"A TIEMPO\",\"FUERA DE TIEMPO\"))))","v":"A TIEMPO"},{"$f":"IF(I1745=\"\",\"\",NETWORKDAYS([4]Hoja1!C1745+1,[4]Hoja1!P1745,DiasNOLaborables))","v":9},"",null,null,30]
[1735,20209050037522,43956,"MODULO CONTACTENOS","SOLICITUD DE INFORMACIÓN Y DOCUMENTOS","ADMINISTRATIVA","SI","GRUPO DE TESORERÍA",43970,null,null,{"$f":"IFERROR(WORKDAY(C1746,R1746,DiasNOLaborables),\"\")","v":43985},{"$f":"+IF(C1746=\"\",\"\",IF(I1746=\"\",\"\",(IF(I1746<=L1746,\"A TIEMPO\",\"FUERA DE TIEMPO\"))))","v":"A TIEMPO"},{"$f":"IF(I1746=\"\",\"\",NETWORKDAYS([4]Hoja1!C1746+1,[4]Hoja1!P1746,DiasNOLaborables))","v":9},"",null,null,20]
[1736,20209050037532,43956,"MODULO CONTACTENOS","SOLICITUD DE INFORMACIÓN Y DOCUMENTOS","ACREDITACIÓN DE LABORATORIOS","SI","SUBDIRECCIÓN DE ESTUDIOS AMBIENTALES",43970,null,null,{"$f":"IFERROR(WORKDAY(C1747,R1747,DiasNOLaborables),\"\")","v":43985},{"$f":"+IF(C1747=\"\",\"\",IF(I1747=\"\",\"\",(IF(I1747<=L1747,\"A TIEMPO\",\"FUERA DE TIEMPO\"))))","v":"A TIEMPO"},{"$f":"IF(I1747=\"\",\"\",NETWORKDAYS([4]Hoja1!C1747+1,[4]Hoja1!P1747,DiasNOLaborables))","v":9},"",null,null,20]
[1737,20209050037262,43956,"CORREO ELECTRÓNICO","SOLICITUD DE INFORMACIÓN Y DOCUMENTOS","SOLICITUD DE INFORMACIÓN Y DOCUMENTOS","SI","OFICINA DEL SERVICIO DE PRONÓSTICOS Y ALERTAS",43956,null,null,{"$f":"IFERROR(WORKDAY(C1748,R1748,DiasNOLaborables),\"\")","v":43985},{"$f":"+IF(C1748=\"\",\"\",IF(I1748=\"\",\"\",(IF(I1748<=L1748,\"A TIEMPO\",\"FUERA DE TIEMPO\"))))","v":"A TIEMPO"},{"$f":"IF(I1748=\"\",\"\",NETWORKDAYS([4]Hoja1!C1748+1,[4]Hoja1!P1748,DiasNOLaborables))","v":9},"",null,null,20]
[1738,20209050037292,43956,"CORREO ELECTRÓNICO","SOLICITUD DE INFORMACIÓN Y DOCUMENTOS","SOLICITUD DE INFORMACIÓN Y DOCUMENTOS","SI","SUBDIRECCIÓN DE ECOSISTEMAS E INFORMACIÓN AMBIENTAL",43957,null,null,{"$f":"IFERROR(WORKDAY(C1749,R1749,DiasNOLaborables),\"\")","v":43985},{"$f":"+IF(C1749=\"\",\"\",IF(I1749=\"\",\"\",(IF(I1749<=L1749,\"A TIEMPO\",\"FUERA DE TIEMPO\"))))","v":"A TIEMPO"},{"$f":"IF(I1749=\"\",\"\",NETWORKDAYS([4]Hoja1!C1749+1,[4]Hoja1!P1749,DiasNOLaborables))","v":9},"",null,null,20]
[1739,20209050037302,43956,"CORREO ELECTRÓNICO","SOLICITUD DE INFORMACIÓN Y DOCUMENTOS","SOLICITUD DE INFORMACIÓN Y DOCUMENTOS","SI","SUBDIRECCIÓN DE HIDROLOGÍA",43963,null,null,{"$f":"IFERROR(WORKDAY(C1750,R1750,DiasNOLaborables),\"\")","v":43985},{"$f":"+IF(C1750=\"\",\"\",IF(I1750=\"\",\"\",(IF(I1750<=L1750,\"A TIEMPO\",\"FUERA DE TIEMPO\"))))","v":"A TIEMPO"},{"$f":"IF(I1750=\"\",\"\",NETWORKDAYS([4]Hoja1!C1750+1,[4]Hoja1!P1750,DiasNOLaborables))","v":9},"",null,null,20]
[1740,20209050037332,43956,"CORREO ELECTRÓNICO","SOLICITUD DE INFORMACIÓN Y DOCUMENTOS","SOLICITUD DE INFORMACIÓN Y DOCUMENTOS","SI","SUBDIRECCIÓN DE HIDROLOGÍA",43962,null,null,{"$f":"IFERROR(WORKDAY(C1751,R1751,DiasNOLaborables),\"\")","v":43985},{"$f":"+IF(C1751=\"\",\"\",IF(I1751=\"\",\"\",(IF(I1751<=L1751,\"A TIEMPO\",\"FUERA DE TIEMPO\"))))","v":"A TIEMPO"},{"$f":"IF(I1751=\"\",\"\",NETWORKDAYS([4]Hoja1!C1751+1,[4]Hoja1!P1751,DiasNOLaborables))","v":9},"",null,null,20]
[1741,20209050037362,43956,"CORREO ELECTRÓNICO","SOLICITUD DE INFORMACIÓN Y DOCUMENTOS","SOLICITUD DE INFORMACIÓN Y DOCUMENTOS","SI","SUBDIRECCIÓN DE ESTUDIOS AMBIENTALES",43962,null,null,{"$f":"IFERROR(WORKDAY(C1752,R1752,DiasNOLaborables),\"\")","v":43985},{"$f":"+IF(C1752=\"\",\"\",IF(I1752=\"\",\"\",(IF(I1752<=L1752,\"A TIEMPO\",\"FUERA DE TIEMPO\"))))","v":"A TIEMPO"},{"$f":"IF(I1752=\"\",\"\",NETWORKDAYS([4]Hoja1!C1752+1,[4]Hoja1!P1752,DiasNOLaborables))","v":9},"",null,null,20]
[1742,20209910036082,43956,"CORREO ELECTRÓNICO","SOLICITUD DE INFORMACIÓN Y DOCUMENTOS","REGISTROS AMBIENTALES","SI","SUBDIRECCIÓN DE ESTUDIOS AMBIENTALES",43985,null,null,{"$f":"IFERROR(WORKDAY(C1753,R1753,DiasNOLaborables),\"\")","v":43985},{"$f":"+IF(C1753=\"\",\"\",IF(I1753=\"\",\"\",(IF(I1753<=L1753,\"A TIEMPO\",\"FUERA DE TIEMPO\"))))","v":"A TIEMPO"},{"$f":"IF(I1753=\"\",\"\",NETWORKDAYS([4]Hoja1!C1753+1,[4]Hoja1!P1753,DiasNOLaborables))","v":9},"",null,null,20]
[1743,20209910036222,43956,"CORREO ELECTRÓNICO","PETICIÓN","REGISTROS AMBIENTALES","SI","SUBDIRECCIÓN DE ESTUDIOS AMBIENTALES",43986,null,null,{"$f":"IFERROR(WORKDAY(C1754,R1754,DiasNOLaborables),\"\")","v":44000},{"$f":"+IF(C1754=\"\",\"\",IF(I1754=\"\",\"\",(IF(I1754<=L1754,\"A TIEMPO\",\"FUERA DE TIEMPO\"))))","v":"A TIEMPO"},{"$f":"IF(I1754=\"\",\"\",NETWORKDAYS([4]Hoja1!C1754+1,[4]Hoja1!P1754,DiasNOLaborables))","v":9},"",null,null,30]
[1744,20209050037372,43956,"CORREO ELECTRÓNICO","SOLICITUD DE INFORMACIÓN Y DOCUMENTOS","SOLICITUD DE INFORMACIÓN Y DOCUMENTOS","SI","SUBDIRECCIÓN DE ECOSISTEMAS E INFORMACIÓN AMBIENTAL",43958,null,null,{"$f":"IFERROR(WORKDAY(C1755,R1755,DiasNOLaborables),\"\")","v":43985},{"$f":"+IF(C1755=\"\",\"\",IF(I1755=\"\",\"\",(IF(I1755<=L1755,\"A TIEMPO\",\"FUERA DE TIEMPO\"))))","v":"A TIEMPO"},{"$f":"IF(I1755=\"\",\"\",NETWORKDAYS([4]Hoja1!C1755+1,[4]Hoja1!P1755,DiasNOLaborables))","v":8},"",null,null,20]
[1745,20209050037392,43956,"CORREO ELECTRÓNICO","SOLICITUD DE INFORMACIÓN Y DOCUMENTOS","SOLICITUD DE INFORMACIÓN Y DOCUMENTOS","SI","SUBDIRECCIÓN DE ESTUDIOS AMBIENTALES",43958,null,null,{"$f":"IFERROR(WORKDAY(C1756,R1756,DiasNOLaborables),\"\")","v":43985},{"$f":"+IF(C1756=\"\",\"\",IF(I1756=\"\",\"\",(IF(I1756<=L1756,\"A TIEMPO\",\"FUERA DE TIEMPO\"))))","v":"A TIEMPO"},{"$f":"IF(I1756=\"\",\"\",NETWORKDAYS([4]Hoja1!C1756+1,[4]Hoja1!P1756,DiasNOLaborables))","v":8},"",null,null,20]
[1746,20209050037562,43957,"MODULO CONTACTENOS","SOLICITUD DE INFORMACIÓN Y DOCUMENTOS","SOLICITUD DE INFORMACIÓN Y DOCUMENTOS","SI","OFICINA DE INFORMÁTICA",43963,null,null,{"$f":"IFERROR(WORKDAY(C1757,R1757,DiasNOLaborables),\"\")","v":43986},{"$f":"+IF(C1757=\"\",\"\",IF(I1757=\"\",\"\",(IF(I1757<=L1757,\"A TIEMPO\",\"FUERA DE TIEMPO\"))))","v":"A TIEMPO"},{"$f":"IF(I1757=\"\",\"\",NETWORKDAYS([4]Hoja1!C1757+1,[4]Hoja1!P1757,DiasNOLaborables))","v":8},"",null,null,20]
[1747,20209050037872,43957,"CORREO ELECTRÓNICO","SOLICITUD DE INFORMACIÓN Y DOCUMENTOS","SOLICITUD DE INFORMACIÓN Y DOCUMENTOS","SI","SUBDIRECCIÓN DE ECOSISTEMAS E INFORMACIÓN AMBIENTAL",43969,null,null,{"$f":"IFERROR(WORKDAY(C1758,R1758,DiasNOLaborables),\"\")","v":43986},{"$f":"+IF(C1758=\"\",\"\",IF(I1758=\"\",\"\",(IF(I1758<=L1758,\"A TIEMPO\",\"FUERA DE TIEMPO\"))))","v":"A TIEMPO"},{"$f":"IF(I1758=\"\",\"\",NETWORKDAYS([4]Hoja1!C1758+1,[4]Hoja1!P1758,DiasNOLaborables))","v":8},"",null,null,20]
[1748,20209050037882,43957,"CORREO ELECTRÓNICO","SOLICITUD DE INFORMACIÓN Y DOCUMENTOS","ADMINISTRATIVA","SI","GRUPO DE ADMINISTRACIÓN Y DESARROLLO DEL TALENTO HUMANO",43972,null,null,{"$f":"IFERROR(WORKDAY(C1759,R1759,DiasNOLaborables),\"\")","v":43986},{"$f":"+IF(C1759=\"\",\"\",IF(I1759=\"\",\"\",(IF(I1759<=L1759,\"A TIEMPO\",\"FUERA DE TIEMPO\"))))","v":"A TIEMPO"},{"$f":"IF(I1759=\"\",\"\",NETWORKDAYS([4]Hoja1!C1759+1,[4]Hoja1!P1759,DiasNOLaborables))","v":3},"",null,null,20]
[1749,20209050037892,43957,"CORREO ELECTRÓNICO","SOLICITUD DE INFORMACIÓN Y DOCUMENTOS","SOLICITUD DE INFORMACIÓN Y DOCUMENTOS","SI","SUBDIRECCIÓN DE ESTUDIOS AMBIENTALES",43958,null,null,{"$f":"IFERROR(WORKDAY(C1760,R1760,DiasNOLaborables),\"\")","v":43986},{"$f":"+IF(C1760=\"\",\"\",IF(I1760=\"\",\"\",(IF(I1760<=L1760,\"A TIEMPO\",\"FUERA DE TIEMPO\"))))","v":"A TIEMPO"},{"$f":"IF(I1760=\"\",\"\",NETWORKDAYS([4]Hoja1!C1760+1,[4]Hoja1!P1760,DiasNOLaborables))","v":4},"",null,null,20]
[1750,20209050037912,43957,"CORREO ELECTRÓNICO","SOLICITUD DE INFORMACIÓN Y DOCUMENTOS","REGISTROS AMBIENTALES","SI","SUBDIRECCIÓN DE ESTUDIOS AMBIENTALES",43958,null,null,{"$f":"IFERROR(WORKDAY(C1761,R1761,DiasNOLaborables),\"\")","v":43986},{"$f":"+IF(C1761=\"\",\"\",IF(I1761=\"\",\"\",(IF(I1761<=L1761,\"A TIEMPO\",\"FUERA DE TIEMPO\"))))","v":"A TIEMPO"},{"$f":"IF(I1761=\"\",\"\",NETWORKDAYS([4]Hoja1!C1761+1,[4]Hoja1!P1761,DiasNOLaborables))","v":2},"",null,null,20]
[1751,20209050037922,43957,"CORREO ELECTRÓNICO","SOLICITUD DE INFORMACIÓN Y DOCUMENTOS","SOLICITUD DE INFORMACIÓN Y DOCUMENTOS","SI","SUBDIRECCIÓN DE HIDROLOGÍA",43973,null,null,{"$f":"IFERROR(WORKDAY(C1762,R1762,DiasNOLaborables),\"\")","v":43986},{"$f":"+IF(C1762=\"\",\"\",IF(I1762=\"\",\"\",(IF(I1762<=L1762,\"A TIEMPO\",\"FUERA DE TIEMPO\"))))","v":"A TIEMPO"},{"$f":"IF(I1762=\"\",\"\",NETWORKDAYS([4]Hoja1!C1762+1,[4]Hoja1!P1762,DiasNOLaborables))","v":5},"",null,null,20]
[1752,20209050037942,43957,"CORREO ELECTRÓNICO","SOLICITUD DE INFORMACIÓN Y DOCUMENTOS","SOLICITUD DE INFORMACIÓN Y DOCUMENTOS","SI","SUBDIRECCIÓN DE HIDROLOGÍA",43966,null,null,{"$f":"IFERROR(WORKDAY(C1763,R1763,DiasNOLaborables),\"\")","v":43986},{"$f":"+IF(C1763=\"\",\"\",IF(I1763=\"\",\"\",(IF(I1763<=L1763,\"A TIEMPO\",\"FUERA DE TIEMPO\"))))","v":"A TIEMPO"},{"$f":"IF(I1763=\"\",\"\",NETWORKDAYS([4]Hoja1!C1763+1,[4]Hoja1!P1763,DiasNOLaborables))","v":4},"",null,null,20]
[1753,20209050037962,43957,"CORREO ELECTRÓNICO","SOLICITUD DE INFORMACIÓN Y DOCUMENTOS","SOLICITUD DE INFORMACIÓN Y DOCUMENTOS","SI","SUBDIRECCIÓN DE ECOSISTEMAS E INFORMACIÓN AMBIENTAL",43959,null,null,{"$f":"IFERROR(WORKDAY(C1764,R1764,DiasNOLaborables),\"\")","v":43986},{"$f":"+IF(C1764=\"\",\"\",IF(I1764=\"\",\"\",(IF(I1764<=L1764,\"A TIEMPO\",\"FUERA DE TIEMPO\"))))","v":"A TIEMPO"},{"$f":"IF(I1764=\"\",\"\",NETWORKDAYS([4]Hoja1!C1764+1,[4]Hoja1!P1764,DiasNOLaborables))","v":4},"",null,null,20]
[1754,20209050037662,43957,"MODULO CONTACTENOS","SOLICITUD DE INFORMACIÓN Y DOCUMENTOS","OPERACIÓN DE REDES","SI","SUBDIRECCIÓN DE HIDROLOGÍA",43972,null,null,{"$f":"IFERROR(WORKDAY(C1765,R1765,DiasNOLaborables),\"\")","v":43986},{"$f":"+IF(C1765=\"\",\"\",IF(I1765=\"\",\"\",(IF(I1765<=L1765,\"A TIEMPO\",\"FUERA DE TIEMPO\"))))","v":"A TIEMPO"},{"$f":"IF(I1765=\"\",\"\",NETWORKDAYS([4]Hoja1!C1765+1,[4]Hoja1!P1765,DiasNOLaborables))","v":4},"",null,null,20]
[1755,20209050037782,43957,"MODULO CONTACTENOS","SOLICITUD DE INFORMACIÓN Y DOCUMENTOS","ADMINISTRATIVA","SI","GRUPO DE ADMINISTRACIÓN Y DESARROLLO DEL TALENTO HUMANO",43958,null,null,{"$f":"IFERROR(WORKDAY(C1766,R1766,DiasNOLaborables),\"\")","v":43986},{"$f":"+IF(C1766=\"\",\"\",IF(I1766=\"\",\"\",(IF(I1766<=L1766,\"A TIEMPO\",\"FUERA DE TIEMPO\"))))","v":"A TIEMPO"},{"$f":"IF(I1766=\"\",\"\",NETWORKDAYS([4]Hoja1!C1766+1,[4]Hoja1!P1766,DiasNOLaborables))","v":9},"",null,null,20]
[1756,20209050037812,43957,"MODULO CONTACTENOS","SOLICITUD DE INFORMACIÓN Y DOCUMENTOS","ADMINISTRATIVA","SI","GRUPO DE ADMINISTRACIÓN Y DESARROLLO DEL TALENTO HUMANO",43978,null,null,{"$f":"IFERROR(WORKDAY(C1767,R1767,DiasNOLaborables),\"\")","v":43986},{"$f":"+IF(C1767=\"\",\"\",IF(I1767=\"\",\"\",(IF(I1767<=L1767,\"A TIEMPO\",\"FUERA DE TIEMPO\"))))","v":"A TIEMPO"},{"$f":"IF(I1767=\"\",\"\",NETWORKDAYS([4]Hoja1!C1767+1,[4]Hoja1!P1767,DiasNOLaborables))","v":9},"",null,null,20]
[1757,20209050037632,43957,"CORREO ELECTRÓNICO","SOLICITUD DE INFORMACIÓN Y DOCUMENTOS","SOLICITUD DE INFORMACIÓN HIDROMETEOROLÓGICA","NO","GRUPO DE ATENCIÓN AL CIUDADANO",43964,null,null,{"$f":"IFERROR(WORKDAY(C1768,R1768,DiasNOLaborables),\"\")","v":43986},{"$f":"+IF(C1768=\"\",\"\",IF(I1768=\"\",\"\",(IF(I1768<=L1768,\"A TIEMPO\",\"FUERA DE TIEMPO\"))))","v":"A TIEMPO"},{"$f":"IF(I1768=\"\",\"\",NETWORKDAYS([4]Hoja1!C1768+1,[4]Hoja1!P1768,DiasNOLaborables))","v":1},"",null,null,20]
[1758,20209050037642,43957,"CORREO ELECTRÓNICO","SOLICITUD DE INFORMACIÓN Y DOCUMENTOS","SOLICITUD DE INFORMACIÓN HIDROMETEOROLÓGICA","NO","GRUPO DE ATENCIÓN AL CIUDADANO",43964,null,null,{"$f":"IFERROR(WORKDAY(C1769,R1769,DiasNOLaborables),\"\")","v":43986},{"$f":"+IF(C1769=\"\",\"\",IF(I1769=\"\",\"\",(IF(I1769<=L1769,\"A TIEMPO\",\"FUERA DE TIEMPO\"))))","v":"A TIEMPO"},{"$f":"IF(I1769=\"\",\"\",NETWORKDAYS([4]Hoja1!C1769+1,[4]Hoja1!P1769,DiasNOLaborables))","v":3},"",null,null,20]
[1759,20209050037652,43957,"CORREO ELECTRÓNICO","SOLICITUD DE INFORMACIÓN Y DOCUMENTOS","SOLICITUD DE INFORMACIÓN HIDROMETEOROLÓGICA","NO","GRUPO DE ATENCIÓN AL CIUDADANO",43964,null,null,{"$f":"IFERROR(WORKDAY(C1770,R1770,DiasNOLaborables),\"\")","v":43986},{"$f":"+IF(C1770=\"\",\"\",IF(I1770=\"\",\"\",(IF(I1770<=L1770,\"A TIEMPO\",\"FUERA DE TIEMPO\"))))","v":"A TIEMPO"},{"$f":"IF(I1770=\"\",\"\",NETWORKDAYS([4]Hoja1!C1770+1,[4]Hoja1!P1770,DiasNOLaborables))","v":6},"",null,null,20]
[1760,20209050037672,43957,"CORREO ELECTRÓNICO","SOLICITUD DE INFORMACIÓN Y DOCUMENTOS","SOLICITUD DE INFORMACIÓN HIDROMETEOROLÓGICA","NO","GRUPO DE ATENCIÓN AL CIUDADANO",43964,null,null,{"$f":"IFERROR(WORKDAY(C1771,R1771,DiasNOLaborables),\"\")","v":43986},{"$f":"+IF(C1771=\"\",\"\",IF(I1771=\"\",\"\",(IF(I1771<=L1771,\"A TIEMPO\",\"FUERA DE TIEMPO\"))))","v":"A TIEMPO"},{"$f":"IF(I1771=\"\",\"\",NETWORKDAYS([4]Hoja1!C1771+1,[4]Hoja1!P1771,DiasNOLaborables))","v":6},"",null,null,20]
[1761,20209050037682,43957,"CORREO ELECTRÓNICO","SOLICITUD DE INFORMACIÓN Y DOCUMENTOS","SOLICITUD DE INFORMACIÓN HIDROMETEOROLÓGICA","NO","GRUPO DE ATENCIÓN AL CIUDADANO",43964,null,null,{"$f":"IFERROR(WORKDAY(C1772,R1772,DiasNOLaborables),\"\")","v":43986},{"$f":"+IF(C1772=\"\",\"\",IF(I1772=\"\",\"\",(IF(I1772<=L1772,\"A TIEMPO\",\"FUERA DE TIEMPO\"))))","v":"A TIEMPO"},{"$f":"IF(I1772=\"\",\"\",NETWORKDAYS([4]Hoja1!C1772+1,[4]Hoja1!P1772,DiasNOLaborables))","v":2},"",null,null,20]
[1762,20209050037692,43957,"CORREO ELECTRÓNICO","SOLICITUD DE INFORMACIÓN Y DOCUMENTOS","SOLICITUD DE INFORMACIÓN HIDROMETEOROLÓGICA","NO","GRUPO DE ATENCIÓN AL CIUDADANO",43964,null,null,{"$f":"IFERROR(WORKDAY(C1773,R1773,DiasNOLaborables),\"\")","v":43986},{"$f":"+IF(C1773=\"\",\"\",IF(I1773=\"\",\"\",(IF(I1773<=L1773,\"A TIEMPO\",\"FUERA DE TIEMPO\"))))","v":"A TIEMPO"},{"$f":"IF(I1773=\"\",\"\",NETWORKDAYS([4]Hoja1!C1773+1,[4]Hoja1!P1773,DiasNOLaborables))","v":3},"",null,null,20]
[1763,20209050037702,43957,"CORREO ELECTRÓNICO","SOLICITUD DE INFORMACIÓN Y DOCUMENTOS","SOLICITUD DE INFORMACIÓN HIDROMETEOROLÓGICA","NO","GRUPO DE ATENCIÓN AL CIUDADANO",43964,null,null,{"$f":"IFERROR(WORKDAY(C1774,R1774,DiasNOLaborables),\"\")","v":43986},{"$f":"+IF(C1774=\"\",\"\",IF(I1774=\"\",\"\",(IF(I1774<=L1774,\"A TIEMPO\",\"FUERA DE TIEMPO\"))))","v":"A TIEMPO"},{"$f":"IF(I1774=\"\",\"\",NETWORKDAYS([4]Hoja1!C1774+1,[4]Hoja1!P1774,DiasNOLaborables))","v":5},"",null,null,20]
[1764,20209050037852,43957,"CORREO ELECTRÓNICO","SOLICITUD DE INFORMACIÓN Y DOCUMENTOS","SOLICITUD DE INFORMACIÓN HIDROMETEOROLÓGICA","NO","GRUPO DE ATENCIÓN AL CIUDADANO",43964,null,null,{"$f":"IFERROR(WORKDAY(C1775,R1775,DiasNOLaborables),\"\")","v":43986},{"$f":"+IF(C1775=\"\",\"\",IF(I1775=\"\",\"\",(IF(I1775<=L1775,\"A TIEMPO\",\"FUERA DE TIEMPO\"))))","v":"A TIEMPO"},{"$f":"IF(I1775=\"\",\"\",NETWORKDAYS([4]Hoja1!C1775+1,[4]Hoja1!P1775,DiasNOLaborables))","v":5},"",null,null,20]
[1765,"\t20209050037902",43957,"CORREO ELECTRÓNICO","SOLICITUD DE INFORMACIÓN Y DOCUMENTOS","SOLICITUD DE INFORMACIÓN HIDROMETEOROLÓGICA","NO","GRUPO DE ATENCIÓN AL CIUDADANO",43965,null,null,{"$f":"IFERROR(WORKDAY(C1776,R1776,DiasNOLaborables),\"\")","v":43986},{"$f":"+IF(C1776=\"\",\"\",IF(I1776=\"\",\"\",(IF(I1776<=L1776,\"A TIEMPO\",\"FUERA DE TIEMPO\"))))","v":"A TIEMPO"},{"$f":"IF(I1776=\"\",\"\",NETWORKDAYS([4]Hoja1!C1776+1,[4]Hoja1!P1776,DiasNOLaborables))","v":2},"",null,null,20]
[1766,20209050038072,43958,"CORREO ELECTRÓNICO","SOLICITUD DE INFORMACIÓN Y DOCUMENTOS","SOLICITUD DE INFORMACIÓN HIDROMETEOROLÓGICA","NO","GRUPO DE ATENCIÓN AL CIUDADANO",43965,null,null,{"$f":"IFERROR(WORKDAY(C1777,R1777,DiasNOLaborables),\"\")","v":43987},{"$f":"+IF(C1777=\"\",\"\",IF(I1777=\"\",\"\",(IF(I1777<=L1777,\"A TIEMPO\",\"FUERA DE TIEMPO\"))))","v":"A TIEMPO"},{"$f":"IF(I1777=\"\",\"\",NETWORKDAYS([4]Hoja1!C1777+1,[4]Hoja1!P1777,DiasNOLaborables))","v":12},"",null,null,20]
[{"$f":"IF(B1776<>\"\",A1777+1,\"\")","v":1767},20209050038132,43958,"CORREO ELECTRÓNICO","SOLICITUD DE INFORMACIÓN Y DOCUMENTOS","SOLICITUD DE INFORMACIÓN HIDROMETEOROLÓGICA","NO","GRUPO DE ATENCIÓN AL CIUDADANO",43964,null,null,{"$f":"IFERROR(WORKDAY(C1778,R1778,DiasNOLaborables),\"\")","v":43987},{"$f":"+IF(C1778=\"\",\"\",IF(I1778=\"\",\"\",(IF(I1778<=L1778,\"A TIEMPO\",\"FUERA DE TIEMPO\"))))","v":"A TIEMPO"},{"$f":"IF(I1778=\"\",\"\",NETWORKDAYS([4]Hoja1!C1778+1,[4]Hoja1!P1778,DiasNOLaborables))","v":-2},"",null,null,20]
[1768,20209050038152,43958,"CORREO ELECTRÓNICO","SOLICITUD DE INFORMACIÓN Y DOCUMENTOS","SOLICITUD DE INFORMACIÓN HIDROMETEOROLÓGICA","NO","GRUPO DE ATENCIÓN AL CIUDADANO",43964,null,null,{"$f":"IFERROR(WORKDAY(C1779,R1779,DiasNOLaborables),\"\")","v":43987},{"$f":"+IF(C1779=\"\",\"\",IF(I1779=\"\",\"\",(IF(I1779<=L1779,\"A TIEMPO\",\"FUERA DE TIEMPO\"))))","v":"A TIEMPO"},{"$f":"IF(I1779=\"\",\"\",NETWORKDAYS([4]Hoja1!C1779+1,[4]Hoja1!P1779,DiasNOLaborables))","v":-2},"",null,null,20]
[1769,20209050038162,43958,"CORREO ELECTRÓNICO","SOLICITUD DE INFORMACIÓN Y DOCUMENTOS","SOLICITUD DE INFORMACIÓN HIDROMETEOROLÓGICA","NO","GRUPO DE ATENCIÓN AL CIUDADANO",43964,null,null,{"$f":"IFERROR(WORKDAY(C1780,R1780,DiasNOLaborables),\"\")","v":43987},{"$f":"+IF(C1780=\"\",\"\",IF(I1780=\"\",\"\",(IF(I1780<=L1780,\"A TIEMPO\",\"FUERA DE TIEMPO\"))))","v":"A TIEMPO"},{"$f":"IF(I1780=\"\",\"\",NETWORKDAYS([4]Hoja1!C1780+1,[4]Hoja1!P1780,DiasNOLaborables))","v":12},{"$f":"IF(NETWORKDAYS(L1780+1,I1780,DiasNOLaborables)<=0,\"\",NETWORKDAYS(L1780+1,I1780,DiasNOLaborables))","v":""},null,null,20]
[1770,20209050038172,43958,"CORREO ELECTRÓNICO","SOLICITUD DE INFORMACIÓN Y DOCUMENTOS","SOLICITUD DE INFORMACIÓN HIDROMETEOROLÓGICA","NO","GRUPO DE ATENCIÓN AL CIUDADANO",43964,null,null,{"$f":"IFERROR(WORKDAY(C1781,R1781,DiasNOLaborables),\"\")","v":43987},{"$f":"+IF(C1781=\"\",\"\",IF(I1781=\"\",\"\",(IF(I1781<=L1781,\"A TIEMPO\",\"FUERA DE TIEMPO\"))))","v":"A TIEMPO"},{"$f":"IF(I1781=\"\",\"\",NETWORKDAYS([4]Hoja1!C1781+1,[4]Hoja1!P1781,DiasNOLaborables))","v":15},"",null,null,20]
[1771,20209050038182,43958,"CORREO ELECTRÓNICO","SOLICITUD DE INFORMACIÓN Y DOCUMENTOS","SOLICITUD DE INFORMACIÓN HIDROMETEOROLÓGICA","NO","GRUPO DE ATENCIÓN AL CIUDADANO",43964,null,null,{"$f":"IFERROR(WORKDAY(C1782,R1782,DiasNOLaborables),\"\")","v":43987},{"$f":"+IF(C1782=\"\",\"\",IF(I1782=\"\",\"\",(IF(I1782<=L1782,\"A TIEMPO\",\"FUERA DE TIEMPO\"))))","v":"A TIEMPO"},{"$f":"IF(I1782=\"\",\"\",NETWORKDAYS([4]Hoja1!C1782+1,[4]Hoja1!P1782,DiasNOLaborables))","v":1},"",null,null,20]
[1772,20209050038192,43958,"CORREO ELECTRÓNICO","SOLICITUD DE INFORMACIÓN Y DOCUMENTOS","SOLICITUD DE INFORMACIÓN HIDROMETEOROLÓGICA","NO","GRUPO DE ATENCIÓN AL CIUDADANO",43964,null,null,{"$f":"IFERROR(WORKDAY(C1783,R1783,DiasNOLaborables),\"\")","v":43987},{"$f":"+IF(C1783=\"\",\"\",IF(I1783=\"\",\"\",(IF(I1783<=L1783,\"A TIEMPO\",\"FUERA DE TIEMPO\"))))","v":"A TIEMPO"},{"$f":"IF(I1783=\"\",\"\",NETWORKDAYS([4]Hoja1!C1783+1,[4]Hoja1!P1783,DiasNOLaborables))","v":-2},"",null,null,20]
[1773,20209050038202,43958,"CORREO ELECTRÓNICO","SOLICITUD DE INFORMACIÓN Y DOCUMENTOS","SOLICITUD DE INFORMACIÓN HIDROMETEOROLÓGICA","NO","GRUPO DE ATENCIÓN AL CIUDADANO",43966,null,null,{"$f":"IFERROR(WORKDAY(C1784,R1784,DiasNOLaborables),\"\")","v":43987},{"$f":"+IF(C1784=\"\",\"\",IF(I1784=\"\",\"\",(IF(I1784<=L1784,\"A TIEMPO\",\"FUERA DE TIEMPO\"))))","v":"A TIEMPO"},{"$f":"IF(I1784=\"\",\"\",NETWORKDAYS([4]Hoja1!C1784+1,[4]Hoja1!P1784,DiasNOLaborables))","v":4},"",null,null,20]
[1774,20209050038242,43958,"CORREO ELECTRÓNICO","SOLICITUD DE INFORMACIÓN Y DOCUMENTOS","SOLICITUD DE INFORMACIÓN HIDROMETEOROLÓGICA","NO","GRUPO DE ATENCIÓN AL CIUDADANO",43966,null,null,{"$f":"IFERROR(WORKDAY(C1785,R1785,DiasNOLaborables),\"\")","v":43987},{"$f":"+IF(C1785=\"\",\"\",IF(I1785=\"\",\"\",(IF(I1785<=L1785,\"A TIEMPO\",\"FUERA DE TIEMPO\"))))","v":"A TIEMPO"},{"$f":"IF(I1785=\"\",\"\",NETWORKDAYS([4]Hoja1!C1785+1,[4]Hoja1!P1785,DiasNOLaborables))","v":2},"",null,null,20]
[1775,20209050038262,43958,"CORREO ELECTRÓNICO","SOLICITUD DE INFORMACIÓN Y DOCUMENTOS","SOLICITUD DE INFORMACIÓN HIDROMETEOROLÓGICA","NO","GRUPO DE ATENCIÓN AL CIUDADANO",43966,null,null,{"$f":"IFERROR(WORKDAY(C1786,R1786,DiasNOLaborables),\"\")","v":43987},{"$f":"+IF(C1786=\"\",\"\",IF(I1786=\"\",\"\",(IF(I1786<=L1786,\"A TIEMPO\",\"FUERA DE TIEMPO\"))))","v":"A TIEMPO"},{"$f":"IF(I1786=\"\",\"\",NETWORKDAYS([4]Hoja1!C1786+1,[4]Hoja1!P1786,DiasNOLaborables))","v":7},"",null,null,20]
[1776,20209050038272,43958,"CORREO ELECTRÓNICO","SOLICITUD DE INFORMACIÓN Y DOCUMENTOS","SOLICITUD DE INFORMACIÓN HIDROMETEOROLÓGICA","NO","GRUPO DE ATENCIÓN AL CIUDADANO",43966,null,null,{"$f":"IFERROR(WORKDAY(C1787,R1787,DiasNOLaborables),\"\")","v":43987},{"$f":"+IF(C1787=\"\",\"\",IF(I1787=\"\",\"\",(IF(I1787<=L1787,\"A TIEMPO\",\"FUERA DE TIEMPO\"))))","v":"A TIEMPO"},{"$f":"IF(I1787=\"\",\"\",NETWORKDAYS([4]Hoja1!C1787+1,[4]Hoja1!P1787,DiasNOLaborables))","v":4},"",null,null,20]
[1777,20209050038282,43958,"CORREO ELECTRÓNICO","SOLICITUD DE INFORMACIÓN Y DOCUMENTOS","SOLICITUD DE INFORMACIÓN HIDROMETEOROLÓGICA","NO","GRUPO DE ATENCIÓN AL CIUDADANO",43966,null,null,{"$f":"IFERROR(WORKDAY(C1788,R1788,DiasNOLaborables),\"\")","v":43987},{"$f":"+IF(C1788=\"\",\"\",IF(I1788=\"\",\"\",(IF(I1788<=L1788,\"A TIEMPO\",\"FUERA DE TIEMPO\"))))","v":"A TIEMPO"},{"$f":"IF(I1788=\"\",\"\",NETWORKDAYS([4]Hoja1!C1788+1,[4]Hoja1!P1788,DiasNOLaborables))","v":2},"",null,null,20]
[1778,20209050038312,43958,"CORREO ELECTRÓNICO","SOLICITUD DE INFORMACIÓN Y DOCUMENTOS","SOLICITUD DE INFORMACIÓN HIDROMETEOROLÓGICA","NO","GRUPO DE ATENCIÓN AL CIUDADANO",43966,null,null,{"$f":"IFERROR(WORKDAY(C1789,R1789,DiasNOLaborables),\"\")","v":43987},{"$f":"+IF(C1789=\"\",\"\",IF(I1789=\"\",\"\",(IF(I1789<=L1789,\"A TIEMPO\",\"FUERA DE TIEMPO\"))))","v":"A TIEMPO"},{"$f":"IF(I1789=\"\",\"\",NETWORKDAYS([4]Hoja1!C1789+1,[4]Hoja1!P1789,DiasNOLaborables))","v":-2},"",null,null,20]
[1779,20209050038322,43958,"CORREO ELECTRÓNICO","SOLICITUD DE INFORMACIÓN Y DOCUMENTOS","SOLICITUD DE INFORMACIÓN HIDROMETEOROLÓGICA","NO","GRUPO DE ATENCIÓN AL CIUDADANO",43966,null,null,{"$f":"IFERROR(WORKDAY(C1790,R1790,DiasNOLaborables),\"\")","v":43987},{"$f":"+IF(C1790=\"\",\"\",IF(I1790=\"\",\"\",(IF(I1790<=L1790,\"A TIEMPO\",\"FUERA DE TIEMPO\"))))","v":"A TIEMPO"},{"$f":"IF(I1790=\"\",\"\",NETWORKDAYS([4]Hoja1!C1790+1,[4]Hoja1!P1790,DiasNOLaborables))","v":7},"",null,null,20]
[1780,20209050038302,43958,"MODULO CONTACTENOS","SOLICITUD DE INFORMACIÓN Y DOCUMENTOS","CLIMATOLOGÍA","SI","SUBDIRECCIÓN DE METEOROLOGÍA",43962,null,null,{"$f":"IFERROR(WORKDAY(C1791,R1791,DiasNOLaborables),\"\")","v":43987},{"$f":"+IF(C1791=\"\",\"\",IF(I1791=\"\",\"\",(IF(I1791<=L1791,\"A TIEMPO\",\"FUERA DE TIEMPO\"))))","v":"A TIEMPO"},{"$f":"IF(I1791=\"\",\"\",NETWORKDAYS([4]Hoja1!C1791+1,[4]Hoja1!P1791,DiasNOLaborables))","v":-2},"",null,null,20]
[1781,20209050038032,43958,"CORREO ELECTRÓNICO","SOLICITUD JUDICIAL ","SOLICITUD DE INFORMACIÓN Y DOCUMENTOS","SI","SUBDIRECCIÓN DE ECOSISTEMAS E INFORMACIÓN AMBIENTAL",43969,null,null,{"$f":"IFERROR(WORKDAY(C1792,R1792,DiasNOLaborables),\"\")","v":43965},{"$f":"+IF(C1792=\"\",\"\",IF(I1792=\"\",\"\",(IF(I1792<=L1792,\"A TIEMPO\",\"FUERA DE TIEMPO\"))))","v":"FUERA DE TIEMPO"},{"$f":"IF(I1792=\"\",\"\",NETWORKDAYS([4]Hoja1!C1792+1,[4]Hoja1!P1792,DiasNOLaborables))","v":2},2,null,null,5]
[1782,20209050038042,43958,"CORREO ELECTRÓNICO","SOLICITUD DE INFORMACIÓN Y DOCUMENTOS","SOLICITUD DE INFORMACIÓN Y DOCUMENTOS","SI","SUBDIRECCIÓN DE METEOROLOGÍA",43959,null,null,{"$f":"IFERROR(WORKDAY(C1793,R1793,DiasNOLaborables),\"\")","v":43987},{"$f":"+IF(C1793=\"\",\"\",IF(I1793=\"\",\"\",(IF(I1793<=L1793,\"A TIEMPO\",\"FUERA DE TIEMPO\"))))","v":"A TIEMPO"},{"$f":"IF(I1793=\"\",\"\",NETWORKDAYS([4]Hoja1!C1793+1,[4]Hoja1!P1793,DiasNOLaborables))","v":3},"",null,null,20]
[1783,20209050038052,43958,"CORREO ELECTRÓNICO","SOLICITUD DE INFORMACIÓN Y DOCUMENTOS","SOLICITUD DE INFORMACIÓN Y DOCUMENTOS","SI","OFICINA DE INFORMÁTICA",43965,null,null,{"$f":"IFERROR(WORKDAY(C1794,R1794,DiasNOLaborables),\"\")","v":43987},{"$f":"+IF(C1794=\"\",\"\",IF(I1794=\"\",\"\",(IF(I1794<=L1794,\"A TIEMPO\",\"FUERA DE TIEMPO\"))))","v":"A TIEMPO"},{"$f":"IF(I1794=\"\",\"\",NETWORKDAYS([4]Hoja1!C1794+1,[4]Hoja1!P1794,DiasNOLaborables))","v":1},"",null,null,20]
[1784,20209050038062,43958,"CORREO ELECTRÓNICO","CERTIFICACIONES DE TIEMPO, CLIMA Y EVENTOS HIDROLÓGICOS","CERTIFICACIONES DE TIEMPO Y CLIMA","SI","SUBDIRECCIÓN DE METEOROLOGÍA",43978,null,null,{"$f":"IFERROR(WORKDAY(C1795,R1795,DiasNOLaborables),\"\")","v":44005},{"$f":"+IF(C1795=\"\",\"\",IF(I1795=\"\",\"\",(IF(I1795<=L1795,\"A TIEMPO\",\"FUERA DE TIEMPO\"))))","v":"A TIEMPO"},{"$f":"IF(I1795=\"\",\"\",NETWORKDAYS([4]Hoja1!C1795+1,[4]Hoja1!P1795,DiasNOLaborables))","v":2},"",null,null,30]
[1785,20209050038082,43958,"CORREO ELECTRÓNICO","SOLICITUD DE INFORMACIÓN Y DOCUMENTOS","REGISTROS AMBIENTALES","SI","SUBDIRECCIÓN DE ESTUDIOS AMBIENTALES",43962,null,null,{"$f":"IFERROR(WORKDAY(C1796,R1796,DiasNOLaborables),\"\")","v":43987},{"$f":"+IF(C1796=\"\",\"\",IF(I1796=\"\",\"\",(IF(I1796<=L1796,\"A TIEMPO\",\"FUERA DE TIEMPO\"))))","v":"A TIEMPO"},{"$f":"IF(I1796=\"\",\"\",NETWORKDAYS([4]Hoja1!C1796+1,[4]Hoja1!P1796,DiasNOLaborables))","v":3},"",null,null,20]
[1786,20209050038092,43958,"CORREO ELECTRÓNICO","CERTIFICACIONES DE TIEMPO, CLIMA Y EVENTOS HIDROLÓGICOS","CERTIFICACIONES DE TIEMPO Y CLIMA","SI","SUBDIRECCIÓN DE METEOROLOGÍA",43967,null,null,{"$f":"IFERROR(WORKDAY(C1797,R1797,DiasNOLaborables),\"\")","v":44005},{"$f":"+IF(C1797=\"\",\"\",IF(I1797=\"\",\"\",(IF(I1797<=L1797,\"A TIEMPO\",\"FUERA DE TIEMPO\"))))","v":"A TIEMPO"},{"$f":"IF(I1797=\"\",\"\",NETWORKDAYS([4]Hoja1!C1797+1,[4]Hoja1!P1797,DiasNOLaborables))","v":3},"",null,null,30]
[1787,20209050038102,43958,"CORREO ELECTRÓNICO","CERTIFICACIONES DE TIEMPO, CLIMA Y EVENTOS HIDROLÓGICOS","CERTIFICACIONES DE TIEMPO Y CLIMA","SI","SUBDIRECCIÓN DE METEOROLOGÍA",43958,null,null,{"$f":"IFERROR(WORKDAY(C1798,R1798,DiasNOLaborables),\"\")","v":44005},{"$f":"+IF(C1798=\"\",\"\",IF(I1798=\"\",\"\",(IF(I1798<=L1798,\"A TIEMPO\",\"FUERA DE TIEMPO\"))))","v":"A TIEMPO"},{"$f":"IF(I1798=\"\",\"\",NETWORKDAYS([4]Hoja1!C1798+1,[4]Hoja1!P1798,DiasNOLaborables))","v":3},"",null,null,{"$f":"IFERROR(VLOOKUP(E1798,$Z$50:$AA$63,2),\"\")","v":30}]
[1788,20209050038112,43958,"CORREO ELECTRÓNICO","CERTIFICACIONES DE TIEMPO, CLIMA Y EVENTOS HIDROLÓGICOS","CERTIFICACIONES DE TIEMPO Y CLIMA","SI","SUBDIRECCIÓN DE METEOROLOGÍA",43965,null,null,{"$f":"IFERROR(WORKDAY(C1799,R1799,DiasNOLaborables),\"\")","v":44005},{"$f":"+IF(C1799=\"\",\"\",IF(I1799=\"\",\"\",(IF(I1799<=L1799,\"A TIEMPO\",\"FUERA DE TIEMPO\"))))","v":"A TIEMPO"},{"$f":"IF(I1799=\"\",\"\",NETWORKDAYS([4]Hoja1!C1799+1,[4]Hoja1!P1799,DiasNOLaborables))","v":3},"",null,null,30]
[1789,20209050038122,43958,"CORREO ELECTRÓNICO","SOLICITUD JUDICIAL ","SOLICITUD DE INFORMACIÓN Y DOCUMENTOS","SI","SUBDIRECCIÓN DE ECOSISTEMAS E INFORMACIÓN AMBIENTAL",43962,null,null,{"$f":"IFERROR(WORKDAY(C1800,R1800,DiasNOLaborables),\"\")","v":43965},{"$f":"+IF(C1800=\"\",\"\",IF(I1800=\"\",\"\",(IF(I1800<=L1800,\"A TIEMPO\",\"FUERA DE TIEMPO\"))))","v":"A TIEMPO"},{"$f":"IF(I1800=\"\",\"\",NETWORKDAYS([4]Hoja1!C1800+1,[4]Hoja1!P1800,DiasNOLaborables))","v":3},"",null,null,5]
[1790,20209050038212,43958,"CORREO ELECTRÓNICO","SOLICITUD DE INFORMACIÓN Y DOCUMENTOS","SOLICITUD DE INFORMACIÓN Y DOCUMENTOS","SI","SUBDIRECCIÓN DE HIDROLOGÍA",43971,null,null,{"$f":"IFERROR(WORKDAY(C1801,R1801,DiasNOLaborables),\"\")","v":43987},{"$f":"+IF(C1801=\"\",\"\",IF(I1801=\"\",\"\",(IF(I1801<=L1801,\"A TIEMPO\",\"FUERA DE TIEMPO\"))))","v":"A TIEMPO"},{"$f":"IF(I1801=\"\",\"\",NETWORKDAYS([4]Hoja1!C1801+1,[4]Hoja1!P1801,DiasNOLaborables))","v":9},"",null,null,20]
[1791,20209050038232,43958,"CORREO ELECTRÓNICO","SOLICITUD DE INFORMACIÓN Y DOCUMENTOS","ADMINISTRATIVA","SI","GRUPO DE TESORERÍA",43963,null,null,{"$f":"IFERROR(WORKDAY(C1802,R1802,DiasNOLaborables),\"\")","v":43987},{"$f":"+IF(C1802=\"\",\"\",IF(I1802=\"\",\"\",(IF(I1802<=L1802,\"A TIEMPO\",\"FUERA DE TIEMPO\"))))","v":"A TIEMPO"},{"$f":"IF(I1802=\"\",\"\",NETWORKDAYS([4]Hoja1!C1802+1,[4]Hoja1!P1802,DiasNOLaborables))","v":9},"",null,null,20]
[1792,20209050038252,43958,"CORREO ELECTRÓNICO","SOLICITUD DE INFORMACIÓN Y DOCUMENTOS","SOLICITUD DE INFORMACIÓN Y DOCUMENTOS","SI","GRUPO DE GESTIÓN DOCUMENTAL Y CENTRO DE DOCUMENTACIÓN",43962,null,null,{"$f":"IFERROR(WORKDAY(C1803,R1803,DiasNOLaborables),\"\")","v":43987},{"$f":"+IF(C1803=\"\",\"\",IF(I1803=\"\",\"\",(IF(I1803<=L1803,\"A TIEMPO\",\"FUERA DE TIEMPO\"))))","v":"A TIEMPO"},{"$f":"IF(I1803=\"\",\"\",NETWORKDAYS([4]Hoja1!C1803+1,[4]Hoja1!P1803,DiasNOLaborables))","v":9},"",null,null,20]
[1793,20209050038402,43959,"CORREO ELECTRÓNICO","SOLICITUD DE INFORMACIÓN Y DOCUMENTOS","SOLICITUD DE INFORMACIÓN Y DOCUMENTOS","SI","SUBDIRECCIÓN DE HIDROLOGÍA",43973,null,null,{"$f":"IFERROR(WORKDAY(C1804,R1804,DiasNOLaborables),\"\")","v":43990},{"$f":"+IF(C1804=\"\",\"\",IF(I1804=\"\",\"\",(IF(I1804<=L1804,\"A TIEMPO\",\"FUERA DE TIEMPO\"))))","v":"A TIEMPO"},{"$f":"IF(I1804=\"\",\"\",NETWORKDAYS([4]Hoja1!C1804+1,[4]Hoja1!P1804,DiasNOLaborables))","v":8},"",null,null,20]
[1794,20209050038412,43959,"CORREO ELECTRÓNICO","SOLICITUD DE INFORMACIÓN Y DOCUMENTOS","SOLICITUD DE INFORMACIÓN Y DOCUMENTOS","SI","SUBDIRECCIÓN DE ESTUDIOS AMBIENTALES",43958,null,null,{"$f":"IFERROR(WORKDAY(C1805,R1805,DiasNOLaborables),\"\")","v":43990},{"$f":"+IF(C1805=\"\",\"\",IF(I1805=\"\",\"\",(IF(I1805<=L1805,\"A TIEMPO\",\"FUERA DE TIEMPO\"))))","v":"A TIEMPO"},{"$f":"IF(I1805=\"\",\"\",NETWORKDAYS([4]Hoja1!C1805+1,[4]Hoja1!P1805,DiasNOLaborables))","v":9},"",null,null,20]
[1795,20209050038422,43959,"CORREO ELECTRÓNICO","SOLICITUD DE INFORMACIÓN Y DOCUMENTOS","SOLICITUD DE INFORMACIÓN Y DOCUMENTOS","SI","OFICINA DE INFORMÁTICA",43966,null,null,{"$f":"IFERROR(WORKDAY(C1806,R1806,DiasNOLaborables),\"\")","v":43990},{"$f":"+IF(C1806=\"\",\"\",IF(I1806=\"\",\"\",(IF(I1806<=L1806,\"A TIEMPO\",\"FUERA DE TIEMPO\"))))","v":"A TIEMPO"},{"$f":"IF(I1806=\"\",\"\",NETWORKDAYS([4]Hoja1!C1806+1,[4]Hoja1!P1806,DiasNOLaborables))","v":3},"",null,null,20]
[1796,20209050038432,43959,"CORREO ELECTRÓNICO","SOLICITUD DE INFORMACIÓN Y DOCUMENTOS","SOLICITUD DE INFORMACIÓN Y DOCUMENTOS","SI","OFICINA DE INFORMÁTICA",43966,null,null,{"$f":"IFERROR(WORKDAY(C1807,R1807,DiasNOLaborables),\"\")","v":43990},{"$f":"+IF(C1807=\"\",\"\",IF(I1807=\"\",\"\",(IF(I1807<=L1807,\"A TIEMPO\",\"FUERA DE TIEMPO\"))))","v":"A TIEMPO"},{"$f":"IF(I1807=\"\",\"\",NETWORKDAYS([4]Hoja1!C1807+1,[4]Hoja1!P1807,DiasNOLaborables))","v":3},"",null,null,20]
[1797,20209050038442,43959,"CORREO ELECTRÓNICO","SOLICITUD DE INFORMACIÓN Y DOCUMENTOS","SOLICITUD DE INFORMACIÓN Y DOCUMENTOS","SI","SUBDIRECCIÓN DE ESTUDIOS AMBIENTALES",43970,null,null,{"$f":"IFERROR(WORKDAY(C1808,R1808,DiasNOLaborables),\"\")","v":43990},{"$f":"+IF(C1808=\"\",\"\",IF(I1808=\"\",\"\",(IF(I1808<=L1808,\"A TIEMPO\",\"FUERA DE TIEMPO\"))))","v":"A TIEMPO"},{"$f":"IF(I1808=\"\",\"\",NETWORKDAYS([4]Hoja1!C1808+1,[4]Hoja1!P1808,DiasNOLaborables))","v":3},"",null,null,20]
[1798,20209050038462,43959,"CORREO ELECTRÓNICO","SOLICITUD DE INFORMACIÓN Y DOCUMENTOS","SOLICITUD DE INFORMACIÓN Y DOCUMENTOS","SI","GRUPO DE ADMINISTRACIÓN Y DESARROLLO DEL TALENTO HUMANO",43970,null,null,{"$f":"IFERROR(WORKDAY(C1809,R1809,DiasNOLaborables),\"\")","v":43990},{"$f":"+IF(C1809=\"\",\"\",IF(I1809=\"\",\"\",(IF(I1809<=L1809,\"A TIEMPO\",\"FUERA DE TIEMPO\"))))","v":"A TIEMPO"},{"$f":"IF(I1809=\"\",\"\",NETWORKDAYS([4]Hoja1!C1809+1,[4]Hoja1!P1809,DiasNOLaborables))","v":6},"",null,null,20]
[1799,20209910036602,43959,"CORREO ELECTRÓNICO","PETICIÓN","ADMINISTRATIVA","SI","GRUPO DE ADMINISTRACIÓN Y DESARROLLO DEL TALENTO HUMANO",43983,null,null,{"$f":"IFERROR(WORKDAY(C1810,R1810,DiasNOLaborables),\"\")","v":44006},{"$f":"+IF(C1810=\"\",\"\",IF(I1810=\"\",\"\",(IF(I1810<=L1810,\"A TIEMPO\",\"FUERA DE TIEMPO\"))))","v":"A TIEMPO"},{"$f":"IF(I1810=\"\",\"\",NETWORKDAYS([4]Hoja1!C1810+1,[4]Hoja1!P1810,DiasNOLaborables))","v":2},"",null,null,30]
[1800,20209050038472,43959,"CORREO ELECTRÓNICO","CERTIFICACIONES DE TIEMPO, CLIMA Y EVENTOS HIDROLÓGICOS","CERTIFICACIONES DE TIEMPO Y CLIMA","SI","SUBDIRECCIÓN DE METEOROLOGÍA",43966,null,null,{"$f":"IFERROR(WORKDAY(C1811,R1811,DiasNOLaborables),\"\")","v":44006},{"$f":"+IF(C1811=\"\",\"\",IF(I1811=\"\",\"\",(IF(I1811<=L1811,\"A TIEMPO\",\"FUERA DE TIEMPO\"))))","v":"A TIEMPO"},{"$f":"IF(I1811=\"\",\"\",NETWORKDAYS([4]Hoja1!C1811+1,[4]Hoja1!P1811,DiasNOLaborables))","v":2},"",null,null,30]
[1801,20209050038512,43959,"CORREO ELECTRÓNICO","SOLICITUD DE INFORMACIÓN Y DOCUMENTOS","SOLICITUD DE INFORMACIÓN Y DOCUMENTOS","SI","SUBDIRECCIÓN DE ESTUDIOS AMBIENTALES",43972,null,null,{"$f":"IFERROR(WORKDAY(C1812,R1812,DiasNOLaborables),\"\")","v":43990},{"$f":"+IF(C1812=\"\",\"\",IF(I1812=\"\",\"\",(IF(I1812<=L1812,\"A TIEMPO\",\"FUERA DE TIEMPO\"))))","v":"A TIEMPO"},{"$f":"IF(I1812=\"\",\"\",NETWORKDAYS([4]Hoja1!C1812+1,[4]Hoja1!P1812,DiasNOLaborables))","v":3},"",null,null,20]
[1802,20209050038542,43959,"CORREO ELECTRÓNICO","SOLICITUD DE INFORMACIÓN Y DOCUMENTOS","SOLICITUD DE INFORMACIÓN Y DOCUMENTOS","SI","SUBDIRECCIÓN DE METEOROLOGÍA",43963,null,null,{"$f":"IFERROR(WORKDAY(C1813,R1813,DiasNOLaborables),\"\")","v":43990},{"$f":"+IF(C1813=\"\",\"\",IF(I1813=\"\",\"\",(IF(I1813<=L1813,\"A TIEMPO\",\"FUERA DE TIEMPO\"))))","v":"A TIEMPO"},{"$f":"IF(I1813=\"\",\"\",NETWORKDAYS([4]Hoja1!C1813+1,[4]Hoja1!P1813,DiasNOLaborables))","v":3},"",null,null,20]
[1803,20209050038552,43959,"CORREO ELECTRÓNICO","SOLICITUD DE INFORMACIÓN Y DOCUMENTOS","SOLICITUD DE INFORMACIÓN Y DOCUMENTOS","SI","OFICINA DE INFORMÁTICA",43969,null,null,{"$f":"IFERROR(WORKDAY(C1814,R1814,DiasNOLaborables),\"\")","v":43990},{"$f":"+IF(C1814=\"\",\"\",IF(I1814=\"\",\"\",(IF(I1814<=L1814,\"A TIEMPO\",\"FUERA DE TIEMPO\"))))","v":"A TIEMPO"},{"$f":"IF(I1814=\"\",\"\",NETWORKDAYS([4]Hoja1!C1814+1,[4]Hoja1!P1814,DiasNOLaborables))","v":4},"",null,null,20]
[1804,20209050038602,43959,"CORREO ELECTRÓNICO","CERTIFICACIONES DE TIEMPO, CLIMA Y EVENTOS HIDROLÓGICOS","CERTIFICACIONES DE TIEMPO Y CLIMA","SI","SUBDIRECCIÓN DE METEOROLOGÍA",43979,null,null,{"$f":"IFERROR(WORKDAY(C1815,R1815,DiasNOLaborables),\"\")","v":44006},{"$f":"+IF(C1815=\"\",\"\",IF(I1815=\"\",\"\",(IF(I1815<=L1815,\"A TIEMPO\",\"FUERA DE TIEMPO\"))))","v":"A TIEMPO"},{"$f":"IF(I1815=\"\",\"\",NETWORKDAYS([4]Hoja1!C1815+1,[4]Hoja1!P1815,DiasNOLaborables))","v":2},"",null,null,30]
[1805,20209050038612,43959,"CORREO ELECTRÓNICO","SOLICITUD DE INFORMACIÓN Y DOCUMENTOS","REGISTROS AMBIENTALES","SI","SUBDIRECCIÓN DE ESTUDIOS AMBIENTALES",43959,null,null,{"$f":"IFERROR(WORKDAY(C1816,R1816,DiasNOLaborables),\"\")","v":43990},{"$f":"+IF(C1816=\"\",\"\",IF(I1816=\"\",\"\",(IF(I1816<=L1816,\"A TIEMPO\",\"FUERA DE TIEMPO\"))))","v":"A TIEMPO"},{"$f":"IF(I1816=\"\",\"\",NETWORKDAYS([4]Hoja1!C1816+1,[4]Hoja1!P1816,DiasNOLaborables))","v":2},"",null,null,20]
[1806,20209050038632,43959,"CORREO ELECTRÓNICO","SOLICITUD DE INFORMACIÓN Y DOCUMENTOS","SOLICITUD DE INFORMACIÓN Y DOCUMENTOS","SI","SUBDIRECCIÓN DE HIDROLOGÍA",43969,null,null,{"$f":"IFERROR(WORKDAY(C1817,R1817,DiasNOLaborables),\"\")","v":43990},{"$f":"+IF(C1817=\"\",\"\",IF(I1817=\"\",\"\",(IF(I1817<=L1817,\"A TIEMPO\",\"FUERA DE TIEMPO\"))))","v":"A TIEMPO"},{"$f":"IF(I1817=\"\",\"\",NETWORKDAYS([4]Hoja1!C1817+1,[4]Hoja1!P1817,DiasNOLaborables))","v":13},"",null,null,20]
[1807,20209050038362,43959,"MODULO CONTACTENOS","SOLICITUD DE INFORMACIÓN Y DOCUMENTOS","ADMINISTRATIVA","SI","GRUPO DE ADMINISTRACIÓN Y DESARROLLO DEL TALENTO HUMANO",43970,null,null,{"$f":"IFERROR(WORKDAY(C1818,R1818,DiasNOLaborables),\"\")","v":43990},{"$f":"+IF(C1818=\"\",\"\",IF(I1818=\"\",\"\",(IF(I1818<=L1818,\"A TIEMPO\",\"FUERA DE TIEMPO\"))))","v":"A TIEMPO"},{"$f":"IF(I1818=\"\",\"\",NETWORKDAYS([4]Hoja1!C1818+1,[4]Hoja1!P1818,DiasNOLaborables))","v":3},"",null,null,20]
[1808,20209050038372,43959,"MODULO CONTACTENOS","SOLICITUD DE INFORMACIÓN Y DOCUMENTOS","ADMINISTRATIVA","SI","OFICINA ASESORA JURÍDICA",43979,null,null,{"$f":"IFERROR(WORKDAY(C1819,R1819,DiasNOLaborables),\"\")","v":43990},{"$f":"+IF(C1819=\"\",\"\",IF(I1819=\"\",\"\",(IF(I1819<=L1819,\"A TIEMPO\",\"FUERA DE TIEMPO\"))))","v":"A TIEMPO"},{"$f":"IF(I1819=\"\",\"\",NETWORKDAYS([4]Hoja1!C1819+1,[4]Hoja1!P1819,DiasNOLaborables))","v":5},"",null,null,20]
[1809,20209050038502,43959,"MODULO CONTACTENOS","SOLICITUD DE INFORMACIÓN Y DOCUMENTOS","ADMINISTRATIVA","SI","GRUPO DE ADMINISTRACIÓN Y DESARROLLO DEL TALENTO HUMANO",43972,null,null,{"$f":"IFERROR(WORKDAY(C1820,R1820,DiasNOLaborables),\"\")","v":43990},{"$f":"+IF(C1820=\"\",\"\",IF(I1820=\"\",\"\",(IF(I1820<=L1820,\"A TIEMPO\",\"FUERA DE TIEMPO\"))))","v":"A TIEMPO"},{"$f":"IF(I1820=\"\",\"\",NETWORKDAYS([4]Hoja1!C1820+1,[4]Hoja1!P1820,DiasNOLaborables))","v":3},"",null,null,20]
[1810,20209050038522,43959,"MODULO CONTACTENOS","SOLICITUD DE INFORMACIÓN Y DOCUMENTOS","ADMINISTRATIVA","SI","GRUPO DE ADMINISTRACIÓN Y DESARROLLO DEL TALENTO HUMANO",43962,null,null,{"$f":"IFERROR(WORKDAY(C1821,R1821,DiasNOLaborables),\"\")","v":43990},{"$f":"+IF(C1821=\"\",\"\",IF(I1821=\"\",\"\",(IF(I1821<=L1821,\"A TIEMPO\",\"FUERA DE TIEMPO\"))))","v":"A TIEMPO"},{"$f":"IF(I1821=\"\",\"\",NETWORKDAYS([4]Hoja1!C1821+1,[4]Hoja1!P1821,DiasNOLaborables))","v":-2},"",null,null,20]
[1811,20209050038342,43959,"CORREO ELECTRÓNICO","SOLICITUD DE INFORMACIÓN Y DOCUMENTOS","SOLICITUD DE INFORMACIÓN HIDROMETEOROLÓGICA","NO","GRUPO DE ATENCIÓN AL CIUDADANO",43966,null,null,{"$f":"IFERROR(WORKDAY(C1822,R1822,DiasNOLaborables),\"\")","v":43990},{"$f":"+IF(C1822=\"\",\"\",IF(I1822=\"\",\"\",(IF(I1822<=L1822,\"A TIEMPO\",\"FUERA DE TIEMPO\"))))","v":"A TIEMPO"},{"$f":"IF(I1822=\"\",\"\",NETWORKDAYS([4]Hoja1!C1822+1,[4]Hoja1!P1822,DiasNOLaborables))","v":5},"",null,null,20]
[1812,20209050038352,43959,"CORREO ELECTRÓNICO","SOLICITUD DE INFORMACIÓN Y DOCUMENTOS","SOLICITUD DE INFORMACIÓN HIDROMETEOROLÓGICA","NO","GRUPO DE ATENCIÓN AL CIUDADANO",43966,null,null,{"$f":"IFERROR(WORKDAY(C1823,R1823,DiasNOLaborables),\"\")","v":43990},{"$f":"+IF(C1823=\"\",\"\",IF(I1823=\"\",\"\",(IF(I1823<=L1823,\"A TIEMPO\",\"FUERA DE TIEMPO\"))))","v":"A TIEMPO"},{"$f":"IF(I1823=\"\",\"\",NETWORKDAYS([4]Hoja1!C1823+1,[4]Hoja1!P1823,DiasNOLaborables))","v":1},"",null,null,20]
[1813,20209050038382,43959,"CORREO ELECTRÓNICO","SOLICITUD DE INFORMACIÓN Y DOCUMENTOS","SOLICITUD DE INFORMACIÓN HIDROMETEOROLÓGICA","NO","GRUPO DE ATENCIÓN AL CIUDADANO",43966,null,null,{"$f":"IFERROR(WORKDAY(C1824,R1824,DiasNOLaborables),\"\")","v":43990},{"$f":"+IF(C1824=\"\",\"\",IF(I1824=\"\",\"\",(IF(I1824<=L1824,\"A TIEMPO\",\"FUERA DE TIEMPO\"))))","v":"A TIEMPO"},{"$f":"IF(I1824=\"\",\"\",NETWORKDAYS([4]Hoja1!C1824+1,[4]Hoja1!P1824,DiasNOLaborables))","v":5},"",null,null,20]
[1814,20209050038392,43959,"CORREO ELECTRÓNICO","SOLICITUD DE INFORMACIÓN Y DOCUMENTOS","SOLICITUD DE INFORMACIÓN HIDROMETEOROLÓGICA","NO","GRUPO DE ATENCIÓN AL CIUDADANO",43966,null,null,{"$f":"IFERROR(WORKDAY(C1825,R1825,DiasNOLaborables),\"\")","v":43990},{"$f":"+IF(C1825=\"\",\"\",IF(I1825=\"\",\"\",(IF(I1825<=L1825,\"A TIEMPO\",\"FUERA DE TIEMPO\"))))","v":"A TIEMPO"},{"$f":"IF(I1825=\"\",\"\",NETWORKDAYS([4]Hoja1!C1825+1,[4]Hoja1!P1825,DiasNOLaborables))","v":3},"",null,null,20]
[1815,20209050038452,43959,"CORREO ELECTRÓNICO","SOLICITUD DE INFORMACIÓN Y DOCUMENTOS","SOLICITUD DE INFORMACIÓN HIDROMETEOROLÓGICA","NO","GRUPO DE ATENCIÓN AL CIUDADANO",43966,null,null,{"$f":"IFERROR(WORKDAY(C1826,R1826,DiasNOLaborables),\"\")","v":43990},{"$f":"+IF(C1826=\"\",\"\",IF(I1826=\"\",\"\",(IF(I1826<=L1826,\"A TIEMPO\",\"FUERA DE TIEMPO\"))))","v":"A TIEMPO"},{"$f":"IF(I1826=\"\",\"\",NETWORKDAYS([4]Hoja1!C1826+1,[4]Hoja1!P1826,DiasNOLaborables))","v":2},"",null,null,20]
[1816,20209050038672,43959,"MODULO CONTACTENOS","CERTIFICACIONES DE TIEMPO, CLIMA Y EVENTOS HIDROLÓGICOS","CERTIFICACIONES DE TIEMPO Y CLIMA","SI","SUBDIRECCIÓN DE METEOROLOGÍA",43966,null,null,{"$f":"IFERROR(WORKDAY(C1827,R1827,DiasNOLaborables),\"\")","v":44006},{"$f":"+IF(C1827=\"\",\"\",IF(I1827=\"\",\"\",(IF(I1827<=L1827,\"A TIEMPO\",\"FUERA DE TIEMPO\"))))","v":"A TIEMPO"},{"$f":"IF(I1827=\"\",\"\",NETWORKDAYS([4]Hoja1!C1827+1,[4]Hoja1!P1827,DiasNOLaborables))","v":2},"",null,null,30]
[1817,20209050038802,43962,"MODULO CONTACTENOS","SOLICITUD DE INFORMACIÓN Y DOCUMENTOS","INFORMES AMBIENTALES","SI","SUBDIRECCIÓN DE ESTUDIOS AMBIENTALES",43977,null,null,{"$f":"IFERROR(WORKDAY(C1828,R1828,DiasNOLaborables),\"\")","v":43991},{"$f":"+IF(C1828=\"\",\"\",IF(I1828=\"\",\"\",(IF(I1828<=L1828,\"A TIEMPO\",\"FUERA DE TIEMPO\"))))","v":"A TIEMPO"},{"$f":"IF(I1828=\"\",\"\",NETWORKDAYS([4]Hoja1!C1828+1,[4]Hoja1!P1828,DiasNOLaborables))","v":11},"",null,null,20]
[1818,20209050038842,43962,"MODULO CONTACTENOS","SOLICITUD DE INFORMACIÓN Y DOCUMENTOS","ADMINISTRATIVA","SI","GRUPO DE TESORERÍA",43965,null,null,{"$f":"IFERROR(WORKDAY(C1829,R1829,DiasNOLaborables),\"\")","v":43991},{"$f":"+IF(C1829=\"\",\"\",IF(I1829=\"\",\"\",(IF(I1829<=L1829,\"A TIEMPO\",\"FUERA DE TIEMPO\"))))","v":"A TIEMPO"},{"$f":"IF(I1829=\"\",\"\",NETWORKDAYS([4]Hoja1!C1829+1,[4]Hoja1!P1829,DiasNOLaborables))","v":9},"",null,null,20]
[1819,20209050039182,43962,"MODULO CONTACTENOS","SOLICITUD DE INFORMACIÓN Y DOCUMENTOS","ADMINISTRATIVA","SI","GRUPO DE TESORERÍA",43965,null,null,{"$f":"IFERROR(WORKDAY(C1830,R1830,DiasNOLaborables),\"\")","v":43991},{"$f":"+IF(C1830=\"\",\"\",IF(I1830=\"\",\"\",(IF(I1830<=L1830,\"A TIEMPO\",\"FUERA DE TIEMPO\"))))","v":"A TIEMPO"},{"$f":"IF(I1830=\"\",\"\",NETWORKDAYS([4]Hoja1!C1830+1,[4]Hoja1!P1830,DiasNOLaborables))","v":11},"",null,null,20]
[1820,20209050039222,43962,"MODULO CONTACTENOS","SOLICITUD DE INFORMACIÓN Y DOCUMENTOS","BOSQUES","SI","GRUPO DE GESTIÓN DOCUMENTAL Y CENTRO DE DOCUMENTACIÓN",43964,null,null,{"$f":"IFERROR(WORKDAY(C1831,R1831,DiasNOLaborables),\"\")","v":43991},{"$f":"+IF(C1831=\"\",\"\",IF(I1831=\"\",\"\",(IF(I1831<=L1831,\"A TIEMPO\",\"FUERA DE TIEMPO\"))))","v":"A TIEMPO"},{"$f":"IF(I1831=\"\",\"\",NETWORKDAYS([4]Hoja1!C1831+1,[4]Hoja1!P1831,DiasNOLaborables))","v":8},"",null,null,20]
[1821,20209050039452,43962,"MODULO CONTACTENOS","SOLICITUD DE INFORMACIÓN Y DOCUMENTOS","CLIMATOLOGÍA","SI","SUBDIRECCIÓN DE METEOROLOGÍA",43971,null,null,{"$f":"IFERROR(WORKDAY(C1832,R1832,DiasNOLaborables),\"\")","v":43991},{"$f":"+IF(C1832=\"\",\"\",IF(I1832=\"\",\"\",(IF(I1832<=L1832,\"A TIEMPO\",\"FUERA DE TIEMPO\"))))","v":"A TIEMPO"},{"$f":"IF(I1832=\"\",\"\",NETWORKDAYS([4]Hoja1!C1832+1,[4]Hoja1!P1832,DiasNOLaborables))","v":3},"",null,null,20]
[1822,20209050038902,43962,"CORREO ELECTRÓNICO","SOLICITUD DE INFORMACIÓN Y DOCUMENTOS","SOLICITUD DE INFORMACIÓN Y DOCUMENTOS","SI","SUBDIRECCIÓN DE METEOROLOGÍA",43963,null,null,{"$f":"IFERROR(WORKDAY(C1833,R1833,DiasNOLaborables),\"\")","v":43991},{"$f":"+IF(C1833=\"\",\"\",IF(I1833=\"\",\"\",(IF(I1833<=L1833,\"A TIEMPO\",\"FUERA DE TIEMPO\"))))","v":"A TIEMPO"},{"$f":"IF(I1833=\"\",\"\",NETWORKDAYS([4]Hoja1!C1833+1,[4]Hoja1!P1833,DiasNOLaborables))","v":14},"",null,null,20]
[1823,20209050038912,43962,"CORREO ELECTRÓNICO","CERTIFICACIONES DE TIEMPO, CLIMA Y EVENTOS HIDROLÓGICOS","CERTIFICACIONES DE TIEMPO Y CLIMA","SI","SUBDIRECCIÓN DE METEOROLOGÍA",43970,null,null,{"$f":"IFERROR(WORKDAY(C1834,R1834,DiasNOLaborables),\"\")","v":44007},{"$f":"+IF(C1834=\"\",\"\",IF(I1834=\"\",\"\",(IF(I1834<=L1834,\"A TIEMPO\",\"FUERA DE TIEMPO\"))))","v":"A TIEMPO"},{"$f":"IF(I1834=\"\",\"\",NETWORKDAYS([4]Hoja1!C1834+1,[4]Hoja1!P1834,DiasNOLaborables))","v":6},"",null,null,30]
[1824,20209050038922,43962,"CORREO ELECTRÓNICO","CERTIFICACIONES DE TIEMPO, CLIMA Y EVENTOS HIDROLÓGICOS","CERTIFICACIONES DE TIEMPO Y CLIMA","SI","SUBDIRECCIÓN DE METEOROLOGÍA",43979,null,null,{"$f":"IFERROR(WORKDAY(C1835,R1835,DiasNOLaborables),\"\")","v":44007},{"$f":"+IF(C1835=\"\",\"\",IF(I1835=\"\",\"\",(IF(I1835<=L1835,\"A TIEMPO\",\"FUERA DE TIEMPO\"))))","v":"A TIEMPO"},{"$f":"IF(I1835=\"\",\"\",NETWORKDAYS([4]Hoja1!C1835+1,[4]Hoja1!P1835,DiasNOLaborables))","v":7},"",null,null,30]
[1825,20209050038932,43962,"CORREO ELECTRÓNICO","SOLICITUD DE INFORMACIÓN Y DOCUMENTOS","SOLICITUD DE INFORMACIÓN Y DOCUMENTOS","SI","SUBDIRECCIÓN DE ECOSISTEMAS E INFORMACIÓN AMBIENTAL",43965,null,null,{"$f":"IFERROR(WORKDAY(C1836,R1836,DiasNOLaborables),\"\")","v":43991},{"$f":"+IF(C1836=\"\",\"\",IF(I1836=\"\",\"\",(IF(I1836<=L1836,\"A TIEMPO\",\"FUERA DE TIEMPO\"))))","v":"A TIEMPO"},{"$f":"IF(I1836=\"\",\"\",NETWORKDAYS([4]Hoja1!C1836+1,[4]Hoja1!P1836,DiasNOLaborables))","v":5},"",null,null,20]
[1826,20209050038962,43962,"CORREO ELECTRÓNICO","CERTIFICACIONES DE TIEMPO, CLIMA Y EVENTOS HIDROLÓGICOS","CERTIFICACIONES DE TIEMPO Y CLIMA","SI","SUBDIRECCIÓN DE METEOROLOGÍA",43973,null,null,{"$f":"IFERROR(WORKDAY(C1837,R1837,DiasNOLaborables),\"\")","v":44007},{"$f":"+IF(C1837=\"\",\"\",IF(I1837=\"\",\"\",(IF(I1837<=L1837,\"A TIEMPO\",\"FUERA DE TIEMPO\"))))","v":"A TIEMPO"},{"$f":"IF(I1837=\"\",\"\",NETWORKDAYS([4]Hoja1!C1837+1,[4]Hoja1!P1837,DiasNOLaborables))","v":10},"",null,null,30]
[1827,20209050038992,43962,"CORREO ELECTRÓNICO","SOLICITUD DE INFORMACIÓN Y DOCUMENTOS","SOLICITUD DE INFORMACIÓN Y DOCUMENTOS","SI","SUBDIRECCIÓN DE ESTUDIOS AMBIENTALES",43963,null,null,{"$f":"IFERROR(WORKDAY(C1838,R1838,DiasNOLaborables),\"\")","v":43991},{"$f":"+IF(C1838=\"\",\"\",IF(I1838=\"\",\"\",(IF(I1838<=L1838,\"A TIEMPO\",\"FUERA DE TIEMPO\"))))","v":"A TIEMPO"},{"$f":"IF(I1838=\"\",\"\",NETWORKDAYS([4]Hoja1!C1838+1,[4]Hoja1!P1838,DiasNOLaborables))","v":2},"",null,null,20]
[1828,20209050039032,43962,"CORREO ELECTRÓNICO","SOLICITUD DE INFORMACIÓN Y DOCUMENTOS","SOLICITUD DE INFORMACIÓN Y DOCUMENTOS","SI","SUBDIRECCIÓN DE ECOSISTEMAS E INFORMACIÓN AMBIENTAL",43962,null,null,{"$f":"IFERROR(WORKDAY(C1839,R1839,DiasNOLaborables),\"\")","v":43991},{"$f":"+IF(C1839=\"\",\"\",IF(I1839=\"\",\"\",(IF(I1839<=L1839,\"A TIEMPO\",\"FUERA DE TIEMPO\"))))","v":"A TIEMPO"},{"$f":"IF(I1839=\"\",\"\",NETWORKDAYS([4]Hoja1!C1839+1,[4]Hoja1!P1839,DiasNOLaborables))","v":10},"",null,null,20]
[1829,20209050039042,43962,"CORREO ELECTRÓNICO","SOLICITUD DE INFORMACIÓN Y DOCUMENTOS","SOLICITUD DE INFORMACIÓN Y DOCUMENTOS","SI","OFICINA DE INFORMÁTICA",43978,null,null,{"$f":"IFERROR(WORKDAY(C1840,R1840,DiasNOLaborables),\"\")","v":43991},{"$f":"+IF(C1840=\"\",\"\",IF(I1840=\"\",\"\",(IF(I1840<=L1840,\"A TIEMPO\",\"FUERA DE TIEMPO\"))))","v":"A TIEMPO"},{"$f":"IF(I1840=\"\",\"\",NETWORKDAYS([4]Hoja1!C1840+1,[4]Hoja1!P1840,DiasNOLaborables))","v":7},"",null,null,20]
[1830,20209050039072,43962,"CORREO ELECTRÓNICO","SOLICITUD DE INFORMACIÓN Y DOCUMENTOS","SOLICITUD DE INFORMACIÓN Y DOCUMENTOS","SI","SUBDIRECCIÓN DE METEOROLOGÍA",43979,null,null,{"$f":"IFERROR(WORKDAY(C1841,R1841,DiasNOLaborables),\"\")","v":43991},{"$f":"+IF(C1841=\"\",\"\",IF(I1841=\"\",\"\",(IF(I1841<=L1841,\"A TIEMPO\",\"FUERA DE TIEMPO\"))))","v":"A TIEMPO"},{"$f":"IF(I1841=\"\",\"\",NETWORKDAYS([4]Hoja1!C1841+1,[4]Hoja1!P1841,DiasNOLaborables))","v":5},"",null,null,20]
[{"$f":"IF(B1840<>\"\",A1841+1,\"\")","v":1831},20209050039092,43962,"CORREO ELECTRÓNICO","SOLICITUD DE INFORMACIÓN Y DOCUMENTOS","SOLICITUD DE INFORMACIÓN Y DOCUMENTOS","SI","SUBDIRECCIÓN DE ECOSISTEMAS E INFORMACIÓN AMBIENTAL",43963,null,null,{"$f":"IFERROR(WORKDAY(C1842,R1842,DiasNOLaborables),\"\")","v":43991},{"$f":"+IF(C1842=\"\",\"\",IF(I1842=\"\",\"\",(IF(I1842<=L1842,\"A TIEMPO\",\"FUERA DE TIEMPO\"))))","v":"A TIEMPO"},{"$f":"IF(I1842=\"\",\"\",NETWORKDAYS([4]Hoja1!C1842+1,[4]Hoja1!P1842,DiasNOLaborables))","v":2},"",null,null,20]
[1832,20209050039102,43962,"CORREO ELECTRÓNICO","CERTIFICACIONES DE TIEMPO, CLIMA Y EVENTOS HIDROLÓGICOS","CERTIFICACIONES DE TIEMPO Y CLIMA","SI","SUBDIRECCIÓN DE METEOROLOGÍA",43979,null,null,{"$f":"IFERROR(WORKDAY(C1843,R1843,DiasNOLaborables),\"\")","v":44007},{"$f":"+IF(C1843=\"\",\"\",IF(I1843=\"\",\"\",(IF(I1843<=L1843,\"A TIEMPO\",\"FUERA DE TIEMPO\"))))","v":"A TIEMPO"},{"$f":"IF(I1843=\"\",\"\",NETWORKDAYS([4]Hoja1!C1843+1,[4]Hoja1!P1843,DiasNOLaborables))","v":6},"",null,null,30]
[1833,20209050039112,43962,"CORREO ELECTRÓNICO","CERTIFICACIONES DE TIEMPO, CLIMA Y EVENTOS HIDROLÓGICOS","CERTIFICACIONES DE TIEMPO Y CLIMA","SI","SUBDIRECCIÓN DE METEOROLOGÍA",43970,null,null,{"$f":"IFERROR(WORKDAY(C1844,R1844,DiasNOLaborables),\"\")","v":44007},{"$f":"+IF(C1844=\"\",\"\",IF(I1844=\"\",\"\",(IF(I1844<=L1844,\"A TIEMPO\",\"FUERA DE TIEMPO\"))))","v":"A TIEMPO"},{"$f":"IF(I1844=\"\",\"\",NETWORKDAYS([4]Hoja1!C1844+1,[4]Hoja1!P1844,DiasNOLaborables))","v":3},{"$f":"IF(NETWORKDAYS(L1844+1,I1844,DiasNOLaborables)<=0,\"\",NETWORKDAYS(L1844+1,I1844,DiasNOLaborables))","v":""},null,null,30]
[1834,20209050039152,43962,"CORREO ELECTRÓNICO","CERTIFICACIONES DE TIEMPO, CLIMA Y EVENTOS HIDROLÓGICOS","CERTIFICACIONES DE TIEMPO Y CLIMA","SI","SUBDIRECCIÓN DE METEOROLOGÍA",43970,null,null,{"$f":"IFERROR(WORKDAY(C1845,R1845,DiasNOLaborables),\"\")","v":44007},{"$f":"+IF(C1845=\"\",\"\",IF(I1845=\"\",\"\",(IF(I1845<=L1845,\"A TIEMPO\",\"FUERA DE TIEMPO\"))))","v":"A TIEMPO"},{"$f":"IF(I1845=\"\",\"\",NETWORKDAYS([4]Hoja1!C1845+1,[4]Hoja1!P1845,DiasNOLaborables))","v":10},"",null,null,30]
[1835,20209050039162,43962,"CORREO ELECTRÓNICO","SOLICITUD DE INFORMACIÓN Y DOCUMENTOS","ADMINISTRATIVA","SI","GRUPO DE ADMINISTRACIÓN Y DESARROLLO DEL TALENTO HUMANO",43962,null,null,{"$f":"IFERROR(WORKDAY(C1846,R1846,DiasNOLaborables),\"\")","v":43991},{"$f":"+IF(C1846=\"\",\"\",IF(I1846=\"\",\"\",(IF(I1846<=L1846,\"A TIEMPO\",\"FUERA DE TIEMPO\"))))","v":"A TIEMPO"},{"$f":"IF(I1846=\"\",\"\",NETWORKDAYS([4]Hoja1!C1846+1,[4]Hoja1!P1846,DiasNOLaborables))","v":12},"",null,null,20]
[1836,20209050039292,43962,"CORREO ELECTRÓNICO","SOLICITUD DE INFORMACIÓN Y DOCUMENTOS","SOLICITUD DE INFORMACIÓN Y DOCUMENTOS","SI","SUBDIRECCIÓN DE HIDROLOGÍA",43978,null,null,{"$f":"IFERROR(WORKDAY(C1847,R1847,DiasNOLaborables),\"\")","v":43991},{"$f":"+IF(C1847=\"\",\"\",IF(I1847=\"\",\"\",(IF(I1847<=L1847,\"A TIEMPO\",\"FUERA DE TIEMPO\"))))","v":"A TIEMPO"},{"$f":"IF(I1847=\"\",\"\",NETWORKDAYS([4]Hoja1!C1847+1,[4]Hoja1!P1847,DiasNOLaborables))","v":14},"",null,null,20]
[1837,20209050039302,43962,"CORREO ELECTRÓNICO","SOLICITUD DE INFORMACIÓN Y DOCUMENTOS","SOLICITUD DE INFORMACIÓN Y DOCUMENTOS","SI","SUBDIRECCIÓN DE HIDROLOGÍA",43970,null,null,{"$f":"IFERROR(WORKDAY(C1848,R1848,DiasNOLaborables),\"\")","v":43991},{"$f":"+IF(C1848=\"\",\"\",IF(I1848=\"\",\"\",(IF(I1848<=L1848,\"A TIEMPO\",\"FUERA DE TIEMPO\"))))","v":"A TIEMPO"},{"$f":"IF(I1848=\"\",\"\",NETWORKDAYS([4]Hoja1!C1848+1,[4]Hoja1!P1848,DiasNOLaborables))","v":13},"",null,null,20]
[1838,20209050039322,43962,"CORREO ELECTRÓNICO","SOLICITUD DE INFORMACIÓN Y DOCUMENTOS","SOLICITUD DE INFORMACIÓN Y DOCUMENTOS","SI","SUBDIRECCIÓN DE ESTUDIOS AMBIENTALES",43984,null,null,{"$f":"IFERROR(WORKDAY(C1849,R1849,DiasNOLaborables),\"\")","v":43991},{"$f":"+IF(C1849=\"\",\"\",IF(I1849=\"\",\"\",(IF(I1849<=L1849,\"A TIEMPO\",\"FUERA DE TIEMPO\"))))","v":"A TIEMPO"},{"$f":"IF(I1849=\"\",\"\",NETWORKDAYS([4]Hoja1!C1849+1,[4]Hoja1!P1849,DiasNOLaborables))","v":3},"",null,null,20]
[1839,20209050039332,43962,"CORREO ELECTRÓNICO","SOLICITUD DE INFORMACIÓN Y DOCUMENTOS","SOLICITUD DE INFORMACIÓN Y DOCUMENTOS","SI","SUBDIRECCIÓN DE ECOSISTEMAS E INFORMACIÓN AMBIENTAL",43973,null,null,{"$f":"IFERROR(WORKDAY(C1850,R1850,DiasNOLaborables),\"\")","v":43991},{"$f":"+IF(C1850=\"\",\"\",IF(I1850=\"\",\"\",(IF(I1850<=L1850,\"A TIEMPO\",\"FUERA DE TIEMPO\"))))","v":"A TIEMPO"},{"$f":"IF(I1850=\"\",\"\",NETWORKDAYS([4]Hoja1!C1850+1,[4]Hoja1!P1850,DiasNOLaborables))","v":13},"",null,null,20]
[1840,20209050039342,43962,"CORREO ELECTRÓNICO","SOLICITUD DE INFORMACIÓN Y DOCUMENTOS","SOLICITUD DE INFORMACIÓN Y DOCUMENTOS","SI","OFICINA DE INFORMÁTICA",43972,null,null,{"$f":"IFERROR(WORKDAY(C1851,R1851,DiasNOLaborables),\"\")","v":43991},{"$f":"+IF(C1851=\"\",\"\",IF(I1851=\"\",\"\",(IF(I1851<=L1851,\"A TIEMPO\",\"FUERA DE TIEMPO\"))))","v":"A TIEMPO"},{"$f":"IF(I1851=\"\",\"\",NETWORKDAYS([4]Hoja1!C1851+1,[4]Hoja1!P1851,DiasNOLaborables))","v":2},"",null,null,20]
[1841,20209050039372,43962,"CORREO ELECTRÓNICO","SOLICITUD DE INFORMACIÓN Y DOCUMENTOS","SOLICITUD DE INFORMACIÓN Y DOCUMENTOS","SI","SUBDIRECCIÓN DE ESTUDIOS AMBIENTALES",43962,null,null,{"$f":"IFERROR(WORKDAY(C1852,R1852,DiasNOLaborables),\"\")","v":43991},{"$f":"+IF(C1852=\"\",\"\",IF(I1852=\"\",\"\",(IF(I1852<=L1852,\"A TIEMPO\",\"FUERA DE TIEMPO\"))))","v":"A TIEMPO"},{"$f":"IF(I1852=\"\",\"\",NETWORKDAYS([4]Hoja1!C1852+1,[4]Hoja1!P1852,DiasNOLaborables))","v":2},"",null,null,20]
[1842,20209050039532,43962,"CORREO ELECTRÓNICO","SOLICITUD DE INFORMACIÓN Y DOCUMENTOS","SOLICITUD DE INFORMACIÓN Y DOCUMENTOS","SI","OFICINA DE INFORMÁTICA",43972,null,null,{"$f":"IFERROR(WORKDAY(C1853,R1853,DiasNOLaborables),\"\")","v":43991},{"$f":"+IF(C1853=\"\",\"\",IF(I1853=\"\",\"\",(IF(I1853<=L1853,\"A TIEMPO\",\"FUERA DE TIEMPO\"))))","v":"A TIEMPO"},{"$f":"IF(I1853=\"\",\"\",NETWORKDAYS([4]Hoja1!C1853+1,[4]Hoja1!P1853,DiasNOLaborables))","v":2},"",null,null,20]
[1843,20209050039582,43962,"CORREO ELECTRÓNICO","SOLICITUD DE INFORMACIÓN Y DOCUMENTOS","ADMINISTRATIVA","SI","OFICINA ASESORA JURÍDICA",43978,null,null,{"$f":"IFERROR(WORKDAY(C1854,R1854,DiasNOLaborables),\"\")","v":43991},{"$f":"+IF(C1854=\"\",\"\",IF(I1854=\"\",\"\",(IF(I1854<=L1854,\"A TIEMPO\",\"FUERA DE TIEMPO\"))))","v":"A TIEMPO"},{"$f":"IF(I1854=\"\",\"\",NETWORKDAYS([4]Hoja1!C1854+1,[4]Hoja1!P1854,DiasNOLaborables))","v":3},"",null,null,20]
[1844,20209050039602,43962,"CORREO ELECTRÓNICO","SOLICITUD DE INFORMACIÓN Y DOCUMENTOS","SOLICITUD DE INFORMACIÓN Y DOCUMENTOS","SI","SUBDIRECCIÓN DE HIDROLOGÍA",43972,null,null,{"$f":"IFERROR(WORKDAY(C1855,R1855,DiasNOLaborables),\"\")","v":43991},{"$f":"+IF(C1855=\"\",\"\",IF(I1855=\"\",\"\",(IF(I1855<=L1855,\"A TIEMPO\",\"FUERA DE TIEMPO\"))))","v":"A TIEMPO"},{"$f":"IF(I1855=\"\",\"\",NETWORKDAYS([4]Hoja1!C1855+1,[4]Hoja1!P1855,DiasNOLaborables))","v":3},"",null,null,20]
[1845,20209050039612,43962,"CORREO ELECTRÓNICO","CERTIFICACIONES DE TIEMPO, CLIMA Y EVENTOS HIDROLÓGICOS","CERTIFICACIONES DE TIEMPO Y CLIMA","SI","SUBDIRECCIÓN DE METEOROLOGÍA",43971,null,null,{"$f":"IFERROR(WORKDAY(C1856,R1856,DiasNOLaborables),\"\")","v":44007},{"$f":"+IF(C1856=\"\",\"\",IF(I1856=\"\",\"\",(IF(I1856<=L1856,\"A TIEMPO\",\"FUERA DE TIEMPO\"))))","v":"A TIEMPO"},{"$f":"IF(I1856=\"\",\"\",NETWORKDAYS([4]Hoja1!C1856+1,[4]Hoja1!P1856,DiasNOLaborables))","v":3},"",null,null,30]
[1846,20209050039622,43962,"CORREO ELECTRÓNICO","SOLICITUD DE INFORMACIÓN Y DOCUMENTOS","SOLICITUD DE INFORMACIÓN Y DOCUMENTOS","SI","SUBDIRECCIÓN DE ESTUDIOS AMBIENTALES",43965,null,null,{"$f":"IFERROR(WORKDAY(C1857,R1857,DiasNOLaborables),\"\")","v":43991},{"$f":"+IF(C1857=\"\",\"\",IF(I1857=\"\",\"\",(IF(I1857<=L1857,\"A TIEMPO\",\"FUERA DE TIEMPO\"))))","v":"A TIEMPO"},{"$f":"IF(I1857=\"\",\"\",NETWORKDAYS([4]Hoja1!C1857+1,[4]Hoja1!P1857,DiasNOLaborables))","v":4},"",null,null,20]
[1847,20209050039632,43962,"CORREO ELECTRÓNICO","SOLICITUD DE INFORMACIÓN Y DOCUMENTOS","SOLICITUD DE INFORMACIÓN Y DOCUMENTOS","SI","SUBDIRECCIÓN DE ESTUDIOS AMBIENTALES",43976,null,null,{"$f":"IFERROR(WORKDAY(C1858,R1858,DiasNOLaborables),\"\")","v":43991},{"$f":"+IF(C1858=\"\",\"\",IF(I1858=\"\",\"\",(IF(I1858<=L1858,\"A TIEMPO\",\"FUERA DE TIEMPO\"))))","v":"A TIEMPO"},{"$f":"IF(I1858=\"\",\"\",NETWORKDAYS([4]Hoja1!C1858+1,[4]Hoja1!P1858,DiasNOLaborables))","v":8},"",null,null,20]
[1848,20209050039652,43962,"CORREO ELECTRÓNICO","SOLICITUD DE INFORMACIÓN Y DOCUMENTOS","SOLICITUD DE INFORMACIÓN Y DOCUMENTOS","SI","SUBDIRECCIÓN DE METEOROLOGÍA",43977,null,null,{"$f":"IFERROR(WORKDAY(C1859,R1859,DiasNOLaborables),\"\")","v":43991},{"$f":"+IF(C1859=\"\",\"\",IF(I1859=\"\",\"\",(IF(I1859<=L1859,\"A TIEMPO\",\"FUERA DE TIEMPO\"))))","v":"A TIEMPO"},{"$f":"IF(I1859=\"\",\"\",NETWORKDAYS([4]Hoja1!C1859+1,[4]Hoja1!P1859,DiasNOLaborables))","v":8},"",null,null,20]
[1849,20209050039662,43962,"CORREO ELECTRÓNICO","SOLICITUD DE INFORMACIÓN Y DOCUMENTOS","REGISTROS AMBIENTALES","SI","SUBDIRECCIÓN DE ESTUDIOS AMBIENTALES",43963,null,null,{"$f":"IFERROR(WORKDAY(C1860,R1860,DiasNOLaborables),\"\")","v":43991},{"$f":"+IF(C1860=\"\",\"\",IF(I1860=\"\",\"\",(IF(I1860<=L1860,\"A TIEMPO\",\"FUERA DE TIEMPO\"))))","v":"A TIEMPO"},{"$f":"IF(I1860=\"\",\"\",NETWORKDAYS([4]Hoja1!C1860+1,[4]Hoja1!P1860,DiasNOLaborables))","v":8},"",null,null,20]
[1850,20209050039682,43962,"CORREO ELECTRÓNICO","CERTIFICACIONES DE TIEMPO, CLIMA Y EVENTOS HIDROLÓGICOS","CERTIFICACIONES DE TIEMPO Y CLIMA","SI","SUBDIRECCIÓN DE METEOROLOGÍA",43970,null,null,{"$f":"IFERROR(WORKDAY(C1861,R1861,DiasNOLaborables),\"\")","v":44007},{"$f":"+IF(C1861=\"\",\"\",IF(I1861=\"\",\"\",(IF(I1861<=L1861,\"A TIEMPO\",\"FUERA DE TIEMPO\"))))","v":"A TIEMPO"},{"$f":"IF(I1861=\"\",\"\",NETWORKDAYS([4]Hoja1!C1861+1,[4]Hoja1!P1861,DiasNOLaborables))","v":9},"",null,null,30]
[1851,20209050038782,43962,"CORREO ELECTRÓNICO","SOLICITUD DE INFORMACIÓN Y DOCUMENTOS","SOLICITUD DE INFORMACIÓN HIDROMETEOROLÓGICA","NO","GRUPO DE ATENCIÓN AL CIUDADANO",43967,null,null,{"$f":"IFERROR(WORKDAY(C1862,R1862,DiasNOLaborables),\"\")","v":43991},{"$f":"+IF(C1862=\"\",\"\",IF(I1862=\"\",\"\",(IF(I1862<=L1862,\"A TIEMPO\",\"FUERA DE TIEMPO\"))))","v":"A TIEMPO"},{"$f":"IF(I1862=\"\",\"\",NETWORKDAYS([4]Hoja1!C1862+1,[4]Hoja1!P1862,DiasNOLaborables))","v":9},"",null,null,{"$f":"IFERROR(VLOOKUP(E1862,$Z$50:$AA$63,2),\"\")","v":20}]
[1852,20209050038822,43962,"CORREO ELECTRÓNICO","SOLICITUD DE INFORMACIÓN Y DOCUMENTOS","SOLICITUD DE INFORMACIÓN HIDROMETEOROLÓGICA","NO","GRUPO DE ATENCIÓN AL CIUDADANO",43967,null,null,{"$f":"IFERROR(WORKDAY(C1863,R1863,DiasNOLaborables),\"\")","v":43991},{"$f":"+IF(C1863=\"\",\"\",IF(I1863=\"\",\"\",(IF(I1863<=L1863,\"A TIEMPO\",\"FUERA DE TIEMPO\"))))","v":"A TIEMPO"},{"$f":"IF(I1863=\"\",\"\",NETWORKDAYS([4]Hoja1!C1863+1,[4]Hoja1!P1863,DiasNOLaborables))","v":8},"",null,null,20]
[1853,20209050038832,43962,"CORREO ELECTRÓNICO","SOLICITUD DE INFORMACIÓN Y DOCUMENTOS","SOLICITUD DE INFORMACIÓN HIDROMETEOROLÓGICA","NO","GRUPO DE ATENCIÓN AL CIUDADANO",43967,null,null,{"$f":"IFERROR(WORKDAY(C1864,R1864,DiasNOLaborables),\"\")","v":43991},{"$f":"+IF(C1864=\"\",\"\",IF(I1864=\"\",\"\",(IF(I1864<=L1864,\"A TIEMPO\",\"FUERA DE TIEMPO\"))))","v":"A TIEMPO"},{"$f":"IF(I1864=\"\",\"\",NETWORKDAYS([4]Hoja1!C1864+1,[4]Hoja1!P1864,DiasNOLaborables))","v":8},"",null,null,20]
[1854,20209050038862,43962,"CORREO ELECTRÓNICO","SOLICITUD DE INFORMACIÓN Y DOCUMENTOS","SOLICITUD DE INFORMACIÓN HIDROMETEOROLÓGICA","NO","GRUPO DE ATENCIÓN AL CIUDADANO",43967,null,null,{"$f":"IFERROR(WORKDAY(C1865,R1865,DiasNOLaborables),\"\")","v":43991},{"$f":"+IF(C1865=\"\",\"\",IF(I1865=\"\",\"\",(IF(I1865<=L1865,\"A TIEMPO\",\"FUERA DE TIEMPO\"))))","v":"A TIEMPO"},{"$f":"IF(I1865=\"\",\"\",NETWORKDAYS([4]Hoja1!C1865+1,[4]Hoja1!P1865,DiasNOLaborables))","v":9},"",null,null,20]
[1855,20209050038872,43962,"CORREO ELECTRÓNICO","SOLICITUD DE INFORMACIÓN Y DOCUMENTOS","SOLICITUD DE INFORMACIÓN HIDROMETEOROLÓGICA","NO","GRUPO DE ATENCIÓN AL CIUDADANO",43967,null,null,{"$f":"IFERROR(WORKDAY(C1866,R1866,DiasNOLaborables),\"\")","v":43991},{"$f":"+IF(C1866=\"\",\"\",IF(I1866=\"\",\"\",(IF(I1866<=L1866,\"A TIEMPO\",\"FUERA DE TIEMPO\"))))","v":"A TIEMPO"},{"$f":"IF(I1866=\"\",\"\",NETWORKDAYS([4]Hoja1!C1866+1,[4]Hoja1!P1866,DiasNOLaborables))","v":9},"",null,null,20]
[1856,20209050038942,43962,"CORREO ELECTRÓNICO","SOLICITUD DE INFORMACIÓN Y DOCUMENTOS","SOLICITUD DE INFORMACIÓN HIDROMETEOROLÓGICA","NO","GRUPO DE ATENCIÓN AL CIUDADANO",43967,null,null,{"$f":"IFERROR(WORKDAY(C1867,R1867,DiasNOLaborables),\"\")","v":43991},{"$f":"+IF(C1867=\"\",\"\",IF(I1867=\"\",\"\",(IF(I1867<=L1867,\"A TIEMPO\",\"FUERA DE TIEMPO\"))))","v":"A TIEMPO"},{"$f":"IF(I1867=\"\",\"\",NETWORKDAYS([4]Hoja1!C1867+1,[4]Hoja1!P1867,DiasNOLaborables))","v":9},"",null,null,20]
[1857,20209050038952,43962,"CORREO ELECTRÓNICO","SOLICITUD DE INFORMACIÓN Y DOCUMENTOS","SOLICITUD DE INFORMACIÓN HIDROMETEOROLÓGICA","NO","GRUPO DE ATENCIÓN AL CIUDADANO",43967,null,null,{"$f":"IFERROR(WORKDAY(C1868,R1868,DiasNOLaborables),\"\")","v":43991},{"$f":"+IF(C1868=\"\",\"\",IF(I1868=\"\",\"\",(IF(I1868<=L1868,\"A TIEMPO\",\"FUERA DE TIEMPO\"))))","v":"A TIEMPO"},{"$f":"IF(I1868=\"\",\"\",NETWORKDAYS([4]Hoja1!C1868+1,[4]Hoja1!P1868,DiasNOLaborables))","v":9},"",null,null,20]
[1858,20209050038972,43962,"CORREO ELECTRÓNICO","SOLICITUD DE INFORMACIÓN Y DOCUMENTOS","SOLICITUD DE INFORMACIÓN HIDROMETEOROLÓGICA","NO","GRUPO DE ATENCIÓN AL CIUDADANO",43968,null,null,{"$f":"IFERROR(WORKDAY(C1869,R1869,DiasNOLaborables),\"\")","v":43991},{"$f":"+IF(C1869=\"\",\"\",IF(I1869=\"\",\"\",(IF(I1869<=L1869,\"A TIEMPO\",\"FUERA DE TIEMPO\"))))","v":"A TIEMPO"},{"$f":"IF(I1869=\"\",\"\",NETWORKDAYS([4]Hoja1!C1869+1,[4]Hoja1!P1869,DiasNOLaborables))","v":3},"",null,null,20]
[1859,20209050038988,43962,"CORREO ELECTRÓNICO","SOLICITUD DE INFORMACIÓN Y DOCUMENTOS","SOLICITUD DE INFORMACIÓN HIDROMETEOROLÓGICA","NO","GRUPO DE ATENCIÓN AL CIUDADANO",43968,null,null,{"$f":"IFERROR(WORKDAY(C1870,R1870,DiasNOLaborables),\"\")","v":43991},{"$f":"+IF(C1870=\"\",\"\",IF(I1870=\"\",\"\",(IF(I1870<=L1870,\"A TIEMPO\",\"FUERA DE TIEMPO\"))))","v":"A TIEMPO"},{"$f":"IF(I1870=\"\",\"\",NETWORKDAYS([4]Hoja1!C1870+1,[4]Hoja1!P1870,DiasNOLaborables))","v":3},"",null,null,20]
[1860,20209050039002,43962,"CORREO ELECTRÓNICO","SOLICITUD DE INFORMACIÓN Y DOCUMENTOS","SOLICITUD DE INFORMACIÓN HIDROMETEOROLÓGICA","NO","GRUPO DE ATENCIÓN AL CIUDADANO",43968,null,null,{"$f":"IFERROR(WORKDAY(C1871,R1871,DiasNOLaborables),\"\")","v":43991},{"$f":"+IF(C1871=\"\",\"\",IF(I1871=\"\",\"\",(IF(I1871<=L1871,\"A TIEMPO\",\"FUERA DE TIEMPO\"))))","v":"A TIEMPO"},{"$f":"IF(I1871=\"\",\"\",NETWORKDAYS([4]Hoja1!C1871+1,[4]Hoja1!P1871,DiasNOLaborables))","v":3},"",null,null,20]
[1861,20209050039012,43962,"CORREO ELECTRÓNICO","SOLICITUD DE INFORMACIÓN Y DOCUMENTOS","SOLICITUD DE INFORMACIÓN HIDROMETEOROLÓGICA","NO","GRUPO DE ATENCIÓN AL CIUDADANO",43968,null,null,{"$f":"IFERROR(WORKDAY(C1872,R1872,DiasNOLaborables),\"\")","v":43991},{"$f":"+IF(C1872=\"\",\"\",IF(I1872=\"\",\"\",(IF(I1872<=L1872,\"A TIEMPO\",\"FUERA DE TIEMPO\"))))","v":"A TIEMPO"},{"$f":"IF(I1872=\"\",\"\",NETWORKDAYS([4]Hoja1!C1872+1,[4]Hoja1!P1872,DiasNOLaborables))","v":3},"",null,null,20]
[1862,20209050039022,43962,"CORREO ELECTRÓNICO","SOLICITUD DE INFORMACIÓN Y DOCUMENTOS","SOLICITUD DE INFORMACIÓN HIDROMETEOROLÓGICA","NO","GRUPO DE ATENCIÓN AL CIUDADANO",43968,null,null,{"$f":"IFERROR(WORKDAY(C1873,R1873,DiasNOLaborables),\"\")","v":43991},{"$f":"+IF(C1873=\"\",\"\",IF(I1873=\"\",\"\",(IF(I1873<=L1873,\"A TIEMPO\",\"FUERA DE TIEMPO\"))))","v":"A TIEMPO"},{"$f":"IF(I1873=\"\",\"\",NETWORKDAYS([4]Hoja1!C1873+1,[4]Hoja1!P1873,DiasNOLaborables))","v":3},"",null,null,20]
[1863,20209050039052,43962,"CORREO ELECTRÓNICO","SOLICITUD DE INFORMACIÓN Y DOCUMENTOS","SOLICITUD DE INFORMACIÓN HIDROMETEOROLÓGICA","NO","GRUPO DE ATENCIÓN AL CIUDADANO",43968,null,null,{"$f":"IFERROR(WORKDAY(C1874,R1874,DiasNOLaborables),\"\")","v":43991},{"$f":"+IF(C1874=\"\",\"\",IF(I1874=\"\",\"\",(IF(I1874<=L1874,\"A TIEMPO\",\"FUERA DE TIEMPO\"))))","v":"A TIEMPO"},{"$f":"IF(I1874=\"\",\"\",NETWORKDAYS([4]Hoja1!C1874+1,[4]Hoja1!P1874,DiasNOLaborables))","v":4},"",null,null,20]
[1864,20209050039062,43962,"CORREO ELECTRÓNICO","SOLICITUD DE INFORMACIÓN Y DOCUMENTOS","SOLICITUD DE INFORMACIÓN HIDROMETEOROLÓGICA","NO","GRUPO DE ATENCIÓN AL CIUDADANO",43968,null,null,{"$f":"IFERROR(WORKDAY(C1875,R1875,DiasNOLaborables),\"\")","v":43991},{"$f":"+IF(C1875=\"\",\"\",IF(I1875=\"\",\"\",(IF(I1875<=L1875,\"A TIEMPO\",\"FUERA DE TIEMPO\"))))","v":"A TIEMPO"},{"$f":"IF(I1875=\"\",\"\",NETWORKDAYS([4]Hoja1!C1875+1,[4]Hoja1!P1875,DiasNOLaborables))","v":4},"",null,null,20]
[1865,20209050039082,43962,"CORREO ELECTRÓNICO","SOLICITUD DE INFORMACIÓN Y DOCUMENTOS","SOLICITUD DE INFORMACIÓN HIDROMETEOROLÓGICA","NO","GRUPO DE ATENCIÓN AL CIUDADANO",43968,null,null,{"$f":"IFERROR(WORKDAY(C1876,R1876,DiasNOLaborables),\"\")","v":43991},{"$f":"+IF(C1876=\"\",\"\",IF(I1876=\"\",\"\",(IF(I1876<=L1876,\"A TIEMPO\",\"FUERA DE TIEMPO\"))))","v":"A TIEMPO"},{"$f":"IF(I1876=\"\",\"\",NETWORKDAYS([4]Hoja1!C1876+1,[4]Hoja1!P1876,DiasNOLaborables))","v":4},"",null,null,20]
[1866,20209050039702,43962,"CORREO ELECTRÓNICO","SOLICITUD DE INFORMACIÓN Y DOCUMENTOS","REGISTROS AMBIENTALES","SI","SUBDIRECCIÓN DE ESTUDIOS AMBIENTALES",43965,null,null,{"$f":"IFERROR(WORKDAY(C1877,R1877,DiasNOLaborables),\"\")","v":43991},{"$f":"+IF(C1877=\"\",\"\",IF(I1877=\"\",\"\",(IF(I1877<=L1877,\"A TIEMPO\",\"FUERA DE TIEMPO\"))))","v":"A TIEMPO"},{"$f":"IF(I1877=\"\",\"\",NETWORKDAYS([4]Hoja1!C1877+1,[4]Hoja1!P1877,DiasNOLaborables))","v":4},"",null,null,20]
[1867,20209050039712,43962,"CORREO ELECTRÓNICO","SOLICITUD DE INFORMACIÓN Y DOCUMENTOS","REGISTROS AMBIENTALES","SI","SUBDIRECCIÓN DE ESTUDIOS AMBIENTALES",43963,null,null,{"$f":"IFERROR(WORKDAY(C1878,R1878,DiasNOLaborables),\"\")","v":43991},{"$f":"+IF(C1878=\"\",\"\",IF(I1878=\"\",\"\",(IF(I1878<=L1878,\"A TIEMPO\",\"FUERA DE TIEMPO\"))))","v":"A TIEMPO"},{"$f":"IF(I1878=\"\",\"\",NETWORKDAYS([4]Hoja1!C1878+1,[4]Hoja1!P1878,DiasNOLaborables))","v":4},"",null,null,20]
[1868,20209910036902,43962,"CORREO ELECTRÓNICO","SOLICITUD DE INFORMACIÓN Y DOCUMENTOS","BOSQUES","SI","SUBDIRECCIÓN DE ECOSISTEMAS E INFORMACIÓN AMBIENTAL",43977,null,null,{"$f":"IFERROR(WORKDAY(C1879,R1879,DiasNOLaborables),\"\")","v":43991},{"$f":"+IF(C1879=\"\",\"\",IF(I1879=\"\",\"\",(IF(I1879<=L1879,\"A TIEMPO\",\"FUERA DE TIEMPO\"))))","v":"A TIEMPO"},{"$f":"IF(I1879=\"\",\"\",NETWORKDAYS([4]Hoja1!C1879+1,[4]Hoja1!P1879,DiasNOLaborables))","v":4},"",null,null,20]
[1869,20209050039722,43962,"CORREO ELECTRÓNICO","SOLICITUD DE INFORMACIÓN Y DOCUMENTOS","REGISTROS AMBIENTALES","SI","SUBDIRECCIÓN DE ESTUDIOS AMBIENTALES",43970,null,null,{"$f":"IFERROR(WORKDAY(C1880,R1880,DiasNOLaborables),\"\")","v":43991},{"$f":"+IF(C1880=\"\",\"\",IF(I1880=\"\",\"\",(IF(I1880<=L1880,\"A TIEMPO\",\"FUERA DE TIEMPO\"))))","v":"A TIEMPO"},{"$f":"IF(I1880=\"\",\"\",NETWORKDAYS([4]Hoja1!C1880+1,[4]Hoja1!P1880,DiasNOLaborables))","v":4},"",null,null,20]
[1870,20209050039732,43962,"CORREO ELECTRÓNICO","CERTIFICACIONES DE TIEMPO, CLIMA Y EVENTOS HIDROLÓGICOS","CERTIFICACIONES DE TIEMPO Y CLIMA","SI","SUBDIRECCIÓN DE METEOROLOGÍA",43966,null,null,{"$f":"IFERROR(WORKDAY(C1881,R1881,DiasNOLaborables),\"\")","v":44007},{"$f":"+IF(C1881=\"\",\"\",IF(I1881=\"\",\"\",(IF(I1881<=L1881,\"A TIEMPO\",\"FUERA DE TIEMPO\"))))","v":"A TIEMPO"},{"$f":"IF(I1881=\"\",\"\",NETWORKDAYS([4]Hoja1!C1881+1,[4]Hoja1!P1881,DiasNOLaborables))","v":-1},"",null,null,30]
[1871,20209050038812,43963,"MODULO CONTACTENOS","SOLICITUD DE INFORMACIÓN Y DOCUMENTOS","SOLICITUD DE INFORMACIÓN Y DOCUMENTOS","SI","OFICINA DE INFORMÁTICA",43972,null,null,{"$f":"IFERROR(WORKDAY(C1882,R1882,DiasNOLaborables),\"\")","v":43992},{"$f":"+IF(C1882=\"\",\"\",IF(I1882=\"\",\"\",(IF(I1882<=L1882,\"A TIEMPO\",\"FUERA DE TIEMPO\"))))","v":"A TIEMPO"},{"$f":"IF(I1882=\"\",\"\",NETWORKDAYS([4]Hoja1!C1882+1,[4]Hoja1!P1882,DiasNOLaborables))","v":-1},"",null,null,20]
[1872,20209050039502,43963,"MODULO CONTACTENOS","SOLICITUD DE INFORMACIÓN Y DOCUMENTOS","ADMINISTRATIVA","SI","GRUPO DE ADMINISTRACIÓN Y DESARROLLO DEL TALENTO HUMANO",43974,null,null,{"$f":"IFERROR(WORKDAY(C1883,R1883,DiasNOLaborables),\"\")","v":43992},{"$f":"+IF(C1883=\"\",\"\",IF(I1883=\"\",\"\",(IF(I1883<=L1883,\"A TIEMPO\",\"FUERA DE TIEMPO\"))))","v":"A TIEMPO"},{"$f":"IF(I1883=\"\",\"\",NETWORKDAYS([4]Hoja1!C1883+1,[4]Hoja1!P1883,DiasNOLaborables))","v":2},"",null,null,20]
[1873,20209050039512,43963,"MODULO CONTACTENOS","SOLICITUD DE INFORMACIÓN Y DOCUMENTOS","BOSQUES","SI","SUBDIRECCIÓN DE ECOSISTEMAS E INFORMACIÓN AMBIENTAL",43990,null,null,{"$f":"IFERROR(WORKDAY(C1884,R1884,DiasNOLaborables),\"\")","v":43992},{"$f":"+IF(C1884=\"\",\"\",IF(I1884=\"\",\"\",(IF(I1884<=L1884,\"A TIEMPO\",\"FUERA DE TIEMPO\"))))","v":"A TIEMPO"},{"$f":"IF(I1884=\"\",\"\",NETWORKDAYS([4]Hoja1!C1884+1,[4]Hoja1!P1884,DiasNOLaborables))","v":4},"",null,null,20]
[1874,20209050039432,43963,"MODULO CONTACTENOS","CERTIFICACIONES DE TIEMPO, CLIMA Y EVENTOS HIDROLÓGICOS","CERTIFICACIONES DE TIEMPO Y CLIMA","SI","SUBDIRECCIÓN DE METEOROLOGÍA",43965,null,null,{"$f":"IFERROR(WORKDAY(C1885,R1885,DiasNOLaborables),\"\")","v":44008},{"$f":"+IF(C1885=\"\",\"\",IF(I1885=\"\",\"\",(IF(I1885<=L1885,\"A TIEMPO\",\"FUERA DE TIEMPO\"))))","v":"A TIEMPO"},{"$f":"IF(I1885=\"\",\"\",NETWORKDAYS([4]Hoja1!C1885+1,[4]Hoja1!P1885,DiasNOLaborables))","v":2},"",null,null,30]
[1875,20209050039402,43963,"MODULO CONTACTENOS","CERTIFICACIONES DE TIEMPO, CLIMA Y EVENTOS HIDROLÓGICOS","CERTIFICACIONES DE TIEMPO Y CLIMA","SI","SUBDIRECCIÓN DE METEOROLOGÍA",43965,null,null,{"$f":"IFERROR(WORKDAY(C1886,R1886,DiasNOLaborables),\"\")","v":44008},{"$f":"+IF(C1886=\"\",\"\",IF(I1886=\"\",\"\",(IF(I1886<=L1886,\"A TIEMPO\",\"FUERA DE TIEMPO\"))))","v":"A TIEMPO"},{"$f":"IF(I1886=\"\",\"\",NETWORKDAYS([4]Hoja1!C1886+1,[4]Hoja1!P1886,DiasNOLaborables))","v":-1},"",null,null,30]
[1876,20209050039412,43963,"MODULO CONTACTENOS","CERTIFICACIONES DE TIEMPO, CLIMA Y EVENTOS HIDROLÓGICOS","CERTIFICACIONES DE TIEMPO Y CLIMA","SI","SUBDIRECCIÓN DE METEOROLOGÍA",43965,null,null,{"$f":"IFERROR(WORKDAY(C1887,R1887,DiasNOLaborables),\"\")","v":44008},{"$f":"+IF(C1887=\"\",\"\",IF(I1887=\"\",\"\",(IF(I1887<=L1887,\"A TIEMPO\",\"FUERA DE TIEMPO\"))))","v":"A TIEMPO"},{"$f":"IF(I1887=\"\",\"\",NETWORKDAYS([4]Hoja1!C1887+1,[4]Hoja1!P1887,DiasNOLaborables))","v":-1},"",null,null,30]
[1877,20209050039422,43963,"MODULO CONTACTENOS","CERTIFICACIONES DE TIEMPO, CLIMA Y EVENTOS HIDROLÓGICOS","CERTIFICACIONES DE TIEMPO Y CLIMA","SI","SUBDIRECCIÓN DE METEOROLOGÍA",43965,null,null,{"$f":"IFERROR(WORKDAY(C1888,R1888,DiasNOLaborables),\"\")","v":44008},{"$f":"+IF(C1888=\"\",\"\",IF(I1888=\"\",\"\",(IF(I1888<=L1888,\"A TIEMPO\",\"FUERA DE TIEMPO\"))))","v":"A TIEMPO"},{"$f":"IF(I1888=\"\",\"\",NETWORKDAYS([4]Hoja1!C1888+1,[4]Hoja1!P1888,DiasNOLaborables))","v":6},"",null,null,30]
[1878,20209050039442,43963,"MODULO CONTACTENOS","CERTIFICACIONES DE TIEMPO, CLIMA Y EVENTOS HIDROLÓGICOS","CERTIFICACIONES DE TIEMPO Y CLIMA","SI","SUBDIRECCIÓN DE METEOROLOGÍA",43965,null,null,{"$f":"IFERROR(WORKDAY(C1889,R1889,DiasNOLaborables),\"\")","v":44008},{"$f":"+IF(C1889=\"\",\"\",IF(I1889=\"\",\"\",(IF(I1889<=L1889,\"A TIEMPO\",\"FUERA DE TIEMPO\"))))","v":"A TIEMPO"},{"$f":"IF(I1889=\"\",\"\",NETWORKDAYS([4]Hoja1!C1889+1,[4]Hoja1!P1889,DiasNOLaborables))","v":6},"",null,null,30]
[1879,20209050039542,43963,"MODULO CONTACTENOS","SOLICITUD DE INFORMACIÓN Y DOCUMENTOS","SIRH","SI","SUBDIRECCIÓN DE HIDROLOGÍA",43965,null,null,{"$f":"IFERROR(WORKDAY(C1890,R1890,DiasNOLaborables),\"\")","v":43992},{"$f":"+IF(C1890=\"\",\"\",IF(I1890=\"\",\"\",(IF(I1890<=L1890,\"A TIEMPO\",\"FUERA DE TIEMPO\"))))","v":"A TIEMPO"},{"$f":"IF(I1890=\"\",\"\",NETWORKDAYS([4]Hoja1!C1890+1,[4]Hoja1!P1890,DiasNOLaborables))","v":5},"",null,null,20]
[1880,20209050039552,43963,"MODULO CONTACTENOS","SOLICITUD DE INFORMACIÓN Y DOCUMENTOS","ADMINISTRATIVA","SI","GRUPO DE TESORERÍA",43965,null,null,{"$f":"IFERROR(WORKDAY(C1891,R1891,DiasNOLaborables),\"\")","v":43992},{"$f":"+IF(C1891=\"\",\"\",IF(I1891=\"\",\"\",(IF(I1891<=L1891,\"A TIEMPO\",\"FUERA DE TIEMPO\"))))","v":"A TIEMPO"},{"$f":"IF(I1891=\"\",\"\",NETWORKDAYS([4]Hoja1!C1891+1,[4]Hoja1!P1891,DiasNOLaborables))","v":2},"",null,null,20]
[1881,20207040000172,43963,"CORREO CERTIFICADO","PETICIÓN","SIRH","SI","SUBDIRECCIÓN DE HIDROLOGÍA",43980,null,null,{"$f":"IFERROR(WORKDAY(C1892,R1892,DiasNOLaborables),\"\")","v":44008},{"$f":"+IF(C1892=\"\",\"\",IF(I1892=\"\",\"\",(IF(I1892<=L1892,\"A TIEMPO\",\"FUERA DE TIEMPO\"))))","v":"A TIEMPO"},{"$f":"IF(I1892=\"\",\"\",NETWORKDAYS([4]Hoja1!C1892+1,[4]Hoja1!P1892,DiasNOLaborables))","v":4},"",null,null,30]
[1882,20209050039672,43963,"MODULO CONTACTENOS","SOLICITUD DE INFORMACIÓN Y DOCUMENTOS","ADMINISTRATIVA","SI","GRUPO DE TESORERÍA",43965,null,null,{"$f":"IFERROR(WORKDAY(C1893,R1893,DiasNOLaborables),\"\")","v":43992},{"$f":"+IF(C1893=\"\",\"\",IF(I1893=\"\",\"\",(IF(I1893<=L1893,\"A TIEMPO\",\"FUERA DE TIEMPO\"))))","v":"A TIEMPO"},{"$f":"IF(I1893=\"\",\"\",NETWORKDAYS([4]Hoja1!C1893+1,[4]Hoja1!P1893,DiasNOLaborables))","v":4},"",null,null,20]
[1883,20209050039742,43963,"MODULO CONTACTENOS","SOLICITUD DE INFORMACIÓN Y DOCUMENTOS","WEB Y CORREO","SI","OFICINA DE INFORMÁTICA",43966,null,null,{"$f":"IFERROR(WORKDAY(C1894,R1894,DiasNOLaborables),\"\")","v":43992},{"$f":"+IF(C1894=\"\",\"\",IF(I1894=\"\",\"\",(IF(I1894<=L1894,\"A TIEMPO\",\"FUERA DE TIEMPO\"))))","v":"A TIEMPO"},{"$f":"IF(I1894=\"\",\"\",NETWORKDAYS([4]Hoja1!C1894+1,[4]Hoja1!P1894,DiasNOLaborables))","v":4},"",null,null,20]
[1884,20209050039792,43964,"MODULO CONTACTENOS","SOLICITUD DE INFORMACIÓN Y DOCUMENTOS","CLIMATOLOGÍA","SI","SUBDIRECCIÓN DE METEOROLOGÍA",43971,null,null,{"$f":"IFERROR(WORKDAY(C1895,R1895,DiasNOLaborables),\"\")","v":43993},{"$f":"+IF(C1895=\"\",\"\",IF(I1895=\"\",\"\",(IF(I1895<=L1895,\"A TIEMPO\",\"FUERA DE TIEMPO\"))))","v":"A TIEMPO"},{"$f":"IF(I1895=\"\",\"\",NETWORKDAYS([4]Hoja1!C1895+1,[4]Hoja1!P1895,DiasNOLaborables))","v":4},"",null,null,20]
[1885,20209050039802,43964,"MODULO CONTACTENOS","SOLICITUD DE INFORMACIÓN Y DOCUMENTOS","CLIMATOLOGÍA","SI","SUBDIRECCIÓN DE METEOROLOGÍA",43971,null,null,{"$f":"IFERROR(WORKDAY(C1896,R1896,DiasNOLaborables),\"\")","v":43993},{"$f":"+IF(C1896=\"\",\"\",IF(I1896=\"\",\"\",(IF(I1896<=L1896,\"A TIEMPO\",\"FUERA DE TIEMPO\"))))","v":"A TIEMPO"},{"$f":"IF(I1896=\"\",\"\",NETWORKDAYS([4]Hoja1!C1896+1,[4]Hoja1!P1896,DiasNOLaborables))","v":2},"",null,null,20]
[1886,20209050040012,43964,"MODULO CONTACTENOS","SOLICITUD DE INFORMACIÓN Y DOCUMENTOS","REGISTROS AMBIENTALES","SI","SUBDIRECCIÓN DE ESTUDIOS AMBIENTALES",43976,null,null,{"$f":"IFERROR(WORKDAY(C1897,R1897,DiasNOLaborables),\"\")","v":43993},{"$f":"+IF(C1897=\"\",\"\",IF(I1897=\"\",\"\",(IF(I1897<=L1897,\"A TIEMPO\",\"FUERA DE TIEMPO\"))))","v":"A TIEMPO"},{"$f":"IF(I1897=\"\",\"\",NETWORKDAYS([4]Hoja1!C1897+1,[4]Hoja1!P1897,DiasNOLaborables))","v":1},"",null,null,20]
[1887,20209910037162,43964,"CORREO ELECTRÓNICO","PETICIÓN","ADMINISTRATIVA","SI","GRUPO DE ADMINISTRACIÓN Y DESARROLLO DEL TALENTO HUMANO",43978,null,null,{"$f":"IFERROR(WORKDAY(C1898,R1898,DiasNOLaborables),\"\")","v":44012},{"$f":"+IF(C1898=\"\",\"\",IF(I1898=\"\",\"\",(IF(I1898<=L1898,\"A TIEMPO\",\"FUERA DE TIEMPO\"))))","v":"A TIEMPO"},{"$f":"IF(I1898=\"\",\"\",NETWORKDAYS([4]Hoja1!C1898+1,[4]Hoja1!P1898,DiasNOLaborables))","v":3},"",null,null,30]
[1888,20209050040052,43964,"MODULO CONTACTENOS","SOLICITUD DE INFORMACIÓN Y DOCUMENTOS","CLIMATOLOGÍA","SI","SUBDIRECCIÓN DE METEOROLOGÍA",43970,null,null,{"$f":"IFERROR(WORKDAY(C1899,R1899,DiasNOLaborables),\"\")","v":43993},{"$f":"+IF(C1899=\"\",\"\",IF(I1899=\"\",\"\",(IF(I1899<=L1899,\"A TIEMPO\",\"FUERA DE TIEMPO\"))))","v":"A TIEMPO"},{"$f":"IF(I1899=\"\",\"\",NETWORKDAYS([4]Hoja1!C1899+1,[4]Hoja1!P1899,DiasNOLaborables))","v":3},"",null,null,20]
[1889,20209050040062,43964,"MODULO CONTACTENOS","PETICIÓN ENTRE AUTORIDADES","CERTIFICACIONES DE TIEMPO Y CLIMA","SI","SUBDIRECCIÓN DE METEOROLOGÍA",43972,null,null,{"$f":"IFERROR(WORKDAY(C1900,R1900,DiasNOLaborables),\"\")","v":43979},{"$f":"+IF(C1900=\"\",\"\",IF(I1900=\"\",\"\",(IF(I1900<=L1900,\"A TIEMPO\",\"FUERA DE TIEMPO\"))))","v":"A TIEMPO"},{"$f":"IF(I1900=\"\",\"\",NETWORKDAYS([4]Hoja1!C1900+1,[4]Hoja1!P1900,DiasNOLaborables))","v":3},"",null,null,10]
[1890,20209050039862,43964,"CORREO ELECTRÓNICO","SOLICITUD DE INFORMACIÓN Y DOCUMENTOS","SOLICITUD DE INFORMACIÓN Y DOCUMENTOS","SI","SUBDIRECCIÓN DE ESTUDIOS AMBIENTALES",43964,null,null,{"$f":"IFERROR(WORKDAY(C1901,R1901,DiasNOLaborables),\"\")","v":43993},{"$f":"+IF(C1901=\"\",\"\",IF(I1901=\"\",\"\",(IF(I1901<=L1901,\"A TIEMPO\",\"FUERA DE TIEMPO\"))))","v":"A TIEMPO"},{"$f":"IF(I1901=\"\",\"\",NETWORKDAYS([4]Hoja1!C1901+1,[4]Hoja1!P1901,DiasNOLaborables))","v":3},"",null,null,20]
[1891,20209050039902,43964,"CORREO ELECTRÓNICO","SOLICITUD DE INFORMACIÓN Y DOCUMENTOS","SOLICITUD DE INFORMACIÓN Y DOCUMENTOS","SI","OFICINA DE INFORMÁTICA",43965,null,null,{"$f":"IFERROR(WORKDAY(C1902,R1902,DiasNOLaborables),\"\")","v":43993},{"$f":"+IF(C1902=\"\",\"\",IF(I1902=\"\",\"\",(IF(I1902<=L1902,\"A TIEMPO\",\"FUERA DE TIEMPO\"))))","v":"A TIEMPO"},{"$f":"IF(I1902=\"\",\"\",NETWORKDAYS([4]Hoja1!C1902+1,[4]Hoja1!P1902,DiasNOLaborables))","v":3},"",null,null,20]
[1892,20209050039922,43964,"CORREO ELECTRÓNICO","SOLICITUD DE INFORMACIÓN Y DOCUMENTOS","SOLICITUD DE INFORMACIÓN Y DOCUMENTOS","SI","SUBDIRECCIÓN DE ECOSISTEMAS E INFORMACIÓN AMBIENTAL",43973,null,null,{"$f":"IFERROR(WORKDAY(C1903,R1903,DiasNOLaborables),\"\")","v":43993},{"$f":"+IF(C1903=\"\",\"\",IF(I1903=\"\",\"\",(IF(I1903<=L1903,\"A TIEMPO\",\"FUERA DE TIEMPO\"))))","v":"A TIEMPO"},{"$f":"IF(I1903=\"\",\"\",NETWORKDAYS([4]Hoja1!C1903+1,[4]Hoja1!P1903,DiasNOLaborables))","v":3},"",null,null,20]
[1893,20209050039952,43964,"CORREO ELECTRÓNICO","SOLICITUD DE INFORMACIÓN Y DOCUMENTOS","SOLICITUD DE INFORMACIÓN Y DOCUMENTOS","SI","SUBDIRECCIÓN DE METEOROLOGÍA",43970,null,null,{"$f":"IFERROR(WORKDAY(C1904,R1904,DiasNOLaborables),\"\")","v":43993},{"$f":"+IF(C1904=\"\",\"\",IF(I1904=\"\",\"\",(IF(I1904<=L1904,\"A TIEMPO\",\"FUERA DE TIEMPO\"))))","v":"A TIEMPO"},{"$f":"IF(I1904=\"\",\"\",NETWORKDAYS([4]Hoja1!C1904+1,[4]Hoja1!P1904,DiasNOLaborables))","v":4},"",null,null,20]
[1894,20209050040122,43965,"CORREO ELECTRÓNICO","SOLICITUD DE INFORMACIÓN Y DOCUMENTOS","SOLICITUD DE INFORMACIÓN Y DOCUMENTOS","SI","SUBDIRECCIÓN DE ESTUDIOS AMBIENTALES",43993,null,null,{"$f":"IFERROR(WORKDAY(C1905,R1905,DiasNOLaborables),\"\")","v":43994},{"$f":"+IF(C1905=\"\",\"\",IF(I1905=\"\",\"\",(IF(I1905<=L1905,\"A TIEMPO\",\"FUERA DE TIEMPO\"))))","v":"A TIEMPO"},{"$f":"IF(I1905=\"\",\"\",NETWORKDAYS([4]Hoja1!C1905+1,[4]Hoja1!P1905,DiasNOLaborables))","v":4},"",null,null,20]
[{"$f":"IF(B1904<>\"\",A1905+1,\"\")","v":1895},20209050040162,43965,"CORREO ELECTRÓNICO","SOLICITUD DE INFORMACIÓN Y DOCUMENTOS","SOLICITUD DE INFORMACIÓN Y DOCUMENTOS","SI","SUBDIRECCIÓN DE ESTUDIOS AMBIENTALES",43974,null,null,{"$f":"IFERROR(WORKDAY(C1906,R1906,DiasNOLaborables),\"\")","v":43994},{"$f":"+IF(C1906=\"\",\"\",IF(I1906=\"\",\"\",(IF(I1906<=L1906,\"A TIEMPO\",\"FUERA DE TIEMPO\"))))","v":"A TIEMPO"},{"$f":"IF(I1906=\"\",\"\",NETWORKDAYS([4]Hoja1!C1906+1,[4]Hoja1!P1906,DiasNOLaborables))","v":4},"",null,null,20]
[1896,20209050040192,43965,"CORREO ELECTRÓNICO","SOLICITUD DE INFORMACIÓN Y DOCUMENTOS","REGISTROS AMBIENTALES","SI","SUBDIRECCIÓN DE ESTUDIOS AMBIENTALES",43965,null,null,{"$f":"IFERROR(WORKDAY(C1907,R1907,DiasNOLaborables),\"\")","v":43994},{"$f":"+IF(C1907=\"\",\"\",IF(I1907=\"\",\"\",(IF(I1907<=L1907,\"A TIEMPO\",\"FUERA DE TIEMPO\"))))","v":"A TIEMPO"},{"$f":"IF(I1907=\"\",\"\",NETWORKDAYS([4]Hoja1!C1907+1,[4]Hoja1!P1907,DiasNOLaborables))","v":5},"",null,null,20]
[1897,20209050040242,43965,"CORREO ELECTRÓNICO","SOLICITUD DE INFORMACIÓN Y DOCUMENTOS","REGISTROS AMBIENTALES","SI","SUBDIRECCIÓN DE ESTUDIOS AMBIENTALES",43976,null,null,{"$f":"IFERROR(WORKDAY(C1908,R1908,DiasNOLaborables),\"\")","v":43994},{"$f":"+IF(C1908=\"\",\"\",IF(I1908=\"\",\"\",(IF(I1908<=L1908,\"A TIEMPO\",\"FUERA DE TIEMPO\"))))","v":"A TIEMPO"},{"$f":"IF(I1908=\"\",\"\",NETWORKDAYS([4]Hoja1!C1908+1,[4]Hoja1!P1908,DiasNOLaborables))","v":5},{"$f":"IF(NETWORKDAYS(L1908+1,I1908,DiasNOLaborables)<=0,\"\",NETWORKDAYS(L1908+1,I1908,DiasNOLaborables))","v":""},null,null,20]
[1898,20209050040252,43965,"CORREO ELECTRÓNICO","CERTIFICACIONES DE TIEMPO, CLIMA Y EVENTOS HIDROLÓGICOS","CERTIFICACIONES DE TIEMPO Y CLIMA","SI","SUBDIRECCIÓN DE METEOROLOGÍA",43979,null,null,{"$f":"IFERROR(WORKDAY(C1909,R1909,DiasNOLaborables),\"\")","v":44013},{"$f":"+IF(C1909=\"\",\"\",IF(I1909=\"\",\"\",(IF(I1909<=L1909,\"A TIEMPO\",\"FUERA DE TIEMPO\"))))","v":"A TIEMPO"},{"$f":"IF(I1909=\"\",\"\",NETWORKDAYS([4]Hoja1!C1909+1,[4]Hoja1!P1909,DiasNOLaborables))","v":5},"",null,null,30]
[1899,20209050040282,43965,"CORREO ELECTRÓNICO","SOLICITUD DE INFORMACIÓN Y DOCUMENTOS","SOLICITUD DE INFORMACIÓN Y DOCUMENTOS","SI","SUBDIRECCIÓN DE ESTUDIOS AMBIENTALES",43979,null,null,{"$f":"IFERROR(WORKDAY(C1910,R1910,DiasNOLaborables),\"\")","v":43994},{"$f":"+IF(C1910=\"\",\"\",IF(I1910=\"\",\"\",(IF(I1910<=L1910,\"A TIEMPO\",\"FUERA DE TIEMPO\"))))","v":"A TIEMPO"},{"$f":"IF(I1910=\"\",\"\",NETWORKDAYS([4]Hoja1!C1910+1,[4]Hoja1!P1910,DiasNOLaborables))","v":4},"",null,null,20]
[1900,20209050040292,43965,"CORREO ELECTRÓNICO","SOLICITUD DE INFORMACIÓN Y DOCUMENTOS","SOLICITUD DE INFORMACIÓN Y DOCUMENTOS","SI","SUBDIRECCIÓN DE ECOSISTEMAS E INFORMACIÓN AMBIENTAL",43980,null,null,{"$f":"IFERROR(WORKDAY(C1911,R1911,DiasNOLaborables),\"\")","v":43994},{"$f":"+IF(C1911=\"\",\"\",IF(I1911=\"\",\"\",(IF(I1911<=L1911,\"A TIEMPO\",\"FUERA DE TIEMPO\"))))","v":"A TIEMPO"},{"$f":"IF(I1911=\"\",\"\",NETWORKDAYS([4]Hoja1!C1911+1,[4]Hoja1!P1911,DiasNOLaborables))","v":5},"",null,null,20]
[1901,20209050039992,43965,"MODULO CONTACTENOS","SOLICITUD DE INFORMACIÓN Y DOCUMENTOS","SOLICITUD DE INFORMACIÓN Y DOCUMENTOS","SI","OFICINA DE INFORMÁTICA",43976,null,null,{"$f":"IFERROR(WORKDAY(C1912,R1912,DiasNOLaborables),\"\")","v":43994},{"$f":"+IF(C1912=\"\",\"\",IF(I1912=\"\",\"\",(IF(I1912<=L1912,\"A TIEMPO\",\"FUERA DE TIEMPO\"))))","v":"A TIEMPO"},{"$f":"IF(I1912=\"\",\"\",NETWORKDAYS([4]Hoja1!C1912+1,[4]Hoja1!P1912,DiasNOLaborables))","v":5},"",null,null,20]
[1902,20209050040302,43965,"MODULO CONTACTENOS","SOLICITUD DE INFORMACIÓN Y DOCUMENTOS","SOLICITUD DE INFORMACIÓN Y DOCUMENTOS","SI","OFICINA DE INFORMÁTICA",43976,null,null,{"$f":"IFERROR(WORKDAY(C1913,R1913,DiasNOLaborables),\"\")","v":43994},{"$f":"+IF(C1913=\"\",\"\",IF(I1913=\"\",\"\",(IF(I1913<=L1913,\"A TIEMPO\",\"FUERA DE TIEMPO\"))))","v":"A TIEMPO"},{"$f":"IF(I1913=\"\",\"\",NETWORKDAYS([4]Hoja1!C1913+1,[4]Hoja1!P1913,DiasNOLaborables))","v":3},"",null,null,20]
[1903,20209050040412,43966,"CORREO ELECTRÓNICO","CERTIFICACIONES DE TIEMPO, CLIMA Y EVENTOS HIDROLÓGICOS","CERTIFICACIONES DE TIEMPO Y CLIMA","SI","SUBDIRECCIÓN DE METEOROLOGÍA",43985,null,null,{"$f":"IFERROR(WORKDAY(C1914,R1914,DiasNOLaborables),\"\")","v":44014},{"$f":"+IF(C1914=\"\",\"\",IF(I1914=\"\",\"\",(IF(I1914<=L1914,\"A TIEMPO\",\"FUERA DE TIEMPO\"))))","v":"A TIEMPO"},{"$f":"IF(I1914=\"\",\"\",NETWORKDAYS([4]Hoja1!C1914+1,[4]Hoja1!P1914,DiasNOLaborables))","v":5},"",null,null,30]
[1904,20209050040422,43966,"CORREO ELECTRÓNICO","SOLICITUD DE INFORMACIÓN Y DOCUMENTOS","SOLICITUD DE INFORMACIÓN Y DOCUMENTOS","SI","SUBDIRECCIÓN DE HIDROLOGÍA",43979,null,null,{"$f":"IFERROR(WORKDAY(C1915,R1915,DiasNOLaborables),\"\")","v":43998},{"$f":"+IF(C1915=\"\",\"\",IF(I1915=\"\",\"\",(IF(I1915<=L1915,\"A TIEMPO\",\"FUERA DE TIEMPO\"))))","v":"A TIEMPO"},{"$f":"IF(I1915=\"\",\"\",NETWORKDAYS([4]Hoja1!C1915+1,[4]Hoja1!P1915,DiasNOLaborables))","v":5},"",null,null,20]
[1905,20209050040442,43966,"CORREO ELECTRÓNICO","SOLICITUD DE INFORMACIÓN Y DOCUMENTOS","ADMINISTRATIVA","SI","OFICINA ASESORA JURÍDICA",43973,null,null,{"$f":"IFERROR(WORKDAY(C1916,R1916,DiasNOLaborables),\"\")","v":43998},{"$f":"+IF(C1916=\"\",\"\",IF(I1916=\"\",\"\",(IF(I1916<=L1916,\"A TIEMPO\",\"FUERA DE TIEMPO\"))))","v":"A TIEMPO"},{"$f":"IF(I1916=\"\",\"\",NETWORKDAYS([4]Hoja1!C1916+1,[4]Hoja1!P1916,DiasNOLaborables))","v":6},"",null,null,20]
[1906,20209050040482,43966,"CORREO ELECTRÓNICO","SOLICITUD DE INFORMACIÓN Y DOCUMENTOS","SOLICITUD DE INFORMACIÓN Y DOCUMENTOS","SI","SUBDIRECCIÓN DE ECOSISTEMAS E INFORMACIÓN AMBIENTAL",43972,null,null,{"$f":"IFERROR(WORKDAY(C1917,R1917,DiasNOLaborables),\"\")","v":43998},{"$f":"+IF(C1917=\"\",\"\",IF(I1917=\"\",\"\",(IF(I1917<=L1917,\"A TIEMPO\",\"FUERA DE TIEMPO\"))))","v":"A TIEMPO"},{"$f":"IF(I1917=\"\",\"\",NETWORKDAYS([4]Hoja1!C1917+1,[4]Hoja1!P1917,DiasNOLaborables))","v":2},"",null,null,20]
[1907,20209050040492,43966,"CORREO ELECTRÓNICO","SOLICITUD DE INFORMACIÓN Y DOCUMENTOS","ADMINISTRATIVA","SI","GRUPO DE ADMINISTRACIÓN Y DESARROLLO DEL TALENTO HUMANO",43966,null,null,{"$f":"IFERROR(WORKDAY(C1918,R1918,DiasNOLaborables),\"\")","v":43998},{"$f":"+IF(C1918=\"\",\"\",IF(I1918=\"\",\"\",(IF(I1918<=L1918,\"A TIEMPO\",\"FUERA DE TIEMPO\"))))","v":"A TIEMPO"},{"$f":"IF(I1918=\"\",\"\",NETWORKDAYS([4]Hoja1!C1918+1,[4]Hoja1!P1918,DiasNOLaborables))","v":3},"",null,null,20]
[1908,20209050040502,43966,"CORREO ELECTRÓNICO","SOLICITUD DE INFORMACIÓN Y DOCUMENTOS","SOLICITUD DE INFORMACIÓN Y DOCUMENTOS","SI","SUBDIRECCIÓN DE METEOROLOGÍA",43969,null,null,{"$f":"IFERROR(WORKDAY(C1919,R1919,DiasNOLaborables),\"\")","v":43998},{"$f":"+IF(C1919=\"\",\"\",IF(I1919=\"\",\"\",(IF(I1919<=L1919,\"A TIEMPO\",\"FUERA DE TIEMPO\"))))","v":"A TIEMPO"},{"$f":"IF(I1919=\"\",\"\",NETWORKDAYS([4]Hoja1!C1919+1,[4]Hoja1!P1919,DiasNOLaborables))","v":2},"",null,null,20]
[1909,20209910037402,43966,"CORREO CERTIFICADO","SOLICITUD DE INFORMACIÓN Y DOCUMENTOS","ADMINISTRATIVA","SI","GRUPO DE ADMINISTRACIÓN Y DESARROLLO DEL TALENTO HUMANO",43985,null,null,{"$f":"IFERROR(WORKDAY(C1920,R1920,DiasNOLaborables),\"\")","v":43998},{"$f":"+IF(C1920=\"\",\"\",IF(I1920=\"\",\"\",(IF(I1920<=L1920,\"A TIEMPO\",\"FUERA DE TIEMPO\"))))","v":"A TIEMPO"},{"$f":"IF(I1920=\"\",\"\",NETWORKDAYS([4]Hoja1!C1920+1,[4]Hoja1!P1920,DiasNOLaborables))","v":7},"",null,null,20]
[1910,20209050040512,43966,"CORREO ELECTRÓNICO","SOLICITUD DE INFORMACIÓN Y DOCUMENTOS","SOLICITUD DE INFORMACIÓN Y DOCUMENTOS","SI","SUBDIRECCIÓN DE ECOSISTEMAS E INFORMACIÓN AMBIENTAL",43966,null,null,{"$f":"IFERROR(WORKDAY(C1921,R1921,DiasNOLaborables),\"\")","v":43998},{"$f":"+IF(C1921=\"\",\"\",IF(I1921=\"\",\"\",(IF(I1921<=L1921,\"A TIEMPO\",\"FUERA DE TIEMPO\"))))","v":"A TIEMPO"},{"$f":"IF(I1921=\"\",\"\",NETWORKDAYS([4]Hoja1!C1921+1,[4]Hoja1!P1921,DiasNOLaborables))","v":4},"",null,null,20]
[1911,20209050040522,43966,"CORREO ELECTRÓNICO","SOLICITUD DE INFORMACIÓN Y DOCUMENTOS","REGISTROS AMBIENTALES","SI","SUBDIRECCIÓN DE ESTUDIOS AMBIENTALES",43976,null,null,{"$f":"IFERROR(WORKDAY(C1922,R1922,DiasNOLaborables),\"\")","v":43998},{"$f":"+IF(C1922=\"\",\"\",IF(I1922=\"\",\"\",(IF(I1922<=L1922,\"A TIEMPO\",\"FUERA DE TIEMPO\"))))","v":"A TIEMPO"},{"$f":"IF(I1922=\"\",\"\",NETWORKDAYS([4]Hoja1!C1922+1,[4]Hoja1!P1922,DiasNOLaborables))","v":8},"",null,null,20]
[1912,20209050040532,43966,"CORREO ELECTRÓNICO","SOLICITUD DE INFORMACIÓN Y DOCUMENTOS","ADMINISTRATIVA","SI","GRUPO DE TESORERÍA",43966,null,null,{"$f":"IFERROR(WORKDAY(C1923,R1923,DiasNOLaborables),\"\")","v":43998},{"$f":"+IF(C1923=\"\",\"\",IF(I1923=\"\",\"\",(IF(I1923<=L1923,\"A TIEMPO\",\"FUERA DE TIEMPO\"))))","v":"A TIEMPO"},{"$f":"IF(I1923=\"\",\"\",NETWORKDAYS([4]Hoja1!C1923+1,[4]Hoja1!P1923,DiasNOLaborables))","v":12},"",null,null,20]
[1913,20209050040552,43966,"CORREO ELECTRÓNICO","SOLICITUD DE INFORMACIÓN Y DOCUMENTOS","SOLICITUD DE INFORMACIÓN Y DOCUMENTOS","SI","SUBDIRECCIÓN DE METEOROLOGÍA",43969,null,null,{"$f":"IFERROR(WORKDAY(C1924,R1924,DiasNOLaborables),\"\")","v":43998},{"$f":"+IF(C1924=\"\",\"\",IF(I1924=\"\",\"\",(IF(I1924<=L1924,\"A TIEMPO\",\"FUERA DE TIEMPO\"))))","v":"A TIEMPO"},{"$f":"IF(I1924=\"\",\"\",NETWORKDAYS([4]Hoja1!C1924+1,[4]Hoja1!P1924,DiasNOLaborables))","v":9},"",null,null,20]
[1914,20209050040652,43966,"CORREO ELECTRÓNICO","SOLICITUD DE INFORMACIÓN Y DOCUMENTOS","SOLICITUD DE INFORMACIÓN Y DOCUMENTOS","SI","SUBDIRECCIÓN DE ECOSISTEMAS E INFORMACIÓN AMBIENTAL",43984,null,null,{"$f":"IFERROR(WORKDAY(C1925,R1925,DiasNOLaborables),\"\")","v":43998},{"$f":"+IF(C1925=\"\",\"\",IF(I1925=\"\",\"\",(IF(I1925<=L1925,\"A TIEMPO\",\"FUERA DE TIEMPO\"))))","v":"A TIEMPO"},{"$f":"IF(I1925=\"\",\"\",NETWORKDAYS([4]Hoja1!C1925+1,[4]Hoja1!P1925,DiasNOLaborables))","v":9},"",null,null,20]
[1915,20209050040662,43966,"CORREO ELECTRÓNICO","PETICIÓN","SOLICITUD DE INFORMACIÓN Y DOCUMENTOS","SI","SUBDIRECCIÓN DE ESTUDIOS AMBIENTALES",44015,null,null,{"$f":"IFERROR(WORKDAY(C1926,R1926,DiasNOLaborables),\"\")","v":44014},{"$f":"+IF(C1926=\"\",\"\",IF(I1926=\"\",\"\",(IF(I1926<=L1926,\"A TIEMPO\",\"FUERA DE TIEMPO\"))))","v":"FUERA DE TIEMPO"},{"$f":"IF(I1926=\"\",\"\",NETWORKDAYS([4]Hoja1!C1926+1,[4]Hoja1!P1926,DiasNOLaborables))","v":10},1,null,null,{"$f":"IFERROR(VLOOKUP(E1926,$Z$50:$AA$63,2),\"\")","v":30}]
[1916,20209050040682,43966,"CORREO ELECTRÓNICO","SOLICITUD DE INFORMACIÓN Y DOCUMENTOS","SOLICITUD DE INFORMACIÓN Y DOCUMENTOS","SI","SUBDIRECCIÓN DE ESTUDIOS AMBIENTALES",43985,null,null,{"$f":"IFERROR(WORKDAY(C1927,R1927,DiasNOLaborables),\"\")","v":43998},{"$f":"+IF(C1927=\"\",\"\",IF(I1927=\"\",\"\",(IF(I1927<=L1927,\"A TIEMPO\",\"FUERA DE TIEMPO\"))))","v":"A TIEMPO"},{"$f":"IF(I1927=\"\",\"\",NETWORKDAYS([4]Hoja1!C1927+1,[4]Hoja1!P1927,DiasNOLaborables))","v":8},"",null,null,20]
[1917,20209050040692,43966,"CORREO ELECTRÓNICO","SOLICITUD DE INFORMACIÓN Y DOCUMENTOS","SOLICITUD DE INFORMACIÓN Y DOCUMENTOS","SI","SUBDIRECCIÓN DE ECOSISTEMAS E INFORMACIÓN AMBIENTAL",43979,null,null,{"$f":"IFERROR(WORKDAY(C1928,R1928,DiasNOLaborables),\"\")","v":43998},{"$f":"+IF(C1928=\"\",\"\",IF(I1928=\"\",\"\",(IF(I1928<=L1928,\"A TIEMPO\",\"FUERA DE TIEMPO\"))))","v":"A TIEMPO"},{"$f":"IF(I1928=\"\",\"\",NETWORKDAYS([4]Hoja1!C1928+1,[4]Hoja1!P1928,DiasNOLaborables))","v":-2},"",null,null,20]
[1918,20209050040702,43966,"CORREO ELECTRÓNICO","SOLICITUD DE INFORMACIÓN Y DOCUMENTOS","SOLICITUD DE INFORMACIÓN Y DOCUMENTOS","SI","SUBDIRECCIÓN DE ECOSISTEMAS E INFORMACIÓN AMBIENTAL",43977,null,null,{"$f":"IFERROR(WORKDAY(C1929,R1929,DiasNOLaborables),\"\")","v":43998},{"$f":"+IF(C1929=\"\",\"\",IF(I1929=\"\",\"\",(IF(I1929<=L1929,\"A TIEMPO\",\"FUERA DE TIEMPO\"))))","v":"A TIEMPO"},{"$f":"IF(I1929=\"\",\"\",NETWORKDAYS([4]Hoja1!C1929+1,[4]Hoja1!P1929,DiasNOLaborables))","v":2},"",null,null,20]
[1919,20209050040462,43966,"MODULO CONTACTENOS","SOLICITUD DE INFORMACIÓN Y DOCUMENTOS","ADMINISTRATIVA","SI","GRUPO DE ADMINISTRACIÓN Y DESARROLLO DEL TALENTO HUMANO",43977,null,null,{"$f":"IFERROR(WORKDAY(C1930,R1930,DiasNOLaborables),\"\")","v":43998},{"$f":"+IF(C1930=\"\",\"\",IF(I1930=\"\",\"\",(IF(I1930<=L1930,\"A TIEMPO\",\"FUERA DE TIEMPO\"))))","v":"A TIEMPO"},{"$f":"IF(I1930=\"\",\"\",NETWORKDAYS([4]Hoja1!C1930+1,[4]Hoja1!P1930,DiasNOLaborables))","v":5},"",null,null,20]
[1920,20209050040772,43967,"MODULO CONTACTENOS","SOLICITUD DE INFORMACIÓN Y DOCUMENTOS","WEB Y CORREO","SI","OFICINA DE INFORMÁTICA",43983,null,null,{"$f":"IFERROR(WORKDAY(C1931,R1931,DiasNOLaborables),\"\")","v":43998},{"$f":"+IF(C1931=\"\",\"\",IF(I1931=\"\",\"\",(IF(I1931<=L1931,\"A TIEMPO\",\"FUERA DE TIEMPO\"))))","v":"A TIEMPO"},{"$f":"IF(I1931=\"\",\"\",NETWORKDAYS([4]Hoja1!C1931+1,[4]Hoja1!P1931,DiasNOLaborables))","v":8},"",null,null,20]
[1921,20209050040782,43967,"MODULO CONTACTENOS","SOLICITUD DE INFORMACIÓN Y DOCUMENTOS","WEB Y CORREO","SI","OFICINA DE INFORMÁTICA",43983,null,null,{"$f":"IFERROR(WORKDAY(C1932,R1932,DiasNOLaborables),\"\")","v":43998},{"$f":"+IF(C1932=\"\",\"\",IF(I1932=\"\",\"\",(IF(I1932<=L1932,\"A TIEMPO\",\"FUERA DE TIEMPO\"))))","v":"A TIEMPO"},{"$f":"IF(I1932=\"\",\"\",NETWORKDAYS([4]Hoja1!C1932+1,[4]Hoja1!P1932,DiasNOLaborables))","v":9},"",null,null,20]
[1922,20209050040862,43968,"MODULO CONTACTENOS","SOLICITUD DE INFORMACIÓN Y DOCUMENTOS","BOSQUES","SI","SUBDIRECCIÓN DE ECOSISTEMAS E INFORMACIÓN AMBIENTAL",43970,null,null,{"$f":"IFERROR(WORKDAY(C1933,R1933,DiasNOLaborables),\"\")","v":43998},{"$f":"+IF(C1933=\"\",\"\",IF(I1933=\"\",\"\",(IF(I1933<=L1933,\"A TIEMPO\",\"FUERA DE TIEMPO\"))))","v":"A TIEMPO"},{"$f":"IF(I1933=\"\",\"\",NETWORKDAYS([4]Hoja1!C1933+1,[4]Hoja1!P1933,DiasNOLaborables))","v":9},"",null,null,20]
[1923,20209050041002,43969,"MODULO CONTACTENOS","SOLICITUD DE INFORMACIÓN Y DOCUMENTOS","ADMINISTRATIVA","SI","GRUPO DE ADMINISTRACIÓN Y DESARROLLO DEL TALENTO HUMANO",43969,null,null,{"$f":"IFERROR(WORKDAY(C1934,R1934,DiasNOLaborables),\"\")","v":43999},{"$f":"+IF(C1934=\"\",\"\",IF(I1934=\"\",\"\",(IF(I1934<=L1934,\"A TIEMPO\",\"FUERA DE TIEMPO\"))))","v":"A TIEMPO"},{"$f":"IF(I1934=\"\",\"\",NETWORKDAYS([4]Hoja1!C1934+1,[4]Hoja1!P1934,DiasNOLaborables))","v":9},"",null,null,20]
[1924,20209050041062,43969,"MODULO CONTACTENOS","SOLICITUD DE INFORMACIÓN Y DOCUMENTOS","ADMINISTRATIVA","SI","GRUPO DE TESORERÍA",43972,null,null,{"$f":"IFERROR(WORKDAY(C1935,R1935,DiasNOLaborables),\"\")","v":43999},{"$f":"+IF(C1935=\"\",\"\",IF(I1935=\"\",\"\",(IF(I1935<=L1935,\"A TIEMPO\",\"FUERA DE TIEMPO\"))))","v":"A TIEMPO"},{"$f":"IF(I1935=\"\",\"\",NETWORKDAYS([4]Hoja1!C1935+1,[4]Hoja1!P1935,DiasNOLaborables))","v":9},"",null,null,20]
[1925,20209050041072,43969,"MODULO CONTACTENOS","SOLICITUD DE INFORMACIÓN Y DOCUMENTOS","ADMINISTRATIVA","SI","GRUPO DE ADMINISTRACIÓN Y DESARROLLO DEL TALENTO HUMANO",43969,null,null,{"$f":"IFERROR(WORKDAY(C1936,R1936,DiasNOLaborables),\"\")","v":43999},{"$f":"+IF(C1936=\"\",\"\",IF(I1936=\"\",\"\",(IF(I1936<=L1936,\"A TIEMPO\",\"FUERA DE TIEMPO\"))))","v":"A TIEMPO"},{"$f":"IF(I1936=\"\",\"\",NETWORKDAYS([4]Hoja1!C1936+1,[4]Hoja1!P1936,DiasNOLaborables))","v":9},"",null,null,20]
[1926,20209050041102,43969,"MODULO CONTACTENOS","SOLICITUD DE INFORMACIÓN Y DOCUMENTOS","ADMINISTRATIVA","SI","GRUPO DE ADMINISTRACIÓN Y DESARROLLO DEL TALENTO HUMANO",43970,null,null,{"$f":"IFERROR(WORKDAY(C1937,R1937,DiasNOLaborables),\"\")","v":43999},{"$f":"+IF(C1937=\"\",\"\",IF(I1937=\"\",\"\",(IF(I1937<=L1937,\"A TIEMPO\",\"FUERA DE TIEMPO\"))))","v":"A TIEMPO"},{"$f":"IF(I1937=\"\",\"\",NETWORKDAYS([4]Hoja1!C1937+1,[4]Hoja1!P1937,DiasNOLaborables))","v":2},"",null,null,20]
[1927,20209050041112,43969,"MODULO CONTACTENOS","SOLICITUD DE INFORMACIÓN Y DOCUMENTOS","REGISTROS AMBIENTALES","SI","SUBDIRECCIÓN DE ESTUDIOS AMBIENTALES",43971,null,null,{"$f":"IFERROR(WORKDAY(C1938,R1938,DiasNOLaborables),\"\")","v":43999},{"$f":"+IF(C1938=\"\",\"\",IF(I1938=\"\",\"\",(IF(I1938<=L1938,\"A TIEMPO\",\"FUERA DE TIEMPO\"))))","v":"A TIEMPO"},{"$f":"IF(I1938=\"\",\"\",NETWORKDAYS([4]Hoja1!C1938+1,[4]Hoja1!P1938,DiasNOLaborables))","v":6},"",null,null,20]
[1928,20209050041382,43969,"MODULO CONTACTENOS","SOLICITUD DE INFORMACIÓN Y DOCUMENTOS","ADMINISTRATIVA","SI","OFICINA ASESORA JURÍDICA",43970,null,null,{"$f":"IFERROR(WORKDAY(C1939,R1939,DiasNOLaborables),\"\")","v":43999},{"$f":"+IF(C1939=\"\",\"\",IF(I1939=\"\",\"\",(IF(I1939<=L1939,\"A TIEMPO\",\"FUERA DE TIEMPO\"))))","v":"A TIEMPO"},{"$f":"IF(I1939=\"\",\"\",NETWORKDAYS([4]Hoja1!C1939+1,[4]Hoja1!P1939,DiasNOLaborables))","v":11},"",null,null,20]
[1929,20209050041472,43969,"MODULO CONTACTENOS","SOLICITUD DE INFORMACIÓN Y DOCUMENTOS","CAMBIO CLIMÁTICO","SI","SUBDIRECCIÓN DE ESTUDIOS AMBIENTALES",43978,null,null,{"$f":"IFERROR(WORKDAY(C1940,R1940,DiasNOLaborables),\"\")","v":43999},{"$f":"+IF(C1940=\"\",\"\",IF(I1940=\"\",\"\",(IF(I1940<=L1940,\"A TIEMPO\",\"FUERA DE TIEMPO\"))))","v":"A TIEMPO"},{"$f":"IF(I1940=\"\",\"\",NETWORKDAYS([4]Hoja1!C1940+1,[4]Hoja1!P1940,DiasNOLaborables))","v":6},"",null,null,20]
[1930,20209050041122,43969,"CORREO ELECTRÓNICO","CERTIFICACIONES DE TIEMPO, CLIMA Y EVENTOS HIDROLÓGICOS","CERTIFICACIONES DE TIEMPO Y CLIMA","SI","SUBDIRECCIÓN DE METEOROLOGÍA",44016,null,null,44022,{"$f":"+IF(C1941=\"\",\"\",IF(I1941=\"\",\"\",(IF(I1941<=L1941,\"A TIEMPO\",\"FUERA DE TIEMPO\"))))","v":"A TIEMPO"},30,"",null,null,30]
[1931,20209050041132,43969,"CORREO ELECTRÓNICO","PETICIÓN","SOLICITUD DE INFORMACIÓN Y DOCUMENTOS","SI","SUBDIRECCIÓN DE ESTUDIOS AMBIENTALES",44014,null,null,{"$f":"IFERROR(WORKDAY(C1942,R1942,DiasNOLaborables),\"\")","v":44015},{"$f":"+IF(C1942=\"\",\"\",IF(I1942=\"\",\"\",(IF(I1942<=L1942,\"A TIEMPO\",\"FUERA DE TIEMPO\"))))","v":"A TIEMPO"},{"$f":"IF(I1942=\"\",\"\",NETWORKDAYS([4]Hoja1!C1942+1,[4]Hoja1!P1942,DiasNOLaborables))","v":4},"",null,null,30]
[1932,20209050041142,43969,"CORREO ELECTRÓNICO","SOLICITUD DE INFORMACIÓN Y DOCUMENTOS","SOLICITUD DE INFORMACIÓN Y DOCUMENTOS","SI","SUBDIRECCIÓN DE ESTUDIOS AMBIENTALES",43972,null,null,{"$f":"IFERROR(WORKDAY(C1943,R1943,DiasNOLaborables),\"\")","v":43999},{"$f":"+IF(C1943=\"\",\"\",IF(I1943=\"\",\"\",(IF(I1943<=L1943,\"A TIEMPO\",\"FUERA DE TIEMPO\"))))","v":"A TIEMPO"},{"$f":"IF(I1943=\"\",\"\",NETWORKDAYS([4]Hoja1!C1943+1,[4]Hoja1!P1943,DiasNOLaborables))","v":5},"",null,null,20]
[1933,20209050041152,43969,"CORREO ELECTRÓNICO","SOLICITUD DE INFORMACIÓN Y DOCUMENTOS","SOLICITUD DE INFORMACIÓN Y DOCUMENTOS","SI","SUBDIRECCIÓN DE ECOSISTEMAS E INFORMACIÓN AMBIENTAL",43979,null,null,{"$f":"IFERROR(WORKDAY(C1944,R1944,DiasNOLaborables),\"\")","v":43999},{"$f":"+IF(C1944=\"\",\"\",IF(I1944=\"\",\"\",(IF(I1944<=L1944,\"A TIEMPO\",\"FUERA DE TIEMPO\"))))","v":"A TIEMPO"},{"$f":"IF(I1944=\"\",\"\",NETWORKDAYS([4]Hoja1!C1944+1,[4]Hoja1!P1944,DiasNOLaborables))","v":5},"",null,null,20]
[1934,20209050041192,43969,"CORREO ELECTRÓNICO","SOLICITUD DE INFORMACIÓN Y DOCUMENTOS","SOLICITUD DE INFORMACIÓN Y DOCUMENTOS","SI","SUBDIRECCIÓN DE METEOROLOGÍA",43979,null,null,{"$f":"IFERROR(WORKDAY(C1945,R1945,DiasNOLaborables),\"\")","v":43999},{"$f":"+IF(C1945=\"\",\"\",IF(I1945=\"\",\"\",(IF(I1945<=L1945,\"A TIEMPO\",\"FUERA DE TIEMPO\"))))","v":"A TIEMPO"},{"$f":"IF(I1945=\"\",\"\",NETWORKDAYS([4]Hoja1!C1945+1,[4]Hoja1!P1945,DiasNOLaborables))","v":5},"",null,null,20]
[1935,20209050041232,43969,"CORREO ELECTRÓNICO","SOLICITUD DE INFORMACIÓN Y DOCUMENTOS","ADMINISTRATIVA","SI","GRUPO DE ADMINISTRACIÓN Y DESARROLLO DEL TALENTO HUMANO",43972,null,null,{"$f":"IFERROR(WORKDAY(C1946,R1946,DiasNOLaborables),\"\")","v":43999},{"$f":"+IF(C1946=\"\",\"\",IF(I1946=\"\",\"\",(IF(I1946<=L1946,\"A TIEMPO\",\"FUERA DE TIEMPO\"))))","v":"A TIEMPO"},{"$f":"IF(I1946=\"\",\"\",NETWORKDAYS([4]Hoja1!C1946+1,[4]Hoja1!P1946,DiasNOLaborables))","v":5},"",null,null,20]
[1936,20209050041242,43969,"CORREO ELECTRÓNICO","SOLICITUD DE INFORMACIÓN Y DOCUMENTOS","SOLICITUD DE INFORMACIÓN Y DOCUMENTOS","SI","SUBDIRECCIÓN DE ECOSISTEMAS E INFORMACIÓN AMBIENTAL",43977,null,null,{"$f":"IFERROR(WORKDAY(C1947,R1947,DiasNOLaborables),\"\")","v":43999},{"$f":"+IF(C1947=\"\",\"\",IF(I1947=\"\",\"\",(IF(I1947<=L1947,\"A TIEMPO\",\"FUERA DE TIEMPO\"))))","v":"A TIEMPO"},{"$f":"IF(I1947=\"\",\"\",NETWORKDAYS([4]Hoja1!C1947+1,[4]Hoja1!P1947,DiasNOLaborables))","v":4},"",null,null,20]
[1937,20209050041262,43969,"CORREO ELECTRÓNICO","SOLICITUD DE INFORMACIÓN Y DOCUMENTOS","SOLICITUD DE INFORMACIÓN Y DOCUMENTOS","SI","SUBDIRECCIÓN DE METEOROLOGÍA",43977,null,null,{"$f":"IFERROR(WORKDAY(C1948,R1948,DiasNOLaborables),\"\")","v":43999},{"$f":"+IF(C1948=\"\",\"\",IF(I1948=\"\",\"\",(IF(I1948<=L1948,\"A TIEMPO\",\"FUERA DE TIEMPO\"))))","v":"A TIEMPO"},{"$f":"IF(I1948=\"\",\"\",NETWORKDAYS([4]Hoja1!C1948+1,[4]Hoja1!P1948,DiasNOLaborables))","v":4},"",null,null,20]
[1938,20209050041272,43969,"CORREO ELECTRÓNICO","SOLICITUD DE INFORMACIÓN Y DOCUMENTOS","SOLICITUD DE INFORMACIÓN Y DOCUMENTOS","SI","OFICINA DE INFORMÁTICA",43979,null,null,{"$f":"IFERROR(WORKDAY(C1949,R1949,DiasNOLaborables),\"\")","v":43999},{"$f":"+IF(C1949=\"\",\"\",IF(I1949=\"\",\"\",(IF(I1949<=L1949,\"A TIEMPO\",\"FUERA DE TIEMPO\"))))","v":"A TIEMPO"},{"$f":"IF(I1949=\"\",\"\",NETWORKDAYS([4]Hoja1!C1949+1,[4]Hoja1!P1949,DiasNOLaborables))","v":4},"",null,null,20]
[1939,20209050041282,43969,"CORREO ELECTRÓNICO","SOLICITUD DE INFORMACIÓN Y DOCUMENTOS","ADMINISTRATIVA","SI","GRUPO DE ADMINISTRACIÓN Y DESARROLLO DEL TALENTO HUMANO",43972,null,null,{"$f":"IFERROR(WORKDAY(C1950,R1950,DiasNOLaborables),\"\")","v":43999},{"$f":"+IF(C1950=\"\",\"\",IF(I1950=\"\",\"\",(IF(I1950<=L1950,\"A TIEMPO\",\"FUERA DE TIEMPO\"))))","v":"A TIEMPO"},{"$f":"IF(I1950=\"\",\"\",NETWORKDAYS([4]Hoja1!C1950+1,[4]Hoja1!P1950,DiasNOLaborables))","v":4},"",null,null,20]
[1940,20209050041292,43969,"CORREO ELECTRÓNICO","SOLICITUD DE INFORMACIÓN Y DOCUMENTOS","ADMINISTRATIVA","SI","GRUPO DE ADMINISTRACIÓN Y DESARROLLO DEL TALENTO HUMANO",43970,null,null,{"$f":"IFERROR(WORKDAY(C1951,R1951,DiasNOLaborables),\"\")","v":43999},{"$f":"+IF(C1951=\"\",\"\",IF(I1951=\"\",\"\",(IF(I1951<=L1951,\"A TIEMPO\",\"FUERA DE TIEMPO\"))))","v":"A TIEMPO"},{"$f":"IF(I1951=\"\",\"\",NETWORKDAYS([4]Hoja1!C1951+1,[4]Hoja1!P1951,DiasNOLaborables))","v":4},"",null,null,20]
[1941,20209050041312,43969,"CORREO ELECTRÓNICO","SOLICITUD DE INFORMACIÓN Y DOCUMENTOS","ADMINISTRATIVA","SI","OFICINA ASESORA JURÍDICA",43970,null,null,{"$f":"IFERROR(WORKDAY(C1952,R1952,DiasNOLaborables),\"\")","v":43999},{"$f":"+IF(C1952=\"\",\"\",IF(I1952=\"\",\"\",(IF(I1952<=L1952,\"A TIEMPO\",\"FUERA DE TIEMPO\"))))","v":"A TIEMPO"},{"$f":"IF(I1952=\"\",\"\",NETWORKDAYS([4]Hoja1!C1952+1,[4]Hoja1!P1952,DiasNOLaborables))","v":5},"",null,null,20]
[1942,20209050041332,43969,"CORREO ELECTRÓNICO","SOLICITUD DE INFORMACIÓN Y DOCUMENTOS","REGISTROS AMBIENTALES","SI","SUBDIRECCIÓN DE ESTUDIOS AMBIENTALES",43969,null,null,{"$f":"IFERROR(WORKDAY(C1953,R1953,DiasNOLaborables),\"\")","v":43999},{"$f":"+IF(C1953=\"\",\"\",IF(I1953=\"\",\"\",(IF(I1953<=L1953,\"A TIEMPO\",\"FUERA DE TIEMPO\"))))","v":"A TIEMPO"},{"$f":"IF(I1953=\"\",\"\",NETWORKDAYS([4]Hoja1!C1953+1,[4]Hoja1!P1953,DiasNOLaborables))","v":5},"",null,null,20]
[1943,20209050041342,43969,"CORREO ELECTRÓNICO","CERTIFICACIONES DE TIEMPO, CLIMA Y EVENTOS HIDROLÓGICOS","CERTIFICACIONES DE TIEMPO Y CLIMA","SI","SUBDIRECCIÓN DE METEOROLOGÍA",43970,null,null,{"$f":"IFERROR(WORKDAY(C1954,R1954,DiasNOLaborables),\"\")","v":44015},{"$f":"+IF(C1954=\"\",\"\",IF(I1954=\"\",\"\",(IF(I1954<=L1954,\"A TIEMPO\",\"FUERA DE TIEMPO\"))))","v":"A TIEMPO"},{"$f":"IF(I1954=\"\",\"\",NETWORKDAYS([4]Hoja1!C1954+1,[4]Hoja1!P1954,DiasNOLaborables))","v":5},"",null,null,30]
[1944,20209050041352,43969,"CORREO ELECTRÓNICO","CERTIFICACIONES DE TIEMPO, CLIMA Y EVENTOS HIDROLÓGICOS","CERTIFICACIONES DE TIEMPO Y CLIMA","SI","SUBDIRECCIÓN DE METEOROLOGÍA",43971,null,null,{"$f":"IFERROR(WORKDAY(C1955,R1955,DiasNOLaborables),\"\")","v":44015},{"$f":"+IF(C1955=\"\",\"\",IF(I1955=\"\",\"\",(IF(I1955<=L1955,\"A TIEMPO\",\"FUERA DE TIEMPO\"))))","v":"A TIEMPO"},{"$f":"IF(I1955=\"\",\"\",NETWORKDAYS([4]Hoja1!C1955+1,[4]Hoja1!P1955,DiasNOLaborables))","v":5},"",null,null,30]
[1945,20209050041362,43969,"CORREO ELECTRÓNICO","CERTIFICACIONES DE TIEMPO, CLIMA Y EVENTOS HIDROLÓGICOS","CERTIFICACIONES DE TIEMPO Y CLIMA","SI","SUBDIRECCIÓN DE METEOROLOGÍA",43971,null,null,{"$f":"IFERROR(WORKDAY(C1956,R1956,DiasNOLaborables),\"\")","v":44015},{"$f":"+IF(C1956=\"\",\"\",IF(I1956=\"\",\"\",(IF(I1956<=L1956,\"A TIEMPO\",\"FUERA DE TIEMPO\"))))","v":"A TIEMPO"},{"$f":"IF(I1956=\"\",\"\",NETWORKDAYS([4]Hoja1!C1956+1,[4]Hoja1!P1956,DiasNOLaborables))","v":5},"",null,null,30]
[1946,20209050041372,43969,"CORREO ELECTRÓNICO","CERTIFICACIONES DE TIEMPO, CLIMA Y EVENTOS HIDROLÓGICOS","CERTIFICACIONES DE TIEMPO Y CLIMA","SI","SUBDIRECCIÓN DE METEOROLOGÍA",43971,null,null,{"$f":"IFERROR(WORKDAY(C1957,R1957,DiasNOLaborables),\"\")","v":44015},{"$f":"+IF(C1957=\"\",\"\",IF(I1957=\"\",\"\",(IF(I1957<=L1957,\"A TIEMPO\",\"FUERA DE TIEMPO\"))))","v":"A TIEMPO"},{"$f":"IF(I1957=\"\",\"\",NETWORKDAYS([4]Hoja1!C1957+1,[4]Hoja1!P1957,DiasNOLaborables))","v":5},"",null,null,30]
[1947,20209050041392,43969,"CORREO ELECTRÓNICO","CERTIFICACIONES DE TIEMPO, CLIMA Y EVENTOS HIDROLÓGICOS","CERTIFICACIONES DE TIEMPO Y CLIMA","SI","SUBDIRECCIÓN DE METEOROLOGÍA",43973,null,null,{"$f":"IFERROR(WORKDAY(C1958,R1958,DiasNOLaborables),\"\")","v":44015},{"$f":"+IF(C1958=\"\",\"\",IF(I1958=\"\",\"\",(IF(I1958<=L1958,\"A TIEMPO\",\"FUERA DE TIEMPO\"))))","v":"A TIEMPO"},{"$f":"IF(I1958=\"\",\"\",NETWORKDAYS([4]Hoja1!C1958+1,[4]Hoja1!P1958,DiasNOLaborables))","v":5},"",null,null,30]
[1948,20209050041402,43969,"CORREO ELECTRÓNICO","CERTIFICACIONES DE TIEMPO, CLIMA Y EVENTOS HIDROLÓGICOS","CERTIFICACIONES DE TIEMPO Y CLIMA","SI","SUBDIRECCIÓN DE METEOROLOGÍA",43978,null,null,{"$f":"IFERROR(WORKDAY(C1959,R1959,DiasNOLaborables),\"\")","v":44015},{"$f":"+IF(C1959=\"\",\"\",IF(I1959=\"\",\"\",(IF(I1959<=L1959,\"A TIEMPO\",\"FUERA DE TIEMPO\"))))","v":"A TIEMPO"},{"$f":"IF(I1959=\"\",\"\",NETWORKDAYS([4]Hoja1!C1959+1,[4]Hoja1!P1959,DiasNOLaborables))","v":5},"",null,null,30]
[1949,20209050041412,43969,"CORREO ELECTRÓNICO","CERTIFICACIONES DE TIEMPO, CLIMA Y EVENTOS HIDROLÓGICOS","CERTIFICACIONES DE TIEMPO Y CLIMA","SI","SUBDIRECCIÓN DE METEOROLOGÍA",43971,null,null,{"$f":"IFERROR(WORKDAY(C1960,R1960,DiasNOLaborables),\"\")","v":44015},{"$f":"+IF(C1960=\"\",\"\",IF(I1960=\"\",\"\",(IF(I1960<=L1960,\"A TIEMPO\",\"FUERA DE TIEMPO\"))))","v":"A TIEMPO"},{"$f":"IF(I1960=\"\",\"\",NETWORKDAYS([4]Hoja1!C1960+1,[4]Hoja1!P1960,DiasNOLaborables))","v":-2},"",null,null,30]
[1950,20209050041422,43969,"CORREO ELECTRÓNICO","CERTIFICACIONES DE TIEMPO, CLIMA Y EVENTOS HIDROLÓGICOS","CERTIFICACIONES DE TIEMPO Y CLIMA","SI","SUBDIRECCIÓN DE METEOROLOGÍA",43971,null,null,{"$f":"IFERROR(WORKDAY(C1961,R1961,DiasNOLaborables),\"\")","v":44015},{"$f":"+IF(C1961=\"\",\"\",IF(I1961=\"\",\"\",(IF(I1961<=L1961,\"A TIEMPO\",\"FUERA DE TIEMPO\"))))","v":"A TIEMPO"},{"$f":"IF(I1961=\"\",\"\",NETWORKDAYS([4]Hoja1!C1961+1,[4]Hoja1!P1961,DiasNOLaborables))","v":-2},"",null,null,30]
[1951,20209050041432,43969,"CORREO ELECTRÓNICO","SOLICITUD DE INFORMACIÓN Y DOCUMENTOS","ADMINISTRATIVA","SI","OFICINA ASESORA JURÍDICA",43999,null,null,{"$f":"IFERROR(WORKDAY(C1962,R1962,DiasNOLaborables),\"\")","v":43999},{"$f":"+IF(C1962=\"\",\"\",IF(I1962=\"\",\"\",(IF(I1962<=L1962,\"A TIEMPO\",\"FUERA DE TIEMPO\"))))","v":"A TIEMPO"},{"$f":"IF(I1962=\"\",\"\",NETWORKDAYS([4]Hoja1!C1962+1,[4]Hoja1!P1962,DiasNOLaborables))","v":8},"",null,null,20]
[1952,20209050041682,43970,"CORREO ELECTRÓNICO","SOLICITUD DE INFORMACIÓN Y DOCUMENTOS","REGISTROS AMBIENTALES","SI","SUBDIRECCIÓN DE ESTUDIOS AMBIENTALES",43970,null,null,{"$f":"IFERROR(WORKDAY(C1963,R1963,DiasNOLaborables),\"\")","v":44000},{"$f":"+IF(C1963=\"\",\"\",IF(I1963=\"\",\"\",(IF(I1963<=L1963,\"A TIEMPO\",\"FUERA DE TIEMPO\"))))","v":"A TIEMPO"},{"$f":"IF(I1963=\"\",\"\",NETWORKDAYS([4]Hoja1!C1963+1,[4]Hoja1!P1963,DiasNOLaborables))","v":8},"",null,null,20]
[1953,20209050041702,43970,"CORREO ELECTRÓNICO","SOLICITUD DE INFORMACIÓN Y DOCUMENTOS","SOLICITUD DE INFORMACIÓN Y DOCUMENTOS","SI","OFICINA DE INFORMÁTICA",43979,null,null,{"$f":"IFERROR(WORKDAY(C1964,R1964,DiasNOLaborables),\"\")","v":44000},{"$f":"+IF(C1964=\"\",\"\",IF(I1964=\"\",\"\",(IF(I1964<=L1964,\"A TIEMPO\",\"FUERA DE TIEMPO\"))))","v":"A TIEMPO"},{"$f":"IF(I1964=\"\",\"\",NETWORKDAYS([4]Hoja1!C1964+1,[4]Hoja1!P1964,DiasNOLaborables))","v":-2},"",null,null,20]
[1954,20209050041722,43970,"CORREO ELECTRÓNICO","SOLICITUD DE INFORMACIÓN Y DOCUMENTOS","REGISTROS AMBIENTALES","SI","SUBDIRECCIÓN DE ESTUDIOS AMBIENTALES",43985,null,null,{"$f":"IFERROR(WORKDAY(C1965,R1965,DiasNOLaborables),\"\")","v":44000},{"$f":"+IF(C1965=\"\",\"\",IF(I1965=\"\",\"\",(IF(I1965<=L1965,\"A TIEMPO\",\"FUERA DE TIEMPO\"))))","v":"A TIEMPO"},{"$f":"IF(I1965=\"\",\"\",NETWORKDAYS([4]Hoja1!C1965+1,[4]Hoja1!P1965,DiasNOLaborables))","v":3},"",null,null,20]
[1955,20209050041732,43970,"CORREO ELECTRÓNICO","SOLICITUD DE INFORMACIÓN Y DOCUMENTOS","SOLICITUD DE INFORMACIÓN Y DOCUMENTOS","SI","SUBDIRECCIÓN DE ESTUDIOS AMBIENTALES",43984,null,null,{"$f":"IFERROR(WORKDAY(C1966,R1966,DiasNOLaborables),\"\")","v":44000},{"$f":"+IF(C1966=\"\",\"\",IF(I1966=\"\",\"\",(IF(I1966<=L1966,\"A TIEMPO\",\"FUERA DE TIEMPO\"))))","v":"A TIEMPO"},{"$f":"IF(I1966=\"\",\"\",NETWORKDAYS([4]Hoja1!C1966+1,[4]Hoja1!P1966,DiasNOLaborables))","v":27},"",null,null,20]
[1956,20209050041762,43970,"CORREO ELECTRÓNICO","SOLICITUD DE INFORMACIÓN Y DOCUMENTOS","SOLICITUD DE INFORMACIÓN Y DOCUMENTOS","SI","SUBDIRECCIÓN DE ESTUDIOS AMBIENTALES",43984,null,null,{"$f":"IFERROR(WORKDAY(C1967,R1967,DiasNOLaborables),\"\")","v":44000},{"$f":"+IF(C1967=\"\",\"\",IF(I1967=\"\",\"\",(IF(I1967<=L1967,\"A TIEMPO\",\"FUERA DE TIEMPO\"))))","v":"A TIEMPO"},{"$f":"IF(I1967=\"\",\"\",NETWORKDAYS([4]Hoja1!C1967+1,[4]Hoja1!P1967,DiasNOLaborables))","v":27},"",null,null,20]
[1957,20209050041782,43970,"CORREO ELECTRÓNICO","SOLICITUD DE INFORMACIÓN Y DOCUMENTOS","SOLICITUD DE INFORMACIÓN Y DOCUMENTOS","SI","OFICINA DE INFORMÁTICA",43986,null,null,{"$f":"IFERROR(WORKDAY(C1968,R1968,DiasNOLaborables),\"\")","v":44000},{"$f":"+IF(C1968=\"\",\"\",IF(I1968=\"\",\"\",(IF(I1968<=L1968,\"A TIEMPO\",\"FUERA DE TIEMPO\"))))","v":"A TIEMPO"},{"$f":"IF(I1968=\"\",\"\",NETWORKDAYS([4]Hoja1!C1968+1,[4]Hoja1!P1968,DiasNOLaborables))","v":8},"",null,null,20]
[1958,20209050041792,43970,"CORREO ELECTRÓNICO","SOLICITUD DE INFORMACIÓN Y DOCUMENTOS","SOLICITUD DE INFORMACIÓN Y DOCUMENTOS","SI","SUBDIRECCIÓN DE ESTUDIOS AMBIENTALES",43979,null,null,{"$f":"IFERROR(WORKDAY(C1969,R1969,DiasNOLaborables),\"\")","v":44000},{"$f":"+IF(C1969=\"\",\"\",IF(I1969=\"\",\"\",(IF(I1969<=L1969,\"A TIEMPO\",\"FUERA DE TIEMPO\"))))","v":"A TIEMPO"},{"$f":"IF(I1969=\"\",\"\",NETWORKDAYS([4]Hoja1!C1969+1,[4]Hoja1!P1969,DiasNOLaborables))","v":2},"",null,null,20]
[{"$f":"IF(B1968<>\"\",A1969+1,\"\")","v":1959},20209050041812,43970,"CORREO ELECTRÓNICO","SOLICITUD DE INFORMACIÓN Y DOCUMENTOS","SOLICITUD DE INFORMACIÓN Y DOCUMENTOS","SI","OFICINA DE INFORMÁTICA",43980,null,null,{"$f":"IFERROR(WORKDAY(C1970,R1970,DiasNOLaborables),\"\")","v":44000},{"$f":"+IF(C1970=\"\",\"\",IF(I1970=\"\",\"\",(IF(I1970<=L1970,\"A TIEMPO\",\"FUERA DE TIEMPO\"))))","v":"A TIEMPO"},{"$f":"IF(I1970=\"\",\"\",NETWORKDAYS([4]Hoja1!C1970+1,[4]Hoja1!P1970,DiasNOLaborables))","v":2},"",null,null,20]
[1960,20209050041822,43970,"CORREO ELECTRÓNICO","CERTIFICACIONES DE TIEMPO, CLIMA Y EVENTOS HIDROLÓGICOS","SOLICITUD DE INFORMACIÓN Y DOCUMENTOS","SI","OFICINA DEL SERVICIO DE PRONÓSTICOS Y ALERTAS",43970,null,null,{"$f":"IFERROR(WORKDAY(C1971,R1971,DiasNOLaborables),\"\")","v":44018},{"$f":"+IF(C1971=\"\",\"\",IF(I1971=\"\",\"\",(IF(I1971<=L1971,\"A TIEMPO\",\"FUERA DE TIEMPO\"))))","v":"A TIEMPO"},{"$f":"IF(I1971=\"\",\"\",NETWORKDAYS([4]Hoja1!C1971+1,[4]Hoja1!P1971,DiasNOLaborables))","v":3},"",null,null,30]
[1961,20209050041562,43970,"MODULO CONTACTENOS","SOLICITUD DE INFORMACIÓN Y DOCUMENTOS","SOLICITUD DE INFORMACIÓN Y DOCUMENTOS","SI","OFICINA DE INFORMÁTICA",43979,null,null,{"$f":"IFERROR(WORKDAY(C1972,R1972,DiasNOLaborables),\"\")","v":44000},{"$f":"+IF(C1972=\"\",\"\",IF(I1972=\"\",\"\",(IF(I1972<=L1972,\"A TIEMPO\",\"FUERA DE TIEMPO\"))))","v":"A TIEMPO"},{"$f":"IF(I1972=\"\",\"\",NETWORKDAYS([4]Hoja1!C1972+1,[4]Hoja1!P1972,DiasNOLaborables))","v":3},{"$f":"IF(NETWORKDAYS(L1972+1,I1972,DiasNOLaborables)<=0,\"\",NETWORKDAYS(L1972+1,I1972,DiasNOLaborables))","v":""},null,null,20]
[1962,20209050042022,43970,"CORREO ELECTRÓNICO","SOLICITUD DE INFORMACIÓN Y DOCUMENTOS","SOLICITUD DE INFORMACIÓN Y DOCUMENTOS","SI","SUBDIRECCIÓN DE ESTUDIOS AMBIENTALES",43994,null,null,{"$f":"IFERROR(WORKDAY(C1973,R1973,DiasNOLaborables),\"\")","v":44000},{"$f":"+IF(C1973=\"\",\"\",IF(I1973=\"\",\"\",(IF(I1973<=L1973,\"A TIEMPO\",\"FUERA DE TIEMPO\"))))","v":"A TIEMPO"},{"$f":"IF(I1973=\"\",\"\",NETWORKDAYS([4]Hoja1!C1973+1,[4]Hoja1!P1973,DiasNOLaborables))","v":5},"",null,null,20]
[1963,20209910038072,43970,"MODULO CONTACTENOS","SOLICITUD DE INFORMACIÓN Y DOCUMENTOS","ADMINISTRATIVA","SI","OFICINA ASESORA JURÍDICA",43985,null,null,{"$f":"IFERROR(WORKDAY(C1974,R1974,DiasNOLaborables),\"\")","v":44000},{"$f":"+IF(C1974=\"\",\"\",IF(I1974=\"\",\"\",(IF(I1974<=L1974,\"A TIEMPO\",\"FUERA DE TIEMPO\"))))","v":"A TIEMPO"},{"$f":"IF(I1974=\"\",\"\",NETWORKDAYS([4]Hoja1!C1974+1,[4]Hoja1!P1974,DiasNOLaborables))","v":2},"",null,null,20]
[1964,20209050041542,43970,"MODULO CONTACTENOS","SOLICITUD DE INFORMACIÓN Y DOCUMENTOS","BOSQUES","SI","SUBDIRECCIÓN DE ECOSISTEMAS E INFORMACIÓN AMBIENTAL",43973,null,null,{"$f":"IFERROR(WORKDAY(C1975,R1975,DiasNOLaborables),\"\")","v":44000},{"$f":"+IF(C1975=\"\",\"\",IF(I1975=\"\",\"\",(IF(I1975<=L1975,\"A TIEMPO\",\"FUERA DE TIEMPO\"))))","v":"A TIEMPO"},{"$f":"IF(I1975=\"\",\"\",NETWORKDAYS([4]Hoja1!C1975+1,[4]Hoja1!P1975,DiasNOLaborables))","v":8},"",null,null,20]
[1965,20209050041552,43970,"MODULO CONTACTENOS","SOLICITUD DE INFORMACIÓN Y DOCUMENTOS","ADMINISTRATIVA","SI","GRUPO DE TESORERÍA",43972,null,null,{"$f":"IFERROR(WORKDAY(C1976,R1976,DiasNOLaborables),\"\")","v":44000},{"$f":"+IF(C1976=\"\",\"\",IF(I1976=\"\",\"\",(IF(I1976<=L1976,\"A TIEMPO\",\"FUERA DE TIEMPO\"))))","v":"A TIEMPO"},{"$f":"IF(I1976=\"\",\"\",NETWORKDAYS([4]Hoja1!C1976+1,[4]Hoja1!P1976,DiasNOLaborables))","v":3},"",null,null,20]
[1966,20209050041582,43970,"MODULO CONTACTENOS","SOLICITUD DE INFORMACIÓN Y DOCUMENTOS","ADMINISTRATIVA","SI","GRUPO DE TESORERÍA",43972,null,null,{"$f":"IFERROR(WORKDAY(C1977,R1977,DiasNOLaborables),\"\")","v":44000},{"$f":"+IF(C1977=\"\",\"\",IF(I1977=\"\",\"\",(IF(I1977<=L1977,\"A TIEMPO\",\"FUERA DE TIEMPO\"))))","v":"A TIEMPO"},{"$f":"IF(I1977=\"\",\"\",NETWORKDAYS([4]Hoja1!C1977+1,[4]Hoja1!P1977,DiasNOLaborables))","v":3},"",null,null,20]
[1967,20209050041852,43970,"MODULO CONTACTENOS","SOLICITUD DE INFORMACIÓN Y DOCUMENTOS","OPERACIÓN DE REDES","SI","SUBDIRECCIÓN DE HIDROLOGÍA",43972,null,null,{"$f":"IFERROR(WORKDAY(C1978,R1978,DiasNOLaborables),\"\")","v":44000},{"$f":"+IF(C1978=\"\",\"\",IF(I1978=\"\",\"\",(IF(I1978<=L1978,\"A TIEMPO\",\"FUERA DE TIEMPO\"))))","v":"A TIEMPO"},{"$f":"IF(I1978=\"\",\"\",NETWORKDAYS([4]Hoja1!C1978+1,[4]Hoja1!P1978,DiasNOLaborables))","v":2},"",null,null,20]
[1968,20209050041862,43970,"MODULO CONTACTENOS","SOLICITUD DE INFORMACIÓN Y DOCUMENTOS","WEB Y CORREO","SI","OFICINA DE INFORMÁTICA",43952,null,null,{"$f":"IFERROR(WORKDAY(C1979,R1979,DiasNOLaborables),\"\")","v":44000},{"$f":"+IF(C1979=\"\",\"\",IF(I1979=\"\",\"\",(IF(I1979<=L1979,\"A TIEMPO\",\"FUERA DE TIEMPO\"))))","v":"A TIEMPO"},{"$f":"IF(I1979=\"\",\"\",NETWORKDAYS([4]Hoja1!C1979+1,[4]Hoja1!P1979,DiasNOLaborables))","v":1},"",null,null,20]
[1969,20209050042002,43971,"MODULO CONTACTENOS","SOLICITUD DE INFORMACIÓN Y DOCUMENTOS","SIRH","SI","SUBDIRECCIÓN DE HIDROLOGÍA",43979,null,null,{"$f":"IFERROR(WORKDAY(C1980,R1980,DiasNOLaborables),\"\")","v":44001},{"$f":"+IF(C1980=\"\",\"\",IF(I1980=\"\",\"\",(IF(I1980<=L1980,\"A TIEMPO\",\"FUERA DE TIEMPO\"))))","v":"A TIEMPO"},{"$f":"IF(I1980=\"\",\"\",NETWORKDAYS([4]Hoja1!C1980+1,[4]Hoja1!P1980,DiasNOLaborables))","v":1},"",null,null,20]
[1970,20209050042012,43971,"MODULO CONTACTENOS","SOLICITUD DE INFORMACIÓN Y DOCUMENTOS","SIRH","SI","SUBDIRECCIÓN DE HIDROLOGÍA",43979,null,null,{"$f":"IFERROR(WORKDAY(C1981,R1981,DiasNOLaborables),\"\")","v":44001},{"$f":"+IF(C1981=\"\",\"\",IF(I1981=\"\",\"\",(IF(I1981<=L1981,\"A TIEMPO\",\"FUERA DE TIEMPO\"))))","v":"A TIEMPO"},{"$f":"IF(I1981=\"\",\"\",NETWORKDAYS([4]Hoja1!C1981+1,[4]Hoja1!P1981,DiasNOLaborables))","v":3},"",null,null,20]
[1971,20209050042192,43971,"MODULO CONTACTENOS","SOLICITUD DE INFORMACIÓN Y DOCUMENTOS","ADMINISTRATIVA","SI","GRUPO DE ADMINISTRACIÓN Y DESARROLLO DEL TALENTO HUMANO",43973,null,null,{"$f":"IFERROR(WORKDAY(C1982,R1982,DiasNOLaborables),\"\")","v":44001},{"$f":"+IF(C1982=\"\",\"\",IF(I1982=\"\",\"\",(IF(I1982<=L1982,\"A TIEMPO\",\"FUERA DE TIEMPO\"))))","v":"A TIEMPO"},{"$f":"IF(I1982=\"\",\"\",NETWORKDAYS([4]Hoja1!C1982+1,[4]Hoja1!P1982,DiasNOLaborables))","v":7},"",null,null,20]
[1972,20209050042232,43971,"MODULO CONTACTENOS","SOLICITUD DE INFORMACIÓN Y DOCUMENTOS","ADMINISTRATIVA","SI","GRUPO DE ADMINISTRACIÓN Y DESARROLLO DEL TALENTO HUMANO",43977,null,null,{"$f":"IFERROR(WORKDAY(C1983,R1983,DiasNOLaborables),\"\")","v":44001},{"$f":"+IF(C1983=\"\",\"\",IF(I1983=\"\",\"\",(IF(I1983<=L1983,\"A TIEMPO\",\"FUERA DE TIEMPO\"))))","v":"A TIEMPO"},{"$f":"IF(I1983=\"\",\"\",NETWORKDAYS([4]Hoja1!C1983+1,[4]Hoja1!P1983,DiasNOLaborables))","v":6},"",null,null,20]
[1973,20209050042242,43971,"MODULO CONTACTENOS","SOLICITUD DE INFORMACIÓN Y DOCUMENTOS","ADMINISTRATIVA","SI","GRUPO DE ADMINISTRACIÓN Y DESARROLLO DEL TALENTO HUMANO",43973,null,null,{"$f":"IFERROR(WORKDAY(C1984,R1984,DiasNOLaborables),\"\")","v":44001},{"$f":"+IF(C1984=\"\",\"\",IF(I1984=\"\",\"\",(IF(I1984<=L1984,\"A TIEMPO\",\"FUERA DE TIEMPO\"))))","v":"A TIEMPO"},{"$f":"IF(I1984=\"\",\"\",NETWORKDAYS([4]Hoja1!C1984+1,[4]Hoja1!P1984,DiasNOLaborables))","v":2},"",null,null,20]
[1974,20209050042032,43971,"CORREO ELECTRÓNICO","SOLICITUD DE INFORMACIÓN Y DOCUMENTOS","SOLICITUD DE INFORMACIÓN Y DOCUMENTOS","SI","SUBDIRECCIÓN DE ECOSISTEMAS E INFORMACIÓN AMBIENTAL",43973,null,null,{"$f":"IFERROR(WORKDAY(C1985,R1985,DiasNOLaborables),\"\")","v":44001},{"$f":"+IF(C1985=\"\",\"\",IF(I1985=\"\",\"\",(IF(I1985<=L1985,\"A TIEMPO\",\"FUERA DE TIEMPO\"))))","v":"A TIEMPO"},{"$f":"IF(I1985=\"\",\"\",NETWORKDAYS([4]Hoja1!C1985+1,[4]Hoja1!P1985,DiasNOLaborables))","v":7},"",null,null,20]
[1975,20209050042042,43971,"CORREO ELECTRÓNICO","SOLICITUD DE INFORMACIÓN Y DOCUMENTOS","SOLICITUD DE INFORMACIÓN Y DOCUMENTOS","SI","SUBDIRECCIÓN DE METEOROLOGÍA",43979,null,null,{"$f":"IFERROR(WORKDAY(C1986,R1986,DiasNOLaborables),\"\")","v":44001},{"$f":"+IF(C1986=\"\",\"\",IF(I1986=\"\",\"\",(IF(I1986<=L1986,\"A TIEMPO\",\"FUERA DE TIEMPO\"))))","v":"A TIEMPO"},{"$f":"IF(I1986=\"\",\"\",NETWORKDAYS([4]Hoja1!C1986+1,[4]Hoja1!P1986,DiasNOLaborables))","v":-2},"",null,null,20]
[1976,20209050042052,43971,"CORREO ELECTRÓNICO","SOLICITUD DE INFORMACIÓN Y DOCUMENTOS","REGISTROS AMBIENTALES","SI","SUBDIRECCIÓN DE ESTUDIOS AMBIENTALES",43986,null,null,{"$f":"IFERROR(WORKDAY(C1987,R1987,DiasNOLaborables),\"\")","v":44001},{"$f":"+IF(C1987=\"\",\"\",IF(I1987=\"\",\"\",(IF(I1987<=L1987,\"A TIEMPO\",\"FUERA DE TIEMPO\"))))","v":"A TIEMPO"},{"$f":"IF(I1987=\"\",\"\",NETWORKDAYS([4]Hoja1!C1987+1,[4]Hoja1!P1987,DiasNOLaborables))","v":6},"",null,null,20]
[1977,20209050042062,43971,"CORREO ELECTRÓNICO","SOLICITUD DE INFORMACIÓN Y DOCUMENTOS","ADMINISTRATIVA","SI","GRUPO DE ADMINISTRACIÓN Y DESARROLLO DEL TALENTO HUMANO",43972,null,null,{"$f":"IFERROR(WORKDAY(C1988,R1988,DiasNOLaborables),\"\")","v":44001},{"$f":"+IF(C1988=\"\",\"\",IF(I1988=\"\",\"\",(IF(I1988<=L1988,\"A TIEMPO\",\"FUERA DE TIEMPO\"))))","v":"A TIEMPO"},{"$f":"IF(I1988=\"\",\"\",NETWORKDAYS([4]Hoja1!C1988+1,[4]Hoja1!P1988,DiasNOLaborables))","v":6},"",null,null,20]
[1978,20209050042072,43971,"CORREO ELECTRÓNICO","SOLICITUD DE INFORMACIÓN Y DOCUMENTOS","SOLICITUD DE INFORMACIÓN Y DOCUMENTOS","SI","SUBDIRECCIÓN DE HIDROLOGÍA",43992,null,null,{"$f":"IFERROR(WORKDAY(C1989,R1989,DiasNOLaborables),\"\")","v":44001},{"$f":"+IF(C1989=\"\",\"\",IF(I1989=\"\",\"\",(IF(I1989<=L1989,\"A TIEMPO\",\"FUERA DE TIEMPO\"))))","v":"A TIEMPO"},{"$f":"IF(I1989=\"\",\"\",NETWORKDAYS([4]Hoja1!C1989+1,[4]Hoja1!P1989,DiasNOLaborables))","v":1},"",null,null,20]
[1979,20209050042122,43971,"CORREO ELECTRÓNICO","SOLICITUD DE INFORMACIÓN Y DOCUMENTOS","SOLICITUD DE INFORMACIÓN Y DOCUMENTOS","SI","SUBDIRECCIÓN DE ESTUDIOS AMBIENTALES",43985,null,null,{"$f":"IFERROR(WORKDAY(C1990,R1990,DiasNOLaborables),\"\")","v":44001},{"$f":"+IF(C1990=\"\",\"\",IF(I1990=\"\",\"\",(IF(I1990<=L1990,\"A TIEMPO\",\"FUERA DE TIEMPO\"))))","v":"A TIEMPO"},{"$f":"IF(I1990=\"\",\"\",NETWORKDAYS([4]Hoja1!C1990+1,[4]Hoja1!P1990,DiasNOLaborables))","v":10},"",null,null,{"$f":"IFERROR(VLOOKUP(E1990,$Z$50:$AA$63,2),\"\")","v":20}]
[1980,20209050042132,43971,"CORREO ELECTRÓNICO","SOLICITUD DE INFORMACIÓN Y DOCUMENTOS","SOLICITUD DE INFORMACIÓN Y DOCUMENTOS","SI","SUBDIRECCIÓN DE ESTUDIOS AMBIENTALES",43977,null,null,{"$f":"IFERROR(WORKDAY(C1991,R1991,DiasNOLaborables),\"\")","v":44001},{"$f":"+IF(C1991=\"\",\"\",IF(I1991=\"\",\"\",(IF(I1991<=L1991,\"A TIEMPO\",\"FUERA DE TIEMPO\"))))","v":"A TIEMPO"},{"$f":"IF(I1991=\"\",\"\",NETWORKDAYS([4]Hoja1!C1991+1,[4]Hoja1!P1991,DiasNOLaborables))","v":-2},"",null,null,20]
[1981,20209050042202,43971,"CORREO ELECTRÓNICO","SOLICITUD DE INFORMACIÓN Y DOCUMENTOS","REGISTROS AMBIENTALES","SI","SUBDIRECCIÓN DE ESTUDIOS AMBIENTALES",43971,null,null,{"$f":"IFERROR(WORKDAY(C1992,R1992,DiasNOLaborables),\"\")","v":44001},{"$f":"+IF(C1992=\"\",\"\",IF(I1992=\"\",\"\",(IF(I1992<=L1992,\"A TIEMPO\",\"FUERA DE TIEMPO\"))))","v":"A TIEMPO"},{"$f":"IF(I1992=\"\",\"\",NETWORKDAYS([4]Hoja1!C1992+1,[4]Hoja1!P1992,DiasNOLaborables))","v":5},"",null,null,20]
[1982,20209050042212,43971,"CORREO ELECTRÓNICO","CERTIFICACIONES DE TIEMPO, CLIMA Y EVENTOS HIDROLÓGICOS","CERTIFICACIONES DE TIEMPO Y CLIMA","SI","SUBDIRECCIÓN DE METEOROLOGÍA",43987,null,null,{"$f":"IFERROR(WORKDAY(C1993,R1993,DiasNOLaborables),\"\")","v":44019},{"$f":"+IF(C1993=\"\",\"\",IF(I1993=\"\",\"\",(IF(I1993<=L1993,\"A TIEMPO\",\"FUERA DE TIEMPO\"))))","v":"A TIEMPO"},{"$f":"IF(I1993=\"\",\"\",NETWORKDAYS([4]Hoja1!C1993+1,[4]Hoja1!P1993,DiasNOLaborables))","v":5},"",null,null,30]
[1983,20209050042222,43971,"CORREO ELECTRÓNICO","CERTIFICACIONES DE TIEMPO, CLIMA Y EVENTOS HIDROLÓGICOS","CERTIFICACIONES DE TIEMPO Y CLIMA","SI","SUBDIRECCIÓN DE METEOROLOGÍA",43973,null,null,{"$f":"IFERROR(WORKDAY(C1994,R1994,DiasNOLaborables),\"\")","v":44019},{"$f":"+IF(C1994=\"\",\"\",IF(I1994=\"\",\"\",(IF(I1994<=L1994,\"A TIEMPO\",\"FUERA DE TIEMPO\"))))","v":"A TIEMPO"},{"$f":"IF(I1994=\"\",\"\",NETWORKDAYS([4]Hoja1!C1994+1,[4]Hoja1!P1994,DiasNOLaborables))","v":6},"",null,null,30]
[1984,20209050042482,43972,"CORREO ELECTRÓNICO","SOLICITUD DE INFORMACIÓN Y DOCUMENTOS","REGISTROS AMBIENTALES","SI","SUBDIRECCIÓN DE ESTUDIOS AMBIENTALES",43972,null,null,{"$f":"IFERROR(WORKDAY(C1995,R1995,DiasNOLaborables),\"\")","v":44005},{"$f":"+IF(C1995=\"\",\"\",IF(I1995=\"\",\"\",(IF(I1995<=L1995,\"A TIEMPO\",\"FUERA DE TIEMPO\"))))","v":"A TIEMPO"},{"$f":"IF(I1995=\"\",\"\",NETWORKDAYS([4]Hoja1!C1995+1,[4]Hoja1!P1995,DiasNOLaborables))","v":6},"",null,null,20]
[1985,20209050042502,43972,"CORREO ELECTRÓNICO","SOLICITUD DE INFORMACIÓN Y DOCUMENTOS","ADMINISTRATIVA","SI","GRUPO DE ADMINISTRACIÓN Y DESARROLLO DEL TALENTO HUMANO",43973,null,null,{"$f":"IFERROR(WORKDAY(C1996,R1996,DiasNOLaborables),\"\")","v":44005},{"$f":"+IF(C1996=\"\",\"\",IF(I1996=\"\",\"\",(IF(I1996<=L1996,\"A TIEMPO\",\"FUERA DE TIEMPO\"))))","v":"A TIEMPO"},{"$f":"IF(I1996=\"\",\"\",NETWORKDAYS([4]Hoja1!C1996+1,[4]Hoja1!P1996,DiasNOLaborables))","v":5},"",null,null,20]
[1986,20209050042512,43972,"CORREO ELECTRÓNICO","SOLICITUD DE INFORMACIÓN Y DOCUMENTOS","REGISTROS AMBIENTALES","SI","SUBDIRECCIÓN DE ESTUDIOS AMBIENTALES",43972,null,null,{"$f":"IFERROR(WORKDAY(C1997,R1997,DiasNOLaborables),\"\")","v":44005},{"$f":"+IF(C1997=\"\",\"\",IF(I1997=\"\",\"\",(IF(I1997<=L1997,\"A TIEMPO\",\"FUERA DE TIEMPO\"))))","v":"A TIEMPO"},{"$f":"IF(I1997=\"\",\"\",NETWORKDAYS([4]Hoja1!C1997+1,[4]Hoja1!P1997,DiasNOLaborables))","v":3},"",null,null,20]
[1987,20209050042522,43972,"CORREO ELECTRÓNICO","SOLICITUD DE INFORMACIÓN Y DOCUMENTOS","SOLICITUD DE INFORMACIÓN Y DOCUMENTOS","SI","SUBDIRECCIÓN DE METEOROLOGÍA",43985,null,null,{"$f":"IFERROR(WORKDAY(C1998,R1998,DiasNOLaborables),\"\")","v":44005},{"$f":"+IF(C1998=\"\",\"\",IF(I1998=\"\",\"\",(IF(I1998<=L1998,\"A TIEMPO\",\"FUERA DE TIEMPO\"))))","v":"A TIEMPO"},{"$f":"IF(I1998=\"\",\"\",NETWORKDAYS([4]Hoja1!C1998+1,[4]Hoja1!P1998,DiasNOLaborables))","v":3},"",null,null,20]
[1988,20209050042552,43972,"CORREO ELECTRÓNICO","SOLICITUD DE INFORMACIÓN Y DOCUMENTOS","REGISTROS AMBIENTALES","SI","SUBDIRECCIÓN DE ESTUDIOS AMBIENTALES",43972,null,null,{"$f":"IFERROR(WORKDAY(C1999,R1999,DiasNOLaborables),\"\")","v":44005},{"$f":"+IF(C1999=\"\",\"\",IF(I1999=\"\",\"\",(IF(I1999<=L1999,\"A TIEMPO\",\"FUERA DE TIEMPO\"))))","v":"A TIEMPO"},{"$f":"IF(I1999=\"\",\"\",NETWORKDAYS([4]Hoja1!C1999+1,[4]Hoja1!P1999,DiasNOLaborables))","v":3},"",null,null,20]
[1989,20209050042582,43972,"CORREO ELECTRÓNICO","SOLICITUD DE INFORMACIÓN Y DOCUMENTOS","SOLICITUD DE INFORMACIÓN Y DOCUMENTOS","SI","SUBDIRECCIÓN DE HIDROLOGÍA",43981,null,null,{"$f":"IFERROR(WORKDAY(C2000,R2000,DiasNOLaborables),\"\")","v":44005},{"$f":"+IF(C2000=\"\",\"\",IF(I2000=\"\",\"\",(IF(I2000<=L2000,\"A TIEMPO\",\"FUERA DE TIEMPO\"))))","v":"A TIEMPO"},{"$f":"IF(I2000=\"\",\"\",NETWORKDAYS([4]Hoja1!C2000+1,[4]Hoja1!P2000,DiasNOLaborables))","v":3},"",null,null,20]
[1990,20209050042592,43972,"CORREO ELECTRÓNICO","SOLICITUD DE INFORMACIÓN Y DOCUMENTOS","SOLICITUD DE INFORMACIÓN Y DOCUMENTOS","SI","SUBDIRECCIÓN DE ECOSISTEMAS E INFORMACIÓN AMBIENTAL",43977,null,null,{"$f":"IFERROR(WORKDAY(C2001,R2001,DiasNOLaborables),\"\")","v":44005},{"$f":"+IF(C2001=\"\",\"\",IF(I2001=\"\",\"\",(IF(I2001<=L2001,\"A TIEMPO\",\"FUERA DE TIEMPO\"))))","v":"A TIEMPO"},{"$f":"IF(I2001=\"\",\"\",NETWORKDAYS([4]Hoja1!C2001+1,[4]Hoja1!P2001,DiasNOLaborables))","v":3},"",null,null,20]
[1991,20209050042642,43972,"CORREO ELECTRÓNICO","SOLICITUD DE INFORMACIÓN Y DOCUMENTOS","REGISTROS AMBIENTALES","SI","SUBDIRECCIÓN DE ESTUDIOS AMBIENTALES",43972,null,null,{"$f":"IFERROR(WORKDAY(C2002,R2002,DiasNOLaborables),\"\")","v":44005},{"$f":"+IF(C2002=\"\",\"\",IF(I2002=\"\",\"\",(IF(I2002<=L2002,\"A TIEMPO\",\"FUERA DE TIEMPO\"))))","v":"A TIEMPO"},{"$f":"IF(I2002=\"\",\"\",NETWORKDAYS([4]Hoja1!C2002+1,[4]Hoja1!P2002,DiasNOLaborables))","v":4},"",null,null,20]
[1992,20209050042652,43972,"CORREO ELECTRÓNICO","SOLICITUD DE INFORMACIÓN Y DOCUMENTOS","ADMINISTRATIVA","SI","GRUPO DE ADMINISTRACIÓN Y DESARROLLO DEL TALENTO HUMANO",43980,null,null,{"$f":"IFERROR(WORKDAY(C2003,R2003,DiasNOLaborables),\"\")","v":44005},{"$f":"+IF(C2003=\"\",\"\",IF(I2003=\"\",\"\",(IF(I2003<=L2003,\"A TIEMPO\",\"FUERA DE TIEMPO\"))))","v":"A TIEMPO"},{"$f":"IF(I2003=\"\",\"\",NETWORKDAYS([4]Hoja1!C2003+1,[4]Hoja1!P2003,DiasNOLaborables))","v":4},"",null,null,20]
[1993,20209050042662,43972,"CORREO ELECTRÓNICO","CERTIFICACIONES DE TIEMPO, CLIMA Y EVENTOS HIDROLÓGICOS","CERTIFICACIONES DE TIEMPO Y CLIMA","SI","SUBDIRECCIÓN DE METEOROLOGÍA",43999,null,null,{"$f":"IFERROR(WORKDAY(C2004,R2004,DiasNOLaborables),\"\")","v":44020},{"$f":"+IF(C2004=\"\",\"\",IF(I2004=\"\",\"\",(IF(I2004<=L2004,\"A TIEMPO\",\"FUERA DE TIEMPO\"))))","v":"A TIEMPO"},{"$f":"IF(I2004=\"\",\"\",NETWORKDAYS([4]Hoja1!C2004+1,[4]Hoja1!P2004,DiasNOLaborables))","v":4},"",null,null,30]
[1994,20209050042462,43972,"MODULO CONTACTENOS","SOLICITUD DE INFORMACIÓN Y DOCUMENTOS","ADMINISTRATIVA","SI","GRUPO DE TESORERÍA",43980,null,null,{"$f":"IFERROR(WORKDAY(C2005,R2005,DiasNOLaborables),\"\")","v":44005},{"$f":"+IF(C2005=\"\",\"\",IF(I2005=\"\",\"\",(IF(I2005<=L2005,\"A TIEMPO\",\"FUERA DE TIEMPO\"))))","v":"A TIEMPO"},{"$f":"IF(I2005=\"\",\"\",NETWORKDAYS([4]Hoja1!C2005+1,[4]Hoja1!P2005,DiasNOLaborables))","v":4},"",null,null,20]
[1995,20209050042492,43972,"MODULO CONTACTENOS","CERTIFICACIONES DE TIEMPO, CLIMA Y EVENTOS HIDROLÓGICOS","CERTIFICACIONES DE TIEMPO Y CLIMA","SI","SUBDIRECCIÓN DE METEOROLOGÍA",43980,null,null,{"$f":"IFERROR(WORKDAY(C2006,R2006,DiasNOLaborables),\"\")","v":44020},{"$f":"+IF(C2006=\"\",\"\",IF(I2006=\"\",\"\",(IF(I2006<=L2006,\"A TIEMPO\",\"FUERA DE TIEMPO\"))))","v":"A TIEMPO"},{"$f":"IF(I2006=\"\",\"\",NETWORKDAYS([4]Hoja1!C2006+1,[4]Hoja1!P2006,DiasNOLaborables))","v":3},"",null,null,30]
[1996,20209050042612,43972,"MODULO CONTACTENOS","SOLICITUD DE INFORMACIÓN Y DOCUMENTOS","ADMINISTRATIVA","SI","GRUPO DE ADMINISTRACIÓN Y DESARROLLO DEL TALENTO HUMANO",43973,null,null,{"$f":"IFERROR(WORKDAY(C2007,R2007,DiasNOLaborables),\"\")","v":44005},{"$f":"+IF(C2007=\"\",\"\",IF(I2007=\"\",\"\",(IF(I2007<=L2007,\"A TIEMPO\",\"FUERA DE TIEMPO\"))))","v":"A TIEMPO"},{"$f":"IF(I2007=\"\",\"\",NETWORKDAYS([4]Hoja1!C2007+1,[4]Hoja1!P2007,DiasNOLaborables))","v":3},"",null,null,20]
[1997,20209050042682,43972,"CORREO ELECTRÓNICO","SOLICITUD DE INFORMACIÓN Y DOCUMENTOS","SOLICITUD DE INFORMACIÓN HIDROMETEOROLÓGICA","NO","GRUPO DE ATENCIÓN AL CIUDADANO",43983,null,null,{"$f":"IFERROR(WORKDAY(C2008,R2008,DiasNOLaborables),\"\")","v":44005},{"$f":"+IF(C2008=\"\",\"\",IF(I2008=\"\",\"\",(IF(I2008<=L2008,\"A TIEMPO\",\"FUERA DE TIEMPO\"))))","v":"A TIEMPO"},{"$f":"IF(I2008=\"\",\"\",NETWORKDAYS([4]Hoja1!C2008+1,[4]Hoja1!P2008,DiasNOLaborables))","v":3},"",null,null,20]
[1998,20207090001262,43972,"CORREO ELECTRÓNICO","SOLICITUD DE INFORMACIÓN Y DOCUMENTOS","SOLICITUD DE INFORMACIÓN HIDROMETEOROLÓGICA","NO","GRUPO DE ATENCIÓN AL CIUDADANO",43983,null,null,{"$f":"IFERROR(WORKDAY(C2009,R2009,DiasNOLaborables),\"\")","v":44005},{"$f":"+IF(C2009=\"\",\"\",IF(I2009=\"\",\"\",(IF(I2009<=L2009,\"A TIEMPO\",\"FUERA DE TIEMPO\"))))","v":"A TIEMPO"},{"$f":"IF(I2009=\"\",\"\",NETWORKDAYS([4]Hoja1!C2009+1,[4]Hoja1!P2009,DiasNOLaborables))","v":3},"",null,null,20]
[1999,20209050042742,43972,"CORREO ELECTRÓNICO","SOLICITUD DE INFORMACIÓN Y DOCUMENTOS","SOLICITUD DE INFORMACIÓN HIDROMETEOROLÓGICA","NO","GRUPO DE ATENCIÓN AL CIUDADANO",43983,null,null,{"$f":"IFERROR(WORKDAY(C2010,R2010,DiasNOLaborables),\"\")","v":44005},{"$f":"+IF(C2010=\"\",\"\",IF(I2010=\"\",\"\",(IF(I2010<=L2010,\"A TIEMPO\",\"FUERA DE TIEMPO\"))))","v":"A TIEMPO"},{"$f":"IF(I2010=\"\",\"\",NETWORKDAYS([4]Hoja1!C2010+1,[4]Hoja1!P2010,DiasNOLaborables))","v":3},"",null,null,20]
[2000,20209050042752,43972,"CORREO ELECTRÓNICO","SOLICITUD DE INFORMACIÓN Y DOCUMENTOS","SOLICITUD DE INFORMACIÓN HIDROMETEOROLÓGICA","NO","GRUPO DE ATENCIÓN AL CIUDADANO",43983,null,null,{"$f":"IFERROR(WORKDAY(C2011,R2011,DiasNOLaborables),\"\")","v":44005},{"$f":"+IF(C2011=\"\",\"\",IF(I2011=\"\",\"\",(IF(I2011<=L2011,\"A TIEMPO\",\"FUERA DE TIEMPO\"))))","v":"A TIEMPO"},{"$f":"IF(I2011=\"\",\"\",NETWORKDAYS([4]Hoja1!C2011+1,[4]Hoja1!P2011,DiasNOLaborables))","v":4},"",null,null,20]
[2001,20209050042762,43973,"CORREO ELECTRÓNICO","SOLICITUD DE INFORMACIÓN Y DOCUMENTOS","SOLICITUD DE INFORMACIÓN HIDROMETEOROLÓGICA","NO","GRUPO DE ATENCIÓN AL CIUDADANO",43983,null,null,{"$f":"IFERROR(WORKDAY(C2012,R2012,DiasNOLaborables),\"\")","v":44006},{"$f":"+IF(C2012=\"\",\"\",IF(I2012=\"\",\"\",(IF(I2012<=L2012,\"A TIEMPO\",\"FUERA DE TIEMPO\"))))","v":"A TIEMPO"},{"$f":"IF(I2012=\"\",\"\",NETWORKDAYS([4]Hoja1!C2012+1,[4]Hoja1!P2012,DiasNOLaborables))","v":4},"",null,null,20]
[2002,20209050042772,43973,"CORREO ELECTRÓNICO","SOLICITUD DE INFORMACIÓN Y DOCUMENTOS","SOLICITUD DE INFORMACIÓN HIDROMETEOROLÓGICA","NO","GRUPO DE ATENCIÓN AL CIUDADANO",43983,null,null,{"$f":"IFERROR(WORKDAY(C2013,R2013,DiasNOLaborables),\"\")","v":44006},{"$f":"+IF(C2013=\"\",\"\",IF(I2013=\"\",\"\",(IF(I2013<=L2013,\"A TIEMPO\",\"FUERA DE TIEMPO\"))))","v":"A TIEMPO"},{"$f":"IF(I2013=\"\",\"\",NETWORKDAYS([4]Hoja1!C2013+1,[4]Hoja1!P2013,DiasNOLaborables))","v":4},"",null,null,20]
[2003,20209050042782,43973,"CORREO ELECTRÓNICO","SOLICITUD DE INFORMACIÓN Y DOCUMENTOS","SOLICITUD DE INFORMACIÓN HIDROMETEOROLÓGICA","NO","GRUPO DE ATENCIÓN AL CIUDADANO",43983,null,null,{"$f":"IFERROR(WORKDAY(C2014,R2014,DiasNOLaborables),\"\")","v":44006},{"$f":"+IF(C2014=\"\",\"\",IF(I2014=\"\",\"\",(IF(I2014<=L2014,\"A TIEMPO\",\"FUERA DE TIEMPO\"))))","v":"A TIEMPO"},{"$f":"IF(I2014=\"\",\"\",NETWORKDAYS([4]Hoja1!C2014+1,[4]Hoja1!P2014,DiasNOLaborables))","v":4},"",null,null,20]
[2004,20209050042842,43973,"CORREO ELECTRÓNICO","SOLICITUD DE INFORMACIÓN Y DOCUMENTOS","SOLICITUD DE INFORMACIÓN HIDROMETEOROLÓGICA","NO","GRUPO DE ATENCIÓN AL CIUDADANO",43983,null,null,{"$f":"IFERROR(WORKDAY(C2015,R2015,DiasNOLaborables),\"\")","v":44006},{"$f":"+IF(C2015=\"\",\"\",IF(I2015=\"\",\"\",(IF(I2015<=L2015,\"A TIEMPO\",\"FUERA DE TIEMPO\"))))","v":"A TIEMPO"},{"$f":"IF(I2015=\"\",\"\",NETWORKDAYS([4]Hoja1!C2015+1,[4]Hoja1!P2015,DiasNOLaborables))","v":4},"",null,null,20]
[2005,20209050042852,43973,"CORREO ELECTRÓNICO","SOLICITUD DE INFORMACIÓN Y DOCUMENTOS","SOLICITUD DE INFORMACIÓN HIDROMETEOROLÓGICA","NO","GRUPO DE ATENCIÓN AL CIUDADANO",43984,null,null,{"$f":"IFERROR(WORKDAY(C2016,R2016,DiasNOLaborables),\"\")","v":44006},{"$f":"+IF(C2016=\"\",\"\",IF(I2016=\"\",\"\",(IF(I2016<=L2016,\"A TIEMPO\",\"FUERA DE TIEMPO\"))))","v":"A TIEMPO"},{"$f":"IF(I2016=\"\",\"\",NETWORKDAYS([4]Hoja1!C2016+1,[4]Hoja1!P2016,DiasNOLaborables))","v":5},"",null,null,20]
[2006,20209050042862,43973,"CORREO ELECTRÓNICO","SOLICITUD DE INFORMACIÓN Y DOCUMENTOS","SOLICITUD DE INFORMACIÓN HIDROMETEOROLÓGICA","NO","GRUPO DE ATENCIÓN AL CIUDADANO",43984,null,null,{"$f":"IFERROR(WORKDAY(C2017,R2017,DiasNOLaborables),\"\")","v":44006},{"$f":"+IF(C2017=\"\",\"\",IF(I2017=\"\",\"\",(IF(I2017<=L2017,\"A TIEMPO\",\"FUERA DE TIEMPO\"))))","v":"A TIEMPO"},{"$f":"IF(I2017=\"\",\"\",NETWORKDAYS([4]Hoja1!C2017+1,[4]Hoja1!P2017,DiasNOLaborables))","v":5},"",null,null,20]
[2007,20209050042872,43973,"CORREO ELECTRÓNICO","SOLICITUD DE INFORMACIÓN Y DOCUMENTOS","SOLICITUD DE INFORMACIÓN HIDROMETEOROLÓGICA","NO","GRUPO DE ATENCIÓN AL CIUDADANO",43984,null,null,{"$f":"IFERROR(WORKDAY(C2018,R2018,DiasNOLaborables),\"\")","v":44006},{"$f":"+IF(C2018=\"\",\"\",IF(I2018=\"\",\"\",(IF(I2018<=L2018,\"A TIEMPO\",\"FUERA DE TIEMPO\"))))","v":"A TIEMPO"},{"$f":"IF(I2018=\"\",\"\",NETWORKDAYS([4]Hoja1!C2018+1,[4]Hoja1!P2018,DiasNOLaborables))","v":5},"",null,null,20]
[2008,20209050042932,43973,"CORREO ELECTRÓNICO","SOLICITUD DE INFORMACIÓN Y DOCUMENTOS","SOLICITUD DE INFORMACIÓN HIDROMETEOROLÓGICA","NO","GRUPO DE ATENCIÓN AL CIUDADANO",43984,null,null,{"$f":"IFERROR(WORKDAY(C2019,R2019,DiasNOLaborables),\"\")","v":44006},{"$f":"+IF(C2019=\"\",\"\",IF(I2019=\"\",\"\",(IF(I2019<=L2019,\"A TIEMPO\",\"FUERA DE TIEMPO\"))))","v":"A TIEMPO"},{"$f":"IF(I2019=\"\",\"\",NETWORKDAYS([4]Hoja1!C2019+1,[4]Hoja1!P2019,DiasNOLaborables))","v":6},"",null,null,20]
[2009,20209050042792,43973,"MODULO CONTACTENOS","CERTIFICACIONES DE TIEMPO, CLIMA Y EVENTOS HIDROLÓGICOS","CERTIFICACIONES DE TIEMPO Y CLIMA","SI","SUBDIRECCIÓN DE METEOROLOGÍA",43980,null,null,{"$f":"IFERROR(WORKDAY(C2020,R2020,DiasNOLaborables),\"\")","v":44021},{"$f":"+IF(C2020=\"\",\"\",IF(I2020=\"\",\"\",(IF(I2020<=L2020,\"A TIEMPO\",\"FUERA DE TIEMPO\"))))","v":"A TIEMPO"},{"$f":"IF(I2020=\"\",\"\",NETWORKDAYS([4]Hoja1!C2020+1,[4]Hoja1!P2020,DiasNOLaborables))","v":2},"",null,null,30]
[2010,20209050042812,43973,"MODULO CONTACTENOS","SOLICITUD DE INFORMACIÓN Y DOCUMENTOS","CLIMATOLOGÍA","SI","SUBDIRECCIÓN DE METEOROLOGÍA",43979,null,null,{"$f":"IFERROR(WORKDAY(C2021,R2021,DiasNOLaborables),\"\")","v":44006},{"$f":"+IF(C2021=\"\",\"\",IF(I2021=\"\",\"\",(IF(I2021<=L2021,\"A TIEMPO\",\"FUERA DE TIEMPO\"))))","v":"A TIEMPO"},{"$f":"IF(I2021=\"\",\"\",NETWORKDAYS([4]Hoja1!C2021+1,[4]Hoja1!P2021,DiasNOLaborables))","v":3},"",null,null,20]
[2011,20209910039342,43973,"CORREO ELECTRÓNICO","SOLICITUD DE INFORMACIÓN Y DOCUMENTOS","REGISTROS AMBIENTALES","SI","SUBDIRECCIÓN DE ESTUDIOS AMBIENTALES",43994,null,null,{"$f":"IFERROR(WORKDAY(C2022,R2022,DiasNOLaborables),\"\")","v":44006},{"$f":"+IF(C2022=\"\",\"\",IF(I2022=\"\",\"\",(IF(I2022<=L2022,\"A TIEMPO\",\"FUERA DE TIEMPO\"))))","v":"A TIEMPO"},{"$f":"IF(I2022=\"\",\"\",NETWORKDAYS([4]Hoja1!C2022+1,[4]Hoja1!P2022,DiasNOLaborables))","v":10},"",null,null,20]
[2012,20209050042802,43973,"CORREO ELECTRÓNICO","SOLICITUD DE INFORMACIÓN Y DOCUMENTOS","SOLICITUD DE INFORMACIÓN Y DOCUMENTOS","SI","SUBDIRECCIÓN DE ECOSISTEMAS E INFORMACIÓN AMBIENTAL",43984,null,null,{"$f":"IFERROR(WORKDAY(C2023,R2023,DiasNOLaborables),\"\")","v":44006},{"$f":"+IF(C2023=\"\",\"\",IF(I2023=\"\",\"\",(IF(I2023<=L2023,\"A TIEMPO\",\"FUERA DE TIEMPO\"))))","v":"A TIEMPO"},{"$f":"IF(I2023=\"\",\"\",NETWORKDAYS([4]Hoja1!C2023+1,[4]Hoja1!P2023,DiasNOLaborables))","v":7},"",null,null,20]
[2013,20209050042822,43973,"CORREO ELECTRÓNICO","SOLICITUD DE INFORMACIÓN Y DOCUMENTOS","REGISTROS AMBIENTALES","SI","SUBDIRECCIÓN DE ESTUDIOS AMBIENTALES",43973,null,null,{"$f":"IFERROR(WORKDAY(C2024,R2024,DiasNOLaborables),\"\")","v":44006},{"$f":"+IF(C2024=\"\",\"\",IF(I2024=\"\",\"\",(IF(I2024<=L2024,\"A TIEMPO\",\"FUERA DE TIEMPO\"))))","v":"A TIEMPO"},{"$f":"IF(I2024=\"\",\"\",NETWORKDAYS([4]Hoja1!C2024+1,[4]Hoja1!P2024,DiasNOLaborables))","v":3},"",null,null,20]
[2014,20209050042832,43973,"CORREO ELECTRÓNICO","PETICIÓN","ADMINISTRATIVA","SI","OFICINA ASESORA JURÍDICA",44009,null,null,{"$f":"IFERROR(WORKDAY(C2025,R2025,DiasNOLaborables),\"\")","v":44021},{"$f":"+IF(C2025=\"\",\"\",IF(I2025=\"\",\"\",(IF(I2025<=L2025,\"A TIEMPO\",\"FUERA DE TIEMPO\"))))","v":"A TIEMPO"},{"$f":"IF(I2025=\"\",\"\",NETWORKDAYS([4]Hoja1!C2025+1,[4]Hoja1!P2025,DiasNOLaborables))","v":3},"",null,null,30]
[2015,20209910039382,43973,"CORREO CERTIFICADO","CERTIFICACIONES DE TIEMPO, CLIMA Y EVENTOS HIDROLÓGICOS","CERTIFICACIONES DE TIEMPO Y CLIMA","SI","SUBDIRECCIÓN DE METEOROLOGÍA",44010,null,null,{"$f":"IFERROR(WORKDAY(C2026,R2026,DiasNOLaborables),\"\")","v":44021},{"$f":"+IF(C2026=\"\",\"\",IF(I2026=\"\",\"\",(IF(I2026<=L2026,\"A TIEMPO\",\"FUERA DE TIEMPO\"))))","v":"A TIEMPO"},{"$f":"IF(I2026=\"\",\"\",NETWORKDAYS([4]Hoja1!C2026+1,[4]Hoja1!P2026,DiasNOLaborables))","v":11},"",null,null,30]
[2016,20209050042892,43973,"CORREO ELECTRÓNICO","SOLICITUD DE INFORMACIÓN Y DOCUMENTOS","SOLICITUD DE INFORMACIÓN Y DOCUMENTOS","SI","SUBDIRECCIÓN DE ESTUDIOS AMBIENTALES",43978,null,null,{"$f":"IFERROR(WORKDAY(C2027,R2027,DiasNOLaborables),\"\")","v":44006},{"$f":"+IF(C2027=\"\",\"\",IF(I2027=\"\",\"\",(IF(I2027<=L2027,\"A TIEMPO\",\"FUERA DE TIEMPO\"))))","v":"A TIEMPO"},{"$f":"IF(I2027=\"\",\"\",NETWORKDAYS([4]Hoja1!C2027+1,[4]Hoja1!P2027,DiasNOLaborables))","v":3},"",null,null,20]
[2017,20209050042902,43973,"CORREO ELECTRÓNICO","SOLICITUD DE INFORMACIÓN Y DOCUMENTOS","ADMINISTRATIVA","SI","GRUPO DE ADMINISTRACIÓN Y DESARROLLO DEL TALENTO HUMANO",43979,null,null,{"$f":"IFERROR(WORKDAY(C2028,R2028,DiasNOLaborables),\"\")","v":44006},{"$f":"+IF(C2028=\"\",\"\",IF(I2028=\"\",\"\",(IF(I2028<=L2028,\"A TIEMPO\",\"FUERA DE TIEMPO\"))))","v":"A TIEMPO"},{"$f":"IF(I2028=\"\",\"\",NETWORKDAYS([4]Hoja1!C2028+1,[4]Hoja1!P2028,DiasNOLaborables))","v":3},"",null,null,20]
[2018,20209050042912,43973,"CORREO ELECTRÓNICO","SOLICITUD DE INFORMACIÓN Y DOCUMENTOS","REGISTROS AMBIENTALES","SI","SUBDIRECCIÓN DE ESTUDIOS AMBIENTALES",43979,null,null,{"$f":"IFERROR(WORKDAY(C2029,R2029,DiasNOLaborables),\"\")","v":44006},{"$f":"+IF(C2029=\"\",\"\",IF(I2029=\"\",\"\",(IF(I2029<=L2029,\"A TIEMPO\",\"FUERA DE TIEMPO\"))))","v":"A TIEMPO"},{"$f":"IF(I2029=\"\",\"\",NETWORKDAYS([4]Hoja1!C2029+1,[4]Hoja1!P2029,DiasNOLaborables))","v":1},"",null,null,20]
[2019,20209050042952,43973,"CORREO ELECTRÓNICO","SOLICITUD DE INFORMACIÓN Y DOCUMENTOS","SOLICITUD DE INFORMACIÓN Y DOCUMENTOS","SI","SUBDIRECCIÓN DE ESTUDIOS AMBIENTALES",43979,null,null,{"$f":"IFERROR(WORKDAY(C2030,R2030,DiasNOLaborables),\"\")","v":44006},{"$f":"+IF(C2030=\"\",\"\",IF(I2030=\"\",\"\",(IF(I2030<=L2030,\"A TIEMPO\",\"FUERA DE TIEMPO\"))))","v":"A TIEMPO"},{"$f":"IF(I2030=\"\",\"\",NETWORKDAYS([4]Hoja1!C2030+1,[4]Hoja1!P2030,DiasNOLaborables))","v":5},"",null,null,20]
[2020,20209050042942,43973,"CORREO ELECTRÓNICO","SOLICITUD DE INFORMACIÓN Y DOCUMENTOS","SOLICITUD DE INFORMACIÓN Y DOCUMENTOS","SI","OFICINA DE INFORMÁTICA",43980,null,null,{"$f":"IFERROR(WORKDAY(C2031,R2031,DiasNOLaborables),\"\")","v":44006},{"$f":"+IF(C2031=\"\",\"\",IF(I2031=\"\",\"\",(IF(I2031<=L2031,\"A TIEMPO\",\"FUERA DE TIEMPO\"))))","v":"A TIEMPO"},{"$f":"IF(I2031=\"\",\"\",NETWORKDAYS([4]Hoja1!C2031+1,[4]Hoja1!P2031,DiasNOLaborables))","v":8},"",null,null,20]
[2021,20209050042882,43973,"MODULO CONTACTENOS","SOLICITUD DE INFORMACIÓN Y DOCUMENTOS","SIRH","SI","SUBDIRECCIÓN DE HIDROLOGÍA",43985,null,null,{"$f":"IFERROR(WORKDAY(C2032,R2032,DiasNOLaborables),\"\")","v":44006},{"$f":"+IF(C2032=\"\",\"\",IF(I2032=\"\",\"\",(IF(I2032<=L2032,\"A TIEMPO\",\"FUERA DE TIEMPO\"))))","v":"A TIEMPO"},{"$f":"IF(I2032=\"\",\"\",NETWORKDAYS([4]Hoja1!C2032+1,[4]Hoja1!P2032,DiasNOLaborables))","v":1},"",null,null,20]
[2022,20209050042962,43973,"MODULO CONTACTENOS","SOLICITUD DE INFORMACIÓN Y DOCUMENTOS","ADMINISTRATIVA","SI","GRUPO DE TESORERÍA",43980,null,null,{"$f":"IFERROR(WORKDAY(C2033,R2033,DiasNOLaborables),\"\")","v":44006},{"$f":"+IF(C2033=\"\",\"\",IF(I2033=\"\",\"\",(IF(I2033<=L2033,\"A TIEMPO\",\"FUERA DE TIEMPO\"))))","v":"A TIEMPO"},{"$f":"IF(I2033=\"\",\"\",NETWORKDAYS([4]Hoja1!C2033+1,[4]Hoja1!P2033,DiasNOLaborables))","v":1},"",null,null,20]
[{"$f":"IF(B2032<>\"\",A2033+1,\"\")","v":2023},20209050043042,43973,"MODULO CONTACTENOS","SOLICITUD DE INFORMACIÓN Y DOCUMENTOS","SIRH","SI","SUBDIRECCIÓN DE HIDROLOGÍA",43980,null,null,{"$f":"IFERROR(WORKDAY(C2034,R2034,DiasNOLaborables),\"\")","v":44006},{"$f":"+IF(C2034=\"\",\"\",IF(I2034=\"\",\"\",(IF(I2034<=L2034,\"A TIEMPO\",\"FUERA DE TIEMPO\"))))","v":"A TIEMPO"},{"$f":"IF(I2034=\"\",\"\",NETWORKDAYS([4]Hoja1!C2034+1,[4]Hoja1!P2034,DiasNOLaborables))","v":8},"",null,null,20]
[2024,20209050043052,43973,"MODULO CONTACTENOS","SOLICITUD DE INFORMACIÓN Y DOCUMENTOS","SIRH","SI","SUBDIRECCIÓN DE HIDROLOGÍA",43980,null,null,{"$f":"IFERROR(WORKDAY(C2035,R2035,DiasNOLaborables),\"\")","v":44006},{"$f":"+IF(C2035=\"\",\"\",IF(I2035=\"\",\"\",(IF(I2035<=L2035,\"A TIEMPO\",\"FUERA DE TIEMPO\"))))","v":"A TIEMPO"},{"$f":"IF(I2035=\"\",\"\",NETWORKDAYS([4]Hoja1!C2035+1,[4]Hoja1!P2035,DiasNOLaborables))","v":6},"",null,null,20]
[2025,20209050043162,43974,"MODULO CONTACTENOS","CERTIFICACIONES DE TIEMPO, CLIMA Y EVENTOS HIDROLÓGICOS","CERTIFICACIONES DE TIEMPO Y CLIMA","SI","SUBDIRECCIÓN DE METEOROLOGÍA",43987,null,null,{"$f":"IFERROR(WORKDAY(C2036,R2036,DiasNOLaborables),\"\")","v":44021},{"$f":"+IF(C2036=\"\",\"\",IF(I2036=\"\",\"\",(IF(I2036<=L2036,\"A TIEMPO\",\"FUERA DE TIEMPO\"))))","v":"A TIEMPO"},{"$f":"IF(I2036=\"\",\"\",NETWORKDAYS([4]Hoja1!C2036+1,[4]Hoja1!P2036,DiasNOLaborables))","v":18},{"$f":"IF(NETWORKDAYS(L2036+1,I2036,DiasNOLaborables)<=0,\"\",NETWORKDAYS(L2036+1,I2036,DiasNOLaborables))","v":""},null,null,30]
[2026,20209050043012,43974,"MODULO CONTACTENOS","SOLICITUD DE INFORMACIÓN Y DOCUMENTOS","SIRH","SI","SUBDIRECCIÓN DE HIDROLOGÍA",43987,null,null,{"$f":"IFERROR(WORKDAY(C2037,R2037,DiasNOLaborables),\"\")","v":44006},{"$f":"+IF(C2037=\"\",\"\",IF(I2037=\"\",\"\",(IF(I2037<=L2037,\"A TIEMPO\",\"FUERA DE TIEMPO\"))))","v":"A TIEMPO"},{"$f":"IF(I2037=\"\",\"\",NETWORKDAYS([4]Hoja1!C2037+1,[4]Hoja1!P2037,DiasNOLaborables))","v":4},"",null,null,20]
[2027,20209050043262,43976,"CORREO ELECTRÓNICO","SOLICITUD DE INFORMACIÓN Y DOCUMENTOS","SOLICITUD DE INFORMACIÓN HIDROMETEOROLÓGICA","NO","GRUPO DE ATENCIÓN AL CIUDADANO",43984,null,null,{"$f":"IFERROR(WORKDAY(C2038,R2038,DiasNOLaborables),\"\")","v":44006},{"$f":"+IF(C2038=\"\",\"\",IF(I2038=\"\",\"\",(IF(I2038<=L2038,\"A TIEMPO\",\"FUERA DE TIEMPO\"))))","v":"A TIEMPO"},{"$f":"IF(I2038=\"\",\"\",NETWORKDAYS([4]Hoja1!C2038+1,[4]Hoja1!P2038,DiasNOLaborables))","v":8},"",null,null,20]
[2028,20209050043272,43976,"CORREO ELECTRÓNICO","SOLICITUD DE INFORMACIÓN Y DOCUMENTOS","SOLICITUD DE INFORMACIÓN HIDROMETEOROLÓGICA","NO","GRUPO DE ATENCIÓN AL CIUDADANO",43984,null,null,{"$f":"IFERROR(WORKDAY(C2039,R2039,DiasNOLaborables),\"\")","v":44006},{"$f":"+IF(C2039=\"\",\"\",IF(I2039=\"\",\"\",(IF(I2039<=L2039,\"A TIEMPO\",\"FUERA DE TIEMPO\"))))","v":"A TIEMPO"},{"$f":"IF(I2039=\"\",\"\",NETWORKDAYS([4]Hoja1!C2039+1,[4]Hoja1!P2039,DiasNOLaborables))","v":2},"",null,null,20]
[2029,20209050043282,43976,"CORREO ELECTRÓNICO","SOLICITUD DE INFORMACIÓN Y DOCUMENTOS","SOLICITUD DE INFORMACIÓN HIDROMETEOROLÓGICA","NO","GRUPO DE ATENCIÓN AL CIUDADANO",43986,null,null,{"$f":"IFERROR(WORKDAY(C2040,R2040,DiasNOLaborables),\"\")","v":44006},{"$f":"+IF(C2040=\"\",\"\",IF(I2040=\"\",\"\",(IF(I2040<=L2040,\"A TIEMPO\",\"FUERA DE TIEMPO\"))))","v":"A TIEMPO"},{"$f":"IF(I2040=\"\",\"\",NETWORKDAYS([4]Hoja1!C2040+1,[4]Hoja1!P2040,DiasNOLaborables))","v":1},"",null,null,20]
[2030,20209050043442,43976,"CORREO ELECTRÓNICO","SOLICITUD DE INFORMACIÓN Y DOCUMENTOS","SOLICITUD DE INFORMACIÓN HIDROMETEOROLÓGICA","NO","GRUPO DE ATENCIÓN AL CIUDADANO",43985,null,null,{"$f":"IFERROR(WORKDAY(C2041,R2041,DiasNOLaborables),\"\")","v":44006},{"$f":"+IF(C2041=\"\",\"\",IF(I2041=\"\",\"\",(IF(I2041<=L2041,\"A TIEMPO\",\"FUERA DE TIEMPO\"))))","v":"A TIEMPO"},{"$f":"IF(I2041=\"\",\"\",NETWORKDAYS([4]Hoja1!C2041+1,[4]Hoja1!P2041,DiasNOLaborables))","v":6},"",null,null,20]
[2031,20209050043452,43976,"CORREO ELECTRÓNICO","SOLICITUD DE INFORMACIÓN Y DOCUMENTOS","SOLICITUD DE INFORMACIÓN HIDROMETEOROLÓGICA","NO","GRUPO DE ATENCIÓN AL CIUDADANO",43985,null,null,{"$f":"IFERROR(WORKDAY(C2042,R2042,DiasNOLaborables),\"\")","v":44006},{"$f":"+IF(C2042=\"\",\"\",IF(I2042=\"\",\"\",(IF(I2042<=L2042,\"A TIEMPO\",\"FUERA DE TIEMPO\"))))","v":"A TIEMPO"},{"$f":"IF(I2042=\"\",\"\",NETWORKDAYS([4]Hoja1!C2042+1,[4]Hoja1!P2042,DiasNOLaborables))","v":6},"",null,null,20]
[2032,20209050043482,43977,"CORREO ELECTRÓNICO","SOLICITUD DE INFORMACIÓN Y DOCUMENTOS","SOLICITUD DE INFORMACIÓN HIDROMETEOROLÓGICA","NO","GRUPO DE ATENCIÓN AL CIUDADANO",43985,null,null,{"$f":"IFERROR(WORKDAY(C2043,R2043,DiasNOLaborables),\"\")","v":44007},{"$f":"+IF(C2043=\"\",\"\",IF(I2043=\"\",\"\",(IF(I2043<=L2043,\"A TIEMPO\",\"FUERA DE TIEMPO\"))))","v":"A TIEMPO"},{"$f":"IF(I2043=\"\",\"\",NETWORKDAYS([4]Hoja1!C2043+1,[4]Hoja1!P2043,DiasNOLaborables))","v":2},"",null,null,20]
[2033,20209050043502,43977,"CORREO ELECTRÓNICO","SOLICITUD DE INFORMACIÓN Y DOCUMENTOS","SOLICITUD DE INFORMACIÓN HIDROMETEOROLÓGICA","NO","GRUPO DE ATENCIÓN AL CIUDADANO",43985,null,null,{"$f":"IFERROR(WORKDAY(C2044,R2044,DiasNOLaborables),\"\")","v":44007},{"$f":"+IF(C2044=\"\",\"\",IF(I2044=\"\",\"\",(IF(I2044<=L2044,\"A TIEMPO\",\"FUERA DE TIEMPO\"))))","v":"A TIEMPO"},{"$f":"IF(I2044=\"\",\"\",NETWORKDAYS([4]Hoja1!C2044+1,[4]Hoja1!P2044,DiasNOLaborables))","v":7},"",null,null,20]
[2034,20209050043512,43977,"CORREO ELECTRÓNICO","SOLICITUD DE INFORMACIÓN Y DOCUMENTOS","SOLICITUD DE INFORMACIÓN HIDROMETEOROLÓGICA","NO","GRUPO DE ATENCIÓN AL CIUDADANO",43985,null,null,{"$f":"IFERROR(WORKDAY(C2045,R2045,DiasNOLaborables),\"\")","v":44007},{"$f":"+IF(C2045=\"\",\"\",IF(I2045=\"\",\"\",(IF(I2045<=L2045,\"A TIEMPO\",\"FUERA DE TIEMPO\"))))","v":"A TIEMPO"},{"$f":"IF(I2045=\"\",\"\",NETWORKDAYS([4]Hoja1!C2045+1,[4]Hoja1!P2045,DiasNOLaborables))","v":3},"",null,null,20]
[2035,20209050043522,43977,"CORREO ELECTRÓNICO","SOLICITUD DE INFORMACIÓN Y DOCUMENTOS","SOLICITUD DE INFORMACIÓN HIDROMETEOROLÓGICA","NO","GRUPO DE ATENCIÓN AL CIUDADANO",43985,null,null,{"$f":"IFERROR(WORKDAY(C2046,R2046,DiasNOLaborables),\"\")","v":44007},{"$f":"+IF(C2046=\"\",\"\",IF(I2046=\"\",\"\",(IF(I2046<=L2046,\"A TIEMPO\",\"FUERA DE TIEMPO\"))))","v":"A TIEMPO"},{"$f":"IF(I2046=\"\",\"\",NETWORKDAYS([4]Hoja1!C2046+1,[4]Hoja1!P2046,DiasNOLaborables))","v":2},"",null,null,20]
[2036,20209050043532,43977,"CORREO ELECTRÓNICO","SOLICITUD DE INFORMACIÓN Y DOCUMENTOS","SOLICITUD DE INFORMACIÓN HIDROMETEOROLÓGICA","NO","GRUPO DE ATENCIÓN AL CIUDADANO",43985,null,null,{"$f":"IFERROR(WORKDAY(C2047,R2047,DiasNOLaborables),\"\")","v":44007},{"$f":"+IF(C2047=\"\",\"\",IF(I2047=\"\",\"\",(IF(I2047<=L2047,\"A TIEMPO\",\"FUERA DE TIEMPO\"))))","v":"A TIEMPO"},{"$f":"IF(I2047=\"\",\"\",NETWORKDAYS([4]Hoja1!C2047+1,[4]Hoja1!P2047,DiasNOLaborables))","v":2},"",null,null,20]
[2037,20209050043562,43977,"CORREO ELECTRÓNICO","SOLICITUD DE INFORMACIÓN Y DOCUMENTOS","SOLICITUD DE INFORMACIÓN HIDROMETEOROLÓGICA","NO","GRUPO DE ATENCIÓN AL CIUDADANO",43985,null,null,{"$f":"IFERROR(WORKDAY(C2048,R2048,DiasNOLaborables),\"\")","v":44007},{"$f":"+IF(C2048=\"\",\"\",IF(I2048=\"\",\"\",(IF(I2048<=L2048,\"A TIEMPO\",\"FUERA DE TIEMPO\"))))","v":"A TIEMPO"},{"$f":"IF(I2048=\"\",\"\",NETWORKDAYS([4]Hoja1!C2048+1,[4]Hoja1!P2048,DiasNOLaborables))","v":2},"",null,null,20]
[2038,20209050043582,43977,"CORREO ELECTRÓNICO","SOLICITUD DE INFORMACIÓN Y DOCUMENTOS","SOLICITUD DE INFORMACIÓN HIDROMETEOROLÓGICA","NO","GRUPO DE ATENCIÓN AL CIUDADANO",43985,null,null,{"$f":"IFERROR(WORKDAY(C2049,R2049,DiasNOLaborables),\"\")","v":44007},{"$f":"+IF(C2049=\"\",\"\",IF(I2049=\"\",\"\",(IF(I2049<=L2049,\"A TIEMPO\",\"FUERA DE TIEMPO\"))))","v":"A TIEMPO"},{"$f":"IF(I2049=\"\",\"\",NETWORKDAYS([4]Hoja1!C2049+1,[4]Hoja1!P2049,DiasNOLaborables))","v":6},"",null,null,20]
[2039,20209050043592,43977,"CORREO ELECTRÓNICO","SOLICITUD DE INFORMACIÓN Y DOCUMENTOS","SOLICITUD DE INFORMACIÓN HIDROMETEOROLÓGICA","NO","GRUPO DE ATENCIÓN AL CIUDADANO",43985,null,null,{"$f":"IFERROR(WORKDAY(C2050,R2050,DiasNOLaborables),\"\")","v":44007},{"$f":"+IF(C2050=\"\",\"\",IF(I2050=\"\",\"\",(IF(I2050<=L2050,\"A TIEMPO\",\"FUERA DE TIEMPO\"))))","v":"A TIEMPO"},{"$f":"IF(I2050=\"\",\"\",NETWORKDAYS([4]Hoja1!C2050+1,[4]Hoja1!P2050,DiasNOLaborables))","v":2},"",null,null,20]
[2040,20209050043602,43977,"CORREO ELECTRÓNICO","SOLICITUD DE INFORMACIÓN Y DOCUMENTOS","SOLICITUD DE INFORMACIÓN HIDROMETEOROLÓGICA","NO","GRUPO DE ATENCIÓN AL CIUDADANO",43985,null,null,{"$f":"IFERROR(WORKDAY(C2051,R2051,DiasNOLaborables),\"\")","v":44007},{"$f":"+IF(C2051=\"\",\"\",IF(I2051=\"\",\"\",(IF(I2051<=L2051,\"A TIEMPO\",\"FUERA DE TIEMPO\"))))","v":"A TIEMPO"},{"$f":"IF(I2051=\"\",\"\",NETWORKDAYS([4]Hoja1!C2051+1,[4]Hoja1!P2051,DiasNOLaborables))","v":4},"",null,null,20]
[2041,20209050043642,43977,"CORREO ELECTRÓNICO","SOLICITUD DE INFORMACIÓN Y DOCUMENTOS","SOLICITUD DE INFORMACIÓN HIDROMETEOROLÓGICA","NO","GRUPO DE ATENCIÓN AL CIUDADANO",43985,null,null,{"$f":"IFERROR(WORKDAY(C2052,R2052,DiasNOLaborables),\"\")","v":44007},{"$f":"+IF(C2052=\"\",\"\",IF(I2052=\"\",\"\",(IF(I2052<=L2052,\"A TIEMPO\",\"FUERA DE TIEMPO\"))))","v":"A TIEMPO"},{"$f":"IF(I2052=\"\",\"\",NETWORKDAYS([4]Hoja1!C2052+1,[4]Hoja1!P2052,DiasNOLaborables))","v":1},"",null,null,20]
[2042,20209050043662,43977,"CORREO ELECTRÓNICO","SOLICITUD DE INFORMACIÓN Y DOCUMENTOS","SOLICITUD DE INFORMACIÓN HIDROMETEOROLÓGICA","NO","GRUPO DE ATENCIÓN AL CIUDADANO",43985,null,null,{"$f":"IFERROR(WORKDAY(C2053,R2053,DiasNOLaborables),\"\")","v":44007},{"$f":"+IF(C2053=\"\",\"\",IF(I2053=\"\",\"\",(IF(I2053<=L2053,\"A TIEMPO\",\"FUERA DE TIEMPO\"))))","v":"A TIEMPO"},{"$f":"IF(I2053=\"\",\"\",NETWORKDAYS([4]Hoja1!C2053+1,[4]Hoja1!P2053,DiasNOLaborables))","v":3},"",null,null,20]
[2043,20209050043672,43977,"CORREO ELECTRÓNICO","SOLICITUD DE INFORMACIÓN Y DOCUMENTOS","SOLICITUD DE INFORMACIÓN HIDROMETEOROLÓGICA","NO","GRUPO DE ATENCIÓN AL CIUDADANO",43985,null,null,{"$f":"IFERROR(WORKDAY(C2054,R2054,DiasNOLaborables),\"\")","v":44007},{"$f":"+IF(C2054=\"\",\"\",IF(I2054=\"\",\"\",(IF(I2054<=L2054,\"A TIEMPO\",\"FUERA DE TIEMPO\"))))","v":"A TIEMPO"},{"$f":"IF(I2054=\"\",\"\",NETWORKDAYS([4]Hoja1!C2054+1,[4]Hoja1!P2054,DiasNOLaborables))","v":3},"",null,null,{"$f":"IFERROR(VLOOKUP(E2054,$Z$50:$AA$63,2),\"\")","v":20}]
[2044,20209050043852,43977,"CORREO ELECTRÓNICO","SOLICITUD DE INFORMACIÓN Y DOCUMENTOS","SOLICITUD DE INFORMACIÓN HIDROMETEOROLÓGICA","NO","GRUPO DE ATENCIÓN AL CIUDADANO",43987,null,null,{"$f":"IFERROR(WORKDAY(C2055,R2055,DiasNOLaborables),\"\")","v":44007},{"$f":"+IF(C2055=\"\",\"\",IF(I2055=\"\",\"\",(IF(I2055<=L2055,\"A TIEMPO\",\"FUERA DE TIEMPO\"))))","v":"A TIEMPO"},{"$f":"IF(I2055=\"\",\"\",NETWORKDAYS([4]Hoja1!C2055+1,[4]Hoja1!P2055,DiasNOLaborables))","v":4},"",null,null,20]
[2045,20209050043842,43977,"CORREO ELECTRÓNICO","SOLICITUD DE INFORMACIÓN Y DOCUMENTOS","SOLICITUD DE INFORMACIÓN HIDROMETEOROLÓGICA","NO","GRUPO DE ATENCIÓN AL CIUDADANO",43985,null,null,{"$f":"IFERROR(WORKDAY(C2056,R2056,DiasNOLaborables),\"\")","v":44007},{"$f":"+IF(C2056=\"\",\"\",IF(I2056=\"\",\"\",(IF(I2056<=L2056,\"A TIEMPO\",\"FUERA DE TIEMPO\"))))","v":"A TIEMPO"},{"$f":"IF(I2056=\"\",\"\",NETWORKDAYS([4]Hoja1!C2056+1,[4]Hoja1!P2056,DiasNOLaborables))","v":9},"",null,null,20]
[2046,20209050043312,43977,"CORREO ELECTRÓNICO","CERTIFICACIONES DE TIEMPO, CLIMA Y EVENTOS HIDROLÓGICOS","CERTIFICACIONES DE TIEMPO Y CLIMA","SI","SUBDIRECCIÓN DE METEOROLOGÍA",43987,null,null,{"$f":"IFERROR(WORKDAY(C2057,R2057,DiasNOLaborables),\"\")","v":44022},{"$f":"+IF(C2057=\"\",\"\",IF(I2057=\"\",\"\",(IF(I2057<=L2057,\"A TIEMPO\",\"FUERA DE TIEMPO\"))))","v":"A TIEMPO"},{"$f":"IF(I2057=\"\",\"\",NETWORKDAYS([4]Hoja1!C2057+1,[4]Hoja1!P2057,DiasNOLaborables))","v":4},"",null,null,30]
[2047,20209050043332,43977,"CORREO ELECTRÓNICO","SOLICITUD DE INFORMACIÓN Y DOCUMENTOS","SOLICITUD DE INFORMACIÓN Y DOCUMENTOS","SI","SUBDIRECCIÓN DE HIDROLOGÍA",43987,null,null,{"$f":"IFERROR(WORKDAY(C2058,R2058,DiasNOLaborables),\"\")","v":44007},{"$f":"+IF(C2058=\"\",\"\",IF(I2058=\"\",\"\",(IF(I2058<=L2058,\"A TIEMPO\",\"FUERA DE TIEMPO\"))))","v":"A TIEMPO"},{"$f":"IF(I2058=\"\",\"\",NETWORKDAYS([4]Hoja1!C2058+1,[4]Hoja1!P2058,DiasNOLaborables))","v":4},"",null,null,20]
[2048,20209050043342,43977,"CORREO ELECTRÓNICO","SOLICITUD DE INFORMACIÓN Y DOCUMENTOS","SOLICITUD DE INFORMACIÓN Y DOCUMENTOS","SI","SUBDIRECCIÓN DE ESTUDIOS AMBIENTALES",43993,null,null,{"$f":"IFERROR(WORKDAY(C2059,R2059,DiasNOLaborables),\"\")","v":44007},{"$f":"+IF(C2059=\"\",\"\",IF(I2059=\"\",\"\",(IF(I2059<=L2059,\"A TIEMPO\",\"FUERA DE TIEMPO\"))))","v":"A TIEMPO"},{"$f":"IF(I2059=\"\",\"\",NETWORKDAYS([4]Hoja1!C2059+1,[4]Hoja1!P2059,DiasNOLaborables))","v":4},"",null,null,20]
[2049,20209050043352,43977,"CORREO ELECTRÓNICO","CERTIFICACIONES DE TIEMPO, CLIMA Y EVENTOS HIDROLÓGICOS","CERTIFICACIONES DE TIEMPO Y CLIMA","SI","SUBDIRECCIÓN DE METEOROLOGÍA",43987,null,null,{"$f":"IFERROR(WORKDAY(C2060,R2060,DiasNOLaborables),\"\")","v":44022},{"$f":"+IF(C2060=\"\",\"\",IF(I2060=\"\",\"\",(IF(I2060<=L2060,\"A TIEMPO\",\"FUERA DE TIEMPO\"))))","v":"A TIEMPO"},{"$f":"IF(I2060=\"\",\"\",NETWORKDAYS([4]Hoja1!C2060+1,[4]Hoja1!P2060,DiasNOLaborables))","v":4},"",null,null,30]
[2050,20209050043372,43977,"CORREO ELECTRÓNICO","CERTIFICACIONES DE TIEMPO, CLIMA Y EVENTOS HIDROLÓGICOS","CERTIFICACIONES DE TIEMPO Y CLIMA","SI","SUBDIRECCIÓN DE METEOROLOGÍA",43978,null,null,{"$f":"IFERROR(WORKDAY(C2061,R2061,DiasNOLaborables),\"\")","v":44022},{"$f":"+IF(C2061=\"\",\"\",IF(I2061=\"\",\"\",(IF(I2061<=L2061,\"A TIEMPO\",\"FUERA DE TIEMPO\"))))","v":"A TIEMPO"},{"$f":"IF(I2061=\"\",\"\",NETWORKDAYS([4]Hoja1!C2061+1,[4]Hoja1!P2061,DiasNOLaborables))","v":4},"",null,null,30]
[2051,20209050043382,43977,"CORREO ELECTRÓNICO","CERTIFICACIONES DE TIEMPO, CLIMA Y EVENTOS HIDROLÓGICOS","CERTIFICACIONES DE TIEMPO Y CLIMA","SI","SUBDIRECCIÓN DE METEOROLOGÍA",43980,null,null,{"$f":"IFERROR(WORKDAY(C2062,R2062,DiasNOLaborables),\"\")","v":44022},{"$f":"+IF(C2062=\"\",\"\",IF(I2062=\"\",\"\",(IF(I2062<=L2062,\"A TIEMPO\",\"FUERA DE TIEMPO\"))))","v":"A TIEMPO"},{"$f":"IF(I2062=\"\",\"\",NETWORKDAYS([4]Hoja1!C2062+1,[4]Hoja1!P2062,DiasNOLaborables))","v":5},"",null,null,30]
[2052,20209050043392,43977,"CORREO ELECTRÓNICO","CERTIFICACIONES DE TIEMPO, CLIMA Y EVENTOS HIDROLÓGICOS","CERTIFICACIONES DE TIEMPO Y CLIMA","SI","SUBDIRECCIÓN DE METEOROLOGÍA",43979,null,null,{"$f":"IFERROR(WORKDAY(C2063,R2063,DiasNOLaborables),\"\")","v":44022},{"$f":"+IF(C2063=\"\",\"\",IF(I2063=\"\",\"\",(IF(I2063<=L2063,\"A TIEMPO\",\"FUERA DE TIEMPO\"))))","v":"A TIEMPO"},{"$f":"IF(I2063=\"\",\"\",NETWORKDAYS([4]Hoja1!C2063+1,[4]Hoja1!P2063,DiasNOLaborables))","v":7},"",null,null,30]
[2053,20209050043402,43977,"CORREO ELECTRÓNICO","CERTIFICACIONES DE TIEMPO, CLIMA Y EVENTOS HIDROLÓGICOS","CERTIFICACIONES DE TIEMPO Y CLIMA","SI","SUBDIRECCIÓN DE METEOROLOGÍA",43980,null,null,{"$f":"IFERROR(WORKDAY(C2064,R2064,DiasNOLaborables),\"\")","v":44022},{"$f":"+IF(C2064=\"\",\"\",IF(I2064=\"\",\"\",(IF(I2064<=L2064,\"A TIEMPO\",\"FUERA DE TIEMPO\"))))","v":"A TIEMPO"},{"$f":"IF(I2064=\"\",\"\",NETWORKDAYS([4]Hoja1!C2064+1,[4]Hoja1!P2064,DiasNOLaborables))","v":2},"",null,null,30]
[2054,20209050043412,43977,"CORREO ELECTRÓNICO","CERTIFICACIONES DE TIEMPO, CLIMA Y EVENTOS HIDROLÓGICOS","CERTIFICACIONES DE TIEMPO Y CLIMA","SI","SUBDIRECCIÓN DE METEOROLOGÍA",43980,null,null,{"$f":"IFERROR(WORKDAY(C2065,R2065,DiasNOLaborables),\"\")","v":44022},{"$f":"+IF(C2065=\"\",\"\",IF(I2065=\"\",\"\",(IF(I2065<=L2065,\"A TIEMPO\",\"FUERA DE TIEMPO\"))))","v":"A TIEMPO"},{"$f":"IF(I2065=\"\",\"\",NETWORKDAYS([4]Hoja1!C2065+1,[4]Hoja1!P2065,DiasNOLaborables))","v":5},"",null,null,30]
[2055,20209050043422,43977,"CORREO ELECTRÓNICO","CERTIFICACIONES DE TIEMPO, CLIMA Y EVENTOS HIDROLÓGICOS","CERTIFICACIONES DE TIEMPO Y CLIMA","SI","SUBDIRECCIÓN DE METEOROLOGÍA",43980,null,null,{"$f":"IFERROR(WORKDAY(C2066,R2066,DiasNOLaborables),\"\")","v":44022},{"$f":"+IF(C2066=\"\",\"\",IF(I2066=\"\",\"\",(IF(I2066<=L2066,\"A TIEMPO\",\"FUERA DE TIEMPO\"))))","v":"A TIEMPO"},{"$f":"IF(I2066=\"\",\"\",NETWORKDAYS([4]Hoja1!C2066+1,[4]Hoja1!P2066,DiasNOLaborables))","v":2},"",null,null,30]
[2056,20209050043432,43977,"CORREO ELECTRÓNICO","CERTIFICACIONES DE TIEMPO, CLIMA Y EVENTOS HIDROLÓGICOS","CERTIFICACIONES DE TIEMPO Y CLIMA","SI","SUBDIRECCIÓN DE METEOROLOGÍA",43979,null,null,{"$f":"IFERROR(WORKDAY(C2067,R2067,DiasNOLaborables),\"\")","v":44022},{"$f":"+IF(C2067=\"\",\"\",IF(I2067=\"\",\"\",(IF(I2067<=L2067,\"A TIEMPO\",\"FUERA DE TIEMPO\"))))","v":"A TIEMPO"},{"$f":"IF(I2067=\"\",\"\",NETWORKDAYS([4]Hoja1!C2067+1,[4]Hoja1!P2067,DiasNOLaborables))","v":10},"",null,null,30]
[2057,20209050043212,43977,"CORREO ELECTRÓNICO","SOLICITUD DE INFORMACIÓN Y DOCUMENTOS","SOLICITUD DE INFORMACIÓN Y DOCUMENTOS","SI","OFICINA DE INFORMÁTICA",43980,null,null,{"$f":"IFERROR(WORKDAY(C2068,R2068,DiasNOLaborables),\"\")","v":44007},{"$f":"+IF(C2068=\"\",\"\",IF(I2068=\"\",\"\",(IF(I2068<=L2068,\"A TIEMPO\",\"FUERA DE TIEMPO\"))))","v":"A TIEMPO"},{"$f":"IF(I2068=\"\",\"\",NETWORKDAYS([4]Hoja1!C2068+1,[4]Hoja1!P2068,DiasNOLaborables))","v":-1},"",null,null,20]
[2058,20209050043292,43977,"CORREO ELECTRÓNICO","SOLICITUD DE INFORMACIÓN Y DOCUMENTOS","SOLICITUD DE INFORMACIÓN Y DOCUMENTOS","SI","OFICINA DE INFORMÁTICA",43991,null,null,{"$f":"IFERROR(WORKDAY(C2069,R2069,DiasNOLaborables),\"\")","v":44007},{"$f":"+IF(C2069=\"\",\"\",IF(I2069=\"\",\"\",(IF(I2069<=L2069,\"A TIEMPO\",\"FUERA DE TIEMPO\"))))","v":"A TIEMPO"},{"$f":"IF(I2069=\"\",\"\",NETWORKDAYS([4]Hoja1!C2069+1,[4]Hoja1!P2069,DiasNOLaborables))","v":3},"",null,null,20]
[2059,20209050043632,43977,"CORREO ELECTRÓNICO","SOLICITUD DE INFORMACIÓN Y DOCUMENTOS","SOLICITUD DE INFORMACIÓN Y DOCUMENTOS","SI","OFICINA DE INFORMÁTICA",43980,null,null,{"$f":"IFERROR(WORKDAY(C2070,R2070,DiasNOLaborables),\"\")","v":44007},{"$f":"+IF(C2070=\"\",\"\",IF(I2070=\"\",\"\",(IF(I2070<=L2070,\"A TIEMPO\",\"FUERA DE TIEMPO\"))))","v":"A TIEMPO"},{"$f":"IF(I2070=\"\",\"\",NETWORKDAYS([4]Hoja1!C2070+1,[4]Hoja1!P2070,DiasNOLaborables))","v":4},"",null,null,20]
[2060,20209050043682,43977,"CORREO ELECTRÓNICO","CERTIFICACIONES DE TIEMPO, CLIMA Y EVENTOS HIDROLÓGICOS","CERTIFICACIONES DE TIEMPO Y CLIMA","SI","SUBDIRECCIÓN DE METEOROLOGÍA",43987,null,null,{"$f":"IFERROR(WORKDAY(C2071,R2071,DiasNOLaborables),\"\")","v":44022},{"$f":"+IF(C2071=\"\",\"\",IF(I2071=\"\",\"\",(IF(I2071<=L2071,\"A TIEMPO\",\"FUERA DE TIEMPO\"))))","v":"A TIEMPO"},{"$f":"IF(I2071=\"\",\"\",NETWORKDAYS([4]Hoja1!C2071+1,[4]Hoja1!P2071,DiasNOLaborables))","v":3},"",null,null,30]
[2061,20209050043692,43977,"CORREO ELECTRÓNICO","CERTIFICACIONES DE TIEMPO, CLIMA Y EVENTOS HIDROLÓGICOS","CERTIFICACIONES DE TIEMPO Y CLIMA","SI","SUBDIRECCIÓN DE METEOROLOGÍA",43979,null,null,{"$f":"IFERROR(WORKDAY(C2072,R2072,DiasNOLaborables),\"\")","v":44022},{"$f":"+IF(C2072=\"\",\"\",IF(I2072=\"\",\"\",(IF(I2072<=L2072,\"A TIEMPO\",\"FUERA DE TIEMPO\"))))","v":"A TIEMPO"},{"$f":"IF(I2072=\"\",\"\",NETWORKDAYS([4]Hoja1!C2072+1,[4]Hoja1!P2072,DiasNOLaborables))","v":3},"",null,null,30]
[2062,20209050043702,43977,"CORREO ELECTRÓNICO","SOLICITUD DE INFORMACIÓN Y DOCUMENTOS","SOLICITUD DE INFORMACIÓN Y DOCUMENTOS","SI","SUBDIRECCIÓN DE ESTUDIOS AMBIENTALES",43986,null,null,{"$f":"IFERROR(WORKDAY(C2073,R2073,DiasNOLaborables),\"\")","v":44007},{"$f":"+IF(C2073=\"\",\"\",IF(I2073=\"\",\"\",(IF(I2073<=L2073,\"A TIEMPO\",\"FUERA DE TIEMPO\"))))","v":"A TIEMPO"},{"$f":"IF(I2073=\"\",\"\",NETWORKDAYS([4]Hoja1!C2073+1,[4]Hoja1!P2073,DiasNOLaborables))","v":5},"",null,null,20]
[2063,20209050043712,43977,"CORREO ELECTRÓNICO","SOLICITUD DE INFORMACIÓN Y DOCUMENTOS","REGISTROS AMBIENTALES","SI","SUBDIRECCIÓN DE ESTUDIOS AMBIENTALES",43986,null,null,{"$f":"IFERROR(WORKDAY(C2074,R2074,DiasNOLaborables),\"\")","v":44007},{"$f":"+IF(C2074=\"\",\"\",IF(I2074=\"\",\"\",(IF(I2074<=L2074,\"A TIEMPO\",\"FUERA DE TIEMPO\"))))","v":"A TIEMPO"},{"$f":"IF(I2074=\"\",\"\",NETWORKDAYS([4]Hoja1!C2074+1,[4]Hoja1!P2074,DiasNOLaborables))","v":5},"",null,null,20]
[2064,20209050043722,43977,"CORREO ELECTRÓNICO","SOLICITUD DE INFORMACIÓN Y DOCUMENTOS","SOLICITUD DE INFORMACIÓN Y DOCUMENTOS","SI","OFICINA DE INFORMÁTICA",43986,null,null,{"$f":"IFERROR(WORKDAY(C2075,R2075,DiasNOLaborables),\"\")","v":44007},{"$f":"+IF(C2075=\"\",\"\",IF(I2075=\"\",\"\",(IF(I2075<=L2075,\"A TIEMPO\",\"FUERA DE TIEMPO\"))))","v":"A TIEMPO"},{"$f":"IF(I2075=\"\",\"\",NETWORKDAYS([4]Hoja1!C2075+1,[4]Hoja1!P2075,DiasNOLaborables))","v":5},"",null,null,20]
[2065,20209050043732,43977,"CORREO ELECTRÓNICO","CERTIFICACIONES DE TIEMPO, CLIMA Y EVENTOS HIDROLÓGICOS","CERTIFICACIONES DE TIEMPO Y CLIMA","SI","SUBDIRECCIÓN DE METEOROLOGÍA",43980,null,null,{"$f":"IFERROR(WORKDAY(C2076,R2076,DiasNOLaborables),\"\")","v":44022},{"$f":"+IF(C2076=\"\",\"\",IF(I2076=\"\",\"\",(IF(I2076<=L2076,\"A TIEMPO\",\"FUERA DE TIEMPO\"))))","v":"A TIEMPO"},{"$f":"IF(I2076=\"\",\"\",NETWORKDAYS([4]Hoja1!C2076+1,[4]Hoja1!P2076,DiasNOLaborables))","v":5},"",null,null,30]
[2066,20209050043742,43977,"CORREO ELECTRÓNICO","SOLICITUD DE INFORMACIÓN Y DOCUMENTOS","REGISTROS AMBIENTALES","SI","SUBDIRECCIÓN DE ESTUDIOS AMBIENTALES",43977,null,null,{"$f":"IFERROR(WORKDAY(C2077,R2077,DiasNOLaborables),\"\")","v":44007},{"$f":"+IF(C2077=\"\",\"\",IF(I2077=\"\",\"\",(IF(I2077<=L2077,\"A TIEMPO\",\"FUERA DE TIEMPO\"))))","v":"A TIEMPO"},{"$f":"IF(I2077=\"\",\"\",NETWORKDAYS([4]Hoja1!C2077+1,[4]Hoja1!P2077,DiasNOLaborables))","v":5},"",null,null,20]
[2067,20209050043752,43977,"CORREO ELECTRÓNICO","SOLICITUD DE INFORMACIÓN Y DOCUMENTOS","SOLICITUD DE INFORMACIÓN Y DOCUMENTOS","SI","SUBDIRECCIÓN DE HIDROLOGÍA",43992,null,null,{"$f":"IFERROR(WORKDAY(C2078,R2078,DiasNOLaborables),\"\")","v":44007},{"$f":"+IF(C2078=\"\",\"\",IF(I2078=\"\",\"\",(IF(I2078<=L2078,\"A TIEMPO\",\"FUERA DE TIEMPO\"))))","v":"A TIEMPO"},{"$f":"IF(I2078=\"\",\"\",NETWORKDAYS([4]Hoja1!C2078+1,[4]Hoja1!P2078,DiasNOLaborables))","v":5},"",null,null,20]
[2068,20209050043762,43977,"CORREO ELECTRÓNICO","SOLICITUD DE INFORMACIÓN Y DOCUMENTOS","REGISTROS AMBIENTALES","SI","SUBDIRECCIÓN DE ESTUDIOS AMBIENTALES",43978,null,null,{"$f":"IFERROR(WORKDAY(C2079,R2079,DiasNOLaborables),\"\")","v":44007},{"$f":"+IF(C2079=\"\",\"\",IF(I2079=\"\",\"\",(IF(I2079<=L2079,\"A TIEMPO\",\"FUERA DE TIEMPO\"))))","v":"A TIEMPO"},{"$f":"IF(I2079=\"\",\"\",NETWORKDAYS([4]Hoja1!C2079+1,[4]Hoja1!P2079,DiasNOLaborables))","v":5},"",null,null,20]
[2069,20209050043772,43977,"CORREO ELECTRÓNICO","SOLICITUD DE INFORMACIÓN Y DOCUMENTOS","REGISTROS AMBIENTALES","SI","SUBDIRECCIÓN DE ESTUDIOS AMBIENTALES",43978,null,null,{"$f":"IFERROR(WORKDAY(C2080,R2080,DiasNOLaborables),\"\")","v":44007},{"$f":"+IF(C2080=\"\",\"\",IF(I2080=\"\",\"\",(IF(I2080<=L2080,\"A TIEMPO\",\"FUERA DE TIEMPO\"))))","v":"A TIEMPO"},{"$f":"IF(I2080=\"\",\"\",NETWORKDAYS([4]Hoja1!C2080+1,[4]Hoja1!P2080,DiasNOLaborables))","v":5},"",null,null,20]
[2070,20209050043802,43977,"CORREO ELECTRÓNICO","SOLICITUD DE INFORMACIÓN Y DOCUMENTOS","REGISTROS AMBIENTALES","SI","SUBDIRECCIÓN DE ESTUDIOS AMBIENTALES",43986,null,null,{"$f":"IFERROR(WORKDAY(C2081,R2081,DiasNOLaborables),\"\")","v":44007},{"$f":"+IF(C2081=\"\",\"\",IF(I2081=\"\",\"\",(IF(I2081<=L2081,\"A TIEMPO\",\"FUERA DE TIEMPO\"))))","v":"A TIEMPO"},{"$f":"IF(I2081=\"\",\"\",NETWORKDAYS([4]Hoja1!C2081+1,[4]Hoja1!P2081,DiasNOLaborables))","v":5},"",null,null,20]
[2071,20209050043822,43977,"CORREO ELECTRÓNICO","SOLICITUD DE INFORMACIÓN Y DOCUMENTOS","SOLICITUD DE INFORMACIÓN Y DOCUMENTOS","SI","OFICINA DE INFORMÁTICA",43986,null,null,{"$f":"IFERROR(WORKDAY(C2082,R2082,DiasNOLaborables),\"\")","v":44007},{"$f":"+IF(C2082=\"\",\"\",IF(I2082=\"\",\"\",(IF(I2082<=L2082,\"A TIEMPO\",\"FUERA DE TIEMPO\"))))","v":"A TIEMPO"},{"$f":"IF(I2082=\"\",\"\",NETWORKDAYS([4]Hoja1!C2082+1,[4]Hoja1!P2082,DiasNOLaborables))","v":5},"",null,null,20]
[2072,20209050043462,43977,"MODULO CONTACTENOS","SOLICITUD DE INFORMACIÓN Y DOCUMENTOS","BOSQUES","SI","SUBDIRECCIÓN DE ECOSISTEMAS E INFORMACIÓN AMBIENTAL",43979,null,null,{"$f":"IFERROR(WORKDAY(C2083,R2083,DiasNOLaborables),\"\")","v":44007},{"$f":"+IF(C2083=\"\",\"\",IF(I2083=\"\",\"\",(IF(I2083<=L2083,\"A TIEMPO\",\"FUERA DE TIEMPO\"))))","v":"A TIEMPO"},{"$f":"IF(I2083=\"\",\"\",NETWORKDAYS([4]Hoja1!C2083+1,[4]Hoja1!P2083,DiasNOLaborables))","v":5},"",null,null,20]
[2073,20209050043472,43977,"MODULO CONTACTENOS","CERTIFICACIONES DE TIEMPO, CLIMA Y EVENTOS HIDROLÓGICOS","CERTIFICACIONES DE TIEMPO Y CLIMA","SI","SUBDIRECCIÓN DE METEOROLOGÍA",43985,null,null,{"$f":"IFERROR(WORKDAY(C2084,R2084,DiasNOLaborables),\"\")","v":44022},{"$f":"+IF(C2084=\"\",\"\",IF(I2084=\"\",\"\",(IF(I2084<=L2084,\"A TIEMPO\",\"FUERA DE TIEMPO\"))))","v":"A TIEMPO"},{"$f":"IF(I2084=\"\",\"\",NETWORKDAYS([4]Hoja1!C2084+1,[4]Hoja1!P2084,DiasNOLaborables))","v":5},"",null,null,30]
[2074,20209050043542,43977,"MODULO CONTACTENOS","SOLICITUD DE INFORMACIÓN Y DOCUMENTOS","SIRH","SI","SUBDIRECCIÓN DE HIDROLOGÍA",43980,null,null,{"$f":"IFERROR(WORKDAY(C2085,R2085,DiasNOLaborables),\"\")","v":44007},{"$f":"+IF(C2085=\"\",\"\",IF(I2085=\"\",\"\",(IF(I2085<=L2085,\"A TIEMPO\",\"FUERA DE TIEMPO\"))))","v":"A TIEMPO"},{"$f":"IF(I2085=\"\",\"\",NETWORKDAYS([4]Hoja1!C2085+1,[4]Hoja1!P2085,DiasNOLaborables))","v":5},"",null,null,20]
[2075,20209050043572,43977,"MODULO CONTACTENOS","SOLICITUD DE INFORMACIÓN Y DOCUMENTOS","ACREDITACIÓN DE LABORATORIOS","SI","SUBDIRECCIÓN DE ESTUDIOS AMBIENTALES",43986,null,null,{"$f":"IFERROR(WORKDAY(C2086,R2086,DiasNOLaborables),\"\")","v":44007},{"$f":"+IF(C2086=\"\",\"\",IF(I2086=\"\",\"\",(IF(I2086<=L2086,\"A TIEMPO\",\"FUERA DE TIEMPO\"))))","v":"A TIEMPO"},{"$f":"IF(I2086=\"\",\"\",NETWORKDAYS([4]Hoja1!C2086+1,[4]Hoja1!P2086,DiasNOLaborables))","v":5},"",null,null,20]
[2076,20209050043882,43978,"MODULO CONTACTENOS","SOLICITUD DE INFORMACIÓN Y DOCUMENTOS","BOSQUES","SI","SUBDIRECCIÓN DE ECOSISTEMAS E INFORMACIÓN AMBIENTAL",43986,null,null,{"$f":"IFERROR(WORKDAY(C2087,R2087,DiasNOLaborables),\"\")","v":44008},{"$f":"+IF(C2087=\"\",\"\",IF(I2087=\"\",\"\",(IF(I2087<=L2087,\"A TIEMPO\",\"FUERA DE TIEMPO\"))))","v":"A TIEMPO"},{"$f":"IF(I2087=\"\",\"\",NETWORKDAYS([4]Hoja1!C2087+1,[4]Hoja1!P2087,DiasNOLaborables))","v":13},"",null,null,20]
[2077,20209910039962,43978,"CORREO CERTIFICADO","PETICIÓN","SIRH","SI","SUBDIRECCIÓN DE HIDROLOGÍA",43983,null,null,{"$f":"IFERROR(WORKDAY(C2088,R2088,DiasNOLaborables),\"\")","v":44025},{"$f":"+IF(C2088=\"\",\"\",IF(I2088=\"\",\"\",(IF(I2088<=L2088,\"A TIEMPO\",\"FUERA DE TIEMPO\"))))","v":"A TIEMPO"},{"$f":"IF(I2088=\"\",\"\",NETWORKDAYS([4]Hoja1!C2088+1,[4]Hoja1!P2088,DiasNOLaborables))","v":1},"",null,null,30]
[2078,20209050043922,43978,"MODULO CONTACTENOS","SOLICITUD DE INFORMACIÓN Y DOCUMENTOS","ACREDITACIÓN DE LABORATORIOS","SI","SUBDIRECCIÓN DE ESTUDIOS AMBIENTALES",43994,null,null,{"$f":"IFERROR(WORKDAY(C2089,R2089,DiasNOLaborables),\"\")","v":44008},{"$f":"+IF(C2089=\"\",\"\",IF(I2089=\"\",\"\",(IF(I2089<=L2089,\"A TIEMPO\",\"FUERA DE TIEMPO\"))))","v":"A TIEMPO"},{"$f":"IF(I2089=\"\",\"\",NETWORKDAYS([4]Hoja1!C2089+1,[4]Hoja1!P2089,DiasNOLaborables))","v":5},"",null,null,20]
[2079,20209050043932,43978,"MODULO CONTACTENOS","SOLICITUD DE INFORMACIÓN Y DOCUMENTOS","ACREDITACIÓN DE LABORATORIOS","SI","SUBDIRECCIÓN DE ESTUDIOS AMBIENTALES",43994,null,null,{"$f":"IFERROR(WORKDAY(C2090,R2090,DiasNOLaborables),\"\")","v":44008},{"$f":"+IF(C2090=\"\",\"\",IF(I2090=\"\",\"\",(IF(I2090<=L2090,\"A TIEMPO\",\"FUERA DE TIEMPO\"))))","v":"A TIEMPO"},{"$f":"IF(I2090=\"\",\"\",NETWORKDAYS([4]Hoja1!C2090+1,[4]Hoja1!P2090,DiasNOLaborables))","v":5},"",null,null,20]
[2080,20209050044082,43978,"MODULO CONTACTENOS","SOLICITUD DE INFORMACIÓN Y DOCUMENTOS","CAMBIO CLIMÁTICO","SI","SUBDIRECCIÓN DE ESTUDIOS AMBIENTALES",43993,null,null,{"$f":"IFERROR(WORKDAY(C2091,R2091,DiasNOLaborables),\"\")","v":44008},{"$f":"+IF(C2091=\"\",\"\",IF(I2091=\"\",\"\",(IF(I2091<=L2091,\"A TIEMPO\",\"FUERA DE TIEMPO\"))))","v":"A TIEMPO"},{"$f":"IF(I2091=\"\",\"\",NETWORKDAYS([4]Hoja1!C2091+1,[4]Hoja1!P2091,DiasNOLaborables))","v":7},"",null,null,20]
[2081,20209050044142,43978,"MODULO CONTACTENOS","SOLICITUD DE INFORMACIÓN Y DOCUMENTOS","CLIMATOLOGÍA","SI","SUBDIRECCIÓN DE METEOROLOGÍA",43987,null,null,{"$f":"IFERROR(WORKDAY(C2092,R2092,DiasNOLaborables),\"\")","v":44008},{"$f":"+IF(C2092=\"\",\"\",IF(I2092=\"\",\"\",(IF(I2092<=L2092,\"A TIEMPO\",\"FUERA DE TIEMPO\"))))","v":"A TIEMPO"},{"$f":"IF(I2092=\"\",\"\",NETWORKDAYS([4]Hoja1!C2092+1,[4]Hoja1!P2092,DiasNOLaborables))","v":5},"",null,null,20]
[2082,20209050043962,43978,"CORREO ELECTRÓNICO","SOLICITUD DE INFORMACIÓN Y DOCUMENTOS","SOLICITUD DE INFORMACIÓN Y DOCUMENTOS","SI","SUBDIRECCIÓN DE ECOSISTEMAS E INFORMACIÓN AMBIENTAL",43978,null,null,{"$f":"IFERROR(WORKDAY(C2093,R2093,DiasNOLaborables),\"\")","v":44008},{"$f":"+IF(C2093=\"\",\"\",IF(I2093=\"\",\"\",(IF(I2093<=L2093,\"A TIEMPO\",\"FUERA DE TIEMPO\"))))","v":"A TIEMPO"},{"$f":"IF(I2093=\"\",\"\",NETWORKDAYS([4]Hoja1!C2093+1,[4]Hoja1!P2093,DiasNOLaborables))","v":5},"",null,null,20]
[2083,20209050043972,43978,"CORREO ELECTRÓNICO","CERTIFICACIONES DE TIEMPO, CLIMA Y EVENTOS HIDROLÓGICOS","SOLICITUD DE INFORMACIÓN Y DOCUMENTOS","SI","SUBDIRECCIÓN DE ESTUDIOS AMBIENTALES",43986,null,null,{"$f":"IFERROR(WORKDAY(C2094,R2094,DiasNOLaborables),\"\")","v":44025},{"$f":"+IF(C2094=\"\",\"\",IF(I2094=\"\",\"\",(IF(I2094<=L2094,\"A TIEMPO\",\"FUERA DE TIEMPO\"))))","v":"A TIEMPO"},{"$f":"IF(I2094=\"\",\"\",NETWORKDAYS([4]Hoja1!C2094+1,[4]Hoja1!P2094,DiasNOLaborables))","v":5},"",null,null,30]
[2084,20209050043982,43978,"CORREO ELECTRÓNICO","SOLICITUD DE INFORMACIÓN Y DOCUMENTOS","SOLICITUD DE INFORMACIÓN Y DOCUMENTOS","SI","SUBDIRECCIÓN DE ESTUDIOS AMBIENTALES",43986,null,null,{"$f":"IFERROR(WORKDAY(C2095,R2095,DiasNOLaborables),\"\")","v":44008},{"$f":"+IF(C2095=\"\",\"\",IF(I2095=\"\",\"\",(IF(I2095<=L2095,\"A TIEMPO\",\"FUERA DE TIEMPO\"))))","v":"A TIEMPO"},{"$f":"IF(I2095=\"\",\"\",NETWORKDAYS([4]Hoja1!C2095+1,[4]Hoja1!P2095,DiasNOLaborables))","v":5},"",null,null,20]
[2085,20209050043992,43978,"CORREO ELECTRÓNICO","SOLICITUD DE INFORMACIÓN Y DOCUMENTOS","SOLICITUD DE INFORMACIÓN Y DOCUMENTOS","SI","SUBDIRECCIÓN DE ESTUDIOS AMBIENTALES",43992,null,null,{"$f":"IFERROR(WORKDAY(C2096,R2096,DiasNOLaborables),\"\")","v":44008},{"$f":"+IF(C2096=\"\",\"\",IF(I2096=\"\",\"\",(IF(I2096<=L2096,\"A TIEMPO\",\"FUERA DE TIEMPO\"))))","v":"A TIEMPO"},{"$f":"IF(I2096=\"\",\"\",NETWORKDAYS([4]Hoja1!C2096+1,[4]Hoja1!P2096,DiasNOLaborables))","v":5},"",null,null,20]
[2086,20209050044002,43978,"CORREO ELECTRÓNICO","SOLICITUD DE INFORMACIÓN Y DOCUMENTOS","SOLICITUD DE INFORMACIÓN Y DOCUMENTOS","SI","SUBDIRECCIÓN DE ESTUDIOS AMBIENTALES",44005,null,null,{"$f":"IFERROR(WORKDAY(C2097,R2097,DiasNOLaborables),\"\")","v":44008},{"$f":"+IF(C2097=\"\",\"\",IF(I2097=\"\",\"\",(IF(I2097<=L2097,\"A TIEMPO\",\"FUERA DE TIEMPO\"))))","v":"A TIEMPO"},{"$f":"IF(I2097=\"\",\"\",NETWORKDAYS([4]Hoja1!C2097+1,[4]Hoja1!P2097,DiasNOLaborables))","v":5},"",null,null,20]
[{"$f":"IF(B2096<>\"\",A2097+1,\"\")","v":2087},20209050044012,43978,"CORREO ELECTRÓNICO","CERTIFICACIONES DE TIEMPO, CLIMA Y EVENTOS HIDROLÓGICOS","SOLICITUD DE INFORMACIÓN Y DOCUMENTOS","SI","SUBDIRECCIÓN DE ESTUDIOS AMBIENTALES",43987,null,null,{"$f":"IFERROR(WORKDAY(C2098,R2098,DiasNOLaborables),\"\")","v":44025},{"$f":"+IF(C2098=\"\",\"\",IF(I2098=\"\",\"\",(IF(I2098<=L2098,\"A TIEMPO\",\"FUERA DE TIEMPO\"))))","v":"A TIEMPO"},{"$f":"IF(I2098=\"\",\"\",NETWORKDAYS([4]Hoja1!C2098+1,[4]Hoja1!P2098,DiasNOLaborables))","v":5},"",null,null,30]
[2088,20209050043902,43978,"MODULO CONTACTENOS","SOLICITUD DE INFORMACIÓN Y DOCUMENTOS","SOLICITUD DE INFORMACIÓN Y DOCUMENTOS","SI","OFICINA DE INFORMÁTICA",43986,null,null,{"$f":"IFERROR(WORKDAY(C2099,R2099,DiasNOLaborables),\"\")","v":44008},{"$f":"+IF(C2099=\"\",\"\",IF(I2099=\"\",\"\",(IF(I2099<=L2099,\"A TIEMPO\",\"FUERA DE TIEMPO\"))))","v":"A TIEMPO"},{"$f":"IF(I2099=\"\",\"\",NETWORKDAYS([4]Hoja1!C2099+1,[4]Hoja1!P2099,DiasNOLaborables))","v":8},"",null,null,20]
[2089,20209050044092,43978,"CORREO ELECTRÓNICO","SOLICITUD DE INFORMACIÓN Y DOCUMENTOS","SOLICITUD DE INFORMACIÓN Y DOCUMENTOS","SI","SUBDIRECCIÓN DE ECOSISTEMAS E INFORMACIÓN AMBIENTAL",43987,null,null,{"$f":"IFERROR(WORKDAY(C2100,R2100,DiasNOLaborables),\"\")","v":44008},{"$f":"+IF(C2100=\"\",\"\",IF(I2100=\"\",\"\",(IF(I2100<=L2100,\"A TIEMPO\",\"FUERA DE TIEMPO\"))))","v":"A TIEMPO"},{"$f":"IF(I2100=\"\",\"\",NETWORKDAYS([4]Hoja1!C2100+1,[4]Hoja1!P2100,DiasNOLaborables))","v":10},{"$f":"IF(NETWORKDAYS(L2100+1,I2100,DiasNOLaborables)<=0,\"\",NETWORKDAYS(L2100+1,I2100,DiasNOLaborables))","v":""},null,null,20]
[2090,20209050044102,43978,"CORREO ELECTRÓNICO","SOLICITUD DE INFORMACIÓN Y DOCUMENTOS","SOLICITUD DE INFORMACIÓN Y DOCUMENTOS","SI","SUBDIRECCIÓN DE ESTUDIOS AMBIENTALES",43980,null,null,{"$f":"IFERROR(WORKDAY(C2101,R2101,DiasNOLaborables),\"\")","v":44008},{"$f":"+IF(C2101=\"\",\"\",IF(I2101=\"\",\"\",(IF(I2101<=L2101,\"A TIEMPO\",\"FUERA DE TIEMPO\"))))","v":"A TIEMPO"},{"$f":"IF(I2101=\"\",\"\",NETWORKDAYS([4]Hoja1!C2101+1,[4]Hoja1!P2101,DiasNOLaborables))","v":11},"",null,null,20]
[2091,20209050044122,43978,"CORREO ELECTRÓNICO","SOLICITUD DE INFORMACIÓN Y DOCUMENTOS","SOLICITUD DE INFORMACIÓN Y DOCUMENTOS","SI","SUBDIRECCIÓN DE ESTUDIOS AMBIENTALES",43979,null,null,{"$f":"IFERROR(WORKDAY(C2102,R2102,DiasNOLaborables),\"\")","v":44008},{"$f":"+IF(C2102=\"\",\"\",IF(I2102=\"\",\"\",(IF(I2102<=L2102,\"A TIEMPO\",\"FUERA DE TIEMPO\"))))","v":"A TIEMPO"},{"$f":"IF(I2102=\"\",\"\",NETWORKDAYS([4]Hoja1!C2102+1,[4]Hoja1!P2102,DiasNOLaborables))","v":9},"",null,null,20]
[2092,20209050044132,43978,"CORREO ELECTRÓNICO","SOLICITUD DE INFORMACIÓN Y DOCUMENTOS","REGISTROS AMBIENTALES","SI","SUBDIRECCIÓN DE ESTUDIOS AMBIENTALES",43978,null,null,{"$f":"IFERROR(WORKDAY(C2103,R2103,DiasNOLaborables),\"\")","v":44008},{"$f":"+IF(C2103=\"\",\"\",IF(I2103=\"\",\"\",(IF(I2103<=L2103,\"A TIEMPO\",\"FUERA DE TIEMPO\"))))","v":"A TIEMPO"},{"$f":"IF(I2103=\"\",\"\",NETWORKDAYS([4]Hoja1!C2103+1,[4]Hoja1!P2103,DiasNOLaborables))","v":2},"",null,null,20]
[2093,20209050044032,43978,"CORREO ELECTRÓNICO","SOLICITUD DE INFORMACIÓN Y DOCUMENTOS","SOLICITUD DE INFORMACIÓN HIDROMETEOROLÓGICA","NO","GRUPO DE ATENCIÓN AL CIUDADANO",43986,null,null,{"$f":"IFERROR(WORKDAY(C2104,R2104,DiasNOLaborables),\"\")","v":44008},{"$f":"+IF(C2104=\"\",\"\",IF(I2104=\"\",\"\",(IF(I2104<=L2104,\"A TIEMPO\",\"FUERA DE TIEMPO\"))))","v":"A TIEMPO"},{"$f":"IF(I2104=\"\",\"\",NETWORKDAYS([4]Hoja1!C2104+1,[4]Hoja1!P2104,DiasNOLaborables))","v":4},"",null,null,20]
[2094,20209050044302,43978,"CORREO ELECTRÓNICO","SOLICITUD DE INFORMACIÓN Y DOCUMENTOS","SOLICITUD DE INFORMACIÓN HIDROMETEOROLÓGICA","NO","GRUPO DE ATENCIÓN AL CIUDADANO",43986,null,null,{"$f":"IFERROR(WORKDAY(C2105,R2105,DiasNOLaborables),\"\")","v":44008},{"$f":"+IF(C2105=\"\",\"\",IF(I2105=\"\",\"\",(IF(I2105<=L2105,\"A TIEMPO\",\"FUERA DE TIEMPO\"))))","v":"A TIEMPO"},{"$f":"IF(I2105=\"\",\"\",NETWORKDAYS([4]Hoja1!C2105+1,[4]Hoja1!P2105,DiasNOLaborables))","v":-2},"",null,null,20]
[2095,20209050044422,43978,"CORREO ELECTRÓNICO","SOLICITUD DE INFORMACIÓN Y DOCUMENTOS","SOLICITUD DE INFORMACIÓN HIDROMETEOROLÓGICA","NO","GRUPO DE ATENCIÓN AL CIUDADANO",43986,null,null,{"$f":"IFERROR(WORKDAY(C2106,R2106,DiasNOLaborables),\"\")","v":44008},{"$f":"+IF(C2106=\"\",\"\",IF(I2106=\"\",\"\",(IF(I2106<=L2106,\"A TIEMPO\",\"FUERA DE TIEMPO\"))))","v":"A TIEMPO"},{"$f":"IF(I2106=\"\",\"\",NETWORKDAYS([4]Hoja1!C2106+1,[4]Hoja1!P2106,DiasNOLaborables))","v":4},"",null,null,20]
[2096,20209050044072,43978,"CORREO ELECTRÓNICO","SOLICITUD DE INFORMACIÓN Y DOCUMENTOS","SOLICITUD DE INFORMACIÓN HIDROMETEOROLÓGICA","NO","GRUPO DE ATENCIÓN AL CIUDADANO",43987,null,null,{"$f":"IFERROR(WORKDAY(C2107,R2107,DiasNOLaborables),\"\")","v":44008},{"$f":"+IF(C2107=\"\",\"\",IF(I2107=\"\",\"\",(IF(I2107<=L2107,\"A TIEMPO\",\"FUERA DE TIEMPO\"))))","v":"A TIEMPO"},{"$f":"IF(I2107=\"\",\"\",NETWORKDAYS([4]Hoja1!C2107+1,[4]Hoja1!P2107,DiasNOLaborables))","v":41},"",null,null,20]
[2097,20209050043872,43978,"CORREO ELECTRÓNICO","SOLICITUD DE INFORMACIÓN Y DOCUMENTOS","SOLICITUD DE INFORMACIÓN HIDROMETEOROLÓGICA","SI","GRUPO DE ATENCIÓN AL CIUDADANO",43990,null,null,{"$f":"IFERROR(WORKDAY(C2108,R2108,DiasNOLaborables),\"\")","v":44008},{"$f":"+IF(C2108=\"\",\"\",IF(I2108=\"\",\"\",(IF(I2108<=L2108,\"A TIEMPO\",\"FUERA DE TIEMPO\"))))","v":"A TIEMPO"},{"$f":"IF(I2108=\"\",\"\",NETWORKDAYS([4]Hoja1!C2108+1,[4]Hoja1!P2108,DiasNOLaborables))","v":1},"",null,null,20]
[2098,20209050044022,43978,"CORREO ELECTRÓNICO","SOLICITUD DE INFORMACIÓN Y DOCUMENTOS","SOLICITUD DE INFORMACIÓN HIDROMETEOROLÓGICA","NO","GRUPO DE ATENCIÓN AL CIUDADANO",43987,null,null,{"$f":"IFERROR(WORKDAY(C2109,R2109,DiasNOLaborables),\"\")","v":44008},{"$f":"+IF(C2109=\"\",\"\",IF(I2109=\"\",\"\",(IF(I2109<=L2109,\"A TIEMPO\",\"FUERA DE TIEMPO\"))))","v":"A TIEMPO"},{"$f":"IF(I2109=\"\",\"\",NETWORKDAYS([4]Hoja1!C2109+1,[4]Hoja1!P2109,DiasNOLaborables))","v":1},"",null,null,20]
[2099,20209050044392,43979,"CORREO ELECTRÓNICO","SOLICITUD DE INFORMACIÓN Y DOCUMENTOS","SOLICITUD DE INFORMACIÓN HIDROMETEOROLÓGICA","NO","GRUPO DE ATENCIÓN AL CIUDADANO",43986,null,null,{"$f":"IFERROR(WORKDAY(C2110,R2110,DiasNOLaborables),\"\")","v":44012},{"$f":"+IF(C2110=\"\",\"\",IF(I2110=\"\",\"\",(IF(I2110<=L2110,\"A TIEMPO\",\"FUERA DE TIEMPO\"))))","v":"A TIEMPO"},{"$f":"IF(I2110=\"\",\"\",NETWORKDAYS([4]Hoja1!C2110+1,[4]Hoja1!P2110,DiasNOLaborables))","v":1},"",null,null,20]
[2100,20209050044232,43979,"CORREO ELECTRÓNICO","CERTIFICACIONES DE TIEMPO, CLIMA Y EVENTOS HIDROLÓGICOS","CERTIFICACIONES DE TIEMPO Y CLIMA","SI","SUBDIRECCIÓN DE METEOROLOGÍA",43985,null,null,{"$f":"IFERROR(WORKDAY(C2111,R2111,DiasNOLaborables),\"\")","v":44026},{"$f":"+IF(C2111=\"\",\"\",IF(I2111=\"\",\"\",(IF(I2111<=L2111,\"A TIEMPO\",\"FUERA DE TIEMPO\"))))","v":"A TIEMPO"},{"$f":"IF(I2111=\"\",\"\",NETWORKDAYS([4]Hoja1!C2111+1,[4]Hoja1!P2111,DiasNOLaborables))","v":30},"",null,null,30]
[2101,20209050044252,43979,"CORREO ELECTRÓNICO","SOLICITUD DE INFORMACIÓN Y DOCUMENTOS","REGISTROS AMBIENTALES","SI","SUBDIRECCIÓN DE ESTUDIOS AMBIENTALES",43985,null,null,{"$f":"IFERROR(WORKDAY(C2112,R2112,DiasNOLaborables),\"\")","v":44012},{"$f":"+IF(C2112=\"\",\"\",IF(I2112=\"\",\"\",(IF(I2112<=L2112,\"A TIEMPO\",\"FUERA DE TIEMPO\"))))","v":"A TIEMPO"},{"$f":"IF(I2112=\"\",\"\",NETWORKDAYS([4]Hoja1!C2112+1,[4]Hoja1!P2112,DiasNOLaborables))","v":1},"",null,null,20]
[2102,20209050044262,43979,"CORREO ELECTRÓNICO","SOLICITUD DE INFORMACIÓN Y DOCUMENTOS","REGISTROS AMBIENTALES","SI","SUBDIRECCIÓN DE ESTUDIOS AMBIENTALES",43979,null,null,{"$f":"IFERROR(WORKDAY(C2113,R2113,DiasNOLaborables),\"\")","v":44012},{"$f":"+IF(C2113=\"\",\"\",IF(I2113=\"\",\"\",(IF(I2113<=L2113,\"A TIEMPO\",\"FUERA DE TIEMPO\"))))","v":"A TIEMPO"},{"$f":"IF(I2113=\"\",\"\",NETWORKDAYS([4]Hoja1!C2113+1,[4]Hoja1!P2113,DiasNOLaborables))","v":10},"",null,null,20]
[2103,20209050044282,43979,"CORREO ELECTRÓNICO","SOLICITUD DE INFORMACIÓN Y DOCUMENTOS","REGISTROS AMBIENTALES","SI","SUBDIRECCIÓN DE ESTUDIOS AMBIENTALES",43985,null,null,{"$f":"IFERROR(WORKDAY(C2114,R2114,DiasNOLaborables),\"\")","v":44012},{"$f":"+IF(C2114=\"\",\"\",IF(I2114=\"\",\"\",(IF(I2114<=L2114,\"A TIEMPO\",\"FUERA DE TIEMPO\"))))","v":"A TIEMPO"},{"$f":"IF(I2114=\"\",\"\",NETWORKDAYS([4]Hoja1!C2114+1,[4]Hoja1!P2114,DiasNOLaborables))","v":14},"",null,null,20]
[2104,20209050044292,43979,"CORREO ELECTRÓNICO","SOLICITUD DE INFORMACIÓN Y DOCUMENTOS","REGISTROS AMBIENTALES","SI","SUBDIRECCIÓN DE ESTUDIOS AMBIENTALES",43983,null,null,{"$f":"IFERROR(WORKDAY(C2115,R2115,DiasNOLaborables),\"\")","v":44012},{"$f":"+IF(C2115=\"\",\"\",IF(I2115=\"\",\"\",(IF(I2115<=L2115,\"A TIEMPO\",\"FUERA DE TIEMPO\"))))","v":"A TIEMPO"},{"$f":"IF(I2115=\"\",\"\",NETWORKDAYS([4]Hoja1!C2115+1,[4]Hoja1!P2115,DiasNOLaborables))","v":4},"",null,null,20]
[2105,20209050044312,43979,"CORREO ELECTRÓNICO","SOLICITUD DE INFORMACIÓN Y DOCUMENTOS","REGISTROS AMBIENTALES","SI","SUBDIRECCIÓN DE ESTUDIOS AMBIENTALES",43985,null,null,{"$f":"IFERROR(WORKDAY(C2116,R2116,DiasNOLaborables),\"\")","v":44012},{"$f":"+IF(C2116=\"\",\"\",IF(I2116=\"\",\"\",(IF(I2116<=L2116,\"A TIEMPO\",\"FUERA DE TIEMPO\"))))","v":"A TIEMPO"},{"$f":"IF(I2116=\"\",\"\",NETWORKDAYS([4]Hoja1!C2116+1,[4]Hoja1!P2116,DiasNOLaborables))","v":4},"",null,null,20]
[2106,20209050044322,43979,"CORREO ELECTRÓNICO","CERTIFICACIONES DE TIEMPO, CLIMA Y EVENTOS HIDROLÓGICOS","CERTIFICACIONES DE TIEMPO Y CLIMA","SI","SUBDIRECCIÓN DE METEOROLOGÍA",43985,null,null,{"$f":"IFERROR(WORKDAY(C2117,R2117,DiasNOLaborables),\"\")","v":44026},{"$f":"+IF(C2117=\"\",\"\",IF(I2117=\"\",\"\",(IF(I2117<=L2117,\"A TIEMPO\",\"FUERA DE TIEMPO\"))))","v":"A TIEMPO"},{"$f":"IF(I2117=\"\",\"\",NETWORKDAYS([4]Hoja1!C2117+1,[4]Hoja1!P2117,DiasNOLaborables))","v":4},"",null,null,30]
[2107,20209050044332,43979,"CORREO ELECTRÓNICO","PETICIÓN","SOLICITUD DE INFORMACIÓN Y DOCUMENTOS","SI","SUBDIRECCIÓN DE ECOSISTEMAS E INFORMACIÓN AMBIENTAL",44026,null,null,{"$f":"IFERROR(WORKDAY(C2118,R2118,DiasNOLaborables),\"\")","v":44026},{"$f":"+IF(C2118=\"\",\"\",IF(I2118=\"\",\"\",(IF(I2118<=L2118,\"A TIEMPO\",\"FUERA DE TIEMPO\"))))","v":"A TIEMPO"},{"$f":"IF(I2118=\"\",\"\",NETWORKDAYS([4]Hoja1!C2118+1,[4]Hoja1!P2118,DiasNOLaborables))","v":4},"",null,null,{"$f":"IFERROR(VLOOKUP(E2118,$Z$50:$AA$63,2),\"\")","v":30}]
[2108,20209050044172,43979,"MODULO CONTACTENOS","CERTIFICACIONES DE TIEMPO, CLIMA Y EVENTOS HIDROLÓGICOS","CERTIFICACIONES DE TIEMPO Y CLIMA","SI","SUBDIRECCIÓN DE METEOROLOGÍA",43994,null,null,{"$f":"IFERROR(WORKDAY(C2119,R2119,DiasNOLaborables),\"\")","v":44026},{"$f":"+IF(C2119=\"\",\"\",IF(I2119=\"\",\"\",(IF(I2119<=L2119,\"A TIEMPO\",\"FUERA DE TIEMPO\"))))","v":"A TIEMPO"},{"$f":"IF(I2119=\"\",\"\",NETWORKDAYS([4]Hoja1!C2119+1,[4]Hoja1!P2119,DiasNOLaborables))","v":7},"",null,null,30]
[2109,20209050044182,43979,"MODULO CONTACTENOS","CERTIFICACIONES DE TIEMPO, CLIMA Y EVENTOS HIDROLÓGICOS","CERTIFICACIONES DE TIEMPO Y CLIMA","SI","SUBDIRECCIÓN DE METEOROLOGÍA",43994,null,null,{"$f":"IFERROR(WORKDAY(C2120,R2120,DiasNOLaborables),\"\")","v":44026},{"$f":"+IF(C2120=\"\",\"\",IF(I2120=\"\",\"\",(IF(I2120<=L2120,\"A TIEMPO\",\"FUERA DE TIEMPO\"))))","v":"A TIEMPO"},{"$f":"IF(I2120=\"\",\"\",NETWORKDAYS([4]Hoja1!C2120+1,[4]Hoja1!P2120,DiasNOLaborables))","v":4},"",null,null,30]
[2110,20209050044242,43979,"MODULO CONTACTENOS","SOLICITUD DE INFORMACIÓN Y DOCUMENTOS","SIRH","SI","SUBDIRECCIÓN DE HIDROLOGÍA",43986,null,null,{"$f":"IFERROR(WORKDAY(C2121,R2121,DiasNOLaborables),\"\")","v":44012},{"$f":"+IF(C2121=\"\",\"\",IF(I2121=\"\",\"\",(IF(I2121<=L2121,\"A TIEMPO\",\"FUERA DE TIEMPO\"))))","v":"A TIEMPO"},{"$f":"IF(I2121=\"\",\"\",NETWORKDAYS([4]Hoja1!C2121+1,[4]Hoja1!P2121,DiasNOLaborables))","v":4},"",null,null,20]
[2111,20209050044362,43979,"MODULO CONTACTENOS","CERTIFICACIONES DE TIEMPO, CLIMA Y EVENTOS HIDROLÓGICOS","CERTIFICACIONES DE TIEMPO Y CLIMA","SI","SUBDIRECCIÓN DE METEOROLOGÍA",43983,null,null,{"$f":"IFERROR(WORKDAY(C2122,R2122,DiasNOLaborables),\"\")","v":44026},{"$f":"+IF(C2122=\"\",\"\",IF(I2122=\"\",\"\",(IF(I2122<=L2122,\"A TIEMPO\",\"FUERA DE TIEMPO\"))))","v":"A TIEMPO"},{"$f":"IF(I2122=\"\",\"\",NETWORKDAYS([4]Hoja1!C2122+1,[4]Hoja1!P2122,DiasNOLaborables))","v":4},"",null,null,30]
[2112,20209050044372,43979,"MODULO CONTACTENOS","SOLICITUD DE INFORMACIÓN Y DOCUMENTOS","ADMINISTRATIVA","SI","GRUPO DE TESORERÍA",43990,null,null,{"$f":"IFERROR(WORKDAY(C2123,R2123,DiasNOLaborables),\"\")","v":44012},{"$f":"+IF(C2123=\"\",\"\",IF(I2123=\"\",\"\",(IF(I2123<=L2123,\"A TIEMPO\",\"FUERA DE TIEMPO\"))))","v":"A TIEMPO"},{"$f":"IF(I2123=\"\",\"\",NETWORKDAYS([4]Hoja1!C2123+1,[4]Hoja1!P2123,DiasNOLaborables))","v":4},"",null,null,20]
[2113,20209050044382,43979,"MODULO CONTACTENOS","SOLICITUD DE INFORMACIÓN Y DOCUMENTOS","ADMINISTRATIVA","SI","GRUPO DE TESORERÍA",43990,null,null,{"$f":"IFERROR(WORKDAY(C2124,R2124,DiasNOLaborables),\"\")","v":44012},{"$f":"+IF(C2124=\"\",\"\",IF(I2124=\"\",\"\",(IF(I2124<=L2124,\"A TIEMPO\",\"FUERA DE TIEMPO\"))))","v":"A TIEMPO"},{"$f":"IF(I2124=\"\",\"\",NETWORKDAYS([4]Hoja1!C2124+1,[4]Hoja1!P2124,DiasNOLaborables))","v":4},"",null,null,20]
[2114,20209050044412,43979,"MODULO CONTACTENOS","SOLICITUD DE INFORMACIÓN Y DOCUMENTOS","ADMINISTRATIVA","SI","GRUPO DE ADMINISTRACIÓN Y DESARROLLO DEL TALENTO HUMANO",43983,null,null,{"$f":"IFERROR(WORKDAY(C2125,R2125,DiasNOLaborables),\"\")","v":44012},{"$f":"+IF(C2125=\"\",\"\",IF(I2125=\"\",\"\",(IF(I2125<=L2125,\"A TIEMPO\",\"FUERA DE TIEMPO\"))))","v":"A TIEMPO"},{"$f":"IF(I2125=\"\",\"\",NETWORKDAYS([4]Hoja1!C2125+1,[4]Hoja1!P2125,DiasNOLaborables))","v":4},"",null,null,20]
[2115,20209050044502,43980,"MODULO CONTACTENOS","SOLICITUD DE INFORMACIÓN Y DOCUMENTOS","CLIMATOLOGÍA","SI","SUBDIRECCIÓN DE METEOROLOGÍA",43985,null,null,{"$f":"IFERROR(WORKDAY(C2126,R2126,DiasNOLaborables),\"\")","v":44013},{"$f":"+IF(C2126=\"\",\"\",IF(I2126=\"\",\"\",(IF(I2126<=L2126,\"A TIEMPO\",\"FUERA DE TIEMPO\"))))","v":"A TIEMPO"},{"$f":"IF(I2126=\"\",\"\",NETWORKDAYS([4]Hoja1!C2126+1,[4]Hoja1!P2126,DiasNOLaborables))","v":4},"",null,null,20]
[2116,20209050044632,43980,"MODULO CONTACTENOS","SOLICITUD DE INFORMACIÓN Y DOCUMENTOS","WEB Y CORREO","SI","OFICINA DE INFORMÁTICA",43983,null,null,{"$f":"IFERROR(WORKDAY(C2127,R2127,DiasNOLaborables),\"\")","v":44013},{"$f":"+IF(C2127=\"\",\"\",IF(I2127=\"\",\"\",(IF(I2127<=L2127,\"A TIEMPO\",\"FUERA DE TIEMPO\"))))","v":"A TIEMPO"},{"$f":"IF(I2127=\"\",\"\",NETWORKDAYS([4]Hoja1!C2127+1,[4]Hoja1!P2127,DiasNOLaborables))","v":4},"",null,null,20]
[2117,20209050044642,43980,"MODULO CONTACTENOS","SOLICITUD DE INFORMACIÓN Y DOCUMENTOS","ADMINISTRATIVA","SI","GRUPO DE ADMINISTRACIÓN Y DESARROLLO DEL TALENTO HUMANO",43985,null,null,{"$f":"IFERROR(WORKDAY(C2128,R2128,DiasNOLaborables),\"\")","v":44013},{"$f":"+IF(C2128=\"\",\"\",IF(I2128=\"\",\"\",(IF(I2128<=L2128,\"A TIEMPO\",\"FUERA DE TIEMPO\"))))","v":"A TIEMPO"},{"$f":"IF(I2128=\"\",\"\",NETWORKDAYS([4]Hoja1!C2128+1,[4]Hoja1!P2128,DiasNOLaborables))","v":4},"",null,null,20]
[2118,20209050044662,43980,"MODULO CONTACTENOS","SOLICITUD DE INFORMACIÓN Y DOCUMENTOS","ADMINISTRATIVA","SI","GRUPO DE ADMINISTRACIÓN Y DESARROLLO DEL TALENTO HUMANO",43984,null,null,{"$f":"IFERROR(WORKDAY(C2129,R2129,DiasNOLaborables),\"\")","v":44013},{"$f":"+IF(C2129=\"\",\"\",IF(I2129=\"\",\"\",(IF(I2129<=L2129,\"A TIEMPO\",\"FUERA DE TIEMPO\"))))","v":"A TIEMPO"},{"$f":"IF(I2129=\"\",\"\",NETWORKDAYS([4]Hoja1!C2129+1,[4]Hoja1!P2129,DiasNOLaborables))","v":4},"",null,null,20]
[2119,20209050044692,43980,"MODULO CONTACTENOS","SOLICITUD DE INFORMACIÓN Y DOCUMENTOS","ADMINISTRATIVA","SI","GRUPO DE ADMINISTRACIÓN Y DESARROLLO DEL TALENTO HUMANO",43992,null,null,{"$f":"IFERROR(WORKDAY(C2130,R2130,DiasNOLaborables),\"\")","v":44013},{"$f":"+IF(C2130=\"\",\"\",IF(I2130=\"\",\"\",(IF(I2130<=L2130,\"A TIEMPO\",\"FUERA DE TIEMPO\"))))","v":"A TIEMPO"},{"$f":"IF(I2130=\"\",\"\",NETWORKDAYS([4]Hoja1!C2130+1,[4]Hoja1!P2130,DiasNOLaborables))","v":6},"",null,null,20]
[2120,20209050044792,43980,"MODULO CONTACTENOS","CERTIFICACIONES DE TIEMPO, CLIMA Y EVENTOS HIDROLÓGICOS","CERTIFICACIONES DE TIEMPO Y CLIMA","SI","SUBDIRECCIÓN DE METEOROLOGÍA",43992,null,null,{"$f":"IFERROR(WORKDAY(C2131,R2131,DiasNOLaborables),\"\")","v":44027},{"$f":"+IF(C2131=\"\",\"\",IF(I2131=\"\",\"\",(IF(I2131<=L2131,\"A TIEMPO\",\"FUERA DE TIEMPO\"))))","v":"A TIEMPO"},{"$f":"IF(I2131=\"\",\"\",NETWORKDAYS([4]Hoja1!C2131+1,[4]Hoja1!P2131,DiasNOLaborables))","v":6},"",null,null,30]
[2121,20209050044812,43980,"MODULO CONTACTENOS","CERTIFICACIONES DE TIEMPO, CLIMA Y EVENTOS HIDROLÓGICOS","CERTIFICACIONES DE TIEMPO Y CLIMA","SI","SUBDIRECCIÓN DE METEOROLOGÍA",43992,null,null,{"$f":"IFERROR(WORKDAY(C2132,R2132,DiasNOLaborables),\"\")","v":44027},{"$f":"+IF(C2132=\"\",\"\",IF(I2132=\"\",\"\",(IF(I2132<=L2132,\"A TIEMPO\",\"FUERA DE TIEMPO\"))))","v":"A TIEMPO"},{"$f":"IF(I2132=\"\",\"\",NETWORKDAYS([4]Hoja1!C2132+1,[4]Hoja1!P2132,DiasNOLaborables))","v":6},"",null,null,30]
[2122,20209050044832,43980,"MODULO CONTACTENOS","CERTIFICACIONES DE TIEMPO, CLIMA Y EVENTOS HIDROLÓGICOS","CERTIFICACIONES DE TIEMPO Y CLIMA","SI","SUBDIRECCIÓN DE METEOROLOGÍA",43992,null,null,{"$f":"IFERROR(WORKDAY(C2133,R2133,DiasNOLaborables),\"\")","v":44027},{"$f":"+IF(C2133=\"\",\"\",IF(I2133=\"\",\"\",(IF(I2133<=L2133,\"A TIEMPO\",\"FUERA DE TIEMPO\"))))","v":"A TIEMPO"},{"$f":"IF(I2133=\"\",\"\",NETWORKDAYS([4]Hoja1!C2133+1,[4]Hoja1!P2133,DiasNOLaborables))","v":6},"",null,null,30]
[2123,20209050044572,43980,"CORREO ELECTRÓNICO","SOLICITUD DE INFORMACIÓN Y DOCUMENTOS","SOLICITUD DE INFORMACIÓN Y DOCUMENTOS","SI","SUBDIRECCIÓN DE ESTUDIOS AMBIENTALES",43980,null,null,{"$f":"IFERROR(WORKDAY(C2134,R2134,DiasNOLaborables),\"\")","v":44013},{"$f":"+IF(C2134=\"\",\"\",IF(I2134=\"\",\"\",(IF(I2134<=L2134,\"A TIEMPO\",\"FUERA DE TIEMPO\"))))","v":"A TIEMPO"},{"$f":"IF(I2134=\"\",\"\",NETWORKDAYS([4]Hoja1!C2134+1,[4]Hoja1!P2134,DiasNOLaborables))","v":6},"",null,null,20]
[2124,20209050044582,43980,"CORREO ELECTRÓNICO","CERTIFICACIONES DE TIEMPO, CLIMA Y EVENTOS HIDROLÓGICOS","CERTIFICACIONES DE TIEMPO Y CLIMA","SI","SUBDIRECCIÓN DE METEOROLOGÍA",43994,null,null,{"$f":"IFERROR(WORKDAY(C2135,R2135,DiasNOLaborables),\"\")","v":44027},{"$f":"+IF(C2135=\"\",\"\",IF(I2135=\"\",\"\",(IF(I2135<=L2135,\"A TIEMPO\",\"FUERA DE TIEMPO\"))))","v":"A TIEMPO"},{"$f":"IF(I2135=\"\",\"\",NETWORKDAYS([4]Hoja1!C2135+1,[4]Hoja1!P2135,DiasNOLaborables))","v":6},"",null,null,30]
[2125,20209050044602,43980,"CORREO ELECTRÓNICO","CERTIFICACIONES DE TIEMPO, CLIMA Y EVENTOS HIDROLÓGICOS","CERTIFICACIONES DE TIEMPO Y CLIMA","SI","SUBDIRECCIÓN DE METEOROLOGÍA",43994,null,null,{"$f":"IFERROR(WORKDAY(C2136,R2136,DiasNOLaborables),\"\")","v":44027},{"$f":"+IF(C2136=\"\",\"\",IF(I2136=\"\",\"\",(IF(I2136<=L2136,\"A TIEMPO\",\"FUERA DE TIEMPO\"))))","v":"A TIEMPO"},{"$f":"IF(I2136=\"\",\"\",NETWORKDAYS([4]Hoja1!C2136+1,[4]Hoja1!P2136,DiasNOLaborables))","v":6},"",null,null,30]
[2126,20209050044612,43980,"CORREO ELECTRÓNICO","SOLICITUD DE INFORMACIÓN Y DOCUMENTOS","SOLICITUD DE INFORMACIÓN Y DOCUMENTOS","SI","SUBDIRECCIÓN DE HIDROLOGÍA",43998,null,null,{"$f":"IFERROR(WORKDAY(C2137,R2137,DiasNOLaborables),\"\")","v":44013},{"$f":"+IF(C2137=\"\",\"\",IF(I2137=\"\",\"\",(IF(I2137<=L2137,\"A TIEMPO\",\"FUERA DE TIEMPO\"))))","v":"A TIEMPO"},{"$f":"IF(I2137=\"\",\"\",NETWORKDAYS([4]Hoja1!C2137+1,[4]Hoja1!P2137,DiasNOLaborables))","v":6},"",null,null,20]
[2127,20209050044622,43980,"CORREO ELECTRÓNICO","SOLICITUD DE INFORMACIÓN Y DOCUMENTOS","SOLICITUD DE INFORMACIÓN Y DOCUMENTOS","SI","SUBDIRECCIÓN DE HIDROLOGÍA",43998,null,null,{"$f":"IFERROR(WORKDAY(C2138,R2138,DiasNOLaborables),\"\")","v":44013},{"$f":"+IF(C2138=\"\",\"\",IF(I2138=\"\",\"\",(IF(I2138<=L2138,\"A TIEMPO\",\"FUERA DE TIEMPO\"))))","v":"A TIEMPO"},{"$f":"IF(I2138=\"\",\"\",NETWORKDAYS([4]Hoja1!C2138+1,[4]Hoja1!P2138,DiasNOLaborables))","v":7},"",null,null,20]
[2128,20209050044722,43980,"CORREO ELECTRÓNICO","SOLICITUD DE INFORMACIÓN Y DOCUMENTOS","SOLICITUD DE INFORMACIÓN Y DOCUMENTOS","SI","SUBDIRECCIÓN DE ESTUDIOS AMBIENTALES",43983,null,null,{"$f":"IFERROR(WORKDAY(C2139,R2139,DiasNOLaborables),\"\")","v":44013},{"$f":"+IF(C2139=\"\",\"\",IF(I2139=\"\",\"\",(IF(I2139<=L2139,\"A TIEMPO\",\"FUERA DE TIEMPO\"))))","v":"A TIEMPO"},{"$f":"IF(I2139=\"\",\"\",NETWORKDAYS([4]Hoja1!C2139+1,[4]Hoja1!P2139,DiasNOLaborables))","v":5},"",null,null,20]
[2129,20209050044732,43980,"CORREO ELECTRÓNICO","SOLICITUD DE INFORMACIÓN Y DOCUMENTOS","REGISTROS AMBIENTALES","SI","SUBDIRECCIÓN DE ESTUDIOS AMBIENTALES",43980,null,null,{"$f":"IFERROR(WORKDAY(C2140,R2140,DiasNOLaborables),\"\")","v":44013},{"$f":"+IF(C2140=\"\",\"\",IF(I2140=\"\",\"\",(IF(I2140<=L2140,\"A TIEMPO\",\"FUERA DE TIEMPO\"))))","v":"A TIEMPO"},{"$f":"IF(I2140=\"\",\"\",NETWORKDAYS([4]Hoja1!C2140+1,[4]Hoja1!P2140,DiasNOLaborables))","v":1},"",null,null,20]
[2130,20209050044742,43980,"CORREO ELECTRÓNICO","CERTIFICACIONES DE TIEMPO, CLIMA Y EVENTOS HIDROLÓGICOS","CERTIFICACIONES DE TIEMPO Y CLIMA","SI","SUBDIRECCIÓN DE METEOROLOGÍA",43992,null,null,{"$f":"IFERROR(WORKDAY(C2141,R2141,DiasNOLaborables),\"\")","v":44027},{"$f":"+IF(C2141=\"\",\"\",IF(I2141=\"\",\"\",(IF(I2141<=L2141,\"A TIEMPO\",\"FUERA DE TIEMPO\"))))","v":"A TIEMPO"},{"$f":"IF(I2141=\"\",\"\",NETWORKDAYS([4]Hoja1!C2141+1,[4]Hoja1!P2141,DiasNOLaborables))","v":1},"",null,null,30]
[2131,20209050044872,43980,"CORREO ELECTRÓNICO","SOLICITUD DE INFORMACIÓN Y DOCUMENTOS","SOLICITUD DE INFORMACIÓN HIDROMETEOROLÓGICA","NO","GRUPO DE ATENCIÓN AL CIUDADANO",43986,null,null,{"$f":"IFERROR(WORKDAY(C2142,R2142,DiasNOLaborables),\"\")","v":44013},{"$f":"+IF(C2142=\"\",\"\",IF(I2142=\"\",\"\",(IF(I2142<=L2142,\"A TIEMPO\",\"FUERA DE TIEMPO\"))))","v":"A TIEMPO"},{"$f":"IF(I2142=\"\",\"\",NETWORKDAYS([4]Hoja1!C2142+1,[4]Hoja1!P2142,DiasNOLaborables))","v":5},"",null,null,20]
[2132,20209050044882,43980,"CORREO ELECTRÓNICO","SOLICITUD DE INFORMACIÓN Y DOCUMENTOS","SOLICITUD DE INFORMACIÓN HIDROMETEOROLÓGICA","NO","GRUPO DE ATENCIÓN AL CIUDADANO",43986,null,null,{"$f":"IFERROR(WORKDAY(C2143,R2143,DiasNOLaborables),\"\")","v":44013},{"$f":"+IF(C2143=\"\",\"\",IF(I2143=\"\",\"\",(IF(I2143<=L2143,\"A TIEMPO\",\"FUERA DE TIEMPO\"))))","v":"A TIEMPO"},{"$f":"IF(I2143=\"\",\"\",NETWORKDAYS([4]Hoja1!C2143+1,[4]Hoja1!P2143,DiasNOLaborables))","v":32},"",null,null,20]
[2133,20209050044892,43980,"CORREO ELECTRÓNICO","SOLICITUD DE INFORMACIÓN Y DOCUMENTOS","SOLICITUD DE INFORMACIÓN HIDROMETEOROLÓGICA","NO","GRUPO DE ATENCIÓN AL CIUDADANO",43986,null,null,{"$f":"IFERROR(WORKDAY(C2144,R2144,DiasNOLaborables),\"\")","v":44013},{"$f":"+IF(C2144=\"\",\"\",IF(I2144=\"\",\"\",(IF(I2144<=L2144,\"A TIEMPO\",\"FUERA DE TIEMPO\"))))","v":"A TIEMPO"},{"$f":"IF(I2144=\"\",\"\",NETWORKDAYS([4]Hoja1!C2144+1,[4]Hoja1!P2144,DiasNOLaborables))","v":26},"",null,null,20]
[2134,20209050044902,43980,"CORREO ELECTRÓNICO","SOLICITUD DE INFORMACIÓN Y DOCUMENTOS","SOLICITUD DE INFORMACIÓN HIDROMETEOROLÓGICA","NO","GRUPO DE ATENCIÓN AL CIUDADANO",43986,null,null,{"$f":"IFERROR(WORKDAY(C2145,R2145,DiasNOLaborables),\"\")","v":44013},{"$f":"+IF(C2145=\"\",\"\",IF(I2145=\"\",\"\",(IF(I2145<=L2145,\"A TIEMPO\",\"FUERA DE TIEMPO\"))))","v":"A TIEMPO"},{"$f":"IF(I2145=\"\",\"\",NETWORKDAYS([4]Hoja1!C2145+1,[4]Hoja1!P2145,DiasNOLaborables))","v":17},"",null,null,20]
[2135,20209050044912,43980,"CORREO ELECTRÓNICO","SOLICITUD DE INFORMACIÓN Y DOCUMENTOS","SOLICITUD DE INFORMACIÓN HIDROMETEOROLÓGICA","NO","GRUPO DE ATENCIÓN AL CIUDADANO",43986,null,null,{"$f":"IFERROR(WORKDAY(C2146,R2146,DiasNOLaborables),\"\")","v":44013},{"$f":"+IF(C2146=\"\",\"\",IF(I2146=\"\",\"\",(IF(I2146<=L2146,\"A TIEMPO\",\"FUERA DE TIEMPO\"))))","v":"A TIEMPO"},{"$f":"IF(I2146=\"\",\"\",NETWORKDAYS([4]Hoja1!C2146+1,[4]Hoja1!P2146,DiasNOLaborables))","v":6},"",null,null,20]
[2136,20209050044922,43980,"CORREO ELECTRÓNICO","SOLICITUD DE INFORMACIÓN Y DOCUMENTOS","SOLICITUD DE INFORMACIÓN HIDROMETEOROLÓGICA","NO","GRUPO DE ATENCIÓN AL CIUDADANO",43987,null,null,{"$f":"IFERROR(WORKDAY(C2147,R2147,DiasNOLaborables),\"\")","v":44013},{"$f":"+IF(C2147=\"\",\"\",IF(I2147=\"\",\"\",(IF(I2147<=L2147,\"A TIEMPO\",\"FUERA DE TIEMPO\"))))","v":"A TIEMPO"},{"$f":"IF(I2147=\"\",\"\",NETWORKDAYS([4]Hoja1!C2147+1,[4]Hoja1!P2147,DiasNOLaborables))","v":4},"",null,null,20]
[2137,20209050045012,43981,"CORREO ELECTRÓNICO","SOLICITUD DE INFORMACIÓN Y DOCUMENTOS","SOLICITUD DE INFORMACIÓN HIDROMETEOROLÓGICA","NO","GRUPO DE ATENCIÓN AL CIUDADANO",43987,null,null,{"$f":"IFERROR(WORKDAY(C2148,R2148,DiasNOLaborables),\"\")","v":44013},{"$f":"+IF(C2148=\"\",\"\",IF(I2148=\"\",\"\",(IF(I2148<=L2148,\"A TIEMPO\",\"FUERA DE TIEMPO\"))))","v":"A TIEMPO"},{"$f":"IF(I2148=\"\",\"\",NETWORKDAYS([4]Hoja1!C2148+1,[4]Hoja1!P2148,DiasNOLaborables))","v":6},"",null,null,20]
[2138,20209050044402,43981,"CORREO ELECTRÓNICO","SOLICITUD DE INFORMACIÓN Y DOCUMENTOS","SOLICITUD DE INFORMACIÓN HIDROMETEOROLÓGICA","NO","GRUPO DE ATENCIÓN AL CIUDADANO",43987,null,null,{"$f":"IFERROR(WORKDAY(C2149,R2149,DiasNOLaborables),\"\")","v":44013},{"$f":"+IF(C2149=\"\",\"\",IF(I2149=\"\",\"\",(IF(I2149<=L2149,\"A TIEMPO\",\"FUERA DE TIEMPO\"))))","v":"A TIEMPO"},{"$f":"IF(I2149=\"\",\"\",NETWORKDAYS([4]Hoja1!C2149+1,[4]Hoja1!P2149,DiasNOLaborables))","v":2},"",null,null,20]
[2139,20209050044932,43981,"CORREO ELECTRÓNICO","SOLICITUD DE INFORMACIÓN Y DOCUMENTOS","SOLICITUD DE INFORMACIÓN HIDROMETEOROLÓGICA","NO","GRUPO DE ATENCIÓN AL CIUDADANO",43987,null,null,{"$f":"IFERROR(WORKDAY(C2150,R2150,DiasNOLaborables),\"\")","v":44013},{"$f":"+IF(C2150=\"\",\"\",IF(I2150=\"\",\"\",(IF(I2150<=L2150,\"A TIEMPO\",\"FUERA DE TIEMPO\"))))","v":"A TIEMPO"},{"$f":"IF(I2150=\"\",\"\",NETWORKDAYS([4]Hoja1!C2150+1,[4]Hoja1!P2150,DiasNOLaborables))","v":4},"",null,null,20]
[2140,20209050044942,43981,"CORREO ELECTRÓNICO","SOLICITUD DE INFORMACIÓN Y DOCUMENTOS","SOLICITUD DE INFORMACIÓN HIDROMETEOROLÓGICA","NO","GRUPO DE ATENCIÓN AL CIUDADANO",43987,null,null,{"$f":"IFERROR(WORKDAY(C2151,R2151,DiasNOLaborables),\"\")","v":44013},{"$f":"+IF(C2151=\"\",\"\",IF(I2151=\"\",\"\",(IF(I2151<=L2151,\"A TIEMPO\",\"FUERA DE TIEMPO\"))))","v":"A TIEMPO"},{"$f":"IF(I2151=\"\",\"\",NETWORKDAYS([4]Hoja1!C2151+1,[4]Hoja1!P2151,DiasNOLaborables))","v":11},"",null,null,20]
[2141,20209050044982,43982,"CORREO ELECTRÓNICO","SOLICITUD DE INFORMACIÓN Y DOCUMENTOS","SOLICITUD DE INFORMACIÓN HIDROMETEOROLÓGICA","NO","GRUPO DE ATENCIÓN AL CIUDADANO",43987,null,null,{"$f":"IFERROR(WORKDAY(C2152,R2152,DiasNOLaborables),\"\")","v":44013},{"$f":"+IF(C2152=\"\",\"\",IF(I2152=\"\",\"\",(IF(I2152<=L2152,\"A TIEMPO\",\"FUERA DE TIEMPO\"))))","v":"A TIEMPO"},{"$f":"IF(I2152=\"\",\"\",NETWORKDAYS([4]Hoja1!C2152+1,[4]Hoja1!P2152,DiasNOLaborables))","v":17},"",null,null,20]
[2142,20209050044992,43982,"CORREO ELECTRÓNICO","SOLICITUD DE INFORMACIÓN Y DOCUMENTOS","SOLICITUD DE INFORMACIÓN HIDROMETEOROLÓGICA","NO","GRUPO DE ATENCIÓN AL CIUDADANO",43987,null,null,{"$f":"IFERROR(WORKDAY(C2153,R2153,DiasNOLaborables),\"\")","v":44013},{"$f":"+IF(C2153=\"\",\"\",IF(I2153=\"\",\"\",(IF(I2153<=L2153,\"A TIEMPO\",\"FUERA DE TIEMPO\"))))","v":"A TIEMPO"},{"$f":"IF(I2153=\"\",\"\",NETWORKDAYS([4]Hoja1!C2153+1,[4]Hoja1!P2153,DiasNOLaborables))","v":3},"",null,null,20]
[2143,20209050045002,43982,"CORREO ELECTRÓNICO","SOLICITUD DE INFORMACIÓN Y DOCUMENTOS","SOLICITUD DE INFORMACIÓN HIDROMETEOROLÓGICA","NO","GRUPO DE ATENCIÓN AL CIUDADANO",43987,null,null,{"$f":"IFERROR(WORKDAY(C2154,R2154,DiasNOLaborables),\"\")","v":44013},{"$f":"+IF(C2154=\"\",\"\",IF(I2154=\"\",\"\",(IF(I2154<=L2154,\"A TIEMPO\",\"FUERA DE TIEMPO\"))))","v":"A TIEMPO"},{"$f":"IF(I2154=\"\",\"\",NETWORKDAYS([4]Hoja1!C2154+1,[4]Hoja1!P2154,DiasNOLaborables))","v":1},"",null,null,20]
[2144,20209050045022,43982,"CORREO ELECTRÓNICO","SOLICITUD DE INFORMACIÓN Y DOCUMENTOS","SOLICITUD DE INFORMACIÓN HIDROMETEOROLÓGICA","NO","GRUPO DE ATENCIÓN AL CIUDADANO",43987,null,null,{"$f":"IFERROR(WORKDAY(C2155,R2155,DiasNOLaborables),\"\")","v":44013},{"$f":"+IF(C2155=\"\",\"\",IF(I2155=\"\",\"\",(IF(I2155<=L2155,\"A TIEMPO\",\"FUERA DE TIEMPO\"))))","v":"A TIEMPO"},{"$f":"IF(I2155=\"\",\"\",NETWORKDAYS([4]Hoja1!C2155+1,[4]Hoja1!P2155,DiasNOLaborables))","v":1},"",null,null,20]
[2145,20209050045032,43982,"CORREO ELECTRÓNICO","SOLICITUD DE INFORMACIÓN Y DOCUMENTOS","SOLICITUD DE INFORMACIÓN HIDROMETEOROLÓGICA","NO","GRUPO DE ATENCIÓN AL CIUDADANO",43987,null,null,{"$f":"IFERROR(WORKDAY(C2156,R2156,DiasNOLaborables),\"\")","v":44013},{"$f":"+IF(C2156=\"\",\"\",IF(I2156=\"\",\"\",(IF(I2156<=L2156,\"A TIEMPO\",\"FUERA DE TIEMPO\"))))","v":"A TIEMPO"},{"$f":"IF(I2156=\"\",\"\",NETWORKDAYS([4]Hoja1!C2156+1,[4]Hoja1!P2156,DiasNOLaborables))","v":9},"",null,null,20]
[2146,20209050045042,43982,"CORREO ELECTRÓNICO","SOLICITUD DE INFORMACIÓN Y DOCUMENTOS","SOLICITUD DE INFORMACIÓN HIDROMETEOROLÓGICA","NO","GRUPO DE ATENCIÓN AL CIUDADANO",43987,null,null,{"$f":"IFERROR(WORKDAY(C2157,R2157,DiasNOLaborables),\"\")","v":44013},{"$f":"+IF(C2157=\"\",\"\",IF(I2157=\"\",\"\",(IF(I2157<=L2157,\"A TIEMPO\",\"FUERA DE TIEMPO\"))))","v":"A TIEMPO"},{"$f":"IF(I2157=\"\",\"\",NETWORKDAYS([4]Hoja1!C2157+1,[4]Hoja1!P2157,DiasNOLaborables))","v":1},"",null,null,20]
[2147,20209050045262,43983,"CORREO ELECTRÓNICO","SOLICITUD DE INFORMACIÓN Y DOCUMENTOS","SOLICITUD DE INFORMACIÓN HIDROMETEOROLÓGICA","NO","GRUPO DE ATENCIÓN AL CIUDADANO",43988,null,null,{"$f":"IFERROR(WORKDAY(C2158,R2158,DiasNOLaborables),\"\")","v":44014},{"$f":"+IF(C2158=\"\",\"\",IF(I2158=\"\",\"\",(IF(I2158<=L2158,\"A TIEMPO\",\"FUERA DE TIEMPO\"))))","v":"A TIEMPO"},{"$f":"IF(I2158=\"\",\"\",NETWORKDAYS([4]Hoja1!C2158+1,[4]Hoja1!P2158,DiasNOLaborables))","v":3},"",null,null,20]
[2148,20209050045272,43983,"CORREO ELECTRÓNICO","SOLICITUD DE INFORMACIÓN Y DOCUMENTOS","SOLICITUD DE INFORMACIÓN HIDROMETEOROLÓGICA","NO","GRUPO DE ATENCIÓN AL CIUDADANO",43988,null,null,{"$f":"IFERROR(WORKDAY(C2159,R2159,DiasNOLaborables),\"\")","v":44014},{"$f":"+IF(C2159=\"\",\"\",IF(I2159=\"\",\"\",(IF(I2159<=L2159,\"A TIEMPO\",\"FUERA DE TIEMPO\"))))","v":"A TIEMPO"},{"$f":"IF(I2159=\"\",\"\",NETWORKDAYS([4]Hoja1!C2159+1,[4]Hoja1!P2159,DiasNOLaborables))","v":5},"",null,null,20]
[2149,20209050045292,43983,"CORREO ELECTRÓNICO","SOLICITUD DE INFORMACIÓN Y DOCUMENTOS","SOLICITUD DE INFORMACIÓN HIDROMETEOROLÓGICA","NO","GRUPO DE ATENCIÓN AL CIUDADANO",43988,null,null,{"$f":"IFERROR(WORKDAY(C2160,R2160,DiasNOLaborables),\"\")","v":44014},{"$f":"+IF(C2160=\"\",\"\",IF(I2160=\"\",\"\",(IF(I2160<=L2160,\"A TIEMPO\",\"FUERA DE TIEMPO\"))))","v":"A TIEMPO"},{"$f":"IF(I2160=\"\",\"\",NETWORKDAYS([4]Hoja1!C2160+1,[4]Hoja1!P2160,DiasNOLaborables))","v":3},"",null,null,20]
[2150,20209050045082,43983,"CORREO ELECTRÓNICO","SOLICITUD DE INFORMACIÓN Y DOCUMENTOS","REGISTROS AMBIENTALES","SI","SUBDIRECCIÓN DE ESTUDIOS AMBIENTALES",43980,null,null,{"$f":"IFERROR(WORKDAY(C2161,R2161,DiasNOLaborables),\"\")","v":44014},{"$f":"+IF(C2161=\"\",\"\",IF(I2161=\"\",\"\",(IF(I2161<=L2161,\"A TIEMPO\",\"FUERA DE TIEMPO\"))))","v":"A TIEMPO"},{"$f":"IF(I2161=\"\",\"\",NETWORKDAYS([4]Hoja1!C2161+1,[4]Hoja1!P2161,DiasNOLaborables))","v":5},"",null,null,20]
[{"$f":"IF(B2160<>\"\",A2161+1,\"\")","v":2151},20209050045092,43983,"CORREO ELECTRÓNICO","SOLICITUD DE INFORMACIÓN Y DOCUMENTOS","SOLICITUD DE INFORMACIÓN HIDROMETEOROLÓGICA","SI","OFICINA DE INFORMÁTICA",43986,null,null,{"$f":"IFERROR(WORKDAY(C2162,R2162,DiasNOLaborables),\"\")","v":44014},{"$f":"+IF(C2162=\"\",\"\",IF(I2162=\"\",\"\",(IF(I2162<=L2162,\"A TIEMPO\",\"FUERA DE TIEMPO\"))))","v":"A TIEMPO"},{"$f":"IF(I2162=\"\",\"\",NETWORKDAYS([4]Hoja1!C2162+1,[4]Hoja1!P2162,DiasNOLaborables))","v":5},"",null,null,20]
[2152,20209050045102,43983,"CORREO ELECTRÓNICO","SOLICITUD DE INFORMACIÓN Y DOCUMENTOS","SOLICITUD DE INFORMACIÓN HIDROMETEOROLÓGICA","SI","OFICINA DE INFORMÁTICA",43986,null,null,{"$f":"IFERROR(WORKDAY(C2163,R2163,DiasNOLaborables),\"\")","v":44014},{"$f":"+IF(C2163=\"\",\"\",IF(I2163=\"\",\"\",(IF(I2163<=L2163,\"A TIEMPO\",\"FUERA DE TIEMPO\"))))","v":"A TIEMPO"},{"$f":"IF(I2163=\"\",\"\",NETWORKDAYS([4]Hoja1!C2163+1,[4]Hoja1!P2163,DiasNOLaborables))","v":5},"",null,null,20]
[2153,20209050045112,43983,"CORREO ELECTRÓNICO","SOLICITUD DE INFORMACIÓN Y DOCUMENTOS","SOLICITUD DE INFORMACIÓN HIDROMETEOROLÓGICA","SI","OFICINA ASESORA JURÍDICA",43998,null,null,{"$f":"IFERROR(WORKDAY(C2164,R2164,DiasNOLaborables),\"\")","v":44014},{"$f":"+IF(C2164=\"\",\"\",IF(I2164=\"\",\"\",(IF(I2164<=L2164,\"A TIEMPO\",\"FUERA DE TIEMPO\"))))","v":"A TIEMPO"},{"$f":"IF(I2164=\"\",\"\",NETWORKDAYS([4]Hoja1!C2164+1,[4]Hoja1!P2164,DiasNOLaborables))","v":5},{"$f":"IF(NETWORKDAYS(L2164+1,I2164,DiasNOLaborables)<=0,\"\",NETWORKDAYS(L2164+1,I2164,DiasNOLaborables))","v":""},null,null,20]
[2154,20209050045122,43983,"CORREO ELECTRÓNICO","SOLICITUD DE INFORMACIÓN Y DOCUMENTOS","ADMINISTRATIVA","SI","OFICINA ASESORA JURÍDICA",44012,null,null,{"$f":"IFERROR(WORKDAY(C2165,R2165,DiasNOLaborables),\"\")","v":44014},{"$f":"+IF(C2165=\"\",\"\",IF(I2165=\"\",\"\",(IF(I2165<=L2165,\"A TIEMPO\",\"FUERA DE TIEMPO\"))))","v":"A TIEMPO"},{"$f":"IF(I2165=\"\",\"\",NETWORKDAYS([4]Hoja1!C2165+1,[4]Hoja1!P2165,DiasNOLaborables))","v":6},"",null,null,20]
[2155,20209050045132,43983,"CORREO ELECTRÓNICO","SOLICITUD DE INFORMACIÓN Y DOCUMENTOS","ADMINISTRATIVA","NO","GRUPO DE ATENCIÓN AL CIUDADANO",43984,null,null,{"$f":"IFERROR(WORKDAY(C2166,R2166,DiasNOLaborables),\"\")","v":44014},{"$f":"+IF(C2166=\"\",\"\",IF(I2166=\"\",\"\",(IF(I2166<=L2166,\"A TIEMPO\",\"FUERA DE TIEMPO\"))))","v":"A TIEMPO"},{"$f":"IF(I2166=\"\",\"\",NETWORKDAYS([4]Hoja1!C2166+1,[4]Hoja1!P2166,DiasNOLaborables))","v":6},"",null,null,20]
[2156,20209050045142,43983,"CORREO ELECTRÓNICO","CERTIFICACIONES DE TIEMPO, CLIMA Y EVENTOS HIDROLÓGICOS","CERTIFICACIONES DE TIEMPO Y CLIMA","SI","SUBDIRECCIÓN DE METEOROLOGÍA",43993,null,null,{"$f":"IFERROR(WORKDAY(C2167,R2167,DiasNOLaborables),\"\")","v":44028},{"$f":"+IF(C2167=\"\",\"\",IF(I2167=\"\",\"\",(IF(I2167<=L2167,\"A TIEMPO\",\"FUERA DE TIEMPO\"))))","v":"A TIEMPO"},{"$f":"IF(I2167=\"\",\"\",NETWORKDAYS([4]Hoja1!C2167+1,[4]Hoja1!P2167,DiasNOLaborables))","v":6},"",null,null,30]
[2157,20209050045152,43983,"CORREO ELECTRÓNICO","CERTIFICACIONES DE TIEMPO, CLIMA Y EVENTOS HIDROLÓGICOS","CERTIFICACIONES DE TIEMPO Y CLIMA","SI","SUBDIRECCIÓN DE METEOROLOGÍA",43993,null,null,{"$f":"IFERROR(WORKDAY(C2168,R2168,DiasNOLaborables),\"\")","v":44028},{"$f":"+IF(C2168=\"\",\"\",IF(I2168=\"\",\"\",(IF(I2168<=L2168,\"A TIEMPO\",\"FUERA DE TIEMPO\"))))","v":"A TIEMPO"},{"$f":"IF(I2168=\"\",\"\",NETWORKDAYS([4]Hoja1!C2168+1,[4]Hoja1!P2168,DiasNOLaborables))","v":6},"",null,null,30]
[2158,20209050045162,43983,"CORREO ELECTRÓNICO","CERTIFICACIONES DE TIEMPO, CLIMA Y EVENTOS HIDROLÓGICOS","CERTIFICACIONES DE TIEMPO Y CLIMA","SI","SUBDIRECCIÓN DE METEOROLOGÍA",43992,null,null,{"$f":"IFERROR(WORKDAY(C2169,R2169,DiasNOLaborables),\"\")","v":44028},{"$f":"+IF(C2169=\"\",\"\",IF(I2169=\"\",\"\",(IF(I2169<=L2169,\"A TIEMPO\",\"FUERA DE TIEMPO\"))))","v":"A TIEMPO"},{"$f":"IF(I2169=\"\",\"\",NETWORKDAYS([4]Hoja1!C2169+1,[4]Hoja1!P2169,DiasNOLaborables))","v":6},"",null,null,30]
[2159,20209050045172,43983,"CORREO ELECTRÓNICO","CERTIFICACIONES DE TIEMPO, CLIMA Y EVENTOS HIDROLÓGICOS","CERTIFICACIONES DE TIEMPO Y CLIMA","SI","SUBDIRECCIÓN DE METEOROLOGÍA",43993,null,null,{"$f":"IFERROR(WORKDAY(C2170,R2170,DiasNOLaborables),\"\")","v":44028},{"$f":"+IF(C2170=\"\",\"\",IF(I2170=\"\",\"\",(IF(I2170<=L2170,\"A TIEMPO\",\"FUERA DE TIEMPO\"))))","v":"A TIEMPO"},{"$f":"IF(I2170=\"\",\"\",NETWORKDAYS([4]Hoja1!C2170+1,[4]Hoja1!P2170,DiasNOLaborables))","v":6},"",null,null,30]
[2160,20209050045182,43983,"CORREO ELECTRÓNICO","CERTIFICACIONES DE TIEMPO, CLIMA Y EVENTOS HIDROLÓGICOS","CERTIFICACIONES DE TIEMPO Y CLIMA","SI","SUBDIRECCIÓN DE METEOROLOGÍA",43992,null,null,{"$f":"IFERROR(WORKDAY(C2171,R2171,DiasNOLaborables),\"\")","v":44028},{"$f":"+IF(C2171=\"\",\"\",IF(I2171=\"\",\"\",(IF(I2171<=L2171,\"A TIEMPO\",\"FUERA DE TIEMPO\"))))","v":"A TIEMPO"},{"$f":"IF(I2171=\"\",\"\",NETWORKDAYS([4]Hoja1!C2171+1,[4]Hoja1!P2171,DiasNOLaborables))","v":6},"",null,null,30]
[2161,20209050045192,43983,"CORREO ELECTRÓNICO","CERTIFICACIONES DE TIEMPO, CLIMA Y EVENTOS HIDROLÓGICOS","CERTIFICACIONES DE TIEMPO Y CLIMA","SI","SUBDIRECCIÓN DE METEOROLOGÍA",43992,null,null,{"$f":"IFERROR(WORKDAY(C2172,R2172,DiasNOLaborables),\"\")","v":44028},{"$f":"+IF(C2172=\"\",\"\",IF(I2172=\"\",\"\",(IF(I2172<=L2172,\"A TIEMPO\",\"FUERA DE TIEMPO\"))))","v":"A TIEMPO"},{"$f":"IF(I2172=\"\",\"\",NETWORKDAYS([4]Hoja1!C2172+1,[4]Hoja1!P2172,DiasNOLaborables))","v":6},"",null,null,30]
[2162,20209050045202,43983,"CORREO ELECTRÓNICO","SOLICITUD DE INFORMACIÓN Y DOCUMENTOS","SOLICITUD DE INFORMACIÓN HIDROMETEOROLÓGICA","SI","SUBDIRECCIÓN DE ESTUDIOS AMBIENTALES",43983,null,null,{"$f":"IFERROR(WORKDAY(C2173,R2173,DiasNOLaborables),\"\")","v":44014},{"$f":"+IF(C2173=\"\",\"\",IF(I2173=\"\",\"\",(IF(I2173<=L2173,\"A TIEMPO\",\"FUERA DE TIEMPO\"))))","v":"A TIEMPO"},{"$f":"IF(I2173=\"\",\"\",NETWORKDAYS([4]Hoja1!C2173+1,[4]Hoja1!P2173,DiasNOLaborables))","v":6},"",null,null,20]
[2163,20209050044972,43983,"CORREO ELECTRÓNICO","SOLICITUD DE INFORMACIÓN Y DOCUMENTOS","ADMINISTRATIVA","SI","GRUPO DE ADMINISTRACIÓN Y DESARROLLO DEL TALENTO HUMANO",43984,null,null,{"$f":"IFERROR(WORKDAY(C2174,R2174,DiasNOLaborables),\"\")","v":44014},{"$f":"+IF(C2174=\"\",\"\",IF(I2174=\"\",\"\",(IF(I2174<=L2174,\"A TIEMPO\",\"FUERA DE TIEMPO\"))))","v":"A TIEMPO"},{"$f":"IF(I2174=\"\",\"\",NETWORKDAYS([4]Hoja1!C2174+1,[4]Hoja1!P2174,DiasNOLaborables))","v":8},"",null,null,20]
[2164,20209050045222,43983,"MODULO CONTACTENOS","SOLICITUD DE INFORMACIÓN Y DOCUMENTOS","SOLICITUD DE INFORMACIÓN HIDROMETEOROLÓGICA","SI","SUBDIRECCIÓN DE METEOROLOGÍA",44006,null,null,{"$f":"IFERROR(WORKDAY(C2175,R2175,DiasNOLaborables),\"\")","v":44014},{"$f":"+IF(C2175=\"\",\"\",IF(I2175=\"\",\"\",(IF(I2175<=L2175,\"A TIEMPO\",\"FUERA DE TIEMPO\"))))","v":"A TIEMPO"},{"$f":"IF(I2175=\"\",\"\",NETWORKDAYS([4]Hoja1!C2175+1,[4]Hoja1!P2175,DiasNOLaborables))","v":7},"",null,null,20]
[2165,20209050045232,43983,"MODULO CONTACTENOS","SOLICITUD DE INFORMACIÓN Y DOCUMENTOS","SOLICITUD DE INFORMACIÓN HIDROMETEOROLÓGICA","SI","SUBDIRECCIÓN DE METEOROLOGÍA",43984,null,null,{"$f":"IFERROR(WORKDAY(C2176,R2176,DiasNOLaborables),\"\")","v":44014},{"$f":"+IF(C2176=\"\",\"\",IF(I2176=\"\",\"\",(IF(I2176<=L2176,\"A TIEMPO\",\"FUERA DE TIEMPO\"))))","v":"A TIEMPO"},{"$f":"IF(I2176=\"\",\"\",NETWORKDAYS([4]Hoja1!C2176+1,[4]Hoja1!P2176,DiasNOLaborables))","v":7},"",null,null,20]
[2166,20209050045282,43983,"MODULO CONTACTENOS","SOLICITUD DE INFORMACIÓN Y DOCUMENTOS","ADMINISTRATIVA","SI","GRUPO DE TESORERÍA",43990,null,null,{"$f":"IFERROR(WORKDAY(C2177,R2177,DiasNOLaborables),\"\")","v":44014},{"$f":"+IF(C2177=\"\",\"\",IF(I2177=\"\",\"\",(IF(I2177<=L2177,\"A TIEMPO\",\"FUERA DE TIEMPO\"))))","v":"A TIEMPO"},{"$f":"IF(I2177=\"\",\"\",NETWORKDAYS([4]Hoja1!C2177+1,[4]Hoja1!P2177,DiasNOLaborables))","v":7},"",null,null,20]
[2167,20209050045322,43983,"CORREO ELECTRÓNICO","SOLICITUD DE INFORMACIÓN Y DOCUMENTOS","SOLICITUD DE INFORMACIÓN HIDROMETEOROLÓGICA","SI","OFICINA DE INFORMÁTICA",43987,null,null,{"$f":"IFERROR(WORKDAY(C2178,R2178,DiasNOLaborables),\"\")","v":44014},{"$f":"+IF(C2178=\"\",\"\",IF(I2178=\"\",\"\",(IF(I2178<=L2178,\"A TIEMPO\",\"FUERA DE TIEMPO\"))))","v":"A TIEMPO"},{"$f":"IF(I2178=\"\",\"\",NETWORKDAYS([4]Hoja1!C2178+1,[4]Hoja1!P2178,DiasNOLaborables))","v":7},"",null,null,20]
[2168,20209050045342,43983,"CORREO ELECTRÓNICO","SOLICITUD DE INFORMACIÓN Y DOCUMENTOS","SOLICITUD DE INFORMACIÓN HIDROMETEOROLÓGICA","SI","SUBDIRECCIÓN DE METEOROLOGÍA",43986,null,null,{"$f":"IFERROR(WORKDAY(C2179,R2179,DiasNOLaborables),\"\")","v":44014},{"$f":"+IF(C2179=\"\",\"\",IF(I2179=\"\",\"\",(IF(I2179<=L2179,\"A TIEMPO\",\"FUERA DE TIEMPO\"))))","v":"A TIEMPO"},{"$f":"IF(I2179=\"\",\"\",NETWORKDAYS([4]Hoja1!C2179+1,[4]Hoja1!P2179,DiasNOLaborables))","v":7},"",null,null,20]
[2169,20209050045372,43983,"CORREO ELECTRÓNICO","SOLICITUD DE INFORMACIÓN Y DOCUMENTOS","SOLICITUD DE INFORMACIÓN HIDROMETEOROLÓGICA","SI","SUBDIRECCIÓN DE HIDROLOGÍA",43984,null,null,{"$f":"IFERROR(WORKDAY(C2180,R2180,DiasNOLaborables),\"\")","v":44014},{"$f":"+IF(C2180=\"\",\"\",IF(I2180=\"\",\"\",(IF(I2180<=L2180,\"A TIEMPO\",\"FUERA DE TIEMPO\"))))","v":"A TIEMPO"},{"$f":"IF(I2180=\"\",\"\",NETWORKDAYS([4]Hoja1!C2180+1,[4]Hoja1!P2180,DiasNOLaborables))","v":7},"",null,null,20]
[2170,20209050045382,43983,"CORREO ELECTRÓNICO","SOLICITUD DE INFORMACIÓN Y DOCUMENTOS","ADMINISTRATIVA","SI","GRUPO DE ADMINISTRACIÓN Y DESARROLLO DEL TALENTO HUMANO",43984,null,null,{"$f":"IFERROR(WORKDAY(C2181,R2181,DiasNOLaborables),\"\")","v":44014},{"$f":"+IF(C2181=\"\",\"\",IF(I2181=\"\",\"\",(IF(I2181<=L2181,\"A TIEMPO\",\"FUERA DE TIEMPO\"))))","v":"A TIEMPO"},{"$f":"IF(I2181=\"\",\"\",NETWORKDAYS([4]Hoja1!C2181+1,[4]Hoja1!P2181,DiasNOLaborables))","v":7},"",null,null,20]
[2171,20209050045432,43983,"CORREO ELECTRÓNICO","SOLICITUD DE INFORMACIÓN Y DOCUMENTOS","REGISTROS AMBIENTALES","SI","SUBDIRECCIÓN DE ESTUDIOS AMBIENTALES",43983,null,null,{"$f":"IFERROR(WORKDAY(C2182,R2182,DiasNOLaborables),\"\")","v":44014},{"$f":"+IF(C2182=\"\",\"\",IF(I2182=\"\",\"\",(IF(I2182<=L2182,\"A TIEMPO\",\"FUERA DE TIEMPO\"))))","v":"A TIEMPO"},{"$f":"IF(I2182=\"\",\"\",NETWORKDAYS([4]Hoja1!C2182+1,[4]Hoja1!P2182,DiasNOLaborables))","v":7},"",null,null,{"$f":"IFERROR(VLOOKUP(E2182,$Z$50:$AA$63,2),\"\")","v":20}]
[2172,20209050045442,43983,"CORREO ELECTRÓNICO","SOLICITUD DE INFORMACIÓN Y DOCUMENTOS","ADMINISTRATIVA","SI","GRUPO DE ADMINISTRACIÓN Y DESARROLLO DEL TALENTO HUMANO",43985,null,null,{"$f":"IFERROR(WORKDAY(C2183,R2183,DiasNOLaborables),\"\")","v":44014},{"$f":"+IF(C2183=\"\",\"\",IF(I2183=\"\",\"\",(IF(I2183<=L2183,\"A TIEMPO\",\"FUERA DE TIEMPO\"))))","v":"A TIEMPO"},{"$f":"IF(I2183=\"\",\"\",NETWORKDAYS([4]Hoja1!C2183+1,[4]Hoja1!P2183,DiasNOLaborables))","v":7},"",null,null,20]
[2173,20209050045452,43983,"CORREO ELECTRÓNICO","SOLICITUD DE INFORMACIÓN Y DOCUMENTOS","REGISTROS AMBIENTALES","SI","SUBDIRECCIÓN DE ESTUDIOS AMBIENTALES",43985,null,null,{"$f":"IFERROR(WORKDAY(C2184,R2184,DiasNOLaborables),\"\")","v":44014},{"$f":"+IF(C2184=\"\",\"\",IF(I2184=\"\",\"\",(IF(I2184<=L2184,\"A TIEMPO\",\"FUERA DE TIEMPO\"))))","v":"A TIEMPO"},{"$f":"IF(I2184=\"\",\"\",NETWORKDAYS([4]Hoja1!C2184+1,[4]Hoja1!P2184,DiasNOLaborables))","v":7},"",null,null,20]
[2174,20209050045462,43983,"CORREO ELECTRÓNICO","SOLICITUD DE INFORMACIÓN Y DOCUMENTOS","REGISTROS AMBIENTALES","SI","SUBDIRECCIÓN DE ESTUDIOS AMBIENTALES",43985,null,null,{"$f":"IFERROR(WORKDAY(C2185,R2185,DiasNOLaborables),\"\")","v":44014},{"$f":"+IF(C2185=\"\",\"\",IF(I2185=\"\",\"\",(IF(I2185<=L2185,\"A TIEMPO\",\"FUERA DE TIEMPO\"))))","v":"A TIEMPO"},{"$f":"IF(I2185=\"\",\"\",NETWORKDAYS([4]Hoja1!C2185+1,[4]Hoja1!P2185,DiasNOLaborables))","v":7},"",null,null,20]
[2175,20209050045472,43983,"CORREO ELECTRÓNICO","SOLICITUD DE INFORMACIÓN Y DOCUMENTOS","SOLICITUD DE INFORMACIÓN HIDROMETEOROLÓGICA","SI","GRUPO DE GESTIÓN DOCUMENTAL Y CENTRO DE DOCUMENTACIÓN",43985,null,null,{"$f":"IFERROR(WORKDAY(C2186,R2186,DiasNOLaborables),\"\")","v":44014},{"$f":"+IF(C2186=\"\",\"\",IF(I2186=\"\",\"\",(IF(I2186<=L2186,\"A TIEMPO\",\"FUERA DE TIEMPO\"))))","v":"A TIEMPO"},{"$f":"IF(I2186=\"\",\"\",NETWORKDAYS([4]Hoja1!C2186+1,[4]Hoja1!P2186,DiasNOLaborables))","v":7},"",null,null,20]
[2176,20209050045482,43983,"CORREO ELECTRÓNICO","SOLICITUD DE INFORMACIÓN Y DOCUMENTOS","SOLICITUD DE INFORMACIÓN HIDROMETEOROLÓGICA","SI","SUBDIRECCIÓN DE ECOSISTEMAS E INFORMACIÓN AMBIENTAL",43986,null,null,{"$f":"IFERROR(WORKDAY(C2187,R2187,DiasNOLaborables),\"\")","v":44014},{"$f":"+IF(C2187=\"\",\"\",IF(I2187=\"\",\"\",(IF(I2187<=L2187,\"A TIEMPO\",\"FUERA DE TIEMPO\"))))","v":"A TIEMPO"},{"$f":"IF(I2187=\"\",\"\",NETWORKDAYS([4]Hoja1!C2187+1,[4]Hoja1!P2187,DiasNOLaborables))","v":1},"",null,null,20]
[2177,20209050045412,43983,"CORREO ELECTRÓNICO","SOLICITUD DE INFORMACIÓN Y DOCUMENTOS","ADMINISTRATIVA","SI","GRUPO DE ADMINISTRACIÓN Y DESARROLLO DEL TALENTO HUMANO",43994,null,null,{"$f":"IFERROR(WORKDAY(C2188,R2188,DiasNOLaborables),\"\")","v":44014},{"$f":"+IF(C2188=\"\",\"\",IF(I2188=\"\",\"\",(IF(I2188<=L2188,\"A TIEMPO\",\"FUERA DE TIEMPO\"))))","v":"A TIEMPO"},{"$f":"IF(I2188=\"\",\"\",NETWORKDAYS([4]Hoja1!C2188+1,[4]Hoja1!P2188,DiasNOLaborables))","v":15},"",null,null,20]
[2178,20209050045492,43983,"CORREO ELECTRÓNICO","SOLICITUD DE INFORMACIÓN Y DOCUMENTOS","ADMINISTRATIVA","SI","GRUPO DE ADMINISTRACIÓN Y DESARROLLO DEL TALENTO HUMANO",43984,null,null,{"$f":"IFERROR(WORKDAY(C2189,R2189,DiasNOLaborables),\"\")","v":44014},{"$f":"+IF(C2189=\"\",\"\",IF(I2189=\"\",\"\",(IF(I2189<=L2189,\"A TIEMPO\",\"FUERA DE TIEMPO\"))))","v":"A TIEMPO"},{"$f":"IF(I2189=\"\",\"\",NETWORKDAYS([4]Hoja1!C2189+1,[4]Hoja1!P2189,DiasNOLaborables))","v":5},"",null,null,20]
[2179,20209050045502,43983,"CORREO ELECTRÓNICO","SOLICITUD DE INFORMACIÓN Y DOCUMENTOS","ADMINISTRATIVA","SI","GRUPO DE ADMINISTRACIÓN Y DESARROLLO DEL TALENTO HUMANO",43984,null,null,{"$f":"IFERROR(WORKDAY(C2190,R2190,DiasNOLaborables),\"\")","v":44014},{"$f":"+IF(C2190=\"\",\"\",IF(I2190=\"\",\"\",(IF(I2190<=L2190,\"A TIEMPO\",\"FUERA DE TIEMPO\"))))","v":"A TIEMPO"},{"$f":"IF(I2190=\"\",\"\",NETWORKDAYS([4]Hoja1!C2190+1,[4]Hoja1!P2190,DiasNOLaborables))","v":2},"",null,null,20]
[2180,20209050045212,43983,"MODULO CONTACTENOS","SOLICITUD DE INFORMACIÓN Y DOCUMENTOS","SOLICITUD DE INFORMACIÓN HIDROMETEOROLÓGICA","NO","GRUPO DE ATENCIÓN AL CIUDADANO",43992,null,null,{"$f":"IFERROR(WORKDAY(C2191,R2191,DiasNOLaborables),\"\")","v":44014},{"$f":"+IF(C2191=\"\",\"\",IF(I2191=\"\",\"\",(IF(I2191<=L2191,\"A TIEMPO\",\"FUERA DE TIEMPO\"))))","v":"A TIEMPO"},{"$f":"IF(I2191=\"\",\"\",NETWORKDAYS([4]Hoja1!C2191+1,[4]Hoja1!P2191,DiasNOLaborables))","v":1},"",null,null,20]
[2181,20209050045302,43983,"MODULO CONTACTENOS","SOLICITUD DE INFORMACIÓN Y DOCUMENTOS","SOLICITUD DE INFORMACIÓN HIDROMETEOROLÓGICA","NO","GRUPO DE ATENCIÓN AL CIUDADANO",43992,null,null,{"$f":"IFERROR(WORKDAY(C2192,R2192,DiasNOLaborables),\"\")","v":44014},{"$f":"+IF(C2192=\"\",\"\",IF(I2192=\"\",\"\",(IF(I2192<=L2192,\"A TIEMPO\",\"FUERA DE TIEMPO\"))))","v":"A TIEMPO"},{"$f":"IF(I2192=\"\",\"\",NETWORKDAYS([4]Hoja1!C2192+1,[4]Hoja1!P2192,DiasNOLaborables))","v":8},"",null,null,20]
[2182,20209050045312,43983,"MODULO CONTACTENOS","SOLICITUD DE INFORMACIÓN Y DOCUMENTOS","SOLICITUD DE INFORMACIÓN HIDROMETEOROLÓGICA","NO","GRUPO DE ATENCIÓN AL CIUDADANO",43992,null,null,{"$f":"IFERROR(WORKDAY(C2193,R2193,DiasNOLaborables),\"\")","v":44014},{"$f":"+IF(C2193=\"\",\"\",IF(I2193=\"\",\"\",(IF(I2193<=L2193,\"A TIEMPO\",\"FUERA DE TIEMPO\"))))","v":"A TIEMPO"},{"$f":"IF(I2193=\"\",\"\",NETWORKDAYS([4]Hoja1!C2193+1,[4]Hoja1!P2193,DiasNOLaborables))","v":6},"",null,null,20]
[2183,20209050045352,43983,"MODULO CONTACTENOS","SOLICITUD DE INFORMACIÓN Y DOCUMENTOS","SOLICITUD DE INFORMACIÓN HIDROMETEOROLÓGICA","NO","GRUPO DE ATENCIÓN AL CIUDADANO",43992,null,null,{"$f":"IFERROR(WORKDAY(C2194,R2194,DiasNOLaborables),\"\")","v":44014},{"$f":"+IF(C2194=\"\",\"\",IF(I2194=\"\",\"\",(IF(I2194<=L2194,\"A TIEMPO\",\"FUERA DE TIEMPO\"))))","v":"A TIEMPO"},{"$f":"IF(I2194=\"\",\"\",NETWORKDAYS([4]Hoja1!C2194+1,[4]Hoja1!P2194,DiasNOLaborables))","v":6},"",null,null,20]
[2184,20209050045362,43983,"MODULO CONTACTENOS","SOLICITUD DE INFORMACIÓN Y DOCUMENTOS","SOLICITUD DE INFORMACIÓN HIDROMETEOROLÓGICA","NO","GRUPO DE ATENCIÓN AL CIUDADANO",43992,null,null,{"$f":"IFERROR(WORKDAY(C2195,R2195,DiasNOLaborables),\"\")","v":44014},{"$f":"+IF(C2195=\"\",\"\",IF(I2195=\"\",\"\",(IF(I2195<=L2195,\"A TIEMPO\",\"FUERA DE TIEMPO\"))))","v":"A TIEMPO"},{"$f":"IF(I2195=\"\",\"\",NETWORKDAYS([4]Hoja1!C2195+1,[4]Hoja1!P2195,DiasNOLaborables))","v":6},"",null,null,20]
[2185,20209050045392,43983,"MODULO CONTACTENOS","SOLICITUD DE INFORMACIÓN Y DOCUMENTOS","SOLICITUD DE INFORMACIÓN HIDROMETEOROLÓGICA","NO","GRUPO DE ATENCIÓN AL CIUDADANO",43992,null,null,{"$f":"IFERROR(WORKDAY(C2196,R2196,DiasNOLaborables),\"\")","v":44014},{"$f":"+IF(C2196=\"\",\"\",IF(I2196=\"\",\"\",(IF(I2196<=L2196,\"A TIEMPO\",\"FUERA DE TIEMPO\"))))","v":"A TIEMPO"},{"$f":"IF(I2196=\"\",\"\",NETWORKDAYS([4]Hoja1!C2196+1,[4]Hoja1!P2196,DiasNOLaborables))","v":-2},"",null,null,20]
[2186,20209050045402,43983,"MODULO CONTACTENOS","SOLICITUD DE INFORMACIÓN Y DOCUMENTOS","SOLICITUD DE INFORMACIÓN HIDROMETEOROLÓGICA","NO","GRUPO DE ATENCIÓN AL CIUDADANO",43992,null,null,{"$f":"IFERROR(WORKDAY(C2197,R2197,DiasNOLaborables),\"\")","v":44014},{"$f":"+IF(C2197=\"\",\"\",IF(I2197=\"\",\"\",(IF(I2197<=L2197,\"A TIEMPO\",\"FUERA DE TIEMPO\"))))","v":"A TIEMPO"},{"$f":"IF(I2197=\"\",\"\",NETWORKDAYS([4]Hoja1!C2197+1,[4]Hoja1!P2197,DiasNOLaborables))","v":6},"",null,null,20]
[2187,20209050045422,43983,"MODULO CONTACTENOS","SOLICITUD DE INFORMACIÓN Y DOCUMENTOS","SOLICITUD DE INFORMACIÓN HIDROMETEOROLÓGICA","NO","GRUPO DE ATENCIÓN AL CIUDADANO",43992,null,null,{"$f":"IFERROR(WORKDAY(C2198,R2198,DiasNOLaborables),\"\")","v":44014},{"$f":"+IF(C2198=\"\",\"\",IF(I2198=\"\",\"\",(IF(I2198<=L2198,\"A TIEMPO\",\"FUERA DE TIEMPO\"))))","v":"A TIEMPO"},{"$f":"IF(I2198=\"\",\"\",NETWORKDAYS([4]Hoja1!C2198+1,[4]Hoja1!P2198,DiasNOLaborables))","v":9},"",null,null,20]
[2188,20200601184020,43983,"WEB (MÓDULO DE SOLICITUD DE INFORMACIÓN HIDROMETEOROLÓGICA)","SOLICITUD DE INFORMACIÓN Y DOCUMENTOS","SOLICITUD DE INFORMACIÓN HIDROMETEOROLÓGICA","NO","GRUPO DE ATENCIÓN AL CIUDADANO",43992,null,null,{"$f":"IFERROR(WORKDAY(C2199,R2199,DiasNOLaborables),\"\")","v":44014},{"$f":"+IF(C2199=\"\",\"\",IF(I2199=\"\",\"\",(IF(I2199<=L2199,\"A TIEMPO\",\"FUERA DE TIEMPO\"))))","v":"A TIEMPO"},{"$f":"IF(I2199=\"\",\"\",NETWORKDAYS([4]Hoja1!C2199+1,[4]Hoja1!P2199,DiasNOLaborables))","v":8},"",null,null,20]
[2189,20200601174819,43983,"WEB (MÓDULO DE SOLICITUD DE INFORMACIÓN HIDROMETEOROLÓGICA)","SOLICITUD DE INFORMACIÓN Y DOCUMENTOS","SOLICITUD DE INFORMACIÓN HIDROMETEOROLÓGICA","NO","GRUPO DE ATENCIÓN AL CIUDADANO",43992,null,null,{"$f":"IFERROR(WORKDAY(C2200,R2200,DiasNOLaborables),\"\")","v":44014},{"$f":"+IF(C2200=\"\",\"\",IF(I2200=\"\",\"\",(IF(I2200<=L2200,\"A TIEMPO\",\"FUERA DE TIEMPO\"))))","v":"A TIEMPO"},{"$f":"IF(I2200=\"\",\"\",NETWORKDAYS([4]Hoja1!C2200+1,[4]Hoja1!P2200,DiasNOLaborables))","v":5},"",null,null,20]
[2190,20200601173328,43983,"WEB (MÓDULO DE SOLICITUD DE INFORMACIÓN HIDROMETEOROLÓGICA)","SOLICITUD DE INFORMACIÓN Y DOCUMENTOS","SOLICITUD DE INFORMACIÓN HIDROMETEOROLÓGICA","NO","GRUPO DE ATENCIÓN AL CIUDADANO",43992,null,null,{"$f":"IFERROR(WORKDAY(C2201,R2201,DiasNOLaborables),\"\")","v":44014},{"$f":"+IF(C2201=\"\",\"\",IF(I2201=\"\",\"\",(IF(I2201<=L2201,\"A TIEMPO\",\"FUERA DE TIEMPO\"))))","v":"A TIEMPO"},{"$f":"IF(I2201=\"\",\"\",NETWORKDAYS([4]Hoja1!C2201+1,[4]Hoja1!P2201,DiasNOLaborables))","v":5},"",null,null,20]
[2191,20200601170542,43983,"WEB (MÓDULO DE SOLICITUD DE INFORMACIÓN HIDROMETEOROLÓGICA)","SOLICITUD DE INFORMACIÓN Y DOCUMENTOS","SOLICITUD DE INFORMACIÓN HIDROMETEOROLÓGICA","NO","GRUPO DE ATENCIÓN AL CIUDADANO",43992,null,null,{"$f":"IFERROR(WORKDAY(C2202,R2202,DiasNOLaborables),\"\")","v":44014},{"$f":"+IF(C2202=\"\",\"\",IF(I2202=\"\",\"\",(IF(I2202<=L2202,\"A TIEMPO\",\"FUERA DE TIEMPO\"))))","v":"A TIEMPO"},{"$f":"IF(I2202=\"\",\"\",NETWORKDAYS([4]Hoja1!C2202+1,[4]Hoja1!P2202,DiasNOLaborables))","v":5},"",null,null,20]
[2192,20200601165005,43983,"WEB (MÓDULO DE SOLICITUD DE INFORMACIÓN HIDROMETEOROLÓGICA)","SOLICITUD DE INFORMACIÓN Y DOCUMENTOS","SOLICITUD DE INFORMACIÓN HIDROMETEOROLÓGICA","NO","GRUPO DE ATENCIÓN AL CIUDADANO",43992,null,null,{"$f":"IFERROR(WORKDAY(C2203,R2203,DiasNOLaborables),\"\")","v":44014},{"$f":"+IF(C2203=\"\",\"\",IF(I2203=\"\",\"\",(IF(I2203<=L2203,\"A TIEMPO\",\"FUERA DE TIEMPO\"))))","v":"A TIEMPO"},{"$f":"IF(I2203=\"\",\"\",NETWORKDAYS([4]Hoja1!C2203+1,[4]Hoja1!P2203,DiasNOLaborables))","v":5},"",null,null,20]
[2193,20200601143840,43983,"WEB (MÓDULO DE SOLICITUD DE INFORMACIÓN HIDROMETEOROLÓGICA)","SOLICITUD DE INFORMACIÓN Y DOCUMENTOS","SOLICITUD DE INFORMACIÓN HIDROMETEOROLÓGICA","NO","GRUPO DE ATENCIÓN AL CIUDADANO",43992,null,null,{"$f":"IFERROR(WORKDAY(C2204,R2204,DiasNOLaborables),\"\")","v":44014},{"$f":"+IF(C2204=\"\",\"\",IF(I2204=\"\",\"\",(IF(I2204<=L2204,\"A TIEMPO\",\"FUERA DE TIEMPO\"))))","v":"A TIEMPO"},{"$f":"IF(I2204=\"\",\"\",NETWORKDAYS([4]Hoja1!C2204+1,[4]Hoja1!P2204,DiasNOLaborables))","v":5},"",null,null,20]
[2194,20200601134403,43983,"WEB (MÓDULO DE SOLICITUD DE INFORMACIÓN HIDROMETEOROLÓGICA)","SOLICITUD DE INFORMACIÓN Y DOCUMENTOS","SOLICITUD DE INFORMACIÓN HIDROMETEOROLÓGICA","NO","GRUPO DE ATENCIÓN AL CIUDADANO",43992,null,null,{"$f":"IFERROR(WORKDAY(C2205,R2205,DiasNOLaborables),\"\")","v":44014},{"$f":"+IF(C2205=\"\",\"\",IF(I2205=\"\",\"\",(IF(I2205<=L2205,\"A TIEMPO\",\"FUERA DE TIEMPO\"))))","v":"A TIEMPO"},{"$f":"IF(I2205=\"\",\"\",NETWORKDAYS([4]Hoja1!C2205+1,[4]Hoja1!P2205,DiasNOLaborables))","v":5},"",null,null,20]
[2195,20200601133542,43983,"WEB (MÓDULO DE SOLICITUD DE INFORMACIÓN HIDROMETEOROLÓGICA)","SOLICITUD DE INFORMACIÓN Y DOCUMENTOS","SOLICITUD DE INFORMACIÓN HIDROMETEOROLÓGICA","NO","GRUPO DE ATENCIÓN AL CIUDADANO",43992,null,null,{"$f":"IFERROR(WORKDAY(C2206,R2206,DiasNOLaborables),\"\")","v":44014},{"$f":"+IF(C2206=\"\",\"\",IF(I2206=\"\",\"\",(IF(I2206<=L2206,\"A TIEMPO\",\"FUERA DE TIEMPO\"))))","v":"A TIEMPO"},{"$f":"IF(I2206=\"\",\"\",NETWORKDAYS([4]Hoja1!C2206+1,[4]Hoja1!P2206,DiasNOLaborables))","v":5},"",null,null,20]
[2196,20200601132746,43983,"WEB (MÓDULO DE SOLICITUD DE INFORMACIÓN HIDROMETEOROLÓGICA)","SOLICITUD DE INFORMACIÓN Y DOCUMENTOS","SOLICITUD DE INFORMACIÓN HIDROMETEOROLÓGICA","NO","GRUPO DE ATENCIÓN AL CIUDADANO",43992,null,null,{"$f":"IFERROR(WORKDAY(C2207,R2207,DiasNOLaborables),\"\")","v":44014},{"$f":"+IF(C2207=\"\",\"\",IF(I2207=\"\",\"\",(IF(I2207<=L2207,\"A TIEMPO\",\"FUERA DE TIEMPO\"))))","v":"A TIEMPO"},{"$f":"IF(I2207=\"\",\"\",NETWORKDAYS([4]Hoja1!C2207+1,[4]Hoja1!P2207,DiasNOLaborables))","v":14},"",null,null,20]
[2197,20200601131422,43983,"WEB (MÓDULO DE SOLICITUD DE INFORMACIÓN HIDROMETEOROLÓGICA)","SOLICITUD DE INFORMACIÓN Y DOCUMENTOS","SOLICITUD DE INFORMACIÓN HIDROMETEOROLÓGICA","NO","GRUPO DE ATENCIÓN AL CIUDADANO",43992,null,null,{"$f":"IFERROR(WORKDAY(C2208,R2208,DiasNOLaborables),\"\")","v":44014},{"$f":"+IF(C2208=\"\",\"\",IF(I2208=\"\",\"\",(IF(I2208<=L2208,\"A TIEMPO\",\"FUERA DE TIEMPO\"))))","v":"A TIEMPO"},{"$f":"IF(I2208=\"\",\"\",NETWORKDAYS([4]Hoja1!C2208+1,[4]Hoja1!P2208,DiasNOLaborables))","v":6},"",null,null,20]
[2198,20200601130752,43983,"WEB (MÓDULO DE SOLICITUD DE INFORMACIÓN HIDROMETEOROLÓGICA)","SOLICITUD DE INFORMACIÓN Y DOCUMENTOS","SOLICITUD DE INFORMACIÓN HIDROMETEOROLÓGICA","NO","GRUPO DE ATENCIÓN AL CIUDADANO",43992,null,null,{"$f":"IFERROR(WORKDAY(C2209,R2209,DiasNOLaborables),\"\")","v":44014},{"$f":"+IF(C2209=\"\",\"\",IF(I2209=\"\",\"\",(IF(I2209<=L2209,\"A TIEMPO\",\"FUERA DE TIEMPO\"))))","v":"A TIEMPO"},{"$f":"IF(I2209=\"\",\"\",NETWORKDAYS([4]Hoja1!C2209+1,[4]Hoja1!P2209,DiasNOLaborables))","v":6},"",null,null,20]
[2199,20200601105618,43983,"WEB (MÓDULO DE SOLICITUD DE INFORMACIÓN HIDROMETEOROLÓGICA)","SOLICITUD DE INFORMACIÓN Y DOCUMENTOS","SOLICITUD DE INFORMACIÓN HIDROMETEOROLÓGICA","NO","GRUPO DE ATENCIÓN AL CIUDADANO",43992,null,null,{"$f":"IFERROR(WORKDAY(C2210,R2210,DiasNOLaborables),\"\")","v":44014},{"$f":"+IF(C2210=\"\",\"\",IF(I2210=\"\",\"\",(IF(I2210<=L2210,\"A TIEMPO\",\"FUERA DE TIEMPO\"))))","v":"A TIEMPO"},{"$f":"IF(I2210=\"\",\"\",NETWORKDAYS([4]Hoja1!C2210+1,[4]Hoja1!P2210,DiasNOLaborables))","v":14},"",null,null,20]
[2200,20200601105235,43983,"WEB (MÓDULO DE SOLICITUD DE INFORMACIÓN HIDROMETEOROLÓGICA)","SOLICITUD DE INFORMACIÓN Y DOCUMENTOS","SOLICITUD DE INFORMACIÓN HIDROMETEOROLÓGICA","NO","GRUPO DE ATENCIÓN AL CIUDADANO",43992,null,null,{"$f":"IFERROR(WORKDAY(C2211,R2211,DiasNOLaborables),\"\")","v":44014},{"$f":"+IF(C2211=\"\",\"\",IF(I2211=\"\",\"\",(IF(I2211<=L2211,\"A TIEMPO\",\"FUERA DE TIEMPO\"))))","v":"A TIEMPO"},{"$f":"IF(I2211=\"\",\"\",NETWORKDAYS([4]Hoja1!C2211+1,[4]Hoja1!P2211,DiasNOLaborables))","v":2},"",null,null,20]
[2201,20200601102529,43983,"WEB (MÓDULO DE SOLICITUD DE INFORMACIÓN HIDROMETEOROLÓGICA)","SOLICITUD DE INFORMACIÓN Y DOCUMENTOS","SOLICITUD DE INFORMACIÓN HIDROMETEOROLÓGICA","NO","GRUPO DE ATENCIÓN AL CIUDADANO",43992,null,null,{"$f":"IFERROR(WORKDAY(C2212,R2212,DiasNOLaborables),\"\")","v":44014},{"$f":"+IF(C2212=\"\",\"\",IF(I2212=\"\",\"\",(IF(I2212<=L2212,\"A TIEMPO\",\"FUERA DE TIEMPO\"))))","v":"A TIEMPO"},{"$f":"IF(I2212=\"\",\"\",NETWORKDAYS([4]Hoja1!C2212+1,[4]Hoja1!P2212,DiasNOLaborables))","v":-2},"",null,null,20]
[2202,20200601100332,43983,"WEB (MÓDULO DE SOLICITUD DE INFORMACIÓN HIDROMETEOROLÓGICA)","SOLICITUD DE INFORMACIÓN Y DOCUMENTOS","SOLICITUD DE INFORMACIÓN HIDROMETEOROLÓGICA","NO","GRUPO DE ATENCIÓN AL CIUDADANO",43992,null,null,{"$f":"IFERROR(WORKDAY(C2213,R2213,DiasNOLaborables),\"\")","v":44014},{"$f":"+IF(C2213=\"\",\"\",IF(I2213=\"\",\"\",(IF(I2213<=L2213,\"A TIEMPO\",\"FUERA DE TIEMPO\"))))","v":"A TIEMPO"},{"$f":"IF(I2213=\"\",\"\",NETWORKDAYS([4]Hoja1!C2213+1,[4]Hoja1!P2213,DiasNOLaborables))","v":1},"",null,null,20]
[2203,20200601095107,43983,"WEB (MÓDULO DE SOLICITUD DE INFORMACIÓN HIDROMETEOROLÓGICA)","SOLICITUD DE INFORMACIÓN Y DOCUMENTOS","SOLICITUD DE INFORMACIÓN HIDROMETEOROLÓGICA","NO","GRUPO DE ATENCIÓN AL CIUDADANO",43992,null,null,{"$f":"IFERROR(WORKDAY(C2214,R2214,DiasNOLaborables),\"\")","v":44014},{"$f":"+IF(C2214=\"\",\"\",IF(I2214=\"\",\"\",(IF(I2214<=L2214,\"A TIEMPO\",\"FUERA DE TIEMPO\"))))","v":"A TIEMPO"},{"$f":"IF(I2214=\"\",\"\",NETWORKDAYS([4]Hoja1!C2214+1,[4]Hoja1!P2214,DiasNOLaborables))","v":4},"",null,null,20]
[2204,20200601094618,43983,"WEB (MÓDULO DE SOLICITUD DE INFORMACIÓN HIDROMETEOROLÓGICA)","SOLICITUD DE INFORMACIÓN Y DOCUMENTOS","SOLICITUD DE INFORMACIÓN HIDROMETEOROLÓGICA","NO","GRUPO DE ATENCIÓN AL CIUDADANO",43992,null,null,{"$f":"IFERROR(WORKDAY(C2215,R2215,DiasNOLaborables),\"\")","v":44014},{"$f":"+IF(C2215=\"\",\"\",IF(I2215=\"\",\"\",(IF(I2215<=L2215,\"A TIEMPO\",\"FUERA DE TIEMPO\"))))","v":"A TIEMPO"},{"$f":"IF(I2215=\"\",\"\",NETWORKDAYS([4]Hoja1!C2215+1,[4]Hoja1!P2215,DiasNOLaborables))","v":6},"",null,null,20]
[2205,20200601094228,43983,"WEB (MÓDULO DE SOLICITUD DE INFORMACIÓN HIDROMETEOROLÓGICA)","SOLICITUD DE INFORMACIÓN Y DOCUMENTOS","SOLICITUD DE INFORMACIÓN HIDROMETEOROLÓGICA","NO","GRUPO DE ATENCIÓN AL CIUDADANO",43992,null,null,{"$f":"IFERROR(WORKDAY(C2216,R2216,DiasNOLaborables),\"\")","v":44014},{"$f":"+IF(C2216=\"\",\"\",IF(I2216=\"\",\"\",(IF(I2216<=L2216,\"A TIEMPO\",\"FUERA DE TIEMPO\"))))","v":"A TIEMPO"},{"$f":"IF(I2216=\"\",\"\",NETWORKDAYS([4]Hoja1!C2216+1,[4]Hoja1!P2216,DiasNOLaborables))","v":6},"",null,null,20]
[2206,20209910040502,43983,"CORREO ELECTRÓNICO","SOLICITUD DE INFORMACIÓN Y DOCUMENTOS","REGISTROS AMBIENTALES","SI","SUBDIRECCIÓN DE ESTUDIOS AMBIENTALES",43986,null,null,{"$f":"IFERROR(WORKDAY(C2217,R2217,DiasNOLaborables),\"\")","v":44014},{"$f":"+IF(C2217=\"\",\"\",IF(I2217=\"\",\"\",(IF(I2217<=L2217,\"A TIEMPO\",\"FUERA DE TIEMPO\"))))","v":"A TIEMPO"},{"$f":"IF(I2217=\"\",\"\",NETWORKDAYS([4]Hoja1!C2217+1,[4]Hoja1!P2217,DiasNOLaborables))","v":4},"",null,null,20]
[2207,20209910040662,43983,"CORREO ELECTRÓNICO","SOLICITUD DE INFORMACIÓN Y DOCUMENTOS","REGISTROS AMBIENTALES","SI","SUBDIRECCIÓN DE ESTUDIOS AMBIENTALES",44012,null,null,{"$f":"IFERROR(WORKDAY(C2218,R2218,DiasNOLaborables),\"\")","v":44014},{"$f":"+IF(C2218=\"\",\"\",IF(I2218=\"\",\"\",(IF(I2218<=L2218,\"A TIEMPO\",\"FUERA DE TIEMPO\"))))","v":"A TIEMPO"},{"$f":"IF(I2218=\"\",\"\",NETWORKDAYS([4]Hoja1!C2218+1,[4]Hoja1!P2218,DiasNOLaborables))","v":4},"",null,null,20]
[2208,20209910040572,43983,"CORREO ELECTRÓNICO","CERTIFICACIONES DE TIEMPO, CLIMA Y EVENTOS HIDROLÓGICOS","CERTIFICACIONES DE TIEMPO Y CLIMA","NO","SUBDIRECCIÓN DE METEOROLOGÍA",43985,null,null,{"$f":"IFERROR(WORKDAY(C2219,R2219,DiasNOLaborables),\"\")","v":44028},{"$f":"+IF(C2219=\"\",\"\",IF(I2219=\"\",\"\",(IF(I2219<=L2219,\"A TIEMPO\",\"FUERA DE TIEMPO\"))))","v":"A TIEMPO"},{"$f":"IF(I2219=\"\",\"\",NETWORKDAYS([4]Hoja1!C2219+1,[4]Hoja1!P2219,DiasNOLaborables))","v":23},"",null,null,30]
[2209,20209910040592,43983,"CORREO ELECTRÓNICO","CERTIFICACIONES DE TIEMPO, CLIMA Y EVENTOS HIDROLÓGICOS","CERTIFICACIONES DE TIEMPO Y CLIMA","NO","SUBDIRECCIÓN DE METEOROLOGÍA",43985,null,null,{"$f":"IFERROR(WORKDAY(C2220,R2220,DiasNOLaborables),\"\")","v":44028},{"$f":"+IF(C2220=\"\",\"\",IF(I2220=\"\",\"\",(IF(I2220<=L2220,\"A TIEMPO\",\"FUERA DE TIEMPO\"))))","v":"A TIEMPO"},{"$f":"IF(I2220=\"\",\"\",NETWORKDAYS([4]Hoja1!C2220+1,[4]Hoja1!P2220,DiasNOLaborables))","v":3},"",null,null,30]
[2210,20209910040602,43983,"CORREO ELECTRÓNICO","CERTIFICACIONES DE TIEMPO, CLIMA Y EVENTOS HIDROLÓGICOS","CERTIFICACIONES DE TIEMPO Y CLIMA","NO","SUBDIRECCIÓN DE METEOROLOGÍA",43985,null,null,{"$f":"IFERROR(WORKDAY(C2221,R2221,DiasNOLaborables),\"\")","v":44028},{"$f":"+IF(C2221=\"\",\"\",IF(I2221=\"\",\"\",(IF(I2221<=L2221,\"A TIEMPO\",\"FUERA DE TIEMPO\"))))","v":"A TIEMPO"},{"$f":"IF(I2221=\"\",\"\",NETWORKDAYS([4]Hoja1!C2221+1,[4]Hoja1!P2221,DiasNOLaborables))","v":3},"",null,null,30]
[2211,20209910040612,43983,"CORREO ELECTRÓNICO","CERTIFICACIONES DE TIEMPO, CLIMA Y EVENTOS HIDROLÓGICOS","CERTIFICACIONES DE TIEMPO Y CLIMA","NO","SUBDIRECCIÓN DE METEOROLOGÍA",43985,null,null,{"$f":"IFERROR(WORKDAY(C2222,R2222,DiasNOLaborables),\"\")","v":44028},{"$f":"+IF(C2222=\"\",\"\",IF(I2222=\"\",\"\",(IF(I2222<=L2222,\"A TIEMPO\",\"FUERA DE TIEMPO\"))))","v":"A TIEMPO"},{"$f":"IF(I2222=\"\",\"\",NETWORKDAYS([4]Hoja1!C2222+1,[4]Hoja1!P2222,DiasNOLaborables))","v":5},"",null,null,30]
[2212,20209910040692,43983,"CORREO ELECTRÓNICO","SOLICITUD DE INFORMACIÓN Y DOCUMENTOS","BOSQUES","NO","SUBDIRECCIÓN DE ECOSISTEMAS E INFORMACIÓN AMBIENTAL",43987,null,null,{"$f":"IFERROR(WORKDAY(C2223,R2223,DiasNOLaborables),\"\")","v":44014},{"$f":"+IF(C2223=\"\",\"\",IF(I2223=\"\",\"\",(IF(I2223<=L2223,\"A TIEMPO\",\"FUERA DE TIEMPO\"))))","v":"A TIEMPO"},{"$f":"IF(I2223=\"\",\"\",NETWORKDAYS([4]Hoja1!C2223+1,[4]Hoja1!P2223,DiasNOLaborables))","v":17},"",null,null,20]
[2213,20209910040712,43983,"CORREO ELECTRÓNICO","SOLICITUD DE INFORMACIÓN Y DOCUMENTOS","BOSQUES","NO","SUBDIRECCIÓN DE ECOSISTEMAS E INFORMACIÓN AMBIENTAL",43991,null,null,{"$f":"IFERROR(WORKDAY(C2224,R2224,DiasNOLaborables),\"\")","v":44014},{"$f":"+IF(C2224=\"\",\"\",IF(I2224=\"\",\"\",(IF(I2224<=L2224,\"A TIEMPO\",\"FUERA DE TIEMPO\"))))","v":"A TIEMPO"},{"$f":"IF(I2224=\"\",\"\",NETWORKDAYS([4]Hoja1!C2224+1,[4]Hoja1!P2224,DiasNOLaborables))","v":2},"",null,null,20]
[2214,20200601093642,43983,"WEB (MÓDULO DE SOLICITUD DE INFORMACIÓN HIDROMETEOROLÓGICA)","SOLICITUD DE INFORMACIÓN Y DOCUMENTOS","SOLICITUD DE INFORMACIÓN HIDROMETEOROLÓGICA","NO","GRUPO DE ATENCIÓN AL CIUDADANO",43992,null,null,{"$f":"IFERROR(WORKDAY(C2225,R2225,DiasNOLaborables),\"\")","v":44014},{"$f":"+IF(C2225=\"\",\"\",IF(I2225=\"\",\"\",(IF(I2225<=L2225,\"A TIEMPO\",\"FUERA DE TIEMPO\"))))","v":"A TIEMPO"},{"$f":"IF(I2225=\"\",\"\",NETWORKDAYS([4]Hoja1!C2225+1,[4]Hoja1!P2225,DiasNOLaborables))","v":7},"",null,null,20]
[{"$f":"IF(B2224<>\"\",A2225+1,\"\")","v":2215},20200601092306,43983,"WEB (MÓDULO DE SOLICITUD DE INFORMACIÓN HIDROMETEOROLÓGICA)","SOLICITUD DE INFORMACIÓN Y DOCUMENTOS","SOLICITUD DE INFORMACIÓN HIDROMETEOROLÓGICA","NO","GRUPO DE ATENCIÓN AL CIUDADANO",43992,null,null,{"$f":"IFERROR(WORKDAY(C2226,R2226,DiasNOLaborables),\"\")","v":44014},{"$f":"+IF(C2226=\"\",\"\",IF(I2226=\"\",\"\",(IF(I2226<=L2226,\"A TIEMPO\",\"FUERA DE TIEMPO\"))))","v":"A TIEMPO"},{"$f":"IF(I2226=\"\",\"\",NETWORKDAYS([4]Hoja1!C2226+1,[4]Hoja1!P2226,DiasNOLaborables))","v":7},"",null,null,20]
[2216,20200601091711,43983,"WEB (MÓDULO DE SOLICITUD DE INFORMACIÓN HIDROMETEOROLÓGICA)","SOLICITUD DE INFORMACIÓN Y DOCUMENTOS","SOLICITUD DE INFORMACIÓN HIDROMETEOROLÓGICA","NO","GRUPO DE ATENCIÓN AL CIUDADANO",43992,null,null,{"$f":"IFERROR(WORKDAY(C2227,R2227,DiasNOLaborables),\"\")","v":44014},{"$f":"+IF(C2227=\"\",\"\",IF(I2227=\"\",\"\",(IF(I2227<=L2227,\"A TIEMPO\",\"FUERA DE TIEMPO\"))))","v":"A TIEMPO"},{"$f":"IF(I2227=\"\",\"\",NETWORKDAYS([4]Hoja1!C2227+1,[4]Hoja1!P2227,DiasNOLaborables))","v":6},"",null,null,20]
[2217,20200601090432,43983,"WEB (MÓDULO DE SOLICITUD DE INFORMACIÓN HIDROMETEOROLÓGICA)","SOLICITUD DE INFORMACIÓN Y DOCUMENTOS","SOLICITUD DE INFORMACIÓN HIDROMETEOROLÓGICA","NO","GRUPO DE ATENCIÓN AL CIUDADANO",43992,null,null,{"$f":"IFERROR(WORKDAY(C2228,R2228,DiasNOLaborables),\"\")","v":44014},{"$f":"+IF(C2228=\"\",\"\",IF(I2228=\"\",\"\",(IF(I2228<=L2228,\"A TIEMPO\",\"FUERA DE TIEMPO\"))))","v":"A TIEMPO"},{"$f":"IF(I2228=\"\",\"\",NETWORKDAYS([4]Hoja1!C2228+1,[4]Hoja1!P2228,DiasNOLaborables))","v":7},{"$f":"IF(NETWORKDAYS(L2228+1,I2228,DiasNOLaborables)<=0,\"\",NETWORKDAYS(L2228+1,I2228,DiasNOLaborables))","v":""},null,null,20]
[2218,20209050045252,43983,"WEB (MÓDULO DE SOLICITUD DE INFORMACIÓN HIDROMETEOROLÓGICA)","SOLICITUD DE INFORMACIÓN Y DOCUMENTOS","SOLICITUD DE INFORMACIÓN HIDROMETEOROLÓGICA","NO","GRUPO DE ATENCIÓN AL CIUDADANO",43998,null,null,{"$f":"IFERROR(WORKDAY(C2229,R2229,DiasNOLaborables),\"\")","v":44014},{"$f":"+IF(C2229=\"\",\"\",IF(I2229=\"\",\"\",(IF(I2229<=L2229,\"A TIEMPO\",\"FUERA DE TIEMPO\"))))","v":"A TIEMPO"},{"$f":"IF(I2229=\"\",\"\",NETWORKDAYS([4]Hoja1!C2229+1,[4]Hoja1!P2229,DiasNOLaborables))","v":8},"",null,null,20]
[2219,20200601085130,43983,"WEB (MÓDULO DE SOLICITUD DE INFORMACIÓN HIDROMETEOROLÓGICA)","SOLICITUD DE INFORMACIÓN Y DOCUMENTOS","SOLICITUD DE INFORMACIÓN HIDROMETEOROLÓGICA","NO","GRUPO DE ATENCIÓN AL CIUDADANO",43992,null,null,{"$f":"IFERROR(WORKDAY(C2230,R2230,DiasNOLaborables),\"\")","v":44014},{"$f":"+IF(C2230=\"\",\"\",IF(I2230=\"\",\"\",(IF(I2230<=L2230,\"A TIEMPO\",\"FUERA DE TIEMPO\"))))","v":"A TIEMPO"},{"$f":"IF(I2230=\"\",\"\",NETWORKDAYS([4]Hoja1!C2230+1,[4]Hoja1!P2230,DiasNOLaborables))","v":7},"",null,null,20]
[2220,20209050045332,43983,"CORREO ELECTRÓNICO","SOLICITUD DE INFORMACIÓN Y DOCUMENTOS","ADMINISTRATIVA","SI","GRUPO DE ADMINISTRACIÓN Y DESARROLLO DEL TALENTO HUMANO",43984,null,null,{"$f":"IFERROR(WORKDAY(C2231,R2231,DiasNOLaborables),\"\")","v":44014},{"$f":"+IF(C2231=\"\",\"\",IF(I2231=\"\",\"\",(IF(I2231<=L2231,\"A TIEMPO\",\"FUERA DE TIEMPO\"))))","v":"A TIEMPO"},{"$f":"IF(I2231=\"\",\"\",NETWORKDAYS([4]Hoja1!C2231+1,[4]Hoja1!P2231,DiasNOLaborables))","v":7},"",null,null,20]
[2221,20209050045242,43983,"WEB (MÓDULO DE SOLICITUD DE INFORMACIÓN HIDROMETEOROLÓGICA)","SOLICITUD DE INFORMACIÓN Y DOCUMENTOS","SOLICITUD DE INFORMACIÓN HIDROMETEOROLÓGICA","NO","GRUPO DE ATENCIÓN AL CIUDADANO",43998,null,null,{"$f":"IFERROR(WORKDAY(C2232,R2232,DiasNOLaborables),\"\")","v":44014},{"$f":"+IF(C2232=\"\",\"\",IF(I2232=\"\",\"\",(IF(I2232<=L2232,\"A TIEMPO\",\"FUERA DE TIEMPO\"))))","v":"A TIEMPO"},{"$f":"IF(I2232=\"\",\"\",NETWORKDAYS([4]Hoja1!C2232+1,[4]Hoja1!P2232,DiasNOLaborables))","v":7},"",null,null,20]
[2222,20209050045512,43983,"WEB (MÓDULO DE SOLICITUD DE INFORMACIÓN HIDROMETEOROLÓGICA)","SOLICITUD DE INFORMACIÓN Y DOCUMENTOS","SOLICITUD DE INFORMACIÓN HIDROMETEOROLÓGICA","NO","GRUPO DE ATENCIÓN AL CIUDADANO",43998,null,null,{"$f":"IFERROR(WORKDAY(C2233,R2233,DiasNOLaborables),\"\")","v":44014},{"$f":"+IF(C2233=\"\",\"\",IF(I2233=\"\",\"\",(IF(I2233<=L2233,\"A TIEMPO\",\"FUERA DE TIEMPO\"))))","v":"A TIEMPO"},{"$f":"IF(I2233=\"\",\"\",NETWORKDAYS([4]Hoja1!C2233+1,[4]Hoja1!P2233,DiasNOLaborables))","v":7},"",null,null,20]
[2223,20209050045522,43983,"WEB (MÓDULO DE SOLICITUD DE INFORMACIÓN HIDROMETEOROLÓGICA)","SOLICITUD DE INFORMACIÓN Y DOCUMENTOS","SOLICITUD DE INFORMACIÓN HIDROMETEOROLÓGICA","NO","GRUPO DE ATENCIÓN AL CIUDADANO",43998,null,null,{"$f":"IFERROR(WORKDAY(C2234,R2234,DiasNOLaborables),\"\")","v":44014},{"$f":"+IF(C2234=\"\",\"\",IF(I2234=\"\",\"\",(IF(I2234<=L2234,\"A TIEMPO\",\"FUERA DE TIEMPO\"))))","v":"A TIEMPO"},{"$f":"IF(I2234=\"\",\"\",NETWORKDAYS([4]Hoja1!C2234+1,[4]Hoja1!P2234,DiasNOLaborables))","v":5},"",null,null,20]
[2224,20209050045532,43983,"WEB (MÓDULO DE SOLICITUD DE INFORMACIÓN HIDROMETEOROLÓGICA)","SOLICITUD DE INFORMACIÓN Y DOCUMENTOS","SOLICITUD DE INFORMACIÓN HIDROMETEOROLÓGICA","NO","GRUPO DE ATENCIÓN AL CIUDADANO",43998,null,null,{"$f":"IFERROR(WORKDAY(C2235,R2235,DiasNOLaborables),\"\")","v":44014},{"$f":"+IF(C2235=\"\",\"\",IF(I2235=\"\",\"\",(IF(I2235<=L2235,\"A TIEMPO\",\"FUERA DE TIEMPO\"))))","v":"A TIEMPO"},{"$f":"IF(I2235=\"\",\"\",NETWORKDAYS([4]Hoja1!C2235+1,[4]Hoja1!P2235,DiasNOLaborables))","v":6},"",null,null,20]
[2225,20209050045542,43983,"WEB (MÓDULO DE SOLICITUD DE INFORMACIÓN HIDROMETEOROLÓGICA)","SOLICITUD DE INFORMACIÓN Y DOCUMENTOS","SOLICITUD DE INFORMACIÓN HIDROMETEOROLÓGICA","NO","GRUPO DE ATENCIÓN AL CIUDADANO",43998,null,null,{"$f":"IFERROR(WORKDAY(C2236,R2236,DiasNOLaborables),\"\")","v":44014},{"$f":"+IF(C2236=\"\",\"\",IF(I2236=\"\",\"\",(IF(I2236<=L2236,\"A TIEMPO\",\"FUERA DE TIEMPO\"))))","v":"A TIEMPO"},{"$f":"IF(I2236=\"\",\"\",NETWORKDAYS([4]Hoja1!C2236+1,[4]Hoja1!P2236,DiasNOLaborables))","v":6},"",null,null,20]
[2226,20209050045562,43984,"WEB (MÓDULO DE SOLICITUD DE INFORMACIÓN HIDROMETEOROLÓGICA)","SOLICITUD DE INFORMACIÓN Y DOCUMENTOS","SOLICITUD DE INFORMACIÓN HIDROMETEOROLÓGICA","NO","GRUPO DE ATENCIÓN AL CIUDADANO",43999,null,null,{"$f":"IFERROR(WORKDAY(C2237,R2237,DiasNOLaborables),\"\")","v":44015},{"$f":"+IF(C2237=\"\",\"\",IF(I2237=\"\",\"\",(IF(I2237<=L2237,\"A TIEMPO\",\"FUERA DE TIEMPO\"))))","v":"A TIEMPO"},{"$f":"IF(I2237=\"\",\"\",NETWORKDAYS([4]Hoja1!C2237+1,[4]Hoja1!P2237,DiasNOLaborables))","v":6},"",null,null,20]
[2227,20209050045642,43984,"WEB (MÓDULO DE SOLICITUD DE INFORMACIÓN HIDROMETEOROLÓGICA)","SOLICITUD DE INFORMACIÓN Y DOCUMENTOS","SOLICITUD DE INFORMACIÓN HIDROMETEOROLÓGICA","NO","GRUPO DE ATENCIÓN AL CIUDADANO",43999,null,null,{"$f":"IFERROR(WORKDAY(C2238,R2238,DiasNOLaborables),\"\")","v":44015},{"$f":"+IF(C2238=\"\",\"\",IF(I2238=\"\",\"\",(IF(I2238<=L2238,\"A TIEMPO\",\"FUERA DE TIEMPO\"))))","v":"A TIEMPO"},{"$f":"IF(I2238=\"\",\"\",NETWORKDAYS([4]Hoja1!C2238+1,[4]Hoja1!P2238,DiasNOLaborables))","v":6},"",null,null,20]
[2228,20209050045692,43984,"WEB (MÓDULO DE SOLICITUD DE INFORMACIÓN HIDROMETEOROLÓGICA)","SOLICITUD DE INFORMACIÓN Y DOCUMENTOS","SOLICITUD DE INFORMACIÓN HIDROMETEOROLÓGICA","NO","GRUPO DE ATENCIÓN AL CIUDADANO",43999,null,null,{"$f":"IFERROR(WORKDAY(C2239,R2239,DiasNOLaborables),\"\")","v":44015},{"$f":"+IF(C2239=\"\",\"\",IF(I2239=\"\",\"\",(IF(I2239<=L2239,\"A TIEMPO\",\"FUERA DE TIEMPO\"))))","v":"A TIEMPO"},{"$f":"IF(I2239=\"\",\"\",NETWORKDAYS([4]Hoja1!C2239+1,[4]Hoja1!P2239,DiasNOLaborables))","v":6},"",null,null,20]
[2229,20209050045732,43984,"WEB (MÓDULO DE SOLICITUD DE INFORMACIÓN HIDROMETEOROLÓGICA)","SOLICITUD DE INFORMACIÓN Y DOCUMENTOS","SOLICITUD DE INFORMACIÓN HIDROMETEOROLÓGICA","NO","GRUPO DE ATENCIÓN AL CIUDADANO",43999,null,null,{"$f":"IFERROR(WORKDAY(C2240,R2240,DiasNOLaborables),\"\")","v":44015},{"$f":"+IF(C2240=\"\",\"\",IF(I2240=\"\",\"\",(IF(I2240<=L2240,\"A TIEMPO\",\"FUERA DE TIEMPO\"))))","v":"A TIEMPO"},{"$f":"IF(I2240=\"\",\"\",NETWORKDAYS([4]Hoja1!C2240+1,[4]Hoja1!P2240,DiasNOLaborables))","v":6},"",null,null,20]
[2230,20209050045792,43984,"WEB (MÓDULO DE SOLICITUD DE INFORMACIÓN HIDROMETEOROLÓGICA)","SOLICITUD DE INFORMACIÓN Y DOCUMENTOS","SOLICITUD DE INFORMACIÓN HIDROMETEOROLÓGICA","NO","GRUPO DE ATENCIÓN AL CIUDADANO",43999,null,null,{"$f":"IFERROR(WORKDAY(C2241,R2241,DiasNOLaborables),\"\")","v":44015},{"$f":"+IF(C2241=\"\",\"\",IF(I2241=\"\",\"\",(IF(I2241<=L2241,\"A TIEMPO\",\"FUERA DE TIEMPO\"))))","v":"A TIEMPO"},{"$f":"IF(I2241=\"\",\"\",NETWORKDAYS([4]Hoja1!C2241+1,[4]Hoja1!P2241,DiasNOLaborables))","v":6},"",null,null,20]
[2231,20209050045892,43984,"WEB (MÓDULO DE SOLICITUD DE INFORMACIÓN HIDROMETEOROLÓGICA)","SOLICITUD DE INFORMACIÓN Y DOCUMENTOS","SOLICITUD DE INFORMACIÓN HIDROMETEOROLÓGICA","NO","GRUPO DE ATENCIÓN AL CIUDADANO",43999,null,null,{"$f":"IFERROR(WORKDAY(C2242,R2242,DiasNOLaborables),\"\")","v":44015},{"$f":"+IF(C2242=\"\",\"\",IF(I2242=\"\",\"\",(IF(I2242<=L2242,\"A TIEMPO\",\"FUERA DE TIEMPO\"))))","v":"A TIEMPO"},{"$f":"IF(I2242=\"\",\"\",NETWORKDAYS([4]Hoja1!C2242+1,[4]Hoja1!P2242,DiasNOLaborables))","v":6},"",null,null,20]
[2232,20209050045902,43984,"WEB (MÓDULO DE SOLICITUD DE INFORMACIÓN HIDROMETEOROLÓGICA)","SOLICITUD DE INFORMACIÓN Y DOCUMENTOS","SOLICITUD DE INFORMACIÓN HIDROMETEOROLÓGICA","NO","GRUPO DE ATENCIÓN AL CIUDADANO",43999,null,null,{"$f":"IFERROR(WORKDAY(C2243,R2243,DiasNOLaborables),\"\")","v":44015},{"$f":"+IF(C2243=\"\",\"\",IF(I2243=\"\",\"\",(IF(I2243<=L2243,\"A TIEMPO\",\"FUERA DE TIEMPO\"))))","v":"A TIEMPO"},{"$f":"IF(I2243=\"\",\"\",NETWORKDAYS([4]Hoja1!C2243+1,[4]Hoja1!P2243,DiasNOLaborables))","v":15},"",null,null,20]
[2233,20209050045912,43984,"WEB (MÓDULO DE SOLICITUD DE INFORMACIÓN HIDROMETEOROLÓGICA)","SOLICITUD DE INFORMACIÓN Y DOCUMENTOS","SOLICITUD DE INFORMACIÓN HIDROMETEOROLÓGICA","NO","GRUPO DE ATENCIÓN AL CIUDADANO",43999,null,null,{"$f":"IFERROR(WORKDAY(C2244,R2244,DiasNOLaborables),\"\")","v":44015},{"$f":"+IF(C2244=\"\",\"\",IF(I2244=\"\",\"\",(IF(I2244<=L2244,\"A TIEMPO\",\"FUERA DE TIEMPO\"))))","v":"A TIEMPO"},{"$f":"IF(I2244=\"\",\"\",NETWORKDAYS([4]Hoja1!C2244+1,[4]Hoja1!P2244,DiasNOLaborables))","v":1},"",null,null,20]
[2234,20209050045932,43984,"WEB (MÓDULO DE SOLICITUD DE INFORMACIÓN HIDROMETEOROLÓGICA)","SOLICITUD DE INFORMACIÓN Y DOCUMENTOS","SOLICITUD DE INFORMACIÓN HIDROMETEOROLÓGICA","NO","GRUPO DE ATENCIÓN AL CIUDADANO",43999,null,null,{"$f":"IFERROR(WORKDAY(C2245,R2245,DiasNOLaborables),\"\")","v":44015},{"$f":"+IF(C2245=\"\",\"\",IF(I2245=\"\",\"\",(IF(I2245<=L2245,\"A TIEMPO\",\"FUERA DE TIEMPO\"))))","v":"A TIEMPO"},{"$f":"IF(I2245=\"\",\"\",NETWORKDAYS([4]Hoja1!C2245+1,[4]Hoja1!P2245,DiasNOLaborables))","v":11},"",null,null,20]
[2235,20209050045632,43984,"MODULO CONTACTENOS","SOLICITUD DE INFORMACIÓN Y DOCUMENTOS","SOLICITUD DE INFORMACIÓN HIDROMETEOROLÓGICA","NO","GRUPO DE ATENCIÓN AL CIUDADANO",43994,null,null,{"$f":"IFERROR(WORKDAY(C2246,R2246,DiasNOLaborables),\"\")","v":44015},{"$f":"+IF(C2246=\"\",\"\",IF(I2246=\"\",\"\",(IF(I2246<=L2246,\"A TIEMPO\",\"FUERA DE TIEMPO\"))))","v":"A TIEMPO"},{"$f":"IF(I2246=\"\",\"\",NETWORKDAYS([4]Hoja1!C2246+1,[4]Hoja1!P2246,DiasNOLaborables))","v":6},"",null,null,{"$f":"IFERROR(VLOOKUP(E2246,$Z$50:$AA$63,2),\"\")","v":20}]
[2236,20209910041072,43984,"MODULO CONTACTENOS","SOLICITUD DE INFORMACIÓN Y DOCUMENTOS","SOLICITUD DE INFORMACIÓN HIDROMETEOROLÓGICA","NO","GRUPO DE ATENCIÓN AL CIUDADANO",43994,null,null,{"$f":"IFERROR(WORKDAY(C2247,R2247,DiasNOLaborables),\"\")","v":44015},{"$f":"+IF(C2247=\"\",\"\",IF(I2247=\"\",\"\",(IF(I2247<=L2247,\"A TIEMPO\",\"FUERA DE TIEMPO\"))))","v":"A TIEMPO"},{"$f":"IF(I2247=\"\",\"\",NETWORKDAYS([4]Hoja1!C2247+1,[4]Hoja1!P2247,DiasNOLaborables))","v":6},"",null,null,20]
[2237,20209050045952,43984,"MODULO CONTACTENOS","SOLICITUD DE INFORMACIÓN Y DOCUMENTOS","SOLICITUD DE INFORMACIÓN HIDROMETEOROLÓGICA","NO","GRUPO DE ATENCIÓN AL CIUDADANO",43994,null,null,{"$f":"IFERROR(WORKDAY(C2248,R2248,DiasNOLaborables),\"\")","v":44015},{"$f":"+IF(C2248=\"\",\"\",IF(I2248=\"\",\"\",(IF(I2248<=L2248,\"A TIEMPO\",\"FUERA DE TIEMPO\"))))","v":"A TIEMPO"},{"$f":"IF(I2248=\"\",\"\",NETWORKDAYS([4]Hoja1!C2248+1,[4]Hoja1!P2248,DiasNOLaborables))","v":5},"",null,null,20]
[2238,20209050045962,43984,"MODULO CONTACTENOS","SOLICITUD DE INFORMACIÓN Y DOCUMENTOS","SOLICITUD DE INFORMACIÓN HIDROMETEOROLÓGICA","NO","GRUPO DE ATENCIÓN AL CIUDADANO",43994,null,null,{"$f":"IFERROR(WORKDAY(C2249,R2249,DiasNOLaborables),\"\")","v":44015},{"$f":"+IF(C2249=\"\",\"\",IF(I2249=\"\",\"\",(IF(I2249<=L2249,\"A TIEMPO\",\"FUERA DE TIEMPO\"))))","v":"A TIEMPO"},{"$f":"IF(I2249=\"\",\"\",NETWORKDAYS([4]Hoja1!C2249+1,[4]Hoja1!P2249,DiasNOLaborables))","v":1},"",null,null,20]
[2239,20200602195407,43984,"WEB (MÓDULO DE SOLICITUD DE INFORMACIÓN HIDROMETEOROLÓGICA)","SOLICITUD DE INFORMACIÓN Y DOCUMENTOS","SOLICITUD DE INFORMACIÓN HIDROMETEOROLÓGICA","NO","GRUPO DE ATENCIÓN AL CIUDADANO",43998,null,null,{"$f":"IFERROR(WORKDAY(C2250,R2250,DiasNOLaborables),\"\")","v":44015},{"$f":"+IF(C2250=\"\",\"\",IF(I2250=\"\",\"\",(IF(I2250<=L2250,\"A TIEMPO\",\"FUERA DE TIEMPO\"))))","v":"A TIEMPO"},{"$f":"IF(I2250=\"\",\"\",NETWORKDAYS([4]Hoja1!C2250+1,[4]Hoja1!P2250,DiasNOLaborables))","v":1},"",null,null,20]
[2240,20200602193613,43984,"WEB (MÓDULO DE SOLICITUD DE INFORMACIÓN HIDROMETEOROLÓGICA)","SOLICITUD DE INFORMACIÓN Y DOCUMENTOS","SOLICITUD DE INFORMACIÓN HIDROMETEOROLÓGICA","NO","GRUPO DE ATENCIÓN AL CIUDADANO",43998,null,null,{"$f":"IFERROR(WORKDAY(C2251,R2251,DiasNOLaborables),\"\")","v":44015},{"$f":"+IF(C2251=\"\",\"\",IF(I2251=\"\",\"\",(IF(I2251<=L2251,\"A TIEMPO\",\"FUERA DE TIEMPO\"))))","v":"A TIEMPO"},{"$f":"IF(I2251=\"\",\"\",NETWORKDAYS([4]Hoja1!C2251+1,[4]Hoja1!P2251,DiasNOLaborables))","v":1},"",null,null,20]
[2241,20200602172117,43984,"WEB (MÓDULO DE SOLICITUD DE INFORMACIÓN HIDROMETEOROLÓGICA)","SOLICITUD DE INFORMACIÓN Y DOCUMENTOS","SOLICITUD DE INFORMACIÓN HIDROMETEOROLÓGICA","NO","GRUPO DE ATENCIÓN AL CIUDADANO",43998,null,null,{"$f":"IFERROR(WORKDAY(C2252,R2252,DiasNOLaborables),\"\")","v":44015},{"$f":"+IF(C2252=\"\",\"\",IF(I2252=\"\",\"\",(IF(I2252<=L2252,\"A TIEMPO\",\"FUERA DE TIEMPO\"))))","v":"A TIEMPO"},{"$f":"IF(I2252=\"\",\"\",NETWORKDAYS([4]Hoja1!C2252+1,[4]Hoja1!P2252,DiasNOLaborables))","v":-2},"",null,null,20]
[2242,20200602165600,43984,"WEB (MÓDULO DE SOLICITUD DE INFORMACIÓN HIDROMETEOROLÓGICA)","SOLICITUD DE INFORMACIÓN Y DOCUMENTOS","SOLICITUD DE INFORMACIÓN HIDROMETEOROLÓGICA","NO","GRUPO DE ATENCIÓN AL CIUDADANO",43998,null,null,{"$f":"IFERROR(WORKDAY(C2253,R2253,DiasNOLaborables),\"\")","v":44015},{"$f":"+IF(C2253=\"\",\"\",IF(I2253=\"\",\"\",(IF(I2253<=L2253,\"A TIEMPO\",\"FUERA DE TIEMPO\"))))","v":"A TIEMPO"},{"$f":"IF(I2253=\"\",\"\",NETWORKDAYS([4]Hoja1!C2253+1,[4]Hoja1!P2253,DiasNOLaborables))","v":3},"",null,null,20]
[2243,20200602153529,43984,"WEB (MÓDULO DE SOLICITUD DE INFORMACIÓN HIDROMETEOROLÓGICA)","SOLICITUD DE INFORMACIÓN Y DOCUMENTOS","SOLICITUD DE INFORMACIÓN HIDROMETEOROLÓGICA","NO","GRUPO DE ATENCIÓN AL CIUDADANO",43998,null,null,{"$f":"IFERROR(WORKDAY(C2254,R2254,DiasNOLaborables),\"\")","v":44015},{"$f":"+IF(C2254=\"\",\"\",IF(I2254=\"\",\"\",(IF(I2254<=L2254,\"A TIEMPO\",\"FUERA DE TIEMPO\"))))","v":"A TIEMPO"},{"$f":"IF(I2254=\"\",\"\",NETWORKDAYS([4]Hoja1!C2254+1,[4]Hoja1!P2254,DiasNOLaborables))","v":2},"",null,null,20]
[2244,20200602120226,43984,"WEB (MÓDULO DE SOLICITUD DE INFORMACIÓN HIDROMETEOROLÓGICA)","SOLICITUD DE INFORMACIÓN Y DOCUMENTOS","SOLICITUD DE INFORMACIÓN HIDROMETEOROLÓGICA","NO","GRUPO DE ATENCIÓN AL CIUDADANO",43998,null,null,{"$f":"IFERROR(WORKDAY(C2255,R2255,DiasNOLaborables),\"\")","v":44015},{"$f":"+IF(C2255=\"\",\"\",IF(I2255=\"\",\"\",(IF(I2255<=L2255,\"A TIEMPO\",\"FUERA DE TIEMPO\"))))","v":"A TIEMPO"},{"$f":"IF(I2255=\"\",\"\",NETWORKDAYS([4]Hoja1!C2255+1,[4]Hoja1!P2255,DiasNOLaborables))","v":6},"",null,null,20]
[2245,20200602115643,43984,"WEB (MÓDULO DE SOLICITUD DE INFORMACIÓN HIDROMETEOROLÓGICA)","SOLICITUD DE INFORMACIÓN Y DOCUMENTOS","SOLICITUD DE INFORMACIÓN HIDROMETEOROLÓGICA","NO","GRUPO DE ATENCIÓN AL CIUDADANO",43998,null,null,{"$f":"IFERROR(WORKDAY(C2256,R2256,DiasNOLaborables),\"\")","v":44015},{"$f":"+IF(C2256=\"\",\"\",IF(I2256=\"\",\"\",(IF(I2256<=L2256,\"A TIEMPO\",\"FUERA DE TIEMPO\"))))","v":"A TIEMPO"},{"$f":"IF(I2256=\"\",\"\",NETWORKDAYS([4]Hoja1!C2256+1,[4]Hoja1!P2256,DiasNOLaborables))","v":9},"",null,null,20]
[2246,20200602115307,43984,"WEB (MÓDULO DE SOLICITUD DE INFORMACIÓN HIDROMETEOROLÓGICA)","SOLICITUD DE INFORMACIÓN Y DOCUMENTOS","SOLICITUD DE INFORMACIÓN HIDROMETEOROLÓGICA","NO","GRUPO DE ATENCIÓN AL CIUDADANO",43998,null,null,{"$f":"IFERROR(WORKDAY(C2257,R2257,DiasNOLaborables),\"\")","v":44015},{"$f":"+IF(C2257=\"\",\"\",IF(I2257=\"\",\"\",(IF(I2257<=L2257,\"A TIEMPO\",\"FUERA DE TIEMPO\"))))","v":"A TIEMPO"},{"$f":"IF(I2257=\"\",\"\",NETWORKDAYS([4]Hoja1!C2257+1,[4]Hoja1!P2257,DiasNOLaborables))","v":5},"",null,null,20]
[2247,20209050045752,43984,"CORREO ELECTRÓNICO","SOLICITUD DE INFORMACIÓN Y DOCUMENTOS","SOLICITUD DE INFORMACIÓN HIDROMETEOROLÓGICA","NO","GRUPO DE ATENCIÓN AL CIUDADANO",43985,null,null,{"$f":"IFERROR(WORKDAY(C2258,R2258,DiasNOLaborables),\"\")","v":44015},{"$f":"+IF(C2258=\"\",\"\",IF(I2258=\"\",\"\",(IF(I2258<=L2258,\"A TIEMPO\",\"FUERA DE TIEMPO\"))))","v":"A TIEMPO"},{"$f":"IF(I2258=\"\",\"\",NETWORKDAYS([4]Hoja1!C2258+1,[4]Hoja1!P2258,DiasNOLaborables))","v":2},"",null,null,20]
[2248,20209050045712,43984,"CORREO ELECTRÓNICO","SOLICITUD DE INFORMACIÓN Y DOCUMENTOS","SOLICITUD DE INFORMACIÓN HIDROMETEOROLÓGICA","NO","GRUPO DE ATENCIÓN AL CIUDADANO",43988,null,null,{"$f":"IFERROR(WORKDAY(C2259,R2259,DiasNOLaborables),\"\")","v":44015},{"$f":"+IF(C2259=\"\",\"\",IF(I2259=\"\",\"\",(IF(I2259<=L2259,\"A TIEMPO\",\"FUERA DE TIEMPO\"))))","v":"A TIEMPO"},{"$f":"IF(I2259=\"\",\"\",NETWORKDAYS([4]Hoja1!C2259+1,[4]Hoja1!P2259,DiasNOLaborables))","v":2},"",null,null,20]
[2249,20209050045722,43984,"CORREO ELECTRÓNICO","SOLICITUD DE INFORMACIÓN Y DOCUMENTOS","SOLICITUD DE INFORMACIÓN HIDROMETEOROLÓGICA","NO","GRUPO DE ATENCIÓN AL CIUDADANO",43988,null,null,{"$f":"IFERROR(WORKDAY(C2260,R2260,DiasNOLaborables),\"\")","v":44015},{"$f":"+IF(C2260=\"\",\"\",IF(I2260=\"\",\"\",(IF(I2260<=L2260,\"A TIEMPO\",\"FUERA DE TIEMPO\"))))","v":"A TIEMPO"},{"$f":"IF(I2260=\"\",\"\",NETWORKDAYS([4]Hoja1!C2260+1,[4]Hoja1!P2260,DiasNOLaborables))","v":5},"",null,null,20]
[2250,20209050045762,43984,"CORREO ELECTRÓNICO","SOLICITUD DE INFORMACIÓN Y DOCUMENTOS","SOLICITUD DE INFORMACIÓN HIDROMETEOROLÓGICA","NO","GRUPO DE ATENCIÓN AL CIUDADANO",43988,null,null,{"$f":"IFERROR(WORKDAY(C2261,R2261,DiasNOLaborables),\"\")","v":44015},{"$f":"+IF(C2261=\"\",\"\",IF(I2261=\"\",\"\",(IF(I2261<=L2261,\"A TIEMPO\",\"FUERA DE TIEMPO\"))))","v":"A TIEMPO"},{"$f":"IF(I2261=\"\",\"\",NETWORKDAYS([4]Hoja1!C2261+1,[4]Hoja1!P2261,DiasNOLaborables))","v":1},"",null,null,20]
[2251,20209050045772,43984,"CORREO ELECTRÓNICO","SOLICITUD DE INFORMACIÓN Y DOCUMENTOS","SOLICITUD DE INFORMACIÓN HIDROMETEOROLÓGICA","NO","GRUPO DE ATENCIÓN AL CIUDADANO",43990,null,null,{"$f":"IFERROR(WORKDAY(C2262,R2262,DiasNOLaborables),\"\")","v":44015},{"$f":"+IF(C2262=\"\",\"\",IF(I2262=\"\",\"\",(IF(I2262<=L2262,\"A TIEMPO\",\"FUERA DE TIEMPO\"))))","v":"A TIEMPO"},{"$f":"IF(I2262=\"\",\"\",NETWORKDAYS([4]Hoja1!C2262+1,[4]Hoja1!P2262,DiasNOLaborables))","v":1},"",null,null,20]
[2252,20209050045982,43984,"CORREO ELECTRÓNICO","SOLICITUD DE INFORMACIÓN Y DOCUMENTOS","SOLICITUD DE INFORMACIÓN HIDROMETEOROLÓGICA","NO","GRUPO DE ATENCIÓN AL CIUDADANO",43990,null,null,{"$f":"IFERROR(WORKDAY(C2263,R2263,DiasNOLaborables),\"\")","v":44015},{"$f":"+IF(C2263=\"\",\"\",IF(I2263=\"\",\"\",(IF(I2263<=L2263,\"A TIEMPO\",\"FUERA DE TIEMPO\"))))","v":"A TIEMPO"},{"$f":"IF(I2263=\"\",\"\",NETWORKDAYS([4]Hoja1!C2263+1,[4]Hoja1!P2263,DiasNOLaborables))","v":2},"",null,null,20]
[2253,20209050046022,43984,"CORREO ELECTRÓNICO","SOLICITUD DE INFORMACIÓN Y DOCUMENTOS","SOLICITUD DE INFORMACIÓN HIDROMETEOROLÓGICA","NO","GRUPO DE ATENCIÓN AL CIUDADANO",43990,null,null,{"$f":"IFERROR(WORKDAY(C2264,R2264,DiasNOLaborables),\"\")","v":44015},{"$f":"+IF(C2264=\"\",\"\",IF(I2264=\"\",\"\",(IF(I2264<=L2264,\"A TIEMPO\",\"FUERA DE TIEMPO\"))))","v":"A TIEMPO"},{"$f":"IF(I2264=\"\",\"\",NETWORKDAYS([4]Hoja1!C2264+1,[4]Hoja1!P2264,DiasNOLaborables))","v":6},"",null,null,20]
[2254,20209050045682,43984,"CORREO ELECTRÓNICO","SOLICITUD DE INFORMACIÓN Y DOCUMENTOS","ADMINISTRATIVA","SI","GRUPO DE ADMINISTRACIÓN Y DESARROLLO DEL TALENTO HUMANO",43984,null,null,{"$f":"IFERROR(WORKDAY(C2265,R2265,DiasNOLaborables),\"\")","v":44015},{"$f":"+IF(C2265=\"\",\"\",IF(I2265=\"\",\"\",(IF(I2265<=L2265,\"A TIEMPO\",\"FUERA DE TIEMPO\"))))","v":"A TIEMPO"},{"$f":"IF(I2265=\"\",\"\",NETWORKDAYS([4]Hoja1!C2265+1,[4]Hoja1!P2265,DiasNOLaborables))","v":8},"",null,null,20]
[2255,20209050046042,43984,"CORREO ELECTRÓNICO","SOLICITUD DE INFORMACIÓN Y DOCUMENTOS","SOLICITUD DE INFORMACIÓN HIDROMETEOROLÓGICA","NO","GRUPO DE ATENCIÓN AL CIUDADANO",43990,null,null,{"$f":"IFERROR(WORKDAY(C2266,R2266,DiasNOLaborables),\"\")","v":44015},{"$f":"+IF(C2266=\"\",\"\",IF(I2266=\"\",\"\",(IF(I2266<=L2266,\"A TIEMPO\",\"FUERA DE TIEMPO\"))))","v":"A TIEMPO"},{"$f":"IF(I2266=\"\",\"\",NETWORKDAYS([4]Hoja1!C2266+1,[4]Hoja1!P2266,DiasNOLaborables))","v":8},"",null,null,20]
[2256,20209050045612,43984,"CORREO ELECTRÓNICO","SOLICITUD DE INFORMACIÓN Y DOCUMENTOS","ADMINISTRATIVA","SI","GRUPO DE ADMINISTRACIÓN Y DESARROLLO DEL TALENTO HUMANO",43987,null,null,{"$f":"IFERROR(WORKDAY(C2267,R2267,DiasNOLaborables),\"\")","v":44015},{"$f":"+IF(C2267=\"\",\"\",IF(I2267=\"\",\"\",(IF(I2267<=L2267,\"A TIEMPO\",\"FUERA DE TIEMPO\"))))","v":"A TIEMPO"},{"$f":"IF(I2267=\"\",\"\",NETWORKDAYS([4]Hoja1!C2267+1,[4]Hoja1!P2267,DiasNOLaborables))","v":8},"",null,null,20]
[2257,20209050045702,43984,"CORREO ELECTRÓNICO","SOLICITUD DE INFORMACIÓN Y DOCUMENTOS","SOLICITUD DE INFORMACIÓN HIDROMETEOROLÓGICA","SI","OFICINA DE INFORMÁTICA",43987,null,null,{"$f":"IFERROR(WORKDAY(C2268,R2268,DiasNOLaborables),\"\")","v":44015},{"$f":"+IF(C2268=\"\",\"\",IF(I2268=\"\",\"\",(IF(I2268<=L2268,\"A TIEMPO\",\"FUERA DE TIEMPO\"))))","v":"A TIEMPO"},{"$f":"IF(I2268=\"\",\"\",NETWORKDAYS([4]Hoja1!C2268+1,[4]Hoja1!P2268,DiasNOLaborables))","v":6},"",null,null,20]
[2258,20209050045742,43984,"CORREO ELECTRÓNICO","SOLICITUD DE INFORMACIÓN Y DOCUMENTOS","REGISTROS AMBIENTALES","SI","SUBDIRECCIÓN DE ESTUDIOS AMBIENTALES",43985,null,null,{"$f":"IFERROR(WORKDAY(C2269,R2269,DiasNOLaborables),\"\")","v":44015},{"$f":"+IF(C2269=\"\",\"\",IF(I2269=\"\",\"\",(IF(I2269<=L2269,\"A TIEMPO\",\"FUERA DE TIEMPO\"))))","v":"A TIEMPO"},{"$f":"IF(I2269=\"\",\"\",NETWORKDAYS([4]Hoja1!C2269+1,[4]Hoja1!P2269,DiasNOLaborables))","v":6},"",null,null,20]
[2259,20209050045782,43984,"CORREO ELECTRÓNICO","SOLICITUD DE INFORMACIÓN Y DOCUMENTOS","SOLICITUD DE INFORMACIÓN HIDROMETEOROLÓGICA","SI","SUBDIRECCIÓN DE METEOROLOGÍA",43986,null,null,{"$f":"IFERROR(WORKDAY(C2270,R2270,DiasNOLaborables),\"\")","v":44015},{"$f":"+IF(C2270=\"\",\"\",IF(I2270=\"\",\"\",(IF(I2270<=L2270,\"A TIEMPO\",\"FUERA DE TIEMPO\"))))","v":"A TIEMPO"},{"$f":"IF(I2270=\"\",\"\",NETWORKDAYS([4]Hoja1!C2270+1,[4]Hoja1!P2270,DiasNOLaborables))","v":7},"",null,null,20]
[2260,20209050045812,43984,"CORREO ELECTRÓNICO","SOLICITUD DE INFORMACIÓN Y DOCUMENTOS","SOLICITUD DE INFORMACIÓN HIDROMETEOROLÓGICA","SI","SUBDIRECCIÓN DE HIDROLOGÍA",43999,null,null,{"$f":"IFERROR(WORKDAY(C2271,R2271,DiasNOLaborables),\"\")","v":44015},{"$f":"+IF(C2271=\"\",\"\",IF(I2271=\"\",\"\",(IF(I2271<=L2271,\"A TIEMPO\",\"FUERA DE TIEMPO\"))))","v":"A TIEMPO"},{"$f":"IF(I2271=\"\",\"\",NETWORKDAYS([4]Hoja1!C2271+1,[4]Hoja1!P2271,DiasNOLaborables))","v":24},"",null,null,20]
[2261,20209050045822,43984,"CORREO ELECTRÓNICO","CERTIFICACIONES DE TIEMPO, CLIMA Y EVENTOS HIDROLÓGICOS","CERTIFICACIONES DE TIEMPO Y CLIMA","SI","SUBDIRECCIÓN DE METEOROLOGÍA",44008,null,null,{"$f":"IFERROR(WORKDAY(C2272,R2272,DiasNOLaborables),\"\")","v":44029},{"$f":"+IF(C2272=\"\",\"\",IF(I2272=\"\",\"\",(IF(I2272<=L2272,\"A TIEMPO\",\"FUERA DE TIEMPO\"))))","v":"A TIEMPO"},{"$f":"IF(I2272=\"\",\"\",NETWORKDAYS([4]Hoja1!C2272+1,[4]Hoja1!P2272,DiasNOLaborables))","v":3},"",null,null,30]
[2262,20209050045832,43984,"CORREO ELECTRÓNICO","CERTIFICACIONES DE TIEMPO, CLIMA Y EVENTOS HIDROLÓGICOS","CERTIFICACIONES DE TIEMPO Y CLIMA","SI","SUBDIRECCIÓN DE METEOROLOGÍA",43993,null,null,{"$f":"IFERROR(WORKDAY(C2273,R2273,DiasNOLaborables),\"\")","v":44029},{"$f":"+IF(C2273=\"\",\"\",IF(I2273=\"\",\"\",(IF(I2273<=L2273,\"A TIEMPO\",\"FUERA DE TIEMPO\"))))","v":"A TIEMPO"},{"$f":"IF(I2273=\"\",\"\",NETWORKDAYS([4]Hoja1!C2273+1,[4]Hoja1!P2273,DiasNOLaborables))","v":-1},"",null,null,30]
[2263,20209050045852,43984,"CORREO ELECTRÓNICO","CERTIFICACIONES DE TIEMPO, CLIMA Y EVENTOS HIDROLÓGICOS","CERTIFICACIONES DE TIEMPO Y CLIMA","SI","SUBDIRECCIÓN DE METEOROLOGÍA",43994,null,null,{"$f":"IFERROR(WORKDAY(C2274,R2274,DiasNOLaborables),\"\")","v":44029},{"$f":"+IF(C2274=\"\",\"\",IF(I2274=\"\",\"\",(IF(I2274<=L2274,\"A TIEMPO\",\"FUERA DE TIEMPO\"))))","v":"A TIEMPO"},{"$f":"IF(I2274=\"\",\"\",NETWORKDAYS([4]Hoja1!C2274+1,[4]Hoja1!P2274,DiasNOLaborables))","v":3},"",null,null,30]
[2264,20209050045862,43984,"CORREO ELECTRÓNICO","CERTIFICACIONES DE TIEMPO, CLIMA Y EVENTOS HIDROLÓGICOS","CERTIFICACIONES DE TIEMPO Y CLIMA","SI","SUBDIRECCIÓN DE METEOROLOGÍA",43994,null,null,{"$f":"IFERROR(WORKDAY(C2275,R2275,DiasNOLaborables),\"\")","v":44029},{"$f":"+IF(C2275=\"\",\"\",IF(I2275=\"\",\"\",(IF(I2275<=L2275,\"A TIEMPO\",\"FUERA DE TIEMPO\"))))","v":"A TIEMPO"},{"$f":"IF(I2275=\"\",\"\",NETWORKDAYS([4]Hoja1!C2275+1,[4]Hoja1!P2275,DiasNOLaborables))","v":13},"",null,null,30]
[2265,20209050045872,43984,"CORREO ELECTRÓNICO","CERTIFICACIONES DE TIEMPO, CLIMA Y EVENTOS HIDROLÓGICOS","CERTIFICACIONES DE TIEMPO Y CLIMA","SI","SUBDIRECCIÓN DE METEOROLOGÍA",43994,null,null,{"$f":"IFERROR(WORKDAY(C2276,R2276,DiasNOLaborables),\"\")","v":44029},{"$f":"+IF(C2276=\"\",\"\",IF(I2276=\"\",\"\",(IF(I2276<=L2276,\"A TIEMPO\",\"FUERA DE TIEMPO\"))))","v":"A TIEMPO"},{"$f":"IF(I2276=\"\",\"\",NETWORKDAYS([4]Hoja1!C2276+1,[4]Hoja1!P2276,DiasNOLaborables))","v":-1},"",null,null,30]
[2266,20209050045882,43984,"CORREO ELECTRÓNICO","SOLICITUD DE INFORMACIÓN Y DOCUMENTOS","SOLICITUD DE INFORMACIÓN HIDROMETEOROLÓGICA","SI","SUBDIRECCIÓN DE HIDROLOGÍA",43999,null,null,{"$f":"IFERROR(WORKDAY(C2277,R2277,DiasNOLaborables),\"\")","v":44015},{"$f":"+IF(C2277=\"\",\"\",IF(I2277=\"\",\"\",(IF(I2277<=L2277,\"A TIEMPO\",\"FUERA DE TIEMPO\"))))","v":"A TIEMPO"},{"$f":"IF(I2277=\"\",\"\",NETWORKDAYS([4]Hoja1!C2277+1,[4]Hoja1!P2277,DiasNOLaborables))","v":5},"",null,null,20]
[2267,20209050045662,43984,"CORREO ELECTRÓNICO","CERTIFICACIONES DE TIEMPO, CLIMA Y EVENTOS HIDROLÓGICOS","CERTIFICACIONES DE TIEMPO Y CLIMA","SI","SUBDIRECCIÓN DE METEOROLOGÍA",43992,null,null,{"$f":"IFERROR(WORKDAY(C2278,R2278,DiasNOLaborables),\"\")","v":44029},{"$f":"+IF(C2278=\"\",\"\",IF(I2278=\"\",\"\",(IF(I2278<=L2278,\"A TIEMPO\",\"FUERA DE TIEMPO\"))))","v":"A TIEMPO"},{"$f":"IF(I2278=\"\",\"\",NETWORKDAYS([4]Hoja1!C2278+1,[4]Hoja1!P2278,DiasNOLaborables))","v":7},"",null,null,30]
[2268,20209050045842,43984,"CORREO ELECTRÓNICO","SOLICITUD DE INFORMACIÓN Y DOCUMENTOS","ADMINISTRATIVA","SI","GRUPO DE TESORERÍA",43990,null,null,{"$f":"IFERROR(WORKDAY(C2279,R2279,DiasNOLaborables),\"\")","v":44015},{"$f":"+IF(C2279=\"\",\"\",IF(I2279=\"\",\"\",(IF(I2279<=L2279,\"A TIEMPO\",\"FUERA DE TIEMPO\"))))","v":"A TIEMPO"},{"$f":"IF(I2279=\"\",\"\",NETWORKDAYS([4]Hoja1!C2279+1,[4]Hoja1!P2279,DiasNOLaborables))","v":3},"",null,null,20]
[2269,20209050045802,43984,"CORREO ELECTRÓNICO","SOLICITUD DE INFORMACIÓN Y DOCUMENTOS","SOLICITUD DE INFORMACIÓN HIDROMETEOROLÓGICA","SI","OFICINA DE INFORMÁTICA",43987,null,null,{"$f":"IFERROR(WORKDAY(C2280,R2280,DiasNOLaborables),\"\")","v":44015},{"$f":"+IF(C2280=\"\",\"\",IF(I2280=\"\",\"\",(IF(I2280<=L2280,\"A TIEMPO\",\"FUERA DE TIEMPO\"))))","v":"A TIEMPO"},{"$f":"IF(I2280=\"\",\"\",NETWORKDAYS([4]Hoja1!C2280+1,[4]Hoja1!P2280,DiasNOLaborables))","v":3},"",null,null,20]
[2270,20209050045922,43984,"CORREO ELECTRÓNICO","SOLICITUD DE INFORMACIÓN Y DOCUMENTOS","REGISTROS AMBIENTALES","SI","SUBDIRECCIÓN DE ESTUDIOS AMBIENTALES",43994,null,null,{"$f":"IFERROR(WORKDAY(C2281,R2281,DiasNOLaborables),\"\")","v":44015},{"$f":"+IF(C2281=\"\",\"\",IF(I2281=\"\",\"\",(IF(I2281<=L2281,\"A TIEMPO\",\"FUERA DE TIEMPO\"))))","v":"A TIEMPO"},{"$f":"IF(I2281=\"\",\"\",NETWORKDAYS([4]Hoja1!C2281+1,[4]Hoja1!P2281,DiasNOLaborables))","v":3},"",null,null,20]
[2271,20209050045942,43984,"CORREO ELECTRÓNICO","SOLICITUD DE INFORMACIÓN Y DOCUMENTOS","REGISTROS AMBIENTALES","SI","SUBDIRECCIÓN DE ESTUDIOS AMBIENTALES",44012,null,null,{"$f":"IFERROR(WORKDAY(C2282,R2282,DiasNOLaborables),\"\")","v":44015},{"$f":"+IF(C2282=\"\",\"\",IF(I2282=\"\",\"\",(IF(I2282<=L2282,\"A TIEMPO\",\"FUERA DE TIEMPO\"))))","v":"A TIEMPO"},{"$f":"IF(I2282=\"\",\"\",NETWORKDAYS([4]Hoja1!C2282+1,[4]Hoja1!P2282,DiasNOLaborables))","v":5},"",null,null,20]
[2272,20209050045972,43984,"CORREO ELECTRÓNICO","SOLICITUD DE INFORMACIÓN Y DOCUMENTOS","REGISTROS AMBIENTALES","SI","SUBDIRECCIÓN DE ESTUDIOS AMBIENTALES",43984,null,null,{"$f":"IFERROR(WORKDAY(C2283,R2283,DiasNOLaborables),\"\")","v":44015},{"$f":"+IF(C2283=\"\",\"\",IF(I2283=\"\",\"\",(IF(I2283<=L2283,\"A TIEMPO\",\"FUERA DE TIEMPO\"))))","v":"A TIEMPO"},{"$f":"IF(I2283=\"\",\"\",NETWORKDAYS([4]Hoja1!C2283+1,[4]Hoja1!P2283,DiasNOLaborables))","v":2},"",null,null,20]
[2273,20209050046062,43985,"MODULO CONTACTENOS","CERTIFICACIONES DE TIEMPO, CLIMA Y EVENTOS HIDROLÓGICOS","CERTIFICACIONES DE TIEMPO Y CLIMA","SI","SUBDIRECCIÓN DE METEOROLOGÍA",43992,null,null,{"$f":"IFERROR(WORKDAY(C2284,R2284,DiasNOLaborables),\"\")","v":44033},{"$f":"+IF(C2284=\"\",\"\",IF(I2284=\"\",\"\",(IF(I2284<=L2284,\"A TIEMPO\",\"FUERA DE TIEMPO\"))))","v":"A TIEMPO"},{"$f":"IF(I2284=\"\",\"\",NETWORKDAYS([4]Hoja1!C2284+1,[4]Hoja1!P2284,DiasNOLaborables))","v":3},"",null,null,30]
[2274,20209050046112,43985,"CORREO ELECTRÓNICO","SOLICITUD DE INFORMACIÓN Y DOCUMENTOS","ADMINISTRATIVA","SI","GRUPO DE ADMINISTRACIÓN Y DESARROLLO DEL TALENTO HUMANO",43990,null,null,{"$f":"IFERROR(WORKDAY(C2285,R2285,DiasNOLaborables),\"\")","v":44018},{"$f":"+IF(C2285=\"\",\"\",IF(I2285=\"\",\"\",(IF(I2285<=L2285,\"A TIEMPO\",\"FUERA DE TIEMPO\"))))","v":"A TIEMPO"},{"$f":"IF(I2285=\"\",\"\",NETWORKDAYS([4]Hoja1!C2285+1,[4]Hoja1!P2285,DiasNOLaborables))","v":5},"",null,null,20]
[2275,20209050046132,43985,"CORREO ELECTRÓNICO","SOLICITUD DE INFORMACIÓN Y DOCUMENTOS","ADMINISTRATIVA","SI","GRUPO DE ADMINISTRACIÓN Y DESARROLLO DEL TALENTO HUMANO",43985,null,null,{"$f":"IFERROR(WORKDAY(C2286,R2286,DiasNOLaborables),\"\")","v":44018},{"$f":"+IF(C2286=\"\",\"\",IF(I2286=\"\",\"\",(IF(I2286<=L2286,\"A TIEMPO\",\"FUERA DE TIEMPO\"))))","v":"A TIEMPO"},{"$f":"IF(I2286=\"\",\"\",NETWORKDAYS([4]Hoja1!C2286+1,[4]Hoja1!P2286,DiasNOLaborables))","v":5},"",null,null,20]
[2276,20209050046142,43985,"CORREO ELECTRÓNICO","SOLICITUD DE INFORMACIÓN Y DOCUMENTOS","SOLICITUD DE INFORMACIÓN HIDROMETEOROLÓGICA","SI","OFICINA DE INFORMÁTICA",43993,null,null,{"$f":"IFERROR(WORKDAY(C2287,R2287,DiasNOLaborables),\"\")","v":44018},{"$f":"+IF(C2287=\"\",\"\",IF(I2287=\"\",\"\",(IF(I2287<=L2287,\"A TIEMPO\",\"FUERA DE TIEMPO\"))))","v":"A TIEMPO"},{"$f":"IF(I2287=\"\",\"\",NETWORKDAYS([4]Hoja1!C2287+1,[4]Hoja1!P2287,DiasNOLaborables))","v":3},"",null,null,20]
[2277,20209050046162,43985,"CORREO ELECTRÓNICO","SOLICITUD DE INFORMACIÓN Y DOCUMENTOS","SOLICITUD DE INFORMACIÓN HIDROMETEOROLÓGICA","SI","SUBDIRECCIÓN DE ESTUDIOS AMBIENTALES",43987,null,null,{"$f":"IFERROR(WORKDAY(C2288,R2288,DiasNOLaborables),\"\")","v":44018},{"$f":"+IF(C2288=\"\",\"\",IF(I2288=\"\",\"\",(IF(I2288<=L2288,\"A TIEMPO\",\"FUERA DE TIEMPO\"))))","v":"A TIEMPO"},{"$f":"IF(I2288=\"\",\"\",NETWORKDAYS([4]Hoja1!C2288+1,[4]Hoja1!P2288,DiasNOLaborables))","v":2},"",null,null,20]
[2278,20209050046172,43985,"CORREO ELECTRÓNICO","SOLICITUD DE INFORMACIÓN Y DOCUMENTOS","ADMINISTRATIVA","SI","GRUPO DE ADMINISTRACIÓN Y DESARROLLO DEL TALENTO HUMANO",43985,null,null,{"$f":"IFERROR(WORKDAY(C2289,R2289,DiasNOLaborables),\"\")","v":44018},{"$f":"+IF(C2289=\"\",\"\",IF(I2289=\"\",\"\",(IF(I2289<=L2289,\"A TIEMPO\",\"FUERA DE TIEMPO\"))))","v":"A TIEMPO"},{"$f":"IF(I2289=\"\",\"\",NETWORKDAYS([4]Hoja1!C2289+1,[4]Hoja1!P2289,DiasNOLaborables))","v":7},"",null,null,20]
[{"$f":"IF(B2288<>\"\",A2289+1,\"\")","v":2279},20209050046182,43985,"CORREO ELECTRÓNICO","SOLICITUD DE INFORMACIÓN Y DOCUMENTOS","ADMINISTRATIVA","SI","GRUPO DE ADMINISTRACIÓN Y DESARROLLO DEL TALENTO HUMANO",43985,null,null,{"$f":"IFERROR(WORKDAY(C2290,R2290,DiasNOLaborables),\"\")","v":44018},{"$f":"+IF(C2290=\"\",\"\",IF(I2290=\"\",\"\",(IF(I2290<=L2290,\"A TIEMPO\",\"FUERA DE TIEMPO\"))))","v":"A TIEMPO"},{"$f":"IF(I2290=\"\",\"\",NETWORKDAYS([4]Hoja1!C2290+1,[4]Hoja1!P2290,DiasNOLaborables))","v":5},"",null,null,20]
[2280,20209050046192,43985,"CORREO ELECTRÓNICO","SOLICITUD DE INFORMACIÓN Y DOCUMENTOS","REGISTROS AMBIENTALES","SI","SUBDIRECCIÓN DE ESTUDIOS AMBIENTALES",43985,null,null,{"$f":"IFERROR(WORKDAY(C2291,R2291,DiasNOLaborables),\"\")","v":44018},{"$f":"+IF(C2291=\"\",\"\",IF(I2291=\"\",\"\",(IF(I2291<=L2291,\"A TIEMPO\",\"FUERA DE TIEMPO\"))))","v":"A TIEMPO"},{"$f":"IF(I2291=\"\",\"\",NETWORKDAYS([4]Hoja1!C2291+1,[4]Hoja1!P2291,DiasNOLaborables))","v":6},"",null,null,20]
[2281,20209050046222,43985,"CORREO ELECTRÓNICO","SOLICITUD DE INFORMACIÓN Y DOCUMENTOS","SOLICITUD DE INFORMACIÓN HIDROMETEOROLÓGICA","SI","SUBDIRECCIÓN DE ESTUDIOS AMBIENTALES",43985,null,null,{"$f":"IFERROR(WORKDAY(C2292,R2292,DiasNOLaborables),\"\")","v":44018},{"$f":"+IF(C2292=\"\",\"\",IF(I2292=\"\",\"\",(IF(I2292<=L2292,\"A TIEMPO\",\"FUERA DE TIEMPO\"))))","v":"A TIEMPO"},{"$f":"IF(I2292=\"\",\"\",NETWORKDAYS([4]Hoja1!C2292+1,[4]Hoja1!P2292,DiasNOLaborables))","v":6},{"$f":"IF(NETWORKDAYS(L2292+1,I2292,DiasNOLaborables)<=0,\"\",NETWORKDAYS(L2292+1,I2292,DiasNOLaborables))","v":""},null,null,20]
[2282,20209050046272,43985,"MODULO CONTACTENOS","SOLICITUD DE INFORMACIÓN Y DOCUMENTOS","ADMINISTRATIVA","SI","GRUPO DE ADMINISTRACIÓN Y DESARROLLO DEL TALENTO HUMANO",43994,null,null,{"$f":"IFERROR(WORKDAY(C2293,R2293,DiasNOLaborables),\"\")","v":44018},{"$f":"+IF(C2293=\"\",\"\",IF(I2293=\"\",\"\",(IF(I2293<=L2293,\"A TIEMPO\",\"FUERA DE TIEMPO\"))))","v":"A TIEMPO"},{"$f":"IF(I2293=\"\",\"\",NETWORKDAYS([4]Hoja1!C2293+1,[4]Hoja1!P2293,DiasNOLaborables))","v":6},"",null,null,20]
[2283,20209050046302,43985,"MODULO CONTACTENOS","SOLICITUD DE INFORMACIÓN Y DOCUMENTOS","REGISTROS AMBIENTALES","SI","SUBDIRECCIÓN DE ESTUDIOS AMBIENTALES",43991,null,null,{"$f":"IFERROR(WORKDAY(C2294,R2294,DiasNOLaborables),\"\")","v":44018},{"$f":"+IF(C2294=\"\",\"\",IF(I2294=\"\",\"\",(IF(I2294<=L2294,\"A TIEMPO\",\"FUERA DE TIEMPO\"))))","v":"A TIEMPO"},{"$f":"IF(I2294=\"\",\"\",NETWORKDAYS([4]Hoja1!C2294+1,[4]Hoja1!P2294,DiasNOLaborables))","v":6},"",null,null,20]
[2284,20209050046402,43985,"CORREO ELECTRÓNICO","SOLICITUD DE INFORMACIÓN Y DOCUMENTOS","REGISTROS AMBIENTALES","SI","SUBDIRECCIÓN DE ESTUDIOS AMBIENTALES",43985,null,null,{"$f":"IFERROR(WORKDAY(C2295,R2295,DiasNOLaborables),\"\")","v":44018},{"$f":"+IF(C2295=\"\",\"\",IF(I2295=\"\",\"\",(IF(I2295<=L2295,\"A TIEMPO\",\"FUERA DE TIEMPO\"))))","v":"A TIEMPO"},{"$f":"IF(I2295=\"\",\"\",NETWORKDAYS([4]Hoja1!C2295+1,[4]Hoja1!P2295,DiasNOLaborables))","v":6},"",null,null,20]
[2285,20209050046442,43985,"CORREO ELECTRÓNICO","CERTIFICACIONES DE TIEMPO, CLIMA Y EVENTOS HIDROLÓGICOS","CERTIFICACIONES DE TIEMPO Y CLIMA","SI","SUBDIRECCIÓN DE METEOROLOGÍA",43994,null,null,{"$f":"IFERROR(WORKDAY(C2296,R2296,DiasNOLaborables),\"\")","v":44033},{"$f":"+IF(C2296=\"\",\"\",IF(I2296=\"\",\"\",(IF(I2296<=L2296,\"A TIEMPO\",\"FUERA DE TIEMPO\"))))","v":"A TIEMPO"},{"$f":"IF(I2296=\"\",\"\",NETWORKDAYS([4]Hoja1!C2296+1,[4]Hoja1!P2296,DiasNOLaborables))","v":6},"",null,null,30]
[2286,20209050046452,43985,"CORREO ELECTRÓNICO","SOLICITUD DE INFORMACIÓN Y DOCUMENTOS","SOLICITUD DE INFORMACIÓN HIDROMETEOROLÓGICA","SI","SUBDIRECCIÓN DE HIDROLOGÍA",43992,null,null,{"$f":"IFERROR(WORKDAY(C2297,R2297,DiasNOLaborables),\"\")","v":44018},{"$f":"+IF(C2297=\"\",\"\",IF(I2297=\"\",\"\",(IF(I2297<=L2297,\"A TIEMPO\",\"FUERA DE TIEMPO\"))))","v":"A TIEMPO"},{"$f":"IF(I2297=\"\",\"\",NETWORKDAYS([4]Hoja1!C2297+1,[4]Hoja1!P2297,DiasNOLaborables))","v":6},"",null,null,20]
[2287,20209050046262,43985,"CORREO ELECTRÓNICO","SOLICITUD DE INFORMACIÓN Y DOCUMENTOS","SOLICITUD DE INFORMACIÓN HIDROMETEOROLÓGICA","NO","GRUPO DE ATENCIÓN AL CIUDADANO",43993,null,null,{"$f":"IFERROR(WORKDAY(C2298,R2298,DiasNOLaborables),\"\")","v":44018},{"$f":"+IF(C2298=\"\",\"\",IF(I2298=\"\",\"\",(IF(I2298<=L2298,\"A TIEMPO\",\"FUERA DE TIEMPO\"))))","v":"A TIEMPO"},{"$f":"IF(I2298=\"\",\"\",NETWORKDAYS([4]Hoja1!C2298+1,[4]Hoja1!P2298,DiasNOLaborables))","v":6},"",null,null,20]
[2288,20209050046282,43985,"CORREO ELECTRÓNICO","SOLICITUD DE INFORMACIÓN Y DOCUMENTOS","SOLICITUD DE INFORMACIÓN HIDROMETEOROLÓGICA","NO","GRUPO DE ATENCIÓN AL CIUDADANO",43990,null,null,{"$f":"IFERROR(WORKDAY(C2299,R2299,DiasNOLaborables),\"\")","v":44018},{"$f":"+IF(C2299=\"\",\"\",IF(I2299=\"\",\"\",(IF(I2299<=L2299,\"A TIEMPO\",\"FUERA DE TIEMPO\"))))","v":"A TIEMPO"},{"$f":"IF(I2299=\"\",\"\",NETWORKDAYS([4]Hoja1!C2299+1,[4]Hoja1!P2299,DiasNOLaborables))","v":7},"",null,null,20]
[2289,20209050046292,43985,"CORREO ELECTRÓNICO","SOLICITUD DE INFORMACIÓN Y DOCUMENTOS","SOLICITUD DE INFORMACIÓN HIDROMETEOROLÓGICA","NO","GRUPO DE ATENCIÓN AL CIUDADANO",43991,null,null,{"$f":"IFERROR(WORKDAY(C2300,R2300,DiasNOLaborables),\"\")","v":44018},{"$f":"+IF(C2300=\"\",\"\",IF(I2300=\"\",\"\",(IF(I2300<=L2300,\"A TIEMPO\",\"FUERA DE TIEMPO\"))))","v":"A TIEMPO"},{"$f":"IF(I2300=\"\",\"\",NETWORKDAYS([4]Hoja1!C2300+1,[4]Hoja1!P2300,DiasNOLaborables))","v":7},"",null,null,20]
[2290,20209050046322,43985,"CORREO ELECTRÓNICO","SOLICITUD DE INFORMACIÓN Y DOCUMENTOS","SOLICITUD DE INFORMACIÓN HIDROMETEOROLÓGICA","NO","GRUPO DE ATENCIÓN AL CIUDADANO",43991,null,null,{"$f":"IFERROR(WORKDAY(C2301,R2301,DiasNOLaborables),\"\")","v":44018},{"$f":"+IF(C2301=\"\",\"\",IF(I2301=\"\",\"\",(IF(I2301<=L2301,\"A TIEMPO\",\"FUERA DE TIEMPO\"))))","v":"A TIEMPO"},{"$f":"IF(I2301=\"\",\"\",NETWORKDAYS([4]Hoja1!C2301+1,[4]Hoja1!P2301,DiasNOLaborables))","v":7},"",null,null,20]
[2291,20209050046472,43985,"CORREO ELECTRÓNICO","SOLICITUD DE INFORMACIÓN Y DOCUMENTOS","SOLICITUD DE INFORMACIÓN HIDROMETEOROLÓGICA","NO","GRUPO DE ATENCIÓN AL CIUDADANO",43991,null,null,{"$f":"IFERROR(WORKDAY(C2302,R2302,DiasNOLaborables),\"\")","v":44018},{"$f":"+IF(C2302=\"\",\"\",IF(I2302=\"\",\"\",(IF(I2302<=L2302,\"A TIEMPO\",\"FUERA DE TIEMPO\"))))","v":"A TIEMPO"},{"$f":"IF(I2302=\"\",\"\",NETWORKDAYS([4]Hoja1!C2302+1,[4]Hoja1!P2302,DiasNOLaborables))","v":7},"",null,null,20]
[2292,20209050046492,43985,"CORREO ELECTRÓNICO","SOLICITUD DE INFORMACIÓN Y DOCUMENTOS","SOLICITUD DE INFORMACIÓN HIDROMETEOROLÓGICA","NO","GRUPO DE ATENCIÓN AL CIUDADANO",43990,null,null,{"$f":"IFERROR(WORKDAY(C2303,R2303,DiasNOLaborables),\"\")","v":44018},{"$f":"+IF(C2303=\"\",\"\",IF(I2303=\"\",\"\",(IF(I2303<=L2303,\"A TIEMPO\",\"FUERA DE TIEMPO\"))))","v":"A TIEMPO"},{"$f":"IF(I2303=\"\",\"\",NETWORKDAYS([4]Hoja1!C2303+1,[4]Hoja1!P2303,DiasNOLaborables))","v":7},"",null,null,20]
[2293,20209050046032,43985,"CORREO ELECTRÓNICO","SOLICITUD DE INFORMACIÓN Y DOCUMENTOS","SOLICITUD DE INFORMACIÓN HIDROMETEOROLÓGICA","NO","GRUPO DE ATENCIÓN AL CIUDADANO",43988,null,null,{"$f":"IFERROR(WORKDAY(C2304,R2304,DiasNOLaborables),\"\")","v":44018},{"$f":"+IF(C2304=\"\",\"\",IF(I2304=\"\",\"\",(IF(I2304<=L2304,\"A TIEMPO\",\"FUERA DE TIEMPO\"))))","v":"A TIEMPO"},{"$f":"IF(I2304=\"\",\"\",NETWORKDAYS([4]Hoja1!C2304+1,[4]Hoja1!P2304,DiasNOLaborables))","v":7},"",null,null,20]
[2294,20209050046252,43985,"MODULO CONTACTENOS","SOLICITUD DE INFORMACIÓN Y DOCUMENTOS","SOLICITUD DE INFORMACIÓN HIDROMETEOROLÓGICA","NO","GRUPO DE ATENCIÓN AL CIUDADANO",43986,null,null,{"$f":"IFERROR(WORKDAY(C2305,R2305,DiasNOLaborables),\"\")","v":44018},{"$f":"+IF(C2305=\"\",\"\",IF(I2305=\"\",\"\",(IF(I2305<=L2305,\"A TIEMPO\",\"FUERA DE TIEMPO\"))))","v":"A TIEMPO"},{"$f":"IF(I2305=\"\",\"\",NETWORKDAYS([4]Hoja1!C2305+1,[4]Hoja1!P2305,DiasNOLaborables))","v":7},"",null,null,20]
[2295,20209050046312,43985,"MODULO CONTACTENOS","SOLICITUD DE INFORMACIÓN Y DOCUMENTOS","SOLICITUD DE INFORMACIÓN HIDROMETEOROLÓGICA","NO","GRUPO DE ATENCIÓN AL CIUDADANO",43998,null,null,{"$f":"IFERROR(WORKDAY(C2306,R2306,DiasNOLaborables),\"\")","v":44018},{"$f":"+IF(C2306=\"\",\"\",IF(I2306=\"\",\"\",(IF(I2306<=L2306,\"A TIEMPO\",\"FUERA DE TIEMPO\"))))","v":"A TIEMPO"},{"$f":"IF(I2306=\"\",\"\",NETWORKDAYS([4]Hoja1!C2306+1,[4]Hoja1!P2306,DiasNOLaborables))","v":7},"",null,null,20]
[2296,20200603233839,43985,"WEB (MÓDULO DE SOLICITUD DE INFORMACIÓN HIDROMETEOROLÓGICA)","SOLICITUD DE INFORMACIÓN Y DOCUMENTOS","SOLICITUD DE INFORMACIÓN HIDROMETEOROLÓGICA","NO","GRUPO DE ATENCIÓN AL CIUDADANO",43998,null,null,{"$f":"IFERROR(WORKDAY(C2307,R2307,DiasNOLaborables),\"\")","v":44018},{"$f":"+IF(C2307=\"\",\"\",IF(I2307=\"\",\"\",(IF(I2307<=L2307,\"A TIEMPO\",\"FUERA DE TIEMPO\"))))","v":"A TIEMPO"},{"$f":"IF(I2307=\"\",\"\",NETWORKDAYS([4]Hoja1!C2307+1,[4]Hoja1!P2307,DiasNOLaborables))","v":7},"",null,null,20]
[2297,20200603233142,43985,"WEB (MÓDULO DE SOLICITUD DE INFORMACIÓN HIDROMETEOROLÓGICA)","SOLICITUD DE INFORMACIÓN Y DOCUMENTOS","SOLICITUD DE INFORMACIÓN HIDROMETEOROLÓGICA","NO","GRUPO DE ATENCIÓN AL CIUDADANO",43998,null,null,{"$f":"IFERROR(WORKDAY(C2308,R2308,DiasNOLaborables),\"\")","v":44018},{"$f":"+IF(C2308=\"\",\"\",IF(I2308=\"\",\"\",(IF(I2308<=L2308,\"A TIEMPO\",\"FUERA DE TIEMPO\"))))","v":"A TIEMPO"},{"$f":"IF(I2308=\"\",\"\",NETWORKDAYS([4]Hoja1!C2308+1,[4]Hoja1!P2308,DiasNOLaborables))","v":7},"",null,null,20]
[2298,20200603232852,43985,"WEB (MÓDULO DE SOLICITUD DE INFORMACIÓN HIDROMETEOROLÓGICA)","SOLICITUD DE INFORMACIÓN Y DOCUMENTOS","SOLICITUD DE INFORMACIÓN HIDROMETEOROLÓGICA","NO","GRUPO DE ATENCIÓN AL CIUDADANO",43998,null,null,{"$f":"IFERROR(WORKDAY(C2309,R2309,DiasNOLaborables),\"\")","v":44018},{"$f":"+IF(C2309=\"\",\"\",IF(I2309=\"\",\"\",(IF(I2309<=L2309,\"A TIEMPO\",\"FUERA DE TIEMPO\"))))","v":"A TIEMPO"},{"$f":"IF(I2309=\"\",\"\",NETWORKDAYS([4]Hoja1!C2309+1,[4]Hoja1!P2309,DiasNOLaborables))","v":7},"",null,null,20]
[2299,20200603232134,43985,"WEB (MÓDULO DE SOLICITUD DE INFORMACIÓN HIDROMETEOROLÓGICA)","SOLICITUD DE INFORMACIÓN Y DOCUMENTOS","SOLICITUD DE INFORMACIÓN HIDROMETEOROLÓGICA","NO","GRUPO DE ATENCIÓN AL CIUDADANO",43998,null,null,{"$f":"IFERROR(WORKDAY(C2310,R2310,DiasNOLaborables),\"\")","v":44018},{"$f":"+IF(C2310=\"\",\"\",IF(I2310=\"\",\"\",(IF(I2310<=L2310,\"A TIEMPO\",\"FUERA DE TIEMPO\"))))","v":"A TIEMPO"},{"$f":"IF(I2310=\"\",\"\",NETWORKDAYS([4]Hoja1!C2310+1,[4]Hoja1!P2310,DiasNOLaborables))","v":7},"",null,null,{"$f":"IFERROR(VLOOKUP(E2310,$Z$50:$AA$63,2),\"\")","v":20}]
[2300,20200603231914,43985,"WEB (MÓDULO DE SOLICITUD DE INFORMACIÓN HIDROMETEOROLÓGICA)","SOLICITUD DE INFORMACIÓN Y DOCUMENTOS","SOLICITUD DE INFORMACIÓN HIDROMETEOROLÓGICA","NO","GRUPO DE ATENCIÓN AL CIUDADANO",43998,null,null,{"$f":"IFERROR(WORKDAY(C2311,R2311,DiasNOLaborables),\"\")","v":44018},{"$f":"+IF(C2311=\"\",\"\",IF(I2311=\"\",\"\",(IF(I2311<=L2311,\"A TIEMPO\",\"FUERA DE TIEMPO\"))))","v":"A TIEMPO"},{"$f":"IF(I2311=\"\",\"\",NETWORKDAYS([4]Hoja1!C2311+1,[4]Hoja1!P2311,DiasNOLaborables))","v":13},"",null,null,20]
[2301,20200603201835,43985,"WEB (MÓDULO DE SOLICITUD DE INFORMACIÓN HIDROMETEOROLÓGICA)","SOLICITUD DE INFORMACIÓN Y DOCUMENTOS","SOLICITUD DE INFORMACIÓN HIDROMETEOROLÓGICA","NO","GRUPO DE ATENCIÓN AL CIUDADANO",43998,null,null,{"$f":"IFERROR(WORKDAY(C2312,R2312,DiasNOLaborables),\"\")","v":44018},{"$f":"+IF(C2312=\"\",\"\",IF(I2312=\"\",\"\",(IF(I2312<=L2312,\"A TIEMPO\",\"FUERA DE TIEMPO\"))))","v":"A TIEMPO"},{"$f":"IF(I2312=\"\",\"\",NETWORKDAYS([4]Hoja1!C2312+1,[4]Hoja1!P2312,DiasNOLaborables))","v":3},"",null,null,20]
[2302,20200603171859,43985,"WEB (MÓDULO DE SOLICITUD DE INFORMACIÓN HIDROMETEOROLÓGICA)","SOLICITUD DE INFORMACIÓN Y DOCUMENTOS","SOLICITUD DE INFORMACIÓN HIDROMETEOROLÓGICA","NO","GRUPO DE ATENCIÓN AL CIUDADANO",43998,null,null,{"$f":"IFERROR(WORKDAY(C2313,R2313,DiasNOLaborables),\"\")","v":44018},{"$f":"+IF(C2313=\"\",\"\",IF(I2313=\"\",\"\",(IF(I2313<=L2313,\"A TIEMPO\",\"FUERA DE TIEMPO\"))))","v":"A TIEMPO"},{"$f":"IF(I2313=\"\",\"\",NETWORKDAYS([4]Hoja1!C2313+1,[4]Hoja1!P2313,DiasNOLaborables))","v":3},"",null,null,20]
[2303,20200603164959,43985,"WEB (MÓDULO DE SOLICITUD DE INFORMACIÓN HIDROMETEOROLÓGICA)","SOLICITUD DE INFORMACIÓN Y DOCUMENTOS","SOLICITUD DE INFORMACIÓN HIDROMETEOROLÓGICA","NO","GRUPO DE ATENCIÓN AL CIUDADANO",43998,null,null,{"$f":"IFERROR(WORKDAY(C2314,R2314,DiasNOLaborables),\"\")","v":44018},{"$f":"+IF(C2314=\"\",\"\",IF(I2314=\"\",\"\",(IF(I2314<=L2314,\"A TIEMPO\",\"FUERA DE TIEMPO\"))))","v":"A TIEMPO"},{"$f":"IF(I2314=\"\",\"\",NETWORKDAYS([4]Hoja1!C2314+1,[4]Hoja1!P2314,DiasNOLaborables))","v":3},"",null,null,20]
[2304,20200603093400,43985,"WEB (MÓDULO DE SOLICITUD DE INFORMACIÓN HIDROMETEOROLÓGICA)","SOLICITUD DE INFORMACIÓN Y DOCUMENTOS","SOLICITUD DE INFORMACIÓN HIDROMETEOROLÓGICA","NO","GRUPO DE ATENCIÓN AL CIUDADANO",43998,null,null,{"$f":"IFERROR(WORKDAY(C2315,R2315,DiasNOLaborables),\"\")","v":44018},{"$f":"+IF(C2315=\"\",\"\",IF(I2315=\"\",\"\",(IF(I2315<=L2315,\"A TIEMPO\",\"FUERA DE TIEMPO\"))))","v":"A TIEMPO"},{"$f":"IF(I2315=\"\",\"\",NETWORKDAYS([4]Hoja1!C2315+1,[4]Hoja1!P2315,DiasNOLaborables))","v":15},"",null,null,20]
[2305,20200603093201,43985,"WEB (MÓDULO DE SOLICITUD DE INFORMACIÓN HIDROMETEOROLÓGICA)","SOLICITUD DE INFORMACIÓN Y DOCUMENTOS","SOLICITUD DE INFORMACIÓN HIDROMETEOROLÓGICA","NO","GRUPO DE ATENCIÓN AL CIUDADANO",43998,null,null,{"$f":"IFERROR(WORKDAY(C2316,R2316,DiasNOLaborables),\"\")","v":44018},{"$f":"+IF(C2316=\"\",\"\",IF(I2316=\"\",\"\",(IF(I2316<=L2316,\"A TIEMPO\",\"FUERA DE TIEMPO\"))))","v":"A TIEMPO"},{"$f":"IF(I2316=\"\",\"\",NETWORKDAYS([4]Hoja1!C2316+1,[4]Hoja1!P2316,DiasNOLaborables))","v":7},"",null,null,20]
[2306,20200603092811,43985,"WEB (MÓDULO DE SOLICITUD DE INFORMACIÓN HIDROMETEOROLÓGICA)","SOLICITUD DE INFORMACIÓN Y DOCUMENTOS","SOLICITUD DE INFORMACIÓN HIDROMETEOROLÓGICA","NO","GRUPO DE ATENCIÓN AL CIUDADANO",43998,null,null,{"$f":"IFERROR(WORKDAY(C2317,R2317,DiasNOLaborables),\"\")","v":44018},{"$f":"+IF(C2317=\"\",\"\",IF(I2317=\"\",\"\",(IF(I2317<=L2317,\"A TIEMPO\",\"FUERA DE TIEMPO\"))))","v":"A TIEMPO"},{"$f":"IF(I2317=\"\",\"\",NETWORKDAYS([4]Hoja1!C2317+1,[4]Hoja1!P2317,DiasNOLaborables))","v":7},"",null,null,20]
[2307,20200603055706,43985,"WEB (MÓDULO DE SOLICITUD DE INFORMACIÓN HIDROMETEOROLÓGICA)","SOLICITUD DE INFORMACIÓN Y DOCUMENTOS","SOLICITUD DE INFORMACIÓN HIDROMETEOROLÓGICA","NO","GRUPO DE ATENCIÓN AL CIUDADANO",43998,null,null,{"$f":"IFERROR(WORKDAY(C2318,R2318,DiasNOLaborables),\"\")","v":44018},{"$f":"+IF(C2318=\"\",\"\",IF(I2318=\"\",\"\",(IF(I2318<=L2318,\"A TIEMPO\",\"FUERA DE TIEMPO\"))))","v":"A TIEMPO"},{"$f":"IF(I2318=\"\",\"\",NETWORKDAYS([4]Hoja1!C2318+1,[4]Hoja1!P2318,DiasNOLaborables))","v":3},"",null,null,20]
[2308,20209050046332,43985,"MODULO CONTACTENOS","SOLICITUD DE INFORMACIÓN Y DOCUMENTOS","SOLICITUD DE INFORMACIÓN HIDROMETEOROLÓGICA","NO","GRUPO DE ATENCIÓN AL CIUDADANO",43998,null,null,{"$f":"IFERROR(WORKDAY(C2319,R2319,DiasNOLaborables),\"\")","v":44018},{"$f":"+IF(C2319=\"\",\"\",IF(I2319=\"\",\"\",(IF(I2319<=L2319,\"A TIEMPO\",\"FUERA DE TIEMPO\"))))","v":"A TIEMPO"},{"$f":"IF(I2319=\"\",\"\",NETWORKDAYS([4]Hoja1!C2319+1,[4]Hoja1!P2319,DiasNOLaborables))","v":3},"",null,null,20]
[2309,20209050046342,43985,"MODULO CONTACTENOS","SOLICITUD DE INFORMACIÓN Y DOCUMENTOS","SOLICITUD DE INFORMACIÓN HIDROMETEOROLÓGICA","NO","GRUPO DE ATENCIÓN AL CIUDADANO",43998,null,null,{"$f":"IFERROR(WORKDAY(C2320,R2320,DiasNOLaborables),\"\")","v":44018},{"$f":"+IF(C2320=\"\",\"\",IF(I2320=\"\",\"\",(IF(I2320<=L2320,\"A TIEMPO\",\"FUERA DE TIEMPO\"))))","v":"A TIEMPO"},{"$f":"IF(I2320=\"\",\"\",NETWORKDAYS([4]Hoja1!C2320+1,[4]Hoja1!P2320,DiasNOLaborables))","v":6},"",null,null,20]
[2310,20209050046352,43985,"MODULO CONTACTENOS","SOLICITUD DE INFORMACIÓN Y DOCUMENTOS","SOLICITUD DE INFORMACIÓN HIDROMETEOROLÓGICA","NO","GRUPO DE ATENCIÓN AL CIUDADANO",43998,null,null,{"$f":"IFERROR(WORKDAY(C2321,R2321,DiasNOLaborables),\"\")","v":44018},{"$f":"+IF(C2321=\"\",\"\",IF(I2321=\"\",\"\",(IF(I2321<=L2321,\"A TIEMPO\",\"FUERA DE TIEMPO\"))))","v":"A TIEMPO"},{"$f":"IF(I2321=\"\",\"\",NETWORKDAYS([4]Hoja1!C2321+1,[4]Hoja1!P2321,DiasNOLaborables))","v":1},"",null,null,20]
[2311,20209050046362,43985,"MODULO CONTACTENOS","SOLICITUD DE INFORMACIÓN Y DOCUMENTOS","SOLICITUD DE INFORMACIÓN HIDROMETEOROLÓGICA","NO","GRUPO DE ATENCIÓN AL CIUDADANO",43998,null,null,{"$f":"IFERROR(WORKDAY(C2322,R2322,DiasNOLaborables),\"\")","v":44018},{"$f":"+IF(C2322=\"\",\"\",IF(I2322=\"\",\"\",(IF(I2322<=L2322,\"A TIEMPO\",\"FUERA DE TIEMPO\"))))","v":"A TIEMPO"},{"$f":"IF(I2322=\"\",\"\",NETWORKDAYS([4]Hoja1!C2322+1,[4]Hoja1!P2322,DiasNOLaborables))","v":4},"",null,null,20]
[2312,20209050046372,43985,"MODULO CONTACTENOS","SOLICITUD DE INFORMACIÓN Y DOCUMENTOS","SOLICITUD DE INFORMACIÓN HIDROMETEOROLÓGICA","NO","GRUPO DE ATENCIÓN AL CIUDADANO",43998,null,null,{"$f":"IFERROR(WORKDAY(C2323,R2323,DiasNOLaborables),\"\")","v":44018},{"$f":"+IF(C2323=\"\",\"\",IF(I2323=\"\",\"\",(IF(I2323<=L2323,\"A TIEMPO\",\"FUERA DE TIEMPO\"))))","v":"A TIEMPO"},{"$f":"IF(I2323=\"\",\"\",NETWORKDAYS([4]Hoja1!C2323+1,[4]Hoja1!P2323,DiasNOLaborables))","v":2},"",null,null,20]
[2313,20209050046052,43985,"WEB (MÓDULO DE SOLICITUD DE INFORMACIÓN HIDROMETEOROLÓGICA)","SOLICITUD DE INFORMACIÓN Y DOCUMENTOS","SOLICITUD DE INFORMACIÓN HIDROMETEOROLÓGICA","NO","GRUPO DE ATENCIÓN AL CIUDADANO",44000,null,null,{"$f":"IFERROR(WORKDAY(C2324,R2324,DiasNOLaborables),\"\")","v":44018},{"$f":"+IF(C2324=\"\",\"\",IF(I2324=\"\",\"\",(IF(I2324<=L2324,\"A TIEMPO\",\"FUERA DE TIEMPO\"))))","v":"A TIEMPO"},{"$f":"IF(I2324=\"\",\"\",NETWORKDAYS([4]Hoja1!C2324+1,[4]Hoja1!P2324,DiasNOLaborables))","v":2},"",null,null,20]
[2314,20209050046082,43985,"WEB (MÓDULO DE SOLICITUD DE INFORMACIÓN HIDROMETEOROLÓGICA)","SOLICITUD DE INFORMACIÓN Y DOCUMENTOS","SOLICITUD DE INFORMACIÓN HIDROMETEOROLÓGICA","NO","GRUPO DE ATENCIÓN AL CIUDADANO",44000,null,null,{"$f":"IFERROR(WORKDAY(C2325,R2325,DiasNOLaborables),\"\")","v":44018},{"$f":"+IF(C2325=\"\",\"\",IF(I2325=\"\",\"\",(IF(I2325<=L2325,\"A TIEMPO\",\"FUERA DE TIEMPO\"))))","v":"A TIEMPO"},{"$f":"IF(I2325=\"\",\"\",NETWORKDAYS([4]Hoja1!C2325+1,[4]Hoja1!P2325,DiasNOLaborables))","v":1},"",null,null,20]
[2315,20209050046122,43985,"WEB (MÓDULO DE SOLICITUD DE INFORMACIÓN HIDROMETEOROLÓGICA)","SOLICITUD DE INFORMACIÓN Y DOCUMENTOS","SOLICITUD DE INFORMACIÓN HIDROMETEOROLÓGICA","NO","GRUPO DE ATENCIÓN AL CIUDADANO",44000,null,null,{"$f":"IFERROR(WORKDAY(C2326,R2326,DiasNOLaborables),\"\")","v":44018},{"$f":"+IF(C2326=\"\",\"\",IF(I2326=\"\",\"\",(IF(I2326<=L2326,\"A TIEMPO\",\"FUERA DE TIEMPO\"))))","v":"A TIEMPO"},{"$f":"IF(I2326=\"\",\"\",NETWORKDAYS([4]Hoja1!C2326+1,[4]Hoja1!P2326,DiasNOLaborables))","v":-2},"",null,null,20]
[2316,20209910041142,43985,"CORREO ELECTRÓNICO","PETICIÓN","ADMINISTRATIVA","SI","GRUPO DE ADMINISTRACIÓN Y DESARROLLO DEL TALENTO HUMANO",44008,null,null,{"$f":"IFERROR(WORKDAY(C2327,R2327,DiasNOLaborables),\"\")","v":44033},{"$f":"+IF(C2327=\"\",\"\",IF(I2327=\"\",\"\",(IF(I2327<=L2327,\"A TIEMPO\",\"FUERA DE TIEMPO\"))))","v":"A TIEMPO"},{"$f":"IF(I2327=\"\",\"\",NETWORKDAYS([4]Hoja1!C2327+1,[4]Hoja1!P2327,DiasNOLaborables))","v":-2},"",null,null,30]
[2317,20209050046152,43985,"WEB (MÓDULO DE SOLICITUD DE INFORMACIÓN HIDROMETEOROLÓGICA)","SOLICITUD DE INFORMACIÓN Y DOCUMENTOS","SOLICITUD DE INFORMACIÓN HIDROMETEOROLÓGICA","NO","GRUPO DE ATENCIÓN AL CIUDADANO",44000,null,null,{"$f":"IFERROR(WORKDAY(C2328,R2328,DiasNOLaborables),\"\")","v":44018},{"$f":"+IF(C2328=\"\",\"\",IF(I2328=\"\",\"\",(IF(I2328<=L2328,\"A TIEMPO\",\"FUERA DE TIEMPO\"))))","v":"A TIEMPO"},{"$f":"IF(I2328=\"\",\"\",NETWORKDAYS([4]Hoja1!C2328+1,[4]Hoja1!P2328,DiasNOLaborables))","v":9},"",null,null,20]
[2318,20209050046202,43985,"WEB (MÓDULO DE SOLICITUD DE INFORMACIÓN HIDROMETEOROLÓGICA)","SOLICITUD DE INFORMACIÓN Y DOCUMENTOS","SOLICITUD DE INFORMACIÓN HIDROMETEOROLÓGICA","NO","GRUPO DE ATENCIÓN AL CIUDADANO",44000,null,null,{"$f":"IFERROR(WORKDAY(C2329,R2329,DiasNOLaborables),\"\")","v":44018},{"$f":"+IF(C2329=\"\",\"\",IF(I2329=\"\",\"\",(IF(I2329<=L2329,\"A TIEMPO\",\"FUERA DE TIEMPO\"))))","v":"A TIEMPO"},{"$f":"IF(I2329=\"\",\"\",NETWORKDAYS([4]Hoja1!C2329+1,[4]Hoja1!P2329,DiasNOLaborables))","v":-2},"",null,null,20]
[2319,20209050046232,43985,"WEB (MÓDULO DE SOLICITUD DE INFORMACIÓN HIDROMETEOROLÓGICA)","SOLICITUD DE INFORMACIÓN Y DOCUMENTOS","SOLICITUD DE INFORMACIÓN HIDROMETEOROLÓGICA","NO","GRUPO DE ATENCIÓN AL CIUDADANO",44000,null,null,{"$f":"IFERROR(WORKDAY(C2330,R2330,DiasNOLaborables),\"\")","v":44018},{"$f":"+IF(C2330=\"\",\"\",IF(I2330=\"\",\"\",(IF(I2330<=L2330,\"A TIEMPO\",\"FUERA DE TIEMPO\"))))","v":"A TIEMPO"},{"$f":"IF(I2330=\"\",\"\",NETWORKDAYS([4]Hoja1!C2330+1,[4]Hoja1!P2330,DiasNOLaborables))","v":2},"",null,null,20]
[2320,20209050046242,43985,"WEB (MÓDULO DE SOLICITUD DE INFORMACIÓN HIDROMETEOROLÓGICA)","SOLICITUD DE INFORMACIÓN Y DOCUMENTOS","SOLICITUD DE INFORMACIÓN HIDROMETEOROLÓGICA","NO","GRUPO DE ATENCIÓN AL CIUDADANO",44000,null,null,{"$f":"IFERROR(WORKDAY(C2331,R2331,DiasNOLaborables),\"\")","v":44018},{"$f":"+IF(C2331=\"\",\"\",IF(I2331=\"\",\"\",(IF(I2331<=L2331,\"A TIEMPO\",\"FUERA DE TIEMPO\"))))","v":"A TIEMPO"},{"$f":"IF(I2331=\"\",\"\",NETWORKDAYS([4]Hoja1!C2331+1,[4]Hoja1!P2331,DiasNOLaborables))","v":2},"",null,null,20]
[2321,20209050046382,43985,"WEB (MÓDULO DE SOLICITUD DE INFORMACIÓN HIDROMETEOROLÓGICA)","SOLICITUD DE INFORMACIÓN Y DOCUMENTOS","SOLICITUD DE INFORMACIÓN HIDROMETEOROLÓGICA","NO","GRUPO DE ATENCIÓN AL CIUDADANO",44000,null,null,{"$f":"IFERROR(WORKDAY(C2332,R2332,DiasNOLaborables),\"\")","v":44018},{"$f":"+IF(C2332=\"\",\"\",IF(I2332=\"\",\"\",(IF(I2332<=L2332,\"A TIEMPO\",\"FUERA DE TIEMPO\"))))","v":"A TIEMPO"},{"$f":"IF(I2332=\"\",\"\",NETWORKDAYS([4]Hoja1!C2332+1,[4]Hoja1!P2332,DiasNOLaborables))","v":1},"",null,null,20]
[2322,20209050046462,43985,"CORREO ELECTRÓNICO","CERTIFICACIONES DE TIEMPO, CLIMA Y EVENTOS HIDROLÓGICOS","CERTIFICACIONES DE TIEMPO Y CLIMA","SI","SUBDIRECCIÓN DE METEOROLOGÍA",43999,null,null,{"$f":"IFERROR(WORKDAY(C2333,R2333,DiasNOLaborables),\"\")","v":44033},{"$f":"+IF(C2333=\"\",\"\",IF(I2333=\"\",\"\",(IF(I2333<=L2333,\"A TIEMPO\",\"FUERA DE TIEMPO\"))))","v":"A TIEMPO"},{"$f":"IF(I2333=\"\",\"\",NETWORKDAYS([4]Hoja1!C2333+1,[4]Hoja1!P2333,DiasNOLaborables))","v":1},"",null,null,30]
[2323,20209050046392,43985,"WEB (MÓDULO DE SOLICITUD DE INFORMACIÓN HIDROMETEOROLÓGICA)","SOLICITUD DE INFORMACIÓN Y DOCUMENTOS","SOLICITUD DE INFORMACIÓN HIDROMETEOROLÓGICA","NO","GRUPO DE ATENCIÓN AL CIUDADANO",44000,null,null,{"$f":"IFERROR(WORKDAY(C2334,R2334,DiasNOLaborables),\"\")","v":44018},{"$f":"+IF(C2334=\"\",\"\",IF(I2334=\"\",\"\",(IF(I2334<=L2334,\"A TIEMPO\",\"FUERA DE TIEMPO\"))))","v":"A TIEMPO"},{"$f":"IF(I2334=\"\",\"\",NETWORKDAYS([4]Hoja1!C2334+1,[4]Hoja1!P2334,DiasNOLaborables))","v":6},"",null,null,20]
[2324,20209050046512,43986,"WEB (MÓDULO DE SOLICITUD DE INFORMACIÓN HIDROMETEOROLÓGICA)","SOLICITUD DE INFORMACIÓN Y DOCUMENTOS","SOLICITUD DE INFORMACIÓN HIDROMETEOROLÓGICA","NO","GRUPO DE ATENCIÓN AL CIUDADANO",44001,null,null,{"$f":"IFERROR(WORKDAY(C2335,R2335,DiasNOLaborables),\"\")","v":44019},{"$f":"+IF(C2335=\"\",\"\",IF(I2335=\"\",\"\",(IF(I2335<=L2335,\"A TIEMPO\",\"FUERA DE TIEMPO\"))))","v":"A TIEMPO"},{"$f":"IF(I2335=\"\",\"\",NETWORKDAYS([4]Hoja1!C2335+1,[4]Hoja1!P2335,DiasNOLaborables))","v":12},"",null,null,20]
[2325,20209050046522,43986,"WEB (MÓDULO DE SOLICITUD DE INFORMACIÓN HIDROMETEOROLÓGICA)","SOLICITUD DE INFORMACIÓN Y DOCUMENTOS","SOLICITUD DE INFORMACIÓN HIDROMETEOROLÓGICA","NO","GRUPO DE ATENCIÓN AL CIUDADANO",44001,null,null,{"$f":"IFERROR(WORKDAY(C2336,R2336,DiasNOLaborables),\"\")","v":44019},{"$f":"+IF(C2336=\"\",\"\",IF(I2336=\"\",\"\",(IF(I2336<=L2336,\"A TIEMPO\",\"FUERA DE TIEMPO\"))))","v":"A TIEMPO"},{"$f":"IF(I2336=\"\",\"\",NETWORKDAYS([4]Hoja1!C2336+1,[4]Hoja1!P2336,DiasNOLaborables))","v":3},"",null,null,20]
[2326,20209050046652,43986,"WEB (MÓDULO DE SOLICITUD DE INFORMACIÓN HIDROMETEOROLÓGICA)","SOLICITUD DE INFORMACIÓN Y DOCUMENTOS","SOLICITUD DE INFORMACIÓN HIDROMETEOROLÓGICA","NO","GRUPO DE ATENCIÓN AL CIUDADANO",44001,null,null,{"$f":"IFERROR(WORKDAY(C2337,R2337,DiasNOLaborables),\"\")","v":44019},{"$f":"+IF(C2337=\"\",\"\",IF(I2337=\"\",\"\",(IF(I2337<=L2337,\"A TIEMPO\",\"FUERA DE TIEMPO\"))))","v":"A TIEMPO"},{"$f":"IF(I2337=\"\",\"\",NETWORKDAYS([4]Hoja1!C2337+1,[4]Hoja1!P2337,DiasNOLaborables))","v":5},"",null,null,20]
[2327,20209050046682,43986,"WEB (MÓDULO DE SOLICITUD DE INFORMACIÓN HIDROMETEOROLÓGICA)","SOLICITUD DE INFORMACIÓN Y DOCUMENTOS","SOLICITUD DE INFORMACIÓN HIDROMETEOROLÓGICA","NO","GRUPO DE ATENCIÓN AL CIUDADANO",44001,null,null,{"$f":"IFERROR(WORKDAY(C2338,R2338,DiasNOLaborables),\"\")","v":44019},{"$f":"+IF(C2338=\"\",\"\",IF(I2338=\"\",\"\",(IF(I2338<=L2338,\"A TIEMPO\",\"FUERA DE TIEMPO\"))))","v":"A TIEMPO"},{"$f":"IF(I2338=\"\",\"\",NETWORKDAYS([4]Hoja1!C2338+1,[4]Hoja1!P2338,DiasNOLaborables))","v":14},"",null,null,20]
[2328,20209050046702,43986,"WEB (MÓDULO DE SOLICITUD DE INFORMACIÓN HIDROMETEOROLÓGICA)","SOLICITUD DE INFORMACIÓN Y DOCUMENTOS","SOLICITUD DE INFORMACIÓN HIDROMETEOROLÓGICA","NO","GRUPO DE ATENCIÓN AL CIUDADANO",44001,null,null,{"$f":"IFERROR(WORKDAY(C2339,R2339,DiasNOLaborables),\"\")","v":44019},{"$f":"+IF(C2339=\"\",\"\",IF(I2339=\"\",\"\",(IF(I2339<=L2339,\"A TIEMPO\",\"FUERA DE TIEMPO\"))))","v":"A TIEMPO"},{"$f":"IF(I2339=\"\",\"\",NETWORKDAYS([4]Hoja1!C2339+1,[4]Hoja1!P2339,DiasNOLaborables))","v":11},"",null,null,20]
[2329,20209050046722,43986,"WEB (MÓDULO DE SOLICITUD DE INFORMACIÓN HIDROMETEOROLÓGICA)","SOLICITUD DE INFORMACIÓN Y DOCUMENTOS","SOLICITUD DE INFORMACIÓN HIDROMETEOROLÓGICA","NO","GRUPO DE ATENCIÓN AL CIUDADANO",44001,null,null,{"$f":"IFERROR(WORKDAY(C2340,R2340,DiasNOLaborables),\"\")","v":44019},{"$f":"+IF(C2340=\"\",\"\",IF(I2340=\"\",\"\",(IF(I2340<=L2340,\"A TIEMPO\",\"FUERA DE TIEMPO\"))))","v":"A TIEMPO"},{"$f":"IF(I2340=\"\",\"\",NETWORKDAYS([4]Hoja1!C2340+1,[4]Hoja1!P2340,DiasNOLaborables))","v":9},"",null,null,20]
[2330,20209050046732,43986,"WEB (MÓDULO DE SOLICITUD DE INFORMACIÓN HIDROMETEOROLÓGICA)","SOLICITUD DE INFORMACIÓN Y DOCUMENTOS","SOLICITUD DE INFORMACIÓN HIDROMETEOROLÓGICA","NO","GRUPO DE ATENCIÓN AL CIUDADANO",44001,null,null,{"$f":"IFERROR(WORKDAY(C2341,R2341,DiasNOLaborables),\"\")","v":44019},{"$f":"+IF(C2341=\"\",\"\",IF(I2341=\"\",\"\",(IF(I2341<=L2341,\"A TIEMPO\",\"FUERA DE TIEMPO\"))))","v":"A TIEMPO"},{"$f":"IF(I2341=\"\",\"\",NETWORKDAYS([4]Hoja1!C2341+1,[4]Hoja1!P2341,DiasNOLaborables))","v":6},"",null,null,20]
[2331,20209050046752,43986,"WEB (MÓDULO DE SOLICITUD DE INFORMACIÓN HIDROMETEOROLÓGICA)","SOLICITUD DE INFORMACIÓN Y DOCUMENTOS","SOLICITUD DE INFORMACIÓN HIDROMETEOROLÓGICA","NO","GRUPO DE ATENCIÓN AL CIUDADANO",44001,null,null,{"$f":"IFERROR(WORKDAY(C2342,R2342,DiasNOLaborables),\"\")","v":44019},{"$f":"+IF(C2342=\"\",\"\",IF(I2342=\"\",\"\",(IF(I2342<=L2342,\"A TIEMPO\",\"FUERA DE TIEMPO\"))))","v":"A TIEMPO"},{"$f":"IF(I2342=\"\",\"\",NETWORKDAYS([4]Hoja1!C2342+1,[4]Hoja1!P2342,DiasNOLaborables))","v":6},"",null,null,20]
[2332,20209050046762,43986,"WEB (MÓDULO DE SOLICITUD DE INFORMACIÓN HIDROMETEOROLÓGICA)","SOLICITUD DE INFORMACIÓN Y DOCUMENTOS","SOLICITUD DE INFORMACIÓN HIDROMETEOROLÓGICA","NO","GRUPO DE ATENCIÓN AL CIUDADANO",44001,null,null,{"$f":"IFERROR(WORKDAY(C2343,R2343,DiasNOLaborables),\"\")","v":44019},{"$f":"+IF(C2343=\"\",\"\",IF(I2343=\"\",\"\",(IF(I2343<=L2343,\"A TIEMPO\",\"FUERA DE TIEMPO\"))))","v":"A TIEMPO"},{"$f":"IF(I2343=\"\",\"\",NETWORKDAYS([4]Hoja1!C2343+1,[4]Hoja1!P2343,DiasNOLaborables))","v":6},"",null,null,20]
[2333,20209050046772,43986,"WEB (MÓDULO DE SOLICITUD DE INFORMACIÓN HIDROMETEOROLÓGICA)","SOLICITUD DE INFORMACIÓN Y DOCUMENTOS","SOLICITUD DE INFORMACIÓN HIDROMETEOROLÓGICA","NO","GRUPO DE ATENCIÓN AL CIUDADANO",44001,null,null,{"$f":"IFERROR(WORKDAY(C2344,R2344,DiasNOLaborables),\"\")","v":44019},{"$f":"+IF(C2344=\"\",\"\",IF(I2344=\"\",\"\",(IF(I2344<=L2344,\"A TIEMPO\",\"FUERA DE TIEMPO\"))))","v":"A TIEMPO"},{"$f":"IF(I2344=\"\",\"\",NETWORKDAYS([4]Hoja1!C2344+1,[4]Hoja1!P2344,DiasNOLaborables))","v":7},"",null,null,20]
[2334,20209050046542,43986,"CORREO ELECTRÓNICO","SOLICITUD DE INFORMACIÓN Y DOCUMENTOS","SOLICITUD DE INFORMACIÓN HIDROMETEOROLÓGICA","SI","OFICINA DE INFORMÁTICA",43987,null,null,{"$f":"IFERROR(WORKDAY(C2345,R2345,DiasNOLaborables),\"\")","v":44019},{"$f":"+IF(C2345=\"\",\"\",IF(I2345=\"\",\"\",(IF(I2345<=L2345,\"A TIEMPO\",\"FUERA DE TIEMPO\"))))","v":"A TIEMPO"},{"$f":"IF(I2345=\"\",\"\",NETWORKDAYS([4]Hoja1!C2345+1,[4]Hoja1!P2345,DiasNOLaborables))","v":7},"",null,null,20]
[2335,20209050046572,43986,"CORREO ELECTRÓNICO","SOLICITUD DE INFORMACIÓN Y DOCUMENTOS","ADMINISTRATIVA","SI","GRUPO DE TESORERÍA",43990,null,null,{"$f":"IFERROR(WORKDAY(C2346,R2346,DiasNOLaborables),\"\")","v":44019},{"$f":"+IF(C2346=\"\",\"\",IF(I2346=\"\",\"\",(IF(I2346<=L2346,\"A TIEMPO\",\"FUERA DE TIEMPO\"))))","v":"A TIEMPO"},{"$f":"IF(I2346=\"\",\"\",NETWORKDAYS([4]Hoja1!C2346+1,[4]Hoja1!P2346,DiasNOLaborables))","v":7},"",null,null,20]
[2336,20209050046592,43986,"CORREO ELECTRÓNICO","SOLICITUD DE INFORMACIÓN Y DOCUMENTOS","REGISTROS AMBIENTALES","SI","SUBDIRECCIÓN DE ESTUDIOS AMBIENTALES",43990,null,null,{"$f":"IFERROR(WORKDAY(C2347,R2347,DiasNOLaborables),\"\")","v":44019},{"$f":"+IF(C2347=\"\",\"\",IF(I2347=\"\",\"\",(IF(I2347<=L2347,\"A TIEMPO\",\"FUERA DE TIEMPO\"))))","v":"A TIEMPO"},{"$f":"IF(I2347=\"\",\"\",NETWORKDAYS([4]Hoja1!C2347+1,[4]Hoja1!P2347,DiasNOLaborables))","v":7},"",null,null,20]
[2337,20209050046602,43986,"CORREO ELECTRÓNICO","SOLICITUD DE INFORMACIÓN Y DOCUMENTOS","SOLICITUD DE INFORMACIÓN HIDROMETEOROLÓGICA","SI","SUBDIRECCIÓN DE ECOSISTEMAS E INFORMACIÓN AMBIENTAL",43990,null,null,{"$f":"IFERROR(WORKDAY(C2348,R2348,DiasNOLaborables),\"\")","v":44019},{"$f":"+IF(C2348=\"\",\"\",IF(I2348=\"\",\"\",(IF(I2348<=L2348,\"A TIEMPO\",\"FUERA DE TIEMPO\"))))","v":"A TIEMPO"},{"$f":"IF(I2348=\"\",\"\",NETWORKDAYS([4]Hoja1!C2348+1,[4]Hoja1!P2348,DiasNOLaborables))","v":7},"",null,null,20]
[2338,20209050046622,43986,"CORREO ELECTRÓNICO","SOLICITUD DE INFORMACIÓN Y DOCUMENTOS","SOLICITUD DE INFORMACIÓN HIDROMETEOROLÓGICA","SI","GRUPO DE GESTIÓN DOCUMENTAL Y CENTRO DE DOCUMENTACIÓN",43990,null,null,{"$f":"IFERROR(WORKDAY(C2349,R2349,DiasNOLaborables),\"\")","v":44019},{"$f":"+IF(C2349=\"\",\"\",IF(I2349=\"\",\"\",(IF(I2349<=L2349,\"A TIEMPO\",\"FUERA DE TIEMPO\"))))","v":"A TIEMPO"},{"$f":"IF(I2349=\"\",\"\",NETWORKDAYS([4]Hoja1!C2349+1,[4]Hoja1!P2349,DiasNOLaborables))","v":7},"",null,null,20]
[2339,20209050046632,43986,"CORREO ELECTRÓNICO","SOLICITUD DE INFORMACIÓN Y DOCUMENTOS","ADMINISTRATIVA","SI","GRUPO DE ADMINISTRACIÓN Y DESARROLLO DEL TALENTO HUMANO",43990,null,null,{"$f":"IFERROR(WORKDAY(C2350,R2350,DiasNOLaborables),\"\")","v":44019},{"$f":"+IF(C2350=\"\",\"\",IF(I2350=\"\",\"\",(IF(I2350<=L2350,\"A TIEMPO\",\"FUERA DE TIEMPO\"))))","v":"A TIEMPO"},{"$f":"IF(I2350=\"\",\"\",NETWORKDAYS([4]Hoja1!C2350+1,[4]Hoja1!P2350,DiasNOLaborables))","v":7},"",null,null,20]
[2340,20209050046642,43986,"MODULO CONTACTENOS","SOLICITUD DE INFORMACIÓN Y DOCUMENTOS","SOLICITUD DE INFORMACIÓN HIDROMETEOROLÓGICA","SI","SUBDIRECCIÓN DE METEOROLOGÍA",43987,null,null,{"$f":"IFERROR(WORKDAY(C2351,R2351,DiasNOLaborables),\"\")","v":44019},{"$f":"+IF(C2351=\"\",\"\",IF(I2351=\"\",\"\",(IF(I2351<=L2351,\"A TIEMPO\",\"FUERA DE TIEMPO\"))))","v":"A TIEMPO"},{"$f":"IF(I2351=\"\",\"\",NETWORKDAYS([4]Hoja1!C2351+1,[4]Hoja1!P2351,DiasNOLaborables))","v":7},"",null,null,20]
[2341,20209050046662,43986,"CORREO ELECTRÓNICO","SOLICITUD DE INFORMACIÓN Y DOCUMENTOS","SOLICITUD DE INFORMACIÓN HIDROMETEOROLÓGICA","SI","SUBDIRECCIÓN DE ESTUDIOS AMBIENTALES",43993,null,null,{"$f":"IFERROR(WORKDAY(C2352,R2352,DiasNOLaborables),\"\")","v":44019},{"$f":"+IF(C2352=\"\",\"\",IF(I2352=\"\",\"\",(IF(I2352<=L2352,\"A TIEMPO\",\"FUERA DE TIEMPO\"))))","v":"A TIEMPO"},{"$f":"IF(I2352=\"\",\"\",NETWORKDAYS([4]Hoja1!C2352+1,[4]Hoja1!P2352,DiasNOLaborables))","v":7},"",null,null,20]
[2342,20209050046692,43986,"CORREO ELECTRÓNICO","SOLICITUD DE INFORMACIÓN Y DOCUMENTOS","SOLICITUD DE INFORMACIÓN HIDROMETEOROLÓGICA","SI","SUBDIRECCIÓN DE HIDROLOGÍA",43997,null,null,{"$f":"IFERROR(WORKDAY(C2353,R2353,DiasNOLaborables),\"\")","v":44019},{"$f":"+IF(C2353=\"\",\"\",IF(I2353=\"\",\"\",(IF(I2353<=L2353,\"A TIEMPO\",\"FUERA DE TIEMPO\"))))","v":"A TIEMPO"},{"$f":"IF(I2353=\"\",\"\",NETWORKDAYS([4]Hoja1!C2353+1,[4]Hoja1!P2353,DiasNOLaborables))","v":7},"",null,null,20]
[{"$f":"IF(B2352<>\"\",A2353+1,\"\")","v":2343},20209050046712,43986,"CORREO ELECTRÓNICO","CERTIFICACIONES DE TIEMPO, CLIMA Y EVENTOS HIDROLÓGICOS","CERTIFICACIONES DE TIEMPO Y CLIMA","SI","SUBDIRECCIÓN DE METEOROLOGÍA",43994,null,null,{"$f":"IFERROR(WORKDAY(C2354,R2354,DiasNOLaborables),\"\")","v":44034},{"$f":"+IF(C2354=\"\",\"\",IF(I2354=\"\",\"\",(IF(I2354<=L2354,\"A TIEMPO\",\"FUERA DE TIEMPO\"))))","v":"A TIEMPO"},{"$f":"IF(I2354=\"\",\"\",NETWORKDAYS([4]Hoja1!C2354+1,[4]Hoja1!P2354,DiasNOLaborables))","v":7},"",null,null,30]
[2344,20209050046742,43986,"CORREO ELECTRÓNICO","SOLICITUD DE INFORMACIÓN Y DOCUMENTOS","SOLICITUD DE INFORMACIÓN HIDROMETEOROLÓGICA","SI","SUBDIRECCIÓN DE ESTUDIOS AMBIENTALES",43993,null,null,{"$f":"IFERROR(WORKDAY(C2355,R2355,DiasNOLaborables),\"\")","v":44019},{"$f":"+IF(C2355=\"\",\"\",IF(I2355=\"\",\"\",(IF(I2355<=L2355,\"A TIEMPO\",\"FUERA DE TIEMPO\"))))","v":"A TIEMPO"},{"$f":"IF(I2355=\"\",\"\",NETWORKDAYS([4]Hoja1!C2355+1,[4]Hoja1!P2355,DiasNOLaborables))","v":7},"",null,null,20]
[2345,20209050046532,43986,"MODULO CONTACTENOS","SOLICITUD DE INFORMACIÓN Y DOCUMENTOS","SOLICITUD DE INFORMACIÓN HIDROMETEOROLÓGICA","NO","GRUPO DE ATENCIÓN AL CIUDADANO",43999,null,null,{"$f":"IFERROR(WORKDAY(C2356,R2356,DiasNOLaborables),\"\")","v":44019},{"$f":"+IF(C2356=\"\",\"\",IF(I2356=\"\",\"\",(IF(I2356<=L2356,\"A TIEMPO\",\"FUERA DE TIEMPO\"))))","v":"A TIEMPO"},{"$f":"IF(I2356=\"\",\"\",NETWORKDAYS([4]Hoja1!C2356+1,[4]Hoja1!P2356,DiasNOLaborables))","v":7},{"$f":"IF(NETWORKDAYS(L2356+1,I2356,DiasNOLaborables)<=0,\"\",NETWORKDAYS(L2356+1,I2356,DiasNOLaborables))","v":""},null,null,20]
[2346,20209050046552,43986,"MODULO CONTACTENOS","SOLICITUD DE INFORMACIÓN Y DOCUMENTOS","SOLICITUD DE INFORMACIÓN HIDROMETEOROLÓGICA","NO","GRUPO DE ATENCIÓN AL CIUDADANO",43999,null,null,{"$f":"IFERROR(WORKDAY(C2357,R2357,DiasNOLaborables),\"\")","v":44019},{"$f":"+IF(C2357=\"\",\"\",IF(I2357=\"\",\"\",(IF(I2357<=L2357,\"A TIEMPO\",\"FUERA DE TIEMPO\"))))","v":"A TIEMPO"},{"$f":"IF(I2357=\"\",\"\",NETWORKDAYS([4]Hoja1!C2357+1,[4]Hoja1!P2357,DiasNOLaborables))","v":7},"",null,null,20]
[2347,20209050046562,43986,"MODULO CONTACTENOS","SOLICITUD DE INFORMACIÓN Y DOCUMENTOS","SOLICITUD DE INFORMACIÓN HIDROMETEOROLÓGICA","NO","GRUPO DE ATENCIÓN AL CIUDADANO",43999,null,null,{"$f":"IFERROR(WORKDAY(C2358,R2358,DiasNOLaborables),\"\")","v":44019},{"$f":"+IF(C2358=\"\",\"\",IF(I2358=\"\",\"\",(IF(I2358<=L2358,\"A TIEMPO\",\"FUERA DE TIEMPO\"))))","v":"A TIEMPO"},{"$f":"IF(I2358=\"\",\"\",NETWORKDAYS([4]Hoja1!C2358+1,[4]Hoja1!P2358,DiasNOLaborables))","v":7},"",null,null,20]
[2348,20209050046582,43986,"MODULO CONTACTENOS","SOLICITUD DE INFORMACIÓN Y DOCUMENTOS","SOLICITUD DE INFORMACIÓN HIDROMETEOROLÓGICA","NO","GRUPO DE ATENCIÓN AL CIUDADANO",43999,null,null,{"$f":"IFERROR(WORKDAY(C2359,R2359,DiasNOLaborables),\"\")","v":44019},{"$f":"+IF(C2359=\"\",\"\",IF(I2359=\"\",\"\",(IF(I2359<=L2359,\"A TIEMPO\",\"FUERA DE TIEMPO\"))))","v":"A TIEMPO"},{"$f":"IF(I2359=\"\",\"\",NETWORKDAYS([4]Hoja1!C2359+1,[4]Hoja1!P2359,DiasNOLaborables))","v":7},"",null,null,20]
[2349,20209050046612,43986,"MODULO CONTACTENOS","SOLICITUD DE INFORMACIÓN Y DOCUMENTOS","SOLICITUD DE INFORMACIÓN HIDROMETEOROLÓGICA","NO","GRUPO DE ATENCIÓN AL CIUDADANO",43999,null,null,{"$f":"IFERROR(WORKDAY(C2360,R2360,DiasNOLaborables),\"\")","v":44019},{"$f":"+IF(C2360=\"\",\"\",IF(I2360=\"\",\"\",(IF(I2360<=L2360,\"A TIEMPO\",\"FUERA DE TIEMPO\"))))","v":"A TIEMPO"},{"$f":"IF(I2360=\"\",\"\",NETWORKDAYS([4]Hoja1!C2360+1,[4]Hoja1!P2360,DiasNOLaborables))","v":7},"",null,null,20]
[2350,20209050046502,43986,"CORREO ELECTRÓNICO","SOLICITUD DE INFORMACIÓN Y DOCUMENTOS","SOLICITUD DE INFORMACIÓN HIDROMETEOROLÓGICA","NO","GRUPO DE ATENCIÓN AL CIUDADANO",43995,null,null,{"$f":"IFERROR(WORKDAY(C2361,R2361,DiasNOLaborables),\"\")","v":44019},{"$f":"+IF(C2361=\"\",\"\",IF(I2361=\"\",\"\",(IF(I2361<=L2361,\"A TIEMPO\",\"FUERA DE TIEMPO\"))))","v":"A TIEMPO"},{"$f":"IF(I2361=\"\",\"\",NETWORKDAYS([4]Hoja1!C2361+1,[4]Hoja1!P2361,DiasNOLaborables))","v":7},"",null,null,20]
[2351,20209050046782,43986,"CORREO ELECTRÓNICO","SOLICITUD DE INFORMACIÓN Y DOCUMENTOS","SOLICITUD DE INFORMACIÓN HIDROMETEOROLÓGICA","NO","GRUPO DE ATENCIÓN AL CIUDADANO",43991,null,null,{"$f":"IFERROR(WORKDAY(C2362,R2362,DiasNOLaborables),\"\")","v":44019},{"$f":"+IF(C2362=\"\",\"\",IF(I2362=\"\",\"\",(IF(I2362<=L2362,\"A TIEMPO\",\"FUERA DE TIEMPO\"))))","v":"A TIEMPO"},{"$f":"IF(I2362=\"\",\"\",NETWORKDAYS([4]Hoja1!C2362+1,[4]Hoja1!P2362,DiasNOLaborables))","v":6},"",null,null,20]
[2352,20200604212723,43986,"WEB (MÓDULO DE SOLICITUD DE INFORMACIÓN HIDROMETEOROLÓGICA)","SOLICITUD DE INFORMACIÓN Y DOCUMENTOS","SOLICITUD DE INFORMACIÓN HIDROMETEOROLÓGICA","NO","GRUPO DE ATENCIÓN AL CIUDADANO",43998,null,null,{"$f":"IFERROR(WORKDAY(C2363,R2363,DiasNOLaborables),\"\")","v":44019},{"$f":"+IF(C2363=\"\",\"\",IF(I2363=\"\",\"\",(IF(I2363<=L2363,\"A TIEMPO\",\"FUERA DE TIEMPO\"))))","v":"A TIEMPO"},{"$f":"IF(I2363=\"\",\"\",NETWORKDAYS([4]Hoja1!C2363+1,[4]Hoja1!P2363,DiasNOLaborables))","v":6},"",null,null,20]
[2353,20200604212231,43986,"WEB (MÓDULO DE SOLICITUD DE INFORMACIÓN HIDROMETEOROLÓGICA)","SOLICITUD DE INFORMACIÓN Y DOCUMENTOS","SOLICITUD DE INFORMACIÓN HIDROMETEOROLÓGICA","NO","GRUPO DE ATENCIÓN AL CIUDADANO",43998,null,null,{"$f":"IFERROR(WORKDAY(C2364,R2364,DiasNOLaborables),\"\")","v":44019},{"$f":"+IF(C2364=\"\",\"\",IF(I2364=\"\",\"\",(IF(I2364<=L2364,\"A TIEMPO\",\"FUERA DE TIEMPO\"))))","v":"A TIEMPO"},{"$f":"IF(I2364=\"\",\"\",NETWORKDAYS([4]Hoja1!C2364+1,[4]Hoja1!P2364,DiasNOLaborables))","v":6},"",null,null,20]
[2354,20200604193341,43986,"WEB (MÓDULO DE SOLICITUD DE INFORMACIÓN HIDROMETEOROLÓGICA)","SOLICITUD DE INFORMACIÓN Y DOCUMENTOS","SOLICITUD DE INFORMACIÓN HIDROMETEOROLÓGICA","NO","GRUPO DE ATENCIÓN AL CIUDADANO",43998,null,null,{"$f":"IFERROR(WORKDAY(C2365,R2365,DiasNOLaborables),\"\")","v":44019},{"$f":"+IF(C2365=\"\",\"\",IF(I2365=\"\",\"\",(IF(I2365<=L2365,\"A TIEMPO\",\"FUERA DE TIEMPO\"))))","v":"A TIEMPO"},{"$f":"IF(I2365=\"\",\"\",NETWORKDAYS([4]Hoja1!C2365+1,[4]Hoja1!P2365,DiasNOLaborables))","v":6},"",null,null,20]
[2355,20200604193021,43986,"WEB (MÓDULO DE SOLICITUD DE INFORMACIÓN HIDROMETEOROLÓGICA)","SOLICITUD DE INFORMACIÓN Y DOCUMENTOS","SOLICITUD DE INFORMACIÓN HIDROMETEOROLÓGICA","NO","GRUPO DE ATENCIÓN AL CIUDADANO",43998,null,null,{"$f":"IFERROR(WORKDAY(C2366,R2366,DiasNOLaborables),\"\")","v":44019},{"$f":"+IF(C2366=\"\",\"\",IF(I2366=\"\",\"\",(IF(I2366<=L2366,\"A TIEMPO\",\"FUERA DE TIEMPO\"))))","v":"A TIEMPO"},{"$f":"IF(I2366=\"\",\"\",NETWORKDAYS([4]Hoja1!C2366+1,[4]Hoja1!P2366,DiasNOLaborables))","v":6},"",null,null,20]
[2356,20209910041382,43986,"CORREO ELECTRÓNICO","SOLICITUD DE INFORMACIÓN Y DOCUMENTOS","BOSQUES","NO","SUBDIRECCIÓN DE ECOSISTEMAS E INFORMACIÓN AMBIENTAL",43991,null,null,{"$f":"IFERROR(WORKDAY(C2367,R2367,DiasNOLaborables),\"\")","v":44019},{"$f":"+IF(C2367=\"\",\"\",IF(I2367=\"\",\"\",(IF(I2367<=L2367,\"A TIEMPO\",\"FUERA DE TIEMPO\"))))","v":"A TIEMPO"},{"$f":"IF(I2367=\"\",\"\",NETWORKDAYS([4]Hoja1!C2367+1,[4]Hoja1!P2367,DiasNOLaborables))","v":6},"",null,null,20]
[2357,20200604192728,43986,"WEB (MÓDULO DE SOLICITUD DE INFORMACIÓN HIDROMETEOROLÓGICA)","SOLICITUD DE INFORMACIÓN Y DOCUMENTOS","SOLICITUD DE INFORMACIÓN HIDROMETEOROLÓGICA","NO","GRUPO DE ATENCIÓN AL CIUDADANO",43998,null,null,{"$f":"IFERROR(WORKDAY(C2368,R2368,DiasNOLaborables),\"\")","v":44019},{"$f":"+IF(C2368=\"\",\"\",IF(I2368=\"\",\"\",(IF(I2368<=L2368,\"A TIEMPO\",\"FUERA DE TIEMPO\"))))","v":"A TIEMPO"},{"$f":"IF(I2368=\"\",\"\",NETWORKDAYS([4]Hoja1!C2368+1,[4]Hoja1!P2368,DiasNOLaborables))","v":6},"",null,null,20]
[2358,20200604192420,43986,"WEB (MÓDULO DE SOLICITUD DE INFORMACIÓN HIDROMETEOROLÓGICA)","SOLICITUD DE INFORMACIÓN Y DOCUMENTOS","SOLICITUD DE INFORMACIÓN HIDROMETEOROLÓGICA","NO","GRUPO DE ATENCIÓN AL CIUDADANO",43998,null,null,{"$f":"IFERROR(WORKDAY(C2369,R2369,DiasNOLaborables),\"\")","v":44019},{"$f":"+IF(C2369=\"\",\"\",IF(I2369=\"\",\"\",(IF(I2369<=L2369,\"A TIEMPO\",\"FUERA DE TIEMPO\"))))","v":"A TIEMPO"},{"$f":"IF(I2369=\"\",\"\",NETWORKDAYS([4]Hoja1!C2369+1,[4]Hoja1!P2369,DiasNOLaborables))","v":6},"",null,null,20]
[2359,20200604181151,43986,"WEB (MÓDULO DE SOLICITUD DE INFORMACIÓN HIDROMETEOROLÓGICA)","SOLICITUD DE INFORMACIÓN Y DOCUMENTOS","SOLICITUD DE INFORMACIÓN HIDROMETEOROLÓGICA","NO","GRUPO DE ATENCIÓN AL CIUDADANO",43998,null,null,{"$f":"IFERROR(WORKDAY(C2370,R2370,DiasNOLaborables),\"\")","v":44019},{"$f":"+IF(C2370=\"\",\"\",IF(I2370=\"\",\"\",(IF(I2370<=L2370,\"A TIEMPO\",\"FUERA DE TIEMPO\"))))","v":"A TIEMPO"},{"$f":"IF(I2370=\"\",\"\",NETWORKDAYS([4]Hoja1!C2370+1,[4]Hoja1!P2370,DiasNOLaborables))","v":7},"",null,null,20]
[2360,20200604175642,43986,"WEB (MÓDULO DE SOLICITUD DE INFORMACIÓN HIDROMETEOROLÓGICA)","SOLICITUD DE INFORMACIÓN Y DOCUMENTOS","SOLICITUD DE INFORMACIÓN HIDROMETEOROLÓGICA","NO","GRUPO DE ATENCIÓN AL CIUDADANO",43998,null,null,{"$f":"IFERROR(WORKDAY(C2371,R2371,DiasNOLaborables),\"\")","v":44019},{"$f":"+IF(C2371=\"\",\"\",IF(I2371=\"\",\"\",(IF(I2371<=L2371,\"A TIEMPO\",\"FUERA DE TIEMPO\"))))","v":"A TIEMPO"},{"$f":"IF(I2371=\"\",\"\",NETWORKDAYS([4]Hoja1!C2371+1,[4]Hoja1!P2371,DiasNOLaborables))","v":1},"",null,null,20]
[2361,20200604162502,43986,"WEB (MÓDULO DE SOLICITUD DE INFORMACIÓN HIDROMETEOROLÓGICA)","SOLICITUD DE INFORMACIÓN Y DOCUMENTOS","SOLICITUD DE INFORMACIÓN HIDROMETEOROLÓGICA","NO","GRUPO DE ATENCIÓN AL CIUDADANO",43998,null,null,{"$f":"IFERROR(WORKDAY(C2372,R2372,DiasNOLaborables),\"\")","v":44019},{"$f":"+IF(C2372=\"\",\"\",IF(I2372=\"\",\"\",(IF(I2372<=L2372,\"A TIEMPO\",\"FUERA DE TIEMPO\"))))","v":"A TIEMPO"},{"$f":"IF(I2372=\"\",\"\",NETWORKDAYS([4]Hoja1!C2372+1,[4]Hoja1!P2372,DiasNOLaborables))","v":10},"",null,null,20]
[2362,20200604161410,43986,"WEB (MÓDULO DE SOLICITUD DE INFORMACIÓN HIDROMETEOROLÓGICA)","SOLICITUD DE INFORMACIÓN Y DOCUMENTOS","SOLICITUD DE INFORMACIÓN HIDROMETEOROLÓGICA","NO","GRUPO DE ATENCIÓN AL CIUDADANO",43998,null,null,{"$f":"IFERROR(WORKDAY(C2373,R2373,DiasNOLaborables),\"\")","v":44019},{"$f":"+IF(C2373=\"\",\"\",IF(I2373=\"\",\"\",(IF(I2373<=L2373,\"A TIEMPO\",\"FUERA DE TIEMPO\"))))","v":"A TIEMPO"},{"$f":"IF(I2373=\"\",\"\",NETWORKDAYS([4]Hoja1!C2373+1,[4]Hoja1!P2373,DiasNOLaborables))","v":5},"",null,null,20]
[2363,20200604120136,43986,"WEB (MÓDULO DE SOLICITUD DE INFORMACIÓN HIDROMETEOROLÓGICA)","SOLICITUD DE INFORMACIÓN Y DOCUMENTOS","SOLICITUD DE INFORMACIÓN HIDROMETEOROLÓGICA","NO","GRUPO DE ATENCIÓN AL CIUDADANO",43998,null,null,{"$f":"IFERROR(WORKDAY(C2374,R2374,DiasNOLaborables),\"\")","v":44019},{"$f":"+IF(C2374=\"\",\"\",IF(I2374=\"\",\"\",(IF(I2374<=L2374,\"A TIEMPO\",\"FUERA DE TIEMPO\"))))","v":"A TIEMPO"},{"$f":"IF(I2374=\"\",\"\",NETWORKDAYS([4]Hoja1!C2374+1,[4]Hoja1!P2374,DiasNOLaborables))","v":-2},"",null,null,{"$f":"IFERROR(VLOOKUP(E2374,$Z$50:$AA$63,2),\"\")","v":20}]
[2364,20200604113341,43986,"WEB (MÓDULO DE SOLICITUD DE INFORMACIÓN HIDROMETEOROLÓGICA)","SOLICITUD DE INFORMACIÓN Y DOCUMENTOS","SOLICITUD DE INFORMACIÓN HIDROMETEOROLÓGICA","NO","GRUPO DE ATENCIÓN AL CIUDADANO",43998,null,null,{"$f":"IFERROR(WORKDAY(C2375,R2375,DiasNOLaborables),\"\")","v":44019},{"$f":"+IF(C2375=\"\",\"\",IF(I2375=\"\",\"\",(IF(I2375<=L2375,\"A TIEMPO\",\"FUERA DE TIEMPO\"))))","v":"A TIEMPO"},{"$f":"IF(I2375=\"\",\"\",NETWORKDAYS([4]Hoja1!C2375+1,[4]Hoja1!P2375,DiasNOLaborables))","v":8},"",null,null,20]
[2365,20200604072335,43986,"WEB (MÓDULO DE SOLICITUD DE INFORMACIÓN HIDROMETEOROLÓGICA)","SOLICITUD DE INFORMACIÓN Y DOCUMENTOS","SOLICITUD DE INFORMACIÓN HIDROMETEOROLÓGICA","NO","GRUPO DE ATENCIÓN AL CIUDADANO",43998,null,null,{"$f":"IFERROR(WORKDAY(C2376,R2376,DiasNOLaborables),\"\")","v":44019},{"$f":"+IF(C2376=\"\",\"\",IF(I2376=\"\",\"\",(IF(I2376<=L2376,\"A TIEMPO\",\"FUERA DE TIEMPO\"))))","v":"A TIEMPO"},{"$f":"IF(I2376=\"\",\"\",NETWORKDAYS([4]Hoja1!C2376+1,[4]Hoja1!P2376,DiasNOLaborables))","v":3},"",null,null,20]
[2366,20200604072112,43986,"WEB (MÓDULO DE SOLICITUD DE INFORMACIÓN HIDROMETEOROLÓGICA)","SOLICITUD DE INFORMACIÓN Y DOCUMENTOS","SOLICITUD DE INFORMACIÓN HIDROMETEOROLÓGICA","NO","GRUPO DE ATENCIÓN AL CIUDADANO",43998,null,null,{"$f":"IFERROR(WORKDAY(C2377,R2377,DiasNOLaborables),\"\")","v":44019},{"$f":"+IF(C2377=\"\",\"\",IF(I2377=\"\",\"\",(IF(I2377<=L2377,\"A TIEMPO\",\"FUERA DE TIEMPO\"))))","v":"A TIEMPO"},{"$f":"IF(I2377=\"\",\"\",NETWORKDAYS([4]Hoja1!C2377+1,[4]Hoja1!P2377,DiasNOLaborables))","v":5},"",null,null,20]
[2367,20200604071358,43986,"WEB (MÓDULO DE SOLICITUD DE INFORMACIÓN HIDROMETEOROLÓGICA)","SOLICITUD DE INFORMACIÓN Y DOCUMENTOS","SOLICITUD DE INFORMACIÓN HIDROMETEOROLÓGICA","NO","GRUPO DE ATENCIÓN AL CIUDADANO",43998,null,null,{"$f":"IFERROR(WORKDAY(C2378,R2378,DiasNOLaborables),\"\")","v":44019},{"$f":"+IF(C2378=\"\",\"\",IF(I2378=\"\",\"\",(IF(I2378<=L2378,\"A TIEMPO\",\"FUERA DE TIEMPO\"))))","v":"A TIEMPO"},{"$f":"IF(I2378=\"\",\"\",NETWORKDAYS([4]Hoja1!C2378+1,[4]Hoja1!P2378,DiasNOLaborables))","v":6},"",null,null,20]
[2368,20209050046792,43986,"CORREO ELECTRÓNICO","SOLICITUD DE INFORMACIÓN Y DOCUMENTOS","SOLICITUD DE INFORMACIÓN HIDROMETEOROLÓGICA","NO","GRUPO DE ATENCIÓN AL CIUDADANO",43991,null,null,{"$f":"IFERROR(WORKDAY(C2379,R2379,DiasNOLaborables),\"\")","v":44019},{"$f":"+IF(C2379=\"\",\"\",IF(I2379=\"\",\"\",(IF(I2379<=L2379,\"A TIEMPO\",\"FUERA DE TIEMPO\"))))","v":"A TIEMPO"},{"$f":"IF(I2379=\"\",\"\",NETWORKDAYS([4]Hoja1!C2379+1,[4]Hoja1!P2379,DiasNOLaborables))","v":1},"",null,null,20]
[2369,20209050046802,43987,"CORREO ELECTRÓNICO","SOLICITUD DE INFORMACIÓN Y DOCUMENTOS","SOLICITUD DE INFORMACIÓN HIDROMETEOROLÓGICA","NO","GRUPO DE ATENCIÓN AL CIUDADANO",43991,null,null,{"$f":"IFERROR(WORKDAY(C2380,R2380,DiasNOLaborables),\"\")","v":44020},{"$f":"+IF(C2380=\"\",\"\",IF(I2380=\"\",\"\",(IF(I2380<=L2380,\"A TIEMPO\",\"FUERA DE TIEMPO\"))))","v":"A TIEMPO"},{"$f":"IF(I2380=\"\",\"\",NETWORKDAYS([4]Hoja1!C2380+1,[4]Hoja1!P2380,DiasNOLaborables))","v":1},"",null,null,20]
[2370,20209050046812,43987,"CORREO ELECTRÓNICO","SOLICITUD DE INFORMACIÓN Y DOCUMENTOS","SOLICITUD DE INFORMACIÓN HIDROMETEOROLÓGICA","NO","GRUPO DE ATENCIÓN AL CIUDADANO",43992,null,null,{"$f":"IFERROR(WORKDAY(C2381,R2381,DiasNOLaborables),\"\")","v":44020},{"$f":"+IF(C2381=\"\",\"\",IF(I2381=\"\",\"\",(IF(I2381<=L2381,\"A TIEMPO\",\"FUERA DE TIEMPO\"))))","v":"A TIEMPO"},{"$f":"IF(I2381=\"\",\"\",NETWORKDAYS([4]Hoja1!C2381+1,[4]Hoja1!P2381,DiasNOLaborables))","v":1},"",null,null,20]
[2371,20209050046842,43987,"CORREO ELECTRÓNICO","SOLICITUD DE INFORMACIÓN Y DOCUMENTOS","SOLICITUD DE INFORMACIÓN HIDROMETEOROLÓGICA","NO","GRUPO DE ATENCIÓN AL CIUDADANO",43992,null,null,{"$f":"IFERROR(WORKDAY(C2382,R2382,DiasNOLaborables),\"\")","v":44020},{"$f":"+IF(C2382=\"\",\"\",IF(I2382=\"\",\"\",(IF(I2382<=L2382,\"A TIEMPO\",\"FUERA DE TIEMPO\"))))","v":"A TIEMPO"},{"$f":"IF(I2382=\"\",\"\",NETWORKDAYS([4]Hoja1!C2382+1,[4]Hoja1!P2382,DiasNOLaborables))","v":6},"",null,null,20]
[2372,20209050047042,43987,"CORREO ELECTRÓNICO","SOLICITUD DE INFORMACIÓN Y DOCUMENTOS","SOLICITUD DE INFORMACIÓN HIDROMETEOROLÓGICA","SI","GRUPO DE ATENCIÓN AL CIUDADANO",43992,null,null,{"$f":"IFERROR(WORKDAY(C2383,R2383,DiasNOLaborables),\"\")","v":44020},{"$f":"+IF(C2383=\"\",\"\",IF(I2383=\"\",\"\",(IF(I2383<=L2383,\"A TIEMPO\",\"FUERA DE TIEMPO\"))))","v":"A TIEMPO"},{"$f":"IF(I2383=\"\",\"\",NETWORKDAYS([4]Hoja1!C2383+1,[4]Hoja1!P2383,DiasNOLaborables))","v":8},"",null,null,20]
[2373,20209050047062,43987,"CORREO ELECTRÓNICO","SOLICITUD DE INFORMACIÓN Y DOCUMENTOS","SOLICITUD DE INFORMACIÓN HIDROMETEOROLÓGICA","NO","GRUPO DE ATENCIÓN AL CIUDADANO",43992,null,null,{"$f":"IFERROR(WORKDAY(C2384,R2384,DiasNOLaborables),\"\")","v":44020},{"$f":"+IF(C2384=\"\",\"\",IF(I2384=\"\",\"\",(IF(I2384<=L2384,\"A TIEMPO\",\"FUERA DE TIEMPO\"))))","v":"A TIEMPO"},{"$f":"IF(I2384=\"\",\"\",NETWORKDAYS([4]Hoja1!C2384+1,[4]Hoja1!P2384,DiasNOLaborables))","v":5},"",null,null,20]
[2374,20209050047082,43987,"CORREO ELECTRÓNICO","SOLICITUD DE INFORMACIÓN Y DOCUMENTOS","SOLICITUD DE INFORMACIÓN HIDROMETEOROLÓGICA","NO","GRUPO DE ATENCIÓN AL CIUDADANO",43992,null,null,{"$f":"IFERROR(WORKDAY(C2385,R2385,DiasNOLaborables),\"\")","v":44020},{"$f":"+IF(C2385=\"\",\"\",IF(I2385=\"\",\"\",(IF(I2385<=L2385,\"A TIEMPO\",\"FUERA DE TIEMPO\"))))","v":"A TIEMPO"},{"$f":"IF(I2385=\"\",\"\",NETWORKDAYS([4]Hoja1!C2385+1,[4]Hoja1!P2385,DiasNOLaborables))","v":1},"",null,null,20]
[2375,20200605205728,43987,"WEB (MÓDULO DE SOLICITUD DE INFORMACIÓN HIDROMETEOROLÓGICA)","SOLICITUD DE INFORMACIÓN Y DOCUMENTOS","SOLICITUD DE INFORMACIÓN HIDROMETEOROLÓGICA","NO","GRUPO DE ATENCIÓN AL CIUDADANO",44000,null,null,{"$f":"IFERROR(WORKDAY(C2386,R2386,DiasNOLaborables),\"\")","v":44020},{"$f":"+IF(C2386=\"\",\"\",IF(I2386=\"\",\"\",(IF(I2386<=L2386,\"A TIEMPO\",\"FUERA DE TIEMPO\"))))","v":"A TIEMPO"},{"$f":"IF(I2386=\"\",\"\",NETWORKDAYS([4]Hoja1!C2386+1,[4]Hoja1!P2386,DiasNOLaborables))","v":1},"",null,null,20]
[2376,20200605200537,43987,"WEB (MÓDULO DE SOLICITUD DE INFORMACIÓN HIDROMETEOROLÓGICA)","SOLICITUD DE INFORMACIÓN Y DOCUMENTOS","SOLICITUD DE INFORMACIÓN HIDROMETEOROLÓGICA","NO","GRUPO DE ATENCIÓN AL CIUDADANO",44000,null,null,{"$f":"IFERROR(WORKDAY(C2387,R2387,DiasNOLaborables),\"\")","v":44020},{"$f":"+IF(C2387=\"\",\"\",IF(I2387=\"\",\"\",(IF(I2387<=L2387,\"A TIEMPO\",\"FUERA DE TIEMPO\"))))","v":"A TIEMPO"},{"$f":"IF(I2387=\"\",\"\",NETWORKDAYS([4]Hoja1!C2387+1,[4]Hoja1!P2387,DiasNOLaborables))","v":5},"",null,null,20]
[2377,20200605173949,43987,"WEB (MÓDULO DE SOLICITUD DE INFORMACIÓN HIDROMETEOROLÓGICA)","SOLICITUD DE INFORMACIÓN Y DOCUMENTOS","SOLICITUD DE INFORMACIÓN HIDROMETEOROLÓGICA","NO","GRUPO DE ATENCIÓN AL CIUDADANO",44000,null,null,{"$f":"IFERROR(WORKDAY(C2388,R2388,DiasNOLaborables),\"\")","v":44020},{"$f":"+IF(C2388=\"\",\"\",IF(I2388=\"\",\"\",(IF(I2388<=L2388,\"A TIEMPO\",\"FUERA DE TIEMPO\"))))","v":"A TIEMPO"},{"$f":"IF(I2388=\"\",\"\",NETWORKDAYS([4]Hoja1!C2388+1,[4]Hoja1!P2388,DiasNOLaborables))","v":-2},"",null,null,20]
[2378,20200605162504,43987,"WEB (MÓDULO DE SOLICITUD DE INFORMACIÓN HIDROMETEOROLÓGICA)","SOLICITUD DE INFORMACIÓN Y DOCUMENTOS","SOLICITUD DE INFORMACIÓN HIDROMETEOROLÓGICA","NO","GRUPO DE ATENCIÓN AL CIUDADANO",44000,null,null,{"$f":"IFERROR(WORKDAY(C2389,R2389,DiasNOLaborables),\"\")","v":44020},{"$f":"+IF(C2389=\"\",\"\",IF(I2389=\"\",\"\",(IF(I2389<=L2389,\"A TIEMPO\",\"FUERA DE TIEMPO\"))))","v":"A TIEMPO"},{"$f":"IF(I2389=\"\",\"\",NETWORKDAYS([4]Hoja1!C2389+1,[4]Hoja1!P2389,DiasNOLaborables))","v":1},"",null,null,20]
[2379,20200605113110,43987,"WEB (MÓDULO DE SOLICITUD DE INFORMACIÓN HIDROMETEOROLÓGICA)","SOLICITUD DE INFORMACIÓN Y DOCUMENTOS","SOLICITUD DE INFORMACIÓN HIDROMETEOROLÓGICA","NO","GRUPO DE ATENCIÓN AL CIUDADANO",44000,null,null,{"$f":"IFERROR(WORKDAY(C2390,R2390,DiasNOLaborables),\"\")","v":44020},{"$f":"+IF(C2390=\"\",\"\",IF(I2390=\"\",\"\",(IF(I2390<=L2390,\"A TIEMPO\",\"FUERA DE TIEMPO\"))))","v":"A TIEMPO"},{"$f":"IF(I2390=\"\",\"\",NETWORKDAYS([4]Hoja1!C2390+1,[4]Hoja1!P2390,DiasNOLaborables))","v":6},"",null,null,20]
[2380,20200605111956,43987,"WEB (MÓDULO DE SOLICITUD DE INFORMACIÓN HIDROMETEOROLÓGICA)","SOLICITUD DE INFORMACIÓN Y DOCUMENTOS","SOLICITUD DE INFORMACIÓN HIDROMETEOROLÓGICA","NO","GRUPO DE ATENCIÓN AL CIUDADANO",44000,null,null,{"$f":"IFERROR(WORKDAY(C2391,R2391,DiasNOLaborables),\"\")","v":44020},{"$f":"+IF(C2391=\"\",\"\",IF(I2391=\"\",\"\",(IF(I2391<=L2391,\"A TIEMPO\",\"FUERA DE TIEMPO\"))))","v":"A TIEMPO"},{"$f":"IF(I2391=\"\",\"\",NETWORKDAYS([4]Hoja1!C2391+1,[4]Hoja1!P2391,DiasNOLaborables))","v":10},"",null,null,20]
[2381,20200605101639,43987,"WEB (MÓDULO DE SOLICITUD DE INFORMACIÓN HIDROMETEOROLÓGICA)","SOLICITUD DE INFORMACIÓN Y DOCUMENTOS","SOLICITUD DE INFORMACIÓN HIDROMETEOROLÓGICA","NO","GRUPO DE ATENCIÓN AL CIUDADANO",44000,null,null,{"$f":"IFERROR(WORKDAY(C2392,R2392,DiasNOLaborables),\"\")","v":44020},{"$f":"+IF(C2392=\"\",\"\",IF(I2392=\"\",\"\",(IF(I2392<=L2392,\"A TIEMPO\",\"FUERA DE TIEMPO\"))))","v":"A TIEMPO"},{"$f":"IF(I2392=\"\",\"\",NETWORKDAYS([4]Hoja1!C2392+1,[4]Hoja1!P2392,DiasNOLaborables))","v":5},"",null,null,20]
[2382,20200605100528,43987,"WEB (MÓDULO DE SOLICITUD DE INFORMACIÓN HIDROMETEOROLÓGICA)","SOLICITUD DE INFORMACIÓN Y DOCUMENTOS","SOLICITUD DE INFORMACIÓN HIDROMETEOROLÓGICA","NO","GRUPO DE ATENCIÓN AL CIUDADANO",44000,null,null,{"$f":"IFERROR(WORKDAY(C2393,R2393,DiasNOLaborables),\"\")","v":44020},{"$f":"+IF(C2393=\"\",\"\",IF(I2393=\"\",\"\",(IF(I2393<=L2393,\"A TIEMPO\",\"FUERA DE TIEMPO\"))))","v":"A TIEMPO"},{"$f":"IF(I2393=\"\",\"\",NETWORKDAYS([4]Hoja1!C2393+1,[4]Hoja1!P2393,DiasNOLaborables))","v":-2},"",null,null,20]
[2383,20200605100518,43987,"WEB (MÓDULO DE SOLICITUD DE INFORMACIÓN HIDROMETEOROLÓGICA)","SOLICITUD DE INFORMACIÓN Y DOCUMENTOS","SOLICITUD DE INFORMACIÓN HIDROMETEOROLÓGICA","NO","GRUPO DE ATENCIÓN AL CIUDADANO",44000,null,null,{"$f":"IFERROR(WORKDAY(C2394,R2394,DiasNOLaborables),\"\")","v":44020},{"$f":"+IF(C2394=\"\",\"\",IF(I2394=\"\",\"\",(IF(I2394<=L2394,\"A TIEMPO\",\"FUERA DE TIEMPO\"))))","v":"A TIEMPO"},{"$f":"IF(I2394=\"\",\"\",NETWORKDAYS([4]Hoja1!C2394+1,[4]Hoja1!P2394,DiasNOLaborables))","v":3},"",null,null,20]
[2384,20200605100326,43987,"WEB (MÓDULO DE SOLICITUD DE INFORMACIÓN HIDROMETEOROLÓGICA)","SOLICITUD DE INFORMACIÓN Y DOCUMENTOS","SOLICITUD DE INFORMACIÓN HIDROMETEOROLÓGICA","NO","GRUPO DE ATENCIÓN AL CIUDADANO",44000,null,null,{"$f":"IFERROR(WORKDAY(C2395,R2395,DiasNOLaborables),\"\")","v":44020},{"$f":"+IF(C2395=\"\",\"\",IF(I2395=\"\",\"\",(IF(I2395<=L2395,\"A TIEMPO\",\"FUERA DE TIEMPO\"))))","v":"A TIEMPO"},{"$f":"IF(I2395=\"\",\"\",NETWORKDAYS([4]Hoja1!C2395+1,[4]Hoja1!P2395,DiasNOLaborables))","v":14},"",null,null,20]
[2385,20200605100112,43987,"WEB (MÓDULO DE SOLICITUD DE INFORMACIÓN HIDROMETEOROLÓGICA)","SOLICITUD DE INFORMACIÓN Y DOCUMENTOS","SOLICITUD DE INFORMACIÓN HIDROMETEOROLÓGICA","NO","GRUPO DE ATENCIÓN AL CIUDADANO",44000,null,null,{"$f":"IFERROR(WORKDAY(C2396,R2396,DiasNOLaborables),\"\")","v":44020},{"$f":"+IF(C2396=\"\",\"\",IF(I2396=\"\",\"\",(IF(I2396<=L2396,\"A TIEMPO\",\"FUERA DE TIEMPO\"))))","v":"A TIEMPO"},{"$f":"IF(I2396=\"\",\"\",NETWORKDAYS([4]Hoja1!C2396+1,[4]Hoja1!P2396,DiasNOLaborables))","v":2},"",null,null,20]
[2386,20200605095914,43987,"WEB (MÓDULO DE SOLICITUD DE INFORMACIÓN HIDROMETEOROLÓGICA)","SOLICITUD DE INFORMACIÓN Y DOCUMENTOS","SOLICITUD DE INFORMACIÓN HIDROMETEOROLÓGICA","NO","GRUPO DE ATENCIÓN AL CIUDADANO",44000,null,null,{"$f":"IFERROR(WORKDAY(C2397,R2397,DiasNOLaborables),\"\")","v":44020},{"$f":"+IF(C2397=\"\",\"\",IF(I2397=\"\",\"\",(IF(I2397<=L2397,\"A TIEMPO\",\"FUERA DE TIEMPO\"))))","v":"A TIEMPO"},{"$f":"IF(I2397=\"\",\"\",NETWORKDAYS([4]Hoja1!C2397+1,[4]Hoja1!P2397,DiasNOLaborables))","v":5},"",null,null,20]
[2387,20200605095525,43987,"WEB (MÓDULO DE SOLICITUD DE INFORMACIÓN HIDROMETEOROLÓGICA)","SOLICITUD DE INFORMACIÓN Y DOCUMENTOS","SOLICITUD DE INFORMACIÓN HIDROMETEOROLÓGICA","NO","GRUPO DE ATENCIÓN AL CIUDADANO",44000,null,null,{"$f":"IFERROR(WORKDAY(C2398,R2398,DiasNOLaborables),\"\")","v":44020},{"$f":"+IF(C2398=\"\",\"\",IF(I2398=\"\",\"\",(IF(I2398<=L2398,\"A TIEMPO\",\"FUERA DE TIEMPO\"))))","v":"A TIEMPO"},{"$f":"IF(I2398=\"\",\"\",NETWORKDAYS([4]Hoja1!C2398+1,[4]Hoja1!P2398,DiasNOLaborables))","v":6},"",null,null,20]
[2388,20200605094906,43987,"WEB (MÓDULO DE SOLICITUD DE INFORMACIÓN HIDROMETEOROLÓGICA)","SOLICITUD DE INFORMACIÓN Y DOCUMENTOS","SOLICITUD DE INFORMACIÓN HIDROMETEOROLÓGICA","NO","GRUPO DE ATENCIÓN AL CIUDADANO",44000,null,null,{"$f":"IFERROR(WORKDAY(C2399,R2399,DiasNOLaborables),\"\")","v":44020},{"$f":"+IF(C2399=\"\",\"\",IF(I2399=\"\",\"\",(IF(I2399<=L2399,\"A TIEMPO\",\"FUERA DE TIEMPO\"))))","v":"A TIEMPO"},{"$f":"IF(I2399=\"\",\"\",NETWORKDAYS([4]Hoja1!C2399+1,[4]Hoja1!P2399,DiasNOLaborables))","v":6},"",null,null,20]
[2389,20200605094454,43987,"WEB (MÓDULO DE SOLICITUD DE INFORMACIÓN HIDROMETEOROLÓGICA)","SOLICITUD DE INFORMACIÓN Y DOCUMENTOS","SOLICITUD DE INFORMACIÓN HIDROMETEOROLÓGICA","NO","GRUPO DE ATENCIÓN AL CIUDADANO",44000,null,null,{"$f":"IFERROR(WORKDAY(C2400,R2400,DiasNOLaborables),\"\")","v":44020},{"$f":"+IF(C2400=\"\",\"\",IF(I2400=\"\",\"\",(IF(I2400<=L2400,\"A TIEMPO\",\"FUERA DE TIEMPO\"))))","v":"A TIEMPO"},{"$f":"IF(I2400=\"\",\"\",NETWORKDAYS([4]Hoja1!C2400+1,[4]Hoja1!P2400,DiasNOLaborables))","v":6},"",null,null,20]
[2390,20200605094059,43987,"WEB (MÓDULO DE SOLICITUD DE INFORMACIÓN HIDROMETEOROLÓGICA)","SOLICITUD DE INFORMACIÓN Y DOCUMENTOS","SOLICITUD DE INFORMACIÓN HIDROMETEOROLÓGICA","NO","GRUPO DE ATENCIÓN AL CIUDADANO",44000,null,null,{"$f":"IFERROR(WORKDAY(C2401,R2401,DiasNOLaborables),\"\")","v":44020},{"$f":"+IF(C2401=\"\",\"\",IF(I2401=\"\",\"\",(IF(I2401<=L2401,\"A TIEMPO\",\"FUERA DE TIEMPO\"))))","v":"A TIEMPO"},{"$f":"IF(I2401=\"\",\"\",NETWORKDAYS([4]Hoja1!C2401+1,[4]Hoja1!P2401,DiasNOLaborables))","v":6},"",null,null,20]
[2391,20200605093825,43987,"WEB (MÓDULO DE SOLICITUD DE INFORMACIÓN HIDROMETEOROLÓGICA)","SOLICITUD DE INFORMACIÓN Y DOCUMENTOS","SOLICITUD DE INFORMACIÓN HIDROMETEOROLÓGICA","NO","GRUPO DE ATENCIÓN AL CIUDADANO",44000,null,null,{"$f":"IFERROR(WORKDAY(C2402,R2402,DiasNOLaborables),\"\")","v":44020},{"$f":"+IF(C2402=\"\",\"\",IF(I2402=\"\",\"\",(IF(I2402<=L2402,\"A TIEMPO\",\"FUERA DE TIEMPO\"))))","v":"A TIEMPO"},{"$f":"IF(I2402=\"\",\"\",NETWORKDAYS([4]Hoja1!C2402+1,[4]Hoja1!P2402,DiasNOLaborables))","v":6},"",null,null,20]
[2392,20200605093648,43987,"WEB (MÓDULO DE SOLICITUD DE INFORMACIÓN HIDROMETEOROLÓGICA)","SOLICITUD DE INFORMACIÓN Y DOCUMENTOS","SOLICITUD DE INFORMACIÓN HIDROMETEOROLÓGICA","NO","GRUPO DE ATENCIÓN AL CIUDADANO",44000,null,null,{"$f":"IFERROR(WORKDAY(C2403,R2403,DiasNOLaborables),\"\")","v":44020},{"$f":"+IF(C2403=\"\",\"\",IF(I2403=\"\",\"\",(IF(I2403<=L2403,\"A TIEMPO\",\"FUERA DE TIEMPO\"))))","v":"A TIEMPO"},{"$f":"IF(I2403=\"\",\"\",NETWORKDAYS([4]Hoja1!C2403+1,[4]Hoja1!P2403,DiasNOLaborables))","v":6},"",null,null,20]
[2393,20200605093519,43987,"WEB (MÓDULO DE SOLICITUD DE INFORMACIÓN HIDROMETEOROLÓGICA)","SOLICITUD DE INFORMACIÓN Y DOCUMENTOS","SOLICITUD DE INFORMACIÓN HIDROMETEOROLÓGICA","NO","GRUPO DE ATENCIÓN AL CIUDADANO",44000,null,null,{"$f":"IFERROR(WORKDAY(C2404,R2404,DiasNOLaborables),\"\")","v":44020},{"$f":"+IF(C2404=\"\",\"\",IF(I2404=\"\",\"\",(IF(I2404<=L2404,\"A TIEMPO\",\"FUERA DE TIEMPO\"))))","v":"A TIEMPO"},{"$f":"IF(I2404=\"\",\"\",NETWORKDAYS([4]Hoja1!C2404+1,[4]Hoja1!P2404,DiasNOLaborables))","v":6},"",null,null,20]
[2394,20200605092922,43987,"WEB (MÓDULO DE SOLICITUD DE INFORMACIÓN HIDROMETEOROLÓGICA)","SOLICITUD DE INFORMACIÓN Y DOCUMENTOS","SOLICITUD DE INFORMACIÓN HIDROMETEOROLÓGICA","NO","GRUPO DE ATENCIÓN AL CIUDADANO",44000,null,null,{"$f":"IFERROR(WORKDAY(C2405,R2405,DiasNOLaborables),\"\")","v":44020},{"$f":"+IF(C2405=\"\",\"\",IF(I2405=\"\",\"\",(IF(I2405<=L2405,\"A TIEMPO\",\"FUERA DE TIEMPO\"))))","v":"A TIEMPO"},{"$f":"IF(I2405=\"\",\"\",NETWORKDAYS([4]Hoja1!C2405+1,[4]Hoja1!P2405,DiasNOLaborables))","v":6},"",null,null,20]
[2395,20200605092733,43987,"WEB (MÓDULO DE SOLICITUD DE INFORMACIÓN HIDROMETEOROLÓGICA)","SOLICITUD DE INFORMACIÓN Y DOCUMENTOS","SOLICITUD DE INFORMACIÓN HIDROMETEOROLÓGICA","NO","GRUPO DE ATENCIÓN AL CIUDADANO",44000,null,null,{"$f":"IFERROR(WORKDAY(C2406,R2406,DiasNOLaborables),\"\")","v":44020},{"$f":"+IF(C2406=\"\",\"\",IF(I2406=\"\",\"\",(IF(I2406<=L2406,\"A TIEMPO\",\"FUERA DE TIEMPO\"))))","v":"A TIEMPO"},{"$f":"IF(I2406=\"\",\"\",NETWORKDAYS([4]Hoja1!C2406+1,[4]Hoja1!P2406,DiasNOLaborables))","v":5},"",null,null,20]
[2396,20200605092509,43987,"WEB (MÓDULO DE SOLICITUD DE INFORMACIÓN HIDROMETEOROLÓGICA)","SOLICITUD DE INFORMACIÓN Y DOCUMENTOS","SOLICITUD DE INFORMACIÓN HIDROMETEOROLÓGICA","NO","GRUPO DE ATENCIÓN AL CIUDADANO",44000,null,null,{"$f":"IFERROR(WORKDAY(C2407,R2407,DiasNOLaborables),\"\")","v":44020},{"$f":"+IF(C2407=\"\",\"\",IF(I2407=\"\",\"\",(IF(I2407<=L2407,\"A TIEMPO\",\"FUERA DE TIEMPO\"))))","v":"A TIEMPO"},{"$f":"IF(I2407=\"\",\"\",NETWORKDAYS([4]Hoja1!C2407+1,[4]Hoja1!P2407,DiasNOLaborables))","v":5},"",null,null,20]
[2397,20200605092337,43987,"WEB (MÓDULO DE SOLICITUD DE INFORMACIÓN HIDROMETEOROLÓGICA)","SOLICITUD DE INFORMACIÓN Y DOCUMENTOS","SOLICITUD DE INFORMACIÓN HIDROMETEOROLÓGICA","NO","GRUPO DE ATENCIÓN AL CIUDADANO",44000,null,null,{"$f":"IFERROR(WORKDAY(C2408,R2408,DiasNOLaborables),\"\")","v":44020},{"$f":"+IF(C2408=\"\",\"\",IF(I2408=\"\",\"\",(IF(I2408<=L2408,\"A TIEMPO\",\"FUERA DE TIEMPO\"))))","v":"A TIEMPO"},{"$f":"IF(I2408=\"\",\"\",NETWORKDAYS([4]Hoja1!C2408+1,[4]Hoja1!P2408,DiasNOLaborables))","v":5},"",null,null,20]
[2398,20200605092149,43987,"WEB (MÓDULO DE SOLICITUD DE INFORMACIÓN HIDROMETEOROLÓGICA)","SOLICITUD DE INFORMACIÓN Y DOCUMENTOS","SOLICITUD DE INFORMACIÓN HIDROMETEOROLÓGICA","NO","GRUPO DE ATENCIÓN AL CIUDADANO",44000,null,null,{"$f":"IFERROR(WORKDAY(C2409,R2409,DiasNOLaborables),\"\")","v":44020},{"$f":"+IF(C2409=\"\",\"\",IF(I2409=\"\",\"\",(IF(I2409<=L2409,\"A TIEMPO\",\"FUERA DE TIEMPO\"))))","v":"A TIEMPO"},{"$f":"IF(I2409=\"\",\"\",NETWORKDAYS([4]Hoja1!C2409+1,[4]Hoja1!P2409,DiasNOLaborables))","v":5},"",null,null,20]
[2399,20200605092012,43987,"WEB (MÓDULO DE SOLICITUD DE INFORMACIÓN HIDROMETEOROLÓGICA)","SOLICITUD DE INFORMACIÓN Y DOCUMENTOS","SOLICITUD DE INFORMACIÓN HIDROMETEOROLÓGICA","NO","GRUPO DE ATENCIÓN AL CIUDADANO",44000,null,null,{"$f":"IFERROR(WORKDAY(C2410,R2410,DiasNOLaborables),\"\")","v":44020},{"$f":"+IF(C2410=\"\",\"\",IF(I2410=\"\",\"\",(IF(I2410<=L2410,\"A TIEMPO\",\"FUERA DE TIEMPO\"))))","v":"A TIEMPO"},{"$f":"IF(I2410=\"\",\"\",NETWORKDAYS([4]Hoja1!C2410+1,[4]Hoja1!P2410,DiasNOLaborables))","v":6},"",null,null,20]
[2400,20200605091842,43987,"WEB (MÓDULO DE SOLICITUD DE INFORMACIÓN HIDROMETEOROLÓGICA)","SOLICITUD DE INFORMACIÓN Y DOCUMENTOS","SOLICITUD DE INFORMACIÓN HIDROMETEOROLÓGICA","NO","GRUPO DE ATENCIÓN AL CIUDADANO",44000,null,null,{"$f":"IFERROR(WORKDAY(C2411,R2411,DiasNOLaborables),\"\")","v":44020},{"$f":"+IF(C2411=\"\",\"\",IF(I2411=\"\",\"\",(IF(I2411<=L2411,\"A TIEMPO\",\"FUERA DE TIEMPO\"))))","v":"A TIEMPO"},{"$f":"IF(I2411=\"\",\"\",NETWORKDAYS([4]Hoja1!C2411+1,[4]Hoja1!P2411,DiasNOLaborables))","v":6},"",null,null,20]
[2401,20200605091115,43987,"WEB (MÓDULO DE SOLICITUD DE INFORMACIÓN HIDROMETEOROLÓGICA)","SOLICITUD DE INFORMACIÓN Y DOCUMENTOS","SOLICITUD DE INFORMACIÓN HIDROMETEOROLÓGICA","NO","GRUPO DE ATENCIÓN AL CIUDADANO",44000,null,null,{"$f":"IFERROR(WORKDAY(C2412,R2412,DiasNOLaborables),\"\")","v":44020},{"$f":"+IF(C2412=\"\",\"\",IF(I2412=\"\",\"\",(IF(I2412<=L2412,\"A TIEMPO\",\"FUERA DE TIEMPO\"))))","v":"A TIEMPO"},{"$f":"IF(I2412=\"\",\"\",NETWORKDAYS([4]Hoja1!C2412+1,[4]Hoja1!P2412,DiasNOLaborables))","v":6},"",null,null,20]
[2402,20200605085907,43987,"WEB (MÓDULO DE SOLICITUD DE INFORMACIÓN HIDROMETEOROLÓGICA)","SOLICITUD DE INFORMACIÓN Y DOCUMENTOS","SOLICITUD DE INFORMACIÓN HIDROMETEOROLÓGICA","NO","GRUPO DE ATENCIÓN AL CIUDADANO",44000,null,null,{"$f":"IFERROR(WORKDAY(C2413,R2413,DiasNOLaborables),\"\")","v":44020},{"$f":"+IF(C2413=\"\",\"\",IF(I2413=\"\",\"\",(IF(I2413<=L2413,\"A TIEMPO\",\"FUERA DE TIEMPO\"))))","v":"A TIEMPO"},{"$f":"IF(I2413=\"\",\"\",NETWORKDAYS([4]Hoja1!C2413+1,[4]Hoja1!P2413,DiasNOLaborables))","v":6},"",null,null,20]
[2403,20200605085620,43987,"WEB (MÓDULO DE SOLICITUD DE INFORMACIÓN HIDROMETEOROLÓGICA)","SOLICITUD DE INFORMACIÓN Y DOCUMENTOS","SOLICITUD DE INFORMACIÓN HIDROMETEOROLÓGICA","NO","GRUPO DE ATENCIÓN AL CIUDADANO",44000,null,null,{"$f":"IFERROR(WORKDAY(C2414,R2414,DiasNOLaborables),\"\")","v":44020},{"$f":"+IF(C2414=\"\",\"\",IF(I2414=\"\",\"\",(IF(I2414<=L2414,\"A TIEMPO\",\"FUERA DE TIEMPO\"))))","v":"A TIEMPO"},{"$f":"IF(I2414=\"\",\"\",NETWORKDAYS([4]Hoja1!C2414+1,[4]Hoja1!P2414,DiasNOLaborables))","v":6},"",null,null,20]
[2404,20200605084929,43987,"WEB (MÓDULO DE SOLICITUD DE INFORMACIÓN HIDROMETEOROLÓGICA)","SOLICITUD DE INFORMACIÓN Y DOCUMENTOS","SOLICITUD DE INFORMACIÓN HIDROMETEOROLÓGICA","NO","GRUPO DE ATENCIÓN AL CIUDADANO",44000,null,null,{"$f":"IFERROR(WORKDAY(C2415,R2415,DiasNOLaborables),\"\")","v":44020},{"$f":"+IF(C2415=\"\",\"\",IF(I2415=\"\",\"\",(IF(I2415<=L2415,\"A TIEMPO\",\"FUERA DE TIEMPO\"))))","v":"A TIEMPO"},{"$f":"IF(I2415=\"\",\"\",NETWORKDAYS([4]Hoja1!C2415+1,[4]Hoja1!P2415,DiasNOLaborables))","v":6},"",null,null,20]
[2405,20200605084756,43987,"WEB (MÓDULO DE SOLICITUD DE INFORMACIÓN HIDROMETEOROLÓGICA)","SOLICITUD DE INFORMACIÓN Y DOCUMENTOS","SOLICITUD DE INFORMACIÓN HIDROMETEOROLÓGICA","NO","GRUPO DE ATENCIÓN AL CIUDADANO",44000,null,null,{"$f":"IFERROR(WORKDAY(C2416,R2416,DiasNOLaborables),\"\")","v":44020},{"$f":"+IF(C2416=\"\",\"\",IF(I2416=\"\",\"\",(IF(I2416<=L2416,\"A TIEMPO\",\"FUERA DE TIEMPO\"))))","v":"A TIEMPO"},{"$f":"IF(I2416=\"\",\"\",NETWORKDAYS([4]Hoja1!C2416+1,[4]Hoja1!P2416,DiasNOLaborables))","v":6},"",null,null,20]
[2406,20200605083954,43987,"WEB (MÓDULO DE SOLICITUD DE INFORMACIÓN HIDROMETEOROLÓGICA)","SOLICITUD DE INFORMACIÓN Y DOCUMENTOS","SOLICITUD DE INFORMACIÓN HIDROMETEOROLÓGICA","NO","GRUPO DE ATENCIÓN AL CIUDADANO",44000,null,null,{"$f":"IFERROR(WORKDAY(C2417,R2417,DiasNOLaborables),\"\")","v":44020},{"$f":"+IF(C2417=\"\",\"\",IF(I2417=\"\",\"\",(IF(I2417<=L2417,\"A TIEMPO\",\"FUERA DE TIEMPO\"))))","v":"A TIEMPO"},{"$f":"IF(I2417=\"\",\"\",NETWORKDAYS([4]Hoja1!C2417+1,[4]Hoja1!P2417,DiasNOLaborables))","v":6},"",null,null,20]
[{"$f":"IF(B2416<>\"\",A2417+1,\"\")","v":2407},20200605082431,43987,"WEB (MÓDULO DE SOLICITUD DE INFORMACIÓN HIDROMETEOROLÓGICA)","SOLICITUD DE INFORMACIÓN Y DOCUMENTOS","SOLICITUD DE INFORMACIÓN HIDROMETEOROLÓGICA","NO","GRUPO DE ATENCIÓN AL CIUDADANO",44000,null,null,{"$f":"IFERROR(WORKDAY(C2418,R2418,DiasNOLaborables),\"\")","v":44020},{"$f":"+IF(C2418=\"\",\"\",IF(I2418=\"\",\"\",(IF(I2418<=L2418,\"A TIEMPO\",\"FUERA DE TIEMPO\"))))","v":"A TIEMPO"},{"$f":"IF(I2418=\"\",\"\",NETWORKDAYS([4]Hoja1!C2418+1,[4]Hoja1!P2418,DiasNOLaborables))","v":2},"",null,null,20]
[2408,20200605074431,43987,"WEB (MÓDULO DE SOLICITUD DE INFORMACIÓN HIDROMETEOROLÓGICA)","SOLICITUD DE INFORMACIÓN Y DOCUMENTOS","SOLICITUD DE INFORMACIÓN HIDROMETEOROLÓGICA","NO","GRUPO DE ATENCIÓN AL CIUDADANO",44000,null,null,{"$f":"IFERROR(WORKDAY(C2419,R2419,DiasNOLaborables),\"\")","v":44020},{"$f":"+IF(C2419=\"\",\"\",IF(I2419=\"\",\"\",(IF(I2419<=L2419,\"A TIEMPO\",\"FUERA DE TIEMPO\"))))","v":"A TIEMPO"},{"$f":"IF(I2419=\"\",\"\",NETWORKDAYS([4]Hoja1!C2419+1,[4]Hoja1!P2419,DiasNOLaborables))","v":4},"",null,null,20]
[2409,20200605074136,43987,"WEB (MÓDULO DE SOLICITUD DE INFORMACIÓN HIDROMETEOROLÓGICA)","SOLICITUD DE INFORMACIÓN Y DOCUMENTOS","SOLICITUD DE INFORMACIÓN HIDROMETEOROLÓGICA","NO","GRUPO DE ATENCIÓN AL CIUDADANO",44000,null,null,{"$f":"IFERROR(WORKDAY(C2420,R2420,DiasNOLaborables),\"\")","v":44020},{"$f":"+IF(C2420=\"\",\"\",IF(I2420=\"\",\"\",(IF(I2420<=L2420,\"A TIEMPO\",\"FUERA DE TIEMPO\"))))","v":"A TIEMPO"},{"$f":"IF(I2420=\"\",\"\",NETWORKDAYS([4]Hoja1!C2420+1,[4]Hoja1!P2420,DiasNOLaborables))","v":4},{"$f":"IF(NETWORKDAYS(L2420+1,I2420,DiasNOLaborables)<=0,\"\",NETWORKDAYS(L2420+1,I2420,DiasNOLaborables))","v":""},null,null,20]
[2410,20200605073408,43987,"WEB (MÓDULO DE SOLICITUD DE INFORMACIÓN HIDROMETEOROLÓGICA)","SOLICITUD DE INFORMACIÓN Y DOCUMENTOS","SOLICITUD DE INFORMACIÓN HIDROMETEOROLÓGICA","NO","GRUPO DE ATENCIÓN AL CIUDADANO",44000,null,null,{"$f":"IFERROR(WORKDAY(C2421,R2421,DiasNOLaborables),\"\")","v":44020},{"$f":"+IF(C2421=\"\",\"\",IF(I2421=\"\",\"\",(IF(I2421<=L2421,\"A TIEMPO\",\"FUERA DE TIEMPO\"))))","v":"A TIEMPO"},{"$f":"IF(I2421=\"\",\"\",NETWORKDAYS([4]Hoja1!C2421+1,[4]Hoja1!P2421,DiasNOLaborables))","v":9},"",null,null,20]
[2411,20200605073146,43987,"WEB (MÓDULO DE SOLICITUD DE INFORMACIÓN HIDROMETEOROLÓGICA)","SOLICITUD DE INFORMACIÓN Y DOCUMENTOS","SOLICITUD DE INFORMACIÓN HIDROMETEOROLÓGICA","NO","GRUPO DE ATENCIÓN AL CIUDADANO",44000,null,null,{"$f":"IFERROR(WORKDAY(C2422,R2422,DiasNOLaborables),\"\")","v":44020},{"$f":"+IF(C2422=\"\",\"\",IF(I2422=\"\",\"\",(IF(I2422<=L2422,\"A TIEMPO\",\"FUERA DE TIEMPO\"))))","v":"A TIEMPO"},{"$f":"IF(I2422=\"\",\"\",NETWORKDAYS([4]Hoja1!C2422+1,[4]Hoja1!P2422,DiasNOLaborables))","v":9},"",null,null,20]
[2412,20200605072956,43987,"WEB (MÓDULO DE SOLICITUD DE INFORMACIÓN HIDROMETEOROLÓGICA)","SOLICITUD DE INFORMACIÓN Y DOCUMENTOS","SOLICITUD DE INFORMACIÓN HIDROMETEOROLÓGICA","NO","GRUPO DE ATENCIÓN AL CIUDADANO",44000,null,null,{"$f":"IFERROR(WORKDAY(C2423,R2423,DiasNOLaborables),\"\")","v":44020},{"$f":"+IF(C2423=\"\",\"\",IF(I2423=\"\",\"\",(IF(I2423<=L2423,\"A TIEMPO\",\"FUERA DE TIEMPO\"))))","v":"A TIEMPO"},{"$f":"IF(I2423=\"\",\"\",NETWORKDAYS([4]Hoja1!C2423+1,[4]Hoja1!P2423,DiasNOLaborables))","v":9},"",null,null,20]
[2413,20200605072346,43987,"WEB (MÓDULO DE SOLICITUD DE INFORMACIÓN HIDROMETEOROLÓGICA)","SOLICITUD DE INFORMACIÓN Y DOCUMENTOS","SOLICITUD DE INFORMACIÓN HIDROMETEOROLÓGICA","NO","GRUPO DE ATENCIÓN AL CIUDADANO",44000,null,null,{"$f":"IFERROR(WORKDAY(C2424,R2424,DiasNOLaborables),\"\")","v":44020},{"$f":"+IF(C2424=\"\",\"\",IF(I2424=\"\",\"\",(IF(I2424<=L2424,\"A TIEMPO\",\"FUERA DE TIEMPO\"))))","v":"A TIEMPO"},{"$f":"IF(I2424=\"\",\"\",NETWORKDAYS([4]Hoja1!C2424+1,[4]Hoja1!P2424,DiasNOLaborables))","v":16},"",null,null,20]
[2414,20200605072014,43987,"WEB (MÓDULO DE SOLICITUD DE INFORMACIÓN HIDROMETEOROLÓGICA)","SOLICITUD DE INFORMACIÓN Y DOCUMENTOS","SOLICITUD DE INFORMACIÓN HIDROMETEOROLÓGICA","NO","GRUPO DE ATENCIÓN AL CIUDADANO",44000,null,null,{"$f":"IFERROR(WORKDAY(C2425,R2425,DiasNOLaborables),\"\")","v":44020},{"$f":"+IF(C2425=\"\",\"\",IF(I2425=\"\",\"\",(IF(I2425<=L2425,\"A TIEMPO\",\"FUERA DE TIEMPO\"))))","v":"A TIEMPO"},{"$f":"IF(I2425=\"\",\"\",NETWORKDAYS([4]Hoja1!C2425+1,[4]Hoja1!P2425,DiasNOLaborables))","v":1},"",null,null,20]
[2415,20200605071530,43987,"WEB (MÓDULO DE SOLICITUD DE INFORMACIÓN HIDROMETEOROLÓGICA)","SOLICITUD DE INFORMACIÓN Y DOCUMENTOS","SOLICITUD DE INFORMACIÓN HIDROMETEOROLÓGICA","NO","GRUPO DE ATENCIÓN AL CIUDADANO",44000,null,null,{"$f":"IFERROR(WORKDAY(C2426,R2426,DiasNOLaborables),\"\")","v":44020},{"$f":"+IF(C2426=\"\",\"\",IF(I2426=\"\",\"\",(IF(I2426<=L2426,\"A TIEMPO\",\"FUERA DE TIEMPO\"))))","v":"A TIEMPO"},{"$f":"IF(I2426=\"\",\"\",NETWORKDAYS([4]Hoja1!C2426+1,[4]Hoja1!P2426,DiasNOLaborables))","v":3},"",null,null,20]
[2416,20200605071310,43987,"WEB (MÓDULO DE SOLICITUD DE INFORMACIÓN HIDROMETEOROLÓGICA)","SOLICITUD DE INFORMACIÓN Y DOCUMENTOS","SOLICITUD DE INFORMACIÓN HIDROMETEOROLÓGICA","NO","GRUPO DE ATENCIÓN AL CIUDADANO",44000,null,null,{"$f":"IFERROR(WORKDAY(C2427,R2427,DiasNOLaborables),\"\")","v":44020},{"$f":"+IF(C2427=\"\",\"\",IF(I2427=\"\",\"\",(IF(I2427<=L2427,\"A TIEMPO\",\"FUERA DE TIEMPO\"))))","v":"A TIEMPO"},{"$f":"IF(I2427=\"\",\"\",NETWORKDAYS([4]Hoja1!C2427+1,[4]Hoja1!P2427,DiasNOLaborables))","v":5},"",null,null,20]
[2417,20200605071053,43987,"WEB (MÓDULO DE SOLICITUD DE INFORMACIÓN HIDROMETEOROLÓGICA)","SOLICITUD DE INFORMACIÓN Y DOCUMENTOS","SOLICITUD DE INFORMACIÓN HIDROMETEOROLÓGICA","NO","GRUPO DE ATENCIÓN AL CIUDADANO",44000,null,null,{"$f":"IFERROR(WORKDAY(C2428,R2428,DiasNOLaborables),\"\")","v":44020},{"$f":"+IF(C2428=\"\",\"\",IF(I2428=\"\",\"\",(IF(I2428<=L2428,\"A TIEMPO\",\"FUERA DE TIEMPO\"))))","v":"A TIEMPO"},{"$f":"IF(I2428=\"\",\"\",NETWORKDAYS([4]Hoja1!C2428+1,[4]Hoja1!P2428,DiasNOLaborables))","v":-2},"",null,null,20]
[2418,20200605070735,43987,"WEB (MÓDULO DE SOLICITUD DE INFORMACIÓN HIDROMETEOROLÓGICA)","SOLICITUD DE INFORMACIÓN Y DOCUMENTOS","SOLICITUD DE INFORMACIÓN HIDROMETEOROLÓGICA","NO","GRUPO DE ATENCIÓN AL CIUDADANO",44000,null,null,{"$f":"IFERROR(WORKDAY(C2429,R2429,DiasNOLaborables),\"\")","v":44020},{"$f":"+IF(C2429=\"\",\"\",IF(I2429=\"\",\"\",(IF(I2429<=L2429,\"A TIEMPO\",\"FUERA DE TIEMPO\"))))","v":"A TIEMPO"},{"$f":"IF(I2429=\"\",\"\",NETWORKDAYS([4]Hoja1!C2429+1,[4]Hoja1!P2429,DiasNOLaborables))","v":2},"",null,null,20]
[2419,20209050046872,43987,"MODULO CONTACTENOS","SOLICITUD DE INFORMACIÓN Y DOCUMENTOS","SOLICITUD DE INFORMACIÓN HIDROMETEOROLÓGICA","NO","GRUPO DE ATENCIÓN AL CIUDADANO",44001,null,null,{"$f":"IFERROR(WORKDAY(C2430,R2430,DiasNOLaborables),\"\")","v":44020},{"$f":"+IF(C2430=\"\",\"\",IF(I2430=\"\",\"\",(IF(I2430<=L2430,\"A TIEMPO\",\"FUERA DE TIEMPO\"))))","v":"A TIEMPO"},{"$f":"IF(I2430=\"\",\"\",NETWORKDAYS([4]Hoja1!C2430+1,[4]Hoja1!P2430,DiasNOLaborables))","v":3},"",null,null,20]
[2420,20209050046902,43987,"MODULO CONTACTENOS","SOLICITUD DE INFORMACIÓN Y DOCUMENTOS","SOLICITUD DE INFORMACIÓN HIDROMETEOROLÓGICA","NO","GRUPO DE ATENCIÓN AL CIUDADANO",44001,null,null,{"$f":"IFERROR(WORKDAY(C2431,R2431,DiasNOLaborables),\"\")","v":44020},{"$f":"+IF(C2431=\"\",\"\",IF(I2431=\"\",\"\",(IF(I2431<=L2431,\"A TIEMPO\",\"FUERA DE TIEMPO\"))))","v":"A TIEMPO"},{"$f":"IF(I2431=\"\",\"\",NETWORKDAYS([4]Hoja1!C2431+1,[4]Hoja1!P2431,DiasNOLaborables))","v":-2},"",null,null,20]
[2421,20209050046912,43987,"MODULO CONTACTENOS","SOLICITUD DE INFORMACIÓN Y DOCUMENTOS","SOLICITUD DE INFORMACIÓN HIDROMETEOROLÓGICA","NO","GRUPO DE ATENCIÓN AL CIUDADANO",44001,null,null,{"$f":"IFERROR(WORKDAY(C2432,R2432,DiasNOLaborables),\"\")","v":44020},{"$f":"+IF(C2432=\"\",\"\",IF(I2432=\"\",\"\",(IF(I2432<=L2432,\"A TIEMPO\",\"FUERA DE TIEMPO\"))))","v":"A TIEMPO"},{"$f":"IF(I2432=\"\",\"\",NETWORKDAYS([4]Hoja1!C2432+1,[4]Hoja1!P2432,DiasNOLaborables))","v":3},"",null,null,20]
[2422,20209050046942,43987,"MODULO CONTACTENOS","SOLICITUD DE INFORMACIÓN Y DOCUMENTOS","SOLICITUD DE INFORMACIÓN HIDROMETEOROLÓGICA","NO","GRUPO DE ATENCIÓN AL CIUDADANO",44001,null,null,{"$f":"IFERROR(WORKDAY(C2433,R2433,DiasNOLaborables),\"\")","v":44020},{"$f":"+IF(C2433=\"\",\"\",IF(I2433=\"\",\"\",(IF(I2433<=L2433,\"A TIEMPO\",\"FUERA DE TIEMPO\"))))","v":"A TIEMPO"},{"$f":"IF(I2433=\"\",\"\",NETWORKDAYS([4]Hoja1!C2433+1,[4]Hoja1!P2433,DiasNOLaborables))","v":18},"",null,null,20]
[2423,20209050046972,43987,"MODULO CONTACTENOS","SOLICITUD DE INFORMACIÓN Y DOCUMENTOS","SOLICITUD DE INFORMACIÓN HIDROMETEOROLÓGICA","NO","GRUPO DE ATENCIÓN AL CIUDADANO",44001,null,null,{"$f":"IFERROR(WORKDAY(C2434,R2434,DiasNOLaborables),\"\")","v":44020},{"$f":"+IF(C2434=\"\",\"\",IF(I2434=\"\",\"\",(IF(I2434<=L2434,\"A TIEMPO\",\"FUERA DE TIEMPO\"))))","v":"A TIEMPO"},{"$f":"IF(I2434=\"\",\"\",NETWORKDAYS([4]Hoja1!C2434+1,[4]Hoja1!P2434,DiasNOLaborables))","v":16},"",null,null,20]
[2424,20209050047102,43987,"CORREO ELECTRÓNICO","SOLICITUD DE INFORMACIÓN Y DOCUMENTOS","SOLICITUD DE INFORMACIÓN HIDROMETEOROLÓGICA","NO","GRUPO DE ATENCIÓN AL CIUDADANO",43992,null,null,{"$f":"IFERROR(WORKDAY(C2435,R2435,DiasNOLaborables),\"\")","v":44020},{"$f":"+IF(C2435=\"\",\"\",IF(I2435=\"\",\"\",(IF(I2435<=L2435,\"A TIEMPO\",\"FUERA DE TIEMPO\"))))","v":"A TIEMPO"},{"$f":"IF(I2435=\"\",\"\",NETWORKDAYS([4]Hoja1!C2435+1,[4]Hoja1!P2435,DiasNOLaborables))","v":2},"",null,null,20]
[2425,20209050047002,43987,"MODULO CONTACTENOS","SOLICITUD DE INFORMACIÓN Y DOCUMENTOS","SOLICITUD DE INFORMACIÓN HIDROMETEOROLÓGICA","NO","GRUPO DE ATENCIÓN AL CIUDADANO",44001,null,null,{"$f":"IFERROR(WORKDAY(C2436,R2436,DiasNOLaborables),\"\")","v":44020},{"$f":"+IF(C2436=\"\",\"\",IF(I2436=\"\",\"\",(IF(I2436<=L2436,\"A TIEMPO\",\"FUERA DE TIEMPO\"))))","v":"A TIEMPO"},{"$f":"IF(I2436=\"\",\"\",NETWORKDAYS([4]Hoja1!C2436+1,[4]Hoja1!P2436,DiasNOLaborables))","v":-2},"",null,null,20]
[2426,20209050046822,43987,"CORREO ELECTRÓNICO","SOLICITUD DE INFORMACIÓN Y DOCUMENTOS","SOLICITUD DE INFORMACIÓN HIDROMETEOROLÓGICA","SI","SUBDIRECCIÓN DE ECOSISTEMAS E INFORMACIÓN AMBIENTAL",43999,null,null,{"$f":"IFERROR(WORKDAY(C2437,R2437,DiasNOLaborables),\"\")","v":44020},{"$f":"+IF(C2437=\"\",\"\",IF(I2437=\"\",\"\",(IF(I2437<=L2437,\"A TIEMPO\",\"FUERA DE TIEMPO\"))))","v":"A TIEMPO"},{"$f":"IF(I2437=\"\",\"\",NETWORKDAYS([4]Hoja1!C2437+1,[4]Hoja1!P2437,DiasNOLaborables))","v":11},"",null,null,20]
[2427,20209050046852,43987,"CORREO ELECTRÓNICO","SOLICITUD DE INFORMACIÓN Y DOCUMENTOS","SOLICITUD DE INFORMACIÓN HIDROMETEOROLÓGICA","SI","SUBDIRECCIÓN DE HIDROLOGÍA",43999,null,null,{"$f":"IFERROR(WORKDAY(C2438,R2438,DiasNOLaborables),\"\")","v":44020},{"$f":"+IF(C2438=\"\",\"\",IF(I2438=\"\",\"\",(IF(I2438<=L2438,\"A TIEMPO\",\"FUERA DE TIEMPO\"))))","v":"A TIEMPO"},{"$f":"IF(I2438=\"\",\"\",NETWORKDAYS([4]Hoja1!C2438+1,[4]Hoja1!P2438,DiasNOLaborables))","v":1},"",null,null,{"$f":"IFERROR(VLOOKUP(E2438,$Z$50:$AA$63,2),\"\")","v":20}]
[2428,20209050046862,43987,"CORREO ELECTRÓNICO","SOLICITUD DE INFORMACIÓN Y DOCUMENTOS","REGISTROS AMBIENTALES","SI","SUBDIRECCIÓN DE ESTUDIOS AMBIENTALES",43990,null,null,{"$f":"IFERROR(WORKDAY(C2439,R2439,DiasNOLaborables),\"\")","v":44020},{"$f":"+IF(C2439=\"\",\"\",IF(I2439=\"\",\"\",(IF(I2439<=L2439,\"A TIEMPO\",\"FUERA DE TIEMPO\"))))","v":"A TIEMPO"},{"$f":"IF(I2439=\"\",\"\",NETWORKDAYS([4]Hoja1!C2439+1,[4]Hoja1!P2439,DiasNOLaborables))","v":2},"",null,null,20]
[2429,20209050046892,43987,"CORREO ELECTRÓNICO","SOLICITUD DE INFORMACIÓN Y DOCUMENTOS","ADMINISTRATIVA","SI","OFICINA ASESORA JURÍDICA",43990,null,null,{"$f":"IFERROR(WORKDAY(C2440,R2440,DiasNOLaborables),\"\")","v":44020},{"$f":"+IF(C2440=\"\",\"\",IF(I2440=\"\",\"\",(IF(I2440<=L2440,\"A TIEMPO\",\"FUERA DE TIEMPO\"))))","v":"A TIEMPO"},{"$f":"IF(I2440=\"\",\"\",NETWORKDAYS([4]Hoja1!C2440+1,[4]Hoja1!P2440,DiasNOLaborables))","v":5},"",null,null,20]
[2430,20209050046922,43987,"CORREO ELECTRÓNICO","SOLICITUD DE INFORMACIÓN Y DOCUMENTOS","REGISTROS AMBIENTALES","SI","SUBDIRECCIÓN DE ESTUDIOS AMBIENTALES",43990,null,null,{"$f":"IFERROR(WORKDAY(C2441,R2441,DiasNOLaborables),\"\")","v":44020},{"$f":"+IF(C2441=\"\",\"\",IF(I2441=\"\",\"\",(IF(I2441<=L2441,\"A TIEMPO\",\"FUERA DE TIEMPO\"))))","v":"A TIEMPO"},{"$f":"IF(I2441=\"\",\"\",NETWORKDAYS([4]Hoja1!C2441+1,[4]Hoja1!P2441,DiasNOLaborables))","v":-2},"",null,null,20]
[2431,20209050046932,43987,"CORREO ELECTRÓNICO","SOLICITUD DE INFORMACIÓN Y DOCUMENTOS","SOLICITUD DE INFORMACIÓN HIDROMETEOROLÓGICA","SI","SUBDIRECCIÓN DE ECOSISTEMAS E INFORMACIÓN AMBIENTAL",44001,null,null,{"$f":"IFERROR(WORKDAY(C2442,R2442,DiasNOLaborables),\"\")","v":44020},{"$f":"+IF(C2442=\"\",\"\",IF(I2442=\"\",\"\",(IF(I2442<=L2442,\"A TIEMPO\",\"FUERA DE TIEMPO\"))))","v":"A TIEMPO"},{"$f":"IF(I2442=\"\",\"\",NETWORKDAYS([4]Hoja1!C2442+1,[4]Hoja1!P2442,DiasNOLaborables))","v":1},"",null,null,20]
[2432,20209050046952,43987,"CORREO ELECTRÓNICO","CERTIFICACIONES DE TIEMPO, CLIMA Y EVENTOS HIDROLÓGICOS","CERTIFICACIONES DE TIEMPO Y CLIMA","SI","SUBDIRECCIÓN DE METEOROLOGÍA",44006,null,null,{"$f":"IFERROR(WORKDAY(C2443,R2443,DiasNOLaborables),\"\")","v":44035},{"$f":"+IF(C2443=\"\",\"\",IF(I2443=\"\",\"\",(IF(I2443<=L2443,\"A TIEMPO\",\"FUERA DE TIEMPO\"))))","v":"A TIEMPO"},{"$f":"IF(I2443=\"\",\"\",NETWORKDAYS([4]Hoja1!C2443+1,[4]Hoja1!P2443,DiasNOLaborables))","v":2},"",null,null,30]
[2433,20209050046962,43987,"CORREO ELECTRÓNICO","CERTIFICACIONES DE TIEMPO, CLIMA Y EVENTOS HIDROLÓGICOS","CERTIFICACIONES DE TIEMPO Y CLIMA","SI","SUBDIRECCIÓN DE METEOROLOGÍA",43998,null,null,{"$f":"IFERROR(WORKDAY(C2444,R2444,DiasNOLaborables),\"\")","v":44035},{"$f":"+IF(C2444=\"\",\"\",IF(I2444=\"\",\"\",(IF(I2444<=L2444,\"A TIEMPO\",\"FUERA DE TIEMPO\"))))","v":"A TIEMPO"},{"$f":"IF(I2444=\"\",\"\",NETWORKDAYS([4]Hoja1!C2444+1,[4]Hoja1!P2444,DiasNOLaborables))","v":2},"",null,null,30]
[2434,20209050046982,43987,"CORREO ELECTRÓNICO","CERTIFICACIONES DE TIEMPO, CLIMA Y EVENTOS HIDROLÓGICOS","CERTIFICACIONES DE TIEMPO Y CLIMA","SI","SUBDIRECCIÓN DE METEOROLOGÍA",44000,null,null,{"$f":"IFERROR(WORKDAY(C2445,R2445,DiasNOLaborables),\"\")","v":44035},{"$f":"+IF(C2445=\"\",\"\",IF(I2445=\"\",\"\",(IF(I2445<=L2445,\"A TIEMPO\",\"FUERA DE TIEMPO\"))))","v":"A TIEMPO"},{"$f":"IF(I2445=\"\",\"\",NETWORKDAYS([4]Hoja1!C2445+1,[4]Hoja1!P2445,DiasNOLaborables))","v":2},"",null,null,30]
[2435,20209050046992,43987,"CORREO ELECTRÓNICO","CERTIFICACIONES DE TIEMPO, CLIMA Y EVENTOS HIDROLÓGICOS","CERTIFICACIONES DE TIEMPO Y CLIMA","SI","SUBDIRECCIÓN DE METEOROLOGÍA",44000,null,null,{"$f":"IFERROR(WORKDAY(C2446,R2446,DiasNOLaborables),\"\")","v":44035},{"$f":"+IF(C2446=\"\",\"\",IF(I2446=\"\",\"\",(IF(I2446<=L2446,\"A TIEMPO\",\"FUERA DE TIEMPO\"))))","v":"A TIEMPO"},{"$f":"IF(I2446=\"\",\"\",NETWORKDAYS([4]Hoja1!C2446+1,[4]Hoja1!P2446,DiasNOLaborables))","v":4},"",null,null,30]
[2436,20209050047012,43987,"MODULO CONTACTENOS","SOLICITUD DE INFORMACIÓN Y DOCUMENTOS","ADMINISTRATIVA","SI","GRUPO DE ADMINISTRACIÓN Y DESARROLLO DEL TALENTO HUMANO",43993,null,null,{"$f":"IFERROR(WORKDAY(C2447,R2447,DiasNOLaborables),\"\")","v":44020},{"$f":"+IF(C2447=\"\",\"\",IF(I2447=\"\",\"\",(IF(I2447<=L2447,\"A TIEMPO\",\"FUERA DE TIEMPO\"))))","v":"A TIEMPO"},{"$f":"IF(I2447=\"\",\"\",NETWORKDAYS([4]Hoja1!C2447+1,[4]Hoja1!P2447,DiasNOLaborables))","v":4},"",null,null,20]
[2437,20209050047022,43987,"MODULO CONTACTENOS","CERTIFICACIONES DE TIEMPO, CLIMA Y EVENTOS HIDROLÓGICOS","CERTIFICACIONES DE TIEMPO Y CLIMA","SI","SUBDIRECCIÓN DE METEOROLOGÍA",44001,null,null,{"$f":"IFERROR(WORKDAY(C2448,R2448,DiasNOLaborables),\"\")","v":44035},{"$f":"+IF(C2448=\"\",\"\",IF(I2448=\"\",\"\",(IF(I2448<=L2448,\"A TIEMPO\",\"FUERA DE TIEMPO\"))))","v":"A TIEMPO"},{"$f":"IF(I2448=\"\",\"\",NETWORKDAYS([4]Hoja1!C2448+1,[4]Hoja1!P2448,DiasNOLaborables))","v":1},"",null,null,30]
[2438,20209050047032,43987,"MODULO CONTACTENOS","CERTIFICACIONES DE TIEMPO, CLIMA Y EVENTOS HIDROLÓGICOS","CERTIFICACIONES DE TIEMPO Y CLIMA","SI","SUBDIRECCIÓN DE METEOROLOGÍA",44001,null,null,{"$f":"IFERROR(WORKDAY(C2449,R2449,DiasNOLaborables),\"\")","v":44035},{"$f":"+IF(C2449=\"\",\"\",IF(I2449=\"\",\"\",(IF(I2449<=L2449,\"A TIEMPO\",\"FUERA DE TIEMPO\"))))","v":"A TIEMPO"},{"$f":"IF(I2449=\"\",\"\",NETWORKDAYS([4]Hoja1!C2449+1,[4]Hoja1!P2449,DiasNOLaborables))","v":4},"",null,null,30]
[2439,20209050047052,43987,"CORREO ELECTRÓNICO","SOLICITUD DE INFORMACIÓN Y DOCUMENTOS","SOLICITUD DE INFORMACIÓN HIDROMETEOROLÓGICA","SI","SUBDIRECCIÓN DE ESTUDIOS AMBIENTALES",43987,null,null,{"$f":"IFERROR(WORKDAY(C2450,R2450,DiasNOLaborables),\"\")","v":44020},{"$f":"+IF(C2450=\"\",\"\",IF(I2450=\"\",\"\",(IF(I2450<=L2450,\"A TIEMPO\",\"FUERA DE TIEMPO\"))))","v":"A TIEMPO"},{"$f":"IF(I2450=\"\",\"\",NETWORKDAYS([4]Hoja1!C2450+1,[4]Hoja1!P2450,DiasNOLaborables))","v":1},"",null,null,20]
[2440,20209050047112,43988,"CORREO ELECTRÓNICO","SOLICITUD DE INFORMACIÓN Y DOCUMENTOS","SOLICITUD DE INFORMACIÓN HIDROMETEOROLÓGICA","SI","SUBDIRECCIÓN DE ECOSISTEMAS E INFORMACIÓN AMBIENTAL",43999,null,null,{"$f":"IFERROR(WORKDAY(C2451,R2451,DiasNOLaborables),\"\")","v":44020},{"$f":"+IF(C2451=\"\",\"\",IF(I2451=\"\",\"\",(IF(I2451<=L2451,\"A TIEMPO\",\"FUERA DE TIEMPO\"))))","v":"A TIEMPO"},{"$f":"IF(I2451=\"\",\"\",NETWORKDAYS([4]Hoja1!C2451+1,[4]Hoja1!P2451,DiasNOLaborables))","v":9},"",null,null,20]
[2441,20209050047132,43988,"CORREO ELECTRÓNICO","SOLICITUD DE INFORMACIÓN Y DOCUMENTOS","SOLICITUD DE INFORMACIÓN HIDROMETEOROLÓGICA","SI","SUBDIRECCIÓN DE ESTUDIOS AMBIENTALES",43990,null,null,{"$f":"IFERROR(WORKDAY(C2452,R2452,DiasNOLaborables),\"\")","v":44020},{"$f":"+IF(C2452=\"\",\"\",IF(I2452=\"\",\"\",(IF(I2452<=L2452,\"A TIEMPO\",\"FUERA DE TIEMPO\"))))","v":"A TIEMPO"},{"$f":"IF(I2452=\"\",\"\",NETWORKDAYS([4]Hoja1!C2452+1,[4]Hoja1!P2452,DiasNOLaborables))","v":1},"",null,null,20]
[2442,20209050047142,43988,"CORREO ELECTRÓNICO","SOLICITUD DE INFORMACIÓN Y DOCUMENTOS","ADMINISTRATIVA","SI","GRUPO DE TESORERÍA",44001,null,null,{"$f":"IFERROR(WORKDAY(C2453,R2453,DiasNOLaborables),\"\")","v":44020},{"$f":"+IF(C2453=\"\",\"\",IF(I2453=\"\",\"\",(IF(I2453<=L2453,\"A TIEMPO\",\"FUERA DE TIEMPO\"))))","v":"A TIEMPO"},{"$f":"IF(I2453=\"\",\"\",NETWORKDAYS([4]Hoja1!C2453+1,[4]Hoja1!P2453,DiasNOLaborables))","v":4},"",null,null,20]
[2443,20209050047152,43988,"CORREO ELECTRÓNICO","SOLICITUD DE INFORMACIÓN Y DOCUMENTOS","SOLICITUD DE INFORMACIÓN HIDROMETEOROLÓGICA","SI","GRUPO DE GESTIÓN DOCUMENTAL Y CENTRO DE DOCUMENTACIÓN",43990,null,null,{"$f":"IFERROR(WORKDAY(C2454,R2454,DiasNOLaborables),\"\")","v":44020},{"$f":"+IF(C2454=\"\",\"\",IF(I2454=\"\",\"\",(IF(I2454<=L2454,\"A TIEMPO\",\"FUERA DE TIEMPO\"))))","v":"A TIEMPO"},{"$f":"IF(I2454=\"\",\"\",NETWORKDAYS([4]Hoja1!C2454+1,[4]Hoja1!P2454,DiasNOLaborables))","v":4},"",null,null,20]
[2444,20209050047162,43988,"CORREO ELECTRÓNICO","SOLICITUD DE INFORMACIÓN Y DOCUMENTOS","SOLICITUD DE INFORMACIÓN HIDROMETEOROLÓGICA","SI","SUBDIRECCIÓN DE HIDROLOGÍA",43992,null,null,{"$f":"IFERROR(WORKDAY(C2455,R2455,DiasNOLaborables),\"\")","v":44020},{"$f":"+IF(C2455=\"\",\"\",IF(I2455=\"\",\"\",(IF(I2455<=L2455,\"A TIEMPO\",\"FUERA DE TIEMPO\"))))","v":"A TIEMPO"},{"$f":"IF(I2455=\"\",\"\",NETWORKDAYS([4]Hoja1!C2455+1,[4]Hoja1!P2455,DiasNOLaborables))","v":-1},"",null,null,20]
[2445,20209050047172,43988,"CORREO ELECTRÓNICO","SOLICITUD DE INFORMACIÓN Y DOCUMENTOS","REGISTROS AMBIENTALES","SI","SUBDIRECCIÓN DE ESTUDIOS AMBIENTALES",43990,null,null,{"$f":"IFERROR(WORKDAY(C2456,R2456,DiasNOLaborables),\"\")","v":44020},{"$f":"+IF(C2456=\"\",\"\",IF(I2456=\"\",\"\",(IF(I2456<=L2456,\"A TIEMPO\",\"FUERA DE TIEMPO\"))))","v":"A TIEMPO"},{"$f":"IF(I2456=\"\",\"\",NETWORKDAYS([4]Hoja1!C2456+1,[4]Hoja1!P2456,DiasNOLaborables))","v":8},"",null,null,20]
[2446,20209050047182,43988,"CORREO ELECTRÓNICO","SOLICITUD DE INFORMACIÓN Y DOCUMENTOS","SOLICITUD DE INFORMACIÓN HIDROMETEOROLÓGICA","SI","SUBDIRECCIÓN DE HIDROLOGÍA",44001,null,null,{"$f":"IFERROR(WORKDAY(C2457,R2457,DiasNOLaborables),\"\")","v":44020},{"$f":"+IF(C2457=\"\",\"\",IF(I2457=\"\",\"\",(IF(I2457<=L2457,\"A TIEMPO\",\"FUERA DE TIEMPO\"))))","v":"A TIEMPO"},{"$f":"IF(I2457=\"\",\"\",NETWORKDAYS([4]Hoja1!C2457+1,[4]Hoja1!P2457,DiasNOLaborables))","v":2},"",null,null,20]
[2447,20209050047092,43988,"CORREO ELECTRÓNICO","SOLICITUD DE INFORMACIÓN Y DOCUMENTOS","SOLICITUD DE INFORMACIÓN HIDROMETEOROLÓGICA","NO","GRUPO DE ATENCIÓN AL CIUDADANO",43992,null,null,{"$f":"IFERROR(WORKDAY(C2458,R2458,DiasNOLaborables),\"\")","v":44020},{"$f":"+IF(C2458=\"\",\"\",IF(I2458=\"\",\"\",(IF(I2458<=L2458,\"A TIEMPO\",\"FUERA DE TIEMPO\"))))","v":"A TIEMPO"},{"$f":"IF(I2458=\"\",\"\",NETWORKDAYS([4]Hoja1!C2458+1,[4]Hoja1!P2458,DiasNOLaborables))","v":5},"",null,null,20]
[2448,20209050047122,43988,"CORREO ELECTRÓNICO","SOLICITUD DE INFORMACIÓN Y DOCUMENTOS","SOLICITUD DE INFORMACIÓN HIDROMETEOROLÓGICA","NO","GRUPO DE ATENCIÓN AL CIUDADANO",43992,null,null,{"$f":"IFERROR(WORKDAY(C2459,R2459,DiasNOLaborables),\"\")","v":44020},{"$f":"+IF(C2459=\"\",\"\",IF(I2459=\"\",\"\",(IF(I2459<=L2459,\"A TIEMPO\",\"FUERA DE TIEMPO\"))))","v":"A TIEMPO"},{"$f":"IF(I2459=\"\",\"\",NETWORKDAYS([4]Hoja1!C2459+1,[4]Hoja1!P2459,DiasNOLaborables))","v":5},"",null,null,20]
[2449,20209050047192,43988,"CORREO ELECTRÓNICO","SOLICITUD DE INFORMACIÓN Y DOCUMENTOS","SOLICITUD DE INFORMACIÓN HIDROMETEOROLÓGICA","NO","GRUPO DE ATENCIÓN AL CIUDADANO",43992,null,null,{"$f":"IFERROR(WORKDAY(C2460,R2460,DiasNOLaborables),\"\")","v":44020},{"$f":"+IF(C2460=\"\",\"\",IF(I2460=\"\",\"\",(IF(I2460<=L2460,\"A TIEMPO\",\"FUERA DE TIEMPO\"))))","v":"A TIEMPO"},{"$f":"IF(I2460=\"\",\"\",NETWORKDAYS([4]Hoja1!C2460+1,[4]Hoja1!P2460,DiasNOLaborables))","v":5},"",null,null,20]
[2450,20200606231225,43988,"WEB (MÓDULO DE SOLICITUD DE INFORMACIÓN HIDROMETEOROLÓGICA)","SOLICITUD DE INFORMACIÓN Y DOCUMENTOS","SOLICITUD DE INFORMACIÓN HIDROMETEOROLÓGICA","NO","GRUPO DE ATENCIÓN AL CIUDADANO",44001,null,null,{"$f":"IFERROR(WORKDAY(C2461,R2461,DiasNOLaborables),\"\")","v":44020},{"$f":"+IF(C2461=\"\",\"\",IF(I2461=\"\",\"\",(IF(I2461<=L2461,\"A TIEMPO\",\"FUERA DE TIEMPO\"))))","v":"A TIEMPO"},{"$f":"IF(I2461=\"\",\"\",NETWORKDAYS([4]Hoja1!C2461+1,[4]Hoja1!P2461,DiasNOLaborables))","v":5},"",null,null,20]
[2451,20200606113639,43988,"WEB (MÓDULO DE SOLICITUD DE INFORMACIÓN HIDROMETEOROLÓGICA)","SOLICITUD DE INFORMACIÓN Y DOCUMENTOS","SOLICITUD DE INFORMACIÓN HIDROMETEOROLÓGICA","NO","GRUPO DE ATENCIÓN AL CIUDADANO",44001,null,null,{"$f":"IFERROR(WORKDAY(C2462,R2462,DiasNOLaborables),\"\")","v":44020},{"$f":"+IF(C2462=\"\",\"\",IF(I2462=\"\",\"\",(IF(I2462<=L2462,\"A TIEMPO\",\"FUERA DE TIEMPO\"))))","v":"A TIEMPO"},{"$f":"IF(I2462=\"\",\"\",NETWORKDAYS([4]Hoja1!C2462+1,[4]Hoja1!P2462,DiasNOLaborables))","v":5},"",null,null,20]
[2452,20200606113505,43988,"WEB (MÓDULO DE SOLICITUD DE INFORMACIÓN HIDROMETEOROLÓGICA)","SOLICITUD DE INFORMACIÓN Y DOCUMENTOS","SOLICITUD DE INFORMACIÓN HIDROMETEOROLÓGICA","NO","GRUPO DE ATENCIÓN AL CIUDADANO",44001,null,null,{"$f":"IFERROR(WORKDAY(C2463,R2463,DiasNOLaborables),\"\")","v":44020},{"$f":"+IF(C2463=\"\",\"\",IF(I2463=\"\",\"\",(IF(I2463<=L2463,\"A TIEMPO\",\"FUERA DE TIEMPO\"))))","v":"A TIEMPO"},{"$f":"IF(I2463=\"\",\"\",NETWORKDAYS([4]Hoja1!C2463+1,[4]Hoja1!P2463,DiasNOLaborables))","v":5},"",null,null,20]
[2453,20200606113244,43988,"WEB (MÓDULO DE SOLICITUD DE INFORMACIÓN HIDROMETEOROLÓGICA)","SOLICITUD DE INFORMACIÓN Y DOCUMENTOS","SOLICITUD DE INFORMACIÓN HIDROMETEOROLÓGICA","NO","GRUPO DE ATENCIÓN AL CIUDADANO",44001,null,null,{"$f":"IFERROR(WORKDAY(C2464,R2464,DiasNOLaborables),\"\")","v":44020},{"$f":"+IF(C2464=\"\",\"\",IF(I2464=\"\",\"\",(IF(I2464<=L2464,\"A TIEMPO\",\"FUERA DE TIEMPO\"))))","v":"A TIEMPO"},{"$f":"IF(I2464=\"\",\"\",NETWORKDAYS([4]Hoja1!C2464+1,[4]Hoja1!P2464,DiasNOLaborables))","v":5},"",null,null,20]
[2454,20200606113036,43988,"WEB (MÓDULO DE SOLICITUD DE INFORMACIÓN HIDROMETEOROLÓGICA)","SOLICITUD DE INFORMACIÓN Y DOCUMENTOS","SOLICITUD DE INFORMACIÓN HIDROMETEOROLÓGICA","NO","GRUPO DE ATENCIÓN AL CIUDADANO",44001,null,null,{"$f":"IFERROR(WORKDAY(C2465,R2465,DiasNOLaborables),\"\")","v":44020},{"$f":"+IF(C2465=\"\",\"\",IF(I2465=\"\",\"\",(IF(I2465<=L2465,\"A TIEMPO\",\"FUERA DE TIEMPO\"))))","v":"A TIEMPO"},{"$f":"IF(I2465=\"\",\"\",NETWORKDAYS([4]Hoja1!C2465+1,[4]Hoja1!P2465,DiasNOLaborables))","v":5},"",null,null,20]
[2455,20200606112815,43988,"WEB (MÓDULO DE SOLICITUD DE INFORMACIÓN HIDROMETEOROLÓGICA)","SOLICITUD DE INFORMACIÓN Y DOCUMENTOS","SOLICITUD DE INFORMACIÓN HIDROMETEOROLÓGICA","NO","GRUPO DE ATENCIÓN AL CIUDADANO",44001,null,null,{"$f":"IFERROR(WORKDAY(C2466,R2466,DiasNOLaborables),\"\")","v":44020},{"$f":"+IF(C2466=\"\",\"\",IF(I2466=\"\",\"\",(IF(I2466<=L2466,\"A TIEMPO\",\"FUERA DE TIEMPO\"))))","v":"A TIEMPO"},{"$f":"IF(I2466=\"\",\"\",NETWORKDAYS([4]Hoja1!C2466+1,[4]Hoja1!P2466,DiasNOLaborables))","v":2},"",null,null,20]
[2456,20200606104738,43988,"WEB (MÓDULO DE SOLICITUD DE INFORMACIÓN HIDROMETEOROLÓGICA)","SOLICITUD DE INFORMACIÓN Y DOCUMENTOS","SOLICITUD DE INFORMACIÓN HIDROMETEOROLÓGICA","NO","GRUPO DE ATENCIÓN AL CIUDADANO",44001,null,null,{"$f":"IFERROR(WORKDAY(C2467,R2467,DiasNOLaborables),\"\")","v":44020},{"$f":"+IF(C2467=\"\",\"\",IF(I2467=\"\",\"\",(IF(I2467<=L2467,\"A TIEMPO\",\"FUERA DE TIEMPO\"))))","v":"A TIEMPO"},{"$f":"IF(I2467=\"\",\"\",NETWORKDAYS([4]Hoja1!C2467+1,[4]Hoja1!P2467,DiasNOLaborables))","v":2},"",null,null,20]
[2457,20200606104514,43988,"WEB (MÓDULO DE SOLICITUD DE INFORMACIÓN HIDROMETEOROLÓGICA)","SOLICITUD DE INFORMACIÓN Y DOCUMENTOS","SOLICITUD DE INFORMACIÓN HIDROMETEOROLÓGICA","NO","GRUPO DE ATENCIÓN AL CIUDADANO",44001,null,null,{"$f":"IFERROR(WORKDAY(C2468,R2468,DiasNOLaborables),\"\")","v":44020},{"$f":"+IF(C2468=\"\",\"\",IF(I2468=\"\",\"\",(IF(I2468<=L2468,\"A TIEMPO\",\"FUERA DE TIEMPO\"))))","v":"A TIEMPO"},{"$f":"IF(I2468=\"\",\"\",NETWORKDAYS([4]Hoja1!C2468+1,[4]Hoja1!P2468,DiasNOLaborables))","v":2},"",null,null,20]
[2458,20200606104303,43988,"WEB (MÓDULO DE SOLICITUD DE INFORMACIÓN HIDROMETEOROLÓGICA)","SOLICITUD DE INFORMACIÓN Y DOCUMENTOS","SOLICITUD DE INFORMACIÓN HIDROMETEOROLÓGICA","NO","GRUPO DE ATENCIÓN AL CIUDADANO",44001,null,null,{"$f":"IFERROR(WORKDAY(C2469,R2469,DiasNOLaborables),\"\")","v":44020},{"$f":"+IF(C2469=\"\",\"\",IF(I2469=\"\",\"\",(IF(I2469<=L2469,\"A TIEMPO\",\"FUERA DE TIEMPO\"))))","v":"A TIEMPO"},{"$f":"IF(I2469=\"\",\"\",NETWORKDAYS([4]Hoja1!C2469+1,[4]Hoja1!P2469,DiasNOLaborables))","v":4},"",null,null,20]
[2459,20200607192538,43989,"MODULO CONTACTENOS","SOLICITUD DE INFORMACIÓN Y DOCUMENTOS","SOLICITUD DE INFORMACIÓN HIDROMETEOROLÓGICA","NO","GRUPO DE ATENCIÓN AL CIUDADANO",44001,null,null,{"$f":"IFERROR(WORKDAY(C2470,R2470,DiasNOLaborables),\"\")","v":44020},{"$f":"+IF(C2470=\"\",\"\",IF(I2470=\"\",\"\",(IF(I2470<=L2470,\"A TIEMPO\",\"FUERA DE TIEMPO\"))))","v":"A TIEMPO"},{"$f":"IF(I2470=\"\",\"\",NETWORKDAYS([4]Hoja1!C2470+1,[4]Hoja1!P2470,DiasNOLaborables))","v":-1},"",null,null,20]
[2460,20209050047212,43989,"CORREO ELECTRÓNICO","SOLICITUD DE INFORMACIÓN Y DOCUMENTOS","SOLICITUD DE INFORMACIÓN HIDROMETEOROLÓGICA","NO","GRUPO DE ATENCIÓN AL CIUDADANO",43992,null,null,{"$f":"IFERROR(WORKDAY(C2471,R2471,DiasNOLaborables),\"\")","v":44020},{"$f":"+IF(C2471=\"\",\"\",IF(I2471=\"\",\"\",(IF(I2471<=L2471,\"A TIEMPO\",\"FUERA DE TIEMPO\"))))","v":"A TIEMPO"},{"$f":"IF(I2471=\"\",\"\",NETWORKDAYS([4]Hoja1!C2471+1,[4]Hoja1!P2471,DiasNOLaborables))","v":5},"",null,null,20]
[2461,20209050047222,43989,"CORREO ELECTRÓNICO","SOLICITUD DE INFORMACIÓN Y DOCUMENTOS","SOLICITUD DE INFORMACIÓN HIDROMETEOROLÓGICA","NO","GRUPO DE ATENCIÓN AL CIUDADANO",43992,null,null,{"$f":"IFERROR(WORKDAY(C2472,R2472,DiasNOLaborables),\"\")","v":44020},{"$f":"+IF(C2472=\"\",\"\",IF(I2472=\"\",\"\",(IF(I2472<=L2472,\"A TIEMPO\",\"FUERA DE TIEMPO\"))))","v":"A TIEMPO"},{"$f":"IF(I2472=\"\",\"\",NETWORKDAYS([4]Hoja1!C2472+1,[4]Hoja1!P2472,DiasNOLaborables))","v":5},"",null,null,20]
[2462,20209050047232,43989,"CORREO ELECTRÓNICO","SOLICITUD DE INFORMACIÓN Y DOCUMENTOS","SOLICITUD DE INFORMACIÓN HIDROMETEOROLÓGICA","NO","GRUPO DE ATENCIÓN AL CIUDADANO",43992,null,null,{"$f":"IFERROR(WORKDAY(C2473,R2473,DiasNOLaborables),\"\")","v":44020},{"$f":"+IF(C2473=\"\",\"\",IF(I2473=\"\",\"\",(IF(I2473<=L2473,\"A TIEMPO\",\"FUERA DE TIEMPO\"))))","v":"A TIEMPO"},{"$f":"IF(I2473=\"\",\"\",NETWORKDAYS([4]Hoja1!C2473+1,[4]Hoja1!P2473,DiasNOLaborables))","v":1},"",null,null,20]
[2463,20209050047242,43989,"CORREO ELECTRÓNICO","SOLICITUD DE INFORMACIÓN Y DOCUMENTOS","SOLICITUD DE INFORMACIÓN HIDROMETEOROLÓGICA","NO","GRUPO DE ATENCIÓN AL CIUDADANO",43992,null,null,{"$f":"IFERROR(WORKDAY(C2474,R2474,DiasNOLaborables),\"\")","v":44020},{"$f":"+IF(C2474=\"\",\"\",IF(I2474=\"\",\"\",(IF(I2474<=L2474,\"A TIEMPO\",\"FUERA DE TIEMPO\"))))","v":"A TIEMPO"},{"$f":"IF(I2474=\"\",\"\",NETWORKDAYS([4]Hoja1!C2474+1,[4]Hoja1!P2474,DiasNOLaborables))","v":13},"",null,null,20]
[2464,20209050047252,43989,"CORREO ELECTRÓNICO","SOLICITUD DE INFORMACIÓN Y DOCUMENTOS","SOLICITUD DE INFORMACIÓN HIDROMETEOROLÓGICA","NO","GRUPO DE ATENCIÓN AL CIUDADANO",43992,null,null,{"$f":"IFERROR(WORKDAY(C2475,R2475,DiasNOLaborables),\"\")","v":44020},{"$f":"+IF(C2475=\"\",\"\",IF(I2475=\"\",\"\",(IF(I2475<=L2475,\"A TIEMPO\",\"FUERA DE TIEMPO\"))))","v":"A TIEMPO"},{"$f":"IF(I2475=\"\",\"\",NETWORKDAYS([4]Hoja1!C2475+1,[4]Hoja1!P2475,DiasNOLaborables))","v":5},"",null,null,20]
[2465,20209050047262,43989,"CORREO ELECTRÓNICO","SOLICITUD DE INFORMACIÓN Y DOCUMENTOS","SOLICITUD DE INFORMACIÓN HIDROMETEOROLÓGICA","NO","GRUPO DE ATENCIÓN AL CIUDADANO",43992,null,null,{"$f":"IFERROR(WORKDAY(C2476,R2476,DiasNOLaborables),\"\")","v":44020},{"$f":"+IF(C2476=\"\",\"\",IF(I2476=\"\",\"\",(IF(I2476<=L2476,\"A TIEMPO\",\"FUERA DE TIEMPO\"))))","v":"A TIEMPO"},{"$f":"IF(I2476=\"\",\"\",NETWORKDAYS([4]Hoja1!C2476+1,[4]Hoja1!P2476,DiasNOLaborables))","v":7},"",null,null,20]
[2466,20209050047272,43989,"CORREO ELECTRÓNICO","SOLICITUD DE INFORMACIÓN Y DOCUMENTOS","SOLICITUD DE INFORMACIÓN HIDROMETEOROLÓGICA","NO","GRUPO DE ATENCIÓN AL CIUDADANO",43993,null,null,{"$f":"IFERROR(WORKDAY(C2477,R2477,DiasNOLaborables),\"\")","v":44020},{"$f":"+IF(C2477=\"\",\"\",IF(I2477=\"\",\"\",(IF(I2477<=L2477,\"A TIEMPO\",\"FUERA DE TIEMPO\"))))","v":"A TIEMPO"},{"$f":"IF(I2477=\"\",\"\",NETWORKDAYS([4]Hoja1!C2477+1,[4]Hoja1!P2477,DiasNOLaborables))","v":6},"",null,null,20]
[2467,20209050047282,43989,"CORREO ELECTRÓNICO","SOLICITUD DE INFORMACIÓN Y DOCUMENTOS","SOLICITUD DE INFORMACIÓN HIDROMETEOROLÓGICA","SI","GRUPO DE ATENCIÓN AL CIUDADANO",43993,null,null,{"$f":"IFERROR(WORKDAY(C2478,R2478,DiasNOLaborables),\"\")","v":44020},{"$f":"+IF(C2478=\"\",\"\",IF(I2478=\"\",\"\",(IF(I2478<=L2478,\"A TIEMPO\",\"FUERA DE TIEMPO\"))))","v":"A TIEMPO"},{"$f":"IF(I2478=\"\",\"\",NETWORKDAYS([4]Hoja1!C2478+1,[4]Hoja1!P2478,DiasNOLaborables))","v":6},"",null,null,20]
[2468,20209050047202,43989,"MODULO CONTACTENOS","SOLICITUD DE INFORMACIÓN Y DOCUMENTOS","SOLICITUD DE INFORMACIÓN HIDROMETEOROLÓGICA","SI","OFICINA DE INFORMÁTICA",43993,null,null,{"$f":"IFERROR(WORKDAY(C2479,R2479,DiasNOLaborables),\"\")","v":44020},{"$f":"+IF(C2479=\"\",\"\",IF(I2479=\"\",\"\",(IF(I2479<=L2479,\"A TIEMPO\",\"FUERA DE TIEMPO\"))))","v":"A TIEMPO"},{"$f":"IF(I2479=\"\",\"\",NETWORKDAYS([4]Hoja1!C2479+1,[4]Hoja1!P2479,DiasNOLaborables))","v":6},"",null,null,20]
[2469,20209050047332,43990,"MODULO CONTACTENOS","SOLICITUD DE INFORMACIÓN Y DOCUMENTOS","REGISTROS AMBIENTALES","SI","SUBDIRECCIÓN DE ESTUDIOS AMBIENTALES",43989,null,null,{"$f":"IFERROR(WORKDAY(C2480,R2480,DiasNOLaborables),\"\")","v":44021},{"$f":"+IF(C2480=\"\",\"\",IF(I2480=\"\",\"\",(IF(I2480<=L2480,\"A TIEMPO\",\"FUERA DE TIEMPO\"))))","v":"A TIEMPO"},{"$f":"IF(I2480=\"\",\"\",NETWORKDAYS([4]Hoja1!C2480+1,[4]Hoja1!P2480,DiasNOLaborables))","v":6},"",null,null,20]
[2470,20209050047392,43990,"CORREO ELECTRÓNICO","SOLICITUD DE INFORMACIÓN Y DOCUMENTOS","SOLICITUD DE INFORMACIÓN HIDROMETEOROLÓGICA","SI","SUBDIRECCIÓN DE HIDROLOGÍA",43998,null,null,{"$f":"IFERROR(WORKDAY(C2481,R2481,DiasNOLaborables),\"\")","v":44021},{"$f":"+IF(C2481=\"\",\"\",IF(I2481=\"\",\"\",(IF(I2481<=L2481,\"A TIEMPO\",\"FUERA DE TIEMPO\"))))","v":"A TIEMPO"},{"$f":"IF(I2481=\"\",\"\",NETWORKDAYS([4]Hoja1!C2481+1,[4]Hoja1!P2481,DiasNOLaborables))","v":40},"",null,null,20]
[{"$f":"IF(B2480<>\"\",A2481+1,\"\")","v":2471},20209050047402,43990,"CORREO ELECTRÓNICO","SOLICITUD DE INFORMACIÓN Y DOCUMENTOS","SOLICITUD DE INFORMACIÓN HIDROMETEOROLÓGICA","SI","SUBDIRECCIÓN DE ESTUDIOS AMBIENTALES",44008,null,null,{"$f":"IFERROR(WORKDAY(C2482,R2482,DiasNOLaborables),\"\")","v":44021},{"$f":"+IF(C2482=\"\",\"\",IF(I2482=\"\",\"\",(IF(I2482<=L2482,\"A TIEMPO\",\"FUERA DE TIEMPO\"))))","v":"A TIEMPO"},{"$f":"IF(I2482=\"\",\"\",NETWORKDAYS([4]Hoja1!C2482+1,[4]Hoja1!P2482,DiasNOLaborables))","v":12},"",null,null,20]
[2472,20209050047412,43990,"CORREO ELECTRÓNICO","SOLICITUD DE INFORMACIÓN Y DOCUMENTOS","REGISTROS AMBIENTALES","SI","SUBDIRECCIÓN DE ESTUDIOS AMBIENTALES",43990,null,null,{"$f":"IFERROR(WORKDAY(C2483,R2483,DiasNOLaborables),\"\")","v":44021},{"$f":"+IF(C2483=\"\",\"\",IF(I2483=\"\",\"\",(IF(I2483<=L2483,\"A TIEMPO\",\"FUERA DE TIEMPO\"))))","v":"A TIEMPO"},{"$f":"IF(I2483=\"\",\"\",NETWORKDAYS([4]Hoja1!C2483+1,[4]Hoja1!P2483,DiasNOLaborables))","v":0},{"$f":"IF(NETWORKDAYS(L2483+1,I2483,DiasNOLaborables)<=0,\"\",NETWORKDAYS(L2483+1,I2483,DiasNOLaborables))","v":""},null,null,20]
[2473,20209050047432,43990,"CORREO ELECTRÓNICO","SOLICITUD DE INFORMACIÓN Y DOCUMENTOS","ADMINISTRATIVA","SI","GRUPO DE ADMINISTRACIÓN Y DESARROLLO DEL TALENTO HUMANO",43990,null,null,{"$f":"IFERROR(WORKDAY(C2484,R2484,DiasNOLaborables),\"\")","v":44021},{"$f":"+IF(C2484=\"\",\"\",IF(I2484=\"\",\"\",(IF(I2484<=L2484,\"A TIEMPO\",\"FUERA DE TIEMPO\"))))","v":"A TIEMPO"},{"$f":"IF(I2484=\"\",\"\",NETWORKDAYS([4]Hoja1!C2484+1,[4]Hoja1!P2484,DiasNOLaborables))","v":10},{"$f":"IF(NETWORKDAYS(L2484+1,I2484,DiasNOLaborables)<=0,\"\",NETWORKDAYS(L2484+1,I2484,DiasNOLaborables))","v":""},null,null,20]
[2474,20209050047342,43990,"MODULO CONTACTENOS","SOLICITUD DE INFORMACIÓN Y DOCUMENTOS","ADMINISTRATIVA","SI","GRUPO DE ADMINISTRACIÓN Y DESARROLLO DEL TALENTO HUMANO",43999,null,null,{"$f":"IFERROR(WORKDAY(C2485,R2485,DiasNOLaborables),\"\")","v":44021},{"$f":"+IF(C2485=\"\",\"\",IF(I2485=\"\",\"\",(IF(I2485<=L2485,\"A TIEMPO\",\"FUERA DE TIEMPO\"))))","v":"A TIEMPO"},{"$f":"IF(I2485=\"\",\"\",NETWORKDAYS([4]Hoja1!C2485+1,[4]Hoja1!P2485,DiasNOLaborables))","v":9},"",null,null,20]
[2475,20209050047382,43990,"MODULO CONTACTENOS","CERTIFICACIONES DE TIEMPO, CLIMA Y EVENTOS HIDROLÓGICOS","CERTIFICACIONES DE TIEMPO Y CLIMA","SI","SUBDIRECCIÓN DE METEOROLOGÍA",43998,null,null,{"$f":"IFERROR(WORKDAY(C2486,R2486,DiasNOLaborables),\"\")","v":44036},{"$f":"+IF(C2486=\"\",\"\",IF(I2486=\"\",\"\",(IF(I2486<=L2486,\"A TIEMPO\",\"FUERA DE TIEMPO\"))))","v":"A TIEMPO"},{"$f":"IF(I2486=\"\",\"\",NETWORKDAYS([4]Hoja1!C2486+1,[4]Hoja1!P2486,DiasNOLaborables))","v":9},"",null,null,30]
[2476,20209050047452,43990,"MODULO CONTACTENOS","SOLICITUD DE INFORMACIÓN Y DOCUMENTOS","SOLICITUD DE INFORMACIÓN HIDROMETEOROLÓGICA","SI","OFICINA DE INFORMÁTICA",44006,null,null,{"$f":"IFERROR(WORKDAY(C2487,R2487,DiasNOLaborables),\"\")","v":44021},{"$f":"+IF(C2487=\"\",\"\",IF(I2487=\"\",\"\",(IF(I2487<=L2487,\"A TIEMPO\",\"FUERA DE TIEMPO\"))))","v":"A TIEMPO"},{"$f":"IF(I2487=\"\",\"\",NETWORKDAYS([4]Hoja1!C2487+1,[4]Hoja1!P2487,DiasNOLaborables))","v":9},"",null,null,20]
[2477,20209050047492,43990,"CORREO ELECTRÓNICO","CERTIFICACIONES DE TIEMPO, CLIMA Y EVENTOS HIDROLÓGICOS","CERTIFICACIONES DE TIEMPO Y CLIMA","SI","SUBDIRECCIÓN DE METEOROLOGÍA",43994,null,null,{"$f":"IFERROR(WORKDAY(C2488,R2488,DiasNOLaborables),\"\")","v":44036},{"$f":"+IF(C2488=\"\",\"\",IF(I2488=\"\",\"\",(IF(I2488<=L2488,\"A TIEMPO\",\"FUERA DE TIEMPO\"))))","v":"A TIEMPO"},{"$f":"IF(I2488=\"\",\"\",NETWORKDAYS([4]Hoja1!C2488+1,[4]Hoja1!P2488,DiasNOLaborables))","v":9},"",null,null,30]
[2478,20209050047662,43990,"MODULO CONTACTENOS","SOLICITUD DE INFORMACIÓN Y DOCUMENTOS","SOLICITUD DE INFORMACIÓN HIDROMETEOROLÓGICA","SI","OFICINA DE INFORMÁTICA",44006,null,null,{"$f":"IFERROR(WORKDAY(C2489,R2489,DiasNOLaborables),\"\")","v":44021},{"$f":"+IF(C2489=\"\",\"\",IF(I2489=\"\",\"\",(IF(I2489<=L2489,\"A TIEMPO\",\"FUERA DE TIEMPO\"))))","v":"A TIEMPO"},{"$f":"IF(I2489=\"\",\"\",NETWORKDAYS([4]Hoja1!C2489+1,[4]Hoja1!P2489,DiasNOLaborables))","v":9},"",null,null,20]
[2479,20209050047642,43990,"MODULO CONTACTENOS","SOLICITUD DE INFORMACIÓN Y DOCUMENTOS","SOLICITUD DE INFORMACIÓN HIDROMETEOROLÓGICA","SI","SUBDIRECCIÓN DE ECOSISTEMAS E INFORMACIÓN AMBIENTAL",44005,null,null,{"$f":"IFERROR(WORKDAY(C2490,R2490,DiasNOLaborables),\"\")","v":44021},{"$f":"+IF(C2490=\"\",\"\",IF(I2490=\"\",\"\",(IF(I2490<=L2490,\"A TIEMPO\",\"FUERA DE TIEMPO\"))))","v":"A TIEMPO"},{"$f":"IF(I2490=\"\",\"\",NETWORKDAYS([4]Hoja1!C2490+1,[4]Hoja1!P2490,DiasNOLaborables))","v":9},"",null,null,20]
[2480,20209050047572,43990,"MODULO CONTACTENOS","SOLICITUD DE INFORMACIÓN Y DOCUMENTOS","SOLICITUD DE INFORMACIÓN HIDROMETEOROLÓGICA","SI","SUBDIRECCIÓN DE METEOROLOGÍA",43994,null,null,{"$f":"IFERROR(WORKDAY(C2491,R2491,DiasNOLaborables),\"\")","v":44021},{"$f":"+IF(C2491=\"\",\"\",IF(I2491=\"\",\"\",(IF(I2491<=L2491,\"A TIEMPO\",\"FUERA DE TIEMPO\"))))","v":"A TIEMPO"},{"$f":"IF(I2491=\"\",\"\",NETWORKDAYS([4]Hoja1!C2491+1,[4]Hoja1!P2491,DiasNOLaborables))","v":9},"",null,null,20]
[2481,20209050047512,43990,"CORREO ELECTRÓNICO","SOLICITUD DE INFORMACIÓN Y DOCUMENTOS","REGISTROS AMBIENTALES","SI","SUBDIRECCIÓN DE ESTUDIOS AMBIENTALES",43990,null,null,{"$f":"IFERROR(WORKDAY(C2492,R2492,DiasNOLaborables),\"\")","v":44021},{"$f":"+IF(C2492=\"\",\"\",IF(I2492=\"\",\"\",(IF(I2492<=L2492,\"A TIEMPO\",\"FUERA DE TIEMPO\"))))","v":"A TIEMPO"},{"$f":"IF(I2492=\"\",\"\",NETWORKDAYS([4]Hoja1!C2492+1,[4]Hoja1!P2492,DiasNOLaborables))","v":9},"",null,null,20]
[2482,20200608230953,43990,"WEB (MÓDULO DE SOLICITUD DE INFORMACIÓN HIDROMETEOROLÓGICA)","SOLICITUD DE INFORMACIÓN Y DOCUMENTOS","SOLICITUD DE INFORMACIÓN HIDROMETEOROLÓGICA","NO","GRUPO DE ATENCIÓN AL CIUDADANO",44005,null,null,{"$f":"IFERROR(WORKDAY(C2493,R2493,DiasNOLaborables),\"\")","v":44021},{"$f":"+IF(C2493=\"\",\"\",IF(I2493=\"\",\"\",(IF(I2493<=L2493,\"A TIEMPO\",\"FUERA DE TIEMPO\"))))","v":"A TIEMPO"},{"$f":"IF(I2493=\"\",\"\",NETWORKDAYS([4]Hoja1!C2493+1,[4]Hoja1!P2493,DiasNOLaborables))","v":9},"",null,null,20]
[2483,20200608230044,43990,"WEB (MÓDULO DE SOLICITUD DE INFORMACIÓN HIDROMETEOROLÓGICA)","SOLICITUD DE INFORMACIÓN Y DOCUMENTOS","SOLICITUD DE INFORMACIÓN HIDROMETEOROLÓGICA","NO","GRUPO DE ATENCIÓN AL CIUDADANO",44005,null,null,{"$f":"IFERROR(WORKDAY(C2494,R2494,DiasNOLaborables),\"\")","v":44021},{"$f":"+IF(C2494=\"\",\"\",IF(I2494=\"\",\"\",(IF(I2494<=L2494,\"A TIEMPO\",\"FUERA DE TIEMPO\"))))","v":"A TIEMPO"},{"$f":"IF(I2494=\"\",\"\",NETWORKDAYS([4]Hoja1!C2494+1,[4]Hoja1!P2494,DiasNOLaborables))","v":9},"",null,null,20]
[2484,20200608224855,43990,"WEB (MÓDULO DE SOLICITUD DE INFORMACIÓN HIDROMETEOROLÓGICA)","SOLICITUD DE INFORMACIÓN Y DOCUMENTOS","SOLICITUD DE INFORMACIÓN HIDROMETEOROLÓGICA","NO","GRUPO DE ATENCIÓN AL CIUDADANO",44005,null,null,{"$f":"IFERROR(WORKDAY(C2495,R2495,DiasNOLaborables),\"\")","v":44021},{"$f":"+IF(C2495=\"\",\"\",IF(I2495=\"\",\"\",(IF(I2495<=L2495,\"A TIEMPO\",\"FUERA DE TIEMPO\"))))","v":"A TIEMPO"},{"$f":"IF(I2495=\"\",\"\",NETWORKDAYS([4]Hoja1!C2495+1,[4]Hoja1!P2495,DiasNOLaborables))","v":8},"",null,null,20]
[2485,20200608223959,43990,"WEB (MÓDULO DE SOLICITUD DE INFORMACIÓN HIDROMETEOROLÓGICA)","SOLICITUD DE INFORMACIÓN Y DOCUMENTOS","SOLICITUD DE INFORMACIÓN HIDROMETEOROLÓGICA","NO","GRUPO DE ATENCIÓN AL CIUDADANO",44005,null,null,{"$f":"IFERROR(WORKDAY(C2496,R2496,DiasNOLaborables),\"\")","v":44021},{"$f":"+IF(C2496=\"\",\"\",IF(I2496=\"\",\"\",(IF(I2496<=L2496,\"A TIEMPO\",\"FUERA DE TIEMPO\"))))","v":"A TIEMPO"},{"$f":"IF(I2496=\"\",\"\",NETWORKDAYS([4]Hoja1!C2496+1,[4]Hoja1!P2496,DiasNOLaborables))","v":8},"",null,null,20]
[2486,20200608223655,43990,"WEB (MÓDULO DE SOLICITUD DE INFORMACIÓN HIDROMETEOROLÓGICA)","SOLICITUD DE INFORMACIÓN Y DOCUMENTOS","SOLICITUD DE INFORMACIÓN HIDROMETEOROLÓGICA","NO","GRUPO DE ATENCIÓN AL CIUDADANO",44005,null,null,{"$f":"IFERROR(WORKDAY(C2497,R2497,DiasNOLaborables),\"\")","v":44021},{"$f":"+IF(C2497=\"\",\"\",IF(I2497=\"\",\"\",(IF(I2497<=L2497,\"A TIEMPO\",\"FUERA DE TIEMPO\"))))","v":"A TIEMPO"},{"$f":"IF(I2497=\"\",\"\",NETWORKDAYS([4]Hoja1!C2497+1,[4]Hoja1!P2497,DiasNOLaborables))","v":8},"",null,null,20]
[2487,20200608223312,43990,"WEB (MÓDULO DE SOLICITUD DE INFORMACIÓN HIDROMETEOROLÓGICA)","SOLICITUD DE INFORMACIÓN Y DOCUMENTOS","SOLICITUD DE INFORMACIÓN HIDROMETEOROLÓGICA","NO","GRUPO DE ATENCIÓN AL CIUDADANO",44005,null,null,{"$f":"IFERROR(WORKDAY(C2498,R2498,DiasNOLaborables),\"\")","v":44021},{"$f":"+IF(C2498=\"\",\"\",IF(I2498=\"\",\"\",(IF(I2498<=L2498,\"A TIEMPO\",\"FUERA DE TIEMPO\"))))","v":"A TIEMPO"},{"$f":"IF(I2498=\"\",\"\",NETWORKDAYS([4]Hoja1!C2498+1,[4]Hoja1!P2498,DiasNOLaborables))","v":8},"",null,null,20]
[2488,20200608222927,43990,"WEB (MÓDULO DE SOLICITUD DE INFORMACIÓN HIDROMETEOROLÓGICA)","SOLICITUD DE INFORMACIÓN Y DOCUMENTOS","SOLICITUD DE INFORMACIÓN HIDROMETEOROLÓGICA","NO","GRUPO DE ATENCIÓN AL CIUDADANO",44005,null,null,{"$f":"IFERROR(WORKDAY(C2499,R2499,DiasNOLaborables),\"\")","v":44021},{"$f":"+IF(C2499=\"\",\"\",IF(I2499=\"\",\"\",(IF(I2499<=L2499,\"A TIEMPO\",\"FUERA DE TIEMPO\"))))","v":"A TIEMPO"},{"$f":"IF(I2499=\"\",\"\",NETWORKDAYS([4]Hoja1!C2499+1,[4]Hoja1!P2499,DiasNOLaborables))","v":8},"",null,null,20]
[2489,20200608222610,43990,"WEB (MÓDULO DE SOLICITUD DE INFORMACIÓN HIDROMETEOROLÓGICA)","SOLICITUD DE INFORMACIÓN Y DOCUMENTOS","SOLICITUD DE INFORMACIÓN HIDROMETEOROLÓGICA","NO","GRUPO DE ATENCIÓN AL CIUDADANO",44005,null,null,{"$f":"IFERROR(WORKDAY(C2500,R2500,DiasNOLaborables),\"\")","v":44021},{"$f":"+IF(C2500=\"\",\"\",IF(I2500=\"\",\"\",(IF(I2500<=L2500,\"A TIEMPO\",\"FUERA DE TIEMPO\"))))","v":"A TIEMPO"},{"$f":"IF(I2500=\"\",\"\",NETWORKDAYS([4]Hoja1!C2500+1,[4]Hoja1!P2500,DiasNOLaborables))","v":8},"",null,null,20]
[2490,20200608222246,43990,"WEB (MÓDULO DE SOLICITUD DE INFORMACIÓN HIDROMETEOROLÓGICA)","SOLICITUD DE INFORMACIÓN Y DOCUMENTOS","SOLICITUD DE INFORMACIÓN HIDROMETEOROLÓGICA","NO","GRUPO DE ATENCIÓN AL CIUDADANO",44005,null,null,{"$f":"IFERROR(WORKDAY(C2501,R2501,DiasNOLaborables),\"\")","v":44021},{"$f":"+IF(C2501=\"\",\"\",IF(I2501=\"\",\"\",(IF(I2501<=L2501,\"A TIEMPO\",\"FUERA DE TIEMPO\"))))","v":"A TIEMPO"},{"$f":"IF(I2501=\"\",\"\",NETWORKDAYS([4]Hoja1!C2501+1,[4]Hoja1!P2501,DiasNOLaborables))","v":8},"",null,null,20]
[2491,20200608221954,43990,"WEB (MÓDULO DE SOLICITUD DE INFORMACIÓN HIDROMETEOROLÓGICA)","SOLICITUD DE INFORMACIÓN Y DOCUMENTOS","SOLICITUD DE INFORMACIÓN HIDROMETEOROLÓGICA","NO","GRUPO DE ATENCIÓN AL CIUDADANO",44005,null,null,{"$f":"IFERROR(WORKDAY(C2502,R2502,DiasNOLaborables),\"\")","v":44021},{"$f":"+IF(C2502=\"\",\"\",IF(I2502=\"\",\"\",(IF(I2502<=L2502,\"A TIEMPO\",\"FUERA DE TIEMPO\"))))","v":"A TIEMPO"},{"$f":"IF(I2502=\"\",\"\",NETWORKDAYS([4]Hoja1!C2502+1,[4]Hoja1!P2502,DiasNOLaborables))","v":8},"",null,null,{"$f":"IFERROR(VLOOKUP(E2502,$Z$50:$AA$63,2),\"\")","v":20}]
[2492,20200608221701,43990,"WEB (MÓDULO DE SOLICITUD DE INFORMACIÓN HIDROMETEOROLÓGICA)","SOLICITUD DE INFORMACIÓN Y DOCUMENTOS","SOLICITUD DE INFORMACIÓN HIDROMETEOROLÓGICA","NO","GRUPO DE ATENCIÓN AL CIUDADANO",44005,null,null,{"$f":"IFERROR(WORKDAY(C2503,R2503,DiasNOLaborables),\"\")","v":44021},{"$f":"+IF(C2503=\"\",\"\",IF(I2503=\"\",\"\",(IF(I2503<=L2503,\"A TIEMPO\",\"FUERA DE TIEMPO\"))))","v":"A TIEMPO"},{"$f":"IF(I2503=\"\",\"\",NETWORKDAYS([4]Hoja1!C2503+1,[4]Hoja1!P2503,DiasNOLaborables))","v":8},"",null,null,20]
[2493,20200608221412,43990,"WEB (MÓDULO DE SOLICITUD DE INFORMACIÓN HIDROMETEOROLÓGICA)","SOLICITUD DE INFORMACIÓN Y DOCUMENTOS","SOLICITUD DE INFORMACIÓN HIDROMETEOROLÓGICA","NO","GRUPO DE ATENCIÓN AL CIUDADANO",44005,null,null,{"$f":"IFERROR(WORKDAY(C2504,R2504,DiasNOLaborables),\"\")","v":44021},{"$f":"+IF(C2504=\"\",\"\",IF(I2504=\"\",\"\",(IF(I2504<=L2504,\"A TIEMPO\",\"FUERA DE TIEMPO\"))))","v":"A TIEMPO"},{"$f":"IF(I2504=\"\",\"\",NETWORKDAYS([4]Hoja1!C2504+1,[4]Hoja1!P2504,DiasNOLaborables))","v":8},"",null,null,20]
[2494,20200608221104,43990,"WEB (MÓDULO DE SOLICITUD DE INFORMACIÓN HIDROMETEOROLÓGICA)","SOLICITUD DE INFORMACIÓN Y DOCUMENTOS","SOLICITUD DE INFORMACIÓN HIDROMETEOROLÓGICA","NO","GRUPO DE ATENCIÓN AL CIUDADANO",44005,null,null,{"$f":"IFERROR(WORKDAY(C2505,R2505,DiasNOLaborables),\"\")","v":44021},{"$f":"+IF(C2505=\"\",\"\",IF(I2505=\"\",\"\",(IF(I2505<=L2505,\"A TIEMPO\",\"FUERA DE TIEMPO\"))))","v":"A TIEMPO"},{"$f":"IF(I2505=\"\",\"\",NETWORKDAYS([4]Hoja1!C2505+1,[4]Hoja1!P2505,DiasNOLaborables))","v":8},"",null,null,20]
[2495,20200608220713,43990,"WEB (MÓDULO DE SOLICITUD DE INFORMACIÓN HIDROMETEOROLÓGICA)","SOLICITUD DE INFORMACIÓN Y DOCUMENTOS","SOLICITUD DE INFORMACIÓN HIDROMETEOROLÓGICA","NO","GRUPO DE ATENCIÓN AL CIUDADANO",44005,null,null,{"$f":"IFERROR(WORKDAY(C2506,R2506,DiasNOLaborables),\"\")","v":44021},{"$f":"+IF(C2506=\"\",\"\",IF(I2506=\"\",\"\",(IF(I2506<=L2506,\"A TIEMPO\",\"FUERA DE TIEMPO\"))))","v":"A TIEMPO"},{"$f":"IF(I2506=\"\",\"\",NETWORKDAYS([4]Hoja1!C2506+1,[4]Hoja1!P2506,DiasNOLaborables))","v":8},"",null,null,20]
[2496,20200608220410,43990,"WEB (MÓDULO DE SOLICITUD DE INFORMACIÓN HIDROMETEOROLÓGICA)","SOLICITUD DE INFORMACIÓN Y DOCUMENTOS","SOLICITUD DE INFORMACIÓN HIDROMETEOROLÓGICA","NO","GRUPO DE ATENCIÓN AL CIUDADANO",44005,null,null,{"$f":"IFERROR(WORKDAY(C2507,R2507,DiasNOLaborables),\"\")","v":44021},{"$f":"+IF(C2507=\"\",\"\",IF(I2507=\"\",\"\",(IF(I2507<=L2507,\"A TIEMPO\",\"FUERA DE TIEMPO\"))))","v":"A TIEMPO"},{"$f":"IF(I2507=\"\",\"\",NETWORKDAYS([4]Hoja1!C2507+1,[4]Hoja1!P2507,DiasNOLaborables))","v":10},"",null,null,20]
[2497,20200608220117,43990,"WEB (MÓDULO DE SOLICITUD DE INFORMACIÓN HIDROMETEOROLÓGICA)","SOLICITUD DE INFORMACIÓN Y DOCUMENTOS","SOLICITUD DE INFORMACIÓN HIDROMETEOROLÓGICA","NO","GRUPO DE ATENCIÓN AL CIUDADANO",44005,null,null,{"$f":"IFERROR(WORKDAY(C2508,R2508,DiasNOLaborables),\"\")","v":44021},{"$f":"+IF(C2508=\"\",\"\",IF(I2508=\"\",\"\",(IF(I2508<=L2508,\"A TIEMPO\",\"FUERA DE TIEMPO\"))))","v":"A TIEMPO"},{"$f":"IF(I2508=\"\",\"\",NETWORKDAYS([4]Hoja1!C2508+1,[4]Hoja1!P2508,DiasNOLaborables))","v":10},"",null,null,20]
[2498,20200608215810,43990,"WEB (MÓDULO DE SOLICITUD DE INFORMACIÓN HIDROMETEOROLÓGICA)","SOLICITUD DE INFORMACIÓN Y DOCUMENTOS","SOLICITUD DE INFORMACIÓN HIDROMETEOROLÓGICA","NO","GRUPO DE ATENCIÓN AL CIUDADANO",44005,null,null,{"$f":"IFERROR(WORKDAY(C2509,R2509,DiasNOLaborables),\"\")","v":44021},{"$f":"+IF(C2509=\"\",\"\",IF(I2509=\"\",\"\",(IF(I2509<=L2509,\"A TIEMPO\",\"FUERA DE TIEMPO\"))))","v":"A TIEMPO"},{"$f":"IF(I2509=\"\",\"\",NETWORKDAYS([4]Hoja1!C2509+1,[4]Hoja1!P2509,DiasNOLaborables))","v":10},"",null,null,20]
[2499,20200608214858,43990,"WEB (MÓDULO DE SOLICITUD DE INFORMACIÓN HIDROMETEOROLÓGICA)","SOLICITUD DE INFORMACIÓN Y DOCUMENTOS","SOLICITUD DE INFORMACIÓN HIDROMETEOROLÓGICA","NO","GRUPO DE ATENCIÓN AL CIUDADANO",44005,null,null,{"$f":"IFERROR(WORKDAY(C2510,R2510,DiasNOLaborables),\"\")","v":44021},{"$f":"+IF(C2510=\"\",\"\",IF(I2510=\"\",\"\",(IF(I2510<=L2510,\"A TIEMPO\",\"FUERA DE TIEMPO\"))))","v":"A TIEMPO"},{"$f":"IF(I2510=\"\",\"\",NETWORKDAYS([4]Hoja1!C2510+1,[4]Hoja1!P2510,DiasNOLaborables))","v":10},"",null,null,20]
[2500,20200608213813,43990,"WEB (MÓDULO DE SOLICITUD DE INFORMACIÓN HIDROMETEOROLÓGICA)","SOLICITUD DE INFORMACIÓN Y DOCUMENTOS","SOLICITUD DE INFORMACIÓN HIDROMETEOROLÓGICA","NO","GRUPO DE ATENCIÓN AL CIUDADANO",44005,null,null,{"$f":"IFERROR(WORKDAY(C2511,R2511,DiasNOLaborables),\"\")","v":44021},{"$f":"+IF(C2511=\"\",\"\",IF(I2511=\"\",\"\",(IF(I2511<=L2511,\"A TIEMPO\",\"FUERA DE TIEMPO\"))))","v":"A TIEMPO"},{"$f":"IF(I2511=\"\",\"\",NETWORKDAYS([4]Hoja1!C2511+1,[4]Hoja1!P2511,DiasNOLaborables))","v":10},"",null,null,20]
[2501,20200608212855,43990,"WEB (MÓDULO DE SOLICITUD DE INFORMACIÓN HIDROMETEOROLÓGICA)","SOLICITUD DE INFORMACIÓN Y DOCUMENTOS","SOLICITUD DE INFORMACIÓN HIDROMETEOROLÓGICA","NO","GRUPO DE ATENCIÓN AL CIUDADANO",44005,null,null,{"$f":"IFERROR(WORKDAY(C2512,R2512,DiasNOLaborables),\"\")","v":44021},{"$f":"+IF(C2512=\"\",\"\",IF(I2512=\"\",\"\",(IF(I2512<=L2512,\"A TIEMPO\",\"FUERA DE TIEMPO\"))))","v":"A TIEMPO"},{"$f":"IF(I2512=\"\",\"\",NETWORKDAYS([4]Hoja1!C2512+1,[4]Hoja1!P2512,DiasNOLaborables))","v":10},"",null,null,20]
[2502,20200608212359,43990,"WEB (MÓDULO DE SOLICITUD DE INFORMACIÓN HIDROMETEOROLÓGICA)","SOLICITUD DE INFORMACIÓN Y DOCUMENTOS","SOLICITUD DE INFORMACIÓN HIDROMETEOROLÓGICA","NO","GRUPO DE ATENCIÓN AL CIUDADANO",44005,null,null,{"$f":"IFERROR(WORKDAY(C2513,R2513,DiasNOLaborables),\"\")","v":44021},{"$f":"+IF(C2513=\"\",\"\",IF(I2513=\"\",\"\",(IF(I2513<=L2513,\"A TIEMPO\",\"FUERA DE TIEMPO\"))))","v":"A TIEMPO"},{"$f":"IF(I2513=\"\",\"\",NETWORKDAYS([4]Hoja1!C2513+1,[4]Hoja1!P2513,DiasNOLaborables))","v":10},"",null,null,20]
[2503,20200608211240,43990,"WEB (MÓDULO DE SOLICITUD DE INFORMACIÓN HIDROMETEOROLÓGICA)","SOLICITUD DE INFORMACIÓN Y DOCUMENTOS","SOLICITUD DE INFORMACIÓN HIDROMETEOROLÓGICA","NO","GRUPO DE ATENCIÓN AL CIUDADANO",44005,null,null,{"$f":"IFERROR(WORKDAY(C2514,R2514,DiasNOLaborables),\"\")","v":44021},{"$f":"+IF(C2514=\"\",\"\",IF(I2514=\"\",\"\",(IF(I2514<=L2514,\"A TIEMPO\",\"FUERA DE TIEMPO\"))))","v":"A TIEMPO"},{"$f":"IF(I2514=\"\",\"\",NETWORKDAYS([4]Hoja1!C2514+1,[4]Hoja1!P2514,DiasNOLaborables))","v":10},"",null,null,20]
[2504,20200608210717,43990,"WEB (MÓDULO DE SOLICITUD DE INFORMACIÓN HIDROMETEOROLÓGICA)","SOLICITUD DE INFORMACIÓN Y DOCUMENTOS","SOLICITUD DE INFORMACIÓN HIDROMETEOROLÓGICA","NO","GRUPO DE ATENCIÓN AL CIUDADANO",44005,null,null,{"$f":"IFERROR(WORKDAY(C2515,R2515,DiasNOLaborables),\"\")","v":44021},{"$f":"+IF(C2515=\"\",\"\",IF(I2515=\"\",\"\",(IF(I2515<=L2515,\"A TIEMPO\",\"FUERA DE TIEMPO\"))))","v":"A TIEMPO"},{"$f":"IF(I2515=\"\",\"\",NETWORKDAYS([4]Hoja1!C2515+1,[4]Hoja1!P2515,DiasNOLaborables))","v":15},"",null,null,20]
[2505,20200608205730,43990,"WEB (MÓDULO DE SOLICITUD DE INFORMACIÓN HIDROMETEOROLÓGICA)","SOLICITUD DE INFORMACIÓN Y DOCUMENTOS","SOLICITUD DE INFORMACIÓN HIDROMETEOROLÓGICA","NO","GRUPO DE ATENCIÓN AL CIUDADANO",44005,null,null,{"$f":"IFERROR(WORKDAY(C2516,R2516,DiasNOLaborables),\"\")","v":44021},{"$f":"+IF(C2516=\"\",\"\",IF(I2516=\"\",\"\",(IF(I2516<=L2516,\"A TIEMPO\",\"FUERA DE TIEMPO\"))))","v":"A TIEMPO"},{"$f":"IF(I2516=\"\",\"\",NETWORKDAYS([4]Hoja1!C2516+1,[4]Hoja1!P2516,DiasNOLaborables))","v":15},"",null,null,20]
[2506,20200608201927,43990,"WEB (MÓDULO DE SOLICITUD DE INFORMACIÓN HIDROMETEOROLÓGICA)","SOLICITUD DE INFORMACIÓN Y DOCUMENTOS","SOLICITUD DE INFORMACIÓN HIDROMETEOROLÓGICA","NO","GRUPO DE ATENCIÓN AL CIUDADANO",44005,null,null,{"$f":"IFERROR(WORKDAY(C2517,R2517,DiasNOLaborables),\"\")","v":44021},{"$f":"+IF(C2517=\"\",\"\",IF(I2517=\"\",\"\",(IF(I2517<=L2517,\"A TIEMPO\",\"FUERA DE TIEMPO\"))))","v":"A TIEMPO"},{"$f":"IF(I2517=\"\",\"\",NETWORKDAYS([4]Hoja1!C2517+1,[4]Hoja1!P2517,DiasNOLaborables))","v":15},"",null,null,20]
[2507,20200608195324,43990,"WEB (MÓDULO DE SOLICITUD DE INFORMACIÓN HIDROMETEOROLÓGICA)","SOLICITUD DE INFORMACIÓN Y DOCUMENTOS","SOLICITUD DE INFORMACIÓN HIDROMETEOROLÓGICA","NO","GRUPO DE ATENCIÓN AL CIUDADANO",44005,null,null,{"$f":"IFERROR(WORKDAY(C2518,R2518,DiasNOLaborables),\"\")","v":44021},{"$f":"+IF(C2518=\"\",\"\",IF(I2518=\"\",\"\",(IF(I2518<=L2518,\"A TIEMPO\",\"FUERA DE TIEMPO\"))))","v":"A TIEMPO"},{"$f":"IF(I2518=\"\",\"\",NETWORKDAYS([4]Hoja1!C2518+1,[4]Hoja1!P2518,DiasNOLaborables))","v":15},"",null,null,20]
[2508,20200608145102,43990,"WEB (MÓDULO DE SOLICITUD DE INFORMACIÓN HIDROMETEOROLÓGICA)","SOLICITUD DE INFORMACIÓN Y DOCUMENTOS","SOLICITUD DE INFORMACIÓN HIDROMETEOROLÓGICA","NO","GRUPO DE ATENCIÓN AL CIUDADANO",44005,null,null,{"$f":"IFERROR(WORKDAY(C2519,R2519,DiasNOLaborables),\"\")","v":44021},{"$f":"+IF(C2519=\"\",\"\",IF(I2519=\"\",\"\",(IF(I2519<=L2519,\"A TIEMPO\",\"FUERA DE TIEMPO\"))))","v":"A TIEMPO"},{"$f":"IF(I2519=\"\",\"\",NETWORKDAYS([4]Hoja1!C2519+1,[4]Hoja1!P2519,DiasNOLaborables))","v":15},"",null,null,20]
[2509,20200608103331,43990,"WEB (MÓDULO DE SOLICITUD DE INFORMACIÓN HIDROMETEOROLÓGICA)","SOLICITUD DE INFORMACIÓN Y DOCUMENTOS","SOLICITUD DE INFORMACIÓN HIDROMETEOROLÓGICA","NO","GRUPO DE ATENCIÓN AL CIUDADANO",44005,null,null,{"$f":"IFERROR(WORKDAY(C2520,R2520,DiasNOLaborables),\"\")","v":44021},{"$f":"+IF(C2520=\"\",\"\",IF(I2520=\"\",\"\",(IF(I2520<=L2520,\"A TIEMPO\",\"FUERA DE TIEMPO\"))))","v":"A TIEMPO"},{"$f":"IF(I2520=\"\",\"\",NETWORKDAYS([4]Hoja1!C2520+1,[4]Hoja1!P2520,DiasNOLaborables))","v":14},"",null,null,20]
[2510,20200608103001,43990,"WEB (MÓDULO DE SOLICITUD DE INFORMACIÓN HIDROMETEOROLÓGICA)","SOLICITUD DE INFORMACIÓN Y DOCUMENTOS","SOLICITUD DE INFORMACIÓN HIDROMETEOROLÓGICA","NO","GRUPO DE ATENCIÓN AL CIUDADANO",44005,null,null,{"$f":"IFERROR(WORKDAY(C2521,R2521,DiasNOLaborables),\"\")","v":44021},{"$f":"+IF(C2521=\"\",\"\",IF(I2521=\"\",\"\",(IF(I2521<=L2521,\"A TIEMPO\",\"FUERA DE TIEMPO\"))))","v":"A TIEMPO"},{"$f":"IF(I2521=\"\",\"\",NETWORKDAYS([4]Hoja1!C2521+1,[4]Hoja1!P2521,DiasNOLaborables))","v":14},"",null,null,20]
[2511,20200608101101,43990,"WEB (MÓDULO DE SOLICITUD DE INFORMACIÓN HIDROMETEOROLÓGICA)","SOLICITUD DE INFORMACIÓN Y DOCUMENTOS","SOLICITUD DE INFORMACIÓN HIDROMETEOROLÓGICA","NO","GRUPO DE ATENCIÓN AL CIUDADANO",44005,null,null,{"$f":"IFERROR(WORKDAY(C2522,R2522,DiasNOLaborables),\"\")","v":44021},{"$f":"+IF(C2522=\"\",\"\",IF(I2522=\"\",\"\",(IF(I2522<=L2522,\"A TIEMPO\",\"FUERA DE TIEMPO\"))))","v":"A TIEMPO"},{"$f":"IF(I2522=\"\",\"\",NETWORKDAYS([4]Hoja1!C2522+1,[4]Hoja1!P2522,DiasNOLaborables))","v":13},"",null,null,20]
[2512,20209050047532,43990,"MODULO CONTACTENOS","SOLICITUD DE INFORMACIÓN Y DOCUMENTOS","SOLICITUD DE INFORMACIÓN HIDROMETEOROLÓGICA","NO","GRUPO DE ATENCIÓN AL CIUDADANO",44005,null,null,{"$f":"IFERROR(WORKDAY(C2523,R2523,DiasNOLaborables),\"\")","v":44021},{"$f":"+IF(C2523=\"\",\"\",IF(I2523=\"\",\"\",(IF(I2523<=L2523,\"A TIEMPO\",\"FUERA DE TIEMPO\"))))","v":"A TIEMPO"},{"$f":"IF(I2523=\"\",\"\",NETWORKDAYS([4]Hoja1!C2523+1,[4]Hoja1!P2523,DiasNOLaborables))","v":13},"",null,null,20]
[2513,20209050047542,43990,"MODULO CONTACTENOS","SOLICITUD DE INFORMACIÓN Y DOCUMENTOS","SOLICITUD DE INFORMACIÓN HIDROMETEOROLÓGICA","NO","GRUPO DE ATENCIÓN AL CIUDADANO",44005,null,null,{"$f":"IFERROR(WORKDAY(C2524,R2524,DiasNOLaborables),\"\")","v":44021},{"$f":"+IF(C2524=\"\",\"\",IF(I2524=\"\",\"\",(IF(I2524<=L2524,\"A TIEMPO\",\"FUERA DE TIEMPO\"))))","v":"A TIEMPO"},{"$f":"IF(I2524=\"\",\"\",NETWORKDAYS([4]Hoja1!C2524+1,[4]Hoja1!P2524,DiasNOLaborables))","v":13},"",null,null,20]
[2514,20209050047582,43990,"MODULO CONTACTENOS","SOLICITUD DE INFORMACIÓN Y DOCUMENTOS","SOLICITUD DE INFORMACIÓN HIDROMETEOROLÓGICA","NO","GRUPO DE ATENCIÓN AL CIUDADANO",44005,null,null,{"$f":"IFERROR(WORKDAY(C2525,R2525,DiasNOLaborables),\"\")","v":44021},{"$f":"+IF(C2525=\"\",\"\",IF(I2525=\"\",\"\",(IF(I2525<=L2525,\"A TIEMPO\",\"FUERA DE TIEMPO\"))))","v":"A TIEMPO"},{"$f":"IF(I2525=\"\",\"\",NETWORKDAYS([4]Hoja1!C2525+1,[4]Hoja1!P2525,DiasNOLaborables))","v":13},"",null,null,20]
[2515,20209050047652,43990,"MODULO CONTACTENOS","SOLICITUD DE INFORMACIÓN Y DOCUMENTOS","SOLICITUD DE INFORMACIÓN HIDROMETEOROLÓGICA","NO","GRUPO DE ATENCIÓN AL CIUDADANO",44005,null,null,{"$f":"IFERROR(WORKDAY(C2526,R2526,DiasNOLaborables),\"\")","v":44021},{"$f":"+IF(C2526=\"\",\"\",IF(I2526=\"\",\"\",(IF(I2526<=L2526,\"A TIEMPO\",\"FUERA DE TIEMPO\"))))","v":"A TIEMPO"},{"$f":"IF(I2526=\"\",\"\",NETWORKDAYS([4]Hoja1!C2526+1,[4]Hoja1!P2526,DiasNOLaborables))","v":13},"",null,null,20]
[2516,20209050047672,43990,"MODULO CONTACTENOS","SOLICITUD DE INFORMACIÓN Y DOCUMENTOS","SOLICITUD DE INFORMACIÓN HIDROMETEOROLÓGICA","NO","GRUPO DE ATENCIÓN AL CIUDADANO",44005,null,null,{"$f":"IFERROR(WORKDAY(C2527,R2527,DiasNOLaborables),\"\")","v":44021},{"$f":"+IF(C2527=\"\",\"\",IF(I2527=\"\",\"\",(IF(I2527<=L2527,\"A TIEMPO\",\"FUERA DE TIEMPO\"))))","v":"A TIEMPO"},{"$f":"IF(I2527=\"\",\"\",NETWORKDAYS([4]Hoja1!C2527+1,[4]Hoja1!P2527,DiasNOLaborables))","v":13},"",null,null,20]
[2517,20209050047682,43990,"MODULO CONTACTENOS","SOLICITUD DE INFORMACIÓN Y DOCUMENTOS","SOLICITUD DE INFORMACIÓN HIDROMETEOROLÓGICA","NO","GRUPO DE ATENCIÓN AL CIUDADANO",44005,null,null,{"$f":"IFERROR(WORKDAY(C2528,R2528,DiasNOLaborables),\"\")","v":44021},{"$f":"+IF(C2528=\"\",\"\",IF(I2528=\"\",\"\",(IF(I2528<=L2528,\"A TIEMPO\",\"FUERA DE TIEMPO\"))))","v":"A TIEMPO"},{"$f":"IF(I2528=\"\",\"\",NETWORKDAYS([4]Hoja1!C2528+1,[4]Hoja1!P2528,DiasNOLaborables))","v":13},"",null,null,20]
[2518,20209050047292,43990,"CORREO ELECTRÓNICO","SOLICITUD DE INFORMACIÓN Y DOCUMENTOS","SOLICITUD DE INFORMACIÓN HIDROMETEOROLÓGICA","NO","GRUPO DE ATENCIÓN AL CIUDADANO",43993,null,null,{"$f":"IFERROR(WORKDAY(C2529,R2529,DiasNOLaborables),\"\")","v":44021},{"$f":"+IF(C2529=\"\",\"\",IF(I2529=\"\",\"\",(IF(I2529<=L2529,\"A TIEMPO\",\"FUERA DE TIEMPO\"))))","v":"A TIEMPO"},{"$f":"IF(I2529=\"\",\"\",NETWORKDAYS([4]Hoja1!C2529+1,[4]Hoja1!P2529,DiasNOLaborables))","v":13},"",null,null,20]
[2519,20209050047422,43990,"CORREO ELECTRÓNICO","SOLICITUD DE INFORMACIÓN Y DOCUMENTOS","SOLICITUD DE INFORMACIÓN HIDROMETEOROLÓGICA","NO","GRUPO DE ATENCIÓN AL CIUDADANO",43993,null,null,{"$f":"IFERROR(WORKDAY(C2530,R2530,DiasNOLaborables),\"\")","v":44021},{"$f":"+IF(C2530=\"\",\"\",IF(I2530=\"\",\"\",(IF(I2530<=L2530,\"A TIEMPO\",\"FUERA DE TIEMPO\"))))","v":"A TIEMPO"},{"$f":"IF(I2530=\"\",\"\",NETWORKDAYS([4]Hoja1!C2530+1,[4]Hoja1!P2530,DiasNOLaborables))","v":13},"",null,null,20]
[2520,20209050047372,43990,"CORREO ELECTRÓNICO","SOLICITUD DE INFORMACIÓN Y DOCUMENTOS","SOLICITUD DE INFORMACIÓN HIDROMETEOROLÓGICA","NO","GRUPO DE ATENCIÓN AL CIUDADANO",43993,null,null,{"$f":"IFERROR(WORKDAY(C2531,R2531,DiasNOLaborables),\"\")","v":44021},{"$f":"+IF(C2531=\"\",\"\",IF(I2531=\"\",\"\",(IF(I2531<=L2531,\"A TIEMPO\",\"FUERA DE TIEMPO\"))))","v":"A TIEMPO"},{"$f":"IF(I2531=\"\",\"\",NETWORKDAYS([4]Hoja1!C2531+1,[4]Hoja1!P2531,DiasNOLaborables))","v":13},"",null,null,20]
[2521,20209050047442,43990,"CORREO ELECTRÓNICO","SOLICITUD DE INFORMACIÓN Y DOCUMENTOS","SOLICITUD DE INFORMACIÓN HIDROMETEOROLÓGICA","NO","GRUPO DE ATENCIÓN AL CIUDADANO",43993,null,null,{"$f":"IFERROR(WORKDAY(C2532,R2532,DiasNOLaborables),\"\")","v":44021},{"$f":"+IF(C2532=\"\",\"\",IF(I2532=\"\",\"\",(IF(I2532<=L2532,\"A TIEMPO\",\"FUERA DE TIEMPO\"))))","v":"A TIEMPO"},{"$f":"IF(I2532=\"\",\"\",NETWORKDAYS([4]Hoja1!C2532+1,[4]Hoja1!P2532,DiasNOLaborables))","v":13},"",null,null,20]
[2522,20209050047312,43990,"CORREO ELECTRÓNICO","SOLICITUD DE INFORMACIÓN Y DOCUMENTOS","SOLICITUD DE INFORMACIÓN HIDROMETEOROLÓGICA","NO","GRUPO DE ATENCIÓN AL CIUDADANO",43993,null,null,{"$f":"IFERROR(WORKDAY(C2533,R2533,DiasNOLaborables),\"\")","v":44021},{"$f":"+IF(C2533=\"\",\"\",IF(I2533=\"\",\"\",(IF(I2533<=L2533,\"A TIEMPO\",\"FUERA DE TIEMPO\"))))","v":"A TIEMPO"},{"$f":"IF(I2533=\"\",\"\",NETWORKDAYS([4]Hoja1!C2533+1,[4]Hoja1!P2533,DiasNOLaborables))","v":13},"",null,null,20]
[2523,20209050047462,43990,"CORREO ELECTRÓNICO","SOLICITUD DE INFORMACIÓN Y DOCUMENTOS","SOLICITUD DE INFORMACIÓN HIDROMETEOROLÓGICA","NO","GRUPO DE ATENCIÓN AL CIUDADANO",43993,null,null,{"$f":"IFERROR(WORKDAY(C2534,R2534,DiasNOLaborables),\"\")","v":44021},{"$f":"+IF(C2534=\"\",\"\",IF(I2534=\"\",\"\",(IF(I2534<=L2534,\"A TIEMPO\",\"FUERA DE TIEMPO\"))))","v":"A TIEMPO"},{"$f":"IF(I2534=\"\",\"\",NETWORKDAYS([4]Hoja1!C2534+1,[4]Hoja1!P2534,DiasNOLaborables))","v":13},"",null,null,20]
[2524,20209050047472,43990,"CORREO ELECTRÓNICO","SOLICITUD DE INFORMACIÓN Y DOCUMENTOS","SOLICITUD DE INFORMACIÓN HIDROMETEOROLÓGICA","NO","GRUPO DE ATENCIÓN AL CIUDADANO",43993,null,null,{"$f":"IFERROR(WORKDAY(C2535,R2535,DiasNOLaborables),\"\")","v":44021},{"$f":"+IF(C2535=\"\",\"\",IF(I2535=\"\",\"\",(IF(I2535<=L2535,\"A TIEMPO\",\"FUERA DE TIEMPO\"))))","v":"A TIEMPO"},{"$f":"IF(I2535=\"\",\"\",NETWORKDAYS([4]Hoja1!C2535+1,[4]Hoja1!P2535,DiasNOLaborables))","v":13},"",null,null,20]
[2525,20209050047482,43990,"CORREO ELECTRÓNICO","SOLICITUD DE INFORMACIÓN Y DOCUMENTOS","SOLICITUD DE INFORMACIÓN HIDROMETEOROLÓGICA","NO","GRUPO DE ATENCIÓN AL CIUDADANO",43993,null,null,{"$f":"IFERROR(WORKDAY(C2536,R2536,DiasNOLaborables),\"\")","v":44021},{"$f":"+IF(C2536=\"\",\"\",IF(I2536=\"\",\"\",(IF(I2536<=L2536,\"A TIEMPO\",\"FUERA DE TIEMPO\"))))","v":"A TIEMPO"},{"$f":"IF(I2536=\"\",\"\",NETWORKDAYS([4]Hoja1!C2536+1,[4]Hoja1!P2536,DiasNOLaborables))","v":12},"",null,null,20]
[2526,20209050047502,43990,"CORREO ELECTRÓNICO","SOLICITUD DE INFORMACIÓN Y DOCUMENTOS","SOLICITUD DE INFORMACIÓN HIDROMETEOROLÓGICA","NO","GRUPO DE ATENCIÓN AL CIUDADANO",43993,null,null,{"$f":"IFERROR(WORKDAY(C2537,R2537,DiasNOLaborables),\"\")","v":44021},{"$f":"+IF(C2537=\"\",\"\",IF(I2537=\"\",\"\",(IF(I2537<=L2537,\"A TIEMPO\",\"FUERA DE TIEMPO\"))))","v":"A TIEMPO"},{"$f":"IF(I2537=\"\",\"\",NETWORKDAYS([4]Hoja1!C2537+1,[4]Hoja1!P2537,DiasNOLaborables))","v":12},"",null,null,20]
[2527,20209050047862,43991,"CORREO ELECTRÓNICO","SOLICITUD DE INFORMACIÓN Y DOCUMENTOS","SOLICITUD DE INFORMACIÓN HIDROMETEOROLÓGICA","NO","GRUPO DE ATENCIÓN AL CIUDADANO",43993,null,null,{"$f":"IFERROR(WORKDAY(C2538,R2538,DiasNOLaborables),\"\")","v":44022},{"$f":"+IF(C2538=\"\",\"\",IF(I2538=\"\",\"\",(IF(I2538<=L2538,\"A TIEMPO\",\"FUERA DE TIEMPO\"))))","v":"A TIEMPO"},{"$f":"IF(I2538=\"\",\"\",NETWORKDAYS([4]Hoja1!C2538+1,[4]Hoja1!P2538,DiasNOLaborables))","v":12},"",null,null,20]
[2528,20209050047872,43991,"CORREO ELECTRÓNICO","SOLICITUD DE INFORMACIÓN Y DOCUMENTOS","SOLICITUD DE INFORMACIÓN HIDROMETEOROLÓGICA","NO","GRUPO DE ATENCIÓN AL CIUDADANO",43994,null,null,{"$f":"IFERROR(WORKDAY(C2539,R2539,DiasNOLaborables),\"\")","v":44022},{"$f":"+IF(C2539=\"\",\"\",IF(I2539=\"\",\"\",(IF(I2539<=L2539,\"A TIEMPO\",\"FUERA DE TIEMPO\"))))","v":"A TIEMPO"},{"$f":"IF(I2539=\"\",\"\",NETWORKDAYS([4]Hoja1!C2539+1,[4]Hoja1!P2539,DiasNOLaborables))","v":12},"",null,null,20]
[2529,20209050047902,43991,"CORREO ELECTRÓNICO","SOLICITUD DE INFORMACIÓN Y DOCUMENTOS","SOLICITUD DE INFORMACIÓN HIDROMETEOROLÓGICA","NO","GRUPO DE ATENCIÓN AL CIUDADANO",43994,null,null,{"$f":"IFERROR(WORKDAY(C2540,R2540,DiasNOLaborables),\"\")","v":44022},{"$f":"+IF(C2540=\"\",\"\",IF(I2540=\"\",\"\",(IF(I2540<=L2540,\"A TIEMPO\",\"FUERA DE TIEMPO\"))))","v":"A TIEMPO"},{"$f":"IF(I2540=\"\",\"\",NETWORKDAYS([4]Hoja1!C2540+1,[4]Hoja1!P2540,DiasNOLaborables))","v":12},"",null,null,20]
[2530,20209050047912,43991,"CORREO ELECTRÓNICO","SOLICITUD DE INFORMACIÓN Y DOCUMENTOS","SOLICITUD DE INFORMACIÓN HIDROMETEOROLÓGICA","NO","GRUPO DE ATENCIÓN AL CIUDADANO",43994,null,null,{"$f":"IFERROR(WORKDAY(C2541,R2541,DiasNOLaborables),\"\")","v":44022},{"$f":"+IF(C2541=\"\",\"\",IF(I2541=\"\",\"\",(IF(I2541<=L2541,\"A TIEMPO\",\"FUERA DE TIEMPO\"))))","v":"A TIEMPO"},{"$f":"IF(I2541=\"\",\"\",NETWORKDAYS([4]Hoja1!C2541+1,[4]Hoja1!P2541,DiasNOLaborables))","v":12},"",null,null,20]
[2531,20209050047882,43991,"CORREO ELECTRÓNICO","SOLICITUD DE INFORMACIÓN Y DOCUMENTOS","SOLICITUD DE INFORMACIÓN HIDROMETEOROLÓGICA","NO","GRUPO DE ATENCIÓN AL CIUDADANO",43994,null,null,{"$f":"IFERROR(WORKDAY(C2542,R2542,DiasNOLaborables),\"\")","v":44022},{"$f":"+IF(C2542=\"\",\"\",IF(I2542=\"\",\"\",(IF(I2542<=L2542,\"A TIEMPO\",\"FUERA DE TIEMPO\"))))","v":"A TIEMPO"},{"$f":"IF(I2542=\"\",\"\",NETWORKDAYS([4]Hoja1!C2542+1,[4]Hoja1!P2542,DiasNOLaborables))","v":12},"",null,null,20]
[2532,20209050047922,43991,"CORREO ELECTRÓNICO","SOLICITUD DE INFORMACIÓN Y DOCUMENTOS","SOLICITUD DE INFORMACIÓN HIDROMETEOROLÓGICA","NO","GRUPO DE ATENCIÓN AL CIUDADANO",43994,null,null,{"$f":"IFERROR(WORKDAY(C2543,R2543,DiasNOLaborables),\"\")","v":44022},{"$f":"+IF(C2543=\"\",\"\",IF(I2543=\"\",\"\",(IF(I2543<=L2543,\"A TIEMPO\",\"FUERA DE TIEMPO\"))))","v":"A TIEMPO"},{"$f":"IF(I2543=\"\",\"\",NETWORKDAYS([4]Hoja1!C2543+1,[4]Hoja1!P2543,DiasNOLaborables))","v":12},"",null,null,20]
[2533,20209050047932,43991,"CORREO ELECTRÓNICO","SOLICITUD DE INFORMACIÓN Y DOCUMENTOS","SOLICITUD DE INFORMACIÓN HIDROMETEOROLÓGICA","NO","GRUPO DE ATENCIÓN AL CIUDADANO",43994,null,null,{"$f":"IFERROR(WORKDAY(C2544,R2544,DiasNOLaborables),\"\")","v":44022},{"$f":"+IF(C2544=\"\",\"\",IF(I2544=\"\",\"\",(IF(I2544<=L2544,\"A TIEMPO\",\"FUERA DE TIEMPO\"))))","v":"A TIEMPO"},{"$f":"IF(I2544=\"\",\"\",NETWORKDAYS([4]Hoja1!C2544+1,[4]Hoja1!P2544,DiasNOLaborables))","v":12},"",null,null,20]
[2534,20209050047962,43991,"CORREO ELECTRÓNICO","SOLICITUD DE INFORMACIÓN Y DOCUMENTOS","SOLICITUD DE INFORMACIÓN HIDROMETEOROLÓGICA","NO","GRUPO DE ATENCIÓN AL CIUDADANO",43994,null,null,{"$f":"IFERROR(WORKDAY(C2545,R2545,DiasNOLaborables),\"\")","v":44022},{"$f":"+IF(C2545=\"\",\"\",IF(I2545=\"\",\"\",(IF(I2545<=L2545,\"A TIEMPO\",\"FUERA DE TIEMPO\"))))","v":"A TIEMPO"},{"$f":"IF(I2545=\"\",\"\",NETWORKDAYS([4]Hoja1!C2545+1,[4]Hoja1!P2545,DiasNOLaborables))","v":12},"",null,null,20]
[{"$f":"IF(B2544<>\"\",A2545+1,\"\")","v":2535},20209050047992,43991,"CORREO ELECTRÓNICO","SOLICITUD DE INFORMACIÓN Y DOCUMENTOS","SOLICITUD DE INFORMACIÓN HIDROMETEOROLÓGICA","NO","GRUPO DE ATENCIÓN AL CIUDADANO",43994,null,null,{"$f":"IFERROR(WORKDAY(C2546,R2546,DiasNOLaborables),\"\")","v":44022},{"$f":"+IF(C2546=\"\",\"\",IF(I2546=\"\",\"\",(IF(I2546<=L2546,\"A TIEMPO\",\"FUERA DE TIEMPO\"))))","v":"A TIEMPO"},{"$f":"IF(I2546=\"\",\"\",NETWORKDAYS([4]Hoja1!C2546+1,[4]Hoja1!P2546,DiasNOLaborables))","v":12},"",null,null,20]
[2536,20209050047752,43991,"MODULO CONTACTENOS","SOLICITUD DE INFORMACIÓN Y DOCUMENTOS","SOLICITUD DE INFORMACIÓN HIDROMETEOROLÓGICA","NO","GRUPO DE ATENCIÓN AL CIUDADANO",44005,null,null,{"$f":"IFERROR(WORKDAY(C2547,R2547,DiasNOLaborables),\"\")","v":44022},{"$f":"+IF(C2547=\"\",\"\",IF(I2547=\"\",\"\",(IF(I2547<=L2547,\"A TIEMPO\",\"FUERA DE TIEMPO\"))))","v":"A TIEMPO"},{"$f":"IF(I2547=\"\",\"\",NETWORKDAYS([4]Hoja1!C2547+1,[4]Hoja1!P2547,DiasNOLaborables))","v":12},"",null,null,20]
[2537,20209050047762,43991,"MODULO CONTACTENOS","SOLICITUD DE INFORMACIÓN Y DOCUMENTOS","SOLICITUD DE INFORMACIÓN HIDROMETEOROLÓGICA","NO","GRUPO DE ATENCIÓN AL CIUDADANO",44005,null,null,{"$f":"IFERROR(WORKDAY(C2548,R2548,DiasNOLaborables),\"\")","v":44022},{"$f":"+IF(C2548=\"\",\"\",IF(I2548=\"\",\"\",(IF(I2548<=L2548,\"A TIEMPO\",\"FUERA DE TIEMPO\"))))","v":"A TIEMPO"},{"$f":"IF(I2548=\"\",\"\",NETWORKDAYS([4]Hoja1!C2548+1,[4]Hoja1!P2548,DiasNOLaborables))","v":12},{"$f":"IF(NETWORKDAYS(L2548+1,I2548,DiasNOLaborables)<=0,\"\",NETWORKDAYS(L2548+1,I2548,DiasNOLaborables))","v":""},null,null,20]
[2538,20209050047812,43991,"MODULO CONTACTENOS","SOLICITUD DE INFORMACIÓN Y DOCUMENTOS","SOLICITUD DE INFORMACIÓN HIDROMETEOROLÓGICA","NO","GRUPO DE ATENCIÓN AL CIUDADANO",44005,null,null,{"$f":"IFERROR(WORKDAY(C2549,R2549,DiasNOLaborables),\"\")","v":44022},{"$f":"+IF(C2549=\"\",\"\",IF(I2549=\"\",\"\",(IF(I2549<=L2549,\"A TIEMPO\",\"FUERA DE TIEMPO\"))))","v":"A TIEMPO"},{"$f":"IF(I2549=\"\",\"\",NETWORKDAYS([4]Hoja1!C2549+1,[4]Hoja1!P2549,DiasNOLaborables))","v":12},"",null,null,20]
[2539,20209050047852,43991,"MODULO CONTACTENOS","SOLICITUD DE INFORMACIÓN Y DOCUMENTOS","SOLICITUD DE INFORMACIÓN HIDROMETEOROLÓGICA","NO","GRUPO DE ATENCIÓN AL CIUDADANO",44005,null,null,{"$f":"IFERROR(WORKDAY(C2550,R2550,DiasNOLaborables),\"\")","v":44022},{"$f":"+IF(C2550=\"\",\"\",IF(I2550=\"\",\"\",(IF(I2550<=L2550,\"A TIEMPO\",\"FUERA DE TIEMPO\"))))","v":"A TIEMPO"},{"$f":"IF(I2550=\"\",\"\",NETWORKDAYS([4]Hoja1!C2550+1,[4]Hoja1!P2550,DiasNOLaborables))","v":12},"",null,null,20]
[2540,20209050047592,43991,"CORREO ELECTRÓNICO","SOLICITUD DE INFORMACIÓN Y DOCUMENTOS","REGISTROS AMBIENTALES","SI","SUBDIRECCIÓN DE ESTUDIOS AMBIENTALES",43993,null,null,{"$f":"IFERROR(WORKDAY(C2551,R2551,DiasNOLaborables),\"\")","v":44022},{"$f":"+IF(C2551=\"\",\"\",IF(I2551=\"\",\"\",(IF(I2551<=L2551,\"A TIEMPO\",\"FUERA DE TIEMPO\"))))","v":"A TIEMPO"},{"$f":"IF(I2551=\"\",\"\",NETWORKDAYS([4]Hoja1!C2551+1,[4]Hoja1!P2551,DiasNOLaborables))","v":10},"",null,null,20]
[2541,20209050047602,43991,"CORREO ELECTRÓNICO","SOLICITUD DE INFORMACIÓN Y DOCUMENTOS","REGISTROS AMBIENTALES","SI","SUBDIRECCIÓN DE ESTUDIOS AMBIENTALES",43990,null,null,{"$f":"IFERROR(WORKDAY(C2552,R2552,DiasNOLaborables),\"\")","v":44022},{"$f":"+IF(C2552=\"\",\"\",IF(I2552=\"\",\"\",(IF(I2552<=L2552,\"A TIEMPO\",\"FUERA DE TIEMPO\"))))","v":"A TIEMPO"},{"$f":"IF(I2552=\"\",\"\",NETWORKDAYS([4]Hoja1!C2552+1,[4]Hoja1!P2552,DiasNOLaborables))","v":10},"",null,null,20]
[2542,20209050047612,43991,"CORREO ELECTRÓNICO","SOLICITUD DE INFORMACIÓN Y DOCUMENTOS","REGISTROS AMBIENTALES","SI","SUBDIRECCIÓN DE ESTUDIOS AMBIENTALES",43990,null,null,{"$f":"IFERROR(WORKDAY(C2553,R2553,DiasNOLaborables),\"\")","v":44022},{"$f":"+IF(C2553=\"\",\"\",IF(I2553=\"\",\"\",(IF(I2553<=L2553,\"A TIEMPO\",\"FUERA DE TIEMPO\"))))","v":"A TIEMPO"},{"$f":"IF(I2553=\"\",\"\",NETWORKDAYS([4]Hoja1!C2553+1,[4]Hoja1!P2553,DiasNOLaborables))","v":10},"",null,null,20]
[2543,20209050047622,43991,"CORREO ELECTRÓNICO","SOLICITUD DE INFORMACIÓN Y DOCUMENTOS","REGISTROS AMBIENTALES","SI","SUBDIRECCIÓN DE ESTUDIOS AMBIENTALES",43985,null,null,{"$f":"IFERROR(WORKDAY(C2554,R2554,DiasNOLaborables),\"\")","v":44022},{"$f":"+IF(C2554=\"\",\"\",IF(I2554=\"\",\"\",(IF(I2554<=L2554,\"A TIEMPO\",\"FUERA DE TIEMPO\"))))","v":"A TIEMPO"},{"$f":"IF(I2554=\"\",\"\",NETWORKDAYS([4]Hoja1!C2554+1,[4]Hoja1!P2554,DiasNOLaborables))","v":10},"",null,null,20]
[2544,20209050047632,43991,"CORREO ELECTRÓNICO","SOLICITUD DE INFORMACIÓN Y DOCUMENTOS","ADMINISTRATIVA","SI","OFICINA ASESORA JURÍDICA",44018,null,null,{"$f":"IFERROR(WORKDAY(C2555,R2555,DiasNOLaborables),\"\")","v":44022},{"$f":"+IF(C2555=\"\",\"\",IF(I2555=\"\",\"\",(IF(I2555<=L2555,\"A TIEMPO\",\"FUERA DE TIEMPO\"))))","v":"A TIEMPO"},{"$f":"IF(I2555=\"\",\"\",NETWORKDAYS([4]Hoja1!C2555+1,[4]Hoja1!P2555,DiasNOLaborables))","v":9},"",null,null,20]
[2545,20209910042082,43991,"CORREO ELECTRÓNICO","CERTIFICACIONES DE TIEMPO, CLIMA Y EVENTOS HIDROLÓGICOS","CERTIFICACIONES DE TIEMPO Y CLIMA","NO","SUBDIRECCIÓN DE METEOROLOGÍA",44005,null,null,{"$f":"IFERROR(WORKDAY(C2556,R2556,DiasNOLaborables),\"\")","v":44039},{"$f":"+IF(C2556=\"\",\"\",IF(I2556=\"\",\"\",(IF(I2556<=L2556,\"A TIEMPO\",\"FUERA DE TIEMPO\"))))","v":"A TIEMPO"},{"$f":"IF(I2556=\"\",\"\",NETWORKDAYS([4]Hoja1!C2556+1,[4]Hoja1!P2556,DiasNOLaborables))","v":9},"",null,null,30]
[2546,20209910042112,43991,"CORREO ELECTRÓNICO","CERTIFICACIONES DE TIEMPO, CLIMA Y EVENTOS HIDROLÓGICOS","CERTIFICACIONES DE TIEMPO Y CLIMA","NO","SUBDIRECCIÓN DE METEOROLOGÍA",44008,null,null,{"$f":"IFERROR(WORKDAY(C2557,R2557,DiasNOLaborables),\"\")","v":44039},{"$f":"+IF(C2557=\"\",\"\",IF(I2557=\"\",\"\",(IF(I2557<=L2557,\"A TIEMPO\",\"FUERA DE TIEMPO\"))))","v":"A TIEMPO"},{"$f":"IF(I2557=\"\",\"\",NETWORKDAYS([4]Hoja1!C2557+1,[4]Hoja1!P2557,DiasNOLaborables))","v":9},"",null,null,30]
[2547,20209910042132,43991,"CORREO ELECTRÓNICO","CERTIFICACIONES DE TIEMPO, CLIMA Y EVENTOS HIDROLÓGICOS","CERTIFICACIONES DE TIEMPO Y CLIMA","NO","SUBDIRECCIÓN DE METEOROLOGÍA",44008,null,null,{"$f":"IFERROR(WORKDAY(C2558,R2558,DiasNOLaborables),\"\")","v":44039},{"$f":"+IF(C2558=\"\",\"\",IF(I2558=\"\",\"\",(IF(I2558<=L2558,\"A TIEMPO\",\"FUERA DE TIEMPO\"))))","v":"A TIEMPO"},{"$f":"IF(I2558=\"\",\"\",NETWORKDAYS([4]Hoja1!C2558+1,[4]Hoja1!P2558,DiasNOLaborables))","v":9},"",null,null,30]
[2548,20209050047692,43991,"MODULO CONTACTENOS","SOLICITUD DE INFORMACIÓN Y DOCUMENTOS","SOLICITUD DE INFORMACIÓN HIDROMETEOROLÓGICA","SI","SUBDIRECCIÓN DE METEOROLOGÍA",44001,null,null,{"$f":"IFERROR(WORKDAY(C2559,R2559,DiasNOLaborables),\"\")","v":44022},{"$f":"+IF(C2559=\"\",\"\",IF(I2559=\"\",\"\",(IF(I2559<=L2559,\"A TIEMPO\",\"FUERA DE TIEMPO\"))))","v":"A TIEMPO"},{"$f":"IF(I2559=\"\",\"\",NETWORKDAYS([4]Hoja1!C2559+1,[4]Hoja1!P2559,DiasNOLaborables))","v":9},"",null,null,20]
[2549,20209050047722,43991,"CORREO ELECTRÓNICO","SOLICITUD DE INFORMACIÓN Y DOCUMENTOS","REGISTROS AMBIENTALES","SI","SUBDIRECCIÓN DE ESTUDIOS AMBIENTALES",43992,null,null,{"$f":"IFERROR(WORKDAY(C2560,R2560,DiasNOLaborables),\"\")","v":44022},{"$f":"+IF(C2560=\"\",\"\",IF(I2560=\"\",\"\",(IF(I2560<=L2560,\"A TIEMPO\",\"FUERA DE TIEMPO\"))))","v":"A TIEMPO"},{"$f":"IF(I2560=\"\",\"\",NETWORKDAYS([4]Hoja1!C2560+1,[4]Hoja1!P2560,DiasNOLaborables))","v":9},"",null,null,20]
[2550,20209050047732,43991,"CORREO ELECTRÓNICO","CERTIFICACIONES DE TIEMPO, CLIMA Y EVENTOS HIDROLÓGICOS","CERTIFICACIONES DE TIEMPO Y CLIMA","SI","SUBDIRECCIÓN DE METEOROLOGÍA",43994,null,null,{"$f":"IFERROR(WORKDAY(C2561,R2561,DiasNOLaborables),\"\")","v":44039},{"$f":"+IF(C2561=\"\",\"\",IF(I2561=\"\",\"\",(IF(I2561<=L2561,\"A TIEMPO\",\"FUERA DE TIEMPO\"))))","v":"A TIEMPO"},{"$f":"IF(I2561=\"\",\"\",NETWORKDAYS([4]Hoja1!C2561+1,[4]Hoja1!P2561,DiasNOLaborables))","v":9},"",null,null,30]
[2551,20209050047742,43991,"CORREO ELECTRÓNICO","CERTIFICACIONES DE TIEMPO, CLIMA Y EVENTOS HIDROLÓGICOS","CERTIFICACIONES DE TIEMPO Y CLIMA","SI","SUBDIRECCIÓN DE METEOROLOGÍA",43999,null,null,{"$f":"IFERROR(WORKDAY(C2562,R2562,DiasNOLaborables),\"\")","v":44039},{"$f":"+IF(C2562=\"\",\"\",IF(I2562=\"\",\"\",(IF(I2562<=L2562,\"A TIEMPO\",\"FUERA DE TIEMPO\"))))","v":"A TIEMPO"},{"$f":"IF(I2562=\"\",\"\",NETWORKDAYS([4]Hoja1!C2562+1,[4]Hoja1!P2562,DiasNOLaborables))","v":9},"",null,null,30]
[2552,20209050047782,43991,"CORREO ELECTRÓNICO","SOLICITUD DE INFORMACIÓN Y DOCUMENTOS","ADMINISTRATIVA","SI","DIRECCIÓN GENERAL",44005,null,null,{"$f":"IFERROR(WORKDAY(C2563,R2563,DiasNOLaborables),\"\")","v":44022},{"$f":"+IF(C2563=\"\",\"\",IF(I2563=\"\",\"\",(IF(I2563<=L2563,\"A TIEMPO\",\"FUERA DE TIEMPO\"))))","v":"A TIEMPO"},{"$f":"IF(I2563=\"\",\"\",NETWORKDAYS([4]Hoja1!C2563+1,[4]Hoja1!P2563,DiasNOLaborables))","v":9},"",null,null,20]
[2553,20209050047792,43991,"CORREO ELECTRÓNICO","SOLICITUD DE INFORMACIÓN Y DOCUMENTOS","ADMINISTRATIVA","SI","GRUPO DE ADMINISTRACIÓN Y DESARROLLO DEL TALENTO HUMANO",43993,null,null,{"$f":"IFERROR(WORKDAY(C2564,R2564,DiasNOLaborables),\"\")","v":44022},{"$f":"+IF(C2564=\"\",\"\",IF(I2564=\"\",\"\",(IF(I2564<=L2564,\"A TIEMPO\",\"FUERA DE TIEMPO\"))))","v":"A TIEMPO"},{"$f":"IF(I2564=\"\",\"\",NETWORKDAYS([4]Hoja1!C2564+1,[4]Hoja1!P2564,DiasNOLaborables))","v":9},"",null,null,20]
[2554,20209050047802,43991,"CORREO ELECTRÓNICO","SOLICITUD DE INFORMACIÓN Y DOCUMENTOS","SOLICITUD DE INFORMACIÓN HIDROMETEOROLÓGICA","SI","DIRECCIÓN GENERAL",43999,null,null,{"$f":"IFERROR(WORKDAY(C2565,R2565,DiasNOLaborables),\"\")","v":44022},{"$f":"+IF(C2565=\"\",\"\",IF(I2565=\"\",\"\",(IF(I2565<=L2565,\"A TIEMPO\",\"FUERA DE TIEMPO\"))))","v":"A TIEMPO"},{"$f":"IF(I2565=\"\",\"\",NETWORKDAYS([4]Hoja1!C2565+1,[4]Hoja1!P2565,DiasNOLaborables))","v":9},"",null,null,20]
[2555,20209050047822,43991,"CORREO ELECTRÓNICO","SOLICITUD DE INFORMACIÓN Y DOCUMENTOS","SOLICITUD DE INFORMACIÓN HIDROMETEOROLÓGICA","SI","SUBDIRECCIÓN DE ESTUDIOS AMBIENTALES",44007,null,null,{"$f":"IFERROR(WORKDAY(C2566,R2566,DiasNOLaborables),\"\")","v":44022},{"$f":"+IF(C2566=\"\",\"\",IF(I2566=\"\",\"\",(IF(I2566<=L2566,\"A TIEMPO\",\"FUERA DE TIEMPO\"))))","v":"A TIEMPO"},{"$f":"IF(I2566=\"\",\"\",NETWORKDAYS([4]Hoja1!C2566+1,[4]Hoja1!P2566,DiasNOLaborables))","v":8},"",null,null,{"$f":"IFERROR(VLOOKUP(E2566,$Z$50:$AA$63,2),\"\")","v":20}]
[2556,20209050047832,43991,"CORREO ELECTRÓNICO","SOLICITUD DE INFORMACIÓN Y DOCUMENTOS","SOLICITUD DE INFORMACIÓN HIDROMETEOROLÓGICA","SI","SUBDIRECCIÓN DE ESTUDIOS AMBIENTALES",43993,null,null,{"$f":"IFERROR(WORKDAY(C2567,R2567,DiasNOLaborables),\"\")","v":44022},{"$f":"+IF(C2567=\"\",\"\",IF(I2567=\"\",\"\",(IF(I2567<=L2567,\"A TIEMPO\",\"FUERA DE TIEMPO\"))))","v":"A TIEMPO"},{"$f":"IF(I2567=\"\",\"\",NETWORKDAYS([4]Hoja1!C2567+1,[4]Hoja1!P2567,DiasNOLaborables))","v":8},"",null,null,20]
[2557,20209050047772,43991,"MODULO CONTACTENOS","SOLICITUD DE INFORMACIÓN Y DOCUMENTOS","SOLICITUD DE INFORMACIÓN HIDROMETEOROLÓGICA","SI","SUBDIRECCIÓN DE ESTUDIOS AMBIENTALES",43993,null,null,{"$f":"IFERROR(WORKDAY(C2568,R2568,DiasNOLaborables),\"\")","v":44022},{"$f":"+IF(C2568=\"\",\"\",IF(I2568=\"\",\"\",(IF(I2568<=L2568,\"A TIEMPO\",\"FUERA DE TIEMPO\"))))","v":"A TIEMPO"},{"$f":"IF(I2568=\"\",\"\",NETWORKDAYS([4]Hoja1!C2568+1,[4]Hoja1!P2568,DiasNOLaborables))","v":8},"",null,null,20]
[2558,20209050047842,43991,"CORREO ELECTRÓNICO","SOLICITUD DE INFORMACIÓN Y DOCUMENTOS","SOLICITUD DE INFORMACIÓN HIDROMETEOROLÓGICA","SI","SUBDIRECCIÓN DE ESTUDIOS AMBIENTALES",44006,null,null,{"$f":"IFERROR(WORKDAY(C2569,R2569,DiasNOLaborables),\"\")","v":44022},{"$f":"+IF(C2569=\"\",\"\",IF(I2569=\"\",\"\",(IF(I2569<=L2569,\"A TIEMPO\",\"FUERA DE TIEMPO\"))))","v":"A TIEMPO"},{"$f":"IF(I2569=\"\",\"\",NETWORKDAYS([4]Hoja1!C2569+1,[4]Hoja1!P2569,DiasNOLaborables))","v":8},"",null,null,20]
[2559,20209050047892,43991,"CORREO ELECTRÓNICO","SOLICITUD DE INFORMACIÓN Y DOCUMENTOS","SOLICITUD DE INFORMACIÓN HIDROMETEOROLÓGICA","SI","OFICINA DEL SERVICIO DE PRONÓSTICOS Y ALERTAS",43994,null,null,{"$f":"IFERROR(WORKDAY(C2570,R2570,DiasNOLaborables),\"\")","v":44022},{"$f":"+IF(C2570=\"\",\"\",IF(I2570=\"\",\"\",(IF(I2570<=L2570,\"A TIEMPO\",\"FUERA DE TIEMPO\"))))","v":"A TIEMPO"},{"$f":"IF(I2570=\"\",\"\",NETWORKDAYS([4]Hoja1!C2570+1,[4]Hoja1!P2570,DiasNOLaborables))","v":7},"",null,null,20]
[2560,20209050047942,43991,"MODULO CONTACTENOS","SOLICITUD DE INFORMACIÓN Y DOCUMENTOS","SOLICITUD DE INFORMACIÓN HIDROMETEOROLÓGICA","SI","GRUPO DE ADMINISTRACIÓN Y DESARROLLO DEL TALENTO HUMANO",43993,null,null,{"$f":"IFERROR(WORKDAY(C2571,R2571,DiasNOLaborables),\"\")","v":44022},{"$f":"+IF(C2571=\"\",\"\",IF(I2571=\"\",\"\",(IF(I2571<=L2571,\"A TIEMPO\",\"FUERA DE TIEMPO\"))))","v":"A TIEMPO"},{"$f":"IF(I2571=\"\",\"\",NETWORKDAYS([4]Hoja1!C2571+1,[4]Hoja1!P2571,DiasNOLaborables))","v":7},"",null,null,20]
[2561,20209050047952,43991,"CORREO ELECTRÓNICO","SOLICITUD DE INFORMACIÓN Y DOCUMENTOS","SOLICITUD DE INFORMACIÓN HIDROMETEOROLÓGICA","SI","OFICINA DEL SERVICIO DE PRONÓSTICOS Y ALERTAS",44014,null,null,{"$f":"IFERROR(WORKDAY(C2572,R2572,DiasNOLaborables),\"\")","v":44022},{"$f":"+IF(C2572=\"\",\"\",IF(I2572=\"\",\"\",(IF(I2572<=L2572,\"A TIEMPO\",\"FUERA DE TIEMPO\"))))","v":"A TIEMPO"},{"$f":"IF(I2572=\"\",\"\",NETWORKDAYS([4]Hoja1!C2572+1,[4]Hoja1!P2572,DiasNOLaborables))","v":7},"",null,null,20]
[2562,20209050047702,43991,"WEB (MÓDULO DE SOLICITUD DE INFORMACIÓN HIDROMETEOROLÓGICA)","SOLICITUD DE INFORMACIÓN Y DOCUMENTOS","SOLICITUD DE INFORMACIÓN HIDROMETEOROLÓGICA","NO","GRUPO DE ATENCIÓN AL CIUDADANO",44007,null,null,{"$f":"IFERROR(WORKDAY(C2573,R2573,DiasNOLaborables),\"\")","v":44022},{"$f":"+IF(C2573=\"\",\"\",IF(I2573=\"\",\"\",(IF(I2573<=L2573,\"A TIEMPO\",\"FUERA DE TIEMPO\"))))","v":"A TIEMPO"},{"$f":"IF(I2573=\"\",\"\",NETWORKDAYS([4]Hoja1!C2573+1,[4]Hoja1!P2573,DiasNOLaborables))","v":7},"",null,null,20]
[2563,20209050047712,43991,"WEB (MÓDULO DE SOLICITUD DE INFORMACIÓN HIDROMETEOROLÓGICA)","SOLICITUD DE INFORMACIÓN Y DOCUMENTOS","SOLICITUD DE INFORMACIÓN HIDROMETEOROLÓGICA","NO","GRUPO DE ATENCIÓN AL CIUDADANO",44008,null,null,{"$f":"IFERROR(WORKDAY(C2574,R2574,DiasNOLaborables),\"\")","v":44022},{"$f":"+IF(C2574=\"\",\"\",IF(I2574=\"\",\"\",(IF(I2574<=L2574,\"A TIEMPO\",\"FUERA DE TIEMPO\"))))","v":"A TIEMPO"},{"$f":"IF(I2574=\"\",\"\",NETWORKDAYS([4]Hoja1!C2574+1,[4]Hoja1!P2574,DiasNOLaborables))","v":7},"",null,null,20]
[2564,20209050047972,43991,"CORREO ELECTRÓNICO","SOLICITUD JUDICIAL","SOLICITUD DE INFORMACIÓN HIDROMETEOROLÓGICA","SI","SUBDIRECCIÓN DE HIDROLOGÍA",44006,null,null,{"$f":"IFERROR(WORKDAY(C2575,R2575,DiasNOLaborables),\"\")","v":43999},{"$f":"+IF(C2575=\"\",\"\",IF(I2575=\"\",\"\",(IF(I2575<=L2575,\"A TIEMPO\",\"FUERA DE TIEMPO\"))))","v":"FUERA DE TIEMPO"},{"$f":"IF(I2575=\"\",\"\",NETWORKDAYS([4]Hoja1!C2575+1,[4]Hoja1!P2575,DiasNOLaborables))","v":7},4,null,null,5]
[2565,20209050048002,43991,"CORREO ELECTRÓNICO","SOLICITUD DE INFORMACIÓN Y DOCUMENTOS","SOLICITUD DE INFORMACIÓN HIDROMETEOROLÓGICA","NO","GRUPO DE ATENCIÓN AL CIUDADANO",44005,null,null,{"$f":"IFERROR(WORKDAY(C2576,R2576,DiasNOLaborables),\"\")","v":44022},{"$f":"+IF(C2576=\"\",\"\",IF(I2576=\"\",\"\",(IF(I2576<=L2576,\"A TIEMPO\",\"FUERA DE TIEMPO\"))))","v":"A TIEMPO"},{"$f":"IF(I2576=\"\",\"\",NETWORKDAYS([4]Hoja1!C2576+1,[4]Hoja1!P2576,DiasNOLaborables))","v":7},"",null,null,20]
[2566,20200609201110,43992,"WEB (MÓDULO DE SOLICITUD DE INFORMACIÓN HIDROMETEOROLÓGICA)","SOLICITUD DE INFORMACIÓN Y DOCUMENTOS","SOLICITUD DE INFORMACIÓN HIDROMETEOROLÓGICA","NO","GRUPO DE ATENCIÓN AL CIUDADANO",44005,null,null,{"$f":"IFERROR(WORKDAY(C2577,R2577,DiasNOLaborables),\"\")","v":44025},{"$f":"+IF(C2577=\"\",\"\",IF(I2577=\"\",\"\",(IF(I2577<=L2577,\"A TIEMPO\",\"FUERA DE TIEMPO\"))))","v":"A TIEMPO"},{"$f":"IF(I2577=\"\",\"\",NETWORKDAYS([4]Hoja1!C2577+1,[4]Hoja1!P2577,DiasNOLaborables))","v":9},"",null,null,20]
[2567,20200609185215,43992,"WEB (MÓDULO DE SOLICITUD DE INFORMACIÓN HIDROMETEOROLÓGICA)","SOLICITUD DE INFORMACIÓN Y DOCUMENTOS","SOLICITUD DE INFORMACIÓN HIDROMETEOROLÓGICA","NO","GRUPO DE ATENCIÓN AL CIUDADANO",44005,null,null,{"$f":"IFERROR(WORKDAY(C2578,R2578,DiasNOLaborables),\"\")","v":44025},{"$f":"+IF(C2578=\"\",\"\",IF(I2578=\"\",\"\",(IF(I2578<=L2578,\"A TIEMPO\",\"FUERA DE TIEMPO\"))))","v":"A TIEMPO"},{"$f":"IF(I2578=\"\",\"\",NETWORKDAYS([4]Hoja1!C2578+1,[4]Hoja1!P2578,DiasNOLaborables))","v":9},"",null,null,20]
[2568,20200609170018,43992,"WEB (MÓDULO DE SOLICITUD DE INFORMACIÓN HIDROMETEOROLÓGICA)","SOLICITUD DE INFORMACIÓN Y DOCUMENTOS","SOLICITUD DE INFORMACIÓN HIDROMETEOROLÓGICA","NO","GRUPO DE ATENCIÓN AL CIUDADANO",44005,null,null,{"$f":"IFERROR(WORKDAY(C2579,R2579,DiasNOLaborables),\"\")","v":44025},{"$f":"+IF(C2579=\"\",\"\",IF(I2579=\"\",\"\",(IF(I2579<=L2579,\"A TIEMPO\",\"FUERA DE TIEMPO\"))))","v":"A TIEMPO"},{"$f":"IF(I2579=\"\",\"\",NETWORKDAYS([4]Hoja1!C2579+1,[4]Hoja1!P2579,DiasNOLaborables))","v":9},"",null,null,20]
[2569,20200609154940,43992,"WEB (MÓDULO DE SOLICITUD DE INFORMACIÓN HIDROMETEOROLÓGICA)","SOLICITUD DE INFORMACIÓN Y DOCUMENTOS","SOLICITUD DE INFORMACIÓN HIDROMETEOROLÓGICA","NO","GRUPO DE ATENCIÓN AL CIUDADANO",44005,null,null,{"$f":"IFERROR(WORKDAY(C2580,R2580,DiasNOLaborables),\"\")","v":44025},{"$f":"+IF(C2580=\"\",\"\",IF(I2580=\"\",\"\",(IF(I2580<=L2580,\"A TIEMPO\",\"FUERA DE TIEMPO\"))))","v":"A TIEMPO"},{"$f":"IF(I2580=\"\",\"\",NETWORKDAYS([4]Hoja1!C2580+1,[4]Hoja1!P2580,DiasNOLaborables))","v":9},"",null,null,20]
[2570,20200609154710,43992,"WEB (MÓDULO DE SOLICITUD DE INFORMACIÓN HIDROMETEOROLÓGICA)","SOLICITUD DE INFORMACIÓN Y DOCUMENTOS","SOLICITUD DE INFORMACIÓN HIDROMETEOROLÓGICA","NO","GRUPO DE ATENCIÓN AL CIUDADANO",44005,null,null,{"$f":"IFERROR(WORKDAY(C2581,R2581,DiasNOLaborables),\"\")","v":44025},{"$f":"+IF(C2581=\"\",\"\",IF(I2581=\"\",\"\",(IF(I2581<=L2581,\"A TIEMPO\",\"FUERA DE TIEMPO\"))))","v":"A TIEMPO"},{"$f":"IF(I2581=\"\",\"\",NETWORKDAYS([4]Hoja1!C2581+1,[4]Hoja1!P2581,DiasNOLaborables))","v":9},"",null,null,20]
[2571,20200609154448,43992,"WEB (MÓDULO DE SOLICITUD DE INFORMACIÓN HIDROMETEOROLÓGICA)","SOLICITUD DE INFORMACIÓN Y DOCUMENTOS","SOLICITUD DE INFORMACIÓN HIDROMETEOROLÓGICA","NO","GRUPO DE ATENCIÓN AL CIUDADANO",44005,null,null,{"$f":"IFERROR(WORKDAY(C2582,R2582,DiasNOLaborables),\"\")","v":44025},{"$f":"+IF(C2582=\"\",\"\",IF(I2582=\"\",\"\",(IF(I2582<=L2582,\"A TIEMPO\",\"FUERA DE TIEMPO\"))))","v":"A TIEMPO"},{"$f":"IF(I2582=\"\",\"\",NETWORKDAYS([4]Hoja1!C2582+1,[4]Hoja1!P2582,DiasNOLaborables))","v":9},"",null,null,20]
[2572,20200609154013,43992,"WEB (MÓDULO DE SOLICITUD DE INFORMACIÓN HIDROMETEOROLÓGICA)","SOLICITUD DE INFORMACIÓN Y DOCUMENTOS","SOLICITUD DE INFORMACIÓN HIDROMETEOROLÓGICA","NO","GRUPO DE ATENCIÓN AL CIUDADANO",44005,null,null,{"$f":"IFERROR(WORKDAY(C2583,R2583,DiasNOLaborables),\"\")","v":44025},{"$f":"+IF(C2583=\"\",\"\",IF(I2583=\"\",\"\",(IF(I2583<=L2583,\"A TIEMPO\",\"FUERA DE TIEMPO\"))))","v":"A TIEMPO"},{"$f":"IF(I2583=\"\",\"\",NETWORKDAYS([4]Hoja1!C2583+1,[4]Hoja1!P2583,DiasNOLaborables))","v":9},"",null,null,20]
[2573,20200609153728,43992,"WEB (MÓDULO DE SOLICITUD DE INFORMACIÓN HIDROMETEOROLÓGICA)","SOLICITUD DE INFORMACIÓN Y DOCUMENTOS","SOLICITUD DE INFORMACIÓN HIDROMETEOROLÓGICA","NO","GRUPO DE ATENCIÓN AL CIUDADANO",44005,null,null,{"$f":"IFERROR(WORKDAY(C2584,R2584,DiasNOLaborables),\"\")","v":44025},{"$f":"+IF(C2584=\"\",\"\",IF(I2584=\"\",\"\",(IF(I2584<=L2584,\"A TIEMPO\",\"FUERA DE TIEMPO\"))))","v":"A TIEMPO"},{"$f":"IF(I2584=\"\",\"\",NETWORKDAYS([4]Hoja1!C2584+1,[4]Hoja1!P2584,DiasNOLaborables))","v":9},"",null,null,20]
[2574,20200609153428,43992,"WEB (MÓDULO DE SOLICITUD DE INFORMACIÓN HIDROMETEOROLÓGICA)","SOLICITUD DE INFORMACIÓN Y DOCUMENTOS","SOLICITUD DE INFORMACIÓN HIDROMETEOROLÓGICA","NO","GRUPO DE ATENCIÓN AL CIUDADANO",44005,null,null,{"$f":"IFERROR(WORKDAY(C2585,R2585,DiasNOLaborables),\"\")","v":44025},{"$f":"+IF(C2585=\"\",\"\",IF(I2585=\"\",\"\",(IF(I2585<=L2585,\"A TIEMPO\",\"FUERA DE TIEMPO\"))))","v":"A TIEMPO"},{"$f":"IF(I2585=\"\",\"\",NETWORKDAYS([4]Hoja1!C2585+1,[4]Hoja1!P2585,DiasNOLaborables))","v":9},"",null,null,20]
[2575,20200609153003,43992,"WEB (MÓDULO DE SOLICITUD DE INFORMACIÓN HIDROMETEOROLÓGICA)","SOLICITUD DE INFORMACIÓN Y DOCUMENTOS","SOLICITUD DE INFORMACIÓN HIDROMETEOROLÓGICA","NO","GRUPO DE ATENCIÓN AL CIUDADANO",44005,null,null,{"$f":"IFERROR(WORKDAY(C2586,R2586,DiasNOLaborables),\"\")","v":44025},{"$f":"+IF(C2586=\"\",\"\",IF(I2586=\"\",\"\",(IF(I2586<=L2586,\"A TIEMPO\",\"FUERA DE TIEMPO\"))))","v":"A TIEMPO"},{"$f":"IF(I2586=\"\",\"\",NETWORKDAYS([4]Hoja1!C2586+1,[4]Hoja1!P2586,DiasNOLaborables))","v":9},"",null,null,20]
[2576,20200609152733,43992,"WEB (MÓDULO DE SOLICITUD DE INFORMACIÓN HIDROMETEOROLÓGICA)","SOLICITUD DE INFORMACIÓN Y DOCUMENTOS","SOLICITUD DE INFORMACIÓN HIDROMETEOROLÓGICA","NO","GRUPO DE ATENCIÓN AL CIUDADANO",44005,null,null,{"$f":"IFERROR(WORKDAY(C2587,R2587,DiasNOLaborables),\"\")","v":44025},{"$f":"+IF(C2587=\"\",\"\",IF(I2587=\"\",\"\",(IF(I2587<=L2587,\"A TIEMPO\",\"FUERA DE TIEMPO\"))))","v":"A TIEMPO"},{"$f":"IF(I2587=\"\",\"\",NETWORKDAYS([4]Hoja1!C2587+1,[4]Hoja1!P2587,DiasNOLaborables))","v":9},"",null,null,20]
[2577,20200609152325,43992,"WEB (MÓDULO DE SOLICITUD DE INFORMACIÓN HIDROMETEOROLÓGICA)","SOLICITUD DE INFORMACIÓN Y DOCUMENTOS","SOLICITUD DE INFORMACIÓN HIDROMETEOROLÓGICA","NO","GRUPO DE ATENCIÓN AL CIUDADANO",44005,null,null,{"$f":"IFERROR(WORKDAY(C2588,R2588,DiasNOLaborables),\"\")","v":44025},{"$f":"+IF(C2588=\"\",\"\",IF(I2588=\"\",\"\",(IF(I2588<=L2588,\"A TIEMPO\",\"FUERA DE TIEMPO\"))))","v":"A TIEMPO"},{"$f":"IF(I2588=\"\",\"\",NETWORKDAYS([4]Hoja1!C2588+1,[4]Hoja1!P2588,DiasNOLaborables))","v":9},"",null,null,20]
[2578,20200609152045,43992,"WEB (MÓDULO DE SOLICITUD DE INFORMACIÓN HIDROMETEOROLÓGICA)","SOLICITUD DE INFORMACIÓN Y DOCUMENTOS","SOLICITUD DE INFORMACIÓN HIDROMETEOROLÓGICA","NO","GRUPO DE ATENCIÓN AL CIUDADANO",44005,null,null,{"$f":"IFERROR(WORKDAY(C2589,R2589,DiasNOLaborables),\"\")","v":44025},{"$f":"+IF(C2589=\"\",\"\",IF(I2589=\"\",\"\",(IF(I2589<=L2589,\"A TIEMPO\",\"FUERA DE TIEMPO\"))))","v":"A TIEMPO"},{"$f":"IF(I2589=\"\",\"\",NETWORKDAYS([4]Hoja1!C2589+1,[4]Hoja1!P2589,DiasNOLaborables))","v":9},"",null,null,20]
[2579,20200609150721,43992,"WEB (MÓDULO DE SOLICITUD DE INFORMACIÓN HIDROMETEOROLÓGICA)","SOLICITUD DE INFORMACIÓN Y DOCUMENTOS","SOLICITUD DE INFORMACIÓN HIDROMETEOROLÓGICA","NO","GRUPO DE ATENCIÓN AL CIUDADANO",44005,null,null,{"$f":"IFERROR(WORKDAY(C2590,R2590,DiasNOLaborables),\"\")","v":44025},{"$f":"+IF(C2590=\"\",\"\",IF(I2590=\"\",\"\",(IF(I2590<=L2590,\"A TIEMPO\",\"FUERA DE TIEMPO\"))))","v":"A TIEMPO"},{"$f":"IF(I2590=\"\",\"\",NETWORKDAYS([4]Hoja1!C2590+1,[4]Hoja1!P2590,DiasNOLaborables))","v":9},"",null,null,20]
[2580,20200609122709,43992,"WEB (MÓDULO DE SOLICITUD DE INFORMACIÓN HIDROMETEOROLÓGICA)","SOLICITUD DE INFORMACIÓN Y DOCUMENTOS","SOLICITUD DE INFORMACIÓN HIDROMETEOROLÓGICA","NO","GRUPO DE ATENCIÓN AL CIUDADANO",44005,null,null,{"$f":"IFERROR(WORKDAY(C2591,R2591,DiasNOLaborables),\"\")","v":44025},{"$f":"+IF(C2591=\"\",\"\",IF(I2591=\"\",\"\",(IF(I2591<=L2591,\"A TIEMPO\",\"FUERA DE TIEMPO\"))))","v":"A TIEMPO"},{"$f":"IF(I2591=\"\",\"\",NETWORKDAYS([4]Hoja1!C2591+1,[4]Hoja1!P2591,DiasNOLaborables))","v":9},"",null,null,20]
[2581,20200609122032,43992,"WEB (MÓDULO DE SOLICITUD DE INFORMACIÓN HIDROMETEOROLÓGICA)","SOLICITUD DE INFORMACIÓN Y DOCUMENTOS","SOLICITUD DE INFORMACIÓN HIDROMETEOROLÓGICA","NO","GRUPO DE ATENCIÓN AL CIUDADANO",44005,null,null,{"$f":"IFERROR(WORKDAY(C2592,R2592,DiasNOLaborables),\"\")","v":44025},{"$f":"+IF(C2592=\"\",\"\",IF(I2592=\"\",\"\",(IF(I2592<=L2592,\"A TIEMPO\",\"FUERA DE TIEMPO\"))))","v":"A TIEMPO"},{"$f":"IF(I2592=\"\",\"\",NETWORKDAYS([4]Hoja1!C2592+1,[4]Hoja1!P2592,DiasNOLaborables))","v":9},"",null,null,20]
[2582,20200609032230,43992,"WEB (MÓDULO DE SOLICITUD DE INFORMACIÓN HIDROMETEOROLÓGICA)","SOLICITUD DE INFORMACIÓN Y DOCUMENTOS","SOLICITUD DE INFORMACIÓN HIDROMETEOROLÓGICA","NO","GRUPO DE ATENCIÓN AL CIUDADANO",44005,null,null,{"$f":"IFERROR(WORKDAY(C2593,R2593,DiasNOLaborables),\"\")","v":44025},{"$f":"+IF(C2593=\"\",\"\",IF(I2593=\"\",\"\",(IF(I2593<=L2593,\"A TIEMPO\",\"FUERA DE TIEMPO\"))))","v":"A TIEMPO"},{"$f":"IF(I2593=\"\",\"\",NETWORKDAYS([4]Hoja1!C2593+1,[4]Hoja1!P2593,DiasNOLaborables))","v":9},"",null,null,20]
[2583,20209050048072,43992,"CORREO ELECTRÓNICO","SOLICITUD DE INFORMACIÓN Y DOCUMENTOS","SOLICITUD DE INFORMACIÓN HIDROMETEOROLÓGICA","NO","GRUPO DE ATENCIÓN AL CIUDADANO",43994,null,null,{"$f":"IFERROR(WORKDAY(C2594,R2594,DiasNOLaborables),\"\")","v":44025},{"$f":"+IF(C2594=\"\",\"\",IF(I2594=\"\",\"\",(IF(I2594<=L2594,\"A TIEMPO\",\"FUERA DE TIEMPO\"))))","v":"A TIEMPO"},{"$f":"IF(I2594=\"\",\"\",NETWORKDAYS([4]Hoja1!C2594+1,[4]Hoja1!P2594,DiasNOLaborables))","v":9},"",null,null,20]
[2584,20209050048152,43992,"CORREO ELECTRÓNICO","SOLICITUD DE INFORMACIÓN Y DOCUMENTOS","SOLICITUD DE INFORMACIÓN HIDROMETEOROLÓGICA","NO","GRUPO DE ATENCIÓN AL CIUDADANO",43994,null,null,{"$f":"IFERROR(WORKDAY(C2595,R2595,DiasNOLaborables),\"\")","v":44025},{"$f":"+IF(C2595=\"\",\"\",IF(I2595=\"\",\"\",(IF(I2595<=L2595,\"A TIEMPO\",\"FUERA DE TIEMPO\"))))","v":"A TIEMPO"},{"$f":"IF(I2595=\"\",\"\",NETWORKDAYS([4]Hoja1!C2595+1,[4]Hoja1!P2595,DiasNOLaborables))","v":9},"",null,null,20]
[2585,20209050048802,43992,"CORREO ELECTRÓNICO","SOLICITUD DE INFORMACIÓN Y DOCUMENTOS","SOLICITUD DE INFORMACIÓN HIDROMETEOROLÓGICA","NO","GRUPO DE ATENCIÓN AL CIUDADANO",43994,null,null,{"$f":"IFERROR(WORKDAY(C2596,R2596,DiasNOLaborables),\"\")","v":44025},{"$f":"+IF(C2596=\"\",\"\",IF(I2596=\"\",\"\",(IF(I2596<=L2596,\"A TIEMPO\",\"FUERA DE TIEMPO\"))))","v":"A TIEMPO"},{"$f":"IF(I2596=\"\",\"\",NETWORKDAYS([4]Hoja1!C2596+1,[4]Hoja1!P2596,DiasNOLaborables))","v":9},"",null,null,20]
[2586,20209050048272,43992,"CORREO ELECTRÓNICO","SOLICITUD DE INFORMACIÓN Y DOCUMENTOS","SOLICITUD DE INFORMACIÓN HIDROMETEOROLÓGICA","NO","GRUPO DE ATENCIÓN AL CIUDADANO",43994,null,null,{"$f":"IFERROR(WORKDAY(C2597,R2597,DiasNOLaborables),\"\")","v":44025},{"$f":"+IF(C2597=\"\",\"\",IF(I2597=\"\",\"\",(IF(I2597<=L2597,\"A TIEMPO\",\"FUERA DE TIEMPO\"))))","v":"A TIEMPO"},{"$f":"IF(I2597=\"\",\"\",NETWORKDAYS([4]Hoja1!C2597+1,[4]Hoja1!P2597,DiasNOLaborables))","v":10},"",null,null,20]
[2587,20209050048052,43992,"MODULO CONTACTENOS","SOLICITUD DE INFORMACIÓN Y DOCUMENTOS","ADMINISTRATIVA","SI","GRUPO DE TESORERÍA",44001,null,null,{"$f":"IFERROR(WORKDAY(C2598,R2598,DiasNOLaborables),\"\")","v":44025},{"$f":"+IF(C2598=\"\",\"\",IF(I2598=\"\",\"\",(IF(I2598<=L2598,\"A TIEMPO\",\"FUERA DE TIEMPO\"))))","v":"A TIEMPO"},{"$f":"IF(I2598=\"\",\"\",NETWORKDAYS([4]Hoja1!C2598+1,[4]Hoja1!P2598,DiasNOLaborables))","v":9},"",null,null,20]
[2588,20209050048082,43992,"CORREO ELECTRÓNICO","SOLICITUD DE INFORMACIÓN Y DOCUMENTOS","SOLICITUD DE INFORMACIÓN HIDROMETEOROLÓGICA","SI","SUBDIRECCIÓN DE ECOSISTEMAS E INFORMACIÓN AMBIENTAL",44001,null,null,{"$f":"IFERROR(WORKDAY(C2599,R2599,DiasNOLaborables),\"\")","v":44025},{"$f":"+IF(C2599=\"\",\"\",IF(I2599=\"\",\"\",(IF(I2599<=L2599,\"A TIEMPO\",\"FUERA DE TIEMPO\"))))","v":"A TIEMPO"},{"$f":"IF(I2599=\"\",\"\",NETWORKDAYS([4]Hoja1!C2599+1,[4]Hoja1!P2599,DiasNOLaborables))","v":9},"",null,null,20]
[2589,20209050048092,43992,"CORREO ELECTRÓNICO","SOLICITUD DE INFORMACIÓN Y DOCUMENTOS","SOLICITUD DE INFORMACIÓN HIDROMETEOROLÓGICA","SI","SUBDIRECCIÓN DE ESTUDIOS AMBIENTALES",43997,null,null,{"$f":"IFERROR(WORKDAY(C2600,R2600,DiasNOLaborables),\"\")","v":44025},{"$f":"+IF(C2600=\"\",\"\",IF(I2600=\"\",\"\",(IF(I2600<=L2600,\"A TIEMPO\",\"FUERA DE TIEMPO\"))))","v":"A TIEMPO"},{"$f":"IF(I2600=\"\",\"\",NETWORKDAYS([4]Hoja1!C2600+1,[4]Hoja1!P2600,DiasNOLaborables))","v":9},"",null,null,20]
[2590,20209050048102,43992,"CORREO ELECTRÓNICO","SOLICITUD DE INFORMACIÓN Y DOCUMENTOS","REGISTROS AMBIENTALES","SI","SUBDIRECCIÓN DE ESTUDIOS AMBIENTALES",43997,null,null,{"$f":"IFERROR(WORKDAY(C2601,R2601,DiasNOLaborables),\"\")","v":44025},{"$f":"+IF(C2601=\"\",\"\",IF(I2601=\"\",\"\",(IF(I2601<=L2601,\"A TIEMPO\",\"FUERA DE TIEMPO\"))))","v":"A TIEMPO"},{"$f":"IF(I2601=\"\",\"\",NETWORKDAYS([4]Hoja1!C2601+1,[4]Hoja1!P2601,DiasNOLaborables))","v":9},"",null,null,20]
[2591,20209050048112,43992,"CORREO ELECTRÓNICO","SOLICITUD DE INFORMACIÓN Y DOCUMENTOS","ADMINISTRATIVA","SI","GRUPO DE TESORERÍA",44001,null,null,{"$f":"IFERROR(WORKDAY(C2602,R2602,DiasNOLaborables),\"\")","v":44025},{"$f":"+IF(C2602=\"\",\"\",IF(I2602=\"\",\"\",(IF(I2602<=L2602,\"A TIEMPO\",\"FUERA DE TIEMPO\"))))","v":"A TIEMPO"},{"$f":"IF(I2602=\"\",\"\",NETWORKDAYS([4]Hoja1!C2602+1,[4]Hoja1!P2602,DiasNOLaborables))","v":9},"",null,null,20]
[2592,20209050048122,43992,"CORREO ELECTRÓNICO","SOLICITUD DE INFORMACIÓN Y DOCUMENTOS","ADMINISTRATIVA","SI","GRUPO DE TESORERÍA",44001,null,null,{"$f":"IFERROR(WORKDAY(C2603,R2603,DiasNOLaborables),\"\")","v":44025},{"$f":"+IF(C2603=\"\",\"\",IF(I2603=\"\",\"\",(IF(I2603<=L2603,\"A TIEMPO\",\"FUERA DE TIEMPO\"))))","v":"A TIEMPO"},{"$f":"IF(I2603=\"\",\"\",NETWORKDAYS([4]Hoja1!C2603+1,[4]Hoja1!P2603,DiasNOLaborables))","v":8},"",null,null,20]
[2593,20209050048132,43992,"CORREO ELECTRÓNICO","CERTIFICACIONES DE TIEMPO, CLIMA Y EVENTOS HIDROLÓGICOS","CERTIFICACIONES DE TIEMPO Y CLIMA","SI","SUBDIRECCIÓN DE METEOROLOGÍA",43994,null,null,{"$f":"IFERROR(WORKDAY(C2604,R2604,DiasNOLaborables),\"\")","v":44040},{"$f":"+IF(C2604=\"\",\"\",IF(I2604=\"\",\"\",(IF(I2604<=L2604,\"A TIEMPO\",\"FUERA DE TIEMPO\"))))","v":"A TIEMPO"},{"$f":"IF(I2604=\"\",\"\",NETWORKDAYS([4]Hoja1!C2604+1,[4]Hoja1!P2604,DiasNOLaborables))","v":8},"",null,null,30]
[2594,20209050048142,43992,"MODULO CONTACTENOS","SOLICITUD DE INFORMACIÓN Y DOCUMENTOS","ADMINISTRATIVA","SI","GRUPO DE ADMINISTRACIÓN Y DESARROLLO DEL TALENTO HUMANO",43999,null,null,{"$f":"IFERROR(WORKDAY(C2605,R2605,DiasNOLaborables),\"\")","v":44025},{"$f":"+IF(C2605=\"\",\"\",IF(I2605=\"\",\"\",(IF(I2605<=L2605,\"A TIEMPO\",\"FUERA DE TIEMPO\"))))","v":"A TIEMPO"},{"$f":"IF(I2605=\"\",\"\",NETWORKDAYS([4]Hoja1!C2605+1,[4]Hoja1!P2605,DiasNOLaborables))","v":8},"",null,null,20]
[2595,20209050048172,43992,"MODULO CONTACTENOS","CERTIFICACIONES DE TIEMPO, CLIMA Y EVENTOS HIDROLÓGICOS","CERTIFICACIONES DE TIEMPO Y CLIMA","SI","SUBDIRECCIÓN DE METEOROLOGÍA",43998,null,null,{"$f":"IFERROR(WORKDAY(C2606,R2606,DiasNOLaborables),\"\")","v":44040},{"$f":"+IF(C2606=\"\",\"\",IF(I2606=\"\",\"\",(IF(I2606<=L2606,\"A TIEMPO\",\"FUERA DE TIEMPO\"))))","v":"A TIEMPO"},{"$f":"IF(I2606=\"\",\"\",NETWORKDAYS([4]Hoja1!C2606+1,[4]Hoja1!P2606,DiasNOLaborables))","v":8},"",null,null,30]
[2596,20209050048182,43992,"MODULO CONTACTENOS","CERTIFICACIONES DE TIEMPO, CLIMA Y EVENTOS HIDROLÓGICOS","CERTIFICACIONES DE TIEMPO Y CLIMA","SI","SUBDIRECCIÓN DE METEOROLOGÍA",43999,null,null,{"$f":"IFERROR(WORKDAY(C2607,R2607,DiasNOLaborables),\"\")","v":44040},{"$f":"+IF(C2607=\"\",\"\",IF(I2607=\"\",\"\",(IF(I2607<=L2607,\"A TIEMPO\",\"FUERA DE TIEMPO\"))))","v":"A TIEMPO"},{"$f":"IF(I2607=\"\",\"\",NETWORKDAYS([4]Hoja1!C2607+1,[4]Hoja1!P2607,DiasNOLaborables))","v":8},"",null,null,30]
[2597,20209050048192,43992,"CORREO ELECTRÓNICO","CERTIFICACIONES DE TIEMPO, CLIMA Y EVENTOS HIDROLÓGICOS","CERTIFICACIONES DE TIEMPO Y CLIMA","SI","SUBDIRECCIÓN DE METEOROLOGÍA",43999,null,null,{"$f":"IFERROR(WORKDAY(C2608,R2608,DiasNOLaborables),\"\")","v":44040},{"$f":"+IF(C2608=\"\",\"\",IF(I2608=\"\",\"\",(IF(I2608<=L2608,\"A TIEMPO\",\"FUERA DE TIEMPO\"))))","v":"A TIEMPO"},{"$f":"IF(I2608=\"\",\"\",NETWORKDAYS([4]Hoja1!C2608+1,[4]Hoja1!P2608,DiasNOLaborables))","v":8},"",null,null,30]
[2598,20209050048212,43992,"CORREO ELECTRÓNICO","SOLICITUD DE INFORMACIÓN Y DOCUMENTOS","SOLICITUD DE INFORMACIÓN HIDROMETEOROLÓGICA","SI","SUBDIRECCIÓN DE ECOSISTEMAS E INFORMACIÓN AMBIENTAL",44008,null,null,{"$f":"IFERROR(WORKDAY(C2609,R2609,DiasNOLaborables),\"\")","v":44025},{"$f":"+IF(C2609=\"\",\"\",IF(I2609=\"\",\"\",(IF(I2609<=L2609,\"A TIEMPO\",\"FUERA DE TIEMPO\"))))","v":"A TIEMPO"},{"$f":"IF(I2609=\"\",\"\",NETWORKDAYS([4]Hoja1!C2609+1,[4]Hoja1!P2609,DiasNOLaborables))","v":8},"",null,null,20]
[{"$f":"IF(B2608<>\"\",A2609+1,\"\")","v":2599},20209050048222,43992,"CORREO ELECTRÓNICO","CERTIFICACIONES DE TIEMPO, CLIMA Y EVENTOS HIDROLÓGICOS","CERTIFICACIONES DE TIEMPO Y CLIMA","SI","SUBDIRECCIÓN DE METEOROLOGÍA",43998,null,null,{"$f":"IFERROR(WORKDAY(C2610,R2610,DiasNOLaborables),\"\")","v":44040},{"$f":"+IF(C2610=\"\",\"\",IF(I2610=\"\",\"\",(IF(I2610<=L2610,\"A TIEMPO\",\"FUERA DE TIEMPO\"))))","v":"A TIEMPO"},{"$f":"IF(I2610=\"\",\"\",NETWORKDAYS([4]Hoja1!C2610+1,[4]Hoja1!P2610,DiasNOLaborables))","v":8},"",null,null,30]
[2600,20209050048232,43992,"CORREO ELECTRÓNICO","SOLICITUD DE INFORMACIÓN Y DOCUMENTOS","SOLICITUD DE INFORMACIÓN HIDROMETEOROLÓGICA","SI","SUBDIRECCIÓN DE METEOROLOGÍA",44019,null,null,{"$f":"IFERROR(WORKDAY(C2611,R2611,DiasNOLaborables),\"\")","v":44025},{"$f":"+IF(C2611=\"\",\"\",IF(I2611=\"\",\"\",(IF(I2611<=L2611,\"A TIEMPO\",\"FUERA DE TIEMPO\"))))","v":"A TIEMPO"},{"$f":"IF(I2611=\"\",\"\",NETWORKDAYS([4]Hoja1!C2611+1,[4]Hoja1!P2611,DiasNOLaborables))","v":8},"",null,null,20]
[2601,20209050048242,43992,"CORREO ELECTRÓNICO","SOLICITUD DE INFORMACIÓN Y DOCUMENTOS","SOLICITUD DE INFORMACIÓN HIDROMETEOROLÓGICA","SI","SUBDIRECCIÓN DE ECOSISTEMAS E INFORMACIÓN AMBIENTAL",43993,null,null,{"$f":"IFERROR(WORKDAY(C2612,R2612,DiasNOLaborables),\"\")","v":44025},{"$f":"+IF(C2612=\"\",\"\",IF(I2612=\"\",\"\",(IF(I2612<=L2612,\"A TIEMPO\",\"FUERA DE TIEMPO\"))))","v":"A TIEMPO"},{"$f":"IF(I2612=\"\",\"\",NETWORKDAYS([4]Hoja1!C2612+1,[4]Hoja1!P2612,DiasNOLaborables))","v":8},{"$f":"IF(NETWORKDAYS(L2612+1,I2612,DiasNOLaborables)<=0,\"\",NETWORKDAYS(L2612+1,I2612,DiasNOLaborables))","v":""},null,null,20]
[2602,20200610205238,43992,"WEB (MÓDULO DE SOLICITUD DE INFORMACIÓN HIDROMETEOROLÓGICA)","SOLICITUD DE INFORMACIÓN Y DOCUMENTOS","SOLICITUD DE INFORMACIÓN HIDROMETEOROLÓGICA","NO","GRUPO DE ATENCIÓN AL CIUDADANO",44005,null,null,{"$f":"IFERROR(WORKDAY(C2613,R2613,DiasNOLaborables),\"\")","v":44025},{"$f":"+IF(C2613=\"\",\"\",IF(I2613=\"\",\"\",(IF(I2613<=L2613,\"A TIEMPO\",\"FUERA DE TIEMPO\"))))","v":"A TIEMPO"},{"$f":"IF(I2613=\"\",\"\",NETWORKDAYS([4]Hoja1!C2613+1,[4]Hoja1!P2613,DiasNOLaborables))","v":8},"",null,null,20]
[2603,20200610172344,43992,"WEB (MÓDULO DE SOLICITUD DE INFORMACIÓN HIDROMETEOROLÓGICA)","SOLICITUD DE INFORMACIÓN Y DOCUMENTOS","SOLICITUD DE INFORMACIÓN HIDROMETEOROLÓGICA","NO","GRUPO DE ATENCIÓN AL CIUDADANO",44005,null,null,{"$f":"IFERROR(WORKDAY(C2614,R2614,DiasNOLaborables),\"\")","v":44025},{"$f":"+IF(C2614=\"\",\"\",IF(I2614=\"\",\"\",(IF(I2614<=L2614,\"A TIEMPO\",\"FUERA DE TIEMPO\"))))","v":"A TIEMPO"},{"$f":"IF(I2614=\"\",\"\",NETWORKDAYS([4]Hoja1!C2614+1,[4]Hoja1!P2614,DiasNOLaborables))","v":8},"",null,null,20]
[2604,20200610171618,43992,"WEB (MÓDULO DE SOLICITUD DE INFORMACIÓN HIDROMETEOROLÓGICA)","SOLICITUD DE INFORMACIÓN Y DOCUMENTOS","SOLICITUD DE INFORMACIÓN HIDROMETEOROLÓGICA","NO","GRUPO DE ATENCIÓN AL CIUDADANO",44005,null,null,{"$f":"IFERROR(WORKDAY(C2615,R2615,DiasNOLaborables),\"\")","v":44025},{"$f":"+IF(C2615=\"\",\"\",IF(I2615=\"\",\"\",(IF(I2615<=L2615,\"A TIEMPO\",\"FUERA DE TIEMPO\"))))","v":"A TIEMPO"},{"$f":"IF(I2615=\"\",\"\",NETWORKDAYS([4]Hoja1!C2615+1,[4]Hoja1!P2615,DiasNOLaborables))","v":8},"",null,null,20]
[2605,20200610103755,43992,"WEB (MÓDULO DE SOLICITUD DE INFORMACIÓN HIDROMETEOROLÓGICA)","SOLICITUD DE INFORMACIÓN Y DOCUMENTOS","SOLICITUD DE INFORMACIÓN HIDROMETEOROLÓGICA","NO","GRUPO DE ATENCIÓN AL CIUDADANO",44005,null,null,{"$f":"IFERROR(WORKDAY(C2616,R2616,DiasNOLaborables),\"\")","v":44025},{"$f":"+IF(C2616=\"\",\"\",IF(I2616=\"\",\"\",(IF(I2616<=L2616,\"A TIEMPO\",\"FUERA DE TIEMPO\"))))","v":"A TIEMPO"},{"$f":"IF(I2616=\"\",\"\",NETWORKDAYS([4]Hoja1!C2616+1,[4]Hoja1!P2616,DiasNOLaborables))","v":8},"",null,null,20]
[2606,20209050048012,43992,"WEB (MÓDULO DE SOLICITUD DE INFORMACIÓN HIDROMETEOROLÓGICA)","SOLICITUD DE INFORMACIÓN Y DOCUMENTOS","SOLICITUD DE INFORMACIÓN HIDROMETEOROLÓGICA","NO","GRUPO DE ATENCIÓN AL CIUDADANO",44008,null,null,{"$f":"IFERROR(WORKDAY(C2617,R2617,DiasNOLaborables),\"\")","v":44025},{"$f":"+IF(C2617=\"\",\"\",IF(I2617=\"\",\"\",(IF(I2617<=L2617,\"A TIEMPO\",\"FUERA DE TIEMPO\"))))","v":"A TIEMPO"},{"$f":"IF(I2617=\"\",\"\",NETWORKDAYS([4]Hoja1!C2617+1,[4]Hoja1!P2617,DiasNOLaborables))","v":8},"",null,null,20]
[2607,20209050048022,43992,"WEB (MÓDULO DE SOLICITUD DE INFORMACIÓN HIDROMETEOROLÓGICA)","SOLICITUD DE INFORMACIÓN Y DOCUMENTOS","SOLICITUD DE INFORMACIÓN HIDROMETEOROLÓGICA","NO","GRUPO DE ATENCIÓN AL CIUDADANO",44008,null,null,{"$f":"IFERROR(WORKDAY(C2618,R2618,DiasNOLaborables),\"\")","v":44025},{"$f":"+IF(C2618=\"\",\"\",IF(I2618=\"\",\"\",(IF(I2618<=L2618,\"A TIEMPO\",\"FUERA DE TIEMPO\"))))","v":"A TIEMPO"},{"$f":"IF(I2618=\"\",\"\",NETWORKDAYS([4]Hoja1!C2618+1,[4]Hoja1!P2618,DiasNOLaborables))","v":8},"",null,null,20]
[2608,20209050048032,43992,"WEB (MÓDULO DE SOLICITUD DE INFORMACIÓN HIDROMETEOROLÓGICA)","SOLICITUD DE INFORMACIÓN Y DOCUMENTOS","SOLICITUD DE INFORMACIÓN HIDROMETEOROLÓGICA","NO","GRUPO DE ATENCIÓN AL CIUDADANO",44008,null,null,{"$f":"IFERROR(WORKDAY(C2619,R2619,DiasNOLaborables),\"\")","v":44025},{"$f":"+IF(C2619=\"\",\"\",IF(I2619=\"\",\"\",(IF(I2619<=L2619,\"A TIEMPO\",\"FUERA DE TIEMPO\"))))","v":"A TIEMPO"},{"$f":"IF(I2619=\"\",\"\",NETWORKDAYS([4]Hoja1!C2619+1,[4]Hoja1!P2619,DiasNOLaborables))","v":8},"",null,null,20]
[2609,20209050048042,43992,"WEB (MÓDULO DE SOLICITUD DE INFORMACIÓN HIDROMETEOROLÓGICA)","SOLICITUD DE INFORMACIÓN Y DOCUMENTOS","SOLICITUD DE INFORMACIÓN HIDROMETEOROLÓGICA","NO","GRUPO DE ATENCIÓN AL CIUDADANO",44008,null,null,{"$f":"IFERROR(WORKDAY(C2620,R2620,DiasNOLaborables),\"\")","v":44025},{"$f":"+IF(C2620=\"\",\"\",IF(I2620=\"\",\"\",(IF(I2620<=L2620,\"A TIEMPO\",\"FUERA DE TIEMPO\"))))","v":"A TIEMPO"},{"$f":"IF(I2620=\"\",\"\",NETWORKDAYS([4]Hoja1!C2620+1,[4]Hoja1!P2620,DiasNOLaborables))","v":8},"",null,null,20]
[2610,20209050048062,43992,"WEB (MÓDULO DE SOLICITUD DE INFORMACIÓN HIDROMETEOROLÓGICA)","SOLICITUD DE INFORMACIÓN Y DOCUMENTOS","SOLICITUD DE INFORMACIÓN HIDROMETEOROLÓGICA","NO","GRUPO DE ATENCIÓN AL CIUDADANO",44008,null,null,{"$f":"IFERROR(WORKDAY(C2621,R2621,DiasNOLaborables),\"\")","v":44025},{"$f":"+IF(C2621=\"\",\"\",IF(I2621=\"\",\"\",(IF(I2621<=L2621,\"A TIEMPO\",\"FUERA DE TIEMPO\"))))","v":"A TIEMPO"},{"$f":"IF(I2621=\"\",\"\",NETWORKDAYS([4]Hoja1!C2621+1,[4]Hoja1!P2621,DiasNOLaborables))","v":8},"",null,null,20]
[2611,20207100000902,43993,"WEB (MÓDULO DE SOLICITUD DE INFORMACIÓN HIDROMETEOROLÓGICA)","SOLICITUD DE INFORMACIÓN Y DOCUMENTOS","SOLICITUD DE INFORMACIÓN HIDROMETEOROLÓGICA","NO","GRUPO DE ATENCIÓN AL CIUDADANO",44008,null,null,{"$f":"IFERROR(WORKDAY(C2622,R2622,DiasNOLaborables),\"\")","v":44026},{"$f":"+IF(C2622=\"\",\"\",IF(I2622=\"\",\"\",(IF(I2622<=L2622,\"A TIEMPO\",\"FUERA DE TIEMPO\"))))","v":"A TIEMPO"},{"$f":"IF(I2622=\"\",\"\",NETWORKDAYS([4]Hoja1!C2622+1,[4]Hoja1!P2622,DiasNOLaborables))","v":8},"",null,null,20]
[2612,20209050048422,43993,"WEB (MÓDULO DE SOLICITUD DE INFORMACIÓN HIDROMETEOROLÓGICA)","SOLICITUD DE INFORMACIÓN Y DOCUMENTOS","SOLICITUD DE INFORMACIÓN HIDROMETEOROLÓGICA","NO","GRUPO DE ATENCIÓN AL CIUDADANO",44008,null,null,{"$f":"IFERROR(WORKDAY(C2623,R2623,DiasNOLaborables),\"\")","v":44026},{"$f":"+IF(C2623=\"\",\"\",IF(I2623=\"\",\"\",(IF(I2623<=L2623,\"A TIEMPO\",\"FUERA DE TIEMPO\"))))","v":"A TIEMPO"},{"$f":"IF(I2623=\"\",\"\",NETWORKDAYS([4]Hoja1!C2623+1,[4]Hoja1!P2623,DiasNOLaborables))","v":8},"",null,null,20]
[2613,20209050048432,43993,"WEB (MÓDULO DE SOLICITUD DE INFORMACIÓN HIDROMETEOROLÓGICA)","SOLICITUD DE INFORMACIÓN Y DOCUMENTOS","SOLICITUD DE INFORMACIÓN HIDROMETEOROLÓGICA","NO","GRUPO DE ATENCIÓN AL CIUDADANO",44008,null,null,{"$f":"IFERROR(WORKDAY(C2624,R2624,DiasNOLaborables),\"\")","v":44026},{"$f":"+IF(C2624=\"\",\"\",IF(I2624=\"\",\"\",(IF(I2624<=L2624,\"A TIEMPO\",\"FUERA DE TIEMPO\"))))","v":"A TIEMPO"},{"$f":"IF(I2624=\"\",\"\",NETWORKDAYS([4]Hoja1!C2624+1,[4]Hoja1!P2624,DiasNOLaborables))","v":8},"",null,null,20]
[2614,20209050048442,43993,"WEB (MÓDULO DE SOLICITUD DE INFORMACIÓN HIDROMETEOROLÓGICA)","SOLICITUD DE INFORMACIÓN Y DOCUMENTOS","SOLICITUD DE INFORMACIÓN HIDROMETEOROLÓGICA","NO","GRUPO DE ATENCIÓN AL CIUDADANO",44008,null,null,{"$f":"IFERROR(WORKDAY(C2625,R2625,DiasNOLaborables),\"\")","v":44026},{"$f":"+IF(C2625=\"\",\"\",IF(I2625=\"\",\"\",(IF(I2625<=L2625,\"A TIEMPO\",\"FUERA DE TIEMPO\"))))","v":"A TIEMPO"},{"$f":"IF(I2625=\"\",\"\",NETWORKDAYS([4]Hoja1!C2625+1,[4]Hoja1!P2625,DiasNOLaborables))","v":8},"",null,null,20]
[2615,20209050048252,43993,"CORREO ELECTRÓNICO","SOLICITUD DE INFORMACIÓN Y DOCUMENTOS","SOLICITUD DE INFORMACIÓN HIDROMETEOROLÓGICA","SI","GRUPO DE GESTIÓN DOCUMENTAL Y CENTRO DE DOCUMENTACIÓN",43993,null,null,{"$f":"IFERROR(WORKDAY(C2626,R2626,DiasNOLaborables),\"\")","v":44026},{"$f":"+IF(C2626=\"\",\"\",IF(I2626=\"\",\"\",(IF(I2626<=L2626,\"A TIEMPO\",\"FUERA DE TIEMPO\"))))","v":"A TIEMPO"},{"$f":"IF(I2626=\"\",\"\",NETWORKDAYS([4]Hoja1!C2626+1,[4]Hoja1!P2626,DiasNOLaborables))","v":8},"",null,null,20]
[2616,20209050048292,43993,"CORREO ELECTRÓNICO","SOLICITUD DE INFORMACIÓN Y DOCUMENTOS","REGISTROS AMBIENTALES","SI","SUBDIRECCIÓN DE ESTUDIOS AMBIENTALES",43992,null,null,{"$f":"IFERROR(WORKDAY(C2627,R2627,DiasNOLaborables),\"\")","v":44026},{"$f":"+IF(C2627=\"\",\"\",IF(I2627=\"\",\"\",(IF(I2627<=L2627,\"A TIEMPO\",\"FUERA DE TIEMPO\"))))","v":"A TIEMPO"},{"$f":"IF(I2627=\"\",\"\",NETWORKDAYS([4]Hoja1!C2627+1,[4]Hoja1!P2627,DiasNOLaborables))","v":8},"",null,null,20]
[2617,20209050048302,43993,"CORREO ELECTRÓNICO","SOLICITUD DE INFORMACIÓN Y DOCUMENTOS","REGISTROS AMBIENTALES","SI","SUBDIRECCIÓN DE ESTUDIOS AMBIENTALES",43993,null,null,{"$f":"IFERROR(WORKDAY(C2628,R2628,DiasNOLaborables),\"\")","v":44026},{"$f":"+IF(C2628=\"\",\"\",IF(I2628=\"\",\"\",(IF(I2628<=L2628,\"A TIEMPO\",\"FUERA DE TIEMPO\"))))","v":"A TIEMPO"},{"$f":"IF(I2628=\"\",\"\",NETWORKDAYS([4]Hoja1!C2628+1,[4]Hoja1!P2628,DiasNOLaborables))","v":8},"",null,null,20]
[2618,20209050048312,43993,"CORREO ELECTRÓNICO","SOLICITUD DE INFORMACIÓN Y DOCUMENTOS","REGISTROS AMBIENTALES","SI","SUBDIRECCIÓN DE ESTUDIOS AMBIENTALES",44020,null,null,{"$f":"IFERROR(WORKDAY(C2629,R2629,DiasNOLaborables),\"\")","v":44026},{"$f":"+IF(C2629=\"\",\"\",IF(I2629=\"\",\"\",(IF(I2629<=L2629,\"A TIEMPO\",\"FUERA DE TIEMPO\"))))","v":"A TIEMPO"},{"$f":"IF(I2629=\"\",\"\",NETWORKDAYS([4]Hoja1!C2629+1,[4]Hoja1!P2629,DiasNOLaborables))","v":8},"",null,null,20]
[2619,20209050048342,43993,"CORREO ELECTRÓNICO","CERTIFICACIONES DE TIEMPO, CLIMA Y EVENTOS HIDROLÓGICOS","CERTIFICACIONES DE TIEMPO Y CLIMA","SI","SUBDIRECCIÓN DE METEOROLOGÍA",44008,null,null,{"$f":"IFERROR(WORKDAY(C2630,R2630,DiasNOLaborables),\"\")","v":44041},{"$f":"+IF(C2630=\"\",\"\",IF(I2630=\"\",\"\",(IF(I2630<=L2630,\"A TIEMPO\",\"FUERA DE TIEMPO\"))))","v":"A TIEMPO"},{"$f":"IF(I2630=\"\",\"\",NETWORKDAYS([4]Hoja1!C2630+1,[4]Hoja1!P2630,DiasNOLaborables))","v":8},"",null,null,{"$f":"IFERROR(VLOOKUP(E2630,$Z$50:$AA$63,2),\"\")","v":30}]
[2620,20209050048362,43993,"CORREO ELECTRÓNICO","CERTIFICACIONES DE TIEMPO, CLIMA Y EVENTOS HIDROLÓGICOS","CERTIFICACIONES DE TIEMPO Y CLIMA","SI","SUBDIRECCIÓN DE METEOROLOGÍA",44008,null,null,{"$f":"IFERROR(WORKDAY(C2631,R2631,DiasNOLaborables),\"\")","v":44041},{"$f":"+IF(C2631=\"\",\"\",IF(I2631=\"\",\"\",(IF(I2631<=L2631,\"A TIEMPO\",\"FUERA DE TIEMPO\"))))","v":"A TIEMPO"},{"$f":"IF(I2631=\"\",\"\",NETWORKDAYS([4]Hoja1!C2631+1,[4]Hoja1!P2631,DiasNOLaborables))","v":8},"",null,null,30]
[2621,20209050048372,43993,"CORREO ELECTRÓNICO","SOLICITUD DE INFORMACIÓN Y DOCUMENTOS","REGISTROS AMBIENTALES","SI","SUBDIRECCIÓN DE ESTUDIOS AMBIENTALES",43993,null,null,{"$f":"IFERROR(WORKDAY(C2632,R2632,DiasNOLaborables),\"\")","v":44026},{"$f":"+IF(C2632=\"\",\"\",IF(I2632=\"\",\"\",(IF(I2632<=L2632,\"A TIEMPO\",\"FUERA DE TIEMPO\"))))","v":"A TIEMPO"},{"$f":"IF(I2632=\"\",\"\",NETWORKDAYS([4]Hoja1!C2632+1,[4]Hoja1!P2632,DiasNOLaborables))","v":8},"",null,null,20]
[2622,20209050048382,43993,"CORREO ELECTRÓNICO","SOLICITUD DE INFORMACIÓN Y DOCUMENTOS","SOLICITUD DE INFORMACIÓN HIDROMETEOROLÓGICA","SI","SUBDIRECCIÓN DE ESTUDIOS AMBIENTALES",44015,null,null,{"$f":"IFERROR(WORKDAY(C2633,R2633,DiasNOLaborables),\"\")","v":44026},{"$f":"+IF(C2633=\"\",\"\",IF(I2633=\"\",\"\",(IF(I2633<=L2633,\"A TIEMPO\",\"FUERA DE TIEMPO\"))))","v":"A TIEMPO"},{"$f":"IF(I2633=\"\",\"\",NETWORKDAYS([4]Hoja1!C2633+1,[4]Hoja1!P2633,DiasNOLaborables))","v":8},"",null,null,20]
[2623,20209050048392,43993,"CORREO ELECTRÓNICO","SOLICITUD DE INFORMACIÓN Y DOCUMENTOS","SOLICITUD DE INFORMACIÓN HIDROMETEOROLÓGICA","SI","SUBDIRECCIÓN DE ESTUDIOS AMBIENTALES",44005,null,null,{"$f":"IFERROR(WORKDAY(C2634,R2634,DiasNOLaborables),\"\")","v":44026},{"$f":"+IF(C2634=\"\",\"\",IF(I2634=\"\",\"\",(IF(I2634<=L2634,\"A TIEMPO\",\"FUERA DE TIEMPO\"))))","v":"A TIEMPO"},{"$f":"IF(I2634=\"\",\"\",NETWORKDAYS([4]Hoja1!C2634+1,[4]Hoja1!P2634,DiasNOLaborables))","v":8},"",null,null,20]
[2624,20209050048412,43993,"CORREO ELECTRÓNICO","SOLICITUD DE INFORMACIÓN Y DOCUMENTOS","REGISTROS AMBIENTALES","SI","SUBDIRECCIÓN DE ESTUDIOS AMBIENTALES",43993,null,null,{"$f":"IFERROR(WORKDAY(C2635,R2635,DiasNOLaborables),\"\")","v":44026},{"$f":"+IF(C2635=\"\",\"\",IF(I2635=\"\",\"\",(IF(I2635<=L2635,\"A TIEMPO\",\"FUERA DE TIEMPO\"))))","v":"A TIEMPO"},{"$f":"IF(I2635=\"\",\"\",NETWORKDAYS([4]Hoja1!C2635+1,[4]Hoja1!P2635,DiasNOLaborables))","v":8},"",null,null,20]
[2625,20209050048452,43993,"CORREO ELECTRÓNICO","SOLICITUD DE INFORMACIÓN Y DOCUMENTOS","REGISTROS AMBIENTALES","SI","SUBDIRECCIÓN DE ESTUDIOS AMBIENTALES",43998,null,null,{"$f":"IFERROR(WORKDAY(C2636,R2636,DiasNOLaborables),\"\")","v":44026},{"$f":"+IF(C2636=\"\",\"\",IF(I2636=\"\",\"\",(IF(I2636<=L2636,\"A TIEMPO\",\"FUERA DE TIEMPO\"))))","v":"A TIEMPO"},{"$f":"IF(I2636=\"\",\"\",NETWORKDAYS([4]Hoja1!C2636+1,[4]Hoja1!P2636,DiasNOLaborables))","v":8},"",null,null,20]
[2626,20209050048462,43993,"CORREO ELECTRÓNICO","SOLICITUD DE INFORMACIÓN Y DOCUMENTOS","SOLICITUD DE INFORMACIÓN HIDROMETEOROLÓGICA","SI","SUBDIRECCIÓN DE ESTUDIOS AMBIENTALES",44005,null,null,{"$f":"IFERROR(WORKDAY(C2637,R2637,DiasNOLaborables),\"\")","v":44026},{"$f":"+IF(C2637=\"\",\"\",IF(I2637=\"\",\"\",(IF(I2637<=L2637,\"A TIEMPO\",\"FUERA DE TIEMPO\"))))","v":"A TIEMPO"},{"$f":"IF(I2637=\"\",\"\",NETWORKDAYS([4]Hoja1!C2637+1,[4]Hoja1!P2637,DiasNOLaborables))","v":8},"",null,null,20]
[2627,20209050048472,43993,"CORREO ELECTRÓNICO","SOLICITUD DE INFORMACIÓN Y DOCUMENTOS","SOLICITUD DE INFORMACIÓN HIDROMETEOROLÓGICA","SI","SUBDIRECCIÓN DE ECOSISTEMAS E INFORMACIÓN AMBIENTAL",44000,null,null,{"$f":"IFERROR(WORKDAY(C2638,R2638,DiasNOLaborables),\"\")","v":44026},{"$f":"+IF(C2638=\"\",\"\",IF(I2638=\"\",\"\",(IF(I2638<=L2638,\"A TIEMPO\",\"FUERA DE TIEMPO\"))))","v":"A TIEMPO"},{"$f":"IF(I2638=\"\",\"\",NETWORKDAYS([4]Hoja1!C2638+1,[4]Hoja1!P2638,DiasNOLaborables))","v":8},"",null,null,20]
[2628,20209050048492,43993,"CORREO ELECTRÓNICO","SOLICITUD DE INFORMACIÓN Y DOCUMENTOS","SOLICITUD DE INFORMACIÓN HIDROMETEOROLÓGICA","SI","OFICINA DE INFORMÁTICA",43998,null,null,{"$f":"IFERROR(WORKDAY(C2639,R2639,DiasNOLaborables),\"\")","v":44026},{"$f":"+IF(C2639=\"\",\"\",IF(I2639=\"\",\"\",(IF(I2639<=L2639,\"A TIEMPO\",\"FUERA DE TIEMPO\"))))","v":"A TIEMPO"},{"$f":"IF(I2639=\"\",\"\",NETWORKDAYS([4]Hoja1!C2639+1,[4]Hoja1!P2639,DiasNOLaborables))","v":8},"",null,null,20]
[2629,20209050048502,43993,"CORREO ELECTRÓNICO","SOLICITUD DE INFORMACIÓN Y DOCUMENTOS","SOLICITUD DE INFORMACIÓN HIDROMETEOROLÓGICA","SI","SUBDIRECCIÓN DE HIDROLOGÍA",44001,null,null,{"$f":"IFERROR(WORKDAY(C2640,R2640,DiasNOLaborables),\"\")","v":44026},{"$f":"+IF(C2640=\"\",\"\",IF(I2640=\"\",\"\",(IF(I2640<=L2640,\"A TIEMPO\",\"FUERA DE TIEMPO\"))))","v":"A TIEMPO"},{"$f":"IF(I2640=\"\",\"\",NETWORKDAYS([4]Hoja1!C2640+1,[4]Hoja1!P2640,DiasNOLaborables))","v":8},"",null,null,20]
[2630,20209050048522,43993,"CORREO ELECTRÓNICO","SOLICITUD DE INFORMACIÓN Y DOCUMENTOS","REGISTROS AMBIENTALES","SI","SUBDIRECCIÓN DE ESTUDIOS AMBIENTALES",43993,null,null,{"$f":"IFERROR(WORKDAY(C2641,R2641,DiasNOLaborables),\"\")","v":44026},{"$f":"+IF(C2641=\"\",\"\",IF(I2641=\"\",\"\",(IF(I2641<=L2641,\"A TIEMPO\",\"FUERA DE TIEMPO\"))))","v":"A TIEMPO"},{"$f":"IF(I2641=\"\",\"\",NETWORKDAYS([4]Hoja1!C2641+1,[4]Hoja1!P2641,DiasNOLaborables))","v":8},"",null,null,20]
[2631,20209050048532,43993,"CORREO ELECTRÓNICO","SOLICITUD DE INFORMACIÓN Y DOCUMENTOS","REGISTROS AMBIENTALES","SI","SUBDIRECCIÓN DE ESTUDIOS AMBIENTALES",43998,null,null,{"$f":"IFERROR(WORKDAY(C2642,R2642,DiasNOLaborables),\"\")","v":44026},{"$f":"+IF(C2642=\"\",\"\",IF(I2642=\"\",\"\",(IF(I2642<=L2642,\"A TIEMPO\",\"FUERA DE TIEMPO\"))))","v":"A TIEMPO"},{"$f":"IF(I2642=\"\",\"\",NETWORKDAYS([4]Hoja1!C2642+1,[4]Hoja1!P2642,DiasNOLaborables))","v":9},"",null,null,20]
[2632,20209050048542,43993,"CORREO ELECTRÓNICO","SOLICITUD DE INFORMACIÓN Y DOCUMENTOS","REGISTROS AMBIENTALES","SI","SUBDIRECCIÓN DE ESTUDIOS AMBIENTALES",43998,null,null,{"$f":"IFERROR(WORKDAY(C2643,R2643,DiasNOLaborables),\"\")","v":44026},{"$f":"+IF(C2643=\"\",\"\",IF(I2643=\"\",\"\",(IF(I2643<=L2643,\"A TIEMPO\",\"FUERA DE TIEMPO\"))))","v":"A TIEMPO"},{"$f":"IF(I2643=\"\",\"\",NETWORKDAYS([4]Hoja1!C2643+1,[4]Hoja1!P2643,DiasNOLaborables))","v":9},"",null,null,20]
[2633,20209050048592,43993,"CORREO ELECTRÓNICO","SOLICITUD DE INFORMACIÓN Y DOCUMENTOS","SOLICITUD DE INFORMACIÓN HIDROMETEOROLÓGICA","SI","SUBDIRECCIÓN DE METEOROLOGÍA",44007,null,null,{"$f":"IFERROR(WORKDAY(C2644,R2644,DiasNOLaborables),\"\")","v":44026},{"$f":"+IF(C2644=\"\",\"\",IF(I2644=\"\",\"\",(IF(I2644<=L2644,\"A TIEMPO\",\"FUERA DE TIEMPO\"))))","v":"A TIEMPO"},{"$f":"IF(I2644=\"\",\"\",NETWORKDAYS([4]Hoja1!C2644+1,[4]Hoja1!P2644,DiasNOLaborables))","v":9},"",null,null,20]
[2634,20209050048602,43993,"CORREO ELECTRÓNICO","SOLICITUD DE INFORMACIÓN Y DOCUMENTOS","REGISTROS AMBIENTALES","SI","SUBDIRECCIÓN DE ESTUDIOS AMBIENTALES",43993,null,null,{"$f":"IFERROR(WORKDAY(C2645,R2645,DiasNOLaborables),\"\")","v":44026},{"$f":"+IF(C2645=\"\",\"\",IF(I2645=\"\",\"\",(IF(I2645<=L2645,\"A TIEMPO\",\"FUERA DE TIEMPO\"))))","v":"A TIEMPO"},{"$f":"IF(I2645=\"\",\"\",NETWORKDAYS([4]Hoja1!C2645+1,[4]Hoja1!P2645,DiasNOLaborables))","v":9},"",null,null,20]
[2635,20200611181952,43993,"WEB (MÓDULO DE SOLICITUD DE INFORMACIÓN HIDROMETEOROLÓGICA)","SOLICITUD DE INFORMACIÓN Y DOCUMENTOS","SOLICITUD DE INFORMACIÓN HIDROMETEOROLÓGICA","NO","GRUPO DE ATENCIÓN AL CIUDADANO",44005,null,null,{"$f":"IFERROR(WORKDAY(C2646,R2646,DiasNOLaborables),\"\")","v":44026},{"$f":"+IF(C2646=\"\",\"\",IF(I2646=\"\",\"\",(IF(I2646<=L2646,\"A TIEMPO\",\"FUERA DE TIEMPO\"))))","v":"A TIEMPO"},{"$f":"IF(I2646=\"\",\"\",NETWORKDAYS([4]Hoja1!C2646+1,[4]Hoja1!P2646,DiasNOLaborables))","v":9},"",null,null,20]
[2636,20200611173216,43993,"WEB (MÓDULO DE SOLICITUD DE INFORMACIÓN HIDROMETEOROLÓGICA)","SOLICITUD DE INFORMACIÓN Y DOCUMENTOS","SOLICITUD DE INFORMACIÓN HIDROMETEOROLÓGICA","NO","GRUPO DE ATENCIÓN AL CIUDADANO",44005,null,null,{"$f":"IFERROR(WORKDAY(C2647,R2647,DiasNOLaborables),\"\")","v":44026},{"$f":"+IF(C2647=\"\",\"\",IF(I2647=\"\",\"\",(IF(I2647<=L2647,\"A TIEMPO\",\"FUERA DE TIEMPO\"))))","v":"A TIEMPO"},{"$f":"IF(I2647=\"\",\"\",NETWORKDAYS([4]Hoja1!C2647+1,[4]Hoja1!P2647,DiasNOLaborables))","v":9},"",null,null,20]
[2637,20200611160732,43993,"WEB (MÓDULO DE SOLICITUD DE INFORMACIÓN HIDROMETEOROLÓGICA)","SOLICITUD DE INFORMACIÓN Y DOCUMENTOS","SOLICITUD DE INFORMACIÓN HIDROMETEOROLÓGICA","NO","GRUPO DE ATENCIÓN AL CIUDADANO",44005,null,null,{"$f":"IFERROR(WORKDAY(C2648,R2648,DiasNOLaborables),\"\")","v":44026},{"$f":"+IF(C2648=\"\",\"\",IF(I2648=\"\",\"\",(IF(I2648<=L2648,\"A TIEMPO\",\"FUERA DE TIEMPO\"))))","v":"A TIEMPO"},{"$f":"IF(I2648=\"\",\"\",NETWORKDAYS([4]Hoja1!C2648+1,[4]Hoja1!P2648,DiasNOLaborables))","v":9},"",null,null,20]
[2638,20200611140740,43993,"WEB (MÓDULO DE SOLICITUD DE INFORMACIÓN HIDROMETEOROLÓGICA)","SOLICITUD DE INFORMACIÓN Y DOCUMENTOS","SOLICITUD DE INFORMACIÓN HIDROMETEOROLÓGICA","NO","GRUPO DE ATENCIÓN AL CIUDADANO",44005,null,null,{"$f":"IFERROR(WORKDAY(C2649,R2649,DiasNOLaborables),\"\")","v":44026},{"$f":"+IF(C2649=\"\",\"\",IF(I2649=\"\",\"\",(IF(I2649<=L2649,\"A TIEMPO\",\"FUERA DE TIEMPO\"))))","v":"A TIEMPO"},{"$f":"IF(I2649=\"\",\"\",NETWORKDAYS([4]Hoja1!C2649+1,[4]Hoja1!P2649,DiasNOLaborables))","v":9},"",null,null,20]
[2639,20200611115107,43993,"WEB (MÓDULO DE SOLICITUD DE INFORMACIÓN HIDROMETEOROLÓGICA)","SOLICITUD DE INFORMACIÓN Y DOCUMENTOS","SOLICITUD DE INFORMACIÓN HIDROMETEOROLÓGICA","NO","GRUPO DE ATENCIÓN AL CIUDADANO",44005,null,null,{"$f":"IFERROR(WORKDAY(C2650,R2650,DiasNOLaborables),\"\")","v":44026},{"$f":"+IF(C2650=\"\",\"\",IF(I2650=\"\",\"\",(IF(I2650<=L2650,\"A TIEMPO\",\"FUERA DE TIEMPO\"))))","v":"A TIEMPO"},{"$f":"IF(I2650=\"\",\"\",NETWORKDAYS([4]Hoja1!C2650+1,[4]Hoja1!P2650,DiasNOLaborables))","v":9},"",null,null,20]
[2640,20200611110512,43993,"WEB (MÓDULO DE SOLICITUD DE INFORMACIÓN HIDROMETEOROLÓGICA)","SOLICITUD DE INFORMACIÓN Y DOCUMENTOS","SOLICITUD DE INFORMACIÓN HIDROMETEOROLÓGICA","NO","GRUPO DE ATENCIÓN AL CIUDADANO",44005,null,null,{"$f":"IFERROR(WORKDAY(C2651,R2651,DiasNOLaborables),\"\")","v":44026},{"$f":"+IF(C2651=\"\",\"\",IF(I2651=\"\",\"\",(IF(I2651<=L2651,\"A TIEMPO\",\"FUERA DE TIEMPO\"))))","v":"A TIEMPO"},{"$f":"IF(I2651=\"\",\"\",NETWORKDAYS([4]Hoja1!C2651+1,[4]Hoja1!P2651,DiasNOLaborables))","v":9},"",null,null,20]
[2641,20200611103659,43993,"WEB (MÓDULO DE SOLICITUD DE INFORMACIÓN HIDROMETEOROLÓGICA)","SOLICITUD DE INFORMACIÓN Y DOCUMENTOS","SOLICITUD DE INFORMACIÓN HIDROMETEOROLÓGICA","NO","GRUPO DE ATENCIÓN AL CIUDADANO",44005,null,null,{"$f":"IFERROR(WORKDAY(C2652,R2652,DiasNOLaborables),\"\")","v":44026},{"$f":"+IF(C2652=\"\",\"\",IF(I2652=\"\",\"\",(IF(I2652<=L2652,\"A TIEMPO\",\"FUERA DE TIEMPO\"))))","v":"A TIEMPO"},{"$f":"IF(I2652=\"\",\"\",NETWORKDAYS([4]Hoja1!C2652+1,[4]Hoja1!P2652,DiasNOLaborables))","v":9},"",null,null,20]
[2642,20200611102534,43993,"WEB (MÓDULO DE SOLICITUD DE INFORMACIÓN HIDROMETEOROLÓGICA)","SOLICITUD DE INFORMACIÓN Y DOCUMENTOS","SOLICITUD DE INFORMACIÓN HIDROMETEOROLÓGICA","NO","GRUPO DE ATENCIÓN AL CIUDADANO",44005,null,null,{"$f":"IFERROR(WORKDAY(C2653,R2653,DiasNOLaborables),\"\")","v":44026},{"$f":"+IF(C2653=\"\",\"\",IF(I2653=\"\",\"\",(IF(I2653<=L2653,\"A TIEMPO\",\"FUERA DE TIEMPO\"))))","v":"A TIEMPO"},{"$f":"IF(I2653=\"\",\"\",NETWORKDAYS([4]Hoja1!C2653+1,[4]Hoja1!P2653,DiasNOLaborables))","v":9},"",null,null,20]
[2643,20200611102449,43993,"WEB (MÓDULO DE SOLICITUD DE INFORMACIÓN HIDROMETEOROLÓGICA)","SOLICITUD DE INFORMACIÓN Y DOCUMENTOS","SOLICITUD DE INFORMACIÓN HIDROMETEOROLÓGICA","NO","GRUPO DE ATENCIÓN AL CIUDADANO",44005,null,null,{"$f":"IFERROR(WORKDAY(C2654,R2654,DiasNOLaborables),\"\")","v":44026},{"$f":"+IF(C2654=\"\",\"\",IF(I2654=\"\",\"\",(IF(I2654<=L2654,\"A TIEMPO\",\"FUERA DE TIEMPO\"))))","v":"A TIEMPO"},{"$f":"IF(I2654=\"\",\"\",NETWORKDAYS([4]Hoja1!C2654+1,[4]Hoja1!P2654,DiasNOLaborables))","v":9},"",null,null,20]
[2644,20200611100557,43993,"WEB (MÓDULO DE SOLICITUD DE INFORMACIÓN HIDROMETEOROLÓGICA)","SOLICITUD DE INFORMACIÓN Y DOCUMENTOS","SOLICITUD DE INFORMACIÓN HIDROMETEOROLÓGICA","NO","GRUPO DE ATENCIÓN AL CIUDADANO",44005,null,null,{"$f":"IFERROR(WORKDAY(C2655,R2655,DiasNOLaborables),\"\")","v":44026},{"$f":"+IF(C2655=\"\",\"\",IF(I2655=\"\",\"\",(IF(I2655<=L2655,\"A TIEMPO\",\"FUERA DE TIEMPO\"))))","v":"A TIEMPO"},{"$f":"IF(I2655=\"\",\"\",NETWORKDAYS([4]Hoja1!C2655+1,[4]Hoja1!P2655,DiasNOLaborables))","v":9},"",null,null,20]
[2645,20200611095314,43993,"WEB (MÓDULO DE SOLICITUD DE INFORMACIÓN HIDROMETEOROLÓGICA)","SOLICITUD DE INFORMACIÓN Y DOCUMENTOS","SOLICITUD DE INFORMACIÓN HIDROMETEOROLÓGICA","NO","GRUPO DE ATENCIÓN AL CIUDADANO",44005,null,null,{"$f":"IFERROR(WORKDAY(C2656,R2656,DiasNOLaborables),\"\")","v":44026},{"$f":"+IF(C2656=\"\",\"\",IF(I2656=\"\",\"\",(IF(I2656<=L2656,\"A TIEMPO\",\"FUERA DE TIEMPO\"))))","v":"A TIEMPO"},{"$f":"IF(I2656=\"\",\"\",NETWORKDAYS([4]Hoja1!C2656+1,[4]Hoja1!P2656,DiasNOLaborables))","v":9},"",null,null,20]
[2646,20209050048282,43993,"MODULO CONTACTENOS","SOLICITUD DE INFORMACIÓN Y DOCUMENTOS","SOLICITUD DE INFORMACIÓN HIDROMETEOROLÓGICA","NO","GRUPO DE ATENCIÓN AL CIUDADANO",44007,null,null,{"$f":"IFERROR(WORKDAY(C2657,R2657,DiasNOLaborables),\"\")","v":44026},{"$f":"+IF(C2657=\"\",\"\",IF(I2657=\"\",\"\",(IF(I2657<=L2657,\"A TIEMPO\",\"FUERA DE TIEMPO\"))))","v":"A TIEMPO"},{"$f":"IF(I2657=\"\",\"\",NETWORKDAYS([4]Hoja1!C2657+1,[4]Hoja1!P2657,DiasNOLaborables))","v":9},"",null,null,20]
[2647,20209050048322,43993,"MODULO CONTACTENOS","SOLICITUD DE INFORMACIÓN Y DOCUMENTOS","SOLICITUD DE INFORMACIÓN HIDROMETEOROLÓGICA","NO","GRUPO DE ATENCIÓN AL CIUDADANO",44007,null,null,{"$f":"IFERROR(WORKDAY(C2658,R2658,DiasNOLaborables),\"\")","v":44026},{"$f":"+IF(C2658=\"\",\"\",IF(I2658=\"\",\"\",(IF(I2658<=L2658,\"A TIEMPO\",\"FUERA DE TIEMPO\"))))","v":"A TIEMPO"},{"$f":"IF(I2658=\"\",\"\",NETWORKDAYS([4]Hoja1!C2658+1,[4]Hoja1!P2658,DiasNOLaborables))","v":9},"",null,null,20]
[2648,20209050048332,43993,"MODULO CONTACTENOS","SOLICITUD DE INFORMACIÓN Y DOCUMENTOS","SOLICITUD DE INFORMACIÓN HIDROMETEOROLÓGICA","NO","GRUPO DE ATENCIÓN AL CIUDADANO",44007,null,null,{"$f":"IFERROR(WORKDAY(C2659,R2659,DiasNOLaborables),\"\")","v":44026},{"$f":"+IF(C2659=\"\",\"\",IF(I2659=\"\",\"\",(IF(I2659<=L2659,\"A TIEMPO\",\"FUERA DE TIEMPO\"))))","v":"A TIEMPO"},{"$f":"IF(I2659=\"\",\"\",NETWORKDAYS([4]Hoja1!C2659+1,[4]Hoja1!P2659,DiasNOLaborables))","v":9},"",null,null,20]
[2649,20209050048352,43993,"MODULO CONTACTENOS","SOLICITUD DE INFORMACIÓN Y DOCUMENTOS","SOLICITUD DE INFORMACIÓN HIDROMETEOROLÓGICA","NO","GRUPO DE ATENCIÓN AL CIUDADANO",44007,null,null,{"$f":"IFERROR(WORKDAY(C2660,R2660,DiasNOLaborables),\"\")","v":44026},{"$f":"+IF(C2660=\"\",\"\",IF(I2660=\"\",\"\",(IF(I2660<=L2660,\"A TIEMPO\",\"FUERA DE TIEMPO\"))))","v":"A TIEMPO"},{"$f":"IF(I2660=\"\",\"\",NETWORKDAYS([4]Hoja1!C2660+1,[4]Hoja1!P2660,DiasNOLaborables))","v":9},"",null,null,20]
[2650,20209050048402,43993,"MODULO CONTACTENOS","SOLICITUD DE INFORMACIÓN Y DOCUMENTOS","SOLICITUD DE INFORMACIÓN HIDROMETEOROLÓGICA","NO","GRUPO DE ATENCIÓN AL CIUDADANO",44007,null,null,{"$f":"IFERROR(WORKDAY(C2661,R2661,DiasNOLaborables),\"\")","v":44026},{"$f":"+IF(C2661=\"\",\"\",IF(I2661=\"\",\"\",(IF(I2661<=L2661,\"A TIEMPO\",\"FUERA DE TIEMPO\"))))","v":"A TIEMPO"},{"$f":"IF(I2661=\"\",\"\",NETWORKDAYS([4]Hoja1!C2661+1,[4]Hoja1!P2661,DiasNOLaborables))","v":8},"",null,null,20]
[2651,20209050048482,43993,"MODULO CONTACTENOS","SOLICITUD DE INFORMACIÓN Y DOCUMENTOS","SOLICITUD DE INFORMACIÓN HIDROMETEOROLÓGICA","NO","GRUPO DE ATENCIÓN AL CIUDADANO",44007,null,null,{"$f":"IFERROR(WORKDAY(C2662,R2662,DiasNOLaborables),\"\")","v":44026},{"$f":"+IF(C2662=\"\",\"\",IF(I2662=\"\",\"\",(IF(I2662<=L2662,\"A TIEMPO\",\"FUERA DE TIEMPO\"))))","v":"A TIEMPO"},{"$f":"IF(I2662=\"\",\"\",NETWORKDAYS([4]Hoja1!C2662+1,[4]Hoja1!P2662,DiasNOLaborables))","v":8},"",null,null,20]
[2652,20209050048512,43993,"MODULO CONTACTENOS","SOLICITUD DE INFORMACIÓN Y DOCUMENTOS","SOLICITUD DE INFORMACIÓN HIDROMETEOROLÓGICA","NO","GRUPO DE ATENCIÓN AL CIUDADANO",44007,null,null,{"$f":"IFERROR(WORKDAY(C2663,R2663,DiasNOLaborables),\"\")","v":44026},{"$f":"+IF(C2663=\"\",\"\",IF(I2663=\"\",\"\",(IF(I2663<=L2663,\"A TIEMPO\",\"FUERA DE TIEMPO\"))))","v":"A TIEMPO"},{"$f":"IF(I2663=\"\",\"\",NETWORKDAYS([4]Hoja1!C2663+1,[4]Hoja1!P2663,DiasNOLaborables))","v":8},"",null,null,20]
[2653,20209050048552,43993,"MODULO CONTACTENOS","SOLICITUD DE INFORMACIÓN Y DOCUMENTOS","SOLICITUD DE INFORMACIÓN HIDROMETEOROLÓGICA","NO","GRUPO DE ATENCIÓN AL CIUDADANO",44007,null,null,{"$f":"IFERROR(WORKDAY(C2664,R2664,DiasNOLaborables),\"\")","v":44026},{"$f":"+IF(C2664=\"\",\"\",IF(I2664=\"\",\"\",(IF(I2664<=L2664,\"A TIEMPO\",\"FUERA DE TIEMPO\"))))","v":"A TIEMPO"},{"$f":"IF(I2664=\"\",\"\",NETWORKDAYS([4]Hoja1!C2664+1,[4]Hoja1!P2664,DiasNOLaborables))","v":8},"",null,null,20]
[2654,20209050048562,43993,"MODULO CONTACTENOS","SOLICITUD DE INFORMACIÓN Y DOCUMENTOS","SOLICITUD DE INFORMACIÓN HIDROMETEOROLÓGICA","NO","GRUPO DE ATENCIÓN AL CIUDADANO",44008,null,null,{"$f":"IFERROR(WORKDAY(C2665,R2665,DiasNOLaborables),\"\")","v":44026},{"$f":"+IF(C2665=\"\",\"\",IF(I2665=\"\",\"\",(IF(I2665<=L2665,\"A TIEMPO\",\"FUERA DE TIEMPO\"))))","v":"A TIEMPO"},{"$f":"IF(I2665=\"\",\"\",NETWORKDAYS([4]Hoja1!C2665+1,[4]Hoja1!P2665,DiasNOLaborables))","v":8},"",null,null,20]
[2655,20209050048572,43993,"MODULO CONTACTENOS","SOLICITUD DE INFORMACIÓN Y DOCUMENTOS","SOLICITUD DE INFORMACIÓN HIDROMETEOROLÓGICA","NO","GRUPO DE ATENCIÓN AL CIUDADANO",44008,null,null,{"$f":"IFERROR(WORKDAY(C2666,R2666,DiasNOLaborables),\"\")","v":44026},{"$f":"+IF(C2666=\"\",\"\",IF(I2666=\"\",\"\",(IF(I2666<=L2666,\"A TIEMPO\",\"FUERA DE TIEMPO\"))))","v":"A TIEMPO"},{"$f":"IF(I2666=\"\",\"\",NETWORKDAYS([4]Hoja1!C2666+1,[4]Hoja1!P2666,DiasNOLaborables))","v":8},"",null,null,20]
[2656,20209050048582,43993,"MODULO CONTACTENOS","SOLICITUD DE INFORMACIÓN Y DOCUMENTOS","SOLICITUD DE INFORMACIÓN HIDROMETEOROLÓGICA","NO","GRUPO DE ATENCIÓN AL CIUDADANO",44008,null,null,{"$f":"IFERROR(WORKDAY(C2667,R2667,DiasNOLaborables),\"\")","v":44026},{"$f":"+IF(C2667=\"\",\"\",IF(I2667=\"\",\"\",(IF(I2667<=L2667,\"A TIEMPO\",\"FUERA DE TIEMPO\"))))","v":"A TIEMPO"},{"$f":"IF(I2667=\"\",\"\",NETWORKDAYS([4]Hoja1!C2667+1,[4]Hoja1!P2667,DiasNOLaborables))","v":8},"",null,null,20]
[2657,20209050048612,43993,"MODULO CONTACTENOS","SOLICITUD DE INFORMACIÓN Y DOCUMENTOS","SOLICITUD DE INFORMACIÓN HIDROMETEOROLÓGICA","NO","GRUPO DE ATENCIÓN AL CIUDADANO",44008,null,null,{"$f":"IFERROR(WORKDAY(C2668,R2668,DiasNOLaborables),\"\")","v":44026},{"$f":"+IF(C2668=\"\",\"\",IF(I2668=\"\",\"\",(IF(I2668<=L2668,\"A TIEMPO\",\"FUERA DE TIEMPO\"))))","v":"A TIEMPO"},{"$f":"IF(I2668=\"\",\"\",NETWORKDAYS([4]Hoja1!C2668+1,[4]Hoja1!P2668,DiasNOLaborables))","v":8},"",null,null,20]
[2658,20209050048622,43993,"MODULO CONTACTENOS","SOLICITUD DE INFORMACIÓN Y DOCUMENTOS","SOLICITUD DE INFORMACIÓN HIDROMETEOROLÓGICA","NO","GRUPO DE ATENCIÓN AL CIUDADANO",44008,null,null,{"$f":"IFERROR(WORKDAY(C2669,R2669,DiasNOLaborables),\"\")","v":44026},{"$f":"+IF(C2669=\"\",\"\",IF(I2669=\"\",\"\",(IF(I2669<=L2669,\"A TIEMPO\",\"FUERA DE TIEMPO\"))))","v":"A TIEMPO"},{"$f":"IF(I2669=\"\",\"\",NETWORKDAYS([4]Hoja1!C2669+1,[4]Hoja1!P2669,DiasNOLaborables))","v":8},"",null,null,20]
[2659,20200611094256,43993,"WEB (MÓDULO DE SOLICITUD DE INFORMACIÓN HIDROMETEOROLÓGICA)","SOLICITUD DE INFORMACIÓN Y DOCUMENTOS","SOLICITUD DE INFORMACIÓN HIDROMETEOROLÓGICA","NO","GRUPO DE ATENCIÓN AL CIUDADANO",44005,null,null,{"$f":"IFERROR(WORKDAY(C2670,R2670,DiasNOLaborables),\"\")","v":44026},{"$f":"+IF(C2670=\"\",\"\",IF(I2670=\"\",\"\",(IF(I2670<=L2670,\"A TIEMPO\",\"FUERA DE TIEMPO\"))))","v":"A TIEMPO"},{"$f":"IF(I2670=\"\",\"\",NETWORKDAYS([4]Hoja1!C2670+1,[4]Hoja1!P2670,DiasNOLaborables))","v":8},"",null,null,20]
[2660,20209910042362,43993,"CORREO ELECTRÓNICO","SOLICITUD DE INFORMACIÓN Y DOCUMENTOS","SIRH","NO","SUBDIRECCIÓN DE HIDROLOGÍA",43998,null,null,{"$f":"IFERROR(WORKDAY(C2671,R2671,DiasNOLaborables),\"\")","v":44026},{"$f":"+IF(C2671=\"\",\"\",IF(I2671=\"\",\"\",(IF(I2671<=L2671,\"A TIEMPO\",\"FUERA DE TIEMPO\"))))","v":"A TIEMPO"},{"$f":"IF(I2671=\"\",\"\",NETWORKDAYS([4]Hoja1!C2671+1,[4]Hoja1!P2671,DiasNOLaborables))","v":8},"",null,null,20]
[2661,20209910042682,43994,"CORREO ELECTRÓNICO","SOLICITUD DE INFORMACIÓN Y DOCUMENTOS","BOSQUES","NO","SUBDIRECCIÓN DE ECOSISTEMAS E INFORMACIÓN AMBIENTAL",44008,null,null,{"$f":"IFERROR(WORKDAY(C2672,R2672,DiasNOLaborables),\"\")","v":44027},{"$f":"+IF(C2672=\"\",\"\",IF(I2672=\"\",\"\",(IF(I2672<=L2672,\"A TIEMPO\",\"FUERA DE TIEMPO\"))))","v":"A TIEMPO"},{"$f":"IF(I2672=\"\",\"\",NETWORKDAYS([4]Hoja1!C2672+1,[4]Hoja1!P2672,DiasNOLaborables))","v":8},"",null,null,20]
[2662,20209050048672,43994,"WEB (MÓDULO DE SOLICITUD DE INFORMACIÓN HIDROMETEOROLÓGICA)","SOLICITUD DE INFORMACIÓN Y DOCUMENTOS","SOLICITUD DE INFORMACIÓN HIDROMETEOROLÓGICA","NO","GRUPO DE ATENCIÓN AL CIUDADANO",44012,null,null,{"$f":"IFERROR(WORKDAY(C2673,R2673,DiasNOLaborables),\"\")","v":44027},{"$f":"+IF(C2673=\"\",\"\",IF(I2673=\"\",\"\",(IF(I2673<=L2673,\"A TIEMPO\",\"FUERA DE TIEMPO\"))))","v":"A TIEMPO"},{"$f":"IF(I2673=\"\",\"\",NETWORKDAYS([4]Hoja1!C2673+1,[4]Hoja1!P2673,DiasNOLaborables))","v":8},"",null,null,20]
[{"$f":"IF(B2672<>\"\",A2673+1,\"\")","v":2663},20209050048712,43994,"WEB (MÓDULO DE SOLICITUD DE INFORMACIÓN HIDROMETEOROLÓGICA)","SOLICITUD DE INFORMACIÓN Y DOCUMENTOS","SOLICITUD DE INFORMACIÓN HIDROMETEOROLÓGICA","NO","GRUPO DE ATENCIÓN AL CIUDADANO",44012,null,null,{"$f":"IFERROR(WORKDAY(C2674,R2674,DiasNOLaborables),\"\")","v":44027},{"$f":"+IF(C2674=\"\",\"\",IF(I2674=\"\",\"\",(IF(I2674<=L2674,\"A TIEMPO\",\"FUERA DE TIEMPO\"))))","v":"A TIEMPO"},{"$f":"IF(I2674=\"\",\"\",NETWORKDAYS([4]Hoja1!C2674+1,[4]Hoja1!P2674,DiasNOLaborables))","v":8},"",null,null,20]
[2664,20209050048732,43994,"WEB (MÓDULO DE SOLICITUD DE INFORMACIÓN HIDROMETEOROLÓGICA)","SOLICITUD DE INFORMACIÓN Y DOCUMENTOS","SOLICITUD DE INFORMACIÓN HIDROMETEOROLÓGICA","NO","GRUPO DE ATENCIÓN AL CIUDADANO",44012,null,null,{"$f":"IFERROR(WORKDAY(C2675,R2675,DiasNOLaborables),\"\")","v":44027},{"$f":"+IF(C2675=\"\",\"\",IF(I2675=\"\",\"\",(IF(I2675<=L2675,\"A TIEMPO\",\"FUERA DE TIEMPO\"))))","v":"A TIEMPO"},{"$f":"IF(I2675=\"\",\"\",NETWORKDAYS([4]Hoja1!C2675+1,[4]Hoja1!P2675,DiasNOLaborables))","v":8},"",null,null,20]
[2665,20209050048762,43994,"WEB (MÓDULO DE SOLICITUD DE INFORMACIÓN HIDROMETEOROLÓGICA)","SOLICITUD DE INFORMACIÓN Y DOCUMENTOS","SOLICITUD DE INFORMACIÓN HIDROMETEOROLÓGICA","NO","GRUPO DE ATENCIÓN AL CIUDADANO",44012,null,null,{"$f":"IFERROR(WORKDAY(C2676,R2676,DiasNOLaborables),\"\")","v":44027},{"$f":"+IF(C2676=\"\",\"\",IF(I2676=\"\",\"\",(IF(I2676<=L2676,\"A TIEMPO\",\"FUERA DE TIEMPO\"))))","v":"A TIEMPO"},{"$f":"IF(I2676=\"\",\"\",NETWORKDAYS([4]Hoja1!C2676+1,[4]Hoja1!P2676,DiasNOLaborables))","v":8},{"$f":"IF(NETWORKDAYS(L2676+1,I2676,DiasNOLaborables)<=0,\"\",NETWORKDAYS(L2676+1,I2676,DiasNOLaborables))","v":""},null,null,20]
[2666,20209050048792,43994,"WEB (MÓDULO DE SOLICITUD DE INFORMACIÓN HIDROMETEOROLÓGICA)","SOLICITUD DE INFORMACIÓN Y DOCUMENTOS","SOLICITUD DE INFORMACIÓN HIDROMETEOROLÓGICA","NO","GRUPO DE ATENCIÓN AL CIUDADANO",44012,null,null,{"$f":"IFERROR(WORKDAY(C2677,R2677,DiasNOLaborables),\"\")","v":44027},{"$f":"+IF(C2677=\"\",\"\",IF(I2677=\"\",\"\",(IF(I2677<=L2677,\"A TIEMPO\",\"FUERA DE TIEMPO\"))))","v":"A TIEMPO"},{"$f":"IF(I2677=\"\",\"\",NETWORKDAYS([4]Hoja1!C2677+1,[4]Hoja1!P2677,DiasNOLaborables))","v":8},"",null,null,20]
[2667,20209050048812,43994,"WEB (MÓDULO DE SOLICITUD DE INFORMACIÓN HIDROMETEOROLÓGICA)","SOLICITUD DE INFORMACIÓN Y DOCUMENTOS","SOLICITUD DE INFORMACIÓN HIDROMETEOROLÓGICA","NO","GRUPO DE ATENCIÓN AL CIUDADANO",44013,null,null,{"$f":"IFERROR(WORKDAY(C2678,R2678,DiasNOLaborables),\"\")","v":44027},{"$f":"+IF(C2678=\"\",\"\",IF(I2678=\"\",\"\",(IF(I2678<=L2678,\"A TIEMPO\",\"FUERA DE TIEMPO\"))))","v":"A TIEMPO"},{"$f":"IF(I2678=\"\",\"\",NETWORKDAYS([4]Hoja1!C2678+1,[4]Hoja1!P2678,DiasNOLaborables))","v":8},"",null,null,20]
[2668,20209050048832,43994,"WEB (MÓDULO DE SOLICITUD DE INFORMACIÓN HIDROMETEOROLÓGICA)","SOLICITUD DE INFORMACIÓN Y DOCUMENTOS","SOLICITUD DE INFORMACIÓN HIDROMETEOROLÓGICA","NO","GRUPO DE ATENCIÓN AL CIUDADANO",44013,null,null,{"$f":"IFERROR(WORKDAY(C2679,R2679,DiasNOLaborables),\"\")","v":44027},{"$f":"+IF(C2679=\"\",\"\",IF(I2679=\"\",\"\",(IF(I2679<=L2679,\"A TIEMPO\",\"FUERA DE TIEMPO\"))))","v":"A TIEMPO"},{"$f":"IF(I2679=\"\",\"\",NETWORKDAYS([4]Hoja1!C2679+1,[4]Hoja1!P2679,DiasNOLaborables))","v":8},"",null,null,20]
[2669,20209050048642,43994,"CORREO ELECTRÓNICO","SOLICITUD DE INFORMACIÓN Y DOCUMENTOS","REGISTROS AMBIENTALES","SI","SUBDIRECCIÓN DE ESTUDIOS AMBIENTALES",43994,null,null,{"$f":"IFERROR(WORKDAY(C2680,R2680,DiasNOLaborables),\"\")","v":44027},{"$f":"+IF(C2680=\"\",\"\",IF(I2680=\"\",\"\",(IF(I2680<=L2680,\"A TIEMPO\",\"FUERA DE TIEMPO\"))))","v":"A TIEMPO"},{"$f":"IF(I2680=\"\",\"\",NETWORKDAYS([4]Hoja1!C2680+1,[4]Hoja1!P2680,DiasNOLaborables))","v":8},"",null,null,20]
[2670,20209050048652,43994,"CORREO ELECTRÓNICO","SOLICITUD DE INFORMACIÓN Y DOCUMENTOS","SOLICITUD DE INFORMACIÓN HIDROMETEOROLÓGICA","SI","OFICINA DEL SERVICIO DE PRONÓSTICOS Y ALERTAS",43994,null,null,{"$f":"IFERROR(WORKDAY(C2681,R2681,DiasNOLaborables),\"\")","v":44027},{"$f":"+IF(C2681=\"\",\"\",IF(I2681=\"\",\"\",(IF(I2681<=L2681,\"A TIEMPO\",\"FUERA DE TIEMPO\"))))","v":"A TIEMPO"},{"$f":"IF(I2681=\"\",\"\",NETWORKDAYS([4]Hoja1!C2681+1,[4]Hoja1!P2681,DiasNOLaborables))","v":8},"",null,null,20]
[2671,20209050048682,43994,"CORREO ELECTRÓNICO","SOLICITUD DE INFORMACIÓN Y DOCUMENTOS","REGISTROS AMBIENTALES","SI","SUBDIRECCIÓN DE ESTUDIOS AMBIENTALES",43998,null,null,{"$f":"IFERROR(WORKDAY(C2682,R2682,DiasNOLaborables),\"\")","v":44027},{"$f":"+IF(C2682=\"\",\"\",IF(I2682=\"\",\"\",(IF(I2682<=L2682,\"A TIEMPO\",\"FUERA DE TIEMPO\"))))","v":"A TIEMPO"},{"$f":"IF(I2682=\"\",\"\",NETWORKDAYS([4]Hoja1!C2682+1,[4]Hoja1!P2682,DiasNOLaborables))","v":8},"",null,null,20]
[2672,20209050048692,43994,"CORREO ELECTRÓNICO","SOLICITUD DE INFORMACIÓN Y DOCUMENTOS","REGISTROS AMBIENTALES","SI","SUBDIRECCIÓN DE ESTUDIOS AMBIENTALES",43997,null,null,{"$f":"IFERROR(WORKDAY(C2683,R2683,DiasNOLaborables),\"\")","v":44027},{"$f":"+IF(C2683=\"\",\"\",IF(I2683=\"\",\"\",(IF(I2683<=L2683,\"A TIEMPO\",\"FUERA DE TIEMPO\"))))","v":"A TIEMPO"},{"$f":"IF(I2683=\"\",\"\",NETWORKDAYS([4]Hoja1!C2683+1,[4]Hoja1!P2683,DiasNOLaborables))","v":8},"",null,null,20]
[2673,20209050048702,43994,"CORREO ELECTRÓNICO","CERTIFICACIONES DE TIEMPO, CLIMA Y EVENTOS HIDROLÓGICOS","CERTIFICACIONES DE TIEMPO Y CLIMA","SI","SUBDIRECCIÓN DE METEOROLOGÍA",44008,null,null,{"$f":"IFERROR(WORKDAY(C2684,R2684,DiasNOLaborables),\"\")","v":44042},{"$f":"+IF(C2684=\"\",\"\",IF(I2684=\"\",\"\",(IF(I2684<=L2684,\"A TIEMPO\",\"FUERA DE TIEMPO\"))))","v":"A TIEMPO"},{"$f":"IF(I2684=\"\",\"\",NETWORKDAYS([4]Hoja1!C2684+1,[4]Hoja1!P2684,DiasNOLaborables))","v":8},"",null,null,30]
[2674,20209050048722,43994,"CORREO ELECTRÓNICO","SOLICITUD DE INFORMACIÓN Y DOCUMENTOS","REGISTROS AMBIENTALES","SI","SUBDIRECCIÓN DE ESTUDIOS AMBIENTALES",43997,null,null,{"$f":"IFERROR(WORKDAY(C2685,R2685,DiasNOLaborables),\"\")","v":44027},{"$f":"+IF(C2685=\"\",\"\",IF(I2685=\"\",\"\",(IF(I2685<=L2685,\"A TIEMPO\",\"FUERA DE TIEMPO\"))))","v":"A TIEMPO"},{"$f":"IF(I2685=\"\",\"\",NETWORKDAYS([4]Hoja1!C2685+1,[4]Hoja1!P2685,DiasNOLaborables))","v":8},"",null,null,20]
[2675,20209050048752,43994,"CORREO ELECTRÓNICO","SOLICITUD DE INFORMACIÓN Y DOCUMENTOS","REGISTROS AMBIENTALES","SI","SUBDIRECCIÓN DE ESTUDIOS AMBIENTALES",43998,null,null,{"$f":"IFERROR(WORKDAY(C2686,R2686,DiasNOLaborables),\"\")","v":44027},{"$f":"+IF(C2686=\"\",\"\",IF(I2686=\"\",\"\",(IF(I2686<=L2686,\"A TIEMPO\",\"FUERA DE TIEMPO\"))))","v":"A TIEMPO"},{"$f":"IF(I2686=\"\",\"\",NETWORKDAYS([4]Hoja1!C2686+1,[4]Hoja1!P2686,DiasNOLaborables))","v":8},"",null,null,20]
[2676,20209050048742,43994,"CORREO ELECTRÓNICO","SOLICITUD DE INFORMACIÓN Y DOCUMENTOS","SOLICITUD DE INFORMACIÓN HIDROMETEOROLÓGICA","SI","SUBDIRECCIÓN DE ECOSISTEMAS E INFORMACIÓN AMBIENTAL",44000,null,null,{"$f":"IFERROR(WORKDAY(C2687,R2687,DiasNOLaborables),\"\")","v":44027},{"$f":"+IF(C2687=\"\",\"\",IF(I2687=\"\",\"\",(IF(I2687<=L2687,\"A TIEMPO\",\"FUERA DE TIEMPO\"))))","v":"A TIEMPO"},{"$f":"IF(I2687=\"\",\"\",NETWORKDAYS([4]Hoja1!C2687+1,[4]Hoja1!P2687,DiasNOLaborables))","v":8},"",null,null,20]
[2677,20209050048782,43994,"CORREO ELECTRÓNICO","SOLICITUD DE INFORMACIÓN Y DOCUMENTOS","SOLICITUD DE INFORMACIÓN HIDROMETEOROLÓGICA","SI","SUBDIRECCIÓN DE ECOSISTEMAS E INFORMACIÓN AMBIENTAL",43998,null,null,{"$f":"IFERROR(WORKDAY(C2688,R2688,DiasNOLaborables),\"\")","v":44027},{"$f":"+IF(C2688=\"\",\"\",IF(I2688=\"\",\"\",(IF(I2688<=L2688,\"A TIEMPO\",\"FUERA DE TIEMPO\"))))","v":"A TIEMPO"},{"$f":"IF(I2688=\"\",\"\",NETWORKDAYS([4]Hoja1!C2688+1,[4]Hoja1!P2688,DiasNOLaborables))","v":8},"",null,null,20]
[2678,20209050048822,43994,"CORREO ELECTRÓNICO","CERTIFICACIONES DE TIEMPO, CLIMA Y EVENTOS HIDROLÓGICOS","CERTIFICACIONES DE TIEMPO Y CLIMA","SI","SUBDIRECCIÓN DE METEOROLOGÍA",44000,null,null,{"$f":"IFERROR(WORKDAY(C2689,R2689,DiasNOLaborables),\"\")","v":44042},{"$f":"+IF(C2689=\"\",\"\",IF(I2689=\"\",\"\",(IF(I2689<=L2689,\"A TIEMPO\",\"FUERA DE TIEMPO\"))))","v":"A TIEMPO"},{"$f":"IF(I2689=\"\",\"\",NETWORKDAYS([4]Hoja1!C2689+1,[4]Hoja1!P2689,DiasNOLaborables))","v":8},"",null,null,30]
[2679,20209050048862,43994,"CORREO ELECTRÓNICO","SOLICITUD DE INFORMACIÓN Y DOCUMENTOS","SOLICITUD DE INFORMACIÓN HIDROMETEOROLÓGICA","SI","SUBDIRECCIÓN DE ECOSISTEMAS E INFORMACIÓN AMBIENTAL",44013,null,null,{"$f":"IFERROR(WORKDAY(C2690,R2690,DiasNOLaborables),\"\")","v":44027},{"$f":"+IF(C2690=\"\",\"\",IF(I2690=\"\",\"\",(IF(I2690<=L2690,\"A TIEMPO\",\"FUERA DE TIEMPO\"))))","v":"A TIEMPO"},{"$f":"IF(I2690=\"\",\"\",NETWORKDAYS([4]Hoja1!C2690+1,[4]Hoja1!P2690,DiasNOLaborables))","v":8},"",null,null,20]
[2680,20209050048872,43994,"MODULO CONTACTENOS","SOLICITUD DE INFORMACIÓN Y DOCUMENTOS","SOLICITUD DE INFORMACIÓN HIDROMETEOROLÓGICA","SI","SUBDIRECCIÓN DE ECOSISTEMAS E INFORMACIÓN AMBIENTAL",44026,null,null,{"$f":"IFERROR(WORKDAY(C2691,R2691,DiasNOLaborables),\"\")","v":44027},{"$f":"+IF(C2691=\"\",\"\",IF(I2691=\"\",\"\",(IF(I2691<=L2691,\"A TIEMPO\",\"FUERA DE TIEMPO\"))))","v":"A TIEMPO"},{"$f":"IF(I2691=\"\",\"\",NETWORKDAYS([4]Hoja1!C2691+1,[4]Hoja1!P2691,DiasNOLaborables))","v":8},"",null,null,20]
[2681,20209050048882,43994,"CORREO ELECTRÓNICO","SOLICITUD DE INFORMACIÓN Y DOCUMENTOS","SOLICITUD DE INFORMACIÓN HIDROMETEOROLÓGICA","SI","OFICINA DE INFORMÁTICA",43998,null,null,{"$f":"IFERROR(WORKDAY(C2692,R2692,DiasNOLaborables),\"\")","v":44027},{"$f":"+IF(C2692=\"\",\"\",IF(I2692=\"\",\"\",(IF(I2692<=L2692,\"A TIEMPO\",\"FUERA DE TIEMPO\"))))","v":"A TIEMPO"},{"$f":"IF(I2692=\"\",\"\",NETWORKDAYS([4]Hoja1!C2692+1,[4]Hoja1!P2692,DiasNOLaborables))","v":8},"",null,null,20]
[2682,20209050048902,43994,"MODULO CONTACTENOS","CERTIFICACIONES DE TIEMPO, CLIMA Y EVENTOS HIDROLÓGICOS","CERTIFICACIONES DE TIEMPO Y CLIMA","SI","SUBDIRECCIÓN DE METEOROLOGÍA",44006,null,null,{"$f":"IFERROR(WORKDAY(C2693,R2693,DiasNOLaborables),\"\")","v":44042},{"$f":"+IF(C2693=\"\",\"\",IF(I2693=\"\",\"\",(IF(I2693<=L2693,\"A TIEMPO\",\"FUERA DE TIEMPO\"))))","v":"A TIEMPO"},{"$f":"IF(I2693=\"\",\"\",NETWORKDAYS([4]Hoja1!C2693+1,[4]Hoja1!P2693,DiasNOLaborables))","v":8},"",null,null,30]
[2683,20209050048912,43994,"MODULO CONTACTENOS","CERTIFICACIONES DE TIEMPO, CLIMA Y EVENTOS HIDROLÓGICOS","CERTIFICACIONES DE TIEMPO Y CLIMA","SI","SUBDIRECCIÓN DE METEOROLOGÍA",44006,null,null,{"$f":"IFERROR(WORKDAY(C2694,R2694,DiasNOLaborables),\"\")","v":44042},{"$f":"+IF(C2694=\"\",\"\",IF(I2694=\"\",\"\",(IF(I2694<=L2694,\"A TIEMPO\",\"FUERA DE TIEMPO\"))))","v":"A TIEMPO"},{"$f":"IF(I2694=\"\",\"\",NETWORKDAYS([4]Hoja1!C2694+1,[4]Hoja1!P2694,DiasNOLaborables))","v":8},"",null,null,{"$f":"IFERROR(VLOOKUP(E2694,$Z$50:$AA$63,2),\"\")","v":30}]
[2684,20209050048892,43994,"MODULO CONTACTENOS","SOLICITUD DE INFORMACIÓN Y DOCUMENTOS","SOLICITUD DE INFORMACIÓN HIDROMETEOROLÓGICA","SI","SUBDIRECCIÓN DE HIDROLOGÍA",43993,null,null,{"$f":"IFERROR(WORKDAY(C2695,R2695,DiasNOLaborables),\"\")","v":44027},{"$f":"+IF(C2695=\"\",\"\",IF(I2695=\"\",\"\",(IF(I2695<=L2695,\"A TIEMPO\",\"FUERA DE TIEMPO\"))))","v":"A TIEMPO"},{"$f":"IF(I2695=\"\",\"\",NETWORKDAYS([4]Hoja1!C2695+1,[4]Hoja1!P2695,DiasNOLaborables))","v":8},"",null,null,20]
[2685,20209050048952,43994,"MODULO CONTACTENOS","CERTIFICACIONES DE TIEMPO, CLIMA Y EVENTOS HIDROLÓGICOS","CERTIFICACIONES DE TIEMPO Y CLIMA","SI","SUBDIRECCIÓN DE METEOROLOGÍA",44008,null,null,{"$f":"IFERROR(WORKDAY(C2696,R2696,DiasNOLaborables),\"\")","v":44042},{"$f":"+IF(C2696=\"\",\"\",IF(I2696=\"\",\"\",(IF(I2696<=L2696,\"A TIEMPO\",\"FUERA DE TIEMPO\"))))","v":"A TIEMPO"},{"$f":"IF(I2696=\"\",\"\",NETWORKDAYS([4]Hoja1!C2696+1,[4]Hoja1!P2696,DiasNOLaborables))","v":8},"",null,null,30]
[2686,20209050048942,43994,"MODULO CONTACTENOS","SOLICITUD DE INFORMACIÓN Y DOCUMENTOS","ADMINISTRATIVA","SI","GRUPO DE ADMINISTRACIÓN Y DESARROLLO DEL TALENTO HUMANO",44005,null,null,{"$f":"IFERROR(WORKDAY(C2697,R2697,DiasNOLaborables),\"\")","v":44027},{"$f":"+IF(C2697=\"\",\"\",IF(I2697=\"\",\"\",(IF(I2697<=L2697,\"A TIEMPO\",\"FUERA DE TIEMPO\"))))","v":"A TIEMPO"},{"$f":"IF(I2697=\"\",\"\",NETWORKDAYS([4]Hoja1!C2697+1,[4]Hoja1!P2697,DiasNOLaborables))","v":8},"",null,null,20]
[2687,20209050048632,43994,"MODULO CONTACTENOS","SOLICITUD DE INFORMACIÓN Y DOCUMENTOS","SOLICITUD DE INFORMACIÓN HIDROMETEOROLÓGICA","NO","GRUPO DE ATENCIÓN AL CIUDADANO",44008,null,null,{"$f":"IFERROR(WORKDAY(C2698,R2698,DiasNOLaborables),\"\")","v":44027},{"$f":"+IF(C2698=\"\",\"\",IF(I2698=\"\",\"\",(IF(I2698<=L2698,\"A TIEMPO\",\"FUERA DE TIEMPO\"))))","v":"A TIEMPO"},{"$f":"IF(I2698=\"\",\"\",NETWORKDAYS([4]Hoja1!C2698+1,[4]Hoja1!P2698,DiasNOLaborables))","v":8},"",null,null,20]
[2688,20209050048662,43994,"MODULO CONTACTENOS","SOLICITUD DE INFORMACIÓN Y DOCUMENTOS","SOLICITUD DE INFORMACIÓN HIDROMETEOROLÓGICA","NO","GRUPO DE ATENCIÓN AL CIUDADANO",44008,null,null,{"$f":"IFERROR(WORKDAY(C2699,R2699,DiasNOLaborables),\"\")","v":44027},{"$f":"+IF(C2699=\"\",\"\",IF(I2699=\"\",\"\",(IF(I2699<=L2699,\"A TIEMPO\",\"FUERA DE TIEMPO\"))))","v":"A TIEMPO"},{"$f":"IF(I2699=\"\",\"\",NETWORKDAYS([4]Hoja1!C2699+1,[4]Hoja1!P2699,DiasNOLaborables))","v":8},"",null,null,20]
[2689,20209050048842,43994,"MODULO CONTACTENOS","SOLICITUD DE INFORMACIÓN Y DOCUMENTOS","SOLICITUD DE INFORMACIÓN HIDROMETEOROLÓGICA","NO","GRUPO DE ATENCIÓN AL CIUDADANO",44008,null,null,{"$f":"IFERROR(WORKDAY(C2700,R2700,DiasNOLaborables),\"\")","v":44027},{"$f":"+IF(C2700=\"\",\"\",IF(I2700=\"\",\"\",(IF(I2700<=L2700,\"A TIEMPO\",\"FUERA DE TIEMPO\"))))","v":"A TIEMPO"},{"$f":"IF(I2700=\"\",\"\",NETWORKDAYS([4]Hoja1!C2700+1,[4]Hoja1!P2700,DiasNOLaborables))","v":8},"",null,null,20]
[2690,20209050048932,43994,"CORREO ELECTRÓNICO","CERTIFICACIONES DE TIEMPO, CLIMA Y EVENTOS HIDROLÓGICOS","CERTIFICACIONES DE TIEMPO Y CLIMA","SI","SUBDIRECCIÓN DE METEOROLOGÍA",44006,null,null,{"$f":"IFERROR(WORKDAY(C2701,R2701,DiasNOLaborables),\"\")","v":44042},{"$f":"+IF(C2701=\"\",\"\",IF(I2701=\"\",\"\",(IF(I2701<=L2701,\"A TIEMPO\",\"FUERA DE TIEMPO\"))))","v":"A TIEMPO"},{"$f":"IF(I2701=\"\",\"\",NETWORKDAYS([4]Hoja1!C2701+1,[4]Hoja1!P2701,DiasNOLaborables))","v":8},"",null,null,30]
[2691,20209050048922,43994,"MODULO CONTACTENOS","SOLICITUD DE INFORMACIÓN Y DOCUMENTOS","SOLICITUD DE INFORMACIÓN HIDROMETEOROLÓGICA","NO","GRUPO DE ATENCIÓN AL CIUDADANO",44008,null,null,{"$f":"IFERROR(WORKDAY(C2702,R2702,DiasNOLaborables),\"\")","v":44027},{"$f":"+IF(C2702=\"\",\"\",IF(I2702=\"\",\"\",(IF(I2702<=L2702,\"A TIEMPO\",\"FUERA DE TIEMPO\"))))","v":"A TIEMPO"},{"$f":"IF(I2702=\"\",\"\",NETWORKDAYS([4]Hoja1!C2702+1,[4]Hoja1!P2702,DiasNOLaborables))","v":8},"",null,null,20]
[2692,20209050048962,43995,"MODULO CONTACTENOS","SOLICITUD DE INFORMACIÓN Y DOCUMENTOS","SOLICITUD DE INFORMACIÓN HIDROMETEOROLÓGICA","NO","GRUPO DE ATENCIÓN AL CIUDADANO",44008,null,null,{"$f":"IFERROR(WORKDAY(C2703,R2703,DiasNOLaborables),\"\")","v":44027},{"$f":"+IF(C2703=\"\",\"\",IF(I2703=\"\",\"\",(IF(I2703<=L2703,\"A TIEMPO\",\"FUERA DE TIEMPO\"))))","v":"A TIEMPO"},{"$f":"IF(I2703=\"\",\"\",NETWORKDAYS([4]Hoja1!C2703+1,[4]Hoja1!P2703,DiasNOLaborables))","v":8},"",null,null,20]
[2693,20209050048982,43995,"MODULO CONTACTENOS","SOLICITUD DE INFORMACIÓN Y DOCUMENTOS","SOLICITUD DE INFORMACIÓN HIDROMETEOROLÓGICA","NO","GRUPO DE ATENCIÓN AL CIUDADANO",44008,null,null,{"$f":"IFERROR(WORKDAY(C2704,R2704,DiasNOLaborables),\"\")","v":44027},{"$f":"+IF(C2704=\"\",\"\",IF(I2704=\"\",\"\",(IF(I2704<=L2704,\"A TIEMPO\",\"FUERA DE TIEMPO\"))))","v":"A TIEMPO"},{"$f":"IF(I2704=\"\",\"\",NETWORKDAYS([4]Hoja1!C2704+1,[4]Hoja1!P2704,DiasNOLaborables))","v":8},"",null,null,20]
[2694,20209050048992,43995,"MODULO CONTACTENOS","SOLICITUD DE INFORMACIÓN Y DOCUMENTOS","SOLICITUD DE INFORMACIÓN HIDROMETEOROLÓGICA","NO","GRUPO DE ATENCIÓN AL CIUDADANO",44008,null,null,{"$f":"IFERROR(WORKDAY(C2705,R2705,DiasNOLaborables),\"\")","v":44027},{"$f":"+IF(C2705=\"\",\"\",IF(I2705=\"\",\"\",(IF(I2705<=L2705,\"A TIEMPO\",\"FUERA DE TIEMPO\"))))","v":"A TIEMPO"},{"$f":"IF(I2705=\"\",\"\",NETWORKDAYS([4]Hoja1!C2705+1,[4]Hoja1!P2705,DiasNOLaborables))","v":8},"",null,null,20]
[2695,20209050049032,43995,"MODULO CONTACTENOS","SOLICITUD DE INFORMACIÓN Y DOCUMENTOS","SOLICITUD DE INFORMACIÓN HIDROMETEOROLÓGICA","NO","GRUPO DE ATENCIÓN AL CIUDADANO",44008,null,null,{"$f":"IFERROR(WORKDAY(C2706,R2706,DiasNOLaborables),\"\")","v":44027},{"$f":"+IF(C2706=\"\",\"\",IF(I2706=\"\",\"\",(IF(I2706<=L2706,\"A TIEMPO\",\"FUERA DE TIEMPO\"))))","v":"A TIEMPO"},{"$f":"IF(I2706=\"\",\"\",NETWORKDAYS([4]Hoja1!C2706+1,[4]Hoja1!P2706,DiasNOLaborables))","v":8},"",null,null,20]
[2696,20209050049012,43995,"CORREO ELECTRÓNICO","SOLICITUD DE INFORMACIÓN Y DOCUMENTOS","ADMINISTRATIVA","SI","GRUPO DE ADMINISTRACIÓN Y DESARROLLO DEL TALENTO HUMANO",43995,null,null,{"$f":"IFERROR(WORKDAY(C2707,R2707,DiasNOLaborables),\"\")","v":44027},{"$f":"+IF(C2707=\"\",\"\",IF(I2707=\"\",\"\",(IF(I2707<=L2707,\"A TIEMPO\",\"FUERA DE TIEMPO\"))))","v":"A TIEMPO"},{"$f":"IF(I2707=\"\",\"\",NETWORKDAYS([4]Hoja1!C2707+1,[4]Hoja1!P2707,DiasNOLaborables))","v":8},"",null,null,20]
[2697,20209050049042,43995,"CORREO ELECTRÓNICO","SOLICITUD DE INFORMACIÓN Y DOCUMENTOS","REGISTROS AMBIENTALES","SI","SUBDIRECCIÓN DE ESTUDIOS AMBIENTALES",43994,null,null,{"$f":"IFERROR(WORKDAY(C2708,R2708,DiasNOLaborables),\"\")","v":44027},{"$f":"+IF(C2708=\"\",\"\",IF(I2708=\"\",\"\",(IF(I2708<=L2708,\"A TIEMPO\",\"FUERA DE TIEMPO\"))))","v":"A TIEMPO"},{"$f":"IF(I2708=\"\",\"\",NETWORKDAYS([4]Hoja1!C2708+1,[4]Hoja1!P2708,DiasNOLaborables))","v":8},"",null,null,20]
[2698,20209050049022,43995,"MODULO CONTACTENOS","SOLICITUD DE INFORMACIÓN Y DOCUMENTOS","SOLICITUD DE INFORMACIÓN HIDROMETEOROLÓGICA","SI","SUBDIRECCIÓN DE ECOSISTEMAS E INFORMACIÓN AMBIENTAL",44005,null,null,{"$f":"IFERROR(WORKDAY(C2709,R2709,DiasNOLaborables),\"\")","v":44027},{"$f":"+IF(C2709=\"\",\"\",IF(I2709=\"\",\"\",(IF(I2709<=L2709,\"A TIEMPO\",\"FUERA DE TIEMPO\"))))","v":"A TIEMPO"},{"$f":"IF(I2709=\"\",\"\",NETWORKDAYS([4]Hoja1!C2709+1,[4]Hoja1!P2709,DiasNOLaborables))","v":8},"",null,null,20]
[2699,20209050049052,43995,"CORREO ELECTRÓNICO","SOLICITUD DE INFORMACIÓN Y DOCUMENTOS","REGISTROS AMBIENTALES","SI","SUBDIRECCIÓN DE ESTUDIOS AMBIENTALES",43995,null,null,{"$f":"IFERROR(WORKDAY(C2710,R2710,DiasNOLaborables),\"\")","v":44027},{"$f":"+IF(C2710=\"\",\"\",IF(I2710=\"\",\"\",(IF(I2710<=L2710,\"A TIEMPO\",\"FUERA DE TIEMPO\"))))","v":"A TIEMPO"},{"$f":"IF(I2710=\"\",\"\",NETWORKDAYS([4]Hoja1!C2710+1,[4]Hoja1!P2710,DiasNOLaborables))","v":7},"",null,null,20]
[2700,20209050049062,43995,"CORREO ELECTRÓNICO","SOLICITUD DE INFORMACIÓN Y DOCUMENTOS","REGISTROS AMBIENTALES","SI","SUBDIRECCIÓN DE ESTUDIOS AMBIENTALES",43995,null,null,{"$f":"IFERROR(WORKDAY(C2711,R2711,DiasNOLaborables),\"\")","v":44027},{"$f":"+IF(C2711=\"\",\"\",IF(I2711=\"\",\"\",(IF(I2711<=L2711,\"A TIEMPO\",\"FUERA DE TIEMPO\"))))","v":"A TIEMPO"},{"$f":"IF(I2711=\"\",\"\",NETWORKDAYS([4]Hoja1!C2711+1,[4]Hoja1!P2711,DiasNOLaborables))","v":5},"",null,null,20]
[2701,20209050049072,43995,"CORREO ELECTRÓNICO","SOLICITUD DE INFORMACIÓN Y DOCUMENTOS","REGISTROS AMBIENTALES","SI","SUBDIRECCIÓN DE ESTUDIOS AMBIENTALES",43995,null,null,{"$f":"IFERROR(WORKDAY(C2712,R2712,DiasNOLaborables),\"\")","v":44027},{"$f":"+IF(C2712=\"\",\"\",IF(I2712=\"\",\"\",(IF(I2712<=L2712,\"A TIEMPO\",\"FUERA DE TIEMPO\"))))","v":"A TIEMPO"},{"$f":"IF(I2712=\"\",\"\",NETWORKDAYS([4]Hoja1!C2712+1,[4]Hoja1!P2712,DiasNOLaborables))","v":5},"",null,null,20]
[2702,20209050049002,43995,"MODULO CONTACTENOS","CERTIFICACIONES DE TIEMPO, CLIMA Y EVENTOS HIDROLÓGICOS","CERTIFICACIONES DE TIEMPO Y CLIMA","SI","SUBDIRECCIÓN DE METEOROLOGÍA",44008,null,null,{"$f":"IFERROR(WORKDAY(C2713,R2713,DiasNOLaborables),\"\")","v":44042},{"$f":"+IF(C2713=\"\",\"\",IF(I2713=\"\",\"\",(IF(I2713<=L2713,\"A TIEMPO\",\"FUERA DE TIEMPO\"))))","v":"A TIEMPO"},{"$f":"IF(I2713=\"\",\"\",NETWORKDAYS([4]Hoja1!C2713+1,[4]Hoja1!P2713,DiasNOLaborables))","v":5},"",null,null,30]
[2703,20209050049082,43995,"CORREO ELECTRÓNICO","SOLICITUD DE INFORMACIÓN Y DOCUMENTOS","ADMINISTRATIVA","SI","GRUPO DE ADMINISTRACIÓN Y DESARROLLO DEL TALENTO HUMANO",43998,null,null,{"$f":"IFERROR(WORKDAY(C2714,R2714,DiasNOLaborables),\"\")","v":44027},{"$f":"+IF(C2714=\"\",\"\",IF(I2714=\"\",\"\",(IF(I2714<=L2714,\"A TIEMPO\",\"FUERA DE TIEMPO\"))))","v":"A TIEMPO"},{"$f":"IF(I2714=\"\",\"\",NETWORKDAYS([4]Hoja1!C2714+1,[4]Hoja1!P2714,DiasNOLaborables))","v":5},"",null,null,20]
[2704,20209050049092,43996,"MODULO CONTACTENOS","SOLICITUD DE INFORMACIÓN Y DOCUMENTOS","SOLICITUD DE INFORMACIÓN HIDROMETEOROLÓGICA","NO","GRUPO DE ATENCIÓN AL CIUDADANO",44008,null,null,{"$f":"IFERROR(WORKDAY(C2715,R2715,DiasNOLaborables),\"\")","v":44027},{"$f":"+IF(C2715=\"\",\"\",IF(I2715=\"\",\"\",(IF(I2715<=L2715,\"A TIEMPO\",\"FUERA DE TIEMPO\"))))","v":"A TIEMPO"},{"$f":"IF(I2715=\"\",\"\",NETWORKDAYS([4]Hoja1!C2715+1,[4]Hoja1!P2715,DiasNOLaborables))","v":5},"",null,null,20]
[2705,20209050049102,43996,"MODULO CONTACTENOS","SOLICITUD DE INFORMACIÓN Y DOCUMENTOS","SOLICITUD DE INFORMACIÓN HIDROMETEOROLÓGICA","NO","GRUPO DE ATENCIÓN AL CIUDADANO",44008,null,null,{"$f":"IFERROR(WORKDAY(C2716,R2716,DiasNOLaborables),\"\")","v":44027},{"$f":"+IF(C2716=\"\",\"\",IF(I2716=\"\",\"\",(IF(I2716<=L2716,\"A TIEMPO\",\"FUERA DE TIEMPO\"))))","v":"A TIEMPO"},{"$f":"IF(I2716=\"\",\"\",NETWORKDAYS([4]Hoja1!C2716+1,[4]Hoja1!P2716,DiasNOLaborables))","v":5},"",null,null,20]
[2706,20209050049112,43996,"MODULO CONTACTENOS","SOLICITUD DE INFORMACIÓN Y DOCUMENTOS","SOLICITUD DE INFORMACIÓN HIDROMETEOROLÓGICA","NO","GRUPO DE ATENCIÓN AL CIUDADANO",44008,null,null,{"$f":"IFERROR(WORKDAY(C2717,R2717,DiasNOLaborables),\"\")","v":44027},{"$f":"+IF(C2717=\"\",\"\",IF(I2717=\"\",\"\",(IF(I2717<=L2717,\"A TIEMPO\",\"FUERA DE TIEMPO\"))))","v":"A TIEMPO"},{"$f":"IF(I2717=\"\",\"\",NETWORKDAYS([4]Hoja1!C2717+1,[4]Hoja1!P2717,DiasNOLaborables))","v":5},"",null,null,20]
[2707,20209050049122,43996,"MODULO CONTACTENOS","SOLICITUD DE INFORMACIÓN Y DOCUMENTOS","SOLICITUD DE INFORMACIÓN HIDROMETEOROLÓGICA","NO","GRUPO DE ATENCIÓN AL CIUDADANO",44008,null,null,{"$f":"IFERROR(WORKDAY(C2718,R2718,DiasNOLaborables),\"\")","v":44027},{"$f":"+IF(C2718=\"\",\"\",IF(I2718=\"\",\"\",(IF(I2718<=L2718,\"A TIEMPO\",\"FUERA DE TIEMPO\"))))","v":"A TIEMPO"},{"$f":"IF(I2718=\"\",\"\",NETWORKDAYS([4]Hoja1!C2718+1,[4]Hoja1!P2718,DiasNOLaborables))","v":5},"",null,null,20]
[2708,20209050049142,43996,"WEB (MÓDULO DE SOLICITUD DE INFORMACIÓN HIDROMETEOROLÓGICA)","SOLICITUD DE INFORMACIÓN Y DOCUMENTOS","SOLICITUD DE INFORMACIÓN HIDROMETEOROLÓGICA","NO","GRUPO DE ATENCIÓN AL CIUDADANO",44013,null,null,{"$f":"IFERROR(WORKDAY(C2719,R2719,DiasNOLaborables),\"\")","v":44027},{"$f":"+IF(C2719=\"\",\"\",IF(I2719=\"\",\"\",(IF(I2719<=L2719,\"A TIEMPO\",\"FUERA DE TIEMPO\"))))","v":"A TIEMPO"},{"$f":"IF(I2719=\"\",\"\",NETWORKDAYS([4]Hoja1!C2719+1,[4]Hoja1!P2719,DiasNOLaborables))","v":5},"",null,null,20]
[2709,20209050049152,43997,"WEB (MÓDULO DE SOLICITUD DE INFORMACIÓN HIDROMETEOROLÓGICA)","SOLICITUD DE INFORMACIÓN Y DOCUMENTOS","SOLICITUD DE INFORMACIÓN HIDROMETEOROLÓGICA","NO","GRUPO DE ATENCIÓN AL CIUDADANO",44013,null,null,{"$f":"IFERROR(WORKDAY(C2720,R2720,DiasNOLaborables),\"\")","v":44027},{"$f":"+IF(C2720=\"\",\"\",IF(I2720=\"\",\"\",(IF(I2720<=L2720,\"A TIEMPO\",\"FUERA DE TIEMPO\"))))","v":"A TIEMPO"},{"$f":"IF(I2720=\"\",\"\",NETWORKDAYS([4]Hoja1!C2720+1,[4]Hoja1!P2720,DiasNOLaborables))","v":6},"",null,null,20]
[2710,20209050049162,43997,"WEB (MÓDULO DE SOLICITUD DE INFORMACIÓN HIDROMETEOROLÓGICA)","SOLICITUD DE INFORMACIÓN Y DOCUMENTOS","SOLICITUD DE INFORMACIÓN HIDROMETEOROLÓGICA","NO","GRUPO DE ATENCIÓN AL CIUDADANO",44013,null,null,{"$f":"IFERROR(WORKDAY(C2721,R2721,DiasNOLaborables),\"\")","v":44027},{"$f":"+IF(C2721=\"\",\"\",IF(I2721=\"\",\"\",(IF(I2721<=L2721,\"A TIEMPO\",\"FUERA DE TIEMPO\"))))","v":"A TIEMPO"},{"$f":"IF(I2721=\"\",\"\",NETWORKDAYS([4]Hoja1!C2721+1,[4]Hoja1!P2721,DiasNOLaborables))","v":5},"",null,null,20]
[2711,20209050049182,43997,"WEB (MÓDULO DE SOLICITUD DE INFORMACIÓN HIDROMETEOROLÓGICA)","SOLICITUD DE INFORMACIÓN Y DOCUMENTOS","SOLICITUD DE INFORMACIÓN HIDROMETEOROLÓGICA","NO","GRUPO DE ATENCIÓN AL CIUDADANO",44015,null,null,{"$f":"IFERROR(WORKDAY(C2722,R2722,DiasNOLaborables),\"\")","v":44027},{"$f":"+IF(C2722=\"\",\"\",IF(I2722=\"\",\"\",(IF(I2722<=L2722,\"A TIEMPO\",\"FUERA DE TIEMPO\"))))","v":"A TIEMPO"},{"$f":"IF(I2722=\"\",\"\",NETWORKDAYS([4]Hoja1!C2722+1,[4]Hoja1!P2722,DiasNOLaborables))","v":5},"",null,null,20]
[2712,20209050049192,43997,"WEB (MÓDULO DE SOLICITUD DE INFORMACIÓN HIDROMETEOROLÓGICA)","SOLICITUD DE INFORMACIÓN Y DOCUMENTOS","SOLICITUD DE INFORMACIÓN HIDROMETEOROLÓGICA","NO","GRUPO DE ATENCIÓN AL CIUDADANO",44015,null,null,{"$f":"IFERROR(WORKDAY(C2723,R2723,DiasNOLaborables),\"\")","v":44027},{"$f":"+IF(C2723=\"\",\"\",IF(I2723=\"\",\"\",(IF(I2723<=L2723,\"A TIEMPO\",\"FUERA DE TIEMPO\"))))","v":"A TIEMPO"},{"$f":"IF(I2723=\"\",\"\",NETWORKDAYS([4]Hoja1!C2723+1,[4]Hoja1!P2723,DiasNOLaborables))","v":5},"",null,null,20]
[2713,20209050049202,43997,"WEB (MÓDULO DE SOLICITUD DE INFORMACIÓN HIDROMETEOROLÓGICA)","SOLICITUD DE INFORMACIÓN Y DOCUMENTOS","SOLICITUD DE INFORMACIÓN HIDROMETEOROLÓGICA","NO","GRUPO DE ATENCIÓN AL CIUDADANO",44015,null,null,{"$f":"IFERROR(WORKDAY(C2724,R2724,DiasNOLaborables),\"\")","v":44027},{"$f":"+IF(C2724=\"\",\"\",IF(I2724=\"\",\"\",(IF(I2724<=L2724,\"A TIEMPO\",\"FUERA DE TIEMPO\"))))","v":"A TIEMPO"},{"$f":"IF(I2724=\"\",\"\",NETWORKDAYS([4]Hoja1!C2724+1,[4]Hoja1!P2724,DiasNOLaborables))","v":5},"",null,null,20]
[2714,20209050049212,43997,"WEB (MÓDULO DE SOLICITUD DE INFORMACIÓN HIDROMETEOROLÓGICA)","SOLICITUD DE INFORMACIÓN Y DOCUMENTOS","SOLICITUD DE INFORMACIÓN HIDROMETEOROLÓGICA","NO","GRUPO DE ATENCIÓN AL CIUDADANO",44015,null,null,{"$f":"IFERROR(WORKDAY(C2725,R2725,DiasNOLaborables),\"\")","v":44027},{"$f":"+IF(C2725=\"\",\"\",IF(I2725=\"\",\"\",(IF(I2725<=L2725,\"A TIEMPO\",\"FUERA DE TIEMPO\"))))","v":"A TIEMPO"},{"$f":"IF(I2725=\"\",\"\",NETWORKDAYS([4]Hoja1!C2725+1,[4]Hoja1!P2725,DiasNOLaborables))","v":5},"",null,null,20]
[2715,20209050049222,43997,"WEB (MÓDULO DE SOLICITUD DE INFORMACIÓN HIDROMETEOROLÓGICA)","SOLICITUD DE INFORMACIÓN Y DOCUMENTOS","SOLICITUD DE INFORMACIÓN HIDROMETEOROLÓGICA","NO","GRUPO DE ATENCIÓN AL CIUDADANO",44015,null,null,{"$f":"IFERROR(WORKDAY(C2726,R2726,DiasNOLaborables),\"\")","v":44027},{"$f":"+IF(C2726=\"\",\"\",IF(I2726=\"\",\"\",(IF(I2726<=L2726,\"A TIEMPO\",\"FUERA DE TIEMPO\"))))","v":"A TIEMPO"},{"$f":"IF(I2726=\"\",\"\",NETWORKDAYS([4]Hoja1!C2726+1,[4]Hoja1!P2726,DiasNOLaborables))","v":7},"",null,null,20]
[2716,20209050049232,43997,"WEB (MÓDULO DE SOLICITUD DE INFORMACIÓN HIDROMETEOROLÓGICA)","SOLICITUD DE INFORMACIÓN Y DOCUMENTOS","SOLICITUD DE INFORMACIÓN HIDROMETEOROLÓGICA","NO","GRUPO DE ATENCIÓN AL CIUDADANO",44015,null,null,{"$f":"IFERROR(WORKDAY(C2727,R2727,DiasNOLaborables),\"\")","v":44027},{"$f":"+IF(C2727=\"\",\"\",IF(I2727=\"\",\"\",(IF(I2727<=L2727,\"A TIEMPO\",\"FUERA DE TIEMPO\"))))","v":"A TIEMPO"},{"$f":"IF(I2727=\"\",\"\",NETWORKDAYS([4]Hoja1!C2727+1,[4]Hoja1!P2727,DiasNOLaborables))","v":7},"",null,null,20]
[2717,20209050049172,43997,"MODULO CONTACTENOS","SOLICITUD DE INFORMACIÓN Y DOCUMENTOS","ADMINISTRATIVA","SI","GRUPO DE ADMINISTRACIÓN Y DESARROLLO DEL TALENTO HUMANO",44000,null,null,{"$f":"IFERROR(WORKDAY(C2728,R2728,DiasNOLaborables),\"\")","v":44027},{"$f":"+IF(C2728=\"\",\"\",IF(I2728=\"\",\"\",(IF(I2728<=L2728,\"A TIEMPO\",\"FUERA DE TIEMPO\"))))","v":"A TIEMPO"},{"$f":"IF(I2728=\"\",\"\",NETWORKDAYS([4]Hoja1!C2728+1,[4]Hoja1!P2728,DiasNOLaborables))","v":7},"",null,null,20]
[2718,20209050049292,43998,"CORREO ELECTRÓNICO","SOLICITUD DE INFORMACIÓN Y DOCUMENTOS","REGISTROS AMBIENTALES","SI","SUBDIRECCIÓN DE ESTUDIOS AMBIENTALES",43998,null,null,{"$f":"IFERROR(WORKDAY(C2729,R2729,DiasNOLaborables),\"\")","v":44028},{"$f":"+IF(C2729=\"\",\"\",IF(I2729=\"\",\"\",(IF(I2729<=L2729,\"A TIEMPO\",\"FUERA DE TIEMPO\"))))","v":"A TIEMPO"},{"$f":"IF(I2729=\"\",\"\",NETWORKDAYS([4]Hoja1!C2729+1,[4]Hoja1!P2729,DiasNOLaborables))","v":7},"",null,null,20]
[2719,20209050049302,43998,"CORREO ELECTRÓNICO","CERTIFICACIONES DE TIEMPO, CLIMA Y EVENTOS HIDROLÓGICOS","CERTIFICACIONES DE TIEMPO Y CLIMA","SI","SUBDIRECCIÓN DE METEOROLOGÍA",44006,null,null,{"$f":"IFERROR(WORKDAY(C2730,R2730,DiasNOLaborables),\"\")","v":44043},{"$f":"+IF(C2730=\"\",\"\",IF(I2730=\"\",\"\",(IF(I2730<=L2730,\"A TIEMPO\",\"FUERA DE TIEMPO\"))))","v":"A TIEMPO"},{"$f":"IF(I2730=\"\",\"\",NETWORKDAYS([4]Hoja1!C2730+1,[4]Hoja1!P2730,DiasNOLaborables))","v":7},"",null,null,30]
[2720,20209050049312,43998,"CORREO ELECTRÓNICO","CERTIFICACIONES DE TIEMPO, CLIMA Y EVENTOS HIDROLÓGICOS","CERTIFICACIONES DE TIEMPO Y CLIMA","SI","SUBDIRECCIÓN DE METEOROLOGÍA",44008,null,null,{"$f":"IFERROR(WORKDAY(C2731,R2731,DiasNOLaborables),\"\")","v":44043},{"$f":"+IF(C2731=\"\",\"\",IF(I2731=\"\",\"\",(IF(I2731<=L2731,\"A TIEMPO\",\"FUERA DE TIEMPO\"))))","v":"A TIEMPO"},{"$f":"IF(I2731=\"\",\"\",NETWORKDAYS([4]Hoja1!C2731+1,[4]Hoja1!P2731,DiasNOLaborables))","v":7},"",null,null,30]
[2721,20209050049332,43998,"CORREO ELECTRÓNICO","SOLICITUD DE INFORMACIÓN Y DOCUMENTOS","SOLICITUD DE INFORMACIÓN HIDROMETEOROLÓGICA","SI","SUBDIRECCIÓN DE ECOSISTEMAS E INFORMACIÓN AMBIENTAL",44012,null,null,{"$f":"IFERROR(WORKDAY(C2732,R2732,DiasNOLaborables),\"\")","v":44028},{"$f":"+IF(C2732=\"\",\"\",IF(I2732=\"\",\"\",(IF(I2732<=L2732,\"A TIEMPO\",\"FUERA DE TIEMPO\"))))","v":"A TIEMPO"},{"$f":"IF(I2732=\"\",\"\",NETWORKDAYS([4]Hoja1!C2732+1,[4]Hoja1!P2732,DiasNOLaborables))","v":7},"",null,null,20]
[2722,20209050049362,43998,"CORREO ELECTRÓNICO","CERTIFICACIONES DE TIEMPO, CLIMA Y EVENTOS HIDROLÓGICOS","CERTIFICACIONES DE TIEMPO Y CLIMA","SI","SUBDIRECCIÓN DE METEOROLOGÍA",44000,null,null,{"$f":"IFERROR(WORKDAY(C2733,R2733,DiasNOLaborables),\"\")","v":44043},{"$f":"+IF(C2733=\"\",\"\",IF(I2733=\"\",\"\",(IF(I2733<=L2733,\"A TIEMPO\",\"FUERA DE TIEMPO\"))))","v":"A TIEMPO"},{"$f":"IF(I2733=\"\",\"\",NETWORKDAYS([4]Hoja1!C2733+1,[4]Hoja1!P2733,DiasNOLaborables))","v":7},"",null,null,30]
[2723,20209050049382,43998,"CORREO ELECTRÓNICO","SOLICITUD DE INFORMACIÓN Y DOCUMENTOS","REGISTROS AMBIENTALES","SI","SUBDIRECCIÓN DE ESTUDIOS AMBIENTALES",44019,null,null,{"$f":"IFERROR(WORKDAY(C2734,R2734,DiasNOLaborables),\"\")","v":44028},{"$f":"+IF(C2734=\"\",\"\",IF(I2734=\"\",\"\",(IF(I2734<=L2734,\"A TIEMPO\",\"FUERA DE TIEMPO\"))))","v":"A TIEMPO"},{"$f":"IF(I2734=\"\",\"\",NETWORKDAYS([4]Hoja1!C2734+1,[4]Hoja1!P2734,DiasNOLaborables))","v":7},"",null,null,20]
[2724,20209050049392,43998,"CORREO ELECTRÓNICO","SOLICITUD DE INFORMACIÓN Y DOCUMENTOS","REGISTROS AMBIENTALES","SI","SUBDIRECCIÓN DE ECOSISTEMAS E INFORMACIÓN AMBIENTAL",44001,null,null,{"$f":"IFERROR(WORKDAY(C2735,R2735,DiasNOLaborables),\"\")","v":44028},{"$f":"+IF(C2735=\"\",\"\",IF(I2735=\"\",\"\",(IF(I2735<=L2735,\"A TIEMPO\",\"FUERA DE TIEMPO\"))))","v":"A TIEMPO"},{"$f":"IF(I2735=\"\",\"\",NETWORKDAYS([4]Hoja1!C2735+1,[4]Hoja1!P2735,DiasNOLaborables))","v":7},"",null,null,20]
[2725,20209050049402,43998,"CORREO ELECTRÓNICO","SOLICITUD DE INFORMACIÓN Y DOCUMENTOS","REGISTROS AMBIENTALES","SI","SUBDIRECCIÓN DE ESTUDIOS AMBIENTALES",43998,null,null,{"$f":"IFERROR(WORKDAY(C2736,R2736,DiasNOLaborables),\"\")","v":44028},{"$f":"+IF(C2736=\"\",\"\",IF(I2736=\"\",\"\",(IF(I2736<=L2736,\"A TIEMPO\",\"FUERA DE TIEMPO\"))))","v":"A TIEMPO"},{"$f":"IF(I2736=\"\",\"\",NETWORKDAYS([4]Hoja1!C2736+1,[4]Hoja1!P2736,DiasNOLaborables))","v":7},"",null,null,20]
[2726,20209050049412,43998,"CORREO ELECTRÓNICO","SOLICITUD DE INFORMACIÓN Y DOCUMENTOS","REGISTROS AMBIENTALES","SI","SUBDIRECCIÓN DE ESTUDIOS AMBIENTALES",43998,null,null,{"$f":"IFERROR(WORKDAY(C2737,R2737,DiasNOLaborables),\"\")","v":44028},{"$f":"+IF(C2737=\"\",\"\",IF(I2737=\"\",\"\",(IF(I2737<=L2737,\"A TIEMPO\",\"FUERA DE TIEMPO\"))))","v":"A TIEMPO"},{"$f":"IF(I2737=\"\",\"\",NETWORKDAYS([4]Hoja1!C2737+1,[4]Hoja1!P2737,DiasNOLaborables))","v":7},"",null,null,20]
[{"$f":"IF(B2736<>\"\",A2737+1,\"\")","v":2727},20209050049422,43998,"CORREO ELECTRÓNICO","SOLICITUD DE INFORMACIÓN Y DOCUMENTOS","REGISTROS AMBIENTALES","SI","SUBDIRECCIÓN DE ESTUDIOS AMBIENTALES",43998,null,null,{"$f":"IFERROR(WORKDAY(C2738,R2738,DiasNOLaborables),\"\")","v":44028},{"$f":"+IF(C2738=\"\",\"\",IF(I2738=\"\",\"\",(IF(I2738<=L2738,\"A TIEMPO\",\"FUERA DE TIEMPO\"))))","v":"A TIEMPO"},{"$f":"IF(I2738=\"\",\"\",NETWORKDAYS([4]Hoja1!C2738+1,[4]Hoja1!P2738,DiasNOLaborables))","v":7},"",null,null,20]
[2728,20209050049432,43998,"CORREO ELECTRÓNICO","SOLICITUD DE INFORMACIÓN Y DOCUMENTOS","REGISTROS AMBIENTALES","SI","SUBDIRECCIÓN DE ESTUDIOS AMBIENTALES",43998,null,null,{"$f":"IFERROR(WORKDAY(C2739,R2739,DiasNOLaborables),\"\")","v":44028},{"$f":"+IF(C2739=\"\",\"\",IF(I2739=\"\",\"\",(IF(I2739<=L2739,\"A TIEMPO\",\"FUERA DE TIEMPO\"))))","v":"A TIEMPO"},{"$f":"IF(I2739=\"\",\"\",NETWORKDAYS([4]Hoja1!C2739+1,[4]Hoja1!P2739,DiasNOLaborables))","v":7},"",null,null,20]
[2729,20209050049442,43998,"CORREO ELECTRÓNICO","SOLICITUD DE INFORMACIÓN Y DOCUMENTOS","REGISTROS AMBIENTALES","SI","SUBDIRECCIÓN DE ESTUDIOS AMBIENTALES",43998,null,null,{"$f":"IFERROR(WORKDAY(C2740,R2740,DiasNOLaborables),\"\")","v":44028},{"$f":"+IF(C2740=\"\",\"\",IF(I2740=\"\",\"\",(IF(I2740<=L2740,\"A TIEMPO\",\"FUERA DE TIEMPO\"))))","v":"A TIEMPO"},{"$f":"IF(I2740=\"\",\"\",NETWORKDAYS([4]Hoja1!C2740+1,[4]Hoja1!P2740,DiasNOLaborables))","v":7},{"$f":"IF(NETWORKDAYS(L2740+1,I2740,DiasNOLaborables)<=0,\"\",NETWORKDAYS(L2740+1,I2740,DiasNOLaborables))","v":""},null,null,20]
[2730,20209050049472,43998,"CORREO ELECTRÓNICO","CERTIFICACIONES DE TIEMPO, CLIMA Y EVENTOS HIDROLÓGICOS","CERTIFICACIONES DE TIEMPO Y CLIMA","SI","SUBDIRECCIÓN DE METEOROLOGÍA",44005,null,null,{"$f":"IFERROR(WORKDAY(C2741,R2741,DiasNOLaborables),\"\")","v":44043},{"$f":"+IF(C2741=\"\",\"\",IF(I2741=\"\",\"\",(IF(I2741<=L2741,\"A TIEMPO\",\"FUERA DE TIEMPO\"))))","v":"A TIEMPO"},{"$f":"IF(I2741=\"\",\"\",NETWORKDAYS([4]Hoja1!C2741+1,[4]Hoja1!P2741,DiasNOLaborables))","v":7},"",null,null,30]
[2731,20209050049482,43998,"CORREO ELECTRÓNICO","SOLICITUD DE INFORMACIÓN Y DOCUMENTOS","REGISTROS AMBIENTALES","SI","SUBDIRECCIÓN DE ESTUDIOS AMBIENTALES",43998,null,null,{"$f":"IFERROR(WORKDAY(C2742,R2742,DiasNOLaborables),\"\")","v":44028},{"$f":"+IF(C2742=\"\",\"\",IF(I2742=\"\",\"\",(IF(I2742<=L2742,\"A TIEMPO\",\"FUERA DE TIEMPO\"))))","v":"A TIEMPO"},{"$f":"IF(I2742=\"\",\"\",NETWORKDAYS([4]Hoja1!C2742+1,[4]Hoja1!P2742,DiasNOLaborables))","v":7},"",null,null,20]
[2732,20209050049492,43998,"CORREO ELECTRÓNICO","SOLICITUD DE INFORMACIÓN Y DOCUMENTOS","SOLICITUD DE INFORMACIÓN HIDROMETEOROLÓGICA","SI","GRUPO DE GESTIÓN DOCUMENTAL Y CENTRO DE DOCUMENTACIÓN",43998,null,null,{"$f":"IFERROR(WORKDAY(C2743,R2743,DiasNOLaborables),\"\")","v":44028},{"$f":"+IF(C2743=\"\",\"\",IF(I2743=\"\",\"\",(IF(I2743<=L2743,\"A TIEMPO\",\"FUERA DE TIEMPO\"))))","v":"A TIEMPO"},{"$f":"IF(I2743=\"\",\"\",NETWORKDAYS([4]Hoja1!C2743+1,[4]Hoja1!P2743,DiasNOLaborables))","v":7},"",null,null,20]
[2733,20209050049342,43998,"MODULO CONTACTENOS","SOLICITUD DE INFORMACIÓN Y DOCUMENTOS","SOLICITUD DE INFORMACIÓN HIDROMETEOROLÓGICA","NO","GRUPO DE ATENCIÓN AL CIUDADANO",44008,null,null,{"$f":"IFERROR(WORKDAY(C2744,R2744,DiasNOLaborables),\"\")","v":44028},{"$f":"+IF(C2744=\"\",\"\",IF(I2744=\"\",\"\",(IF(I2744<=L2744,\"A TIEMPO\",\"FUERA DE TIEMPO\"))))","v":"A TIEMPO"},{"$f":"IF(I2744=\"\",\"\",NETWORKDAYS([4]Hoja1!C2744+1,[4]Hoja1!P2744,DiasNOLaborables))","v":7},"",null,null,20]
[2734,20209050049352,43998,"MODULO CONTACTENOS","SOLICITUD DE INFORMACIÓN Y DOCUMENTOS","SOLICITUD DE INFORMACIÓN HIDROMETEOROLÓGICA","NO","GRUPO DE ATENCIÓN AL CIUDADANO",44008,null,null,{"$f":"IFERROR(WORKDAY(C2745,R2745,DiasNOLaborables),\"\")","v":44028},{"$f":"+IF(C2745=\"\",\"\",IF(I2745=\"\",\"\",(IF(I2745<=L2745,\"A TIEMPO\",\"FUERA DE TIEMPO\"))))","v":"A TIEMPO"},{"$f":"IF(I2745=\"\",\"\",NETWORKDAYS([4]Hoja1!C2745+1,[4]Hoja1!P2745,DiasNOLaborables))","v":7},"",null,null,20]
[2735,20209050049372,43998,"MODULO CONTACTENOS","SOLICITUD DE INFORMACIÓN Y DOCUMENTOS","SOLICITUD DE INFORMACIÓN HIDROMETEOROLÓGICA","NO","GRUPO DE ATENCIÓN AL CIUDADANO",44008,null,null,{"$f":"IFERROR(WORKDAY(C2746,R2746,DiasNOLaborables),\"\")","v":44028},{"$f":"+IF(C2746=\"\",\"\",IF(I2746=\"\",\"\",(IF(I2746<=L2746,\"A TIEMPO\",\"FUERA DE TIEMPO\"))))","v":"A TIEMPO"},{"$f":"IF(I2746=\"\",\"\",NETWORKDAYS([4]Hoja1!C2746+1,[4]Hoja1!P2746,DiasNOLaborables))","v":7},"",null,null,20]
[2736,20209050049502,43998,"CORREO ELECTRÓNICO","SOLICITUD DE INFORMACIÓN Y DOCUMENTOS","REGISTROS AMBIENTALES","SI","SUBDIRECCIÓN DE ESTUDIOS AMBIENTALES",43998,null,null,{"$f":"IFERROR(WORKDAY(C2747,R2747,DiasNOLaborables),\"\")","v":44028},{"$f":"+IF(C2747=\"\",\"\",IF(I2747=\"\",\"\",(IF(I2747<=L2747,\"A TIEMPO\",\"FUERA DE TIEMPO\"))))","v":"A TIEMPO"},{"$f":"IF(I2747=\"\",\"\",NETWORKDAYS([4]Hoja1!C2747+1,[4]Hoja1!P2747,DiasNOLaborables))","v":7},"",null,null,20]
[2737,20209050049452,43998,"MODULO CONTACTENOS","SOLICITUD DE INFORMACIÓN Y DOCUMENTOS","SOLICITUD DE INFORMACIÓN HIDROMETEOROLÓGICA","NO","GRUPO DE ATENCIÓN AL CIUDADANO",44012,null,null,{"$f":"IFERROR(WORKDAY(C2748,R2748,DiasNOLaborables),\"\")","v":44028},{"$f":"+IF(C2748=\"\",\"\",IF(I2748=\"\",\"\",(IF(I2748<=L2748,\"A TIEMPO\",\"FUERA DE TIEMPO\"))))","v":"A TIEMPO"},{"$f":"IF(I2748=\"\",\"\",NETWORKDAYS([4]Hoja1!C2748+1,[4]Hoja1!P2748,DiasNOLaborables))","v":7},"",null,null,20]
[2738,20209050049462,43998,"MODULO CONTACTENOS","SOLICITUD DE INFORMACIÓN Y DOCUMENTOS","SOLICITUD DE INFORMACIÓN HIDROMETEOROLÓGICA","NO","GRUPO DE ATENCIÓN AL CIUDADANO",44012,null,null,{"$f":"IFERROR(WORKDAY(C2749,R2749,DiasNOLaborables),\"\")","v":44028},{"$f":"+IF(C2749=\"\",\"\",IF(I2749=\"\",\"\",(IF(I2749<=L2749,\"A TIEMPO\",\"FUERA DE TIEMPO\"))))","v":"A TIEMPO"},{"$f":"IF(I2749=\"\",\"\",NETWORKDAYS([4]Hoja1!C2749+1,[4]Hoja1!P2749,DiasNOLaborables))","v":7},"",null,null,20]
[2739,20209050049522,43998,"MODULO CONTACTENOS","SOLICITUD DE INFORMACIÓN Y DOCUMENTOS","SOLICITUD DE INFORMACIÓN HIDROMETEOROLÓGICA","NO","GRUPO DE ATENCIÓN AL CIUDADANO",44012,null,null,{"$f":"IFERROR(WORKDAY(C2750,R2750,DiasNOLaborables),\"\")","v":44028},{"$f":"+IF(C2750=\"\",\"\",IF(I2750=\"\",\"\",(IF(I2750<=L2750,\"A TIEMPO\",\"FUERA DE TIEMPO\"))))","v":"A TIEMPO"},{"$f":"IF(I2750=\"\",\"\",NETWORKDAYS([4]Hoja1!C2750+1,[4]Hoja1!P2750,DiasNOLaborables))","v":7},"",null,null,20]
[2740,20209050049532,43998,"MODULO CONTACTENOS","SOLICITUD DE INFORMACIÓN Y DOCUMENTOS","SOLICITUD DE INFORMACIÓN HIDROMETEOROLÓGICA","NO","GRUPO DE ATENCIÓN AL CIUDADANO",44012,null,null,{"$f":"IFERROR(WORKDAY(C2751,R2751,DiasNOLaborables),\"\")","v":44028},{"$f":"+IF(C2751=\"\",\"\",IF(I2751=\"\",\"\",(IF(I2751<=L2751,\"A TIEMPO\",\"FUERA DE TIEMPO\"))))","v":"A TIEMPO"},{"$f":"IF(I2751=\"\",\"\",NETWORKDAYS([4]Hoja1!C2751+1,[4]Hoja1!P2751,DiasNOLaborables))","v":7},"",null,null,20]
[2741,20209050049542,43998,"MODULO CONTACTENOS","SOLICITUD DE INFORMACIÓN Y DOCUMENTOS","SOLICITUD DE INFORMACIÓN HIDROMETEOROLÓGICA","NO","GRUPO DE ATENCIÓN AL CIUDADANO",44012,null,null,{"$f":"IFERROR(WORKDAY(C2752,R2752,DiasNOLaborables),\"\")","v":44028},{"$f":"+IF(C2752=\"\",\"\",IF(I2752=\"\",\"\",(IF(I2752<=L2752,\"A TIEMPO\",\"FUERA DE TIEMPO\"))))","v":"A TIEMPO"},{"$f":"IF(I2752=\"\",\"\",NETWORKDAYS([4]Hoja1!C2752+1,[4]Hoja1!P2752,DiasNOLaborables))","v":7},"",null,null,20]
[2742,20209050049552,43998,"MODULO CONTACTENOS","SOLICITUD DE INFORMACIÓN Y DOCUMENTOS","SOLICITUD DE INFORMACIÓN HIDROMETEOROLÓGICA","NO","GRUPO DE ATENCIÓN AL CIUDADANO",44012,null,null,{"$f":"IFERROR(WORKDAY(C2753,R2753,DiasNOLaborables),\"\")","v":44028},{"$f":"+IF(C2753=\"\",\"\",IF(I2753=\"\",\"\",(IF(I2753<=L2753,\"A TIEMPO\",\"FUERA DE TIEMPO\"))))","v":"A TIEMPO"},{"$f":"IF(I2753=\"\",\"\",NETWORKDAYS([4]Hoja1!C2753+1,[4]Hoja1!P2753,DiasNOLaborables))","v":7},"",null,null,20]
[2743,20209050049562,43998,"MODULO CONTACTENOS","SOLICITUD DE INFORMACIÓN Y DOCUMENTOS","SOLICITUD DE INFORMACIÓN HIDROMETEOROLÓGICA","NO","GRUPO DE ATENCIÓN AL CIUDADANO",44012,null,null,{"$f":"IFERROR(WORKDAY(C2754,R2754,DiasNOLaborables),\"\")","v":44028},{"$f":"+IF(C2754=\"\",\"\",IF(I2754=\"\",\"\",(IF(I2754<=L2754,\"A TIEMPO\",\"FUERA DE TIEMPO\"))))","v":"A TIEMPO"},{"$f":"IF(I2754=\"\",\"\",NETWORKDAYS([4]Hoja1!C2754+1,[4]Hoja1!P2754,DiasNOLaborables))","v":7},"",null,null,20]
[2744,20209050049572,43998,"MODULO CONTACTENOS","SOLICITUD DE INFORMACIÓN Y DOCUMENTOS","SOLICITUD DE INFORMACIÓN HIDROMETEOROLÓGICA","NO","GRUPO DE ATENCIÓN AL CIUDADANO",44012,null,null,{"$f":"IFERROR(WORKDAY(C2755,R2755,DiasNOLaborables),\"\")","v":44028},{"$f":"+IF(C2755=\"\",\"\",IF(I2755=\"\",\"\",(IF(I2755<=L2755,\"A TIEMPO\",\"FUERA DE TIEMPO\"))))","v":"A TIEMPO"},{"$f":"IF(I2755=\"\",\"\",NETWORKDAYS([4]Hoja1!C2755+1,[4]Hoja1!P2755,DiasNOLaborables))","v":7},"",null,null,20]
[2745,20209050049242,43998,"WEB (MÓDULO DE SOLICITUD DE INFORMACIÓN HIDROMETEOROLÓGICA)","SOLICITUD DE INFORMACIÓN Y DOCUMENTOS","SOLICITUD DE INFORMACIÓN HIDROMETEOROLÓGICA","NO","GRUPO DE ATENCIÓN AL CIUDADANO",44015,null,null,{"$f":"IFERROR(WORKDAY(C2756,R2756,DiasNOLaborables),\"\")","v":44028},{"$f":"+IF(C2756=\"\",\"\",IF(I2756=\"\",\"\",(IF(I2756<=L2756,\"A TIEMPO\",\"FUERA DE TIEMPO\"))))","v":"A TIEMPO"},{"$f":"IF(I2756=\"\",\"\",NETWORKDAYS([4]Hoja1!C2756+1,[4]Hoja1!P2756,DiasNOLaborables))","v":7},"",null,null,20]
[2746,20209050049252,43998,"WEB (MÓDULO DE SOLICITUD DE INFORMACIÓN HIDROMETEOROLÓGICA)","SOLICITUD DE INFORMACIÓN Y DOCUMENTOS","SOLICITUD DE INFORMACIÓN HIDROMETEOROLÓGICA","NO","GRUPO DE ATENCIÓN AL CIUDADANO",44015,null,null,{"$f":"IFERROR(WORKDAY(C2757,R2757,DiasNOLaborables),\"\")","v":44028},{"$f":"+IF(C2757=\"\",\"\",IF(I2757=\"\",\"\",(IF(I2757<=L2757,\"A TIEMPO\",\"FUERA DE TIEMPO\"))))","v":"A TIEMPO"},{"$f":"IF(I2757=\"\",\"\",NETWORKDAYS([4]Hoja1!C2757+1,[4]Hoja1!P2757,DiasNOLaborables))","v":7},"",null,null,20]
[2747,20209050049262,43998,"WEB (MÓDULO DE SOLICITUD DE INFORMACIÓN HIDROMETEOROLÓGICA)","SOLICITUD DE INFORMACIÓN Y DOCUMENTOS","SOLICITUD DE INFORMACIÓN HIDROMETEOROLÓGICA","NO","GRUPO DE ATENCIÓN AL CIUDADANO",44015,null,null,{"$f":"IFERROR(WORKDAY(C2758,R2758,DiasNOLaborables),\"\")","v":44028},{"$f":"+IF(C2758=\"\",\"\",IF(I2758=\"\",\"\",(IF(I2758<=L2758,\"A TIEMPO\",\"FUERA DE TIEMPO\"))))","v":"A TIEMPO"},{"$f":"IF(I2758=\"\",\"\",NETWORKDAYS([4]Hoja1!C2758+1,[4]Hoja1!P2758,DiasNOLaborables))","v":7},"",null,null,{"$f":"IFERROR(VLOOKUP(E2758,$Z$50:$AA$63,2),\"\")","v":20}]
[2748,20209050049272,43998,"WEB (MÓDULO DE SOLICITUD DE INFORMACIÓN HIDROMETEOROLÓGICA)","SOLICITUD DE INFORMACIÓN Y DOCUMENTOS","SOLICITUD DE INFORMACIÓN HIDROMETEOROLÓGICA","NO","GRUPO DE ATENCIÓN AL CIUDADANO",44015,null,null,{"$f":"IFERROR(WORKDAY(C2759,R2759,DiasNOLaborables),\"\")","v":44028},{"$f":"+IF(C2759=\"\",\"\",IF(I2759=\"\",\"\",(IF(I2759<=L2759,\"A TIEMPO\",\"FUERA DE TIEMPO\"))))","v":"A TIEMPO"},{"$f":"IF(I2759=\"\",\"\",NETWORKDAYS([4]Hoja1!C2759+1,[4]Hoja1!P2759,DiasNOLaborables))","v":7},"",null,null,20]
[2749,20209050049282,43998,"WEB (MÓDULO DE SOLICITUD DE INFORMACIÓN HIDROMETEOROLÓGICA)","SOLICITUD DE INFORMACIÓN Y DOCUMENTOS","SOLICITUD DE INFORMACIÓN HIDROMETEOROLÓGICA","NO","GRUPO DE ATENCIÓN AL CIUDADANO",44015,null,null,{"$f":"IFERROR(WORKDAY(C2760,R2760,DiasNOLaborables),\"\")","v":44028},{"$f":"+IF(C2760=\"\",\"\",IF(I2760=\"\",\"\",(IF(I2760<=L2760,\"A TIEMPO\",\"FUERA DE TIEMPO\"))))","v":"A TIEMPO"},{"$f":"IF(I2760=\"\",\"\",NETWORKDAYS([4]Hoja1!C2760+1,[4]Hoja1!P2760,DiasNOLaborables))","v":7},"",null,null,20]
[2750,20209050049322,43998,"WEB (MÓDULO DE SOLICITUD DE INFORMACIÓN HIDROMETEOROLÓGICA)","SOLICITUD DE INFORMACIÓN Y DOCUMENTOS","SOLICITUD DE INFORMACIÓN HIDROMETEOROLÓGICA","NO","GRUPO DE ATENCIÓN AL CIUDADANO",44015,null,null,{"$f":"IFERROR(WORKDAY(C2761,R2761,DiasNOLaborables),\"\")","v":44028},{"$f":"+IF(C2761=\"\",\"\",IF(I2761=\"\",\"\",(IF(I2761<=L2761,\"A TIEMPO\",\"FUERA DE TIEMPO\"))))","v":"A TIEMPO"},{"$f":"IF(I2761=\"\",\"\",NETWORKDAYS([4]Hoja1!C2761+1,[4]Hoja1!P2761,DiasNOLaborables))","v":7},"",null,null,20]
[2751,20209050049622,43999,"WEB (MÓDULO DE SOLICITUD DE INFORMACIÓN HIDROMETEOROLÓGICA)","SOLICITUD DE INFORMACIÓN Y DOCUMENTOS","SOLICITUD DE INFORMACIÓN HIDROMETEOROLÓGICA","NO","GRUPO DE ATENCIÓN AL CIUDADANO",44015,null,null,{"$f":"IFERROR(WORKDAY(C2762,R2762,DiasNOLaborables),\"\")","v":44029},{"$f":"+IF(C2762=\"\",\"\",IF(I2762=\"\",\"\",(IF(I2762<=L2762,\"A TIEMPO\",\"FUERA DE TIEMPO\"))))","v":"A TIEMPO"},{"$f":"IF(I2762=\"\",\"\",NETWORKDAYS([4]Hoja1!C2762+1,[4]Hoja1!P2762,DiasNOLaborables))","v":7},"",null,null,20]
[2752,20209050049672,43999,"WEB (MÓDULO DE SOLICITUD DE INFORMACIÓN HIDROMETEOROLÓGICA)","SOLICITUD DE INFORMACIÓN Y DOCUMENTOS","SOLICITUD DE INFORMACIÓN HIDROMETEOROLÓGICA","NO","GRUPO DE ATENCIÓN AL CIUDADANO",44015,null,null,{"$f":"IFERROR(WORKDAY(C2763,R2763,DiasNOLaborables),\"\")","v":44029},{"$f":"+IF(C2763=\"\",\"\",IF(I2763=\"\",\"\",(IF(I2763<=L2763,\"A TIEMPO\",\"FUERA DE TIEMPO\"))))","v":"A TIEMPO"},{"$f":"IF(I2763=\"\",\"\",NETWORKDAYS([4]Hoja1!C2763+1,[4]Hoja1!P2763,DiasNOLaborables))","v":7},"",null,null,20]
[2753,20209050049702,43999,"WEB (MÓDULO DE SOLICITUD DE INFORMACIÓN HIDROMETEOROLÓGICA)","SOLICITUD DE INFORMACIÓN Y DOCUMENTOS","SOLICITUD DE INFORMACIÓN HIDROMETEOROLÓGICA","NO","GRUPO DE ATENCIÓN AL CIUDADANO",44015,null,null,{"$f":"IFERROR(WORKDAY(C2764,R2764,DiasNOLaborables),\"\")","v":44029},{"$f":"+IF(C2764=\"\",\"\",IF(I2764=\"\",\"\",(IF(I2764<=L2764,\"A TIEMPO\",\"FUERA DE TIEMPO\"))))","v":"A TIEMPO"},{"$f":"IF(I2764=\"\",\"\",NETWORKDAYS([4]Hoja1!C2764+1,[4]Hoja1!P2764,DiasNOLaborables))","v":7},"",null,null,20]
[2754,20209050049762,43999,"MODULO CONTACTENOS","SOLICITUD DE INFORMACIÓN Y DOCUMENTOS","SOLICITUD DE INFORMACIÓN HIDROMETEOROLÓGICA","NO","GRUPO DE ATENCIÓN AL CIUDADANO",44015,null,null,{"$f":"IFERROR(WORKDAY(C2765,R2765,DiasNOLaborables),\"\")","v":44029},{"$f":"+IF(C2765=\"\",\"\",IF(I2765=\"\",\"\",(IF(I2765<=L2765,\"A TIEMPO\",\"FUERA DE TIEMPO\"))))","v":"A TIEMPO"},{"$f":"IF(I2765=\"\",\"\",NETWORKDAYS([4]Hoja1!C2765+1,[4]Hoja1!P2765,DiasNOLaborables))","v":7},"",null,null,20]
[2755,20209050049592,43999,"MODULO CONTACTENOS","SOLICITUD DE INFORMACIÓN Y DOCUMENTOS","SOLICITUD DE INFORMACIÓN HIDROMETEOROLÓGICA","NO","GRUPO DE ATENCIÓN AL CIUDADANO",44012,null,null,{"$f":"IFERROR(WORKDAY(C2766,R2766,DiasNOLaborables),\"\")","v":44029},{"$f":"+IF(C2766=\"\",\"\",IF(I2766=\"\",\"\",(IF(I2766<=L2766,\"A TIEMPO\",\"FUERA DE TIEMPO\"))))","v":"A TIEMPO"},{"$f":"IF(I2766=\"\",\"\",NETWORKDAYS([4]Hoja1!C2766+1,[4]Hoja1!P2766,DiasNOLaborables))","v":7},"",null,null,20]
[2756,20209050049812,43999,"MODULO CONTACTENOS","SOLICITUD DE INFORMACIÓN Y DOCUMENTOS","SOLICITUD DE INFORMACIÓN HIDROMETEOROLÓGICA","NO","GRUPO DE ATENCIÓN AL CIUDADANO",44012,null,null,{"$f":"IFERROR(WORKDAY(C2767,R2767,DiasNOLaborables),\"\")","v":44029},{"$f":"+IF(C2767=\"\",\"\",IF(I2767=\"\",\"\",(IF(I2767<=L2767,\"A TIEMPO\",\"FUERA DE TIEMPO\"))))","v":"A TIEMPO"},{"$f":"IF(I2767=\"\",\"\",NETWORKDAYS([4]Hoja1!C2767+1,[4]Hoja1!P2767,DiasNOLaborables))","v":6},"",null,null,20]
[2757,20209050049832,43999,"MODULO CONTACTENOS","SOLICITUD DE INFORMACIÓN Y DOCUMENTOS","SOLICITUD DE INFORMACIÓN HIDROMETEOROLÓGICA","NO","GRUPO DE ATENCIÓN AL CIUDADANO",44012,null,null,{"$f":"IFERROR(WORKDAY(C2768,R2768,DiasNOLaborables),\"\")","v":44029},{"$f":"+IF(C2768=\"\",\"\",IF(I2768=\"\",\"\",(IF(I2768<=L2768,\"A TIEMPO\",\"FUERA DE TIEMPO\"))))","v":"A TIEMPO"},{"$f":"IF(I2768=\"\",\"\",NETWORKDAYS([4]Hoja1!C2768+1,[4]Hoja1!P2768,DiasNOLaborables))","v":7},"",null,null,20]
[2758,20209050049842,43999,"MODULO CONTACTENOS","SOLICITUD DE INFORMACIÓN Y DOCUMENTOS","SOLICITUD DE INFORMACIÓN HIDROMETEOROLÓGICA","NO","GRUPO DE ATENCIÓN AL CIUDADANO",44012,null,null,{"$f":"IFERROR(WORKDAY(C2769,R2769,DiasNOLaborables),\"\")","v":44029},{"$f":"+IF(C2769=\"\",\"\",IF(I2769=\"\",\"\",(IF(I2769<=L2769,\"A TIEMPO\",\"FUERA DE TIEMPO\"))))","v":"A TIEMPO"},{"$f":"IF(I2769=\"\",\"\",NETWORKDAYS([4]Hoja1!C2769+1,[4]Hoja1!P2769,DiasNOLaborables))","v":10},"",null,null,20]
[2759,20209050049882,43999,"MODULO CONTACTENOS","SOLICITUD DE INFORMACIÓN Y DOCUMENTOS","SOLICITUD DE INFORMACIÓN HIDROMETEOROLÓGICA","NO","GRUPO DE ATENCIÓN AL CIUDADANO",44012,null,null,{"$f":"IFERROR(WORKDAY(C2770,R2770,DiasNOLaborables),\"\")","v":44029},{"$f":"+IF(C2770=\"\",\"\",IF(I2770=\"\",\"\",(IF(I2770<=L2770,\"A TIEMPO\",\"FUERA DE TIEMPO\"))))","v":"A TIEMPO"},{"$f":"IF(I2770=\"\",\"\",NETWORKDAYS([4]Hoja1!C2770+1,[4]Hoja1!P2770,DiasNOLaborables))","v":10},"",null,null,20]
[2760,20209050049942,43999,"MODULO CONTACTENOS","SOLICITUD DE INFORMACIÓN Y DOCUMENTOS","SOLICITUD DE INFORMACIÓN HIDROMETEOROLÓGICA","NO","GRUPO DE ATENCIÓN AL CIUDADANO",44012,null,null,{"$f":"IFERROR(WORKDAY(C2771,R2771,DiasNOLaborables),\"\")","v":44029},{"$f":"+IF(C2771=\"\",\"\",IF(I2771=\"\",\"\",(IF(I2771<=L2771,\"A TIEMPO\",\"FUERA DE TIEMPO\"))))","v":"A TIEMPO"},{"$f":"IF(I2771=\"\",\"\",NETWORKDAYS([4]Hoja1!C2771+1,[4]Hoja1!P2771,DiasNOLaborables))","v":10},"",null,null,20]
[2761,20209050049512,43999,"MODULO CONTACTENOS","SOLICITUD DE INFORMACIÓN Y DOCUMENTOS","SOLICITUD DE INFORMACIÓN HIDROMETEOROLÓGICA","SI","SUBDIRECCIÓN DE ECOSISTEMAS E INFORMACIÓN AMBIENTAL",44012,null,null,{"$f":"IFERROR(WORKDAY(C2772,R2772,DiasNOLaborables),\"\")","v":44029},{"$f":"+IF(C2772=\"\",\"\",IF(I2772=\"\",\"\",(IF(I2772<=L2772,\"A TIEMPO\",\"FUERA DE TIEMPO\"))))","v":"A TIEMPO"},{"$f":"IF(I2772=\"\",\"\",NETWORKDAYS([4]Hoja1!C2772+1,[4]Hoja1!P2772,DiasNOLaborables))","v":10},"",null,null,20]
[2762,20209050049612,43999,"MODULO CONTACTENOS","SOLICITUD DE INFORMACIÓN Y DOCUMENTOS","SOLICITUD DE INFORMACIÓN HIDROMETEOROLÓGICA","SI","OFICINA DE INFORMÁTICA",44001,null,null,{"$f":"IFERROR(WORKDAY(C2773,R2773,DiasNOLaborables),\"\")","v":44029},{"$f":"+IF(C2773=\"\",\"\",IF(I2773=\"\",\"\",(IF(I2773<=L2773,\"A TIEMPO\",\"FUERA DE TIEMPO\"))))","v":"A TIEMPO"},{"$f":"IF(I2773=\"\",\"\",NETWORKDAYS([4]Hoja1!C2773+1,[4]Hoja1!P2773,DiasNOLaborables))","v":9},"",null,null,20]
[2763,20209050049582,43999,"CORREO ELECTRÓNICO","SOLICITUD DE INFORMACIÓN Y DOCUMENTOS","ADMINISTRATIVA","SI","GRUPO DE TESORERÍA",44001,null,null,{"$f":"IFERROR(WORKDAY(C2774,R2774,DiasNOLaborables),\"\")","v":44029},{"$f":"+IF(C2774=\"\",\"\",IF(I2774=\"\",\"\",(IF(I2774<=L2774,\"A TIEMPO\",\"FUERA DE TIEMPO\"))))","v":"A TIEMPO"},{"$f":"IF(I2774=\"\",\"\",NETWORKDAYS([4]Hoja1!C2774+1,[4]Hoja1!P2774,DiasNOLaborables))","v":9},"",null,null,20]
[2764,20209050049602,43999,"CORREO ELECTRÓNICO","SOLICITUD DE INFORMACIÓN Y DOCUMENTOS","ADMINISTRATIVA","SI","GRUPO DE ADMINISTRACIÓN Y DESARROLLO DEL TALENTO HUMANO",44000,null,null,{"$f":"IFERROR(WORKDAY(C2775,R2775,DiasNOLaborables),\"\")","v":44029},{"$f":"+IF(C2775=\"\",\"\",IF(I2775=\"\",\"\",(IF(I2775<=L2775,\"A TIEMPO\",\"FUERA DE TIEMPO\"))))","v":"A TIEMPO"},{"$f":"IF(I2775=\"\",\"\",NETWORKDAYS([4]Hoja1!C2775+1,[4]Hoja1!P2775,DiasNOLaborables))","v":9},"",null,null,20]
[2765,20209050049632,43999,"CORREO ELECTRÓNICO","SOLICITUD DE INFORMACIÓN Y DOCUMENTOS","SOLICITUD DE INFORMACIÓN HIDROMETEOROLÓGICA","SI","OFICINA DE INFORMÁTICA",43999,null,null,{"$f":"IFERROR(WORKDAY(C2776,R2776,DiasNOLaborables),\"\")","v":44029},{"$f":"+IF(C2776=\"\",\"\",IF(I2776=\"\",\"\",(IF(I2776<=L2776,\"A TIEMPO\",\"FUERA DE TIEMPO\"))))","v":"A TIEMPO"},{"$f":"IF(I2776=\"\",\"\",NETWORKDAYS([4]Hoja1!C2776+1,[4]Hoja1!P2776,DiasNOLaborables))","v":9},"",null,null,20]
[2766,20209050049652,43999,"CORREO ELECTRÓNICO","SOLICITUD DE INFORMACIÓN Y DOCUMENTOS","ADMINISTRATIVA","SI","GRUPO DE ADMINISTRACIÓN Y DESARROLLO DEL TALENTO HUMANO",44006,null,null,{"$f":"IFERROR(WORKDAY(C2777,R2777,DiasNOLaborables),\"\")","v":44029},{"$f":"+IF(C2777=\"\",\"\",IF(I2777=\"\",\"\",(IF(I2777<=L2777,\"A TIEMPO\",\"FUERA DE TIEMPO\"))))","v":"A TIEMPO"},{"$f":"IF(I2777=\"\",\"\",NETWORKDAYS([4]Hoja1!C2777+1,[4]Hoja1!P2777,DiasNOLaborables))","v":9},"",null,null,20]
[2767,20209050049662,43999,"MODULO CONTACTENOS","SOLICITUD DE INFORMACIÓN Y DOCUMENTOS","SOLICITUD DE INFORMACIÓN HIDROMETEOROLÓGICA","SI","SUBDIRECCIÓN DE ECOSISTEMAS E INFORMACIÓN AMBIENTAL",44012,null,null,{"$f":"IFERROR(WORKDAY(C2778,R2778,DiasNOLaborables),\"\")","v":44029},{"$f":"+IF(C2778=\"\",\"\",IF(I2778=\"\",\"\",(IF(I2778<=L2778,\"A TIEMPO\",\"FUERA DE TIEMPO\"))))","v":"A TIEMPO"},{"$f":"IF(I2778=\"\",\"\",NETWORKDAYS([4]Hoja1!C2778+1,[4]Hoja1!P2778,DiasNOLaborables))","v":9},"",null,null,20]
[2768,20209050049682,43999,"CORREO ELECTRÓNICO","SOLICITUD DE INFORMACIÓN Y DOCUMENTOS","REGISTROS AMBIENTALES","SI","SUBDIRECCIÓN DE ESTUDIOS AMBIENTALES",44008,null,null,{"$f":"IFERROR(WORKDAY(C2779,R2779,DiasNOLaborables),\"\")","v":44029},{"$f":"+IF(C2779=\"\",\"\",IF(I2779=\"\",\"\",(IF(I2779<=L2779,\"A TIEMPO\",\"FUERA DE TIEMPO\"))))","v":"A TIEMPO"},{"$f":"IF(I2779=\"\",\"\",NETWORKDAYS([4]Hoja1!C2779+1,[4]Hoja1!P2779,DiasNOLaborables))","v":9},"",null,null,20]
[2769,20209050049692,43999,"CORREO ELECTRÓNICO","SOLICITUD DE INFORMACIÓN Y DOCUMENTOS","REGISTROS AMBIENTALES","SI","SUBDIRECCIÓN DE ESTUDIOS AMBIENTALES",44002,null,null,{"$f":"IFERROR(WORKDAY(C2780,R2780,DiasNOLaborables),\"\")","v":44029},{"$f":"+IF(C2780=\"\",\"\",IF(I2780=\"\",\"\",(IF(I2780<=L2780,\"A TIEMPO\",\"FUERA DE TIEMPO\"))))","v":"A TIEMPO"},{"$f":"IF(I2780=\"\",\"\",NETWORKDAYS([4]Hoja1!C2780+1,[4]Hoja1!P2780,DiasNOLaborables))","v":9},"",null,null,20]
[2770,20209050049712,43999,"CORREO ELECTRÓNICO","SOLICITUD DE INFORMACIÓN Y DOCUMENTOS","REGISTROS AMBIENTALES","SI","SUBDIRECCIÓN DE ESTUDIOS AMBIENTALES",44002,null,null,{"$f":"IFERROR(WORKDAY(C2781,R2781,DiasNOLaborables),\"\")","v":44029},{"$f":"+IF(C2781=\"\",\"\",IF(I2781=\"\",\"\",(IF(I2781<=L2781,\"A TIEMPO\",\"FUERA DE TIEMPO\"))))","v":"A TIEMPO"},{"$f":"IF(I2781=\"\",\"\",NETWORKDAYS([4]Hoja1!C2781+1,[4]Hoja1!P2781,DiasNOLaborables))","v":9},"",null,null,20]
[2771,20209050049722,43999,"CORREO ELECTRÓNICO","CERTIFICACIONES DE TIEMPO, CLIMA Y EVENTOS HIDROLÓGICOS","CERTIFICACIONES DE TIEMPO Y CLIMA","SI","SUBDIRECCIÓN DE METEOROLOGÍA",44008,null,null,{"$f":"IFERROR(WORKDAY(C2782,R2782,DiasNOLaborables),\"\")","v":44046},{"$f":"+IF(C2782=\"\",\"\",IF(I2782=\"\",\"\",(IF(I2782<=L2782,\"A TIEMPO\",\"FUERA DE TIEMPO\"))))","v":"A TIEMPO"},{"$f":"IF(I2782=\"\",\"\",NETWORKDAYS([4]Hoja1!C2782+1,[4]Hoja1!P2782,DiasNOLaborables))","v":9},"",null,null,30]
[2772,20209050049742,43999,"CORREO ELECTRÓNICO","SOLICITUD DE INFORMACIÓN Y DOCUMENTOS","REGISTROS AMBIENTALES","SI","SUBDIRECCIÓN DE ESTUDIOS AMBIENTALES",43999,null,null,{"$f":"IFERROR(WORKDAY(C2783,R2783,DiasNOLaborables),\"\")","v":44029},{"$f":"+IF(C2783=\"\",\"\",IF(I2783=\"\",\"\",(IF(I2783<=L2783,\"A TIEMPO\",\"FUERA DE TIEMPO\"))))","v":"A TIEMPO"},{"$f":"IF(I2783=\"\",\"\",NETWORKDAYS([4]Hoja1!C2783+1,[4]Hoja1!P2783,DiasNOLaborables))","v":9},"",null,null,20]
[2773,20209050049772,43999,"CORREO ELECTRÓNICO","SOLICITUD DE INFORMACIÓN Y DOCUMENTOS","REGISTROS AMBIENTALES","SI","SUBDIRECCIÓN DE ESTUDIOS AMBIENTALES",44006,null,null,{"$f":"IFERROR(WORKDAY(C2784,R2784,DiasNOLaborables),\"\")","v":44029},{"$f":"+IF(C2784=\"\",\"\",IF(I2784=\"\",\"\",(IF(I2784<=L2784,\"A TIEMPO\",\"FUERA DE TIEMPO\"))))","v":"A TIEMPO"},{"$f":"IF(I2784=\"\",\"\",NETWORKDAYS([4]Hoja1!C2784+1,[4]Hoja1!P2784,DiasNOLaborables))","v":9},"",null,null,20]
[2774,20209050049782,43999,"CORREO ELECTRÓNICO","SOLICITUD DE INFORMACIÓN Y DOCUMENTOS","REGISTROS AMBIENTALES","SI","SUBDIRECCIÓN DE ESTUDIOS AMBIENTALES",43999,null,null,{"$f":"IFERROR(WORKDAY(C2785,R2785,DiasNOLaborables),\"\")","v":44029},{"$f":"+IF(C2785=\"\",\"\",IF(I2785=\"\",\"\",(IF(I2785<=L2785,\"A TIEMPO\",\"FUERA DE TIEMPO\"))))","v":"A TIEMPO"},{"$f":"IF(I2785=\"\",\"\",NETWORKDAYS([4]Hoja1!C2785+1,[4]Hoja1!P2785,DiasNOLaborables))","v":9},"",null,null,20]
[2775,20209050049792,43999,"CORREO ELECTRÓNICO","CERTIFICACIONES DE TIEMPO, CLIMA Y EVENTOS HIDROLÓGICOS","CERTIFICACIONES DE TIEMPO Y CLIMA","SI","SUBDIRECCIÓN DE METEOROLOGÍA",44008,null,null,{"$f":"IFERROR(WORKDAY(C2786,R2786,DiasNOLaborables),\"\")","v":44046},{"$f":"+IF(C2786=\"\",\"\",IF(I2786=\"\",\"\",(IF(I2786<=L2786,\"A TIEMPO\",\"FUERA DE TIEMPO\"))))","v":"A TIEMPO"},{"$f":"IF(I2786=\"\",\"\",NETWORKDAYS([4]Hoja1!C2786+1,[4]Hoja1!P2786,DiasNOLaborables))","v":9},"",null,null,30]
[2776,20209050049822,43999,"MODULO CONTACTENOS","CERTIFICACIONES DE TIEMPO, CLIMA Y EVENTOS HIDROLÓGICOS","CERTIFICACIONES DE TIEMPO Y CLIMA","SI","SUBDIRECCIÓN DE METEOROLOGÍA",44015,null,null,{"$f":"IFERROR(WORKDAY(C2787,R2787,DiasNOLaborables),\"\")","v":44046},{"$f":"+IF(C2787=\"\",\"\",IF(I2787=\"\",\"\",(IF(I2787<=L2787,\"A TIEMPO\",\"FUERA DE TIEMPO\"))))","v":"A TIEMPO"},{"$f":"IF(I2787=\"\",\"\",NETWORKDAYS([4]Hoja1!C2787+1,[4]Hoja1!P2787,DiasNOLaborables))","v":9},"",null,null,30]
[2777,20209050049852,43999,"CORREO ELECTRÓNICO","SOLICITUD DE INFORMACIÓN Y DOCUMENTOS","SOLICITUD DE INFORMACIÓN HIDROMETEOROLÓGICA","SI","SUBDIRECCIÓN DE ESTUDIOS AMBIENTALES",44001,null,null,{"$f":"IFERROR(WORKDAY(C2788,R2788,DiasNOLaborables),\"\")","v":44029},{"$f":"+IF(C2788=\"\",\"\",IF(I2788=\"\",\"\",(IF(I2788<=L2788,\"A TIEMPO\",\"FUERA DE TIEMPO\"))))","v":"A TIEMPO"},{"$f":"IF(I2788=\"\",\"\",NETWORKDAYS([4]Hoja1!C2788+1,[4]Hoja1!P2788,DiasNOLaborables))","v":9},"",null,null,20]
[2778,20209050049872,43999,"CORREO ELECTRÓNICO","CERTIFICACIONES DE TIEMPO, CLIMA Y EVENTOS HIDROLÓGICOS","CERTIFICACIONES DE TIEMPO Y CLIMA","SI","SUBDIRECCIÓN DE METEOROLOGÍA",44003,null,null,{"$f":"IFERROR(WORKDAY(C2789,R2789,DiasNOLaborables),\"\")","v":44046},{"$f":"+IF(C2789=\"\",\"\",IF(I2789=\"\",\"\",(IF(I2789<=L2789,\"A TIEMPO\",\"FUERA DE TIEMPO\"))))","v":"A TIEMPO"},{"$f":"IF(I2789=\"\",\"\",NETWORKDAYS([4]Hoja1!C2789+1,[4]Hoja1!P2789,DiasNOLaborables))","v":9},"",null,null,30]
[2779,20209050049892,43999,"CORREO ELECTRÓNICO","SOLICITUD DE INFORMACIÓN Y DOCUMENTOS","REGISTROS AMBIENTALES","SI","SUBDIRECCIÓN DE ESTUDIOS AMBIENTALES",43999,null,null,{"$f":"IFERROR(WORKDAY(C2790,R2790,DiasNOLaborables),\"\")","v":44029},{"$f":"+IF(C2790=\"\",\"\",IF(I2790=\"\",\"\",(IF(I2790<=L2790,\"A TIEMPO\",\"FUERA DE TIEMPO\"))))","v":"A TIEMPO"},{"$f":"IF(I2790=\"\",\"\",NETWORKDAYS([4]Hoja1!C2790+1,[4]Hoja1!P2790,DiasNOLaborables))","v":8},"",null,null,20]
[2780,20209050049902,43999,"CORREO ELECTRÓNICO","SOLICITUD DE INFORMACIÓN Y DOCUMENTOS","REGISTROS AMBIENTALES","SI","SUBDIRECCIÓN DE ESTUDIOS AMBIENTALES",43999,null,null,{"$f":"IFERROR(WORKDAY(C2791,R2791,DiasNOLaborables),\"\")","v":44029},{"$f":"+IF(C2791=\"\",\"\",IF(I2791=\"\",\"\",(IF(I2791<=L2791,\"A TIEMPO\",\"FUERA DE TIEMPO\"))))","v":"A TIEMPO"},{"$f":"IF(I2791=\"\",\"\",NETWORKDAYS([4]Hoja1!C2791+1,[4]Hoja1!P2791,DiasNOLaborables))","v":9},"",null,null,20]
[2781,20209050049862,43999,"MODULO CONTACTENOS","SOLICITUD DE INFORMACIÓN Y DOCUMENTOS","SOLICITUD DE INFORMACIÓN HIDROMETEOROLÓGICA","SI","SUBDIRECCIÓN DE ESTUDIOS AMBIENTALES",44019,null,null,{"$f":"IFERROR(WORKDAY(C2792,R2792,DiasNOLaborables),\"\")","v":44029},{"$f":"+IF(C2792=\"\",\"\",IF(I2792=\"\",\"\",(IF(I2792<=L2792,\"A TIEMPO\",\"FUERA DE TIEMPO\"))))","v":"A TIEMPO"},{"$f":"IF(I2792=\"\",\"\",NETWORKDAYS([4]Hoja1!C2792+1,[4]Hoja1!P2792,DiasNOLaborables))","v":9},"",null,null,20]
[2782,20200617224115,43999,"WEB (MÓDULO DE SOLICITUD DE INFORMACIÓN HIDROMETEOROLÓGICA)","SOLICITUD DE INFORMACIÓN Y DOCUMENTOS","SOLICITUD DE INFORMACIÓN HIDROMETEOROLÓGICA","NO","GRUPO DE ATENCIÓN AL CIUDADANO",44005,null,null,{"$f":"IFERROR(WORKDAY(C2793,R2793,DiasNOLaborables),\"\")","v":44029},{"$f":"+IF(C2793=\"\",\"\",IF(I2793=\"\",\"\",(IF(I2793<=L2793,\"A TIEMPO\",\"FUERA DE TIEMPO\"))))","v":"A TIEMPO"},{"$f":"IF(I2793=\"\",\"\",NETWORKDAYS([4]Hoja1!C2793+1,[4]Hoja1!P2793,DiasNOLaborables))","v":9},"",null,null,20]
[2783,20200617223853,43999,"WEB (MÓDULO DE SOLICITUD DE INFORMACIÓN HIDROMETEOROLÓGICA)","SOLICITUD DE INFORMACIÓN Y DOCUMENTOS","SOLICITUD DE INFORMACIÓN HIDROMETEOROLÓGICA","NO","GRUPO DE ATENCIÓN AL CIUDADANO",44005,null,null,{"$f":"IFERROR(WORKDAY(C2794,R2794,DiasNOLaborables),\"\")","v":44029},{"$f":"+IF(C2794=\"\",\"\",IF(I2794=\"\",\"\",(IF(I2794<=L2794,\"A TIEMPO\",\"FUERA DE TIEMPO\"))))","v":"A TIEMPO"},{"$f":"IF(I2794=\"\",\"\",NETWORKDAYS([4]Hoja1!C2794+1,[4]Hoja1!P2794,DiasNOLaborables))","v":9},"",null,null,20]
[2784,20200617223520,43999,"WEB (MÓDULO DE SOLICITUD DE INFORMACIÓN HIDROMETEOROLÓGICA)","SOLICITUD DE INFORMACIÓN Y DOCUMENTOS","SOLICITUD DE INFORMACIÓN HIDROMETEOROLÓGICA","NO","GRUPO DE ATENCIÓN AL CIUDADANO",44005,null,null,{"$f":"IFERROR(WORKDAY(C2795,R2795,DiasNOLaborables),\"\")","v":44029},{"$f":"+IF(C2795=\"\",\"\",IF(I2795=\"\",\"\",(IF(I2795<=L2795,\"A TIEMPO\",\"FUERA DE TIEMPO\"))))","v":"A TIEMPO"},{"$f":"IF(I2795=\"\",\"\",NETWORKDAYS([4]Hoja1!C2795+1,[4]Hoja1!P2795,DiasNOLaborables))","v":9},"",null,null,20]
[2785,20200617223328,43999,"WEB (MÓDULO DE SOLICITUD DE INFORMACIÓN HIDROMETEOROLÓGICA)","SOLICITUD DE INFORMACIÓN Y DOCUMENTOS","SOLICITUD DE INFORMACIÓN HIDROMETEOROLÓGICA","NO","GRUPO DE ATENCIÓN AL CIUDADANO",44005,null,null,{"$f":"IFERROR(WORKDAY(C2796,R2796,DiasNOLaborables),\"\")","v":44029},{"$f":"+IF(C2796=\"\",\"\",IF(I2796=\"\",\"\",(IF(I2796<=L2796,\"A TIEMPO\",\"FUERA DE TIEMPO\"))))","v":"A TIEMPO"},{"$f":"IF(I2796=\"\",\"\",NETWORKDAYS([4]Hoja1!C2796+1,[4]Hoja1!P2796,DiasNOLaborables))","v":9},"",null,null,20]
[2786,20200617223020,43999,"WEB (MÓDULO DE SOLICITUD DE INFORMACIÓN HIDROMETEOROLÓGICA)","SOLICITUD DE INFORMACIÓN Y DOCUMENTOS","SOLICITUD DE INFORMACIÓN HIDROMETEOROLÓGICA","NO","GRUPO DE ATENCIÓN AL CIUDADANO",44005,null,null,{"$f":"IFERROR(WORKDAY(C2797,R2797,DiasNOLaborables),\"\")","v":44029},{"$f":"+IF(C2797=\"\",\"\",IF(I2797=\"\",\"\",(IF(I2797<=L2797,\"A TIEMPO\",\"FUERA DE TIEMPO\"))))","v":"A TIEMPO"},{"$f":"IF(I2797=\"\",\"\",NETWORKDAYS([4]Hoja1!C2797+1,[4]Hoja1!P2797,DiasNOLaborables))","v":9},"",null,null,20]
[2787,20200617222234,43999,"WEB (MÓDULO DE SOLICITUD DE INFORMACIÓN HIDROMETEOROLÓGICA)","SOLICITUD DE INFORMACIÓN Y DOCUMENTOS","SOLICITUD DE INFORMACIÓN HIDROMETEOROLÓGICA","NO","GRUPO DE ATENCIÓN AL CIUDADANO",44005,null,null,{"$f":"IFERROR(WORKDAY(C2798,R2798,DiasNOLaborables),\"\")","v":44029},{"$f":"+IF(C2798=\"\",\"\",IF(I2798=\"\",\"\",(IF(I2798<=L2798,\"A TIEMPO\",\"FUERA DE TIEMPO\"))))","v":"A TIEMPO"},{"$f":"IF(I2798=\"\",\"\",NETWORKDAYS([4]Hoja1!C2798+1,[4]Hoja1!P2798,DiasNOLaborables))","v":9},"",null,null,20]
[2788,20200617221552,43999,"WEB (MÓDULO DE SOLICITUD DE INFORMACIÓN HIDROMETEOROLÓGICA)","SOLICITUD DE INFORMACIÓN Y DOCUMENTOS","SOLICITUD DE INFORMACIÓN HIDROMETEOROLÓGICA","NO","GRUPO DE ATENCIÓN AL CIUDADANO",44005,null,null,{"$f":"IFERROR(WORKDAY(C2799,R2799,DiasNOLaborables),\"\")","v":44029},{"$f":"+IF(C2799=\"\",\"\",IF(I2799=\"\",\"\",(IF(I2799<=L2799,\"A TIEMPO\",\"FUERA DE TIEMPO\"))))","v":"A TIEMPO"},{"$f":"IF(I2799=\"\",\"\",NETWORKDAYS([4]Hoja1!C2799+1,[4]Hoja1!P2799,DiasNOLaborables))","v":9},"",null,null,20]
[2789,20200617220638,43999,"WEB (MÓDULO DE SOLICITUD DE INFORMACIÓN HIDROMETEOROLÓGICA)","SOLICITUD DE INFORMACIÓN Y DOCUMENTOS","SOLICITUD DE INFORMACIÓN HIDROMETEOROLÓGICA","NO","GRUPO DE ATENCIÓN AL CIUDADANO",44005,null,null,{"$f":"IFERROR(WORKDAY(C2800,R2800,DiasNOLaborables),\"\")","v":44029},{"$f":"+IF(C2800=\"\",\"\",IF(I2800=\"\",\"\",(IF(I2800<=L2800,\"A TIEMPO\",\"FUERA DE TIEMPO\"))))","v":"A TIEMPO"},{"$f":"IF(I2800=\"\",\"\",NETWORKDAYS([4]Hoja1!C2800+1,[4]Hoja1!P2800,DiasNOLaborables))","v":9},"",null,null,20]
[2790,20200617220013,43999,"WEB (MÓDULO DE SOLICITUD DE INFORMACIÓN HIDROMETEOROLÓGICA)","SOLICITUD DE INFORMACIÓN Y DOCUMENTOS","SOLICITUD DE INFORMACIÓN HIDROMETEOROLÓGICA","NO","GRUPO DE ATENCIÓN AL CIUDADANO",44005,null,null,{"$f":"IFERROR(WORKDAY(C2801,R2801,DiasNOLaborables),\"\")","v":44029},{"$f":"+IF(C2801=\"\",\"\",IF(I2801=\"\",\"\",(IF(I2801<=L2801,\"A TIEMPO\",\"FUERA DE TIEMPO\"))))","v":"A TIEMPO"},{"$f":"IF(I2801=\"\",\"\",NETWORKDAYS([4]Hoja1!C2801+1,[4]Hoja1!P2801,DiasNOLaborables))","v":9},"",null,null,20]
[{"$f":"IF(B2800<>\"\",A2801+1,\"\")","v":2791},20200617215304,43999,"WEB (MÓDULO DE SOLICITUD DE INFORMACIÓN HIDROMETEOROLÓGICA)","SOLICITUD DE INFORMACIÓN Y DOCUMENTOS","SOLICITUD DE INFORMACIÓN HIDROMETEOROLÓGICA","NO","GRUPO DE ATENCIÓN AL CIUDADANO",44005,null,null,{"$f":"IFERROR(WORKDAY(C2802,R2802,DiasNOLaborables),\"\")","v":44029},{"$f":"+IF(C2802=\"\",\"\",IF(I2802=\"\",\"\",(IF(I2802<=L2802,\"A TIEMPO\",\"FUERA DE TIEMPO\"))))","v":"A TIEMPO"},{"$f":"IF(I2802=\"\",\"\",NETWORKDAYS([4]Hoja1!C2802+1,[4]Hoja1!P2802,DiasNOLaborables))","v":8},"",null,null,20]
[2792,20200617214613,43999,"WEB (MÓDULO DE SOLICITUD DE INFORMACIÓN HIDROMETEOROLÓGICA)","SOLICITUD DE INFORMACIÓN Y DOCUMENTOS","SOLICITUD DE INFORMACIÓN HIDROMETEOROLÓGICA","NO","GRUPO DE ATENCIÓN AL CIUDADANO",44005,null,null,{"$f":"IFERROR(WORKDAY(C2803,R2803,DiasNOLaborables),\"\")","v":44029},{"$f":"+IF(C2803=\"\",\"\",IF(I2803=\"\",\"\",(IF(I2803<=L2803,\"A TIEMPO\",\"FUERA DE TIEMPO\"))))","v":"A TIEMPO"},{"$f":"IF(I2803=\"\",\"\",NETWORKDAYS([4]Hoja1!C2803+1,[4]Hoja1!P2803,DiasNOLaborables))","v":8},"",null,null,20]
[2793,20200617214020,43999,"WEB (MÓDULO DE SOLICITUD DE INFORMACIÓN HIDROMETEOROLÓGICA)","SOLICITUD DE INFORMACIÓN Y DOCUMENTOS","SOLICITUD DE INFORMACIÓN HIDROMETEOROLÓGICA","NO","GRUPO DE ATENCIÓN AL CIUDADANO",44005,null,null,{"$f":"IFERROR(WORKDAY(C2804,R2804,DiasNOLaborables),\"\")","v":44029},{"$f":"+IF(C2804=\"\",\"\",IF(I2804=\"\",\"\",(IF(I2804<=L2804,\"A TIEMPO\",\"FUERA DE TIEMPO\"))))","v":"A TIEMPO"},{"$f":"IF(I2804=\"\",\"\",NETWORKDAYS([4]Hoja1!C2804+1,[4]Hoja1!P2804,DiasNOLaborables))","v":8},{"$f":"IF(NETWORKDAYS(L2804+1,I2804,DiasNOLaborables)<=0,\"\",NETWORKDAYS(L2804+1,I2804,DiasNOLaborables))","v":""},null,null,20]
[2794,20200617213451,43999,"WEB (MÓDULO DE SOLICITUD DE INFORMACIÓN HIDROMETEOROLÓGICA)","SOLICITUD DE INFORMACIÓN Y DOCUMENTOS","SOLICITUD DE INFORMACIÓN HIDROMETEOROLÓGICA","NO","GRUPO DE ATENCIÓN AL CIUDADANO",44005,null,null,{"$f":"IFERROR(WORKDAY(C2805,R2805,DiasNOLaborables),\"\")","v":44029},{"$f":"+IF(C2805=\"\",\"\",IF(I2805=\"\",\"\",(IF(I2805<=L2805,\"A TIEMPO\",\"FUERA DE TIEMPO\"))))","v":"A TIEMPO"},{"$f":"IF(I2805=\"\",\"\",NETWORKDAYS([4]Hoja1!C2805+1,[4]Hoja1!P2805,DiasNOLaborables))","v":8},"",null,null,20]
[2795,20200617212604,43999,"WEB (MÓDULO DE SOLICITUD DE INFORMACIÓN HIDROMETEOROLÓGICA)","SOLICITUD DE INFORMACIÓN Y DOCUMENTOS","SOLICITUD DE INFORMACIÓN HIDROMETEOROLÓGICA","NO","GRUPO DE ATENCIÓN AL CIUDADANO",44005,null,null,{"$f":"IFERROR(WORKDAY(C2806,R2806,DiasNOLaborables),\"\")","v":44029},{"$f":"+IF(C2806=\"\",\"\",IF(I2806=\"\",\"\",(IF(I2806<=L2806,\"A TIEMPO\",\"FUERA DE TIEMPO\"))))","v":"A TIEMPO"},{"$f":"IF(I2806=\"\",\"\",NETWORKDAYS([4]Hoja1!C2806+1,[4]Hoja1!P2806,DiasNOLaborables))","v":8},"",null,null,20]
[2796,20200617212223,43999,"WEB (MÓDULO DE SOLICITUD DE INFORMACIÓN HIDROMETEOROLÓGICA)","SOLICITUD DE INFORMACIÓN Y DOCUMENTOS","SOLICITUD DE INFORMACIÓN HIDROMETEOROLÓGICA","NO","GRUPO DE ATENCIÓN AL CIUDADANO",44005,null,null,{"$f":"IFERROR(WORKDAY(C2807,R2807,DiasNOLaborables),\"\")","v":44029},{"$f":"+IF(C2807=\"\",\"\",IF(I2807=\"\",\"\",(IF(I2807<=L2807,\"A TIEMPO\",\"FUERA DE TIEMPO\"))))","v":"A TIEMPO"},{"$f":"IF(I2807=\"\",\"\",NETWORKDAYS([4]Hoja1!C2807+1,[4]Hoja1!P2807,DiasNOLaborables))","v":8},"",null,null,20]
[2797,20200617211924,43999,"WEB (MÓDULO DE SOLICITUD DE INFORMACIÓN HIDROMETEOROLÓGICA)","SOLICITUD DE INFORMACIÓN Y DOCUMENTOS","SOLICITUD DE INFORMACIÓN HIDROMETEOROLÓGICA","NO","GRUPO DE ATENCIÓN AL CIUDADANO",44005,null,null,{"$f":"IFERROR(WORKDAY(C2808,R2808,DiasNOLaborables),\"\")","v":44029},{"$f":"+IF(C2808=\"\",\"\",IF(I2808=\"\",\"\",(IF(I2808<=L2808,\"A TIEMPO\",\"FUERA DE TIEMPO\"))))","v":"A TIEMPO"},{"$f":"IF(I2808=\"\",\"\",NETWORKDAYS([4]Hoja1!C2808+1,[4]Hoja1!P2808,DiasNOLaborables))","v":8},"",null,null,20]
[2798,20200617211511,43999,"WEB (MÓDULO DE SOLICITUD DE INFORMACIÓN HIDROMETEOROLÓGICA)","SOLICITUD DE INFORMACIÓN Y DOCUMENTOS","SOLICITUD DE INFORMACIÓN HIDROMETEOROLÓGICA","NO","GRUPO DE ATENCIÓN AL CIUDADANO",44005,null,null,{"$f":"IFERROR(WORKDAY(C2809,R2809,DiasNOLaborables),\"\")","v":44029},{"$f":"+IF(C2809=\"\",\"\",IF(I2809=\"\",\"\",(IF(I2809<=L2809,\"A TIEMPO\",\"FUERA DE TIEMPO\"))))","v":"A TIEMPO"},{"$f":"IF(I2809=\"\",\"\",NETWORKDAYS([4]Hoja1!C2809+1,[4]Hoja1!P2809,DiasNOLaborables))","v":8},"",null,null,20]
[2799,20200617211055,43999,"WEB (MÓDULO DE SOLICITUD DE INFORMACIÓN HIDROMETEOROLÓGICA)","SOLICITUD DE INFORMACIÓN Y DOCUMENTOS","SOLICITUD DE INFORMACIÓN HIDROMETEOROLÓGICA","NO","GRUPO DE ATENCIÓN AL CIUDADANO",44005,null,null,{"$f":"IFERROR(WORKDAY(C2810,R2810,DiasNOLaborables),\"\")","v":44029},{"$f":"+IF(C2810=\"\",\"\",IF(I2810=\"\",\"\",(IF(I2810<=L2810,\"A TIEMPO\",\"FUERA DE TIEMPO\"))))","v":"A TIEMPO"},{"$f":"IF(I2810=\"\",\"\",NETWORKDAYS([4]Hoja1!C2810+1,[4]Hoja1!P2810,DiasNOLaborables))","v":8},"",null,null,20]
[2800,20200617210439,43999,"WEB (MÓDULO DE SOLICITUD DE INFORMACIÓN HIDROMETEOROLÓGICA)","SOLICITUD DE INFORMACIÓN Y DOCUMENTOS","SOLICITUD DE INFORMACIÓN HIDROMETEOROLÓGICA","NO","GRUPO DE ATENCIÓN AL CIUDADANO",44005,null,null,{"$f":"IFERROR(WORKDAY(C2811,R2811,DiasNOLaborables),\"\")","v":44029},{"$f":"+IF(C2811=\"\",\"\",IF(I2811=\"\",\"\",(IF(I2811<=L2811,\"A TIEMPO\",\"FUERA DE TIEMPO\"))))","v":"A TIEMPO"},{"$f":"IF(I2811=\"\",\"\",NETWORKDAYS([4]Hoja1!C2811+1,[4]Hoja1!P2811,DiasNOLaborables))","v":8},"",null,null,20]
[2801,20200617210116,43999,"WEB (MÓDULO DE SOLICITUD DE INFORMACIÓN HIDROMETEOROLÓGICA)","SOLICITUD DE INFORMACIÓN Y DOCUMENTOS","SOLICITUD DE INFORMACIÓN HIDROMETEOROLÓGICA","NO","GRUPO DE ATENCIÓN AL CIUDADANO",44005,null,null,{"$f":"IFERROR(WORKDAY(C2812,R2812,DiasNOLaborables),\"\")","v":44029},{"$f":"+IF(C2812=\"\",\"\",IF(I2812=\"\",\"\",(IF(I2812<=L2812,\"A TIEMPO\",\"FUERA DE TIEMPO\"))))","v":"A TIEMPO"},{"$f":"IF(I2812=\"\",\"\",NETWORKDAYS([4]Hoja1!C2812+1,[4]Hoja1!P2812,DiasNOLaborables))","v":8},"",null,null,20]
[2802,20200617205348,43999,"WEB (MÓDULO DE SOLICITUD DE INFORMACIÓN HIDROMETEOROLÓGICA)","SOLICITUD DE INFORMACIÓN Y DOCUMENTOS","SOLICITUD DE INFORMACIÓN HIDROMETEOROLÓGICA","NO","GRUPO DE ATENCIÓN AL CIUDADANO",44005,null,null,{"$f":"IFERROR(WORKDAY(C2813,R2813,DiasNOLaborables),\"\")","v":44029},{"$f":"+IF(C2813=\"\",\"\",IF(I2813=\"\",\"\",(IF(I2813<=L2813,\"A TIEMPO\",\"FUERA DE TIEMPO\"))))","v":"A TIEMPO"},{"$f":"IF(I2813=\"\",\"\",NETWORKDAYS([4]Hoja1!C2813+1,[4]Hoja1!P2813,DiasNOLaborables))","v":8},"",null,null,20]
[2803,20200617205021,43999,"WEB (MÓDULO DE SOLICITUD DE INFORMACIÓN HIDROMETEOROLÓGICA)","SOLICITUD DE INFORMACIÓN Y DOCUMENTOS","SOLICITUD DE INFORMACIÓN HIDROMETEOROLÓGICA","NO","GRUPO DE ATENCIÓN AL CIUDADANO",44005,null,null,{"$f":"IFERROR(WORKDAY(C2814,R2814,DiasNOLaborables),\"\")","v":44029},{"$f":"+IF(C2814=\"\",\"\",IF(I2814=\"\",\"\",(IF(I2814<=L2814,\"A TIEMPO\",\"FUERA DE TIEMPO\"))))","v":"A TIEMPO"},{"$f":"IF(I2814=\"\",\"\",NETWORKDAYS([4]Hoja1!C2814+1,[4]Hoja1!P2814,DiasNOLaborables))","v":8},"",null,null,20]
[2804,20200617204724,43999,"WEB (MÓDULO DE SOLICITUD DE INFORMACIÓN HIDROMETEOROLÓGICA)","SOLICITUD DE INFORMACIÓN Y DOCUMENTOS","SOLICITUD DE INFORMACIÓN HIDROMETEOROLÓGICA","NO","GRUPO DE ATENCIÓN AL CIUDADANO",44005,null,null,{"$f":"IFERROR(WORKDAY(C2815,R2815,DiasNOLaborables),\"\")","v":44029},{"$f":"+IF(C2815=\"\",\"\",IF(I2815=\"\",\"\",(IF(I2815<=L2815,\"A TIEMPO\",\"FUERA DE TIEMPO\"))))","v":"A TIEMPO"},{"$f":"IF(I2815=\"\",\"\",NETWORKDAYS([4]Hoja1!C2815+1,[4]Hoja1!P2815,DiasNOLaborables))","v":7},"",null,null,20]
[2805,20200617204407,43999,"WEB (MÓDULO DE SOLICITUD DE INFORMACIÓN HIDROMETEOROLÓGICA)","SOLICITUD DE INFORMACIÓN Y DOCUMENTOS","SOLICITUD DE INFORMACIÓN HIDROMETEOROLÓGICA","NO","GRUPO DE ATENCIÓN AL CIUDADANO",44005,null,null,{"$f":"IFERROR(WORKDAY(C2816,R2816,DiasNOLaborables),\"\")","v":44029},{"$f":"+IF(C2816=\"\",\"\",IF(I2816=\"\",\"\",(IF(I2816<=L2816,\"A TIEMPO\",\"FUERA DE TIEMPO\"))))","v":"A TIEMPO"},{"$f":"IF(I2816=\"\",\"\",NETWORKDAYS([4]Hoja1!C2816+1,[4]Hoja1!P2816,DiasNOLaborables))","v":7},"",null,null,20]
[2806,20200617203720,43999,"WEB (MÓDULO DE SOLICITUD DE INFORMACIÓN HIDROMETEOROLÓGICA)","SOLICITUD DE INFORMACIÓN Y DOCUMENTOS","SOLICITUD DE INFORMACIÓN HIDROMETEOROLÓGICA","NO","GRUPO DE ATENCIÓN AL CIUDADANO",44005,null,null,{"$f":"IFERROR(WORKDAY(C2817,R2817,DiasNOLaborables),\"\")","v":44029},{"$f":"+IF(C2817=\"\",\"\",IF(I2817=\"\",\"\",(IF(I2817<=L2817,\"A TIEMPO\",\"FUERA DE TIEMPO\"))))","v":"A TIEMPO"},{"$f":"IF(I2817=\"\",\"\",NETWORKDAYS([4]Hoja1!C2817+1,[4]Hoja1!P2817,DiasNOLaborables))","v":7},"",null,null,20]
[2807,20200617203008,43999,"WEB (MÓDULO DE SOLICITUD DE INFORMACIÓN HIDROMETEOROLÓGICA)","SOLICITUD DE INFORMACIÓN Y DOCUMENTOS","SOLICITUD DE INFORMACIÓN HIDROMETEOROLÓGICA","NO","GRUPO DE ATENCIÓN AL CIUDADANO",44005,null,null,{"$f":"IFERROR(WORKDAY(C2818,R2818,DiasNOLaborables),\"\")","v":44029},{"$f":"+IF(C2818=\"\",\"\",IF(I2818=\"\",\"\",(IF(I2818<=L2818,\"A TIEMPO\",\"FUERA DE TIEMPO\"))))","v":"A TIEMPO"},{"$f":"IF(I2818=\"\",\"\",NETWORKDAYS([4]Hoja1!C2818+1,[4]Hoja1!P2818,DiasNOLaborables))","v":7},"",null,null,20]
[2808,20200617200914,43999,"WEB (MÓDULO DE SOLICITUD DE INFORMACIÓN HIDROMETEOROLÓGICA)","SOLICITUD DE INFORMACIÓN Y DOCUMENTOS","SOLICITUD DE INFORMACIÓN HIDROMETEOROLÓGICA","NO","GRUPO DE ATENCIÓN AL CIUDADANO",44005,null,null,{"$f":"IFERROR(WORKDAY(C2819,R2819,DiasNOLaborables),\"\")","v":44029},{"$f":"+IF(C2819=\"\",\"\",IF(I2819=\"\",\"\",(IF(I2819<=L2819,\"A TIEMPO\",\"FUERA DE TIEMPO\"))))","v":"A TIEMPO"},{"$f":"IF(I2819=\"\",\"\",NETWORKDAYS([4]Hoja1!C2819+1,[4]Hoja1!P2819,DiasNOLaborables))","v":7},"",null,null,20]
[2809,20200617195732,43999,"WEB (MÓDULO DE SOLICITUD DE INFORMACIÓN HIDROMETEOROLÓGICA)","SOLICITUD DE INFORMACIÓN Y DOCUMENTOS","SOLICITUD DE INFORMACIÓN HIDROMETEOROLÓGICA","NO","GRUPO DE ATENCIÓN AL CIUDADANO",44005,null,null,{"$f":"IFERROR(WORKDAY(C2820,R2820,DiasNOLaborables),\"\")","v":44029},{"$f":"+IF(C2820=\"\",\"\",IF(I2820=\"\",\"\",(IF(I2820<=L2820,\"A TIEMPO\",\"FUERA DE TIEMPO\"))))","v":"A TIEMPO"},{"$f":"IF(I2820=\"\",\"\",NETWORKDAYS([4]Hoja1!C2820+1,[4]Hoja1!P2820,DiasNOLaborables))","v":7},"",null,null,20]
[2810,20200617194956,43999,"WEB (MÓDULO DE SOLICITUD DE INFORMACIÓN HIDROMETEOROLÓGICA)","SOLICITUD DE INFORMACIÓN Y DOCUMENTOS","SOLICITUD DE INFORMACIÓN HIDROMETEOROLÓGICA","NO","GRUPO DE ATENCIÓN AL CIUDADANO",44005,null,null,{"$f":"IFERROR(WORKDAY(C2821,R2821,DiasNOLaborables),\"\")","v":44029},{"$f":"+IF(C2821=\"\",\"\",IF(I2821=\"\",\"\",(IF(I2821<=L2821,\"A TIEMPO\",\"FUERA DE TIEMPO\"))))","v":"A TIEMPO"},{"$f":"IF(I2821=\"\",\"\",NETWORKDAYS([4]Hoja1!C2821+1,[4]Hoja1!P2821,DiasNOLaborables))","v":7},"",null,null,20]
[2811,20200617190426,43999,"WEB (MÓDULO DE SOLICITUD DE INFORMACIÓN HIDROMETEOROLÓGICA)","SOLICITUD DE INFORMACIÓN Y DOCUMENTOS","SOLICITUD DE INFORMACIÓN HIDROMETEOROLÓGICA","NO","GRUPO DE ATENCIÓN AL CIUDADANO",44005,null,null,{"$f":"IFERROR(WORKDAY(C2822,R2822,DiasNOLaborables),\"\")","v":44029},{"$f":"+IF(C2822=\"\",\"\",IF(I2822=\"\",\"\",(IF(I2822<=L2822,\"A TIEMPO\",\"FUERA DE TIEMPO\"))))","v":"A TIEMPO"},{"$f":"IF(I2822=\"\",\"\",NETWORKDAYS([4]Hoja1!C2822+1,[4]Hoja1!P2822,DiasNOLaborables))","v":7},"",null,null,{"$f":"IFERROR(VLOOKUP(E2822,$Z$50:$AA$63,2),\"\")","v":20}]
[2812,20200617185602,43999,"WEB (MÓDULO DE SOLICITUD DE INFORMACIÓN HIDROMETEOROLÓGICA)","SOLICITUD DE INFORMACIÓN Y DOCUMENTOS","SOLICITUD DE INFORMACIÓN HIDROMETEOROLÓGICA","NO","GRUPO DE ATENCIÓN AL CIUDADANO",44005,null,null,{"$f":"IFERROR(WORKDAY(C2823,R2823,DiasNOLaborables),\"\")","v":44029},{"$f":"+IF(C2823=\"\",\"\",IF(I2823=\"\",\"\",(IF(I2823<=L2823,\"A TIEMPO\",\"FUERA DE TIEMPO\"))))","v":"A TIEMPO"},{"$f":"IF(I2823=\"\",\"\",NETWORKDAYS([4]Hoja1!C2823+1,[4]Hoja1!P2823,DiasNOLaborables))","v":7},"",null,null,20]
[2813,20200617185046,43999,"WEB (MÓDULO DE SOLICITUD DE INFORMACIÓN HIDROMETEOROLÓGICA)","SOLICITUD DE INFORMACIÓN Y DOCUMENTOS","SOLICITUD DE INFORMACIÓN HIDROMETEOROLÓGICA","NO","GRUPO DE ATENCIÓN AL CIUDADANO",44005,null,null,{"$f":"IFERROR(WORKDAY(C2824,R2824,DiasNOLaborables),\"\")","v":44029},{"$f":"+IF(C2824=\"\",\"\",IF(I2824=\"\",\"\",(IF(I2824<=L2824,\"A TIEMPO\",\"FUERA DE TIEMPO\"))))","v":"A TIEMPO"},{"$f":"IF(I2824=\"\",\"\",NETWORKDAYS([4]Hoja1!C2824+1,[4]Hoja1!P2824,DiasNOLaborables))","v":7},"",null,null,20]
[2814,20200617184437,43999,"WEB (MÓDULO DE SOLICITUD DE INFORMACIÓN HIDROMETEOROLÓGICA)","SOLICITUD DE INFORMACIÓN Y DOCUMENTOS","SOLICITUD DE INFORMACIÓN HIDROMETEOROLÓGICA","NO","GRUPO DE ATENCIÓN AL CIUDADANO",44005,null,null,{"$f":"IFERROR(WORKDAY(C2825,R2825,DiasNOLaborables),\"\")","v":44029},{"$f":"+IF(C2825=\"\",\"\",IF(I2825=\"\",\"\",(IF(I2825<=L2825,\"A TIEMPO\",\"FUERA DE TIEMPO\"))))","v":"A TIEMPO"},{"$f":"IF(I2825=\"\",\"\",NETWORKDAYS([4]Hoja1!C2825+1,[4]Hoja1!P2825,DiasNOLaborables))","v":9},"",null,null,20]
[2815,20200617183741,43999,"WEB (MÓDULO DE SOLICITUD DE INFORMACIÓN HIDROMETEOROLÓGICA)","SOLICITUD DE INFORMACIÓN Y DOCUMENTOS","SOLICITUD DE INFORMACIÓN HIDROMETEOROLÓGICA","NO","GRUPO DE ATENCIÓN AL CIUDADANO",44005,null,null,{"$f":"IFERROR(WORKDAY(C2826,R2826,DiasNOLaborables),\"\")","v":44029},{"$f":"+IF(C2826=\"\",\"\",IF(I2826=\"\",\"\",(IF(I2826<=L2826,\"A TIEMPO\",\"FUERA DE TIEMPO\"))))","v":"A TIEMPO"},{"$f":"IF(I2826=\"\",\"\",NETWORKDAYS([4]Hoja1!C2826+1,[4]Hoja1!P2826,DiasNOLaborables))","v":9},"",null,null,20]
[2816,20200617182905,43999,"WEB (MÓDULO DE SOLICITUD DE INFORMACIÓN HIDROMETEOROLÓGICA)","SOLICITUD DE INFORMACIÓN Y DOCUMENTOS","SOLICITUD DE INFORMACIÓN HIDROMETEOROLÓGICA","NO","GRUPO DE ATENCIÓN AL CIUDADANO",44005,null,null,{"$f":"IFERROR(WORKDAY(C2827,R2827,DiasNOLaborables),\"\")","v":44029},{"$f":"+IF(C2827=\"\",\"\",IF(I2827=\"\",\"\",(IF(I2827<=L2827,\"A TIEMPO\",\"FUERA DE TIEMPO\"))))","v":"A TIEMPO"},{"$f":"IF(I2827=\"\",\"\",NETWORKDAYS([4]Hoja1!C2827+1,[4]Hoja1!P2827,DiasNOLaborables))","v":9},"",null,null,20]
[2817,20200617181636,43999,"WEB (MÓDULO DE SOLICITUD DE INFORMACIÓN HIDROMETEOROLÓGICA)","SOLICITUD DE INFORMACIÓN Y DOCUMENTOS","SOLICITUD DE INFORMACIÓN HIDROMETEOROLÓGICA","NO","GRUPO DE ATENCIÓN AL CIUDADANO",44005,null,null,{"$f":"IFERROR(WORKDAY(C2828,R2828,DiasNOLaborables),\"\")","v":44029},{"$f":"+IF(C2828=\"\",\"\",IF(I2828=\"\",\"\",(IF(I2828<=L2828,\"A TIEMPO\",\"FUERA DE TIEMPO\"))))","v":"A TIEMPO"},{"$f":"IF(I2828=\"\",\"\",NETWORKDAYS([4]Hoja1!C2828+1,[4]Hoja1!P2828,DiasNOLaborables))","v":9},"",null,null,20]
[2818,20200617181353,43999,"WEB (MÓDULO DE SOLICITUD DE INFORMACIÓN HIDROMETEOROLÓGICA)","SOLICITUD DE INFORMACIÓN Y DOCUMENTOS","SOLICITUD DE INFORMACIÓN HIDROMETEOROLÓGICA","NO","GRUPO DE ATENCIÓN AL CIUDADANO",44005,null,null,{"$f":"IFERROR(WORKDAY(C2829,R2829,DiasNOLaborables),\"\")","v":44029},{"$f":"+IF(C2829=\"\",\"\",IF(I2829=\"\",\"\",(IF(I2829<=L2829,\"A TIEMPO\",\"FUERA DE TIEMPO\"))))","v":"A TIEMPO"},{"$f":"IF(I2829=\"\",\"\",NETWORKDAYS([4]Hoja1!C2829+1,[4]Hoja1!P2829,DiasNOLaborables))","v":9},"",null,null,20]
[2819,20200617181158,43999,"WEB (MÓDULO DE SOLICITUD DE INFORMACIÓN HIDROMETEOROLÓGICA)","SOLICITUD DE INFORMACIÓN Y DOCUMENTOS","SOLICITUD DE INFORMACIÓN HIDROMETEOROLÓGICA","NO","GRUPO DE ATENCIÓN AL CIUDADANO",44005,null,null,{"$f":"IFERROR(WORKDAY(C2830,R2830,DiasNOLaborables),\"\")","v":44029},{"$f":"+IF(C2830=\"\",\"\",IF(I2830=\"\",\"\",(IF(I2830<=L2830,\"A TIEMPO\",\"FUERA DE TIEMPO\"))))","v":"A TIEMPO"},{"$f":"IF(I2830=\"\",\"\",NETWORKDAYS([4]Hoja1!C2830+1,[4]Hoja1!P2830,DiasNOLaborables))","v":8},"",null,null,20]
[2820,20200617180843,43999,"WEB (MÓDULO DE SOLICITUD DE INFORMACIÓN HIDROMETEOROLÓGICA)","SOLICITUD DE INFORMACIÓN Y DOCUMENTOS","SOLICITUD DE INFORMACIÓN HIDROMETEOROLÓGICA","NO","GRUPO DE ATENCIÓN AL CIUDADANO",44005,null,null,{"$f":"IFERROR(WORKDAY(C2831,R2831,DiasNOLaborables),\"\")","v":44029},{"$f":"+IF(C2831=\"\",\"\",IF(I2831=\"\",\"\",(IF(I2831<=L2831,\"A TIEMPO\",\"FUERA DE TIEMPO\"))))","v":"A TIEMPO"},{"$f":"IF(I2831=\"\",\"\",NETWORKDAYS([4]Hoja1!C2831+1,[4]Hoja1!P2831,DiasNOLaborables))","v":8},"",null,null,20]
[2821,20200617180550,43999,"WEB (MÓDULO DE SOLICITUD DE INFORMACIÓN HIDROMETEOROLÓGICA)","SOLICITUD DE INFORMACIÓN Y DOCUMENTOS","SOLICITUD DE INFORMACIÓN HIDROMETEOROLÓGICA","NO","GRUPO DE ATENCIÓN AL CIUDADANO",44005,null,null,{"$f":"IFERROR(WORKDAY(C2832,R2832,DiasNOLaborables),\"\")","v":44029},{"$f":"+IF(C2832=\"\",\"\",IF(I2832=\"\",\"\",(IF(I2832<=L2832,\"A TIEMPO\",\"FUERA DE TIEMPO\"))))","v":"A TIEMPO"},{"$f":"IF(I2832=\"\",\"\",NETWORKDAYS([4]Hoja1!C2832+1,[4]Hoja1!P2832,DiasNOLaborables))","v":8},"",null,null,20]
[2822,20200617180303,43999,"WEB (MÓDULO DE SOLICITUD DE INFORMACIÓN HIDROMETEOROLÓGICA)","SOLICITUD DE INFORMACIÓN Y DOCUMENTOS","SOLICITUD DE INFORMACIÓN HIDROMETEOROLÓGICA","NO","GRUPO DE ATENCIÓN AL CIUDADANO",44005,null,null,{"$f":"IFERROR(WORKDAY(C2833,R2833,DiasNOLaborables),\"\")","v":44029},{"$f":"+IF(C2833=\"\",\"\",IF(I2833=\"\",\"\",(IF(I2833<=L2833,\"A TIEMPO\",\"FUERA DE TIEMPO\"))))","v":"A TIEMPO"},{"$f":"IF(I2833=\"\",\"\",NETWORKDAYS([4]Hoja1!C2833+1,[4]Hoja1!P2833,DiasNOLaborables))","v":8},"",null,null,20]
[2823,20200617172728,43999,"WEB (MÓDULO DE SOLICITUD DE INFORMACIÓN HIDROMETEOROLÓGICA)","SOLICITUD DE INFORMACIÓN Y DOCUMENTOS","SOLICITUD DE INFORMACIÓN HIDROMETEOROLÓGICA","NO","GRUPO DE ATENCIÓN AL CIUDADANO",44005,null,null,{"$f":"IFERROR(WORKDAY(C2834,R2834,DiasNOLaborables),\"\")","v":44029},{"$f":"+IF(C2834=\"\",\"\",IF(I2834=\"\",\"\",(IF(I2834<=L2834,\"A TIEMPO\",\"FUERA DE TIEMPO\"))))","v":"A TIEMPO"},{"$f":"IF(I2834=\"\",\"\",NETWORKDAYS([4]Hoja1!C2834+1,[4]Hoja1!P2834,DiasNOLaborables))","v":8},"",null,null,20]
[2824,20200617171818,43999,"WEB (MÓDULO DE SOLICITUD DE INFORMACIÓN HIDROMETEOROLÓGICA)","SOLICITUD DE INFORMACIÓN Y DOCUMENTOS","SOLICITUD DE INFORMACIÓN HIDROMETEOROLÓGICA","NO","GRUPO DE ATENCIÓN AL CIUDADANO",44005,null,null,{"$f":"IFERROR(WORKDAY(C2835,R2835,DiasNOLaborables),\"\")","v":44029},{"$f":"+IF(C2835=\"\",\"\",IF(I2835=\"\",\"\",(IF(I2835<=L2835,\"A TIEMPO\",\"FUERA DE TIEMPO\"))))","v":"A TIEMPO"},{"$f":"IF(I2835=\"\",\"\",NETWORKDAYS([4]Hoja1!C2835+1,[4]Hoja1!P2835,DiasNOLaborables))","v":8},"",null,null,20]
[2825,20200617094516,43999,"WEB (MÓDULO DE SOLICITUD DE INFORMACIÓN HIDROMETEOROLÓGICA)","SOLICITUD DE INFORMACIÓN Y DOCUMENTOS","SOLICITUD DE INFORMACIÓN HIDROMETEOROLÓGICA","NO","GRUPO DE ATENCIÓN AL CIUDADANO",44005,null,null,{"$f":"IFERROR(WORKDAY(C2836,R2836,DiasNOLaborables),\"\")","v":44029},{"$f":"+IF(C2836=\"\",\"\",IF(I2836=\"\",\"\",(IF(I2836<=L2836,\"A TIEMPO\",\"FUERA DE TIEMPO\"))))","v":"A TIEMPO"},{"$f":"IF(I2836=\"\",\"\",NETWORKDAYS([4]Hoja1!C2836+1,[4]Hoja1!P2836,DiasNOLaborables))","v":8},"",null,null,20]
[2826,20200617093928,43999,"WEB (MÓDULO DE SOLICITUD DE INFORMACIÓN HIDROMETEOROLÓGICA)","SOLICITUD DE INFORMACIÓN Y DOCUMENTOS","SOLICITUD DE INFORMACIÓN HIDROMETEOROLÓGICA","NO","GRUPO DE ATENCIÓN AL CIUDADANO",44005,null,null,{"$f":"IFERROR(WORKDAY(C2837,R2837,DiasNOLaborables),\"\")","v":44029},{"$f":"+IF(C2837=\"\",\"\",IF(I2837=\"\",\"\",(IF(I2837<=L2837,\"A TIEMPO\",\"FUERA DE TIEMPO\"))))","v":"A TIEMPO"},{"$f":"IF(I2837=\"\",\"\",NETWORKDAYS([4]Hoja1!C2837+1,[4]Hoja1!P2837,DiasNOLaborables))","v":8},"",null,null,20]
[2827,20200617093328,43999,"WEB (MÓDULO DE SOLICITUD DE INFORMACIÓN HIDROMETEOROLÓGICA)","SOLICITUD DE INFORMACIÓN Y DOCUMENTOS","SOLICITUD DE INFORMACIÓN HIDROMETEOROLÓGICA","NO","GRUPO DE ATENCIÓN AL CIUDADANO",44005,null,null,{"$f":"IFERROR(WORKDAY(C2838,R2838,DiasNOLaborables),\"\")","v":44029},{"$f":"+IF(C2838=\"\",\"\",IF(I2838=\"\",\"\",(IF(I2838<=L2838,\"A TIEMPO\",\"FUERA DE TIEMPO\"))))","v":"A TIEMPO"},{"$f":"IF(I2838=\"\",\"\",NETWORKDAYS([4]Hoja1!C2838+1,[4]Hoja1!P2838,DiasNOLaborables))","v":8},"",null,null,20]
[2828,20200617081410,43999,"WEB (MÓDULO DE SOLICITUD DE INFORMACIÓN HIDROMETEOROLÓGICA)","SOLICITUD DE INFORMACIÓN Y DOCUMENTOS","SOLICITUD DE INFORMACIÓN HIDROMETEOROLÓGICA","NO","GRUPO DE ATENCIÓN AL CIUDADANO",44005,null,null,{"$f":"IFERROR(WORKDAY(C2839,R2839,DiasNOLaborables),\"\")","v":44029},{"$f":"+IF(C2839=\"\",\"\",IF(I2839=\"\",\"\",(IF(I2839<=L2839,\"A TIEMPO\",\"FUERA DE TIEMPO\"))))","v":"A TIEMPO"},{"$f":"IF(I2839=\"\",\"\",NETWORKDAYS([4]Hoja1!C2839+1,[4]Hoja1!P2839,DiasNOLaborables))","v":8},"",null,null,20]
[2829,20200617080632,43999,"WEB (MÓDULO DE SOLICITUD DE INFORMACIÓN HIDROMETEOROLÓGICA)","SOLICITUD DE INFORMACIÓN Y DOCUMENTOS","SOLICITUD DE INFORMACIÓN HIDROMETEOROLÓGICA","NO","GRUPO DE ATENCIÓN AL CIUDADANO",44005,null,null,{"$f":"IFERROR(WORKDAY(C2840,R2840,DiasNOLaborables),\"\")","v":44029},{"$f":"+IF(C2840=\"\",\"\",IF(I2840=\"\",\"\",(IF(I2840<=L2840,\"A TIEMPO\",\"FUERA DE TIEMPO\"))))","v":"A TIEMPO"},{"$f":"IF(I2840=\"\",\"\",NETWORKDAYS([4]Hoja1!C2840+1,[4]Hoja1!P2840,DiasNOLaborables))","v":8},"",null,null,20]
[2830,20209050049802,43999,"CORREO ELECTRÓNICO","SOLICITUD DE INFORMACIÓN Y DOCUMENTOS","SOLICITUD DE INFORMACIÓN HIDROMETEOROLÓGICA","SI","SUBDIRECCIÓN DE ESTUDIOS AMBIENTALES",44003,null,null,{"$f":"IFERROR(WORKDAY(C2841,R2841,DiasNOLaborables),\"\")","v":44029},{"$f":"+IF(C2841=\"\",\"\",IF(I2841=\"\",\"\",(IF(I2841<=L2841,\"A TIEMPO\",\"FUERA DE TIEMPO\"))))","v":"A TIEMPO"},{"$f":"IF(I2841=\"\",\"\",NETWORKDAYS([4]Hoja1!C2841+1,[4]Hoja1!P2841,DiasNOLaborables))","v":8},"",null,null,20]
[2831,20209050049972,44000,"MODULO CONTACTENOS","SOLICITUD DE INFORMACIÓN Y DOCUMENTOS","ADMINISTRATIVA","SI","GRUPO DE ADMINISTRACIÓN Y DESARROLLO DEL TALENTO HUMANO",44007,null,null,{"$f":"IFERROR(WORKDAY(C2842,R2842,DiasNOLaborables),\"\")","v":44033},{"$f":"+IF(C2842=\"\",\"\",IF(I2842=\"\",\"\",(IF(I2842<=L2842,\"A TIEMPO\",\"FUERA DE TIEMPO\"))))","v":"A TIEMPO"},{"$f":"IF(I2842=\"\",\"\",NETWORKDAYS([4]Hoja1!C2842+1,[4]Hoja1!P2842,DiasNOLaborables))","v":8},"",null,null,20]
[2832,20209050050022,44000,"CORREO ELECTRÓNICO","SOLICITUD DE INFORMACIÓN Y DOCUMENTOS","ADMINISTRATIVA","SI","GRUPO DE ADMINISTRACIÓN Y DESARROLLO DEL TALENTO HUMANO",44000,null,null,{"$f":"IFERROR(WORKDAY(C2843,R2843,DiasNOLaborables),\"\")","v":44033},{"$f":"+IF(C2843=\"\",\"\",IF(I2843=\"\",\"\",(IF(I2843<=L2843,\"A TIEMPO\",\"FUERA DE TIEMPO\"))))","v":"A TIEMPO"},{"$f":"IF(I2843=\"\",\"\",NETWORKDAYS([4]Hoja1!C2843+1,[4]Hoja1!P2843,DiasNOLaborables))","v":8},"",null,null,20]
[2833,20209050050042,44000,"CORREO ELECTRÓNICO","SOLICITUD DE INFORMACIÓN Y DOCUMENTOS","SOLICITUD DE INFORMACIÓN HIDROMETEOROLÓGICA","SI","SUBDIRECCIÓN DE ESTUDIOS AMBIENTALES",44000,null,null,{"$f":"IFERROR(WORKDAY(C2844,R2844,DiasNOLaborables),\"\")","v":44033},{"$f":"+IF(C2844=\"\",\"\",IF(I2844=\"\",\"\",(IF(I2844<=L2844,\"A TIEMPO\",\"FUERA DE TIEMPO\"))))","v":"A TIEMPO"},{"$f":"IF(I2844=\"\",\"\",NETWORKDAYS([4]Hoja1!C2844+1,[4]Hoja1!P2844,DiasNOLaborables))","v":8},"",null,null,20]
[2834,20209050050052,44000,"CORREO ELECTRÓNICO","CERTIFICACIONES DE TIEMPO, CLIMA Y EVENTOS HIDROLÓGICOS","CERTIFICACIONES DE TIEMPO Y CLIMA","SI","SUBDIRECCIÓN DE METEOROLOGÍA",44005,null,null,{"$f":"IFERROR(WORKDAY(C2845,R2845,DiasNOLaborables),\"\")","v":44047},{"$f":"+IF(C2845=\"\",\"\",IF(I2845=\"\",\"\",(IF(I2845<=L2845,\"A TIEMPO\",\"FUERA DE TIEMPO\"))))","v":"A TIEMPO"},{"$f":"IF(I2845=\"\",\"\",NETWORKDAYS([4]Hoja1!C2845+1,[4]Hoja1!P2845,DiasNOLaborables))","v":8},"",null,null,30]
[2835,20209050050082,44000,"CORREO ELECTRÓNICO","CERTIFICACIONES DE TIEMPO, CLIMA Y EVENTOS HIDROLÓGICOS","CERTIFICACIONES DE TIEMPO Y CLIMA","SI","SUBDIRECCIÓN DE METEOROLOGÍA",44014,null,null,{"$f":"IFERROR(WORKDAY(C2846,R2846,DiasNOLaborables),\"\")","v":44047},{"$f":"+IF(C2846=\"\",\"\",IF(I2846=\"\",\"\",(IF(I2846<=L2846,\"A TIEMPO\",\"FUERA DE TIEMPO\"))))","v":"A TIEMPO"},{"$f":"IF(I2846=\"\",\"\",NETWORKDAYS([4]Hoja1!C2846+1,[4]Hoja1!P2846,DiasNOLaborables))","v":8},"",null,null,30]
[2836,20209050050092,44000,"CORREO ELECTRÓNICO","CERTIFICACIONES DE TIEMPO, CLIMA Y EVENTOS HIDROLÓGICOS","CERTIFICACIONES DE TIEMPO Y CLIMA","SI","SUBDIRECCIÓN DE METEOROLOGÍA",44014,null,null,{"$f":"IFERROR(WORKDAY(C2847,R2847,DiasNOLaborables),\"\")","v":44047},{"$f":"+IF(C2847=\"\",\"\",IF(I2847=\"\",\"\",(IF(I2847<=L2847,\"A TIEMPO\",\"FUERA DE TIEMPO\"))))","v":"A TIEMPO"},{"$f":"IF(I2847=\"\",\"\",NETWORKDAYS([4]Hoja1!C2847+1,[4]Hoja1!P2847,DiasNOLaborables))","v":8},"",null,null,30]
[2837,20209050050102,44000,"CORREO ELECTRÓNICO","CERTIFICACIONES DE TIEMPO, CLIMA Y EVENTOS HIDROLÓGICOS","CERTIFICACIONES DE TIEMPO Y CLIMA","SI","SUBDIRECCIÓN DE METEOROLOGÍA",44001,null,null,{"$f":"IFERROR(WORKDAY(C2848,R2848,DiasNOLaborables),\"\")","v":44047},{"$f":"+IF(C2848=\"\",\"\",IF(I2848=\"\",\"\",(IF(I2848<=L2848,\"A TIEMPO\",\"FUERA DE TIEMPO\"))))","v":"A TIEMPO"},{"$f":"IF(I2848=\"\",\"\",NETWORKDAYS([4]Hoja1!C2848+1,[4]Hoja1!P2848,DiasNOLaborables))","v":8},"",null,null,30]
[2838,20209050050112,44000,"CORREO ELECTRÓNICO","CERTIFICACIONES DE TIEMPO, CLIMA Y EVENTOS HIDROLÓGICOS","CERTIFICACIONES DE TIEMPO Y CLIMA","SI","SUBDIRECCIÓN DE METEOROLOGÍA",44013,null,null,{"$f":"IFERROR(WORKDAY(C2849,R2849,DiasNOLaborables),\"\")","v":44047},{"$f":"+IF(C2849=\"\",\"\",IF(I2849=\"\",\"\",(IF(I2849<=L2849,\"A TIEMPO\",\"FUERA DE TIEMPO\"))))","v":"A TIEMPO"},{"$f":"IF(I2849=\"\",\"\",NETWORKDAYS([4]Hoja1!C2849+1,[4]Hoja1!P2849,DiasNOLaborables))","v":9},"",null,null,30]
[2839,20209050050122,44000,"CORREO ELECTRÓNICO","CERTIFICACIONES DE TIEMPO, CLIMA Y EVENTOS HIDROLÓGICOS","CERTIFICACIONES DE TIEMPO Y CLIMA","SI","SUBDIRECCIÓN DE METEOROLOGÍA",44013,null,null,{"$f":"IFERROR(WORKDAY(C2850,R2850,DiasNOLaborables),\"\")","v":44047},{"$f":"+IF(C2850=\"\",\"\",IF(I2850=\"\",\"\",(IF(I2850<=L2850,\"A TIEMPO\",\"FUERA DE TIEMPO\"))))","v":"A TIEMPO"},{"$f":"IF(I2850=\"\",\"\",NETWORKDAYS([4]Hoja1!C2850+1,[4]Hoja1!P2850,DiasNOLaborables))","v":8},"",null,null,30]
[2840,20209050050132,44000,"CORREO ELECTRÓNICO","CERTIFICACIONES DE TIEMPO, CLIMA Y EVENTOS HIDROLÓGICOS","CERTIFICACIONES DE TIEMPO Y CLIMA","SI","SUBDIRECCIÓN DE METEOROLOGÍA",44013,null,null,{"$f":"IFERROR(WORKDAY(C2851,R2851,DiasNOLaborables),\"\")","v":44047},{"$f":"+IF(C2851=\"\",\"\",IF(I2851=\"\",\"\",(IF(I2851<=L2851,\"A TIEMPO\",\"FUERA DE TIEMPO\"))))","v":"A TIEMPO"},{"$f":"IF(I2851=\"\",\"\",NETWORKDAYS([4]Hoja1!C2851+1,[4]Hoja1!P2851,DiasNOLaborables))","v":8},"",null,null,30]
[2841,20209050050142,44000,"CORREO ELECTRÓNICO","CERTIFICACIONES DE TIEMPO, CLIMA Y EVENTOS HIDROLÓGICOS","CERTIFICACIONES DE TIEMPO Y CLIMA","SI","SUBDIRECCIÓN DE METEOROLOGÍA",44001,null,null,{"$f":"IFERROR(WORKDAY(C2852,R2852,DiasNOLaborables),\"\")","v":44047},{"$f":"+IF(C2852=\"\",\"\",IF(I2852=\"\",\"\",(IF(I2852<=L2852,\"A TIEMPO\",\"FUERA DE TIEMPO\"))))","v":"A TIEMPO"},{"$f":"IF(I2852=\"\",\"\",NETWORKDAYS([4]Hoja1!C2852+1,[4]Hoja1!P2852,DiasNOLaborables))","v":8},"",null,null,30]
[2842,20209050050152,44000,"CORREO ELECTRÓNICO","CERTIFICACIONES DE TIEMPO, CLIMA Y EVENTOS HIDROLÓGICOS","CERTIFICACIONES DE TIEMPO Y CLIMA","SI","SUBDIRECCIÓN DE METEOROLOGÍA",44003,null,null,{"$f":"IFERROR(WORKDAY(C2853,R2853,DiasNOLaborables),\"\")","v":44047},{"$f":"+IF(C2853=\"\",\"\",IF(I2853=\"\",\"\",(IF(I2853<=L2853,\"A TIEMPO\",\"FUERA DE TIEMPO\"))))","v":"A TIEMPO"},{"$f":"IF(I2853=\"\",\"\",NETWORKDAYS([4]Hoja1!C2853+1,[4]Hoja1!P2853,DiasNOLaborables))","v":8},"",null,null,30]
[2843,20209050049952,44000,"MODULO CONTACTENOS","SOLICITUD DE INFORMACIÓN Y DOCUMENTOS","SOLICITUD DE INFORMACIÓN HIDROMETEOROLÓGICA","NO","GRUPO DE ATENCIÓN AL CIUDADANO",44012,null,null,{"$f":"IFERROR(WORKDAY(C2854,R2854,DiasNOLaborables),\"\")","v":44033},{"$f":"+IF(C2854=\"\",\"\",IF(I2854=\"\",\"\",(IF(I2854<=L2854,\"A TIEMPO\",\"FUERA DE TIEMPO\"))))","v":"A TIEMPO"},{"$f":"IF(I2854=\"\",\"\",NETWORKDAYS([4]Hoja1!C2854+1,[4]Hoja1!P2854,DiasNOLaborables))","v":8},"",null,null,20]
[2844,20209050049962,44000,"MODULO CONTACTENOS","SOLICITUD DE INFORMACIÓN Y DOCUMENTOS","SOLICITUD DE INFORMACIÓN HIDROMETEOROLÓGICA","NO","GRUPO DE ATENCIÓN AL CIUDADANO",44012,null,null,{"$f":"IFERROR(WORKDAY(C2855,R2855,DiasNOLaborables),\"\")","v":44033},{"$f":"+IF(C2855=\"\",\"\",IF(I2855=\"\",\"\",(IF(I2855<=L2855,\"A TIEMPO\",\"FUERA DE TIEMPO\"))))","v":"A TIEMPO"},{"$f":"IF(I2855=\"\",\"\",NETWORKDAYS([4]Hoja1!C2855+1,[4]Hoja1!P2855,DiasNOLaborables))","v":8},"",null,null,20]
[2845,20209050049982,44000,"MODULO CONTACTENOS","SOLICITUD DE INFORMACIÓN Y DOCUMENTOS","SOLICITUD DE INFORMACIÓN HIDROMETEOROLÓGICA","NO","GRUPO DE ATENCIÓN AL CIUDADANO",44012,null,null,{"$f":"IFERROR(WORKDAY(C2856,R2856,DiasNOLaborables),\"\")","v":44033},{"$f":"+IF(C2856=\"\",\"\",IF(I2856=\"\",\"\",(IF(I2856<=L2856,\"A TIEMPO\",\"FUERA DE TIEMPO\"))))","v":"A TIEMPO"},{"$f":"IF(I2856=\"\",\"\",NETWORKDAYS([4]Hoja1!C2856+1,[4]Hoja1!P2856,DiasNOLaborables))","v":8},"",null,null,20]
[2846,20209050049992,44000,"MODULO CONTACTENOS","SOLICITUD DE INFORMACIÓN Y DOCUMENTOS","SOLICITUD DE INFORMACIÓN HIDROMETEOROLÓGICA","NO","GRUPO DE ATENCIÓN AL CIUDADANO",44012,null,null,{"$f":"IFERROR(WORKDAY(C2857,R2857,DiasNOLaborables),\"\")","v":44033},{"$f":"+IF(C2857=\"\",\"\",IF(I2857=\"\",\"\",(IF(I2857<=L2857,\"A TIEMPO\",\"FUERA DE TIEMPO\"))))","v":"A TIEMPO"},{"$f":"IF(I2857=\"\",\"\",NETWORKDAYS([4]Hoja1!C2857+1,[4]Hoja1!P2857,DiasNOLaborables))","v":8},"",null,null,20]
[2847,20209050050012,44000,"MODULO CONTACTENOS","SOLICITUD DE INFORMACIÓN Y DOCUMENTOS","SOLICITUD DE INFORMACIÓN HIDROMETEOROLÓGICA","NO","GRUPO DE ATENCIÓN AL CIUDADANO",44012,null,null,{"$f":"IFERROR(WORKDAY(C2858,R2858,DiasNOLaborables),\"\")","v":44033},{"$f":"+IF(C2858=\"\",\"\",IF(I2858=\"\",\"\",(IF(I2858<=L2858,\"A TIEMPO\",\"FUERA DE TIEMPO\"))))","v":"A TIEMPO"},{"$f":"IF(I2858=\"\",\"\",NETWORKDAYS([4]Hoja1!C2858+1,[4]Hoja1!P2858,DiasNOLaborables))","v":8},"",null,null,20]
[2848,20209050050202,44000,"MODULO CONTACTENOS","SOLICITUD DE INFORMACIÓN Y DOCUMENTOS","SOLICITUD DE INFORMACIÓN HIDROMETEOROLÓGICA","NO","GRUPO DE ATENCIÓN AL CIUDADANO",44012,null,null,{"$f":"IFERROR(WORKDAY(C2859,R2859,DiasNOLaborables),\"\")","v":44033},{"$f":"+IF(C2859=\"\",\"\",IF(I2859=\"\",\"\",(IF(I2859<=L2859,\"A TIEMPO\",\"FUERA DE TIEMPO\"))))","v":"A TIEMPO"},{"$f":"IF(I2859=\"\",\"\",NETWORKDAYS([4]Hoja1!C2859+1,[4]Hoja1!P2859,DiasNOLaborables))","v":8},"",null,null,20]
[2849,20200618190653,44000,"WEB (MÓDULO DE SOLICITUD DE INFORMACIÓN HIDROMETEOROLÓGICA)","SOLICITUD DE INFORMACIÓN Y DOCUMENTOS","SOLICITUD DE INFORMACIÓN HIDROMETEOROLÓGICA","NO","GRUPO DE ATENCIÓN AL CIUDADANO",44015,null,null,{"$f":"IFERROR(WORKDAY(C2860,R2860,DiasNOLaborables),\"\")","v":44033},{"$f":"+IF(C2860=\"\",\"\",IF(I2860=\"\",\"\",(IF(I2860<=L2860,\"A TIEMPO\",\"FUERA DE TIEMPO\"))))","v":"A TIEMPO"},{"$f":"IF(I2860=\"\",\"\",NETWORKDAYS([4]Hoja1!C2860+1,[4]Hoja1!P2860,DiasNOLaborables))","v":8},"",null,null,20]
[2850,20200618182246,44000,"WEB (MÓDULO DE SOLICITUD DE INFORMACIÓN HIDROMETEOROLÓGICA)","SOLICITUD DE INFORMACIÓN Y DOCUMENTOS","SOLICITUD DE INFORMACIÓN HIDROMETEOROLÓGICA","NO","GRUPO DE ATENCIÓN AL CIUDADANO",44015,null,null,{"$f":"IFERROR(WORKDAY(C2861,R2861,DiasNOLaborables),\"\")","v":44033},{"$f":"+IF(C2861=\"\",\"\",IF(I2861=\"\",\"\",(IF(I2861<=L2861,\"A TIEMPO\",\"FUERA DE TIEMPO\"))))","v":"A TIEMPO"},{"$f":"IF(I2861=\"\",\"\",NETWORKDAYS([4]Hoja1!C2861+1,[4]Hoja1!P2861,DiasNOLaborables))","v":8},"",null,null,20]
[2851,20200618181557,44000,"WEB (MÓDULO DE SOLICITUD DE INFORMACIÓN HIDROMETEOROLÓGICA)","SOLICITUD DE INFORMACIÓN Y DOCUMENTOS","SOLICITUD DE INFORMACIÓN HIDROMETEOROLÓGICA","NO","GRUPO DE ATENCIÓN AL CIUDADANO",44015,null,null,{"$f":"IFERROR(WORKDAY(C2862,R2862,DiasNOLaborables),\"\")","v":44033},{"$f":"+IF(C2862=\"\",\"\",IF(I2862=\"\",\"\",(IF(I2862<=L2862,\"A TIEMPO\",\"FUERA DE TIEMPO\"))))","v":"A TIEMPO"},{"$f":"IF(I2862=\"\",\"\",NETWORKDAYS([4]Hoja1!C2862+1,[4]Hoja1!P2862,DiasNOLaborables))","v":8},"",null,null,20]
[2852,20200618170622,44000,"WEB (MÓDULO DE SOLICITUD DE INFORMACIÓN HIDROMETEOROLÓGICA)","SOLICITUD DE INFORMACIÓN Y DOCUMENTOS","SOLICITUD DE INFORMACIÓN HIDROMETEOROLÓGICA","NO","GRUPO DE ATENCIÓN AL CIUDADANO",44015,null,null,{"$f":"IFERROR(WORKDAY(C2863,R2863,DiasNOLaborables),\"\")","v":44033},{"$f":"+IF(C2863=\"\",\"\",IF(I2863=\"\",\"\",(IF(I2863<=L2863,\"A TIEMPO\",\"FUERA DE TIEMPO\"))))","v":"A TIEMPO"},{"$f":"IF(I2863=\"\",\"\",NETWORKDAYS([4]Hoja1!C2863+1,[4]Hoja1!P2863,DiasNOLaborables))","v":7},"",null,null,20]
[2853,20200618165913,44000,"WEB (MÓDULO DE SOLICITUD DE INFORMACIÓN HIDROMETEOROLÓGICA)","SOLICITUD DE INFORMACIÓN Y DOCUMENTOS","SOLICITUD DE INFORMACIÓN HIDROMETEOROLÓGICA","NO","GRUPO DE ATENCIÓN AL CIUDADANO",44015,null,null,{"$f":"IFERROR(WORKDAY(C2864,R2864,DiasNOLaborables),\"\")","v":44033},{"$f":"+IF(C2864=\"\",\"\",IF(I2864=\"\",\"\",(IF(I2864<=L2864,\"A TIEMPO\",\"FUERA DE TIEMPO\"))))","v":"A TIEMPO"},{"$f":"IF(I2864=\"\",\"\",NETWORKDAYS([4]Hoja1!C2864+1,[4]Hoja1!P2864,DiasNOLaborables))","v":7},"",null,null,20]
[2854,20200618163347,44000,"WEB (MÓDULO DE SOLICITUD DE INFORMACIÓN HIDROMETEOROLÓGICA)","SOLICITUD DE INFORMACIÓN Y DOCUMENTOS","SOLICITUD DE INFORMACIÓN HIDROMETEOROLÓGICA","NO","GRUPO DE ATENCIÓN AL CIUDADANO",44015,null,null,{"$f":"IFERROR(WORKDAY(C2865,R2865,DiasNOLaborables),\"\")","v":44033},{"$f":"+IF(C2865=\"\",\"\",IF(I2865=\"\",\"\",(IF(I2865<=L2865,\"A TIEMPO\",\"FUERA DE TIEMPO\"))))","v":"A TIEMPO"},{"$f":"IF(I2865=\"\",\"\",NETWORKDAYS([4]Hoja1!C2865+1,[4]Hoja1!P2865,DiasNOLaborables))","v":7},"",null,null,20]
[{"$f":"IF(B2864<>\"\",A2865+1,\"\")","v":2855},20200618161652,44000,"WEB (MÓDULO DE SOLICITUD DE INFORMACIÓN HIDROMETEOROLÓGICA)","SOLICITUD DE INFORMACIÓN Y DOCUMENTOS","SOLICITUD DE INFORMACIÓN HIDROMETEOROLÓGICA","NO","GRUPO DE ATENCIÓN AL CIUDADANO",44015,null,null,{"$f":"IFERROR(WORKDAY(C2866,R2866,DiasNOLaborables),\"\")","v":44033},{"$f":"+IF(C2866=\"\",\"\",IF(I2866=\"\",\"\",(IF(I2866<=L2866,\"A TIEMPO\",\"FUERA DE TIEMPO\"))))","v":"A TIEMPO"},{"$f":"IF(I2866=\"\",\"\",NETWORKDAYS([4]Hoja1!C2866+1,[4]Hoja1!P2866,DiasNOLaborables))","v":7},"",null,null,20]
[2856,20200618161542,44000,"WEB (MÓDULO DE SOLICITUD DE INFORMACIÓN HIDROMETEOROLÓGICA)","SOLICITUD DE INFORMACIÓN Y DOCUMENTOS","SOLICITUD DE INFORMACIÓN HIDROMETEOROLÓGICA","NO","GRUPO DE ATENCIÓN AL CIUDADANO",44015,null,null,{"$f":"IFERROR(WORKDAY(C2867,R2867,DiasNOLaborables),\"\")","v":44033},{"$f":"+IF(C2867=\"\",\"\",IF(I2867=\"\",\"\",(IF(I2867<=L2867,\"A TIEMPO\",\"FUERA DE TIEMPO\"))))","v":"A TIEMPO"},{"$f":"IF(I2867=\"\",\"\",NETWORKDAYS([4]Hoja1!C2867+1,[4]Hoja1!P2867,DiasNOLaborables))","v":10},"",null,null,20]
[2857,20200618161211,44000,"WEB (MÓDULO DE SOLICITUD DE INFORMACIÓN HIDROMETEOROLÓGICA)","SOLICITUD DE INFORMACIÓN Y DOCUMENTOS","SOLICITUD DE INFORMACIÓN HIDROMETEOROLÓGICA","NO","GRUPO DE ATENCIÓN AL CIUDADANO",44015,null,null,{"$f":"IFERROR(WORKDAY(C2868,R2868,DiasNOLaborables),\"\")","v":44033},{"$f":"+IF(C2868=\"\",\"\",IF(I2868=\"\",\"\",(IF(I2868<=L2868,\"A TIEMPO\",\"FUERA DE TIEMPO\"))))","v":"A TIEMPO"},{"$f":"IF(I2868=\"\",\"\",NETWORKDAYS([4]Hoja1!C2868+1,[4]Hoja1!P2868,DiasNOLaborables))","v":10},{"$f":"IF(NETWORKDAYS(L2868+1,I2868,DiasNOLaborables)<=0,\"\",NETWORKDAYS(L2868+1,I2868,DiasNOLaborables))","v":""},null,null,20]
[2858,20200618150028,44000,"WEB (MÓDULO DE SOLICITUD DE INFORMACIÓN HIDROMETEOROLÓGICA)","SOLICITUD DE INFORMACIÓN Y DOCUMENTOS","SOLICITUD DE INFORMACIÓN HIDROMETEOROLÓGICA","NO","GRUPO DE ATENCIÓN AL CIUDADANO",44015,null,null,{"$f":"IFERROR(WORKDAY(C2869,R2869,DiasNOLaborables),\"\")","v":44033},{"$f":"+IF(C2869=\"\",\"\",IF(I2869=\"\",\"\",(IF(I2869<=L2869,\"A TIEMPO\",\"FUERA DE TIEMPO\"))))","v":"A TIEMPO"},{"$f":"IF(I2869=\"\",\"\",NETWORKDAYS([4]Hoja1!C2869+1,[4]Hoja1!P2869,DiasNOLaborables))","v":10},"",null,null,20]
[2859,20200618145948,44000,"WEB (MÓDULO DE SOLICITUD DE INFORMACIÓN HIDROMETEOROLÓGICA)","SOLICITUD DE INFORMACIÓN Y DOCUMENTOS","SOLICITUD DE INFORMACIÓN HIDROMETEOROLÓGICA","NO","GRUPO DE ATENCIÓN AL CIUDADANO",44015,null,null,{"$f":"IFERROR(WORKDAY(C2870,R2870,DiasNOLaborables),\"\")","v":44033},{"$f":"+IF(C2870=\"\",\"\",IF(I2870=\"\",\"\",(IF(I2870<=L2870,\"A TIEMPO\",\"FUERA DE TIEMPO\"))))","v":"A TIEMPO"},{"$f":"IF(I2870=\"\",\"\",NETWORKDAYS([4]Hoja1!C2870+1,[4]Hoja1!P2870,DiasNOLaborables))","v":10},"",null,null,20]
[2860,20200618145906,44000,"WEB (MÓDULO DE SOLICITUD DE INFORMACIÓN HIDROMETEOROLÓGICA)","SOLICITUD DE INFORMACIÓN Y DOCUMENTOS","SOLICITUD DE INFORMACIÓN HIDROMETEOROLÓGICA","NO","GRUPO DE ATENCIÓN AL CIUDADANO",44015,null,null,{"$f":"IFERROR(WORKDAY(C2871,R2871,DiasNOLaborables),\"\")","v":44033},{"$f":"+IF(C2871=\"\",\"\",IF(I2871=\"\",\"\",(IF(I2871<=L2871,\"A TIEMPO\",\"FUERA DE TIEMPO\"))))","v":"A TIEMPO"},{"$f":"IF(I2871=\"\",\"\",NETWORKDAYS([4]Hoja1!C2871+1,[4]Hoja1!P2871,DiasNOLaborables))","v":10},"",null,null,20]
[2861,20200618145826,44000,"WEB (MÓDULO DE SOLICITUD DE INFORMACIÓN HIDROMETEOROLÓGICA)","SOLICITUD DE INFORMACIÓN Y DOCUMENTOS","SOLICITUD DE INFORMACIÓN HIDROMETEOROLÓGICA","NO","GRUPO DE ATENCIÓN AL CIUDADANO",44015,null,null,{"$f":"IFERROR(WORKDAY(C2872,R2872,DiasNOLaborables),\"\")","v":44033},{"$f":"+IF(C2872=\"\",\"\",IF(I2872=\"\",\"\",(IF(I2872<=L2872,\"A TIEMPO\",\"FUERA DE TIEMPO\"))))","v":"A TIEMPO"},{"$f":"IF(I2872=\"\",\"\",NETWORKDAYS([4]Hoja1!C2872+1,[4]Hoja1!P2872,DiasNOLaborables))","v":10},"",null,null,20]
[2862,20200618145745,44000,"WEB (MÓDULO DE SOLICITUD DE INFORMACIÓN HIDROMETEOROLÓGICA)","SOLICITUD DE INFORMACIÓN Y DOCUMENTOS","SOLICITUD DE INFORMACIÓN HIDROMETEOROLÓGICA","NO","GRUPO DE ATENCIÓN AL CIUDADANO",44015,null,null,{"$f":"IFERROR(WORKDAY(C2873,R2873,DiasNOLaborables),\"\")","v":44033},{"$f":"+IF(C2873=\"\",\"\",IF(I2873=\"\",\"\",(IF(I2873<=L2873,\"A TIEMPO\",\"FUERA DE TIEMPO\"))))","v":"A TIEMPO"},{"$f":"IF(I2873=\"\",\"\",NETWORKDAYS([4]Hoja1!C2873+1,[4]Hoja1!P2873,DiasNOLaborables))","v":10},"",null,null,20]
[2863,20200618145701,44000,"WEB (MÓDULO DE SOLICITUD DE INFORMACIÓN HIDROMETEOROLÓGICA)","SOLICITUD DE INFORMACIÓN Y DOCUMENTOS","SOLICITUD DE INFORMACIÓN HIDROMETEOROLÓGICA","NO","GRUPO DE ATENCIÓN AL CIUDADANO",44015,null,null,{"$f":"IFERROR(WORKDAY(C2874,R2874,DiasNOLaborables),\"\")","v":44033},{"$f":"+IF(C2874=\"\",\"\",IF(I2874=\"\",\"\",(IF(I2874<=L2874,\"A TIEMPO\",\"FUERA DE TIEMPO\"))))","v":"A TIEMPO"},{"$f":"IF(I2874=\"\",\"\",NETWORKDAYS([4]Hoja1!C2874+1,[4]Hoja1!P2874,DiasNOLaborables))","v":10},"",null,null,20]
[2864,20200618145620,44000,"WEB (MÓDULO DE SOLICITUD DE INFORMACIÓN HIDROMETEOROLÓGICA)","SOLICITUD DE INFORMACIÓN Y DOCUMENTOS","SOLICITUD DE INFORMACIÓN HIDROMETEOROLÓGICA","NO","GRUPO DE ATENCIÓN AL CIUDADANO",44015,null,null,{"$f":"IFERROR(WORKDAY(C2875,R2875,DiasNOLaborables),\"\")","v":44033},{"$f":"+IF(C2875=\"\",\"\",IF(I2875=\"\",\"\",(IF(I2875<=L2875,\"A TIEMPO\",\"FUERA DE TIEMPO\"))))","v":"A TIEMPO"},{"$f":"IF(I2875=\"\",\"\",NETWORKDAYS([4]Hoja1!C2875+1,[4]Hoja1!P2875,DiasNOLaborables))","v":10},"",null,null,20]
[2865,20200618145537,44000,"WEB (MÓDULO DE SOLICITUD DE INFORMACIÓN HIDROMETEOROLÓGICA)","SOLICITUD DE INFORMACIÓN Y DOCUMENTOS","SOLICITUD DE INFORMACIÓN HIDROMETEOROLÓGICA","NO","GRUPO DE ATENCIÓN AL CIUDADANO",44015,null,null,{"$f":"IFERROR(WORKDAY(C2876,R2876,DiasNOLaborables),\"\")","v":44033},{"$f":"+IF(C2876=\"\",\"\",IF(I2876=\"\",\"\",(IF(I2876<=L2876,\"A TIEMPO\",\"FUERA DE TIEMPO\"))))","v":"A TIEMPO"},{"$f":"IF(I2876=\"\",\"\",NETWORKDAYS([4]Hoja1!C2876+1,[4]Hoja1!P2876,DiasNOLaborables))","v":10},"",null,null,20]
[2866,20200618145449,44000,"WEB (MÓDULO DE SOLICITUD DE INFORMACIÓN HIDROMETEOROLÓGICA)","SOLICITUD DE INFORMACIÓN Y DOCUMENTOS","SOLICITUD DE INFORMACIÓN HIDROMETEOROLÓGICA","NO","GRUPO DE ATENCIÓN AL CIUDADANO",44015,null,null,{"$f":"IFERROR(WORKDAY(C2877,R2877,DiasNOLaborables),\"\")","v":44033},{"$f":"+IF(C2877=\"\",\"\",IF(I2877=\"\",\"\",(IF(I2877<=L2877,\"A TIEMPO\",\"FUERA DE TIEMPO\"))))","v":"A TIEMPO"},{"$f":"IF(I2877=\"\",\"\",NETWORKDAYS([4]Hoja1!C2877+1,[4]Hoja1!P2877,DiasNOLaborables))","v":10},"",null,null,20]
[2867,20200618145405,44000,"WEB (MÓDULO DE SOLICITUD DE INFORMACIÓN HIDROMETEOROLÓGICA)","SOLICITUD DE INFORMACIÓN Y DOCUMENTOS","SOLICITUD DE INFORMACIÓN HIDROMETEOROLÓGICA","NO","GRUPO DE ATENCIÓN AL CIUDADANO",44015,null,null,{"$f":"IFERROR(WORKDAY(C2878,R2878,DiasNOLaborables),\"\")","v":44033},{"$f":"+IF(C2878=\"\",\"\",IF(I2878=\"\",\"\",(IF(I2878<=L2878,\"A TIEMPO\",\"FUERA DE TIEMPO\"))))","v":"A TIEMPO"},{"$f":"IF(I2878=\"\",\"\",NETWORKDAYS([4]Hoja1!C2878+1,[4]Hoja1!P2878,DiasNOLaborables))","v":10},"",null,null,20]
[2868,20200618145314,44000,"WEB (MÓDULO DE SOLICITUD DE INFORMACIÓN HIDROMETEOROLÓGICA)","SOLICITUD DE INFORMACIÓN Y DOCUMENTOS","SOLICITUD DE INFORMACIÓN HIDROMETEOROLÓGICA","NO","GRUPO DE ATENCIÓN AL CIUDADANO",44015,null,null,{"$f":"IFERROR(WORKDAY(C2879,R2879,DiasNOLaborables),\"\")","v":44033},{"$f":"+IF(C2879=\"\",\"\",IF(I2879=\"\",\"\",(IF(I2879<=L2879,\"A TIEMPO\",\"FUERA DE TIEMPO\"))))","v":"A TIEMPO"},{"$f":"IF(I2879=\"\",\"\",NETWORKDAYS([4]Hoja1!C2879+1,[4]Hoja1!P2879,DiasNOLaborables))","v":10},"",null,null,20]
[2869,20200618145215,44000,"WEB (MÓDULO DE SOLICITUD DE INFORMACIÓN HIDROMETEOROLÓGICA)","SOLICITUD DE INFORMACIÓN Y DOCUMENTOS","SOLICITUD DE INFORMACIÓN HIDROMETEOROLÓGICA","NO","GRUPO DE ATENCIÓN AL CIUDADANO",44015,null,null,{"$f":"IFERROR(WORKDAY(C2880,R2880,DiasNOLaborables),\"\")","v":44033},{"$f":"+IF(C2880=\"\",\"\",IF(I2880=\"\",\"\",(IF(I2880<=L2880,\"A TIEMPO\",\"FUERA DE TIEMPO\"))))","v":"A TIEMPO"},{"$f":"IF(I2880=\"\",\"\",NETWORKDAYS([4]Hoja1!C2880+1,[4]Hoja1!P2880,DiasNOLaborables))","v":10},"",null,null,20]
[2870,20200618145130,44000,"WEB (MÓDULO DE SOLICITUD DE INFORMACIÓN HIDROMETEOROLÓGICA)","SOLICITUD DE INFORMACIÓN Y DOCUMENTOS","SOLICITUD DE INFORMACIÓN HIDROMETEOROLÓGICA","NO","GRUPO DE ATENCIÓN AL CIUDADANO",44015,null,null,{"$f":"IFERROR(WORKDAY(C2881,R2881,DiasNOLaborables),\"\")","v":44033},{"$f":"+IF(C2881=\"\",\"\",IF(I2881=\"\",\"\",(IF(I2881<=L2881,\"A TIEMPO\",\"FUERA DE TIEMPO\"))))","v":"A TIEMPO"},{"$f":"IF(I2881=\"\",\"\",NETWORKDAYS([4]Hoja1!C2881+1,[4]Hoja1!P2881,DiasNOLaborables))","v":10},"",null,null,20]
[2871,20200618145035,44000,"WEB (MÓDULO DE SOLICITUD DE INFORMACIÓN HIDROMETEOROLÓGICA)","SOLICITUD DE INFORMACIÓN Y DOCUMENTOS","SOLICITUD DE INFORMACIÓN HIDROMETEOROLÓGICA","NO","GRUPO DE ATENCIÓN AL CIUDADANO",44015,null,null,{"$f":"IFERROR(WORKDAY(C2882,R2882,DiasNOLaborables),\"\")","v":44033},{"$f":"+IF(C2882=\"\",\"\",IF(I2882=\"\",\"\",(IF(I2882<=L2882,\"A TIEMPO\",\"FUERA DE TIEMPO\"))))","v":"A TIEMPO"},{"$f":"IF(I2882=\"\",\"\",NETWORKDAYS([4]Hoja1!C2882+1,[4]Hoja1!P2882,DiasNOLaborables))","v":10},"",null,null,20]
[2872,20200618144939,44000,"WEB (MÓDULO DE SOLICITUD DE INFORMACIÓN HIDROMETEOROLÓGICA)","SOLICITUD DE INFORMACIÓN Y DOCUMENTOS","SOLICITUD DE INFORMACIÓN HIDROMETEOROLÓGICA","NO","GRUPO DE ATENCIÓN AL CIUDADANO",44015,null,null,{"$f":"IFERROR(WORKDAY(C2883,R2883,DiasNOLaborables),\"\")","v":44033},{"$f":"+IF(C2883=\"\",\"\",IF(I2883=\"\",\"\",(IF(I2883<=L2883,\"A TIEMPO\",\"FUERA DE TIEMPO\"))))","v":"A TIEMPO"},{"$f":"IF(I2883=\"\",\"\",NETWORKDAYS([4]Hoja1!C2883+1,[4]Hoja1!P2883,DiasNOLaborables))","v":10},"",null,null,20]
[2873,20200618144805,44000,"WEB (MÓDULO DE SOLICITUD DE INFORMACIÓN HIDROMETEOROLÓGICA)","SOLICITUD DE INFORMACIÓN Y DOCUMENTOS","SOLICITUD DE INFORMACIÓN HIDROMETEOROLÓGICA","NO","GRUPO DE ATENCIÓN AL CIUDADANO",44015,null,null,{"$f":"IFERROR(WORKDAY(C2884,R2884,DiasNOLaborables),\"\")","v":44033},{"$f":"+IF(C2884=\"\",\"\",IF(I2884=\"\",\"\",(IF(I2884<=L2884,\"A TIEMPO\",\"FUERA DE TIEMPO\"))))","v":"A TIEMPO"},{"$f":"IF(I2884=\"\",\"\",NETWORKDAYS([4]Hoja1!C2884+1,[4]Hoja1!P2884,DiasNOLaborables))","v":10},"",null,null,20]
[2874,20200618144712,44000,"WEB (MÓDULO DE SOLICITUD DE INFORMACIÓN HIDROMETEOROLÓGICA)","SOLICITUD DE INFORMACIÓN Y DOCUMENTOS","SOLICITUD DE INFORMACIÓN HIDROMETEOROLÓGICA","NO","GRUPO DE ATENCIÓN AL CIUDADANO",44015,null,null,{"$f":"IFERROR(WORKDAY(C2885,R2885,DiasNOLaborables),\"\")","v":44033},{"$f":"+IF(C2885=\"\",\"\",IF(I2885=\"\",\"\",(IF(I2885<=L2885,\"A TIEMPO\",\"FUERA DE TIEMPO\"))))","v":"A TIEMPO"},{"$f":"IF(I2885=\"\",\"\",NETWORKDAYS([4]Hoja1!C2885+1,[4]Hoja1!P2885,DiasNOLaborables))","v":10},"",null,null,20]
[2875,20200618144512,44000,"WEB (MÓDULO DE SOLICITUD DE INFORMACIÓN HIDROMETEOROLÓGICA)","SOLICITUD DE INFORMACIÓN Y DOCUMENTOS","SOLICITUD DE INFORMACIÓN HIDROMETEOROLÓGICA","NO","GRUPO DE ATENCIÓN AL CIUDADANO",44015,null,null,{"$f":"IFERROR(WORKDAY(C2886,R2886,DiasNOLaborables),\"\")","v":44033},{"$f":"+IF(C2886=\"\",\"\",IF(I2886=\"\",\"\",(IF(I2886<=L2886,\"A TIEMPO\",\"FUERA DE TIEMPO\"))))","v":"A TIEMPO"},{"$f":"IF(I2886=\"\",\"\",NETWORKDAYS([4]Hoja1!C2886+1,[4]Hoja1!P2886,DiasNOLaborables))","v":10},"",null,null,{"$f":"IFERROR(VLOOKUP(E2886,$Z$50:$AA$63,2),\"\")","v":20}]
[2876,20200618144327,44000,"WEB (MÓDULO DE SOLICITUD DE INFORMACIÓN HIDROMETEOROLÓGICA)","SOLICITUD DE INFORMACIÓN Y DOCUMENTOS","SOLICITUD DE INFORMACIÓN HIDROMETEOROLÓGICA","NO","GRUPO DE ATENCIÓN AL CIUDADANO",44015,null,null,{"$f":"IFERROR(WORKDAY(C2887,R2887,DiasNOLaborables),\"\")","v":44033},{"$f":"+IF(C2887=\"\",\"\",IF(I2887=\"\",\"\",(IF(I2887<=L2887,\"A TIEMPO\",\"FUERA DE TIEMPO\"))))","v":"A TIEMPO"},{"$f":"IF(I2887=\"\",\"\",NETWORKDAYS([4]Hoja1!C2887+1,[4]Hoja1!P2887,DiasNOLaborables))","v":10},"",null,null,20]
[2877,20200618143812,44000,"WEB (MÓDULO DE SOLICITUD DE INFORMACIÓN HIDROMETEOROLÓGICA)","SOLICITUD DE INFORMACIÓN Y DOCUMENTOS","SOLICITUD DE INFORMACIÓN HIDROMETEOROLÓGICA","NO","GRUPO DE ATENCIÓN AL CIUDADANO",44015,null,null,{"$f":"IFERROR(WORKDAY(C2888,R2888,DiasNOLaborables),\"\")","v":44033},{"$f":"+IF(C2888=\"\",\"\",IF(I2888=\"\",\"\",(IF(I2888<=L2888,\"A TIEMPO\",\"FUERA DE TIEMPO\"))))","v":"A TIEMPO"},{"$f":"IF(I2888=\"\",\"\",NETWORKDAYS([4]Hoja1!C2888+1,[4]Hoja1!P2888,DiasNOLaborables))","v":10},"",null,null,20]
[2878,20200618143611,44000,"WEB (MÓDULO DE SOLICITUD DE INFORMACIÓN HIDROMETEOROLÓGICA)","SOLICITUD DE INFORMACIÓN Y DOCUMENTOS","SOLICITUD DE INFORMACIÓN HIDROMETEOROLÓGICA","NO","GRUPO DE ATENCIÓN AL CIUDADANO",44015,null,null,{"$f":"IFERROR(WORKDAY(C2889,R2889,DiasNOLaborables),\"\")","v":44033},{"$f":"+IF(C2889=\"\",\"\",IF(I2889=\"\",\"\",(IF(I2889<=L2889,\"A TIEMPO\",\"FUERA DE TIEMPO\"))))","v":"A TIEMPO"},{"$f":"IF(I2889=\"\",\"\",NETWORKDAYS([4]Hoja1!C2889+1,[4]Hoja1!P2889,DiasNOLaborables))","v":10},"",null,null,20]
[2879,20200618143410,44000,"WEB (MÓDULO DE SOLICITUD DE INFORMACIÓN HIDROMETEOROLÓGICA)","SOLICITUD DE INFORMACIÓN Y DOCUMENTOS","SOLICITUD DE INFORMACIÓN HIDROMETEOROLÓGICA","NO","GRUPO DE ATENCIÓN AL CIUDADANO",44015,null,null,{"$f":"IFERROR(WORKDAY(C2890,R2890,DiasNOLaborables),\"\")","v":44033},{"$f":"+IF(C2890=\"\",\"\",IF(I2890=\"\",\"\",(IF(I2890<=L2890,\"A TIEMPO\",\"FUERA DE TIEMPO\"))))","v":"A TIEMPO"},{"$f":"IF(I2890=\"\",\"\",NETWORKDAYS([4]Hoja1!C2890+1,[4]Hoja1!P2890,DiasNOLaborables))","v":10},"",null,null,20]
[2880,20200618142718,44000,"WEB (MÓDULO DE SOLICITUD DE INFORMACIÓN HIDROMETEOROLÓGICA)","SOLICITUD DE INFORMACIÓN Y DOCUMENTOS","SOLICITUD DE INFORMACIÓN HIDROMETEOROLÓGICA","NO","GRUPO DE ATENCIÓN AL CIUDADANO",44015,null,null,{"$f":"IFERROR(WORKDAY(C2891,R2891,DiasNOLaborables),\"\")","v":44033},{"$f":"+IF(C2891=\"\",\"\",IF(I2891=\"\",\"\",(IF(I2891<=L2891,\"A TIEMPO\",\"FUERA DE TIEMPO\"))))","v":"A TIEMPO"},{"$f":"IF(I2891=\"\",\"\",NETWORKDAYS([4]Hoja1!C2891+1,[4]Hoja1!P2891,DiasNOLaborables))","v":10},"",null,null,20]
[2881,20200618142339,44000,"WEB (MÓDULO DE SOLICITUD DE INFORMACIÓN HIDROMETEOROLÓGICA)","SOLICITUD DE INFORMACIÓN Y DOCUMENTOS","SOLICITUD DE INFORMACIÓN HIDROMETEOROLÓGICA","NO","GRUPO DE ATENCIÓN AL CIUDADANO",44015,null,null,{"$f":"IFERROR(WORKDAY(C2892,R2892,DiasNOLaborables),\"\")","v":44033},{"$f":"+IF(C2892=\"\",\"\",IF(I2892=\"\",\"\",(IF(I2892<=L2892,\"A TIEMPO\",\"FUERA DE TIEMPO\"))))","v":"A TIEMPO"},{"$f":"IF(I2892=\"\",\"\",NETWORKDAYS([4]Hoja1!C2892+1,[4]Hoja1!P2892,DiasNOLaborables))","v":10},"",null,null,20]
[2882,20200618142225,44000,"WEB (MÓDULO DE SOLICITUD DE INFORMACIÓN HIDROMETEOROLÓGICA)","SOLICITUD DE INFORMACIÓN Y DOCUMENTOS","SOLICITUD DE INFORMACIÓN HIDROMETEOROLÓGICA","NO","GRUPO DE ATENCIÓN AL CIUDADANO",44015,null,null,{"$f":"IFERROR(WORKDAY(C2893,R2893,DiasNOLaborables),\"\")","v":44033},{"$f":"+IF(C2893=\"\",\"\",IF(I2893=\"\",\"\",(IF(I2893<=L2893,\"A TIEMPO\",\"FUERA DE TIEMPO\"))))","v":"A TIEMPO"},{"$f":"IF(I2893=\"\",\"\",NETWORKDAYS([4]Hoja1!C2893+1,[4]Hoja1!P2893,DiasNOLaborables))","v":9},"",null,null,20]
[2883,20200618142221,44000,"WEB (MÓDULO DE SOLICITUD DE INFORMACIÓN HIDROMETEOROLÓGICA)","SOLICITUD DE INFORMACIÓN Y DOCUMENTOS","SOLICITUD DE INFORMACIÓN HIDROMETEOROLÓGICA","NO","GRUPO DE ATENCIÓN AL CIUDADANO",44015,null,null,{"$f":"IFERROR(WORKDAY(C2894,R2894,DiasNOLaborables),\"\")","v":44033},{"$f":"+IF(C2894=\"\",\"\",IF(I2894=\"\",\"\",(IF(I2894<=L2894,\"A TIEMPO\",\"FUERA DE TIEMPO\"))))","v":"A TIEMPO"},{"$f":"IF(I2894=\"\",\"\",NETWORKDAYS([4]Hoja1!C2894+1,[4]Hoja1!P2894,DiasNOLaborables))","v":9},"",null,null,20]
[2884,20200618141941,44000,"WEB (MÓDULO DE SOLICITUD DE INFORMACIÓN HIDROMETEOROLÓGICA)","SOLICITUD DE INFORMACIÓN Y DOCUMENTOS","SOLICITUD DE INFORMACIÓN HIDROMETEOROLÓGICA","NO","GRUPO DE ATENCIÓN AL CIUDADANO",44015,null,null,{"$f":"IFERROR(WORKDAY(C2895,R2895,DiasNOLaborables),\"\")","v":44033},{"$f":"+IF(C2895=\"\",\"\",IF(I2895=\"\",\"\",(IF(I2895<=L2895,\"A TIEMPO\",\"FUERA DE TIEMPO\"))))","v":"A TIEMPO"},{"$f":"IF(I2895=\"\",\"\",NETWORKDAYS([4]Hoja1!C2895+1,[4]Hoja1!P2895,DiasNOLaborables))","v":9},"",null,null,20]
[2885,20200618141858,44000,"WEB (MÓDULO DE SOLICITUD DE INFORMACIÓN HIDROMETEOROLÓGICA)","SOLICITUD DE INFORMACIÓN Y DOCUMENTOS","SOLICITUD DE INFORMACIÓN HIDROMETEOROLÓGICA","NO","GRUPO DE ATENCIÓN AL CIUDADANO",44015,null,null,{"$f":"IFERROR(WORKDAY(C2896,R2896,DiasNOLaborables),\"\")","v":44033},{"$f":"+IF(C2896=\"\",\"\",IF(I2896=\"\",\"\",(IF(I2896<=L2896,\"A TIEMPO\",\"FUERA DE TIEMPO\"))))","v":"A TIEMPO"},{"$f":"IF(I2896=\"\",\"\",NETWORKDAYS([4]Hoja1!C2896+1,[4]Hoja1!P2896,DiasNOLaborables))","v":9},"",null,null,20]
[2886,20200618141755,44000,"WEB (MÓDULO DE SOLICITUD DE INFORMACIÓN HIDROMETEOROLÓGICA)","SOLICITUD DE INFORMACIÓN Y DOCUMENTOS","SOLICITUD DE INFORMACIÓN HIDROMETEOROLÓGICA","NO","GRUPO DE ATENCIÓN AL CIUDADANO",44015,null,null,{"$f":"IFERROR(WORKDAY(C2897,R2897,DiasNOLaborables),\"\")","v":44033},{"$f":"+IF(C2897=\"\",\"\",IF(I2897=\"\",\"\",(IF(I2897<=L2897,\"A TIEMPO\",\"FUERA DE TIEMPO\"))))","v":"A TIEMPO"},{"$f":"IF(I2897=\"\",\"\",NETWORKDAYS([4]Hoja1!C2897+1,[4]Hoja1!P2897,DiasNOLaborables))","v":9},"",null,null,20]
[2887,20200618141316,44000,"WEB (MÓDULO DE SOLICITUD DE INFORMACIÓN HIDROMETEOROLÓGICA)","SOLICITUD DE INFORMACIÓN Y DOCUMENTOS","SOLICITUD DE INFORMACIÓN HIDROMETEOROLÓGICA","NO","GRUPO DE ATENCIÓN AL CIUDADANO",44015,null,null,{"$f":"IFERROR(WORKDAY(C2898,R2898,DiasNOLaborables),\"\")","v":44033},{"$f":"+IF(C2898=\"\",\"\",IF(I2898=\"\",\"\",(IF(I2898<=L2898,\"A TIEMPO\",\"FUERA DE TIEMPO\"))))","v":"A TIEMPO"},{"$f":"IF(I2898=\"\",\"\",NETWORKDAYS([4]Hoja1!C2898+1,[4]Hoja1!P2898,DiasNOLaborables))","v":9},"",null,null,20]
[2888,20200618140748,44000,"WEB (MÓDULO DE SOLICITUD DE INFORMACIÓN HIDROMETEOROLÓGICA)","SOLICITUD DE INFORMACIÓN Y DOCUMENTOS","SOLICITUD DE INFORMACIÓN HIDROMETEOROLÓGICA","NO","GRUPO DE ATENCIÓN AL CIUDADANO",44015,null,null,{"$f":"IFERROR(WORKDAY(C2899,R2899,DiasNOLaborables),\"\")","v":44033},{"$f":"+IF(C2899=\"\",\"\",IF(I2899=\"\",\"\",(IF(I2899<=L2899,\"A TIEMPO\",\"FUERA DE TIEMPO\"))))","v":"A TIEMPO"},{"$f":"IF(I2899=\"\",\"\",NETWORKDAYS([4]Hoja1!C2899+1,[4]Hoja1!P2899,DiasNOLaborables))","v":9},"",null,null,20]
[2889,20200618140419,44000,"WEB (MÓDULO DE SOLICITUD DE INFORMACIÓN HIDROMETEOROLÓGICA)","SOLICITUD DE INFORMACIÓN Y DOCUMENTOS","SOLICITUD DE INFORMACIÓN HIDROMETEOROLÓGICA","NO","GRUPO DE ATENCIÓN AL CIUDADANO",44015,null,null,{"$f":"IFERROR(WORKDAY(C2900,R2900,DiasNOLaborables),\"\")","v":44033},{"$f":"+IF(C2900=\"\",\"\",IF(I2900=\"\",\"\",(IF(I2900<=L2900,\"A TIEMPO\",\"FUERA DE TIEMPO\"))))","v":"A TIEMPO"},{"$f":"IF(I2900=\"\",\"\",NETWORKDAYS([4]Hoja1!C2900+1,[4]Hoja1!P2900,DiasNOLaborables))","v":9},"",null,null,20]
[2890,20200618140138,44000,"WEB (MÓDULO DE SOLICITUD DE INFORMACIÓN HIDROMETEOROLÓGICA)","SOLICITUD DE INFORMACIÓN Y DOCUMENTOS","SOLICITUD DE INFORMACIÓN HIDROMETEOROLÓGICA","NO","GRUPO DE ATENCIÓN AL CIUDADANO",44015,null,null,{"$f":"IFERROR(WORKDAY(C2901,R2901,DiasNOLaborables),\"\")","v":44033},{"$f":"+IF(C2901=\"\",\"\",IF(I2901=\"\",\"\",(IF(I2901<=L2901,\"A TIEMPO\",\"FUERA DE TIEMPO\"))))","v":"A TIEMPO"},{"$f":"IF(I2901=\"\",\"\",NETWORKDAYS([4]Hoja1!C2901+1,[4]Hoja1!P2901,DiasNOLaborables))","v":9},"",null,null,20]
[2891,20200618102321,44000,"WEB (MÓDULO DE SOLICITUD DE INFORMACIÓN HIDROMETEOROLÓGICA)","SOLICITUD DE INFORMACIÓN Y DOCUMENTOS","SOLICITUD DE INFORMACIÓN HIDROMETEOROLÓGICA","NO","GRUPO DE ATENCIÓN AL CIUDADANO",44015,null,null,{"$f":"IFERROR(WORKDAY(C2902,R2902,DiasNOLaborables),\"\")","v":44033},{"$f":"+IF(C2902=\"\",\"\",IF(I2902=\"\",\"\",(IF(I2902<=L2902,\"A TIEMPO\",\"FUERA DE TIEMPO\"))))","v":"A TIEMPO"},{"$f":"IF(I2902=\"\",\"\",NETWORKDAYS([4]Hoja1!C2902+1,[4]Hoja1!P2902,DiasNOLaborables))","v":9},"",null,null,20]
[2892,20200618100648,44000,"WEB (MÓDULO DE SOLICITUD DE INFORMACIÓN HIDROMETEOROLÓGICA)","SOLICITUD DE INFORMACIÓN Y DOCUMENTOS","SOLICITUD DE INFORMACIÓN HIDROMETEOROLÓGICA","NO","GRUPO DE ATENCIÓN AL CIUDADANO",44015,null,null,{"$f":"IFERROR(WORKDAY(C2903,R2903,DiasNOLaborables),\"\")","v":44033},{"$f":"+IF(C2903=\"\",\"\",IF(I2903=\"\",\"\",(IF(I2903<=L2903,\"A TIEMPO\",\"FUERA DE TIEMPO\"))))","v":"A TIEMPO"},{"$f":"IF(I2903=\"\",\"\",NETWORKDAYS([4]Hoja1!C2903+1,[4]Hoja1!P2903,DiasNOLaborables))","v":9},"",null,null,20]
[2893,20200618100120,44000,"WEB (MÓDULO DE SOLICITUD DE INFORMACIÓN HIDROMETEOROLÓGICA)","SOLICITUD DE INFORMACIÓN Y DOCUMENTOS","SOLICITUD DE INFORMACIÓN HIDROMETEOROLÓGICA","NO","GRUPO DE ATENCIÓN AL CIUDADANO",44015,null,null,{"$f":"IFERROR(WORKDAY(C2904,R2904,DiasNOLaborables),\"\")","v":44033},{"$f":"+IF(C2904=\"\",\"\",IF(I2904=\"\",\"\",(IF(I2904<=L2904,\"A TIEMPO\",\"FUERA DE TIEMPO\"))))","v":"A TIEMPO"},{"$f":"IF(I2904=\"\",\"\",NETWORKDAYS([4]Hoja1!C2904+1,[4]Hoja1!P2904,DiasNOLaborables))","v":9},"",null,null,20]
[2894,20200618095558,44000,"WEB (MÓDULO DE SOLICITUD DE INFORMACIÓN HIDROMETEOROLÓGICA)","SOLICITUD DE INFORMACIÓN Y DOCUMENTOS","SOLICITUD DE INFORMACIÓN HIDROMETEOROLÓGICA","NO","GRUPO DE ATENCIÓN AL CIUDADANO",44015,null,null,{"$f":"IFERROR(WORKDAY(C2905,R2905,DiasNOLaborables),\"\")","v":44033},{"$f":"+IF(C2905=\"\",\"\",IF(I2905=\"\",\"\",(IF(I2905<=L2905,\"A TIEMPO\",\"FUERA DE TIEMPO\"))))","v":"A TIEMPO"},{"$f":"IF(I2905=\"\",\"\",NETWORKDAYS([4]Hoja1!C2905+1,[4]Hoja1!P2905,DiasNOLaborables))","v":9},"",null,null,20]
[2895,20200618095348,44000,"WEB (MÓDULO DE SOLICITUD DE INFORMACIÓN HIDROMETEOROLÓGICA)","SOLICITUD DE INFORMACIÓN Y DOCUMENTOS","SOLICITUD DE INFORMACIÓN HIDROMETEOROLÓGICA","NO","GRUPO DE ATENCIÓN AL CIUDADANO",44015,null,null,{"$f":"IFERROR(WORKDAY(C2906,R2906,DiasNOLaborables),\"\")","v":44033},{"$f":"+IF(C2906=\"\",\"\",IF(I2906=\"\",\"\",(IF(I2906<=L2906,\"A TIEMPO\",\"FUERA DE TIEMPO\"))))","v":"A TIEMPO"},{"$f":"IF(I2906=\"\",\"\",NETWORKDAYS([4]Hoja1!C2906+1,[4]Hoja1!P2906,DiasNOLaborables))","v":10},"",null,null,20]
[2896,20200618093834,44000,"WEB (MÓDULO DE SOLICITUD DE INFORMACIÓN HIDROMETEOROLÓGICA)","SOLICITUD DE INFORMACIÓN Y DOCUMENTOS","SOLICITUD DE INFORMACIÓN HIDROMETEOROLÓGICA","NO","GRUPO DE ATENCIÓN AL CIUDADANO",44015,null,null,{"$f":"IFERROR(WORKDAY(C2907,R2907,DiasNOLaborables),\"\")","v":44033},{"$f":"+IF(C2907=\"\",\"\",IF(I2907=\"\",\"\",(IF(I2907<=L2907,\"A TIEMPO\",\"FUERA DE TIEMPO\"))))","v":"A TIEMPO"},{"$f":"IF(I2907=\"\",\"\",NETWORKDAYS([4]Hoja1!C2907+1,[4]Hoja1!P2907,DiasNOLaborables))","v":10},"",null,null,20]
[2897,20209050050222,44000,"MODULO CONTACTENOS","SOLICITUD DE INFORMACIÓN Y DOCUMENTOS","SOLICITUD DE INFORMACIÓN HIDROMETEOROLÓGICA","NO","GRUPO DE ATENCIÓN AL CIUDADANO",44012,null,null,{"$f":"IFERROR(WORKDAY(C2908,R2908,DiasNOLaborables),\"\")","v":44033},{"$f":"+IF(C2908=\"\",\"\",IF(I2908=\"\",\"\",(IF(I2908<=L2908,\"A TIEMPO\",\"FUERA DE TIEMPO\"))))","v":"A TIEMPO"},{"$f":"IF(I2908=\"\",\"\",NETWORKDAYS([4]Hoja1!C2908+1,[4]Hoja1!P2908,DiasNOLaborables))","v":10},"",null,null,20]
[2898,20209050050032,44000,"WEB (MÓDULO DE SOLICITUD DE INFORMACIÓN HIDROMETEOROLÓGICA)","SOLICITUD DE INFORMACIÓN Y DOCUMENTOS","SOLICITUD DE INFORMACIÓN HIDROMETEOROLÓGICA","NO","GRUPO DE ATENCIÓN AL CIUDADANO",44015,null,null,{"$f":"IFERROR(WORKDAY(C2909,R2909,DiasNOLaborables),\"\")","v":44033},{"$f":"+IF(C2909=\"\",\"\",IF(I2909=\"\",\"\",(IF(I2909<=L2909,\"A TIEMPO\",\"FUERA DE TIEMPO\"))))","v":"A TIEMPO"},{"$f":"IF(I2909=\"\",\"\",NETWORKDAYS([4]Hoja1!C2909+1,[4]Hoja1!P2909,DiasNOLaborables))","v":10},"",null,null,20]
[2899,20209050050062,44000,"WEB (MÓDULO DE SOLICITUD DE INFORMACIÓN HIDROMETEOROLÓGICA)","SOLICITUD DE INFORMACIÓN Y DOCUMENTOS","SOLICITUD DE INFORMACIÓN HIDROMETEOROLÓGICA","NO","GRUPO DE ATENCIÓN AL CIUDADANO",44015,null,null,{"$f":"IFERROR(WORKDAY(C2910,R2910,DiasNOLaborables),\"\")","v":44033},{"$f":"+IF(C2910=\"\",\"\",IF(I2910=\"\",\"\",(IF(I2910<=L2910,\"A TIEMPO\",\"FUERA DE TIEMPO\"))))","v":"A TIEMPO"},{"$f":"IF(I2910=\"\",\"\",NETWORKDAYS([4]Hoja1!C2910+1,[4]Hoja1!P2910,DiasNOLaborables))","v":10},"",null,null,20]
[2900,20209050050072,44000,"WEB (MÓDULO DE SOLICITUD DE INFORMACIÓN HIDROMETEOROLÓGICA)","SOLICITUD DE INFORMACIÓN Y DOCUMENTOS","SOLICITUD DE INFORMACIÓN HIDROMETEOROLÓGICA","NO","GRUPO DE ATENCIÓN AL CIUDADANO",44018,null,null,{"$f":"IFERROR(WORKDAY(C2911,R2911,DiasNOLaborables),\"\")","v":44033},{"$f":"+IF(C2911=\"\",\"\",IF(I2911=\"\",\"\",(IF(I2911<=L2911,\"A TIEMPO\",\"FUERA DE TIEMPO\"))))","v":"A TIEMPO"},{"$f":"IF(I2911=\"\",\"\",NETWORKDAYS([4]Hoja1!C2911+1,[4]Hoja1!P2911,DiasNOLaborables))","v":10},"",null,null,20]
[2901,20209050050162,44000,"WEB (MÓDULO DE SOLICITUD DE INFORMACIÓN HIDROMETEOROLÓGICA)","SOLICITUD DE INFORMACIÓN Y DOCUMENTOS","SOLICITUD DE INFORMACIÓN HIDROMETEOROLÓGICA","NO","GRUPO DE ATENCIÓN AL CIUDADANO",44018,null,null,{"$f":"IFERROR(WORKDAY(C2912,R2912,DiasNOLaborables),\"\")","v":44033},{"$f":"+IF(C2912=\"\",\"\",IF(I2912=\"\",\"\",(IF(I2912<=L2912,\"A TIEMPO\",\"FUERA DE TIEMPO\"))))","v":"A TIEMPO"},{"$f":"IF(I2912=\"\",\"\",NETWORKDAYS([4]Hoja1!C2912+1,[4]Hoja1!P2912,DiasNOLaborables))","v":10},"",null,null,20]
[2902,20209050050172,44000,"WEB (MÓDULO DE SOLICITUD DE INFORMACIÓN HIDROMETEOROLÓGICA)","SOLICITUD DE INFORMACIÓN Y DOCUMENTOS","SOLICITUD DE INFORMACIÓN HIDROMETEOROLÓGICA","NO","GRUPO DE ATENCIÓN AL CIUDADANO",44018,null,null,{"$f":"IFERROR(WORKDAY(C2913,R2913,DiasNOLaborables),\"\")","v":44033},{"$f":"+IF(C2913=\"\",\"\",IF(I2913=\"\",\"\",(IF(I2913<=L2913,\"A TIEMPO\",\"FUERA DE TIEMPO\"))))","v":"A TIEMPO"},{"$f":"IF(I2913=\"\",\"\",NETWORKDAYS([4]Hoja1!C2913+1,[4]Hoja1!P2913,DiasNOLaborables))","v":10},"",null,null,20]
[2903,20209050050182,44000,"WEB (MÓDULO DE SOLICITUD DE INFORMACIÓN HIDROMETEOROLÓGICA)","SOLICITUD DE INFORMACIÓN Y DOCUMENTOS","SOLICITUD DE INFORMACIÓN HIDROMETEOROLÓGICA","NO","GRUPO DE ATENCIÓN AL CIUDADANO",44018,null,null,{"$f":"IFERROR(WORKDAY(C2914,R2914,DiasNOLaborables),\"\")","v":44033},{"$f":"+IF(C2914=\"\",\"\",IF(I2914=\"\",\"\",(IF(I2914<=L2914,\"A TIEMPO\",\"FUERA DE TIEMPO\"))))","v":"A TIEMPO"},{"$f":"IF(I2914=\"\",\"\",NETWORKDAYS([4]Hoja1!C2914+1,[4]Hoja1!P2914,DiasNOLaborables))","v":10},"",null,null,20]
[2904,20209050050192,44000,"WEB (MÓDULO DE SOLICITUD DE INFORMACIÓN HIDROMETEOROLÓGICA)","SOLICITUD DE INFORMACIÓN Y DOCUMENTOS","SOLICITUD DE INFORMACIÓN HIDROMETEOROLÓGICA","NO","GRUPO DE ATENCIÓN AL CIUDADANO",44018,null,null,{"$f":"IFERROR(WORKDAY(C2915,R2915,DiasNOLaborables),\"\")","v":44033},{"$f":"+IF(C2915=\"\",\"\",IF(I2915=\"\",\"\",(IF(I2915<=L2915,\"A TIEMPO\",\"FUERA DE TIEMPO\"))))","v":"A TIEMPO"},{"$f":"IF(I2915=\"\",\"\",NETWORKDAYS([4]Hoja1!C2915+1,[4]Hoja1!P2915,DiasNOLaborables))","v":10},"",null,null,20]
[2905,20209050050322,44001,"WEB (MÓDULO DE SOLICITUD DE INFORMACIÓN HIDROMETEOROLÓGICA)","SOLICITUD DE INFORMACIÓN Y DOCUMENTOS","SOLICITUD DE INFORMACIÓN HIDROMETEOROLÓGICA","NO","GRUPO DE ATENCIÓN AL CIUDADANO",44018,null,null,{"$f":"IFERROR(WORKDAY(C2916,R2916,DiasNOLaborables),\"\")","v":44034},{"$f":"+IF(C2916=\"\",\"\",IF(I2916=\"\",\"\",(IF(I2916<=L2916,\"A TIEMPO\",\"FUERA DE TIEMPO\"))))","v":"A TIEMPO"},{"$f":"IF(I2916=\"\",\"\",NETWORKDAYS([4]Hoja1!C2916+1,[4]Hoja1!P2916,DiasNOLaborables))","v":9},"",null,null,20]
[2906,20209050050332,44001,"WEB (MÓDULO DE SOLICITUD DE INFORMACIÓN HIDROMETEOROLÓGICA)","SOLICITUD DE INFORMACIÓN Y DOCUMENTOS","SOLICITUD DE INFORMACIÓN HIDROMETEOROLÓGICA","NO","GRUPO DE ATENCIÓN AL CIUDADANO",44018,null,null,{"$f":"IFERROR(WORKDAY(C2917,R2917,DiasNOLaborables),\"\")","v":44034},{"$f":"+IF(C2917=\"\",\"\",IF(I2917=\"\",\"\",(IF(I2917<=L2917,\"A TIEMPO\",\"FUERA DE TIEMPO\"))))","v":"A TIEMPO"},{"$f":"IF(I2917=\"\",\"\",NETWORKDAYS([4]Hoja1!C2917+1,[4]Hoja1!P2917,DiasNOLaborables))","v":9},"",null,null,20]
[2907,20209050050342,44001,"WEB (MÓDULO DE SOLICITUD DE INFORMACIÓN HIDROMETEOROLÓGICA)","SOLICITUD DE INFORMACIÓN Y DOCUMENTOS","SOLICITUD DE INFORMACIÓN HIDROMETEOROLÓGICA","NO","GRUPO DE ATENCIÓN AL CIUDADANO",44018,null,null,{"$f":"IFERROR(WORKDAY(C2918,R2918,DiasNOLaborables),\"\")","v":44034},{"$f":"+IF(C2918=\"\",\"\",IF(I2918=\"\",\"\",(IF(I2918<=L2918,\"A TIEMPO\",\"FUERA DE TIEMPO\"))))","v":"A TIEMPO"},{"$f":"IF(I2918=\"\",\"\",NETWORKDAYS([4]Hoja1!C2918+1,[4]Hoja1!P2918,DiasNOLaborables))","v":9},"",null,null,20]
[2908,20209050050352,44001,"WEB (MÓDULO DE SOLICITUD DE INFORMACIÓN HIDROMETEOROLÓGICA)","SOLICITUD DE INFORMACIÓN Y DOCUMENTOS","SOLICITUD DE INFORMACIÓN HIDROMETEOROLÓGICA","NO","GRUPO DE ATENCIÓN AL CIUDADANO",44018,null,null,{"$f":"IFERROR(WORKDAY(C2919,R2919,DiasNOLaborables),\"\")","v":44034},{"$f":"+IF(C2919=\"\",\"\",IF(I2919=\"\",\"\",(IF(I2919<=L2919,\"A TIEMPO\",\"FUERA DE TIEMPO\"))))","v":"A TIEMPO"},{"$f":"IF(I2919=\"\",\"\",NETWORKDAYS([4]Hoja1!C2919+1,[4]Hoja1!P2919,DiasNOLaborables))","v":9},"",null,null,20]
[2909,209050050372,44001,"WEB (MÓDULO DE SOLICITUD DE INFORMACIÓN HIDROMETEOROLÓGICA)","SOLICITUD DE INFORMACIÓN Y DOCUMENTOS","SOLICITUD DE INFORMACIÓN HIDROMETEOROLÓGICA","NO","GRUPO DE ATENCIÓN AL CIUDADANO",44018,null,null,{"$f":"IFERROR(WORKDAY(C2920,R2920,DiasNOLaborables),\"\")","v":44034},{"$f":"+IF(C2920=\"\",\"\",IF(I2920=\"\",\"\",(IF(I2920<=L2920,\"A TIEMPO\",\"FUERA DE TIEMPO\"))))","v":"A TIEMPO"},{"$f":"IF(I2920=\"\",\"\",NETWORKDAYS([4]Hoja1!C2920+1,[4]Hoja1!P2920,DiasNOLaborables))","v":9},"",null,null,20]
[2910,20209050050392,44001,"WEB (MÓDULO DE SOLICITUD DE INFORMACIÓN HIDROMETEOROLÓGICA)","SOLICITUD DE INFORMACIÓN Y DOCUMENTOS","SOLICITUD DE INFORMACIÓN HIDROMETEOROLÓGICA","NO","GRUPO DE ATENCIÓN AL CIUDADANO",44018,null,null,{"$f":"IFERROR(WORKDAY(C2921,R2921,DiasNOLaborables),\"\")","v":44034},{"$f":"+IF(C2921=\"\",\"\",IF(I2921=\"\",\"\",(IF(I2921<=L2921,\"A TIEMPO\",\"FUERA DE TIEMPO\"))))","v":"A TIEMPO"},{"$f":"IF(I2921=\"\",\"\",NETWORKDAYS([4]Hoja1!C2921+1,[4]Hoja1!P2921,DiasNOLaborables))","v":9},"",null,null,20]
[2911,20209050050452,44001,"WEB (MÓDULO DE SOLICITUD DE INFORMACIÓN HIDROMETEOROLÓGICA)","SOLICITUD DE INFORMACIÓN Y DOCUMENTOS","SOLICITUD DE INFORMACIÓN HIDROMETEOROLÓGICA","NO","GRUPO DE ATENCIÓN AL CIUDADANO",44018,null,null,{"$f":"IFERROR(WORKDAY(C2922,R2922,DiasNOLaborables),\"\")","v":44034},{"$f":"+IF(C2922=\"\",\"\",IF(I2922=\"\",\"\",(IF(I2922<=L2922,\"A TIEMPO\",\"FUERA DE TIEMPO\"))))","v":"A TIEMPO"},{"$f":"IF(I2922=\"\",\"\",NETWORKDAYS([4]Hoja1!C2922+1,[4]Hoja1!P2922,DiasNOLaborables))","v":9},"",null,null,20]
[2912,20209050050482,44001,"WEB (MÓDULO DE SOLICITUD DE INFORMACIÓN HIDROMETEOROLÓGICA)","SOLICITUD DE INFORMACIÓN Y DOCUMENTOS","SOLICITUD DE INFORMACIÓN HIDROMETEOROLÓGICA","NO","GRUPO DE ATENCIÓN AL CIUDADANO",44018,null,null,{"$f":"IFERROR(WORKDAY(C2923,R2923,DiasNOLaborables),\"\")","v":44034},{"$f":"+IF(C2923=\"\",\"\",IF(I2923=\"\",\"\",(IF(I2923<=L2923,\"A TIEMPO\",\"FUERA DE TIEMPO\"))))","v":"A TIEMPO"},{"$f":"IF(I2923=\"\",\"\",NETWORKDAYS([4]Hoja1!C2923+1,[4]Hoja1!P2923,DiasNOLaborables))","v":9},"",null,null,20]
[2913,20209050050542,44001,"WEB (MÓDULO DE SOLICITUD DE INFORMACIÓN HIDROMETEOROLÓGICA)","SOLICITUD DE INFORMACIÓN Y DOCUMENTOS","SOLICITUD DE INFORMACIÓN HIDROMETEOROLÓGICA","NO","GRUPO DE ATENCIÓN AL CIUDADANO",44018,null,null,{"$f":"IFERROR(WORKDAY(C2924,R2924,DiasNOLaborables),\"\")","v":44034},{"$f":"+IF(C2924=\"\",\"\",IF(I2924=\"\",\"\",(IF(I2924<=L2924,\"A TIEMPO\",\"FUERA DE TIEMPO\"))))","v":"A TIEMPO"},{"$f":"IF(I2924=\"\",\"\",NETWORKDAYS([4]Hoja1!C2924+1,[4]Hoja1!P2924,DiasNOLaborables))","v":9},"",null,null,20]
[2914,20209050050552,44001,"WEB (MÓDULO DE SOLICITUD DE INFORMACIÓN HIDROMETEOROLÓGICA)","SOLICITUD DE INFORMACIÓN Y DOCUMENTOS","SOLICITUD DE INFORMACIÓN HIDROMETEOROLÓGICA","NO","GRUPO DE ATENCIÓN AL CIUDADANO",44018,null,null,{"$f":"IFERROR(WORKDAY(C2925,R2925,DiasNOLaborables),\"\")","v":44034},{"$f":"+IF(C2925=\"\",\"\",IF(I2925=\"\",\"\",(IF(I2925<=L2925,\"A TIEMPO\",\"FUERA DE TIEMPO\"))))","v":"A TIEMPO"},{"$f":"IF(I2925=\"\",\"\",NETWORKDAYS([4]Hoja1!C2925+1,[4]Hoja1!P2925,DiasNOLaborables))","v":9},"",null,null,20]
[2915,20209050050602,44001,"WEB (MÓDULO DE SOLICITUD DE INFORMACIÓN HIDROMETEOROLÓGICA)","SOLICITUD DE INFORMACIÓN Y DOCUMENTOS","SOLICITUD DE INFORMACIÓN HIDROMETEOROLÓGICA","NO","GRUPO DE ATENCIÓN AL CIUDADANO",44018,null,null,{"$f":"IFERROR(WORKDAY(C2926,R2926,DiasNOLaborables),\"\")","v":44034},{"$f":"+IF(C2926=\"\",\"\",IF(I2926=\"\",\"\",(IF(I2926<=L2926,\"A TIEMPO\",\"FUERA DE TIEMPO\"))))","v":"A TIEMPO"},{"$f":"IF(I2926=\"\",\"\",NETWORKDAYS([4]Hoja1!C2926+1,[4]Hoja1!P2926,DiasNOLaborables))","v":9},"",null,null,20]
[2916,20200619173957,44001,"WEB (MÓDULO DE SOLICITUD DE INFORMACIÓN HIDROMETEOROLÓGICA)","SOLICITUD DE INFORMACIÓN Y DOCUMENTOS","SOLICITUD DE INFORMACIÓN HIDROMETEOROLÓGICA","NO","GRUPO DE ATENCIÓN AL CIUDADANO",44015,null,null,{"$f":"IFERROR(WORKDAY(C2927,R2927,DiasNOLaborables),\"\")","v":44034},{"$f":"+IF(C2927=\"\",\"\",IF(I2927=\"\",\"\",(IF(I2927<=L2927,\"A TIEMPO\",\"FUERA DE TIEMPO\"))))","v":"A TIEMPO"},{"$f":"IF(I2927=\"\",\"\",NETWORKDAYS([4]Hoja1!C2927+1,[4]Hoja1!P2927,DiasNOLaborables))","v":9},"",null,null,20]
[2917,20200619143826,44001,"WEB (MÓDULO DE SOLICITUD DE INFORMACIÓN HIDROMETEOROLÓGICA)","SOLICITUD DE INFORMACIÓN Y DOCUMENTOS","SOLICITUD DE INFORMACIÓN HIDROMETEOROLÓGICA","NO","GRUPO DE ATENCIÓN AL CIUDADANO",44015,null,null,{"$f":"IFERROR(WORKDAY(C2928,R2928,DiasNOLaborables),\"\")","v":44034},{"$f":"+IF(C2928=\"\",\"\",IF(I2928=\"\",\"\",(IF(I2928<=L2928,\"A TIEMPO\",\"FUERA DE TIEMPO\"))))","v":"A TIEMPO"},{"$f":"IF(I2928=\"\",\"\",NETWORKDAYS([4]Hoja1!C2928+1,[4]Hoja1!P2928,DiasNOLaborables))","v":9},"",null,null,20]
[2918,20200619142439,44001,"WEB (MÓDULO DE SOLICITUD DE INFORMACIÓN HIDROMETEOROLÓGICA)","SOLICITUD DE INFORMACIÓN Y DOCUMENTOS","SOLICITUD DE INFORMACIÓN HIDROMETEOROLÓGICA","NO","GRUPO DE ATENCIÓN AL CIUDADANO",44015,null,null,{"$f":"IFERROR(WORKDAY(C2929,R2929,DiasNOLaborables),\"\")","v":44034},{"$f":"+IF(C2929=\"\",\"\",IF(I2929=\"\",\"\",(IF(I2929<=L2929,\"A TIEMPO\",\"FUERA DE TIEMPO\"))))","v":"A TIEMPO"},{"$f":"IF(I2929=\"\",\"\",NETWORKDAYS([4]Hoja1!C2929+1,[4]Hoja1!P2929,DiasNOLaborables))","v":9},"",null,null,20]
[{"$f":"IF(B2928<>\"\",A2929+1,\"\")","v":2919},20200619141105,44001,"WEB (MÓDULO DE SOLICITUD DE INFORMACIÓN HIDROMETEOROLÓGICA)","SOLICITUD DE INFORMACIÓN Y DOCUMENTOS","SOLICITUD DE INFORMACIÓN HIDROMETEOROLÓGICA","NO","GRUPO DE ATENCIÓN AL CIUDADANO",44015,null,null,{"$f":"IFERROR(WORKDAY(C2930,R2930,DiasNOLaborables),\"\")","v":44034},{"$f":"+IF(C2930=\"\",\"\",IF(I2930=\"\",\"\",(IF(I2930<=L2930,\"A TIEMPO\",\"FUERA DE TIEMPO\"))))","v":"A TIEMPO"},{"$f":"IF(I2930=\"\",\"\",NETWORKDAYS([4]Hoja1!C2930+1,[4]Hoja1!P2930,DiasNOLaborables))","v":9},"",null,null,20]
[2920,20200619115944,44001,"WEB (MÓDULO DE SOLICITUD DE INFORMACIÓN HIDROMETEOROLÓGICA)","SOLICITUD DE INFORMACIÓN Y DOCUMENTOS","SOLICITUD DE INFORMACIÓN HIDROMETEOROLÓGICA","NO","GRUPO DE ATENCIÓN AL CIUDADANO",44015,null,null,{"$f":"IFERROR(WORKDAY(C2931,R2931,DiasNOLaborables),\"\")","v":44034},{"$f":"+IF(C2931=\"\",\"\",IF(I2931=\"\",\"\",(IF(I2931<=L2931,\"A TIEMPO\",\"FUERA DE TIEMPO\"))))","v":"A TIEMPO"},{"$f":"IF(I2931=\"\",\"\",NETWORKDAYS([4]Hoja1!C2931+1,[4]Hoja1!P2931,DiasNOLaborables))","v":9},"",null,null,20]
[2921,20200619111612,44001,"WEB (MÓDULO DE SOLICITUD DE INFORMACIÓN HIDROMETEOROLÓGICA)","SOLICITUD DE INFORMACIÓN Y DOCUMENTOS","SOLICITUD DE INFORMACIÓN HIDROMETEOROLÓGICA","NO","GRUPO DE ATENCIÓN AL CIUDADANO",44015,null,null,{"$f":"IFERROR(WORKDAY(C2932,R2932,DiasNOLaborables),\"\")","v":44034},{"$f":"+IF(C2932=\"\",\"\",IF(I2932=\"\",\"\",(IF(I2932<=L2932,\"A TIEMPO\",\"FUERA DE TIEMPO\"))))","v":"A TIEMPO"},{"$f":"IF(I2932=\"\",\"\",NETWORKDAYS([4]Hoja1!C2932+1,[4]Hoja1!P2932,DiasNOLaborables))","v":9},{"$f":"IF(NETWORKDAYS(L2932+1,I2932,DiasNOLaborables)<=0,\"\",NETWORKDAYS(L2932+1,I2932,DiasNOLaborables))","v":""},null,null,20]
[2922,20200619104312,44001,"WEB (MÓDULO DE SOLICITUD DE INFORMACIÓN HIDROMETEOROLÓGICA)","SOLICITUD DE INFORMACIÓN Y DOCUMENTOS","SOLICITUD DE INFORMACIÓN HIDROMETEOROLÓGICA","NO","GRUPO DE ATENCIÓN AL CIUDADANO",44015,null,null,{"$f":"IFERROR(WORKDAY(C2933,R2933,DiasNOLaborables),\"\")","v":44034},{"$f":"+IF(C2933=\"\",\"\",IF(I2933=\"\",\"\",(IF(I2933<=L2933,\"A TIEMPO\",\"FUERA DE TIEMPO\"))))","v":"A TIEMPO"},{"$f":"IF(I2933=\"\",\"\",NETWORKDAYS([4]Hoja1!C2933+1,[4]Hoja1!P2933,DiasNOLaborables))","v":9},"",null,null,20]
[2923,20209050050252,44001,"MODULO CONTACTENOS","SOLICITUD DE INFORMACIÓN Y DOCUMENTOS","SOLICITUD DE INFORMACIÓN HIDROMETEOROLÓGICA","NO","GRUPO DE ATENCIÓN AL CIUDADANO",44013,null,null,{"$f":"IFERROR(WORKDAY(C2934,R2934,DiasNOLaborables),\"\")","v":44034},{"$f":"+IF(C2934=\"\",\"\",IF(I2934=\"\",\"\",(IF(I2934<=L2934,\"A TIEMPO\",\"FUERA DE TIEMPO\"))))","v":"A TIEMPO"},{"$f":"IF(I2934=\"\",\"\",NETWORKDAYS([4]Hoja1!C2934+1,[4]Hoja1!P2934,DiasNOLaborables))","v":9},"",null,null,20]
[2924,20209050050262,44001,"MODULO CONTACTENOS","SOLICITUD DE INFORMACIÓN Y DOCUMENTOS","SOLICITUD DE INFORMACIÓN HIDROMETEOROLÓGICA","NO","GRUPO DE ATENCIÓN AL CIUDADANO",44013,null,null,{"$f":"IFERROR(WORKDAY(C2935,R2935,DiasNOLaborables),\"\")","v":44034},{"$f":"+IF(C2935=\"\",\"\",IF(I2935=\"\",\"\",(IF(I2935<=L2935,\"A TIEMPO\",\"FUERA DE TIEMPO\"))))","v":"A TIEMPO"},{"$f":"IF(I2935=\"\",\"\",NETWORKDAYS([4]Hoja1!C2935+1,[4]Hoja1!P2935,DiasNOLaborables))","v":9},"",null,null,20]
[2925,20209050050272,44001,"MODULO CONTACTENOS","SOLICITUD DE INFORMACIÓN Y DOCUMENTOS","SOLICITUD DE INFORMACIÓN HIDROMETEOROLÓGICA","NO","GRUPO DE ATENCIÓN AL CIUDADANO",44013,null,null,{"$f":"IFERROR(WORKDAY(C2936,R2936,DiasNOLaborables),\"\")","v":44034},{"$f":"+IF(C2936=\"\",\"\",IF(I2936=\"\",\"\",(IF(I2936<=L2936,\"A TIEMPO\",\"FUERA DE TIEMPO\"))))","v":"A TIEMPO"},{"$f":"IF(I2936=\"\",\"\",NETWORKDAYS([4]Hoja1!C2936+1,[4]Hoja1!P2936,DiasNOLaborables))","v":9},"",null,null,20]
[2926,20209050050282,44001,"MODULO CONTACTENOS","SOLICITUD DE INFORMACIÓN Y DOCUMENTOS","SOLICITUD DE INFORMACIÓN HIDROMETEOROLÓGICA","NO","GRUPO DE ATENCIÓN AL CIUDADANO",44013,null,null,{"$f":"IFERROR(WORKDAY(C2937,R2937,DiasNOLaborables),\"\")","v":44034},{"$f":"+IF(C2937=\"\",\"\",IF(I2937=\"\",\"\",(IF(I2937<=L2937,\"A TIEMPO\",\"FUERA DE TIEMPO\"))))","v":"A TIEMPO"},{"$f":"IF(I2937=\"\",\"\",NETWORKDAYS([4]Hoja1!C2937+1,[4]Hoja1!P2937,DiasNOLaborables))","v":9},"",null,null,20]
[2927,20209050050292,44001,"MODULO CONTACTENOS","SOLICITUD DE INFORMACIÓN Y DOCUMENTOS","SOLICITUD DE INFORMACIÓN HIDROMETEOROLÓGICA","NO","GRUPO DE ATENCIÓN AL CIUDADANO",44013,null,null,{"$f":"IFERROR(WORKDAY(C2938,R2938,DiasNOLaborables),\"\")","v":44034},{"$f":"+IF(C2938=\"\",\"\",IF(I2938=\"\",\"\",(IF(I2938<=L2938,\"A TIEMPO\",\"FUERA DE TIEMPO\"))))","v":"A TIEMPO"},{"$f":"IF(I2938=\"\",\"\",NETWORKDAYS([4]Hoja1!C2938+1,[4]Hoja1!P2938,DiasNOLaborables))","v":9},"",null,null,20]
[2928,20209050050312,44001,"CORREO ELECTRÓNICO","SOLICITUD DE INFORMACIÓN Y DOCUMENTOS","SOLICITUD DE INFORMACIÓN HIDROMETEOROLÓGICA","SI","SUBDIRECCIÓN DE HIDROLOGÍA",44007,null,null,{"$f":"IFERROR(WORKDAY(C2939,R2939,DiasNOLaborables),\"\")","v":44034},{"$f":"+IF(C2939=\"\",\"\",IF(I2939=\"\",\"\",(IF(I2939<=L2939,\"A TIEMPO\",\"FUERA DE TIEMPO\"))))","v":"A TIEMPO"},{"$f":"IF(I2939=\"\",\"\",NETWORKDAYS([4]Hoja1!C2939+1,[4]Hoja1!P2939,DiasNOLaborables))","v":9},"",null,null,20]
[2929,20209050050232,44001,"CORREO ELECTRÓNICO","SOLICITUD DE INFORMACIÓN Y DOCUMENTOS","ADMINISTRATIVA","SI","OFICINA ASESORA JURÍDICA",44000,null,null,{"$f":"IFERROR(WORKDAY(C2940,R2940,DiasNOLaborables),\"\")","v":44034},{"$f":"+IF(C2940=\"\",\"\",IF(I2940=\"\",\"\",(IF(I2940<=L2940,\"A TIEMPO\",\"FUERA DE TIEMPO\"))))","v":"A TIEMPO"},{"$f":"IF(I2940=\"\",\"\",NETWORKDAYS([4]Hoja1!C2940+1,[4]Hoja1!P2940,DiasNOLaborables))","v":9},"",null,null,20]
[2930,20209050050242,44001,"CORREO ELECTRÓNICO","SOLICITUD DE INFORMACIÓN Y DOCUMENTOS","SOLICITUD DE INFORMACIÓN HIDROMETEOROLÓGICA","SI","OFICINA DE INFORMÁTICA",44000,null,null,{"$f":"IFERROR(WORKDAY(C2941,R2941,DiasNOLaborables),\"\")","v":44034},{"$f":"+IF(C2941=\"\",\"\",IF(I2941=\"\",\"\",(IF(I2941<=L2941,\"A TIEMPO\",\"FUERA DE TIEMPO\"))))","v":"A TIEMPO"},{"$f":"IF(I2941=\"\",\"\",NETWORKDAYS([4]Hoja1!C2941+1,[4]Hoja1!P2941,DiasNOLaborables))","v":9},"",null,null,20]
[2931,20209050050362,44001,"CORREO ELECTRÓNICO","SOLICITUD DE INFORMACIÓN Y DOCUMENTOS","SOLICITUD DE INFORMACIÓN HIDROMETEOROLÓGICA","SI","OFICINA DE INFORMÁTICA",44005,null,null,{"$f":"IFERROR(WORKDAY(C2942,R2942,DiasNOLaborables),\"\")","v":44034},{"$f":"+IF(C2942=\"\",\"\",IF(I2942=\"\",\"\",(IF(I2942<=L2942,\"A TIEMPO\",\"FUERA DE TIEMPO\"))))","v":"A TIEMPO"},{"$f":"IF(I2942=\"\",\"\",NETWORKDAYS([4]Hoja1!C2942+1,[4]Hoja1!P2942,DiasNOLaborables))","v":9},"",null,null,20]
[2932,20209050050382,44001,"CORREO ELECTRÓNICO","SOLICITUD DE INFORMACIÓN Y DOCUMENTOS","ADMINISTRATIVA","SI","GRUPO DE ADMINISTRACIÓN Y DESARROLLO DEL TALENTO HUMANO",44014,null,null,{"$f":"IFERROR(WORKDAY(C2943,R2943,DiasNOLaborables),\"\")","v":44034},{"$f":"+IF(C2943=\"\",\"\",IF(I2943=\"\",\"\",(IF(I2943<=L2943,\"A TIEMPO\",\"FUERA DE TIEMPO\"))))","v":"A TIEMPO"},{"$f":"IF(I2943=\"\",\"\",NETWORKDAYS([4]Hoja1!C2943+1,[4]Hoja1!P2943,DiasNOLaborables))","v":9},"",null,null,20]
[2933,20209050050402,44001,"CORREO ELECTRÓNICO","SOLICITUD DE INFORMACIÓN Y DOCUMENTOS","SOLICITUD DE INFORMACIÓN HIDROMETEOROLÓGICA","SI","OFICINA DEL SERVICIO DE PRONÓSTICOS Y ALERTAS",44014,null,null,{"$f":"IFERROR(WORKDAY(C2944,R2944,DiasNOLaborables),\"\")","v":44034},{"$f":"+IF(C2944=\"\",\"\",IF(I2944=\"\",\"\",(IF(I2944<=L2944,\"A TIEMPO\",\"FUERA DE TIEMPO\"))))","v":"A TIEMPO"},{"$f":"IF(I2944=\"\",\"\",NETWORKDAYS([4]Hoja1!C2944+1,[4]Hoja1!P2944,DiasNOLaborables))","v":9},"",null,null,20]
[2934,20209050050412,44001,"CORREO ELECTRÓNICO","SOLICITUD JUDICIAL","SOLICITUD DE INFORMACIÓN HIDROMETEOROLÓGICA","SI","SUBDIRECCIÓN DE HIDROLOGÍA",44001,null,null,{"$f":"IFERROR(WORKDAY(C2945,R2945,DiasNOLaborables),\"\")","v":44012},{"$f":"+IF(C2945=\"\",\"\",IF(I2945=\"\",\"\",(IF(I2945<=L2945,\"A TIEMPO\",\"FUERA DE TIEMPO\"))))","v":"A TIEMPO"},{"$f":"IF(I2945=\"\",\"\",NETWORKDAYS([4]Hoja1!C2945+1,[4]Hoja1!P2945,DiasNOLaborables))","v":9},"",null,null,5]
[2935,20209050050422,44001,"CORREO ELECTRÓNICO","SOLICITUD DE INFORMACIÓN Y DOCUMENTOS","SOLICITUD DE INFORMACIÓN HIDROMETEOROLÓGICA","SI","SUBDIRECCIÓN DE ESTUDIOS AMBIENTALES",44013,null,null,{"$f":"IFERROR(WORKDAY(C2946,R2946,DiasNOLaborables),\"\")","v":44034},{"$f":"+IF(C2946=\"\",\"\",IF(I2946=\"\",\"\",(IF(I2946<=L2946,\"A TIEMPO\",\"FUERA DE TIEMPO\"))))","v":"A TIEMPO"},{"$f":"IF(I2946=\"\",\"\",NETWORKDAYS([4]Hoja1!C2946+1,[4]Hoja1!P2946,DiasNOLaborables))","v":9},"",null,null,20]
[2936,20209050050432,44001,"CORREO ELECTRÓNICO","SOLICITUD DE INFORMACIÓN Y DOCUMENTOS","SOLICITUD DE INFORMACIÓN HIDROMETEOROLÓGICA","SI","SUBDIRECCIÓN DE ECOSISTEMAS E INFORMACIÓN AMBIENTAL",44013,null,null,{"$f":"IFERROR(WORKDAY(C2947,R2947,DiasNOLaborables),\"\")","v":44034},{"$f":"+IF(C2947=\"\",\"\",IF(I2947=\"\",\"\",(IF(I2947<=L2947,\"A TIEMPO\",\"FUERA DE TIEMPO\"))))","v":"A TIEMPO"},{"$f":"IF(I2947=\"\",\"\",NETWORKDAYS([4]Hoja1!C2947+1,[4]Hoja1!P2947,DiasNOLaborables))","v":9},"",null,null,20]
[2937,20209050050442,44001,"CORREO ELECTRÓNICO","CERTIFICACIONES DE TIEMPO, CLIMA Y EVENTOS HIDROLÓGICOS","CERTIFICACIONES DE TIEMPO Y CLIMA","SI","SUBDIRECCIÓN DE METEOROLOGÍA",44026,null,null,{"$f":"IFERROR(WORKDAY(C2948,R2948,DiasNOLaborables),\"\")","v":44048},{"$f":"+IF(C2948=\"\",\"\",IF(I2948=\"\",\"\",(IF(I2948<=L2948,\"A TIEMPO\",\"FUERA DE TIEMPO\"))))","v":"A TIEMPO"},{"$f":"IF(I2948=\"\",\"\",NETWORKDAYS([4]Hoja1!C2948+1,[4]Hoja1!P2948,DiasNOLaborables))","v":9},"",null,null,30]
[2938,20209050050462,44001,"MODULO CONTACTENOS","SOLICITUD DE INFORMACIÓN Y DOCUMENTOS","SOLICITUD DE INFORMACIÓN HIDROMETEOROLÓGICA","SI","SUBDIRECCIÓN DE ESTUDIOS AMBIENTALES",44006,null,null,{"$f":"IFERROR(WORKDAY(C2949,R2949,DiasNOLaborables),\"\")","v":44034},{"$f":"+IF(C2949=\"\",\"\",IF(I2949=\"\",\"\",(IF(I2949<=L2949,\"A TIEMPO\",\"FUERA DE TIEMPO\"))))","v":"A TIEMPO"},{"$f":"IF(I2949=\"\",\"\",NETWORKDAYS([4]Hoja1!C2949+1,[4]Hoja1!P2949,DiasNOLaborables))","v":9},"",null,null,20]
[2939,20209050050472,44001,"MODULO CONTACTENOS","SOLICITUD DE INFORMACIÓN Y DOCUMENTOS","SOLICITUD DE INFORMACIÓN HIDROMETEOROLÓGICA","SI","SUBDIRECCIÓN DE ESTUDIOS AMBIENTALES",44019,null,null,{"$f":"IFERROR(WORKDAY(C2950,R2950,DiasNOLaborables),\"\")","v":44034},{"$f":"+IF(C2950=\"\",\"\",IF(I2950=\"\",\"\",(IF(I2950<=L2950,\"A TIEMPO\",\"FUERA DE TIEMPO\"))))","v":"A TIEMPO"},{"$f":"IF(I2950=\"\",\"\",NETWORKDAYS([4]Hoja1!C2950+1,[4]Hoja1!P2950,DiasNOLaborables))","v":9},"",null,null,{"$f":"IFERROR(VLOOKUP(E2950,$Z$50:$AA$63,2),\"\")","v":20}]
[2940,20209050050522,44001,"MODULO CONTACTENOS","SOLICITUD DE INFORMACIÓN Y DOCUMENTOS","ADMINISTRATIVA","SI","GRUPO DE ADMINISTRACIÓN Y DESARROLLO DEL TALENTO HUMANO",44006,null,null,{"$f":"IFERROR(WORKDAY(C2951,R2951,DiasNOLaborables),\"\")","v":44034},{"$f":"+IF(C2951=\"\",\"\",IF(I2951=\"\",\"\",(IF(I2951<=L2951,\"A TIEMPO\",\"FUERA DE TIEMPO\"))))","v":"A TIEMPO"},{"$f":"IF(I2951=\"\",\"\",NETWORKDAYS([4]Hoja1!C2951+1,[4]Hoja1!P2951,DiasNOLaborables))","v":9},"",null,null,20]
[2941,20209050050512,44001,"MODULO CONTACTENOS","SOLICITUD DE INFORMACIÓN Y DOCUMENTOS","SOLICITUD DE INFORMACIÓN HIDROMETEOROLÓGICA","SI","SUBDIRECCIÓN DE METEOROLOGÍA",44008,null,null,{"$f":"IFERROR(WORKDAY(C2952,R2952,DiasNOLaborables),\"\")","v":44034},{"$f":"+IF(C2952=\"\",\"\",IF(I2952=\"\",\"\",(IF(I2952<=L2952,\"A TIEMPO\",\"FUERA DE TIEMPO\"))))","v":"A TIEMPO"},{"$f":"IF(I2952=\"\",\"\",NETWORKDAYS([4]Hoja1!C2952+1,[4]Hoja1!P2952,DiasNOLaborables))","v":9},"",null,null,20]
[2942,20209050050562,44001,"CORREO ELECTRÓNICO","SOLICITUD DE INFORMACIÓN Y DOCUMENTOS","REGISTROS AMBIENTALES","SI","SUBDIRECCIÓN DE ESTUDIOS AMBIENTALES",44001,null,null,{"$f":"IFERROR(WORKDAY(C2953,R2953,DiasNOLaborables),\"\")","v":44034},{"$f":"+IF(C2953=\"\",\"\",IF(I2953=\"\",\"\",(IF(I2953<=L2953,\"A TIEMPO\",\"FUERA DE TIEMPO\"))))","v":"A TIEMPO"},{"$f":"IF(I2953=\"\",\"\",NETWORKDAYS([4]Hoja1!C2953+1,[4]Hoja1!P2953,DiasNOLaborables))","v":9},"",null,null,20]
[2943,20209050050572,44001,"CORREO ELECTRÓNICO","SOLICITUD DE INFORMACIÓN Y DOCUMENTOS","REGISTROS AMBIENTALES","SI","SUBDIRECCIÓN DE ESTUDIOS AMBIENTALES",44001,null,null,{"$f":"IFERROR(WORKDAY(C2954,R2954,DiasNOLaborables),\"\")","v":44034},{"$f":"+IF(C2954=\"\",\"\",IF(I2954=\"\",\"\",(IF(I2954<=L2954,\"A TIEMPO\",\"FUERA DE TIEMPO\"))))","v":"A TIEMPO"},{"$f":"IF(I2954=\"\",\"\",NETWORKDAYS([4]Hoja1!C2954+1,[4]Hoja1!P2954,DiasNOLaborables))","v":9},"",null,null,20]
[2944,20209050050582,44001,"CORREO ELECTRÓNICO","SOLICITUD DE INFORMACIÓN Y DOCUMENTOS","SOLICITUD DE INFORMACIÓN HIDROMETEOROLÓGICA","SI","SUBDIRECCIÓN DE HIDROLOGÍA",44008,null,null,{"$f":"IFERROR(WORKDAY(C2955,R2955,DiasNOLaborables),\"\")","v":44034},{"$f":"+IF(C2955=\"\",\"\",IF(I2955=\"\",\"\",(IF(I2955<=L2955,\"A TIEMPO\",\"FUERA DE TIEMPO\"))))","v":"A TIEMPO"},{"$f":"IF(I2955=\"\",\"\",NETWORKDAYS([4]Hoja1!C2955+1,[4]Hoja1!P2955,DiasNOLaborables))","v":9},"",null,null,20]
[2945,20209050050592,44001,"CORREO ELECTRÓNICO","SOLICITUD DE INFORMACIÓN Y DOCUMENTOS","REGISTROS AMBIENTALES","SI","SUBDIRECCIÓN DE ESTUDIOS AMBIENTALES",44001,null,null,{"$f":"IFERROR(WORKDAY(C2956,R2956,DiasNOLaborables),\"\")","v":44034},{"$f":"+IF(C2956=\"\",\"\",IF(I2956=\"\",\"\",(IF(I2956<=L2956,\"A TIEMPO\",\"FUERA DE TIEMPO\"))))","v":"A TIEMPO"},{"$f":"IF(I2956=\"\",\"\",NETWORKDAYS([4]Hoja1!C2956+1,[4]Hoja1!P2956,DiasNOLaborables))","v":9},"",null,null,20]
[2946,20209050050612,44001,"CORREO ELECTRÓNICO","CERTIFICACIONES DE TIEMPO, CLIMA Y EVENTOS HIDROLÓGICOS","CERTIFICACIONES DE TIEMPO Y CLIMA","SI","SUBDIRECCIÓN DE METEOROLOGÍA",44007,null,null,{"$f":"IFERROR(WORKDAY(C2957,R2957,DiasNOLaborables),\"\")","v":44048},{"$f":"+IF(C2957=\"\",\"\",IF(I2957=\"\",\"\",(IF(I2957<=L2957,\"A TIEMPO\",\"FUERA DE TIEMPO\"))))","v":"A TIEMPO"},{"$f":"IF(I2957=\"\",\"\",NETWORKDAYS([4]Hoja1!C2957+1,[4]Hoja1!P2957,DiasNOLaborables))","v":9},"",null,null,30]
[2947,20209050050622,44001,"CORREO ELECTRÓNICO","SOLICITUD DE INFORMACIÓN Y DOCUMENTOS","REGISTROS AMBIENTALES","SI","SUBDIRECCIÓN DE ESTUDIOS AMBIENTALES",44002,null,null,{"$f":"IFERROR(WORKDAY(C2958,R2958,DiasNOLaborables),\"\")","v":44034},{"$f":"+IF(C2958=\"\",\"\",IF(I2958=\"\",\"\",(IF(I2958<=L2958,\"A TIEMPO\",\"FUERA DE TIEMPO\"))))","v":"A TIEMPO"},{"$f":"IF(I2958=\"\",\"\",NETWORKDAYS([4]Hoja1!C2958+1,[4]Hoja1!P2958,DiasNOLaborables))","v":9},"",null,null,20]
[2948,20209050050642,44002,"MODULO CONTACTENOS","SOLICITUD DE INFORMACIÓN Y DOCUMENTOS","SOLICITUD DE INFORMACIÓN HIDROMETEOROLÓGICA","NO","GRUPO DE ATENCIÓN AL CIUDADANO",44013,null,null,{"$f":"IFERROR(WORKDAY(C2959,R2959,DiasNOLaborables),\"\")","v":44034},{"$f":"+IF(C2959=\"\",\"\",IF(I2959=\"\",\"\",(IF(I2959<=L2959,\"A TIEMPO\",\"FUERA DE TIEMPO\"))))","v":"A TIEMPO"},{"$f":"IF(I2959=\"\",\"\",NETWORKDAYS([4]Hoja1!C2959+1,[4]Hoja1!P2959,DiasNOLaborables))","v":9},"",null,null,20]
[2949,20209050050652,44002,"MODULO CONTACTENOS","SOLICITUD DE INFORMACIÓN Y DOCUMENTOS","SOLICITUD DE INFORMACIÓN HIDROMETEOROLÓGICA","NO","GRUPO DE ATENCIÓN AL CIUDADANO",44013,null,null,{"$f":"IFERROR(WORKDAY(C2960,R2960,DiasNOLaborables),\"\")","v":44034},{"$f":"+IF(C2960=\"\",\"\",IF(I2960=\"\",\"\",(IF(I2960<=L2960,\"A TIEMPO\",\"FUERA DE TIEMPO\"))))","v":"A TIEMPO"},{"$f":"IF(I2960=\"\",\"\",NETWORKDAYS([4]Hoja1!C2960+1,[4]Hoja1!P2960,DiasNOLaborables))","v":9},"",null,null,20]
[2950,20200620212656,44002,"WEB (MÓDULO DE SOLICITUD DE INFORMACIÓN HIDROMETEOROLÓGICA)","SOLICITUD DE INFORMACIÓN Y DOCUMENTOS","SOLICITUD DE INFORMACIÓN HIDROMETEOROLÓGICA","NO","GRUPO DE ATENCIÓN AL CIUDADANO",44015,null,null,{"$f":"IFERROR(WORKDAY(C2961,R2961,DiasNOLaborables),\"\")","v":44034},{"$f":"+IF(C2961=\"\",\"\",IF(I2961=\"\",\"\",(IF(I2961<=L2961,\"A TIEMPO\",\"FUERA DE TIEMPO\"))))","v":"A TIEMPO"},{"$f":"IF(I2961=\"\",\"\",NETWORKDAYS([4]Hoja1!C2961+1,[4]Hoja1!P2961,DiasNOLaborables))","v":9},"",null,null,20]
[2951,20200620211957,44002,"WEB (MÓDULO DE SOLICITUD DE INFORMACIÓN HIDROMETEOROLÓGICA)","SOLICITUD DE INFORMACIÓN Y DOCUMENTOS","SOLICITUD DE INFORMACIÓN HIDROMETEOROLÓGICA","NO","GRUPO DE ATENCIÓN AL CIUDADANO",44015,null,null,{"$f":"IFERROR(WORKDAY(C2962,R2962,DiasNOLaborables),\"\")","v":44034},{"$f":"+IF(C2962=\"\",\"\",IF(I2962=\"\",\"\",(IF(I2962<=L2962,\"A TIEMPO\",\"FUERA DE TIEMPO\"))))","v":"A TIEMPO"},{"$f":"IF(I2962=\"\",\"\",NETWORKDAYS([4]Hoja1!C2962+1,[4]Hoja1!P2962,DiasNOLaborables))","v":9},"",null,null,20]
[2952,20200620211607,44002,"WEB (MÓDULO DE SOLICITUD DE INFORMACIÓN HIDROMETEOROLÓGICA)","SOLICITUD DE INFORMACIÓN Y DOCUMENTOS","SOLICITUD DE INFORMACIÓN HIDROMETEOROLÓGICA","NO","GRUPO DE ATENCIÓN AL CIUDADANO",44015,null,null,{"$f":"IFERROR(WORKDAY(C2963,R2963,DiasNOLaborables),\"\")","v":44034},{"$f":"+IF(C2963=\"\",\"\",IF(I2963=\"\",\"\",(IF(I2963<=L2963,\"A TIEMPO\",\"FUERA DE TIEMPO\"))))","v":"A TIEMPO"},{"$f":"IF(I2963=\"\",\"\",NETWORKDAYS([4]Hoja1!C2963+1,[4]Hoja1!P2963,DiasNOLaborables))","v":9},"",null,null,20]
[2953,20200620211332,44002,"WEB (MÓDULO DE SOLICITUD DE INFORMACIÓN HIDROMETEOROLÓGICA)","SOLICITUD DE INFORMACIÓN Y DOCUMENTOS","SOLICITUD DE INFORMACIÓN HIDROMETEOROLÓGICA","NO","GRUPO DE ATENCIÓN AL CIUDADANO",44015,null,null,{"$f":"IFERROR(WORKDAY(C2964,R2964,DiasNOLaborables),\"\")","v":44034},{"$f":"+IF(C2964=\"\",\"\",IF(I2964=\"\",\"\",(IF(I2964<=L2964,\"A TIEMPO\",\"FUERA DE TIEMPO\"))))","v":"A TIEMPO"},{"$f":"IF(I2964=\"\",\"\",NETWORKDAYS([4]Hoja1!C2964+1,[4]Hoja1!P2964,DiasNOLaborables))","v":9},"",null,null,20]
[2954,20200620211005,44002,"WEB (MÓDULO DE SOLICITUD DE INFORMACIÓN HIDROMETEOROLÓGICA)","SOLICITUD DE INFORMACIÓN Y DOCUMENTOS","SOLICITUD DE INFORMACIÓN HIDROMETEOROLÓGICA","NO","GRUPO DE ATENCIÓN AL CIUDADANO",44015,null,null,{"$f":"IFERROR(WORKDAY(C2965,R2965,DiasNOLaborables),\"\")","v":44034},{"$f":"+IF(C2965=\"\",\"\",IF(I2965=\"\",\"\",(IF(I2965<=L2965,\"A TIEMPO\",\"FUERA DE TIEMPO\"))))","v":"A TIEMPO"},{"$f":"IF(I2965=\"\",\"\",NETWORKDAYS([4]Hoja1!C2965+1,[4]Hoja1!P2965,DiasNOLaborables))","v":8},"",null,null,20]
[2955,20200620210734,44002,"WEB (MÓDULO DE SOLICITUD DE INFORMACIÓN HIDROMETEOROLÓGICA)","SOLICITUD DE INFORMACIÓN Y DOCUMENTOS","SOLICITUD DE INFORMACIÓN HIDROMETEOROLÓGICA","NO","GRUPO DE ATENCIÓN AL CIUDADANO",44015,null,null,{"$f":"IFERROR(WORKDAY(C2966,R2966,DiasNOLaborables),\"\")","v":44034},{"$f":"+IF(C2966=\"\",\"\",IF(I2966=\"\",\"\",(IF(I2966<=L2966,\"A TIEMPO\",\"FUERA DE TIEMPO\"))))","v":"A TIEMPO"},{"$f":"IF(I2966=\"\",\"\",NETWORKDAYS([4]Hoja1!C2966+1,[4]Hoja1!P2966,DiasNOLaborables))","v":8},"",null,null,20]
[2956,20200620210607,44002,"WEB (MÓDULO DE SOLICITUD DE INFORMACIÓN HIDROMETEOROLÓGICA)","SOLICITUD DE INFORMACIÓN Y DOCUMENTOS","SOLICITUD DE INFORMACIÓN HIDROMETEOROLÓGICA","NO","GRUPO DE ATENCIÓN AL CIUDADANO",44015,null,null,{"$f":"IFERROR(WORKDAY(C2967,R2967,DiasNOLaborables),\"\")","v":44034},{"$f":"+IF(C2967=\"\",\"\",IF(I2967=\"\",\"\",(IF(I2967<=L2967,\"A TIEMPO\",\"FUERA DE TIEMPO\"))))","v":"A TIEMPO"},{"$f":"IF(I2967=\"\",\"\",NETWORKDAYS([4]Hoja1!C2967+1,[4]Hoja1!P2967,DiasNOLaborables))","v":8},"",null,null,20]
[2957,20200620210533,44002,"WEB (MÓDULO DE SOLICITUD DE INFORMACIÓN HIDROMETEOROLÓGICA)","SOLICITUD DE INFORMACIÓN Y DOCUMENTOS","SOLICITUD DE INFORMACIÓN HIDROMETEOROLÓGICA","NO","GRUPO DE ATENCIÓN AL CIUDADANO",44015,null,null,{"$f":"IFERROR(WORKDAY(C2968,R2968,DiasNOLaborables),\"\")","v":44034},{"$f":"+IF(C2968=\"\",\"\",IF(I2968=\"\",\"\",(IF(I2968<=L2968,\"A TIEMPO\",\"FUERA DE TIEMPO\"))))","v":"A TIEMPO"},{"$f":"IF(I2968=\"\",\"\",NETWORKDAYS([4]Hoja1!C2968+1,[4]Hoja1!P2968,DiasNOLaborables))","v":8},"",null,null,20]
[2958,20200620210349,44002,"WEB (MÓDULO DE SOLICITUD DE INFORMACIÓN HIDROMETEOROLÓGICA)","SOLICITUD DE INFORMACIÓN Y DOCUMENTOS","SOLICITUD DE INFORMACIÓN HIDROMETEOROLÓGICA","NO","GRUPO DE ATENCIÓN AL CIUDADANO",44015,null,null,{"$f":"IFERROR(WORKDAY(C2969,R2969,DiasNOLaborables),\"\")","v":44034},{"$f":"+IF(C2969=\"\",\"\",IF(I2969=\"\",\"\",(IF(I2969<=L2969,\"A TIEMPO\",\"FUERA DE TIEMPO\"))))","v":"A TIEMPO"},{"$f":"IF(I2969=\"\",\"\",NETWORKDAYS([4]Hoja1!C2969+1,[4]Hoja1!P2969,DiasNOLaborables))","v":8},"",null,null,20]
[2959,20200620205934,44002,"WEB (MÓDULO DE SOLICITUD DE INFORMACIÓN HIDROMETEOROLÓGICA)","SOLICITUD DE INFORMACIÓN Y DOCUMENTOS","SOLICITUD DE INFORMACIÓN HIDROMETEOROLÓGICA","NO","GRUPO DE ATENCIÓN AL CIUDADANO",44015,null,null,{"$f":"IFERROR(WORKDAY(C2970,R2970,DiasNOLaborables),\"\")","v":44034},{"$f":"+IF(C2970=\"\",\"\",IF(I2970=\"\",\"\",(IF(I2970<=L2970,\"A TIEMPO\",\"FUERA DE TIEMPO\"))))","v":"A TIEMPO"},{"$f":"IF(I2970=\"\",\"\",NETWORKDAYS([4]Hoja1!C2970+1,[4]Hoja1!P2970,DiasNOLaborables))","v":8},"",null,null,20]
[2960,20209050050632,44002,"WEB (MÓDULO DE SOLICITUD DE INFORMACIÓN HIDROMETEOROLÓGICA)","SOLICITUD DE INFORMACIÓN Y DOCUMENTOS","SOLICITUD DE INFORMACIÓN HIDROMETEOROLÓGICA","NO","GRUPO DE ATENCIÓN AL CIUDADANO",44018,null,null,{"$f":"IFERROR(WORKDAY(C2971,R2971,DiasNOLaborables),\"\")","v":44034},{"$f":"+IF(C2971=\"\",\"\",IF(I2971=\"\",\"\",(IF(I2971<=L2971,\"A TIEMPO\",\"FUERA DE TIEMPO\"))))","v":"A TIEMPO"},{"$f":"IF(I2971=\"\",\"\",NETWORKDAYS([4]Hoja1!C2971+1,[4]Hoja1!P2971,DiasNOLaborables))","v":8},"",null,null,20]
[2961,20209050050662,44002,"MODULO CONTACTENOS","SOLICITUD DE INFORMACIÓN Y DOCUMENTOS","SOLICITUD DE INFORMACIÓN HIDROMETEOROLÓGICA","NO","GRUPO DE ATENCIÓN AL CIUDADANO",44013,null,null,{"$f":"IFERROR(WORKDAY(C2972,R2972,DiasNOLaborables),\"\")","v":44034},{"$f":"+IF(C2972=\"\",\"\",IF(I2972=\"\",\"\",(IF(I2972<=L2972,\"A TIEMPO\",\"FUERA DE TIEMPO\"))))","v":"A TIEMPO"},{"$f":"IF(I2972=\"\",\"\",NETWORKDAYS([4]Hoja1!C2972+1,[4]Hoja1!P2972,DiasNOLaborables))","v":8},"",null,null,20]
[2962,20209050050732,44003,"CORREO ELECTRÓNICO","SOLICITUD DE INFORMACIÓN Y DOCUMENTOS","SOLICITUD DE INFORMACIÓN HIDROMETEOROLÓGICA","SI","SUBDIRECCIÓN DE ESTUDIOS AMBIENTALES",44018,null,null,{"$f":"IFERROR(WORKDAY(C2973,R2973,DiasNOLaborables),\"\")","v":44034},{"$f":"+IF(C2973=\"\",\"\",IF(I2973=\"\",\"\",(IF(I2973<=L2973,\"A TIEMPO\",\"FUERA DE TIEMPO\"))))","v":"A TIEMPO"},{"$f":"IF(I2973=\"\",\"\",NETWORKDAYS([4]Hoja1!C2973+1,[4]Hoja1!P2973,DiasNOLaborables))","v":8},"",null,null,20]
[2963,20209050050742,44003,"CORREO ELECTRÓNICO","SOLICITUD DE INFORMACIÓN Y DOCUMENTOS","REGISTROS AMBIENTALES","SI","SUBDIRECCIÓN DE ESTUDIOS AMBIENTALES",44006,null,null,{"$f":"IFERROR(WORKDAY(C2974,R2974,DiasNOLaborables),\"\")","v":44034},{"$f":"+IF(C2974=\"\",\"\",IF(I2974=\"\",\"\",(IF(I2974<=L2974,\"A TIEMPO\",\"FUERA DE TIEMPO\"))))","v":"A TIEMPO"},{"$f":"IF(I2974=\"\",\"\",NETWORKDAYS([4]Hoja1!C2974+1,[4]Hoja1!P2974,DiasNOLaborables))","v":7},"",null,null,20]
[2964,20209050050752,44003,"CORREO ELECTRÓNICO","SOLICITUD DE INFORMACIÓN Y DOCUMENTOS","SOLICITUD DE INFORMACIÓN HIDROMETEOROLÓGICA","SI","GRUPO DE GESTIÓN DOCUMENTAL Y CENTRO DE DOCUMENTACIÓN",44006,null,null,{"$f":"IFERROR(WORKDAY(C2975,R2975,DiasNOLaborables),\"\")","v":44034},{"$f":"+IF(C2975=\"\",\"\",IF(I2975=\"\",\"\",(IF(I2975<=L2975,\"A TIEMPO\",\"FUERA DE TIEMPO\"))))","v":"A TIEMPO"},{"$f":"IF(I2975=\"\",\"\",NETWORKDAYS([4]Hoja1!C2975+1,[4]Hoja1!P2975,DiasNOLaborables))","v":7},"",null,null,20]
[2965,20209050050762,44003,"CORREO ELECTRÓNICO","SOLICITUD DE INFORMACIÓN Y DOCUMENTOS","REGISTROS AMBIENTALES","SI","SUBDIRECCIÓN DE ESTUDIOS AMBIENTALES",44003,null,null,{"$f":"IFERROR(WORKDAY(C2976,R2976,DiasNOLaborables),\"\")","v":44034},{"$f":"+IF(C2976=\"\",\"\",IF(I2976=\"\",\"\",(IF(I2976<=L2976,\"A TIEMPO\",\"FUERA DE TIEMPO\"))))","v":"A TIEMPO"},{"$f":"IF(I2976=\"\",\"\",NETWORKDAYS([4]Hoja1!C2976+1,[4]Hoja1!P2976,DiasNOLaborables))","v":7},"",null,null,20]
[2966,20209050050772,44003,"CORREO ELECTRÓNICO","SOLICITUD DE INFORMACIÓN Y DOCUMENTOS","SOLICITUD DE INFORMACIÓN HIDROMETEOROLÓGICA","SI","SUBDIRECCIÓN DE ECOSISTEMAS E INFORMACIÓN AMBIENTAL",44020,null,null,{"$f":"IFERROR(WORKDAY(C2977,R2977,DiasNOLaborables),\"\")","v":44034},{"$f":"+IF(C2977=\"\",\"\",IF(I2977=\"\",\"\",(IF(I2977<=L2977,\"A TIEMPO\",\"FUERA DE TIEMPO\"))))","v":"A TIEMPO"},{"$f":"IF(I2977=\"\",\"\",NETWORKDAYS([4]Hoja1!C2977+1,[4]Hoja1!P2977,DiasNOLaborables))","v":7},"",null,null,20]
[2967,20209050050812,44003,"CORREO ELECTRÓNICO","SOLICITUD DE INFORMACIÓN Y DOCUMENTOS","REGISTROS AMBIENTALES","SI","SUBDIRECCIÓN DE ESTUDIOS AMBIENTALES",44003,null,null,{"$f":"IFERROR(WORKDAY(C2978,R2978,DiasNOLaborables),\"\")","v":44034},{"$f":"+IF(C2978=\"\",\"\",IF(I2978=\"\",\"\",(IF(I2978<=L2978,\"A TIEMPO\",\"FUERA DE TIEMPO\"))))","v":"A TIEMPO"},{"$f":"IF(I2978=\"\",\"\",NETWORKDAYS([4]Hoja1!C2978+1,[4]Hoja1!P2978,DiasNOLaborables))","v":7},"",null,null,20]
[2968,20200621205604,44003,"WEB (MÓDULO DE SOLICITUD DE INFORMACIÓN HIDROMETEOROLÓGICA)","SOLICITUD DE INFORMACIÓN Y DOCUMENTOS","SOLICITUD DE INFORMACIÓN HIDROMETEOROLÓGICA","NO","GRUPO DE ATENCIÓN AL CIUDADANO",44015,null,null,{"$f":"IFERROR(WORKDAY(C2979,R2979,DiasNOLaborables),\"\")","v":44034},{"$f":"+IF(C2979=\"\",\"\",IF(I2979=\"\",\"\",(IF(I2979<=L2979,\"A TIEMPO\",\"FUERA DE TIEMPO\"))))","v":"A TIEMPO"},{"$f":"IF(I2979=\"\",\"\",NETWORKDAYS([4]Hoja1!C2979+1,[4]Hoja1!P2979,DiasNOLaborables))","v":7},"",null,null,20]
[2969,20200621113443,44003,"WEB (MÓDULO DE SOLICITUD DE INFORMACIÓN HIDROMETEOROLÓGICA)","SOLICITUD DE INFORMACIÓN Y DOCUMENTOS","SOLICITUD DE INFORMACIÓN HIDROMETEOROLÓGICA","NO","GRUPO DE ATENCIÓN AL CIUDADANO",44015,null,null,{"$f":"IFERROR(WORKDAY(C2980,R2980,DiasNOLaborables),\"\")","v":44034},{"$f":"+IF(C2980=\"\",\"\",IF(I2980=\"\",\"\",(IF(I2980<=L2980,\"A TIEMPO\",\"FUERA DE TIEMPO\"))))","v":"A TIEMPO"},{"$f":"IF(I2980=\"\",\"\",NETWORKDAYS([4]Hoja1!C2980+1,[4]Hoja1!P2980,DiasNOLaborables))","v":7},"",null,null,20]
[2970,20209050050682,44003,"MODULO CONTACTENOS","SOLICITUD DE INFORMACIÓN Y DOCUMENTOS","SOLICITUD DE INFORMACIÓN HIDROMETEOROLÓGICA","SI","SUBDIRECCIÓN DE ESTUDIOS AMBIENTALES",44007,null,null,{"$f":"IFERROR(WORKDAY(C2981,R2981,DiasNOLaborables),\"\")","v":44034},{"$f":"+IF(C2981=\"\",\"\",IF(I2981=\"\",\"\",(IF(I2981<=L2981,\"A TIEMPO\",\"FUERA DE TIEMPO\"))))","v":"A TIEMPO"},{"$f":"IF(I2981=\"\",\"\",NETWORKDAYS([4]Hoja1!C2981+1,[4]Hoja1!P2981,DiasNOLaborables))","v":8},"",null,null,20]
[2971,20209050050672,44003,"MODULO CONTACTENOS","SOLICITUD DE INFORMACIÓN Y DOCUMENTOS","SOLICITUD DE INFORMACIÓN HIDROMETEOROLÓGICA","NO","GRUPO DE ATENCIÓN AL CIUDADANO",44018,null,null,{"$f":"IFERROR(WORKDAY(C2982,R2982,DiasNOLaborables),\"\")","v":44034},{"$f":"+IF(C2982=\"\",\"\",IF(I2982=\"\",\"\",(IF(I2982<=L2982,\"A TIEMPO\",\"FUERA DE TIEMPO\"))))","v":"A TIEMPO"},{"$f":"IF(I2982=\"\",\"\",NETWORKDAYS([4]Hoja1!C2982+1,[4]Hoja1!P2982,DiasNOLaborables))","v":8},"",null,null,20]
[2972,20209050050692,44003,"MODULO CONTACTENOS","SOLICITUD DE INFORMACIÓN Y DOCUMENTOS","SOLICITUD DE INFORMACIÓN HIDROMETEOROLÓGICA","NO","GRUPO DE ATENCIÓN AL CIUDADANO",44018,null,null,{"$f":"IFERROR(WORKDAY(C2983,R2983,DiasNOLaborables),\"\")","v":44034},{"$f":"+IF(C2983=\"\",\"\",IF(I2983=\"\",\"\",(IF(I2983<=L2983,\"A TIEMPO\",\"FUERA DE TIEMPO\"))))","v":"A TIEMPO"},{"$f":"IF(I2983=\"\",\"\",NETWORKDAYS([4]Hoja1!C2983+1,[4]Hoja1!P2983,DiasNOLaborables))","v":8},"",null,null,20]
[2973,20209050050702,44003,"MODULO CONTACTENOS","SOLICITUD DE INFORMACIÓN Y DOCUMENTOS","SOLICITUD DE INFORMACIÓN HIDROMETEOROLÓGICA","NO","GRUPO DE ATENCIÓN AL CIUDADANO",44018,null,null,{"$f":"IFERROR(WORKDAY(C2984,R2984,DiasNOLaborables),\"\")","v":44034},{"$f":"+IF(C2984=\"\",\"\",IF(I2984=\"\",\"\",(IF(I2984<=L2984,\"A TIEMPO\",\"FUERA DE TIEMPO\"))))","v":"A TIEMPO"},{"$f":"IF(I2984=\"\",\"\",NETWORKDAYS([4]Hoja1!C2984+1,[4]Hoja1!P2984,DiasNOLaborables))","v":8},"",null,null,20]
[2974,20209050050712,44003,"MODULO CONTACTENOS","SOLICITUD DE INFORMACIÓN Y DOCUMENTOS","SOLICITUD DE INFORMACIÓN HIDROMETEOROLÓGICA","NO","GRUPO DE ATENCIÓN AL CIUDADANO",44018,null,null,{"$f":"IFERROR(WORKDAY(C2985,R2985,DiasNOLaborables),\"\")","v":44034},{"$f":"+IF(C2985=\"\",\"\",IF(I2985=\"\",\"\",(IF(I2985<=L2985,\"A TIEMPO\",\"FUERA DE TIEMPO\"))))","v":"A TIEMPO"},{"$f":"IF(I2985=\"\",\"\",NETWORKDAYS([4]Hoja1!C2985+1,[4]Hoja1!P2985,DiasNOLaborables))","v":8},"",null,null,20]
[2975,20209050050722,44003,"MODULO CONTACTENOS","SOLICITUD DE INFORMACIÓN Y DOCUMENTOS","SOLICITUD DE INFORMACIÓN HIDROMETEOROLÓGICA","NO","GRUPO DE ATENCIÓN AL CIUDADANO",44018,null,null,{"$f":"IFERROR(WORKDAY(C2986,R2986,DiasNOLaborables),\"\")","v":44034},{"$f":"+IF(C2986=\"\",\"\",IF(I2986=\"\",\"\",(IF(I2986<=L2986,\"A TIEMPO\",\"FUERA DE TIEMPO\"))))","v":"A TIEMPO"},{"$f":"IF(I2986=\"\",\"\",NETWORKDAYS([4]Hoja1!C2986+1,[4]Hoja1!P2986,DiasNOLaborables))","v":8},"",null,null,20]
[2976,20209050050782,44003,"MODULO CONTACTENOS","SOLICITUD DE INFORMACIÓN Y DOCUMENTOS","SOLICITUD DE INFORMACIÓN HIDROMETEOROLÓGICA","NO","GRUPO DE ATENCIÓN AL CIUDADANO",44018,null,null,{"$f":"IFERROR(WORKDAY(C2987,R2987,DiasNOLaborables),\"\")","v":44034},{"$f":"+IF(C2987=\"\",\"\",IF(I2987=\"\",\"\",(IF(I2987<=L2987,\"A TIEMPO\",\"FUERA DE TIEMPO\"))))","v":"A TIEMPO"},{"$f":"IF(I2987=\"\",\"\",NETWORKDAYS([4]Hoja1!C2987+1,[4]Hoja1!P2987,DiasNOLaborables))","v":9},"",null,null,20]
[2977,20209050050792,44003,"MODULO CONTACTENOS","SOLICITUD DE INFORMACIÓN Y DOCUMENTOS","SOLICITUD DE INFORMACIÓN HIDROMETEOROLÓGICA","NO","GRUPO DE ATENCIÓN AL CIUDADANO",44018,null,null,{"$f":"IFERROR(WORKDAY(C2988,R2988,DiasNOLaborables),\"\")","v":44034},{"$f":"+IF(C2988=\"\",\"\",IF(I2988=\"\",\"\",(IF(I2988<=L2988,\"A TIEMPO\",\"FUERA DE TIEMPO\"))))","v":"A TIEMPO"},{"$f":"IF(I2988=\"\",\"\",NETWORKDAYS([4]Hoja1!C2988+1,[4]Hoja1!P2988,DiasNOLaborables))","v":9},"",null,null,20]
[2978,20200621131746,44003,"WEB (MÓDULO DE SOLICITUD DE INFORMACIÓN HIDROMETEOROLÓGICA)","SOLICITUD DE INFORMACIÓN Y DOCUMENTOS","SOLICITUD DE INFORMACIÓN HIDROMETEOROLÓGICA","NO","GRUPO DE ATENCIÓN AL CIUDADANO",44019,null,null,{"$f":"IFERROR(WORKDAY(C2989,R2989,DiasNOLaborables),\"\")","v":44034},{"$f":"+IF(C2989=\"\",\"\",IF(I2989=\"\",\"\",(IF(I2989<=L2989,\"A TIEMPO\",\"FUERA DE TIEMPO\"))))","v":"A TIEMPO"},{"$f":"IF(I2989=\"\",\"\",NETWORKDAYS([4]Hoja1!C2989+1,[4]Hoja1!P2989,DiasNOLaborables))","v":9},"",null,null,20]
[2979,20209050050802,44003,"MODULO CONTACTENOS","SOLICITUD DE INFORMACIÓN Y DOCUMENTOS","SOLICITUD DE INFORMACIÓN HIDROMETEOROLÓGICA","NO","GRUPO DE ATENCIÓN AL CIUDADANO",44018,null,null,{"$f":"IFERROR(WORKDAY(C2990,R2990,DiasNOLaborables),\"\")","v":44034},{"$f":"+IF(C2990=\"\",\"\",IF(I2990=\"\",\"\",(IF(I2990<=L2990,\"A TIEMPO\",\"FUERA DE TIEMPO\"))))","v":"A TIEMPO"},{"$f":"IF(I2990=\"\",\"\",NETWORKDAYS([4]Hoja1!C2990+1,[4]Hoja1!P2990,DiasNOLaborables))","v":9},"",null,null,20]
[2980,20209050050832,44004,"MODULO CONTACTENOS","SOLICITUD DE INFORMACIÓN Y DOCUMENTOS","SOLICITUD DE INFORMACIÓN HIDROMETEOROLÓGICA","NO","GRUPO DE ATENCIÓN AL CIUDADANO",44018,null,null,{"$f":"IFERROR(WORKDAY(C2991,R2991,DiasNOLaborables),\"\")","v":44034},{"$f":"+IF(C2991=\"\",\"\",IF(I2991=\"\",\"\",(IF(I2991<=L2991,\"A TIEMPO\",\"FUERA DE TIEMPO\"))))","v":"A TIEMPO"},{"$f":"IF(I2991=\"\",\"\",NETWORKDAYS([4]Hoja1!C2991+1,[4]Hoja1!P2991,DiasNOLaborables))","v":9},"",null,null,20]
[2981,20209050050842,44004,"MODULO CONTACTENOS","SOLICITUD DE INFORMACIÓN Y DOCUMENTOS","SOLICITUD DE INFORMACIÓN HIDROMETEOROLÓGICA","NO","GRUPO DE ATENCIÓN AL CIUDADANO",44018,null,null,{"$f":"IFERROR(WORKDAY(C2992,R2992,DiasNOLaborables),\"\")","v":44034},{"$f":"+IF(C2992=\"\",\"\",IF(I2992=\"\",\"\",(IF(I2992<=L2992,\"A TIEMPO\",\"FUERA DE TIEMPO\"))))","v":"A TIEMPO"},{"$f":"IF(I2992=\"\",\"\",NETWORKDAYS([4]Hoja1!C2992+1,[4]Hoja1!P2992,DiasNOLaborables))","v":9},"",null,null,20]
[2982,20209050050852,44004,"MODULO CONTACTENOS","SOLICITUD DE INFORMACIÓN Y DOCUMENTOS","SOLICITUD DE INFORMACIÓN HIDROMETEOROLÓGICA","NO","GRUPO DE ATENCIÓN AL CIUDADANO",44018,null,null,{"$f":"IFERROR(WORKDAY(C2993,R2993,DiasNOLaborables),\"\")","v":44034},{"$f":"+IF(C2993=\"\",\"\",IF(I2993=\"\",\"\",(IF(I2993<=L2993,\"A TIEMPO\",\"FUERA DE TIEMPO\"))))","v":"A TIEMPO"},{"$f":"IF(I2993=\"\",\"\",NETWORKDAYS([4]Hoja1!C2993+1,[4]Hoja1!P2993,DiasNOLaborables))","v":9},"",null,null,20]
[{"$f":"IF(B2992<>\"\",A2993+1,\"\")","v":2983},20209050050862,44004,"MODULO CONTACTENOS","SOLICITUD DE INFORMACIÓN Y DOCUMENTOS","SOLICITUD DE INFORMACIÓN HIDROMETEOROLÓGICA","NO","GRUPO DE ATENCIÓN AL CIUDADANO",44018,null,null,{"$f":"IFERROR(WORKDAY(C2994,R2994,DiasNOLaborables),\"\")","v":44034},{"$f":"+IF(C2994=\"\",\"\",IF(I2994=\"\",\"\",(IF(I2994<=L2994,\"A TIEMPO\",\"FUERA DE TIEMPO\"))))","v":"A TIEMPO"},{"$f":"IF(I2994=\"\",\"\",NETWORKDAYS([4]Hoja1!C2994+1,[4]Hoja1!P2994,DiasNOLaborables))","v":9},"",null,null,20]
[2984,20209050050872,44004,"MODULO CONTACTENOS","SOLICITUD DE INFORMACIÓN Y DOCUMENTOS","SOLICITUD DE INFORMACIÓN HIDROMETEOROLÓGICA","NO","GRUPO DE ATENCIÓN AL CIUDADANO",44018,null,null,{"$f":"IFERROR(WORKDAY(C2995,R2995,DiasNOLaborables),\"\")","v":44034},{"$f":"+IF(C2995=\"\",\"\",IF(I2995=\"\",\"\",(IF(I2995<=L2995,\"A TIEMPO\",\"FUERA DE TIEMPO\"))))","v":"A TIEMPO"},{"$f":"IF(I2995=\"\",\"\",NETWORKDAYS([4]Hoja1!C2995+1,[4]Hoja1!P2995,DiasNOLaborables))","v":9},"",null,null,20]
[2985,20209050050882,44004,"MODULO CONTACTENOS","SOLICITUD DE INFORMACIÓN Y DOCUMENTOS","SOLICITUD DE INFORMACIÓN HIDROMETEOROLÓGICA","NO","GRUPO DE ATENCIÓN AL CIUDADANO",44018,null,null,{"$f":"IFERROR(WORKDAY(C2996,R2996,DiasNOLaborables),\"\")","v":44034},{"$f":"+IF(C2996=\"\",\"\",IF(I2996=\"\",\"\",(IF(I2996<=L2996,\"A TIEMPO\",\"FUERA DE TIEMPO\"))))","v":"A TIEMPO"},{"$f":"IF(I2996=\"\",\"\",NETWORKDAYS([4]Hoja1!C2996+1,[4]Hoja1!P2996,DiasNOLaborables))","v":9},{"$f":"IF(NETWORKDAYS(L2996+1,I2996,DiasNOLaborables)<=0,\"\",NETWORKDAYS(L2996+1,I2996,DiasNOLaborables))","v":""},null,null,20]
[2986,20209050050892,44004,"MODULO CONTACTENOS","SOLICITUD DE INFORMACIÓN Y DOCUMENTOS","SOLICITUD DE INFORMACIÓN HIDROMETEOROLÓGICA","NO","GRUPO DE ATENCIÓN AL CIUDADANO",44018,null,null,{"$f":"IFERROR(WORKDAY(C2997,R2997,DiasNOLaborables),\"\")","v":44034},{"$f":"+IF(C2997=\"\",\"\",IF(I2997=\"\",\"\",(IF(I2997<=L2997,\"A TIEMPO\",\"FUERA DE TIEMPO\"))))","v":"A TIEMPO"},{"$f":"IF(I2997=\"\",\"\",NETWORKDAYS([4]Hoja1!C2997+1,[4]Hoja1!P2997,DiasNOLaborables))","v":8},"",null,null,20]
[2987,20209050050902,44004,"MODULO CONTACTENOS","SOLICITUD DE INFORMACIÓN Y DOCUMENTOS","SOLICITUD DE INFORMACIÓN HIDROMETEOROLÓGICA","NO","GRUPO DE ATENCIÓN AL CIUDADANO",44018,null,null,{"$f":"IFERROR(WORKDAY(C2998,R2998,DiasNOLaborables),\"\")","v":44034},{"$f":"+IF(C2998=\"\",\"\",IF(I2998=\"\",\"\",(IF(I2998<=L2998,\"A TIEMPO\",\"FUERA DE TIEMPO\"))))","v":"A TIEMPO"},{"$f":"IF(I2998=\"\",\"\",NETWORKDAYS([4]Hoja1!C2998+1,[4]Hoja1!P2998,DiasNOLaborables))","v":8},"",null,null,20]
[2988,20200622172404,44004,"WEB (MÓDULO DE SOLICITUD DE INFORMACIÓN HIDROMETEOROLÓGICA)","SOLICITUD DE INFORMACIÓN Y DOCUMENTOS","SOLICITUD DE INFORMACIÓN HIDROMETEOROLÓGICA","NO","GRUPO DE ATENCIÓN AL CIUDADANO",44018,null,null,{"$f":"IFERROR(WORKDAY(C2999,R2999,DiasNOLaborables),\"\")","v":44034},{"$f":"+IF(C2999=\"\",\"\",IF(I2999=\"\",\"\",(IF(I2999<=L2999,\"A TIEMPO\",\"FUERA DE TIEMPO\"))))","v":"A TIEMPO"},{"$f":"IF(I2999=\"\",\"\",NETWORKDAYS([4]Hoja1!C2999+1,[4]Hoja1!P2999,DiasNOLaborables))","v":8},"",null,null,20]
[2989,20200622164545,44004,"WEB (MÓDULO DE SOLICITUD DE INFORMACIÓN HIDROMETEOROLÓGICA)","SOLICITUD DE INFORMACIÓN Y DOCUMENTOS","SOLICITUD DE INFORMACIÓN HIDROMETEOROLÓGICA","NO","GRUPO DE ATENCIÓN AL CIUDADANO",44018,null,null,{"$f":"IFERROR(WORKDAY(C3000,R3000,DiasNOLaborables),\"\")","v":44034},{"$f":"+IF(C3000=\"\",\"\",IF(I3000=\"\",\"\",(IF(I3000<=L3000,\"A TIEMPO\",\"FUERA DE TIEMPO\"))))","v":"A TIEMPO"},{"$f":"IF(I3000=\"\",\"\",NETWORKDAYS([4]Hoja1!C3000+1,[4]Hoja1!P3000,DiasNOLaborables))","v":8},"",null,null,20]
[2990,20200622163345,44004,"WEB (MÓDULO DE SOLICITUD DE INFORMACIÓN HIDROMETEOROLÓGICA)","SOLICITUD DE INFORMACIÓN Y DOCUMENTOS","SOLICITUD DE INFORMACIÓN HIDROMETEOROLÓGICA","NO","GRUPO DE ATENCIÓN AL CIUDADANO",44018,null,null,{"$f":"IFERROR(WORKDAY(C3001,R3001,DiasNOLaborables),\"\")","v":44034},{"$f":"+IF(C3001=\"\",\"\",IF(I3001=\"\",\"\",(IF(I3001<=L3001,\"A TIEMPO\",\"FUERA DE TIEMPO\"))))","v":"A TIEMPO"},{"$f":"IF(I3001=\"\",\"\",NETWORKDAYS([4]Hoja1!C3001+1,[4]Hoja1!P3001,DiasNOLaborables))","v":8},"",null,null,20]
[2991,20200622161913,44004,"WEB (MÓDULO DE SOLICITUD DE INFORMACIÓN HIDROMETEOROLÓGICA)","SOLICITUD DE INFORMACIÓN Y DOCUMENTOS","SOLICITUD DE INFORMACIÓN HIDROMETEOROLÓGICA","NO","GRUPO DE ATENCIÓN AL CIUDADANO",44018,null,null,{"$f":"IFERROR(WORKDAY(C3002,R3002,DiasNOLaborables),\"\")","v":44034},{"$f":"+IF(C3002=\"\",\"\",IF(I3002=\"\",\"\",(IF(I3002<=L3002,\"A TIEMPO\",\"FUERA DE TIEMPO\"))))","v":"A TIEMPO"},{"$f":"IF(I3002=\"\",\"\",NETWORKDAYS([4]Hoja1!C3002+1,[4]Hoja1!P3002,DiasNOLaborables))","v":8},"",null,null,20]
[2992,20200622161221,44004,"WEB (MÓDULO DE SOLICITUD DE INFORMACIÓN HIDROMETEOROLÓGICA)","SOLICITUD DE INFORMACIÓN Y DOCUMENTOS","SOLICITUD DE INFORMACIÓN HIDROMETEOROLÓGICA","NO","GRUPO DE ATENCIÓN AL CIUDADANO",44018,null,null,{"$f":"IFERROR(WORKDAY(C3003,R3003,DiasNOLaborables),\"\")","v":44034},{"$f":"+IF(C3003=\"\",\"\",IF(I3003=\"\",\"\",(IF(I3003<=L3003,\"A TIEMPO\",\"FUERA DE TIEMPO\"))))","v":"A TIEMPO"},{"$f":"IF(I3003=\"\",\"\",NETWORKDAYS([4]Hoja1!C3003+1,[4]Hoja1!P3003,DiasNOLaborables))","v":9},"",null,null,20]
[2993,20200622160401,44004,"WEB (MÓDULO DE SOLICITUD DE INFORMACIÓN HIDROMETEOROLÓGICA)","SOLICITUD DE INFORMACIÓN Y DOCUMENTOS","SOLICITUD DE INFORMACIÓN HIDROMETEOROLÓGICA","NO","GRUPO DE ATENCIÓN AL CIUDADANO",44018,null,null,{"$f":"IFERROR(WORKDAY(C3004,R3004,DiasNOLaborables),\"\")","v":44034},{"$f":"+IF(C3004=\"\",\"\",IF(I3004=\"\",\"\",(IF(I3004<=L3004,\"A TIEMPO\",\"FUERA DE TIEMPO\"))))","v":"A TIEMPO"},{"$f":"IF(I3004=\"\",\"\",NETWORKDAYS([4]Hoja1!C3004+1,[4]Hoja1!P3004,DiasNOLaborables))","v":9},"",null,null,20]
[2994,20200622155438,44004,"WEB (MÓDULO DE SOLICITUD DE INFORMACIÓN HIDROMETEOROLÓGICA)","SOLICITUD DE INFORMACIÓN Y DOCUMENTOS","SOLICITUD DE INFORMACIÓN HIDROMETEOROLÓGICA","NO","GRUPO DE ATENCIÓN AL CIUDADANO",44018,null,null,{"$f":"IFERROR(WORKDAY(C3005,R3005,DiasNOLaborables),\"\")","v":44034},{"$f":"+IF(C3005=\"\",\"\",IF(I3005=\"\",\"\",(IF(I3005<=L3005,\"A TIEMPO\",\"FUERA DE TIEMPO\"))))","v":"A TIEMPO"},{"$f":"IF(I3005=\"\",\"\",NETWORKDAYS([4]Hoja1!C3005+1,[4]Hoja1!P3005,DiasNOLaborables))","v":9},"",null,null,20]
[2995,20200622150524,44004,"WEB (MÓDULO DE SOLICITUD DE INFORMACIÓN HIDROMETEOROLÓGICA)","SOLICITUD DE INFORMACIÓN Y DOCUMENTOS","SOLICITUD DE INFORMACIÓN HIDROMETEOROLÓGICA","NO","GRUPO DE ATENCIÓN AL CIUDADANO",44018,null,null,{"$f":"IFERROR(WORKDAY(C3006,R3006,DiasNOLaborables),\"\")","v":44034},{"$f":"+IF(C3006=\"\",\"\",IF(I3006=\"\",\"\",(IF(I3006<=L3006,\"A TIEMPO\",\"FUERA DE TIEMPO\"))))","v":"A TIEMPO"},{"$f":"IF(I3006=\"\",\"\",NETWORKDAYS([4]Hoja1!C3006+1,[4]Hoja1!P3006,DiasNOLaborables))","v":9},"",null,null,20]
[2996,20200622143725,44004,"WEB (MÓDULO DE SOLICITUD DE INFORMACIÓN HIDROMETEOROLÓGICA)","SOLICITUD DE INFORMACIÓN Y DOCUMENTOS","SOLICITUD DE INFORMACIÓN HIDROMETEOROLÓGICA","NO","GRUPO DE ATENCIÓN AL CIUDADANO",44018,null,null,{"$f":"IFERROR(WORKDAY(C3007,R3007,DiasNOLaborables),\"\")","v":44034},{"$f":"+IF(C3007=\"\",\"\",IF(I3007=\"\",\"\",(IF(I3007<=L3007,\"A TIEMPO\",\"FUERA DE TIEMPO\"))))","v":"A TIEMPO"},{"$f":"IF(I3007=\"\",\"\",NETWORKDAYS([4]Hoja1!C3007+1,[4]Hoja1!P3007,DiasNOLaborables))","v":8},"",null,null,20]
[2997,20200622143319,44004,"WEB (MÓDULO DE SOLICITUD DE INFORMACIÓN HIDROMETEOROLÓGICA)","SOLICITUD DE INFORMACIÓN Y DOCUMENTOS","SOLICITUD DE INFORMACIÓN HIDROMETEOROLÓGICA","NO","GRUPO DE ATENCIÓN AL CIUDADANO",44018,null,null,{"$f":"IFERROR(WORKDAY(C3008,R3008,DiasNOLaborables),\"\")","v":44034},{"$f":"+IF(C3008=\"\",\"\",IF(I3008=\"\",\"\",(IF(I3008<=L3008,\"A TIEMPO\",\"FUERA DE TIEMPO\"))))","v":"A TIEMPO"},{"$f":"IF(I3008=\"\",\"\",NETWORKDAYS([4]Hoja1!C3008+1,[4]Hoja1!P3008,DiasNOLaborables))","v":8},"",null,null,20]
[2998,20200622142645,44004,"WEB (MÓDULO DE SOLICITUD DE INFORMACIÓN HIDROMETEOROLÓGICA)","SOLICITUD DE INFORMACIÓN Y DOCUMENTOS","SOLICITUD DE INFORMACIÓN HIDROMETEOROLÓGICA","NO","GRUPO DE ATENCIÓN AL CIUDADANO",44018,null,null,{"$f":"IFERROR(WORKDAY(C3009,R3009,DiasNOLaborables),\"\")","v":44034},{"$f":"+IF(C3009=\"\",\"\",IF(I3009=\"\",\"\",(IF(I3009<=L3009,\"A TIEMPO\",\"FUERA DE TIEMPO\"))))","v":"A TIEMPO"},{"$f":"IF(I3009=\"\",\"\",NETWORKDAYS([4]Hoja1!C3009+1,[4]Hoja1!P3009,DiasNOLaborables))","v":4},"",null,null,20]
[2999,20200622121458,44004,"WEB (MÓDULO DE SOLICITUD DE INFORMACIÓN HIDROMETEOROLÓGICA)","SOLICITUD DE INFORMACIÓN Y DOCUMENTOS","SOLICITUD DE INFORMACIÓN HIDROMETEOROLÓGICA","NO","GRUPO DE ATENCIÓN AL CIUDADANO",44018,null,null,{"$f":"IFERROR(WORKDAY(C3010,R3010,DiasNOLaborables),\"\")","v":44034},{"$f":"+IF(C3010=\"\",\"\",IF(I3010=\"\",\"\",(IF(I3010<=L3010,\"A TIEMPO\",\"FUERA DE TIEMPO\"))))","v":"A TIEMPO"},{"$f":"IF(I3010=\"\",\"\",NETWORKDAYS([4]Hoja1!C3010+1,[4]Hoja1!P3010,DiasNOLaborables))","v":7},"",null,null,20]
[3000,20200622121307,44004,"WEB (MÓDULO DE SOLICITUD DE INFORMACIÓN HIDROMETEOROLÓGICA)","SOLICITUD DE INFORMACIÓN Y DOCUMENTOS","SOLICITUD DE INFORMACIÓN HIDROMETEOROLÓGICA","NO","GRUPO DE ATENCIÓN AL CIUDADANO",44018,null,null,{"$f":"IFERROR(WORKDAY(C3011,R3011,DiasNOLaborables),\"\")","v":44034},{"$f":"+IF(C3011=\"\",\"\",IF(I3011=\"\",\"\",(IF(I3011<=L3011,\"A TIEMPO\",\"FUERA DE TIEMPO\"))))","v":"A TIEMPO"},{"$f":"IF(I3011=\"\",\"\",NETWORKDAYS([4]Hoja1!C3011+1,[4]Hoja1!P3011,DiasNOLaborables))","v":7},"",null,null,20]
[3001,20200622121029,44004,"WEB (MÓDULO DE SOLICITUD DE INFORMACIÓN HIDROMETEOROLÓGICA)","SOLICITUD DE INFORMACIÓN Y DOCUMENTOS","SOLICITUD DE INFORMACIÓN HIDROMETEOROLÓGICA","NO","GRUPO DE ATENCIÓN AL CIUDADANO",44018,null,null,{"$f":"IFERROR(WORKDAY(C3012,R3012,DiasNOLaborables),\"\")","v":44034},{"$f":"+IF(C3012=\"\",\"\",IF(I3012=\"\",\"\",(IF(I3012<=L3012,\"A TIEMPO\",\"FUERA DE TIEMPO\"))))","v":"A TIEMPO"},{"$f":"IF(I3012=\"\",\"\",NETWORKDAYS([4]Hoja1!C3012+1,[4]Hoja1!P3012,DiasNOLaborables))","v":7},"",null,null,20]
[3002,20209050050932,44004,"CORREO ELECTRÓNICO","SOLICITUD DE INFORMACIÓN Y DOCUMENTOS","REGISTROS AMBIENTALES","SI","SUBDIRECCIÓN DE ESTUDIOS AMBIENTALES",44004,null,null,{"$f":"IFERROR(WORKDAY(C3013,R3013,DiasNOLaborables),\"\")","v":44034},{"$f":"+IF(C3013=\"\",\"\",IF(I3013=\"\",\"\",(IF(I3013<=L3013,\"A TIEMPO\",\"FUERA DE TIEMPO\"))))","v":"A TIEMPO"},{"$f":"IF(I3013=\"\",\"\",NETWORKDAYS([4]Hoja1!C3013+1,[4]Hoja1!P3013,DiasNOLaborables))","v":7},"",null,null,20]
[3003,20209050050952,44004,"CORREO ELECTRÓNICO","SOLICITUD DE INFORMACIÓN Y DOCUMENTOS","SOLICITUD DE INFORMACIÓN HIDROMETEOROLÓGICA","SI","SUBDIRECCIÓN DE HIDROLOGÍA",44025,null,null,{"$f":"IFERROR(WORKDAY(C3014,R3014,DiasNOLaborables),\"\")","v":44034},{"$f":"+IF(C3014=\"\",\"\",IF(I3014=\"\",\"\",(IF(I3014<=L3014,\"A TIEMPO\",\"FUERA DE TIEMPO\"))))","v":"A TIEMPO"},{"$f":"IF(I3014=\"\",\"\",NETWORKDAYS([4]Hoja1!C3014+1,[4]Hoja1!P3014,DiasNOLaborables))","v":7},"",null,null,{"$f":"IFERROR(VLOOKUP(E3014,$Z$50:$AA$63,2),\"\")","v":20}]
[3004,20209050050962,44004,"CORREO ELECTRÓNICO","SOLICITUD DE INFORMACIÓN Y DOCUMENTOS","SOLICITUD DE INFORMACIÓN HIDROMETEOROLÓGICA","SI","SUBDIRECCIÓN DE HIDROLOGÍA",44007,null,null,{"$f":"IFERROR(WORKDAY(C3015,R3015,DiasNOLaborables),\"\")","v":44034},{"$f":"+IF(C3015=\"\",\"\",IF(I3015=\"\",\"\",(IF(I3015<=L3015,\"A TIEMPO\",\"FUERA DE TIEMPO\"))))","v":"A TIEMPO"},{"$f":"IF(I3015=\"\",\"\",NETWORKDAYS([4]Hoja1!C3015+1,[4]Hoja1!P3015,DiasNOLaborables))","v":7},"",null,null,20]
[3005,20209050051062,44004,"CORREO ELECTRÓNICO","SOLICITUD DE INFORMACIÓN Y DOCUMENTOS","REGISTROS AMBIENTALES","SI","SUBDIRECCIÓN DE ESTUDIOS AMBIENTALES",44019,null,null,{"$f":"IFERROR(WORKDAY(C3016,R3016,DiasNOLaborables),\"\")","v":44034},{"$f":"+IF(C3016=\"\",\"\",IF(I3016=\"\",\"\",(IF(I3016<=L3016,\"A TIEMPO\",\"FUERA DE TIEMPO\"))))","v":"A TIEMPO"},{"$f":"IF(I3016=\"\",\"\",NETWORKDAYS([4]Hoja1!C3016+1,[4]Hoja1!P3016,DiasNOLaborables))","v":7},"",null,null,20]
[3006,20209050051072,44004,"CORREO ELECTRÓNICO","SOLICITUD DE INFORMACIÓN Y DOCUMENTOS","REGISTROS AMBIENTALES","SI","SUBDIRECCIÓN DE ESTUDIOS AMBIENTALES",44005,null,null,{"$f":"IFERROR(WORKDAY(C3017,R3017,DiasNOLaborables),\"\")","v":44034},{"$f":"+IF(C3017=\"\",\"\",IF(I3017=\"\",\"\",(IF(I3017<=L3017,\"A TIEMPO\",\"FUERA DE TIEMPO\"))))","v":"A TIEMPO"},{"$f":"IF(I3017=\"\",\"\",NETWORKDAYS([4]Hoja1!C3017+1,[4]Hoja1!P3017,DiasNOLaborables))","v":7},"",null,null,20]
[3007,20209050051102,44004,"CORREO ELECTRÓNICO","SOLICITUD DE INFORMACIÓN Y DOCUMENTOS","ADMINISTRATIVA","SI","GRUPO DE TESORERÍA",44006,null,null,{"$f":"IFERROR(WORKDAY(C3018,R3018,DiasNOLaborables),\"\")","v":44034},{"$f":"+IF(C3018=\"\",\"\",IF(I3018=\"\",\"\",(IF(I3018<=L3018,\"A TIEMPO\",\"FUERA DE TIEMPO\"))))","v":"A TIEMPO"},{"$f":"IF(I3018=\"\",\"\",NETWORKDAYS([4]Hoja1!C3018+1,[4]Hoja1!P3018,DiasNOLaborables))","v":7},"",null,null,20]
[3008,20209050051112,44004,"CORREO ELECTRÓNICO","SOLICITUD DE INFORMACIÓN Y DOCUMENTOS","REGISTROS AMBIENTALES","SI","SUBDIRECCIÓN DE ESTUDIOS AMBIENTALES",44019,null,null,{"$f":"IFERROR(WORKDAY(C3019,R3019,DiasNOLaborables),\"\")","v":44034},{"$f":"+IF(C3019=\"\",\"\",IF(I3019=\"\",\"\",(IF(I3019<=L3019,\"A TIEMPO\",\"FUERA DE TIEMPO\"))))","v":"A TIEMPO"},{"$f":"IF(I3019=\"\",\"\",NETWORKDAYS([4]Hoja1!C3019+1,[4]Hoja1!P3019,DiasNOLaborables))","v":7},"",null,null,20]
[3009,20209050051132,44004,"CORREO ELECTRÓNICO","SOLICITUD DE INFORMACIÓN Y DOCUMENTOS","REGISTROS AMBIENTALES","SI","SUBDIRECCIÓN DE ESTUDIOS AMBIENTALES",44002,null,null,{"$f":"IFERROR(WORKDAY(C3020,R3020,DiasNOLaborables),\"\")","v":44034},{"$f":"+IF(C3020=\"\",\"\",IF(I3020=\"\",\"\",(IF(I3020<=L3020,\"A TIEMPO\",\"FUERA DE TIEMPO\"))))","v":"A TIEMPO"},{"$f":"IF(I3020=\"\",\"\",NETWORKDAYS([4]Hoja1!C3020+1,[4]Hoja1!P3020,DiasNOLaborables))","v":7},"",null,null,20]
[3010,20209050051142,44004,"CORREO ELECTRÓNICO","CERTIFICACIONES DE TIEMPO, CLIMA Y EVENTOS HIDROLÓGICOS","CERTIFICACIONES DE TIEMPO Y CLIMA","SI","SUBDIRECCIÓN DE METEOROLOGÍA",44006,null,null,{"$f":"IFERROR(WORKDAY(C3021,R3021,DiasNOLaborables),\"\")","v":44048},{"$f":"+IF(C3021=\"\",\"\",IF(I3021=\"\",\"\",(IF(I3021<=L3021,\"A TIEMPO\",\"FUERA DE TIEMPO\"))))","v":"A TIEMPO"},{"$f":"IF(I3021=\"\",\"\",NETWORKDAYS([4]Hoja1!C3021+1,[4]Hoja1!P3021,DiasNOLaborables))","v":7},"",null,null,30]
[3011,20209050051152,44004,"CORREO ELECTRÓNICO","SOLICITUD DE INFORMACIÓN Y DOCUMENTOS","SOLICITUD DE INFORMACIÓN HIDROMETEOROLÓGICA","SI","SUBDIRECCIÓN DE ECOSISTEMAS E INFORMACIÓN AMBIENTAL",44013,null,null,{"$f":"IFERROR(WORKDAY(C3022,R3022,DiasNOLaborables),\"\")","v":44034},{"$f":"+IF(C3022=\"\",\"\",IF(I3022=\"\",\"\",(IF(I3022<=L3022,\"A TIEMPO\",\"FUERA DE TIEMPO\"))))","v":"A TIEMPO"},{"$f":"IF(I3022=\"\",\"\",NETWORKDAYS([4]Hoja1!C3022+1,[4]Hoja1!P3022,DiasNOLaborables))","v":7},"",null,null,20]
[3012,20209050051162,44004,"CORREO ELECTRÓNICO","SOLICITUD DE INFORMACIÓN Y DOCUMENTOS","SOLICITUD DE INFORMACIÓN HIDROMETEOROLÓGICA","SI","SUBDIRECCIÓN DE METEOROLOGÍA",44014,null,null,{"$f":"IFERROR(WORKDAY(C3023,R3023,DiasNOLaborables),\"\")","v":44034},{"$f":"+IF(C3023=\"\",\"\",IF(I3023=\"\",\"\",(IF(I3023<=L3023,\"A TIEMPO\",\"FUERA DE TIEMPO\"))))","v":"A TIEMPO"},{"$f":"IF(I3023=\"\",\"\",NETWORKDAYS([4]Hoja1!C3023+1,[4]Hoja1!P3023,DiasNOLaborables))","v":7},"",null,null,20]
[3013,20209050050992,44004,"MODULO CONTACTENOS","SOLICITUD DE INFORMACIÓN Y DOCUMENTOS","SOLICITUD DE INFORMACIÓN HIDROMETEOROLÓGICA","SI","OFICINA DE INFORMÁTICA",44008,null,null,{"$f":"IFERROR(WORKDAY(C3024,R3024,DiasNOLaborables),\"\")","v":44034},{"$f":"+IF(C3024=\"\",\"\",IF(I3024=\"\",\"\",(IF(I3024<=L3024,\"A TIEMPO\",\"FUERA DE TIEMPO\"))))","v":"A TIEMPO"},{"$f":"IF(I3024=\"\",\"\",NETWORKDAYS([4]Hoja1!C3024+1,[4]Hoja1!P3024,DiasNOLaborables))","v":7},"",null,null,20]
[3014,20209050050982,44004,"MODULO CONTACTENOS","SOLICITUD DE INFORMACIÓN Y DOCUMENTOS","ADMINISTRATIVA","SI","GRUPO DE TESORERÍA",44006,null,null,{"$f":"IFERROR(WORKDAY(C3025,R3025,DiasNOLaborables),\"\")","v":44034},{"$f":"+IF(C3025=\"\",\"\",IF(I3025=\"\",\"\",(IF(I3025<=L3025,\"A TIEMPO\",\"FUERA DE TIEMPO\"))))","v":"A TIEMPO"},{"$f":"IF(I3025=\"\",\"\",NETWORKDAYS([4]Hoja1!C3025+1,[4]Hoja1!P3025,DiasNOLaborables))","v":7},"",null,null,20]
[3015,20209050051082,44004,"MODULO CONTACTENOS","SOLICITUD DE INFORMACIÓN Y DOCUMENTOS","ADMINISTRATIVA","SI","OFICINA ASESORA JURÍDICA",44005,null,null,{"$f":"IFERROR(WORKDAY(C3026,R3026,DiasNOLaborables),\"\")","v":44034},{"$f":"+IF(C3026=\"\",\"\",IF(I3026=\"\",\"\",(IF(I3026<=L3026,\"A TIEMPO\",\"FUERA DE TIEMPO\"))))","v":"A TIEMPO"},{"$f":"IF(I3026=\"\",\"\",NETWORKDAYS([4]Hoja1!C3026+1,[4]Hoja1!P3026,DiasNOLaborables))","v":7},"",null,null,20]
[3016,20209050051182,44004,"CORREO ELECTRÓNICO","SOLICITUD DE INFORMACIÓN Y DOCUMENTOS","SOLICITUD DE INFORMACIÓN HIDROMETEOROLÓGICA","SI","SUBDIRECCIÓN DE ESTUDIOS AMBIENTALES",44015,null,null,{"$f":"IFERROR(WORKDAY(C3027,R3027,DiasNOLaborables),\"\")","v":44034},{"$f":"+IF(C3027=\"\",\"\",IF(I3027=\"\",\"\",(IF(I3027<=L3027,\"A TIEMPO\",\"FUERA DE TIEMPO\"))))","v":"A TIEMPO"},{"$f":"IF(I3027=\"\",\"\",NETWORKDAYS([4]Hoja1!C3027+1,[4]Hoja1!P3027,DiasNOLaborables))","v":7},"",null,null,20]
[3017,20209050051192,44004,"CORREO ELECTRÓNICO","CERTIFICACIONES DE TIEMPO, CLIMA Y EVENTOS HIDROLÓGICOS","CERTIFICACIONES DE TIEMPO Y CLIMA","SI","SUBDIRECCIÓN DE HIDROLOGÍA",44014,null,null,{"$f":"IFERROR(WORKDAY(C3028,R3028,DiasNOLaborables),\"\")","v":44048},{"$f":"+IF(C3028=\"\",\"\",IF(I3028=\"\",\"\",(IF(I3028<=L3028,\"A TIEMPO\",\"FUERA DE TIEMPO\"))))","v":"A TIEMPO"},{"$f":"IF(I3028=\"\",\"\",NETWORKDAYS([4]Hoja1!C3028+1,[4]Hoja1!P3028,DiasNOLaborables))","v":7},"",null,null,30]
[3018,20209050051202,44004,"MODULO CONTACTENOS","SOLICITUD DE INFORMACIÓN Y DOCUMENTOS","SOLICITUD DE INFORMACIÓN HIDROMETEOROLÓGICA","SI","OFICINA DE INFORMÁTICA",44008,null,null,{"$f":"IFERROR(WORKDAY(C3029,R3029,DiasNOLaborables),\"\")","v":44034},{"$f":"+IF(C3029=\"\",\"\",IF(I3029=\"\",\"\",(IF(I3029<=L3029,\"A TIEMPO\",\"FUERA DE TIEMPO\"))))","v":"A TIEMPO"},{"$f":"IF(I3029=\"\",\"\",NETWORKDAYS([4]Hoja1!C3029+1,[4]Hoja1!P3029,DiasNOLaborables))","v":7},"",null,null,20]
[3019,20209050051232,44004,"MODULO CONTACTENOS","PETICIÓN","SOLICITUD DE INFORMACIÓN HIDROMETEOROLÓGICA","SI","SUBDIRECCIÓN DE HIDROLOGÍA",44036,null,null,{"$f":"IFERROR(WORKDAY(C3030,R3030,DiasNOLaborables),\"\")","v":44048},{"$f":"+IF(C3030=\"\",\"\",IF(I3030=\"\",\"\",(IF(I3030<=L3030,\"A TIEMPO\",\"FUERA DE TIEMPO\"))))","v":"A TIEMPO"},{"$f":"IF(I3030=\"\",\"\",NETWORKDAYS([4]Hoja1!C3030+1,[4]Hoja1!P3030,DiasNOLaborables))","v":7},"",null,null,30]
[3020,20209050051262,44004,"CORREO ELECTRÓNICO","SOLICITUD DE INFORMACIÓN Y DOCUMENTOS","REGISTROS AMBIENTALES","SI","SUBDIRECCIÓN DE ESTUDIOS AMBIENTALES",44005,null,null,{"$f":"IFERROR(WORKDAY(C3031,R3031,DiasNOLaborables),\"\")","v":44034},{"$f":"+IF(C3031=\"\",\"\",IF(I3031=\"\",\"\",(IF(I3031<=L3031,\"A TIEMPO\",\"FUERA DE TIEMPO\"))))","v":"A TIEMPO"},{"$f":"IF(I3031=\"\",\"\",NETWORKDAYS([4]Hoja1!C3031+1,[4]Hoja1!P3031,DiasNOLaborables))","v":7},"",null,null,20]
[3021,20209050051312,44005,"MODULO CONTACTENOS","SOLICITUD DE INFORMACIÓN Y DOCUMENTOS","ADMINISTRATIVA","SI","GRUPO DE TESORERÍA",44006,null,null,{"$f":"IFERROR(WORKDAY(C3032,R3032,DiasNOLaborables),\"\")","v":44035},{"$f":"+IF(C3032=\"\",\"\",IF(I3032=\"\",\"\",(IF(I3032<=L3032,\"A TIEMPO\",\"FUERA DE TIEMPO\"))))","v":"A TIEMPO"},{"$f":"IF(I3032=\"\",\"\",NETWORKDAYS([4]Hoja1!C3032+1,[4]Hoja1!P3032,DiasNOLaborables))","v":7},"",null,null,20]
[3022,20209050051322,44005,"MODULO CONTACTENOS","SOLICITUD DE INFORMACIÓN Y DOCUMENTOS","SOLICITUD DE INFORMACIÓN HIDROMETEOROLÓGICA","SI","SUBDIRECCIÓN DE ESTUDIOS AMBIENTALES",44007,null,null,{"$f":"IFERROR(WORKDAY(C3033,R3033,DiasNOLaborables),\"\")","v":44035},{"$f":"+IF(C3033=\"\",\"\",IF(I3033=\"\",\"\",(IF(I3033<=L3033,\"A TIEMPO\",\"FUERA DE TIEMPO\"))))","v":"A TIEMPO"},{"$f":"IF(I3033=\"\",\"\",NETWORKDAYS([4]Hoja1!C3033+1,[4]Hoja1!P3033,DiasNOLaborables))","v":7},"",null,null,20]
[3023,20209050051362,44005,"MODULO CONTACTENOS","SOLICITUD DE INFORMACIÓN Y DOCUMENTOS","ADMINISTRATIVA","SI","GRUPO DE ADMINISTRACIÓN Y DESARROLLO DEL TALENTO HUMANO",44015,null,null,{"$f":"IFERROR(WORKDAY(C3034,R3034,DiasNOLaborables),\"\")","v":44035},{"$f":"+IF(C3034=\"\",\"\",IF(I3034=\"\",\"\",(IF(I3034<=L3034,\"A TIEMPO\",\"FUERA DE TIEMPO\"))))","v":"A TIEMPO"},{"$f":"IF(I3034=\"\",\"\",NETWORKDAYS([4]Hoja1!C3034+1,[4]Hoja1!P3034,DiasNOLaborables))","v":7},"",null,null,20]
[3024,20209050051372,44005,"MODULO CONTACTENOS","PETICIÓN","SOLICITUD DE INFORMACIÓN HIDROMETEOROLÓGICA","SI","SUBDIRECCIÓN DE ECOSISTEMAS E INFORMACIÓN AMBIENTAL",44043,null,null,{"$f":"IFERROR(WORKDAY(C3035,R3035,DiasNOLaborables),\"\")","v":44049},{"$f":"+IF(C3035=\"\",\"\",IF(I3035=\"\",\"\",(IF(I3035<=L3035,\"A TIEMPO\",\"FUERA DE TIEMPO\"))))","v":"A TIEMPO"},{"$f":"IF(I3035=\"\",\"\",NETWORKDAYS([4]Hoja1!C3035+1,[4]Hoja1!P3035,DiasNOLaborables))","v":8},"",null,null,30]
[3025,20209050050942,44005,"MODULO CONTACTENOS","SOLICITUD DE INFORMACIÓN Y DOCUMENTOS","SOLICITUD DE INFORMACIÓN HIDROMETEOROLÓGICA","NO","GRUPO DE ATENCIÓN AL CIUDADANO",44019,null,null,{"$f":"IFERROR(WORKDAY(C3036,R3036,DiasNOLaborables),\"\")","v":44035},{"$f":"+IF(C3036=\"\",\"\",IF(I3036=\"\",\"\",(IF(I3036<=L3036,\"A TIEMPO\",\"FUERA DE TIEMPO\"))))","v":"A TIEMPO"},{"$f":"IF(I3036=\"\",\"\",NETWORKDAYS([4]Hoja1!C3036+1,[4]Hoja1!P3036,DiasNOLaborables))","v":8},"",null,null,20]
[3026,20209050051092,44005,"MODULO CONTACTENOS","SOLICITUD DE INFORMACIÓN Y DOCUMENTOS","SOLICITUD DE INFORMACIÓN HIDROMETEOROLÓGICA","NO","GRUPO DE ATENCIÓN AL CIUDADANO",44019,null,null,{"$f":"IFERROR(WORKDAY(C3037,R3037,DiasNOLaborables),\"\")","v":44035},{"$f":"+IF(C3037=\"\",\"\",IF(I3037=\"\",\"\",(IF(I3037<=L3037,\"A TIEMPO\",\"FUERA DE TIEMPO\"))))","v":"A TIEMPO"},{"$f":"IF(I3037=\"\",\"\",NETWORKDAYS([4]Hoja1!C3037+1,[4]Hoja1!P3037,DiasNOLaborables))","v":8},"",null,null,20]
[3027,20209050051122,44005,"MODULO CONTACTENOS","SOLICITUD DE INFORMACIÓN Y DOCUMENTOS","SOLICITUD DE INFORMACIÓN HIDROMETEOROLÓGICA","NO","GRUPO DE ATENCIÓN AL CIUDADANO",44019,null,null,{"$f":"IFERROR(WORKDAY(C3038,R3038,DiasNOLaborables),\"\")","v":44035},{"$f":"+IF(C3038=\"\",\"\",IF(I3038=\"\",\"\",(IF(I3038<=L3038,\"A TIEMPO\",\"FUERA DE TIEMPO\"))))","v":"A TIEMPO"},{"$f":"IF(I3038=\"\",\"\",NETWORKDAYS([4]Hoja1!C3038+1,[4]Hoja1!P3038,DiasNOLaborables))","v":8},"",null,null,20]
[3028,20209050051172,44005,"MODULO CONTACTENOS","SOLICITUD DE INFORMACIÓN Y DOCUMENTOS","SOLICITUD DE INFORMACIÓN HIDROMETEOROLÓGICA","NO","GRUPO DE ATENCIÓN AL CIUDADANO",44019,null,null,{"$f":"IFERROR(WORKDAY(C3039,R3039,DiasNOLaborables),\"\")","v":44035},{"$f":"+IF(C3039=\"\",\"\",IF(I3039=\"\",\"\",(IF(I3039<=L3039,\"A TIEMPO\",\"FUERA DE TIEMPO\"))))","v":"A TIEMPO"},{"$f":"IF(I3039=\"\",\"\",NETWORKDAYS([4]Hoja1!C3039+1,[4]Hoja1!P3039,DiasNOLaborables))","v":8},"",null,null,20]
[3029,20209050051212,44005,"MODULO CONTACTENOS","SOLICITUD DE INFORMACIÓN Y DOCUMENTOS","SOLICITUD DE INFORMACIÓN HIDROMETEOROLÓGICA","NO","GRUPO DE ATENCIÓN AL CIUDADANO",44019,null,null,{"$f":"IFERROR(WORKDAY(C3040,R3040,DiasNOLaborables),\"\")","v":44035},{"$f":"+IF(C3040=\"\",\"\",IF(I3040=\"\",\"\",(IF(I3040<=L3040,\"A TIEMPO\",\"FUERA DE TIEMPO\"))))","v":"A TIEMPO"},{"$f":"IF(I3040=\"\",\"\",NETWORKDAYS([4]Hoja1!C3040+1,[4]Hoja1!P3040,DiasNOLaborables))","v":8},"",null,null,20]
[3030,20209050051222,44005,"MODULO CONTACTENOS","SOLICITUD DE INFORMACIÓN Y DOCUMENTOS","SOLICITUD DE INFORMACIÓN HIDROMETEOROLÓGICA","NO","GRUPO DE ATENCIÓN AL CIUDADANO",44019,null,null,{"$f":"IFERROR(WORKDAY(C3041,R3041,DiasNOLaborables),\"\")","v":44035},{"$f":"+IF(C3041=\"\",\"\",IF(I3041=\"\",\"\",(IF(I3041<=L3041,\"A TIEMPO\",\"FUERA DE TIEMPO\"))))","v":"A TIEMPO"},{"$f":"IF(I3041=\"\",\"\",NETWORKDAYS([4]Hoja1!C3041+1,[4]Hoja1!P3041,DiasNOLaborables))","v":8},"",null,null,20]
[3031,20209050051242,44005,"MODULO CONTACTENOS","SOLICITUD DE INFORMACIÓN Y DOCUMENTOS","SOLICITUD DE INFORMACIÓN HIDROMETEOROLÓGICA","NO","GRUPO DE ATENCIÓN AL CIUDADANO",44019,null,null,{"$f":"IFERROR(WORKDAY(C3042,R3042,DiasNOLaborables),\"\")","v":44035},{"$f":"+IF(C3042=\"\",\"\",IF(I3042=\"\",\"\",(IF(I3042<=L3042,\"A TIEMPO\",\"FUERA DE TIEMPO\"))))","v":"A TIEMPO"},{"$f":"IF(I3042=\"\",\"\",NETWORKDAYS([4]Hoja1!C3042+1,[4]Hoja1!P3042,DiasNOLaborables))","v":8},"",null,null,20]
[3032,20209050051252,44005,"MODULO CONTACTENOS","SOLICITUD DE INFORMACIÓN Y DOCUMENTOS","SOLICITUD DE INFORMACIÓN HIDROMETEOROLÓGICA","NO","GRUPO DE ATENCIÓN AL CIUDADANO",44019,null,null,{"$f":"IFERROR(WORKDAY(C3043,R3043,DiasNOLaborables),\"\")","v":44035},{"$f":"+IF(C3043=\"\",\"\",IF(I3043=\"\",\"\",(IF(I3043<=L3043,\"A TIEMPO\",\"FUERA DE TIEMPO\"))))","v":"A TIEMPO"},{"$f":"IF(I3043=\"\",\"\",NETWORKDAYS([4]Hoja1!C3043+1,[4]Hoja1!P3043,DiasNOLaborables))","v":8},"",null,null,20]
[3033,20209050050972,44005,"WEB (MÓDULO DE SOLICITUD DE INFORMACIÓN HIDROMETEOROLÓGICA)","SOLICITUD DE INFORMACIÓN Y DOCUMENTOS","SOLICITUD DE INFORMACIÓN HIDROMETEOROLÓGICA","NO","GRUPO DE ATENCIÓN AL CIUDADANO",44018,null,null,{"$f":"IFERROR(WORKDAY(C3044,R3044,DiasNOLaborables),\"\")","v":44035},{"$f":"+IF(C3044=\"\",\"\",IF(I3044=\"\",\"\",(IF(I3044<=L3044,\"A TIEMPO\",\"FUERA DE TIEMPO\"))))","v":"A TIEMPO"},{"$f":"IF(I3044=\"\",\"\",NETWORKDAYS([4]Hoja1!C3044+1,[4]Hoja1!P3044,DiasNOLaborables))","v":8},"",null,null,20]
[3034,20209050051002,44005,"WEB (MÓDULO DE SOLICITUD DE INFORMACIÓN HIDROMETEOROLÓGICA)","SOLICITUD DE INFORMACIÓN Y DOCUMENTOS","SOLICITUD DE INFORMACIÓN HIDROMETEOROLÓGICA","NO","GRUPO DE ATENCIÓN AL CIUDADANO",44018,null,null,{"$f":"IFERROR(WORKDAY(C3045,R3045,DiasNOLaborables),\"\")","v":44035},{"$f":"+IF(C3045=\"\",\"\",IF(I3045=\"\",\"\",(IF(I3045<=L3045,\"A TIEMPO\",\"FUERA DE TIEMPO\"))))","v":"A TIEMPO"},{"$f":"IF(I3045=\"\",\"\",NETWORKDAYS([4]Hoja1!C3045+1,[4]Hoja1!P3045,DiasNOLaborables))","v":8},"",null,null,20]
[3035,20209050051012,44005,"WEB (MÓDULO DE SOLICITUD DE INFORMACIÓN HIDROMETEOROLÓGICA)","SOLICITUD DE INFORMACIÓN Y DOCUMENTOS","SOLICITUD DE INFORMACIÓN HIDROMETEOROLÓGICA","NO","GRUPO DE ATENCIÓN AL CIUDADANO",44019,null,null,{"$f":"IFERROR(WORKDAY(C3046,R3046,DiasNOLaborables),\"\")","v":44035},{"$f":"+IF(C3046=\"\",\"\",IF(I3046=\"\",\"\",(IF(I3046<=L3046,\"A TIEMPO\",\"FUERA DE TIEMPO\"))))","v":"A TIEMPO"},{"$f":"IF(I3046=\"\",\"\",NETWORKDAYS([4]Hoja1!C3046+1,[4]Hoja1!P3046,DiasNOLaborables))","v":8},"",null,null,20]
[3036,20200623210026,44005,"WEB (MÓDULO DE SOLICITUD DE INFORMACIÓN HIDROMETEOROLÓGICA)","SOLICITUD DE INFORMACIÓN Y DOCUMENTOS","SOLICITUD DE INFORMACIÓN HIDROMETEOROLÓGICA","NO","GRUPO DE ATENCIÓN AL CIUDADANO",44019,null,null,{"$f":"IFERROR(WORKDAY(C3047,R3047,DiasNOLaborables),\"\")","v":44035},{"$f":"+IF(C3047=\"\",\"\",IF(I3047=\"\",\"\",(IF(I3047<=L3047,\"A TIEMPO\",\"FUERA DE TIEMPO\"))))","v":"A TIEMPO"},{"$f":"IF(I3047=\"\",\"\",NETWORKDAYS([4]Hoja1!C3047+1,[4]Hoja1!P3047,DiasNOLaborables))","v":8},"",null,null,20]
[3037,20200623195106,44005,"WEB (MÓDULO DE SOLICITUD DE INFORMACIÓN HIDROMETEOROLÓGICA)","SOLICITUD DE INFORMACIÓN Y DOCUMENTOS","SOLICITUD DE INFORMACIÓN HIDROMETEOROLÓGICA","NO","GRUPO DE ATENCIÓN AL CIUDADANO",44019,null,null,{"$f":"IFERROR(WORKDAY(C3048,R3048,DiasNOLaborables),\"\")","v":44035},{"$f":"+IF(C3048=\"\",\"\",IF(I3048=\"\",\"\",(IF(I3048<=L3048,\"A TIEMPO\",\"FUERA DE TIEMPO\"))))","v":"A TIEMPO"},{"$f":"IF(I3048=\"\",\"\",NETWORKDAYS([4]Hoja1!C3048+1,[4]Hoja1!P3048,DiasNOLaborables))","v":8},"",null,null,20]
[3038,20200623194145,44005,"WEB (MÓDULO DE SOLICITUD DE INFORMACIÓN HIDROMETEOROLÓGICA)","SOLICITUD DE INFORMACIÓN Y DOCUMENTOS","SOLICITUD DE INFORMACIÓN HIDROMETEOROLÓGICA","NO","GRUPO DE ATENCIÓN AL CIUDADANO",44019,null,null,{"$f":"IFERROR(WORKDAY(C3049,R3049,DiasNOLaborables),\"\")","v":44035},{"$f":"+IF(C3049=\"\",\"\",IF(I3049=\"\",\"\",(IF(I3049<=L3049,\"A TIEMPO\",\"FUERA DE TIEMPO\"))))","v":"A TIEMPO"},{"$f":"IF(I3049=\"\",\"\",NETWORKDAYS([4]Hoja1!C3049+1,[4]Hoja1!P3049,DiasNOLaborables))","v":8},"",null,null,20]
[3039,20200623193609,44005,"WEB (MÓDULO DE SOLICITUD DE INFORMACIÓN HIDROMETEOROLÓGICA)","SOLICITUD DE INFORMACIÓN Y DOCUMENTOS","SOLICITUD DE INFORMACIÓN HIDROMETEOROLÓGICA","NO","GRUPO DE ATENCIÓN AL CIUDADANO",44019,null,null,{"$f":"IFERROR(WORKDAY(C3050,R3050,DiasNOLaborables),\"\")","v":44035},{"$f":"+IF(C3050=\"\",\"\",IF(I3050=\"\",\"\",(IF(I3050<=L3050,\"A TIEMPO\",\"FUERA DE TIEMPO\"))))","v":"A TIEMPO"},{"$f":"IF(I3050=\"\",\"\",NETWORKDAYS([4]Hoja1!C3050+1,[4]Hoja1!P3050,DiasNOLaborables))","v":8},"",null,null,20]
[3040,20200623193201,44005,"WEB (MÓDULO DE SOLICITUD DE INFORMACIÓN HIDROMETEOROLÓGICA)","SOLICITUD DE INFORMACIÓN Y DOCUMENTOS","SOLICITUD DE INFORMACIÓN HIDROMETEOROLÓGICA","NO","GRUPO DE ATENCIÓN AL CIUDADANO",44019,null,null,{"$f":"IFERROR(WORKDAY(C3051,R3051,DiasNOLaborables),\"\")","v":44035},{"$f":"+IF(C3051=\"\",\"\",IF(I3051=\"\",\"\",(IF(I3051<=L3051,\"A TIEMPO\",\"FUERA DE TIEMPO\"))))","v":"A TIEMPO"},{"$f":"IF(I3051=\"\",\"\",NETWORKDAYS([4]Hoja1!C3051+1,[4]Hoja1!P3051,DiasNOLaborables))","v":8},"",null,null,20]
[3041,20200623192741,44005,"WEB (MÓDULO DE SOLICITUD DE INFORMACIÓN HIDROMETEOROLÓGICA)","SOLICITUD DE INFORMACIÓN Y DOCUMENTOS","SOLICITUD DE INFORMACIÓN HIDROMETEOROLÓGICA","NO","GRUPO DE ATENCIÓN AL CIUDADANO",44019,null,null,{"$f":"IFERROR(WORKDAY(C3052,R3052,DiasNOLaborables),\"\")","v":44035},{"$f":"+IF(C3052=\"\",\"\",IF(I3052=\"\",\"\",(IF(I3052<=L3052,\"A TIEMPO\",\"FUERA DE TIEMPO\"))))","v":"A TIEMPO"},{"$f":"IF(I3052=\"\",\"\",NETWORKDAYS([4]Hoja1!C3052+1,[4]Hoja1!P3052,DiasNOLaborables))","v":8},"",null,null,20]
[3042,20200623192417,44005,"WEB (MÓDULO DE SOLICITUD DE INFORMACIÓN HIDROMETEOROLÓGICA)","SOLICITUD DE INFORMACIÓN Y DOCUMENTOS","SOLICITUD DE INFORMACIÓN HIDROMETEOROLÓGICA","NO","GRUPO DE ATENCIÓN AL CIUDADANO",44019,null,null,{"$f":"IFERROR(WORKDAY(C3053,R3053,DiasNOLaborables),\"\")","v":44035},{"$f":"+IF(C3053=\"\",\"\",IF(I3053=\"\",\"\",(IF(I3053<=L3053,\"A TIEMPO\",\"FUERA DE TIEMPO\"))))","v":"A TIEMPO"},{"$f":"IF(I3053=\"\",\"\",NETWORKDAYS([4]Hoja1!C3053+1,[4]Hoja1!P3053,DiasNOLaborables))","v":8},"",null,null,20]
[3043,20200623191432,44005,"WEB (MÓDULO DE SOLICITUD DE INFORMACIÓN HIDROMETEOROLÓGICA)","SOLICITUD DE INFORMACIÓN Y DOCUMENTOS","SOLICITUD DE INFORMACIÓN HIDROMETEOROLÓGICA","NO","GRUPO DE ATENCIÓN AL CIUDADANO",44019,null,null,{"$f":"IFERROR(WORKDAY(C3054,R3054,DiasNOLaborables),\"\")","v":44035},{"$f":"+IF(C3054=\"\",\"\",IF(I3054=\"\",\"\",(IF(I3054<=L3054,\"A TIEMPO\",\"FUERA DE TIEMPO\"))))","v":"A TIEMPO"},{"$f":"IF(I3054=\"\",\"\",NETWORKDAYS([4]Hoja1!C3054+1,[4]Hoja1!P3054,DiasNOLaborables))","v":8},"",null,null,20]
[3044,20200623190427,44005,"WEB (MÓDULO DE SOLICITUD DE INFORMACIÓN HIDROMETEOROLÓGICA)","SOLICITUD DE INFORMACIÓN Y DOCUMENTOS","SOLICITUD DE INFORMACIÓN HIDROMETEOROLÓGICA","NO","GRUPO DE ATENCIÓN AL CIUDADANO",44018,null,null,{"$f":"IFERROR(WORKDAY(C3055,R3055,DiasNOLaborables),\"\")","v":44035},{"$f":"+IF(C3055=\"\",\"\",IF(I3055=\"\",\"\",(IF(I3055<=L3055,\"A TIEMPO\",\"FUERA DE TIEMPO\"))))","v":"A TIEMPO"},{"$f":"IF(I3055=\"\",\"\",NETWORKDAYS([4]Hoja1!C3055+1,[4]Hoja1!P3055,DiasNOLaborables))","v":8},"",null,null,20]
[3045,20200623190021,44005,"WEB (MÓDULO DE SOLICITUD DE INFORMACIÓN HIDROMETEOROLÓGICA)","SOLICITUD DE INFORMACIÓN Y DOCUMENTOS","SOLICITUD DE INFORMACIÓN HIDROMETEOROLÓGICA","NO","GRUPO DE ATENCIÓN AL CIUDADANO",44018,null,null,{"$f":"IFERROR(WORKDAY(C3056,R3056,DiasNOLaborables),\"\")","v":44035},{"$f":"+IF(C3056=\"\",\"\",IF(I3056=\"\",\"\",(IF(I3056<=L3056,\"A TIEMPO\",\"FUERA DE TIEMPO\"))))","v":"A TIEMPO"},{"$f":"IF(I3056=\"\",\"\",NETWORKDAYS([4]Hoja1!C3056+1,[4]Hoja1!P3056,DiasNOLaborables))","v":8},"",null,null,20]
[3046,20200623184815,44005,"WEB (MÓDULO DE SOLICITUD DE INFORMACIÓN HIDROMETEOROLÓGICA)","SOLICITUD DE INFORMACIÓN Y DOCUMENTOS","SOLICITUD DE INFORMACIÓN HIDROMETEOROLÓGICA","NO","GRUPO DE ATENCIÓN AL CIUDADANO",44018,null,null,{"$f":"IFERROR(WORKDAY(C3057,R3057,DiasNOLaborables),\"\")","v":44035},{"$f":"+IF(C3057=\"\",\"\",IF(I3057=\"\",\"\",(IF(I3057<=L3057,\"A TIEMPO\",\"FUERA DE TIEMPO\"))))","v":"A TIEMPO"},{"$f":"IF(I3057=\"\",\"\",NETWORKDAYS([4]Hoja1!C3057+1,[4]Hoja1!P3057,DiasNOLaborables))","v":8},"",null,null,20]
[{"$f":"IF(B3056<>\"\",A3057+1,\"\")","v":3047},20200623184334,44005,"WEB (MÓDULO DE SOLICITUD DE INFORMACIÓN HIDROMETEOROLÓGICA)","SOLICITUD DE INFORMACIÓN Y DOCUMENTOS","SOLICITUD DE INFORMACIÓN HIDROMETEOROLÓGICA","NO","GRUPO DE ATENCIÓN AL CIUDADANO",44018,null,null,{"$f":"IFERROR(WORKDAY(C3058,R3058,DiasNOLaborables),\"\")","v":44035},{"$f":"+IF(C3058=\"\",\"\",IF(I3058=\"\",\"\",(IF(I3058<=L3058,\"A TIEMPO\",\"FUERA DE TIEMPO\"))))","v":"A TIEMPO"},{"$f":"IF(I3058=\"\",\"\",NETWORKDAYS([4]Hoja1!C3058+1,[4]Hoja1!P3058,DiasNOLaborables))","v":8},"",null,null,20]
[3048,20200623183828,44005,"WEB (MÓDULO DE SOLICITUD DE INFORMACIÓN HIDROMETEOROLÓGICA)","SOLICITUD DE INFORMACIÓN Y DOCUMENTOS","SOLICITUD DE INFORMACIÓN HIDROMETEOROLÓGICA","NO","GRUPO DE ATENCIÓN AL CIUDADANO",44018,null,null,{"$f":"IFERROR(WORKDAY(C3059,R3059,DiasNOLaborables),\"\")","v":44035},{"$f":"+IF(C3059=\"\",\"\",IF(I3059=\"\",\"\",(IF(I3059<=L3059,\"A TIEMPO\",\"FUERA DE TIEMPO\"))))","v":"A TIEMPO"},{"$f":"IF(I3059=\"\",\"\",NETWORKDAYS([4]Hoja1!C3059+1,[4]Hoja1!P3059,DiasNOLaborables))","v":8},"",null,null,20]
[3049,20200623183518,44005,"WEB (MÓDULO DE SOLICITUD DE INFORMACIÓN HIDROMETEOROLÓGICA)","SOLICITUD DE INFORMACIÓN Y DOCUMENTOS","SOLICITUD DE INFORMACIÓN HIDROMETEOROLÓGICA","NO","GRUPO DE ATENCIÓN AL CIUDADANO",44018,null,null,{"$f":"IFERROR(WORKDAY(C3060,R3060,DiasNOLaborables),\"\")","v":44035},{"$f":"+IF(C3060=\"\",\"\",IF(I3060=\"\",\"\",(IF(I3060<=L3060,\"A TIEMPO\",\"FUERA DE TIEMPO\"))))","v":"A TIEMPO"},{"$f":"IF(I3060=\"\",\"\",NETWORKDAYS([4]Hoja1!C3060+1,[4]Hoja1!P3060,DiasNOLaborables))","v":8},{"$f":"IF(NETWORKDAYS(L3060+1,I3060,DiasNOLaborables)<=0,\"\",NETWORKDAYS(L3060+1,I3060,DiasNOLaborables))","v":""},null,null,20]
[3050,20200623181923,44005,"WEB (MÓDULO DE SOLICITUD DE INFORMACIÓN HIDROMETEOROLÓGICA)","SOLICITUD DE INFORMACIÓN Y DOCUMENTOS","SOLICITUD DE INFORMACIÓN HIDROMETEOROLÓGICA","NO","GRUPO DE ATENCIÓN AL CIUDADANO",44018,null,null,{"$f":"IFERROR(WORKDAY(C3061,R3061,DiasNOLaborables),\"\")","v":44035},{"$f":"+IF(C3061=\"\",\"\",IF(I3061=\"\",\"\",(IF(I3061<=L3061,\"A TIEMPO\",\"FUERA DE TIEMPO\"))))","v":"A TIEMPO"},{"$f":"IF(I3061=\"\",\"\",NETWORKDAYS([4]Hoja1!C3061+1,[4]Hoja1!P3061,DiasNOLaborables))","v":7},"",null,null,20]
[3051,20200623181313,44005,"WEB (MÓDULO DE SOLICITUD DE INFORMACIÓN HIDROMETEOROLÓGICA)","SOLICITUD DE INFORMACIÓN Y DOCUMENTOS","SOLICITUD DE INFORMACIÓN HIDROMETEOROLÓGICA","NO","GRUPO DE ATENCIÓN AL CIUDADANO",44018,null,null,{"$f":"IFERROR(WORKDAY(C3062,R3062,DiasNOLaborables),\"\")","v":44035},{"$f":"+IF(C3062=\"\",\"\",IF(I3062=\"\",\"\",(IF(I3062<=L3062,\"A TIEMPO\",\"FUERA DE TIEMPO\"))))","v":"A TIEMPO"},{"$f":"IF(I3062=\"\",\"\",NETWORKDAYS([4]Hoja1!C3062+1,[4]Hoja1!P3062,DiasNOLaborables))","v":7},"",null,null,20]
[3052,20200623181209,44005,"WEB (MÓDULO DE SOLICITUD DE INFORMACIÓN HIDROMETEOROLÓGICA)","SOLICITUD DE INFORMACIÓN Y DOCUMENTOS","SOLICITUD DE INFORMACIÓN HIDROMETEOROLÓGICA","NO","GRUPO DE ATENCIÓN AL CIUDADANO",44019,null,null,{"$f":"IFERROR(WORKDAY(C3063,R3063,DiasNOLaborables),\"\")","v":44035},{"$f":"+IF(C3063=\"\",\"\",IF(I3063=\"\",\"\",(IF(I3063<=L3063,\"A TIEMPO\",\"FUERA DE TIEMPO\"))))","v":"A TIEMPO"},{"$f":"IF(I3063=\"\",\"\",NETWORKDAYS([4]Hoja1!C3063+1,[4]Hoja1!P3063,DiasNOLaborables))","v":7},"",null,null,20]
[3053,20200623180343,44005,"WEB (MÓDULO DE SOLICITUD DE INFORMACIÓN HIDROMETEOROLÓGICA)","SOLICITUD DE INFORMACIÓN Y DOCUMENTOS","SOLICITUD DE INFORMACIÓN HIDROMETEOROLÓGICA","NO","GRUPO DE ATENCIÓN AL CIUDADANO",44018,null,null,{"$f":"IFERROR(WORKDAY(C3064,R3064,DiasNOLaborables),\"\")","v":44035},{"$f":"+IF(C3064=\"\",\"\",IF(I3064=\"\",\"\",(IF(I3064<=L3064,\"A TIEMPO\",\"FUERA DE TIEMPO\"))))","v":"A TIEMPO"},{"$f":"IF(I3064=\"\",\"\",NETWORKDAYS([4]Hoja1!C3064+1,[4]Hoja1!P3064,DiasNOLaborables))","v":7},"",null,null,20]
[3054,20200623175020,44005,"WEB (MÓDULO DE SOLICITUD DE INFORMACIÓN HIDROMETEOROLÓGICA)","SOLICITUD DE INFORMACIÓN Y DOCUMENTOS","SOLICITUD DE INFORMACIÓN HIDROMETEOROLÓGICA","NO","GRUPO DE ATENCIÓN AL CIUDADANO",44018,null,null,{"$f":"IFERROR(WORKDAY(C3065,R3065,DiasNOLaborables),\"\")","v":44035},{"$f":"+IF(C3065=\"\",\"\",IF(I3065=\"\",\"\",(IF(I3065<=L3065,\"A TIEMPO\",\"FUERA DE TIEMPO\"))))","v":"A TIEMPO"},{"$f":"IF(I3065=\"\",\"\",NETWORKDAYS([4]Hoja1!C3065+1,[4]Hoja1!P3065,DiasNOLaborables))","v":7},"",null,null,20]
[3055,20200623172056,44005,"WEB (MÓDULO DE SOLICITUD DE INFORMACIÓN HIDROMETEOROLÓGICA)","SOLICITUD DE INFORMACIÓN Y DOCUMENTOS","SOLICITUD DE INFORMACIÓN HIDROMETEOROLÓGICA","NO","GRUPO DE ATENCIÓN AL CIUDADANO",44019,null,null,{"$f":"IFERROR(WORKDAY(C3066,R3066,DiasNOLaborables),\"\")","v":44035},{"$f":"+IF(C3066=\"\",\"\",IF(I3066=\"\",\"\",(IF(I3066<=L3066,\"A TIEMPO\",\"FUERA DE TIEMPO\"))))","v":"A TIEMPO"},{"$f":"IF(I3066=\"\",\"\",NETWORKDAYS([4]Hoja1!C3066+1,[4]Hoja1!P3066,DiasNOLaborables))","v":7},"",null,null,20]
[3056,20200623164858,44005,"WEB (MÓDULO DE SOLICITUD DE INFORMACIÓN HIDROMETEOROLÓGICA)","SOLICITUD DE INFORMACIÓN Y DOCUMENTOS","SOLICITUD DE INFORMACIÓN HIDROMETEOROLÓGICA","NO","GRUPO DE ATENCIÓN AL CIUDADANO",44018,null,null,{"$f":"IFERROR(WORKDAY(C3067,R3067,DiasNOLaborables),\"\")","v":44035},{"$f":"+IF(C3067=\"\",\"\",IF(I3067=\"\",\"\",(IF(I3067<=L3067,\"A TIEMPO\",\"FUERA DE TIEMPO\"))))","v":"A TIEMPO"},{"$f":"IF(I3067=\"\",\"\",NETWORKDAYS([4]Hoja1!C3067+1,[4]Hoja1!P3067,DiasNOLaborables))","v":7},"",null,null,20]
[3057,20200623163631,44005,"WEB (MÓDULO DE SOLICITUD DE INFORMACIÓN HIDROMETEOROLÓGICA)","SOLICITUD DE INFORMACIÓN Y DOCUMENTOS","SOLICITUD DE INFORMACIÓN HIDROMETEOROLÓGICA","NO","GRUPO DE ATENCIÓN AL CIUDADANO",44018,null,null,{"$f":"IFERROR(WORKDAY(C3068,R3068,DiasNOLaborables),\"\")","v":44035},{"$f":"+IF(C3068=\"\",\"\",IF(I3068=\"\",\"\",(IF(I3068<=L3068,\"A TIEMPO\",\"FUERA DE TIEMPO\"))))","v":"A TIEMPO"},{"$f":"IF(I3068=\"\",\"\",NETWORKDAYS([4]Hoja1!C3068+1,[4]Hoja1!P3068,DiasNOLaborables))","v":7},"",null,null,20]
[3058,20200623152139,44005,"WEB (MÓDULO DE SOLICITUD DE INFORMACIÓN HIDROMETEOROLÓGICA)","SOLICITUD DE INFORMACIÓN Y DOCUMENTOS","SOLICITUD DE INFORMACIÓN HIDROMETEOROLÓGICA","NO","GRUPO DE ATENCIÓN AL CIUDADANO",44019,null,null,{"$f":"IFERROR(WORKDAY(C3069,R3069,DiasNOLaborables),\"\")","v":44035},{"$f":"+IF(C3069=\"\",\"\",IF(I3069=\"\",\"\",(IF(I3069<=L3069,\"A TIEMPO\",\"FUERA DE TIEMPO\"))))","v":"A TIEMPO"},{"$f":"IF(I3069=\"\",\"\",NETWORKDAYS([4]Hoja1!C3069+1,[4]Hoja1!P3069,DiasNOLaborables))","v":7},"",null,null,20]
[3059,20200623145922,44005,"WEB (MÓDULO DE SOLICITUD DE INFORMACIÓN HIDROMETEOROLÓGICA)","SOLICITUD DE INFORMACIÓN Y DOCUMENTOS","SOLICITUD DE INFORMACIÓN HIDROMETEOROLÓGICA","NO","GRUPO DE ATENCIÓN AL CIUDADANO",44019,null,null,{"$f":"IFERROR(WORKDAY(C3070,R3070,DiasNOLaborables),\"\")","v":44035},{"$f":"+IF(C3070=\"\",\"\",IF(I3070=\"\",\"\",(IF(I3070<=L3070,\"A TIEMPO\",\"FUERA DE TIEMPO\"))))","v":"A TIEMPO"},{"$f":"IF(I3070=\"\",\"\",NETWORKDAYS([4]Hoja1!C3070+1,[4]Hoja1!P3070,DiasNOLaborables))","v":7},"",null,null,20]
[3060,20209050051022,44005,"WEB (MÓDULO DE SOLICITUD DE INFORMACIÓN HIDROMETEOROLÓGICA)","SOLICITUD DE INFORMACIÓN Y DOCUMENTOS","SOLICITUD DE INFORMACIÓN HIDROMETEOROLÓGICA","NO","GRUPO DE ATENCIÓN AL CIUDADANO",44020,null,null,{"$f":"IFERROR(WORKDAY(C3071,R3071,DiasNOLaborables),\"\")","v":44035},{"$f":"+IF(C3071=\"\",\"\",IF(I3071=\"\",\"\",(IF(I3071<=L3071,\"A TIEMPO\",\"FUERA DE TIEMPO\"))))","v":"A TIEMPO"},{"$f":"IF(I3071=\"\",\"\",NETWORKDAYS([4]Hoja1!C3071+1,[4]Hoja1!P3071,DiasNOLaborables))","v":7},"",null,null,20]
[3061,20209050051032,44005,"WEB (MÓDULO DE SOLICITUD DE INFORMACIÓN HIDROMETEOROLÓGICA)","SOLICITUD DE INFORMACIÓN Y DOCUMENTOS","SOLICITUD DE INFORMACIÓN HIDROMETEOROLÓGICA","NO","GRUPO DE ATENCIÓN AL CIUDADANO",44020,null,null,{"$f":"IFERROR(WORKDAY(C3072,R3072,DiasNOLaborables),\"\")","v":44035},{"$f":"+IF(C3072=\"\",\"\",IF(I3072=\"\",\"\",(IF(I3072<=L3072,\"A TIEMPO\",\"FUERA DE TIEMPO\"))))","v":"A TIEMPO"},{"$f":"IF(I3072=\"\",\"\",NETWORKDAYS([4]Hoja1!C3072+1,[4]Hoja1!P3072,DiasNOLaborables))","v":7},"",null,null,20]
[3062,20209050051042,44005,"WEB (MÓDULO DE SOLICITUD DE INFORMACIÓN HIDROMETEOROLÓGICA)","SOLICITUD DE INFORMACIÓN Y DOCUMENTOS","SOLICITUD DE INFORMACIÓN HIDROMETEOROLÓGICA","NO","GRUPO DE ATENCIÓN AL CIUDADANO",44020,null,null,{"$f":"IFERROR(WORKDAY(C3073,R3073,DiasNOLaborables),\"\")","v":44035},{"$f":"+IF(C3073=\"\",\"\",IF(I3073=\"\",\"\",(IF(I3073<=L3073,\"A TIEMPO\",\"FUERA DE TIEMPO\"))))","v":"A TIEMPO"},{"$f":"IF(I3073=\"\",\"\",NETWORKDAYS([4]Hoja1!C3073+1,[4]Hoja1!P3073,DiasNOLaborables))","v":7},"",null,null,20]
[3063,20209050051052,44005,"WEB (MÓDULO DE SOLICITUD DE INFORMACIÓN HIDROMETEOROLÓGICA)","SOLICITUD DE INFORMACIÓN Y DOCUMENTOS","SOLICITUD DE INFORMACIÓN HIDROMETEOROLÓGICA","NO","GRUPO DE ATENCIÓN AL CIUDADANO",44020,null,null,{"$f":"IFERROR(WORKDAY(C3074,R3074,DiasNOLaborables),\"\")","v":44035},{"$f":"+IF(C3074=\"\",\"\",IF(I3074=\"\",\"\",(IF(I3074<=L3074,\"A TIEMPO\",\"FUERA DE TIEMPO\"))))","v":"A TIEMPO"},{"$f":"IF(I3074=\"\",\"\",NETWORKDAYS([4]Hoja1!C3074+1,[4]Hoja1!P3074,DiasNOLaborables))","v":7},"",null,null,20]
[3064,20209050051272,44005,"WEB (MÓDULO DE SOLICITUD DE INFORMACIÓN HIDROMETEOROLÓGICA)","SOLICITUD DE INFORMACIÓN Y DOCUMENTOS","SOLICITUD DE INFORMACIÓN HIDROMETEOROLÓGICA","NO","GRUPO DE ATENCIÓN AL CIUDADANO",44020,null,null,{"$f":"IFERROR(WORKDAY(C3075,R3075,DiasNOLaborables),\"\")","v":44035},{"$f":"+IF(C3075=\"\",\"\",IF(I3075=\"\",\"\",(IF(I3075<=L3075,\"A TIEMPO\",\"FUERA DE TIEMPO\"))))","v":"A TIEMPO"},{"$f":"IF(I3075=\"\",\"\",NETWORKDAYS([4]Hoja1!C3075+1,[4]Hoja1!P3075,DiasNOLaborables))","v":7},"",null,null,20]
[3065,20209050051282,44005,"WEB (MÓDULO DE SOLICITUD DE INFORMACIÓN HIDROMETEOROLÓGICA)","SOLICITUD DE INFORMACIÓN Y DOCUMENTOS","SOLICITUD DE INFORMACIÓN HIDROMETEOROLÓGICA","NO","GRUPO DE ATENCIÓN AL CIUDADANO",44020,null,null,{"$f":"IFERROR(WORKDAY(C3076,R3076,DiasNOLaborables),\"\")","v":44035},{"$f":"+IF(C3076=\"\",\"\",IF(I3076=\"\",\"\",(IF(I3076<=L3076,\"A TIEMPO\",\"FUERA DE TIEMPO\"))))","v":"A TIEMPO"},{"$f":"IF(I3076=\"\",\"\",NETWORKDAYS([4]Hoja1!C3076+1,[4]Hoja1!P3076,DiasNOLaborables))","v":7},"",null,null,20]
[3066,20209050051302,44005,"WEB (MÓDULO DE SOLICITUD DE INFORMACIÓN HIDROMETEOROLÓGICA)","SOLICITUD DE INFORMACIÓN Y DOCUMENTOS","SOLICITUD DE INFORMACIÓN HIDROMETEOROLÓGICA","NO","GRUPO DE ATENCIÓN AL CIUDADANO",44020,null,null,{"$f":"IFERROR(WORKDAY(C3077,R3077,DiasNOLaborables),\"\")","v":44035},{"$f":"+IF(C3077=\"\",\"\",IF(I3077=\"\",\"\",(IF(I3077<=L3077,\"A TIEMPO\",\"FUERA DE TIEMPO\"))))","v":"A TIEMPO"},{"$f":"IF(I3077=\"\",\"\",NETWORKDAYS([4]Hoja1!C3077+1,[4]Hoja1!P3077,DiasNOLaborables))","v":7},"",null,null,20]
[3067,20209050051332,44005,"WEB (MÓDULO DE SOLICITUD DE INFORMACIÓN HIDROMETEOROLÓGICA)","SOLICITUD DE INFORMACIÓN Y DOCUMENTOS","SOLICITUD DE INFORMACIÓN HIDROMETEOROLÓGICA","NO","GRUPO DE ATENCIÓN AL CIUDADANO",44020,null,null,{"$f":"IFERROR(WORKDAY(C3078,R3078,DiasNOLaborables),\"\")","v":44035},{"$f":"+IF(C3078=\"\",\"\",IF(I3078=\"\",\"\",(IF(I3078<=L3078,\"A TIEMPO\",\"FUERA DE TIEMPO\"))))","v":"A TIEMPO"},{"$f":"IF(I3078=\"\",\"\",NETWORKDAYS([4]Hoja1!C3078+1,[4]Hoja1!P3078,DiasNOLaborables))","v":7},"",null,null,{"$f":"IFERROR(VLOOKUP(E3078,$Z$50:$AA$63,2),\"\")","v":20}]
[3068,20209050051342,44005,"WEB (MÓDULO DE SOLICITUD DE INFORMACIÓN HIDROMETEOROLÓGICA)","SOLICITUD DE INFORMACIÓN Y DOCUMENTOS","SOLICITUD DE INFORMACIÓN HIDROMETEOROLÓGICA","NO","GRUPO DE ATENCIÓN AL CIUDADANO",44020,null,null,{"$f":"IFERROR(WORKDAY(C3079,R3079,DiasNOLaborables),\"\")","v":44035},{"$f":"+IF(C3079=\"\",\"\",IF(I3079=\"\",\"\",(IF(I3079<=L3079,\"A TIEMPO\",\"FUERA DE TIEMPO\"))))","v":"A TIEMPO"},{"$f":"IF(I3079=\"\",\"\",NETWORKDAYS([4]Hoja1!C3079+1,[4]Hoja1!P3079,DiasNOLaborables))","v":7},"",null,null,20]
[3069,20209050051352,44005,"WEB (MÓDULO DE SOLICITUD DE INFORMACIÓN HIDROMETEOROLÓGICA)","SOLICITUD DE INFORMACIÓN Y DOCUMENTOS","SOLICITUD DE INFORMACIÓN HIDROMETEOROLÓGICA","NO","GRUPO DE ATENCIÓN AL CIUDADANO",44020,null,null,{"$f":"IFERROR(WORKDAY(C3080,R3080,DiasNOLaborables),\"\")","v":44035},{"$f":"+IF(C3080=\"\",\"\",IF(I3080=\"\",\"\",(IF(I3080<=L3080,\"A TIEMPO\",\"FUERA DE TIEMPO\"))))","v":"A TIEMPO"},{"$f":"IF(I3080=\"\",\"\",NETWORKDAYS([4]Hoja1!C3080+1,[4]Hoja1!P3080,DiasNOLaborables))","v":7},"",null,null,20]
[3070,20209050051382,44005,"WEB (MÓDULO DE SOLICITUD DE INFORMACIÓN HIDROMETEOROLÓGICA)","SOLICITUD DE INFORMACIÓN Y DOCUMENTOS","SOLICITUD DE INFORMACIÓN HIDROMETEOROLÓGICA","NO","GRUPO DE ATENCIÓN AL CIUDADANO",44020,null,null,{"$f":"IFERROR(WORKDAY(C3081,R3081,DiasNOLaborables),\"\")","v":44035},{"$f":"+IF(C3081=\"\",\"\",IF(I3081=\"\",\"\",(IF(I3081<=L3081,\"A TIEMPO\",\"FUERA DE TIEMPO\"))))","v":"A TIEMPO"},{"$f":"IF(I3081=\"\",\"\",NETWORKDAYS([4]Hoja1!C3081+1,[4]Hoja1!P3081,DiasNOLaborables))","v":7},"",null,null,20]
[3071,20209050051392,44006,"WEB (MÓDULO DE SOLICITUD DE INFORMACIÓN HIDROMETEOROLÓGICA)","SOLICITUD DE INFORMACIÓN Y DOCUMENTOS","SOLICITUD DE INFORMACIÓN HIDROMETEOROLÓGICA","NO","GRUPO DE ATENCIÓN AL CIUDADANO",44020,null,null,{"$f":"IFERROR(WORKDAY(C3082,R3082,DiasNOLaborables),\"\")","v":44036},{"$f":"+IF(C3082=\"\",\"\",IF(I3082=\"\",\"\",(IF(I3082<=L3082,\"A TIEMPO\",\"FUERA DE TIEMPO\"))))","v":"A TIEMPO"},{"$f":"IF(I3082=\"\",\"\",NETWORKDAYS([4]Hoja1!C3082+1,[4]Hoja1!P3082,DiasNOLaborables))","v":7},"",null,null,20]
[3072,20209050051422,44006,"WEB (MÓDULO DE SOLICITUD DE INFORMACIÓN HIDROMETEOROLÓGICA)","SOLICITUD DE INFORMACIÓN Y DOCUMENTOS","SOLICITUD DE INFORMACIÓN HIDROMETEOROLÓGICA","NO","GRUPO DE ATENCIÓN AL CIUDADANO",44020,null,null,{"$f":"IFERROR(WORKDAY(C3083,R3083,DiasNOLaborables),\"\")","v":44036},{"$f":"+IF(C3083=\"\",\"\",IF(I3083=\"\",\"\",(IF(I3083<=L3083,\"A TIEMPO\",\"FUERA DE TIEMPO\"))))","v":"A TIEMPO"},{"$f":"IF(I3083=\"\",\"\",NETWORKDAYS([4]Hoja1!C3083+1,[4]Hoja1!P3083,DiasNOLaborables))","v":7},"",null,null,20]
[3073,20209050051582,44006,"WEB (MÓDULO DE SOLICITUD DE INFORMACIÓN HIDROMETEOROLÓGICA)","SOLICITUD DE INFORMACIÓN Y DOCUMENTOS","SOLICITUD DE INFORMACIÓN HIDROMETEOROLÓGICA","NO","GRUPO DE ATENCIÓN AL CIUDADANO",44020,null,null,{"$f":"IFERROR(WORKDAY(C3084,R3084,DiasNOLaborables),\"\")","v":44036},{"$f":"+IF(C3084=\"\",\"\",IF(I3084=\"\",\"\",(IF(I3084<=L3084,\"A TIEMPO\",\"FUERA DE TIEMPO\"))))","v":"A TIEMPO"},{"$f":"IF(I3084=\"\",\"\",NETWORKDAYS([4]Hoja1!C3084+1,[4]Hoja1!P3084,DiasNOLaborables))","v":7},"",null,null,20]
[3074,20209050051692,44006,"WEB (MÓDULO DE SOLICITUD DE INFORMACIÓN HIDROMETEOROLÓGICA)","SOLICITUD DE INFORMACIÓN Y DOCUMENTOS","SOLICITUD DE INFORMACIÓN HIDROMETEOROLÓGICA","NO","GRUPO DE ATENCIÓN AL CIUDADANO",44020,null,null,{"$f":"IFERROR(WORKDAY(C3085,R3085,DiasNOLaborables),\"\")","v":44036},{"$f":"+IF(C3085=\"\",\"\",IF(I3085=\"\",\"\",(IF(I3085<=L3085,\"A TIEMPO\",\"FUERA DE TIEMPO\"))))","v":"A TIEMPO"},{"$f":"IF(I3085=\"\",\"\",NETWORKDAYS([4]Hoja1!C3085+1,[4]Hoja1!P3085,DiasNOLaborables))","v":7},"",null,null,20]
[3075,20209050051712,44006,"WEB (MÓDULO DE SOLICITUD DE INFORMACIÓN HIDROMETEOROLÓGICA)","SOLICITUD DE INFORMACIÓN Y DOCUMENTOS","SOLICITUD DE INFORMACIÓN HIDROMETEOROLÓGICA","NO","GRUPO DE ATENCIÓN AL CIUDADANO",44020,null,null,{"$f":"IFERROR(WORKDAY(C3086,R3086,DiasNOLaborables),\"\")","v":44036},{"$f":"+IF(C3086=\"\",\"\",IF(I3086=\"\",\"\",(IF(I3086<=L3086,\"A TIEMPO\",\"FUERA DE TIEMPO\"))))","v":"A TIEMPO"},{"$f":"IF(I3086=\"\",\"\",NETWORKDAYS([4]Hoja1!C3086+1,[4]Hoja1!P3086,DiasNOLaborables))","v":7},"",null,null,20]
[3076,20209050051742,44006,"WEB (MÓDULO DE SOLICITUD DE INFORMACIÓN HIDROMETEOROLÓGICA)","SOLICITUD DE INFORMACIÓN Y DOCUMENTOS","SOLICITUD DE INFORMACIÓN HIDROMETEOROLÓGICA","NO","GRUPO DE ATENCIÓN AL CIUDADANO",44020,null,null,{"$f":"IFERROR(WORKDAY(C3087,R3087,DiasNOLaborables),\"\")","v":44036},{"$f":"+IF(C3087=\"\",\"\",IF(I3087=\"\",\"\",(IF(I3087<=L3087,\"A TIEMPO\",\"FUERA DE TIEMPO\"))))","v":"A TIEMPO"},{"$f":"IF(I3087=\"\",\"\",NETWORKDAYS([4]Hoja1!C3087+1,[4]Hoja1!P3087,DiasNOLaborables))","v":7},"",null,null,20]
[3077,20209050051752,44006,"WEB (MÓDULO DE SOLICITUD DE INFORMACIÓN HIDROMETEOROLÓGICA)","SOLICITUD DE INFORMACIÓN Y DOCUMENTOS","SOLICITUD DE INFORMACIÓN HIDROMETEOROLÓGICA","NO","GRUPO DE ATENCIÓN AL CIUDADANO",44020,null,null,{"$f":"IFERROR(WORKDAY(C3088,R3088,DiasNOLaborables),\"\")","v":44036},{"$f":"+IF(C3088=\"\",\"\",IF(I3088=\"\",\"\",(IF(I3088<=L3088,\"A TIEMPO\",\"FUERA DE TIEMPO\"))))","v":"A TIEMPO"},{"$f":"IF(I3088=\"\",\"\",NETWORKDAYS([4]Hoja1!C3088+1,[4]Hoja1!P3088,DiasNOLaborables))","v":7},"",null,null,20]
[3078,20209050051872,44006,"WEB (MÓDULO DE SOLICITUD DE INFORMACIÓN HIDROMETEOROLÓGICA)","SOLICITUD DE INFORMACIÓN Y DOCUMENTOS","SOLICITUD DE INFORMACIÓN HIDROMETEOROLÓGICA","NO","GRUPO DE ATENCIÓN AL CIUDADANO",44020,null,null,{"$f":"IFERROR(WORKDAY(C3089,R3089,DiasNOLaborables),\"\")","v":44036},{"$f":"+IF(C3089=\"\",\"\",IF(I3089=\"\",\"\",(IF(I3089<=L3089,\"A TIEMPO\",\"FUERA DE TIEMPO\"))))","v":"A TIEMPO"},{"$f":"IF(I3089=\"\",\"\",NETWORKDAYS([4]Hoja1!C3089+1,[4]Hoja1!P3089,DiasNOLaborables))","v":7},"",null,null,20]
[3079,20200624184455,44006,"WEB (MÓDULO DE SOLICITUD DE INFORMACIÓN HIDROMETEOROLÓGICA)","SOLICITUD DE INFORMACIÓN Y DOCUMENTOS","SOLICITUD DE INFORMACIÓN HIDROMETEOROLÓGICA","NO","GRUPO DE ATENCIÓN AL CIUDADANO",44020,null,null,{"$f":"IFERROR(WORKDAY(C3090,R3090,DiasNOLaborables),\"\")","v":44036},{"$f":"+IF(C3090=\"\",\"\",IF(I3090=\"\",\"\",(IF(I3090<=L3090,\"A TIEMPO\",\"FUERA DE TIEMPO\"))))","v":"A TIEMPO"},{"$f":"IF(I3090=\"\",\"\",NETWORKDAYS([4]Hoja1!C3090+1,[4]Hoja1!P3090,DiasNOLaborables))","v":7},"",null,null,20]
[3080,20200624184240,44006,"WEB (MÓDULO DE SOLICITUD DE INFORMACIÓN HIDROMETEOROLÓGICA)","SOLICITUD DE INFORMACIÓN Y DOCUMENTOS","SOLICITUD DE INFORMACIÓN HIDROMETEOROLÓGICA","NO","GRUPO DE ATENCIÓN AL CIUDADANO",44020,null,null,{"$f":"IFERROR(WORKDAY(C3091,R3091,DiasNOLaborables),\"\")","v":44036},{"$f":"+IF(C3091=\"\",\"\",IF(I3091=\"\",\"\",(IF(I3091<=L3091,\"A TIEMPO\",\"FUERA DE TIEMPO\"))))","v":"A TIEMPO"},{"$f":"IF(I3091=\"\",\"\",NETWORKDAYS([4]Hoja1!C3091+1,[4]Hoja1!P3091,DiasNOLaborables))","v":7},"",null,null,20]
[3081,20200624175014,44006,"WEB (MÓDULO DE SOLICITUD DE INFORMACIÓN HIDROMETEOROLÓGICA)","SOLICITUD DE INFORMACIÓN Y DOCUMENTOS","SOLICITUD DE INFORMACIÓN HIDROMETEOROLÓGICA","NO","GRUPO DE ATENCIÓN AL CIUDADANO",44020,null,null,{"$f":"IFERROR(WORKDAY(C3092,R3092,DiasNOLaborables),\"\")","v":44036},{"$f":"+IF(C3092=\"\",\"\",IF(I3092=\"\",\"\",(IF(I3092<=L3092,\"A TIEMPO\",\"FUERA DE TIEMPO\"))))","v":"A TIEMPO"},{"$f":"IF(I3092=\"\",\"\",NETWORKDAYS([4]Hoja1!C3092+1,[4]Hoja1!P3092,DiasNOLaborables))","v":7},"",null,null,20]
[3082,20200624174519,44006,"WEB (MÓDULO DE SOLICITUD DE INFORMACIÓN HIDROMETEOROLÓGICA)","SOLICITUD DE INFORMACIÓN Y DOCUMENTOS","SOLICITUD DE INFORMACIÓN HIDROMETEOROLÓGICA","NO","GRUPO DE ATENCIÓN AL CIUDADANO",44020,null,null,{"$f":"IFERROR(WORKDAY(C3093,R3093,DiasNOLaborables),\"\")","v":44036},{"$f":"+IF(C3093=\"\",\"\",IF(I3093=\"\",\"\",(IF(I3093<=L3093,\"A TIEMPO\",\"FUERA DE TIEMPO\"))))","v":"A TIEMPO"},{"$f":"IF(I3093=\"\",\"\",NETWORKDAYS([4]Hoja1!C3093+1,[4]Hoja1!P3093,DiasNOLaborables))","v":7},"",null,null,20]
[3083,20200624094305,44006,"WEB (MÓDULO DE SOLICITUD DE INFORMACIÓN HIDROMETEOROLÓGICA)","SOLICITUD DE INFORMACIÓN Y DOCUMENTOS","SOLICITUD DE INFORMACIÓN HIDROMETEOROLÓGICA","NO","GRUPO DE ATENCIÓN AL CIUDADANO",44020,null,null,{"$f":"IFERROR(WORKDAY(C3094,R3094,DiasNOLaborables),\"\")","v":44036},{"$f":"+IF(C3094=\"\",\"\",IF(I3094=\"\",\"\",(IF(I3094<=L3094,\"A TIEMPO\",\"FUERA DE TIEMPO\"))))","v":"A TIEMPO"},{"$f":"IF(I3094=\"\",\"\",NETWORKDAYS([4]Hoja1!C3094+1,[4]Hoja1!P3094,DiasNOLaborables))","v":7},"",null,null,20]
[3084,20200624083359,44006,"WEB (MÓDULO DE SOLICITUD DE INFORMACIÓN HIDROMETEOROLÓGICA)","SOLICITUD DE INFORMACIÓN Y DOCUMENTOS","SOLICITUD DE INFORMACIÓN HIDROMETEOROLÓGICA","NO","GRUPO DE ATENCIÓN AL CIUDADANO",44020,null,null,{"$f":"IFERROR(WORKDAY(C3095,R3095,DiasNOLaborables),\"\")","v":44036},{"$f":"+IF(C3095=\"\",\"\",IF(I3095=\"\",\"\",(IF(I3095<=L3095,\"A TIEMPO\",\"FUERA DE TIEMPO\"))))","v":"A TIEMPO"},{"$f":"IF(I3095=\"\",\"\",NETWORKDAYS([4]Hoja1!C3095+1,[4]Hoja1!P3095,DiasNOLaborables))","v":7},"",null,null,20]
[3085,20209050051442,44006,"MODULO CONTACTENOS","SOLICITUD DE INFORMACIÓN Y DOCUMENTOS","SOLICITUD DE INFORMACIÓN HIDROMETEOROLÓGICA","NO","GRUPO DE ATENCIÓN AL CIUDADANO",44019,null,null,{"$f":"IFERROR(WORKDAY(C3096,R3096,DiasNOLaborables),\"\")","v":44036},{"$f":"+IF(C3096=\"\",\"\",IF(I3096=\"\",\"\",(IF(I3096<=L3096,\"A TIEMPO\",\"FUERA DE TIEMPO\"))))","v":"A TIEMPO"},{"$f":"IF(I3096=\"\",\"\",NETWORKDAYS([4]Hoja1!C3096+1,[4]Hoja1!P3096,DiasNOLaborables))","v":7},"",null,null,20]
[3086,20209050051452,44006,"MODULO CONTACTENOS","SOLICITUD DE INFORMACIÓN Y DOCUMENTOS","SOLICITUD DE INFORMACIÓN HIDROMETEOROLÓGICA","NO","GRUPO DE ATENCIÓN AL CIUDADANO",44019,null,null,{"$f":"IFERROR(WORKDAY(C3097,R3097,DiasNOLaborables),\"\")","v":44036},{"$f":"+IF(C3097=\"\",\"\",IF(I3097=\"\",\"\",(IF(I3097<=L3097,\"A TIEMPO\",\"FUERA DE TIEMPO\"))))","v":"A TIEMPO"},{"$f":"IF(I3097=\"\",\"\",NETWORKDAYS([4]Hoja1!C3097+1,[4]Hoja1!P3097,DiasNOLaborables))","v":7},"",null,null,20]
[3087,20209050051462,44006,"MODULO CONTACTENOS","SOLICITUD DE INFORMACIÓN Y DOCUMENTOS","SOLICITUD DE INFORMACIÓN HIDROMETEOROLÓGICA","NO","GRUPO DE ATENCIÓN AL CIUDADANO",44019,null,null,{"$f":"IFERROR(WORKDAY(C3098,R3098,DiasNOLaborables),\"\")","v":44036},{"$f":"+IF(C3098=\"\",\"\",IF(I3098=\"\",\"\",(IF(I3098<=L3098,\"A TIEMPO\",\"FUERA DE TIEMPO\"))))","v":"A TIEMPO"},{"$f":"IF(I3098=\"\",\"\",NETWORKDAYS([4]Hoja1!C3098+1,[4]Hoja1!P3098,DiasNOLaborables))","v":7},"",null,null,20]
[3088,20209050051482,44006,"MODULO CONTACTENOS","SOLICITUD DE INFORMACIÓN Y DOCUMENTOS","SOLICITUD DE INFORMACIÓN HIDROMETEOROLÓGICA","NO","GRUPO DE ATENCIÓN AL CIUDADANO",44019,null,null,{"$f":"IFERROR(WORKDAY(C3099,R3099,DiasNOLaborables),\"\")","v":44036},{"$f":"+IF(C3099=\"\",\"\",IF(I3099=\"\",\"\",(IF(I3099<=L3099,\"A TIEMPO\",\"FUERA DE TIEMPO\"))))","v":"A TIEMPO"},{"$f":"IF(I3099=\"\",\"\",NETWORKDAYS([4]Hoja1!C3099+1,[4]Hoja1!P3099,DiasNOLaborables))","v":7},"",null,null,20]
[3089,20209050051492,44006,"MODULO CONTACTENOS","SOLICITUD DE INFORMACIÓN Y DOCUMENTOS","SOLICITUD DE INFORMACIÓN HIDROMETEOROLÓGICA","NO","GRUPO DE ATENCIÓN AL CIUDADANO",44019,null,null,{"$f":"IFERROR(WORKDAY(C3100,R3100,DiasNOLaborables),\"\")","v":44036},{"$f":"+IF(C3100=\"\",\"\",IF(I3100=\"\",\"\",(IF(I3100<=L3100,\"A TIEMPO\",\"FUERA DE TIEMPO\"))))","v":"A TIEMPO"},{"$f":"IF(I3100=\"\",\"\",NETWORKDAYS([4]Hoja1!C3100+1,[4]Hoja1!P3100,DiasNOLaborables))","v":7},"",null,null,20]
[3090,20209050051502,44006,"MODULO CONTACTENOS","SOLICITUD DE INFORMACIÓN Y DOCUMENTOS","SOLICITUD DE INFORMACIÓN HIDROMETEOROLÓGICA","NO","GRUPO DE ATENCIÓN AL CIUDADANO",44019,null,null,{"$f":"IFERROR(WORKDAY(C3101,R3101,DiasNOLaborables),\"\")","v":44036},{"$f":"+IF(C3101=\"\",\"\",IF(I3101=\"\",\"\",(IF(I3101<=L3101,\"A TIEMPO\",\"FUERA DE TIEMPO\"))))","v":"A TIEMPO"},{"$f":"IF(I3101=\"\",\"\",NETWORKDAYS([4]Hoja1!C3101+1,[4]Hoja1!P3101,DiasNOLaborables))","v":7},"",null,null,20]
[3091,20209050051512,44006,"MODULO CONTACTENOS","SOLICITUD DE INFORMACIÓN Y DOCUMENTOS","SOLICITUD DE INFORMACIÓN HIDROMETEOROLÓGICA","NO","GRUPO DE ATENCIÓN AL CIUDADANO",44019,null,null,{"$f":"IFERROR(WORKDAY(C3102,R3102,DiasNOLaborables),\"\")","v":44036},{"$f":"+IF(C3102=\"\",\"\",IF(I3102=\"\",\"\",(IF(I3102<=L3102,\"A TIEMPO\",\"FUERA DE TIEMPO\"))))","v":"A TIEMPO"},{"$f":"IF(I3102=\"\",\"\",NETWORKDAYS([4]Hoja1!C3102+1,[4]Hoja1!P3102,DiasNOLaborables))","v":7},"",null,null,20]
[3092,20209050051522,44006,"MODULO CONTACTENOS","SOLICITUD DE INFORMACIÓN Y DOCUMENTOS","SOLICITUD DE INFORMACIÓN HIDROMETEOROLÓGICA","NO","GRUPO DE ATENCIÓN AL CIUDADANO",44019,null,null,{"$f":"IFERROR(WORKDAY(C3103,R3103,DiasNOLaborables),\"\")","v":44036},{"$f":"+IF(C3103=\"\",\"\",IF(I3103=\"\",\"\",(IF(I3103<=L3103,\"A TIEMPO\",\"FUERA DE TIEMPO\"))))","v":"A TIEMPO"},{"$f":"IF(I3103=\"\",\"\",NETWORKDAYS([4]Hoja1!C3103+1,[4]Hoja1!P3103,DiasNOLaborables))","v":7},"",null,null,20]
[3093,20209050051642,44006,"MODULO CONTACTENOS","SOLICITUD DE INFORMACIÓN Y DOCUMENTOS","SOLICITUD DE INFORMACIÓN HIDROMETEOROLÓGICA","NO","GRUPO DE ATENCIÓN AL CIUDADANO",44019,null,null,{"$f":"IFERROR(WORKDAY(C3104,R3104,DiasNOLaborables),\"\")","v":44036},{"$f":"+IF(C3104=\"\",\"\",IF(I3104=\"\",\"\",(IF(I3104<=L3104,\"A TIEMPO\",\"FUERA DE TIEMPO\"))))","v":"A TIEMPO"},{"$f":"IF(I3104=\"\",\"\",NETWORKDAYS([4]Hoja1!C3104+1,[4]Hoja1!P3104,DiasNOLaborables))","v":7},"",null,null,20]
[3094,20209050051652,44006,"MODULO CONTACTENOS","SOLICITUD DE INFORMACIÓN Y DOCUMENTOS","SOLICITUD DE INFORMACIÓN HIDROMETEOROLÓGICA","NO","GRUPO DE ATENCIÓN AL CIUDADANO",44019,null,null,{"$f":"IFERROR(WORKDAY(C3105,R3105,DiasNOLaborables),\"\")","v":44036},{"$f":"+IF(C3105=\"\",\"\",IF(I3105=\"\",\"\",(IF(I3105<=L3105,\"A TIEMPO\",\"FUERA DE TIEMPO\"))))","v":"A TIEMPO"},{"$f":"IF(I3105=\"\",\"\",NETWORKDAYS([4]Hoja1!C3105+1,[4]Hoja1!P3105,DiasNOLaborables))","v":7},"",null,null,20]
[3095,20209050051762,44006,"MODULO CONTACTENOS","SOLICITUD DE INFORMACIÓN Y DOCUMENTOS","SOLICITUD DE INFORMACIÓN HIDROMETEOROLÓGICA","NO","GRUPO DE ATENCIÓN AL CIUDADANO",44019,null,null,{"$f":"IFERROR(WORKDAY(C3106,R3106,DiasNOLaborables),\"\")","v":44036},{"$f":"+IF(C3106=\"\",\"\",IF(I3106=\"\",\"\",(IF(I3106<=L3106,\"A TIEMPO\",\"FUERA DE TIEMPO\"))))","v":"A TIEMPO"},{"$f":"IF(I3106=\"\",\"\",NETWORKDAYS([4]Hoja1!C3106+1,[4]Hoja1!P3106,DiasNOLaborables))","v":7},"",null,null,20]
[3096,20209050051782,44006,"MODULO CONTACTENOS","SOLICITUD DE INFORMACIÓN Y DOCUMENTOS","SOLICITUD DE INFORMACIÓN HIDROMETEOROLÓGICA","NO","GRUPO DE ATENCIÓN AL CIUDADANO",44019,null,null,{"$f":"IFERROR(WORKDAY(C3107,R3107,DiasNOLaborables),\"\")","v":44036},{"$f":"+IF(C3107=\"\",\"\",IF(I3107=\"\",\"\",(IF(I3107<=L3107,\"A TIEMPO\",\"FUERA DE TIEMPO\"))))","v":"A TIEMPO"},{"$f":"IF(I3107=\"\",\"\",NETWORKDAYS([4]Hoja1!C3107+1,[4]Hoja1!P3107,DiasNOLaborables))","v":7},"",null,null,20]
[3097,20209050051792,44006,"MODULO CONTACTENOS","SOLICITUD DE INFORMACIÓN Y DOCUMENTOS","SOLICITUD DE INFORMACIÓN HIDROMETEOROLÓGICA","NO","GRUPO DE ATENCIÓN AL CIUDADANO",44019,null,null,{"$f":"IFERROR(WORKDAY(C3108,R3108,DiasNOLaborables),\"\")","v":44036},{"$f":"+IF(C3108=\"\",\"\",IF(I3108=\"\",\"\",(IF(I3108<=L3108,\"A TIEMPO\",\"FUERA DE TIEMPO\"))))","v":"A TIEMPO"},{"$f":"IF(I3108=\"\",\"\",NETWORKDAYS([4]Hoja1!C3108+1,[4]Hoja1!P3108,DiasNOLaborables))","v":7},"",null,null,20]
[3098,20209050051842,44006,"MODULO CONTACTENOS","SOLICITUD DE INFORMACIÓN Y DOCUMENTOS","SOLICITUD DE INFORMACIÓN HIDROMETEOROLÓGICA","NO","GRUPO DE ATENCIÓN AL CIUDADANO",44019,null,null,{"$f":"IFERROR(WORKDAY(C3109,R3109,DiasNOLaborables),\"\")","v":44036},{"$f":"+IF(C3109=\"\",\"\",IF(I3109=\"\",\"\",(IF(I3109<=L3109,\"A TIEMPO\",\"FUERA DE TIEMPO\"))))","v":"A TIEMPO"},{"$f":"IF(I3109=\"\",\"\",NETWORKDAYS([4]Hoja1!C3109+1,[4]Hoja1!P3109,DiasNOLaborables))","v":7},"",null,null,20]
[3099,20209050051852,44006,"MODULO CONTACTENOS","SOLICITUD DE INFORMACIÓN Y DOCUMENTOS","SOLICITUD DE INFORMACIÓN HIDROMETEOROLÓGICA","NO","GRUPO DE ATENCIÓN AL CIUDADANO",44019,null,null,{"$f":"IFERROR(WORKDAY(C3110,R3110,DiasNOLaborables),\"\")","v":44036},{"$f":"+IF(C3110=\"\",\"\",IF(I3110=\"\",\"\",(IF(I3110<=L3110,\"A TIEMPO\",\"FUERA DE TIEMPO\"))))","v":"A TIEMPO"},{"$f":"IF(I3110=\"\",\"\",NETWORKDAYS([4]Hoja1!C3110+1,[4]Hoja1!P3110,DiasNOLaborables))","v":7},"",null,null,20]
[3100,20209050051892,44006,"MODULO CONTACTENOS","SOLICITUD DE INFORMACIÓN Y DOCUMENTOS","SOLICITUD DE INFORMACIÓN HIDROMETEOROLÓGICA","NO","GRUPO DE ATENCIÓN AL CIUDADANO",44019,null,null,{"$f":"IFERROR(WORKDAY(C3111,R3111,DiasNOLaborables),\"\")","v":44036},{"$f":"+IF(C3111=\"\",\"\",IF(I3111=\"\",\"\",(IF(I3111<=L3111,\"A TIEMPO\",\"FUERA DE TIEMPO\"))))","v":"A TIEMPO"},{"$f":"IF(I3111=\"\",\"\",NETWORKDAYS([4]Hoja1!C3111+1,[4]Hoja1!P3111,DiasNOLaborables))","v":7},"",null,null,20]
[3101,20209050051902,44006,"MODULO CONTACTENOS","SOLICITUD DE INFORMACIÓN Y DOCUMENTOS","SOLICITUD DE INFORMACIÓN HIDROMETEOROLÓGICA","NO","GRUPO DE ATENCIÓN AL CIUDADANO",44019,null,null,{"$f":"IFERROR(WORKDAY(C3112,R3112,DiasNOLaborables),\"\")","v":44036},{"$f":"+IF(C3112=\"\",\"\",IF(I3112=\"\",\"\",(IF(I3112<=L3112,\"A TIEMPO\",\"FUERA DE TIEMPO\"))))","v":"A TIEMPO"},{"$f":"IF(I3112=\"\",\"\",NETWORKDAYS([4]Hoja1!C3112+1,[4]Hoja1!P3112,DiasNOLaborables))","v":7},"",null,null,20]
[3102,20209050051402,44006,"MODULO CONTACTENOS","CERTIFICACIONES DE TIEMPO, CLIMA Y EVENTOS HIDROLÓGICOS","CERTIFICACIONES DE TIEMPO Y CLIMA","SI","SUBDIRECCIÓN DE METEOROLOGÍA",44014,null,null,{"$f":"IFERROR(WORKDAY(C3113,R3113,DiasNOLaborables),\"\")","v":44050},{"$f":"+IF(C3113=\"\",\"\",IF(I3113=\"\",\"\",(IF(I3113<=L3113,\"A TIEMPO\",\"FUERA DE TIEMPO\"))))","v":"A TIEMPO"},{"$f":"IF(I3113=\"\",\"\",NETWORKDAYS([4]Hoja1!C3113+1,[4]Hoja1!P3113,DiasNOLaborables))","v":7},"",null,null,30]
[3103,20209050051412,44006,"MODULO CONTACTENOS","CERTIFICACIONES DE TIEMPO, CLIMA Y EVENTOS HIDROLÓGICOS","CERTIFICACIONES DE TIEMPO Y CLIMA","SI","SUBDIRECCIÓN DE METEOROLOGÍA",44020,null,null,{"$f":"IFERROR(WORKDAY(C3114,R3114,DiasNOLaborables),\"\")","v":44050},{"$f":"+IF(C3114=\"\",\"\",IF(I3114=\"\",\"\",(IF(I3114<=L3114,\"A TIEMPO\",\"FUERA DE TIEMPO\"))))","v":"A TIEMPO"},{"$f":"IF(I3114=\"\",\"\",NETWORKDAYS([4]Hoja1!C3114+1,[4]Hoja1!P3114,DiasNOLaborables))","v":7},"",null,null,30]
[3104,20209050051562,44006,"CORREO ELECTRÓNICO","SOLICITUD DE INFORMACIÓN Y DOCUMENTOS","REGISTROS AMBIENTALES","SI","SUBDIRECCIÓN DE ESTUDIOS AMBIENTALES",44006,null,null,{"$f":"IFERROR(WORKDAY(C3115,R3115,DiasNOLaborables),\"\")","v":44036},{"$f":"+IF(C3115=\"\",\"\",IF(I3115=\"\",\"\",(IF(I3115<=L3115,\"A TIEMPO\",\"FUERA DE TIEMPO\"))))","v":"A TIEMPO"},{"$f":"IF(I3115=\"\",\"\",NETWORKDAYS([4]Hoja1!C3115+1,[4]Hoja1!P3115,DiasNOLaborables))","v":7},"",null,null,20]
[3105,20209050051572,44006,"CORREO ELECTRÓNICO","SOLICITUD DE INFORMACIÓN Y DOCUMENTOS","SOLICITUD DE INFORMACIÓN HIDROMETEOROLÓGICA","SI","SUBDIRECCIÓN DE ECOSISTEMAS E INFORMACIÓN AMBIENTAL",44021,null,null,{"$f":"IFERROR(WORKDAY(C3116,R3116,DiasNOLaborables),\"\")","v":44036},{"$f":"+IF(C3116=\"\",\"\",IF(I3116=\"\",\"\",(IF(I3116<=L3116,\"A TIEMPO\",\"FUERA DE TIEMPO\"))))","v":"A TIEMPO"},{"$f":"IF(I3116=\"\",\"\",NETWORKDAYS([4]Hoja1!C3116+1,[4]Hoja1!P3116,DiasNOLaborables))","v":7},"",null,null,20]
[3106,20209050051592,44006,"CORREO ELECTRÓNICO","SOLICITUD DE INFORMACIÓN Y DOCUMENTOS","REGISTROS AMBIENTALES","SI","SUBDIRECCIÓN DE ESTUDIOS AMBIENTALES",44006,null,null,{"$f":"IFERROR(WORKDAY(C3117,R3117,DiasNOLaborables),\"\")","v":44036},{"$f":"+IF(C3117=\"\",\"\",IF(I3117=\"\",\"\",(IF(I3117<=L3117,\"A TIEMPO\",\"FUERA DE TIEMPO\"))))","v":"A TIEMPO"},{"$f":"IF(I3117=\"\",\"\",NETWORKDAYS([4]Hoja1!C3117+1,[4]Hoja1!P3117,DiasNOLaborables))","v":7},"",null,null,20]
[3107,20209050051602,44006,"CORREO ELECTRÓNICO","SOLICITUD DE INFORMACIÓN Y DOCUMENTOS","REGISTROS AMBIENTALES","SI","SUBDIRECCIÓN DE ESTUDIOS AMBIENTALES",44006,null,null,{"$f":"IFERROR(WORKDAY(C3118,R3118,DiasNOLaborables),\"\")","v":44036},{"$f":"+IF(C3118=\"\",\"\",IF(I3118=\"\",\"\",(IF(I3118<=L3118,\"A TIEMPO\",\"FUERA DE TIEMPO\"))))","v":"A TIEMPO"},{"$f":"IF(I3118=\"\",\"\",NETWORKDAYS([4]Hoja1!C3118+1,[4]Hoja1!P3118,DiasNOLaborables))","v":7},"",null,null,20]
[3108,20209050051612,44006,"CORREO ELECTRÓNICO","CERTIFICACIONES DE TIEMPO, CLIMA Y EVENTOS HIDROLÓGICOS","CERTIFICACIONES DE TIEMPO Y CLIMA","SI","SUBDIRECCIÓN DE METEOROLOGÍA",44007,null,null,{"$f":"IFERROR(WORKDAY(C3119,R3119,DiasNOLaborables),\"\")","v":44050},{"$f":"+IF(C3119=\"\",\"\",IF(I3119=\"\",\"\",(IF(I3119<=L3119,\"A TIEMPO\",\"FUERA DE TIEMPO\"))))","v":"A TIEMPO"},{"$f":"IF(I3119=\"\",\"\",NETWORKDAYS([4]Hoja1!C3119+1,[4]Hoja1!P3119,DiasNOLaborables))","v":7},"",null,null,30]
[3109,20209050051622,44006,"CORREO ELECTRÓNICO","CERTIFICACIONES DE TIEMPO, CLIMA Y EVENTOS HIDROLÓGICOS","CERTIFICACIONES DE TIEMPO Y CLIMA","SI","SUBDIRECCIÓN DE METEOROLOGÍA",44008,null,null,{"$f":"IFERROR(WORKDAY(C3120,R3120,DiasNOLaborables),\"\")","v":44050},{"$f":"+IF(C3120=\"\",\"\",IF(I3120=\"\",\"\",(IF(I3120<=L3120,\"A TIEMPO\",\"FUERA DE TIEMPO\"))))","v":"A TIEMPO"},{"$f":"IF(I3120=\"\",\"\",NETWORKDAYS([4]Hoja1!C3120+1,[4]Hoja1!P3120,DiasNOLaborables))","v":7},"",null,null,30]
[3110,20209050051632,44006,"CORREO ELECTRÓNICO","CERTIFICACIONES DE TIEMPO, CLIMA Y EVENTOS HIDROLÓGICOS","CERTIFICACIONES DE TIEMPO Y CLIMA","SI","SUBDIRECCIÓN DE METEOROLOGÍA",44007,null,null,{"$f":"IFERROR(WORKDAY(C3121,R3121,DiasNOLaborables),\"\")","v":44050},{"$f":"+IF(C3121=\"\",\"\",IF(I3121=\"\",\"\",(IF(I3121<=L3121,\"A TIEMPO\",\"FUERA DE TIEMPO\"))))","v":"A TIEMPO"},{"$f":"IF(I3121=\"\",\"\",NETWORKDAYS([4]Hoja1!C3121+1,[4]Hoja1!P3121,DiasNOLaborables))","v":7},"",null,null,30]
[{"$f":"IF(B3120<>\"\",A3121+1,\"\")","v":3111},20209050051662,44006,"CORREO ELECTRÓNICO","SOLICITUD DE INFORMACIÓN Y DOCUMENTOS","REGISTROS AMBIENTALES","SI","SUBDIRECCIÓN DE ESTUDIOS AMBIENTALES",44006,null,null,{"$f":"IFERROR(WORKDAY(C3122,R3122,DiasNOLaborables),\"\")","v":44036},{"$f":"+IF(C3122=\"\",\"\",IF(I3122=\"\",\"\",(IF(I3122<=L3122,\"A TIEMPO\",\"FUERA DE TIEMPO\"))))","v":"A TIEMPO"},{"$f":"IF(I3122=\"\",\"\",NETWORKDAYS([4]Hoja1!C3122+1,[4]Hoja1!P3122,DiasNOLaborables))","v":7},"",null,null,20]
[3112,20209050051672,44006,"CORREO ELECTRÓNICO","SOLICITUD DE INFORMACIÓN Y DOCUMENTOS","REGISTROS AMBIENTALES","SI","SUBDIRECCIÓN DE ESTUDIOS AMBIENTALES",44006,null,null,{"$f":"IFERROR(WORKDAY(C3123,R3123,DiasNOLaborables),\"\")","v":44036},{"$f":"+IF(C3123=\"\",\"\",IF(I3123=\"\",\"\",(IF(I3123<=L3123,\"A TIEMPO\",\"FUERA DE TIEMPO\"))))","v":"A TIEMPO"},{"$f":"IF(I3123=\"\",\"\",NETWORKDAYS([4]Hoja1!C3123+1,[4]Hoja1!P3123,DiasNOLaborables))","v":7},"",null,null,20]
[3113,20209050051702,44006,"CORREO ELECTRÓNICO","SOLICITUD DE INFORMACIÓN Y DOCUMENTOS","REGISTROS AMBIENTALES","SI","SUBDIRECCIÓN DE ESTUDIOS AMBIENTALES",44006,null,null,{"$f":"IFERROR(WORKDAY(C3124,R3124,DiasNOLaborables),\"\")","v":44036},{"$f":"+IF(C3124=\"\",\"\",IF(I3124=\"\",\"\",(IF(I3124<=L3124,\"A TIEMPO\",\"FUERA DE TIEMPO\"))))","v":"A TIEMPO"},{"$f":"IF(I3124=\"\",\"\",NETWORKDAYS([4]Hoja1!C3124+1,[4]Hoja1!P3124,DiasNOLaborables))","v":7},{"$f":"IF(NETWORKDAYS(L3124+1,I3124,DiasNOLaborables)<=0,\"\",NETWORKDAYS(L3124+1,I3124,DiasNOLaborables))","v":""},null,null,20]
[3114,20209050051722,44006,"CORREO ELECTRÓNICO","SOLICITUD DE INFORMACIÓN Y DOCUMENTOS","SOLICITUD DE INFORMACIÓN HIDROMETEOROLÓGICA","SI","GRUPO DE GESTIÓN DOCUMENTAL Y CENTRO DE DOCUMENTACIÓN",44007,null,null,{"$f":"IFERROR(WORKDAY(C3125,R3125,DiasNOLaborables),\"\")","v":44036},{"$f":"+IF(C3125=\"\",\"\",IF(I3125=\"\",\"\",(IF(I3125<=L3125,\"A TIEMPO\",\"FUERA DE TIEMPO\"))))","v":"A TIEMPO"},{"$f":"IF(I3125=\"\",\"\",NETWORKDAYS([4]Hoja1!C3125+1,[4]Hoja1!P3125,DiasNOLaborables))","v":7},"",null,null,20]
[3115,20209050051732,44006,"CORREO ELECTRÓNICO","SOLICITUD DE INFORMACIÓN Y DOCUMENTOS","REGISTROS AMBIENTALES","SI","SUBDIRECCIÓN DE ESTUDIOS AMBIENTALES",44006,null,null,{"$f":"IFERROR(WORKDAY(C3126,R3126,DiasNOLaborables),\"\")","v":44036},{"$f":"+IF(C3126=\"\",\"\",IF(I3126=\"\",\"\",(IF(I3126<=L3126,\"A TIEMPO\",\"FUERA DE TIEMPO\"))))","v":"A TIEMPO"},{"$f":"IF(I3126=\"\",\"\",NETWORKDAYS([4]Hoja1!C3126+1,[4]Hoja1!P3126,DiasNOLaborables))","v":7},"",null,null,20]
[3116,20209050051772,44006,"CORREO ELECTRÓNICO","SOLICITUD DE INFORMACIÓN Y DOCUMENTOS","SOLICITUD DE INFORMACIÓN HIDROMETEOROLÓGICA","SI","SUBDIRECCIÓN DE HIDROLOGÍA",44022,null,null,{"$f":"IFERROR(WORKDAY(C3127,R3127,DiasNOLaborables),\"\")","v":44036},{"$f":"+IF(C3127=\"\",\"\",IF(I3127=\"\",\"\",(IF(I3127<=L3127,\"A TIEMPO\",\"FUERA DE TIEMPO\"))))","v":"A TIEMPO"},{"$f":"IF(I3127=\"\",\"\",NETWORKDAYS([4]Hoja1!C3127+1,[4]Hoja1!P3127,DiasNOLaborables))","v":7},"",null,null,20]
[3117,20209050051802,44006,"CORREO ELECTRÓNICO","SOLICITUD DE INFORMACIÓN Y DOCUMENTOS","ADMINISTRATIVA","SI","GRUPO DE ADMINISTRACIÓN Y DESARROLLO DEL TALENTO HUMANO",44007,null,null,{"$f":"IFERROR(WORKDAY(C3128,R3128,DiasNOLaborables),\"\")","v":44036},{"$f":"+IF(C3128=\"\",\"\",IF(I3128=\"\",\"\",(IF(I3128<=L3128,\"A TIEMPO\",\"FUERA DE TIEMPO\"))))","v":"A TIEMPO"},{"$f":"IF(I3128=\"\",\"\",NETWORKDAYS([4]Hoja1!C3128+1,[4]Hoja1!P3128,DiasNOLaborables))","v":7},"",null,null,20]
[3118,20209050051812,44006,"CORREO ELECTRÓNICO","CERTIFICACIONES DE TIEMPO, CLIMA Y EVENTOS HIDROLÓGICOS","CERTIFICACIONES DE TIEMPO Y CLIMA","SI","SUBDIRECCIÓN DE METEOROLOGÍA",44020,null,null,{"$f":"IFERROR(WORKDAY(C3129,R3129,DiasNOLaborables),\"\")","v":44050},{"$f":"+IF(C3129=\"\",\"\",IF(I3129=\"\",\"\",(IF(I3129<=L3129,\"A TIEMPO\",\"FUERA DE TIEMPO\"))))","v":"A TIEMPO"},{"$f":"IF(I3129=\"\",\"\",NETWORKDAYS([4]Hoja1!C3129+1,[4]Hoja1!P3129,DiasNOLaborables))","v":7},"",null,null,30]
[3119,20209050051822,44006,"CORREO ELECTRÓNICO","SOLICITUD DE INFORMACIÓN Y DOCUMENTOS","REGISTROS AMBIENTALES","SI","SUBDIRECCIÓN DE ESTUDIOS AMBIENTALES",44007,null,null,{"$f":"IFERROR(WORKDAY(C3130,R3130,DiasNOLaborables),\"\")","v":44036},{"$f":"+IF(C3130=\"\",\"\",IF(I3130=\"\",\"\",(IF(I3130<=L3130,\"A TIEMPO\",\"FUERA DE TIEMPO\"))))","v":"A TIEMPO"},{"$f":"IF(I3130=\"\",\"\",NETWORKDAYS([4]Hoja1!C3130+1,[4]Hoja1!P3130,DiasNOLaborables))","v":7},"",null,null,20]
[3120,20209050051832,44006,"CORREO ELECTRÓNICO","SOLICITUD DE INFORMACIÓN Y DOCUMENTOS","REGISTROS AMBIENTALES","SI","SUBDIRECCIÓN DE ESTUDIOS AMBIENTALES",44007,null,null,{"$f":"IFERROR(WORKDAY(C3131,R3131,DiasNOLaborables),\"\")","v":44036},{"$f":"+IF(C3131=\"\",\"\",IF(I3131=\"\",\"\",(IF(I3131<=L3131,\"A TIEMPO\",\"FUERA DE TIEMPO\"))))","v":"A TIEMPO"},{"$f":"IF(I3131=\"\",\"\",NETWORKDAYS([4]Hoja1!C3131+1,[4]Hoja1!P3131,DiasNOLaborables))","v":7},"",null,null,20]
[3121,20209050051862,44006,"CORREO ELECTRÓNICO","SOLICITUD DE INFORMACIÓN Y DOCUMENTOS","REGISTROS AMBIENTALES","SI","SUBDIRECCIÓN DE ESTUDIOS AMBIENTALES",44007,null,null,{"$f":"IFERROR(WORKDAY(C3132,R3132,DiasNOLaborables),\"\")","v":44036},{"$f":"+IF(C3132=\"\",\"\",IF(I3132=\"\",\"\",(IF(I3132<=L3132,\"A TIEMPO\",\"FUERA DE TIEMPO\"))))","v":"A TIEMPO"},{"$f":"IF(I3132=\"\",\"\",NETWORKDAYS([4]Hoja1!C3132+1,[4]Hoja1!P3132,DiasNOLaborables))","v":7},"",null,null,20]
[3122,20209050051912,44006,"MODULO CONTACTENOS","SOLICITUD DE INFORMACIÓN Y DOCUMENTOS","SOLICITUD DE INFORMACIÓN HIDROMETEOROLÓGICA","SI","SUBDIRECCIÓN DE ECOSISTEMAS E INFORMACIÓN AMBIENTAL",44014,null,null,{"$f":"IFERROR(WORKDAY(C3133,R3133,DiasNOLaborables),\"\")","v":44036},{"$f":"+IF(C3133=\"\",\"\",IF(I3133=\"\",\"\",(IF(I3133<=L3133,\"A TIEMPO\",\"FUERA DE TIEMPO\"))))","v":"A TIEMPO"},{"$f":"IF(I3133=\"\",\"\",NETWORKDAYS([4]Hoja1!C3133+1,[4]Hoja1!P3133,DiasNOLaborables))","v":7},"",null,null,20]
[3123,20209050051922,44007,"CORREO ELECTRÓNICO","SOLICITUD DE INFORMACIÓN Y DOCUMENTOS","ADMINISTRATIVA","SI","GRUPO DE TESORERÍA",44007,null,null,{"$f":"IFERROR(WORKDAY(C3134,R3134,DiasNOLaborables),\"\")","v":44039},{"$f":"+IF(C3134=\"\",\"\",IF(I3134=\"\",\"\",(IF(I3134<=L3134,\"A TIEMPO\",\"FUERA DE TIEMPO\"))))","v":"A TIEMPO"},{"$f":"IF(I3134=\"\",\"\",NETWORKDAYS([4]Hoja1!C3134+1,[4]Hoja1!P3134,DiasNOLaborables))","v":7},"",null,null,20]
[3124,20209050051942,44007,"CORREO ELECTRÓNICO","SOLICITUD DE INFORMACIÓN Y DOCUMENTOS","SOLICITUD DE INFORMACIÓN HIDROMETEOROLÓGICA","SI","SUBDIRECCIÓN DE HIDROLOGÍA",44006,null,null,{"$f":"IFERROR(WORKDAY(C3135,R3135,DiasNOLaborables),\"\")","v":44039},{"$f":"+IF(C3135=\"\",\"\",IF(I3135=\"\",\"\",(IF(I3135<=L3135,\"A TIEMPO\",\"FUERA DE TIEMPO\"))))","v":"A TIEMPO"},{"$f":"IF(I3135=\"\",\"\",NETWORKDAYS([4]Hoja1!C3135+1,[4]Hoja1!P3135,DiasNOLaborables))","v":7},"",null,null,20]
[3125,20209050051952,44007,"CORREO ELECTRÓNICO","SOLICITUD DE INFORMACIÓN Y DOCUMENTOS","ADMINISTRATIVA","SI","GRUPO DE ADMINISTRACIÓN Y DESARROLLO DEL TALENTO HUMANO",44018,null,null,{"$f":"IFERROR(WORKDAY(C3136,R3136,DiasNOLaborables),\"\")","v":44039},{"$f":"+IF(C3136=\"\",\"\",IF(I3136=\"\",\"\",(IF(I3136<=L3136,\"A TIEMPO\",\"FUERA DE TIEMPO\"))))","v":"A TIEMPO"},{"$f":"IF(I3136=\"\",\"\",NETWORKDAYS([4]Hoja1!C3136+1,[4]Hoja1!P3136,DiasNOLaborables))","v":7},"",null,null,20]
[3126,20209050051962,44007,"CORREO ELECTRÓNICO","CERTIFICACIONES DE TIEMPO, CLIMA Y EVENTOS HIDROLÓGICOS","CERTIFICACIONES DE TIEMPO Y CLIMA","SI","SUBDIRECCIÓN DE METEOROLOGÍA",44013,null,null,{"$f":"IFERROR(WORKDAY(C3137,R3137,DiasNOLaborables),\"\")","v":44053},{"$f":"+IF(C3137=\"\",\"\",IF(I3137=\"\",\"\",(IF(I3137<=L3137,\"A TIEMPO\",\"FUERA DE TIEMPO\"))))","v":"A TIEMPO"},{"$f":"IF(I3137=\"\",\"\",NETWORKDAYS([4]Hoja1!C3137+1,[4]Hoja1!P3137,DiasNOLaborables))","v":7},"",null,null,30]
[3127,20209050051982,44007,"CORREO ELECTRÓNICO","SOLICITUD DE INFORMACIÓN Y DOCUMENTOS","SOLICITUD DE INFORMACIÓN HIDROMETEOROLÓGICA","SI","SUBDIRECCIÓN DE ESTUDIOS AMBIENTALES",44007,null,null,{"$f":"IFERROR(WORKDAY(C3138,R3138,DiasNOLaborables),\"\")","v":44039},{"$f":"+IF(C3138=\"\",\"\",IF(I3138=\"\",\"\",(IF(I3138<=L3138,\"A TIEMPO\",\"FUERA DE TIEMPO\"))))","v":"A TIEMPO"},{"$f":"IF(I3138=\"\",\"\",NETWORKDAYS([4]Hoja1!C3138+1,[4]Hoja1!P3138,DiasNOLaborables))","v":7},"",null,null,20]
[3128,20209050051992,44007,"CORREO ELECTRÓNICO","SOLICITUD DE INFORMACIÓN Y DOCUMENTOS","SOLICITUD DE INFORMACIÓN HIDROMETEOROLÓGICA","SI","SUBDIRECCIÓN DE ECOSISTEMAS E INFORMACIÓN AMBIENTAL",44039,null,null,{"$f":"IFERROR(WORKDAY(C3139,R3139,DiasNOLaborables),\"\")","v":44039},{"$f":"+IF(C3139=\"\",\"\",IF(I3139=\"\",\"\",(IF(I3139<=L3139,\"A TIEMPO\",\"FUERA DE TIEMPO\"))))","v":"A TIEMPO"},{"$f":"IF(I3139=\"\",\"\",NETWORKDAYS([4]Hoja1!C3139+1,[4]Hoja1!P3139,DiasNOLaborables))","v":7},"",null,null,20]
[3129,20209050052002,44007,"CORREO ELECTRÓNICO","SOLICITUD DE INFORMACIÓN Y DOCUMENTOS","SOLICITUD DE INFORMACIÓN HIDROMETEOROLÓGICA","SI","SUBDIRECCIÓN DE ESTUDIOS AMBIENTALES",44006,null,null,{"$f":"IFERROR(WORKDAY(C3140,R3140,DiasNOLaborables),\"\")","v":44039},{"$f":"+IF(C3140=\"\",\"\",IF(I3140=\"\",\"\",(IF(I3140<=L3140,\"A TIEMPO\",\"FUERA DE TIEMPO\"))))","v":"A TIEMPO"},{"$f":"IF(I3140=\"\",\"\",NETWORKDAYS([4]Hoja1!C3140+1,[4]Hoja1!P3140,DiasNOLaborables))","v":7},"",null,null,20]
[3130,20209050052022,44007,"CORREO ELECTRÓNICO","SOLICITUD DE INFORMACIÓN Y DOCUMENTOS","SOLICITUD DE INFORMACIÓN HIDROMETEOROLÓGICA","SI","SUBDIRECCIÓN DE ESTUDIOS AMBIENTALES",44007,null,null,{"$f":"IFERROR(WORKDAY(C3141,R3141,DiasNOLaborables),\"\")","v":44039},{"$f":"+IF(C3141=\"\",\"\",IF(I3141=\"\",\"\",(IF(I3141<=L3141,\"A TIEMPO\",\"FUERA DE TIEMPO\"))))","v":"A TIEMPO"},{"$f":"IF(I3141=\"\",\"\",NETWORKDAYS([4]Hoja1!C3141+1,[4]Hoja1!P3141,DiasNOLaborables))","v":7},"",null,null,20]
[3131,20209050052042,44007,"CORREO ELECTRÓNICO","SOLICITUD DE INFORMACIÓN Y DOCUMENTOS","SOLICITUD DE INFORMACIÓN HIDROMETEOROLÓGICA","SI","SUBDIRECCIÓN DE ESTUDIOS AMBIENTALES",44007,null,null,{"$f":"IFERROR(WORKDAY(C3142,R3142,DiasNOLaborables),\"\")","v":44039},{"$f":"+IF(C3142=\"\",\"\",IF(I3142=\"\",\"\",(IF(I3142<=L3142,\"A TIEMPO\",\"FUERA DE TIEMPO\"))))","v":"A TIEMPO"},{"$f":"IF(I3142=\"\",\"\",NETWORKDAYS([4]Hoja1!C3142+1,[4]Hoja1!P3142,DiasNOLaborables))","v":7},"",null,null,{"$f":"IFERROR(VLOOKUP(E3142,$Z$50:$AA$63,2),\"\")","v":20}]
[3132,20209050052052,44007,"CORREO ELECTRÓNICO","CERTIFICACIONES DE TIEMPO, CLIMA Y EVENTOS HIDROLÓGICOS","CERTIFICACIONES DE TIEMPO Y CLIMA","SI","SUBDIRECCIÓN DE METEOROLOGÍA",44019,null,null,{"$f":"IFERROR(WORKDAY(C3143,R3143,DiasNOLaborables),\"\")","v":44053},{"$f":"+IF(C3143=\"\",\"\",IF(I3143=\"\",\"\",(IF(I3143<=L3143,\"A TIEMPO\",\"FUERA DE TIEMPO\"))))","v":"A TIEMPO"},{"$f":"IF(I3143=\"\",\"\",NETWORKDAYS([4]Hoja1!C3143+1,[4]Hoja1!P3143,DiasNOLaborables))","v":7},"",null,null,30]
[3133,20209050052062,44007,"CORREO ELECTRÓNICO","SOLICITUD DE INFORMACIÓN Y DOCUMENTOS","SOLICITUD DE INFORMACIÓN HIDROMETEOROLÓGICA","SI","SUBDIRECCIÓN DE ESTUDIOS AMBIENTALES",44008,null,null,{"$f":"IFERROR(WORKDAY(C3144,R3144,DiasNOLaborables),\"\")","v":44039},{"$f":"+IF(C3144=\"\",\"\",IF(I3144=\"\",\"\",(IF(I3144<=L3144,\"A TIEMPO\",\"FUERA DE TIEMPO\"))))","v":"A TIEMPO"},{"$f":"IF(I3144=\"\",\"\",NETWORKDAYS([4]Hoja1!C3144+1,[4]Hoja1!P3144,DiasNOLaborables))","v":7},"",null,null,20]
[3134,20209050052092,44007,"MODULO CONTACTENOS","SOLICITUD DE INFORMACIÓN Y DOCUMENTOS","ADMINISTRATIVA","NO","GRUPO DE ATENCIÓN AL CIUDADANO",44008,null,null,{"$f":"IFERROR(WORKDAY(C3145,R3145,DiasNOLaborables),\"\")","v":44039},{"$f":"+IF(C3145=\"\",\"\",IF(I3145=\"\",\"\",(IF(I3145<=L3145,\"A TIEMPO\",\"FUERA DE TIEMPO\"))))","v":"A TIEMPO"},{"$f":"IF(I3145=\"\",\"\",NETWORKDAYS([4]Hoja1!C3145+1,[4]Hoja1!P3145,DiasNOLaborables))","v":7},"",null,null,20]
[3135,20209050052112,44007,"MODULO CONTACTENOS","SOLICITUD DE INFORMACIÓN Y DOCUMENTOS","ADMINISTRATIVA","SI","GRUPO DE ADMINISTRACIÓN Y DESARROLLO DEL TALENTO HUMANO",44018,null,null,{"$f":"IFERROR(WORKDAY(C3146,R3146,DiasNOLaborables),\"\")","v":44039},{"$f":"+IF(C3146=\"\",\"\",IF(I3146=\"\",\"\",(IF(I3146<=L3146,\"A TIEMPO\",\"FUERA DE TIEMPO\"))))","v":"A TIEMPO"},{"$f":"IF(I3146=\"\",\"\",NETWORKDAYS([4]Hoja1!C3146+1,[4]Hoja1!P3146,DiasNOLaborables))","v":7},"",null,null,20]
[3136,20209050052122,44007,"MODULO CONTACTENOS","SOLICITUD DE INFORMACIÓN Y DOCUMENTOS","SOLICITUD DE INFORMACIÓN HIDROMETEOROLÓGICA","SI","SUBDIRECCIÓN DE METEOROLOGÍA",44014,null,null,{"$f":"IFERROR(WORKDAY(C3147,R3147,DiasNOLaborables),\"\")","v":44039},{"$f":"+IF(C3147=\"\",\"\",IF(I3147=\"\",\"\",(IF(I3147<=L3147,\"A TIEMPO\",\"FUERA DE TIEMPO\"))))","v":"A TIEMPO"},{"$f":"IF(I3147=\"\",\"\",NETWORKDAYS([4]Hoja1!C3147+1,[4]Hoja1!P3147,DiasNOLaborables))","v":7},"",null,null,20]
[3137,20209050052132,44007,"MODULO CONTACTENOS","SOLICITUD DE INFORMACIÓN Y DOCUMENTOS","SOLICITUD DE INFORMACIÓN HIDROMETEOROLÓGICA","SI","OFICINA DE INFORMÁTICA",44012,null,null,{"$f":"IFERROR(WORKDAY(C3148,R3148,DiasNOLaborables),\"\")","v":44039},{"$f":"+IF(C3148=\"\",\"\",IF(I3148=\"\",\"\",(IF(I3148<=L3148,\"A TIEMPO\",\"FUERA DE TIEMPO\"))))","v":"A TIEMPO"},{"$f":"IF(I3148=\"\",\"\",NETWORKDAYS([4]Hoja1!C3148+1,[4]Hoja1!P3148,DiasNOLaborables))","v":6},"",null,null,20]
[3138,20209050052142,44007,"MODULO CONTACTENOS","SOLICITUD DE INFORMACIÓN Y DOCUMENTOS","ADMINISTRATIVA","SI","GRUPO DE TESORERÍA",44008,null,null,{"$f":"IFERROR(WORKDAY(C3149,R3149,DiasNOLaborables),\"\")","v":44039},{"$f":"+IF(C3149=\"\",\"\",IF(I3149=\"\",\"\",(IF(I3149<=L3149,\"A TIEMPO\",\"FUERA DE TIEMPO\"))))","v":"A TIEMPO"},{"$f":"IF(I3149=\"\",\"\",NETWORKDAYS([4]Hoja1!C3149+1,[4]Hoja1!P3149,DiasNOLaborables))","v":6},"",null,null,20]
[3139,20209050052162,44007,"MODULO CONTACTENOS","SOLICITUD DE INFORMACIÓN Y DOCUMENTOS","SOLICITUD DE INFORMACIÓN HIDROMETEOROLÓGICA","SI","GRUPO DE GESTIÓN DOCUMENTAL Y CENTRO DE DOCUMENTACIÓN",44008,null,null,{"$f":"IFERROR(WORKDAY(C3150,R3150,DiasNOLaborables),\"\")","v":44039},{"$f":"+IF(C3150=\"\",\"\",IF(I3150=\"\",\"\",(IF(I3150<=L3150,\"A TIEMPO\",\"FUERA DE TIEMPO\"))))","v":"A TIEMPO"},{"$f":"IF(I3150=\"\",\"\",NETWORKDAYS([4]Hoja1!C3150+1,[4]Hoja1!P3150,DiasNOLaborables))","v":6},"",null,null,20]
[3140,20209050052182,44007,"MODULO CONTACTENOS","SOLICITUD DE INFORMACIÓN Y DOCUMENTOS","ADMINISTRATIVA","SI","GRUPO DE ADMINISTRACIÓN Y DESARROLLO DEL TALENTO HUMANO",44018,null,null,{"$f":"IFERROR(WORKDAY(C3151,R3151,DiasNOLaborables),\"\")","v":44039},{"$f":"+IF(C3151=\"\",\"\",IF(I3151=\"\",\"\",(IF(I3151<=L3151,\"A TIEMPO\",\"FUERA DE TIEMPO\"))))","v":"A TIEMPO"},{"$f":"IF(I3151=\"\",\"\",NETWORKDAYS([4]Hoja1!C3151+1,[4]Hoja1!P3151,DiasNOLaborables))","v":6},"",null,null,20]
[3141,20209050052192,44007,"CORREO ELECTRÓNICO","SOLICITUD DE INFORMACIÓN Y DOCUMENTOS","REGISTROS AMBIENTALES","SI","SUBDIRECCIÓN DE ESTUDIOS AMBIENTALES",44020,null,null,{"$f":"IFERROR(WORKDAY(C3152,R3152,DiasNOLaborables),\"\")","v":44039},{"$f":"+IF(C3152=\"\",\"\",IF(I3152=\"\",\"\",(IF(I3152<=L3152,\"A TIEMPO\",\"FUERA DE TIEMPO\"))))","v":"A TIEMPO"},{"$f":"IF(I3152=\"\",\"\",NETWORKDAYS([4]Hoja1!C3152+1,[4]Hoja1!P3152,DiasNOLaborables))","v":6},"",null,null,20]
[3142,20209050052202,44007,"CORREO ELECTRÓNICO","SOLICITUD DE INFORMACIÓN Y DOCUMENTOS","REGISTROS AMBIENTALES","SI","SUBDIRECCIÓN DE ESTUDIOS AMBIENTALES",44015,null,null,{"$f":"IFERROR(WORKDAY(C3153,R3153,DiasNOLaborables),\"\")","v":44039},{"$f":"+IF(C3153=\"\",\"\",IF(I3153=\"\",\"\",(IF(I3153<=L3153,\"A TIEMPO\",\"FUERA DE TIEMPO\"))))","v":"A TIEMPO"},{"$f":"IF(I3153=\"\",\"\",NETWORKDAYS([4]Hoja1!C3153+1,[4]Hoja1!P3153,DiasNOLaborables))","v":6},"",null,null,20]
[3143,20209050052212,44007,"CORREO ELECTRÓNICO","SOLICITUD DE INFORMACIÓN Y DOCUMENTOS","REGISTROS AMBIENTALES","SI","SUBDIRECCIÓN DE ESTUDIOS AMBIENTALES",44015,null,null,{"$f":"IFERROR(WORKDAY(C3154,R3154,DiasNOLaborables),\"\")","v":44039},{"$f":"+IF(C3154=\"\",\"\",IF(I3154=\"\",\"\",(IF(I3154<=L3154,\"A TIEMPO\",\"FUERA DE TIEMPO\"))))","v":"A TIEMPO"},{"$f":"IF(I3154=\"\",\"\",NETWORKDAYS([4]Hoja1!C3154+1,[4]Hoja1!P3154,DiasNOLaborables))","v":7},"",null,null,20]
[3144,20209050052222,44007,"CORREO ELECTRÓNICO","SOLICITUD DE INFORMACIÓN Y DOCUMENTOS","SOLICITUD DE INFORMACIÓN HIDROMETEOROLÓGICA","SI","SUBDIRECCIÓN DE ECOSISTEMAS E INFORMACIÓN AMBIENTAL",44022,null,null,{"$f":"IFERROR(WORKDAY(C3155,R3155,DiasNOLaborables),\"\")","v":44039},{"$f":"+IF(C3155=\"\",\"\",IF(I3155=\"\",\"\",(IF(I3155<=L3155,\"A TIEMPO\",\"FUERA DE TIEMPO\"))))","v":"A TIEMPO"},{"$f":"IF(I3155=\"\",\"\",NETWORKDAYS([4]Hoja1!C3155+1,[4]Hoja1!P3155,DiasNOLaborables))","v":7},"",null,null,20]
[3145,20209050052232,44007,"CORREO ELECTRÓNICO","SOLICITUD DE INFORMACIÓN Y DOCUMENTOS","SOLICITUD DE INFORMACIÓN HIDROMETEOROLÓGICA","SI","OFICINA DE INFORMÁTICA",44022,null,null,{"$f":"IFERROR(WORKDAY(C3156,R3156,DiasNOLaborables),\"\")","v":44039},{"$f":"+IF(C3156=\"\",\"\",IF(I3156=\"\",\"\",(IF(I3156<=L3156,\"A TIEMPO\",\"FUERA DE TIEMPO\"))))","v":"A TIEMPO"},{"$f":"IF(I3156=\"\",\"\",NETWORKDAYS([4]Hoja1!C3156+1,[4]Hoja1!P3156,DiasNOLaborables))","v":7},"",null,null,20]
[3146,20209050052242,44007,"CORREO ELECTRÓNICO","CERTIFICACIONES DE TIEMPO, CLIMA Y EVENTOS HIDROLÓGICOS","CERTIFICACIONES DE TIEMPO Y CLIMA","SI","SUBDIRECCIÓN DE METEOROLOGÍA",44014,null,null,{"$f":"IFERROR(WORKDAY(C3157,R3157,DiasNOLaborables),\"\")","v":44053},{"$f":"+IF(C3157=\"\",\"\",IF(I3157=\"\",\"\",(IF(I3157<=L3157,\"A TIEMPO\",\"FUERA DE TIEMPO\"))))","v":"A TIEMPO"},{"$f":"IF(I3157=\"\",\"\",NETWORKDAYS([4]Hoja1!C3157+1,[4]Hoja1!P3157,DiasNOLaborables))","v":7},"",null,null,30]
[3147,20209050052252,44007,"CORREO ELECTRÓNICO","SOLICITUD DE INFORMACIÓN Y DOCUMENTOS","REGISTROS AMBIENTALES","SI","SUBDIRECCIÓN DE ESTUDIOS AMBIENTALES",44015,null,null,{"$f":"IFERROR(WORKDAY(C3158,R3158,DiasNOLaborables),\"\")","v":44039},{"$f":"+IF(C3158=\"\",\"\",IF(I3158=\"\",\"\",(IF(I3158<=L3158,\"A TIEMPO\",\"FUERA DE TIEMPO\"))))","v":"A TIEMPO"},{"$f":"IF(I3158=\"\",\"\",NETWORKDAYS([4]Hoja1!C3158+1,[4]Hoja1!P3158,DiasNOLaborables))","v":7},"",null,null,20]
[3148,20209050052262,44007,"CORREO ELECTRÓNICO","CERTIFICACIONES DE TIEMPO, CLIMA Y EVENTOS HIDROLÓGICOS","CERTIFICACIONES DE TIEMPO Y CLIMA","SI","SUBDIRECCIÓN DE METEOROLOGÍA",44014,null,null,{"$f":"IFERROR(WORKDAY(C3159,R3159,DiasNOLaborables),\"\")","v":44053},{"$f":"+IF(C3159=\"\",\"\",IF(I3159=\"\",\"\",(IF(I3159<=L3159,\"A TIEMPO\",\"FUERA DE TIEMPO\"))))","v":"A TIEMPO"},{"$f":"IF(I3159=\"\",\"\",NETWORKDAYS([4]Hoja1!C3159+1,[4]Hoja1!P3159,DiasNOLaborables))","v":7},"",null,null,30]
[3149,20209050052282,44007,"CORREO ELECTRÓNICO","CERTIFICACIONES DE TIEMPO, CLIMA Y EVENTOS HIDROLÓGICOS","CERTIFICACIONES DE TIEMPO Y CLIMA","SI","SUBDIRECCIÓN DE METEOROLOGÍA",44018,null,null,{"$f":"IFERROR(WORKDAY(C3160,R3160,DiasNOLaborables),\"\")","v":44053},{"$f":"+IF(C3160=\"\",\"\",IF(I3160=\"\",\"\",(IF(I3160<=L3160,\"A TIEMPO\",\"FUERA DE TIEMPO\"))))","v":"A TIEMPO"},{"$f":"IF(I3160=\"\",\"\",NETWORKDAYS([4]Hoja1!C3160+1,[4]Hoja1!P3160,DiasNOLaborables))","v":7},"",null,null,30]
[3150,20209050052292,44007,"CORREO ELECTRÓNICO","SOLICITUD DE INFORMACIÓN Y DOCUMENTOS","SOLICITUD DE INFORMACIÓN HIDROMETEOROLÓGICA","SI","SUBDIRECCIÓN DE ESTUDIOS AMBIENTALES",44020,null,null,{"$f":"IFERROR(WORKDAY(C3161,R3161,DiasNOLaborables),\"\")","v":44039},{"$f":"+IF(C3161=\"\",\"\",IF(I3161=\"\",\"\",(IF(I3161<=L3161,\"A TIEMPO\",\"FUERA DE TIEMPO\"))))","v":"A TIEMPO"},{"$f":"IF(I3161=\"\",\"\",NETWORKDAYS([4]Hoja1!C3161+1,[4]Hoja1!P3161,DiasNOLaborables))","v":7},"",null,null,20]
[3151,20209050052302,44007,"CORREO ELECTRÓNICO","SOLICITUD DE INFORMACIÓN Y DOCUMENTOS","SOLICITUD DE INFORMACIÓN HIDROMETEOROLÓGICA","SI","OFICINA DEL SERVICIO DE PRONÓSTICOS Y ALERTAS",44008,null,null,{"$f":"IFERROR(WORKDAY(C3162,R3162,DiasNOLaborables),\"\")","v":44039},{"$f":"+IF(C3162=\"\",\"\",IF(I3162=\"\",\"\",(IF(I3162<=L3162,\"A TIEMPO\",\"FUERA DE TIEMPO\"))))","v":"A TIEMPO"},{"$f":"IF(I3162=\"\",\"\",NETWORKDAYS([4]Hoja1!C3162+1,[4]Hoja1!P3162,DiasNOLaborables))","v":7},"",null,null,20]
[3152,20209050052312,44007,"MODULO CONTACTENOS","SOLICITUD DE INFORMACIÓN Y DOCUMENTOS","SOLICITUD DE INFORMACIÓN HIDROMETEOROLÓGICA","SI","GRUPO DE GESTIÓN DOCUMENTAL Y CENTRO DE DOCUMENTACIÓN",44008,null,null,{"$f":"IFERROR(WORKDAY(C3163,R3163,DiasNOLaborables),\"\")","v":44039},{"$f":"+IF(C3163=\"\",\"\",IF(I3163=\"\",\"\",(IF(I3163<=L3163,\"A TIEMPO\",\"FUERA DE TIEMPO\"))))","v":"A TIEMPO"},{"$f":"IF(I3163=\"\",\"\",NETWORKDAYS([4]Hoja1!C3163+1,[4]Hoja1!P3163,DiasNOLaborables))","v":7},"",null,null,20]
[3153,20209050052322,44007,"CORREO ELECTRÓNICO","SOLICITUD DE INFORMACIÓN Y DOCUMENTOS","REGISTROS AMBIENTALES","SI","SUBDIRECCIÓN DE ESTUDIOS AMBIENTALES",44007,null,null,{"$f":"IFERROR(WORKDAY(C3164,R3164,DiasNOLaborables),\"\")","v":44039},{"$f":"+IF(C3164=\"\",\"\",IF(I3164=\"\",\"\",(IF(I3164<=L3164,\"A TIEMPO\",\"FUERA DE TIEMPO\"))))","v":"A TIEMPO"},{"$f":"IF(I3164=\"\",\"\",NETWORKDAYS([4]Hoja1!C3164+1,[4]Hoja1!P3164,DiasNOLaborables))","v":7},"",null,null,20]
[3154,20209050052332,44007,"CORREO ELECTRÓNICO","CERTIFICACIONES DE TIEMPO, CLIMA Y EVENTOS HIDROLÓGICOS","CERTIFICACIONES DE TIEMPO Y CLIMA","SI","SUBDIRECCIÓN DE METEOROLOGÍA",44020,null,null,{"$f":"IFERROR(WORKDAY(C3165,R3165,DiasNOLaborables),\"\")","v":44053},{"$f":"+IF(C3165=\"\",\"\",IF(I3165=\"\",\"\",(IF(I3165<=L3165,\"A TIEMPO\",\"FUERA DE TIEMPO\"))))","v":"A TIEMPO"},{"$f":"IF(I3165=\"\",\"\",NETWORKDAYS([4]Hoja1!C3165+1,[4]Hoja1!P3165,DiasNOLaborables))","v":7},"",null,null,30]
[3155,20209050052342,44007,"CORREO ELECTRÓNICO","SOLICITUD DE INFORMACIÓN Y DOCUMENTOS","REGISTROS AMBIENTALES","SI","SUBDIRECCIÓN DE ESTUDIOS AMBIENTALES",44007,null,null,{"$f":"IFERROR(WORKDAY(C3166,R3166,DiasNOLaborables),\"\")","v":44039},{"$f":"+IF(C3166=\"\",\"\",IF(I3166=\"\",\"\",(IF(I3166<=L3166,\"A TIEMPO\",\"FUERA DE TIEMPO\"))))","v":"A TIEMPO"},{"$f":"IF(I3166=\"\",\"\",NETWORKDAYS([4]Hoja1!C3166+1,[4]Hoja1!P3166,DiasNOLaborables))","v":7},"",null,null,20]
[3156,20209050052352,44007,"CORREO ELECTRÓNICO","SOLICITUD DE INFORMACIÓN Y DOCUMENTOS","REGISTROS AMBIENTALES","SI","SUBDIRECCIÓN DE ESTUDIOS AMBIENTALES",44020,null,null,{"$f":"IFERROR(WORKDAY(C3167,R3167,DiasNOLaborables),\"\")","v":44039},{"$f":"+IF(C3167=\"\",\"\",IF(I3167=\"\",\"\",(IF(I3167<=L3167,\"A TIEMPO\",\"FUERA DE TIEMPO\"))))","v":"A TIEMPO"},{"$f":"IF(I3167=\"\",\"\",NETWORKDAYS([4]Hoja1!C3167+1,[4]Hoja1!P3167,DiasNOLaborables))","v":7},"",null,null,20]
[3157,20209050052392,44007,"CORREO ELECTRÓNICO","SOLICITUD DE INFORMACIÓN Y DOCUMENTOS","REGISTROS AMBIENTALES","SI","SUBDIRECCIÓN DE ESTUDIOS AMBIENTALES",44015,null,null,{"$f":"IFERROR(WORKDAY(C3168,R3168,DiasNOLaborables),\"\")","v":44039},{"$f":"+IF(C3168=\"\",\"\",IF(I3168=\"\",\"\",(IF(I3168<=L3168,\"A TIEMPO\",\"FUERA DE TIEMPO\"))))","v":"A TIEMPO"},{"$f":"IF(I3168=\"\",\"\",NETWORKDAYS([4]Hoja1!C3168+1,[4]Hoja1!P3168,DiasNOLaborables))","v":7},"",null,null,20]
[3158,20209050051932,44007,"MODULO CONTACTENOS","SOLICITUD DE INFORMACIÓN Y DOCUMENTOS","SOLICITUD DE INFORMACIÓN HIDROMETEOROLÓGICA","NO","GRUPO DE ATENCIÓN AL CIUDADANO",44021,null,null,{"$f":"IFERROR(WORKDAY(C3169,R3169,DiasNOLaborables),\"\")","v":44039},{"$f":"+IF(C3169=\"\",\"\",IF(I3169=\"\",\"\",(IF(I3169<=L3169,\"A TIEMPO\",\"FUERA DE TIEMPO\"))))","v":"A TIEMPO"},{"$f":"IF(I3169=\"\",\"\",NETWORKDAYS([4]Hoja1!C3169+1,[4]Hoja1!P3169,DiasNOLaborables))","v":7},"",null,null,20]
[3159,20209050051972,44007,"MODULO CONTACTENOS","SOLICITUD DE INFORMACIÓN Y DOCUMENTOS","SOLICITUD DE INFORMACIÓN HIDROMETEOROLÓGICA","NO","GRUPO DE ATENCIÓN AL CIUDADANO",44021,null,null,{"$f":"IFERROR(WORKDAY(C3170,R3170,DiasNOLaborables),\"\")","v":44039},{"$f":"+IF(C3170=\"\",\"\",IF(I3170=\"\",\"\",(IF(I3170<=L3170,\"A TIEMPO\",\"FUERA DE TIEMPO\"))))","v":"A TIEMPO"},{"$f":"IF(I3170=\"\",\"\",NETWORKDAYS([4]Hoja1!C3170+1,[4]Hoja1!P3170,DiasNOLaborables))","v":7},"",null,null,20]
[3160,20209050052012,44007,"MODULO CONTACTENOS","SOLICITUD DE INFORMACIÓN Y DOCUMENTOS","SOLICITUD DE INFORMACIÓN HIDROMETEOROLÓGICA","NO","GRUPO DE ATENCIÓN AL CIUDADANO",44021,null,null,{"$f":"IFERROR(WORKDAY(C3171,R3171,DiasNOLaborables),\"\")","v":44039},{"$f":"+IF(C3171=\"\",\"\",IF(I3171=\"\",\"\",(IF(I3171<=L3171,\"A TIEMPO\",\"FUERA DE TIEMPO\"))))","v":"A TIEMPO"},{"$f":"IF(I3171=\"\",\"\",NETWORKDAYS([4]Hoja1!C3171+1,[4]Hoja1!P3171,DiasNOLaborables))","v":7},"",null,null,20]
[3161,20209050052032,44007,"MODULO CONTACTENOS","SOLICITUD DE INFORMACIÓN Y DOCUMENTOS","SOLICITUD DE INFORMACIÓN HIDROMETEOROLÓGICA","NO","GRUPO DE ATENCIÓN AL CIUDADANO",44021,null,null,{"$f":"IFERROR(WORKDAY(C3172,R3172,DiasNOLaborables),\"\")","v":44039},{"$f":"+IF(C3172=\"\",\"\",IF(I3172=\"\",\"\",(IF(I3172<=L3172,\"A TIEMPO\",\"FUERA DE TIEMPO\"))))","v":"A TIEMPO"},{"$f":"IF(I3172=\"\",\"\",NETWORKDAYS([4]Hoja1!C3172+1,[4]Hoja1!P3172,DiasNOLaborables))","v":7},"",null,null,20]
[3162,20209050052072,44007,"MODULO CONTACTENOS","SOLICITUD DE INFORMACIÓN Y DOCUMENTOS","SOLICITUD DE INFORMACIÓN HIDROMETEOROLÓGICA","NO","GRUPO DE ATENCIÓN AL CIUDADANO",44021,null,null,{"$f":"IFERROR(WORKDAY(C3173,R3173,DiasNOLaborables),\"\")","v":44039},{"$f":"+IF(C3173=\"\",\"\",IF(I3173=\"\",\"\",(IF(I3173<=L3173,\"A TIEMPO\",\"FUERA DE TIEMPO\"))))","v":"A TIEMPO"},{"$f":"IF(I3173=\"\",\"\",NETWORKDAYS([4]Hoja1!C3173+1,[4]Hoja1!P3173,DiasNOLaborables))","v":7},"",null,null,20]
[3163,20209050052082,44007,"MODULO CONTACTENOS","SOLICITUD DE INFORMACIÓN Y DOCUMENTOS","SOLICITUD DE INFORMACIÓN HIDROMETEOROLÓGICA","NO","GRUPO DE ATENCIÓN AL CIUDADANO",44021,null,null,{"$f":"IFERROR(WORKDAY(C3174,R3174,DiasNOLaborables),\"\")","v":44039},{"$f":"+IF(C3174=\"\",\"\",IF(I3174=\"\",\"\",(IF(I3174<=L3174,\"A TIEMPO\",\"FUERA DE TIEMPO\"))))","v":"A TIEMPO"},{"$f":"IF(I3174=\"\",\"\",NETWORKDAYS([4]Hoja1!C3174+1,[4]Hoja1!P3174,DiasNOLaborables))","v":7},"",null,null,20]
[3164,20209050052102,44007,"WEB (MÓDULO DE SOLICITUD DE INFORMACIÓN HIDROMETEOROLÓGICA)","SOLICITUD DE INFORMACIÓN Y DOCUMENTOS","SOLICITUD DE INFORMACIÓN HIDROMETEOROLÓGICA","NO","GRUPO DE ATENCIÓN AL CIUDADANO",44022,null,null,{"$f":"IFERROR(WORKDAY(C3175,R3175,DiasNOLaborables),\"\")","v":44039},{"$f":"+IF(C3175=\"\",\"\",IF(I3175=\"\",\"\",(IF(I3175<=L3175,\"A TIEMPO\",\"FUERA DE TIEMPO\"))))","v":"A TIEMPO"},{"$f":"IF(I3175=\"\",\"\",NETWORKDAYS([4]Hoja1!C3175+1,[4]Hoja1!P3175,DiasNOLaborables))","v":7},"",null,null,20]
[3165,20209050052152,44007,"WEB (MÓDULO DE SOLICITUD DE INFORMACIÓN HIDROMETEOROLÓGICA)","SOLICITUD DE INFORMACIÓN Y DOCUMENTOS","SOLICITUD DE INFORMACIÓN HIDROMETEOROLÓGICA","NO","GRUPO DE ATENCIÓN AL CIUDADANO",44022,null,null,{"$f":"IFERROR(WORKDAY(C3176,R3176,DiasNOLaborables),\"\")","v":44039},{"$f":"+IF(C3176=\"\",\"\",IF(I3176=\"\",\"\",(IF(I3176<=L3176,\"A TIEMPO\",\"FUERA DE TIEMPO\"))))","v":"A TIEMPO"},{"$f":"IF(I3176=\"\",\"\",NETWORKDAYS([4]Hoja1!C3176+1,[4]Hoja1!P3176,DiasNOLaborables))","v":7},"",null,null,20]
[3166,20209050052172,44007,"WEB (MÓDULO DE SOLICITUD DE INFORMACIÓN HIDROMETEOROLÓGICA)","SOLICITUD DE INFORMACIÓN Y DOCUMENTOS","SOLICITUD DE INFORMACIÓN HIDROMETEOROLÓGICA","NO","GRUPO DE ATENCIÓN AL CIUDADANO",44022,null,null,{"$f":"IFERROR(WORKDAY(C3177,R3177,DiasNOLaborables),\"\")","v":44039},{"$f":"+IF(C3177=\"\",\"\",IF(I3177=\"\",\"\",(IF(I3177<=L3177,\"A TIEMPO\",\"FUERA DE TIEMPO\"))))","v":"A TIEMPO"},{"$f":"IF(I3177=\"\",\"\",NETWORKDAYS([4]Hoja1!C3177+1,[4]Hoja1!P3177,DiasNOLaborables))","v":7},"",null,null,20]
[3167,20209050052272,44007,"WEB (MÓDULO DE SOLICITUD DE INFORMACIÓN HIDROMETEOROLÓGICA)","SOLICITUD DE INFORMACIÓN Y DOCUMENTOS","SOLICITUD DE INFORMACIÓN HIDROMETEOROLÓGICA","NO","GRUPO DE ATENCIÓN AL CIUDADANO",44022,null,null,{"$f":"IFERROR(WORKDAY(C3178,R3178,DiasNOLaborables),\"\")","v":44039},{"$f":"+IF(C3178=\"\",\"\",IF(I3178=\"\",\"\",(IF(I3178<=L3178,\"A TIEMPO\",\"FUERA DE TIEMPO\"))))","v":"A TIEMPO"},{"$f":"IF(I3178=\"\",\"\",NETWORKDAYS([4]Hoja1!C3178+1,[4]Hoja1!P3178,DiasNOLaborables))","v":7},"",null,null,20]
[3168,20209050052382,44008,"WEB (MÓDULO DE SOLICITUD DE INFORMACIÓN HIDROMETEOROLÓGICA)","SOLICITUD DE INFORMACIÓN Y DOCUMENTOS","SOLICITUD DE INFORMACIÓN HIDROMETEOROLÓGICA","NO","GRUPO DE ATENCIÓN AL CIUDADANO",44022,null,null,{"$f":"IFERROR(WORKDAY(C3179,R3179,DiasNOLaborables),\"\")","v":44040},{"$f":"+IF(C3179=\"\",\"\",IF(I3179=\"\",\"\",(IF(I3179<=L3179,\"A TIEMPO\",\"FUERA DE TIEMPO\"))))","v":"A TIEMPO"},{"$f":"IF(I3179=\"\",\"\",NETWORKDAYS([4]Hoja1!C3179+1,[4]Hoja1!P3179,DiasNOLaborables))","v":7},"",null,null,20]
[3169,20209050052412,44008,"WEB (MÓDULO DE SOLICITUD DE INFORMACIÓN HIDROMETEOROLÓGICA)","SOLICITUD DE INFORMACIÓN Y DOCUMENTOS","SOLICITUD DE INFORMACIÓN HIDROMETEOROLÓGICA","NO","GRUPO DE ATENCIÓN AL CIUDADANO",44022,null,null,{"$f":"IFERROR(WORKDAY(C3180,R3180,DiasNOLaborables),\"\")","v":44040},{"$f":"+IF(C3180=\"\",\"\",IF(I3180=\"\",\"\",(IF(I3180<=L3180,\"A TIEMPO\",\"FUERA DE TIEMPO\"))))","v":"A TIEMPO"},{"$f":"IF(I3180=\"\",\"\",NETWORKDAYS([4]Hoja1!C3180+1,[4]Hoja1!P3180,DiasNOLaborables))","v":7},"",null,null,20]
[3170,20209050052462,44008,"WEB (MÓDULO DE SOLICITUD DE INFORMACIÓN HIDROMETEOROLÓGICA)","SOLICITUD DE INFORMACIÓN Y DOCUMENTOS","SOLICITUD DE INFORMACIÓN HIDROMETEOROLÓGICA","NO","GRUPO DE ATENCIÓN AL CIUDADANO",44022,null,null,{"$f":"IFERROR(WORKDAY(C3181,R3181,DiasNOLaborables),\"\")","v":44040},{"$f":"+IF(C3181=\"\",\"\",IF(I3181=\"\",\"\",(IF(I3181<=L3181,\"A TIEMPO\",\"FUERA DE TIEMPO\"))))","v":"A TIEMPO"},{"$f":"IF(I3181=\"\",\"\",NETWORKDAYS([4]Hoja1!C3181+1,[4]Hoja1!P3181,DiasNOLaborables))","v":7},"",null,null,20]
[3171,20209050052482,44008,"WEB (MÓDULO DE SOLICITUD DE INFORMACIÓN HIDROMETEOROLÓGICA)","SOLICITUD DE INFORMACIÓN Y DOCUMENTOS","SOLICITUD DE INFORMACIÓN HIDROMETEOROLÓGICA","NO","GRUPO DE ATENCIÓN AL CIUDADANO",44022,null,null,{"$f":"IFERROR(WORKDAY(C3182,R3182,DiasNOLaborables),\"\")","v":44040},{"$f":"+IF(C3182=\"\",\"\",IF(I3182=\"\",\"\",(IF(I3182<=L3182,\"A TIEMPO\",\"FUERA DE TIEMPO\"))))","v":"A TIEMPO"},{"$f":"IF(I3182=\"\",\"\",NETWORKDAYS([4]Hoja1!C3182+1,[4]Hoja1!P3182,DiasNOLaborables))","v":7},"",null,null,20]
[3172,20209050052682,44008,"WEB (MÓDULO DE SOLICITUD DE INFORMACIÓN HIDROMETEOROLÓGICA)","SOLICITUD DE INFORMACIÓN Y DOCUMENTOS","SOLICITUD DE INFORMACIÓN HIDROMETEOROLÓGICA","NO","GRUPO DE ATENCIÓN AL CIUDADANO",44022,null,null,{"$f":"IFERROR(WORKDAY(C3183,R3183,DiasNOLaborables),\"\")","v":44040},{"$f":"+IF(C3183=\"\",\"\",IF(I3183=\"\",\"\",(IF(I3183<=L3183,\"A TIEMPO\",\"FUERA DE TIEMPO\"))))","v":"A TIEMPO"},{"$f":"IF(I3183=\"\",\"\",NETWORKDAYS([4]Hoja1!C3183+1,[4]Hoja1!P3183,DiasNOLaborables))","v":7},"",null,null,20]
[3173,20209050052692,44008,"WEB (MÓDULO DE SOLICITUD DE INFORMACIÓN HIDROMETEOROLÓGICA)","SOLICITUD DE INFORMACIÓN Y DOCUMENTOS","SOLICITUD DE INFORMACIÓN HIDROMETEOROLÓGICA","NO","GRUPO DE ATENCIÓN AL CIUDADANO",44022,null,null,{"$f":"IFERROR(WORKDAY(C3184,R3184,DiasNOLaborables),\"\")","v":44040},{"$f":"+IF(C3184=\"\",\"\",IF(I3184=\"\",\"\",(IF(I3184<=L3184,\"A TIEMPO\",\"FUERA DE TIEMPO\"))))","v":"A TIEMPO"},{"$f":"IF(I3184=\"\",\"\",NETWORKDAYS([4]Hoja1!C3184+1,[4]Hoja1!P3184,DiasNOLaborables))","v":7},"",null,null,20]
[3174,20209050052702,44008,"WEB (MÓDULO DE SOLICITUD DE INFORMACIÓN HIDROMETEOROLÓGICA)","SOLICITUD DE INFORMACIÓN Y DOCUMENTOS","SOLICITUD DE INFORMACIÓN HIDROMETEOROLÓGICA","NO","GRUPO DE ATENCIÓN AL CIUDADANO",44022,null,null,{"$f":"IFERROR(WORKDAY(C3185,R3185,DiasNOLaborables),\"\")","v":44040},{"$f":"+IF(C3185=\"\",\"\",IF(I3185=\"\",\"\",(IF(I3185<=L3185,\"A TIEMPO\",\"FUERA DE TIEMPO\"))))","v":"A TIEMPO"},{"$f":"IF(I3185=\"\",\"\",NETWORKDAYS([4]Hoja1!C3185+1,[4]Hoja1!P3185,DiasNOLaborables))","v":7},"",null,null,20]
[{"$f":"IF(B3184<>\"\",A3185+1,\"\")","v":3175},20209050052712,44008,"WEB (MÓDULO DE SOLICITUD DE INFORMACIÓN HIDROMETEOROLÓGICA)","SOLICITUD DE INFORMACIÓN Y DOCUMENTOS","SOLICITUD DE INFORMACIÓN HIDROMETEOROLÓGICA","NO","GRUPO DE ATENCIÓN AL CIUDADANO",44022,null,null,{"$f":"IFERROR(WORKDAY(C3186,R3186,DiasNOLaborables),\"\")","v":44040},{"$f":"+IF(C3186=\"\",\"\",IF(I3186=\"\",\"\",(IF(I3186<=L3186,\"A TIEMPO\",\"FUERA DE TIEMPO\"))))","v":"A TIEMPO"},{"$f":"IF(I3186=\"\",\"\",NETWORKDAYS([4]Hoja1!C3186+1,[4]Hoja1!P3186,DiasNOLaborables))","v":7},"",null,null,20]
[3176,20209050052472,44008,"MODULO CONTACTENOS","SOLICITUD DE INFORMACIÓN Y DOCUMENTOS","SOLICITUD DE INFORMACIÓN HIDROMETEOROLÓGICA","NO","GRUPO DE ATENCIÓN AL CIUDADANO",44021,null,null,{"$f":"IFERROR(WORKDAY(C3187,R3187,DiasNOLaborables),\"\")","v":44040},{"$f":"+IF(C3187=\"\",\"\",IF(I3187=\"\",\"\",(IF(I3187<=L3187,\"A TIEMPO\",\"FUERA DE TIEMPO\"))))","v":"A TIEMPO"},{"$f":"IF(I3187=\"\",\"\",NETWORKDAYS([4]Hoja1!C3187+1,[4]Hoja1!P3187,DiasNOLaborables))","v":7},"",null,null,20]
[3177,20209050052502,44008,"MODULO CONTACTENOS","SOLICITUD DE INFORMACIÓN Y DOCUMENTOS","SOLICITUD DE INFORMACIÓN HIDROMETEOROLÓGICA","NO","GRUPO DE ATENCIÓN AL CIUDADANO",44021,null,null,{"$f":"IFERROR(WORKDAY(C3188,R3188,DiasNOLaborables),\"\")","v":44040},{"$f":"+IF(C3188=\"\",\"\",IF(I3188=\"\",\"\",(IF(I3188<=L3188,\"A TIEMPO\",\"FUERA DE TIEMPO\"))))","v":"A TIEMPO"},{"$f":"IF(I3188=\"\",\"\",NETWORKDAYS([4]Hoja1!C3188+1,[4]Hoja1!P3188,DiasNOLaborables))","v":7},{"$f":"IF(NETWORKDAYS(L3188+1,I3188,DiasNOLaborables)<=0,\"\",NETWORKDAYS(L3188+1,I3188,DiasNOLaborables))","v":""},null,null,20]
[3178,20209050052492,44008,"MODULO CONTACTENOS","SOLICITUD DE INFORMACIÓN Y DOCUMENTOS","SOLICITUD DE INFORMACIÓN HIDROMETEOROLÓGICA","NO","GRUPO DE ATENCIÓN AL CIUDADANO",44021,null,null,{"$f":"IFERROR(WORKDAY(C3189,R3189,DiasNOLaborables),\"\")","v":44040},{"$f":"+IF(C3189=\"\",\"\",IF(I3189=\"\",\"\",(IF(I3189<=L3189,\"A TIEMPO\",\"FUERA DE TIEMPO\"))))","v":"A TIEMPO"},{"$f":"IF(I3189=\"\",\"\",NETWORKDAYS([4]Hoja1!C3189+1,[4]Hoja1!P3189,DiasNOLaborables))","v":7},"",null,null,20]
[3179,20209050052542,44008,"MODULO CONTACTENOS","SOLICITUD DE INFORMACIÓN Y DOCUMENTOS","SOLICITUD DE INFORMACIÓN HIDROMETEOROLÓGICA","NO","GRUPO DE ATENCIÓN AL CIUDADANO",44021,null,null,{"$f":"IFERROR(WORKDAY(C3190,R3190,DiasNOLaborables),\"\")","v":44040},{"$f":"+IF(C3190=\"\",\"\",IF(I3190=\"\",\"\",(IF(I3190<=L3190,\"A TIEMPO\",\"FUERA DE TIEMPO\"))))","v":"A TIEMPO"},{"$f":"IF(I3190=\"\",\"\",NETWORKDAYS([4]Hoja1!C3190+1,[4]Hoja1!P3190,DiasNOLaborables))","v":7},"",null,null,20]
[3180,20209050052552,44008,"MODULO CONTACTENOS","SOLICITUD DE INFORMACIÓN Y DOCUMENTOS","SOLICITUD DE INFORMACIÓN HIDROMETEOROLÓGICA","NO","GRUPO DE ATENCIÓN AL CIUDADANO",44021,null,null,{"$f":"IFERROR(WORKDAY(C3191,R3191,DiasNOLaborables),\"\")","v":44040},{"$f":"+IF(C3191=\"\",\"\",IF(I3191=\"\",\"\",(IF(I3191<=L3191,\"A TIEMPO\",\"FUERA DE TIEMPO\"))))","v":"A TIEMPO"},{"$f":"IF(I3191=\"\",\"\",NETWORKDAYS([4]Hoja1!C3191+1,[4]Hoja1!P3191,DiasNOLaborables))","v":7},"",null,null,20]
[3181,20209050052562,44008,"MODULO CONTACTENOS","SOLICITUD DE INFORMACIÓN Y DOCUMENTOS","SOLICITUD DE INFORMACIÓN HIDROMETEOROLÓGICA","NO","GRUPO DE ATENCIÓN AL CIUDADANO",44021,null,null,{"$f":"IFERROR(WORKDAY(C3192,R3192,DiasNOLaborables),\"\")","v":44040},{"$f":"+IF(C3192=\"\",\"\",IF(I3192=\"\",\"\",(IF(I3192<=L3192,\"A TIEMPO\",\"FUERA DE TIEMPO\"))))","v":"A TIEMPO"},{"$f":"IF(I3192=\"\",\"\",NETWORKDAYS([4]Hoja1!C3192+1,[4]Hoja1!P3192,DiasNOLaborables))","v":7},"",null,null,20]
[3182,20209050052662,44008,"MODULO CONTACTENOS","SOLICITUD DE INFORMACIÓN Y DOCUMENTOS","SOLICITUD DE INFORMACIÓN HIDROMETEOROLÓGICA","NO","GRUPO DE ATENCIÓN AL CIUDADANO",44021,null,null,{"$f":"IFERROR(WORKDAY(C3193,R3193,DiasNOLaborables),\"\")","v":44040},{"$f":"+IF(C3193=\"\",\"\",IF(I3193=\"\",\"\",(IF(I3193<=L3193,\"A TIEMPO\",\"FUERA DE TIEMPO\"))))","v":"A TIEMPO"},{"$f":"IF(I3193=\"\",\"\",NETWORKDAYS([4]Hoja1!C3193+1,[4]Hoja1!P3193,DiasNOLaborables))","v":7},"",null,null,20]
[3183,20209050052402,44008,"CORREO ELECTRÓNICO","SOLICITUD DE INFORMACIÓN Y DOCUMENTOS","REGISTROS AMBIENTALES","SI","SUBDIRECCIÓN DE ESTUDIOS AMBIENTALES",44008,null,null,{"$f":"IFERROR(WORKDAY(C3194,R3194,DiasNOLaborables),\"\")","v":44040},{"$f":"+IF(C3194=\"\",\"\",IF(I3194=\"\",\"\",(IF(I3194<=L3194,\"A TIEMPO\",\"FUERA DE TIEMPO\"))))","v":"A TIEMPO"},{"$f":"IF(I3194=\"\",\"\",NETWORKDAYS([4]Hoja1!C3194+1,[4]Hoja1!P3194,DiasNOLaborables))","v":7},"",null,null,20]
[3184,20209050052422,44008,"CORREO ELECTRÓNICO","CERTIFICACIONES DE TIEMPO, CLIMA Y EVENTOS HIDROLÓGICOS","CERTIFICACIONES DE TIEMPO Y CLIMA","SI","SUBDIRECCIÓN DE METEOROLOGÍA",44026,null,null,{"$f":"IFERROR(WORKDAY(C3195,R3195,DiasNOLaborables),\"\")","v":44054},{"$f":"+IF(C3195=\"\",\"\",IF(I3195=\"\",\"\",(IF(I3195<=L3195,\"A TIEMPO\",\"FUERA DE TIEMPO\"))))","v":"A TIEMPO"},{"$f":"IF(I3195=\"\",\"\",NETWORKDAYS([4]Hoja1!C3195+1,[4]Hoja1!P3195,DiasNOLaborables))","v":5},"",null,null,30]
[3185,20209050052432,44008,"CORREO ELECTRÓNICO","CERTIFICACIONES DE TIEMPO, CLIMA Y EVENTOS HIDROLÓGICOS","CERTIFICACIONES DE TIEMPO Y CLIMA","SI","SUBDIRECCIÓN DE METEOROLOGÍA",44026,null,null,{"$f":"IFERROR(WORKDAY(C3196,R3196,DiasNOLaborables),\"\")","v":44054},{"$f":"+IF(C3196=\"\",\"\",IF(I3196=\"\",\"\",(IF(I3196<=L3196,\"A TIEMPO\",\"FUERA DE TIEMPO\"))))","v":"A TIEMPO"},{"$f":"IF(I3196=\"\",\"\",NETWORKDAYS([4]Hoja1!C3196+1,[4]Hoja1!P3196,DiasNOLaborables))","v":11},"",null,null,30]
[3186,20209050052442,44008,"CORREO ELECTRÓNICO","CERTIFICACIONES DE TIEMPO, CLIMA Y EVENTOS HIDROLÓGICOS","CERTIFICACIONES DE TIEMPO Y CLIMA","SI","SUBDIRECCIÓN DE METEOROLOGÍA",44026,null,null,{"$f":"IFERROR(WORKDAY(C3197,R3197,DiasNOLaborables),\"\")","v":44054},{"$f":"+IF(C3197=\"\",\"\",IF(I3197=\"\",\"\",(IF(I3197<=L3197,\"A TIEMPO\",\"FUERA DE TIEMPO\"))))","v":"A TIEMPO"},{"$f":"IF(I3197=\"\",\"\",NETWORKDAYS([4]Hoja1!C3197+1,[4]Hoja1!P3197,DiasNOLaborables))","v":6},"",null,null,30]
[3187,20209050052582,44008,"MODULO CONTACTENOS","CERTIFICACIONES DE TIEMPO, CLIMA Y EVENTOS HIDROLÓGICOS","CERTIFICACIONES DE TIEMPO Y CLIMA","SI","SUBDIRECCIÓN DE METEOROLOGÍA",44014,null,null,{"$f":"IFERROR(WORKDAY(C3198,R3198,DiasNOLaborables),\"\")","v":44054},{"$f":"+IF(C3198=\"\",\"\",IF(I3198=\"\",\"\",(IF(I3198<=L3198,\"A TIEMPO\",\"FUERA DE TIEMPO\"))))","v":"A TIEMPO"},{"$f":"IF(I3198=\"\",\"\",NETWORKDAYS([4]Hoja1!C3198+1,[4]Hoja1!P3198,DiasNOLaborables))","v":8},"",null,null,30]
[3188,20209050052522,44008,"MODULO CONTACTENOS","SOLICITUD DE INFORMACIÓN Y DOCUMENTOS","ADMINISTRATIVA","SI","GRUPO DE TESORERÍA",44020,null,null,{"$f":"IFERROR(WORKDAY(C3199,R3199,DiasNOLaborables),\"\")","v":44040},{"$f":"+IF(C3199=\"\",\"\",IF(I3199=\"\",\"\",(IF(I3199<=L3199,\"A TIEMPO\",\"FUERA DE TIEMPO\"))))","v":"A TIEMPO"},{"$f":"IF(I3199=\"\",\"\",NETWORKDAYS([4]Hoja1!C3199+1,[4]Hoja1!P3199,DiasNOLaborables))","v":1},"",null,null,20]
[3189,20209050052532,44008,"MODULO CONTACTENOS","SOLICITUD DE INFORMACIÓN Y DOCUMENTOS","REGISTROS AMBIENTALES","SI","SUBDIRECCIÓN DE ESTUDIOS AMBIENTALES",44015,null,null,{"$f":"IFERROR(WORKDAY(C3200,R3200,DiasNOLaborables),\"\")","v":44040},{"$f":"+IF(C3200=\"\",\"\",IF(I3200=\"\",\"\",(IF(I3200<=L3200,\"A TIEMPO\",\"FUERA DE TIEMPO\"))))","v":"A TIEMPO"},{"$f":"IF(I3200=\"\",\"\",NETWORKDAYS([4]Hoja1!C3200+1,[4]Hoja1!P3200,DiasNOLaborables))","v":2},"",null,null,20]
[3190,20209050052602,44008,"CORREO ELECTRÓNICO","SOLICITUD DE INFORMACIÓN Y DOCUMENTOS","REGISTROS AMBIENTALES","SI","SUBDIRECCIÓN DE ESTUDIOS AMBIENTALES",44008,null,null,{"$f":"IFERROR(WORKDAY(C3201,R3201,DiasNOLaborables),\"\")","v":44040},{"$f":"+IF(C3201=\"\",\"\",IF(I3201=\"\",\"\",(IF(I3201<=L3201,\"A TIEMPO\",\"FUERA DE TIEMPO\"))))","v":"A TIEMPO"},{"$f":"IF(I3201=\"\",\"\",NETWORKDAYS([4]Hoja1!C3201+1,[4]Hoja1!P3201,DiasNOLaborables))","v":11},"",null,null,20]
[3191,20209050052612,44008,"CORREO ELECTRÓNICO","SOLICITUD DE INFORMACIÓN Y DOCUMENTOS","REGISTROS AMBIENTALES","SI","SUBDIRECCIÓN DE ESTUDIOS AMBIENTALES",44019,null,null,{"$f":"IFERROR(WORKDAY(C3202,R3202,DiasNOLaborables),\"\")","v":44040},{"$f":"+IF(C3202=\"\",\"\",IF(I3202=\"\",\"\",(IF(I3202<=L3202,\"A TIEMPO\",\"FUERA DE TIEMPO\"))))","v":"A TIEMPO"},{"$f":"IF(I3202=\"\",\"\",NETWORKDAYS([4]Hoja1!C3202+1,[4]Hoja1!P3202,DiasNOLaborables))","v":1},"",null,null,20]
[3192,20209050052622,44008,"CORREO ELECTRÓNICO","SOLICITUD DE INFORMACIÓN Y DOCUMENTOS","ADMINISTRATIVA","SI","GRUPO DE ADMINISTRACIÓN Y DESARROLLO DEL TALENTO HUMANO",44033,null,null,{"$f":"IFERROR(WORKDAY(C3203,R3203,DiasNOLaborables),\"\")","v":44040},{"$f":"+IF(C3203=\"\",\"\",IF(I3203=\"\",\"\",(IF(I3203<=L3203,\"A TIEMPO\",\"FUERA DE TIEMPO\"))))","v":"A TIEMPO"},{"$f":"IF(I3203=\"\",\"\",NETWORKDAYS([4]Hoja1!C3203+1,[4]Hoja1!P3203,DiasNOLaborables))","v":1},"",null,null,20]
[3193,20209050052632,44008,"CORREO ELECTRÓNICO","CERTIFICACIONES DE TIEMPO, CLIMA Y EVENTOS HIDROLÓGICOS","CERTIFICACIONES DE TIEMPO Y CLIMA","SI","SUBDIRECCIÓN DE METEOROLOGÍA",44019,null,null,{"$f":"IFERROR(WORKDAY(C3204,R3204,DiasNOLaborables),\"\")","v":44054},{"$f":"+IF(C3204=\"\",\"\",IF(I3204=\"\",\"\",(IF(I3204<=L3204,\"A TIEMPO\",\"FUERA DE TIEMPO\"))))","v":"A TIEMPO"},{"$f":"IF(I3204=\"\",\"\",NETWORKDAYS([4]Hoja1!C3204+1,[4]Hoja1!P3204,DiasNOLaborables))","v":1},"",null,null,30]
[3194,20209050052642,44008,"CORREO ELECTRÓNICO","SOLICITUD DE INFORMACIÓN Y DOCUMENTOS","REGISTROS AMBIENTALES","SI","SUBDIRECCIÓN DE ESTUDIOS AMBIENTALES",44008,null,null,{"$f":"IFERROR(WORKDAY(C3205,R3205,DiasNOLaborables),\"\")","v":44040},{"$f":"+IF(C3205=\"\",\"\",IF(I3205=\"\",\"\",(IF(I3205<=L3205,\"A TIEMPO\",\"FUERA DE TIEMPO\"))))","v":"A TIEMPO"},{"$f":"IF(I3205=\"\",\"\",NETWORKDAYS([4]Hoja1!C3205+1,[4]Hoja1!P3205,DiasNOLaborables))","v":1},"",null,null,20]
[3195,20209050052652,44008,"CORREO ELECTRÓNICO","SOLICITUD DE INFORMACIÓN Y DOCUMENTOS","SOLICITUD DE INFORMACIÓN HIDROMETEOROLÓGICA","SI","SUBDIRECCIÓN DE ECOSISTEMAS E INFORMACIÓN AMBIENTAL",44022,null,null,{"$f":"IFERROR(WORKDAY(C3206,R3206,DiasNOLaborables),\"\")","v":44040},{"$f":"+IF(C3206=\"\",\"\",IF(I3206=\"\",\"\",(IF(I3206<=L3206,\"A TIEMPO\",\"FUERA DE TIEMPO\"))))","v":"A TIEMPO"},{"$f":"IF(I3206=\"\",\"\",NETWORKDAYS([4]Hoja1!C3206+1,[4]Hoja1!P3206,DiasNOLaborables))","v":5},"",null,null,{"$f":"IFERROR(VLOOKUP(E3206,$Z$50:$AA$63,2),\"\")","v":20}]
[3196,20209050052672,44008,"CORREO ELECTRÓNICO","SOLICITUD DE INFORMACIÓN Y DOCUMENTOS","REGISTROS AMBIENTALES","SI","SUBDIRECCIÓN DE ESTUDIOS AMBIENTALES",44009,null,null,{"$f":"IFERROR(WORKDAY(C3207,R3207,DiasNOLaborables),\"\")","v":44040},{"$f":"+IF(C3207=\"\",\"\",IF(I3207=\"\",\"\",(IF(I3207<=L3207,\"A TIEMPO\",\"FUERA DE TIEMPO\"))))","v":"A TIEMPO"},{"$f":"IF(I3207=\"\",\"\",NETWORKDAYS([4]Hoja1!C3207+1,[4]Hoja1!P3207,DiasNOLaborables))","v":3},"",null,null,20]
[3197,20209050052762,44009,"CORREO ELECTRÓNICO","SOLICITUD DE INFORMACIÓN Y DOCUMENTOS","SOLICITUD DE INFORMACIÓN HIDROMETEOROLÓGICA","SI","OFICINA DEL SERVICIO DE PRONÓSTICOS Y ALERTAS",44020,null,null,{"$f":"IFERROR(WORKDAY(C3208,R3208,DiasNOLaborables),\"\")","v":44040},{"$f":"+IF(C3208=\"\",\"\",IF(I3208=\"\",\"\",(IF(I3208<=L3208,\"A TIEMPO\",\"FUERA DE TIEMPO\"))))","v":"A TIEMPO"},{"$f":"IF(I3208=\"\",\"\",NETWORKDAYS([4]Hoja1!C3208+1,[4]Hoja1!P3208,DiasNOLaborables))","v":4},"",null,null,20]
[3198,20209050052772,44009,"CORREO ELECTRÓNICO","SOLICITUD DE INFORMACIÓN Y DOCUMENTOS","REGISTROS AMBIENTALES","SI","SUBDIRECCIÓN DE ESTUDIOS AMBIENTALES",44009,null,null,{"$f":"IFERROR(WORKDAY(C3209,R3209,DiasNOLaborables),\"\")","v":44040},{"$f":"+IF(C3209=\"\",\"\",IF(I3209=\"\",\"\",(IF(I3209<=L3209,\"A TIEMPO\",\"FUERA DE TIEMPO\"))))","v":"A TIEMPO"},{"$f":"IF(I3209=\"\",\"\",NETWORKDAYS([4]Hoja1!C3209+1,[4]Hoja1!P3209,DiasNOLaborables))","v":5},"",null,null,20]
[3199,20209050052782,44009,"CORREO ELECTRÓNICO","SOLICITUD DE INFORMACIÓN Y DOCUMENTOS","SOLICITUD DE INFORMACIÓN HIDROMETEOROLÓGICA","SI","SUBDIRECCIÓN DE ECOSISTEMAS E INFORMACIÓN AMBIENTAL",44019,null,null,{"$f":"IFERROR(WORKDAY(C3210,R3210,DiasNOLaborables),\"\")","v":44040},{"$f":"+IF(C3210=\"\",\"\",IF(I3210=\"\",\"\",(IF(I3210<=L3210,\"A TIEMPO\",\"FUERA DE TIEMPO\"))))","v":"A TIEMPO"},{"$f":"IF(I3210=\"\",\"\",NETWORKDAYS([4]Hoja1!C3210+1,[4]Hoja1!P3210,DiasNOLaborables))","v":5},"",null,null,20]
[3200,20209050052792,44009,"CORREO ELECTRÓNICO","SOLICITUD DE INFORMACIÓN Y DOCUMENTOS","REGISTROS AMBIENTALES","SI","SUBDIRECCIÓN DE ESTUDIOS AMBIENTALES",44009,null,null,{"$f":"IFERROR(WORKDAY(C3211,R3211,DiasNOLaborables),\"\")","v":44040},{"$f":"+IF(C3211=\"\",\"\",IF(I3211=\"\",\"\",(IF(I3211<=L3211,\"A TIEMPO\",\"FUERA DE TIEMPO\"))))","v":"A TIEMPO"},{"$f":"IF(I3211=\"\",\"\",NETWORKDAYS([4]Hoja1!C3211+1,[4]Hoja1!P3211,DiasNOLaborables))","v":6},"",null,null,20]
[3201,20209050052802,44009,"CORREO ELECTRÓNICO","SOLICITUD DE INFORMACIÓN Y DOCUMENTOS","REGISTROS AMBIENTALES","SI","SUBDIRECCIÓN DE ESTUDIOS AMBIENTALES",44009,null,null,{"$f":"IFERROR(WORKDAY(C3212,R3212,DiasNOLaborables),\"\")","v":44040},{"$f":"+IF(C3212=\"\",\"\",IF(I3212=\"\",\"\",(IF(I3212<=L3212,\"A TIEMPO\",\"FUERA DE TIEMPO\"))))","v":"A TIEMPO"},{"$f":"IF(I3212=\"\",\"\",NETWORKDAYS([4]Hoja1!C3212+1,[4]Hoja1!P3212,DiasNOLaborables))","v":6},"",null,null,20]
[3202,20209050052812,44009,"CORREO ELECTRÓNICO","SOLICITUD DE INFORMACIÓN Y DOCUMENTOS","ADMINISTRATIVA","SI","GRUPO DE ADMINISTRACIÓN Y DESARROLLO DEL TALENTO HUMANO",44018,null,null,{"$f":"IFERROR(WORKDAY(C3213,R3213,DiasNOLaborables),\"\")","v":44040},{"$f":"+IF(C3213=\"\",\"\",IF(I3213=\"\",\"\",(IF(I3213<=L3213,\"A TIEMPO\",\"FUERA DE TIEMPO\"))))","v":"A TIEMPO"},{"$f":"IF(I3213=\"\",\"\",NETWORKDAYS([4]Hoja1!C3213+1,[4]Hoja1!P3213,DiasNOLaborables))","v":6},"",null,null,20]
[3203,20209050052822,44009,"CORREO ELECTRÓNICO","SOLICITUD DE INFORMACIÓN Y DOCUMENTOS","REGISTROS AMBIENTALES","SI","SUBDIRECCIÓN DE ESTUDIOS AMBIENTALES",44009,null,null,{"$f":"IFERROR(WORKDAY(C3214,R3214,DiasNOLaborables),\"\")","v":44040},{"$f":"+IF(C3214=\"\",\"\",IF(I3214=\"\",\"\",(IF(I3214<=L3214,\"A TIEMPO\",\"FUERA DE TIEMPO\"))))","v":"A TIEMPO"},{"$f":"IF(I3214=\"\",\"\",NETWORKDAYS([4]Hoja1!C3214+1,[4]Hoja1!P3214,DiasNOLaborables))","v":6},"",null,null,20]
[3204,20209050052842,44009,"CORREO ELECTRÓNICO","SOLICITUD DE INFORMACIÓN Y DOCUMENTOS","REGISTROS AMBIENTALES","SI","SUBDIRECCIÓN DE ESTUDIOS AMBIENTALES",44009,null,null,{"$f":"IFERROR(WORKDAY(C3215,R3215,DiasNOLaborables),\"\")","v":44040},{"$f":"+IF(C3215=\"\",\"\",IF(I3215=\"\",\"\",(IF(I3215<=L3215,\"A TIEMPO\",\"FUERA DE TIEMPO\"))))","v":"A TIEMPO"},{"$f":"IF(I3215=\"\",\"\",NETWORKDAYS([4]Hoja1!C3215+1,[4]Hoja1!P3215,DiasNOLaborables))","v":6},"",null,null,20]
[3205,20209050052852,44009,"CORREO ELECTRÓNICO","SOLICITUD DE INFORMACIÓN Y DOCUMENTOS","REGISTROS AMBIENTALES","SI","SUBDIRECCIÓN DE ESTUDIOS AMBIENTALES",44009,null,null,{"$f":"IFERROR(WORKDAY(C3216,R3216,DiasNOLaborables),\"\")","v":44040},{"$f":"+IF(C3216=\"\",\"\",IF(I3216=\"\",\"\",(IF(I3216<=L3216,\"A TIEMPO\",\"FUERA DE TIEMPO\"))))","v":"A TIEMPO"},{"$f":"IF(I3216=\"\",\"\",NETWORKDAYS([4]Hoja1!C3216+1,[4]Hoja1!P3216,DiasNOLaborables))","v":3},"",null,null,20]
[3206,20209050052872,44009,"CORREO ELECTRÓNICO","SOLICITUD DE INFORMACIÓN Y DOCUMENTOS","REGISTROS AMBIENTALES","SI","SUBDIRECCIÓN DE ESTUDIOS AMBIENTALES",44009,null,null,{"$f":"IFERROR(WORKDAY(C3217,R3217,DiasNOLaborables),\"\")","v":44040},{"$f":"+IF(C3217=\"\",\"\",IF(I3217=\"\",\"\",(IF(I3217<=L3217,\"A TIEMPO\",\"FUERA DE TIEMPO\"))))","v":"A TIEMPO"},{"$f":"IF(I3217=\"\",\"\",NETWORKDAYS([4]Hoja1!C3217+1,[4]Hoja1!P3217,DiasNOLaborables))","v":3},"",null,null,20]
[3207,20209050052882,44009,"CORREO ELECTRÓNICO","SOLICITUD DE INFORMACIÓN Y DOCUMENTOS","REGISTROS AMBIENTALES","SI","SUBDIRECCIÓN DE ESTUDIOS AMBIENTALES",44009,null,null,{"$f":"IFERROR(WORKDAY(C3218,R3218,DiasNOLaborables),\"\")","v":44040},{"$f":"+IF(C3218=\"\",\"\",IF(I3218=\"\",\"\",(IF(I3218<=L3218,\"A TIEMPO\",\"FUERA DE TIEMPO\"))))","v":"A TIEMPO"},{"$f":"IF(I3218=\"\",\"\",NETWORKDAYS([4]Hoja1!C3218+1,[4]Hoja1!P3218,DiasNOLaborables))","v":1},"",null,null,20]
[3208,20209050052892,44009,"CORREO ELECTRÓNICO","SOLICITUD DE INFORMACIÓN Y DOCUMENTOS","REGISTROS AMBIENTALES","SI","SUBDIRECCIÓN DE ESTUDIOS AMBIENTALES",44009,null,null,{"$f":"IFERROR(WORKDAY(C3219,R3219,DiasNOLaborables),\"\")","v":44040},{"$f":"+IF(C3219=\"\",\"\",IF(I3219=\"\",\"\",(IF(I3219<=L3219,\"A TIEMPO\",\"FUERA DE TIEMPO\"))))","v":"A TIEMPO"},{"$f":"IF(I3219=\"\",\"\",NETWORKDAYS([4]Hoja1!C3219+1,[4]Hoja1!P3219,DiasNOLaborables))","v":1},"",null,null,20]
[3209,20209050052902,44009,"CORREO ELECTRÓNICO","SOLICITUD DE INFORMACIÓN Y DOCUMENTOS","REGISTROS AMBIENTALES","SI","SUBDIRECCIÓN DE ESTUDIOS AMBIENTALES",44009,null,null,{"$f":"IFERROR(WORKDAY(C3220,R3220,DiasNOLaborables),\"\")","v":44040},{"$f":"+IF(C3220=\"\",\"\",IF(I3220=\"\",\"\",(IF(I3220<=L3220,\"A TIEMPO\",\"FUERA DE TIEMPO\"))))","v":"A TIEMPO"},{"$f":"IF(I3220=\"\",\"\",NETWORKDAYS([4]Hoja1!C3220+1,[4]Hoja1!P3220,DiasNOLaborables))","v":1},"",null,null,20]
[3210,20209050052912,44009,"CORREO ELECTRÓNICO","SOLICITUD DE INFORMACIÓN Y DOCUMENTOS","REGISTROS AMBIENTALES","SI","SUBDIRECCIÓN DE ESTUDIOS AMBIENTALES",44009,null,null,{"$f":"IFERROR(WORKDAY(C3221,R3221,DiasNOLaborables),\"\")","v":44040},{"$f":"+IF(C3221=\"\",\"\",IF(I3221=\"\",\"\",(IF(I3221<=L3221,\"A TIEMPO\",\"FUERA DE TIEMPO\"))))","v":"A TIEMPO"},{"$f":"IF(I3221=\"\",\"\",NETWORKDAYS([4]Hoja1!C3221+1,[4]Hoja1!P3221,DiasNOLaborables))","v":3},"",null,null,20]
[3211,20209050052922,44009,"CORREO ELECTRÓNICO","SOLICITUD DE INFORMACIÓN Y DOCUMENTOS","SOLICITUD DE INFORMACIÓN HIDROMETEOROLÓGICA","SI","SUBDIRECCIÓN DE METEOROLOGÍA",44019,null,null,{"$f":"IFERROR(WORKDAY(C3222,R3222,DiasNOLaborables),\"\")","v":44040},{"$f":"+IF(C3222=\"\",\"\",IF(I3222=\"\",\"\",(IF(I3222<=L3222,\"A TIEMPO\",\"FUERA DE TIEMPO\"))))","v":"A TIEMPO"},{"$f":"IF(I3222=\"\",\"\",NETWORKDAYS([4]Hoja1!C3222+1,[4]Hoja1!P3222,DiasNOLaborables))","v":-2},"",null,null,20]
[3212,20209050052932,44009,"CORREO ELECTRÓNICO","SOLICITUD DE INFORMACIÓN Y DOCUMENTOS","REGISTROS AMBIENTALES","SI","SUBDIRECCIÓN DE ESTUDIOS AMBIENTALES",44009,null,null,{"$f":"IFERROR(WORKDAY(C3223,R3223,DiasNOLaborables),\"\")","v":44040},{"$f":"+IF(C3223=\"\",\"\",IF(I3223=\"\",\"\",(IF(I3223<=L3223,\"A TIEMPO\",\"FUERA DE TIEMPO\"))))","v":"A TIEMPO"},{"$f":"IF(I3223=\"\",\"\",NETWORKDAYS([4]Hoja1!C3223+1,[4]Hoja1!P3223,DiasNOLaborables))","v":5},"",null,null,20]
[3213,20209050052942,44009,"CORREO ELECTRÓNICO","SOLICITUD DE INFORMACIÓN Y DOCUMENTOS","REGISTROS AMBIENTALES","SI","SUBDIRECCIÓN DE ESTUDIOS AMBIENTALES",44009,null,null,{"$f":"IFERROR(WORKDAY(C3224,R3224,DiasNOLaborables),\"\")","v":44040},{"$f":"+IF(C3224=\"\",\"\",IF(I3224=\"\",\"\",(IF(I3224<=L3224,\"A TIEMPO\",\"FUERA DE TIEMPO\"))))","v":"A TIEMPO"},{"$f":"IF(I3224=\"\",\"\",NETWORKDAYS([4]Hoja1!C3224+1,[4]Hoja1!P3224,DiasNOLaborables))","v":-2},"",null,null,20]
[3214,20209050052952,44009,"CORREO ELECTRÓNICO","SOLICITUD DE INFORMACIÓN Y DOCUMENTOS","REGISTROS AMBIENTALES","SI","SUBDIRECCIÓN DE ESTUDIOS AMBIENTALES",44020,null,null,{"$f":"IFERROR(WORKDAY(C3225,R3225,DiasNOLaborables),\"\")","v":44040},{"$f":"+IF(C3225=\"\",\"\",IF(I3225=\"\",\"\",(IF(I3225<=L3225,\"A TIEMPO\",\"FUERA DE TIEMPO\"))))","v":"A TIEMPO"},{"$f":"IF(I3225=\"\",\"\",NETWORKDAYS([4]Hoja1!C3225+1,[4]Hoja1!P3225,DiasNOLaborables))","v":1},"",null,null,20]
[3215,20209050052962,44009,"CORREO ELECTRÓNICO","CERTIFICACIONES DE TIEMPO, CLIMA Y EVENTOS HIDROLÓGICOS","CERTIFICACIONES DE TIEMPO Y CLIMA","SI","SUBDIRECCIÓN DE METEOROLOGÍA",44020,null,null,{"$f":"IFERROR(WORKDAY(C3226,R3226,DiasNOLaborables),\"\")","v":44054},{"$f":"+IF(C3226=\"\",\"\",IF(I3226=\"\",\"\",(IF(I3226<=L3226,\"A TIEMPO\",\"FUERA DE TIEMPO\"))))","v":"A TIEMPO"},{"$f":"IF(I3226=\"\",\"\",NETWORKDAYS([4]Hoja1!C3226+1,[4]Hoja1!P3226,DiasNOLaborables))","v":2},"",null,null,30]
[3216,20209050052972,44009,"CORREO ELECTRÓNICO","SOLICITUD DE INFORMACIÓN Y DOCUMENTOS","SOLICITUD DE INFORMACIÓN HIDROMETEOROLÓGICA","NO","GRUPO DE ATENCIÓN AL CIUDADANO",44037,null,null,{"$f":"IFERROR(WORKDAY(C3227,R3227,DiasNOLaborables),\"\")","v":44040},{"$f":"+IF(C3227=\"\",\"\",IF(I3227=\"\",\"\",(IF(I3227<=L3227,\"A TIEMPO\",\"FUERA DE TIEMPO\"))))","v":"A TIEMPO"},{"$f":"IF(I3227=\"\",\"\",NETWORKDAYS([4]Hoja1!C3227+1,[4]Hoja1!P3227,DiasNOLaborables))","v":1},"",null,null,20]
[3217,20209050052982,44009,"CORREO ELECTRÓNICO","SOLICITUD DE INFORMACIÓN Y DOCUMENTOS","REGISTROS AMBIENTALES","SI","SUBDIRECCIÓN DE ESTUDIOS AMBIENTALES",44020,null,null,{"$f":"IFERROR(WORKDAY(C3228,R3228,DiasNOLaborables),\"\")","v":44040},{"$f":"+IF(C3228=\"\",\"\",IF(I3228=\"\",\"\",(IF(I3228<=L3228,\"A TIEMPO\",\"FUERA DE TIEMPO\"))))","v":"A TIEMPO"},{"$f":"IF(I3228=\"\",\"\",NETWORKDAYS([4]Hoja1!C3228+1,[4]Hoja1!P3228,DiasNOLaborables))","v":1},"",null,null,20]
[3218,20209050053052,44011,"CORREO ELECTRÓNICO","SOLICITUD DE INFORMACIÓN Y DOCUMENTOS","SOLICITUD DE INFORMACIÓN HIDROMETEOROLÓGICA","SI","SUBDIRECCIÓN DE ECOSISTEMAS E INFORMACIÓN AMBIENTAL",44019,null,null,{"$f":"IFERROR(WORKDAY(C3229,R3229,DiasNOLaborables),\"\")","v":44040},{"$f":"+IF(C3229=\"\",\"\",IF(I3229=\"\",\"\",(IF(I3229<=L3229,\"A TIEMPO\",\"FUERA DE TIEMPO\"))))","v":"A TIEMPO"},{"$f":"IF(I3229=\"\",\"\",NETWORKDAYS([4]Hoja1!C3229+1,[4]Hoja1!P3229,DiasNOLaborables))","v":1},"",null,null,20]
[3219,20209050053062,44011,"CORREO ELECTRÓNICO","SOLICITUD DE INFORMACIÓN Y DOCUMENTOS","REGISTROS AMBIENTALES","SI","SUBDIRECCIÓN DE ESTUDIOS AMBIENTALES",44018,null,null,{"$f":"IFERROR(WORKDAY(C3230,R3230,DiasNOLaborables),\"\")","v":44040},{"$f":"+IF(C3230=\"\",\"\",IF(I3230=\"\",\"\",(IF(I3230<=L3230,\"A TIEMPO\",\"FUERA DE TIEMPO\"))))","v":"A TIEMPO"},{"$f":"IF(I3230=\"\",\"\",NETWORKDAYS([4]Hoja1!C3230+1,[4]Hoja1!P3230,DiasNOLaborables))","v":1},"",null,null,20]
[3220,20209050053072,44011,"CORREO ELECTRÓNICO","SOLICITUD DE INFORMACIÓN Y DOCUMENTOS","REGISTROS AMBIENTALES","SI","SUBDIRECCIÓN DE ESTUDIOS AMBIENTALES",44018,null,null,{"$f":"IFERROR(WORKDAY(C3231,R3231,DiasNOLaborables),\"\")","v":44040},{"$f":"+IF(C3231=\"\",\"\",IF(I3231=\"\",\"\",(IF(I3231<=L3231,\"A TIEMPO\",\"FUERA DE TIEMPO\"))))","v":"A TIEMPO"},{"$f":"IF(I3231=\"\",\"\",NETWORKDAYS([4]Hoja1!C3231+1,[4]Hoja1!P3231,DiasNOLaborables))","v":2},"",null,null,20]
[3221,20209050053082,44011,"CORREO ELECTRÓNICO","SOLICITUD DE INFORMACIÓN Y DOCUMENTOS","REGISTROS AMBIENTALES","SI","SUBDIRECCIÓN DE ESTUDIOS AMBIENTALES",44020,null,null,{"$f":"IFERROR(WORKDAY(C3232,R3232,DiasNOLaborables),\"\")","v":44040},{"$f":"+IF(C3232=\"\",\"\",IF(I3232=\"\",\"\",(IF(I3232<=L3232,\"A TIEMPO\",\"FUERA DE TIEMPO\"))))","v":"A TIEMPO"},{"$f":"IF(I3232=\"\",\"\",NETWORKDAYS([4]Hoja1!C3232+1,[4]Hoja1!P3232,DiasNOLaborables))","v":1},"",null,null,20]
[3222,20209050053102,44011,"CORREO ELECTRÓNICO","SOLICITUD DE INFORMACIÓN Y DOCUMENTOS","REGISTROS AMBIENTALES","SI","SUBDIRECCIÓN DE ESTUDIOS AMBIENTALES",44020,null,null,{"$f":"IFERROR(WORKDAY(C3233,R3233,DiasNOLaborables),\"\")","v":44040},{"$f":"+IF(C3233=\"\",\"\",IF(I3233=\"\",\"\",(IF(I3233<=L3233,\"A TIEMPO\",\"FUERA DE TIEMPO\"))))","v":"A TIEMPO"},{"$f":"IF(I3233=\"\",\"\",NETWORKDAYS([4]Hoja1!C3233+1,[4]Hoja1!P3233,DiasNOLaborables))","v":7},"",null,null,20]
[3223,20209050053112,44011,"CORREO ELECTRÓNICO","SOLICITUD DE INFORMACIÓN Y DOCUMENTOS","SOLICITUD DE INFORMACIÓN HIDROMETEOROLÓGICA","SI","SUBDIRECCIÓN DE ECOSISTEMAS E INFORMACIÓN AMBIENTAL",44026,null,null,{"$f":"IFERROR(WORKDAY(C3234,R3234,DiasNOLaborables),\"\")","v":44040},{"$f":"+IF(C3234=\"\",\"\",IF(I3234=\"\",\"\",(IF(I3234<=L3234,\"A TIEMPO\",\"FUERA DE TIEMPO\"))))","v":"A TIEMPO"},{"$f":"IF(I3234=\"\",\"\",NETWORKDAYS([4]Hoja1!C3234+1,[4]Hoja1!P3234,DiasNOLaborables))","v":4},"",null,null,20]
[3224,20209050053122,44011,"CORREO ELECTRÓNICO","SOLICITUD DE INFORMACIÓN Y DOCUMENTOS","REGISTROS AMBIENTALES","SI","SUBDIRECCIÓN DE ESTUDIOS AMBIENTALES",44018,null,null,{"$f":"IFERROR(WORKDAY(C3235,R3235,DiasNOLaborables),\"\")","v":44040},{"$f":"+IF(C3235=\"\",\"\",IF(I3235=\"\",\"\",(IF(I3235<=L3235,\"A TIEMPO\",\"FUERA DE TIEMPO\"))))","v":"A TIEMPO"},{"$f":"IF(I3235=\"\",\"\",NETWORKDAYS([4]Hoja1!C3235+1,[4]Hoja1!P3235,DiasNOLaborables))","v":2},"",null,null,20]
[3225,20209050053162,44011,"MODULO CONTACTENOS","SOLICITUD DE INFORMACIÓN Y DOCUMENTOS","ADMINISTRATIVA","SI","GRUPO DE ADMINISTRACIÓN Y DESARROLLO DEL TALENTO HUMANO",44014,null,null,{"$f":"IFERROR(WORKDAY(C3236,R3236,DiasNOLaborables),\"\")","v":44040},{"$f":"+IF(C3236=\"\",\"\",IF(I3236=\"\",\"\",(IF(I3236<=L3236,\"A TIEMPO\",\"FUERA DE TIEMPO\"))))","v":"A TIEMPO"},{"$f":"IF(I3236=\"\",\"\",NETWORKDAYS([4]Hoja1!C3236+1,[4]Hoja1!P3236,DiasNOLaborables))","v":7},"",null,null,20]
[3226,20209050053042,44011,"MODULO CONTACTENOS","SOLICITUD DE INFORMACIÓN Y DOCUMENTOS","SOLICITUD DE INFORMACIÓN HIDROMETEOROLÓGICA","NO","GRUPO DE ATENCIÓN AL CIUDADANO",44025,null,null,{"$f":"IFERROR(WORKDAY(C3237,R3237,DiasNOLaborables),\"\")","v":44040},{"$f":"+IF(C3237=\"\",\"\",IF(I3237=\"\",\"\",(IF(I3237<=L3237,\"A TIEMPO\",\"FUERA DE TIEMPO\"))))","v":"A TIEMPO"},{"$f":"IF(I3237=\"\",\"\",NETWORKDAYS([4]Hoja1!C3237+1,[4]Hoja1!P3237,DiasNOLaborables))","v":2},"",null,null,20]
[3227,20209050053092,44011,"MODULO CONTACTENOS","SOLICITUD DE INFORMACIÓN Y DOCUMENTOS","SOLICITUD DE INFORMACIÓN HIDROMETEOROLÓGICA","NO","GRUPO DE ATENCIÓN AL CIUDADANO",44025,null,null,{"$f":"IFERROR(WORKDAY(C3238,R3238,DiasNOLaborables),\"\")","v":44040},{"$f":"+IF(C3238=\"\",\"\",IF(I3238=\"\",\"\",(IF(I3238<=L3238,\"A TIEMPO\",\"FUERA DE TIEMPO\"))))","v":"A TIEMPO"},{"$f":"IF(I3238=\"\",\"\",NETWORKDAYS([4]Hoja1!C3238+1,[4]Hoja1!P3238,DiasNOLaborables))","v":-2},"",null,null,20]
[3228,20209050053132,44011,"MODULO CONTACTENOS","SOLICITUD DE INFORMACIÓN Y DOCUMENTOS","SOLICITUD DE INFORMACIÓN HIDROMETEOROLÓGICA","NO","GRUPO DE ATENCIÓN AL CIUDADANO",44025,null,null,{"$f":"IFERROR(WORKDAY(C3239,R3239,DiasNOLaborables),\"\")","v":44040},{"$f":"+IF(C3239=\"\",\"\",IF(I3239=\"\",\"\",(IF(I3239<=L3239,\"A TIEMPO\",\"FUERA DE TIEMPO\"))))","v":"A TIEMPO"},{"$f":"IF(I3239=\"\",\"\",NETWORKDAYS([4]Hoja1!C3239+1,[4]Hoja1!P3239,DiasNOLaborables))","v":11},"",null,null,20]
[3229,20209050053142,44011,"MODULO CONTACTENOS","SOLICITUD DE INFORMACIÓN Y DOCUMENTOS","SOLICITUD DE INFORMACIÓN HIDROMETEOROLÓGICA","NO","GRUPO DE ATENCIÓN AL CIUDADANO",44025,null,null,{"$f":"IFERROR(WORKDAY(C3240,R3240,DiasNOLaborables),\"\")","v":44040},{"$f":"+IF(C3240=\"\",\"\",IF(I3240=\"\",\"\",(IF(I3240<=L3240,\"A TIEMPO\",\"FUERA DE TIEMPO\"))))","v":"A TIEMPO"},{"$f":"IF(I3240=\"\",\"\",NETWORKDAYS([4]Hoja1!C3240+1,[4]Hoja1!P3240,DiasNOLaborables))","v":-2},"",null,null,20]
[3230,20209050053152,44011,"MODULO CONTACTENOS","SOLICITUD DE INFORMACIÓN Y DOCUMENTOS","SOLICITUD DE INFORMACIÓN HIDROMETEOROLÓGICA","NO","GRUPO DE ATENCIÓN AL CIUDADANO",44025,null,null,{"$f":"IFERROR(WORKDAY(C3241,R3241,DiasNOLaborables),\"\")","v":44040},{"$f":"+IF(C3241=\"\",\"\",IF(I3241=\"\",\"\",(IF(I3241<=L3241,\"A TIEMPO\",\"FUERA DE TIEMPO\"))))","v":"A TIEMPO"},{"$f":"IF(I3241=\"\",\"\",NETWORKDAYS([4]Hoja1!C3241+1,[4]Hoja1!P3241,DiasNOLaborables))","v":1},"",null,null,20]
[3231,20209050053182,44011,"MODULO CONTACTENOS","SOLICITUD DE INFORMACIÓN Y DOCUMENTOS","SOLICITUD DE INFORMACIÓN HIDROMETEOROLÓGICA","NO","GRUPO DE ATENCIÓN AL CIUDADANO",44025,null,null,{"$f":"IFERROR(WORKDAY(C3242,R3242,DiasNOLaborables),\"\")","v":44040},{"$f":"+IF(C3242=\"\",\"\",IF(I3242=\"\",\"\",(IF(I3242<=L3242,\"A TIEMPO\",\"FUERA DE TIEMPO\"))))","v":"A TIEMPO"},{"$f":"IF(I3242=\"\",\"\",NETWORKDAYS([4]Hoja1!C3242+1,[4]Hoja1!P3242,DiasNOLaborables))","v":2},"",null,null,20]
[3232,20209050053192,44012,"MODULO CONTACTENOS","SOLICITUD DE INFORMACIÓN Y DOCUMENTOS","SOLICITUD DE INFORMACIÓN HIDROMETEOROLÓGICA","NO","GRUPO DE ATENCIÓN AL CIUDADANO",44025,null,null,{"$f":"IFERROR(WORKDAY(C3243,R3243,DiasNOLaborables),\"\")","v":44041},{"$f":"+IF(C3243=\"\",\"\",IF(I3243=\"\",\"\",(IF(I3243<=L3243,\"A TIEMPO\",\"FUERA DE TIEMPO\"))))","v":"A TIEMPO"},{"$f":"IF(I3243=\"\",\"\",NETWORKDAYS([4]Hoja1!C3243+1,[4]Hoja1!P3243,DiasNOLaborables))","v":2},"",null,null,20]
[3233,20209050053202,44012,"MODULO CONTACTENOS","SOLICITUD DE INFORMACIÓN Y DOCUMENTOS","SOLICITUD DE INFORMACIÓN HIDROMETEOROLÓGICA","NO","GRUPO DE ATENCIÓN AL CIUDADANO",44025,null,null,{"$f":"IFERROR(WORKDAY(C3244,R3244,DiasNOLaborables),\"\")","v":44041},{"$f":"+IF(C3244=\"\",\"\",IF(I3244=\"\",\"\",(IF(I3244<=L3244,\"A TIEMPO\",\"FUERA DE TIEMPO\"))))","v":"A TIEMPO"},{"$f":"IF(I3244=\"\",\"\",NETWORKDAYS([4]Hoja1!C3244+1,[4]Hoja1!P3244,DiasNOLaborables))","v":11},"",null,null,20]
[3234,20209050053252,44012,"MODULO CONTACTENOS","SOLICITUD DE INFORMACIÓN Y DOCUMENTOS","SOLICITUD DE INFORMACIÓN HIDROMETEOROLÓGICA","NO","GRUPO DE ATENCIÓN AL CIUDADANO",44025,null,null,{"$f":"IFERROR(WORKDAY(C3245,R3245,DiasNOLaborables),\"\")","v":44041},{"$f":"+IF(C3245=\"\",\"\",IF(I3245=\"\",\"\",(IF(I3245<=L3245,\"A TIEMPO\",\"FUERA DE TIEMPO\"))))","v":"A TIEMPO"},{"$f":"IF(I3245=\"\",\"\",NETWORKDAYS([4]Hoja1!C3245+1,[4]Hoja1!P3245,DiasNOLaborables))","v":-2},"",null,null,20]
[3235,20209050053262,44012,"MODULO CONTACTENOS","SOLICITUD DE INFORMACIÓN Y DOCUMENTOS","SOLICITUD DE INFORMACIÓN HIDROMETEOROLÓGICA","NO","GRUPO DE ATENCIÓN AL CIUDADANO",44025,null,null,{"$f":"IFERROR(WORKDAY(C3246,R3246,DiasNOLaborables),\"\")","v":44041},{"$f":"+IF(C3246=\"\",\"\",IF(I3246=\"\",\"\",(IF(I3246<=L3246,\"A TIEMPO\",\"FUERA DE TIEMPO\"))))","v":"A TIEMPO"},{"$f":"IF(I3246=\"\",\"\",NETWORKDAYS([4]Hoja1!C3246+1,[4]Hoja1!P3246,DiasNOLaborables))","v":-2},"",null,null,20]
[3236,20209050053272,44012,"MODULO CONTACTENOS","SOLICITUD DE INFORMACIÓN Y DOCUMENTOS","SOLICITUD DE INFORMACIÓN HIDROMETEOROLÓGICA","NO","GRUPO DE ATENCIÓN AL CIUDADANO",44025,null,null,{"$f":"IFERROR(WORKDAY(C3247,R3247,DiasNOLaborables),\"\")","v":44041},{"$f":"+IF(C3247=\"\",\"\",IF(I3247=\"\",\"\",(IF(I3247<=L3247,\"A TIEMPO\",\"FUERA DE TIEMPO\"))))","v":"A TIEMPO"},{"$f":"IF(I3247=\"\",\"\",NETWORKDAYS([4]Hoja1!C3247+1,[4]Hoja1!P3247,DiasNOLaborables))","v":10},"",null,null,20]
[3237,20209050053292,44012,"MODULO CONTACTENOS","SOLICITUD DE INFORMACIÓN Y DOCUMENTOS","SOLICITUD DE INFORMACIÓN HIDROMETEOROLÓGICA","NO","GRUPO DE ATENCIÓN AL CIUDADANO",44026,null,null,{"$f":"IFERROR(WORKDAY(C3248,R3248,DiasNOLaborables),\"\")","v":44041},{"$f":"+IF(C3248=\"\",\"\",IF(I3248=\"\",\"\",(IF(I3248<=L3248,\"A TIEMPO\",\"FUERA DE TIEMPO\"))))","v":"A TIEMPO"},{"$f":"IF(I3248=\"\",\"\",NETWORKDAYS([4]Hoja1!C3248+1,[4]Hoja1!P3248,DiasNOLaborables))","v":1},"",null,null,20]
[3238,20209050053312,44012,"MODULO CONTACTENOS","SOLICITUD DE INFORMACIÓN Y DOCUMENTOS","SOLICITUD DE INFORMACIÓN HIDROMETEOROLÓGICA","NO","GRUPO DE ATENCIÓN AL CIUDADANO",44026,null,null,{"$f":"IFERROR(WORKDAY(C3249,R3249,DiasNOLaborables),\"\")","v":44041},{"$f":"+IF(C3249=\"\",\"\",IF(I3249=\"\",\"\",(IF(I3249<=L3249,\"A TIEMPO\",\"FUERA DE TIEMPO\"))))","v":"A TIEMPO"},{"$f":"IF(I3249=\"\",\"\",NETWORKDAYS([4]Hoja1!C3249+1,[4]Hoja1!P3249,DiasNOLaborables))","v":11},"",null,null,20]
[{"$f":"IF(B3248<>\"\",A3249+1,\"\")","v":3239},20209050053302,44012,"MODULO CONTACTENOS","SOLICITUD DE INFORMACIÓN Y DOCUMENTOS","SOLICITUD DE INFORMACIÓN HIDROMETEOROLÓGICA","NO","GRUPO DE ATENCIÓN AL CIUDADANO",44026,null,null,{"$f":"IFERROR(WORKDAY(C3250,R3250,DiasNOLaborables),\"\")","v":44041},{"$f":"+IF(C3250=\"\",\"\",IF(I3250=\"\",\"\",(IF(I3250<=L3250,\"A TIEMPO\",\"FUERA DE TIEMPO\"))))","v":"A TIEMPO"},{"$f":"IF(I3250=\"\",\"\",NETWORKDAYS([4]Hoja1!C3250+1,[4]Hoja1!P3250,DiasNOLaborables))","v":5},"",null,null,20]
[3240,20209050053322,44012,"MODULO CONTACTENOS","SOLICITUD DE INFORMACIÓN Y DOCUMENTOS","SOLICITUD DE INFORMACIÓN HIDROMETEOROLÓGICA","NO","GRUPO DE ATENCIÓN AL CIUDADANO",44026,null,null,{"$f":"IFERROR(WORKDAY(C3251,R3251,DiasNOLaborables),\"\")","v":44041},{"$f":"+IF(C3251=\"\",\"\",IF(I3251=\"\",\"\",(IF(I3251<=L3251,\"A TIEMPO\",\"FUERA DE TIEMPO\"))))","v":"A TIEMPO"},{"$f":"IF(I3251=\"\",\"\",NETWORKDAYS([4]Hoja1!C3251+1,[4]Hoja1!P3251,DiasNOLaborables))","v":4},"",null,null,20]
[3241,20209050053332,44012,"MODULO CONTACTENOS","SOLICITUD DE INFORMACIÓN Y DOCUMENTOS","SOLICITUD DE INFORMACIÓN HIDROMETEOROLÓGICA","NO","GRUPO DE ATENCIÓN AL CIUDADANO",44026,null,null,{"$f":"IFERROR(WORKDAY(C3252,R3252,DiasNOLaborables),\"\")","v":44041},{"$f":"+IF(C3252=\"\",\"\",IF(I3252=\"\",\"\",(IF(I3252<=L3252,\"A TIEMPO\",\"FUERA DE TIEMPO\"))))","v":"A TIEMPO"},{"$f":"IF(I3252=\"\",\"\",NETWORKDAYS([4]Hoja1!C3252+1,[4]Hoja1!P3252,DiasNOLaborables))","v":5},{"$f":"IF(NETWORKDAYS(L3252+1,I3252,DiasNOLaborables)<=0,\"\",NETWORKDAYS(L3252+1,I3252,DiasNOLaborables))","v":""},null,null,20]
[3242,20209050053912,44012,"MODULO CONTACTENOS","SOLICITUD DE INFORMACIÓN Y DOCUMENTOS","SOLICITUD DE INFORMACIÓN HIDROMETEOROLÓGICA","NO","GRUPO DE ATENCIÓN AL CIUDADANO",44026,null,null,{"$f":"IFERROR(WORKDAY(C3253,R3253,DiasNOLaborables),\"\")","v":44041},{"$f":"+IF(C3253=\"\",\"\",IF(I3253=\"\",\"\",(IF(I3253<=L3253,\"A TIEMPO\",\"FUERA DE TIEMPO\"))))","v":"A TIEMPO"},{"$f":"IF(I3253=\"\",\"\",NETWORKDAYS([4]Hoja1!C3253+1,[4]Hoja1!P3253,DiasNOLaborables))","v":5},"",null,null,20]
[3243,20209050053962,44012,"MODULO CONTACTENOS","SOLICITUD DE INFORMACIÓN Y DOCUMENTOS","SOLICITUD DE INFORMACIÓN HIDROMETEOROLÓGICA","NO","GRUPO DE ATENCIÓN AL CIUDADANO",44026,null,null,{"$f":"IFERROR(WORKDAY(C3254,R3254,DiasNOLaborables),\"\")","v":44041},{"$f":"+IF(C3254=\"\",\"\",IF(I3254=\"\",\"\",(IF(I3254<=L3254,\"A TIEMPO\",\"FUERA DE TIEMPO\"))))","v":"A TIEMPO"},{"$f":"IF(I3254=\"\",\"\",NETWORKDAYS([4]Hoja1!C3254+1,[4]Hoja1!P3254,DiasNOLaborables))","v":5},"",null,null,20]
[3244,20209050053992,44012,"MODULO CONTACTENOS","SOLICITUD DE INFORMACIÓN Y DOCUMENTOS","SOLICITUD DE INFORMACIÓN HIDROMETEOROLÓGICA","NO","GRUPO DE ATENCIÓN AL CIUDADANO",44026,null,null,{"$f":"IFERROR(WORKDAY(C3255,R3255,DiasNOLaborables),\"\")","v":44041},{"$f":"+IF(C3255=\"\",\"\",IF(I3255=\"\",\"\",(IF(I3255<=L3255,\"A TIEMPO\",\"FUERA DE TIEMPO\"))))","v":"A TIEMPO"},{"$f":"IF(I3255=\"\",\"\",NETWORKDAYS([4]Hoja1!C3255+1,[4]Hoja1!P3255,DiasNOLaborables))","v":5},"",null,null,20]
[3245,20209050054082,44012,"MODULO CONTACTENOS","SOLICITUD DE INFORMACIÓN Y DOCUMENTOS","SOLICITUD DE INFORMACIÓN HIDROMETEOROLÓGICA","NO","GRUPO DE ATENCIÓN AL CIUDADANO",44026,null,null,{"$f":"IFERROR(WORKDAY(C3256,R3256,DiasNOLaborables),\"\")","v":44041},{"$f":"+IF(C3256=\"\",\"\",IF(I3256=\"\",\"\",(IF(I3256<=L3256,\"A TIEMPO\",\"FUERA DE TIEMPO\"))))","v":"A TIEMPO"},{"$f":"IF(I3256=\"\",\"\",NETWORKDAYS([4]Hoja1!C3256+1,[4]Hoja1!P3256,DiasNOLaborables))","v":5},"",null,null,20]
[3246,20209050054112,44012,"MODULO CONTACTENOS","SOLICITUD DE INFORMACIÓN Y DOCUMENTOS","SOLICITUD DE INFORMACIÓN HIDROMETEOROLÓGICA","NO","GRUPO DE ATENCIÓN AL CIUDADANO",44026,null,null,{"$f":"IFERROR(WORKDAY(C3257,R3257,DiasNOLaborables),\"\")","v":44041},{"$f":"+IF(C3257=\"\",\"\",IF(I3257=\"\",\"\",(IF(I3257<=L3257,\"A TIEMPO\",\"FUERA DE TIEMPO\"))))","v":"A TIEMPO"},{"$f":"IF(I3257=\"\",\"\",NETWORKDAYS([4]Hoja1!C3257+1,[4]Hoja1!P3257,DiasNOLaborables))","v":5},"",null,null,20]
[3247,20209050054152,44012,"MODULO CONTACTENOS","SOLICITUD DE INFORMACIÓN Y DOCUMENTOS","SOLICITUD DE INFORMACIÓN HIDROMETEOROLÓGICA","NO","GRUPO DE ATENCIÓN AL CIUDADANO",44026,null,null,{"$f":"IFERROR(WORKDAY(C3258,R3258,DiasNOLaborables),\"\")","v":44041},{"$f":"+IF(C3258=\"\",\"\",IF(I3258=\"\",\"\",(IF(I3258<=L3258,\"A TIEMPO\",\"FUERA DE TIEMPO\"))))","v":"A TIEMPO"},{"$f":"IF(I3258=\"\",\"\",NETWORKDAYS([4]Hoja1!C3258+1,[4]Hoja1!P3258,DiasNOLaborables))","v":5},"",null,null,20]
[3248,20209050054182,44012,"MODULO CONTACTENOS","SOLICITUD DE INFORMACIÓN Y DOCUMENTOS","SOLICITUD DE INFORMACIÓN HIDROMETEOROLÓGICA","NO","GRUPO DE ATENCIÓN AL CIUDADANO",44026,null,null,{"$f":"IFERROR(WORKDAY(C3259,R3259,DiasNOLaborables),\"\")","v":44041},{"$f":"+IF(C3259=\"\",\"\",IF(I3259=\"\",\"\",(IF(I3259<=L3259,\"A TIEMPO\",\"FUERA DE TIEMPO\"))))","v":"A TIEMPO"},{"$f":"IF(I3259=\"\",\"\",NETWORKDAYS([4]Hoja1!C3259+1,[4]Hoja1!P3259,DiasNOLaborables))","v":5},"",null,null,20]
[3249,20209050054192,44012,"MODULO CONTACTENOS","SOLICITUD DE INFORMACIÓN Y DOCUMENTOS","SOLICITUD DE INFORMACIÓN HIDROMETEOROLÓGICA","NO","GRUPO DE ATENCIÓN AL CIUDADANO",44026,null,null,{"$f":"IFERROR(WORKDAY(C3260,R3260,DiasNOLaborables),\"\")","v":44041},{"$f":"+IF(C3260=\"\",\"\",IF(I3260=\"\",\"\",(IF(I3260<=L3260,\"A TIEMPO\",\"FUERA DE TIEMPO\"))))","v":"A TIEMPO"},{"$f":"IF(I3260=\"\",\"\",NETWORKDAYS([4]Hoja1!C3260+1,[4]Hoja1!P3260,DiasNOLaborables))","v":6},"",null,null,20]
[3250,20209050054212,44012,"MODULO CONTACTENOS","SOLICITUD DE INFORMACIÓN Y DOCUMENTOS","SOLICITUD DE INFORMACIÓN HIDROMETEOROLÓGICA","NO","GRUPO DE ATENCIÓN AL CIUDADANO",44026,null,null,{"$f":"IFERROR(WORKDAY(C3261,R3261,DiasNOLaborables),\"\")","v":44041},{"$f":"+IF(C3261=\"\",\"\",IF(I3261=\"\",\"\",(IF(I3261<=L3261,\"A TIEMPO\",\"FUERA DE TIEMPO\"))))","v":"A TIEMPO"},{"$f":"IF(I3261=\"\",\"\",NETWORKDAYS([4]Hoja1!C3261+1,[4]Hoja1!P3261,DiasNOLaborables))","v":6},"",null,null,20]
[3251,20209050054242,44012,"MODULO CONTACTENOS","SOLICITUD DE INFORMACIÓN Y DOCUMENTOS","SOLICITUD DE INFORMACIÓN HIDROMETEOROLÓGICA","NO","GRUPO DE ATENCIÓN AL CIUDADANO",44026,null,null,{"$f":"IFERROR(WORKDAY(C3262,R3262,DiasNOLaborables),\"\")","v":44041},{"$f":"+IF(C3262=\"\",\"\",IF(I3262=\"\",\"\",(IF(I3262<=L3262,\"A TIEMPO\",\"FUERA DE TIEMPO\"))))","v":"A TIEMPO"},{"$f":"IF(I3262=\"\",\"\",NETWORKDAYS([4]Hoja1!C3262+1,[4]Hoja1!P3262,DiasNOLaborables))","v":6},"",null,null,20]
[3252,20209050054252,44012,"MODULO CONTACTENOS","SOLICITUD DE INFORMACIÓN Y DOCUMENTOS","SOLICITUD DE INFORMACIÓN HIDROMETEOROLÓGICA","NO","GRUPO DE ATENCIÓN AL CIUDADANO",44026,null,null,{"$f":"IFERROR(WORKDAY(C3263,R3263,DiasNOLaborables),\"\")","v":44041},{"$f":"+IF(C3263=\"\",\"\",IF(I3263=\"\",\"\",(IF(I3263<=L3263,\"A TIEMPO\",\"FUERA DE TIEMPO\"))))","v":"A TIEMPO"},{"$f":"IF(I3263=\"\",\"\",NETWORKDAYS([4]Hoja1!C3263+1,[4]Hoja1!P3263,DiasNOLaborables))","v":6},"",null,null,20]
[3253,20209050054282,44012,"MODULO CONTACTENOS","SOLICITUD DE INFORMACIÓN Y DOCUMENTOS","SOLICITUD DE INFORMACIÓN HIDROMETEOROLÓGICA","NO","GRUPO DE ATENCIÓN AL CIUDADANO",44026,null,null,{"$f":"IFERROR(WORKDAY(C3264,R3264,DiasNOLaborables),\"\")","v":44041},{"$f":"+IF(C3264=\"\",\"\",IF(I3264=\"\",\"\",(IF(I3264<=L3264,\"A TIEMPO\",\"FUERA DE TIEMPO\"))))","v":"A TIEMPO"},{"$f":"IF(I3264=\"\",\"\",NETWORKDAYS([4]Hoja1!C3264+1,[4]Hoja1!P3264,DiasNOLaborables))","v":6},"",null,null,20]
[3254,20209050054302,44012,"MODULO CONTACTENOS","SOLICITUD DE INFORMACIÓN Y DOCUMENTOS","SOLICITUD DE INFORMACIÓN HIDROMETEOROLÓGICA","NO","GRUPO DE ATENCIÓN AL CIUDADANO",44026,null,null,{"$f":"IFERROR(WORKDAY(C3265,R3265,DiasNOLaborables),\"\")","v":44041},{"$f":"+IF(C3265=\"\",\"\",IF(I3265=\"\",\"\",(IF(I3265<=L3265,\"A TIEMPO\",\"FUERA DE TIEMPO\"))))","v":"A TIEMPO"},{"$f":"IF(I3265=\"\",\"\",NETWORKDAYS([4]Hoja1!C3265+1,[4]Hoja1!P3265,DiasNOLaborables))","v":7},"",null,null,20]
[3255,20209050054322,44012,"MODULO CONTACTENOS","SOLICITUD DE INFORMACIÓN Y DOCUMENTOS","SOLICITUD DE INFORMACIÓN HIDROMETEOROLÓGICA","NO","GRUPO DE ATENCIÓN AL CIUDADANO",44026,null,null,{"$f":"IFERROR(WORKDAY(C3266,R3266,DiasNOLaborables),\"\")","v":44041},{"$f":"+IF(C3266=\"\",\"\",IF(I3266=\"\",\"\",(IF(I3266<=L3266,\"A TIEMPO\",\"FUERA DE TIEMPO\"))))","v":"A TIEMPO"},{"$f":"IF(I3266=\"\",\"\",NETWORKDAYS([4]Hoja1!C3266+1,[4]Hoja1!P3266,DiasNOLaborables))","v":6},"",null,null,20]
[3256,20209050053212,44012,"MODULO CONTACTENOS","SOLICITUD DE INFORMACIÓN Y DOCUMENTOS","REGISTROS AMBIENTALES","SI","SUBDIRECCIÓN DE ESTUDIOS AMBIENTALES",44020,null,null,{"$f":"IFERROR(WORKDAY(C3267,R3267,DiasNOLaborables),\"\")","v":44041},{"$f":"+IF(C3267=\"\",\"\",IF(I3267=\"\",\"\",(IF(I3267<=L3267,\"A TIEMPO\",\"FUERA DE TIEMPO\"))))","v":"A TIEMPO"},{"$f":"IF(I3267=\"\",\"\",NETWORKDAYS([4]Hoja1!C3267+1,[4]Hoja1!P3267,DiasNOLaborables))","v":6},"",null,null,20]
[3257,20209050053232,44012,"MODULO CONTACTENOS","SOLICITUD DE INFORMACIÓN Y DOCUMENTOS","ADMINISTRATIVA","SI","GRUPO DE ADMINISTRACIÓN Y DESARROLLO DEL TALENTO HUMANO",44014,null,null,{"$f":"IFERROR(WORKDAY(C3268,R3268,DiasNOLaborables),\"\")","v":44041},{"$f":"+IF(C3268=\"\",\"\",IF(I3268=\"\",\"\",(IF(I3268<=L3268,\"A TIEMPO\",\"FUERA DE TIEMPO\"))))","v":"A TIEMPO"},{"$f":"IF(I3268=\"\",\"\",NETWORKDAYS([4]Hoja1!C3268+1,[4]Hoja1!P3268,DiasNOLaborables))","v":6},"",null,null,20]
[3258,20209050053342,44012,"CORREO ELECTRÓNICO","SOLICITUD DE INFORMACIÓN Y DOCUMENTOS","REGISTROS AMBIENTALES","SI","SUBDIRECCIÓN DE ESTUDIOS AMBIENTALES",44020,null,null,{"$f":"IFERROR(WORKDAY(C3269,R3269,DiasNOLaborables),\"\")","v":44041},{"$f":"+IF(C3269=\"\",\"\",IF(I3269=\"\",\"\",(IF(I3269<=L3269,\"A TIEMPO\",\"FUERA DE TIEMPO\"))))","v":"A TIEMPO"},{"$f":"IF(I3269=\"\",\"\",NETWORKDAYS([4]Hoja1!C3269+1,[4]Hoja1!P3269,DiasNOLaborables))","v":6},"",null,null,20]
[3259,20209050053362,44012,"CORREO ELECTRÓNICO","SOLICITUD DE INFORMACIÓN Y DOCUMENTOS","REGISTROS AMBIENTALES","SI","SUBDIRECCIÓN DE ESTUDIOS AMBIENTALES",44018,null,null,{"$f":"IFERROR(WORKDAY(C3270,R3270,DiasNOLaborables),\"\")","v":44041},{"$f":"+IF(C3270=\"\",\"\",IF(I3270=\"\",\"\",(IF(I3270<=L3270,\"A TIEMPO\",\"FUERA DE TIEMPO\"))))","v":"A TIEMPO"},{"$f":"IF(I3270=\"\",\"\",NETWORKDAYS([4]Hoja1!C3270+1,[4]Hoja1!P3270,DiasNOLaborables))","v":6},"",null,null,{"$f":"IFERROR(VLOOKUP(E3270,$Z$50:$AA$63,2),\"\")","v":20}]
[3260,20209050053372,44012,"CORREO ELECTRÓNICO","CERTIFICACIONES DE TIEMPO, CLIMA Y EVENTOS HIDROLÓGICOS","CERTIFICACIONES DE TIEMPO Y CLIMA","SI","SUBDIRECCIÓN DE METEOROLOGÍA",44019,null,null,{"$f":"IFERROR(WORKDAY(C3271,R3271,DiasNOLaborables),\"\")","v":44055},{"$f":"+IF(C3271=\"\",\"\",IF(I3271=\"\",\"\",(IF(I3271<=L3271,\"A TIEMPO\",\"FUERA DE TIEMPO\"))))","v":"A TIEMPO"},{"$f":"IF(I3271=\"\",\"\",NETWORKDAYS([4]Hoja1!C3271+1,[4]Hoja1!P3271,DiasNOLaborables))","v":6},"",null,null,30]
[3261,20209050053392,44012,"CORREO ELECTRÓNICO","SOLICITUD DE INFORMACIÓN Y DOCUMENTOS","REGISTROS AMBIENTALES","SI","SUBDIRECCIÓN DE ESTUDIOS AMBIENTALES",44020,null,null,{"$f":"IFERROR(WORKDAY(C3272,R3272,DiasNOLaborables),\"\")","v":44041},{"$f":"+IF(C3272=\"\",\"\",IF(I3272=\"\",\"\",(IF(I3272<=L3272,\"A TIEMPO\",\"FUERA DE TIEMPO\"))))","v":"A TIEMPO"},{"$f":"IF(I3272=\"\",\"\",NETWORKDAYS([4]Hoja1!C3272+1,[4]Hoja1!P3272,DiasNOLaborables))","v":6},"",null,null,20]
[3262,20209050053412,44012,"CORREO ELECTRÓNICO","SOLICITUD DE INFORMACIÓN Y DOCUMENTOS","REGISTROS AMBIENTALES","SI","SUBDIRECCIÓN DE ESTUDIOS AMBIENTALES",44018,null,null,{"$f":"IFERROR(WORKDAY(C3273,R3273,DiasNOLaborables),\"\")","v":44041},{"$f":"+IF(C3273=\"\",\"\",IF(I3273=\"\",\"\",(IF(I3273<=L3273,\"A TIEMPO\",\"FUERA DE TIEMPO\"))))","v":"A TIEMPO"},{"$f":"IF(I3273=\"\",\"\",NETWORKDAYS([4]Hoja1!C3273+1,[4]Hoja1!P3273,DiasNOLaborables))","v":5},"",null,null,20]
[3263,20209050053422,44012,"CORREO ELECTRÓNICO","CERTIFICACIONES DE TIEMPO, CLIMA Y EVENTOS HIDROLÓGICOS","CERTIFICACIONES DE TIEMPO Y CLIMA","SI","SUBDIRECCIÓN DE METEOROLOGÍA",44019,null,null,{"$f":"IFERROR(WORKDAY(C3274,R3274,DiasNOLaborables),\"\")","v":44055},{"$f":"+IF(C3274=\"\",\"\",IF(I3274=\"\",\"\",(IF(I3274<=L3274,\"A TIEMPO\",\"FUERA DE TIEMPO\"))))","v":"A TIEMPO"},{"$f":"IF(I3274=\"\",\"\",NETWORKDAYS([4]Hoja1!C3274+1,[4]Hoja1!P3274,DiasNOLaborables))","v":5},"",null,null,30]
[3264,20209050053442,44012,"CORREO ELECTRÓNICO","SOLICITUD DE INFORMACIÓN Y DOCUMENTOS","REGISTROS AMBIENTALES","SI","SUBDIRECCIÓN DE ESTUDIOS AMBIENTALES",44018,null,null,{"$f":"IFERROR(WORKDAY(C3275,R3275,DiasNOLaborables),\"\")","v":44041},{"$f":"+IF(C3275=\"\",\"\",IF(I3275=\"\",\"\",(IF(I3275<=L3275,\"A TIEMPO\",\"FUERA DE TIEMPO\"))))","v":"A TIEMPO"},{"$f":"IF(I3275=\"\",\"\",NETWORKDAYS([4]Hoja1!C3275+1,[4]Hoja1!P3275,DiasNOLaborables))","v":5},"",null,null,20]
[3265,20209050053452,44012,"CORREO ELECTRÓNICO","SOLICITUD DE INFORMACIÓN Y DOCUMENTOS","REGISTROS AMBIENTALES","SI","SUBDIRECCIÓN DE ESTUDIOS AMBIENTALES",44020,null,null,{"$f":"IFERROR(WORKDAY(C3276,R3276,DiasNOLaborables),\"\")","v":44041},{"$f":"+IF(C3276=\"\",\"\",IF(I3276=\"\",\"\",(IF(I3276<=L3276,\"A TIEMPO\",\"FUERA DE TIEMPO\"))))","v":"A TIEMPO"},{"$f":"IF(I3276=\"\",\"\",NETWORKDAYS([4]Hoja1!C3276+1,[4]Hoja1!P3276,DiasNOLaborables))","v":8},"",null,null,20]
[3266,20209050053462,44012,"CORREO ELECTRÓNICO","SOLICITUD DE INFORMACIÓN Y DOCUMENTOS","REGISTROS AMBIENTALES","SI","SUBDIRECCIÓN DE ESTUDIOS AMBIENTALES",44018,null,null,{"$f":"IFERROR(WORKDAY(C3277,R3277,DiasNOLaborables),\"\")","v":44041},{"$f":"+IF(C3277=\"\",\"\",IF(I3277=\"\",\"\",(IF(I3277<=L3277,\"A TIEMPO\",\"FUERA DE TIEMPO\"))))","v":"A TIEMPO"},{"$f":"IF(I3277=\"\",\"\",NETWORKDAYS([4]Hoja1!C3277+1,[4]Hoja1!P3277,DiasNOLaborables))","v":8},"",null,null,20]
[3267,20209050053472,44012,"CORREO ELECTRÓNICO","SOLICITUD DE INFORMACIÓN Y DOCUMENTOS","REGISTROS AMBIENTALES","SI","SUBDIRECCIÓN DE ESTUDIOS AMBIENTALES",44020,null,null,{"$f":"IFERROR(WORKDAY(C3278,R3278,DiasNOLaborables),\"\")","v":44041},{"$f":"+IF(C3278=\"\",\"\",IF(I3278=\"\",\"\",(IF(I3278<=L3278,\"A TIEMPO\",\"FUERA DE TIEMPO\"))))","v":"A TIEMPO"},{"$f":"IF(I3278=\"\",\"\",NETWORKDAYS([4]Hoja1!C3278+1,[4]Hoja1!P3278,DiasNOLaborables))","v":7},"",null,null,20]
[3268,20209050053482,44012,"CORREO ELECTRÓNICO","SOLICITUD DE INFORMACIÓN Y DOCUMENTOS","SOLICITUD DE INFORMACIÓN HIDROMETEOROLÓGICA","SI","SUBDIRECCIÓN DE ESTUDIOS AMBIENTALES",44015,null,null,{"$f":"IFERROR(WORKDAY(C3279,R3279,DiasNOLaborables),\"\")","v":44041},{"$f":"+IF(C3279=\"\",\"\",IF(I3279=\"\",\"\",(IF(I3279<=L3279,\"A TIEMPO\",\"FUERA DE TIEMPO\"))))","v":"A TIEMPO"},{"$f":"IF(I3279=\"\",\"\",NETWORKDAYS([4]Hoja1!C3279+1,[4]Hoja1!P3279,DiasNOLaborables))","v":7},"",null,null,20]
[3269,20209050053492,44012,"CORREO ELECTRÓNICO","CERTIFICACIONES DE TIEMPO, CLIMA Y EVENTOS HIDROLÓGICOS","CERTIFICACIONES DE TIEMPO Y CLIMA","SI","SUBDIRECCIÓN DE METEOROLOGÍA",44026,null,null,{"$f":"IFERROR(WORKDAY(C3280,R3280,DiasNOLaborables),\"\")","v":44055},{"$f":"+IF(C3280=\"\",\"\",IF(I3280=\"\",\"\",(IF(I3280<=L3280,\"A TIEMPO\",\"FUERA DE TIEMPO\"))))","v":"A TIEMPO"},{"$f":"IF(I3280=\"\",\"\",NETWORKDAYS([4]Hoja1!C3280+1,[4]Hoja1!P3280,DiasNOLaborables))","v":7},"",null,null,30]
[3270,20209050053502,44012,"CORREO ELECTRÓNICO","SOLICITUD DE INFORMACIÓN Y DOCUMENTOS","REGISTROS AMBIENTALES","SI","SUBDIRECCIÓN DE ESTUDIOS AMBIENTALES",44018,null,null,{"$f":"IFERROR(WORKDAY(C3281,R3281,DiasNOLaborables),\"\")","v":44041},{"$f":"+IF(C3281=\"\",\"\",IF(I3281=\"\",\"\",(IF(I3281<=L3281,\"A TIEMPO\",\"FUERA DE TIEMPO\"))))","v":"A TIEMPO"},{"$f":"IF(I3281=\"\",\"\",NETWORKDAYS([4]Hoja1!C3281+1,[4]Hoja1!P3281,DiasNOLaborables))","v":8},"",null,null,20]
[3271,20209050053512,44012,"CORREO ELECTRÓNICO","SOLICITUD DE INFORMACIÓN Y DOCUMENTOS","REGISTROS AMBIENTALES","SI","SUBDIRECCIÓN DE ESTUDIOS AMBIENTALES",44020,null,null,{"$f":"IFERROR(WORKDAY(C3282,R3282,DiasNOLaborables),\"\")","v":44041},{"$f":"+IF(C3282=\"\",\"\",IF(I3282=\"\",\"\",(IF(I3282<=L3282,\"A TIEMPO\",\"FUERA DE TIEMPO\"))))","v":"A TIEMPO"},{"$f":"IF(I3282=\"\",\"\",NETWORKDAYS([4]Hoja1!C3282+1,[4]Hoja1!P3282,DiasNOLaborables))","v":7},"",null,null,20]
[3272,20209050053522,44012,"CORREO ELECTRÓNICO","SOLICITUD DE INFORMACIÓN Y DOCUMENTOS","REGISTROS AMBIENTALES","SI","SUBDIRECCIÓN DE ESTUDIOS AMBIENTALES",44018,null,null,{"$f":"IFERROR(WORKDAY(C3283,R3283,DiasNOLaborables),\"\")","v":44041},{"$f":"+IF(C3283=\"\",\"\",IF(I3283=\"\",\"\",(IF(I3283<=L3283,\"A TIEMPO\",\"FUERA DE TIEMPO\"))))","v":"A TIEMPO"},{"$f":"IF(I3283=\"\",\"\",NETWORKDAYS([4]Hoja1!C3283+1,[4]Hoja1!P3283,DiasNOLaborables))","v":7},"",null,null,20]
[3273,20209050053532,44012,"CORREO ELECTRÓNICO","SOLICITUD DE INFORMACIÓN Y DOCUMENTOS","REGISTROS AMBIENTALES","SI","SUBDIRECCIÓN DE ESTUDIOS AMBIENTALES",44020,null,null,{"$f":"IFERROR(WORKDAY(C3284,R3284,DiasNOLaborables),\"\")","v":44041},{"$f":"+IF(C3284=\"\",\"\",IF(I3284=\"\",\"\",(IF(I3284<=L3284,\"A TIEMPO\",\"FUERA DE TIEMPO\"))))","v":"A TIEMPO"},{"$f":"IF(I3284=\"\",\"\",NETWORKDAYS([4]Hoja1!C3284+1,[4]Hoja1!P3284,DiasNOLaborables))","v":7},"",null,null,20]
[3274,20209050053542,44012,"CORREO ELECTRÓNICO","SOLICITUD DE INFORMACIÓN Y DOCUMENTOS","REGISTROS AMBIENTALES","SI","SUBDIRECCIÓN DE ESTUDIOS AMBIENTALES",44018,null,null,{"$f":"IFERROR(WORKDAY(C3285,R3285,DiasNOLaborables),\"\")","v":44041},{"$f":"+IF(C3285=\"\",\"\",IF(I3285=\"\",\"\",(IF(I3285<=L3285,\"A TIEMPO\",\"FUERA DE TIEMPO\"))))","v":"A TIEMPO"},{"$f":"IF(I3285=\"\",\"\",NETWORKDAYS([4]Hoja1!C3285+1,[4]Hoja1!P3285,DiasNOLaborables))","v":8},"",null,null,20]
[3275,20209050053562,44012,"CORREO ELECTRÓNICO","SOLICITUD DE INFORMACIÓN Y DOCUMENTOS","REGISTROS AMBIENTALES","SI","SUBDIRECCIÓN DE ESTUDIOS AMBIENTALES",44020,null,null,{"$f":"IFERROR(WORKDAY(C3286,R3286,DiasNOLaborables),\"\")","v":44041},{"$f":"+IF(C3286=\"\",\"\",IF(I3286=\"\",\"\",(IF(I3286<=L3286,\"A TIEMPO\",\"FUERA DE TIEMPO\"))))","v":"A TIEMPO"},{"$f":"IF(I3286=\"\",\"\",NETWORKDAYS([4]Hoja1!C3286+1,[4]Hoja1!P3286,DiasNOLaborables))","v":5},"",null,null,20]
[3276,20209050053572,44012,"CORREO ELECTRÓNICO","SOLICITUD DE INFORMACIÓN Y DOCUMENTOS","ADMINISTRATIVA","SI","GRUPO DE ADMINISTRACIÓN Y DESARROLLO DEL TALENTO HUMANO",44014,null,null,{"$f":"IFERROR(WORKDAY(C3287,R3287,DiasNOLaborables),\"\")","v":44041},{"$f":"+IF(C3287=\"\",\"\",IF(I3287=\"\",\"\",(IF(I3287<=L3287,\"A TIEMPO\",\"FUERA DE TIEMPO\"))))","v":"A TIEMPO"},{"$f":"IF(I3287=\"\",\"\",NETWORKDAYS([4]Hoja1!C3287+1,[4]Hoja1!P3287,DiasNOLaborables))","v":1},"",null,null,20]
[3277,20209050053582,44012,"CORREO ELECTRÓNICO","SOLICITUD DE INFORMACIÓN Y DOCUMENTOS","REGISTROS AMBIENTALES","SI","SUBDIRECCIÓN DE ESTUDIOS AMBIENTALES",44020,null,null,{"$f":"IFERROR(WORKDAY(C3288,R3288,DiasNOLaborables),\"\")","v":44041},{"$f":"+IF(C3288=\"\",\"\",IF(I3288=\"\",\"\",(IF(I3288<=L3288,\"A TIEMPO\",\"FUERA DE TIEMPO\"))))","v":"A TIEMPO"},{"$f":"IF(I3288=\"\",\"\",NETWORKDAYS([4]Hoja1!C3288+1,[4]Hoja1!P3288,DiasNOLaborables))","v":10},"",null,null,20]
[3278,20209050053592,44012,"CORREO ELECTRÓNICO","SOLICITUD DE INFORMACIÓN Y DOCUMENTOS","REGISTROS AMBIENTALES","SI","SUBDIRECCIÓN DE ESTUDIOS AMBIENTALES",44020,null,null,{"$f":"IFERROR(WORKDAY(C3289,R3289,DiasNOLaborables),\"\")","v":44041},{"$f":"+IF(C3289=\"\",\"\",IF(I3289=\"\",\"\",(IF(I3289<=L3289,\"A TIEMPO\",\"FUERA DE TIEMPO\"))))","v":"A TIEMPO"},{"$f":"IF(I3289=\"\",\"\",NETWORKDAYS([4]Hoja1!C3289+1,[4]Hoja1!P3289,DiasNOLaborables))","v":2},"",null,null,20]
[3279,20209050053602,44012,"CORREO ELECTRÓNICO","SOLICITUD DE INFORMACIÓN Y DOCUMENTOS","REGISTROS AMBIENTALES","SI","SUBDIRECCIÓN DE ESTUDIOS AMBIENTALES",44020,null,null,{"$f":"IFERROR(WORKDAY(C3290,R3290,DiasNOLaborables),\"\")","v":44041},{"$f":"+IF(C3290=\"\",\"\",IF(I3290=\"\",\"\",(IF(I3290<=L3290,\"A TIEMPO\",\"FUERA DE TIEMPO\"))))","v":"A TIEMPO"},{"$f":"IF(I3290=\"\",\"\",NETWORKDAYS([4]Hoja1!C3290+1,[4]Hoja1!P3290,DiasNOLaborables))","v":1},"",null,null,20]
[3280,20209050053612,44012,"CORREO ELECTRÓNICO","SOLICITUD DE INFORMACIÓN Y DOCUMENTOS","REGISTROS AMBIENTALES","SI","SUBDIRECCIÓN DE ESTUDIOS AMBIENTALES",44018,null,null,{"$f":"IFERROR(WORKDAY(C3291,R3291,DiasNOLaborables),\"\")","v":44041},{"$f":"+IF(C3291=\"\",\"\",IF(I3291=\"\",\"\",(IF(I3291<=L3291,\"A TIEMPO\",\"FUERA DE TIEMPO\"))))","v":"A TIEMPO"},{"$f":"IF(I3291=\"\",\"\",NETWORKDAYS([4]Hoja1!C3291+1,[4]Hoja1!P3291,DiasNOLaborables))","v":10},"",null,null,20]
[3281,20209050053622,44012,"CORREO ELECTRÓNICO","CERTIFICACIONES DE TIEMPO, CLIMA Y EVENTOS HIDROLÓGICOS","CERTIFICACIONES DE TIEMPO Y CLIMA","SI","SUBDIRECCIÓN DE METEOROLOGÍA",44021,null,null,{"$f":"IFERROR(WORKDAY(C3292,R3292,DiasNOLaborables),\"\")","v":44055},{"$f":"+IF(C3292=\"\",\"\",IF(I3292=\"\",\"\",(IF(I3292<=L3292,\"A TIEMPO\",\"FUERA DE TIEMPO\"))))","v":"A TIEMPO"},{"$f":"IF(I3292=\"\",\"\",NETWORKDAYS([4]Hoja1!C3292+1,[4]Hoja1!P3292,DiasNOLaborables))","v":11},"",null,null,30]
[3282,20209050053632,44012,"CORREO ELECTRÓNICO","SOLICITUD DE INFORMACIÓN Y DOCUMENTOS","REGISTROS AMBIENTALES","SI","SUBDIRECCIÓN DE ESTUDIOS AMBIENTALES",44019,null,null,{"$f":"IFERROR(WORKDAY(C3293,R3293,DiasNOLaborables),\"\")","v":44041},{"$f":"+IF(C3293=\"\",\"\",IF(I3293=\"\",\"\",(IF(I3293<=L3293,\"A TIEMPO\",\"FUERA DE TIEMPO\"))))","v":"A TIEMPO"},{"$f":"IF(I3293=\"\",\"\",NETWORKDAYS([4]Hoja1!C3293+1,[4]Hoja1!P3293,DiasNOLaborables))","v":10},"",null,null,20]
[3283,20209050053642,44012,"CORREO ELECTRÓNICO","SOLICITUD DE INFORMACIÓN Y DOCUMENTOS","REGISTROS AMBIENTALES","SI","SUBDIRECCIÓN DE ESTUDIOS AMBIENTALES",44020,null,null,{"$f":"IFERROR(WORKDAY(C3294,R3294,DiasNOLaborables),\"\")","v":44041},{"$f":"+IF(C3294=\"\",\"\",IF(I3294=\"\",\"\",(IF(I3294<=L3294,\"A TIEMPO\",\"FUERA DE TIEMPO\"))))","v":"A TIEMPO"},{"$f":"IF(I3294=\"\",\"\",NETWORKDAYS([4]Hoja1!C3294+1,[4]Hoja1!P3294,DiasNOLaborables))","v":3},"",null,null,20]
[3284,20209050053652,44012,"CORREO ELECTRÓNICO","SOLICITUD DE INFORMACIÓN Y DOCUMENTOS","REGISTROS AMBIENTALES","SI","SUBDIRECCIÓN DE ESTUDIOS AMBIENTALES",44020,null,null,{"$f":"IFERROR(WORKDAY(C3295,R3295,DiasNOLaborables),\"\")","v":44041},{"$f":"+IF(C3295=\"\",\"\",IF(I3295=\"\",\"\",(IF(I3295<=L3295,\"A TIEMPO\",\"FUERA DE TIEMPO\"))))","v":"A TIEMPO"},{"$f":"IF(I3295=\"\",\"\",NETWORKDAYS([4]Hoja1!C3295+1,[4]Hoja1!P3295,DiasNOLaborables))","v":1},"",null,null,20]
[3285,20209050053662,44012,"CORREO ELECTRÓNICO","SOLICITUD DE INFORMACIÓN Y DOCUMENTOS","REGISTROS AMBIENTALES","SI","SUBDIRECCIÓN DE ESTUDIOS AMBIENTALES",44020,null,null,{"$f":"IFERROR(WORKDAY(C3296,R3296,DiasNOLaborables),\"\")","v":44041},{"$f":"+IF(C3296=\"\",\"\",IF(I3296=\"\",\"\",(IF(I3296<=L3296,\"A TIEMPO\",\"FUERA DE TIEMPO\"))))","v":"A TIEMPO"},{"$f":"IF(I3296=\"\",\"\",NETWORKDAYS([4]Hoja1!C3296+1,[4]Hoja1!P3296,DiasNOLaborables))","v":-2},"",null,null,20]
[3286,20209050053672,44012,"CORREO ELECTRÓNICO","SOLICITUD DE INFORMACIÓN Y DOCUMENTOS","REGISTROS AMBIENTALES","SI","SUBDIRECCIÓN DE ESTUDIOS AMBIENTALES",44020,null,null,{"$f":"IFERROR(WORKDAY(C3297,R3297,DiasNOLaborables),\"\")","v":44041},{"$f":"+IF(C3297=\"\",\"\",IF(I3297=\"\",\"\",(IF(I3297<=L3297,\"A TIEMPO\",\"FUERA DE TIEMPO\"))))","v":"A TIEMPO"},{"$f":"IF(I3297=\"\",\"\",NETWORKDAYS([4]Hoja1!C3297+1,[4]Hoja1!P3297,DiasNOLaborables))","v":1},"",null,null,20]
[3287,20209050053682,44012,"CORREO ELECTRÓNICO","SOLICITUD DE INFORMACIÓN Y DOCUMENTOS","REGISTROS AMBIENTALES","SI","SUBDIRECCIÓN DE ESTUDIOS AMBIENTALES",44020,null,null,{"$f":"IFERROR(WORKDAY(C3298,R3298,DiasNOLaborables),\"\")","v":44041},{"$f":"+IF(C3298=\"\",\"\",IF(I3298=\"\",\"\",(IF(I3298<=L3298,\"A TIEMPO\",\"FUERA DE TIEMPO\"))))","v":"A TIEMPO"},{"$f":"IF(I3298=\"\",\"\",NETWORKDAYS([4]Hoja1!C3298+1,[4]Hoja1!P3298,DiasNOLaborables))","v":1},"",null,null,20]
[3288,20209050053692,44012,"CORREO ELECTRÓNICO","SOLICITUD DE INFORMACIÓN Y DOCUMENTOS","REGISTROS AMBIENTALES","SI","SUBDIRECCIÓN DE ESTUDIOS AMBIENTALES",44018,null,null,{"$f":"IFERROR(WORKDAY(C3299,R3299,DiasNOLaborables),\"\")","v":44041},{"$f":"+IF(C3299=\"\",\"\",IF(I3299=\"\",\"\",(IF(I3299<=L3299,\"A TIEMPO\",\"FUERA DE TIEMPO\"))))","v":"A TIEMPO"},{"$f":"IF(I3299=\"\",\"\",NETWORKDAYS([4]Hoja1!C3299+1,[4]Hoja1!P3299,DiasNOLaborables))","v":5},"",null,null,20]
[3289,20209050053712,44012,"CORREO ELECTRÓNICO","SOLICITUD DE INFORMACIÓN Y DOCUMENTOS","REGISTROS AMBIENTALES","SI","SUBDIRECCIÓN DE ESTUDIOS AMBIENTALES",44020,null,null,{"$f":"IFERROR(WORKDAY(C3300,R3300,DiasNOLaborables),\"\")","v":44041},{"$f":"+IF(C3300=\"\",\"\",IF(I3300=\"\",\"\",(IF(I3300<=L3300,\"A TIEMPO\",\"FUERA DE TIEMPO\"))))","v":"A TIEMPO"},{"$f":"IF(I3300=\"\",\"\",NETWORKDAYS([4]Hoja1!C3300+1,[4]Hoja1!P3300,DiasNOLaborables))","v":5},"",null,null,20]
[3290,20209050053722,44012,"CORREO ELECTRÓNICO","SOLICITUD DE INFORMACIÓN Y DOCUMENTOS","REGISTROS AMBIENTALES","SI","SUBDIRECCIÓN DE ESTUDIOS AMBIENTALES",44018,null,null,{"$f":"IFERROR(WORKDAY(C3301,R3301,DiasNOLaborables),\"\")","v":44041},{"$f":"+IF(C3301=\"\",\"\",IF(I3301=\"\",\"\",(IF(I3301<=L3301,\"A TIEMPO\",\"FUERA DE TIEMPO\"))))","v":"A TIEMPO"},{"$f":"IF(I3301=\"\",\"\",NETWORKDAYS([4]Hoja1!C3301+1,[4]Hoja1!P3301,DiasNOLaborables))","v":5},"",null,null,20]
[3291,20209050053742,44012,"CORREO ELECTRÓNICO","SOLICITUD DE INFORMACIÓN Y DOCUMENTOS","REGISTROS AMBIENTALES","SI","SUBDIRECCIÓN DE ESTUDIOS AMBIENTALES",44022,null,null,{"$f":"IFERROR(WORKDAY(C3302,R3302,DiasNOLaborables),\"\")","v":44041},{"$f":"+IF(C3302=\"\",\"\",IF(I3302=\"\",\"\",(IF(I3302<=L3302,\"A TIEMPO\",\"FUERA DE TIEMPO\"))))","v":"A TIEMPO"},{"$f":"IF(I3302=\"\",\"\",NETWORKDAYS([4]Hoja1!C3302+1,[4]Hoja1!P3302,DiasNOLaborables))","v":5},"",null,null,20]
[3292,20209050053752,44012,"CORREO ELECTRÓNICO","SOLICITUD DE INFORMACIÓN Y DOCUMENTOS","REGISTROS AMBIENTALES","SI","SUBDIRECCIÓN DE ESTUDIOS AMBIENTALES",44018,null,null,{"$f":"IFERROR(WORKDAY(C3303,R3303,DiasNOLaborables),\"\")","v":44041},{"$f":"+IF(C3303=\"\",\"\",IF(I3303=\"\",\"\",(IF(I3303<=L3303,\"A TIEMPO\",\"FUERA DE TIEMPO\"))))","v":"A TIEMPO"},{"$f":"IF(I3303=\"\",\"\",NETWORKDAYS([4]Hoja1!C3303+1,[4]Hoja1!P3303,DiasNOLaborables))","v":5},"",null,null,20]
[3293,20209050053762,44012,"CORREO ELECTRÓNICO","SOLICITUD DE INFORMACIÓN Y DOCUMENTOS","REGISTROS AMBIENTALES","SI","SUBDIRECCIÓN DE ESTUDIOS AMBIENTALES",44018,null,null,{"$f":"IFERROR(WORKDAY(C3304,R3304,DiasNOLaborables),\"\")","v":44041},{"$f":"+IF(C3304=\"\",\"\",IF(I3304=\"\",\"\",(IF(I3304<=L3304,\"A TIEMPO\",\"FUERA DE TIEMPO\"))))","v":"A TIEMPO"},{"$f":"IF(I3304=\"\",\"\",NETWORKDAYS([4]Hoja1!C3304+1,[4]Hoja1!P3304,DiasNOLaborables))","v":5},"",null,null,20]
[3294,20209050053782,44012,"CORREO ELECTRÓNICO","SOLICITUD DE INFORMACIÓN Y DOCUMENTOS","REGISTROS AMBIENTALES","SI","SUBDIRECCIÓN DE ESTUDIOS AMBIENTALES",44022,null,null,{"$f":"IFERROR(WORKDAY(C3305,R3305,DiasNOLaborables),\"\")","v":44041},{"$f":"+IF(C3305=\"\",\"\",IF(I3305=\"\",\"\",(IF(I3305<=L3305,\"A TIEMPO\",\"FUERA DE TIEMPO\"))))","v":"A TIEMPO"},{"$f":"IF(I3305=\"\",\"\",NETWORKDAYS([4]Hoja1!C3305+1,[4]Hoja1!P3305,DiasNOLaborables))","v":5},"",null,null,20]
[3295,20209050053792,44012,"CORREO ELECTRÓNICO","SOLICITUD DE INFORMACIÓN Y DOCUMENTOS","REGISTROS AMBIENTALES","SI","SUBDIRECCIÓN DE ESTUDIOS AMBIENTALES",44022,null,null,{"$f":"IFERROR(WORKDAY(C3306,R3306,DiasNOLaborables),\"\")","v":44041},{"$f":"+IF(C3306=\"\",\"\",IF(I3306=\"\",\"\",(IF(I3306<=L3306,\"A TIEMPO\",\"FUERA DE TIEMPO\"))))","v":"A TIEMPO"},{"$f":"IF(I3306=\"\",\"\",NETWORKDAYS([4]Hoja1!C3306+1,[4]Hoja1!P3306,DiasNOLaborables))","v":5},"",null,null,20]
[3296,20209050053812,44012,"CORREO ELECTRÓNICO","SOLICITUD DE INFORMACIÓN Y DOCUMENTOS","REGISTROS AMBIENTALES","SI","SUBDIRECCIÓN DE ESTUDIOS AMBIENTALES",44018,null,null,{"$f":"IFERROR(WORKDAY(C3307,R3307,DiasNOLaborables),\"\")","v":44041},{"$f":"+IF(C3307=\"\",\"\",IF(I3307=\"\",\"\",(IF(I3307<=L3307,\"A TIEMPO\",\"FUERA DE TIEMPO\"))))","v":"A TIEMPO"},{"$f":"IF(I3307=\"\",\"\",NETWORKDAYS([4]Hoja1!C3307+1,[4]Hoja1!P3307,DiasNOLaborables))","v":4},"",null,null,20]
[3297,20209050053832,44012,"CORREO ELECTRÓNICO","SOLICITUD DE INFORMACIÓN Y DOCUMENTOS","REGISTROS AMBIENTALES","SI","SUBDIRECCIÓN DE ESTUDIOS AMBIENTALES",44018,null,null,{"$f":"IFERROR(WORKDAY(C3308,R3308,DiasNOLaborables),\"\")","v":44041},{"$f":"+IF(C3308=\"\",\"\",IF(I3308=\"\",\"\",(IF(I3308<=L3308,\"A TIEMPO\",\"FUERA DE TIEMPO\"))))","v":"A TIEMPO"},{"$f":"IF(I3308=\"\",\"\",NETWORKDAYS([4]Hoja1!C3308+1,[4]Hoja1!P3308,DiasNOLaborables))","v":10},"",null,null,20]
[3298,20209050053852,44012,"CORREO ELECTRÓNICO","SOLICITUD DE INFORMACIÓN Y DOCUMENTOS","REGISTROS AMBIENTALES","SI","SUBDIRECCIÓN DE ESTUDIOS AMBIENTALES",44021,null,null,{"$f":"IFERROR(WORKDAY(C3309,R3309,DiasNOLaborables),\"\")","v":44041},{"$f":"+IF(C3309=\"\",\"\",IF(I3309=\"\",\"\",(IF(I3309<=L3309,\"A TIEMPO\",\"FUERA DE TIEMPO\"))))","v":"A TIEMPO"},{"$f":"IF(I3309=\"\",\"\",NETWORKDAYS([4]Hoja1!C3309+1,[4]Hoja1!P3309,DiasNOLaborables))","v":-2},"",null,null,20]
[3299,20209050053862,44012,"CORREO ELECTRÓNICO","SOLICITUD DE INFORMACIÓN Y DOCUMENTOS","REGISTROS AMBIENTALES","SI","SUBDIRECCIÓN DE ESTUDIOS AMBIENTALES",44018,null,null,{"$f":"IFERROR(WORKDAY(C3310,R3310,DiasNOLaborables),\"\")","v":44041},{"$f":"+IF(C3310=\"\",\"\",IF(I3310=\"\",\"\",(IF(I3310<=L3310,\"A TIEMPO\",\"FUERA DE TIEMPO\"))))","v":"A TIEMPO"},{"$f":"IF(I3310=\"\",\"\",NETWORKDAYS([4]Hoja1!C3310+1,[4]Hoja1!P3310,DiasNOLaborables))","v":7},"",null,null,20]
[3300,20209050053902,44012,"CORREO ELECTRÓNICO","SOLICITUD DE INFORMACIÓN Y DOCUMENTOS","REGISTROS AMBIENTALES","SI","SUBDIRECCIÓN DE ESTUDIOS AMBIENTALES",44018,null,null,{"$f":"IFERROR(WORKDAY(C3311,R3311,DiasNOLaborables),\"\")","v":44041},{"$f":"+IF(C3311=\"\",\"\",IF(I3311=\"\",\"\",(IF(I3311<=L3311,\"A TIEMPO\",\"FUERA DE TIEMPO\"))))","v":"A TIEMPO"},{"$f":"IF(I3311=\"\",\"\",NETWORKDAYS([4]Hoja1!C3311+1,[4]Hoja1!P3311,DiasNOLaborables))","v":7},"",null,null,20]
[3301,20209050053922,44012,"CORREO ELECTRÓNICO","SOLICITUD DE INFORMACIÓN Y DOCUMENTOS","REGISTROS AMBIENTALES","SI","SUBDIRECCIÓN DE ESTUDIOS AMBIENTALES",44018,null,null,{"$f":"IFERROR(WORKDAY(C3312,R3312,DiasNOLaborables),\"\")","v":44041},{"$f":"+IF(C3312=\"\",\"\",IF(I3312=\"\",\"\",(IF(I3312<=L3312,\"A TIEMPO\",\"FUERA DE TIEMPO\"))))","v":"A TIEMPO"},{"$f":"IF(I3312=\"\",\"\",NETWORKDAYS([4]Hoja1!C3312+1,[4]Hoja1!P3312,DiasNOLaborables))","v":5},"",null,null,20]
[3302,20209050053932,44012,"CORREO ELECTRÓNICO","SOLICITUD DE INFORMACIÓN Y DOCUMENTOS","REGISTROS AMBIENTALES","SI","SUBDIRECCIÓN DE ESTUDIOS AMBIENTALES",44018,null,null,{"$f":"IFERROR(WORKDAY(C3313,R3313,DiasNOLaborables),\"\")","v":44041},{"$f":"+IF(C3313=\"\",\"\",IF(I3313=\"\",\"\",(IF(I3313<=L3313,\"A TIEMPO\",\"FUERA DE TIEMPO\"))))","v":"A TIEMPO"},{"$f":"IF(I3313=\"\",\"\",NETWORKDAYS([4]Hoja1!C3313+1,[4]Hoja1!P3313,DiasNOLaborables))","v":3},"",null,null,20]
[{"$f":"IF(B3312<>\"\",A3313+1,\"\")","v":3303},20209050053942,44012,"CORREO ELECTRÓNICO","CERTIFICACIONES DE TIEMPO, CLIMA Y EVENTOS HIDROLÓGICOS","CERTIFICACIONES DE TIEMPO Y CLIMA","SI","SUBDIRECCIÓN DE METEOROLOGÍA",44026,null,null,{"$f":"IFERROR(WORKDAY(C3314,R3314,DiasNOLaborables),\"\")","v":44055},{"$f":"+IF(C3314=\"\",\"\",IF(I3314=\"\",\"\",(IF(I3314<=L3314,\"A TIEMPO\",\"FUERA DE TIEMPO\"))))","v":"A TIEMPO"},{"$f":"IF(I3314=\"\",\"\",NETWORKDAYS([4]Hoja1!C3314+1,[4]Hoja1!P3314,DiasNOLaborables))","v":10},"",null,null,30]
[3304,20209050053952,44012,"CORREO ELECTRÓNICO","SOLICITUD DE INFORMACIÓN Y DOCUMENTOS","REGISTROS AMBIENTALES","SI","SUBDIRECCIÓN DE ESTUDIOS AMBIENTALES",44020,null,null,{"$f":"IFERROR(WORKDAY(C3315,R3315,DiasNOLaborables),\"\")","v":44041},{"$f":"+IF(C3315=\"\",\"\",IF(I3315=\"\",\"\",(IF(I3315<=L3315,\"A TIEMPO\",\"FUERA DE TIEMPO\"))))","v":"A TIEMPO"},{"$f":"IF(I3315=\"\",\"\",NETWORKDAYS([4]Hoja1!C3315+1,[4]Hoja1!P3315,DiasNOLaborables))","v":6},"",null,null,20]
[3305,20209050053972,44012,"CORREO ELECTRÓNICO","CERTIFICACIONES DE TIEMPO, CLIMA Y EVENTOS HIDROLÓGICOS","CERTIFICACIONES DE TIEMPO Y CLIMA","SI","SUBDIRECCIÓN DE METEOROLOGÍA",44014,null,null,{"$f":"IFERROR(WORKDAY(C3316,R3316,DiasNOLaborables),\"\")","v":44055},{"$f":"+IF(C3316=\"\",\"\",IF(I3316=\"\",\"\",(IF(I3316<=L3316,\"A TIEMPO\",\"FUERA DE TIEMPO\"))))","v":"A TIEMPO"},{"$f":"IF(I3316=\"\",\"\",NETWORKDAYS([4]Hoja1!C3316+1,[4]Hoja1!P3316,DiasNOLaborables))","v":5},{"$f":"IF(NETWORKDAYS(L3316+1,I3316,DiasNOLaborables)<=0,\"\",NETWORKDAYS(L3316+1,I3316,DiasNOLaborables))","v":""},null,null,30]
[3306,20209050053982,44012,"CORREO ELECTRÓNICO","CERTIFICACIONES DE TIEMPO, CLIMA Y EVENTOS HIDROLÓGICOS","CERTIFICACIONES DE TIEMPO Y CLIMA","SI","SUBDIRECCIÓN DE METEOROLOGÍA",44014,null,null,{"$f":"IFERROR(WORKDAY(C3317,R3317,DiasNOLaborables),\"\")","v":44055},{"$f":"+IF(C3317=\"\",\"\",IF(I3317=\"\",\"\",(IF(I3317<=L3317,\"A TIEMPO\",\"FUERA DE TIEMPO\"))))","v":"A TIEMPO"},{"$f":"IF(I3317=\"\",\"\",NETWORKDAYS([4]Hoja1!C3317+1,[4]Hoja1!P3317,DiasNOLaborables))","v":3},"",null,null,30]
[3307,20209050054002,44012,"CORREO ELECTRÓNICO","SOLICITUD DE INFORMACIÓN Y DOCUMENTOS","REGISTROS AMBIENTALES","SI","SUBDIRECCIÓN DE ESTUDIOS AMBIENTALES",44018,null,null,{"$f":"IFERROR(WORKDAY(C3318,R3318,DiasNOLaborables),\"\")","v":44041},{"$f":"+IF(C3318=\"\",\"\",IF(I3318=\"\",\"\",(IF(I3318<=L3318,\"A TIEMPO\",\"FUERA DE TIEMPO\"))))","v":"A TIEMPO"},{"$f":"IF(I3318=\"\",\"\",NETWORKDAYS([4]Hoja1!C3318+1,[4]Hoja1!P3318,DiasNOLaborables))","v":6},"",null,null,20]
[3308,20209050054012,44012,"CORREO ELECTRÓNICO","SOLICITUD DE INFORMACIÓN Y DOCUMENTOS","REGISTROS AMBIENTALES","SI","SUBDIRECCIÓN DE ESTUDIOS AMBIENTALES",44022,null,null,{"$f":"IFERROR(WORKDAY(C3319,R3319,DiasNOLaborables),\"\")","v":44041},{"$f":"+IF(C3319=\"\",\"\",IF(I3319=\"\",\"\",(IF(I3319<=L3319,\"A TIEMPO\",\"FUERA DE TIEMPO\"))))","v":"A TIEMPO"},{"$f":"IF(I3319=\"\",\"\",NETWORKDAYS([4]Hoja1!C3319+1,[4]Hoja1!P3319,DiasNOLaborables))","v":10},"",null,null,20]
[3309,20209050054022,44012,"CORREO ELECTRÓNICO","SOLICITUD DE INFORMACIÓN Y DOCUMENTOS","REGISTROS AMBIENTALES","SI","SUBDIRECCIÓN DE ESTUDIOS AMBIENTALES",44022,null,null,{"$f":"IFERROR(WORKDAY(C3320,R3320,DiasNOLaborables),\"\")","v":44041},{"$f":"+IF(C3320=\"\",\"\",IF(I3320=\"\",\"\",(IF(I3320<=L3320,\"A TIEMPO\",\"FUERA DE TIEMPO\"))))","v":"A TIEMPO"},{"$f":"IF(I3320=\"\",\"\",NETWORKDAYS([4]Hoja1!C3320+1,[4]Hoja1!P3320,DiasNOLaborables))","v":8},"",null,null,20]
[3310,20209050054032,44012,"CORREO ELECTRÓNICO","SOLICITUD DE INFORMACIÓN Y DOCUMENTOS","REGISTROS AMBIENTALES","SI","SUBDIRECCIÓN DE ESTUDIOS AMBIENTALES",44022,null,null,{"$f":"IFERROR(WORKDAY(C3321,R3321,DiasNOLaborables),\"\")","v":44041},{"$f":"+IF(C3321=\"\",\"\",IF(I3321=\"\",\"\",(IF(I3321<=L3321,\"A TIEMPO\",\"FUERA DE TIEMPO\"))))","v":"A TIEMPO"},{"$f":"IF(I3321=\"\",\"\",NETWORKDAYS([4]Hoja1!C3321+1,[4]Hoja1!P3321,DiasNOLaborables))","v":6},"",null,null,20]
[3311,20209050054042,44012,"CORREO ELECTRÓNICO","SOLICITUD DE INFORMACIÓN Y DOCUMENTOS","SOLICITUD DE INFORMACIÓN HIDROMETEOROLÓGICA","SI","OFICINA DE INFORMÁTICA",44021,null,null,{"$f":"IFERROR(WORKDAY(C3322,R3322,DiasNOLaborables),\"\")","v":44041},{"$f":"+IF(C3322=\"\",\"\",IF(I3322=\"\",\"\",(IF(I3322<=L3322,\"A TIEMPO\",\"FUERA DE TIEMPO\"))))","v":"A TIEMPO"},{"$f":"IF(I3322=\"\",\"\",NETWORKDAYS([4]Hoja1!C3322+1,[4]Hoja1!P3322,DiasNOLaborables))","v":3},"",null,null,20]
[3312,20209050054052,44012,"CORREO ELECTRÓNICO","SOLICITUD DE INFORMACIÓN Y DOCUMENTOS","REGISTROS AMBIENTALES","SI","SUBDIRECCIÓN DE ESTUDIOS AMBIENTALES",44025,null,null,{"$f":"IFERROR(WORKDAY(C3323,R3323,DiasNOLaborables),\"\")","v":44041},{"$f":"+IF(C3323=\"\",\"\",IF(I3323=\"\",\"\",(IF(I3323<=L3323,\"A TIEMPO\",\"FUERA DE TIEMPO\"))))","v":"A TIEMPO"},{"$f":"IF(I3323=\"\",\"\",NETWORKDAYS([4]Hoja1!C3323+1,[4]Hoja1!P3323,DiasNOLaborables))","v":-2},"",null,null,20]
[3313,20209050054062,44012,"CORREO ELECTRÓNICO","SOLICITUD DE INFORMACIÓN Y DOCUMENTOS","REGISTROS AMBIENTALES","SI","SUBDIRECCIÓN DE ESTUDIOS AMBIENTALES",44022,null,null,{"$f":"IFERROR(WORKDAY(C3324,R3324,DiasNOLaborables),\"\")","v":44041},{"$f":"+IF(C3324=\"\",\"\",IF(I3324=\"\",\"\",(IF(I3324<=L3324,\"A TIEMPO\",\"FUERA DE TIEMPO\"))))","v":"A TIEMPO"},{"$f":"IF(I3324=\"\",\"\",NETWORKDAYS([4]Hoja1!C3324+1,[4]Hoja1!P3324,DiasNOLaborables))","v":3},"",null,null,20]
[3314,20209050054072,44012,"CORREO ELECTRÓNICO","SOLICITUD DE INFORMACIÓN Y DOCUMENTOS","REGISTROS AMBIENTALES","SI","SUBDIRECCIÓN DE ESTUDIOS AMBIENTALES",44018,null,null,{"$f":"IFERROR(WORKDAY(C3325,R3325,DiasNOLaborables),\"\")","v":44041},{"$f":"+IF(C3325=\"\",\"\",IF(I3325=\"\",\"\",(IF(I3325<=L3325,\"A TIEMPO\",\"FUERA DE TIEMPO\"))))","v":"A TIEMPO"},{"$f":"IF(I3325=\"\",\"\",NETWORKDAYS([4]Hoja1!C3325+1,[4]Hoja1!P3325,DiasNOLaborables))","v":1},"",null,null,20]
[3315,20209050054092,44012,"CORREO ELECTRÓNICO","SOLICITUD DE INFORMACIÓN Y DOCUMENTOS","REGISTROS AMBIENTALES","SI","SUBDIRECCIÓN DE ESTUDIOS AMBIENTALES",44020,null,null,{"$f":"IFERROR(WORKDAY(C3326,R3326,DiasNOLaborables),\"\")","v":44041},{"$f":"+IF(C3326=\"\",\"\",IF(I3326=\"\",\"\",(IF(I3326<=L3326,\"A TIEMPO\",\"FUERA DE TIEMPO\"))))","v":"A TIEMPO"},{"$f":"IF(I3326=\"\",\"\",NETWORKDAYS([4]Hoja1!C3326+1,[4]Hoja1!P3326,DiasNOLaborables))","v":-2},"",null,null,20]
[3316,20209050054102,44012,"CORREO ELECTRÓNICO","SOLICITUD DE INFORMACIÓN Y DOCUMENTOS","REGISTROS AMBIENTALES","SI","SUBDIRECCIÓN DE ESTUDIOS AMBIENTALES",44021,null,null,{"$f":"IFERROR(WORKDAY(C3327,R3327,DiasNOLaborables),\"\")","v":44041},{"$f":"+IF(C3327=\"\",\"\",IF(I3327=\"\",\"\",(IF(I3327<=L3327,\"A TIEMPO\",\"FUERA DE TIEMPO\"))))","v":"A TIEMPO"},{"$f":"IF(I3327=\"\",\"\",NETWORKDAYS([4]Hoja1!C3327+1,[4]Hoja1!P3327,DiasNOLaborables))","v":9},"",null,null,20]
[3317,20209050054122,44012,"CORREO ELECTRÓNICO","SOLICITUD DE INFORMACIÓN Y DOCUMENTOS","SOLICITUD DE INFORMACIÓN HIDROMETEOROLÓGICA","SI","SUBDIRECCIÓN DE ECOSISTEMAS E INFORMACIÓN AMBIENTAL",44029,null,null,{"$f":"IFERROR(WORKDAY(C3328,R3328,DiasNOLaborables),\"\")","v":44041},{"$f":"+IF(C3328=\"\",\"\",IF(I3328=\"\",\"\",(IF(I3328<=L3328,\"A TIEMPO\",\"FUERA DE TIEMPO\"))))","v":"A TIEMPO"},{"$f":"IF(I3328=\"\",\"\",NETWORKDAYS([4]Hoja1!C3328+1,[4]Hoja1!P3328,DiasNOLaborables))","v":-2},"",null,null,20]
[3318,20209050054132,44012,"CORREO ELECTRÓNICO","SOLICITUD DE INFORMACIÓN Y DOCUMENTOS","REGISTROS AMBIENTALES","SI","SUBDIRECCIÓN DE ESTUDIOS AMBIENTALES",44018,null,null,{"$f":"IFERROR(WORKDAY(C3329,R3329,DiasNOLaborables),\"\")","v":44041},{"$f":"+IF(C3329=\"\",\"\",IF(I3329=\"\",\"\",(IF(I3329<=L3329,\"A TIEMPO\",\"FUERA DE TIEMPO\"))))","v":"A TIEMPO"},{"$f":"IF(I3329=\"\",\"\",NETWORKDAYS([4]Hoja1!C3329+1,[4]Hoja1!P3329,DiasNOLaborables))","v":3},"",null,null,20]
[3319,20209050054142,44012,"CORREO ELECTRÓNICO","SOLICITUD DE INFORMACIÓN Y DOCUMENTOS","REGISTROS AMBIENTALES","SI","SUBDIRECCIÓN DE ESTUDIOS AMBIENTALES",44018,null,null,{"$f":"IFERROR(WORKDAY(C3330,R3330,DiasNOLaborables),\"\")","v":44041},{"$f":"+IF(C3330=\"\",\"\",IF(I3330=\"\",\"\",(IF(I3330<=L3330,\"A TIEMPO\",\"FUERA DE TIEMPO\"))))","v":"A TIEMPO"},{"$f":"IF(I3330=\"\",\"\",NETWORKDAYS([4]Hoja1!C3330+1,[4]Hoja1!P3330,DiasNOLaborables))","v":10},"",null,null,20]
[3320,20209050054162,44012,"CORREO ELECTRÓNICO","SOLICITUD DE INFORMACIÓN Y DOCUMENTOS","REGISTROS AMBIENTALES","SI","SUBDIRECCIÓN DE ESTUDIOS AMBIENTALES",44025,null,null,{"$f":"IFERROR(WORKDAY(C3331,R3331,DiasNOLaborables),\"\")","v":44041},{"$f":"+IF(C3331=\"\",\"\",IF(I3331=\"\",\"\",(IF(I3331<=L3331,\"A TIEMPO\",\"FUERA DE TIEMPO\"))))","v":"A TIEMPO"},{"$f":"IF(I3331=\"\",\"\",NETWORKDAYS([4]Hoja1!C3331+1,[4]Hoja1!P3331,DiasNOLaborables))","v":3},"",null,null,20]
[3321,20209050054172,44012,"CORREO ELECTRÓNICO","SOLICITUD DE INFORMACIÓN Y DOCUMENTOS","REGISTROS AMBIENTALES","SI","SUBDIRECCIÓN DE ESTUDIOS AMBIENTALES",44025,null,null,{"$f":"IFERROR(WORKDAY(C3332,R3332,DiasNOLaborables),\"\")","v":44041},{"$f":"+IF(C3332=\"\",\"\",IF(I3332=\"\",\"\",(IF(I3332<=L3332,\"A TIEMPO\",\"FUERA DE TIEMPO\"))))","v":"A TIEMPO"},{"$f":"IF(I3332=\"\",\"\",NETWORKDAYS([4]Hoja1!C3332+1,[4]Hoja1!P3332,DiasNOLaborables))","v":3},"",null,null,20]
[3322,20209050053402,44012,"MODULO CONTACTENOS","SOLICITUD DE INFORMACIÓN Y DOCUMENTOS","REGISTROS AMBIENTALES","SI","SUBDIRECCIÓN DE ESTUDIOS AMBIENTALES",44020,null,null,{"$f":"IFERROR(WORKDAY(C3333,R3333,DiasNOLaborables),\"\")","v":44041},{"$f":"+IF(C3333=\"\",\"\",IF(I3333=\"\",\"\",(IF(I3333<=L3333,\"A TIEMPO\",\"FUERA DE TIEMPO\"))))","v":"A TIEMPO"},{"$f":"IF(I3333=\"\",\"\",NETWORKDAYS([4]Hoja1!C3333+1,[4]Hoja1!P3333,DiasNOLaborables))","v":7},"",null,null,20]
[3323,20209050053772,44012,"MODULO CONTACTENOS","SOLICITUD DE INFORMACIÓN Y DOCUMENTOS","REGISTROS AMBIENTALES","SI","SUBDIRECCIÓN DE ESTUDIOS AMBIENTALES",44022,null,null,{"$f":"IFERROR(WORKDAY(C3334,R3334,DiasNOLaborables),\"\")","v":44041},{"$f":"+IF(C3334=\"\",\"\",IF(I3334=\"\",\"\",(IF(I3334<=L3334,\"A TIEMPO\",\"FUERA DE TIEMPO\"))))","v":"A TIEMPO"},{"$f":"IF(I3334=\"\",\"\",NETWORKDAYS([4]Hoja1!C3334+1,[4]Hoja1!P3334,DiasNOLaborables))","v":7},"",null,null,{"$f":"IFERROR(VLOOKUP(E3334,$Z$50:$AA$63,2),\"\")","v":20}]
[3324,20209050054202,44012,"MODULO CONTACTENOS","SOLICITUD DE INFORMACIÓN Y DOCUMENTOS","REGISTROS AMBIENTALES","SI","SUBDIRECCIÓN DE ESTUDIOS AMBIENTALES",44018,null,null,{"$f":"IFERROR(WORKDAY(C3335,R3335,DiasNOLaborables),\"\")","v":44041},{"$f":"+IF(C3335=\"\",\"\",IF(I3335=\"\",\"\",(IF(I3335<=L3335,\"A TIEMPO\",\"FUERA DE TIEMPO\"))))","v":"A TIEMPO"},{"$f":"IF(I3335=\"\",\"\",NETWORKDAYS([4]Hoja1!C3335+1,[4]Hoja1!P3335,DiasNOLaborables))","v":7},"",null,null,20]
[3325,20209050054222,44012,"CORREO ELECTRÓNICO","SOLICITUD DE INFORMACIÓN Y DOCUMENTOS","REGISTROS AMBIENTALES","SI","SUBDIRECCIÓN DE ESTUDIOS AMBIENTALES",44025,null,null,{"$f":"IFERROR(WORKDAY(C3336,R3336,DiasNOLaborables),\"\")","v":44041},{"$f":"+IF(C3336=\"\",\"\",IF(I3336=\"\",\"\",(IF(I3336<=L3336,\"A TIEMPO\",\"FUERA DE TIEMPO\"))))","v":"A TIEMPO"},{"$f":"IF(I3336=\"\",\"\",NETWORKDAYS([4]Hoja1!C3336+1,[4]Hoja1!P3336,DiasNOLaborables))","v":7},"",null,null,20]
[3326,20209050054262,44012,"CORREO ELECTRÓNICO","SOLICITUD DE INFORMACIÓN Y DOCUMENTOS","REGISTROS AMBIENTALES","SI","SUBDIRECCIÓN DE ESTUDIOS AMBIENTALES",44020,null,null,{"$f":"IFERROR(WORKDAY(C3337,R3337,DiasNOLaborables),\"\")","v":44041},{"$f":"+IF(C3337=\"\",\"\",IF(I3337=\"\",\"\",(IF(I3337<=L3337,\"A TIEMPO\",\"FUERA DE TIEMPO\"))))","v":"A TIEMPO"},{"$f":"IF(I3337=\"\",\"\",NETWORKDAYS([4]Hoja1!C3337+1,[4]Hoja1!P3337,DiasNOLaborables))","v":6},"",null,null,20]
[3327,20209050054272,44012,"CORREO ELECTRÓNICO","SOLICITUD DE INFORMACIÓN Y DOCUMENTOS","REGISTROS AMBIENTALES","SI","SUBDIRECCIÓN DE ESTUDIOS AMBIENTALES",44025,null,null,{"$f":"IFERROR(WORKDAY(C3338,R3338,DiasNOLaborables),\"\")","v":44041},{"$f":"+IF(C3338=\"\",\"\",IF(I3338=\"\",\"\",(IF(I3338<=L3338,\"A TIEMPO\",\"FUERA DE TIEMPO\"))))","v":"A TIEMPO"},{"$f":"IF(I3338=\"\",\"\",NETWORKDAYS([4]Hoja1!C3338+1,[4]Hoja1!P3338,DiasNOLaborables))","v":6},"",null,null,20]
[3328,20209050054292,44012,"CORREO ELECTRÓNICO","SOLICITUD DE INFORMACIÓN Y DOCUMENTOS","REGISTROS AMBIENTALES","SI","SUBDIRECCIÓN DE ESTUDIOS AMBIENTALES",44018,null,null,{"$f":"IFERROR(WORKDAY(C3339,R3339,DiasNOLaborables),\"\")","v":44041},{"$f":"+IF(C3339=\"\",\"\",IF(I3339=\"\",\"\",(IF(I3339<=L3339,\"A TIEMPO\",\"FUERA DE TIEMPO\"))))","v":"A TIEMPO"},{"$f":"IF(I3339=\"\",\"\",NETWORKDAYS([4]Hoja1!C3339+1,[4]Hoja1!P3339,DiasNOLaborables))","v":6},"",null,null,20]
[3329,20209050054312,44012,"CORREO ELECTRÓNICO","CERTIFICACIONES DE TIEMPO, CLIMA Y EVENTOS HIDROLÓGICOS","CERTIFICACIONES DE TIEMPO Y CLIMA","SI","SUBDIRECCIÓN DE METEOROLOGÍA",44015,null,null,{"$f":"IFERROR(WORKDAY(C3340,R3340,DiasNOLaborables),\"\")","v":44055},{"$f":"+IF(C3340=\"\",\"\",IF(I3340=\"\",\"\",(IF(I3340<=L3340,\"A TIEMPO\",\"FUERA DE TIEMPO\"))))","v":"A TIEMPO"},{"$f":"IF(I3340=\"\",\"\",NETWORKDAYS([4]Hoja1!C3340+1,[4]Hoja1!P3340,DiasNOLaborables))","v":6},"",null,null,30]
[null,null,null,null,null,null,null,null,null,null,null,null,null,null,null,null,null,""]
[null,null,null,null,null,null,null,null,null,null,null,null,null,null,null,null,null,""]
[null,null,null,null,null,null,null,null,null,null,null,null,null,null,null,null,null,""]
[null,null,null,null,null,null,null,null,null,null,null,null,null,null,null,null,null,""]
[null,null,null,null,null,null,null,null,null,null,null,null,null,null,null,null,null,""]
[null,null,null,null,null,null,null,null,null,null,null,null,null,null,null,null,null,""]
[null,null,null,null,null,null,null,null,null,null,null,null,null,null,null,null,null,""]
[null,null,null,null,null,null,null,null,null,null,null,null,null,null,null,null,null,""]
[null,null,null,null,null,null,null,null,null,null,null,null,null,null,null,null,null,""]
[null,null,null,null,null,null,null,null,null,null,null,null,null,null,null,null,null,""]
[null,null,null,null,null,null,null,null,null,null,null,null,null,null,null,null,null,""]
[null,null,null,null,null,null,null,null,null,null,null,null,null,null,null,null,null,""]
[null,null,null,null,null,null,null,null,null,null,null,null,null,null,null,null,null,""]
[null,null,null,null,null,null,null,null,null,null,null,null,null,null,null,null,null,""]
[null,null,null,null,null,null,null,null,null,null,null,null,null,null,null,null,null,""]
[null,null,null,null,null,null,null,null,null,null,null,null,null,null,null,null,null,""]
[null,null,null,null,null,null,null,null,null,null,null,null,null,null,null,null,null,""]
[null,null,null,null,null,null,null,null,null,null,null,null,null,null,null,null,null,""]
[null,null,null,null,null,null,null,null,null,null,null,null,null,null,null,null,null,""]
[null,null,null,null,null,null,null,null,null,null,null,null,null,null,null,null,null,""]
[null,null,null,null,null,null,null,null,null,null,null,null,null,null,null,null,null,""]
[null,null,null,null,null,null,null,null,null,null,null,null,null,null,null,null,null,""]
[null,null,null,null,null,null,null,null,null,null,null,null,null,null,null,null,null,""]
[null,null,null,null,null,null,null,null,null,null,null,null,null,null,null,null,null,""]
[null,null,null,null,null,null,null,null,null,null,null,null,null,null,null,null,null,""]
[null,null,null,null,null,null,null,null,null,null,null,null,null,null,null,null,null,""]
[null,null,null,null,null,null,null,null,null,null,null,null,null,null,null,null,null,""]
[null,null,null,null,null,null,null,null,null,null,null,null,null,null,null,null,null,""]
[null,null,null,null,null,null,null,null,null,null,null,null,null,null,null,null,null,""]
[null,null,null,null,null,null,null,null,null,null,null,null,null,null,null,null,null,""]
[null,null,null,null,null,null,null,null,null,null,null,null,null,null,null,null,null,""]
[null,null,null,null,null,null,null,null,null,null,null,null,null,null,null,null,null,""]
[null,null,null,null,null,null,null,null,null,null,null,null,null,null,null,null,null,""]
[null,null,null,null,null,null,null,null,null,null,null,null,null,null,null,null,null,{"$f":"IFERROR(VLOOKUP(E3374,$Z$50:$AA$63,2),\"\")","v":""}]
[null,null,null,null,null,null,null,null,null,null,null,null,null,null,null,null,null,""]
[null,null,null,null,null,null,null,null,null,null,null,null,null,null,null,null,null,""]
[null,null,null,null,null,null,null,null,null,null,null,null,null,null,null,null,null,""]
[null,null,null,null,null,null,null,null,null,null,null,null,null,null,null,null,null,""]
[null,null,null,null,null,null,null,null,null,null,null,null,null,null,null,null,null,""]
[null,null,null,null,null,null,null,null,null,null,null,null,null,null,null,null,null,""]
[null,null,null,null,null,null,null,null,null,null,null,null,null,null,null,null,null,""]
[null,null,null,null,null,null,null,null,null,null,null,null,null,null,null,null,null,""]
[null,null,null,null,null,null,null,null,null,null,null,null,null,null,null,null,null,""]
[null,null,null,null,null,null,null,null,null,null,null,null,null,null,null,null,null,""]
[null,null,null,null,null,null,null,null,null,null,null,null,null,null,null,null,null,""]
[null,null,null,null,null,null,null,null,null,null,null,null,null,null,null,null,null,""]
[null,null,null,null,null,null,null,null,null,null,null,null,null,null,null,null,null,""]
[null,null,null,null,null,null,null,null,null,null,null,null,null,null,null,null,null,""]
[null,null,null,null,null,null,null,null,null,null,null,null,null,null,null,null,null,""]
[null,null,null,null,null,null,null,null,null,null,null,null,null,null,null,null,null,""]
[null,null,null,null,null,null,null,null,null,null,null,null,null,null,null,null,null,""]
[null,null,null,null,null,null,null,null,null,null,null,null,null,null,null,null,null,""]
[null,null,null,null,null,null,null,null,null,null,null,null,null,null,null,null,null,""]
[null,null,null,null,null,null,null,null,null,null,null,null,null,null,null,null,null,""]
[null,null,null,null,null,null,null,null,null,null,null,null,null,null,null,null,null,""]
[null,null,null,null,null,null,null,null,null,null,null,null,null,null,null,null,null,""]
[null,null,null,null,null,null,null,null,null,null,null,null,null,null,null,null,null,""]
[null,null,null,null,null,null,null,null,null,null,null,null,null,null,null,null,null,""]
[null,null,null,null,null,null,null,null,null,null,null,null,null,null,null,null,null,""]
[null,null,null,null,null,null,null,null,null,null,null,null,null,null,null,null,null,""]
[null,null,null,null,null,null,null,null,null,null,null,null,null,null,null,null,null,""]
[null,null,null,null,null,null,null,null,null,null,null,null,null,null,null,null,null,""]
[null,null,null,null,null,null,null,null,null,null,null,null,null,null,null,null,null,""]
[null,null,null,null,null,null,null,null,null,null,null,null,null,null,null,null,null,""]
[null,null,null,null,null,null,null,null,null,null,null,null,null,null,null,null,null,""]
[null,null,null,null,null,null,null,null,null,null,null,null,null,null,null,null,null,""]
[null,null,null,null,null,null,null,null,null,null,null,null,null,null,null,null,null,""]
[null,null,null,null,null,null,null,null,null,null,null,null,null,null,null,null,null,""]
[null,null,null,null,null,null,null,null,null,null,null,null,null,null,null,null,null,""]
[null,null,null,null,null,null,null,null,null,null,null,null,null,null,null,null,null,""]
[null,null,null,null,null,null,null,null,null,null,null,null,null,null,null,null,null,""]
[null,null,null,null,null,null,null,null,null,null,null,null,null,null,null,null,null,""]
[null,null,null,null,null,null,null,null,null,null,null,null,null,null,null,null,null,""]
[null,null,null,null,null,null,null,null,null,null,null,null,null,null,null,null,null,""]
[null,null,null,null,null,null,null,null,null,null,null,null,null,null,null,null,null,""]
[null,null,null,null,null,null,null,null,null,null,null,null,null,null,null,null,null,""]
[null,null,null,null,null,null,null,null,null,null,null,null,null,null,null,null,null,""]
[null,null,null,null,null,null,null,null,null,null,null,null,null,null,null,null,null,""]
[null,null,null,null,null,null,null,null,null,null,null,null,null,null,null,null,null,""]
[null,null,null,null,null,null,null,null,null,null,null,null,null,null,null,null,null,""]
[null,null,null,null,null,null,null,null,null,null,null,null,null,null,null,null,null,""]
[null,null,null,null,null,null,null,null,null,null,null,null,null,null,null,null,null,""]
[null,null,null,null,null,null,null,null,null,null,null,null,null,null,null,null,null,""]
[null,null,null,null,null,null,null,null,null,null,null,null,null,null,null,null,null,""]
[null,null,null,null,null,null,null,null,null,null,null,null,null,null,null,null,null,""]
[null,null,null,null,null,null,null,null,null,null,null,null,null,null,null,null,null,""]
[null,null,null,null,null,null,null,null,null,null,null,null,null,null,null,null,null,""]
[null,null,null,null,null,null,null,null,null,null,null,null,null,null,null,null,null,""]
[null,null,null,null,null,null,null,null,null,null,null,null,null,null,null,null,null,""]
[null,null,null,null,null,null,null,null,null,null,null,null,null,null,null,null,null,""]
[null,null,null,null,null,null,null,null,null,null,null,null,null,null,null,null,null,""]
[null,null,null,null,null,null,null,null,null,null,null,null,null,null,null,null,null,""]
[null,null,null,null,null,null,null,null,null,null,null,null,null,null,null,null,null,""]
[null,null,null,null,null,null,null,null,null,null,null,null,null,null,null,null,null,""]
[null,null,null,null,null,null,null,null,null,null,null,null,null,null,null,null,null,""]
[null,null,null,null,null,null,null,null,null,null,null,null,null,null,null,null,null,""]
[null,null,null,null,null,null,null,null,null,null,null,null,null,null,null,null,null,""]
[null,null,null,null,null,null,null,null,null,null,null,null,null,null,null,null,null,{"$f":"IFERROR(VLOOKUP(E3438,$Z$50:$AA$63,2),\"\")","v":""}]
[null,null,null,null,null,null,null,null,null,null,null,null,null,null,null,null,null,""]
[null,null,null,null,null,null,null,null,null,null,null,null,null,null,null,null,null,""]
[null,null,null,null,null,null,null,null,null,null,null,null,null,null,null,null,null,""]
[null,null,null,null,null,null,null,null,null,null,null,null,null,null,null,null,null,""]
[null,null,null,null,null,null,null,null,null,null,null,null,null,null,null,null,null,""]
[null,null,null,null,null,null,null,null,null,null,null,null,null,null,null,null,null,""]
[null,null,null,null,null,null,null,null,null,null,null,null,null,null,null,null,null,""]
[null,null,null,null,null,null,null,null,null,null,null,null,null,null,null,null,null,""]
[null,null,null,null,null,null,null,null,null,null,null,null,null,null,null,null,null,""]
[null,null,null,null,null,null,null,null,null,null,null,null,null,null,null,null,null,""]
[null,null,null,null,null,null,null,null,null,null,null,null,null,null,null,null,null,""]
[null,null,null,null,null,null,null,null,null,null,null,null,null,null,null,null,null,""]
[null,null,null,null,null,null,null,null,null,null,null,null,null,null,null,null,null,""]
[null,null,null,null,null,null,null,null,null,null,null,null,null,null,null,null,null,""]
[null,null,null,null,null,null,null,null,null,null,null,null,null,null,null,null,null,""]
[null,null,null,null,null,null,null,null,null,null,null,null,null,null,null,null,null,""]
[null,null,null,null,null,null,null,null,null,null,null,null,null,null,null,null,null,""]
[null,null,null,null,null,null,null,null,null,null,null,null,null,null,null,null,null,""]
[null,null,null,null,null,null,null,null,null,null,null,null,null,null,null,null,null,""]
[null,null,null,null,null,null,null,null,null,null,null,null,null,null,null,null,null,""]
[null,null,null,null,null,null,null,null,null,null,null,null,null,null,null,null,null,""]
[null,null,null,null,null,null,null,null,null,null,null,null,null,null,null,null,null,""]
[null,null,null,null,null,null,null,null,null,null,null,null,null,null,null,null,null,""]
[null,null,null,null,null,null,null,null,null,null,null,null,null,null,null,null,null,""]
[null,null,null,null,null,null,null,null,null,null,null,null,null,null,null,null,null,""]
[null,null,null,null,null,null,null,null,null,null,null,null,null,null,null,null,null,""]
[null,null,null,null,null,null,null,null,null,null,null,null,null,null,null,null,null,""]
[null,null,null,null,null,null,null,null,null,null,null,null,null,null,null,null,null,""]
[null,null,null,null,null,null,null,null,null,null,null,null,null,null,null,null,null,""]
[null,null,null,null,null,null,null,null,null,null,null,null,null,null,null,null,null,""]
[null,null,null,null,null,null,null,null,null,null,null,null,null,null,null,null,null,""]
[null,null,null,null,null,null,null,null,null,null,null,null,null,null,null,null,null,""]
[null,null,null,null,null,null,null,null,null,null,null,null,null,null,null,null,null,""]
[null,null,null,null,null,null,null,null,null,null,null,null,null,null,null,null,null,""]
[null,null,null,null,null,null,null,null,null,null,null,null,null,null,null,null,null,""]
[null,null,null,null,null,null,null,null,null,null,null,null,null,null,null,null,null,""]
[null,null,null,null,null,null,null,null,null,null,null,null,null,null,null,null,null,""]
[null,null,null,null,null,null,null,null,null,null,null,null,null,null,null,null,null,""]
[null,null,null,null,null,null,null,null,null,null,null,null,null,null,null,null,null,""]
[null,null,null,null,null,null,null,null,null,null,null,null,null,null,null,null,null,""]
[null,null,null,null,null,null,null,null,null,null,null,null,null,null,null,null,null,""]
[null,null,null,null,null,null,null,null,null,null,null,null,null,null,null,null,null,""]
[null,null,null,null,null,null,null,null,null,null,null,null,null,null,null,null,null,""]
[null,null,null,null,null,null,null,null,null,null,null,null,null,null,null,null,null,""]
[null,null,null,null,null,null,null,null,null,null,null,null,null,null,null,null,null,""]
[null,null,null,null,null,null,null,null,null,null,null,null,null,null,null,null,null,""]
[null,null,null,null,null,null,null,null,null,null,null,null,null,null,null,null,null,""]
[null,null,null,null,null,null,null,null,null,null,null,null,null,null,null,null,null,""]
[null,null,null,null,null,null,null,null,null,null,null,null,null,null,null,null,null,""]
[null,null,null,null,null,null,null,null,null,null,null,null,null,null,null,null,null,""]
[null,null,null,null,null,null,null,null,null,null,null,null,null,null,null,null,null,""]
[null,null,null,null,null,null,null,null,null,null,null,null,null,null,null,null,null,""]
[null,null,null,null,null,null,null,null,null,null,null,null,null,null,null,null,null,""]
[null,null,null,null,null,null,null,null,null,null,null,null,null,null,null,null,null,""]
[null,null,null,null,null,null,null,null,null,null,null,null,null,null,null,null,null,""]
[null,null,null,null,null,null,null,null,null,null,null,null,null,null,null,null,null,""]
[null,null,null,null,null,null,null,null,null,null,null,null,null,null,null,null,null,""]
[null,null,null,null,null,null,null,null,null,null,null,null,null,null,null,null,null,""]
[null,null,null,null,null,null,null,null,null,null,null,null,null,null,null,null,null,""]
[null,null,null,null,null,null,null,null,null,null,null,null,null,null,null,null,null,""]
[null,null,null,null,null,null,null,null,null,null,null,null,null,null,null,null,null,""]
[null,null,null,null,null,null,null,null,null,null,null,null,null,null,null,null,null,""]
[null,null,null,null,null,null,null,null,null,null,null,null,null,null,null,null,null,""]
[null,null,null,null,null,null,null,null,null,null,null,null,null,null,null,null,null,{"$f":"IFERROR(VLOOKUP(E3502,$Z$50:$AA$63,2),\"\")","v":""}]
[null,null,null,null,null,null,null,null,null,null,null,null,null,null,null,null,null,""]
[null,null,null,null,null,null,null,null,null,null,null,null,null,null,null,null,null,""]
[null,null,null,null,null,null,null,null,null,null,null,null,null,null,null,null,null,""]
[null,null,null,null,null,null,null,null,null,null,null,null,null,null,null,null,null,""]
[null,null,null,null,null,null,null,null,null,null,null,null,null,null,null,null,null,""]
[null,null,null,null,null,null,null,null,null,null,null,null,null,null,null,null,null,""]
[null,null,null,null,null,null,null,null,null,null,null,null,null,null,null,null,null,""]
[null,null,null,null,null,null,null,null,null,null,null,null,null,null,null,null,null,""]
[null,null,null,null,null,null,null,null,null,null,null,null,null,null,null,null,null,""]
[null,null,null,null,null,null,null,null,null,null,null,null,null,null,null,null,null,""]
[null,null,null,null,null,null,null,null,null,null,null,null,null,null,null,null,null,""]
[null,null,null,null,null,null,null,null,null,null,null,null,null,null,null,null,null,""]
[null,null,null,null,null,null,null,null,null,null,null,null,null,null,null,null,null,""]
[null,null,null,null,null,null,null,null,null,null,null,null,null,null,null,null,null,""]
[null,null,null,null,null,null,null,null,null,null,null,null,null,null,null,null,null,""]
[null,null,null,null,null,null,null,null,null,null,null,null,null,null,null,null,null,""]
[null,null,null,null,null,null,null,null,null,null,null,null,null,null,null,null,null,""]
[null,null,null,null,null,null,null,null,null,null,null,null,null,null,null,null,null,""]
[null,null,null,null,null,null,null,null,null,null,null,null,null,null,null,null,null,""]
[null,null,null,null,null,null,null,null,null,null,null,null,null,null,null,null,null,""]
[null,null,null,null,null,null,null,null,null,null,null,null,null,null,null,null,null,""]
[null,null,null,null,null,null,null,null,null,null,null,null,null,null,null,null,null,""]
[null,null,null,null,null,null,null,null,null,null,null,null,null,null,null,null,null,""]
[null,null,null,null,null,null,null,null,null,null,null,null,null,null,null,null,null,""]
[null,null,null,null,null,null,null,null,null,null,null,null,null,null,null,null,null,""]
[null,null,null,null,null,null,null,null,null,null,null,null,null,null,null,null,null,""]
[null,null,null,null,null,null,null,null,null,null,null,null,null,null,null,null,null,""]
[null,null,null,null,null,null,null,null,null,null,null,null,null,null,null,null,null,""]
[null,null,null,null,null,null,null,null,null,null,null,null,null,null,null,null,null,""]
[null,null,null,null,null,null,null,null,null,null,null,null,null,null,null,null,null,""]
[null,null,null,null,null,null,null,null,null,null,null,null,null,null,null,null,null,""]
[null,null,null,null,null,null,null,null,null,null,null,null,null,null,null,null,null,""]
[null,null,null,null,null,null,null,null,null,null,null,null,null,null,null,null,null,""]
[null,null,null,null,null,null,null,null,null,null,null,null,null,null,null,null,null,""]
[null,null,null,null,null,null,null,null,null,null,null,null,null,null,null,null,null,""]
[null,null,null,null,null,null,null,null,null,null,null,null,null,null,null,null,null,""]
[null,null,null,null,null,null,null,null,null,null,null,null,null,null,null,null,null,""]
[null,null,null,null,null,null,null,null,null,null,null,null,null,null,null,null,null,""]
[null,null,null,null,null,null,null,null,null,null,null,null,null,null,null,null,null,""]
[null,null,null,null,null,null,null,null,null,null,null,null,null,null,null,null,null,""]
[null,null,null,null,null,null,null,null,null,null,null,null,null,null,null,null,null,""]
[null,null,null,null,null,null,null,null,null,null,null,null,null,null,null,null,null,""]
[null,null,null,null,null,null,null,null,null,null,null,null,null,null,null,null,null,""]
[null,null,null,null,null,null,null,null,null,null,null,null,null,null,null,null,null,""]
[null,null,null,null,null,null,null,null,null,null,null,null,null,null,null,null,null,""]
[null,null,null,null,null,null,null,null,null,null,null,null,null,null,null,null,null,""]
[null,null,null,null,null,null,null,null,null,null,null,null,null,null,null,null,null,""]
[null,null,null,null,null,null,null,null,null,null,null,null,null,null,null,null,null,""]
[null,null,null,null,null,null,null,null,null,null,null,null,null,null,null,null,null,""]
[null,null,null,null,null,null,null,null,null,null,null,null,null,null,null,null,null,""]
[null,null,null,null,null,null,null,null,null,null,null,null,null,null,null,null,null,""]
[null,null,null,null,null,null,null,null,null,null,null,null,null,null,null,null,null,""]
[null,null,null,null,null,null,null,null,null,null,null,null,null,null,null,null,null,""]
[null,null,null,null,null,null,null,null,null,null,null,null,null,null,null,null,null,""]
[null,null,null,null,null,null,null,null,null,null,null,null,null,null,null,null,null,""]
[null,null,null,null,null,null,null,null,null,null,null,null,null,null,null,null,null,""]
[null,null,null,null,null,null,null,null,null,null,null,null,null,null,null,null,null,""]
[null,null,null,null,null,null,null,null,null,null,null,null,null,null,null,null,null,""]
[null,null,null,null,null,null,null,null,null,null,null,null,null,null,null,null,null,""]
[null,null,null,null,null,null,null,null,null,null,null,null,null,null,null,null,null,""]
[null,null,null,null,null,null,null,null,null,null,null,null,null,null,null,null,null,""]
[null,null,null,null,null,null,null,null,null,null,null,null,null,null,null,null,null,""]
[null,null,null,null,null,null,null,null,null,null,null,null,null,null,null,null,null,""]
[null,null,null,null,null,null,null,null,null,null,null,null,null,null,null,null,null,{"$f":"IFERROR(VLOOKUP(E3566,$Z$50:$AA$63,2),\"\")","v":""}]
[null,null,null,null,null,null,null,null,null,null,null,null,null,null,null,null,null,""]
[null,null,null,null,null,null,null,null,null,null,null,null,null,null,null,null,null,""]
[null,null,null,null,null,null,null,null,null,null,null,null,null,null,null,null,null,""]
[null,null,null,null,null,null,null,null,null,null,null,null,null,null,null,null,null,""]
[null,null,null,null,null,null,null,null,null,null,null,null,null,null,null,null,null,""]
[null,null,null,null,null,null,null,null,null,null,null,null,null,null,null,null,null,""]
[null,null,null,null,null,null,null,null,null,null,null,null,null,null,null,null,null,""]
[null,null,null,null,null,null,null,null,null,null,null,null,null,null,null,null,null,""]
[null,null,null,null,null,null,null,null,null,null,null,null,null,null,null,null,null,""]
[null,null,null,null,null,null,null,null,null,null,null,null,null,null,null,null,null,""]
[null,null,null,null,null,null,null,null,null,null,null,null,null,null,null,null,null,""]
[null,null,null,null,null,null,null,null,null,null,null,null,null,null,null,null,null,""]
[null,null,null,null,null,null,null,null,null,null,null,null,null,null,null,null,null,""]
[null,null,null,null,null,null,null,null,null,null,null,null,null,null,null,null,null,""]
[null,null,null,null,null,null,null,null,null,null,null,null,null,null,null,null,null,""]
[null,null,null,null,null,null,null,null,null,null,null,null,null,null,null,null,null,""]
[null,null,null,null,null,null,null,null,null,null,null,null,null,null,null,null,null,""]
[null,null,null,null,null,null,null,null,null,null,null,null,null,null,null,null,null,""]
[null,null,null,null,null,null,null,null,null,null,null,null,null,null,null,null,null,""]
[null,null,null,null,null,null,null,null,null,null,null,null,null,null,null,null,null,""]
[null,null,null,null,null,null,null,null,null,null,null,null,null,null,null,null,null,""]
[null,null,null,null,null,null,null,null,null,null,null,null,null,null,null,null,null,""]
[null,null,null,null,null,null,null,null,null,null,null,null,null,null,null,null,null,""]
[null,null,null,null,null,null,null,null,null,null,null,null,null,null,null,null,null,""]
[null,null,null,null,null,null,null,null,null,null,null,null,null,null,null,null,null,""]
[null,null,null,null,null,null,null,null,null,null,null,null,null,null,null,null,null,""]
[null,null,null,null,null,null,null,null,null,null,null,null,null,null,null,null,null,""]
[null,null,null,null,null,null,null,null,null,null,null,null,null,null,null,null,null,""]
[null,null,null,null,null,null,null,null,null,null,null,null,null,null,null,null,null,""]
[null,null,null,null,null,null,null,null,null,null,null,null,null,null,null,null,null,""]
[null,null,null,null,null,null,null,null,null,null,null,null,null,null,null,null,null,""]
[null,null,null,null,null,null,null,null,null,null,null,null,null,null,null,null,null,""]
[null,null,null,null,null,null,null,null,null,null,null,null,null,null,null,null,null,""]
[null,null,null,null,null,null,null,null,null,null,null,null,null,null,null,null,null,""]
[null,null,null,null,null,null,null,null,null,null,null,null,null,null,null,null,null,""]
[null,null,null,null,null,null,null,null,null,null,null,null,null,null,null,null,null,""]
[null,null,null,null,null,null,null,null,null,null,null,null,null,null,null,null,null,""]
[null,null,null,null,null,null,null,null,null,null,null,null,null,null,null,null,null,""]
[null,null,null,null,null,null,null,null,null,null,null,null,null,null,null,null,null,""]
[null,null,null,null,null,null,null,null,null,null,null,null,null,null,null,null,null,""]
[null,null,null,null,null,null,null,null,null,null,null,null,null,null,null,null,null,""]
[null,null,null,null,null,null,null,null,null,null,null,null,null,null,null,null,null,""]
[null,null,null,null,null,null,null,null,null,null,null,null,null,null,null,null,null,""]
[null,null,null,null,null,null,null,null,null,null,null,null,null,null,null,null,null,""]
[null,null,null,null,null,null,null,null,null,null,null,null,null,null,null,null,null,{"$f":"IFERROR(VLOOKUP(E3611,$Z$50:$AA$63,2),\"\")","v":""}]
[null,null,null,null,null,null,null,null,null,null,null,null,null,null,null,null,null,""]
[null,null,null,null,null,null,null,null,null,null,null,null,null,null,null,null,null,""]
[null,null,null,null,null,null,null,null,null,null,null,null,null,null,null,null,null,""]
[null,null,null,null,null,null,null,null,null,null,null,null,null,null,null,null,null,""]
[null,null,null,null,null,null,null,null,null,null,null,null,null,null,null,null,null,""]
[null,null,null,null,null,null,null,null,null,null,null,null,null,null,null,null,null,""]
[null,null,null,null,null,null,null,null,null,null,null,null,null,null,null,null,null,""]
[null,null,null,null,null,null,null,null,null,null,null,null,null,null,null,null,null,""]
[null,null,null,null,null,null,null,null,null,null,null,null,null,null,null,null,null,""]
[null,null,null,null,null,null,null,null,null,null,null,null,null,null,null,null,null,""]
[null,null,null,null,null,null,null,null,null,null,null,null,null,null,null,null,null,""]
[null,null,null,null,null,null,null,null,null,null,null,null,null,null,null,null,null,""]
[null,null,null,null,null,null,null,null,null,null,null,null,null,null,null,null,null,""]
[null,null,null,null,null,null,null,null,null,null,null,null,null,null,null,null,null,""]
[null,null,null,null,null,null,null,null,null,null,null,null,null,null,null,null,null,""]
[null,null,null,null,null,null,null,null,null,null,null,null,null,null,null,null,null,""]
[null,null,null,null,null,null,null,null,null,null,null,null,null,null,null,null,null,""]
[null,null,null,null,null,null,null,null,null,null,null,null,null,null,null,null,null,""]
[null,null,null,null,null,null,null,null,null,null,null,null,null,null,null,null,null,{"$f":"IFERROR(VLOOKUP(E3630,$Z$50:$AA$63,2),\"\")","v":""}]
[null,null,null,null,null,null,null,null,null,null,null,null,null,null,null,null,null,""]
[null,null,null,null,null,null,null,null,null,null,null,null,null,null,null,null,null,""]
[null,null,null,null,null,null,null,null,null,null,null,null,null,null,null,null,null,""]
[null,null,null,null,null,null,null,null,null,null,null,null,null,null,null,null,null,""]
[null,null,null,null,null,null,null,null,null,null,null,null,null,null,null,null,null,""]
[null,null,null,null,null,null,null,null,null,null,null,null,null,null,null,null,null,""]
[null,null,null,null,null,null,null,null,null,null,null,null,null,null,null,null,null,""]
[null,null,null,null,null,null,null,null,null,null,null,null,null,null,null,null,null,""]
[null,null,null,null,null,null,null,null,null,null,null,null,null,null,null,null,null,""]
[null,null,null,null,null,null,null,null,null,null,null,null,null,null,null,null,null,""]
[null,null,null,null,null,null,null,null,null,null,null,null,null,null,null,null,null,""]
[null,null,null,null,null,null,null,null,null,null,null,null,null,null,null,null,null,""]
[null,null,null,null,null,null,null,null,null,null,null,null,null,null,null,null,null,""]
[null,null,null,null,null,null,null,null,null,null,null,null,null,null,null,null,null,""]
[null,null,null,null,null,null,null,null,null,null,null,null,null,null,null,null,null,""]
[null,null,null,null,null,null,null,null,null,null,null,null,null,null,null,null,null,""]
[null,null,null,null,null,null,null,null,null,null,null,null,null,null,null,null,null,""]
[null,null,null,null,null,null,null,null,null,null,null,null,null,null,null,null,null,""]
[null,null,null,null,null,null,null,null,null,null,null,null,null,null,null,null,null,""]
[null,null,null,null,null,null,null,null,null,null,null,null,null,null,null,null,null,""]
[null,null,null,null,null,null,null,null,null,null,null,null,null,null,null,null,null,""]
[null,null,null,null,null,null,null,null,null,null,null,null,null,null,null,null,null,""]
[null,null,null,null,null,null,null,null,null,null,null,null,null,null,null,null,null,""]
[null,null,null,null,null,null,null,null,null,null,null,null,null,null,null,null,null,""]
[null,null,null,null,null,null,null,null,null,null,null,null,null,null,null,null,null,""]
[null,null,null,null,null,null,null,null,null,null,null,null,null,null,null,null,null,""]
[null,null,null,null,null,null,null,null,null,null,null,null,null,null,null,null,null,""]
[null,null,null,null,null,null,null,null,null,null,null,null,null,null,null,null,null,""]
[null,null,null,null,null,null,null,null,null,null,null,null,null,null,null,null,null,""]
[null,null,null,null,null,null,null,null,null,null,null,null,null,null,null,null,null,""]
[null,null,null,null,null,null,null,null,null,null,null,null,null,null,null,null,null,""]
[null,null,null,null,null,null,null,null,null,null,null,null,null,null,null,null,null,""]
[null,null,null,null,null,null,null,null,null,null,null,null,null,null,null,null,null,""]
[null,null,null,null,null,null,null,null,null,null,null,null,null,null,null,null,null,""]
[null,null,null,null,null,null,null,null,null,null,null,null,null,null,null,null,null,""]
[null,null,null,null,null,null,null,null,null,null,null,null,null,null,null,null,null,""]
[null,null,null,null,null,null,null,null,null,null,null,null,null,null,null,null,null,""]
[null,null,null,null,null,null,null,null,null,null,null,null,null,null,null,null,null,""]
[null,null,null,null,null,null,null,null,null,null,null,null,null,null,null,null,null,""]
[null,null,null,null,null,null,null,null,null,null,null,null,null,null,null,null,null,""]
[null,null,null,null,null,null,null,null,null,null,null,null,null,null,null,null,null,""]
[null,null,null,null,null,null,null,null,null,null,null,null,null,null,null,null,null,""]
[null,null,null,null,null,null,null,null,null,null,null,null,null,null,null,null,null,""]
[null,null,null,null,null,null,null,null,null,null,null,null,null,null,null,null,null,""]
[null,null,null,null,null,null,null,null,null,null,null,null,null,null,null,null,null,""]
[null,null,null,null,null,null,null,null,null,null,null,null,null,null,null,null,null,""]
[null,null,null,null,null,null,null,null,null,null,null,null,null,null,null,null,null,""]
[null,null,null,null,null,null,null,null,null,null,null,null,null,null,null,null,null,""]
[null,null,null,null,null,null,null,null,null,null,null,null,null,null,null,null,null,""]
[null,null,null,null,null,null,null,null,null,null,null,null,null,null,null,null,null,""]
[null,null,null,null,null,null,null,null,null,null,null,null,null,null,null,null,null,""]
[null,null,null,null,null,null,null,null,null,null,null,null,null,null,null,null,null,""]
[null,null,null,null,null,null,null,null,null,null,null,null,null,null,null,null,null,""]
[null,null,null,null,null,null,null,null,null,null,null,null,null,null,null,null,null,""]
[null,null,null,null,null,null,null,null,null,null,null,null,null,null,null,null,null,""]
[null,null,null,null,null,null,null,null,null,null,null,null,null,null,null,null,null,""]
[null,null,null,null,null,null,null,null,null,null,null,null,null,null,null,null,null,""]
[null,null,null,null,null,null,null,null,null,null,null,null,null,null,null,null,null,""]
[null,null,null,null,null,null,null,null,null,null,null,null,null,null,null,null,null,""]
[null,null,null,null,null,null,null,null,null,null,null,null,null,null,null,null,null,""]
[null,null,null,null,null,null,null,null,null,null,null,null,null,null,null,null,null,""]
[null,null,null,null,null,null,null,null,null,null,null,null,null,null,null,null,null,""]
[null,null,null,null,null,null,null,null,null,null,null,null,null,null,null,null,null,""]
[null,null,null,null,null,null,null,null,null,null,null,null,null,null,null,null,null,{"$f":"IFERROR(VLOOKUP(E3694,$Z$50:$AA$63,2),\"\")","v":""}]
[null,null,null,null,null,null,null,null,null,null,null,null,null,null,null,null,null,""]
[null,null,null,null,null,null,null,null,null,null,null,null,null,null,null,null,null,""]
[null,null,null,null,null,null,null,null,null,null,null,null,null,null,null,null,null,""]
[null,null,null,null,null,null,null,null,null,null,null,null,null,null,null,null,null,""]
[null,null,null,null,null,null,null,null,null,null,null,null,null,null,null,null,null,""]
[null,null,null,null,null,null,null,null,null,null,null,null,null,null,null,null,null,""]
[null,null,null,null,null,null,null,null,null,null,null,null,null,null,null,null,null,""]
[null,null,null,null,null,null,null,null,null,null,null,null,null,null,null,null,null,""]
[null,null,null,null,null,null,null,null,null,null,null,null,null,null,null,null,null,""]
[null,null,null,null,null,null,null,null,null,null,null,null,null,null,null,null,null,""]
[null,null,null,null,null,null,null,null,null,null,null,null,null,null,null,null,null,""]
[null,null,null,null,null,null,null,null,null,null,null,null,null,null,null,null,null,""]
[null,null,null,null,null,null,null,null,null,null,null,null,null,null,null,null,null,""]
[null,null,null,null,null,null,null,null,null,null,null,null,null,null,null,null,null,""]
[null,null,null,null,null,null,null,null,null,null,null,null,null,null,null,null,null,""]
[null,null,null,null,null,null,null,null,null,null,null,null,null,null,null,null,null,""]
[null,null,null,null,null,null,null,null,null,null,null,null,null,null,null,null,null,""]
[null,null,null,null,null,null,null,null,null,null,null,null,null,null,null,null,null,""]
[null,null,null,null,null,null,null,null,null,null,null,null,null,null,null,null,null,""]
[null,null,null,null,null,null,null,null,null,null,null,null,null,null,null,null,null,""]
[null,null,null,null,null,null,null,null,null,null,null,null,null,null,null,null,null,""]
[null,null,null,null,null,null,null,null,null,null,null,null,null,null,null,null,null,""]
[null,null,null,null,null,null,null,null,null,null,null,null,null,null,null,null,null,""]
[null,null,null,null,null,null,null,null,null,null,null,null,null,null,null,null,null,""]
[null,null,null,null,null,null,null,null,null,null,null,null,null,null,null,null,null,""]
[null,null,null,null,null,null,null,null,null,null,null,null,null,null,null,null,null,""]
[null,null,null,null,null,null,null,null,null,null,null,null,null,null,null,null,null,""]
[null,null,null,null,null,null,null,null,null,null,null,null,null,null,null,null,null,""]
[null,null,null,null,null,null,null,null,null,null,null,null,null,null,null,null,null,""]
[null,null,null,null,null,null,null,null,null,null,null,null,null,null,null,null,null,""]
[null,null,null,null,null,null,null,null,null,null,null,null,null,null,null,null,null,""]
[null,null,null,null,null,null,null,null,null,null,null,null,null,null,null,null,null,""]
[null,null,null,null,null,null,null,null,null,null,null,null,null,null,null,null,null,""]
[null,null,null,null,null,null,null,null,null,null,null,null,null,null,null,null,null,""]
[null,null,null,null,null,null,null,null,null,null,null,null,null,null,null,null,null,""]
[null,null,null,null,null,null,null,null,null,null,null,null,null,null,null,null,null,""]
[null,null,null,null,null,null,null,null,null,null,null,null,null,null,null,null,null,""]
[null,null,null,null,null,null,null,null,null,null,null,null,null,null,null,null,null,""]
[null,null,null,null,null,null,null,null,null,null,null,null,null,null,null,null,null,""]
[null,null,null,null,null,null,null,null,null,null,null,null,null,null,null,null,null,""]
[null,null,null,null,null,null,null,null,null,null,null,null,null,null,null,null,null,""]
[null,null,null,null,null,null,null,null,null,null,null,null,null,null,null,null,null,""]
[null,null,null,null,null,null,null,null,null,null,null,null,null,null,null,null,null,""]
[null,null,null,null,null,null,null,null,null,null,null,null,null,null,null,null,null,""]
[null,null,null,null,null,null,null,null,null,null,null,null,null,null,null,null,null,""]
[null,null,null,null,null,null,null,null,null,null,null,null,null,null,null,null,null,""]
[null,null,null,null,null,null,null,null,null,null,null,null,null,null,null,null,null,""]
[null,null,null,null,null,null,null,null,null,null,null,null,null,null,null,null,null,""]
[null,null,null,null,null,null,null,null,null,null,null,null,null,null,null,null,null,""]
[null,null,null,null,null,null,null,null,null,null,null,null,null,null,null,null,null,""]
[null,null,null,null,null,null,null,null,null,null,null,null,null,null,null,null,null,""]
[null,null,null,null,null,null,null,null,null,null,null,null,null,null,null,null,null,""]
[null,null,null,null,null,null,null,null,null,null,null,null,null,null,null,null,null,""]
[null,null,null,null,null,null,null,null,null,null,null,null,null,null,null,null,null,""]
[null,null,null,null,null,null,null,null,null,null,null,null,null,null,null,null,null,""]
[null,null,null,null,null,null,null,null,null,null,null,null,null,null,null,null,null,""]
[null,null,null,null,null,null,null,null,null,null,null,null,null,null,null,null,null,""]
[null,null,null,null,null,null,null,null,null,null,null,null,null,null,null,null,null,""]
[null,null,null,null,null,null,null,null,null,null,null,null,null,null,null,null,null,""]
[null,null,null,null,null,null,null,null,null,null,null,null,null,null,null,null,null,""]
[null,null,null,null,null,null,null,null,null,null,null,null,null,null,null,null,null,""]
[null,null,null,null,null,null,null,null,null,null,null,null,null,null,null,null,null,""]
[null,null,null,null,null,null,null,null,null,null,null,null,null,null,null,null,null,""]
[null,null,null,null,null,null,null,null,null,null,null,null,null,null,null,null,null,{"$f":"IFERROR(VLOOKUP(E3758,$Z$50:$AA$63,2),\"\")","v":""}]
[null,null,null,null,null,null,null,null,null,null,null,null,null,null,null,null,null,""]
[null,null,null,null,null,null,null,null,null,null,null,null,null,null,null,null,null,""]
[null,null,null,null,null,null,null,null,null,null,null,null,null,null,null,null,null,""]
[null,null,null,null,null,null,null,null,null,null,null,null,null,null,null,null,null,""]
[null,null,null,null,null,null,null,null,null,null,null,null,null,null,null,null,null,""]
[null,null,null,null,null,null,null,null,null,null,null,null,null,null,null,null,null,""]
[null,null,null,null,null,null,null,null,null,null,null,null,null,null,null,null,null,""]
[null,null,null,null,null,null,null,null,null,null,null,null,null,null,null,null,null,""]
[null,null,null,null,null,null,null,null,null,null,null,null,null,null,null,null,null,""]
[null,null,null,null,null,null,null,null,null,null,null,null,null,null,null,null,null,""]
[null,null,null,null,null,null,null,null,null,null,null,null,null,null,null,null,null,""]
[null,null,null,null,null,null,null,null,null,null,null,null,null,null,null,null,null,""]
[null,null,null,null,null,null,null,null,null,null,null,null,null,null,null,null,null,""]
[null,null,null,null,null,null,null,null,null,null,null,null,null,null,null,null,null,""]
[null,null,null,null,null,null,null,null,null,null,null,null,null,null,null,null,null,""]
[null,null,null,null,null,null,null,null,null,null,null,null,null,null,null,null,null,""]
[null,null,null,null,null,null,null,null,null,null,null,null,null,null,null,null,null,""]
[null,null,null,null,null,null,null,null,null,null,null,null,null,null,null,null,null,""]
[null,null,null,null,null,null,null,null,null,null,null,null,null,null,null,null,null,""]
[null,null,null,null,null,null,null,null,null,null,null,null,null,null,null,null,null,""]
[null,null,null,null,null,null,null,null,null,null,null,null,null,null,null,null,null,""]
[null,null,null,null,null,null,null,null,null,null,null,null,null,null,null,null,null,""]
[null,null,null,null,null,null,null,null,null,null,null,null,null,null,null,null,null,""]
[null,null,null,null,null,null,null,null,null,null,null,null,null,null,null,null,null,""]
[null,null,null,null,null,null,null,null,null,null,null,null,null,null,null,null,null,""]
[null,null,null,null,null,null,null,null,null,null,null,null,null,null,null,null,null,""]
[null,null,null,null,null,null,null,null,null,null,null,null,null,null,null,null,null,""]
[null,null,null,null,null,null,null,null,null,null,null,null,null,null,null,null,null,""]
[null,null,null,null,null,null,null,null,null,null,null,null,null,null,null,null,null,""]
[null,null,null,null,null,null,null,null,null,null,null,null,null,null,null,null,null,""]
[null,null,null,null,null,null,null,null,null,null,null,null,null,null,null,null,null,""]
[null,null,null,null,null,null,null,null,null,null,null,null,null,null,null,null,null,""]
[null,null,null,null,null,null,null,null,null,null,null,null,null,null,null,null,null,""]
[null,null,null,null,null,null,null,null,null,null,null,null,null,null,null,null,null,""]
[null,null,null,null,null,null,null,null,null,null,null,null,null,null,null,null,null,""]
[null,null,null,null,null,null,null,null,null,null,null,null,null,null,null,null,null,""]
[null,null,null,null,null,null,null,null,null,null,null,null,null,null,null,null,null,""]
[null,null,null,null,null,null,null,null,null,null,null,null,null,null,null,null,null,""]
[null,null,null,null,null,null,null,null,null,null,null,null,null,null,null,null,null,""]
[null,null,null,null,null,null,null,null,null,null,null,null,null,null,null,null,null,""]
[null,null,null,null,null,null,null,null,null,null,null,null,null,null,null,null,null,""]
[null,null,null,null,null,null,null,null,null,null,null,null,null,null,null,null,null,""]
[null,null,null,null,null,null,null,null,null,null,null,null,null,null,null,null,null,""]
[null,null,null,null,null,null,null,null,null,null,null,null,null,null,null,null,null,""]
[null,null,null,null,null,null,null,null,null,null,null,null,null,null,null,null,null,""]
[null,null,null,null,null,null,null,null,null,null,null,null,null,null,null,null,null,""]
[null,null,null,null,null,null,null,null,null,null,null,null,null,null,null,null,null,""]
[null,null,null,null,null,null,null,null,null,null,null,null,null,null,null,null,null,""]
[null,null,null,null,null,null,null,null,null,null,null,null,null,null,null,null,null,""]
[null,null,null,null,null,null,null,null,null,null,null,null,null,null,null,null,null,""]
[null,null,null,null,null,null,null,null,null,null,null,null,null,null,null,null,null,""]
[null,null,null,null,null,null,null,null,null,null,null,null,null,null,null,null,null,""]
[null,null,null,null,null,null,null,null,null,null,null,null,null,null,null,null,null,""]
[null,null,null,null,null,null,null,null,null,null,null,null,null,null,null,null,null,""]
[null,null,null,null,null,null,null,null,null,null,null,null,null,null,null,null,null,""]
[null,null,null,null,null,null,null,null,null,null,null,null,null,null,null,null,null,""]
[null,null,null,null,null,null,null,null,null,null,null,null,null,null,null,null,null,""]
[null,null,null,null,null,null,null,null,null,null,null,null,null,null,null,null,null,""]
[null,null,null,null,null,null,null,null,null,null,null,null,null,null,null,null,null,""]
[null,null,null,null,null,null,null,null,null,null,null,null,null,null,null,null,null,""]
[null,null,null,null,null,null,null,null,null,null,null,null,null,null,null,null,null,""]
[null,null,null,null,null,null,null,null,null,null,null,null,null,null,null,null,null,""]
[null,null,null,null,null,null,null,null,null,null,null,null,null,null,null,null,null,""]
[null,null,null,null,null,null,null,null,null,null,null,null,null,null,null,null,null,{"$f":"IFERROR(VLOOKUP(E3822,$Z$50:$AA$63,2),\"\")","v":""}]
[null,null,null,null,null,null,null,null,null,null,null,null,null,null,null,null,null,""]
[null,null,null,null,null,null,null,null,null,null,null,null,null,null,null,null,null,""]
[null,null,null,null,null,null,null,null,null,null,null,null,null,null,null,null,null,""]
[null,null,null,null,null,null,null,null,null,null,null,null,null,null,null,null,null,""]
[null,null,null,null,null,null,null,null,null,null,null,null,null,null,null,null,null,""]
[null,null,null,null,null,null,null,null,null,null,null,null,null,null,null,null,null,""]
[null,null,null,null,null,null,null,null,null,null,null,null,null,null,null,null,null,""]
[null,null,null,null,null,null,null,null,null,null,null,null,null,null,null,null,null,""]
[null,null,null,null,null,null,null,null,null,null,null,null,null,null,null,null,null,""]
[null,null,null,null,null,null,null,null,null,null,null,null,null,null,null,null,null,""]
[null,null,null,null,null,null,null,null,null,null,null,null,null,null,null,null,null,""]
[null,null,null,null,null,null,null,null,null,null,null,null,null,null,null,null,null,""]
[null,null,null,null,null,null,null,null,null,null,null,null,null,null,null,null,null,""]
[null,null,null,null,null,null,null,null,null,null,null,null,null,null,null,null,null,""]
[null,null,null,null,null,null,null,null,null,null,null,null,null,null,null,null,null,""]
[null,null,null,null,null,null,null,null,null,null,null,null,null,null,null,null,null,""]
[null,null,null,null,null,null,null,null,null,null,null,null,null,null,null,null,null,""]
[null,null,null,null,null,null,null,null,null,null,null,null,null,null,null,null,null,""]
[null,null,null,null,null,null,null,null,null,null,null,null,null,null,null,null,null,""]
[null,null,null,null,null,null,null,null,null,null,null,null,null,null,null,null,null,""]
[null,null,null,null,null,null,null,null,null,null,null,null,null,null,null,null,null,""]
[null,null,null,null,null,null,null,null,null,null,null,null,null,null,null,null,null,""]
[null,null,null,null,null,null,null,null,null,null,null,null,null,null,null,null,null,""]
[null,null,null,null,null,null,null,null,null,null,null,null,null,null,null,null,null,""]
[null,null,null,null,null,null,null,null,null,null,null,null,null,null,null,null,null,""]
[null,null,null,null,null,null,null,null,null,null,null,null,null,null,null,null,null,""]
[null,null,null,null,null,null,null,null,null,null,null,null,null,null,null,null,null,""]
[null,null,null,null,null,null,null,null,null,null,null,null,null,null,null,null,null,""]
[null,null,null,null,null,null,null,null,null,null,null,null,null,null,null,null,null,""]
[null,null,null,null,null,null,null,null,null,null,null,null,null,null,null,null,null,""]
[null,null,null,null,null,null,null,null,null,null,null,null,null,null,null,null,null,""]
[null,null,null,null,null,null,null,null,null,null,null,null,null,null,null,null,null,""]
[null,null,null,null,null,null,null,null,null,null,null,null,null,null,null,null,null,""]
[null,null,null,null,null,null,null,null,null,null,null,null,null,null,null,null,null,""]
[null,null,null,null,null,null,null,null,null,null,null,null,null,null,null,null,null,""]
[null,null,null,null,null,null,null,null,null,null,null,null,null,null,null,null,null,""]
[null,null,null,null,null,null,null,null,null,null,null,null,null,null,null,null,null,""]
[null,null,null,null,null,null,null,null,null,null,null,null,null,null,null,null,null,""]
[null,null,null,null,null,null,null,null,null,null,null,null,null,null,null,null,null,""]
[null,null,null,null,null,null,null,null,null,null,null,null,null,null,null,null,null,""]
[null,null,null,null,null,null,null,null,null,null,null,null,null,null,null,null,null,""]
[null,null,null,null,null,null,null,null,null,null,null,null,null,null,null,null,null,""]
[null,null,null,null,null,null,null,null,null,null,null,null,null,null,null,null,null,""]
[null,null,null,null,null,null,null,null,null,null,null,null,null,null,null,null,null,""]
[null,null,null,null,null,null,null,null,null,null,null,null,null,null,null,null,null,""]
[null,null,null,null,null,null,null,null,null,null,null,null,null,null,null,null,null,""]

{"sheet":"Hoja5","index":1,"n_rows":95,"n_cols":41,"rows_kept":95,"cut":false,"hidden":false,"merged":[]}
[]
[null,null,null,null,null,null,"ESTADO (A TIEMPO, FUERA DE TIEMPO, SIN RESPUESTA)","(Todas)",null,null,null,"ESTADO","CANTIDAD",null,"ESTADO","PROMEDIO",null,null,null,null,"CANAL ","CANTIDAD",null,"PRODUCTO O SERVICIO SOLICITADO","CANTIDAD",null,"ESTADO","CANTIDA","DIAS PROMEDIO",null,"MEDIO RECEPCION","CANTIDAD",null,null,"DESDE",43831]
["DIAS, MES, TRIMESTRE","CANTIDAD",null,"TIPO REQUERIMIENTO","CANTIDAD",null,null,null,null,null,null,"A TIEMPO",3325,null,"A TIEMPO",0.99879843796936019,null,null,null,null,"(en blanco)",null,null,"ACREDITACIÓN DE LABORATORIOS",12,null,"A TIEMPO",3325,6.8733834586466163,null,"ATENCIÓN PRESENCIAL",1,null,null,"HASTA",43921]
[43922,66,null,"CERTIFICACIONES DE TIEMPO, CLIMA Y EVENTOS HIDROLÓGICOS",226,null,"DEPENDENCIA QUE RESPONDE","CANTIDAD",null,"CANTIDAD",null,"FUERA DE TIEMPO",4,null,"FUERA DE TIEMPO",1.2015620306398318E-3,null,null,null,null,"Total general",null,null,"ADMINISTRATIVA",159,null,"FUERA DE TIEMPO",4,7.25,null,"CORREO CERTIFICADO",4,null,null,null,{"$f":"DATEDIF(AJ2,AJ3,\"m\")+1","v":3}]
[43923,75,null,"PETICIÓN",29,null,"DIRECCIÓN GENERAL",4,null,3329,null,"(en blanco)",null,null,"(en blanco)",0,null,null,null,null,null,null,null,"BOSQUES",20,null,"(en blanco)",null,null,null,"CORREO ELECTRÓNICO",1247,null,null,"Mes","Cantidad","En termino","Fuera de termino",null,"Fecha","Cantidad PQRS"]
[43924,57,null,"PETICIÓN ENTRE AUTORIDADES",3,null,"GRUPO DE ADMINISTRACIÓN Y DESARROLLO DEL TALENTO HUMANO",94,null,null,null,"Total general",3329,null,"Total general",1,null,null,null,null,null,null,null,"CAMBIO CLIMÁTICO",4,null,"Total general",3329,6.8738359867828178,null,"MODULO CONTACTENOS",838,null,null,{"$f":"IF(ROWS(AI$6:AI6)>AJ$4,\"\",MIN(AJ$3,EOMONTH(AI12,1)))","v":"2020-01-31"},{"$f":"COUNTIFS(Tabla1[FECHA DE REQUERIMIENTO\n(dd/mm/aaaa)],\">\"&AI12,Tabla1[FECHA DE REQUERIMIENTO\n(dd/mm/aaaa)],\"<=\"&AI6)","v":0},{"$f":"COUNTIFS(Tabla1[FECHA DE REQUERIMIENTO\n(dd/mm/aaaa)],\">\"&AI12,Tabla1[FECHA DE REQUERIMIENTO\n(dd/mm/aaaa)],\"<=\"&AI6,Tabla1[ESTADO (A TIEMPO, FUERA DE TIEMPO, SIN RESPUESTA)],\"A TIEMPO\")","v":0},{"$f":"AJ6-AK6","v":0},null,null,0]
[43925,17,null,"SOLICITUD DE INFORMACIÓN Y DOCUMENTOS",3062,null,"GRUPO DE ATENCIÓN AL CIUDADANO",2192,null,null,null,null,null,null,null,null,null,null,null,null,null,null,null,"CERTIFICACIONES DE TIEMPO Y CLIMA",230,null,null,null,null,null,"WEB (MÓDULO DE SOLICITUD DE INFORMACIÓN HIDROMETEOROLÓGICA)",1239,null,null,{"$f":"IF(ROWS(AI$6:AI7)>AJ$4,\"\",MIN(AJ$3,EOMONTH(AI6,1)))","v":"2020-02-29"},{"$f":"COUNTIFS(Tabla1[FECHA DE REQUERIMIENTO\n(dd/mm/aaaa)],\">\"&AI6,Tabla1[FECHA DE REQUERIMIENTO\n(dd/mm/aaaa)],\"<=\"&AI7)","v":0},{"$f":"COUNTIFS(Tabla1[FECHA DE REQUERIMIENTO\n(dd/mm/aaaa)],\">\"&AI6,Tabla1[FECHA DE REQUERIMIENTO\n(dd/mm/aaaa)],\"<=\"&AI7,Tabla1[ESTADO (A TIEMPO, FUERA DE TIEMPO, SIN RESPUESTA)],\"A TIEMPO\")","v":0},{"$f":"AJ7-AK7","v":0},null,43861,0]
[43927,47,null,"SOLICITUD JUDICIAL",4,null,"GRUPO DE COMUNICACIONES",1,null,null,null,null,null,null,null,null,null,null,null,null,null,null,null,"CLIMATOLOGÍA",16,null,null,null,null,null,"(en blanco)",null,null,null,{"$f":"IF(ROWS(AI$6:AI8)>AJ$4,\"\",MIN(AJ$3,EOMONTH(AI7,1)))","v":"2020-03-31"},{"$f":"COUNTIFS(Tabla1[FECHA DE REQUERIMIENTO\n(dd/mm/aaaa)],\">\"&AI7,Tabla1[FECHA DE REQUERIMIENTO\n(dd/mm/aaaa)],\"<=\"&AI8)","v":0},{"$f":"COUNTIFS(Tabla1[FECHA DE REQUERIMIENTO\n(dd/mm/aaaa)],\">\"&AI7,Tabla1[FECHA DE REQUERIMIENTO\n(dd/mm/aaaa)],\"<=\"&AI8,Tabla1[ESTADO (A TIEMPO, FUERA DE TIEMPO, SIN RESPUESTA)],\"A TIEMPO\")","v":0},0,null,43890,0]
[43928,50,null,"(en blanco)",null,null,"GRUPO DE GESTIÓN DOCUMENTAL Y CENTRO DE DOCUMENTACIÓN",12,null,null,null,null,null,null,null,null,null,null,null,null,null,null,null,"INFORMES AMBIENTALES",6,null,null,null,null,null,"Total general",3329,null,null,{"$f":"IF(ROWS(AI$6:AI9)>AJ$4,\"\",MIN(AJ$3,EOMONTH(AI8,1)))","v":""},{"$f":"COUNTIFS(Tabla1[FECHA DE REQUERIMIENTO\n(dd/mm/aaaa)],\">\"&AI8,Tabla1[FECHA DE REQUERIMIENTO\n(dd/mm/aaaa)],\"<=\"&AI9)","v":0},{"$f":"COUNTIFS(Tabla1[FECHA DE REQUERIMIENTO\n(dd/mm/aaaa)],\">\"&AI8,Tabla1[FECHA DE REQUERIMIENTO\n(dd/mm/aaaa)],\"<=\"&AI9,Tabla1[ESTADO (A TIEMPO, FUERA DE TIEMPO, SIN RESPUESTA)],\"A TIEMPO\")","v":0},0,null,43921,0]
[43929,45,null,"SOLICITUD JUDICIAL ",5,null,"GRUPO DE TESORERÍA",44,null,null,null,null,null,null,null,null,null,null,null,null,null,null,null,"JURIDICO",2,null,null,null,null,null,null,null,null,null,{"$f":"IF(ROWS(AI$6:AI10)>AJ$4,\"\",MIN(AJ$3,EOMONTH(AI9,1)))","v":""},{"$f":"COUNTIFS(Tabla1[FECHA DE REQUERIMIENTO\n(dd/mm/aaaa)],\">\"&AI9,Tabla1[FECHA DE REQUERIMIENTO\n(dd/mm/aaaa)],\"<=\"&AI10)","v":0},{"$f":"COUNTIFS(Tabla1[FECHA DE REQUERIMIENTO\n(dd/mm/aaaa)],\">\"&AI9,Tabla1[FECHA DE REQUERIMIENTO\n(dd/mm/aaaa)],\"<=\"&AI10,Tabla1[ESTADO (A TIEMPO, FUERA DE TIEMPO, SIN RESPUESTA)],\"A TIEMPO\")","v":0},0,null,"Total general",0]
[43936,32,null,"Total general",3329,null,"OFICINA ASESORA JURÍDICA",23,null,null,null,null,null,null,null,null,null,null,null,null,null,null,null,"OPERACIÓN DE REDES",3,null,null,null,null,null,null,null,null,null,{"$f":"IF(ROWS(AI$6:AI11)>AJ$4,\"\",MIN(AJ$3,EOMONTH(AI10,1)))","v":""},{"$f":"COUNTIFS(Tabla1[FECHA DE REQUERIMIENTO\n(dd/mm/aaaa)],\">\"&AI10,Tabla1[FECHA DE REQUERIMIENTO\n(dd/mm/aaaa)],\"<=\"&AI11)","v":0},{"$f":"COUNTIFS(Tabla1[FECHA DE REQUERIMIENTO\n(dd/mm/aaaa)],\">\"&AI10,Tabla1[FECHA DE REQUERIMIENTO\n(dd/mm/aaaa)],\"<=\"&AI11,Tabla1[ESTADO (A TIEMPO, FUERA DE TIEMPO, SIN RESPUESTA)],\"A TIEMPO\")","v":0},{"$f":"AJ11-AK11","v":0}]
[43931,36,null,null,null,null,"OFICINA DE INFORMÁTICA",97,null,null,null,null,null,null,null,null,null,null,null,null,null,null,null,"PRONÓSTICOS Y ALERTAS",2,null,null,null,null,null,null,null,null,null,{"$f":"AJ2-1","v":43830},{"$f":"SUM(OFFSET(AJ6,,,$AJ4,))","v":0},{"$f":"SUM(OFFSET(AK6,,,$AJ4,))","v":0},{"$f":"SUM(OFFSET(AL6,,,$AJ4,))","v":0}]
[43932,17,null,null,null,null,"OFICINA DEL SERVICIO DE PRONÓSTICOS Y ALERTAS",13,null,null,null,null,null,null,null,null,null,null,null,null,null,null,null,"REGISTROS AMBIENTALES",282]
[43934,45,null,null,null,null,"SUBDIRECCIÓN DE ECOSISTEMAS E INFORMACIÓN AMBIENTAL",104,null,null,null,null,null,null,null,null,null,null,null,null,null,null,null,"SIA",4]
[43935,83,null,null,null,null,"SUBDIRECCIÓN DE ESTUDIOS AMBIENTALES",389,null,null,null,null,null,null,null,null,null,null,null,null,null,null,null,"SIRH",16]
[43939,21,null,null,null,null,"SUBDIRECCIÓN DE HIDROLOGÍA",75,null,null,null,null,null,null,null,null,null,null,null,null,null,null,null,"SOLICITUD DE INFORMACIÓN HIDROMETEOROLÓGICA",2327]
[43940,5,null,null,null,null,"SUBDIRECCIÓN DE METEOROLOGÍA",281,null,null,null,null,null,null,null,null,null,null,null,null,null,null,null,"SOLICITUD DE INFORMACIÓN Y DOCUMENTOS",210]
[43943,75,null,null,null,null,"(en blanco)",null,null,null,null,null,null,null,null,null,null,null,null,null,null,null,null,"SUELOS Y TIERRAS",2]
[43941,66,null,null,null,null,"Total general",3329,null,null,null,null,null,null,null,null,null,null,null,null,null,null,null,"WEB Y CORREO",34]
[43944,50,null,null,null,null,null,null,null,null,null,null,null,null,null,null,null,null,null,null,null,null,null,"(en blanco)"]
[43945,39,null,null,null,null,null,null,null,null,null,null,null,null,null,null,null,null,null,null,null,null,null,"Total general",3329]
[43946,13]
[43947,8]
[43948,63]
[43949,33]
[43950,62]
[43951,34]
[43926,21]
[43933,15]
[43930,12]
[43937,45]
[43938,47]
[43942,53]
[43954,11]
[43955,43]
[43956,36]
[43957,39]
[43958,36]
[43959,43]
[43960,6]
[43961,4]
[43962,79]
[43963,20]
[43964,42]
[43965,22]
[43966,33]
[43967,15]
[43968,9]
[43969,53]
[43970,41]
[43971,23]
[43972,46]
[43973,46]
[43974,13]
[43975,10]
[43976,13]
[43977,56]
[43978,36]
[43979,61]
[43980,46]
[43981,7]
[43982,14]
[43952,6]
[43953,5]
[43983,79]
[43984,47]
[43985,51]
[43986,45]
[43987,71]
[43988,19]
[43989,10]
[43990,58]
[43991,39]
[43992,45]
[43993,50]
[43994,31]
[43995,12]
[43996,5]
[43997,9]
[43998,33]
[43999,80]
[44000,74]
[44001,43]
[44002,14]
[44003,18]
[44004,41]
[44005,50]
[44006,52]
[44007,45]
[44008,29]
[44009,21]
[44011,14]
[44012,98]
["(en blanco)"]
["Total general",3329]

{"sheet":"Hoja2","index":2,"n_rows":16,"n_cols":7,"rows_kept":16,"cut":false,"hidden":false,"merged":[[15,0,15,5],[1,0,1,18]]}
[]
["ANALISIS ESTADO SOLICITUDES"]
[]
[]
[]
[]
[]
[]
[]
[]
[]
[]
[]
[]
[]
["TOTAL SOLICITUDES",null,null,null,null,null,{"$f":"+Hoja5!J5","v":3329}]